{"text_format":"1","workbook":"xlsx","n_sheets":5,"sheets":["Contenido","Anual","Demanda_Anual","Mensual","Demanda_Mensual"],"not_rendered":{"charts":0,"images":9,"macros":1,"external_links":0,"defined_names":0,"comments":0,"pivot_tables":0},"unopened":[],"bounds":{"document_bytes":16777216,"sheet_cells":100000,"rows_first":2000,"rows_last":500,"rows_between":2000,"halvings":0,"cell_chars":16384,"cell_head_chars":4096},"cells_cut":0,"cells_raw":0,"read":"whole","date_system":"1900"}

{"sheet":"Contenido","index":0,"n_rows":32,"n_cols":15,"rows_kept":32,"cut":false,"hidden":false,"merged":[[31,13,31,15],[28,13,28,15]]}
[]
[]
[]
[]
[]
[]
[]
[]
[]
[]
[]
[]
[]
[]
[]
[]
[]
[]
[]
[]
[]
[]
[]
[]
[]
[null,null,null,null,null,null,null,null,null,null,null,null,null,null,"Tabla de Contenido"]
[]
[]
[null,null,null,null,null,null,null,null,null,null,null,"A",null,"DEMANDA DE GAS NATURAL POR SECTORES MENSUAL"]
[]
[]
[null,null,null,null,null,null,null,null,null,null,null,"B",null,"DEMANDA DE GAS NATURAL POR SECTORES ANUAL"]

{"sheet":"Anual","index":1,"n_rows":352,"n_cols":48,"rows_kept":352,"cut":false,"hidden":true,"merged":[[314,2,314,9],[314,12,314,19],[314,22,314,29],[236,2,236,9],[236,12,236,19],[236,22,236,29],[275,2,275,9],[275,12,275,19],[275,22,275,29],[158,2,158,9],[158,12,158,19],[158,22,158,29],[197,2,197,9],[197,12,197,19],[197,22,197,29],[80,2,80,9],[80,12,80,19],[80,22,80,29],[119,2,119,9],[119,12,119,19],[119,22,119,29],[2,2,2,9],[2,12,2,19],[2,22,2,29],[41,2,41,9],[41,12,41,19],[41,22,41,29]]}
[]
[null,null,null,null,null,null,null,null,null,null,null,null,null,null,null,null,null,null,null,null,null,null,null,null,null,null,null,null,null,null,null,null,null,null,"nf","nc","nd",null,null,null,"CENTRO","COSTA","CQR","NORESTE","NOROESTE","SUROESTE","TG"]
[null,null,"RESIDENCIAL MEDIO",null,null,null,null,null,null,null,null,null,"RESIDENCIAL ALTO",null,null,null,null,null,null,null,null,null,"RESIDENCIAL BAJO",null,null,null,null,null,null,null,null,null,null,"RESIDENCIAL",5,3,35,null,"GBTUD",1,1,1,1,1,1,1,1,1]
[null,null,"CENTRO","COSTA","CQR","NORESTE","NOROESTE","SUROESTE","TOLIMA GRANDE","TOTAL",null,null,"CENTRO","COSTA","CQR","NORESTE","NOROESTE","SUROESTE","TOLIMA GRANDE","TOTAL",null,null,"CENTRO","COSTA","CQR","NORESTE","NOROESTE","SUROESTE","TOLIMA GRANDE","TOTAL",null,null,null,"TERCIARIO",44,3,35,null,"MPCD",2,1.1299999999999999,0.997,1.1299999999999999,1.06,1.1299999999999999,1.1299999999999999,1.1299999999999999,1.06]
[null,1998,20.837504073595237,14.790334405479452,1.959757246633689,6.3271830804825555,2.1574743785630948,3.6984817237019025,3.2179683421363223,52.988703250592252,null,{"$f":"+$B$5","v":1998},20.837504073595237,14.790334405479452,1.959757246633689,6.3271830804825555,2.1574743785630948,3.6984817237019025,3.2179683421363223,52.988703250592252,null,{"$f":"+$B$5","v":1998},20.837504073595237,14.790334405479452,1.959757246633689,6.3271830804825555,2.1574743785630948,3.6984817237019025,3.2179683421363223,52.988703250592252,null,null,null,"INDUSTRIAL",83,3,35]
[null,1999,24.489379937678937,16.021229090410959,2.4519827558742269,6.9405157149819683,2.8059363867021778,4.5562124343084873,3.7609062210274771,61.026162540984231,null,{"$f":"+$B$6","v":1999},24.489379937678937,16.021229090410959,2.4519827558742269,6.9405157149819683,2.8059363867021778,4.5562124343084873,3.7609062210274771,61.026162540984231,null,{"$f":"+$B$6","v":1999},24.489379937678937,16.021229090410959,2.4519827558742269,6.9405157149819683,2.8059363867021778,4.5562124343084873,3.7609062210274771,61.026162540984231,null,null,null,"PETROQUIMICO",122,3,35]
[null,2000,26.855405880332839,16.732910180327867,2.7914663704461526,7.3035152598172139,3.269191696111982,5.1391551302943368,4.1105280094249403,66.202172526755319,null,{"$f":"+$B$7","v":2000},26.855405880332839,16.732910180327867,2.7914663704461526,7.3035152598172139,3.269191696111982,5.1391551302943368,4.1105280094249403,66.202172526755319,null,{"$f":"+$B$7","v":2000},26.855405880332839,16.732910180327867,2.7914663704461526,7.3035152598172139,3.269191696111982,5.1391551302943368,4.1105280094249403,66.202172526755319,null,null,null,"PETROLERO",161,3,35]
[null,2001,39.089666612857698,19.950088293150685,4.7519332787936142,8.976908192986679,6.1400372353856865,8.4132455740176226,5.9010840581551545,93.222963245347145,null,{"$f":"+$B$8","v":2001},39.089666612857698,19.950088293150685,4.7519332787936142,8.976908192986679,6.1400372353856865,8.4132455740176226,5.9010840581551545,93.222963245347145,null,{"$f":"+$B$8","v":2001},39.089666612857698,19.950088293150685,4.7519332787936142,8.976908192986679,6.1400372353856865,8.4132455740176226,5.9010840581551545,93.222963245347145,null,null,null,"GNVC",200,3,35]
[null,2002,43.110319103747514,20.832766452054795,5.4745530840780798,9.4518187762198806,7.2728624118503555,9.5870235067509384,6.483269169034207,102.21261250373577,null,{"$f":"+$B$9","v":2002},43.110319103747514,20.832766452054795,5.4745530840780798,9.4518187762198806,7.2728624118503555,9.5870235067509384,6.483269169034207,102.21261250373577,null,{"$f":"+$B$9","v":2002},43.110319103747514,20.832766452054795,5.4745530840780798,9.4518187762198806,7.2728624118503555,9.5870235067509384,6.483269169034207,102.21261250373577,null,null,null,"TERMOELECTRICO",239,3,35]
[null,2003,45.249515955389448,21.304374323287668,5.8577319202408624,9.7053821120255588,7.8721862180682942,10.209976101663097,6.7931101332869428,106.99227676396188,null,{"$f":"+$B$10","v":2003},45.249515955389448,21.304374323287668,5.8577319202408624,9.7053821120255588,7.8721862180682942,10.209976101663097,6.7931101332869428,106.99227676396188,null,{"$f":"+$B$10","v":2003},45.249515955389448,21.304374323287668,5.8577319202408624,9.7053821120255588,7.8721862180682942,10.209976101663097,6.7931101332869428,106.99227676396188,null,null,null,"TOTAL",278,3,35]
[null,2004,45.288312426224046,21.275843371584699,5.8743558360232786,9.6954073558314082,7.9052228484328477,10.233690938960807,6.7978218282271117,107.0706546052842,null,{"$f":"+$B$11","v":2004},45.288312426224046,21.275843371584699,5.8743558360232786,9.6954073558314082,7.9052228484328477,10.233690938960807,6.7978218282271117,107.0706546052842,null,{"$f":"+$B$11","v":2004},45.288312426224046,21.275843371584699,5.8743558360232786,9.6954073558314082,7.9052228484328477,10.233690938960807,6.7978218282271117,107.0706546052842]
[null,2005,46.654265631118371,21.590612975342463,6.1226362871729032,9.861541445049669,8.2995744480444635,10.635278452873747,6.99561147770918,110.1595207173108,null,{"$f":"+$B$12","v":2005},46.654265631118371,21.590612975342463,6.1226362871729032,9.861541445049669,8.2995744480444635,10.635278452873747,6.99561147770918,110.1595207173108,null,{"$f":"+$B$12","v":2005},46.654265631118371,21.590612975342463,6.1226362871729032,9.861541445049669,8.2995744480444635,10.635278452873747,6.99561147770918,110.1595207173108]
[null,2006,50.463860736887426,22.345160652054794,6.854397891447948,10.275375414466774,9.4933554601199948,11.804856254065502,7.5438501712271702,118.78085658026961,null,{"$f":"+$B$13","v":2006},50.463860736887426,22.345160652054794,6.854397891447948,10.275375414466774,9.4933554601199948,11.804856254065502,7.5438501712271702,118.78085658026961,null,{"$f":"+$B$13","v":2006},50.463860736887426,22.345160652054794,6.854397891447948,10.275375414466774,9.4933554601199948,11.804856254065502,7.5438501712271702,118.78085658026961]
[null,2007,50.204454362391964,22.285585945205483,6.8101391599812828,10.243514254671513,9.4269209468634667,11.731895358355141,7.506147376352569,118.20865740382141,null,{"$f":"+$B$14","v":2007},50.204454362391964,22.285585945205483,6.8101391599812828,10.243514254671513,9.4269209468634667,11.731895358355141,7.506147376352569,118.20865740382141,null,{"$f":"+$B$14","v":2007},50.204454362391964,22.285585945205483,6.8101391599812828,10.243514254671513,9.4269209468634667,11.731895358355141,7.506147376352569,118.20865740382141]
[null,2008,48.272351726607013,21.885790909836068,6.4359164052387179,10.027975553341827,8.8100836731662362,11.135730016071861,7.2280666952939239,113.79591497955563,null,{"$f":"+$B$15","v":2008},48.272351726607013,21.885790909836068,6.4359164052387179,10.027975553341827,8.8100836731662362,11.135730016071861,7.2280666952939239,113.79591497955563,null,{"$f":"+$B$15","v":2008},48.272351726607013,21.885790909836068,6.4359164052387179,10.027975553341827,8.8100836731662362,11.135730016071861,7.2280666952939239,113.79591497955563]
[null,2009,45.715965284931507,21.744919421917814,5.8209463917808213,10.206183668493154,8.7355333917808231,9.9928040931506867,6.6211160575342456,108.83746830958906,null,{"$f":"+$B$16","v":2009},45.715965284931507,21.744919421917814,5.8209463917808213,10.206183668493154,8.7355333917808231,9.9928040931506867,6.6211160575342456,108.83746830958906,null,{"$f":"+$B$16","v":2009},45.715965284931507,21.744919421917814,5.8209463917808213,10.206183668493154,8.7355333917808231,9.9928040931506867,6.6211160575342456,108.83746830958906]
[null,2010,47.333075104109597,22.405111153424659,6.4054070520547937,10.526639791780822,9.6267397972602744,11.103560205479452,6.8674011041095877,114.26793420821919,null,{"$f":"+$B$17","v":2010},47.333075104109597,22.405111153424659,6.4054070520547937,10.526639791780822,9.6267397972602744,11.103560205479452,6.8674011041095877,114.26793420821919,null,{"$f":"+$B$17","v":2010},47.333075104109597,22.405111153424659,6.4054070520547937,10.206183668493154,9.6267397972602744,11.103560205479452,6.8674011041095877,113.94747808493152]
[null,2011,49.955324320547945,23.202203276712332,6.9958830849315063,11.114852027397262,10.938130279452054,11.964633934246576,7.5176026410958912,121.68862956438356,null,{"$f":"+$B$18","v":2011},49.955324320547945,23.202203276712332,6.9958830849315063,11.114852027397262,10.938130279452054,11.964633934246576,7.5176026410958912,121.68862956438356,null,{"$f":"+$B$18","v":2011},49.955324320547945,23.202203276712332,6.9958830849315063,10.526639791780822,10.938130279452054,11.964633934246576,7.5176026410958912,121.10041732876712]
[null,2012,50.869505254098364,23.486607453551912,7.2980725355191254,11.179372680327868,12.07788249726776,12.571935592896173,7.6045760491803271,125.08795206284154,null,{"$f":"+$B$19","v":2012},50.869505254098364,23.486607453551912,7.2980725355191254,11.179372680327868,12.07788249726776,12.571935592896173,7.6045760491803271,125.08795206284154,null,{"$f":"+$B$19","v":2012},50.869505254098364,23.486607453551912,7.2980725355191254,11.114852027397262,12.07788249726776,12.571935592896173,7.6045760491803271,125.02343140991093]
[null,2013,52.365870176123288,23.993396207561645,7.9594196248684925,11.290614059695892,13.412404731479453,13.162422517082188,7.8782882119178073,130.06241552872879,null,{"$f":"+$B$20","v":2013},52.365870176123288,23.993396207561645,7.9594196248684925,11.290614059695892,13.412404731479453,13.162422517082188,7.8782882119178073,130.06241552872879,null,{"$f":"+$B$20","v":2013},52.365870176123288,23.993396207561645,7.9594196248684925,11.179372680327868,13.412404731479453,13.162422517082188,7.8782882119178073,129.95117414936075]
[null,2014,54.278110875304094,23.991922511556162,8.2312638921205483,11.210791037939728,13.962480890493154,14.213308202145203,7.8352763848493154,133.7231537944082,null,{"$f":"+$B$21","v":2014},54.278110875304094,23.991922511556162,8.2312638921205483,11.210791037939728,13.962480890493154,14.213308202145203,7.8352763848493154,133.7231537944082,null,{"$f":"+$B$21","v":2014},54.278110875304094,23.991922511556162,8.2312638921205483,11.210791037939728,13.962480890493154,14.213308202145203,7.8352763848493154,133.7231537944082]
[null,2015,54.034312632600006,24.54212418896164,8.0818462364410966,11.816616411978082,14.825823734309589,13.980431458367125,7.8700501982109605,135.15120486086849,null,{"$f":"+$B$22","v":2015},54.034312632600006,24.54212418896164,8.0818462364410966,11.816616411978082,14.825823734309589,13.980431458367125,7.8700501982109605,135.15120486086849,null,{"$f":"+$B$22","v":2015},54.034312632600006,24.54212418896164,8.0818462364410966,11.816616411978082,14.825823734309589,13.980431458367125,7.8700501982109605,135.15120486086849]
[null,2016,54.088715541745586,25.020367224420745,8.3092605809508306,12.701206152051931,15.09539807956007,14.218944684114776,8.0182359009535613,137.45212816379751,null,{"$f":"+$B$23","v":2016},54.088715541745586,25.020367224420745,8.3092605809508306,12.701206152051931,15.09539807956007,14.218944684114776,8.0182359009535613,137.45212816379751,null,{"$f":"+$B$23","v":2016},54.088715541745586,25.020367224420745,8.3092605809508306,12.701206152051931,15.09539807956007,14.218944684114776,8.0182359009535613,137.45212816379751]
[null,2017,56.921034641862946,26.496720677830165,8.920564962602727,13.45241489924385,16.903378402536987,15.231223675643884,8.3333811280767058,146.25871838779727,null,{"$f":"+$B$24","v":2017},56.921034641862946,26.496720677830165,8.920564962602727,13.45241489924385,16.903378402536987,15.231223675643884,8.3333811280767058,146.25871838779727,null,{"$f":"+$B$24","v":2017},56.921034641862946,26.496720677830165,8.920564962602727,13.45241489924385,16.903378402536987,15.231223675643884,8.3333811280767058,146.25871838779727]
[null,2018,56.008633076958418,28.625966041068192,9.0945101217461097,13.600045458104976,19.158938266017167,15.455428546361141,8.3127494001331179,150.25627091038913,null,{"$f":"+$B$25","v":2018},58.982579429476544,30.145839559834329,9.57740771849015,14.322179529080037,20.17623526964277,16.275965117464288,8.7541879318304137,158.23439455581854,null,{"$f":"+$B$25","v":2018},53.034686724440299,27.106092522302056,8.6116125250020712,12.877911387129911,18.141641262391559,14.63489197525799,7.8713108684358195,142.2781472649597]
[null,2019,56.874074660384203,28.968015038824383,9.5181679156025041,13.784001968138858,20.157607025845522,16.168949260673237,8.3736508129502276,153.84446668241893,null,{"$f":"+$B$26","v":2019},59.899183723039087,30.508815973100667,10.024425008959332,14.517170248147465,21.22975635490852,17.028951562222471,8.8190452964980324,162.02734816687558,null,{"$f":"+$B$26","v":2019},53.848965597729304,27.427214104548096,9.0119108222456745,13.050833688130252,19.08545769678252,15.308946959124007,7.9282563294024229,145.66158519796227]
[null,2020,57.537608280869804,29.207289073476364,9.9171642411855476,13.912488981834766,21.058191374397694,16.844358885824249,8.4056764332223057,156.88277727081072,null,{"$f":"+$B$27","v":2020},60.597679383520656,30.760647411884712,10.444590035683282,14.652409539042782,22.178131149666516,17.740194475285307,8.8527243727892522,165.22637636787249,null,{"$f":"+$B$27","v":2020},54.477537178218945,27.653930735068009,9.3897384466878169,13.17256842462675,19.938251599128868,15.948523296363188,7.9586284936553602,148.53917817374895]
[null,2021,58.523021490416589,29.611218170936823,10.381889220793646,14.106117986097946,22.034083113404513,17.646363797730313,8.4698572007945927,160.77255098017443,null,{"$f":"+$B$28","v":2021},61.635478301344591,31.186046577462339,10.934029839016871,14.856330864674906,23.205923603104857,18.584851126826344,8.920314722743365,169.32297503517327,null,{"$f":"+$B$28","v":2021},55.410564679488594,28.0363897644113,9.8297486025704224,13.355905107520993,20.862242623704162,16.707876468634286,8.0193996788458239,152.22212692517559]
[null,2022,59.310762120739092,29.914071813858435,10.822953409641313,14.237723624957345,22.890782858264181,18.42332426129088,8.4904695998817878,164.09008768863302,null,{"$f":"+$B$29","v":2022},62.465302297992316,31.505101561274966,11.398587504907978,14.994980829303687,24.108262414826662,19.403194570021512,8.9420499488439411,172.81747912717105,null,{"$f":"+$B$29","v":2022},56.156221943485882,28.323042066441893,10.247319314374652,13.480466420611,21.673303301701694,17.443453952560247,8.038889250919631,155.36269625009498]
[null,2023,60.063369699797306,30.197548567429113,11.268353494847695,14.345447705769722,23.683324000118418,19.223746183283364,8.4916229329486104,167.27341258419423,null,{"$f":"+$B$30","v":2023},63.258130707984904,31.803751742079442,11.867714102097711,15.10848010602186,24.943034209716906,20.246251724582397,8.9432914687821405,176.17065406126537,null,{"$f":"+$B$30","v":2023},56.86860869160973,28.59134539277877,10.668992887597676,13.58241530551758,22.423613790519923,18.201240641984327,8.0399543971150784,158.3761711071231]
[null,2024,60.614755258278862,30.377757644818999,11.686051110603039,14.388884654888113,24.34070827560571,19.993867448749793,8.4506893870028481,169.85271377994738,null,{"$f":"+$B$31","v":2024},63.839081677019109,31.993664833165287,12.307675390877099,15.154283651884525,25.635481090188193,21.057415075523938,8.9002135402441329,178.88781525890229,null,{"$f":"+$B$31","v":2024},57.390428839538608,28.761850456472704,11.064426830328982,13.623485657891704,23.045935461023223,18.930319821975658,8.0011652337615633,160.81761230099247]
[null,2025,61.4597216793209,30.702059388017901,12.171394158431081,14.484647944201619,25.057404289959461,20.897927373310615,8.4439392034010101,173.21709403664261,null,{"$f":"+$B$32","v":2025},64.729264815761738,32.335352061227631,12.818889445374479,15.255204435838019,26.390411382103721,22.009657749115014,8.8931412096597366,182.43192109908034,null,{"$f":"+$B$32","v":2025},58.190178542880027,29.068766714808181,11.523898871487685,13.714091452565226,23.724397197815204,19.78619699750621,7.9947371971422836,164.00226697420482]
[null,2026,62.095561951781249,30.917942207803936,12.627328476875098,14.512680990320844,25.627317267151,21.771024001526953,8.4120719394512946,175.96392683491038,null,{"$f":"+$B$33","v":2026},65.399220064300195,32.562863507218879,13.299137682649819,15.284796373584403,26.990762364569409,22.929303365082017,8.85961780156968,185.32570115897437,null,{"$f":"+$B$33","v":2026},58.791903839262275,29.27302090838899,11.955519271100377,13.740565607057283,24.263872169732593,20.61274463797189,7.9645260773329065,166.60215251084631]
[null,2027,62.68698285120238,31.107396703723616,13.085416072843584,14.511445827060852,26.112417185982505,22.668351217034409,8.3790926173376317,178.55110247518496,null,{"$f":"+$B$34","v":2027},66.022409146841355,32.76254780563729,13.781660166129182,15.283565579718845,27.501797234467908,23.874480666939565,8.8249243413548992,188.05138494108903,null,{"$f":"+$B$34","v":2027},59.35155655556342,29.452245601809953,12.389171979557988,13.739326074402863,24.723037137497109,21.462221767129243,7.9332608933203677,169.05082000928095]
[null,2028,63.059913726024689,31.183778104930852,13.508165474578803,14.440484846205376,26.435654869060599,23.525872115388491,8.322189490875596,180.47605862706439,null,{"$f":"+$B$35","v":2028},66.415494381173616,32.843147345395238,14.226969870937035,15.208900256228029,27.842364274165426,24.777744599638201,8.7650346374937413,190.07965536503127,null,{"$f":"+$B$35","v":2028},59.704333070875776,29.52440886446648,12.789361078220573,13.672069436182721,25.028945463955779,22.273999631138789,7.8793443442574489,170.87246188909756]
[null,2029,63.731123119894967,31.402055314023883,14.006034101694873,14.417565677419946,26.809656973986517,24.537266896490877,8.309732030405895,183.21343411391695,null,{"$f":"+$B$36","v":2029},67.122740902053494,33.073197477750412,14.751401809171423,15.184833947364707,28.236402743976214,25.843081724486272,8.751956043980897,192.96361464878342,null,{"$f":"+$B$36","v":2029},60.339505337736426,29.730913150297351,13.260666394218319,13.650297407475184,25.382911203996816,23.231452068495493,7.8675080168308904,173.46325357905047]
[null,2030,64.180560020581254,31.504453437732479,14.467336614383479,14.323029094674348,27.012455397546994,25.509381576561513,8.2732688415833646,185.27048498306343,null,{"$f":"+$B$37","v":2030},67.596423979006588,33.181206090023025,15.237327746900583,15.085339584484128,28.45013173079376,26.867060534314287,8.7135946776774382,195.1310843431998,null,{"$f":"+$B$37","v":2030},60.764696062155906,29.827700785441923,13.697345481866368,13.560718604864565,25.574779064300206,24.151702618808734,7.8329430054892892,175.40988562292699]
[null,2031,64.579019782327364,31.574787472417526,14.928327203340251,14.195392054530597,27.111739674205406,26.506760153929633,8.2355337403992781,187.13156008115007,null,{"$f":"+$B$38","v":2031},68.016427824002662,33.255448242175319,15.722931421690747,14.95098340893739,28.554841620787744,27.917660670832674,8.6738941833315444,197.09218737175809,null,{"$f":"+$B$38","v":2031},61.141611740652067,29.894126702659733,14.133722984989754,13.439800700123797,25.668637727623064,25.095859637026606,7.7971732974670136,177.17093279054203]
[null,2032,64.737223110109781,31.53775330340763,15.349633639565054,13.996021997075974,27.035783988047378,27.454154103512458,8.174053653642714,188.28462379536097,null,{"$f":"+$B$39","v":2032},68.183130322193875,33.21648047039173,16.166680737013539,14.741018561180166,28.474875555431129,28.91551381479745,8.6091516255027773,198.3068510865107,null,{"$f":"+$B$39","v":2032},61.29131589802568,29.859026136423534,14.532586542116567,13.251025432971788,25.596692420663626,25.992794392227463,7.7389556817826497,178.2623965042113]
[]
[]
[null,null,"COMERCIAL MEDIO",null,null,null,null,null,null,null,null,null,"COMERCIAL ALTO",null,null,null,null,null,null,null,null,null,"COMERCIAL BAJO"]
[null,null,"CENTRO","COSTA","CQR","NORESTE","NOROESTE","SUROESTE","TOLIMA GRANDE","TOTAL",null,null,"CENTRO","COSTA","CQR","NORESTE","NOROESTE","SUROESTE","TOLIMA GRANDE","TOTAL",null,null,"CENTRO","COSTA","CQR","NORESTE","NOROESTE","SUROESTE","TOLIMA GRANDE","TOTAL"]
[null,{"$f":"+$B$5","v":1998},4.5450516975342463,0.27900624913615141,1.6617543202739729,0.28100169936363084,0.82322800744591929,1.1246245689958343,8.2636081616438359E-3,6.7064529110876405,null,{"$f":"+$B$5","v":1998},4.5450516975342463,0.27900624913615141,1.6617543202739729,0.28100169936363084,0.82322800744591929,1.1246245689958343,8.2636081616438359E-3,6.7064529110876405,null,{"$f":"+$B$5","v":1998},4.5450516975342463,0.27900624913615141,1.6617543202739729,0.28100169936363084,0.82322800744591929,1.1246245689958343,8.2636081616438359E-3,6.7064529110876405]
[null,{"$f":"+$B$6","v":1999},5.8643336295890416,0.44610719467167831,1.7429644687671233,0.41883734983051485,1.0679639624986641,1.4206249748362112,2.0474819654794519E-2,9.0167634879468093,null,{"$f":"+$B$6","v":1999},5.8643336295890416,0.44610719467167831,1.7429644687671233,0.41883734983051485,1.0679639624986641,1.4206249748362112,2.0474819654794519E-2,9.0167634879468093,null,{"$f":"+$B$6","v":1999},5.8643336295890416,0.44610719467167831,1.7429644687671233,0.41883734983051485,1.0679639624986641,1.4206249748362112,2.0474819654794519E-2,9.0167634879468093]
[null,{"$f":"+$B$7","v":2000},6.809730108469946,0.5879663552007145,1.7878554472677595,0.52885067104918249,1.2390974393852041,1.6218622377338134,3.5218273300546422E-2,10.734502334071102,null,{"$f":"+$B$7","v":2000},6.809730108469946,0.5879663552007145,1.7878554472677595,0.52885067104918249,1.2390974393852041,1.6218622377338134,3.5218273300546422E-2,10.734502334071102,null,{"$f":"+$B$7","v":2000},6.809730108469946,0.5879663552007145,1.7878554472677595,0.52885067104918249,1.2390974393852041,1.6218622377338134,3.5218273300546422E-2,10.734502334071102]
[null,{"$f":"+$B$8","v":2001},12.982229186301369,1.8759010842967743,2.0150054731506848,1.3937943986043648,2.2565975796771824,2.7553428566480749,0.40819461536986296,22.795237865080395,null,{"$f":"+$B$8","v":2001},12.982229186301369,1.8759010842967743,2.0150054731506848,1.3937943986043648,2.2565975796771824,2.7553428566480749,0.40819461536986296,22.795237865080395,null,{"$f":"+$B$8","v":2001},12.982229186301369,1.8759010842967743,2.0150054731506848,1.3937943986043648,2.2565975796771824,2.7553428566480749,0.40819461536986296,22.795237865080395]
[null,{"$f":"+$B$9","v":2002},15.597792904109589,2.5853442593543541,2.0809473172602742,1.8101962891943177,2.6229321373497867,3.1382966910891219,0.89158362838356164,28.28847469087669,null,{"$f":"+$B$9","v":2002},15.597792904109589,2.5853442593543541,2.0809473172602742,1.8101962891943177,2.6229321373497867,3.1382966910891219,0.89158362838356164,28.28847469087669,null,{"$f":"+$B$9","v":2002},15.597792904109589,2.5853442593543541,2.0809473172602742,1.8101962891943177,2.6229321373497867,3.1382966910891219,0.89158362838356164,28.28847469087669]
[null,{"$f":"+$B$10","v":2003},16.958339027397262,2.9500143273323038,2.1159657468493149,2.02651372124806,2.8171557915219489,3.3422007481700966,1.1136837172054794,31.132027326867075,null,{"$f":"+$B$10","v":2003},16.958339027397262,2.9500143273323038,2.1159657468493149,2.02651372124806,2.8171557915219489,3.3422007481700966,1.1136837172054794,31.132027326867075,null,{"$f":"+$B$10","v":2003},16.958339027397262,2.9500143273323038,2.1159657468493149,2.02651372124806,2.8171557915219489,3.3422007481700966,1.1136837172054794,31.132027326867075]
[null,{"$f":"+$B$11","v":2004},16.993024956284152,2.9696616280937773,2.1113614232240439,2.0345621713277788,2.8166947736440395,3.3395773997902021,1.1561793535792351,31.233536204680789,null,{"$f":"+$B$11","v":2004},16.993024956284152,2.9696616280937773,2.1113614232240439,2.0345621713277788,2.8166947736440395,3.3395773997902021,1.1561793535792351,31.233536204680789,null,{"$f":"+$B$11","v":2004},16.993024956284152,2.9696616280937773,2.1113614232240439,2.0345621713277788,2.8166947736440395,3.3395773997902021,1.1561793535792351,31.233536204680789]
[null,{"$f":"+$B$12","v":2005},17.966270756164384,3.2455742395397982,2.138030781643836,2.1903948141151881,2.9438550823820493,3.4706425391538755,1.4031743879452054,33.309561645288589,null,{"$f":"+$B$12","v":2005},17.966270756164384,3.2455742395397982,2.138030781643836,2.1903948141151881,2.9438550823820493,3.4706425391538755,1.4031743879452054,33.309561645288589,null,{"$f":"+$B$12","v":2005},17.966270756164384,3.2455742395397982,2.138030781643836,2.1903948141151881,2.9438550823820493,3.4706425391538755,1.4031743879452054,33.309561645288589]
[null,{"$f":"+$B$13","v":2006},20.849881419178082,4.1143794824588493,2.1972182860273972,2.6587660815866165,3.2828810008543812,3.8086725866826772,2.4302898863013698,39.621686305578329,null,{"$f":"+$B$13","v":2006},20.849881419178082,4.1143794824588493,2.1972182860273972,2.6587660815866165,3.2828810008543812,3.8086725866826772,2.4302898863013698,39.621686305578329,null,{"$f":"+$B$13","v":2006},20.849881419178082,4.1143794824588493,2.1972182860273972,2.6587660815866165,3.2828810008543812,3.8086725866826772,2.4302898863013698,39.621686305578329]
[null,{"$f":"+$B$14","v":2007},20.735246797260274,4.0856826294131992,2.1930549082191781,2.6359906031018898,3.2546376472234879,3.7775688757408235,2.5431694578082191,39.414174075354651,null,{"$f":"+$B$14","v":2007},20.735246797260274,4.0856826294131992,2.1930549082191781,2.6359906031018898,3.2546376472234879,3.7775688757408235,2.5431694578082191,39.414174075354651,null,{"$f":"+$B$14","v":2007},20.735246797260274,4.0856826294131992,2.1930549082191781,2.6359906031018898,3.2546376472234879,3.7775688757408235,2.5431694578082191,39.414174075354651]
[null,{"$f":"+$B$15","v":2008},19.13962794808743,3.598926301284699,2.1584075407103827,2.3836650746425407,3.086904974479515,3.6135797758597263,1.7688929352459015,35.86987581367908,null,{"$f":"+$B$15","v":2008},19.13962794808743,3.598926301284699,2.1584075407103827,2.3836650746425407,3.086904974479515,3.6135797758597263,1.7688929352459015,35.86987581367908,null,{"$f":"+$B$15","v":2008},19.13962794808743,3.598926301284699,2.1584075407103827,2.3836650746425407,3.086904974479515,3.6135797758597263,1.7688929352459015,35.86987581367908]
[null,{"$f":"+$B$16","v":2009},17.806103024657535,3.7001736931506843,1.5736820219178083,2.4497638630136982,2.8734732109589047,3.278674947945206,0.9936173479452054,35.488016884931511,null,{"$f":"+$B$16","v":2009},17.806103024657535,3.7001736931506843,1.5736820219178083,2.4497638630136982,2.8734732109589047,3.278674947945206,0.9936173479452054,35.488016884931511,null,{"$f":"+$B$16","v":2009},17.806103024657535,3.7001736931506843,1.5736820219178083,2.4497638630136982,2.8734732109589047,3.278674947945206,0.9936173479452054,35.488016884931511]
[null,{"$f":"+$B$17","v":2010},19.108781983561641,3.9186964712328756,1.7631606739726027,2.6169961643835613,3.3365755616438348,3.5133155150684927,1.0116569095890411,38.638356504109581,null,{"$f":"+$B$17","v":2010},19.108781983561641,3.9186964712328756,1.7631606739726027,2.6169961643835613,3.3365755616438348,3.5133155150684927,1.0116569095890411,38.638356504109581,null,{"$f":"+$B$17","v":2010},19.108781983561641,3.9186964712328756,1.7631606739726027,2.6169961643835613,3.3365755616438348,3.5133155150684927,1.0116569095890411,38.638356504109581]
[null,{"$f":"+$B$18","v":2011},20.855148575342469,4.1742191095890409,1.8598203917808218,2.7082347999999996,3.9160207589041094,3.7709762465753425,1.1640346821917804,44.903467906849315,null,{"$f":"+$B$18","v":2011},20.855148575342469,4.1742191095890409,1.8598203917808218,2.7082347999999996,3.9160207589041094,3.7709762465753425,1.1640346821917804,44.903467906849315,null,{"$f":"+$B$18","v":2011},20.855148575342469,4.1742191095890409,1.8598203917808218,2.7082347999999996,3.9160207589041094,3.7709762465753425,1.1640346821917804,44.903467906849315]
[null,{"$f":"+$B$19","v":2012},25.537928825136614,6.4569144153005453,1.9075847841530054,4.0438038907103824,3.9891992704918029,3.9220550546448081,1.176990674863388,47.120382666666657,null,{"$f":"+$B$19","v":2012},25.537928825136614,6.4569144153005453,1.9075847841530054,4.0438038907103824,3.9891992704918029,3.9220550546448081,1.176990674863388,47.120382666666657,null,{"$f":"+$B$19","v":2012},25.537928825136614,6.4569144153005453,1.9075847841530054,4.0438038907103824,3.9891992704918029,3.9220550546448081,1.176990674863388,47.120382666666657]
[null,{"$f":"+$B$20","v":2013},26.594395170375346,7.0288587998109584,2.0592388565780824,4.6049303551753429,4.134533326452055,4.0224750425863016,1.2307912130328766,49.888277216438354,null,{"$f":"+$B$20","v":2013},26.594395170375346,7.0288587998109584,2.0592388565780824,4.6049303551753429,4.134533326452055,4.0224750425863016,1.2307912130328766,49.888277216438354,null,{"$f":"+$B$20","v":2013},26.594395170375346,7.0288587998109584,2.0592388565780824,4.6049303551753429,4.134533326452055,4.0224750425863016,1.2307912130328766,49.888277216438354]
[null,{"$f":"+$B$21","v":2014},27.562251647331511,7.8309131540301351,2.2190165831753426,5.2558177582958905,4.1016791785013709,3.6633567947342462,1.2685548593561644,54.294840924745209,null,{"$f":"+$B$21","v":2014},27.562251647331511,7.8309131540301351,2.2190165831753426,5.2558177582958905,4.1016791785013709,3.6633567947342462,1.2685548593561644,54.294840924745209,null,{"$f":"+$B$21","v":2014},27.562251647331511,7.8309131540301351,2.2190165831753426,5.2558177582958905,4.1016791785013709,3.6633567947342462,1.2685548593561644,54.294840924745209]
[null,{"$f":"+$B$22","v":2015},23.625714245520545,6.0001940181808218,2.5590645022931504,3.3499419620876703,4.183809204956165,4.1545297288821912,1.6089536017479451,45.482207263668478,null,{"$f":"+$B$22","v":2015},23.625714245520545,6.0001940181808218,2.5590645022931504,3.3499419620876703,4.183809204956165,4.1545297288821912,1.6089536017479451,45.482207263668478,null,{"$f":"+$B$22","v":2015},23.625714245520545,6.0001940181808218,2.5590645022931504,3.3499419620876703,4.183809204956165,4.1545297288821912,1.6089536017479451,45.482207263668478]
[null,{"$f":"+$B$23","v":2016},25.542876842538234,5.424798428308736,2.8897868028551925,3.7040255463633898,4.4979003887786932,4.4031696369590207,1.5425822201229507,48.005139865926211,null,{"$f":"+$B$23","v":2016},25.542876842538234,5.424798428308736,2.8897868028551925,3.7040255463633898,4.4979003887786932,4.4031696369590207,1.5425822201229507,48.005139865926211,null,{"$f":"+$B$23","v":2016},25.542876842538234,5.424798428308736,2.8897868028551925,3.7040255463633898,4.4979003887786932,4.4031696369590207,1.5425822201229507,48.005139865926211]
[null,{"$f":"+$B$24","v":2017},25.535370215169884,5.2356205515479468,3.3778653195123285,3.8857361527945176,4.7809876295726053,4.598864808994513,1.4812789974876723,48.895723675079473,null,{"$f":"+$B$24","v":2017},25.535370215169884,5.2356205515479468,3.3778653195123285,3.8857361527945176,4.7809876295726053,4.598864808994513,1.4812789974876723,48.895723675079473,null,{"$f":"+$B$24","v":2017},25.535370215169884,5.2356205515479468,3.3778653195123285,3.8857361527945176,4.7809876295726053,4.598864808994513,1.4812789974876723,48.895723675079473]
[null,{"$f":"+$B$25","v":2018},24.396353559006617,5.4820555307448799,2.6814869506517476,3.5773006493586683,4.9161044230536417,4.4756876338981959,1.4559926985147345,46.984981445228485,null,{"$f":"+$B$25","v":2018},27.863511685529861,6.3067994499376789,3.6140980670483636,4.3444657971714786,5.2445382407475245,4.8906384675670633,1.6089844737715822,53.873036181773557,null,{"$f":"+$B$25","v":2018},20.929195432483372,4.6573116115520801,1.7488758342551314,2.8101355015458616,4.5876706053597571,4.0607368002293303,1.3030009232578863,40.096926708683412]
[null,{"$f":"+$B$26","v":2019},25.147029081966824,5.7238626629604124,2.8575430085831162,3.6873741498614456,5.0673729005241341,4.6134044917497965,1.4800273793688934,48.57661367501462,null,{"$f":"+$B$26","v":2019},28.614187208490073,6.5486065821532122,3.790154124979733,4.4545392976742537,5.3958067182180196,5.0283553254186621,1.6330191546257413,55.4646684115597,null,{"$f":"+$B$26","v":2019},21.679870955443576,4.8991187437676134,1.9249318921865002,2.920209002048638,4.7389390828302504,4.19845365808093,1.327035604112045,41.688558938469555]
[null,{"$f":"+$B$27","v":2020},26.21849064668055,5.9504755573848103,2.9776647062462205,3.8444853403491002,5.2832829103819989,4.8099718707143451,1.4923478936791688,50.576718925436197,null,{"$f":"+$B$27","v":2020},29.676175663568486,6.7729660778912901,3.9077277048384746,4.609554408523076,5.6108193679182499,5.2237889589360291,1.6449216586211073,57.445953840296703,null,{"$f":"+$B$27","v":2020},22.760805629792607,5.1279850368783304,2.0476017076539672,3.0794162721751257,4.9557464528457498,4.3961547824926637,1.3397741287372298,43.707484010575676]
[null,{"$f":"+$B$28","v":2021},27.444870275078436,6.2097478368857315,3.1117949419140984,4.0243125686443868,5.5304104288829743,5.0349600897122935,1.5114481563729447,52.867544297490866,null,{"$f":"+$B$28","v":2021},30.912028401601681,7.0344917560785323,4.0444060583107149,4.7914777164571944,5.8588442465768589,5.44991092338116,1.6644399316297926,59.755599034035932,null,{"$f":"+$B$28","v":2021},23.977712148555195,5.3850039176929325,2.1791838255174829,3.2571474208315805,5.2019766111890924,4.6200092560434278,1.3584563811160968,45.979489560945808]
[null,{"$f":"+$B$29","v":2022},28.611932273799194,6.4516166730110225,3.2350351887352069,4.1954418989259734,5.7655848634562457,5.2490660602227353,1.5241874635255284,55.03286442167591,null,{"$f":"+$B$29","v":2022},32.07909040032245,7.2763605922038233,4.1676463051318224,4.9626070467387811,6.0940186811501285,5.6640168938916027,1.6771792387823765,61.92091915822099,null,{"$f":"+$B$29","v":2022},25.14477414727595,5.6268727538182235,2.3024240723385909,3.4282767511131653,5.4371510457623611,4.8341152265538705,1.3711956882686804,48.144809685130838]
[null,{"$f":"+$B$30","v":2023},29.791943435198426,6.6911681484890062,3.355296734710882,4.3684699985439819,6.0033686812623195,5.4655476483487035,1.5344555100338979,57.210250156587215,null,{"$f":"+$B$30","v":2023},33.259101561721671,7.5159120676818052,4.2879078511074971,5.1356351463567895,6.3318024989562032,5.8804984820175701,1.6874472852907465,64.09830489313228,null,{"$f":"+$B$30","v":2023},26.324785308675175,5.8664242292962054,2.4226856183142655,3.6013048507311729,5.6749348635684349,5.0505968146798379,1.3814637347770506,50.322195420042142]
[null,{"$f":"+$B$31","v":2024},30.900198435185679,6.9081931901920219,3.4627818047261982,4.5309763059526063,6.2266929290492303,5.6688650493140464,1.5382948089084696,59.236002523328246,null,{"$f":"+$B$31","v":2024},34.357883452073615,7.7306837106985027,4.3928448033184502,5.2960453741265798,6.5542293865854804,6.0826821375357296,1.6908685738504083,66.105237438188766,null,{"$f":"+$B$31","v":2024},27.442513418297743,6.0857026696855394,2.5327188061339441,3.7659072377786296,5.8991564715129812,5.2550479610923633,1.3857210439665311,52.366767608467732]
[null,{"$f":"+$B$32","v":2025},32.190499869452324,7.1581194368015213,3.5855993441003955,4.7201765545678915,6.4867013181196915,5.905580186245496,1.5484758873483087,61.595152596635629,null,{"$f":"+$B$32","v":2025},35.657657995975576,7.9828633559943203,4.5182104604970119,5.4873417023806983,6.8151351358135743,6.3205310199143616,1.7014676626051566,68.483207333180687,null,{"$f":"+$B$32","v":2025},28.723341742929076,6.3333755176087205,2.6529882277037795,3.9530114067550834,6.1582675004258061,5.4906293525766303,1.3954841120914609,54.707097860090556]
[null,{"$f":"+$B$33","v":2026},33.408488892881735,7.382741253864376,3.6948927331387371,4.898773446676679,6.7321380474583483,6.1290290880332909,1.5524772741972721,63.798540736250438,null,{"$f":"+$B$33","v":2026},36.875647019404987,8.2074851730571776,4.6275038495353522,5.6659385944894876,7.0605718651522311,6.5439799217021548,1.70546904945412,70.686595472795517,null,{"$f":"+$B$33","v":2026},29.941330766358476,6.5579973346715787,2.7622816167421207,4.1316082988638723,6.4037042297644637,5.7140782543644235,1.3994854989404244,56.910485999705358]
[null,{"$f":"+$B$34","v":2027},34.638213024634162,7.5994805200723228,3.7997083428195313,5.0790910881803608,6.9799395161746443,6.3546308803781377,1.554629424136172,66.005692796395323,null,{"$f":"+$B$34","v":2027},38.105371151157406,8.4242244392651227,4.7323194592161464,5.8462562359931676,7.3083733338685262,6.7695817140470034,1.7076211993930199,72.893747532940395,null,{"$f":"+$B$34","v":2027},31.17105489811091,6.7747366008795256,2.8670972264229149,4.3119259403675523,6.6515056984807615,5.9396800467092721,1.4016376488793245,59.117638059850258]
[null,{"$f":"+$B$35","v":2028},35.780479544431778,7.7854195981075165,3.8902036484680722,5.2465845930244122,7.2101174186509791,6.5641879408178836,1.5507878592513018,68.027780602751946,null,{"$f":"+$B$35","v":2028},39.238164561319714,8.6079101186139955,4.8202666470603255,6.0116536611983884,7.5376538761872283,6.9780050290395677,1.7033616241932401,74.897015517612445,null,{"$f":"+$B$35","v":2028},32.322794527543842,6.962929077601034,2.960140649875818,4.4815155248504386,6.8825809611147273,6.1503708525962022,1.3982140943093631,61.158545687891419]
[null,{"$f":"+$B$36","v":2029},37.135476964859123,8.0028713360492958,4.003225005487911,5.4452713820254903,7.4831626832097839,6.8127720246606804,1.5537938615840947,70.436573257876375,null,{"$f":"+$B$36","v":2029},40.602635091382368,8.8276152552420974,4.9358361218845266,6.212436529838298,7.8115965009036668,7.227722858329547,1.7067856368409429,77.324627994421448,null,{"$f":"+$B$36","v":2029},33.668318838335871,7.1781274168564977,3.0706138890912946,4.6781062342126827,7.1547288655158994,6.3978211909918157,1.4008020863272468,63.54851852133131]
[null,{"$f":"+$B$37","v":2030},38.425730015303039,8.1860750149111379,4.1082667689229924,5.6344645359952592,7.7431613224656104,7.0494782852296645,1.5509881911999566,72.698164134027678,null,{"$f":"+$B$37","v":2030},41.892888141826283,9.0108189341039395,5.0408778853196088,6.4016296838080651,8.0715951401594968,7.4644291188985319,1.7039799664568043,79.586218870572736,null,{"$f":"+$B$37","v":2030},34.958571888779801,7.361331095718338,3.1756556525263773,4.8672993881824516,7.4147275047717276,6.6345274515607979,1.3979964159431082,65.810109397482606]
[null,{"$f":"+$B$38","v":2031},39.751870839205822,8.3544888365080574,4.2160648107962038,5.8289200073432328,8.0103916999157558,7.2927684175846306,1.5466992908075692,75.001203902161265,null,{"$f":"+$B$38","v":2031},43.219028965729073,9.1792327557008591,5.1486759271928211,6.5960851551560413,8.3388255176096386,7.707719251253498,1.6996910660644171,81.889258638706337,null,{"$f":"+$B$38","v":2031},36.28471271268257,7.5297449173152549,3.2834536943995896,5.0617548595304251,7.6819578822218721,6.877817583915764,1.3937075155507213,68.113149165616193]
[null,{"$f":"+$B$39","v":2032},41.002139917141228,8.4828927037548389,4.3148697395145943,6.0122502076354083,8.2623331767097845,7.5221393290049114,1.536790033087656,77.133415106848418,null,{"$f":"+$B$39","v":2032},44.459824934029179,9.3053832242613197,5.244932738106848,6.7773192758093828,8.5898696342460337,7.9359564172265946,1.6893637980295948,84.002650021708931,null,{"$f":"+$B$39","v":2032},37.544454900253292,7.66040218324836,3.3848067409223401,5.2471811394614329,7.9347967191735354,7.1083222407832301,1.3842162681457177,70.264180191987904]
[]
[]
[null,null,"INDUSTRIA MEDIO",null,null,null,null,null,null,null,null,null,"INDUSTRIA ALTO",null,null,null,null,null,null,null,null,null,"INDUSTRIA BAJO"]
[null,null,"CENTRO","COSTA","CQR","NORESTE","NOROESTE","SUROESTE","TOLIMA GRANDE","TOTAL",null,null,"CENTRO","COSTA","CQR","NORESTE","NOROESTE","SUROESTE","TOLIMA GRANDE","TOTAL",null,null,"CENTRO","COSTA","CQR","NORESTE","NOROESTE","SUROESTE","TOLIMA GRANDE","TOTAL"]
[null,{"$f":"+$B$5","v":1998},17.240475646575344,59.217476608219187,3.8401913591780823,1.0013740604931507,4.7456131671232882,14.026160742465756,9.8509769087671231,109.9222684931507,null,{"$f":"+$B$5","v":1998},17.240475646575344,59.217476608219187,3.8401913591780823,1.0013740604931507,4.7456131671232882,14.026160742465756,9.8509769087671231,109.9222684931507,null,{"$f":"+$B$5","v":1998},17.240475646575344,59.217476608219187,3.8401913591780823,1.0013740604931507,4.7456131671232882,14.026160742465756,9.8509769087671231,109.9222684931507]
[null,{"$f":"+$B$6","v":1999},18.911622416438355,58.396518427397261,4.1013395717808221,1.1395871463287672,5.2138855671232882,15.107756775342464,10.253303794520548,113.12401369863014,null,{"$f":"+$B$6","v":1999},18.911622416438355,58.396518427397261,4.1013395717808221,1.1395871463287672,5.2138855671232882,15.107756775342464,10.253303794520548,113.12401369863014,null,{"$f":"+$B$6","v":1999},18.911622416438355,58.396518427397261,4.1013395717808221,1.1395871463287672,5.2138855671232882,15.107756775342464,10.253303794520548,113.12401369863014]
[null,{"$f":"+$B$7","v":2000},19.511275084699452,60.296763125683057,4.1238224327868851,1.2203061380327869,5.387619011748634,15.313724426229509,10.065711095901639,115.9192213114754,null,{"$f":"+$B$7","v":2000},19.511275084699452,60.296763125683057,4.1238224327868851,1.2203061380327869,5.387619011748634,15.313724426229509,10.065711095901639,115.9192213114754,null,{"$f":"+$B$7","v":2000},19.511275084699452,60.296763125683057,4.1238224327868851,1.2203061380327869,5.387619011748634,15.313724426229509,10.065711095901639,115.9192213114754]
[null,{"$f":"+$B$8","v":2001},23.673952076712325,66.870130200000006,4.4973035416438361,1.7141132865753426,6.5785368564383573,17.277466134246573,9.8982989126027405,130.50980098630137,null,{"$f":"+$B$8","v":2001},23.673952076712325,66.870130200000006,4.4973035416438361,1.7141132865753426,6.5785368564383573,17.277466134246573,9.8982989126027405,130.50980098630137,null,{"$f":"+$B$8","v":2001},23.673952076712325,66.870130200000006,4.4973035416438361,1.7141132865753426,6.5785368564383573,17.277466134246573,9.8982989126027405,130.50980098630137]
[null,{"$f":"+$B$9","v":2002},25.189975704109589,71.844532813698635,4.5460180019178082,1.9580503386301369,7.0212132813698629,17.751411260273972,9.5231495487671225,137.83435093150686,null,{"$f":"+$B$9","v":2002},25.189975704109589,71.844532813698635,4.5460180019178082,1.9580503386301369,7.0212132813698629,17.751411260273972,9.5231495487671225,137.83435093150686,null,{"$f":"+$B$9","v":2002},25.189975704109589,71.844532813698635,4.5460180019178082,1.9580503386301369,7.0212132813698629,17.751411260273972,9.5231495487671225,137.83435093150686]
[null,{"$f":"+$B$10","v":2003},24.612371893150684,69.334182591780817,4.5425359515068493,1.8565461273972603,6.8512066016438364,17.610635021917805,9.7303230126027405,134.53780117808219,null,{"$f":"+$B$10","v":2003},24.612371893150684,69.334182591780817,4.5425359515068493,1.8565461273972603,6.8512066016438364,17.610635021917805,9.7303230126027405,134.53780117808219,null,{"$f":"+$B$10","v":2003},24.612371893150684,69.334182591780817,4.5425359515068493,1.8565461273972603,6.8512066016438364,17.610635021917805,9.7303230126027405,134.53780117808219]
[null,{"$f":"+$B$11","v":2004},32.342027229508204,79.114762174863358,5.0989574489071039,3.0461775871584695,9.0883708270491805,20.776688500000002,9.4044318497267767,158.87141560109291,null,{"$f":"+$B$11","v":2004},32.342027229508204,79.114762174863358,5.0989574489071039,3.0461775871584695,9.0883708270491805,20.776688500000002,9.4044318497267767,158.87141560109291,null,{"$f":"+$B$11","v":2004},32.342027229508204,79.114762174863358,5.0989574489071039,3.0461775871584695,9.0883708270491805,20.776688500000002,9.4044318497267767,158.87141560109291]
[null,{"$f":"+$B$12","v":2005},34.851849550684932,86.599523608219187,5.1576194490410954,3.5728121827397259,9.8300957690410957,21.446213832876715,8.9365739550684928,170.39468835616438,null,{"$f":"+$B$12","v":2005},34.851849550684932,86.599523608219187,5.1576194490410954,3.5728121827397259,9.8300957690410957,21.446213832876715,8.9365739550684928,170.39468835616438,null,{"$f":"+$B$12","v":2005},34.851849550684932,86.599523608219187,5.1576194490410954,3.5728121827397259,9.8300957690410957,21.446213832876715,8.9365739550684928,170.39468835616438]
[null,{"$f":"+$B$13","v":2006},44.933842405479453,95.00411882465751,5.7739036723287667,5.6362859172602739,12.782330271232876,25.098814786301368,8.766427018356163,197.99572290410958,null,{"$f":"+$B$13","v":2006},44.933842405479453,95.00411882465751,5.7739036723287667,5.6362859172602739,12.782330271232876,25.098814786301368,8.766427018356163,197.99572290410958,null,{"$f":"+$B$13","v":2006},44.933842405479453,95.00411882465751,5.7739036723287667,5.6362859172602739,12.782330271232876,25.098814786301368,8.766427018356163,197.99572290410958]
[null,{"$f":"+$B$14","v":2007},57.400842013698622,106.30460054246576,6.3508250673972597,8.8217311715068494,16.473662287671232,28.9572258,8.3303678320547938,232.63925471232875,null,{"$f":"+$B$14","v":2007},57.400842013698622,106.30460054246576,6.3508250673972597,8.8217311715068494,16.473662287671232,28.9572258,8.3303678320547938,232.63925471232875,null,{"$f":"+$B$14","v":2007},57.400842013698622,106.30460054246576,6.3508250673972597,8.8217311715068494,16.473662287671232,28.9572258,8.3303678320547938,232.63925471232875]
[null,{"$f":"+$B$15","v":2008},75.100745844262292,113.63378969945356,7.1358459245901633,14.166111185792349,21.747078721311478,34.161637882513659,8.0542692163934433,273.99947844262294,null,{"$f":"+$B$15","v":2008},75.100745844262292,113.63378969945356,7.1358459245901633,14.166111185792349,21.747078721311478,34.161637882513659,8.0542692163934433,273.99947844262294,null,{"$f":"+$B$15","v":2008},75.100745844262292,113.63378969945356,7.1358459245901633,14.166111185792349,21.747078721311478,34.161637882513659,8.0542692163934433,273.99947844262294]
[null,{"$f":"+$B$16","v":2009},59.983998534246567,91.64193267123288,6.6150998356164381,7.6203931808219192,16.151443389041098,28.091529054794517,5.9041462164383551,216.00854288219176,null,{"$f":"+$B$16","v":2009},59.983998534246567,91.64193267123288,6.6150998356164381,7.6203931808219192,16.151443389041098,28.091529054794517,5.9041462164383551,216.00854288219176,null,{"$f":"+$B$16","v":2009},59.983998534246567,91.64193267123288,6.6150998356164381,7.6203931808219192,16.151443389041098,28.091529054794517,5.9041462164383551,216.00854288219176]
[null,{"$f":"+$B$17","v":2010},41.252425027397251,95.929495183561656,6.8942556657534251,9.5206262849315078,18.528011391780826,30.122443641095892,7.5593068986301359,209.80656409315068,null,{"$f":"+$B$17","v":2010},41.252425027397251,95.929495183561656,6.8942556657534251,9.5206262849315078,18.528011391780826,30.122443641095892,7.5593068986301359,209.80656409315068,null,{"$f":"+$B$17","v":2010},41.252425027397251,95.929495183561656,6.8942556657534251,9.5206262849315078,18.528011391780826,30.122443641095892,7.5593068986301359,209.80656409315068]
[null,{"$f":"+$B$18","v":2011},40.12800762191781,96.782008928767141,6.3969551095890402,19.649014221917806,20.738794668493153,28.294513841095892,10.524614312328767,222.51390870410961,null,{"$f":"+$B$18","v":2011},40.12800762191781,96.782008928767141,6.3969551095890402,19.649014221917806,20.738794668493153,28.294513841095892,10.524614312328767,222.51390870410961,null,{"$f":"+$B$18","v":2011},40.12800762191781,96.782008928767141,6.3969551095890402,19.649014221917806,20.738794668493153,28.294513841095892,10.524614312328767,222.51390870410961]
[null,{"$f":"+$B$19","v":2012},35.24610453278688,97.325672609289626,6.7741675546448095,15.305671292349727,21.949560043715845,33.92793784153006,8.4996634262295068,219.02877730054647,null,{"$f":"+$B$19","v":2012},35.24610453278688,97.325672609289626,6.7741675546448095,15.305671292349727,21.949560043715845,33.92793784153006,8.4996634262295068,219.02877730054647,null,{"$f":"+$B$19","v":2012},35.24610453278688,97.325672609289626,6.7741675546448095,15.305671292349727,21.949560043715845,33.92793784153006,8.4996634262295068,219.02877730054647]
[null,{"$f":"+$B$20","v":2013},38.182995260191781,93.087396715495885,6.9657412708712325,14.481262293704111,22.180694442095888,45.887500871156163,2.9878986635013698,223.77348951701643,null,{"$f":"+$B$20","v":2013},38.182995260191781,93.087396715495885,6.9657412708712325,14.481262293704111,22.180694442095888,45.887500871156163,2.9878986635013698,223.77348951701643,null,{"$f":"+$B$20","v":2013},38.182995260191781,93.087396715495885,6.9657412708712325,14.481262293704111,22.180694442095888,45.887500871156163,2.9878986635013698,223.77348951701643]
[null,{"$f":"+$B$21","v":2014},49.278633713457545,94.15082992311784,6.6346204615397282,17.187941506660273,23.185753145630144,54.255970990986313,2.8331317386410961,247.52688148003296,null,{"$f":"+$B$21","v":2014},49.278633713457545,94.568324224865748,6.6346204615397264,17.244221873487671,23.204207200432872,54.278123593498627,2.8332143113589043,248.04134537864113,null,{"$f":"+$B$21","v":2014},49.278633713457545,94.568324224865748,6.6346204615397264,17.244221873487671,23.204207200432872,54.278123593498627,2.8332143113589043,248.04134537864113]
[null,{"$f":"+$B$22","v":2015},70.556953722819173,88.76617696732329,6.3615176782630147,15.180437418353426,23.526751424482189,48.391272438265759,2.3632689147123287,255.14637856421922,null,{"$f":"+$B$22","v":2015},70.556953722819173,88.76617696732329,6.3615176782630147,15.180437418353426,23.526751424482189,48.391272438265759,2.3632689147123287,255.14637856421922,null,{"$f":"+$B$22","v":2015},70.556953722819173,88.76617696732329,6.3615176782630147,15.180437418353426,23.526751424482189,48.391272438265759,2.3632689147123287,255.14637856421922]
[null,{"$f":"+$B$23","v":2016},64.927283815729481,82.119532541368798,6.0408727227732255,15.623278673265025,22.988013344685783,48.869699504355196,2.0117956511284154,242.58047625330593,null,{"$f":"+$B$23","v":2016},64.927283815729481,82.344517562030134,6.0574230589999996,15.666082176479453,23.05099420316439,49.003589092038354,2.0173074200356167,243.06719732847742,null,{"$f":"+$B$23","v":2016},64.927283815729481,82.344517562030134,6.0574230589999996,15.666082176479453,23.05099420316439,49.003589092038354,2.0173074200356167,243.06719732847742]
[null,{"$f":"+$B$24","v":2017},68.227071334320556,89.730654962788989,5.7912845821643835,13.623905770561645,23.800664525536956,40.122080202490388,0.68091471772328771,241.97657609558621,null,{"$f":"+$B$24","v":2017},68.227071334320556,89.730654962789046,5.7912845821643835,13.623905770561642,23.800664525536988,40.122080202490416,0.6809147177232876,241.97657609558635,null,{"$f":"+$B$24","v":2017},68.227071334320556,89.730654962789046,5.7912845821643835,13.623905770561642,23.800664525536988,40.122080202490416,0.6809147177232876,241.97657609558635]
[null,{"$f":"+$B$25","v":2018},73.223990173348568,76.933198994484414,6.4557112090938746,13.692555469471897,25.563431629022521,41.622948141017091,0.43835616438356162,237.93019178082193,null,{"$f":"+$B$25","v":2018},79.544902661407249,83.574311032891686,7.0129881972803112,14.874539270397534,27.770146230175062,45.215969951966713,0.47620558190883328,258.46906292602739,null,{"$f":"+$B$25","v":2018},66.903077685289873,70.292086956077156,5.8984342209074381,12.510571668546259,23.35671702786998,38.029926330067468,0.40050674685829013,217.39132063561647]
[null,{"$f":"+$B$26","v":2019},74.718399587686633,78.493965146642807,6.5866800973625885,16.77834031908975,26.082044391016911,42.467364978749274,0.43835616438356162,245.5651506849315,null,{"$f":"+$B$26","v":2019},81.040073119025905,85.135077185050079,7.1439570855490251,18.056508471575995,28.288758992169456,46.060386789698903,0.47544453862824287,266.20020618169764,null,{"$f":"+$B$26","v":2019},68.396726056347333,71.85285310823555,6.0294031091761511,15.5001721666035,23.875329789864374,38.874343167799651,0.40126779013888048,224.93009518816544]
[null,{"$f":"+$B$27","v":2020},75.346179790984053,79.149620874518263,6.6416982701030136,17.111033795250215,26.299906258075403,42.822092517918378,0.43835616438356162,247.80888767123287,null,{"$f":"+$B$27","v":2020},81.668160233786864,85.790732912925534,7.1989752582894502,18.389201947736467,28.506620859227944,46.415114328868007,0.47513762716473718,268.44394316799895,null,{"$f":"+$B$27","v":2020},69.02419934818127,72.508508836110991,6.0844212819165762,15.832865642763966,24.093191656922862,39.229070706968756,0.40157470160238612,227.17383217446684]
[null,{"$f":"+$B$28","v":2021},76.017405284547564,79.850651007738989,6.7005239545681832,17.991802999057594,26.532845172805281,43.201368841556359,0.43835616438356162,250.73295342465752,null,{"$f":"+$B$28","v":2021},82.339707532676769,86.491763046146261,7.2578009427546206,19.269971151543842,28.739559773957822,46.794390652505982,0.47481582183832816,271.36800892142361,null,{"$f":"+$B$28","v":2021},69.695103036418359,73.209538969331717,6.1432469663817466,16.713634846571345,24.326130571652744,39.608347030606737,0.40189650692879514,230.09789792789147]
[null,{"$f":"+$B$29","v":2022},75.985344662105604,79.81716678725401,6.6977141863492875,18.201843484149396,26.521719006310104,43.183252969722027,0.43835616438356162,250.84539726027396,null,{"$f":"+$B$29","v":2022},82.307632469231081,86.458278825661282,7.2549911745357241,19.480011636635645,28.728433607462645,46.776274780671649,0.4748302628420536,271.48045275704004,null,{"$f":"+$B$29","v":2022},69.663056854980113,73.176054748846724,6.1404371981628501,16.923675331663148,24.31500440515757,39.590231158772404,0.4018820659250697,230.21034176350787]
[null,{"$f":"+$B$30","v":2023},76.74140128355063,80.60679483198183,6.7639744054223279,18.34238132664132,26.784097313693451,43.610463167477562,0.43835616438356162,253.28746849315064,null,{"$f":"+$B$30","v":2023},83.064046911615279,87.247906870389116,7.3212513936087653,19.620549479127568,28.990811914845988,47.203484978427177,0.47447244190288301,273.92252398991678,null,{"$f":"+$B$30","v":2023},70.418755655485995,73.965682793574558,6.2066974172358913,17.064213174155068,24.57738271254091,40.017441356527939,0.40223988686424039,232.65241299638461]
[null,{"$f":"+$B$31","v":2024},77.192585966683723,81.078013612491432,6.8035158830032794,18.426248751559488,26.940674308219982,43.865405313658563,0.43835616438356162,254.74480000000003,null,{"$f":"+$B$31","v":2024},83.515441117540988,87.71912565089869,7.3607928711897159,19.704416904045736,29.147388909372523,47.458427124608185,0.47426291911027857,275.37985549676608,null,{"$f":"+$B$31","v":2024},70.869730815826472,74.43690157408416,6.2462388948168428,17.148080599073236,24.733959707067442,40.272383502708941,0.40244940965684473,234.10974450323397]
[null,{"$f":"+$B$32","v":2025},77.360443232644215,81.253324298165225,6.8182267643051144,18.457450512559337,26.998926698418664,43.960253151441698,0.43835616438356162,255.28698082191781,null,{"$f":"+$B$32","v":2025},83.683376539925888,87.894436336572497,7.3755037524915501,19.735618665045585,29.205641299571205,47.55327496239132,0.47418476268585813,275.92203631868392,null,{"$f":"+$B$32","v":2025},71.037509925362542,74.612212259757953,6.2609497761186779,17.179282360073085,24.792212097266123,40.367231340492076,0.40252756608126528,234.65192532515169]
[null,{"$f":"+$B$33","v":2026},77.478142478405687,81.376249781072758,6.8285418354091556,18.479328765580423,27.03977248695784,44.026759173122102,0.43835616438356162,255.66715068493153,null,{"$f":"+$B$33","v":2026},83.801129377968905,88.01736181948003,7.3858188235955922,19.757496918066671,29.246487088110385,47.619780984071717,0.47413117040431757,276.30220618169761,null,{"$f":"+$B$33","v":2026},71.155155578842468,74.735137742665486,6.2712648472227199,17.201160613094178,24.833057885805307,40.433737362172479,0.40258115836280572,235.03209518816544]
[null,{"$f":"+$B$34","v":2027},78.282022847523152,82.215825106592831,6.8989932908364437,18.628756215182612,27.318747321123851,44.480992205042497,0.43835616438356162,258.26369315068496,null,{"$f":"+$B$34","v":2027},84.605375210998631,88.856937145000103,7.4562702790228794,19.906924367668864,29.525461922276389,48.07401401599212,0.47376570649204952,278.89874864745099,null,{"$f":"+$B$34","v":2027},71.958670484047673,75.574713068185574,6.3417163026500054,17.350588062696364,25.112032719971307,40.887970394092875,0.40294662227507377,237.62863765391887]
[null,{"$f":"+$B$35","v":2028},79.271253955198688,83.248981358627034,6.9856887420093603,18.812637159618895,27.662045397327166,45.039957770780504,0.43835616438356162,261.45892054794518,null,{"$f":"+$B$35","v":2028},85.595045332092823,89.89009339703432,7.542965730195796,20.090805312105143,29.868759998479707,48.632979581730126,0.47332669307340208,282.09397604471127,null,{"$f":"+$B$35","v":2028},72.947462578304567,76.607869320219763,6.4284117538229237,17.534469007132643,25.455330796174625,41.446935959830888,0.40338563569372116,240.82386505117913]
[null,{"$f":"+$B$36","v":2029},80.343002275257007,84.368318861141745,7.0796159380208161,19.011856625890424,28.0339798559136,45.645549731447652,0.43835616438356162,264.9206794520548,null,{"$f":"+$B$36","v":2029},86.66725755787364,91.009430899549002,7.6368929262072536,20.290024778376672,30.240694457066134,49.238571542397274,0.47286278735089782,285.55573494882088,null,{"$f":"+$B$36","v":2029},74.018746992640374,77.727206822734473,6.5223389498343796,17.733688473404175,25.827265254761056,42.052527920498029,0.40384954141622548,244.28562395528871]
[null,{"$f":"+$B$37","v":2030},80.830149344502971,84.877096877063863,7.1223091313789189,19.102408836063837,28.203037066511424,45.920812443109156,0.43835616438356162,266.49416986301372,null,{"$f":"+$B$37","v":2030},87.154612140389204,91.518208915471135,7.6795861195653554,20.380576988550086,30.409751667663958,49.513834254058779,0.47265527408129482,287.12922535977981,null,{"$f":"+$B$37","v":2030},74.505686548616723,78.235984838656591,6.5650321431924832,17.824240683577589,25.996322465358876,42.327790632159534,0.40405705468582848,245.85911436624764]
[null,{"$f":"+$B$38","v":2031},81.913806525852479,86.008872033835644,7.2172800108073121,19.303841953568529,28.579104319891023,46.533133512209396,0.43835616438356162,269.99439452054793,null,{"$f":"+$B$38","v":2031},88.238720203862854,92.64998407224293,7.7745569989937477,20.582010106054781,30.78581892104356,50.126155323159018,0.47220439195716507,290.62945001731407,null,{"$f":"+$B$38","v":2031},75.588892847842118,79.367759995428386,6.6600030226208755,18.025673801082284,26.372389718738482,42.940111701259774,0.40450793680995828,249.35933902378187]
[null,{"$f":"+$B$39","v":2032},82.419016781197286,86.535264425223332,7.2614512828443258,19.397529166787109,28.75401445079876,46.817926078941547,0.43835616438356162,271.62355835017587,null,{"$f":"+$B$39","v":2032},88.726946501284331,93.158231348771579,7.8172056563089427,20.672467855336404,30.954699777084759,50.4011308904077,0.47190635064736247,292.20258837984113,null,{"$f":"+$B$39","v":2032},76.111087061110226,79.912297501675113,6.7056969093797107,18.122590478237818,26.553329124512757,43.2347212674754,0.40480597811976071,251.04452832051078]
[]
[]
[null,null,"PETROQUIMICA MEDIO",null,null,null,null,null,null,null,null,null,"PETROQUIMICA ALTO",null,null,null,null,null,null,null,null,null,"PETROQUIMICA BAJO"]
[null,null,"CENTRO","COSTA","CQR","NORESTE","NOROESTE","SUROESTE","TOLIMA GRANDE","TOTAL",null,null,"CENTRO","COSTA","CQR","NORESTE","NOROESTE","SUROESTE","TOLIMA GRANDE","TOTAL",null,null,"CENTRO","COSTA","CQR","NORESTE","NOROESTE","SUROESTE","TOLIMA GRANDE","TOTAL"]
[null,{"$f":"+$B$5","v":1998},null,11.177178709863014,null,null,0.54173361654794494,null,null,11.718912326410958,null,{"$f":"+$B$5","v":1998},null,11.177178709863014,null,null,0.54173361654794494,null,null,11.718912326410958,null,{"$f":"+$B$5","v":1998},null,11.177178709863014,null,null,0.54173361654794494,null,null,11.718912326410958]
[null,{"$f":"+$B$6","v":1999},null,8.9518178671232889,null,null,0.50890542060273969,null,null,9.4607232877260294,null,{"$f":"+$B$6","v":1999},null,8.9518178671232889,null,null,0.50890542060273969,null,null,9.4607232877260294,null,{"$f":"+$B$6","v":1999},null,8.9518178671232889,null,null,0.50890542060273969,null,null,9.4607232877260294]
[null,{"$f":"+$B$7","v":2000},null,10.195496595355191,null,null,0.51960449715847001,null,null,10.715101092513661,null,{"$f":"+$B$7","v":2000},null,10.195496595355191,null,null,0.51960449715847001,null,null,10.715101092513661,null,{"$f":"+$B$7","v":2000},null,10.195496595355191,null,null,0.51960449715847001,null,null,10.715101092513661]
[null,{"$f":"+$B$8","v":2001},null,10.395532120821917,null,null,0.53123821797260273,null,null,10.926770338794519,null,{"$f":"+$B$8","v":2001},null,10.395532120821917,null,null,0.53123821797260273,null,null,10.926770338794519,null,{"$f":"+$B$8","v":2001},null,10.395532120821917,null,null,0.53123821797260273,null,null,10.926770338794519]
[null,{"$f":"+$B$9","v":2002},null,11.648285082191782,null,null,0.53958332241095885,null,null,12.187868404602741,null,{"$f":"+$B$9","v":2002},null,11.648285082191782,null,null,0.53958332241095885,null,null,12.187868404602741,null,{"$f":"+$B$9","v":2002},null,11.648285082191782,null,null,0.53958332241095885,null,null,12.187868404602741]
[null,{"$f":"+$B$10","v":2003},null,11.610142676712329,null,null,0.54143088254794525,null,null,12.151573559260274,null,{"$f":"+$B$10","v":2003},null,11.610142676712329,null,null,0.54143088254794525,null,null,12.151573559260274,null,{"$f":"+$B$10","v":2003},null,11.610142676712329,null,null,0.54143088254794525,null,null,12.151573559260274]
[null,{"$f":"+$B$11","v":2004},null,10.206267326502733,null,null,0.52462375737704925,null,null,10.730891083879783,null,{"$f":"+$B$11","v":2004},null,10.206267326502733,null,null,0.52462375737704925,null,null,10.730891083879783,null,{"$f":"+$B$11","v":2004},null,10.206267326502733,null,null,0.52462375737704925,null,null,10.730891083879783]
[null,{"$f":"+$B$12","v":2005},null,10.400579374520547,null,null,0.5308672887671233,null,null,10.931446663287669,null,{"$f":"+$B$12","v":2005},null,10.400579374520547,null,null,0.5308672887671233,null,null,10.931446663287669,null,{"$f":"+$B$12","v":2005},null,10.400579374520547,null,null,0.5308672887671233,null,null,10.931446663287669]
[null,{"$f":"+$B$13","v":2006},null,11.775199226575342,null,null,0.53993636575342463,null,null,12.315135592328767,null,{"$f":"+$B$13","v":2006},null,11.775199226575342,null,null,0.53993636575342463,null,null,12.315135592328767,null,{"$f":"+$B$13","v":2006},null,11.775199226575342,null,null,0.53993636575342463,null,null,12.315135592328767]
[null,{"$f":"+$B$14","v":2007},null,12.796147334246575,null,null,0.54354759569862987,null,null,13.339694929945205,null,{"$f":"+$B$14","v":2007},null,12.796147334246575,null,null,0.54354759569862987,null,null,13.339694929945205,null,{"$f":"+$B$14","v":2007},null,12.796147334246575,null,null,0.54354759569862987,null,null,13.339694929945205]
[null,{"$f":"+$B$15","v":2008},null,11.47179948169399,null,null,0.53337419579234935,null,null,12.00517367748634,null,{"$f":"+$B$15","v":2008},null,11.47179948169399,null,null,0.53337419579234935,null,null,12.00517367748634,null,{"$f":"+$B$15","v":2008},null,11.47179948169399,null,null,0.53337419579234935,null,null,12.00517367748634]
[null,{"$f":"+$B$16","v":2009},null,19.610119257534244,null,null,0.68315991506849316,null,null,20.293279172602738,null,{"$f":"+$B$16","v":2009},null,19.610119257534244,null,null,0.68315991506849316,null,null,20.293279172602738,null,{"$f":"+$B$16","v":2009},null,19.610119257534244,null,null,0.68315991506849316,null,null,20.293279172602738]
[null,{"$f":"+$B$17","v":2010},null,21.199482183561642,null,null,0.60298309041095888,null,null,21.802465273972601,null,{"$f":"+$B$17","v":2010},null,21.199482183561642,null,null,0.60298309041095888,null,null,21.802465273972601,null,{"$f":"+$B$17","v":2010},null,21.199482183561642,null,null,0.60298309041095888,null,null,21.802465273972601]
[null,{"$f":"+$B$18","v":2011},null,22.16314406849315,null,null,0.51431038904109583,null,null,22.677454457534246,null,{"$f":"+$B$18","v":2011},null,22.16314406849315,null,null,0.51431038904109583,null,null,22.677454457534246,null,{"$f":"+$B$18","v":2011},null,22.16314406849315,null,null,0.51431038904109583,null,null,22.677454457534246]
[null,{"$f":"+$B$19","v":2012},null,18.302008040983605,null,null,0.61615694535519128,null,null,18.918164986338795,null,{"$f":"+$B$19","v":2012},null,18.302008040983605,null,null,0.61615694535519128,null,null,18.918164986338795,null,{"$f":"+$B$19","v":2012},null,18.302008040983605,null,null,0.61615694535519128,null,null,18.918164986338795]
[null,{"$f":"+$B$20","v":2013},null,21.236024943909591,null,null,0.90271657132876715,null,null,22.138741515238358,null,{"$f":"+$B$20","v":2013},null,21.236024943909591,null,null,0.90271657132876715,null,null,22.138741515238358,null,{"$f":"+$B$20","v":2013},null,21.236024943909591,null,null,0.90271657132876715,null,null,22.138741515238358]
[null,{"$f":"+$B$21","v":2014},null,19.199073315117804,null,null,1.1215907202739723,null,null,20.320664035391776,null,{"$f":"+$B$21","v":2014},null,19.199073315117804,null,null,1.1215907202739723,null,null,20.320664035391776,null,{"$f":"+$B$21","v":2014},null,19.199073315117804,null,null,1.1215907202739723,null,null,20.320664035391776]
[null,{"$f":"+$B$22","v":2015},null,16.633364219153425,null,null,0.79026693946849325,null,null,17.423631158621919,null,{"$f":"+$B$22","v":2015},null,16.633364219153425,null,null,0.79026693946849325,null,null,17.423631158621919,null,{"$f":"+$B$22","v":2015},null,16.633364219153425,null,null,0.79026693946849325,null,null,17.423631158621919]
[null,{"$f":"+$B$23","v":2016},null,16.130369535295081,null,null,0.7195720632978142,null,null,16.849941598592896,null,{"$f":"+$B$23","v":2016},null,16.130369535295081,null,null,0.7195720632978142,null,null,16.849941598592896,null,{"$f":"+$B$23","v":2016},null,16.130369535295081,null,null,0.7195720632978142,null,null,16.849941598592896]
[null,{"$f":"+$B$24","v":2017},null,17.431806214287672,null,null,0.74089904215616431,null,null,18.172705256443837,null,{"$f":"+$B$24","v":2017},null,17.431806214287672,null,null,0.74089904215616431,null,null,18.172705256443837,null,{"$f":"+$B$24","v":2017},null,17.431806214287672,null,null,0.74089904215616431,null,null,18.172705256443837]
[null,{"$f":"+$B$25","v":2018},null,17.104553424657535,null,null,0.62215476712328777,null,null,17.726708191780823,null,{"$f":"+$B$25","v":2018},null,22.242438356164381,null,null,0.89700261369863021,null,null,23.13944096986301,null,{"$f":"+$B$25","v":2018},null,11.966668493150687,null,null,0.34730692054794526,null,null,12.313975413698632]
[null,{"$f":"+$B$26","v":2019},null,17.174224657534246,null,null,0.64654613698630126,null,null,17.820770794520548,null,{"$f":"+$B$26","v":2019},null,22.312109589041096,null,null,0.92139398356164381,null,null,23.233503572602739,null,{"$f":"+$B$26","v":2019},null,12.036339726027395,null,null,0.37169829041095886,null,null,12.408038016438354]
[null,{"$f":"+$B$27","v":2020},null,17.284363387978139,null,null,0.6750098630136987,null,null,17.959373250991838,null,{"$f":"+$B$27","v":2020},null,22.408210382513662,null,null,0.94985770958904125,null,null,23.358068092102702,null,{"$f":"+$B$27","v":2020},null,12.160516393442622,null,null,0.40016201643835625,null,null,12.560678409880978]
[null,{"$f":"+$B$28","v":2021},null,17.531057534246575,null,null,0.6943450684931507,null,null,18.225402602739724,null,{"$f":"+$B$28","v":2021},null,22.668942465753428,null,null,0.96919291506849303,null,null,23.638135380821922,null,{"$f":"+$B$28","v":2021},null,12.393172602739725,null,null,0.41949722191780825,null,null,12.812669824657533]
[null,{"$f":"+$B$29","v":2022},null,17.735695890410959,null,null,0.67145575342465746,null,null,18.407151643835615,null,{"$f":"+$B$29","v":2022},null,22.873580821917809,null,null,0.94630359999999991,null,null,23.819884421917809,null,{"$f":"+$B$29","v":2022},null,12.597810958904113,null,null,0.39660790684931507,null,null,12.994418865753428]
[null,{"$f":"+$B$30","v":2023},null,17.941087671232879,null,null,0.64362501369863012,null,null,18.58471268493151,null,{"$f":"+$B$30","v":2023},null,23.078972602739729,null,null,0.91847286027397279,null,null,23.997445463013701,null,{"$f":"+$B$30","v":2023},null,12.803202739726027,null,null,0.36877716712328762,null,null,13.171979906849314]
[null,{"$f":"+$B$31","v":2024},null,18.097131147540981,null,null,0.6313371780821917,null,null,18.728468325623172,null,{"$f":"+$B$31","v":2024},null,23.220978142076504,null,null,0.90618502465753414,null,null,24.127163166734039,null,{"$f":"+$B$31","v":2024},null,12.973284153005464,null,null,0.35648933150684931,null,null,13.329773484512312]
[null,{"$f":"+$B$32","v":2025},null,18.35241917808219,null,null,0.6331245205479451,null,null,18.985543698630135,null,{"$f":"+$B$32","v":2025},null,23.490304109589044,null,null,0.90797236712328755,null,null,24.398276476712333,null,{"$f":"+$B$32","v":2025},null,13.214534246575344,null,null,0.35827667397260271,null,null,13.572810920547946]
[null,{"$f":"+$B$33","v":2026},null,18.558142465753427,null,null,0.63968986301369857,null,null,19.197832328767127,null,{"$f":"+$B$33","v":2026},null,23.696027397260274,null,null,0.91453770958904113,null,null,24.610565106849315,null,{"$f":"+$B$33","v":2026},null,13.420257534246575,null,null,0.36484201643835618,null,null,13.785099550684931]
[null,{"$f":"+$B$34","v":2027},null,18.763876712328766,null,null,0.64461183561643831,null,null,19.408488547945204,null,{"$f":"+$B$34","v":2027},null,23.901761643835616,null,null,0.91945968219178076,null,null,24.821221326027398,null,{"$f":"+$B$34","v":2027},null,13.625991780821916,null,null,0.36976398904109598,null,null,13.995755769863013]
[null,{"$f":"+$B$35","v":2028},null,18.917781420765024,null,null,0.64495893150684935,null,null,19.562740352271874,null,{"$f":"+$B$35","v":2028},null,24.041628415300547,null,null,0.91980677808219169,null,null,24.961435193382737,null,{"$f":"+$B$35","v":2028},null,13.793934426229509,null,null,0.37011108493150691,null,null,14.164045511161016]
[null,{"$f":"+$B$36","v":2029},null,19.175345205479452,null,null,0.64019057534246582,null,null,19.815535780821918,null,{"$f":"+$B$36","v":2029},null,24.313230136986302,null,null,0.91503842191780815,null,null,25.228268558904109,null,{"$f":"+$B$36","v":2029},null,14.037460273972604,null,null,0.36534272876712331,null,null,14.402803002739727]
[null,{"$f":"+$B$37","v":2030},null,19.381076712328767,null,null,0.63529671232876717,null,null,20.016373424657534,null,{"$f":"+$B$37","v":2030},null,24.518961643835617,null,null,0.91014455890410961,null,null,25.429106202739728,null,{"$f":"+$B$37","v":2030},null,14.243191780821917,null,null,0.36044886575342466,null,null,14.603640646575341]
[null,{"$f":"+$B$38","v":2031},null,19.586813698630138,null,null,0.6324540273972602,null,null,20.219267726027397,null,{"$f":"+$B$38","v":2031},null,24.724698630136984,null,null,0.90730187397260276,null,null,25.632000504109588,null,{"$f":"+$B$38","v":2031},null,14.448928767123288,null,null,0.35760618082191775,null,null,14.806534947945206]
[null,{"$f":"+$B$39","v":2032},null,19.792547945205477,null,null,0.63217435616438367,null,null,20.424722301369862,null,{"$f":"+$B$39","v":2032},null,24.930432876712331,null,null,0.907022202739726,null,null,25.837455079452056,null,{"$f":"+$B$39","v":2032},null,14.654663013698629,null,null,0.35732650958904105,null,null,15.011989523287671]
[]
[]
[null,null,"ECOPETROL MEDIO",null,null,null,null,null,null,null,null,null,"ECOPETROL ALTO",null,null,null,null,null,null,null,null,null,"ECOPETROL BAJO"]
[null,null,"CENTRO","COSTA","CQR","NORESTE","NOROESTE","SUROESTE","TOLIMA GRANDE","TOTAL",null,null,"CENTRO","COSTA","CQR","NORESTE","NOROESTE","SUROESTE","TOLIMA GRANDE","TOTAL",null,null,"CENTRO","COSTA","CQR","NORESTE","NOROESTE","SUROESTE","TOLIMA GRANDE","TOTAL"]
[null,{"$f":"+$B$5","v":1998},15.201027422807277,11.604498630136986,null,88.971542440206392,null,null,null,115.77706849315065,null,{"$f":"+$B$5","v":1998},15.201027422807277,11.604498630136986,null,88.971542440206392,null,null,null,115.77706849315065,null,{"$f":"+$B$5","v":1998},15.201027422807277,11.604498630136986,null,88.971542440206392,null,null,null,115.77706849315065]
[null,{"$f":"+$B$6","v":1999},16.207570589606163,13.469446575342465,null,94.862834889845871,null,null,null,124.53985205479449,null,{"$f":"+$B$6","v":1999},16.207570589606163,13.469446575342465,null,94.862834889845871,null,null,null,124.53985205479449,null,{"$f":"+$B$6","v":1999},16.207570589606163,13.469446575342465,null,94.862834889845871,null,null,null,124.53985205479449]
[null,{"$f":"+$B$7","v":2000},15.763499521327448,14.579527322404372,null,92.263689003262698,null,null,null,122.60671584699452,null,{"$f":"+$B$7","v":2000},15.763499521327448,14.579527322404372,null,92.263689003262698,null,null,null,122.60671584699452,null,{"$f":"+$B$7","v":2000},15.763499521327448,14.579527322404372,null,92.263689003262698,null,null,null,122.60671584699452]
[null,{"$f":"+$B$8","v":2001},13.274136881370971,11.503638356164382,null,77.693461109479358,null,null,null,102.47123634701471,null,{"$f":"+$B$8","v":2001},13.274136881370971,11.503638356164382,null,77.693461109479358,null,null,null,102.47123634701471,null,{"$f":"+$B$8","v":2001},13.274136881370971,11.503638356164382,null,77.693461109479358,null,null,null,102.47123634701471]
[null,{"$f":"+$B$9","v":2002},11.447851597772983,12.412698630136987,null,67.004221882545906,null,null,null,90.864772110455874,null,{"$f":"+$B$9","v":2002},11.447851597772983,12.412698630136987,null,67.004221882545906,null,null,null,90.864772110455874,null,{"$f":"+$B$9","v":2002},11.447851597772983,12.412698630136987,null,67.004221882545906,null,null,null,90.864772110455874]
[null,{"$f":"+$B$10","v":2003},10.803297913047736,13.986989041095891,null,63.231652179166389,null,null,null,88.021939133310013,null,{"$f":"+$B$10","v":2003},10.803297913047736,13.986989041095891,null,63.231652179166389,null,null,null,88.021939133310013,null,{"$f":"+$B$10","v":2003},10.803297913047736,13.986989041095891,null,63.231652179166389,null,null,null,88.021939133310013]
[null,{"$f":"+$B$11","v":2004},10.72898932166216,13.199104911095457,null,62.796724341182625,null,null,null,86.72481857394024,null,{"$f":"+$B$11","v":2004},10.72898932166216,13.199104911095457,null,62.796724341182625,null,null,null,86.72481857394024,null,{"$f":"+$B$11","v":2004},10.72898932166216,13.199104911095457,null,62.796724341182625,null,null,null,86.72481857394024]
[null,{"$f":"+$B$12","v":2005},11.022160268263443,12.397534028520976,null,64.512652521052587,null,null,null,87.932346817837015,null,{"$f":"+$B$12","v":2005},11.022160268263443,12.397534028520976,null,64.512652521052587,null,null,null,87.932346817837015,null,{"$f":"+$B$12","v":2005},11.022160268263443,12.397534028520976,null,64.512652521052587,null,null,null,87.932346817837015]
[null,{"$f":"+$B$13","v":2006},12.137927717838819,13.836922683091947,null,71.043234187154439,null,null,null,97.018084588085202,null,{"$f":"+$B$13","v":2006},12.137927717838819,13.836922683091947,null,71.043234187154439,null,null,null,97.018084588085202,null,{"$f":"+$B$13","v":2006},12.137927717838819,13.836922683091947,null,71.043234187154439,null,null,null,97.018084588085202]
[null,{"$f":"+$B$14","v":2007},12.92221179737064,13.591052274186643,null,75.633645238090949,null,null,null,102.14690930964824,null,{"$f":"+$B$14","v":2007},12.92221179737064,13.591052274186643,null,75.633645238090949,null,null,null,102.14690930964824,null,{"$f":"+$B$14","v":2007},12.92221179737064,13.591052274186643,null,75.633645238090949,null,null,null,102.14690930964824]
[null,{"$f":"+$B$15","v":2008},11.034540921680033,12.718886366547132,null,64.585116427619809,null,null,null,88.338543715846981,null,{"$f":"+$B$15","v":2008},11.034540921680033,12.718886366547132,null,64.585116427619809,null,null,null,88.338543715846981,null,{"$f":"+$B$15","v":2008},11.034540921680033,12.718886366547132,null,64.585116427619809,null,null,null,88.338543715846981]
[null,{"$f":"+$B$16","v":2009},8.2709835260273987,12.037330112328766,null,78.946131408219188,null,null,null,99.254445046575356,null,{"$f":"+$B$16","v":2009},8.2709835260273987,12.037330112328766,null,78.946131408219188,null,null,null,99.254445046575356,null,{"$f":"+$B$16","v":2009},8.2709835260273987,12.037330112328766,null,78.946131408219188,null,null,null,99.254445046575356]
[null,{"$f":"+$B$17","v":2010},13.130216331506849,11.763190610958906,null,85.400463068493153,null,null,null,110.29387001095891,null,{"$f":"+$B$17","v":2010},13.130216331506849,11.763190610958906,null,85.400463068493153,null,null,null,110.29387001095891,null,{"$f":"+$B$17","v":2010},13.130216331506849,11.763190610958906,null,85.400463068493153,null,null,null,110.29387001095891]
[null,{"$f":"+$B$18","v":2011},28.970550509589046,14.171836090410958,null,95.413967147945186,null,null,null,138.5563537479452,null,{"$f":"+$B$18","v":2011},28.970550509589046,14.171836090410958,null,95.413967147945186,null,null,null,138.5563537479452,null,{"$f":"+$B$18","v":2011},28.970550509589046,14.171836090410958,null,95.413967147945186,null,null,null,138.5563537479452]
[null,{"$f":"+$B$19","v":2012},31.255686360655744,13.753845743169396,null,97.262057308743167,null,null,null,142.27158941256829,null,{"$f":"+$B$19","v":2012},31.255686360655744,13.753845743169396,null,97.262057308743167,null,null,null,142.27158941256829,null,{"$f":"+$B$19","v":2012},31.255686360655744,13.753845743169396,null,97.262057308743167,null,null,null,142.27158941256829]
[null,{"$f":"+$B$20","v":2013},37.210251695205471,13.797976109482191,null,98.398561643978084,null,null,null,149.40678944866573,null,{"$f":"+$B$20","v":2013},37.210251695205471,13.797976109482191,null,98.398561643978084,null,null,null,149.40678944866573,null,{"$f":"+$B$20","v":2013},37.210251695205471,13.797976109482191,null,98.398561643978084,null,null,null,149.40678944866573]
[null,{"$f":"+$B$21","v":2014},46.946475213164383,4.0764243287534256,null,102.88484109584108,null,null,null,153.90774063775888,null,{"$f":"+$B$21","v":2014},46.946475213164383,4.0764243287534256,null,102.88484109584108,null,null,null,126.77964076689317,null,{"$f":"+$B$21","v":2014},46.946475213164383,4.0764243287534256,null,102.88484109584108,null,null,null,153.90774063775888]
[null,{"$f":"+$B$22","v":2015},47.732311083975858,10.991008712361642,null,104.18892602745207,null,null,null,162.91224582378956,null,{"$f":"+$B$22","v":2015},47.732311083975858,10.991008712361642,null,104.18892602745207,null,null,null,162.90919954976218,null,{"$f":"+$B$22","v":2015},47.732311083975858,10.991008712361642,null,104.18892602745207,null,null,null,162.90919954976218]
[null,{"$f":"+$B$23","v":2016},46.37924258143989,57.493721639319673,null,102.42356830600822,null,null,null,206.29653252676781,null,{"$f":"+$B$23","v":2016},46.37924258143989,57.493721639319673,null,102.42356830600822,null,null,null,206.29653252676781,null,{"$f":"+$B$23","v":2016},46.37924258143989,57.493721639319673,null,102.42356830600822,null,null,null,235.49097234864752]
[null,{"$f":"+$B$24","v":2017},51.528832801284928,70.522769726082188,null,99.687841095830152,null,null,null,221.73944362319727,null,{"$f":"+$B$24","v":2017},51.528832801284928,70.522769726082188,null,99.687841095830152,null,null,null,221.73944362319727,null,{"$f":"+$B$24","v":2017},51.528832801284928,70.522769726082188,null,99.687841095830152,null,null,null,221.73944362319727]
[null,{"$f":"+$B$25","v":2018},56.196828493150669,72.087416830993249,null,104.183510367647,null,null,null,232.46775569179098,null,{"$f":"+$B$25","v":2018},56.196828493150669,72.087416830993249,null,104.183510367647,null,null,null,232.46775569179098,null,{"$f":"+$B$25","v":2018},50.577145643835621,64.878675147893915,null,93.765159330882312,null,null,null,209.22098012261185]
[null,{"$f":"+$B$26","v":2019},62.274681981917361,72.845025624369214,null,104.8996876712329,null,null,null,240.01939527751944,null,{"$f":"+$B$26","v":2019},62.274681981917361,72.845025624369214,null,104.8996876712329,null,null,null,240.01939527751944,null,{"$f":"+$B$26","v":2019},56.047213783725631,65.560523061932287,null,94.409718904109596,null,null,null,216.01745574976755]
[null,{"$f":"+$B$27","v":2020},92.925042278876361,74.834579262765118,null,106.09899999999999,null,null,null,273.85862154164147,null,{"$f":"+$B$27","v":2020},92.925042278876361,74.834579262765118,null,106.09899999999999,null,null,null,273.85862154164147,null,{"$f":"+$B$27","v":2020},83.632538050988728,67.351121336488603,null,95.489100000000008,null,null,null,246.47275938747731]
[null,{"$f":"+$B$28","v":2021},105.57780062757003,73.173897045293188,null,106.099,null,null,null,284.85069767286319,null,{"$f":"+$B$28","v":2021},105.57780062757003,73.173897045293188,null,106.099,null,null,null,284.85069767286319,null,{"$f":"+$B$28","v":2021},95.020020564813009,65.856507340763869,null,95.489100000000008,null,null,null,256.3656279055769]
[null,{"$f":"+$B$29","v":2022},115.21283924267354,68.086842943361574,null,106.099,null,null,null,289.3986821860351,null,{"$f":"+$B$29","v":2022},115.21283924267354,68.086842943361574,null,106.099,null,null,null,289.3986821860351,null,{"$f":"+$B$29","v":2022},103.69155531840617,61.278158649025414,null,95.489100000000008,null,null,null,260.45881396743158]
[null,{"$f":"+$B$30","v":2023},117.07228365801181,65.71246337749956,null,106.099,null,null,null,288.88374703551136,null,{"$f":"+$B$30","v":2023},117.07228365801181,65.71246337749956,null,106.099,null,null,null,288.88374703551136,null,{"$f":"+$B$30","v":2023},105.36505529221063,59.141217039749606,null,95.489100000000008,null,null,null,259.9953723319602]
[null,{"$f":"+$B$31","v":2024},103.53460190305061,78.848982409006126,null,106.09900000000002,null,null,null,288.48258431205676,null,{"$f":"+$B$31","v":2024},103.53460190305061,78.848982409006126,null,106.09900000000002,null,null,null,288.48258431205676,null,{"$f":"+$B$31","v":2024},93.181141712745571,70.964084168105501,null,95.489100000000008,null,null,null,259.63432588085107]
[null,{"$f":"+$B$32","v":2025},99.539705564804919,78.892643091546446,null,106.099,null,null,null,284.53134865635138,null,{"$f":"+$B$32","v":2025},99.539705564804919,78.892643091546446,null,106.099,null,null,null,284.53134865635138,null,{"$f":"+$B$32","v":2025},89.58573500832442,71.003378782391792,null,95.489100000000008,null,null,null,256.07821379071618]
[null,{"$f":"+$B$33","v":2026},99.502287123440979,74.82594367671885,null,106.099,null,null,null,280.42723080015986,null,{"$f":"+$B$33","v":2026},99.502287123440979,74.82594367671885,null,106.099,null,null,null,280.42723080015986,null,{"$f":"+$B$33","v":2026},89.552058411096851,67.343349309046971,null,95.489100000000008,null,null,null,252.38450772014386]
[null,{"$f":"+$B$34","v":2027},94.376374590245064,74.413580648820258,null,106.099,null,null,null,274.88895523906524,null,{"$f":"+$B$34","v":2027},94.376374590245064,74.413580648820258,null,106.099,null,null,null,274.88895523906524,null,{"$f":"+$B$34","v":2027},84.938737131220577,66.972222583938233,null,95.489100000000008,null,null,null,247.40005971515876]
[null,{"$f":"+$B$35","v":2028},89.984852398464241,72,null,106.09900000000002,null,null,null,268.08385239846422,null,{"$f":"+$B$35","v":2028},89.984852398464241,72,null,106.09900000000002,null,null,null,268.08385239846422,null,{"$f":"+$B$35","v":2028},80.98636715861781,64.799999999999983,null,95.489100000000008,null,null,null,241.27546715861777]
[null,{"$f":"+$B$36","v":2029},89.984852398464241,72,null,106.099,null,null,null,268.08385239846422,null,{"$f":"+$B$36","v":2029},89.984852398464241,72,null,106.099,null,null,null,268.08385239846422,null,{"$f":"+$B$36","v":2029},80.98636715861781,64.799999999999983,null,95.489100000000008,null,null,null,241.2754671586178]
[null,{"$f":"+$B$37","v":2030},89.984852398464241,72,null,106.099,null,null,null,268.08385239846422,null,{"$f":"+$B$37","v":2030},89.984852398464241,72,null,106.099,null,null,null,268.08385239846422,null,{"$f":"+$B$37","v":2030},80.98636715861781,64.799999999999983,null,95.489100000000008,null,null,null,241.27546715861783]
[null,{"$f":"+$B$38","v":2031},89.984852398464241,72,null,106.099,null,null,null,268.08385239846422,null,{"$f":"+$B$38","v":2031},89.984852398464241,72,null,106.099,null,null,null,268.08385239846422,null,{"$f":"+$B$38","v":2031},80.98636715861781,64.799999999999983,null,95.489100000000008,null,null,null,241.27546715861783]
[null,{"$f":"+$B$39","v":2032},89.984852398464241,72,null,106.09900000000002,null,null,null,268.08385239846427,null,{"$f":"+$B$39","v":2032},89.984852398464241,72,null,106.09900000000002,null,null,null,268.08385239846427,null,{"$f":"+$B$39","v":2032},80.98636715861781,64.799999999999983,null,95.489100000000008,null,null,null,241.27546715861783]
[]
[]
[null,null,"TRANSPORTE MEDIO",null,null,null,null,null,null,null,null,null,"TRANSPORTE ALTO",null,null,null,null,null,null,null,null,null,"TRANSPORTE BAJO"]
[null,null,"CENTRO","COSTA","CQR","NORESTE","NOROESTE","SUROESTE","TOLIMA GRANDE","TOTAL",null,null,"CENTRO","COSTA","CQR","NORESTE","NOROESTE","SUROESTE","TOLIMA GRANDE","TOTAL",null,null,"CENTRO","COSTA","CQR","NORESTE","NOROESTE","SUROESTE","TOLIMA GRANDE","TOTAL"]
[null,{"$f":"+$B$5","v":1998},0.16891553378699228,5.6686666666666667,3.6450140223292467E-2,1.266287661224628E-2,3.4676458398500143E-2,8.3851249899814531E-2,2.7357896330297119E-2,6.0325808219178096,null,{"$f":"+$B$5","v":1998},0.16891553378699228,5.6686666666666667,3.6450140223292467E-2,1.266287661224628E-2,3.4676458398500143E-2,8.3851249899814531E-2,2.7357896330297119E-2,6.0325808219178096,null,{"$f":"+$B$5","v":1998},0.16891553378699228,5.6686666666666667,3.6450140223292467E-2,1.266287661224628E-2,3.4676458398500143E-2,8.3851249899814531E-2,2.7357896330297119E-2,6.0325808219178096]
[null,{"$f":"+$B$6","v":1999},0.26463211789150543,5.7294999999999989,5.7104740981939447E-2,1.983834039043007E-2,5.4325996083602522E-2,0.13136585695439795,4.2860344958400069E-2,6.2996273972602745,null,{"$f":"+$B$6","v":1999},0.26463211789150543,5.7294999999999989,5.7104740981939447E-2,1.983834039043007E-2,5.4325996083602522E-2,0.13136585695439795,4.2860344958400069E-2,6.2996273972602745,null,{"$f":"+$B$6","v":1999},0.26463211789150543,5.7294999999999989,5.7104740981939447E-2,1.983834039043007E-2,5.4325996083602522E-2,0.13136585695439795,4.2860344958400069E-2,6.2996273972602745]
[null,{"$f":"+$B$7","v":2000},0.31125245049448785,6.4647499999999987,6.7164903138358614E-2,2.333326774339866E-2,6.3896625781106706E-2,0.15450862583931729,5.0411066894043517E-2,7.1353169398907115,null,{"$f":"+$B$7","v":2000},0.31125245049448785,6.4647499999999987,6.7164903138358614E-2,2.333326774339866E-2,6.3896625781106706E-2,0.15450862583931729,5.0411066894043517E-2,7.1353169398907115,null,{"$f":"+$B$7","v":2000},0.31125245049448785,6.4647499999999987,6.7164903138358614E-2,2.333326774339866E-2,6.3896625781106706E-2,0.15450862583931729,5.0411066894043517E-2,7.1353169398907115]
[null,{"$f":"+$B$8","v":2001},0.63027730047498765,7.2103333333333337,0.13600700579049219,4.724919910254604E-2,0.12938883771933432,0.31287554343553492,0.10208096709138824,8.5682121869476173,null,{"$f":"+$B$8","v":2001},0.63027730047498765,7.2103333333333337,0.13600700579049219,4.724919910254604E-2,0.12938883771933432,0.31287554343553492,0.10208096709138824,8.5682121869476173,null,{"$f":"+$B$8","v":2001},0.63027730047498765,7.2103333333333337,0.13600700579049219,4.724919910254604E-2,0.12938883771933432,0.31287554343553492,0.10208096709138824,8.5682121869476173]
[null,{"$f":"+$B$9","v":2002},1.3654591832831986,7.4907306942652339,0.29465128270925034,0.10236264699478589,0.28031340577402863,0.67782670213065455,0.22115248930640746,10.43249640446356,null,{"$f":"+$B$9","v":2002},1.3654591832831986,7.4907306942652339,0.29465128270925034,0.10236264699478589,0.28031340577402863,0.67782670213065455,0.22115248930640746,10.43249640446356,null,{"$f":"+$B$9","v":2002},1.3654591832831986,7.4907306942652339,0.29465128270925034,0.10236264699478589,0.28031340577402863,0.67782670213065455,0.22115248930640746,10.43249640446356]
[null,{"$f":"+$B$10","v":2003},2.1717155716760237,8.4671656833333309,0.4686326670969243,0.1628042472145039,0.44582877007370769,1.0780599097627097,0.35173538002565796,13.145942229182859,null,{"$f":"+$B$10","v":2003},2.1717155716760237,8.4671656833333309,0.4686326670969243,0.1628042472145039,0.44582877007370769,1.0780599097627097,0.35173538002565796,13.145942229182859,null,{"$f":"+$B$10","v":2003},2.1717155716760237,8.4671656833333309,0.4686326670969243,0.1628042472145039,0.44582877007370769,1.0780599097627097,0.35173538002565796,13.145942229182859]
[null,{"$f":"+$B$11","v":2004},5.1187040264479133,8.9301026204427085,1.10456081416904,0.38372739349866447,1.050812339445272,2.5409725255115823,0.82903550053381958,19.957915220049003,null,{"$f":"+$B$11","v":2004},5.1187040264479133,8.9301026204427085,1.10456081416904,0.38372739349866447,1.050812339445272,2.5409725255115823,0.82903550053381958,19.957915220049003,null,{"$f":"+$B$11","v":2004},5.1187040264479133,8.9301026204427085,1.10456081416904,0.38372739349866447,1.050812339445272,2.5409725255115823,0.82903550053381958,19.957915220049003]
[null,{"$f":"+$B$12","v":2005},8.6920429746887429,13.279533473256031,1.8756486046678007,0.65160536292430415,1.7843786172434326,4.3148113809925919,1.4077805946485074,32.005801008421415,null,{"$f":"+$B$12","v":2005},8.6920429746887429,13.279533473256031,1.8756486046678007,0.65160536292430415,1.7843786172434326,4.3148113809925919,1.4077805946485074,32.005801008421415,null,{"$f":"+$B$12","v":2005},8.6920429746887429,13.279533473256031,1.8756486046678007,0.65160536292430415,1.7843786172434326,4.3148113809925919,1.4077805946485074,32.005801008421415]
[null,{"$f":"+$B$13","v":2006},16.01037393554218,15.292933100372792,3.4548650552990119,1.2002293993715971,3.2867496154637994,7.9476992776256177,2.5930720551148267,49.785922438789832,null,{"$f":"+$B$13","v":2006},16.01037393554218,15.292933100372792,3.4548650552990119,1.2002293993715971,3.2867496154637994,7.9476992776256177,2.5930720551148267,49.785922438789832,null,{"$f":"+$B$13","v":2006},16.01037393554218,15.292933100372792,3.4548650552990119,1.2002293993715971,3.2867496154637994,7.9476992776256177,2.5930720551148267,49.785922438789832]
[null,{"$f":"+$B$14","v":2007},24.31060542256925,17.902370012455638,5.2459649903081988,1.8224623273736225,4.9906937430700173,12.068011773708271,3.9373940807368482,70.277502350221852,null,{"$f":"+$B$14","v":2007},24.31060542256925,17.902370012455638,5.2459649903081988,1.8224623273736225,4.9906937430700173,12.068011773708271,3.9373940807368482,70.277502350221852,null,{"$f":"+$B$14","v":2007},24.31060542256925,17.902370012455638,5.2459649903081988,1.8224623273736225,4.9906937430700173,12.068011773708271,3.9373940807368482,70.277502350221852]
[null,{"$f":"+$B$15","v":2008},30.216326590020373,18.489829507354802,6.5203555679368668,2.2651890368310772,6.2030718458116301,14.999666964609977,4.8938964451582958,83.588335957723032,null,{"$f":"+$B$15","v":2008},30.216326590020373,18.489829507354802,6.5203555679368668,2.2651890368310772,6.2030718458116301,14.999666964609977,4.8938964451582958,83.588335957723032,null,{"$f":"+$B$15","v":2008},30.216326590020373,18.489829507354802,6.5203555679368668,2.2651890368310772,6.2030718458116301,14.999666964609977,4.8938964451582958,83.588335957723032]
[null,{"$f":"+$B$16","v":2009},29.065802364383558,17.708270071232874,6.0488637808219172,3.0311484876712327,6.0806677013698627,15.344909736986301,3.7850166082191783,81.064678750684948,null,{"$f":"+$B$16","v":2009},29.065802364383558,17.708270071232874,6.0488637808219172,3.0311484876712327,6.0806677013698627,15.344909736986301,3.7850166082191783,81.064678750684948,null,{"$f":"+$B$16","v":2009},29.065802364383558,17.708270071232874,6.0488637808219172,3.0311484876712327,6.0806677013698627,15.344909736986301,3.7850166082191783,81.064678750684948]
[null,{"$f":"+$B$17","v":2010},27.250603772602737,16.554734424657536,5.655330961643835,2.4450825068493152,5.4801567753424649,14.50961433150685,4.3921316547945208,76.287654427397271,null,{"$f":"+$B$17","v":2010},27.250603772602737,16.554734424657536,5.655330961643835,2.4450825068493152,5.4801567753424649,14.50961433150685,4.3921316547945208,76.287654427397271,null,{"$f":"+$B$17","v":2010},27.250603772602737,16.554734424657536,5.655330961643835,2.4450825068493152,5.4801567753424649,14.50961433150685,4.3921316547945208,76.287654427397271]
[null,{"$f":"+$B$18","v":2011},27.500999641095888,16.401015547945203,5.6272568328767134,2.3070138191780822,5.8847659369863008,14.396198389041096,4.3500414246575341,76.467291591780821,null,{"$f":"+$B$18","v":2011},27.500999641095888,16.401015547945203,5.6272568328767134,2.3070138191780822,5.8847659369863008,14.396198389041096,4.3500414246575341,76.467291591780821,null,{"$f":"+$B$18","v":2011},27.500999641095888,16.401015547945203,5.6272568328767134,2.3070138191780822,5.8847659369863008,14.396198389041096,4.3500414246575341,76.467291591780821]
[null,{"$f":"+$B$19","v":2012},29.248114838797811,16.497759491803279,6.0837349699453549,1.9353607049180332,6.5746558743169405,11.797257300546448,4.4435189781420767,76.580402158469937,null,{"$f":"+$B$19","v":2012},29.248114838797811,16.497759491803279,6.0837349699453549,1.9353607049180332,6.5746558743169405,11.797257300546448,4.4435189781420767,76.580402158469937,null,{"$f":"+$B$19","v":2012},29.248114838797811,16.497759491803279,6.0837349699453549,1.9353607049180332,6.5746558743169405,11.797257300546448,4.4435189781420767,76.580402158469937]
[null,{"$f":"+$B$20","v":2013},30.007530477580829,20.017102149778083,7.3945106766054804,1.8524779184383564,7.3463440356301373,12.44833112761096,5.7551301597890401,84.821426545432885,null,{"$f":"+$B$20","v":2013},30.007530477580829,20.017102149778083,7.3945106766054804,1.8524779184383564,7.3463440356301373,12.44833112761096,5.7551301597890401,84.821426545432885,null,{"$f":"+$B$20","v":2013},30.007530477580829,20.017102149778083,7.3945106766054804,1.8524779184383564,7.3463440356301373,12.44833112761096,5.7551301597890401,84.821426545432885]
[null,{"$f":"+$B$21","v":2014},32.06282926075616,19.121352246378084,7.0247409942164376,1.8365811196383564,8.0660916952273958,15.778170878156166,4.7840314530054791,88.67379764737808,null,{"$f":"+$B$21","v":2014},32.06282926075616,19.121352246378084,7.0247409942164376,1.8365811196383564,8.0660916952273958,15.778170878156166,4.7840314530054791,88.67379764737808,null,{"$f":"+$B$21","v":2014},32.06282926075616,19.121352246378084,7.0247409942164376,1.8365811196383564,8.0660916952273958,15.778170878156166,4.7840314530054791,88.67379764737808]
[null,{"$f":"+$B$22","v":2015},32.884884906684945,17.730651375153425,6.3572939594383548,2.0084829774219184,7.3872532737917753,12.994182551649313,3.4989787675123303,82.861727811652059,null,{"$f":"+$B$22","v":2015},32.884884906684945,17.730651375153425,6.3572939594383548,2.0084829774219184,7.3872532737917753,12.994182551649313,3.4989787675123303,82.861727811652059,null,{"$f":"+$B$22","v":2015},32.884884906684945,17.730651375153425,6.3572939594383548,2.0084829774219184,7.3872532737917753,12.994182551649313,3.4989787675123303,82.861727811652059]
[null,{"$f":"+$B$23","v":2016},29.683132644907094,13.696633329827867,5.8117730139262314,1.50804452986612,7.4293675529808736,12.289080310644811,3.0705816337568281,73.48861301590982,null,{"$f":"+$B$23","v":2016},29.683132644907094,13.696633329827867,5.8117730139262314,1.50804452986612,7.4293675529808736,12.289080310644811,3.0705816337568281,73.48861301590982,null,{"$f":"+$B$23","v":2016},29.683132644907094,13.696633329827867,5.8117730139262314,1.50804452986612,7.4293675529808736,12.289080310644811,3.0705816337568281,73.48861301590982]
[null,{"$f":"+$B$24","v":2017},27.079238835391799,12.614414845010957,5.098064116695892,1.8209679925972606,5.453810402424657,10.211993758150681,2.6895800520000002,64.968070002271261,null,{"$f":"+$B$24","v":2017},27.079238835391799,12.614414845010957,5.098064116695892,1.8209679925972606,5.453810402424657,10.211993758150681,2.6895800520000002,64.968070002271261,null,{"$f":"+$B$24","v":2017},27.079238835391799,12.614414845010957,5.098064116695892,1.8209679925972606,5.453810402424657,10.211993758150681,2.6895800520000002,64.968070002271261]
[null,{"$f":"+$B$25","v":2018},29.760219511966234,17.394773736372059,6.3307518775994618,1.9807085812133278,6.9183107702568636,13.095117418272816,4.2065659528961623,79.686447848576918,null,{"$f":"+$B$25","v":2018},31.082895934720288,18.167874791321925,6.6121186277149926,2.0687400737116977,7.2257912489349456,13.677122636862723,4.3935244396915465,83.228067752958111,null,{"$f":"+$B$25","v":2018},28.768212194900698,16.814947945159656,6.1197268150128128,1.9146849618395501,6.6877004112483007,12.658613504330392,4.0663470877996231,77.030232920291041]
[null,{"$f":"+$B$26","v":2019},30.474826093428074,18.111023561120373,6.5606041766226975,2.7881889980712953,7.1474295760228586,13.572384368191063,4.4118060034064523,83.066262776862828,null,{"$f":"+$B$26","v":2019},31.457884999667684,18.695250127608126,6.7722365694169762,2.9084973182235672,7.3779918204106911,14.010203218777868,4.554122326096981,85.776186380201906,null,{"$f":"+$B$26","v":2019},29.164080885108575,17.33205480580337,6.2784276528969887,2.6456807962193314,6.8400132501724116,12.98862590074198,4.2220509064857437,79.470934197428392]
[null,{"$f":"+$B$27","v":2020},30.402348137734254,17.653468516837449,6.4141227141336712,3.5186229879299669,7.0414748696407354,13.498380595392462,4.3868399790989949,82.91525780076752,null,{"$f":"+$B$27","v":2020},31.724189361114004,18.421010626265158,6.6929976147481778,3.6619239668062069,7.3476259509294604,14.085266708235608,4.577572152103297,86.510586380201914,null,{"$f":"+$B$27","v":2020},29.410967220199435,17.077811934766661,6.2049665386727906,3.3977200850094871,6.8118615586741882,13.058216010760097,4.243790849345765,80.205334197428428]
[null,{"$f":"+$B$28","v":2021},30.457107641086065,17.603263977905957,6.3958242517431678,4.2362155135525139,7.0190330713279518,13.563791592373558,4.3636217527783003,83.638857800767511,null,{"$f":"+$B$28","v":2021},31.781329712437628,18.368623281293171,6.6739035670363478,4.3792552978906034,7.3242084222552526,14.15352166160719,4.5533444376817052,87.234186380201891,null,{"$f":"+$B$28","v":2021},29.463941087572387,17.029244500365547,6.1872647652732828,4.1155085065356474,6.7901515581324769,13.121494040448333,4.2213297391007476,80.928934197428418]
[null,{"$f":"+$B$29","v":2022},30.452599860502716,17.598235065234537,6.3938224065443512,4.2552635780022223,7.0144974973189571,13.587402839581708,4.3586365535830351,83.660457800767531,null,{"$f":"+$B$29","v":2022},31.776625941394137,18.363375720244729,6.6718146850897568,4.3981924086207345,7.3194756493763036,14.17815948478091,4.5481424906953407,87.255786380201911,null,{"$f":"+$B$29","v":2022},29.459580299834155,17.024379573976887,6.185328197635295,4.1346397862750388,6.7857638832759486,13.144335355682299,4.2165071007488057,80.950534197428425]
[null,{"$f":"+$B$30","v":2023},30.446716127015375,17.597215819518016,6.3934196137084482,4.2543893942145239,7.0120470912557575,13.599838723003741,4.3568310320516526,83.660457800767517,null,{"$f":"+$B$30","v":2023},31.770486393407346,18.362312159497058,6.6713943795218578,4.3972802168422653,7.3169187039190495,14.191136058786512,4.5462584682278102,87.255786380201883,null,{"$f":"+$B$30","v":2023},29.453888427221404,17.023393564533734,6.1849385393483889,4.1337941084804166,6.7833933817582865,13.156365721166663,4.2147604549195323,80.950534197428411]
[null,{"$f":"+$B$31","v":2024},30.621707777205437,17.900481264848995,6.4863466899262221,4.2689287479383182,7.0988761717455713,13.762606095686461,4.4069160295118328,84.545862776862847,null,{"$f":"+$B$31","v":2024},31.609504802276579,18.47791614436025,6.6955836799238417,4.3892738342153326,7.327872177285748,14.206561131031183,4.5490746111089875,87.255786380201911,null,{"$f":"+$B$31","v":2024},29.304645077110585,17.130568092167319,6.2073640365960623,4.1263715245866983,6.7935481643586639,13.170666048560161,4.2173712540489587,80.950534197428439]
[null,{"$f":"+$B$32","v":2025},30.704757448864292,17.812642168832095,6.4625980318870608,4.2760040761184346,7.0931292548906102,13.77696654564221,4.4197652506281182,84.545862776862819,null,{"$f":"+$B$32","v":2025},32.025392177847699,18.578777315878629,6.7405592375596237,4.4188656146605982,7.3982100830579478,14.369524246530046,4.609862680762661,88.141191356297213,null,{"$f":"+$B$32","v":2025},29.714281402126723,17.238040808547186,6.2541271276326391,4.1554307534485133,6.864318633765107,13.33254826997633,4.2771921780272111,81.835939173523712]
[null,{"$f":"+$B$33","v":2026},30.921741769629005,18.08585880518558,6.5473898154269046,4.289832606351645,7.1707173052133788,13.953605670076383,4.4621217810752185,85.431267752958121,null,{"$f":"+$B$33","v":2026},31.908605868659716,18.663067064925542,6.7563490648554216,4.4101359390543626,7.3995699851669974,14.398933510610732,4.6045299230244261,88.141191356297199,null,{"$f":"+$B$33","v":2026},29.605922970921384,17.316247792198958,6.2687774828555458,4.1473310544324189,6.8655803986085528,13.359835216030579,4.2722442584762721,81.835939173523712]
[null,{"$f":"+$B$34","v":2027},31.175303734947928,18.311144398997119,6.6191118314174053,4.3099096237860692,7.2512740515638745,14.128755279666047,4.5211738086749937,86.316672729053437,null,{"$f":"+$B$34","v":2027},32.159787010788371,18.889391064228597,6.8281364155674256,4.4301459711693525,7.4802616531922057,14.574926499023919,4.6639477184226248,89.026596332392486,null,{"$f":"+$B$34","v":2027},29.862659367160646,17.54014884535513,6.3404123858840391,4.1674973856260884,6.9459572493927624,13.533860320522212,4.3308085956781515,82.721344149619028]
[null,{"$f":"+$B$35","v":2028},31.414297580558912,18.543256284552751,6.6904612494033859,4.3281140459450853,7.3293774215389931,14.317978471091875,4.5785926520577416,87.202077705148739,null,{"$f":"+$B$35","v":2028},32.395994379951368,19.122733043445013,6.8995381634472386,4.4482262849340657,7.5584204659620813,14.765415298313489,4.7216736724345427,89.912001308487802,null,{"$f":"+$B$35","v":2028},30.105368514702292,17.770620606029713,6.4116920306782434,4.185867285644175,7.0239866956415344,13.721396034796378,4.3878179582220014,83.606749125714344]
[null,{"$f":"+$B$36","v":2029},31.091567947183961,17.876116754784288,6.4808301854853383,4.299775603684532,7.1464082110674862,14.053377352983915,4.4831916977686266,85.431267752958149,null,{"$f":"+$B$36","v":2029},32.414613391744965,18.636802574136802,6.7566101933783287,4.4427002618732407,7.4505106881341838,14.651393410557693,4.6739658125672898,89.026596332392501,null,{"$f":"+$B$36","v":2029},29.768522502622936,17.115430935431768,6.2050501775923452,4.1568509454958207,6.8423057340007851,13.455361295410128,4.2924175829699607,81.835939173523741]
[null,{"$f":"+$B$37","v":2030},30.602239911664178,17.396194509372364,6.32588827330662,4.2557295105034125,6.9739238942101069,13.751062683175308,4.3554190185355424,83.660457800767531,null,{"$f":"+$B$37","v":2030},31.932772081736523,18.152550792388546,6.6009268938851662,4.3986785990567592,7.2771379765670643,14.348934973748142,4.5447850628196944,87.255786380201897,null,{"$f":"+$B$37","v":2030},29.604340784109908,16.828927297110216,6.1196093078727083,4.1350905253251033,6.746513332442384,13.302658465245679,4.2133944853224268,80.950534197428425]
[null,{"$f":"+$B$38","v":2031},30.912870940958417,18.080739449367371,6.5426778791300872,4.281184727295078,7.1549153926952149,14.01787162916122,4.441007734350749,85.431267752958135,null,{"$f":"+$B$38","v":2031},32.228312257594936,18.850132617425555,6.8210897037739162,4.4233182843608319,7.4593798774907532,14.614376804870203,4.6299867868763105,89.026596332392515,null,{"$f":"+$B$38","v":2031},29.926289953481021,17.503694573323735,6.3338690106472129,4.1611573907324626,6.9265670290985604,13.570492747379479,4.2992734449565759,82.721344149619057,null,null,8.727191063367524,9.4919503712426998,7.9666771721472776]
[null,{"$f":"+$B$39","v":2032},30.912870940958417,18.080739449367371,6.5426778791300872,4.281184727295078,7.1549153926952149,14.01787162916122,4.441007734350749,85.431267752958135,null,{"$f":"+$B$39","v":2032},32.228312257594936,18.850132617425555,6.8210897037739162,4.4233182843608319,7.4593798774907532,14.614376804870203,4.6299867868763105,89.026596332392515,null,{"$f":"+$B$39","v":2032},29.926289953481021,17.503694573323735,6.3338690106472129,4.1611573907324626,6.9265670290985604,13.570492747379479,4.2992734449565759,82.721344149619057]
[]
[]
[null,null,"TERMOELECTRICO MEDIO",null,null,null,null,null,null,null,null,null,"TERMOELECTRICO ALTO",null,null,null,null,null,null,null,null,null,"TERMOELECTRICO BAJO"]
[null,null,"CENTRO","COSTA","CQR","NORESTE","NOROESTE","SUROESTE","TOLIMA GRANDE","TOTAL",null,null,"CENTRO","COSTA","CQR","NORESTE","NOROESTE","SUROESTE","TOLIMA GRANDE","TOTAL",null,null,"CENTRO","COSTA","CQR","NORESTE","NOROESTE","SUROESTE","TOLIMA GRANDE","TOTAL"]
[null,{"$f":"+$B$5","v":1998},25.499299269406379,240.17308333333335,2.2311886860730583,36.017760218036507,null,null,null,303.9213315068493,null,{"$f":"+$B$5","v":1998},25.499299269406379,240.17308333333335,2.2311886860730583,36.017760218036507,null,null,null,303.9213315068493,null,{"$f":"+$B$5","v":1998},25.499299269406379,240.17308333333335,2.2311886860730583,36.017760218036507,null,null,null,303.9213315068493]
[null,{"$f":"+$B$6","v":1999},2.236311598173518,178.20333333333335,0.19567726484018283,3.1587901324200933,null,null,null,183.79411232876714,null,{"$f":"+$B$6","v":1999},2.236311598173518,178.20333333333335,0.19567726484018283,3.1587901324200933,null,null,null,183.79411232876714,null,{"$f":"+$B$6","v":1999},2.236311598173518,178.20333333333335,0.19567726484018283,3.1587901324200933,null,null,null,183.79411232876714]
[null,{"$f":"+$B$7","v":2000},11.181662841530045,215.36408333333335,0.97839549863387898,15.794098763661186,null,null,null,243.31824043715849,null,{"$f":"+$B$7","v":2000},11.181662841530045,215.36408333333335,0.97839549863387898,15.794098763661186,null,null,null,243.31824043715849,null,{"$f":"+$B$7","v":2000},11.181662841530045,215.36408333333335,0.97839549863387898,15.794098763661186,null,null,null,243.31824043715849]
[null,{"$f":"+$B$8","v":2001},1.7060534328947394,206.50891666666666,2.207833854334369,2.609258191486072,3.0106825286377759,4.5160237929566636,null,220.55876846697632,null,{"$f":"+$B$8","v":2001},1.7060534328947394,206.50891666666666,2.207833854334369,2.609258191486072,3.0106825286377759,4.5160237929566636,null,220.55876846697632,null,{"$f":"+$B$8","v":2001},1.7060534328947394,206.50891666666666,2.207833854334369,2.609258191486072,3.0106825286377759,4.5160237929566636,null,220.55876846697632]
[null,{"$f":"+$B$9","v":2002},1.6579881263074956,191.56891666666667,2.1456316928685237,2.5357465461173461,2.9258613993661688,4.3887920990492537,null,205.22293653037545,null,{"$f":"+$B$9","v":2002},1.6579881263074956,191.56891666666667,2.1456316928685237,2.5357465461173461,2.9258613993661688,4.3887920990492537,null,205.22293653037545,null,{"$f":"+$B$9","v":2002},1.6579881263074956,191.56891666666667,2.1456316928685237,2.5357465461173461,2.9258613993661688,4.3887920990492537,null,205.22293653037545]
[null,{"$f":"+$B$10","v":2003},0.78729794938191,168.90325000000001,9.841224367273875E-2,7.1840937881099283,3.7396652595640725,1.0825346804001263,null,181.79525392112879,null,{"$f":"+$B$10","v":2003},0.78729794938191,168.90325000000001,9.841224367273875E-2,7.1840937881099283,3.7396652595640725,1.0825346804001263,null,181.79525392112879,null,{"$f":"+$B$10","v":2003},0.78729794938191,168.90325000000001,9.841224367273875E-2,7.1840937881099283,3.7396652595640725,1.0825346804001263,null,181.79525392112879]
[null,{"$f":"+$B$11","v":2004},7.4070766597942326,160.18713421630861,0.1000956305377599,6.3060247238788731,8.9085111178606322,0.70066941376431924,null,183.60951176214442,null,{"$f":"+$B$11","v":2004},7.4070766597942326,160.18713421630861,0.1000956305377599,6.3060247238788731,8.9085111178606322,0.70066941376431924,null,183.60951176214442,null,{"$f":"+$B$11","v":2004},7.4070766597942326,160.18713421630861,0.1000956305377599,6.3060247238788731,8.9085111178606322,0.70066941376431924,null,183.60951176214442]
[null,{"$f":"+$B$12","v":2005},9.1612257048455721,155.4728084411621,1.2214967606460763,11.400636432696711,8.7540601179635473,1.4250795540870889,null,187.43530701140111,null,{"$f":"+$B$12","v":2005},9.1612257048455721,155.4728084411621,1.2214967606460763,11.400636432696711,8.7540601179635473,1.4250795540870889,null,187.43530701140111,null,{"$f":"+$B$12","v":2005},9.1612257048455721,155.4728084411621,1.2214967606460763,11.400636432696711,8.7540601179635473,1.4250795540870889,null,187.43530701140111]
[null,{"$f":"+$B$13","v":2006},13.974698440023641,158.45534713220596,0.29945782371479229,9.4828310843017558,2.2958433151467408,1.9963854914319488,null,186.50456328682483,null,{"$f":"+$B$13","v":2006},13.974698440023641,158.45534713220596,0.29945782371479229,9.4828310843017558,2.2958433151467408,1.9963854914319488,null,186.50456328682483,null,{"$f":"+$B$13","v":2006},13.974698440023641,158.45534713220596,0.29945782371479229,9.4828310843017558,2.2958433151467408,1.9963854914319488,null,186.50456328682483]
[null,{"$f":"+$B$14","v":2007},13.30356900441353,127.22421587117512,0.40010733847860236,11.002951808161566,7.8020931003327449,0.60016100771790348,null,160.33309813027944,null,{"$f":"+$B$14","v":2007},13.30356900441353,127.22421587117512,0.40010733847860236,11.002951808161566,7.8020931003327449,0.60016100771790348,null,160.33309813027944,null,{"$f":"+$B$14","v":2007},13.30356900441353,127.22421587117512,0.40010733847860236,11.002951808161566,7.8020931003327449,0.60016100771790348,null,160.33309813027944]
[null,{"$f":"+$B$15","v":2008},16.777493796102117,120.28071772066752,0.5109896587645314,1.3626390900387504,4.3434120994985168,1.2774741469113287,null,144.55272651198277,null,{"$f":"+$B$15","v":2008},16.777493796102117,120.28071772066752,0.5109896587645314,1.3626390900387504,4.3434120994985168,1.2774741469113287,null,144.55272651198277,null,{"$f":"+$B$15","v":2008},16.777493796102117,120.28071772066752,0.5109896587645314,1.3626390900387504,4.3434120994985168,1.2774741469113287,null,144.55272651198277]
[null,{"$f":"+$B$16","v":2009},10.730873928767124,202.40431868219179,0.90948752876712324,15.335241172602741,19.701394572602737,8.1785727068493159,null,257.25988859178085,null,{"$f":"+$B$16","v":2009},10.730873928767124,202.40431868219179,0.90948752876712324,15.335241172602741,19.701394572602737,8.1785727068493159,null,257.25988859178085,null,{"$f":"+$B$16","v":2009},10.730873928767124,202.40431868219179,0.90948752876712324,15.335241172602741,19.701394572602737,8.1785727068493159,null,257.25988859178085]
[null,{"$f":"+$B$17","v":2010},9.5703207095890406,228.72827959178085,0.47257815890410959,13.25388788219178,21.754909572602738,8.2208768273972606,null,282.00085274246578,null,{"$f":"+$B$17","v":2010},9.5703207095890406,228.72827959178085,0.47257815890410959,13.25388788219178,21.754909572602738,8.2208768273972606,null,282.00085274246578,null,{"$f":"+$B$17","v":2010},9.5703207095890406,228.72827959178085,0.47257815890410959,13.25388788219178,21.754909572602738,8.2208768273972606,null,282.00085274246578]
[null,{"$f":"+$B$18","v":2011},22.081923265753421,181.6052954410959,0.30723277808219174,10.737964290410957,1.2785481041095892,0.4231124328767123,null,216.43407631232876,null,{"$f":"+$B$18","v":2011},22.081923265753421,181.6052954410959,0.30723277808219174,10.737964290410957,1.2785481041095892,0.4231124328767123,null,216.43407631232876,null,{"$f":"+$B$18","v":2011},22.081923265753421,181.6052954410959,0.30723277808219174,10.737964290410957,1.2785481041095892,0.4231124328767123,null,216.43407631232876]
[null,{"$f":"+$B$19","v":2012},26.813109289617486,168.57336800273225,0.48910115846994551,15.222669497267759,13.557226887978139,1.7525218770491804,null,226.40799671311478,null,{"$f":"+$B$19","v":2012},26.813109289617486,168.57336800273225,0.48910115846994551,15.222669497267759,13.557226887978139,1.7525218770491804,null,226.40799671311478,null,{"$f":"+$B$19","v":2012},26.813109289617486,168.57336800273225,0.48910115846994551,15.222669497267759,13.557226887978139,1.7525218770491804,null,226.40799671311478]
[null,{"$f":"+$B$20","v":2013},36.133838356200002,196.45621717865205,0.61768493149315062,43.011821917871238,7.802917808315069,10.629402739761643,null,294.65188293229318,null,{"$f":"+$B$20","v":2013},36.133838356200002,196.45621717865205,0.61768493149315062,43.011821917871238,7.802917808315069,10.629402739761643,null,294.65188293229318,null,{"$f":"+$B$20","v":2013},36.133838356200002,196.45621717865205,0.61768493149315062,43.011821917871238,7.802917808315069,10.629402739761643,null,294.65188293229318]
[null,{"$f":"+$B$21","v":2014},44.154964383572604,218.69613745198629,1.455175342509589,54.244150684873972,8.4710657534000013,13.780230136961647,null,340.80172375330409,null,{"$f":"+$B$21","v":2014},44.154964383572604,218.69613745198629,1.455175342509589,54.244150684873972,8.4710657534000013,13.780230136961647,null,340.80172375330409,null,{"$f":"+$B$21","v":2014},44.154964383572604,218.69613745198629,1.455175342509589,54.244150684873972,8.4710657534000013,13.780230136961647,null,340.80172375330409]
[null,{"$f":"+$B$22","v":2015},39.229495890356162,195.34876879461373,0.70237534238082189,58.673049314854808,17.561668493232879,13.60054520556438,0.67364588582735208,325.78954892683015,null,{"$f":"+$B$22","v":2015},39.229495890356162,195.3487687946137,0.70237534238082189,58.673049314854794,17.561668493232876,13.600545205564384,0.67364588582735208,325.78954892683015,null,{"$f":"+$B$22","v":2015},39.229495890356162,195.3487687946137,0.70237534238082189,58.673049314854794,17.561668493232876,13.600545205564384,0.67364588582735208,325.78954892683015]
[null,{"$f":"+$B$23","v":2016},35.948554644759568,161.16637426255465,2.1831420764480876,35.52218579230874,12.534644808803279,22.949999999983607,0.52418708965846916,270.82908867451641,null,{"$f":"+$B$23","v":2016},35.948554644759568,161.16637426255465,2.1831420764480876,35.52218579230874,12.534644808803279,22.949999999983607,0.52418708965846916,270.82908867451641,null,{"$f":"+$B$23","v":2016},35.948554644759568,161.16637426255465,2.1831420764480876,35.52218579230874,12.534644808803279,22.949999999983607,0.52418708965846916,270.82908867451641]
[null,{"$f":"+$B$24","v":2017},31.738175342410962,141.13520339712326,4.4821917764383566E-2,2.128712328586301,0.22345205475342467,0.72241095888219187,0,175.99277599952052,null,{"$f":"+$B$24","v":2017},31.738175342410962,141.13520339712326,4.4821917764383566E-2,2.128712328586301,0.22345205475342467,0.72241095888219187,0,175.99277599952052,null,{"$f":"+$B$24","v":2017},31.738175342410962,141.13520339712326,4.4821917764383566E-2,2.128712328586301,0.22345205475342467,0.72241095888219187,0,175.99277599952052]
[null,{"$f":"+$B$25","v":2018},36.214567945205481,180.02601093150685,5.3416986301369859E-2,0.18692054794520549,13.073068493150686,1.8056227397260276,0,231.3596076438356,null,{"$f":"+$B$25","v":2018},67.023972602739732,265.50196276496797,0,0,55.260821917808208,14.54454794520548,0,402.33130523072134,null,{"$f":"+$B$25","v":2018},29.517643835616436,156.21439958904114,0,0,0,0,0,185.73204342465758]
[null,{"$f":"+$B$26","v":2019},33.553488767123291,58.051263760273983,3.6770958904109592E-2,0.12508630136986301,6.8841104109589049,1.2948438356164382,0,99.945564034246587,null,{"$f":"+$B$26","v":2019},46.136684931506849,135.89926111643837,0,0,27.403287671232878,16.92254794520548,0,226.36178166438359,null,{"$f":"+$B$26","v":2019},29.517643835616436,43.803658869863014,0,0,0,0,0,73.321302705479454]
[null,{"$f":"+$B$27","v":2020},31.485218579234967,61.495625136612027,3.9152459016393436E-2,0.12773497267759562,3.6253442622950813,0.61188442622950812,0,97.384959836065576,null,{"$f":"+$B$27","v":2020},46.719659836065567,127.81910825246719,0,0,31.531420765027324,0,0,206.07018885356007,null,{"$f":"+$B$27","v":2020},29.436994535519123,54.255533333333332,0,0,0,0,0,83.692527868852451]
[null,{"$f":"+$B$28","v":2021},32.997050136986303,76.505156410958918,7.6505479452054798E-2,0.1095972602739726,6.3217315068493161,1.168935890410959,0,117.17897668493153,null,{"$f":"+$B$28","v":2021},51.171534246575341,177.67303877859939,0.6677808219178083,0,40.300164383561643,11.13213698630137,0,280.94465521695554,null,{"$f":"+$B$28","v":2021},29.517643835616436,65.430318904109583,0,0,0,0,0,94.947962739726023]
[null,{"$f":"+$B$29","v":2022},32.263760273972601,82.080824109589031,7.4784383561643838E-2,0.12915342465753427,5.017839452054794,0.7848586301369862,0,120.35122027397257,null,{"$f":"+$B$29","v":2022},46.771479452054798,145.64972107463353,0,0,27.380273972602744,5.5507123287671236,0,225.35218682805819,null,{"$f":"+$B$29","v":2022},29.517643835616436,73.0727791780822,0,0,0,0,0,102.59042301369864]
[null,{"$f":"+$B$30","v":2023},30.699892739726025,88.272646410958913,2.2146578082191781E-2,0,2.146350684931507,0.56516109589041097,0,121.70619750958905,null,{"$f":"+$B$30","v":2023},40.558547945205476,125.21627177797932,0,0,18.167945205479452,1.1314246575342466,0,185.07418958619849,null,{"$f":"+$B$30","v":2023},29.517643835616436,84.638631561643848,0,0,0,0,0,114.15627539726029]
[null,{"$f":"+$B$31","v":2024},30.573254644808742,99.306760218579228,4.5837704918032782E-2,0.1299535519125683,2.1140191256830598,0.61677759562841539,0,132.78660284153003,null,{"$f":"+$B$31","v":2024},38.417868852459016,132.152324488972,0,0,13.437704918032786,3.7509289617486337,0,187.75882722121241,null,{"$f":"+$B$31","v":2024},29.436994535519123,94.5,0,0,0,0,0,123.93699453551912]
[null,{"$f":"+$B$32","v":2025},31.058992054794523,109.49016610958904,3.6649863013698623E-2,6.6178082191780827E-2,2.2762301369863009,0.34115731506849317,0,143.26937356164385,null,{"$f":"+$B$32","v":2025},45.685041095890412,143.99925474666694,0,0,18.167945205479452,0,0,207.85224104803677,null,{"$f":"+$B$32","v":2025},29.517643835616436,104.59999999999998,0,0,0,0,0,134.11764383561641]
[null,{"$f":"+$B$33","v":2026},30.949338082191773,118.98629369863013,9.6897260273972607E-2,0.1250994520547945,1.5218136986301369,0.50026876712328761,0,152.17971095890408,null,{"$f":"+$B$33","v":2026},38.624219178082193,151.16331591146002,0,0,13.626027397260273,0,0,203.4135624868025,null,{"$f":"+$B$33","v":2026},29.517643835616436,114.7,0,0,0,0,0,144.21764383561643]
[null,{"$f":"+$B$34","v":2027},30.210477534246575,126.85514164383559,8.1946849315068487E-2,6.2975342465753426E-2,0.8186410958904109,0.37038963835616445,0,158.39957210410955,null,{"$f":"+$B$34","v":2027},35.682060273972603,148.8156923633835,0.68890410958904102,0,8.9326027397260273,1.7518904109589042,0,195.87114989763009,null,{"$f":"+$B$34","v":2027},29.517643835616436,124.8,0,0,0,0,0,154.31764383561642]
[null,{"$f":"+$B$35","v":2028},30.648220491803276,137.96770043169397,0.14965382513661202,4.2021584699453551E-2,1.4340527322404371,0.43782568306010933,0,170.67947474863388,null,{"$f":"+$B$35","v":2028},40.949453551912569,166.07340988945032,0.66595628415300545,0,11.553743169398908,2.3140710382513663,0,221.55663393316615,null,{"$f":"+$B$35","v":2028},29.436994535519123,134.9,0,0,0,0,0,164.33699453551912]
[null,{"$f":"+$B$36","v":2029},30.975652876712331,148.6323522630137,0.27720520547945204,5.9772602739726025E-2,1.8472668493150683,0.67074054794520543,0,182.46299034520547,null,{"$f":"+$B$36","v":2029},39.488356164383561,180.53838861810837,2.2808219178082192,0,13.626027397260273,2.1962191780821918,0,238.12981327564265,null,{"$f":"+$B$36","v":2029},29.517643835616436,145,0,0,0,0,0,174.51764383561644]
[null,{"$f":"+$B$37","v":2030},31.502301369863012,160.32936602739727,0.36789726027397263,0.16224109589041097,2.4779917808219176,0.84603013698630147,0,195.68582767123289,null,{"$f":"+$B$37","v":2030},48.85109589041096,202.38975719874628,3.8267123287671234,0,26.314520547945204,0.12754794520547946,0,281.50963391107507,null,{"$f":"+$B$37","v":2030},29.517643835616436,155.10137449315064,0,0,0,0,0,184.61901832876708]
[null,{"$f":"+$B$38","v":2031},32.841350410958903,164.39923534246574,1.0175800000000004,0.51673698630136988,3.9815123287671237,1.8718605479452057,0,204.62827561643834,null,{"$f":"+$B$38","v":2031},48.562602739726032,235.68984080509344,6.6132558904109588,5.8026849315068496,21.296449589041099,21.523698630136984,0,339.48853258591544,null,{"$f":"+$B$38","v":2031},29.517643835616436,155.24899863013698,0,0,0,0,0,184.76664246575342]
[null,{"$f":"+$B$39","v":2032},32.751619945355188,164.37382759562843,1.0147997267759565,0.51532513661202184,3.9706338797814213,1.8667461748633882,0,204.49295245901638,null,{"$f":"+$B$39","v":2032},48.42991803278688,235.17273611752577,6.5951868852459015,5.7868306010928965,21.238262568306013,21.464890710382512,0,338.68782491534,null,{"$f":"+$B$39","v":2032},29.436994535519123,155.24859153005465,0,0,0,0,0,184.68558606557377]
[]
[]
[null,null,"REGIONES MEDIO",null,null,null,null,null,null,null,null,null,"REGIONES ALTO",null,null,null,null,null,null,null,null,null,"REGIONES BAJO"]
[null,null,"CENTRO","COSTA","CQR","NORESTE","NOROESTE","SUROESTE","TOLIMA GRANDE","TOTAL",null,null,"CENTRO","COSTA","CQR","NORESTE","NOROESTE","SUROESTE","TOLIMA GRANDE","TOTAL",null,null,"CENTRO","COSTA","CQR","NORESTE","NOROESTE","SUROESTE","TOLIMA GRANDE","TOTAL"]
[null,{"$f":"+$B$5","v":1998},83.492273643705488,342.91024460283484,9.7293417523820942,132.61152437519448,8.3027256280787469,18.933118285063308,13.104566755395386,607.06731780315931,null,{"$f":"+$B$5","v":1998},83.492273643705488,342.91024460283484,9.7293417523820942,132.61152437519448,8.3027256280787469,18.933118285063308,13.104566755395386,607.06731780315931,null,{"$f":"+$B$5","v":1998},83.492273643705488,342.91024460283484,9.7293417523820942,132.61152437519448,8.3027256280787469,18.933118285063308,13.104566755395386,607.06731780315931]
[null,{"$f":"+$B$6","v":1999},67.973850289377523,281.21795248827902,8.549068802244296,106.54040357379765,9.651017333010472,21.215960041441562,14.07754518016122,507.26125479610914,null,{"$f":"+$B$6","v":1999},67.973850289377523,281.21795248827902,8.549068802244296,106.54040357379765,9.651017333010472,21.215960041441562,14.07754518016122,507.26125479610914,null,{"$f":"+$B$6","v":1999},67.973850289377523,281.21795248827902,8.549068802244296,106.54040357379765,9.651017333010472,21.215960041441562,14.07754518016122,507.26125479610914]
[null,{"$f":"+$B$7","v":2000},80.432825886854218,324.22149691230459,9.7487046522730338,117.13379310356646,10.479409270185398,22.229250420096978,14.26186844552117,576.63127048885917,null,{"$f":"+$B$7","v":2000},80.432825886854218,324.22149691230459,9.7487046522730338,117.13379310356646,10.479409270185398,22.229250420096978,14.26186844552117,576.63127048885917,null,{"$f":"+$B$7","v":2000},80.432825886854218,324.22149691230459,9.7487046522730338,117.13379310356646,10.479409270185398,22.229250420096978,14.26186844552117,576.63127048885917]
[null,{"$f":"+$B$8","v":2001},91.356315490612076,324.31454005443379,13.608083153712997,92.434784378234369,18.646481255830938,33.274953901304471,16.309658553219148,589.0529894364621,null,{"$f":"+$B$8","v":2001},91.356315490612076,324.31454005443379,13.608083153712997,92.434784378234369,18.646481255830938,33.274953901304471,16.309658553219148,589.0529894364621,null,{"$f":"+$B$8","v":2001},91.356315490612076,324.31454005443379,13.608083153712997,92.434784378234369,18.646481255830938,33.274953901304471,16.309658553219148,589.0529894364621]
[null,{"$f":"+$B$9","v":2002},98.369386619330371,318.38327459836847,14.541801378833934,82.862396479702383,20.66276595812116,35.543350259293938,17.119154835491301,587.04351157601695,null,{"$f":"+$B$9","v":2002},98.369386619330371,318.38327459836847,14.541801378833934,82.862396479702383,20.66276595812116,35.543350259293938,17.119154835491301,587.04351157601695,null,{"$f":"+$B$9","v":2002},98.369386619330371,318.38327459836847,14.541801378833934,82.862396479702383,20.66276595812116,35.543350259293938,17.119154835491301,587.04351157601695]
[null,{"$f":"+$B$10","v":2003},100.58253831004305,296.55611864354233,13.083278529366691,84.16699217516171,22.267473523419806,33.323406461913834,17.988852243120821,567.7768141117931,null,{"$f":"+$B$10","v":2003},100.58253831004305,296.55611864354233,13.083278529366691,84.16699217516171,22.267473523419806,33.323406461913834,17.988852243120821,567.7768141117931,null,{"$f":"+$B$10","v":2003},100.58253831004305,296.55611864354233,13.083278529366691,84.16699217516171,22.267473523419806,33.323406461913834,17.988852243120821,567.7768141117931]
[null,{"$f":"+$B$11","v":2004},117.87813461992071,295.88287624889131,14.289331152861228,84.262623572877814,30.294235663809026,37.591598778026913,18.187468532066944,598.19874305107135,null,{"$f":"+$B$11","v":2004},117.87813461992071,295.88287624889131,14.289331152861228,84.262623572877814,30.294235663809026,37.591598778026913,18.187468532066944,598.19874305107135,null,{"$f":"+$B$11","v":2004},117.87813461992071,295.88287624889131,14.289331152861228,84.262623572877814,30.294235663809026,37.591598778026913,18.187468532066944,598.19874305107135]
[null,{"$f":"+$B$12","v":2005},128.34781488576544,302.98616614056107,16.515431883171711,92.189642758578188,32.142831323441712,41.292025759984028,18.743140415371386,632.16867221971097,null,{"$f":"+$B$12","v":2005},128.34781488576544,302.98616614056107,16.515431883171711,92.189642758578188,32.142831323441712,41.292025759984028,18.743140415371386,632.16867221971097,null,{"$f":"+$B$12","v":2005},128.34781488576544,302.98616614056107,16.515431883171711,92.189642758578188,32.142831323441712,41.292025759984028,18.743140415371386,632.16867221971097]
[null,{"$f":"+$B$13","v":2006},158.3705846549496,320.82406110141721,18.579842728817916,100.29672208414145,31.681096028571218,50.656428396107117,21.333639130999529,702.02197169598617,null,{"$f":"+$B$13","v":2006},158.3705846549496,320.82406110141721,18.579842728817916,100.29672208414145,31.681096028571218,50.656428396107117,21.333639130999529,702.02197169598617,null,{"$f":"+$B$13","v":2006},158.3705846549496,320.82406110141721,18.579842728817916,100.29672208414145,31.681096028571218,50.656428396107117,21.333639130999529,702.02197169598617]
[null,{"$f":"+$B$14","v":2007},178.87692939770426,304.18965460914842,21.000091464384521,110.1602954029064,42.491555320859582,57.134862815522141,22.317078746952429,736.3592909115996,null,{"$f":"+$B$14","v":2007},178.87692939770426,304.18965460914842,21.000091464384521,110.1602954029064,42.491555320859582,57.134862815522141,22.317078746952429,736.3592909115996,null,{"$f":"+$B$14","v":2007},178.87692939770426,304.18965460914842,21.000091464384521,110.1602954029064,42.491555320859582,57.134862815522141,22.317078746952429,736.3592909115996]
[null,{"$f":"+$B$15","v":2008},200.54108682675923,302.07973998683781,22.761515097240665,94.790696368266353,44.723925510059722,65.188088785966556,21.945125292091568,752.15004909889683,null,{"$f":"+$B$15","v":2008},200.54108682675923,302.07973998683781,22.761515097240665,94.790696368266353,44.723925510059722,65.188088785966556,21.945125292091568,752.15004909889683,null,{"$f":"+$B$15","v":2008},200.54108682675923,302.07973998683781,22.761515097240665,94.790696368266353,44.723925510059722,65.188088785966556,21.945125292091568,752.15004909889683]
[null,{"$f":"+$B$16","v":2009},171.57372666301367,368.84706390958905,20.968079558904108,117.58886178082193,54.225672180821924,64.886490539726026,17.303896230136985,818.20631963835626,null,{"$f":"+$B$16","v":2009},171.57372666301367,368.84706390958905,20.968079558904108,117.58886178082193,54.225672180821924,64.886490539726026,17.303896230136985,818.20631963835626,null,{"$f":"+$B$16","v":2009},171.57372666301367,368.84706390958905,20.968079558904108,117.58886178082193,54.225672180821924,64.886490539726026,17.303896230136985,818.20631963835626]
[null,{"$f":"+$B$17","v":2010},157.64542292876712,400.49898961917813,21.190732512328765,123.76369569863014,59.329376189041099,67.469810520547952,19.830496567123284,853.097697260274,null,{"$f":"+$B$17","v":2010},157.64542292876712,400.49898961917813,21.190732512328765,123.76369569863014,59.329376189041099,67.469810520547952,19.830496567123284,853.097697260274,null,{"$f":"+$B$17","v":2010},157.64542292876712,400.49898961917813,21.190732512328765,123.44323957534247,59.329376189041099,67.469810520547952,19.830496567123284,852.77724113698639]
[null,{"$f":"+$B$18","v":2011},189.49195393424657,358.49972246301377,21.187148197260274,141.93104630684931,43.270570136986294,58.849434843835624,23.556293060273969,843.2411822849316,null,{"$f":"+$B$18","v":2011},189.49195393424657,358.49972246301377,21.187148197260274,141.93104630684931,43.270570136986294,58.849434843835624,23.556293060273969,843.2411822849316,null,{"$f":"+$B$18","v":2011},189.49195393424657,358.49972246301377,21.187148197260274,141.34283407123286,43.270570136986294,58.849434843835624,23.556293060273969,842.65297004931506]
[null,{"$f":"+$B$19","v":2012},198.97044910109292,344.39617575683059,22.55266100273224,144.94893537431693,58.764681519125681,63.971707666666674,21.724749128415297,855.41526530054659,null,{"$f":"+$B$19","v":2012},198.97044910109292,344.39617575683059,22.55266100273224,144.94893537431693,58.764681519125681,63.971707666666674,21.724749128415297,855.41526530054659,null,{"$f":"+$B$19","v":2012},198.97044910109292,344.39617575683059,22.55266100273224,144.88441472138632,58.764681519125681,63.971707666666674,21.724749128415297,855.3507446476159]
[null,{"$f":"+$B$20","v":2013},220.49488113567668,375.61697210469038,24.996595360416443,173.639668188863,55.779610915301376,86.150132298197263,17.852108248241095,954.74302270381372,null,{"$f":"+$B$20","v":2013},220.49488113567668,375.61697210469038,24.996595360416443,173.639668188863,55.779610915301376,86.150132298197263,17.852108248241095,954.74302270381372,null,{"$f":"+$B$20","v":2013},220.49488113567668,375.61697210469038,24.996595360416443,173.52842680949499,55.779610915301376,86.150132298197263,17.852108248241095,954.63178132444568]
[null,{"$f":"+$B$21","v":2014},254.28326509358629,387.06665293093977,25.564817273561644,192.62012320324931,58.908661383526038,101.69103700298356,16.720994435852056,1039.248802273019,null,{"$f":"+$B$21","v":2014},254.28326509358629,387.48414723268763,25.564817273561641,192.6764035700767,58.927115438328769,101.71318960549588,16.721077008569864,1012.6351663007615,null,{"$f":"+$B$21","v":2014},254.28326509358629,387.48414723268763,25.564817273561641,192.6764035700767,58.927115438328769,101.71318960549588,16.721077008569864,1039.7632661716273]
[null,{"$f":"+$B$22","v":2015},268.0636724819567,360.01228827574801,24.062097718816439,195.21745411214798,68.275573070241094,93.12096138272878,16.014897368010917,1024.7669444096498,null,{"$f":"+$B$22","v":2015},268.0636724819567,360.01228827574795,24.062097718816439,195.21745411214795,68.275573070241094,93.12096138272878,16.014897368010917,1024.7638981356224,null,{"$f":"+$B$22","v":2015},268.0636724819567,360.01228827574795,24.062097718816439,195.21745411214795,68.275573070241094,93.12096138272878,16.014897368010917,1024.7638981356224]
[null,{"$f":"+$B$23","v":2016},256.56980607111984,361.05179696109559,25.234835196953568,171.48230899986342,63.264896238106509,102.7308941360574,15.167382495620224,995.50192009881653,null,{"$f":"+$B$23","v":2016},256.56980607111984,361.27678198175693,25.251385533180343,171.52511250307785,63.327877096585119,102.86478372374056,15.172894264527425,995.98864117398807,null,{"$f":"+$B$23","v":2016},256.56980607111984,361.27678198175693,25.251385533180343,171.52511250307785,63.327877096585119,102.86478372374056,15.172894264527425,1025.1830809958678]
[null,{"$f":"+$B$24","v":2017},261.02972317044106,363.16719037467124,23.232600898739715,134.59957823961369,51.903192056980799,70.886573404161652,13.185154895287667,918.00401303989588,null,{"$f":"+$B$24","v":2017},261.02972317044106,363.16719037467124,23.232600898739715,134.59957823961369,51.903192056980828,70.88657340416168,13.185154895287667,918.00401303989599,null,{"$f":"+$B$24","v":2017},261.02972317044106,363.16719037467124,23.232600898739715,134.59957823961369,51.903192056980828,70.88657340416168,13.185154895287667,918.00401303989599]
[null,{"$f":"+$B$25","v":2018},275.80059275963595,397.65397548982719,24.615877145392567,137.22104107374105,70.252008348624173,76.454804479275282,14.413664215927575,996.41196351242388,null,{"$f":"+$B$25","v":2018},320.6946908070243,498.02664278611121,26.816612610533817,139.79343503800774,116.57453552100714,94.604244119066266,15.232902427202374,1211.743063308953,null,{"$f":"+$B$25","v":2018},249.72996151656631,351.93018226517665,22.378649395177455,123.8784628499439,53.121036227417534,69.38416860988518,13.641165626351619,884.06362649051869]
[null,{"$f":"+$B$26","v":2019},283.04250017250638,279.36738045172541,25.559766157075014,142.06267940776411,65.985110441354635,78.116946934979808,14.703840360109135,888.8382239255144,null,{"$f":"+$B$26","v":2019},309.42269596364696,371.94414619776074,27.730772788905064,144.83640300685417,90.616995540501208,99.050444841323383,15.481631315848997,1059.0830896548407,null,{"$f":"+$B$26","v":2019},258.65450111397087,242.91176242017735,23.244673476505312,128.52661455711132,54.911438110060516,71.370369685746567,13.878610630139093,793.49796999371097]
[null,{"$f":"+$B$27","v":2020},313.91488771438003,285.57542180957216,25.989802390684844,144.61336607804162,63.983209537804612,78.586688296078947,14.723220470384032,927.38659629694621,null,{"$f":"+$B$27","v":2020},343.31090675693184,366.80725492671263,28.244290613559386,147.4120898621085,96.124475802358532,83.464364471324956,15.550355810678393,1080.9137382436743,null,{"$f":"+$B$27","v":2020},288.74304196290012,256.13540760608856,23.726727974931151,130.97167042457534,56.199213284010028,72.631964796584711,13.943768173340739,842.35179422243061]
[null,{"$f":"+$B$28","v":2021},331.01725545568502,300.48499198396615,26.666537848471151,146.56704632762643,68.132448361763181,80.615420211783501,14.783283274329399,968.2669834636248,null,{"$f":"+$B$28","v":2021},363.41787882220603,416.59680295062628,29.577921229036363,149.39603503056657,106.39789334452493,96.114811350622034,15.612914913893192,1177.1142576414754,null,{"$f":"+$B$28","v":2021},303.08498535246395,267.34017599941467,24.339444159742936,132.93129588145956,57.599998586596286,74.057726795732776,14.001082305991464,873.35470908140167]
[null,{"$f":"+$B$29","v":2022},341.83723843379278,301.68445328271957,27.224309574831803,147.1184260106925,67.881879430828945,81.227904760954331,14.811649781373912,981.78586127519361,null,{"$f":"+$B$29","v":2022},370.61296980366831,380.21326153929772,29.493039669665279,149.93479192129885,94.576767925418494,91.572358058132778,15.642201941163711,1132.0453908586451,null,{"$f":"+$B$29","v":2022},313.63283239959867,271.09909792909548,24.875508782511389,133.45615828966237,58.607830542746882,75.012135693568823,14.028474105862188,890.71203774304581]
[null,{"$f":"+$B$30","v":2023},344.81560694329954,307.01892482710934,27.803190826771548,147.40968842516955,66.272812784960081,82.464756818003792,14.821265639417721,990.60624626473157,null,{"$f":"+$B$30","v":2023},368.9825971779465,358.93759059786601,30.148267726335831,150.36094494834848,86.668985393191562,88.652795901347901,15.65146966420358,1099.4026514092398,null,{"$f":"+$B$30","v":2023},317.94873721081933,282.02989732130277,25.483314462496224,133.87082743888428,59.82810191551085,76.425644534358767,14.0384184736759,909.62494135704799]
[null,{"$f":"+$B$31","v":2024},333.43710398521301,332.51731948747778,28.48453319317677,147.84399201225111,67.352307988385732,83.907521503037287,14.834256389806711,1008.3770345593483,null,{"$f":"+$B$31","v":2024},355.27438180441999,380.14367537917735,30.75689674530911,150.6430197642722,83.008861506122258,92.556014430447661,15.614419644313809,1107.9972692740623,null,{"$f":"+$B$31","v":2024},307.62545439903812,304.8523911135207,26.050748567875829,134.15294501933025,60.829089135469154,77.628417334337129,14.006706941433897,925.14575251100507]
[null,{"$f":"+$B$32","v":2025},332.31411984988125,343.66137367103443,29.07446816173735,148.10345716963906,68.545516218922671,84.881884571708525,14.850536505760999,1021.4313561486842,null,{"$f":"+$B$32","v":2025},361.32043819020629,393.17363101747549,31.453162895922663,150.99603041792491,88.885315473149191,90.252987977950738,15.678656315713411,1131.7602222883427,null,{"$f":"+$B$32","v":2025},306.76869045723925,316.07030832968917,26.691964002942782,134.49091597284192,61.897472103244844,78.97660596055124,14.06994105334222,938.96589787985124]
[null,{"$f":"+$B$33","v":2026},334.35556029833043,350.13317188902909,29.795050121123868,148.40471526098437,68.731448668424406,86.38068669988202,14.865027159107347,1032.6656600968815,null,{"$f":"+$B$33","v":2026},356.11110863185695,397.13606455012075,32.068809420636185,151.21736782519494,85.237956409848337,91.491997781466623,15.643747944452544,1128.9070525635764,null,{"$f":"+$B$33","v":2026},308.56401540209788,323.34601062121857,27.257843217920765,134.70976557344775,62.731056700349271,80.120395470539364,14.03883699311241,950.76792397868599]
[null,{"$f":"+$B$34","v":2027},331.36937458279925,359.26644573437051,30.485176387232038,148.69117809667566,69.125631006351725,88.003119220477259,14.893252014532358,1041.8341770424386,null,{"$f":"+$B$34","v":2027},350.95137738400337,396.06413511017047,33.48729042952467,151.56589215455023,81.667956565722832,95.044893306961512,15.670258965662592,1124.4518039165957,null,{"$f":"+$B$34","v":2027},306.80032227171966,334.74005848099034,27.938397894514946,135.05843746309287,63.802296794383032,81.823732528453604,14.068653760152918,964.23189919330741]
[null,{"$f":"+$B$35","v":2028},330.15901769648161,369.64691719867716,31.22417293959623,148.96884222949325,70.716206770325016,89.885821981138875,14.8899261665682,1055.4909049822802,null,{"$f":"+$B$35","v":2028},354.5790046049143,412.57892220923941,34.155696695793395,151.85858551446566,85.280748562275562,97.468215546972743,15.663396627194926,1151.5845697608561,null,{"$f":"+$B$35","v":2028},305.50332038556343,344.3597622945465,28.589605512597558,135.36302125380999,64.760955001818175,83.592702478362241,14.068762032482535,976.23812895918036]
[null,{"$f":"+$B$36","v":2029},333.26167558237165,381.45705973449236,31.84691043616839,149.33324189176011,71.96066514883492,91.719706553528326,14.785073754142179,1074.3643331012979,null,{"$f":"+$B$36","v":2029},356.28045550590224,428.39866496177297,36.361562968449753,152.22899551745292,88.28027020925829,99.156988713852968,15.605570280740029,1176.3125081574292,null,{"$f":"+$B$36","v":2029},308.29910466556981,355.58913859929271,29.058669410736336,135.70804306058787,65.572553787041684,85.137162475395471,13.964577227544323,993.32924922616814]
[null,{"$f":"+$B$37","v":2030},335.52583306037866,393.67426257880589,32.39169804826598,149.57687307312727,73.045866173884818,93.076765125061939,14.618032215702424,1091.9093302752269,null,{"$f":"+$B$37","v":2030},367.41264463183381,450.77150357456856,38.385430974437838,152.36522485589904,101.43328162203359,98.321806826225227,15.435014981035231,1224.1249074660334,null,{"$f":"+$B$37","v":2030},310.33730627789657,366.39851029089959,29.557642585457934,135.8764492019497,66.092791232626624,86.416679167774745,13.848390961440654,1008.5277697180459]
[null,{"$f":"+$B$38","v":2031},339.98377089776727,400.00493683322446,33.921929904073856,150.22507572903882,75.470117442871782,96.222394260830072,14.661596929941158,1110.4898219977472,null,{"$f":"+$B$38","v":2031},370.24994438937983,486.34933712277507,42.080509942062193,158.4540818860159,97.342617399945397,121.88961068025239,15.475776428229437,1291.8418778486603,null,{"$f":"+$B$38","v":2031},313.44551824889197,368.79325358598737,30.411048712657433,136.17748675146896,67.007158538503901,88.48428166958162,13.894662194784269,1018.2134097018755]
[null,{"$f":"+$B$39","v":2032},341.80772309322612,400.8030254225871,34.483432267830018,150.30131123540562,75.809855244196939,97.678837315483534,14.590207585464679,1115.4743921641939,null,{"$f":"+$B$39","v":2032},372.01298444635347,486.63339665508829,42.645095720449149,158.4999545777797,97.624109615298408,123.33186863768447,15.400408561056045,1296.1478182137098,null,{"$f":"+$B$39","v":2032},315.29650950700722,369.63867493842406,30.956959203065832,136.27105444140349,67.368711803037527,89.906330647865559,13.827251373004703,1023.2654919138083]
[]
[]
[null,null,"SECTORES MEDIO",null,null,null,null,null,null,null,null,null,"SECTORES ALTO",null,null,null,null,null,null,null,null,null,"SECTORES BAJO"]
[null,null,"RESIDENCIAL","COMERCIAL","INDUSTRIAL","PETROQUÍMICO","PETROLERO","TRANSPORTE","TERMOELÉCTRICO","TOTAL",null,null,"RESIDENCIAL","COMERCIAL","INDUSTRIAL","PETROQUÍMICO","PETROLERO","TRANSPORTE","TERMOELÉCTRICO","TOTAL",null,null,"RESIDENCIAL","COMERCIAL","INDUSTRIAL","PETROQUÍMICO","PETROLERO","TRANSPORTE","TERMOELÉCTRICO","TOTAL"]
[null,{"$f":"+$B$5","v":1998},52.988703250592252,6.7064529110876405,109.9222684931507,11.718912326410958,115.77706849315065,6.0325808219178096,303.9213315068493,607.06731780315931,null,{"$f":"+$B$5","v":1998},52.988703250592252,6.7064529110876405,109.9222684931507,11.718912326410958,115.77706849315065,6.0325808219178096,303.9213315068493,607.06731780315931,null,{"$f":"+$B$5","v":1998},52.988703250592252,6.7064529110876405,109.9222684931507,11.718912326410958,115.77706849315065,6.0325808219178096,303.9213315068493,607.06731780315931]
[null,{"$f":"+$B$6","v":1999},61.026162540984231,9.0167634879468093,113.12401369863014,9.4607232877260294,124.53985205479449,6.2996273972602745,183.79411232876714,507.26125479610909,null,{"$f":"+$B$6","v":1999},61.026162540984231,9.0167634879468093,113.12401369863014,9.4607232877260294,124.53985205479449,6.2996273972602745,183.79411232876714,507.26125479610909,null,{"$f":"+$B$6","v":1999},61.026162540984231,9.0167634879468093,113.12401369863014,9.4607232877260294,124.53985205479449,6.2996273972602745,183.79411232876714,507.26125479610909]
[null,{"$f":"+$B$7","v":2000},66.202172526755319,10.734502334071102,115.9192213114754,10.715101092513661,122.60671584699452,7.1353169398907115,243.31824043715849,576.63127048885917,null,{"$f":"+$B$7","v":2000},66.202172526755319,10.734502334071102,115.9192213114754,10.715101092513661,122.60671584699452,7.1353169398907115,243.31824043715849,576.63127048885917,null,{"$f":"+$B$7","v":2000},66.202172526755319,10.734502334071102,115.9192213114754,10.715101092513661,122.60671584699452,7.1353169398907115,243.31824043715849,576.63127048885917]
[null,{"$f":"+$B$8","v":2001},93.222963245347145,22.795237865080395,130.50980098630137,10.926770338794519,102.47123634701471,8.5682121869476173,220.55876846697632,589.0529894364621,null,{"$f":"+$B$8","v":2001},93.222963245347145,22.795237865080395,130.50980098630137,10.926770338794519,102.47123634701471,8.5682121869476173,220.55876846697632,589.0529894364621,null,{"$f":"+$B$8","v":2001},93.222963245347145,22.795237865080395,130.50980098630137,10.926770338794519,102.47123634701471,8.5682121869476173,220.55876846697632,589.0529894364621]
[null,{"$f":"+$B$9","v":2002},102.21261250373577,28.28847469087669,137.83435093150686,12.187868404602741,90.864772110455874,10.43249640446356,205.22293653037545,587.04351157601695,null,{"$f":"+$B$9","v":2002},102.21261250373577,28.28847469087669,137.83435093150686,12.187868404602741,90.864772110455874,10.43249640446356,205.22293653037545,587.04351157601695,null,{"$f":"+$B$9","v":2002},102.21261250373577,28.28847469087669,137.83435093150686,12.187868404602741,90.864772110455874,10.43249640446356,205.22293653037545,587.04351157601695]
[null,{"$f":"+$B$10","v":2003},106.99227676396188,31.132027326867075,134.53780117808219,12.151573559260274,88.021939133310013,13.145942229182859,181.79525392112879,567.7768141117931,null,{"$f":"+$B$10","v":2003},106.99227676396188,31.132027326867075,134.53780117808219,12.151573559260274,88.021939133310013,13.145942229182859,181.79525392112879,567.7768141117931,null,{"$f":"+$B$10","v":2003},106.99227676396188,31.132027326867075,134.53780117808219,12.151573559260274,88.021939133310013,13.145942229182859,181.79525392112879,567.7768141117931]
[null,{"$f":"+$B$11","v":2004},107.0706546052842,31.233536204680789,158.87141560109291,10.730891083879783,86.72481857394024,19.957915220049003,183.60951176214442,598.19874305107135,null,{"$f":"+$B$11","v":2004},107.0706546052842,31.233536204680789,158.87141560109291,10.730891083879783,86.72481857394024,19.957915220049003,183.60951176214442,598.19874305107135,null,{"$f":"+$B$11","v":2004},107.0706546052842,31.233536204680789,158.87141560109291,10.730891083879783,86.72481857394024,19.957915220049003,183.60951176214442,598.19874305107135]
[null,{"$f":"+$B$12","v":2005},110.1595207173108,33.309561645288589,170.39468835616438,10.931446663287669,87.932346817837015,32.005801008421415,187.43530701140111,632.16867221971097,null,{"$f":"+$B$12","v":2005},110.1595207173108,33.309561645288589,170.39468835616438,10.931446663287669,87.932346817837015,32.005801008421415,187.43530701140111,632.16867221971097,null,{"$f":"+$B$12","v":2005},110.1595207173108,33.309561645288589,170.39468835616438,10.931446663287669,87.932346817837015,32.005801008421415,187.43530701140111,632.16867221971097]
[null,{"$f":"+$B$13","v":2006},118.78085658026961,39.621686305578329,197.99572290410958,12.315135592328767,97.018084588085202,49.785922438789832,186.50456328682483,702.02197169598617,null,{"$f":"+$B$13","v":2006},118.78085658026961,39.621686305578329,197.99572290410958,12.315135592328767,97.018084588085202,49.785922438789832,186.50456328682483,702.02197169598617,null,{"$f":"+$B$13","v":2006},118.78085658026961,39.621686305578329,197.99572290410958,12.315135592328767,97.018084588085202,49.785922438789832,186.50456328682483,702.02197169598617]
[null,{"$f":"+$B$14","v":2007},118.20865740382141,39.414174075354651,232.63925471232875,13.339694929945205,102.14690930964824,70.277502350221852,160.33309813027944,736.3592909115996,null,{"$f":"+$B$14","v":2007},118.20865740382141,39.414174075354651,232.63925471232875,13.339694929945205,102.14690930964824,70.277502350221852,160.33309813027944,736.3592909115996,null,{"$f":"+$B$14","v":2007},118.20865740382141,39.414174075354651,232.63925471232875,13.339694929945205,102.14690930964824,70.277502350221852,160.33309813027944,736.3592909115996]
[null,{"$f":"+$B$15","v":2008},113.79591497955563,35.86987581367908,273.99947844262294,12.00517367748634,88.338543715846981,83.588335957723032,144.55272651198277,752.15004909889683,null,{"$f":"+$B$15","v":2008},113.79591497955563,35.86987581367908,273.99947844262294,12.00517367748634,88.338543715846981,83.588335957723032,144.55272651198277,752.15004909889683,null,{"$f":"+$B$15","v":2008},113.79591497955563,35.86987581367908,273.99947844262294,12.00517367748634,88.338543715846981,83.588335957723032,144.55272651198277,752.15004909889683]
[null,{"$f":"+$B$16","v":2009},108.83746830958906,35.488016884931511,216.00854288219176,20.293279172602738,99.254445046575356,81.064678750684948,257.25988859178085,818.20631963835626,null,{"$f":"+$B$16","v":2009},108.83746830958906,35.488016884931511,216.00854288219176,20.293279172602738,99.254445046575356,81.064678750684948,257.25988859178085,818.20631963835626,null,{"$f":"+$B$16","v":2009},108.83746830958906,35.488016884931511,216.00854288219176,20.293279172602738,99.254445046575356,81.064678750684948,257.25988859178085,818.20631963835626]
[null,{"$f":"+$B$17","v":2010},114.26793420821919,38.638356504109581,209.80656409315068,21.802465273972601,110.29387001095891,76.287654427397271,282.00085274246578,853.097697260274,null,{"$f":"+$B$17","v":2010},114.26793420821919,38.638356504109581,209.80656409315068,21.802465273972601,110.29387001095891,76.287654427397271,282.00085274246578,853.097697260274,null,{"$f":"+$B$17","v":2010},113.94747808493152,38.638356504109581,209.80656409315068,21.802465273972601,110.29387001095891,76.287654427397271,282.00085274246578,852.77724113698639]
[null,{"$f":"+$B$18","v":2011},121.68862956438356,44.903467906849315,222.51390870410961,22.677454457534246,138.5563537479452,76.467291591780821,216.43407631232876,843.2411822849316,null,{"$f":"+$B$18","v":2011},121.68862956438356,44.903467906849315,222.51390870410961,22.677454457534246,138.5563537479452,76.467291591780821,216.43407631232876,843.2411822849316,null,{"$f":"+$B$18","v":2011},121.10041732876712,44.903467906849315,222.51390870410961,22.677454457534246,138.5563537479452,76.467291591780821,216.43407631232876,842.65297004931506]
[null,{"$f":"+$B$19","v":2012},125.08795206284154,47.120382666666657,219.02877730054647,18.918164986338795,142.27158941256829,76.580402158469937,226.40799671311478,855.41526530054648,null,{"$f":"+$B$19","v":2012},125.08795206284154,47.120382666666657,219.02877730054647,18.918164986338795,142.27158941256829,76.580402158469937,226.40799671311478,855.41526530054648,null,{"$f":"+$B$19","v":2012},125.02343140991093,47.120382666666657,219.02877730054647,18.918164986338795,142.27158941256829,76.580402158469937,226.40799671311478,855.3507446476159]
[null,{"$f":"+$B$20","v":2013},130.06241552872879,49.888277216438354,223.77348951701643,22.138741515238358,149.40678944866573,84.821426545432885,294.65188293229318,954.74302270381372,null,{"$f":"+$B$20","v":2013},130.06241552872879,49.888277216438354,223.77348951701643,22.138741515238358,149.40678944866573,84.821426545432885,294.65188293229318,954.74302270381372,null,{"$f":"+$B$20","v":2013},129.95117414936075,49.888277216438354,223.77348951701643,22.138741515238358,149.40678944866573,84.821426545432885,294.65188293229318,954.63178132444568]
[null,{"$f":"+$B$21","v":2014},133.7231537944082,54.294840924745209,247.52688148003296,20.320664035391776,153.90774063775888,88.67379764737808,340.80172375330409,1039.248802273019,null,{"$f":"+$B$21","v":2014},133.7231537944082,54.294840924745209,248.04134537864113,20.320664035391776,126.77964076689317,88.67379764737808,340.80172375330409,1012.6351663007615,null,{"$f":"+$B$21","v":2014},133.7231537944082,54.294840924745209,248.04134537864113,20.320664035391776,153.90774063775888,88.67379764737808,340.80172375330409,1039.7632661716273]
[null,{"$f":"+$B$22","v":2015},135.15120486086849,45.482207263668478,255.14637856421922,17.423631158621919,162.91224582378956,82.861727811652059,325.78954892683015,1024.7669444096498,null,{"$f":"+$B$22","v":2015},135.15120486086849,45.482207263668478,255.14637856421922,17.423631158621919,162.90919954976218,82.861727811652059,325.78954892683015,1024.7638981356224,null,{"$f":"+$B$22","v":2015},135.15120486086849,45.482207263668478,255.14637856421922,17.423631158621919,162.90919954976218,82.861727811652059,325.78954892683015,1024.7638981356224]
[null,{"$f":"+$B$23","v":2016},137.45212816379751,48.005139865926211,242.58047625330593,16.849941598592896,206.29653252676781,73.48861301590982,270.82908867451641,995.50192009881653,null,{"$f":"+$B$23","v":2016},137.45212816379751,48.005139865926211,243.06719732847742,16.849941598592896,206.29653252676781,73.48861301590982,270.82908867451641,995.98864117398807,null,{"$f":"+$B$23","v":2016},137.45212816379751,48.005139865926211,243.06719732847742,16.849941598592896,235.49097234864752,73.48861301590982,270.82908867451641,1025.1830809958678]
[null,{"$f":"+$B$24","v":2017},146.25871838779727,48.895723675079473,241.97657609558621,18.172705256443837,221.73944362319727,64.968070002271261,175.99277599952052,918.00401303989588,null,{"$f":"+$B$24","v":2017},146.25871838779727,48.895723675079473,241.97657609558635,18.172705256443837,221.73944362319727,64.968070002271261,175.99277599952052,918.00401303989599,null,{"$f":"+$B$24","v":2017},146.25871838779727,48.895723675079473,241.97657609558635,18.172705256443837,221.73944362319727,64.968070002271261,175.99277599952052,918.00401303989599]
[null,{"$f":"+$B$25","v":2018},150.25627091038913,46.984981445228485,237.93019178082193,17.726708191780823,293.82547753424655,79.686447848576918,231.3596076438356,1057.7696853548794,null,{"$f":"+$B$25","v":2018},158.23439455581854,53.873036181773557,258.46906292602739,23.13944096986301,313.92298430968367,83.228067752958111,402.33130523072134,1293.1982919268457,null,{"$f":"+$B$25","v":2018},142.2781472649597,40.096926708683412,217.39132063561647,12.313975413698632,273.72797075880942,77.030232920291041,185.73204342465758,948.57061712671623]
[null,{"$f":"+$B$26","v":2019},153.84446668241893,48.57661367501462,245.5651506849315,17.820770794520548,294.59070362558555,83.066262776862828,99.945564034246587,943.40953227358045,null,{"$f":"+$B$26","v":2019},162.02734816687558,55.4646684115597,266.20020618169764,23.233503572602739,314.68821040102273,85.776186380201906,226.36178166438359,1133.7519047783439,null,{"$f":"+$B$26","v":2019},145.66158519796227,41.688558938469555,224.93009518816544,12.408038016438354,274.49319685014842,79.470934197428392,73.321302705479454,851.97371109409175]
[null,{"$f":"+$B$27","v":2020},156.88277727081072,50.576718925436197,247.80888767123287,17.959373250991838,296.79244246849379,82.91525780076752,97.384959836065576,950.32041722379859,null,{"$f":"+$B$27","v":2020},165.22637636787249,57.445953840296703,268.44394316799895,23.358068092102702,316.88994924393103,86.510586380201914,206.07018885356007,1123.9450659459637,null,{"$f":"+$B$27","v":2020},148.53917817374895,43.707484010575676,227.17383217446684,12.560678409880978,276.69493569305655,80.205334197428428,83.692527868852451,872.57397052800991]
[null,{"$f":"+$B$28","v":2021},160.77255098017443,52.867544297490866,250.73295342465752,18.225402602739724,333.82671063558433,83.638857800767511,117.17897668493153,1017.2429964263458,null,{"$f":"+$B$28","v":2021},169.32297503517327,59.755599034035932,271.36800892142361,23.638135380821922,353.92421741102146,87.234186380201891,280.94465521695554,1246.1877773796336,null,{"$f":"+$B$28","v":2021},152.22212692517559,45.979489560945808,230.09789792789147,12.812669824657533,313.72920386014709,80.928934197428418,94.947962739726023,930.71828503597192]
[null,{"$f":"+$B$29","v":2022},164.09008768863302,55.03286442167591,250.84539726027396,18.407151643835615,334.67104428307533,83.660457800767531,120.35122027397257,1027.0582233722339,null,{"$f":"+$B$29","v":2022},172.81747912717105,61.92091915822099,271.48045275704004,23.819884421917809,354.76855105851251,87.255786380201911,225.35218682805819,1197.4152597311224,null,{"$f":"+$B$29","v":2022},155.36269625009498,48.144809685130838,230.21034176350787,12.994418865753428,314.57353750763821,80.950534197428425,102.59042301369864,944.82676128325238]
[null,{"$f":"+$B$30","v":2023},167.27341258419423,57.210250156587215,253.28746849315064,18.58471268493151,441.80809533398764,83.660457800767517,121.70619750958905,1143.5305945632078,null,{"$f":"+$B$30","v":2023},176.17065406126537,64.09830489313228,273.92252398991678,23.997445463013701,461.90560210942482,87.255786380201883,185.07418958619849,1272.4245064831534,null,{"$f":"+$B$30","v":2023},158.3761711071231,50.322195420042142,232.65241299638461,13.171979906849314,421.71058855855051,80.950534197428411,114.15627539726029,1071.3401575836383]
[null,{"$f":"+$B$31","v":2024},169.85271377994738,59.236002523328246,254.74480000000003,18.728468325623172,465.84291950725986,84.545862776862847,132.78660284153003,1185.7373697545515,null,{"$f":"+$B$31","v":2024},178.88781525890229,66.105237438188766,275.37985549676608,24.127163166734039,485.9404262826971,87.255786380201911,187.75882722121241,1305.4551112447027,null,{"$f":"+$B$31","v":2024},160.81761230099247,52.366767608467732,234.10974450323397,13.329773484512312,445.74541273182268,80.950534197428439,123.93699453551912,1111.2568393619765]
[null,{"$f":"+$B$32","v":2025},173.21709403664261,61.595152596635629,255.28698082191781,18.985543698630135,473.21291433461965,84.545862776862819,143.26937356164385,1210.1129218269523,null,{"$f":"+$B$32","v":2025},182.43192109908034,68.483207333180687,275.92203631868392,24.398276476712333,493.31042111005701,88.141191356297213,207.85224104803677,1340.5392947420485,null,{"$f":"+$B$32","v":2025},164.00226697420482,54.707097860090556,234.65192532515169,13.572810920547946,453.11540755918259,81.835939173523712,134.11764383561641,1136.0030916483179]
[null,{"$f":"+$B$33","v":2026},175.96392683491038,63.798540736250438,255.66715068493153,19.197832328767127,472.4190900123312,85.431267752958121,152.17971095890408,1224.6575193090528,null,{"$f":"+$B$33","v":2026},185.32570115897437,70.686595472795517,276.30220618169761,24.610565106849315,492.51659678776838,88.141191356297199,203.4135624868025,1340.9964185511849,null,{"$f":"+$B$33","v":2026},166.60215251084631,56.910485999705358,235.03209518816544,13.785099550684931,452.32158323689401,81.835939173523712,144.21764383561643,1150.7049994954361]
[null,{"$f":"+$B$34","v":2027},178.55110247518496,66.005692796395323,258.26369315068496,19.408488547945204,471.37896256264816,86.316672729053437,158.39957210410955,1238.3241843660217,null,{"$f":"+$B$34","v":2027},188.05138494108903,72.893747532940395,278.89874864745099,24.821221326027398,491.47646933808534,89.026596332392486,195.87114989763009,1341.0393180156159,null,{"$f":"+$B$34","v":2027},169.05082000928095,59.117638059850258,237.62863765391887,13.995755769863013,451.28145578721097,82.721344149619028,154.31764383561642,1168.1132952653597]
[null,{"$f":"+$B$35","v":2028},180.47605862706439,68.027780602751946,261.45892054794518,19.562740352271874,471.34618361248835,87.202077705148739,170.67947474863388,1258.7532361963044,null,{"$f":"+$B$35","v":2028},190.07965536503127,74.897015517612445,282.09397604471127,24.961435193382737,491.44369038792541,89.912001308487802,221.55663393316615,1374.9444077503172,null,{"$f":"+$B$35","v":2028},170.87246188909756,61.158545687891419,240.82386505117913,14.164045511161016,451.24867683705116,83.606749125714344,164.33699453551912,1186.2113386376136]
[null,{"$f":"+$B$36","v":2029},183.21343411391695,70.436573257876375,264.9206794520548,19.815535780821918,468.31897059032673,85.431267752958149,182.46299034520547,1274.5994512931604,null,{"$f":"+$B$36","v":2029},192.96361464878342,77.324627994421448,285.55573494882088,25.228268558904109,488.41647736576397,89.026596332392501,238.12981327564265,1396.645133124729,null,{"$f":"+$B$36","v":2029},173.46325357905047,63.54851852133131,244.28562395528871,14.402803002739727,448.22146381488955,81.835939173523741,174.51764383561644,1200.2752458824398]
[null,{"$f":"+$B$37","v":2030},185.27048498306343,72.698164134027678,266.49416986301372,20.016373424657534,468.31669768972603,83.660457800767531,195.68582767123289,1292.1421755664887,null,{"$f":"+$B$37","v":2030},195.1310843431998,79.586218870572736,287.12922535977981,25.429106202739728,488.41420446516321,87.255786380201897,281.50963391107507,1444.4552595327323,null,{"$f":"+$B$37","v":2030},175.40988562292699,65.810109397482606,245.85911436624764,14.603640646575341,448.21919091428879,80.950534197428425,184.61901832876708,1215.4714934737167]
[null,{"$f":"+$B$38","v":2031},187.13156008115007,75.001203902161265,269.99439452054793,20.219267726027397,468.31669768972603,85.431267752958135,204.62827561643834,1310.722667289009,null,{"$f":"+$B$38","v":2031},197.09218737175809,81.889258638706337,290.62945001731407,25.632000504109588,488.41420446516321,89.026596332392515,339.48853258591544,1512.1722299153591,null,{"$f":"+$B$38","v":2031},177.17093279054203,68.113149165616193,249.35933902378187,14.806534947945206,448.21919091428879,82.721344149619057,184.76664246575342,1225.1571334575465]
[null,{"$f":"+$B$39","v":2032},188.28462379536097,77.133415106848418,271.62355835017587,20.424722301369862,468.31669768972603,85.431267752958135,204.49295245901638,1315.7072374554557,null,{"$f":"+$B$39","v":2032},198.3068510865107,84.002650021708931,292.20258837984113,25.837455079452056,488.41420446516321,89.026596332392515,338.68782491534,1516.4781702804084,null,{"$f":"+$B$39","v":2032},178.2623965042113,70.264180191987904,251.04452832051078,15.011989523287671,448.21919091428879,82.721344149619057,184.68558606557377,1230.2092156694791]
[null,null,null,null,null,null,null,null,null,null,null,null,null,null,null,null,null,null,null,null,null,null,170.22059706301371,66.597954037049348,317.20835088131611,10.437680455890412,448.11019091428875,82.721344149619057,209.46693577454812,1304.7630532757255]

{"sheet":"Demanda_Anual","index":2,"n_rows":47,"n_cols":83,"rows_kept":47,"cut":false,"hidden":false,"merged":[[10,19,10,26],[10,0,11,0],[10,1,10,8],[10,9,11,9],[10,10,10,17],[10,18,11,18]]}
[null,null,null,null,null,"Histórico"]
[null,null,null,null,null,"Proyectado",null,"Contenido"]
[null,null,null,null,null,null,null,null,null,null,null,null,null,null,null,null,null,null,null,null,null,null,null,null,null,null,null,null,null,null,null,null,null,null,null,null,null,null,null,null,null,null,null,null,null,null,null,null,null,null,null,null,null,null,null,null,null,null,null,null,null,null,null,null,null,null,null,null,null,null,null,null,null,null,null,"RESIDENCIAL",null,"GBTUD"]
[null,null,null,null,null,null,null,null,null,null,null,null,null,null,null,null,null,null,null,null,null,null,null,null,null,null,null,null,null,null,null,null,null,null,null,null,null,null,null,null,null,null,null,null,null,null,null,null,null,null,null,null,null,null,null,null,null,null,null,null,null,null,null,null,null,null,null,null,null,null,null,null,null,null,null,"TERCIARIO",null,"MPCD"]
[null,null,"Sector de consumo",null,null,null,null,null,null,null,null,null,null,null,null,null,null,null,null,null,null,null,null,null,null,null,null,null,null,null,null,null,null,null,null,null,null,null,null,null,null,null,null,null,null,null,null,null,null,null,null,null,null,null,null,null,null,null,null,null,null,null,null,null,null,null,null,null,null,null,null,null,null,null,null,"INDUSTRIAL"]
[null,null,null,null,null,null,null,null,null,null,null,null,null,null,null,null,null,null,null,null,null,null,null,null,null,null,null,null,null,null,null,null,null,null,null,null,null,null,null,null,null,null,null,null,null,null,null,null,null,null,null,null,null,null,null,null,null,null,null,null,null,null,null,null,null,null,null,null,null,null,null,null,null,null,null,"PETROQUIMICO",null,null,null,null,"nf","nc","nd"]
[null,null,"Unidad de energía",null,null,null,null,null,null,null,null,null,null,null,null,null,null,null,null,null,null,null,null,null,null,null,null,null,null,null,null,null,null,null,null,null,null,null,null,null,null,null,null,null,null,null,null,null,null,null,null,null,null,null,null,null,null,null,null,null,null,null,null,null,null,null,null,null,null,null,null,null,null,null,null,"PETROLERO",null,null,null,"TOTAL",{"$f":"+VLOOKUP($CB7,Anual!$AH$3:$AK$10,2,FALSE)","v":278},{"$f":"+VLOOKUP($CB7,Anual!$AH$3:$AK$10,3,FALSE)","v":3},{"$f":"+VLOOKUP($CB7,Anual!$AH$3:$AK$10,4,FALSE)","v":35}]
[null,null,null,null,null,null,null,null,null,null,null,null,null,null,null,null,null,null,null,null,null,null,null,null,null,null,null,null,null,null,null,null,null,null,null,null,null,null,null,null,null,null,null,null,null,null,null,null,null,null,null,null,null,null,null,null,null,null,null,null,null,null,null,null,null,null,null,null,null,null,null,null,null,null,null,"GNVC",null,null,null,"GBTUD",{"$f":"+VLOOKUP($CB8,Anual!$AM$3:$AN$4,2,FALSE)","v":1}]
["Fuente: Construcción UPME con datos de Ecopetrol, Chevron, CNO Gas, Concentra y SUI",null,null,null,null,null,null,null,null,null,null,null,null,null,null,null,null,null,null,null,null,null,null,null,null,null,null,null,null,null,null,null,null,null,null,null,null,null,null,null,null,null,null,null,null,null,null,null,null,null,null,null,null,null,null,null,null,null,null,null,null,null,null,null,null,null,null,null,null,null,null,null,null,null,null,"TERMOELECTRICO"]
[null,null,null,null,null,null,null,null,null,null,null,null,null,null,null,null,null,null,null,null,null,null,null,null,null,null,null,null,null,null,null,null,null,null,null,null,null,null,null,null,null,null,null,null,null,null,null,null,null,null,null,null,null,null,null,null,null,null,null,null,null,null,null,null,null,null,null,null,null,null,null,null,null,null,null,"TOTAL"]
["AÑO","Proyección Demanda Gas Natural - Escenario Medio - Revisión Abril de 2018",null,null,null,null,null,null,null,"AÑO","Proyección Demanda Gas Natural - Escenario Alto - Revisión Abril de 2018",null,null,null,null,null,null,null,"AÑO","Proyección Demanda Gas Natural - Escenario Bajo - Revisión Abril de 2018"]
[null,"CENTRO","COSTA","CQR","NORESTE","NOROESTE","SUROESTE","TOLIMA \nGRANDE","TOTAL",null,"CENTRO","COSTA","CQR","NORESTE","NOROESTE","SUROESTE","TOLIMA \nGRANDE","TOTAL",null,"CENTRO","COSTA","CQR","NORESTE","NOROESTE","SUROESTE","TOLIMA \nGRANDE","TOTAL"]
[1998,83.492273643705488,342.91024460283484,9.7293417523820942,132.61152437519448,8.3027256280787469,18.933118285063308,13.104566755395386,609.08379504265429,{"$f":"+A13","v":1998},83.492273643705488,342.91024460283484,9.7293417523820942,132.61152437519448,8.3027256280787469,18.933118285063308,13.104566755395386,609.08379504265429,{"$f":"+A13","v":1998},83.492273643705488,342.91024460283484,9.7293417523820942,132.61152437519448,8.3027256280787469,18.933118285063308,13.104566755395386,609.08379504265429]
[1999,67.973850289377523,281.21795248827902,8.549068802244296,106.54040357379765,9.651017333010472,21.215960041441562,14.07754518016122,509.2257977083118,{"$f":"+A14","v":1999},67.973850289377523,281.21795248827902,8.549068802244296,106.54040357379765,9.651017333010472,21.215960041441562,14.07754518016122,509.2257977083118,{"$f":"+A14","v":1999},67.973850289377523,281.21795248827902,8.549068802244296,106.54040357379765,9.651017333010472,21.215960041441562,14.07754518016122,509.2257977083118]
[2000,80.432825886854218,324.22149691230459,9.7487046522730338,117.13379310356646,10.479409270185398,22.229250420096978,14.26186844552117,578.50734869080179,2000,80.432825886854218,324.22149691230459,9.7487046522730338,117.13379310356646,10.479409270185398,22.229250420096978,14.26186844552117,578.50734869080179,2000,80.432825886854218,324.22149691230459,9.7487046522730338,117.13379310356646,10.479409270185398,22.229250420096978,14.26186844552117,578.50734869080179]
[2001,91.356315490612076,324.31454005443379,13.608083153712997,92.434784378234369,18.646481255830938,33.274953901304471,16.309658553219148,589.9448167873478,2001,91.356315490612076,324.31454005443379,13.608083153712997,92.434784378234369,18.646481255830938,33.274953901304471,16.309658553219148,589.9448167873478,2001,91.356315490612076,324.31454005443379,13.608083153712997,92.434784378234369,18.646481255830938,33.274953901304471,16.309658553219148,589.9448167873478]
[2002,98.369386619330371,318.38327459836847,14.541801378833934,82.862396479702383,20.66276595812116,35.543350259293938,17.119154835491301,587.48213012914152,2002,98.369386619330371,318.38327459836847,14.541801378833934,82.862396479702383,20.66276595812116,35.543350259293938,17.119154835491301,587.48213012914152,2002,98.369386619330371,318.38327459836847,14.541801378833934,82.862396479702383,20.66276595812116,35.543350259293938,17.119154835491301,587.48213012914152]
[2003,100.58253831004305,296.55611864354233,13.083278529366691,84.16699217516171,22.267473523419806,33.323406461913834,17.988852243120821,567.96865988656816,2003,100.58253831004305,296.55611864354233,13.083278529366691,84.16699217516171,22.267473523419806,33.323406461913834,17.988852243120821,567.96865988656816,2003,100.58253831004305,296.55611864354233,13.083278529366691,84.16699217516171,22.267473523419806,33.323406461913834,17.988852243120821,567.96865988656816]
[2004,117.87813461992071,295.88287624889131,14.289331152861228,84.262623572877814,30.294235663809026,37.591598778026913,18.187468532066944,598.38626856845394,2004,117.87813461992071,295.88287624889131,14.289331152861228,84.262623572877814,30.294235663809026,37.591598778026913,18.187468532066944,598.38626856845394,2004,117.87813461992071,295.88287624889131,14.289331152861228,84.262623572877814,30.294235663809026,37.591598778026913,18.187468532066944,598.38626856845394]
[2005,128.34781488576544,302.98616614056107,16.515431883171711,92.189642758578188,32.142831323441712,41.292025759984028,18.743140415371386,632.21705316687337,2005,128.34781488576544,302.98616614056107,16.515431883171711,92.189642758578188,32.142831323441712,41.292025759984028,18.743140415371386,632.21705316687337,2005,128.34781488576544,302.98616614056107,16.515431883171711,92.189642758578188,32.142831323441712,41.292025759984028,18.743140415371386,632.21705316687337]
[2006,158.3705846549496,320.82406110141721,18.579842728817916,100.29672208414145,31.681096028571218,50.656428396107117,21.333639130999529,701.74237412500406,2006,158.3705846549496,320.82406110141721,18.579842728817916,100.29672208414145,31.681096028571218,50.656428396107117,21.333639130999529,701.74237412500406,2006,158.3705846549496,320.82406110141721,18.579842728817916,100.29672208414145,31.681096028571218,50.656428396107117,21.333639130999529,701.74237412500406]
[2007,178.87692939770426,304.18965460914842,21.000091464384521,110.1602954029064,42.491555320859582,57.134862815522141,22.317078746952429,736.17046775747781,2007,178.87692939770426,304.18965460914842,21.000091464384521,110.1602954029064,42.491555320859582,57.134862815522141,22.317078746952429,736.17046775747781,2007,178.87692939770426,304.18965460914842,21.000091464384521,110.1602954029064,42.491555320859582,57.134862815522141,22.317078746952429,736.17046775747781]
[2008,200.54108682675923,302.07973998683781,22.761515097240665,94.790696368266353,44.723925510059722,65.188088785966556,21.945125292091568,752.03017786722194,2008,200.54108682675923,302.07973998683781,22.761515097240665,94.790696368266353,44.723925510059722,65.188088785966556,21.945125292091568,752.03017786722194,2008,200.54108682675923,302.07973998683781,22.761515097240665,94.790696368266353,44.723925510059722,65.188088785966556,21.945125292091568,752.03017786722194]
[2009,171.57372666301367,368.84706390958905,20.968079558904108,117.58886178082193,54.225672180821924,64.886490539726026,17.303896230136985,815.39379086301381,2009,171.57372666301367,368.84706390958905,20.968079558904108,117.58886178082193,54.225672180821924,64.886490539726026,17.303896230136985,815.39379086301381,2009,171.57372666301367,368.84706390958905,20.968079558904108,117.58886178082193,54.225672180821924,64.886490539726026,17.303896230136985,815.39379086301381]
[2010,157.64542292876712,400.49898961917813,21.190732512328765,123.76369569863014,59.329376189041099,67.469810520547952,19.830496567123284,849.72852403561649,2010,157.64542292876712,400.49898961917813,21.190732512328765,123.76369569863014,59.329376189041099,67.469810520547952,19.830496567123284,849.72852403561649,2010,157.64542292876712,400.49898961917813,21.190732512328765,123.44323957534247,59.329376189041099,67.469810520547952,19.830496567123284,849.40806791232876]
[2011,189.49195393424657,358.49972246301377,21.187148197260274,141.93104630684931,43.270570136986294,58.849434843835624,23.556293060273969,836.78616894246591,2011,189.49195393424657,358.49972246301377,21.187148197260274,141.93104630684931,43.270570136986294,58.849434843835624,23.556293060273969,836.78616894246591,2011,189.49195393424657,358.49972246301377,21.187148197260274,141.34283407123286,43.270570136986294,58.849434843835624,23.556293060273969,836.19795670684937]
[2012,198.97044910109292,344.39617575683059,22.55266100273224,144.94893537431693,58.764681519125681,63.971707666666674,21.724749128415297,855.32935954918037,2012,198.97044910109292,344.39617575683059,22.55266100273224,144.94893537431693,58.764681519125681,63.971707666666674,21.724749128415297,855.32935954918037,2012,198.97044910109292,344.39617575683059,22.55266100273224,144.88441472138632,58.764681519125681,63.971707666666674,21.724749128415297,855.26483889624978]
[2013,220.49488113567668,375.61697210469038,24.996595360416443,173.639668188863,55.779610915301376,86.150132298197263,17.852108248241095,954.52996825138621,2013,220.49488113567668,375.61697210469038,24.996595360416443,173.639668188863,55.779610915301376,86.150132298197263,17.852108248241095,954.52996825138621,2013,220.49488113567668,375.61697210469038,24.996595360416443,173.52842680949499,55.779610915301376,86.150132298197263,17.852108248241095,954.41872687201817]
[2014,254.28326509358629,387.06665293093977,25.564817273561644,192.62012320324931,58.908661383526038,101.69103700298356,16.720994435852056,1036.8555513236986,2014,254.28326509358629,387.48414723268763,25.564817273561641,192.6764035700767,58.927115438328769,101.71318960549588,16.721077008569864,1037.3700152223068,2014,254.28326509358629,387.48414723268763,25.564817273561641,192.6764035700767,58.927115438328769,101.71318960549588,16.721077008569864,1037.3700152223068]
[2015,268.0636724819567,360.01228827574801,24.062097718816439,195.21745411214798,68.275573070241094,93.12096138272878,16.014897368010917,1024.7669444096498,2015,268.0636724819567,360.01228827574795,24.062097718816439,195.21745411214795,68.275573070241094,93.12096138272878,16.014897368010917,1024.7669444096498,2015,268.0636724819567,360.01228827574795,24.062097718816439,195.21745411214795,68.275573070241094,93.12096138272878,16.014897368010917,1024.7669444096498]
[2016,256.56980607111984,361.05179696109559,25.234835196953568,171.48230899986342,63.264896238106509,102.7308941360574,15.167382495620224,995.50192009881664,2016,256.56980607111984,361.27678198175693,25.251385533180343,171.52511250307785,63.327877096585119,102.86478372374056,15.172894264527425,995.98864117398796,2016,256.56980607111984,361.27678198175693,25.251385533180343,171.52511250307785,63.327877096585119,102.86478372374056,15.172894264527425,995.98864117398796]
[2017,261.02972317044106,363.16719037467124,23.232600898739715,134.59957823961369,51.903192056980799,70.886573404161652,13.185154895287667,918.00401303989588,2017,261.02972317044106,363.16719037467124,23.232600898739715,134.59957823961369,51.903192056980828,70.88657340416168,13.185154895287667,918.00401303989588,2017,261.02972317044106,363.16719037467124,23.232600898739715,134.59957823961369,51.903192056980828,70.88657340416168,13.185154895287667,918.00401303989588]
[2018,275.80059275963595,397.65397548982719,24.615877145392567,137.22104107374105,70.252008348624173,76.454804479275282,14.413664215927575,996.41196351242377,2018,320.6946908070243,498.02664278611121,26.816612610533817,139.79343503800774,116.57453552100714,94.604244119066266,15.232902427202374,1211.7430633089527,2018,249.72996151656631,351.93018226517665,22.378649395177455,123.8784628499439,53.121036227417534,69.38416860988518,13.641165626351619,884.06362649051869]
[2019,283.04250017250638,279.36738045172541,25.559766157075014,142.06267940776411,65.985110441354635,78.116946934979808,14.703840360109135,888.83822392551451,2019,309.42269596364696,371.94414619776074,27.730772788905064,144.83640300685417,90.616995540501208,99.050444841323383,15.481631315848997,1059.0830896548405,2019,258.65450111397087,242.91176242017735,23.244673476505312,128.52661455711132,54.911438110060516,71.370369685746567,13.878610630139093,793.49796999371108]
[2020,313.91488771438003,285.57542180957216,25.989802390684844,144.61336607804162,63.983209537804612,78.586688296078947,14.723220470384032,927.38659629694621,2020,343.31090675693184,366.80725492671263,28.244290613559386,147.4120898621085,96.124475802358532,83.464364471324956,15.550355810678393,1080.9137382436743,2020,288.74304196290012,256.13540760608856,23.726727974931151,130.97167042457534,56.199213284010028,72.631964796584711,13.943768173340739,842.35179422243061]
[2021,331.01725545568502,300.48499198396615,26.666537848471151,146.56704632762643,68.132448361763181,80.615420211783501,14.783283274329399,968.26698346362491,2021,363.41787882220603,416.59680295062628,29.577921229036363,149.39603503056657,106.39789334452493,96.114811350622034,15.612914913893192,1177.1142576414754,2021,303.08498535246395,267.34017599941467,24.339444159742936,132.93129588145956,57.599998586596286,74.057726795732776,14.001082305991464,873.35470908140167]
[2022,341.83723843379278,301.68445328271957,27.224309574831803,147.1184260106925,67.881879430828945,81.227904760954331,14.811649781373912,981.78586127519372,2022,370.61296980366831,380.21326153929772,29.493039669665279,149.93479192129885,94.576767925418494,91.572358058132778,15.642201941163711,1132.0453908586451,2022,313.63283239959867,271.09909792909548,24.875508782511389,133.45615828966237,58.607830542746882,75.012135693568823,14.028474105862188,890.7120377430457]
[2023,344.81560694329954,307.01892482710934,27.803190826771548,147.40968842516955,66.272812784960081,82.464756818003792,14.821265639417721,990.60624626473145,2023,368.9825971779465,358.93759059786601,30.148267726335831,150.36094494834848,86.668985393191562,88.652795901347901,15.65146966420358,1099.40265140924,2023,317.94873721081933,282.02989732130277,25.483314462496224,133.87082743888428,59.82810191551085,76.425644534358767,14.0384184736759,909.62494135704799]
[2024,333.43710398521301,332.51731948747778,28.48453319317677,147.84399201225111,67.352307988385732,83.907521503037287,14.834256389806711,1008.3770345593483,2024,355.27438180441999,380.14367537917735,30.75689674530911,150.6430197642722,83.008861506122258,92.556014430447661,15.614419644313809,1107.9972692740623,2024,307.62545439903812,304.8523911135207,26.050748567875829,134.15294501933025,60.829089135469154,77.628417334337129,14.006706941433897,925.14575251100507]
[2025,332.31411984988125,343.66137367103443,29.07446816173735,148.10345716963906,68.545516218922671,84.881884571708525,14.850536505760999,1021.4313561486842,2025,361.32043819020629,393.17363101747549,31.453162895922663,150.99603041792491,88.885315473149191,90.252987977950738,15.678656315713411,1131.7602222883429,2025,306.76869045723925,316.07030832968917,26.691964002942782,134.49091597284192,61.897472103244844,78.97660596055124,14.06994105334222,938.96589787985124]
[2026,334.35556029833043,350.13317188902909,29.795050121123868,148.40471526098437,68.731448668424406,86.38068669988202,14.865027159107347,1032.6656600968815,2026,356.11110863185695,397.13606455012075,32.068809420636185,151.21736782519494,85.237956409848337,91.491997781466623,15.643747944452544,1128.9070525635764,2026,308.56401540209788,323.34601062121857,27.257843217920765,134.70976557344775,62.731056700349271,80.120395470539364,14.03883699311241,950.7679239786861]
[2027,331.36937458279925,359.26644573437051,30.485176387232038,148.69117809667566,69.125631006351725,88.003119220477259,14.893252014532358,1041.8341770424388,2027,350.95137738400337,396.06413511017047,33.48729042952467,151.56589215455023,81.667956565722832,95.044893306961512,15.670258965662592,1124.4518039165957,2027,306.80032227171966,334.74005848099034,27.938397894514946,135.05843746309287,63.802296794383032,81.823732528453604,14.068653760152918,964.23189919330741]
[2028,330.15901769648161,369.64691719867716,31.22417293959623,148.96884222949325,70.716206770325016,89.885821981138875,14.8899261665682,1055.4909049822802,2028,354.5790046049143,412.57892220923941,34.155696695793395,151.85858551446566,85.280748562275562,97.468215546972743,15.663396627194926,1151.5845697608559,2028,305.50332038556343,344.3597622945465,28.589605512597558,135.36302125380999,64.760955001818175,83.592702478362241,14.068762032482535,976.23812895918036]
[2029,333.26167558237165,381.45705973449236,31.84691043616839,149.33324189176011,71.96066514883492,91.719706553528326,14.785073754142179,1074.3643331012977,2029,356.28045550590224,428.39866496177297,36.361562968449753,152.22899551745292,88.28027020925829,99.156988713852968,15.605570280740029,1176.3125081574292,2029,308.29910466556981,355.58913859929271,29.058669410736336,135.70804306058787,65.572553787041684,85.137162475395471,13.964577227544323,993.32924922616814]
[2030,335.52583306037866,393.67426257880589,32.39169804826598,149.57687307312727,73.045866173884818,93.076765125061939,14.618032215702424,1091.9093302752271,2030,367.41264463183381,450.77150357456856,38.385430974437838,152.36522485589904,101.43328162203359,98.321806826225227,15.435014981035231,1224.1249074660332,2030,310.33730627789657,366.39851029089959,29.557642585457934,135.8764492019497,66.092791232626624,86.416679167774745,13.848390961440654,1008.5277697180459]
[2031,339.98377089776727,400.00493683322446,33.921929904073856,150.22507572903882,75.470117442871782,96.222394260830072,14.661596929941158,1110.4898219977476,2031,370.24994438937983,486.34933712277507,42.080509942062193,158.4540818860159,97.342617399945397,121.88961068025239,15.475776428229437,1291.8418778486603,2031,313.44551824889197,368.79325358598737,30.411048712657433,136.17748675146896,67.007158538503901,88.48428166958162,13.894662194784269,1018.2134097018754]
[2032,341.80772309322612,400.8030254225871,34.483432267830018,150.30131123540562,75.809855244196939,97.678837315483534,14.590207585464679,1115.4743921641939,2032,372.01298444635347,486.63339665508829,42.645095720449149,158.4999545777797,97.624109615298408,123.33186863768447,15.400408561056045,1296.1478182137098,2032,315.29650950700722,369.63867493842406,30.956959203065832,136.27105444140349,67.368711803037527,89.906330647865559,13.827251373004703,1023.2654919138084]

{"sheet":"Mensual","index":3,"n_rows":1472,"n_cols":60,"rows_kept":1472,"cut":false,"hidden":true,"merged":[[2,2,2,9],[2,12,2,19],[2,22,2,29],[186,2,186,9],[186,12,186,19],[186,22,186,29],[370,2,370,9],[370,12,370,19],[370,22,370,29],[554,2,554,9],[554,12,554,19],[554,22,554,29],[738,2,738,9],[738,12,738,19],[738,22,738,29],[922,2,922,9],[922,12,922,19],[922,22,922,29],[1106,2,1106,9],[1106,12,1106,19],[1106,22,1106,29],[1290,2,1290,9],[1290,12,1290,19],[1290,22,1290,29]]}
[]
[null,null,null,null,null,null,null,null,null,null,null,null,null,null,null,null,null,null,null,null,null,null,null,null,null,null,null,null,null,null,null,null,null,null,"nf","nc","nd",null,null,null,"CENTRO","COSTA","CQR","NORESTE","NOROESTE","SUROESTE","TG"]
[null,null,"RESIDENCIAL MEDIO",null,null,null,null,null,null,null,null,null,"RESIDENCIAL ALTO",null,null,null,null,null,null,null,null,null,"RESIDENCIAL BAJO",null,null,null,null,null,null,null,null,null,null,"RESIDENCIAL",5,3,180,null,"GBTUD",1,1,1,1,1,1,1,1]
[null,null,"CENTRO","COSTA","CQR","NORESTE","NOROESTE","SUROESTE","TOLIMA GRANDE","TOTAL",null,null,"CENTRO","COSTA","CQR","NORESTE","NOROESTE","SUROESTE","TOLIMA GRANDE","TOTAL",null,null,"CENTRO","COSTA","CQR","NORESTE","NOROESTE","SUROESTE","TOLIMA GRANDE","TOTAL",null,null,null,"TERCIARIO",189,3,180,null,"MPCD",2,1.1299999999999999,0.997,1.1299999999999999,1.06,1.1299999999999999,1.1299999999999999,1.1299999999999999]
[null,"2018-01-01",52.610783841916295,26.81922566724262,8.5117525015615509,12.930086512545286,17.965302588237392,14.135296423014442,8.1325448241179412,141.10499235863551,null,{"$f":"+$B$5","v":"2018-01-01"},55.492790904901419,28.288376897321875,8.9780244145897168,13.638393782137314,18.949437876993798,14.909624824030566,8.5780438247330455,148.83469252470772,null,{"$f":"+$B$5","v":"2018-01-01"},49.728776778931206,25.350074437163382,8.0454805885333887,12.221779242953264,16.981167299481001,13.360968021998328,7.6870458235028414,133.37529219256342,null,null,null,"INDUSTRIAL",373,3,180]
[null,"2018-02-01",60.68653103077996,31.186869150312276,9.6927660195280705,14.705084771500838,20.396579086391938,16.621189858152409,8.8887719096739577,162.17779182633942,null,{"$f":"+$B$6","v":"2018-02-01"},63.800602222358243,32.787193458308245,10.190141020462166,15.459662106518081,21.443209998735007,17.474090289728789,9.3448907232272749,170.49978981933782,null,{"$f":"+$B$6","v":"2018-02-01"},57.572459839201692,29.586544842316314,9.1953910185939751,13.950507436483596,19.349948174048876,15.768289426576036,8.4326530961206423,153.85579383334115,null,null,null,"PETROQUIMICO",557,3,180]
[null,"2018-03-01",55.817002427280961,28.756975300106824,8.9911249285251049,13.596689548765587,18.913175928762872,15.470680695585987,8.3197117653065416,149.86536059433388,null,{"$f":"+$B$7","v":"2018-03-01"},58.723262876216012,30.254283580940886,9.4592717231375492,14.304637295037116,19.897940655910755,16.276202767149421,8.7528996506923793,157.66849854908409,null,{"$f":"+$B$7","v":"2018-03-01"},52.910741978345889,27.259667019272751,8.5229781339126589,12.888741802494053,17.928411201614985,14.665158624022546,7.8865238799206994,142.06222263958358,null,null,null,"PETROLERO",741,3,180]
[null,"2018-04-01",56.934344434108773,28.929451181130851,9.0572630163350603,13.619436516453394,19.025536366307644,15.381605714126836,8.329150835987928,151.27678806445047,null,{"$f":"+$B$8","v":"2018-04-01"},60.039084857865745,30.507030363114922,9.5511731666127844,14.362130851862169,20.063035830422766,16.220394559727925,8.7833556143706666,159.52620524397699,null,{"$f":"+$B$8","v":"2018-04-01"},53.829604010351794,27.35187199914677,8.5633528660573326,12.876742181044618,17.988036902192519,14.542816868525748,7.8749460576051886,143.02737088492398,null,null,null,"GNVC",925,3,180]
[null,"2018-05-01",55.40752608747254,28.394822770870316,9.0219572288027301,13.526650126879655,18.949670829156091,15.405389366516847,8.2494830207635914,148.95549943046177,null,{"$f":"+$B$9","v":"2018-05-01"},58.30837852972742,29.881429316923942,9.4943004014571883,14.234835798157222,19.941777908939823,16.211936139552645,8.6813834259602221,156.75404152071846,null,{"$f":"+$B$9","v":"2018-05-01"},52.506673645217653,26.908216224816691,8.5496140561482701,12.818464455602085,17.957563749372351,14.598842593481047,7.8175826155669608,141.15695734020505,null,null,null,"TERMOELECTRICO",1109,3,180]
[null,"2018-06-01",54.55277732277586,27.774586908479009,8.8564125204356632,13.256247248344998,18.636936619167113,14.97444861712677,8.0965253029605773,146.14793453929002,null,{"$f":"+$B$10","v":"2018-06-01"},57.61335023024359,29.332823764234995,9.3532835790258684,13.999962108963828,19.682524141821105,15.814559680046228,8.550764430700136,154.34726793503572,null,{"$f":"+$B$10","v":"2018-06-01"},51.492204415308137,26.216350052723023,8.359541461845458,12.512532387726168,17.59134909651312,14.134337554207312,7.6422861752210194,137.94860114354424,null,null,null,"TOTAL",1293,3,180]
[null,"2018-07-01",53.989056326762721,27.597222194134943,8.7797159372999154,13.112820818351365,18.49509226488356,14.893239176338664,8.0000746133530267,144.8672213311242,null,{"$f":"+$B$11","v":"2018-07-01"},56.796877301730639,29.032477125403872,9.2363245954288544,13.794782234974825,19.456970681150018,15.667795210277127,8.4161362900885415,152.40136343905385,null,{"$f":"+$B$11","v":"2018-07-01"},51.18123535179479,26.161967262866007,8.3231072791709746,12.430859401727901,17.533213848617102,14.118683142400197,7.584012936617512,137.33307922319446]
[null,"2018-08-01",54.80484960028349,28.062229128451051,8.9458177368177232,13.327784816758216,18.860411079753074,15.248000531013682,8.1297928613195776,147.3788857543968,null,{"$f":"+$B$12","v":"2018-08-01"},57.674542454265278,29.53162424556308,9.4142388604884406,14.025654606147441,19.847980378701511,16.046416701854412,8.5554852708168614,155.09594251783702,null,{"$f":"+$B$12","v":"2018-08-01"},51.935156746301672,26.592834011339015,8.477396613147004,12.629915027368984,17.872841780804631,14.449584360172945,7.7041004518222893,139.66182899095654]
[null,"2018-09-01",57.986590222172907,29.609734519020538,9.4419679052841694,14.023384639345601,19.909234635687358,16.068019154474989,8.5513554868764796,155.59028656286205,null,{"$f":"+$B$13","v":"2018-09-01"},61.010037247379131,31.153599460995462,9.9342763798115801,14.754570253272933,20.947311128938111,16.905812936234163,8.9972270273346613,163.70283443396605,null,{"$f":"+$B$13","v":"2018-09-01"},54.963143196966691,28.065869577045614,8.949659430756757,13.29219902541827,18.871158142436606,15.230225372715809,8.1054839464182962,147.47773869175805]
[null,"2018-10-01",56.016976210484188,28.621738454486316,9.1856921622959344,13.604296313070504,19.376708896800327,15.61092478101423,8.2923483200330583,150.70868513818456,null,{"$f":"+$B$14","v":"2018-10-01"},58.998271454997351,30.145024046043989,9.6745664681512604,14.328334393075153,20.407962170295207,16.44175819903403,8.7336777220248472,158.72959445362184,null,{"$f":"+$B$14","v":"2018-10-01"},53.035680965971025,27.098452862928642,8.6968178564406102,12.880258233065856,18.345455623305448,14.78009136299443,7.8510189180412695,142.68777582274726]
[null,"2018-11-01",57.823392740455198,29.470793488526919,9.4971605548316873,14.028126032942243,20.044362377682678,16.134071825655365,8.5477962753206391,155.54570329541471,null,{"$f":"+$B$15","v":"2018-11-01"},60.907332141689018,31.042581945023112,10.003679910524868,14.776298849308256,21.11340374622721,16.994562665907701,9.0036824569825118,163.84154171566269,null,{"$f":"+$B$15","v":"2018-11-01"},54.73945333922137,27.899005032030722,8.9906411991385067,13.279953216576228,18.975321009138138,15.273580985403028,8.0919100936587647,147.24986487516674]
[null,"2018-12-01",56.031710752335407,28.577086028786191,9.2257016332114556,13.5938778472973,19.485643338598528,15.658847866904225,8.2800149352142718,150.85288240234738,null,{"$f":"+$B$16","v":"2018-12-01"},59.01008600130973,30.096105965410192,9.7160953947054107,14.316462768841626,20.521406071000992,16.491196625991474,8.7201405571711561,158.87149338443058,null,{"$f":"+$B$16","v":"2018-12-01"},53.05333550336109,27.058066092162196,8.7353078717175023,12.871292925752975,18.449880606196071,14.82649910781698,7.8398893132573866,142.8342714202642]
[null,"2019-01-01",54.752168178318499,27.939627566764965,9.0434037240668523,13.290799397028799,19.111283076420264,15.369566570616071,8.0923182391721902,147.59916675238765,null,{"$f":"+$B$17","v":"2019-01-01"},57.733103777820808,29.460777015666363,9.5357642094807922,14.014405756130682,20.151780758432185,16.206349654530779,8.5328976778363685,155.63507884989798,null,{"$f":"+$B$17","v":"2019-01-01"},51.771232578816203,26.418478117863575,8.5510432386529125,12.56719303792692,18.07078539440835,14.532783486701366,7.6517388005080145,139.56325465487734]
[null,"2019-02-01",61.224423009774618,31.232954008318551,10.122660456591449,14.837332422530011,21.401853326556655,17.207914622133362,9.030457921985386,165.05759576789001,null,{"$f":"+$B$18","v":"2019-02-01"},64.453350697022103,32.880155321034664,10.656521569691284,15.61984160936797,22.530570158293816,18.115446440837911,9.5067171365175813,173.7626029327653,null,{"$f":"+$B$18","v":"2019-02-01"},57.995495322527141,29.585752695602444,9.5887993434916154,14.054823235692053,20.273136494819497,16.300382803428818,8.5541987074531942,156.35258860301477]
[null,"2019-03-01",55.952117119934002,28.537475031241119,9.283637148316302,13.570430156228362,19.6351958829576,15.776067308239195,8.256107728418014,151.0110303753346,null,{"$f":"+$B$19","v":"2019-03-01"},58.89464963321921,30.038266287209076,9.7718653969794929,14.284101666966277,20.6678145802355,16.605733697569281,8.6902980088676554,158.95272927104648,null,{"$f":"+$B$19","v":"2019-03-01"},53.009584606648744,27.03668377527314,8.7954088996531024,12.856758645490435,18.602577185679685,14.946400918909097,7.8219174479683664,143.06933147962255]
[null,"2019-04-01",57.618852960631244,29.357114171774747,9.5817077686798449,13.968915874447459,20.274021665970274,16.27585596532769,8.4951337949991768,155.57160220183044,null,{"$f":"+$B$20","v":"2019-04-01"},60.697535853968397,30.925719594380833,10.093676304682219,14.715301130858437,21.357300497029563,17.145505338061835,8.9490446548551379,163.8840833738364,null,{"$f":"+$B$20","v":"2019-04-01"},54.540170067294092,27.78850874916867,9.069739232677474,13.222530618036481,19.190742834910992,15.406206592593549,8.0412229351432174,147.25912102982451]
[null,"2019-05-01",56.265826220236654,28.661389190344288,9.3804533826456371,13.639627689668593,19.85659955974489,15.930787602317102,8.291493432613029,152.02617707757022,null,{"$f":"+$B$21","v":"2019-05-01"},59.234057762587831,30.173384039746949,9.8753071772551504,14.359168765559518,20.904109017908205,16.771195882657747,8.7289005408557223,160.04612318657112,null,{"$f":"+$B$21","v":"2019-05-01"},53.297594677885478,27.14939434094163,8.8855995880361238,12.92008661377767,18.809090101581575,15.090379321976457,7.8540863243703365,144.00623096856927]
[null,"2019-06-01",56.949461640360248,29.006670202178395,9.5202733151353947,13.806814474138838,20.160937503702161,16.169422177447135,8.3896480288633644,154.00322734182555,null,{"$f":"+$B$22","v":"2019-06-01"},60.044030701382177,30.582859714518094,10.037594153733304,14.557061090564437,21.256459948394383,17.048050212966054,8.8455319735955928,162.37158779515406,null,{"$f":"+$B$22","v":"2019-06-01"},53.854892579338298,27.430480689838681,9.0029524765374802,13.056567857713231,19.065415059009933,15.29079414192821,7.9337640841311332,145.63486688849696]
[null,"2019-07-01",55.486794053388046,28.259882029226809,9.2952346871544211,13.444859471716871,19.69147265220586,15.790407414987474,8.166272303175278,150.13492261185476,null,{"$f":"+$B$23","v":"2019-07-01"},58.420920702620947,29.754256940964378,9.7867641811852373,14.155820001049294,20.732752395560404,16.625399884618734,8.5981025719521078,158.07401667795108,null,{"$f":"+$B$23","v":"2019-07-01"},52.55266740415513,26.765507117489232,8.8037051931236032,12.733898942384444,18.650192908851317,14.955414945356209,7.7344420343984464,142.19582854575839]
[null,"2019-08-01",55.445769994073231,28.232364820446218,9.3135057376431618,13.435543194050021,19.736575173579435,15.820598170054327,8.1571314476464298,150.14148853749285,null,{"$f":"+$B$24","v":"2019-08-01"},58.399229297113365,29.736233204539051,9.8096131984593811,14.151221415167813,20.787893814528779,16.663322382379292,8.591641704474819,158.1391550166625,null,{"$f":"+$B$24","v":"2019-08-01"},52.49231069103309,26.728496436353378,8.817398276826939,12.719864972932227,18.685256532630085,14.977873957729356,7.7226211908180389,142.14382205832311]
[null,"2019-09-01",57.9753620563746,29.506176080245311,9.7618888373758441,14.044986538978707,20.692957793314356,16.580490625319936,8.5234532460563397,157.08531517766508,null,{"$f":"+$B$25","v":"2019-09-01"},61.025578112023098,31.05856331558919,10.275484078683107,14.783925321299764,21.781661509190229,17.452828061810674,8.9718915656895977,165.34993196428562,null,{"$f":"+$B$25","v":"2019-09-01"},54.925146000726102,27.953788844901428,9.2482935960685815,13.30604775665765,19.604254077438483,15.708153188829197,8.0750149264230835,148.82069839104452]
[null,"2019-10-01",56.550957620257549,28.771503371845622,9.5456502601136322,13.697589341132884,20.240453111517308,16.21137441286168,8.3089822436977805,153.32651036142647,null,{"$f":"+$B$26","v":"2019-10-01"},59.537711423641639,30.291077942129384,10.049806306623369,14.421031149785243,21.309458002981536,17.067582445815543,8.7478233414075977,161.42449061238432,null,{"$f":"+$B$26","v":"2019-10-01"},53.564203816873444,27.251928801561853,9.0414942136038938,12.974147532480522,19.171448220053072,15.355166379907809,7.8701411459879598,145.22853011046854]
[null,"2019-11-01",58.221771807747068,29.613062997497593,9.852718049780778,14.100923296406087,20.897231303163686,16.732707701846696,8.5498425911980611,157.96825774763997,null,{"$f":"+$B$27","v":"2019-11-01"},61.332448282281433,31.195231584008436,10.379129687490419,14.8543083103865,22.013729887444228,17.626703858048675,9.0066441172188281,166.40819572687852,null,{"$f":"+$B$27","v":"2019-11-01"},55.111095333212688,28.030894410986747,9.3263064120711334,13.347538282425671,19.780732718883137,15.838711545644717,8.0930410651772924,149.52831976840139]
[null,"2019-12-01",56.571849162603293,28.769115196166403,9.5961523917115148,13.697479944390935,20.358105166333189,16.297668734722702,8.3014815432686984,153.5918521391967,null,{"$f":"+$B$28","v":"2019-12-01"},59.571309690189622,30.294464406450452,10.104943968117487,14.423725436252374,21.437499489954373,17.161777205368089,8.7416291887513733,161.73534938508377,null,{"$f":"+$B$28","v":"2019-12-01"},53.572388635016949,27.243765985882352,9.0873608153055407,12.971234452529492,19.278710842712002,15.433560264077315,7.8613338977860208,145.44835489330964]
[null,"2020-01-01",55.89732004163848,28.419115075659416,9.5055536076464691,13.532256664541222,20.170323367697275,16.144180485315665,8.197605952210802,151.86635519470934,null,{"$f":"+$B$29","v":"2020-01-01"},58.908794323647093,29.95019803462846,10.017666356600406,14.261308484779635,21.257001763662775,17.013949989460365,8.6392528769781087,160.04817182975685,null,{"$f":"+$B$29","v":"2020-01-01"},52.885845759629866,26.888032116690368,8.9934408586925301,12.803204844302812,19.083644971731779,15.274410981170966,7.7559590274434962,143.68453855966183]
[null,"2020-02-01",60.019813279927504,30.505598911300343,10.231445516522948,14.52707494783694,21.714875654841279,17.376707516053216,8.7961863866896977,163.17170221317193,null,{"$f":"+$B$30","v":"2020-02-01"},63.200761696204005,32.122343970001133,10.773694794444097,15.29698530781978,22.865727274484836,18.297643574209445,9.2623693623933381,171.81952597955663,null,{"$f":"+$B$30","v":"2020-02-01"},56.838864863651033,28.888853852599564,9.6891962386018005,13.757164587854104,20.564024035197729,16.45577145789699,8.3300034109860608,154.52387844678725]
[null,"2020-03-01",56.487442499876082,28.701376599885979,9.652866974633227,13.66929197696656,20.490492689290022,16.393756029693645,8.2729287856120006,153.66815555595753,null,{"$f":"+$B$31","v":"2020-03-01"},59.476475752633107,30.220110060993726,10.163648470391015,14.392602618281,21.574747194418254,17.261231697590059,8.7106908464087756,161.79950664071592,null,{"$f":"+$B$31","v":"2020-03-01"},53.498409247119035,27.182643138778225,9.1420854788754333,12.945981335652116,19.406238184161783,15.526280361797223,7.8351667248152221,145.53680447119905]
[null,"2020-04-01",58.39208725810532,29.660087155798717,10.002974675587545,14.127584935917826,21.236957312951088,16.988322887759118,8.5462547326067781,158.95426895872637,null,{"$f":"+$B$32","v":"2020-04-01"},61.499419461334341,31.238447312071425,10.535282506957676,14.879383710145357,22.367081007030425,17.892355698825639,9.0010432800728779,167.41301297643776,null,{"$f":"+$B$32","v":"2020-04-01"},55.284755054876335,28.081726999526026,9.4706668442174191,13.375786161690304,20.106833618871764,16.084290076692611,8.0914661851406837,150.49552494101513]
[null,"2020-05-01",56.852759950852018,28.871376637376944,9.7628116279596604,13.751888469202539,20.729821811388174,16.58090742672665,8.315005567592177,154.86457149109816,null,{"$f":"+$B$33","v":"2020-05-01"},59.86100214900528,30.399043783077794,10.279389924901416,14.479540235504034,21.826695996337595,17.458250680561147,8.7549763033653178,163.05889907275258,null,{"$f":"+$B$33","v":"2020-05-01"},53.844517752698778,27.343709491676105,9.2462333310179083,13.02423670290105,19.632947626438764,15.703564172892163,7.8750348318190388,146.67024390944383]
[null,"2020-06-01",58.209962846404565,29.55289404931105,10.020348406184315,14.077258188035163,21.278995788961346,17.018868275619287,8.5076234755604876,158.6659510300762,null,{"$f":"+$B$34","v":"2020-06-01"},61.337393307409855,31.14067415672244,10.558708874100713,14.833583117856289,22.422246469014159,17.933236271308463,8.9647101924587265,167.19055238887066,null,{"$f":"+$B$34","v":"2020-06-01"},55.082532385399283,27.965113941899659,9.4819879382679151,13.320933258214037,20.135745108908534,16.104500279930114,8.0505367586622487,150.1413496712818]
[null,"2020-07-01",56.5703336078329,28.712703030677428,9.7617230815834226,13.677559759014947,20.731587251201972,16.580085197707049,8.2620249839682867,154.29601691198599,null,{"$f":"+$B$35","v":"2020-07-01"},59.569212238577961,30.234806685687605,10.279206732140469,14.402627812641718,21.830599931948264,17.459020498672849,8.7000073784661982,162.47548127813508,null,{"$f":"+$B$35","v":"2020-07-01"},53.571454977087832,27.190599375667251,9.244239431026374,12.952491705388175,19.632574570455684,15.701149896741253,7.8240425894703742,146.11655254583692]
[null,"2020-08-01",56.45706895943119,28.647118785067381,9.7658044955501069,13.646977103909817,20.741608388451429,16.587447138394474,8.2394798134678702,154.08550468427228,null,{"$f":"+$B$36","v":"2020-08-01"},59.468637987122413,30.175231690250147,10.286738275701182,14.37494287197473,21.8480205093507,17.472265336915374,8.6789954076684381,162.304832078983,null,{"$f":"+$B$36","v":"2020-08-01"},53.445499931739981,27.119005879884618,9.2448707153990348,12.919011335844907,19.635196267552161,15.702628939873577,7.7999642192673031,145.86617728956159]
[null,"2020-09-01",58.652751230112877,29.752623817118639,10.17024943425929,14.17443841322768,21.601559617282472,17.274980002751793,8.553668687127141,160.18027120187986,null,{"$f":"+$B$37","v":"2020-09-01"},61.758477336750254,31.328057170061605,10.708775053544759,14.924990135075701,22.745385375502561,18.189708728360827,9.0065946214096329,168.66198842070537,null,{"$f":"+$B$37","v":"2020-09-01"},55.547025123475485,28.17719046417567,9.6317238149738191,13.423886691379655,20.457733859062383,16.360251277142755,8.1007427528446474,151.69855398305441]
[null,"2020-10-01",57.090920466138002,28.952788984847874,9.9233069663813254,13.79354667337074,21.077534143368652,16.85627114415373,8.3196212036064079,156.01398958186675,null,{"$f":"+$B$38","v":"2020-10-01"},60.112636524360994,30.485206165925685,10.44852911670163,14.523613401012559,22.193128757516391,17.748442172089089,8.7599632542163803,164.27151939182275,null,{"$f":"+$B$38","v":"2020-10-01"},54.069204407915009,27.420371803770067,9.3980848160610204,13.063479945728922,19.961939529220913,15.96410011621837,7.8792791529964372,147.75645977191076]
[null,"2020-11-01",58.880493502652421,29.852341492055295,10.259095229084487,14.222406538150063,21.790789233420721,17.427583797723031,8.5739229409293607,161.00663273401537,null,{"$f":"+$B$39","v":"2020-11-01"},62.021097799552095,31.44462420548469,10.806301216026739,14.981010082869947,22.953079870407883,18.357147075878004,9.031244162742091,169.59450441296144,null,{"$f":"+$B$39","v":"2020-11-01"},55.739889205752746,28.260058778625897,9.7118892421422363,13.46380299343018,20.628498596433559,16.498020519568058,8.1166017191166322,152.41876105506933]
[null,"2020-12-01",57.22903191172135,29.007360790876199,9.9953577604805073,13.819935856359697,21.230167524753746,16.980519846735675,8.327013508337604,156.58938719926479,null,{"$f":"+$B$40","v":"2020-12-01"},60.262496767467496,30.544916233938821,10.525168688154386,14.55247122046651,22.355487400289739,17.880584175393707,8.7683926822825669,164.88951716799323,null,{"$f":"+$B$40","v":"2020-12-01"},54.195567055975232,27.46980534781359,9.4655468328066323,13.087400492252891,20.10484764921776,16.080455518077649,7.8856343343926429,148.28925723053641]
[null,"2021-01-01",56.920248522585915,28.843018133637749,9.9653251571523835,13.741747707023144,21.165497061623881,16.930503165270466,8.2756071595223659,155.84194690681591,null,{"$f":"+$B$41","v":"2021-01-01"},59.966924804764005,30.386850803646517,10.498722684193073,14.47727957663629,22.298387721308405,17.836714290095454,8.7185619376192225,164.18344181826296,null,{"$f":"+$B$41","v":"2021-01-01"},53.873572240407846,27.299185463628984,9.4319276301116961,13.006215837410002,20.032606401939361,16.024292040445481,7.8326523814255111,147.50045199536888]
[null,"2021-02-01",63.18296218574563,32.007641871926239,11.088341945263313,15.249622988967506,23.549212187001249,18.839644615910821,9.1788777324161615,173.09630352723093,null,{"$f":"+$B$42","v":"2021-02-01"},66.537879196043647,33.707197867100504,11.677115654523776,16.059354248732042,24.799638723082712,19.840000439749485,9.6662618621661931,182.28744799139835,null,{"$f":"+$B$42","v":"2021-02-01"},59.828045175447556,30.30808587675196,10.499568236002844,14.439891729202959,22.298785650919768,17.839288792072143,8.6914936026661245,163.90515906306337]
[null,"2021-03-01",57.20411218025567,28.971097752270236,10.063118442280734,13.802769535472779,21.370074503221371,17.098943389153227,8.303615913204986,156.81373171585901,null,{"$f":"+$B$43","v":"2021-03-01"},60.242259685810637,30.509771547117264,10.597577190581561,14.535843579202469,22.505053022613467,18.007079364442642,8.7446263408171756,165.14221073058522,null,{"$f":"+$B$43","v":"2021-03-01"},54.165964674700689,27.432423957423204,9.5286596939799075,13.069695491743088,20.235095983829272,16.190807413863809,7.8626054855927929,148.48525270113274]
[null,"2021-04-01",59.15457933517375,29.950855743363999,10.431135765743351,14.269393078912357,22.149281948891385,17.725633079049619,8.5797580296159506,162.26063698075043,null,{"$f":"+$B$44","v":"2021-04-01"},62.301467343293922,31.54417260625117,10.98604827498966,15.028492077972974,23.327572971104672,18.668596122650062,9.0361814876037077,170.89253088386613,null,{"$f":"+$B$44","v":"2021-04-01"},56.007691327053607,28.357538880476842,9.8762232564970454,13.510294079851745,20.970990926678105,16.782670035449179,8.1233345716281953,153.62874307763471]
[null,"2021-05-01",57.518900651708499,29.114952656343718,10.16691954696241,13.870834082505299,21.585543155029317,17.278076429337158,8.3356342165288169,157.87086073841522,null,{"$f":"+$B$45","v":"2021-05-01"},60.566535298223819,30.657606243977799,10.705613018301142,14.605779188321627,22.729251543711204,18.193554015914145,8.7772971716815817,166.23563648013129,null,{"$f":"+$B$45","v":"2021-05-01"},54.471266005193179,27.572299068709636,9.6282260756236777,13.135888976688971,20.44183476634743,16.362598842760168,7.8939712613760529,149.50608499669912]
[null,"2021-06-01",59.210597633503781,29.963236724992804,10.490883915338685,14.274587205425439,22.270101837164511,17.830187642282677,8.5736194494450331,162.61321440815291,null,{"$f":"+$B$46","v":"2021-06-01"},62.374824331157349,31.564478350354957,11.051518941729901,15.037424125481001,23.460220728191313,18.783036591909887,9.0317954625529513,171.30329853137735,null,{"$f":"+$B$46","v":"2021-06-01"},56.046370935850227,28.361995099630658,9.9302488889474727,13.51175028536988,21.079982946137715,16.877338692655471,8.1154434363371184,153.92313028492853]
[null,"2021-07-01",57.479845585262517,29.079542009916736,10.208468563917387,13.853175548921742,21.666974795134674,17.351792348092989,8.3159643218724373,157.9557631731185,null,{"$f":"+$B$47","v":"2021-07-01"},60.530388063272738,30.622837355252145,10.750247454806518,14.588384560654951,22.816873969524277,18.272678253204777,8.7573051457940938,166.33871480250951,null,{"$f":"+$B$47","v":"2021-07-01"},54.429303107252316,27.536246664581338,9.6666896730282605,13.117966537188538,20.517075620745082,16.430906442981204,7.8746234979507843,149.57281154372751]
[null,"2021-08-01",57.395381748979275,29.029058255988407,10.217677970729687,13.82856676399498,21.682459061572377,17.36913496924571,8.296619524756851,157.8188982952673,null,{"$f":"+$B$48","v":"2021-08-01"},60.455477263905834,30.576773216056107,10.76244428429724,14.565851434692654,22.838482311266617,18.295188780508809,8.738962574373593,166.23317986510085,null,{"$f":"+$B$48","v":"2021-08-01"},54.335286234052717,27.481343295920709,9.6729116571621372,13.091282093297306,20.526435811878141,16.443081157982611,7.85427647514011,149.40461672543373]
[null,"2021-09-01",59.448815642657067,30.059580857482512,10.608335696233476,14.318823969114257,22.506778872642151,18.035073622562695,8.5859863228058106,163.56339498349797,null,{"$f":"+$B$49","v":"2021-09-01"},62.606277418094585,31.656113547278789,11.171768526640147,15.079329268722883,23.702165075216062,18.992957391395638,9.0420075795057713,172.25061880685388,null,{"$f":"+$B$49","v":"2021-09-01"},56.291353867219563,28.463048167686235,10.04490286582681,13.558318669505635,21.311392670068244,17.077189853729756,8.1299650661058536,154.87617116014209]
[null,"2021-10-01",57.749286713405347,29.192475258011338,10.329460017412618,13.905023435000373,21.910113536133014,17.562862901611364,8.3331950799971164,158.98241694157119,null,{"$f":"+$B$50","v":"2021-10-01"},60.812129964624106,30.740753702974633,10.877302574500378,14.642502798118523,23.072158077230419,18.4943427374964,8.7751619295362957,167.41435178448074,null,{"$f":"+$B$50","v":"2021-10-01"},54.686443462186581,27.64419681304804,9.7816174603248545,13.167544071882222,20.748068995035602,16.631383065726325,7.8912282304579362,150.55048209866155]
[null,"2021-11-01",59.643124367594119,30.141794728259121,10.693419965362446,14.356335013786762,22.676485149354004,18.18375408108043,8.5988139536823542,164.29372725911924,null,{"$f":"+$B$51","v":"2021-11-01"},62.820075262415997,31.747327683630402,11.263015714878927,15.12103961053645,23.8843708956245,19.15232999677302,9.0568384112240299,173.0449975750833,null,{"$f":"+$B$51","v":"2021-11-01"},56.466173472772255,28.536261772887851,10.123824215845971,13.591630417037079,21.46859940308352,17.215178165387844,8.1407894961406804,155.5424569431552]
[null,"2021-12-01",57.927914708554894,29.267166203349571,10.410408715801848,13.938832708291248,22.070401142609551,17.704599190089059,8.3440079491464534,159.66333061784263,null,{"$f":"+$B$52","v":"2021-12-01"},61.000789172711677,30.819687610636198,10.96264470194375,14.678239319161982,23.24115918605084,18.643766619523927,8.7866285593419509,168.13291516937031,null,{"$f":"+$B$52","v":"2021-12-01"},54.855040244398118,27.714644796062945,9.85817272965995,13.199426097420515,20.899643099168262,16.765431760654199,7.9013873389509559,151.19374606631496]
[null,"2022-01-01",57.788808309811692,29.189120365088449,10.409875130187631,13.900633376778707,22.062898006045977,17.705877005027283,8.3163821687305983,159.37359436167031,null,{"$f":"+$B$53","v":"2022-01-01"},60.872806542752912,30.746847514339205,10.965415855902624,14.642464364898784,23.240322155362719,18.650781303856849,8.7602000750512996,167.87883781216442,null,{"$f":"+$B$53","v":"2022-01-01"},54.704810076870487,27.631393215837701,9.85433440447264,13.158802388658634,20.885473856729242,16.760972706197723,7.872564262409897,150.86835091117632]
[null,"2022-02-01",64.096659324155112,32.366595356707307,11.573307423394024,15.412594459338518,24.521126469797622,19.687259733102056,9.2156375062139055,176.87318027270857,null,{"$f":"+$B$54","v":"2022-02-01"},67.502897443223787,34.086627758566664,12.188338554890279,16.231653788088291,25.824233317870927,20.73348422077401,9.7053768482665568,186.2726119316805,null,{"$f":"+$B$54","v":"2022-02-01"},60.690421205086466,30.646562954847962,10.958276291897773,14.59353513058875,23.21801962172432,18.64103524543011,8.7258981641612561,167.47374861373666]
[null,"2022-03-01",57.965062901777507,29.262585580104261,10.490762580377277,13.933275728227004,22.220161253434387,17.848139367990942,8.3262779564265017,160.04626536833788,null,{"$f":"+$B$55","v":"2022-03-01"},61.047261750734258,30.818576431788991,11.048591981937813,14.674155221181394,23.401682535573265,18.79718542887867,8.7690143746872451,168.55646772478161,null,{"$f":"+$B$55","v":"2022-03-01"},54.88286405282075,27.706594728419525,9.9329331788167377,13.192396235272611,21.038639971295506,16.899093307103211,7.8835415381657556,151.5360630118941]
[null,"2022-04-01",59.940702513091864,30.25192435154986,10.873756678987476,14.402980703806294,23.023340816727007,18.502303974211785,8.6019393467880789,165.59694838516236,null,{"$f":"+$B$56","v":"2022-04-01"},63.129574221766049,31.861340018250441,11.452245311700059,15.169225605205581,24.248192663493214,19.486634674636377,9.0595662993035688,174.40677879435532,null,{"$f":"+$B$56","v":"2022-04-01"},56.751830804417679,28.642508684849279,10.295268046274895,13.636735802407006,21.7984889699608,17.517973273787192,8.144312394272589,156.78711797596944]
[null,"2022-05-01",58.20894426667121,29.370112095600888,10.584320091293376,13.981732289312486,22.402251836120183,18.012402600673887,8.3454470582270943,160.9052102378991,null,{"$f":"+$B$57","v":"2022-05-01"},61.297198677363987,30.928332732729231,11.145867352078117,14.723528021146743,23.590795176219228,18.968044082915227,8.7882117228583638,169.44197776531092,null,{"$f":"+$B$57","v":"2022-05-01"},55.120689855978426,27.811891458472537,10.022772830508632,13.239936557478226,21.213708496021134,17.056761118432547,7.9026823935958248,152.36844271048733]
[null,"2022-06-01",60.063074470974989,30.29760507685193,10.946988286602334,14.421702833589595,23.160864684778328,18.632364696885134,8.6029643198534487,166.12556436953574,null,{"$f":"+$B$58","v":"2022-06-01"},63.265383208794802,31.91294505615156,11.530635336836802,15.190606946557741,24.395703893539931,19.625763466438865,9.0616379401312734,174.98267584845095,null,{"$f":"+$B$58","v":"2022-06-01"},56.860765733155162,28.682265097552293,10.363341236367862,13.652798720621444,21.926025476016719,17.638965927331398,8.1442906995756186,157.26845289062049]
[null,"2022-07-01",58.264944928102217,29.382780099232253,10.644045891985838,13.984633561774885,22.510737235765383,18.119527820902263,8.3372720795506758,161.24394161731354,null,{"$f":"+$B$59","v":"2022-07-01"},61.359523608724714,30.943363825599892,11.209374453328387,14.727388041848432,23.706331732951558,19.081895580224824,8.7800828376104967,169.8079600802883,null,{"$f":"+$B$59","v":"2022-07-01"},55.17036624747972,27.822196372864614,10.07871733064329,13.241879081701338,21.315142738579208,17.157160061579699,7.8944613214908541,152.67992315433872]
[null,"2022-08-01",58.232470014181494,29.358626100095126,10.662900383344949,13.971425940104229,22.540974340747685,18.154507720556566,8.3244067081991684,161.24531120722921,null,{"$f":"+$B$60","v":"2022-08-01"},61.334479257276087,30.922542751833827,11.230906781481206,14.71567553822123,23.741718714742621,19.121587611539791,8.7678429310800432,169.83475358617483,null,{"$f":"+$B$60","v":"2022-08-01"},55.130460771086895,27.794709448356414,10.094893985208689,13.227176341987226,21.340229966752744,17.187427829573338,7.8809704853182927,152.65586882828362]
[null,"2022-09-01",60.2566055486718,30.371076743859884,11.059207465920677,14.451367713211251,23.368305041465209,18.832339603120598,8.605172376249822,166.94407449249925,null,{"$f":"+$B$61","v":"2022-09-01"},63.460238504081758,31.985800664365545,11.647186844711296,15.21969638747411,24.610716084391289,19.833589229293064,9.0626792928860347,175.81990700720311,null,{"$f":"+$B$61","v":"2022-09-01"},57.052972593261813,28.756352823354213,10.471228087130054,13.683039038948387,22.125893998539123,17.831089976948128,8.1476654596136058,158.06824197779531]
[null,"2022-10-01",58.456270880321199,29.455854762551169,10.753705477771057,14.013968940724412,22.712177029256608,18.315201030976695,8.3396581847611504,162.04683630636231,null,{"$f":"+$B$62","v":"2022-10-01"},61.560849659553476,31.020238193837571,11.324828563825472,14.758242736007505,23.918407631608186,19.287910777969557,8.7825726135564413,170.65305017635822,null,{"$f":"+$B$62","v":"2022-10-01"},55.351692101088915,27.891471331264761,10.18258239171664,13.269695145441318,21.50594642690503,17.342491283983833,7.8967437559658586,153.44062243636637]
[null,"2022-11-01",60.408389191174031,30.431462929911909,11.138596223903464,14.476048106229671,23.513651685691858,18.974022986460437,8.609382978493155,167.55155410186453,null,{"$f":"+$B$63","v":"2022-11-01"},63.624354499397953,32.051544682984009,11.731582388871775,15.246710412130339,24.765449475755993,19.984144270919636,9.0677212549273278,176.47150698498703,null,{"$f":"+$B$63","v":"2022-11-01"},57.192423882950102,28.811381176839806,10.54561005893515,13.705385800329001,22.26185389562772,17.963901702001234,8.1510447020589787,158.63160121874199]
[null,"2022-12-01",58.620871643523351,29.523161932983193,10.834033251544032,14.041862341879838,22.859165951927157,18.458510422387683,8.3460327196315021,162.68363826387676,null,{"$f":"+$B$64","v":"2022-12-01"},61.733290095069165,31.090665645772901,11.409255762765289,14.787401434384302,24.072851246959555,19.438547170664819,8.7891572502892803,171.32116860590531,null,{"$f":"+$B$64","v":"2022-12-01"},55.508453191977537,27.955658220193484,10.258810740322774,13.296323249375373,21.645480656894762,17.478473674110543,7.9029081889737238,154.0461079218482]
[null,"2023-01-01",58.573325222265268,29.491410861113771,10.850280848396544,14.024550011154103,22.881443447783223,18.489582648630471,8.3305973215866516,162.64119036093004,null,{"$f":"+$B$65","v":"2023-01-01"},61.694332465691168,31.06282424027766,11.428424653491263,14.771830825492478,24.100652882616973,19.474777208702363,8.7744829040437846,171.3073251803157,null,{"$f":"+$B$65","v":"2023-01-01"},55.452317978839325,27.91999748194986,10.272137043301816,13.277269196815721,21.662234012949455,17.504388088558564,7.8867117391295114,153.97505554154424]
[null,"2023-02-01",64.947078252126857,32.691915624070944,12.058754660022039,15.543979521221569,25.416092062775764,20.552768619446908,9.227408542007888,180.43799728167198,null,{"$f":"+$B$66","v":"2023-02-01"},68.399687199471629,34.429829067248988,12.699802192158931,16.37030280190827,26.767220230879374,21.64536084588606,9.7179407437686152,190.03014308132185,null,{"$f":"+$B$66","v":"2023-02-01"},61.494469304782079,30.954002180892896,11.417707127885146,14.717656240534863,24.06496389467215,19.46017639300775,8.7368763402471608,170.84585148202206]
[null,"2023-03-01",58.716799600004073,29.548007085585187,10.927114880599271,14.04673629157721,23.017989242906975,18.62761385735919,8.3333918215034721,163.2176527795354,null,{"$f":"+$B$67","v":"2023-03-01"},61.840009325254861,31.119697363668266,11.508339874068055,14.793897303293592,24.242340848391279,19.618436673892884,8.7766538957062217,171.89937528427515,null,{"$f":"+$B$67","v":"2023-03-01"},55.59358987475327,27.976316807502101,10.345889887130486,13.299575279860825,21.79363763742267,17.636791040825489,7.8901297473007199,154.53593027479559]
[null,"2023-04-01",60.713558631879764,30.544750279847268,11.324725344608687,14.517976832026903,23.841677912971729,19.309246254746874,8.6075557091748003,168.85949096525601,null,{"$f":"+$B$68","v":"2023-04-01"},63.943906888507343,32.169925661410538,11.927272907263561,15.290425724924976,25.110207124843754,20.336621216475137,9.0655325302593326,177.84389205368464,null,{"$f":"+$B$68","v":"2023-04-01"},57.483210375252149,28.919574898283976,10.722177781953809,13.745527939128824,22.573148701099687,18.2818712930186,8.1495788880902644,159.87508987682733]
[null,"2023-05-01",58.899667167937992,29.624345660438372,11.011646531096918,14.07788761532923,23.168632122894063,18.779235512009357,8.3413655977193581,163.90278020742528,null,{"$f":"+$B$69","v":"2023-05-01"},62.027857155124259,31.197709075340207,11.596480437251191,14.82557107767278,24.399129450102929,19.776609849086398,8.7843795839927754,172.60773662857051,null,{"$f":"+$B$69","v":"2023-05-01"},55.77147718075171,28.050982245536531,10.426812624942642,13.330204152985679,21.938134795685194,17.781861174932313,7.8983516114459382,155.19782378628003]
[null,"2023-06-01",60.844520697231403,30.59443426692339,11.401366930009809,14.536077944733213,23.973740305085766,19.447896581411865,8.6073882663873906,169.40542499178284,null,{"$f":"+$B$70","v":"2023-06-01"},64.084949505472409,32.223818228442305,12.008575556685887,15.310233533292127,25.250522467812598,20.48364349206123,9.0657964941538474,178.4275392779204,null,{"$f":"+$B$70","v":"2023-06-01"},57.604091888990439,28.965050305404496,10.794158303333738,13.761922356174308,22.696958142358952,18.412149670762513,8.1489800386209392,160.38331070564541]
[null,"2023-07-01",58.995495210447437,29.656834899454537,11.080233919958992,14.087781045660597,23.283610209632023,18.904133450970125,8.3366164074258382,164.34470514354959,null,{"$f":"+$B$71","v":"2023-07-01"},62.130452106610022,31.232767074525686,11.669025583026832,14.836390514623934,24.520876108220858,19.90867868474929,8.7796151991792399,173.07780527093584,null,{"$f":"+$B$71","v":"2023-07-01"},55.860538314284867,28.080902724383389,10.491442256891157,13.339171576697261,22.046344311043196,17.89958821719096,7.8936176156724391,155.61160501616328]
[null,"2023-08-01",59.000659469768145,29.651575569318062,11.10657602465897,14.08235957721535,23.32361662625841,18.953185900290848,8.3280693864018218,164.44604255391158,null,{"$f":"+$B$72","v":"2023-08-01"},62.141679606512554,31.230137517378143,11.697857194348472,14.832062638205265,24.56529680649983,19.962197309710401,8.7714311026602036,173.20066217531487,null,{"$f":"+$B$72","v":"2023-08-01"},55.859639333023758,28.073013621257992,10.515294854969472,13.332656516225436,22.081936446016996,17.944174490871305,7.8847076701434426,155.6914229325084]
[null,"2023-09-01",61.030559246393885,30.663602732884407,11.514963350075256,14.559872374008428,24.164865813660242,19.654446161901539,8.6049188069384641,170.19322848586222,null,{"$f":"+$B$73","v":"2023-09-01"},64.276574102545453,32.294498979668411,12.127406404242315,15.334264131404863,25.450115603218496,20.699801554654773,9.0625861563483525,179.24524693208269,null,{"$f":"+$B$73","v":"2023-09-01"},57.784544390242324,29.032706486100405,10.902520295908198,13.785480616611997,22.879616024101992,18.609090769148306,8.1472514575285757,161.14121003964178]
[null,"2023-10-01",59.162080254416018,29.716942944324966,11.187915329756601,14.107242423168072,23.462212575010163,19.100541588368092,8.332019570743487,165.06895468578739,null,{"$f":"+$B$74","v":"2023-10-01"},62.306651489675453,31.296452041718393,11.78257320144029,14.857067793438326,24.709271475942103,20.115769812229871,8.7748814336311245,173.84266724807554,null,{"$f":"+$B$74","v":"2023-10-01"},56.017509019156577,28.137433846931536,10.593257458072909,13.357417052897818,22.215153674078223,18.085313364506309,7.8891577078558468,156.29524212349921]
[null,"2023-11-01",61.155509036415751,30.710090133209274,11.591256153779227,14.575369014415159,24.290705043141617,19.793714216155276,8.6029086605605301,170.71955225767684,null,{"$f":"+$B$75","v":"2023-11-01"},64.410424602254906,32.344591292268952,12.208184386035439,15.35112243762058,25.583543500312327,20.847206690064237,9.0607863195311538,179.8058592280876,null,{"$f":"+$B$75","v":"2023-11-01"},57.900593470576588,29.075588974149589,10.974327921523011,13.799615591209736,22.9978665859709,18.740221742246309,8.1450310015899046,161.63324528726605]
[null,"2023-12-01",59.306402785123723,29.773633536271831,11.266378974713412,14.127575328031993,23.592592873570606,19.243472820676676,8.3331588642382748,165.64321518262653,null,{"$f":"+$B$76","v":"2023-12-01"},62.457431201643814,31.355546465231015,11.864976742128691,14.878192280411431,24.846098853917432,20.265904241954754,8.7759107282440549,174.44406051353118,null,{"$f":"+$B$76","v":"2023-12-01"},56.155374368603646,28.191720607312654,10.667781207298132,13.376958375652558,22.339086893223779,18.221041399398601,7.8904070002324964,156.84236985172188]
[null,"2024-01-01",59.30663596495036,29.765845716261648,11.292044966550611,14.120438751779604,23.628573951928907,19.291944549474429,8.3234847741810221,165.72896867512659,null,{"$f":"+$B$77","v":"2024-01-01"},62.464257526553084,31.350647732153337,11.893259385153616,14.872243354021089,24.886613518102063,20.319092002428363,8.7666462275832799,174.55275974599482,null,{"$f":"+$B$77","v":"2024-01-01"},56.1490144033476,28.181043700369941,10.690830547947598,13.368634149538114,22.370534385755743,18.264797096520493,7.8803233207787606,156.90517760425823]
[null,"2024-02-01",63.479277547434336,31.85161969689835,12.113970656223266,15.106105009471319,25.328935432265965,20.701234187671041,8.8986305363466283,177.47977306631088,null,{"$f":"+$B$78","v":"2024-02-01"},66.854689617730358,33.545280143853681,12.758112246235431,15.90934870023367,26.675762265982421,21.801990189420994,9.3718014053604506,186.91698456881701,null,{"$f":"+$B$78","v":"2024-02-01"},60.103865477138321,30.157959249943023,11.469829066211105,14.302861318708972,23.982108598549512,19.600478185921087,8.4254596673328059,168.04256156380481]
[null,"2024-03-01",59.435082995317082,29.814459645479491,11.367929069821168,14.136300636536154,23.75030628965251,19.431189282755671,8.3218302448539418,166.25709816441602,null,{"$f":"+$B$79","v":"2024-03-01"},62.596846708551809,31.400497249636711,11.972667951575884,14.888308375727812,25.013749576351554,20.464868821556905,8.7645260327600774,175.10146471616076,null,{"$f":"+$B$79","v":"2024-03-01"},56.273319282082355,28.228422041322272,10.763190188066451,13.384292897344494,22.486863002953466,18.397509743954434,7.8791344569478063,157.41273161267128]
[null,"2024-04-01",61.456501455506967,30.820263153086877,11.781185076587866,14.609314904843998,24.593833250742279,20.14268209974469,8.5945684673674645,171.99834840788014,null,{"$f":"+$B$80","v":"2024-04-01"},64.726486426873279,32.460151447039188,12.408039798756162,15.386649101379472,25.902424908476643,21.214436368035731,9.0518693071169736,181.15005735767744,null,{"$f":"+$B$80","v":"2024-04-01"},58.186516484140682,29.180374859134581,11.154330354419573,13.83198070830853,23.285241593007925,19.070927831453652,8.1372676276179572,162.84663945808288]
[null,"2024-05-01",59.580989514636229,29.871743031654706,11.447489466678483,14.155837674329167,23.877499630066911,19.577211983676392,8.3222297902955251,166.83300109133739,null,{"$f":"+$B$81","v":"2024-05-01"},62.747574525298411,31.45935368560589,12.055895752814308,14.90818609549606,25.146530793137607,20.617693293622363,8.7645361085342053,175.69977025450882,null,{"$f":"+$B$81","v":"2024-05-01"},56.414404503974048,28.284132377703521,10.83908318054266,13.403489253162276,22.608468466996218,18.536730673730425,7.8799234720568467,157.966231928166]
[null,"2024-06-01",61.581377997141104,30.86643670350934,11.858563419295956,14.623112596366404,24.714054714940733,20.285556016944177,8.5911763012857563,172.52027774948351,null,{"$f":"+$B$82","v":"2024-06-01"},64.859410233582807,32.509484940313783,12.489805434830995,15.401514055493076,26.029606115114348,21.365374441286257,9.0484923565691577,181.70368757719044,null,{"$f":"+$B$82","v":"2024-06-01"},58.303345760699436,29.223388466704908,11.227321403760923,13.844711137239742,23.39850331476713,19.205737592602109,8.1338602460023584,163.33686792177662]
[null,"2024-07-01",59.688077921150537,29.909477271818201,11.519912136256275,14.165675103775973,23.98757864625296,19.711524202734815,8.316824799532915,167.29907008152168,null,{"$f":"+$B$83","v":"2024-07-01"},62.861116417832648,31.499475243012522,12.132314578416068,14.918727203981819,25.262766475006604,20.759395524813286,8.7589500308720734,176.19274547393502,null,{"$f":"+$B$83","v":"2024-07-01"},56.515039424468462,28.319479300623904,10.90750969409649,13.412623003570138,22.71239081749933,18.663652880656358,7.8746995681937619,158.40539468910845]
[null,"2024-08-01",59.714598279011511,29.914776657934716,11.551004410231158,14.164007510438273,24.031137373305473,19.770103936872044,8.3102233931712632,167.45585156096442,null,{"$f":"+$B$84","v":"2024-08-01"},62.892608418938906,31.506840680677957,12.16574871396975,14.917815805017421,25.310074190221076,20.822268609993209,8.7524933735395756,176.3678497923579,null,{"$f":"+$B$84","v":"2024-08-01"},56.536588139084088,28.322712635191458,10.936260106492561,13.410199215859118,22.752200556389859,18.717939263750868,7.8679534128029465,158.54385332957091]
[null,"2024-09-01",61.761686406928675,30.932021204765874,11.97387794059895,14.64122476177311,24.888501709201098,20.499541112590766,8.5843899607203102,173.28124309657881,null,{"$f":"+$B$85","v":"2024-09-01"},65.047099041306083,32.577449935506735,12.610828324520519,15.420064648011911,26.212445447190738,21.590014111117721,9.041036546591533,182.49893805424523,null,{"$f":"+$B$85","v":"2024-09-01"},58.476273772551259,29.28659247402501,11.336927556677379,13.862384875534309,23.564557971211453,19.40906811406381,8.1277433748490857,164.0635481389123]
[null,"2024-10-01",59.846890211755273,29.965016395820019,11.628735802658946,14.179115543483631,24.148925914669142,19.914246096215344,8.3079149243959876,167.99084488899837,null,{"$f":"+$B$86","v":"2024-10-01"},63.029245429623202,31.558404555895297,12.247093213175329,14.933089261665133,25.433043771395443,20.9731850778393,8.7496878605620374,176.92374917015573,null,{"$f":"+$B$86","v":"2024-10-01"},56.66453499388733,28.371628235744733,11.01037839214256,13.425141825302122,22.864808057942835,18.85530711459138,7.8661419882299342,159.05794060784089]
[null,"2024-11-01",61.873366448496895,30.971363233065233,12.049490885601966,14.650661660221857,24.999276842582031,20.640682625446914,8.5785997556737517,173.76344145108865,null,{"$f":"+$B$87","v":"2024-11-01"},65.166072446672885,32.619561793169261,12.690726900245103,15.430323803965313,26.329659744539548,21.739114849008384,9.035125858790682,183.01058539639118,null,{"$f":"+$B$87","v":"2024-11-01"},58.580660450320913,29.323164672961212,11.40825487095883,13.870999516478403,23.668893940624521,19.54225040188545,8.1220736525568231,164.51629750578616]
[null,"2024-12-01",59.973318868413109,30.012223150737004,11.705659560309671,14.192344802825589,24.262755800962541,20.057516695308976,8.3049112844587523,168.50873016301563,null,{"$f":"+$B$88","v":"2024-12-01"},63.161442922291009,31.607644120304357,12.32792118455979,14.946796227234719,25.552540605971128,21.123755026685554,8.746392395240667,177.46649248228721,null,{"$f":"+$B$88","v":"2024-12-01"},56.785194814535203,28.416802181169643,11.08339793605955,13.437893378416456,22.972970995953947,18.991278363932398,7.8634301736768366,159.55096784374405]
[null,"2025-01-01",59.99681048244188,30.015916577974437,11.736474172782081,14.189380492224171,24.302975459913267,20.116237621535483,8.2979607397900601,168.65575554666137,null,{"$f":"+$B$89","v":"2025-01-01"},63.190046118601686,31.61346640934152,12.361129504791183,14.944587895392061,25.596463008322587,21.186892650061449,8.7396066161072206,177.63219220261772,null,{"$f":"+$B$89","v":"2025-01-01"},56.803574846282125,28.418366746607383,11.11181884077299,13.434173089056292,23.009487911503967,19.045582593009538,7.8563148634729085,159.67931889070516]
[null,"2025-02-01",66.500486077462398,33.26070694562101,13.037815102292152,15.717949852714449,26.970950958328313,22.353404509544813,9.1862099873477305,187.02752343331085,null,{"$f":"+$B$90","v":"2025-02-01"},70.03724689321615,35.029643865758935,13.731218057619678,16.553893052863526,28.405373594005258,23.542247626811061,9.6747692362334039,196.97439232650802,null,{"$f":"+$B$90","v":"2025-02-01"},62.963725261708646,31.491770025483088,12.344412146964627,14.882006652565375,25.536528322651368,21.164561392278561,8.6976507384620572,177.08065454011373]
[null,"2025-03-01",60.11545758829768,30.059092888077576,11.812328552499851,14.200042535353166,24.411175613971551,20.25844172347664,8.294077436573005,169.15061633824945,null,{"$f":"+$B$91","v":"2025-03-01"},63.313586738631201,31.658230032741972,12.440741839075594,14.95548168179209,25.709844799185415,21.336186377104557,8.735320535921737,178.14939200445258,null,{"$f":"+$B$91","v":"2025-03-01"},56.917328437964194,28.459955743413197,11.183915265924117,13.444603388914251,23.112506428757701,19.180697069848737,7.8528343372242793,160.15184067204646]
[null,"2025-04-01",62.161571665719862,31.073816120905956,12.241638987567756,14.674201035887933,25.272405359103288,21.001177490365549,8.5659656579832504,174.9907763175336,null,{"$f":"+$B$92","v":"2025-04-01"},65.469091193515524,32.727205037385147,12.892997357676885,15.454992209283638,26.617110327135791,22.118617136673471,9.0217472273516268,184.30176048902209,null,{"$f":"+$B$92","v":"2025-04-01"},58.854052137924214,29.420427204426773,11.59028061745863,13.893409862492229,23.927700391070793,19.883737844057627,8.1101840886148757,165.67979214604517]
[null,"2025-05-01",60.23901883179375,30.104624729218273,11.889471702093985,14.211369388557253,24.519720441152948,20.403378701499289,8.2909955163273015,169.65857931064281,null,{"$f":"+$B$93","v":"2025-05-01"},63.442029217785226,31.705338478280353,12.521654995983548,14.967011904545336,25.823475395295215,21.488260812091152,8.7318417529361358,178.67961255691694,null,{"$f":"+$B$93","v":"2025-05-01"},57.03600844580226,28.503910980156185,11.257288408204419,13.455726872569166,23.215965487010678,19.318496590907419,7.8501492797184627,160.63754606436856]
[null,"2025-06-01",62.276528970262362,31.114460659055375,12.318988142375785,14.682653725252838,25.378506180155906,21.147153263016065,8.5611020175593477,175.47939295767767,null,{"$f":"+$B$94","v":"2025-06-01"},65.59086169716899,32.770360192113785,12.974599915185843,15.464058863979821,26.729140439702668,22.272596560827225,9.0167205477560497,184.81833821673439,null,{"$f":"+$B$94","v":"2025-06-01"},58.962196243355748,29.458561125996969,11.663376369565729,13.901248586525854,24.027871920609147,20.021709965204906,8.1054834873626458,166.14044769862099]
[null,"2025-07-01",60.344556440526915,30.1410479100374,11.963371804912383,14.217947919665525,24.619249157371993,20.543275830649385,8.28556036217506,170.11500942533866,null,{"$f":"+$B$95","v":"2025-07-01"},63.553504700534411,31.743861302841793,12.599549173703414,14.974017098542555,25.92842932881133,21.635707577936927,8.7261623994705477,179.16123158184098,null,{"$f":"+$B$95","v":"2025-07-01"},57.135608180519405,28.538234517233004,11.327194436121347,13.461878740788489,23.310068985932649,19.45084408336184,7.8449583248795696,161.0687872688363]
[null,"2025-08-01",60.381517266565226,30.151328296317818,11.997293446874677,14.217329588420624,24.661915598196519,20.60821986395144,8.2807247014692766,170.29832876179557,null,{"$f":"+$B$96","v":"2025-08-01"},63.594569856792631,31.755756403905707,12.635699643509684,14.973869498779688,25.974238232338607,21.704835139806892,8.7213629158678501,179.36033169100105,null,{"$f":"+$B$96","v":"2025-08-01"},57.168464676337805,28.546900188729918,11.358887250239666,13.460789678061554,23.34959296405442,19.511604588095985,7.8400864870707014,161.23632583259004]
[null,"2025-09-01",62.447409473333828,31.174452958264229,12.435302528508819,14.694003588657376,25.533734831564779,21.367638289473312,8.5538438109389965,176.20638548074135,null,{"$f":"+$B$97","v":"2025-09-01"},65.769604886418449,32.832930475535669,13.09685927472057,15.475722986368051,26.892126756093958,22.504394329674671,9.0089073742254548,185.58054608303684,null,{"$f":"+$B$97","v":"2025-09-01"},59.125214060249213,29.51597544099279,11.773745782297068,13.9122841909467,24.175342907035603,20.230882249271961,8.0987802476525381,166.83222487844586]
[null,"2025-10-01",60.497242351547804,30.192688186348551,12.073664457093003,14.225564277907559,24.763024899699381,20.753153681769962,8.2768875989367814,170.78222545330306,null,{"$f":"+$B$98","v":"2025-10-01"},63.715017389290928,31.798600697266636,12.715848044211933,14.982204809805951,26.080140197587426,21.856988786907404,8.7171252241709993,179.86592514924126,null,{"$f":"+$B$98","v":"2025-10-01"},57.279467313804695,28.58677567543047,11.431480869974076,13.468923746009166,23.445909601811344,19.649318576632524,7.8366499737025643,161.69852575736488]
[null,"2025-11-01",62.550720297363412,31.209017880701968,12.51112504745171,14.698429561190469,25.6306555524171,21.512359644795801,8.5477223207377033,176.66003030465816,null,{"$f":"+$B$99","v":"2025-11-01"},65.879297902072381,32.869776341816682,13.176892770743882,15.480592631882288,26.994566721788257,22.657119580376119,9.0025813048200618,186.06082725349967,null,{"$f":"+$B$99","v":"2025-11-01"},59.222142692654437,29.548259419587247,11.845357324159535,13.916266490498648,24.266744383045939,20.367599709215479,8.0928633366553431,167.25923335581663]
[null,"2025-12-01",60.609199960852287,30.232057979165322,12.149602437487324,14.232406650385535,24.860870484687165,20.897883040395129,8.2726618827624883,171.25468243573525,null,{"$f":"+$B$100","v":"2025-12-01"},63.832312893451849,31.839756762760636,12.795701392225249,14.989266235506323,26.18293698988165,22.009203386727968,8.7125905325149571,180.36176819306863,null,{"$f":"+$B$100","v":"2025-12-01"},57.386087028252717,28.624359195570001,11.503503482749398,13.475547065264744,23.538803979492673,19.78656269406229,7.8327332330100168,162.14759667840184]
[null,"2026-01-01",60.643202631642509,30.240742095324507,12.183275447443462,14.230480099120753,24.900117645997184,20.963059760179437,8.2676008579505531,171.42847853765841,null,{"$f":"+$B$101","v":"2026-01-01"},63.870382543399465,31.850029058604584,12.831618873865272,14.98776727258176,26.225198709997887,22.078626920409071,8.7075683110098492,180.55119168986789,null,{"$f":"+$B$101","v":"2026-01-01"},57.41602271988549,28.631455132044401,11.534932021021637,13.473192925659731,23.575036581996457,19.847492599949781,7.8276334048912473,162.30576538544875]
[null,"2026-02-01",67.207523345904278,33.504962763853214,13.531850963065169,15.759752501855518,27.622932322694851,23.291638299065369,9.1518297295818893,190.07048992602029,null,{"$f":"+$B$102","v":"2026-02-01"},70.78248506147817,35.287188223137349,14.251649085737066,16.598059123438333,29.092275643341711,24.530587617039718,9.6386419089612101,200.18088666313355,null,{"$f":"+$B$102","v":"2026-02-01"},63.632561630330379,31.722737304569062,12.812052840393267,14.921445880272699,26.15358900204798,22.052688981091016,8.6650175502025686,179.960093188907]
[null,"2026-03-01",60.752672508622666,30.278708066853071,12.259169672317608,14.235981013505782,24.994303118361223,21.108527806962726,8.2632351397333341,171.89259732635642,null,{"$f":"+$B$103","v":"2026-03-01"},63.984891738363231,31.889623577631514,12.911393225938124,14.993376691523801,26.324072885471725,22.231563003142693,8.7028633308178218,181.03778445288893,null,{"$f":"+$B$103","v":"2026-03-01"},57.520453278882115,28.667792556074637,11.606946118697095,13.478585335487766,23.664533351250729,19.985492610782764,7.8236069486488491,162.74741019982395]
[null,"2026-04-01",62.821042944804546,31.300953382634464,12.704458181663679,14.710047794266638,25.869956422296884,21.88310365107057,8.5346666525960284,177.82422902933283,null,{"$f":"+$B$104","v":"2026-04-01"},66.163712034900271,32.966457876957925,13.380454594323888,15.492760397731816,27.246480905835192,23.047490148666022,8.9887910204287795,187.2861469788439,null,{"$f":"+$B$104","v":"2026-04-01"},59.478373854708821,29.635448888310997,12.028461769003467,13.927335190801456,24.493431938758572,20.718717153475115,8.0805422847632773,168.36231107982172]
[null,"2026-05-01",60.86153316961321,30.316254318709397,12.335257592715838,14.240825425319738,25.086467664517986,21.254881869649974,8.2589154312710011,172.35413547179715,null,{"$f":"+$B$105","v":"2026-05-01"},64.098611735911192,31.928702969847389,12.99134027554712,14.998260677931972,26.420756542102218,22.385377914461934,8.698187278875114,181.52123739467694,null,{"$f":"+$B$105","v":"2026-05-01"},57.624454603315243,28.703805667571419,11.679174909884559,13.483390172707507,23.752178786933765,20.124385824838022,7.8196435836668901,163.18703354891738]
[null,"2026-06-01",62.926569950900912,31.336226231448318,12.781820633366475,14.713163202753925,25.961389294645098,22.032446135533611,8.5293298169523819,178.28094526560074,null,{"$f":"+$B$106","v":"2026-06-01"},66.275243745747318,33.00380162436273,13.462012606944224,15.496132687580506,27.342939633025487,23.204915492563458,8.9832230335684535,187.7682688237922,null,{"$f":"+$B$106","v":"2026-06-01"},59.577896156054493,29.668650838533903,12.101628659788727,13.930193717927345,24.579838956264712,20.859976778503761,8.0754366003363121,168.79362170740924]
[null,"2026-07-01",60.961307278235516,30.349157101004302,12.409813899039365,14.243028926807488,25.173092287283492,21.399153702691294,8.2534941347181281,172.78904732977955,null,{"$f":"+$B$107","v":"2026-07-01"},64.203838116068511,31.963428221423307,13.069891677157647,15.000615379285174,26.512048613344334,22.537374303306223,8.6924973393172511,181.97969364990243,null,{"$f":"+$B$107","v":"2026-07-01"},57.71877644040255,28.734885980585311,11.749736120921089,13.485442474329808,23.834135961222653,20.260933102076372,7.8144909301190086,163.59840100965675]
[null,"2026-08-01",61.002262070634558,30.361118838360515,12.445383741322912,14.241852266539894,25.212032439133772,21.468552452752533,8.2496258125572357,172.98082762130142,null,{"$f":"+$B$108","v":"2026-08-01"},64.248241355240026,31.976658319382551,13.10761259058302,14.999672646677137,26.553584903622212,22.610911345139357,8.6885950177041043,182.1852761783484,null,{"$f":"+$B$108","v":"2026-08-01"},57.756282786029097,28.745579357338482,11.783154892062806,13.484031886402654,23.870479974645338,20.326193560365716,7.8106566074103698,163.77637906425448]
[null,"2026-09-01",63.08583792537847,31.389392857219242,12.898660564074021,14.717065078737591,26.095439886365256,22.258916818693606,8.5217135171132696,178.96702664758146,null,{"$f":"+$B$109","v":"2026-09-01"},66.442277456906865,33.059444369910054,13.584925114799884,15.500076617345995,27.483830195626474,23.443187501245809,8.9751055471760495,188.48884680301111,null,{"$f":"+$B$109","v":"2026-09-01"},59.729398393850033,29.719341344528409,12.212396013348151,13.934053540129179,24.707049577104019,21.074646136141389,8.0683214870504827,169.44520649215167]
[null,"2026-10-01",61.106542924106314,30.396087805572389,12.521313165927735,14.244334867506288,25.297784957330972,21.616034483297998,8.2450162575365873,173.42711446127825,null,{"$f":"+$B$110","v":"2026-10-01"},64.357302604700038,32.013105754188182,13.187424813553406,15.002108213016522,26.643582238806371,22.765969170977868,8.6836364957838761,182.65312929102626,null,{"$f":"+$B$110","v":"2026-10-01"},57.855783243512626,28.779069856956617,11.855201518302072,13.486561521996062,23.951987675855591,20.466099795618142,7.8063960192893038,164.20109963153041]
[null,"2026-11-01",63.182783616781158,31.420087615479698,12.975060498086171,14.716842939222129,26.17862268494018,22.408050021497282,8.5155618846420502,179.39700926064864,null,{"$f":"+$B$111","v":"2026-11-01"},66.544975991764559,33.092068065768345,13.665512025771427,15.499981229142913,27.571685170327353,23.600466224263545,8.9687068016323561,188.94339550867051,null,{"$f":"+$B$111","v":"2026-11-01"},59.820591241797771,29.748107165191051,12.284608970400916,13.933704649301347,24.785560199553007,21.215633818731021,8.0624169676517461,169.85062301262687]
[null,"2026-12-01",61.207396371302636,30.429226801824026,12.596853280519406,14.24549485170796,25.380280881802403,21.763415388325882,8.240075893082107,173.86274346856442,null,{"$f":"+$B$112","v":"2026-12-01"},64.463166256917972,32.047831188505427,13.266910463076819,15.003247278596429,26.730319587617597,22.921064245003443,8.6783855180355367,183.11092453775322,null,{"$f":"+$B$112","v":"2026-12-01"},57.951626485687306,28.810622415142625,11.926796097961994,13.487742424819491,24.030242175987212,20.605766531648321,7.8017662681286764,164.61456239937564]
[null,"2027-01-01",61.245401255706902,30.439575030265239,12.632178325070567,14.24298896367487,25.415678897947839,21.833095487167178,8.2359849823187243,174.04490294215131,null,{"$f":"+$B$113","v":"2027-01-01"},64.504520631253484,32.059389852774828,13.304388422326822,15.000916911659104,26.768151570845117,22.994924180774678,8.6742555737794085,183.30654714341347,null,{"$f":"+$B$113","v":"2027-01-01"},57.98628188016032,28.81976020775565,11.959968227814311,13.485061015690636,24.063206225050557,20.671266793559674,7.7977143908580393,164.78325874088918]
[null,"2027-02-01",67.866824631652236,33.720998431264221,14.028394341916723,15.770137068010342,28.184654118862888,24.255983752095041,9.1162525364861082,192.94324488028755,null,{"$f":"+$B$114","v":"2027-02-01"},71.477383978854249,35.514977547626209,14.774714073130735,16.609118648577851,29.684096105854792,25.546417912482465,9.6012431189350309,203.20795138546134,null,{"$f":"+$B$114","v":"2027-02-01"},64.256265284450265,31.927019314902253,13.282074610702718,14.93115548744284,26.685212131870994,22.965549591707628,8.6312619540371909,182.6785383751139]
[null,"2027-03-01",61.34581896788135,30.472308673056109,12.708086401229291,14.243261323480995,25.495195262188176,21.981975671008566,8.2311883974621658,174.47783469630667,null,{"$f":"+$B$115","v":"2027-03-01"},64.609834269510301,32.09364299474624,13.384243133112721,15.001099814956389,26.851713258913747,23.151566462318613,8.669143670240798,183.76124360379882,null,{"$f":"+$B$115","v":"2027-03-01"},58.081803666252419,28.850974351365984,12.031929669345864,13.485422832005606,24.138677265462608,20.812384879698524,7.7932331246835336,165.19442578881453]
[null,"2027-04-01",63.433664541109877,31.500494927168226,13.169183126353687,14.715907249563752,26.38169005667887,22.788870450119965,8.5019417638333135,180.49175211482768,null,{"$f":"+$B$116","v":"2027-04-01"},66.809060351641278,33.176681213677362,13.869934153026712,15.498961674019316,27.785497431457628,24.001498766654109,8.9543422174193861,190.09597580789583,null,{"$f":"+$B$116","v":"2027-04-01"},60.058268730578469,29.824308640659087,12.46843209968066,13.932852825108187,24.977882681900113,21.576242133585819,8.0495413102472391,170.88752842175958]
[null,"2027-05-01",61.443881639958889,30.503740083533526,12.783819343013837,14.242455363672883,25.571849752388452,22.131138105994012,8.2262085485012904,174.9030928370629,null,{"$f":"+$B$117","v":"2027-05-01"},64.712616096482407,32.126499316879872,13.46390187779474,15.000135434498025,26.93223884519464,23.308485821638619,8.6638321264939204,184.20770951898223,null,{"$f":"+$B$117","v":"2027-05-01"},58.175147183435371,28.880980850187171,12.103736808232931,13.48477529284774,24.211460659582261,20.953790390349404,7.7885849705086603,165.59847615514354]
[null,"2027-06-01",63.530710908585917,31.530780369923075,13.246701608386044,14.71380937013757,26.458131122104231,22.942027280770272,8.4962940268823601,180.91845468678949,null,{"$f":"+$B$118","v":"2027-06-01"},66.911517594460534,33.208700726250669,13.951628984814395,15.496809345768613,27.866108859392046,24.162894450507292,8.9484269755057699,190.54608693669934,null,{"$f":"+$B$118","v":"2027-06-01"},60.149904222711285,29.852860013595471,12.541774231957687,13.930809394506522,25.050153384816404,21.72116011103325,8.0441610782589468,171.29082243687958]
[null,"2027-07-01",61.536595101236095,30.532382820767452,12.858747842150583,14.239877187623984,25.644374679099116,22.279497024078658,8.2206474431717584,175.31212209812765,null,{"$f":"+$B$119","v":"2027-07-01"},64.810345096830545,32.156707142913248,13.542833882698268,14.997439379740023,27.008656718991126,23.464767401232802,8.6579863061132745,184.63873592851928,null,{"$f":"+$B$119","v":"2027-07-01"},58.262845105641645,28.90805849862166,12.1746618016029,13.482314995507945,24.280092639207105,21.094226646924511,7.7833085802302433,165.98550826773601]
[null,"2027-08-01",61.577907550530355,30.544151254615024,12.895270151769656,14.237221534403654,25.677813295045183,22.352266164686956,8.2172447286721368,175.50187467972296,null,{"$f":"+$B$120","v":"2027-08-01"},64.854607533021053,32.169474749068975,13.581456694335156,14.994816350599951,27.044187920640095,23.541680892531609,8.6545029391182613,184.84072707931512,null,{"$f":"+$B$120","v":"2027-08-01"},58.301207568039651,28.918827760161069,12.209083609204155,13.479626718207355,24.311438669450268,21.162851436842303,7.7799865182260124,166.16302228013083]
[null,"2027-09-01",63.677373191069847,31.576488841604622,13.363803955815348,14.709880370553067,26.569535891704977,23.174339513947455,8.4882304726270554,181.55965223732238,null,{"$f":"+$B$121","v":"2027-09-01"},67.065577271144363,33.256639623052941,14.074877494488886,15.492577177774782,27.98327212802614,24.407421027196818,8.9398800253444897,191.2202447470284,null,{"$f":"+$B$121","v":"2027-09-01"},60.289169110995346,29.896338060156307,12.652730417141813,13.927183563331356,25.15579965538382,21.941258000698095,8.036580919909623,171.89905972761636]
[null,"2027-10-01",61.672671155137365,30.573606982347403,12.971084877059297,14.2343152625053,25.748300402969218,22.503053915512506,8.2121619815467319,175.91519457707781,null,{"$f":"+$B$122","v":"2027-10-01"},64.954000887104556,32.200293223199466,13.661218864541354,14.991660144934023,27.118253448254944,23.700341765868259,8.6490947553193358,185.27486308922195,null,{"$f":"+$B$122","v":"2027-10-01"},58.391341423170211,28.946920741495351,12.280950889577246,13.476970380076581,24.378347357683506,21.30576606515676,7.7752292077741325,166.55552606493382]
[null,"2027-11-01",63.768102846607043,31.603289407554932,13.440789263570972,14.704939812470267,26.638363752514906,23.328110193757677,8.4820916501464279,181.96568692662225,null,{"$f":"+$B$123","v":"2027-11-01"},67.161536418614062,33.28506538134269,14.15604381067563,15.487466408157349,28.055930119175734,24.569520691626806,8.9334680167240137,191.64903084631629,null,{"$f":"+$B$123","v":"2027-11-01"},60.374669274600045,29.921513433767181,12.725534716466317,13.922413216783189,25.220797385854084,22.086699695888552,8.0307152835688456,172.28234300692819]
[null,"2027-12-01",61.764243890240131,30.601339490776486,13.046538427140925,14.230131490160305,25.815508125373761,22.653819631585559,8.2067896248417149,176.31837068011887,null,{"$f":"+$B$124","v":"2027-12-01"},65.050263812035212,32.22941108797766,13.740648521943276,14.987211843147824,27.18896092991211,23.859062308018704,8.6434123777913783,185.69897088082615,null,{"$f":"+$B$124","v":"2027-12-01"},58.47822396844505,28.973267893575315,12.352428332338574,13.473051137172785,24.442055320835411,21.448576955152415,7.7701668718920534,166.93777047941163]
[null,"2028-01-01",61.802777895075842,30.611559717109529,13.082845921111087,14.226166511471313,25.845342987051385,22.726965327661286,8.2031918048665897,176.498850164347,null,{"$f":"+$B$125","v":"2028-01-01"},65.091636815363302,32.240565801762394,13.779054667317313,14.983217508631666,27.220712990243836,23.936389647970003,8.6397278548814889,185.89130528617,null,{"$f":"+$B$125","v":"2028-01-01"},58.513918974788417,28.982553632456682,12.386637174904868,13.469115514310964,24.469972983858948,21.517541007352584,7.7666557548516968,167.10639504252413]
[null,"2028-02-01",66.116151612826513,32.738502979190109,14.026103424464933,15.205182120358122,27.663293298012448,24.376483809123695,8.7664372192241835,188.89215446320003,null,{"$f":"+$B$126","v":"2028-02-01"},69.634029724410738,34.480438349399776,14.772397953473323,16.014212532126411,29.135189220771103,25.673496668124809,9.2328778219785512,198.94264227028472,null,{"$f":"+$B$126","v":"2028-02-01"},62.598273501242332,30.996567608980456,13.279808895456551,14.396151708589844,26.191397375253811,23.079470950122595,8.2999966164698193,178.84166665611539]
[null,"2028-03-01",61.894244927954929,30.63902445495652,13.15873572431369,14.221144154070085,25.909548743167541,22.879403880134227,8.1980112597644901,176.90011314436146,null,{"$f":"+$B$127","v":"2028-03-01"},65.187716713806395,32.269366059509096,13.858928850442757,14.977869389000645,27.288228907520345,24.096846168089002,8.634237904350833,186.31319399271908,null,{"$f":"+$B$127","v":"2028-03-01"},58.60077314210352,29.008682850403968,12.458542598184636,13.464418919139538,24.530868578814761,21.661961592179477,7.7617846151781569,167.48703229600403]
[null,"2028-04-01",63.998813589075958,31.671572220740618,13.635448864015045,14.69103609952564,26.803160963818076,23.719100204876998,8.4678827692253194,182.98701471127768,null,{"$f":"+$B$128","v":"2028-04-01"},67.404477329737901,33.356958543907453,14.361052217883351,15.472811981781216,28.229477301738157,24.981299845756983,8.9184967679862162,192.72457398879129,null,{"$f":"+$B$128","v":"2028-04-01"},60.593149848414022,29.986185897573787,12.909845510146738,13.909260217270063,25.376844625897998,22.456900563997014,8.0172687704644243,173.24945543376404]
[null,"2028-05-01",61.983138985552962,30.665066604867345,13.234389175238622,14.214981630439359,25.970685345415312,23.032050777528219,8.1926261926240311,177.29293871166584,null,{"$f":"+$B$129","v":"2028-05-01"},65.281084870281418,32.296667260620168,13.93855324359189,14.971320224077299,27.352511375207921,24.257520450761621,8.6285324451837884,186.72618986972412,null,{"$f":"+$B$129","v":"2028-05-01"},58.685193100824463,29.033465949114508,12.530225106885345,13.45864303680141,24.588859315622688,21.806581104294803,7.7567199400642686,167.85968755360747]
[null,"2028-06-01",64.087783583579835,31.696977662891435,13.713162387591902,14.683723849551836,26.864087313384665,23.876351592393078,8.4620088738109214,183.38409526320368,null,{"$f":"+$B$130","v":"2028-06-01"},67.498354055186169,33.383801110533973,14.442938081121216,15.465150077363129,28.293718013878401,25.146983453214222,8.9123330382884198,193.14327782958551,null,{"$f":"+$B$130","v":"2028-06-01"},60.677213111973487,30.010154215248889,12.983386694062585,13.902297621740543,25.434456612890926,22.605719731571931,8.0116847093334229,173.62491269682178]
[null,"2028-07-01",62.068358571995333,30.689140169202332,13.309565407242882,14.207425984606216,26.028271551220435,23.184490812314255,8.1868932363506861,177.67414573293217,null,{"$f":"+$B$131","v":"2028-07-01"},65.370904127035175,32.322054036841216,14.017743407861611,14.963377529218013,27.413188995382349,24.418095805899782,8.6225030782950931,187.12786698053324,null,{"$f":"+$B$131","v":"2028-07-01"},58.765813016955512,29.056226301563463,12.601387406624157,13.451474439994422,24.643354107058531,21.950885818728736,7.7512833944062809,168.22042448533111]
[null,"2028-08-01",62.108029745445471,30.699666967604845,13.34663671646963,14.202768950013539,26.055072085455702,23.260045775854483,8.183691473397662,177.85591171424133,null,{"$f":"+$B$132","v":"2028-08-01"},65.413134643940069,32.333362644196875,14.056883597119816,14.958575267188156,27.44160369390017,24.497838884862624,8.6191900536513462,187.32058878485907,null,{"$f":"+$B$132","v":"2028-08-01"},58.802924846950894,29.065971291012822,12.636389835819449,13.446962632838925,24.668540477011241,22.022252666846345,7.7481928931439805,168.39123464362368]
[null,"2028-09-01",64.221505699512889,31.73492217497148,13.830385233567453,14.671746245133308,26.951670677473789,24.114581771852936,8.4535008344916243,183.97831263700348,null,{"$f":"+$B$133","v":"2028-09-01"},67.638971373868245,33.423655661208109,14.566351578236734,15.452484545013677,28.385869524161606,25.397808543930438,8.903343120425891,193.76848434684473,null,{"$f":"+$B$133","v":"2028-09-01"},60.804040025157505,30.046188688734841,13.094418888898165,13.891007945252932,25.517471830785961,22.831354999775424,8.0036585485573521,174.18814092716218]
[null,"2028-10-01",62.19393593750771,30.723848741321341,13.422418634457591,14.194539922834966,26.109895917033587,23.4144875559901,8.1782572233571074,178.23738393250238,null,{"$f":"+$B$134","v":"2028-10-01"},65.503394896379433,32.358723828985077,14.136651347501616,14.949858694779069,27.499253700156672,24.660417475708044,8.6134380207742698,187.72173796428419,null,{"$f":"+$B$134","v":"2028-10-01"},58.884476978635966,29.088973653657597,12.708185921413563,13.439221150890861,24.720538133910491,22.168557636272148,7.7430764259399414,168.75302990072055]
[null,"2028-11-01",64.305483936198428,31.757462036558049,13.907816254030939,14.661862074240666,27.005250478628529,24.27297041690284,8.4473275367925087,184.35817273335195,null,{"$f":"+$B$135","v":"2028-11-01"},67.727692068020104,33.447530101909308,14.647962178873817,15.4421367965007,28.442415431489113,25.564728936698884,8.8968772675317176,194.16934278102363,null,{"$f":"+$B$135","v":"2028-11-01"},60.883275804376751,30.067393971206794,13.167670329188063,13.881587351980635,25.568085525767941,22.9812118971068,7.9977778060533007,174.5470026856803]
[null,"2028-12-01",62.277011442985611,30.746473253110079,13.497898169882596,14.185105884217366,26.16147670725821,23.56904116686664,8.1725892571670293,178.60959588148754,null,{"$f":"+$B$136","v":"2028-12-01"},65.590812987944389,32.38251371503025,14.21613038386741,14.939904881557785,27.553546428045685,24.823165653932993,8.6074582124878436,188.11353226286636,null,{"$f":"+$B$136","v":"2028-12-01"},58.963209898026847,29.110432791189915,12.779665955897784,13.43030688687695,24.769406986470742,22.314916679800291,7.7377203018462151,169.10565950010874]
[null,"2029-01-01",62.314146048638044,30.755551852877495,13.534796999568094,14.179176476893723,26.184640660099404,23.645090438479382,8.1692302028117894,178.78263267936791,null,{"$f":"+$B$137","v":"2029-01-01"},65.630399172735437,32.392310139444334,14.255095931351702,14.93376819113988,27.57814280846625,24.903442032914601,8.6039827734463916,188.29714104949861,null,{"$f":"+$B$137","v":"2029-01-01"},58.997892924540622,29.118793566310647,12.814498067784481,13.424584762647561,24.791138511732552,22.386738844044157,7.7344776321771844,169.26812430923718]
[null,"2029-02-01",69.037787784967961,34.063763850042136,15.02719604801079,15.69302216939842,29.01773397014933,26.265297653618383,9.0416131578536625,198.1464146340407,null,{"$f":"+$B$138","v":"2029-02-01"},72.71155135779992,35.876426433837771,15.826850370871446,16.528107635536912,30.561878089565543,27.662974155797119,9.5227518229919657,208.69053986640068,null,{"$f":"+$B$138","v":"2029-02-01"},65.364024212135988,32.251101266246494,14.227541725150127,14.857936703259925,27.473589850733106,24.867621151439643,8.5604744927153575,187.60228940168065]
[null,"2029-03-01",62.396758966842022,30.777705356015577,13.610634874151982,14.168794803001944,26.232910676637804,23.801239082390605,8.1637114326021205,179.15175519164205,null,{"$f":"+$B$139","v":"2029-03-01"},65.717271204457887,32.415574837901545,14.334939796549625,14.922802820640126,27.628923905086875,25.067848229277502,8.5981523260902755,188.68551312000383,null,{"$f":"+$B$139","v":"2029-03-01"},59.076246729226177,29.13983587412962,12.886329951754343,13.414786785363766,24.83689744818874,22.53462993550372,7.7292705391139682,169.61799726328036]
[null,"2029-04-01",64.515525859400753,31.813132178659764,14.102793393700161,14.634640266851187,27.129867048186917,24.674298098232935,8.432539861574222,185.30279670660593,null,{"$f":"+$B$140","v":"2029-04-01"},67.948933258192952,33.506173379920455,14.853320255824658,15.413471121928961,28.573672783483747,25.987422598451715,8.8813054008094632,195.16429879861195,null,{"$f":"+$B$140","v":"2029-04-01"},61.082118460608562,30.120090977399087,13.352266531575665,13.85580941177342,25.686061312890093,23.361173598014162,7.9837743223389825,175.44129461459997]
[null,"2029-05-01",62.477046656190694,30.798545022057482,13.686274245835305,14.157317921478597,26.278104402667264,23.957695754287922,8.1580280164927519,179.51301201901001,null,{"$f":"+$B$141","v":"2029-05-01"},65.801709865307927,32.437463553092577,14.414577757129859,14.91068762367229,27.676471508488721,25.232584275952906,8.5921505792098483,189.06564516285414,null,{"$f":"+$B$141","v":"2029-05-01"},59.152383447073454,29.159626491022379,12.95797073454075,13.403948219284901,24.879737296845807,22.682807232622935,7.7239054537756546,169.96037887516587]
[null,"2029-06-01",64.596417161013832,31.833558479486143,14.180656052729868,14.622018687951691,27.174603439086063,24.835787610863541,8.4264696589094878,185.66951109004066,null,{"$f":"+$B$142","v":"2029-06-01"},68.034258063733304,33.527750111618026,14.935354866503923,15.400206954964547,28.62084407167729,26.157555756100717,8.8749289285113218,195.55089875310912,null,{"$f":"+$B$142","v":"2029-06-01"},61.158576258294332,30.13936684735425,13.425957238955805,13.843830420938829,25.728362806494825,23.514019465626351,7.9780103893076504,175.78812342697205]
[null,"2029-07-01",62.554512075227031,30.817824151400288,13.761601833707019,14.144632268463306,26.319993679285936,24.114267106588361,8.1521168096491667,179.86494792432109,null,{"$f":"+$B$143","v":"2029-07-01"},65.883358993875731,32.457798880041381,14.493927358118674,14.897340809865867,27.720615743970566,25.397511129924418,8.5859328210286527,189.43648573682529,null,{"$f":"+$B$143","v":"2029-07-01"},59.225665156578337,29.177849422759198,13.029276309295364,13.391923727060746,24.919371614601307,22.831023083252305,7.7183007982696816,170.29341011181697]
[null,"2029-08-01",62.59141658271367,30.826498889650459,13.798977260038642,14.137662131039649,26.339369516757543,24.192296554672602,8.1489761773919529,180.03519711226451,null,{"$f":"+$B$144","v":"2029-08-01"},65.922499652331084,32.467069340891115,14.533351748403312,14.89006125443133,27.741137245495914,25.47979816221234,8.5826605076284199,189.61657791139353,null,{"$f":"+$B$144","v":"2029-08-01"},59.260333513096228,29.185928438409785,13.064602771673963,13.385263007647959,24.937601788019151,22.904794947132846,7.7152918471554797,170.45381631313541]
[null,"2029-09-01",64.717050494253158,31.863519058089075,14.297889179573358,14.601819922204795,27.237287290947087,25.080078945776293,8.4175458501123952,186.21519074095619,null,{"$f":"+$B$145","v":"2029-09-01"},68.161208221464221,33.559254332517249,15.058804349911782,15.37890989358524,28.686820493942999,26.414808310610827,8.8655167536441066,196.12532235567642,null,{"$f":"+$B$145","v":"2029-09-01"},61.272892767042123,30.167783783660912,13.536974009234939,13.824729950824354,25.787754087951182,23.74534958094177,7.9695749465806864,176.30505912623593]
[null,"2029-10-01",62.668637888636248,30.84539819200095,13.874709185018201,14.124061952862368,26.377947385595967,24.350578397692583,8.1432455490952638,180.38457855090158,null,{"$f":"+$B$146","v":"2029-10-01"},66.003724224596851,32.486922078641228,14.613090528180791,14.875713298962454,27.781723418716687,25.646462336181823,8.5766110709280632,189.9842469562079,null,{"$f":"+$B$146","v":"2029-10-01"},59.333551552675651,29.203874305360674,13.136327841855611,13.372410606762282,24.974171352475246,23.054694459203343,7.7098800272624635,170.78491014559529]
[null,"2029-11-01",64.793611262325186,31.881365285677521,14.375586704048981,14.586739866457236,27.274674934065011,25.243004264948304,8.4112773946465005,186.56625971216874,null,{"$f":"+$B$147","v":"2029-11-01"},68.242033927902256,33.578144034674317,15.140679095959472,15.363070177307126,28.726278038236572,26.586478511229771,8.8589394256563487,196.49562321096587,null,{"$f":"+$B$147","v":"2029-11-01"},61.345188596748109,30.18458653668073,13.610494312138488,13.810409555607345,25.823071829893447,23.899530018666841,7.9636153636366513,176.63689621337161]
[null,"2029-12-01",62.743408797002942,30.862913689551334,13.950205533059965,14.109331517588718,26.413332484515625,24.509123482766757,8.1373382545688973,180.72565375905424,null,{"$f":"+$B$148","v":"2029-12-01"},66.082455825157851,32.50536063674717,14.692600522755503,14.860194793530258,27.818983867299632,25.813437633000227,8.5703870103978499,190.3434202888885,null,{"$f":"+$B$148","v":"2029-12-01"},59.404361768847991,29.22046674235548,13.207810543364415,13.358468241647167,25.007681101731599,23.204809332533273,7.7042894987399384,171.10788722921987]
[null,"2030-01-01",62.777992694651488,30.870226156560523,13.9874444893141,14.101119256691664,26.429029595739394,24.587756439443318,8.1340749518876017,180.8876435842881,null,{"$f":"+$B$149","v":"2030-01-01"},66.119172847873998,32.513206164880827,14.731886449242831,14.851611232882167,27.835639545562433,25.896369861145413,8.5669879621244931,190.51487406371217,null,{"$f":"+$B$149","v":"2030-01-01"},59.436812541428978,29.227246148240223,13.243002529385372,13.350627280501161,25.022419645916354,23.279143017741223,7.7011619416507084,171.26041310486403]
[null,"2030-02-01",69.545927754528364,34.187483817196629,15.528176910934899,15.603471367629894,29.278929644458522,27.310898405352525,9.0024544355272003,200.45734233562803,null,{"$f":"+$B$150","v":"2030-02-01"},73.247138934169953,36.006930352652262,16.35458132939436,16.433882932070183,30.837144556919064,28.764375348829848,9.4815620709676907,211.12561552500338,null,{"$f":"+$B$150","v":"2030-02-01"},65.844716574886775,32.368037281740996,14.701772492475438,14.773059803189604,27.72071473199798,25.857421461875205,8.5233468000867081,189.7890691462527]
[null,"2030-03-01",62.851790414256719,30.886991022285798,14.063182036863706,14.085298120984895,26.460729851640327,24.747751241881843,8.1282557557144983,181.22399844362781,null,{"$f":"+$B$151","v":"2030-03-01"},66.19683426777479,32.53083185469157,14.811640598239011,14.834933725540129,27.869000024477828,26.064854742584561,8.5608507824634632,190.86894599577136,null,{"$f":"+$B$151","v":"2030-03-01"},59.506746560738634,29.243150189880016,13.3147234754884,13.335662516429657,25.052459678802819,23.430647741179119,7.6956607289655317,171.57905089148417]
[null,"2030-04-01",64.982445273677001,31.923902393144854,14.570637335426351,14.54583922483326,27.357212476608201,25.654818582108131,8.3959188930022872,187.43077417880011,null,{"$f":"+$B$152","v":"2030-04-01"},68.440985749910666,33.622978322359678,15.346125835079757,15.320007902358411,28.81323688856736,27.020237013239321,8.8427722732395164,197.40634398475473,null,{"$f":"+$B$152","v":"2030-04-01"},61.523904797443315,30.224826463930018,13.795148835772936,13.771670547308101,25.901188064649027,24.289400150976931,7.9490655127650536,177.4552043728454]
[null,"2030-05-01",62.923548892049915,30.902567491575429,14.138770397785624,14.068433263762143,26.489365994745341,24.908175974051588,8.1223158030505385,181.55317781702058,null,{"$f":"+$B$153","v":"2030-05-01"},66.272365605260319,32.54721462796693,14.891241474926844,14.817160970192006,27.899140763135087,26.23379917023512,8.5545887340940894,191.2155113458104,null,{"$f":"+$B$153","v":"2030-05-01"},59.574732178839504,29.257920355183931,13.386299320644403,13.319705557332281,25.079591226355593,23.582552777868059,7.6900428720069867,171.89084428823077]
[null,"2030-06-01",65.055022118569894,31.939128418758262,14.648548101731917,14.52775706748543,27.384994359474415,25.820602837190201,8.3896524376192509,187.76570534082936,null,{"$f":"+$B$154","v":"2030-06-01"},68.517527161692101,33.639064713012637,15.428206151562735,15.300986104587913,28.842540264273772,27.194885169725236,8.8361854327561034,197.75939499761049,null,{"$f":"+$B$154","v":"2030-06-01"},61.592517075447709,30.239192124503898,13.868890051901102,13.754528030382952,25.927448454675062,24.446320504655173,7.9431194424824021,177.77201568404831]
[null,"2030-07-01",62.992968489570842,30.916806137648326,14.214138481490167,14.050456082754808,26.514794248211906,25.068911389677055,8.1162178470157187,181.87429267636881,null,{"$f":"+$B$155","v":"2030-07-01"},66.345540815877683,32.562241035545441,14.970634459659962,14.798240658787797,27.925948025621079,26.403113294919606,8.5481741113515941,191.55389240176314,null,{"$f":"+$B$155","v":"2030-07-01"},59.640396163263993,29.271371239751204,13.457642503320368,13.302671506721813,25.103640470802727,23.734709484434493,7.6842615826798415,172.19469295097446]
[null,"2030-08-01",63.026429301823427,30.923240634423347,14.251654543848236,14.040967115347989,26.526143413019714,25.149246432524368,8.1130622300563733,182.03074367104347,null,{"$f":"+$B$156","v":"2030-08-01"},66.380952827163398,32.569101574619758,15.010185702474004,14.788284630059186,27.937972912187327,26.487791860799717,8.5448724787845816,191.71916198608795,null,{"$f":"+$B$156","v":"2030-08-01"},59.67190577648342,29.277379694226912,13.493123385222461,13.293649600636781,25.114313913852083,23.810701004249005,7.6812519813281597,172.34232535599884]
[null,"2030-09-01",65.162373410820209,31.960853119400149,14.765664607451228,14.499149227902668,27.42169942682963,26.071082628133926,8.380337038632133,188.26115945916993,null,{"$f":"+$B$157","v":"2030-09-01"},68.630563655377699,33.661931720352896,15.551549639954768,15.270849294589395,28.881186941836663,27.458685161667983,8.826370564456127,198.28113697823551,null,{"$f":"+$B$157","v":"2030-09-01"},61.69418316626269,30.25977451844739,13.979779574947683,13.727449161215935,25.962211911822585,24.683480094599858,7.9343035128081363,178.24118194010424]
[null,"2030-10-01",63.094921163473288,30.936733853508166,14.327269874347037,14.021892712261797,26.54781298633041,25.311477961364822,8.1070618491944657,182.34717040048002,null,{"$f":"+$B$158","v":"2030-10-01"},66.453049026707347,32.583292816340595,15.089816261313157,14.768185880460329,27.960778544466873,26.658641533872807,8.5385474550517984,192.05231151821292,null,{"$f":"+$B$158","v":"2030-10-01"},59.736793300239228,29.290174890675743,13.564723487380917,13.275599544063269,25.134847428193947,23.964314388856845,7.6755762433371366,172.64202928274707]
[null,"2030-11-01",65.230888546610373,31.973586447395288,14.843444409267244,14.478628337351893,27.441971250387635,26.238461462793619,8.3739213763797125,188.58090183018578,null,{"$f":"+$B$159","v":"2030-11-01"},68.70286377785375,33.675410578152793,15.633500661505613,15.249266911955157,28.902595911505937,27.635028186542272,8.8196311966038383,198.61829722411932,null,{"$f":"+$B$159","v":"2030-11-01"},61.758913315366996,30.271762316637773,14.053388157028872,13.707989762748628,25.981346589269329,24.841894739044964,7.9282115561555848,178.54350643625216]
[null,"2030-12-01",63.161270008530394,30.948978140446513,14.402703954657252,14.001743304174211,26.566313092919859,25.474104909066835,8.1009312603119241,182.65604467010701,null,{"$f":"+$B$160","v":"2030-12-01"},66.522944345975333,32.596196215238741,15.169268659066283,14.746967412853104,27.980269667145404,26.82993015974062,8.5320925197913198,192.37766897981081,null,{"$f":"+$B$160","v":"2030-12-01"},59.799595671085477,29.3017600656543,13.636139250248227,13.256519195495322,25.152356518694326,24.118279658393064,7.669770000832532,172.93442036040321]
[null,"2031-01-01",63.192558536803183,30.954100991880491,14.440104539298504,13.99102531459695,26.573914067690687,25.555128629527456,8.09767889388241,182.80451097367967,null,{"$f":"+$B$161","v":"2031-01-01"},66.556083417945132,32.601682467774282,15.208702172134251,14.735719988273226,27.988353096994267,26.915341176328173,8.5286907894240169,192.53457310887336,null,{"$f":"+$B$161","v":"2031-01-01"},59.829033655661242,29.306519515986711,13.67150690646276,13.246330640920675,25.159475038387111,24.194916082726742,7.6666669983408049,173.07444883848603]
[null,"2031-02-01",69.999701722668817,34.277143857706669,16.029177909550313,15.478444682869043,29.429686331340751,28.383988684034602,8.9619668176935487,202.56011000586372,null,{"$f":"+$B$162","v":"2031-02-01"},73.725457647822935,36.101555514933104,16.882335895972371,16.3022897217786,30.99609055201633,29.894735321756382,9.438970292713261,213.34143494699299,null,{"$f":"+$B$162","v":"2031-02-01"},66.273945797514727,32.452732200480234,15.176019923128264,14.654599643959488,27.863282110665182,26.873242046312832,8.48496334267384,191.77878506473456]
[null,"2031-03-01",63.257475948487425,30.965340316485683,14.515667978469786,13.969654489228603,26.588377270688497,25.719069410629121,8.0915839522900477,183.10716936627915,null,{"$f":"+$B$163","v":"2031-03-01"},66.624438890626038,32.613511568547963,15.288283632684241,14.713207852281142,28.003578867333125,27.088000945020347,8.5222692254860526,192.85329098197889,null,{"$f":"+$B$163","v":"2031-03-01"},59.890513006348812,29.317169064423403,13.743052324255329,13.226101126176061,25.173175674043861,24.350137876237895,7.660898679094041,173.36104775057942]
[null,"2031-04-01",65.39784185268465,32.002385061516932,15.038279304558188,14.423644671767841,27.480495709050899,26.660851925631373,8.3579864051201405,189.36148493033002,null,{"$f":"+$B$164","v":"2031-04-01"},68.878802542782083,33.705790575103137,15.838728640849611,15.191378570746588,28.943212560213635,28.079941224123594,8.8028607511288186,199.44071486494744,null,{"$f":"+$B$164","v":"2031-04-01"},61.91688116258721,30.29897954793072,14.237829968266762,13.65591077278909,26.01777885788816,25.241762627139153,7.9131120591114623,179.28225499571258]
[null,"2031-05-01",63.320553858814023,30.975471702481592,14.591114319056075,13.947269044695959,26.599754811041354,25.883534823228654,8.0854002533159424,183.4030988126336,null,{"$f":"+$B$165","v":"2031-05-01"},66.690871330377959,32.624180804135733,15.36774504197664,14.689630279355287,28.015560784230743,27.261219071459816,8.5157560237202627,193.16496333525643,null,{"$f":"+$B$165","v":"2031-05-01"},59.950236387250108,29.326762600827458,13.814483596135513,13.204907810036635,25.183948837851968,24.505850574997499,7.6550444829116238,173.6412342900108]
[null,"2031-06-01",65.461752854534652,32.012124889835071,15.116104243155446,14.399918304522869,27.490517776842722,26.830938066823325,8.3515107065163505,189.66286684223047,null,{"$f":"+$B$166","v":"2031-06-01"},68.946200891939583,33.716090654293211,15.920715752418179,15.166408123188184,28.953803994179772,28.259115673011564,8.7960512790144971,199.758386368045,null,{"$f":"+$B$166","v":"2031-06-01"},61.977304817129728,30.308159125376925,14.31149273389271,13.633428485857552,26.027231559505669,25.402760460635079,7.9069701340182013,179.56734731641586]
[null,"2031-07-01",63.381579114557788,30.984387994589088,14.666391387874411,13.923819728221,26.607939878388279,26.048438584436251,8.0791018071273459,183.69165849519416,null,{"$f":"+$B$167","v":"2031-07-01"},66.755206056224992,32.633601655244107,15.447043019064276,14.664946314561519,28.024207255913659,27.434925248613315,8.5091301513523128,193.46905970097419,null,{"$f":"+$B$167","v":"2031-07-01"},60.00795217289059,29.33517433393407,13.885739756684549,13.182693141880483,25.191672500862907,24.661951920259195,7.64907346290238,173.91425728941414]
[null,"2031-08-01",63.411142255728024,30.988301803409684,14.703923667847732,13.911656039953394,26.610754484515315,26.130980731002278,8.0758870855409661,183.83264606799739,null,{"$f":"+$B$168","v":"2031-08-01"},66.786454368475304,32.637778326142858,15.486598918529163,14.652159671801895,28.027218511904994,27.521906878076226,8.5057585329133474,193.61787520784381,null,{"$f":"+$B$168","v":"2031-08-01"},60.035830142980757,29.33882528067651,13.921248417166304,13.171152408104897,25.194290457125639,24.740054583928337,7.6460156381685875,174.04741692815102]
[null,"2031-09-01",65.55550885235138,32.025288945435797,15.232942070959922,14.362674229930654,27.50012679882623,27.087685583019827,8.3418142463991813,190.10604072692297,null,{"$f":"+$B$169","v":"2031-09-01"},69.044966390850846,33.729964691069441,16.043777124696682,15.127185752181557,28.963932456776114,28.529537386368034,8.7858411041941515,200.22520490613687,null,{"$f":"+$B$169","v":"2031-09-01"},62.066051313851858,30.320613199802139,14.422107017223153,13.598162707679743,26.036321140876328,25.645833779671605,7.8977873886042058,179.98687654770904]
[null,"2031-10-01",63.470730824667079,30.996192408686426,14.779322451794503,13.886966436828168,26.614807750412179,26.297221654761763,8.0696278699811561,184.11486939713126,null,{"$f":"+$B$170","v":"2031-10-01"},66.849213353120433,32.646088244778284,15.566010773120096,14.626155553929184,28.031486931739124,27.696996050820069,8.4991659644008291,193.91511687190803,null,{"$f":"+$B$170","v":"2031-10-01"},60.092248296213768,29.346296572594582,13.992634130468915,13.147777319727156,25.198128569085249,24.897447258703469,7.6400897755614867,174.3146219223546]
[null,"2031-11-01",65.615412064485426,32.032512730042512,15.310621409810352,14.336475174145189,27.502389442092777,27.259443072758977,8.3352107322019044,190.39206462553716,null,{"$f":"+$B$171","v":"2031-11-01"},69.108165151040694,33.737625205721585,16.125616218250162,15.099615514795756,28.966360368879158,28.710481798791605,8.7788996780760158,200.52676393555498,null,{"$f":"+$B$171","v":"2031-11-01"},62.122658977930129,30.327400254363429,14.495626601370539,13.57333483349462,26.038418515306393,25.808404346726345,7.891521786327794,180.25736531551925]
[null,"2031-12-01",63.528382157493354,31.002916092521954,14.854573620086894,13.861230797196466,26.615673414781519,26.46395563687717,8.0632711586102026,184.39000287756755,null,{"$f":"+$B$172","v":"2031-12-01"},66.909967819473138,32.653186616933048,15.645275530989942,14.599057540603681,28.0324130915489,27.872619448259584,8.4924752594011643,194.20499530720949,null,{"$f":"+$B$172","v":"2031-12-01"},60.146796495513563,29.352645568110862,14.063871709183845,13.123404053789253,25.198933738014134,25.055291825494756,7.6340670578192427,174.57501044792565]
[null,"2032-01-01",63.555849113662831,31.005530956050123,14.891994611526986,13.847832158800022,26.614640855419189,26.54724377805308,8.0599764496319803,184.52306792314423,null,{"$f":"+$B$173","v":"2032-01-01"},66.939018905835852,32.656000223374321,15.684717028386187,14.584972297750079,28.031376690551497,27.960391969256374,8.4890206561101973,194.34549777126449,null,{"$f":"+$B$173","v":"2032-01-01"},60.172679321489774,29.355061688725911,14.099272194667776,13.110692019849957,25.197905020286868,25.134095586849767,7.6309322431537563,174.70063807502382]
[null,"2032-02-01",67.96926871879873,33.147015462520876,15.959321080673382,14.78855991880592,28.448763059381839,28.467843085404759,8.6124687412131813,197.39324006679865,null,{"$f":"+$B$174","v":"2032-02-01"},71.587332752840496,34.911460287974819,16.808849797078992,15.57576798748277,29.963115771693094,29.983211444304885,9.0709180372591476,207.9006560786342,null,{"$f":"+$B$174","v":"2032-02-01"},64.351204684756979,31.382570637066941,15.109792364267777,14.001351850129076,26.934410347070592,26.952474726504644,8.1540194451672168,186.88582405496322]
[null,"2032-03-01",63.611709055264974,31.011042147758484,14.967279691507196,13.820765239253731,26.611159890864201,26.715185523882457,8.0536170729477377,184.7907586214788,null,{"$f":"+$B$175","v":"2032-03-01"},66.997865038484235,32.661810968059598,15.764012626883634,14.556467323077785,28.027715736055665,28.137278824754397,8.4823243666698147,194.62747488398512,null,{"$f":"+$B$175","v":"2032-03-01"},60.225553072045692,29.360273327457367,14.170546756130753,13.085063155429674,25.19460404567273,25.293092223010508,7.6249097792256579,174.95404235897237]
[null,"2032-04-01",65.75966189124776,32.046868796222242,15.504897895935654,14.266945817543975,27.494920185105194,27.692424543821659,8.3186791767708019,191.0843983066473,null,{"$f":"+$B$176","v":"2032-04-01"},69.26021438447026,33.752804368855116,16.330262677715375,15.026411290995883,28.958544063891186,29.166562077262245,8.7615034294368392,201.25630229262694,null,{"$f":"+$B$176","v":"2032-04-01"},62.259109398025316,30.340933223589392,14.67953311415595,13.507480344092082,26.031296306319224,26.218287010381101,7.8758549241047708,180.91249432066783]
[null,"2032-05-01",63.665833102382493,31.015475988988786,15.042458890808291,13.792688101387856,26.604532195165834,26.883712052024048,8.0471883006808245,185.05188863143812,null,{"$f":"+$B$177","v":"2032-05-01"},67.054893115039278,32.666491994367426,15.843199153436917,14.526900557797406,28.020744813841244,28.314785974527773,8.4755562769593951,194.90257188596945,null,{"$f":"+$B$177","v":"2032-05-01"},60.276773089725687,29.364459983610139,14.241718628179662,13.058475644978303,25.188319576490418,25.452638129520313,7.6188203244022494,175.20120537690676]
[null,"2032-06-01",65.81449716664099,32.05079722046024,15.582480380455506,14.237367573924747,27.486357552238786,27.866787323559052,8.3119760573616972,191.35026327464104,null,{"$f":"+$B$178","v":"2032-06-01"},69.318044821480427,33.756978993043845,16.411993100962896,14.995274994358464,28.949557419866665,29.350238866585521,8.75445310233731,201.53654129863514,null,{"$f":"+$B$178","v":"2032-06-01"},62.310949511801567,30.344615447876652,14.752967659948117,13.479460153491033,26.023157684610918,26.383335780532594,7.8694990123860871,181.16398525064696]
[null,"2032-07-01",63.718065514420992,31.018753246058345,15.117492822678416,13.76356391618695,26.594675654814598,27.052759702298239,8.04067159445753,185.30598245091508,null,{"$f":"+$B$179","v":"2032-07-01"},67.109967790872858,32.669973804915266,15.92224196101945,14.496239389029727,28.010389395757482,28.492858620520469,8.4687004755174815,195.17037143763275,null,{"$f":"+$B$179","v":"2032-07-01"},60.326163237969098,29.367532687201415,14.312743684337379,13.030888443344171,25.178961913871703,25.612660784076002,7.612642713397574,175.44159346419735]
[null,"2032-08-01",63.743383647284681,31.019913939925896,15.154933182728627,13.748589137691138,26.58849425350304,27.137441236111904,8.0373694611050652,185.43012485835035,null,{"$f":"+$B$180","v":"2032-08-01"},67.136711543558249,32.671234175682471,15.961693894078245,14.480484251911646,28.003911416946394,28.582081151832881,8.4652323771363029,195.30134881114617,null,{"$f":"+$B$180","v":"2032-08-01"},60.350055751011105,29.368593704169321,14.348172471379007,13.016694023470629,25.173077090059682,25.692801320390927,7.6095065450738293,175.55890090555448]
[null,"2032-09-01",65.894212493564993,32.054993317090599,15.698836864101885,14.191210911891272,27.467706104139616,28.129822090145588,8.3018947202828279,191.73867650121679,null,{"$f":"+$B$181","v":"2032-09-01"},69.402053020641461,33.761422461589994,16.534555421103178,14.946671867887725,28.929933650562393,29.627297000508918,8.7438413139108224,201.9457747362045,null,{"$f":"+$B$181","v":"2032-09-01"},62.386371966488539,30.348564172591203,14.863118307100596,13.435749955894822,26.005478557716845,26.632347179782261,7.8599481266548352,181.5315782662291]
[null,"2032-10-01",63.793798838784816,31.021946135409319,15.229986925492474,13.71810829819303,26.574187800073656,27.307708308187046,8.0308515859566327,185.67658789209696,null,{"$f":"+$B$182","v":"2032-10-01"},67.189833926959963,32.673385922614443,16.040748644231442,14.448385816887001,27.988853110049494,28.761422262839844,8.4583704713385526,195.56100015492072,null,{"$f":"+$B$182","v":"2032-10-01"},60.397763750609649,29.370506348204181,14.419225206753501,12.987830779499053,25.159522490097803,25.853994353534237,7.6033327005747093,175.79217562927312]
[null,"2032-11-01",65.944976081747598,32.056318980958963,15.776229689568389,14.159092876681578,27.451086804944818,28.3058847233028,8.2950707752941888,191.98865993249834,null,{"$f":"+$B$183","v":"2032-11-01"},69.455607928612778,33.762861935320153,16.61608948878952,14.912863145913027,28.912466659704879,29.81277040690874,8.7366652888724357,202.20932485412155,null,{"$f":"+$B$183","v":"2032-11-01"},62.434344234882381,30.349776026597759,14.936369890347249,13.405322607450122,25.989706950184743,26.798999039696849,7.8534762617159384,181.76799501087504]
[null,"2032-12-01",63.727955452682309,31.174592785555106,15.346571805562501,13.696753080203033,26.640718753721256,27.478703979570593,8.0243068851158998,186.08960274241068,null,{"$f":"+$B$184","v":"2032-12-01"},67.117369144876477,32.832634235110042,16.162789433078199,14.425224001620123,28.057623097699484,28.940177125076733,8.451084983261131,195.9869020207222,null,{"$f":"+$B$184","v":"2032-12-01"},60.338541760488155,29.516551336000173,14.530354178046805,12.968282158785945,25.223814409743031,26.017230834064456,7.5975287869706714,176.19230346409927]
[]
[]
[null,null,"COMERCIAL MEDIO",null,null,null,null,null,null,null,null,null,"COMERCIAL ALTO",null,null,null,null,null,null,null,null,null,"COMERCIAL BAJO"]
[null,null,"CENTRO","COSTA","CQR","NORESTE","NOROESTE","SUROESTE","TOLIMA GRANDE","TOTAL",null,null,"CENTRO","COSTA","CQR","NORESTE","NOROESTE","SUROESTE","TOLIMA GRANDE","TOTAL",null,null,"CENTRO","COSTA","CQR","NORESTE","NOROESTE","SUROESTE","TOLIMA GRANDE","TOTAL"]
[null,{"$f":"+$B$5","v":"2018-01-01"},23.828099700636187,5.2709274358869171,2.1162846036973275,3.4939761110569765,4.801595699452986,4.3714373507289519,1.37643564963959,45.258756551098941,null,{"$f":"+$B$5","v":"2018-01-01"},27.230015604348516,6.080151980256197,3.0313465861832545,4.2467053555507261,5.1238493108999412,4.7785799697857696,1.5265485474050455,52.017197354429442,null,{"$f":"+$B$5","v":"2018-01-01"},20.426183796923866,4.4617028915176382,1.2012226212114008,2.7412468665632264,4.47934208800603,3.9642947316721346,1.226322751874134,38.500315747768433]
[null,{"$f":"+$B$6","v":"2018-02-01"},30.303159964118535,5.8566989636380811,2.7545749960359638,4.4434310051733368,6.106383823786949,5.5593340206111854,1.564334767855067,56.58791754121912,null,{"$f":"+$B$6","v":"2018-02-01"},34.069566857514324,6.7526261377612107,3.7676793337882395,5.2768098115771309,6.4631646078889338,6.0100990631383766,1.7305311903811071,64.070477002049316,null,{"$f":"+$B$6","v":"2018-02-01"},26.536753070722746,4.9607717895149506,1.7414706582836872,3.6100521987695422,5.7496030396849598,5.1085689780839942,1.3981383453290261,49.105358080388903]
[null,{"$f":"+$B$7","v":"2018-03-01"},21.338944946592807,5.3098758638102712,2.6431896864088364,3.128984888231126,4.3000066129355847,3.9147838953432808,1.4064124803658007,42.042198373687711,null,{"$f":"+$B$7","v":"2018-03-01"},24.740860850305136,6.1191004081795493,3.5582516688947625,3.8817141327248756,4.6222602243825399,4.3219265144000989,1.5565253781312562,48.800639177018219,null,{"$f":"+$B$7","v":"2018-03-01"},17.937029042880482,4.5006513194409914,1.7281277039229093,2.3762556437373767,3.9777530014886286,3.5076412762864639,1.2562995826003447,35.283757570357196]
[null,{"$f":"+$B$8","v":"2018-04-01"},26.257807648464222,5.5072715858020098,2.7121753257594614,3.8502504943780163,5.2912056717037874,4.8171848592562414,1.4956351662311254,49.931530751594863,null,{"$f":"+$B$8","v":"2018-04-01"},29.773120748966949,6.3434702816502666,3.6577393743282522,4.6280707136882242,5.6242010701989749,5.2378988989482869,1.6507518272554291,56.915252915036383,null,{"$f":"+$B$8","v":"2018-04-01"},22.742494547961488,4.6710728899537566,1.7666112771906699,3.0724302750678087,4.9582102732085982,4.3964708195641968,1.3405185052068209,42.947808588153343]
[null,{"$f":"+$B$9","v":"2018-05-01"},22.339487077995539,5.3493113470931339,2.6967785689037047,3.2756969781227858,4.5016256616898831,4.0983405909733177,1.431002981142796,43.692243205921166,null,{"$f":"+$B$9","v":"2018-05-01"},25.741402981707864,6.1585358914624129,3.6118405513896317,4.0284262226165355,4.8238792731368392,4.5054832100301345,1.5811158789082518,50.450684009251674,null,{"$f":"+$B$9","v":"2018-05-01"},18.937571174283207,4.540086802723855,1.7817165864177782,2.5229677336290357,4.179372050242927,3.6911979719165,1.2808900833773404,36.933802402590651]
[null,{"$f":"+$B$10","v":"2018-06-01"},24.916048682628137,5.5479674084426431,2.9010013400273822,3.6535048943374635,5.0208280855344212,4.5710294657241803,1.4849676948370061,48.095347571531235,null,{"$f":"+$B$10","v":"2018-06-01"},28.431361783130868,6.3841661042908981,3.846565388596173,4.431325113647671,5.3538234840296077,4.9917435054162249,1.6400843558613101,55.079069734972755,null,{"$f":"+$B$10","v":"2018-06-01"},21.400735582125396,4.7117687125943881,1.9554372914585909,2.8756846750272556,4.6878326870392319,4.1503154260321358,1.3298510338127016,41.111625408089701]
[null,{"$f":"+$B$11","v":"2018-07-01"},23.223800065952776,5.388699098271438,2.6572587395348393,3.4053660870084399,4.6798233985338564,4.2605742090065588,1.4482957757237449,45.06381737403165,null,{"$f":"+$B$11","v":"2018-07-01"},26.625715969665102,6.1979236426407178,3.5723207220207662,4.1580953315021896,5.0020770099808125,4.6677168280633774,1.5984086734892005,51.822258177362173,null,{"$f":"+$B$11","v":"2018-07-01"},19.821884162240455,4.5794745539021582,1.7421967570489125,2.6526368425146893,4.3575697870869003,3.853431589949742,1.2981828779582889,38.305376570701149]
[null,{"$f":"+$B$12","v":"2018-08-01"},23.992591334134133,5.4084102590420322,2.6799811450247133,3.5180959462570627,4.8347423762724828,4.4016145314353157,1.3931894249236543,46.228625017089392,null,{"$f":"+$B$12","v":"2018-08-01"},27.394507237846465,6.2176348034113111,3.5950431275106403,4.2708251907508119,5.156995987719438,4.8087571504921325,1.5433023226891101,52.987065820419915,null,{"$f":"+$B$12","v":"2018-08-01"},20.590675430421811,4.5991857146727524,1.7649191625387859,2.7653667017633121,4.5124887648255267,3.9944719123784984,1.2430765271581985,39.470184213758891]
[null,{"$f":"+$B$13","v":"2018-09-01"},24.465765057375233,5.6090727791796073,2.7997992875122719,3.587478637539832,4.9300915204825833,4.4884216756535515,1.4490101273457272,47.329639085088814,null,{"$f":"+$B$13","v":"2018-09-01"},27.981078157877974,6.4452714750278624,3.7453633360810628,4.3652988568500399,5.2630869189777716,4.9091357153455961,1.6041267883700312,54.313361248530342,null,{"$f":"+$B$13","v":"2018-09-01"},20.950451956872495,4.7728740833313523,1.8542352389434809,2.8096584182296245,4.5970961219873949,4.0677076359615061,1.293893466321423,40.345916921647273]
[null,{"$f":"+$B$14","v":"2018-10-01"},23.96905294682319,5.4478729490150046,2.6833606476885223,3.514644451425728,4.8299991604598809,4.3972962439193264,1.44568768735051,46.287914086682157,null,{"$f":"+$B$14","v":"2018-10-01"},27.370968850535508,6.2570974933842836,3.5984226301744497,4.2673736959194777,5.1522527719068361,4.8044388629761432,1.5958005851159656,53.046354890012658,null,{"$f":"+$B$14","v":"2018-10-01"},20.567137043110861,4.6386484046457257,1.7682986652025956,2.7619152069319792,4.5077455490129248,3.9901536248625078,1.295574789585054,39.529473283351649]
[null,{"$f":"+$B$15","v":"2018-11-01"},24.74101333973103,5.6498779587419037,2.8008252072678621,3.627839007659273,4.9855567479008709,4.5389179652163314,1.5161478499855876,47.860178076502862,null,{"$f":"+$B$15","v":"2018-11-01"},28.256326440233771,6.4860766545901596,3.7463892558366534,4.4056592269694814,5.3185521463960583,4.9596320049083751,1.671264511009892,54.843900239944389,null,{"$f":"+$B$15","v":"2018-11-01"},21.225700239228296,4.8136792628936487,1.8552611586990713,2.8500187883490651,4.6525613494056826,4.1182039255242859,1.3610311889612836,40.876455913061335]
[null,{"$f":"+$B$16","v":"2018-12-01"},24.042266772902018,5.4873871041402316,2.7554241017056516,3.5253799847889571,4.8447524642003055,4.4107278502132283,1.4752062042717364,46.541144482222123,null,{"$f":"+$B$16","v":"2018-12-01"},27.44418267661435,6.2966116485095105,3.6704860841915785,4.2781092292827072,5.1670060756472616,4.8178704692700451,1.6253191020371924,53.299585285552652,null,{"$f":"+$B$16","v":"2018-12-01"},20.640350869189696,4.6781625597709517,1.8403621192197246,2.7726507402952074,4.5224988527533494,4.0035852311564097,1.3250933065062809,39.782703678891622]
[null,{"$f":"+$B$17","v":"2019-01-01"},24.171706186918222,5.5071621107951643,2.7449853979302676,3.5443600220593972,4.8708357751436164,4.4344744475582019,1.4340892569462746,46.707613197351144,null,{"$f":"+$B$17","v":"2019-01-01"},27.573622090630554,6.3163866551644441,3.660047380416195,4.2970892665531464,5.1930893865905743,4.8416170666150187,1.58420215471173,53.466054000681666,null,{"$f":"+$B$17","v":"2019-01-01"},20.7697902832059,4.6979375664258862,1.8299234154443411,2.7916307775656475,4.5485821636966604,4.0273318285013842,1.2839763591808189,39.949172394020636]
[null,{"$f":"+$B$18","v":"2019-02-01"},26.85135177292938,6.1191213298161404,3.0517513734234747,3.9372834100445622,5.4108106318673288,4.9260748247839352,1.5963302642659913,51.892723607130826,null,{"$f":"+$B$18","v":"2019-02-01"},30.617758666325173,7.0150485039392718,4.0648557111757508,4.7706622164483568,5.7675914159693171,5.3768398673111255,1.7625266867920317,59.375283067961028,null,{"$f":"+$B$18","v":"2019-02-01"},23.084944879533591,5.2231941556930108,2.0386470356711985,3.1039046036407671,5.0540298477653423,4.4753097822567449,1.430133841739951,44.410164146300602]
[null,{"$f":"+$B$19","v":"2019-03-01"},24.363460095161088,5.5467451081982437,2.7738615434610483,3.5724773953715663,4.90947606760251,4.4696530898826969,1.4253479269969471,47.0610212266741,null,{"$f":"+$B$19","v":"2019-03-01"},27.765375998873413,6.3559696525675236,3.6889235259469748,4.3252066398653159,5.2317296790494661,4.8767957089395164,1.5754608247624029,53.819462030004608,null,{"$f":"+$B$19","v":"2019-03-01"},20.961544191448763,4.7375205638289648,1.8587995609751216,2.8197481508778166,4.587222456155553,4.0625104708258801,1.2752350292314913,40.302580423343585]
[null,{"$f":"+$B$20","v":"2019-04-01"},25.244357009127672,5.7521035983492146,2.8655865857227614,3.7016455964606725,5.0869854320463075,4.6312600044178316,1.51116447679074,48.793102702915199,null,{"$f":"+$B$20","v":"2019-04-01"},28.759670109630406,6.5883022941974696,3.8111506342915527,4.4794658157708804,5.419980830541494,5.051974044109877,1.6662811378150442,55.776824866356719,null,{"$f":"+$B$20","v":"2019-04-01"},21.729043908624931,4.9159049025009605,1.9200225371539705,2.9238253771504645,4.7539900335511183,4.2105459647257879,1.3560478157664357,41.809380539473672]
[null,{"$f":"+$B$21","v":"2019-05-01"},24.529384727238206,5.5863680703734229,2.7831830291136743,3.596807354873031,4.9429115076847721,4.5000931645500231,1.4678323472647978,47.406580201097917,null,{"$f":"+$B$21","v":"2019-05-01"},27.931300630950528,6.3955926147427018,3.6982450115996017,4.3495365993667816,5.2651651191317281,4.9072357836068399,1.6179452450302538,54.165021004428439,null,{"$f":"+$B$21","v":"2019-05-01"},21.127468823525877,4.7771435260041422,1.8681210466277474,2.8440781103792818,4.620657896237816,4.0929505454932062,1.3177194494993423,40.648139397767416]
[null,{"$f":"+$B$22","v":"2019-06-01"},25.434989814129274,5.793066130220085,2.894188781311037,3.7295985794944659,5.1253998112108334,4.666232972238511,1.51300092362598,49.156477012230184,null,{"$f":"+$B$22","v":"2019-06-01"},28.950302914632015,6.62926482606834,3.8397528298798282,4.5074187988046743,5.4583952097060218,5.0869470119305564,1.668117584650284,56.140199175671711,null,{"$f":"+$B$22","v":"2019-06-01"},21.91967671362654,4.95686743437183,1.9486247327422457,2.9517783601842571,4.7924044127156469,4.2455189325464664,1.3578842626016756,42.172754848788657]
[null,{"$f":"+$B$23","v":"2019-07-01"},24.72156676118437,5.6260261704486654,2.8081460239453291,3.6249875053683867,4.9816380716702087,4.5353503496334371,1.4542637191176753,47.75197860136808,null,{"$f":"+$B$23","v":"2019-07-01"},28.123482664896695,6.4352507148179443,3.7232080064312565,4.3777167498621363,5.3038916831171665,4.9424929686902539,1.6043766168831308,54.510419404698581,null,{"$f":"+$B$23","v":"2019-07-01"},21.319650857472045,4.8168016260793864,1.8930840414594023,2.8722582608746374,4.6593844602232526,4.1282077305766194,1.3041508213522195,40.993537798037558]
[null,{"$f":"+$B$24","v":"2019-08-01"},24.825634216011256,5.6458669143413696,2.8189389085366812,3.6402471864034602,5.0026086840911583,4.5544422774304909,1.4339306400760876,47.921668826890503,null,{"$f":"+$B$24","v":"2019-08-01"},28.227550119723581,6.4550914587106494,3.7340008910226077,4.3929764308972095,5.3248622955381144,4.9615848964873086,1.5840435378415432,54.680109630221018,null,{"$f":"+$B$24","v":"2019-08-01"},21.423718312298931,4.8366423699720906,1.9038769260507542,2.887517941909711,4.6803550726442031,4.1472996583736732,1.2838177423106316,41.163228023559995]
[null,{"$f":"+$B$25","v":"2019-09-01"},25.744582574553803,5.8545717747509451,2.9266912725286467,3.7749949695830374,5.1877857876719142,4.7230300048780425,1.4907360657479627,49.702392449714345,null,{"$f":"+$B$25","v":"2019-09-01"},29.259895675056537,6.6907704705992002,3.8722553210974371,4.5528151888932449,5.5207811861671017,5.1437440445700862,1.6458527267722669,56.686114613155873,null,{"$f":"+$B$25","v":"2019-09-01"},22.229269474051065,5.018373078902691,1.9811272239598552,2.997174750272829,4.854790389176725,4.302315965185997,1.3356194047236583,42.718670286272825]
[null,{"$f":"+$B$26","v":"2019-10-01"},24.999126859364051,5.6855687011864031,2.840720518877982,3.6656868630429957,5.0375691526419635,4.5862707585413389,1.457075870530756,48.272018724185486,null,{"$f":"+$B$26","v":"2019-10-01"},28.401042763076376,6.494793245555682,3.7557825013639095,4.4184161075367463,5.3598227640889196,4.9934133775981557,1.6071887682962118,55.030459527516001,null,{"$f":"+$B$26","v":"2019-10-01"},21.597210955651729,4.8763441568171242,1.9256585363920553,2.9129576185492461,4.7153155411950074,4.1791281394845212,1.3069629727653003,41.513577920854978]
[null,{"$f":"+$B$27","v":"2019-11-01"},25.921985288941055,5.8956094565833892,2.9454778726654904,3.8010079900879492,5.2235341738703482,4.7555758168200857,1.5194521024884189,50.062642701456738,null,{"$f":"+$B$27","v":"2019-11-01"},29.4372983894438,6.7318081524316442,3.8910419212342822,4.5788282093981572,5.5565295723655357,5.1762898565121294,1.6745687635127229,57.046364864898266,null,{"$f":"+$B$27","v":"2019-11-01"},22.406672188438318,5.0594107607351333,1.9999138240967,3.0231877707777413,4.890538775375159,4.3348617771280402,1.3643354414641149,43.078920538015204]
[null,{"$f":"+$B$28","v":"2019-12-01"},25.177841304874899,5.7252934391273635,2.8622879429783117,3.6918922260874951,5.0735818655219616,4.6190572170519202,1.4720453684418242,48.62199936408377,null,{"$f":"+$B$28","v":"2019-12-01"},28.579757208587225,6.5345179834966425,3.7773499254642391,4.4446214705812448,5.3958354769689185,5.0261998361087388,1.6221582662072795,55.380440167414285,null,{"$f":"+$B$28","v":"2019-12-01"},21.775925401162574,4.9160688947580837,1.9472259604923847,2.9391629815937459,4.7513282540750055,4.2119145979951034,1.3219324706763682,41.863558560753269]
[null,{"$f":"+$B$29","v":"2020-01-01"},25.283275974623592,5.7451628982490508,2.8720604809647452,3.7073523853955099,5.0948279851537785,4.6383999703218715,1.455919847453228,48.796999542161778,null,{"$f":"+$B$29","v":"2020-01-01"},28.685191878335914,6.5543874426183306,3.7871224634506722,4.4600816298892596,5.4170815966007337,5.04554258937869,1.6060327452186836,55.555440345492279,null,{"$f":"+$B$29","v":"2020-01-01"},21.881360070911267,4.935938353879771,1.9569984984788187,2.9546231409017607,4.7725743737068216,4.2312573512650555,1.3058069496877722,42.038558738831263]
[null,{"$f":"+$B$30","v":"2020-02-01"},27.129750534084135,6.1626249873498073,3.0811485815734954,3.9781057430481708,5.4669107116507796,4.9771490924846065,1.5535326051120655,52.349222255303062,null,{"$f":"+$B$30","v":"2020-02-01"},30.766281327707659,7.0276581209859339,4.0593182869894866,4.7827473492311441,5.8113887100940778,5.412370512855686,1.7139981165165181,59.573762424380512,null,{"$f":"+$B$30","v":"2020-02-01"},23.493219740460617,5.2975918537136817,2.102978876157505,3.1734641368651961,5.1224327132074823,4.541927672113526,1.3930670937076126,45.124682086225619]
[null,{"$f":"+$B$31","v":"2020-03-01"},25.47687512284125,5.7849129129191397,2.8935994242300009,3.7357403310349779,5.1338401115582544,4.6739171352750386,1.4480034029032671,49.146888440761934,null,{"$f":"+$B$31","v":"2020-03-01"},28.878791026553571,6.5941374572884186,3.8086614067159275,4.4884695755287281,5.4560937230052104,5.0810597543318563,1.5981163006687227,55.905329244092428,null,{"$f":"+$B$31","v":"2020-03-01"},22.074959219128925,4.9756883685498607,1.978537441744074,2.9830110865412278,4.8115865001112974,4.2667745162182209,1.2978905051378111,42.388447637431412]
[null,{"$f":"+$B$32","v":"2020-04-01"},26.407830106201388,5.9982852605748658,3.0005649564848738,3.8722486767778377,5.3214366677522422,4.8447075649457316,1.5211757498230964,50.966248982560032,null,{"$f":"+$B$32","v":"2020-04-01"},29.923143206704125,6.8344839564231208,3.9461290050536646,4.6500688960880447,5.6544320662474306,5.2654216046377762,1.6762924108474009,57.949971146001566,null,{"$f":"+$B$32","v":"2020-04-01"},22.892517005698647,5.1620865647266108,2.0550009079160829,3.0944284574676302,4.9884412692570548,4.4239935252536862,1.3660590887987922,43.982526819118497]
[null,{"$f":"+$B$33","v":"2020-05-01"},25.647194475892928,5.8246734267520424,2.9139931500017036,3.7607146998805705,5.1681611310025666,4.7051634533128217,1.4775110182087616,49.497411355051398,null,{"$f":"+$B$33","v":"2020-05-01"},29.049110379605256,6.6338979711213222,3.829055132487631,4.5134439443743197,5.4904147424495218,5.1123060723696394,1.6276239159742174,56.25585215838192,null,{"$f":"+$B$33","v":"2020-05-01"},22.245278572180595,5.0154488823827625,1.9989311675157773,3.0079854553868217,4.8459075195556114,4.2980208342560049,1.3273981204433059,42.738970551720882]
[null,{"$f":"+$B$34","v":"2020-06-01"},26.600397333042245,6.0393746015206542,3.0221933484393944,3.9004853091072076,5.3602408518823745,4.8800354164535849,1.5257961379260188,51.328522998371483,null,{"$f":"+$B$34","v":"2020-06-01"},30.115710433544983,6.8755732973689083,3.9677573970081856,4.6783055284174146,5.693236250377562,5.3007494561456294,1.6809127989503232,58.312245161813003,null,{"$f":"+$B$34","v":"2020-06-01"},23.085084232539511,5.2031759056723983,2.0766292998706035,3.1226650897969996,5.0272454533871871,4.4593213767615403,1.3706794769017145,44.344800834929956]
[null,{"$f":"+$B$35","v":"2020-07-01"},25.842394951052661,5.8644394210609017,2.9349611690884934,3.78933745224621,5.2074959404852184,4.7409743932834365,1.4685167763675169,49.848120103584435,null,{"$f":"+$B$35","v":"2020-07-01"},29.244310854764986,6.6736639654301815,3.8500231515744203,4.5420666967399601,5.5297495519321735,5.1481170123402542,1.6186296741329729,56.60656090691495,null,{"$f":"+$B$35","v":"2020-07-01"},22.440479047340336,5.0552148766916227,2.0198991866025668,3.0366082077524603,4.8852423290382623,4.3338317742266197,1.3184038786020613,43.089679300253927]
[null,{"$f":"+$B$36","v":"2020-08-01"},25.942662435340594,5.8843228615624028,2.9452350300104997,3.8040399337373585,5.2277008215878054,4.7593691889820722,1.4602771196424997,50.023607390863226,null,{"$f":"+$B$36","v":"2020-08-01"},29.344578339052923,6.6935474059316826,3.8602970124964258,4.5567691782311082,5.5499544330347605,5.166511808038889,1.6103900174079555,56.782048194193749,null,{"$f":"+$B$36","v":"2020-08-01"},22.540746531628269,5.0750983171931239,2.0301730475245727,3.0513106892436084,4.9054472101408493,4.3522265699252554,1.3101642218770442,43.265166587532725]
[null,{"$f":"+$B$37","v":"2020-09-01"},26.901783602023158,6.1010126723813354,3.0542904200684062,3.9446783600533473,5.4209731398614425,4.9353269088416596,1.5144762292934477,51.8725413325228,null,{"$f":"+$B$37","v":"2020-09-01"},30.417096702525896,6.9372113682295895,3.9998544686371966,4.7224985793635534,5.7539685383566299,5.3560409485337042,1.6695928903177526,58.85626349596432,null,{"$f":"+$B$37","v":"2020-09-01"},23.386470501520428,5.2648139765330786,2.1087263714996145,3.1668581407431393,5.0879777413662541,4.514612869149615,1.3593595682691437,44.888819169081266]
[null,{"$f":"+$B$38","v":"2020-10-01"},26.122905819664936,5.9240875755911455,2.966084118702438,3.8304694890488324,5.2640216306283802,4.7924361423839903,1.4749874536539758,50.374992229673694,null,{"$f":"+$B$38","v":"2020-10-01"},29.524821723377261,6.7333121199604244,3.881146101188365,4.5831987335425817,5.5862752420753345,5.1995787614408071,1.6251003514194318,57.133433033004209,null,{"$f":"+$B$38","v":"2020-10-01"},22.720989915952611,5.1148630312218666,2.0510221362165111,3.0777402445550828,4.9417680191814242,4.3852935233271717,1.32487455588852,43.616551426343186]
[null,{"$f":"+$B$39","v":"2020-11-01"},27.085713608929773,6.1420996993198429,3.0755760441766662,3.9716484944036359,5.4580368394958514,4.9690701998389661,1.5337127826072372,52.235857668771978,null,{"$f":"+$B$39","v":"2020-11-01"},30.60102670943251,6.9782983951680988,4.0211400927454575,4.7494687137138447,5.7910322379910397,5.3897842395310116,1.6888294436315412,59.219579832213498,null,{"$f":"+$B$39","v":"2020-11-01"},23.570400508427031,5.3059010034715888,2.1300119956078749,3.1938282750934279,5.1250414410006631,4.5483561601469207,1.3785961215829325,45.252135505330443]
[null,{"$f":"+$B$40","v":"2020-12-01"},26.308338694478991,5.9638448508264474,2.9867514833055133,3.8576599928214712,5.3013881728802001,4.8264551453762259,1.4822700768943546,50.726708416583193,null,{"$f":"+$B$40","v":"2020-12-01"},29.71025459819132,6.7730693951957273,3.9018134657914407,4.6103892373152204,5.6236417843271562,5.2335977644330427,1.6323829746598104,57.485149219913716,null,{"$f":"+$B$40","v":"2020-12-01"},22.906422790766673,5.1546203064571694,2.0716895008195864,3.1049307483277224,4.9791345614332432,4.4193125263194091,1.3321571791288989,43.968267613252699]
[null,{"$f":"+$B$41","v":"2021-01-01"},26.408341973308449,5.983719125238034,2.9970333155517626,3.8723237331804286,5.32153981399264,4.8448014706712605,1.4748854666620703,50.902644898604649,null,{"$f":"+$B$41","v":"2021-01-01"},29.810257877020778,6.792943669607312,3.9120952980376891,4.6250529776741782,5.6437934254395952,5.2519440897280791,1.6249983644275259,57.661085701935164,null,{"$f":"+$B$41","v":"2021-01-01"},23.00642606959612,5.1744945808687532,2.0819713330658356,3.119594488686678,4.9992862025456848,4.4376588516144446,1.3247725688966145,44.144204095274127]
[null,{"$f":"+$B$42","v":"2021-02-01"},29.345504057832976,6.6468313653989686,3.3294886296380479,4.3030074337928195,5.9134067698486623,5.3836451133765424,1.6295328050319347,56.551416174919957,null,{"$f":"+$B$42","v":"2021-02-01"},33.111910951228758,7.5427585395220982,4.3425929673903241,5.1363862401966127,6.2701875539506489,5.8344101559037336,1.7957292275579746,64.033975635750153,null,{"$f":"+$B$42","v":"2021-02-01"},25.579097164437183,5.7509041912758381,2.3163842918857713,3.4696286273890253,5.5566259857466758,4.9328800708493512,1.4633363825058945,49.06885671408974]
[null,{"$f":"+$B$43","v":"2021-03-01"},26.601490465942017,6.0234556785218194,3.0175749044530868,3.9006455980218089,5.3604611288787138,4.8802359595958169,1.4709902118806784,51.254853947293931,null,{"$f":"+$B$43","v":"2021-03-01"},30.00340636965435,6.8326802228910992,3.9326368869390134,4.653374842515559,5.682714740325669,5.2873785786526346,1.6211031096461344,58.013294750624468,null,{"$f":"+$B$43","v":"2021-03-01"},23.199574562229696,5.2142311341525414,2.1025129219671599,3.1479163535280597,5.0382075174317578,4.4730933405390001,1.320877314115223,44.496413143963437]
[null,{"$f":"+$B$44","v":"2021-04-01"},27.578126538704986,6.2447604639254619,3.1287451441254843,4.043852280480805,5.5572628724430189,5.059406915743498,1.5333929327709244,53.145547148194169,null,{"$f":"+$B$44","v":"2021-04-01"},31.09343963920772,7.0809591597737169,4.0743091926942743,4.8216724997910134,5.8902582709382072,5.4801209554355435,1.6885095937952286,60.129269311635703,null,{"$f":"+$B$44","v":"2021-04-01"},24.062813438202252,5.4085617680772069,2.183181095556693,3.2660320611705971,5.2242674739478314,4.6386928760514525,1.3782762717466204,46.161824984752656]
[null,{"$f":"+$B$45","v":"2021-05-01"},26.781347164623675,6.0631717133098784,3.0380304991785088,3.9270184526137548,5.3967040169712357,4.9132319727178713,1.4880343041945179,51.607538123609451,null,{"$f":"+$B$45","v":"2021-05-01"},30.183263068335997,6.8723962576791591,3.9530924816644357,4.6797476971075049,5.7189576284181927,5.3203745917746881,1.6381472019599734,58.365978926939945,null,{"$f":"+$B$45","v":"2021-05-01"},23.37943126091135,5.2539471689405994,2.1229685166925822,3.1742892081200051,5.0744504055242796,4.5060893536610527,1.3379214064290619,44.849097320278936]
[null,{"$f":"+$B$46","v":"2021-06-01"},27.77285861910137,6.2857877625687939,3.1498643067351391,4.0724063509064559,5.5965032957887315,5.095131925304675,1.537549392669731,53.510101653074898,null,{"$f":"+$B$46","v":"2021-06-01"},31.288171719604101,7.1219864584170489,4.0954283553039295,4.8502265702166643,5.9294986942839181,5.5158459649967204,1.6926660536940357,60.493823816516411,null,{"$f":"+$B$46","v":"2021-06-01"},24.257545518598636,5.4495890667205389,2.2043002581663478,3.2945861315962488,5.2635078972935423,4.6744178856126313,1.382432731645427,46.526379489633378]
[null,{"$f":"+$B$47","v":"2021-07-01"},26.976279091896874,6.1028620113800711,3.0584474410188864,3.9556018271057072,5.4359847114219191,4.9489936456350314,1.4822918861507384,51.960460614609225,null,{"$f":"+$B$47","v":"2021-07-01"},30.378194995609199,6.91208655574935,3.973509423504813,4.7083310715994573,5.7582383228688752,5.3561362646918491,1.6324047839161941,58.71890141793974,null,{"$f":"+$B$47","v":"2021-07-01"},23.574363188184549,5.2936374670107913,2.1433854585329595,3.202872582611958,5.113731099974963,4.5418510265782137,1.3321789883852826,45.202019811278717]
[null,{"$f":"+$B$48","v":"2021-08-01"},27.074373359797885,6.1226958246880949,3.0686119464133181,3.9699856442368984,5.4557516681164078,4.9669897490583947,1.4786432987875731,52.137051491098575,null,{"$f":"+$B$48","v":"2021-08-01"},30.476289263510214,6.9319203690573739,3.9836739288992447,4.7227148887306489,5.7780052795633647,5.3741323681152116,1.6287561965530284,58.89549229442909,null,{"$f":"+$B$48","v":"2021-08-01"},23.67245745608556,5.3134712803188151,2.1535499639273916,3.2172563997431487,5.1334980566694526,4.5598471300015779,1.3285304010221171,45.37861068776806]
[null,{"$f":"+$B$49","v":"2021-09-01"},28.073743646911371,6.3472718808285737,3.1813982384280375,4.1165259035586033,5.6571345787577085,5.1503314613721125,1.5311540911158599,54.057559800972264,null,{"$f":"+$B$49","v":"2021-09-01"},31.589056747414105,7.1834705766768288,4.1269622869968288,4.8943461228688108,5.990129977252896,5.571045501064158,1.6862707521401641,61.041281964413791,null,{"$f":"+$B$49","v":"2021-09-01"},24.558430546408637,5.511073184980317,2.2358341898592462,3.3387056842483958,5.3241391802625211,4.7296174216800679,1.3760374300915557,47.073837637530744]
[null,{"$f":"+$B$50","v":"2021-10-01"},27.259612050951432,6.1623373782824107,3.088908608315307,3.9971476743553422,5.4930790804568659,5.0009731276526663,1.4885330834038284,52.490591003417848,null,{"$f":"+$B$50","v":"2021-10-01"},30.661527954663761,6.9715619226516905,4.0039705908012335,4.7498769188490915,5.815332691903822,5.4081157467094849,1.6386459811692842,59.249031806748356,null,{"$f":"+$B$50","v":"2021-10-01"},23.8576961472391,5.3531128339131318,2.1738466258293805,3.244418429861593,5.1708254690099098,4.5938305085958495,1.3384201856383726,45.732150200087339]
[null,{"$f":"+$B$51","v":"2021-11-01"},28.263397144687335,6.3882152050782803,3.2023219075693392,4.1443352882318569,5.6953516179151791,5.1851247681943144,1.5443355267073069,54.423081458383614,null,{"$f":"+$B$51","v":"2021-11-01"},31.778710245190069,7.2244139009265371,4.14788595613813,4.9221555075420653,6.0283470164103656,5.6058388078863581,1.6994521877316113,61.406803621825134,null,{"$f":"+$B$51","v":"2021-11-01"},24.748084044184601,5.5520165092300262,2.2567578590005484,3.3665150689216494,5.3623562194199907,4.7644107285022699,1.3892188656830027,47.439359294942093]
[null,{"$f":"+$B$52","v":"2021-12-01"},27.448870677420175,6.2019396511631744,3.1091218096833488,4.0248991580238274,5.5312165491746272,5.0356939924755979,1.4927088533501396,52.844450691290895,null,{"$f":"+$B$52","v":"2021-12-01"},30.850786581132507,7.0111641955324542,4.0241837921692758,4.7776284025175775,5.8534701606215815,5.4428366115324165,1.6428217511155956,59.60289149462141,null,{"$f":"+$B$52","v":"2021-12-01"},24.046954773707846,5.3927151067938954,2.1940598271974223,3.2721699135300777,5.2089629377276703,4.6285513734187811,1.342595955584684,46.086009887960373]
[null,{"$f":"+$B$53","v":"2022-01-01"},27.547316937246304,6.2217243348055575,3.1192010851308529,4.0393345886446843,5.5510544356929445,5.0537546713652368,1.4890945723306115,53.021480625216199,null,{"$f":"+$B$53","v":"2022-01-01"},30.949232840958633,7.0309488791748374,4.0342630676167799,4.7920638331384353,5.8733080471398997,5.4608972904220545,1.6392074700960675,59.779921428546707,null,{"$f":"+$B$53","v":"2022-01-01"},24.145401033533975,5.4124997904362777,2.2041391026449264,3.2866053441509346,5.2288008242459876,4.6466120523084209,1.3389816745651557,46.263039821885677]
[null,{"$f":"+$B$54","v":"2022-02-01"},30.606685232517716,6.9102290001140094,3.464535933820506,4.4879377031564989,6.1675471411194653,5.6150179279239785,1.64650277571188,58.898455714364054,null,{"$f":"+$B$54","v":"2022-02-01"},34.373092125913509,7.8061561742371417,4.477640271572783,5.3213165095602939,6.524327925221451,6.0657829704511697,1.8126991982379201,66.381015175194264,null,{"$f":"+$B$54","v":"2022-02-01"},26.840278339121927,6.014301825990878,2.4514315960682298,3.6545588967527052,5.810766357017477,5.1642528853967882,1.4803063531858398,51.415896253533845]
[null,{"$f":"+$B$55","v":"2022-03-01"},27.740355722797855,6.2612573669164417,3.1392990825009002,4.0676403668518555,5.5899536435264237,5.0891690337315687,1.4881559081810596,53.375831124506092,null,{"$f":"+$B$55","v":"2022-03-01"},31.142271626510183,7.0704819112857198,4.0543610649868276,4.8203696113456038,5.9122072549733797,5.4963116527883855,1.6382688059465151,60.134271927836622,null,{"$f":"+$B$55","v":"2022-03-01"},24.338439819085522,5.4520328225471619,2.2242371000149728,3.3149111223581063,5.2677000320794685,4.6820264146747501,1.3380430104156038,46.617390321175584]
[null,{"$f":"+$B$56","v":"2022-04-01"},28.759749736341405,6.4903711185125408,3.2542967573898354,4.2171167571567265,5.7953715313552285,5.2761842435846154,1.5451907978998176,55.338280942240175,null,{"$f":"+$B$56","v":"2022-04-01"},32.27506283684415,7.3265698143607949,4.199860805958628,4.9949369764669349,6.1283669298504151,5.696898283276659,1.7003074589241221,62.322003105681702,null,{"$f":"+$B$56","v":"2022-04-01"},25.244436635838671,5.6541724226642849,2.3087327088210454,3.4392965378465181,5.4623761328600411,4.8554702038925699,1.3900741368755134,48.354558778798648]
[null,{"$f":"+$B$57","v":"2022-05-01"},27.926410333006093,6.3007372766630905,3.1593185318656918,4.0949220372992166,5.6274454715556415,5.1233020985818021,1.4984459949199123,53.730581743891449,null,{"$f":"+$B$57","v":"2022-05-01"},31.328326236718425,7.1099618210323694,4.0743805143516187,4.8476512817929667,5.9496990830025984,5.5304447176386189,1.6485588926853676,60.489022547221957,null,{"$f":"+$B$57","v":"2022-05-01"},24.524494429293767,5.4915127322938107,2.2442565493797657,3.3421927928054669,5.3051918601086863,4.7161594795249853,1.3483330971544563,46.972140940560941]
[null,{"$f":"+$B$58","v":"2022-06-01"},28.957042571645108,6.5311374770922779,3.2749423742484498,4.2460463177215351,5.8351279719203086,5.3123790421675174,1.5483144858948608,55.704990240690051,null,{"$f":"+$B$58","v":"2022-06-01"},32.472355672147849,7.367336172940532,4.2205064228172411,5.0238665370317435,6.168123370415497,5.733093081859562,1.7034311469191648,62.688712404131586,null,{"$f":"+$B$58","v":"2022-06-01"},25.441729471142366,5.694938781244022,2.3293783256796594,3.4682260984113262,5.502132573425123,4.891665002475472,1.3931978248705561,48.721268077248524]
[null,{"$f":"+$B$59","v":"2022-07-01"},28.121751387745515,6.3401585689197493,3.1792592597394438,4.1235654032135356,5.666808609201837,5.1591388288937816,1.4949111014729521,54.085593159186814,null,{"$f":"+$B$59","v":"2022-07-01"},31.523667291457841,7.1493831132890273,4.0943212422253712,4.8762946477072866,5.9890622206487913,5.5662814479505993,1.6450239992384081,60.844033962517322,null,{"$f":"+$B$59","v":"2022-07-01"},24.719835484033187,5.5309340245504695,2.2641972772535168,3.3708361587197859,5.344554997754881,4.7519962098369657,1.3447982037074966,47.327152355856306]
[null,{"$f":"+$B$60","v":"2022-08-01"},28.219375676614767,6.359845395292103,3.1891983554150189,4.1378803060993503,5.6864808605137735,5.1770487112622048,1.4933943347711758,54.263223639968388,null,{"$f":"+$B$60","v":"2022-08-01"},31.621291580327089,7.169069939661382,4.1042603379009464,4.8906095505930995,6.0087344719607287,5.5841913303190216,1.6435072325366316,61.021664443298903,null,{"$f":"+$B$60","v":"2022-08-01"},24.817459772902449,5.5506208509228241,2.274136372929092,3.3851510616056006,5.3642272490668166,4.7699060922053862,1.34328143700572,47.504782836637887]
[null,{"$f":"+$B$61","v":"2022-09-01"},29.258691828511484,6.5921659578936964,3.3057548774967138,4.2902779312639723,5.8959132545366186,5.367718781586607,1.5451299494110255,56.255652580700122,null,{"$f":"+$B$61","v":"2022-09-01"},32.774004929014218,7.4283646537419523,4.2513189260655047,5.0680981505741798,6.2289086530318052,5.7884328212786524,1.7002466104353295,63.239374744141635,null,{"$f":"+$B$61","v":"2022-09-01"},25.743378728008746,5.7559672620454423,2.3601908289279221,3.5124577119537643,5.5629178560414303,4.9470047418945615,1.3900132883867211,49.271930417258581]
[null,{"$f":"+$B$62","v":"2022-10-01"},28.408677866470754,6.3991679870115545,3.2090161731783091,4.1656381775803872,5.7246271076811563,5.211777568103825,1.4998750819245501,54.618779961950544,null,{"$f":"+$B$62","v":"2022-10-01"},31.810593770183075,7.2083925313808335,4.1240781556642352,4.9183674220741365,6.0468807191281115,5.6189201871606409,1.6499879796900059,61.377220765281031,null,{"$f":"+$B$62","v":"2022-10-01"},25.006761962758429,5.5899434426422756,2.2939541906923817,3.4129089330866376,5.402373496234202,4.8046349490470064,1.3497621841590943,47.860339158620036]
[null,{"$f":"+$B$63","v":"2022-11-01"},29.453266255958283,6.6327623747853615,3.3261899426314967,4.3188088846283952,5.9351219092673677,5.4034148685731385,1.5536729528337472,56.623237188677784,null,{"$f":"+$B$63","v":"2022-11-01"},32.968579356461021,7.4689610706336182,4.2717539912002866,5.0966291039386036,6.2681173077625543,5.8241289082651839,1.7087896138580516,63.606959352119311,null,{"$f":"+$B$63","v":"2022-11-01"},25.937953155455553,5.7965636789371082,2.3806258940627054,3.5409886653181877,5.6021265107721785,4.982700828881093,1.398556291809443,49.639515025236271]
[null,{"$f":"+$B$64","v":"2022-12-01"},28.600808258458137,6.4384176444984345,3.2287500666337046,4.193810755681274,5.7633432653056023,5.2470252790961274,1.5024810994868918,54.97463636916018,null,{"$f":"+$B$64","v":"2022-12-01"},32.002724162170459,7.2476421888677143,4.1438120491196315,4.9465400001750233,6.0855968767525574,5.654167898152946,1.6525939972523476,61.733077172490688,null,{"$f":"+$B$64","v":"2022-12-01"},25.198892354745812,5.6291931001291555,2.313688084147778,3.4410815111875261,5.4410896538586462,4.8398826600393106,1.3523682017214362,48.216195565829665]
[null,{"$f":"+$B$65","v":"2023-01-01"},28.699127275938235,6.4580132905203476,3.2385854850866842,4.2082275284266428,5.7831555112437147,5.2650626144564461,1.5004937076373568,55.152665413309421,null,{"$f":"+$B$65","v":"2023-01-01"},32.101043179650553,7.2672378348896265,4.1536474675726112,4.9609567729203929,6.1054091226906699,5.6722052335132629,1.6506066054028123,61.911106216639929,null,{"$f":"+$B$65","v":"2023-01-01"},25.29721137222591,5.6487887461510686,2.3235235026007572,3.4554982839328932,5.4609018997967587,4.8579199953996284,1.350380809871901,48.394224609978913]
[null,{"$f":"+$B$66","v":"2023-02-01"},31.882297220560663,7.1716159080238313,3.5964421245423188,4.6749840001417748,6.424595462761082,5.8490381796278808,1.6601015447995193,61.259074440457077,null,{"$f":"+$B$66","v":"2023-02-01"},35.648704113956455,8.0675430821469618,4.6095464622945954,5.5083628065455699,6.7813762468630694,6.299803222155071,1.8262979673255593,68.741633901287287,null,{"$f":"+$B$66","v":"2023-02-01"},28.115890327164873,6.2756887339007008,2.5833377867900427,3.8416051937379803,6.0678146786590963,5.3982731371006887,1.4939051222734789,53.77651497962686]
[null,{"$f":"+$B$67","v":"2023-03-01"},28.893214740849331,6.4971426530060672,3.2581917680375554,4.2366870772104219,5.8222660382493565,5.3006693646413137,1.5008069429766027,55.508978584970649,null,{"$f":"+$B$67","v":"2023-03-01"},32.295130644561652,7.3063671973753461,4.1732537505234824,4.9894163217041703,6.1445196496963126,5.7078119836981305,1.6509198407420582,62.267419388301143,null,{"$f":"+$B$67","v":"2023-03-01"},25.491298837137006,5.6879181086367874,2.3431297855516289,3.4839578327166723,5.5000124268024013,4.8935267455844951,1.3506940452111467,48.750537781640134]
[null,{"$f":"+$B$68","v":"2023-04-01"},29.95401556622323,6.7338973791216423,3.3768945482965798,4.3922350558159904,6.03602780461277,5.4952809538147358,1.5551624974763565,57.543513805361307,null,{"$f":"+$B$68","v":"2023-04-01"},33.469328666725964,7.5700960749698982,4.3224585968653706,5.170055275126197,6.3690232031079566,5.9159949935067795,1.7102791585006607,64.527235968802813,null,{"$f":"+$B$68","v":"2023-04-01"},26.438702465720485,5.8976986832733873,2.4313304997277889,3.6144148365057829,5.7030324061175817,5.0745669141226912,1.4000458364520521,50.559791641919766]
[null,{"$f":"+$B$69","v":"2023-05-01"},29.083635862142419,6.5361845042857336,3.2777111576056916,4.2646090205125535,5.8606377610712768,5.3356034975535591,1.5072474693637077,55.865629272534932,null,{"$f":"+$B$69","v":"2023-05-01"},32.485551765854744,7.3454090486550134,4.1927731400916191,5.0173382650063028,6.1828913725182328,5.7427461166103768,1.6573603671291628,62.624070075865454,null,{"$f":"+$B$69","v":"2023-05-01"},25.681719958430094,5.7269599599164538,2.3626491751197656,3.5118797760188039,5.5383841496243216,4.9284608784967423,1.3571345715982519,49.107188469204431]
[null,{"$f":"+$B$70","v":"2023-06-01"},30.153832509131675,6.7741931246460645,3.3970190581844317,4.4215347328308514,6.0762928776064582,5.5319388182064611,1.5573724619391451,57.912183582545083,null,{"$f":"+$B$70","v":"2023-06-01"},33.669145609634413,7.6103918204943204,4.3425831067532226,5.1993549521410589,6.4092882761016456,5.9526528578985074,1.7124891229634491,64.895905745986624,null,{"$f":"+$B$70","v":"2023-06-01"},26.638519408628941,5.9379944287978095,2.4514550096156404,3.6437145135206439,5.7432974791112708,5.1112247785144165,1.4022558009148407,50.92846141910357]
[null,{"$f":"+$B$71","v":"2023-07-01"},29.279887585409931,6.5751329133724434,3.2971421831259002,4.2933859201170224,5.900184407354045,5.3716072965981674,1.5051914014660832,56.222531707443601,null,{"$f":"+$B$71","v":"2023-07-01"},32.68180348912226,7.3843574577417224,4.2122041656118272,5.0461151646107716,6.2224380188010002,5.7787499156549842,1.6553042992315388,62.980972510774102,null,{"$f":"+$B$71","v":"2023-07-01"},25.877971681697606,5.7659083690031636,2.3820802006399728,3.5406566756232731,5.5779307959070872,4.9644646775413488,1.3550785037006274,49.464090904113078]
[null,{"$f":"+$B$72","v":"2023-08-01"},29.377803951151979,6.5945702555396251,3.3068240433181186,4.3077436509928537,5.9199155150193565,5.3895707625828653,1.5046670785777225,56.401095257182519,null,{"$f":"+$B$72","v":"2023-08-01"},32.779719854864304,7.4037947999089031,4.2218860258040447,5.0604728954866038,6.2421691264663117,5.7967133816396839,1.6547799763431776,63.159536060513027,null,{"$f":"+$B$72","v":"2023-08-01"},25.975888047439653,5.7853457111703452,2.3917620608321917,3.5550144064991041,5.5976619035724022,4.9824281435260485,1.3545541808122665,49.64265445385201]
[null,{"$f":"+$B$73","v":"2023-09-01"},30.457089608776435,6.834448032151399,3.4270327188936056,4.466002108533452,6.1374021563058427,5.5875735280203314,1.5561835623598044,58.465731715040874,null,{"$f":"+$B$73","v":"2023-09-01"},33.97240270927918,7.6706467279996557,4.3725967674623973,5.2438223278436613,6.4703975548010311,6.0082875677123768,1.7113002233841084,65.449453878482416,null,{"$f":"+$B$73","v":"2023-09-01"},26.941776508273694,5.9982493363031457,2.4814686703248143,3.6881818892232441,5.8044067578106553,5.1668594883282877,1.4010669013355002,51.482009551599333]
[null,{"$f":"+$B$74","v":"2023-10-01"},29.570371021114646,6.6333673493227687,3.3261196501564094,4.3359802603187694,5.9587196675369967,5.4248985853102809,1.5090086206988069,56.758465154458676,null,{"$f":"+$B$74","v":"2023-10-01"},32.972286924826967,7.4425918936920477,4.2411816326423368,5.0887095048125177,6.2809732789839519,5.8320412043670995,1.6591215184642629,63.516905957789184,null,{"$f":"+$B$74","v":"2023-10-01"},26.168455117402328,5.8241428049534898,2.4110576676704825,3.5832510158250193,5.6364660560900415,5.0177559662534632,1.3588957229333514,50.000024351128175]
[null,{"$f":"+$B$75","v":"2023-11-01"},30.655613431255613,6.8744831591898334,3.4469240663911176,4.4951121719431422,6.1774066528553311,5.6239941601100885,1.561630625460994,58.835164267206117,null,{"$f":"+$B$75","v":"2023-11-01"},34.17092653175834,7.7106818550380876,4.3924881149599084,5.2729323912533497,6.5104020513505176,6.044708199802133,1.7167472864852982,65.818886430647638,null,{"$f":"+$B$75","v":"2023-11-01"},27.140300330752876,6.0382844633415775,2.5013600178223263,3.7172919526329351,5.8444112543601427,5.2032801204180448,1.4065139644366902,51.85144210376459]
[null,{"$f":"+$B$76","v":"2023-12-01"},29.76494337662303,6.6720560636482267,3.3453230329701178,4.3645109098694848,5.9979279047518403,5.4605942921847133,1.5107442467280248,57.116099826775447,null,{"$f":"+$B$76","v":"2023-12-01"},33.166859280335359,7.4812806080175074,4.2603850154560448,5.1172401543632358,6.3201815161987973,5.867736911241531,1.6608571444934805,63.874540630105955,null,{"$f":"+$B$76","v":"2023-12-01"},26.363027472910705,5.8628315192789469,2.4302610504841913,3.6117816653757351,5.6756742933048852,5.0534516731278964,1.360631348962569,50.357659023444931]
[null,{"$f":"+$B$77","v":"2024-01-01"},29.863644057155501,6.6913578547964372,3.3548896867007332,4.378983646858928,6.0178170595368163,5.4787016463943514,1.5096143444877097,57.295008295930472,null,{"$f":"+$B$77","v":"2024-01-01"},33.265559960867833,7.500582399165717,4.2699516691866588,5.1317128913526773,6.3400706709837715,5.88584426545117,1.6597272422531657,64.053449099260988,null,{"$f":"+$B$77","v":"2024-01-01"},26.461728153443172,5.8821333104271583,2.4398277042148062,3.6262544023651779,5.695563448089862,5.0715590273375346,1.3595014467222544,50.536567492599971]
[null,{"$f":"+$B$78","v":"2024-02-01"},32.028335660344901,7.1734323220711573,3.5964625097534881,4.6963979956476161,6.4540236401328634,5.8758299883887757,1.6132286381714995,61.437710754510299,null,{"$f":"+$B$78","v":"2024-02-01"},35.664866453968422,8.0384654557072821,4.5746322151694789,5.5010396018305894,6.7985016385761607,6.311051408759857,1.7736941495759522,68.662250923587735,null,{"$f":"+$B$78","v":"2024-02-01"},28.391804866721383,6.3083991884350308,2.6182928043374973,3.8917563894646414,6.1095456416895662,5.4406085680176952,1.4527631267670469,54.213170585432856]
[null,{"$f":"+$B$79","v":"2024-03-01"},30.059346346199316,6.7298724321297811,3.3739518279905907,4.407679981496976,6.0572529894368738,5.5146046477539787,1.5103327314342303,57.65304095644175,null,{"$f":"+$B$79","v":"2024-03-01"},33.461262249911641,7.5390969764990601,4.2890138104765185,5.1604092259907244,6.379506600883829,5.9217472668107964,1.6604456291996859,64.411481759772258,null,{"$f":"+$B$79","v":"2024-03-01"},26.657430442486987,5.9206478877605013,2.4588898455046633,3.6549507370032264,5.7349993779899187,5.107462028697161,1.3602198336687745,50.894600153111227]
[null,{"$f":"+$B$80","v":"2024-04-01"},31.161107864105645,6.9740531854664018,3.4962285027890943,4.5692341327725732,6.2792687369226279,5.7167307724337002,1.5632816294597671,59.759904823949803,null,{"$f":"+$B$80","v":"2024-04-01"},34.676420964608383,7.8102518813146578,4.441792551357886,5.3470543520827816,6.6122641354178162,6.137444812125743,1.7183982904840713,66.743626987391337,null,{"$f":"+$B$80","v":"2024-04-01"},27.645794763602911,6.1378544896181477,2.5506644542203034,3.7914139134623657,5.9462733384274422,5.2960167327416547,1.4081649684354631,52.776182660508283]
[null,{"$f":"+$B$81","v":"2024-05-01"},30.253179736457774,6.7682632740085742,3.3929177813489488,4.4361022746549228,6.0963123179090726,5.5501647861049044,1.5144089323775052,58.011349102861701,null,{"$f":"+$B$81","v":"2024-05-01"},33.655095640170096,7.5774878183778531,4.3079797638348749,5.1888315191486711,6.4185659293560278,5.957307405161723,1.664521830142961,64.769789906192202,null,{"$f":"+$B$81","v":"2024-05-01"},26.851263832745449,5.9590387296392944,2.4778557988630219,3.6833730301611731,5.7740587064621156,5.1430221670480867,1.3642960346120496,51.252908299531185]
[null,{"$f":"+$B$82","v":"2024-06-01"},31.363320184218079,7.0136573641441675,3.5157763125028882,4.5988850501646716,6.3200165019071086,5.7538280861105191,1.5647883154246172,60.130271814472046,null,{"$f":"+$B$82","v":"2024-06-01"},34.878633284720806,7.8498560599924234,4.4613403610716791,5.37670526947488,6.6530119004022943,6.1745421258025637,1.7199049764489212,67.113993977913566,null,{"$f":"+$B$82","v":"2024-06-01"},27.848007083715345,6.1774586682959134,2.5702122639340974,3.8210648308544637,5.9870211034119203,5.3331140464184736,1.4096716544003127,53.146549651030519]
[null,{"$f":"+$B$83","v":"2024-07-01"},30.450723410947067,6.8065241071945559,3.4117858981879188,4.4650686164206306,6.1361193050292657,5.5864056029519009,1.5132512354144241,58.369878176145761,null,{"$f":"+$B$83","v":"2024-07-01"},33.852639314659392,7.615748651563834,4.3268478806738457,5.2177978609143807,6.4583729164762209,5.9935482220087168,1.6633641331798799,65.128318979476276,null,{"$f":"+$B$83","v":"2024-07-01"},27.048807507234734,5.9972995628252752,2.4967239157019914,3.71233937192688,5.8138656935823105,5.1792629838950832,1.3631383376489685,51.611437372815246]
[null,{"$f":"+$B$84","v":"2024-08-01"},30.549314961038732,6.8256038152456373,3.4211827412622839,4.4795253513302615,6.1559864689605082,5.6044929363923197,1.5131295859042346,58.549235860133976,null,{"$f":"+$B$84","v":"2024-08-01"},33.951230864751061,7.6348283596149171,4.3362447237482113,5.2322545958240108,6.4782400804074642,6.0116355554491374,1.6632424836696906,65.307676663464491,null,{"$f":"+$B$84","v":"2024-08-01"},27.147399057326403,6.0163792708763584,2.5061207587763574,3.7267961068365119,5.833732857513553,5.197350317335502,1.3630166881387791,51.790795056803454]
[null,{"$f":"+$B$85","v":"2024-09-01"},31.668854050246427,7.0728035688446322,3.5449063061069368,4.6436862740320306,6.3815845713541144,5.8098804851960093,1.564564524168911,60.686279779949061,null,{"$f":"+$B$85","v":"2024-09-01"},35.184167150749161,7.9090022646928873,4.4904703546757281,5.4215064933422381,6.7145799698493027,6.2305945248880548,1.719681185193215,67.670001943390574,null,{"$f":"+$B$85","v":"2024-09-01"},28.153540949743693,6.2366048729963781,2.5993422575381455,3.8658660547218218,6.0485891728589278,5.3891664455039638,1.4094478631446068,53.702557616507534]
[null,{"$f":"+$B$86","v":"2024-10-01"},30.744679300546832,6.8636577784840016,3.439900898266135,4.508172131550654,6.1953542987158761,5.6403339384636428,1.5160442188634906,58.908142564890625,null,{"$f":"+$B$86","v":"2024-10-01"},34.146595204259157,7.6728823228532805,4.3549628807520628,5.2609013760444041,6.5176079101628313,6.0474765575204614,1.6661571166289462,65.66658336822114,null,{"$f":"+$B$86","v":"2024-10-01"},27.342763396834513,6.0544332341147227,2.5248389157802076,3.7554428870569043,5.87310068726892,5.2331913194068278,1.3659313210980351,52.149701761560124]
[null,{"$f":"+$B$87","v":"2024-11-01"},31.870619129815996,7.1120515241325206,3.564195851047316,4.6732716113824004,6.4222422129844787,5.8468957493582483,1.5679938898393109,61.05726996856027,null,{"$f":"+$B$87","v":"2024-11-01"},35.385932230318737,7.9482502199807756,4.5097598996161077,5.4510918306926088,6.7552376114796671,6.2676097890502929,1.7231105508636151,68.040992132001804,null,{"$f":"+$B$87","v":"2024-11-01"},28.355306029313258,6.2758528282842656,2.6186318024785247,3.895451392072192,6.0892468144892904,5.4261817096662046,1.4128772288150069,54.073547805118743]
[null,{"$f":"+$B$88","v":"2024-12-01"},30.941494648182925,6.9015659314501914,3.4585169266804936,4.5370316768593195,6.2350145208346621,5.67644113847801,1.517200202703832,59.26726504518944,null,{"$f":"+$B$88","v":"2024-12-01"},34.343410551895253,7.7107904758194712,4.3735789091664206,5.2897609213530679,6.5572681322816173,6.0835837575348277,1.6673131004692878,66.025705848519948,null,{"$f":"+$B$88","v":"2024-12-01"},27.539578744470603,6.0923413870809107,2.5434549441945671,3.784302432365569,5.9127609093877069,5.2692985194211932,1.3670873049383767,52.508824241858925]
[null,{"$f":"+$B$89","v":"2025-01-01"},31.040812431211055,6.9204633161740743,3.4677860978956896,4.5515949011895458,6.2550280278225614,5.6946617046068795,1.5165545202275665,59.446900999127372,null,{"$f":"+$B$89","v":"2025-01-01"},34.442728334923373,7.7296878605433523,4.382848080381617,5.304324145683295,6.5772816392695166,6.1018043236636963,1.6666674179930223,66.20534180245788,null,{"$f":"+$B$89","v":"2025-01-01"},27.638896527498723,6.1112387718047945,2.5527241154097635,3.798865656695797,5.9327744163756053,5.2875190855500627,1.3664416224621108,52.688460195796857]
[null,{"$f":"+$B$90","v":"2025-02-01"},34.476299066932519,7.6828206257644505,3.8495678940630107,5.0553492242733062,6.9473122662995399,6.3249265929530551,1.6788802808238108,66.015155951109691,null,{"$f":"+$B$90","v":"2025-02-01"},38.242705960328315,8.5787477998875801,4.862672231815286,5.8887280306771004,7.3040930504015265,6.7756916354802446,1.8450767033498507,73.497715411939907,null,{"$f":"+$B$90","v":"2025-02-01"},30.709892173536733,6.7868934516413182,2.8364635563107345,4.2219704178695121,6.5905314821975542,5.8741615504258649,1.5126838582977704,58.532596490279488]
[null,{"$f":"+$B$91","v":"2025-03-01"},31.238358078318182,6.9581406718624077,3.486245591779209,4.580561532205329,6.2948354124445896,5.7309028833448972,1.5172965894384964,59.806340759393109,null,{"$f":"+$B$91","v":"2025-03-01"},34.640273982030514,7.7673652162316875,4.401307574265136,5.33329077669908,6.6170890238915456,6.1380455024017131,1.6674094872039522,66.564781562723624,null,{"$f":"+$B$91","v":"2025-03-01"},27.836442174605853,6.1489161274931288,2.571183609293282,3.8278322877115802,5.9725818009976344,5.3237602642880786,1.3671836916730407,53.047899956062594]
[null,{"$f":"+$B$92","v":"2025-04-01"},32.381034762302193,7.2094829910347364,3.6119499904292622,4.7481151804887185,6.5250959670257149,5.9405351913732787,1.5694662269623296,61.985680309616221,null,{"$f":"+$B$92","v":"2025-04-01"},35.896347862804937,8.0456816868829897,4.5575140389980522,5.525935399798926,6.8580913655209033,6.3612492310653233,1.7245828879866338,68.969402473057769,null,{"$f":"+$B$92","v":"2025-04-01"},28.865721661799459,6.3732842951864805,2.666385941860471,3.9702949611785119,6.1921005685305266,5.5198211516812341,1.4143495659380252,55.001958146174708]
[null,{"$f":"+$B$93","v":"2025-05-01"},31.435026309897797,6.9956560280041638,3.5045984790708133,4.6093995055047543,6.3344659892356736,5.7669830938539182,1.5198596573380405,60.165989062905162,null,{"$f":"+$B$93","v":"2025-05-01"},34.836942213610122,7.8048805723734436,4.4196604615567399,5.3621287499985044,6.6567196006826315,6.1741257129107359,1.6699725551034958,66.92442986623567,null,{"$f":"+$B$93","v":"2025-05-01"},28.033110406185472,6.1864314836348848,2.5895364965848868,3.8566702610110046,6.0122123777887184,5.3598404747971014,1.3697467595725845,53.407548259574654]
[null,{"$f":"+$B$94","v":"2025-06-01"},32.585495358302317,7.2481625650369548,3.6308588505748092,4.778095768410207,6.5662967816435742,5.9780449675340446,1.5704521998045753,62.357406491306492,null,{"$f":"+$B$94","v":"2025-06-01"},36.100808458805048,8.0843612608852098,4.5764228991436005,5.5559159877204154,6.8992921801387608,6.3987590072260891,1.7255688608288793,69.34112865474799,null,{"$f":"+$B$94","v":"2025-06-01"},29.070182257799583,6.4119638691886989,2.6852948020060183,4.0002755490999986,6.2333013831483859,5.557330927842,1.4153355387802706,55.373684327864957]
[null,{"$f":"+$B$95","v":"2025-07-01"},31.634081975082058,7.0330027297873983,3.5228429197232805,4.6385875543908268,6.3745776573044042,5.8035012963372434,1.5192141977522799,60.525808330377487,null,{"$f":"+$B$95","v":"2025-07-01"},35.03599787879439,7.8422272741566763,4.4379049022092074,5.391316798884576,6.6968312687513594,6.2106439153940611,1.6693270955177355,67.284249133708002,null,{"$f":"+$B$95","v":"2025-07-01"},28.232166071369726,6.2237781854181184,2.607780937237353,3.8858583098970767,6.0523240458574499,5.3963586772804248,1.3691012999868239,53.767367527046964]
[null,{"$f":"+$B$96","v":"2025-08-01"},31.733505536966323,7.0516107890699224,3.5319238576027394,4.653166289349306,6.3946124797688668,5.8217412683628664,1.5192270437413875,60.705787264861414,null,{"$f":"+$B$96","v":"2025-08-01"},35.135421440678655,7.8608353334392023,4.446985840088665,5.4058955338430561,6.7168660912158229,6.228883887419685,1.6693399415068431,67.464228068191943,null,{"$f":"+$B$96","v":"2025-08-01"},28.331589633253994,6.2423862447006435,2.616861875116812,3.9004370448555568,6.0723588683219125,5.4145986493060496,1.3691141459759315,53.947346461530898]
[null,{"$f":"+$B$97","v":"2025-09-01"},32.893651020057533,7.3058466991545314,3.6590095571520038,4.8232814329905391,6.6283931686335293,6.0345783540214022,1.5705791974200252,62.915339429429558,null,{"$f":"+$B$97","v":"2025-09-01"},36.408964120560263,8.1420453950027873,4.6045736057207947,5.6011016523007484,6.9613885671287168,6.4552923937134468,1.7256958584443296,69.899061592871078,null,{"$f":"+$B$97","v":"2025-09-01"},29.378337919554792,6.4696480033062782,2.7134455085832125,4.0454612136803307,6.295397770138341,5.6138643143293567,1.4154625363957212,55.931617265988038]
[null,{"$f":"+$B$98","v":"2025-10-01"},31.931354774354489,7.0886921425113769,3.550002055897544,4.6821774365960431,6.4344810408089126,5.8580381429352357,1.5211356999779324,61.065881293081532,null,{"$f":"+$B$98","v":"2025-10-01"},35.33327067806681,7.8979166868806567,4.4650640383834714,5.4349066810897932,6.7567346522558678,6.2651807619920534,1.6712485977433882,67.824322096412033,null,{"$f":"+$B$98","v":"2025-10-01"},28.529438870642167,6.279467598142098,2.6349400734116175,3.9294481921022939,6.1122274293619556,5.450895523878418,1.3710228022124766,54.307440489751031]
[null,{"$f":"+$B$99","v":"2025-11-01"},33.098162176301535,7.3440692451297265,3.6776320836280449,4.8532694346918301,6.6696041716362213,6.072097405824846,1.5726865995408543,63.287521116753062,null,{"$f":"+$B$99","v":"2025-11-01"},36.613475276804273,8.1802679409779806,4.6231961321968349,5.6310896540020376,7.0025995701314088,6.4928114455168897,1.7278032605651585,70.271243280194582,null,{"$f":"+$B$99","v":"2025-11-01"},29.582849075798798,6.5078705492814715,2.7320680350592528,4.0754492153816226,6.3366087731410339,5.6513833661328006,1.4175699385165503,56.303798953311521]
[null,{"$f":"+$B$100","v":"2025-12-01"},32.130273118914609,7.1255882548639509,3.567966969300286,4.7113453498025475,6.4745650374255908,5.8945311529561755,1.5218582369188922,61.426128120182057,null,{"$f":"+$B$100","v":"2025-12-01"},35.532189022626937,7.9348127992332298,4.4830289517862125,5.4640745942962967,6.7968186488725459,6.3016737720129941,1.6719711346843482,68.184568923512558,null,{"$f":"+$B$100","v":"2025-12-01"},28.728357215202291,6.3163637104946719,2.6529049868143586,3.9586161053087974,6.1523114259786356,5.4873885338993587,1.3717453391534367,54.667687316851548]
[null,{"$f":"+$B$101","v":"2026-01-01"},32.230329516776855,7.1439647194379514,3.5769063321435186,4.7260168791431676,6.4947273825439167,5.9128872233222358,1.5214715144785924,61.606303567846233,null,{"$f":"+$B$101","v":"2026-01-01"},35.632245420489184,7.9531892638072295,4.491968314629446,5.4787461236369159,6.8169809939908719,6.3200298423790544,1.671584412244048,68.364744371176755,null,{"$f":"+$B$101","v":"2026-01-01"},28.828413613064527,6.3347401750686716,2.6618443496575921,3.9732876346494175,6.1724737710969615,5.5057446042654208,1.3713586167131366,54.847862764515732]
[null,{"$f":"+$B$102","v":"2026-02-01"},35.794175562368466,7.9296807332206951,3.9700112979360815,5.2485928756860014,7.2128773005404545,6.5667005744360436,1.6844613962786112,68.406499740466344,null,{"$f":"+$B$102","v":"2026-02-01"},39.560582455764255,8.8256079073438265,4.9831156356883577,6.0819716820897947,7.5696580846424428,7.0174656169632348,1.8506578188046512,75.889059201296561,null,{"$f":"+$B$102","v":"2026-02-01"},32.027768668972683,7.0337535590975655,2.9569069601838054,4.4152140692822064,6.856096516438468,6.1159355319088542,1.5182649737525711,60.923940279636156]
[null,{"$f":"+$B$103","v":"2026-03-01"},32.429783971741642,7.180570086938693,3.5946976841709093,4.7552634036099182,6.5349194106631421,5.9494785866771194,1.5220524736658421,61.966765617467267,null,{"$f":"+$B$103","v":"2026-03-01"},35.831699875453964,7.989794631307972,4.5097596666568371,5.5079926481036683,6.8571730221100973,6.3566212057339371,1.6721653714312974,68.725206420797761,null,{"$f":"+$B$103","v":"2026-03-01"},29.027868068029317,6.3713455425694132,2.6796357016849819,4.0025341591161698,6.212665799216186,5.5423359676203008,1.3719395759003863,55.208324814136745]
[null,{"$f":"+$B$104","v":"2026-04-01"},33.613513980904962,7.4387572284481811,3.7236674280925213,4.9288368075287998,6.7734526127531201,6.1666424243413154,1.5737468165525115,64.21861729862141,null,{"$f":"+$B$104","v":"2026-04-01"},37.128827081407685,8.274955924296437,4.6692314766613121,5.7066570268390073,7.1064480112483075,6.5873564640333608,1.7288634775768155,71.202339462062909,null,{"$f":"+$B$104","v":"2026-04-01"},30.098200880402224,6.6025585325999261,2.7781033795237304,4.1510165882185914,6.4404572142579326,5.7459283846492699,1.418630155528207,57.234895135179876]
[null,{"$f":"+$B$105","v":"2026-05-01"},32.628902800156574,7.2169730572851138,3.6123707563579246,4.7844607142844593,6.5750438067420998,5.9860083769122667,1.5236016561759493,62.32736116791439,null,{"$f":"+$B$105","v":"2026-05-01"},36.030818703868896,8.0261976016543937,4.527432738843852,5.5371899587782094,6.8972974181890558,6.3931509959690844,1.6737145539414053,69.085801971244891,null,{"$f":"+$B$105","v":"2026-05-01"},29.226986896444245,6.4077485129158349,2.6973087738719976,4.0317314697907101,6.2527901952951437,5.5788657578554508,1.3734887584104938,55.568920364583875]
[null,{"$f":"+$B$106","v":"2026-06-01"},33.820086047797339,7.4762664210869527,3.741867738481254,4.9591270059080843,6.8150789094565498,6.2045395651194593,1.5743222176831091,64.591287905532752,null,{"$f":"+$B$106","v":"2026-06-01"},37.335399148300077,8.3124651169352077,4.6874317870500439,5.7369472252182918,7.1480743079517373,6.6252536048115047,1.7294388787074133,71.575010068974279,null,{"$f":"+$B$106","v":"2026-06-01"},30.304772947294609,6.6400677252386977,2.7963036899124631,4.181306786597875,6.4820835109613633,5.7838255254274138,1.4192055566588049,57.607565742091218]
[null,{"$f":"+$B$107","v":"2026-07-01"},32.829580692449547,7.2531667689434824,3.6299235487559249,4.8138866345423903,6.6154823694774887,6.0228241886998806,1.5231959157608759,62.688060118629586,null,{"$f":"+$B$107","v":"2026-07-01"},36.231496596161875,8.0623913133127623,4.5449855312418519,5.5666158790361395,6.9377359809244439,6.4299668077566974,1.6733088135263314,69.446500921960094,null,{"$f":"+$B$107","v":"2026-07-01"},29.427664788737225,6.4439422245742035,2.7148615662699984,4.061157390048642,6.2932287580305335,5.6156815696430629,1.3730830179954203,55.929619315299078]
[null,{"$f":"+$B$108","v":"2026-08-01"},32.929880869567832,7.2711829098808618,3.6386541682769225,4.8285939098681148,6.6356938385059081,6.0412249821348638,1.5232188762637906,62.868449554498298,null,{"$f":"+$B$108","v":"2026-08-01"},36.331796773280161,8.0804074542501407,4.5537161507628499,5.581323154361864,6.9579474499528642,6.4483676011916806,1.6733317740292464,69.626890357828813,null,{"$f":"+$B$108","v":"2026-08-01"},29.527964965855507,6.461958365511582,2.7235921857909955,4.0758646653743646,6.3134402270589529,5.6340823630780452,1.3731059784983348,56.11000875116779]
[null,{"$f":"+$B$109","v":"2026-09-01"},34.130975645824833,7.5321155836327875,3.7689324002103963,5.0047135546606549,6.8777262114087732,6.261574512003377,1.5744560554544205,65.150493963195245,null,{"$f":"+$B$109","v":"2026-09-01"},37.646288746327564,8.3683142794810426,4.7144964487791885,5.7825337739708624,7.2107216099039615,6.6822885516954225,1.7295727164787242,72.134216126636773,null,{"$f":"+$B$109","v":"2026-09-01"},30.615662545322088,6.6959168877845316,2.8233683516416055,4.2268933353504465,6.5447308129135866,5.8408604723113315,1.4193393944301163,58.166771799753711]
[null,{"$f":"+$B$110","v":"2026-10-01"},33.129965705199417,7.3070494583584322,3.6560225653128899,4.8579328686883541,6.6760128945097224,6.0779319933855778,1.5243884285664382,63.229303914020832,null,{"$f":"+$B$110","v":"2026-10-01"},36.531881608911753,8.1162740027277103,4.571084547798816,5.6106621131821033,6.9982665059566775,6.4850746124423955,1.674501326331894,69.987744717351347,null,{"$f":"+$B$110","v":"2026-10-01"},29.728049801487092,6.4978249139891524,2.7409605828269625,4.1052036241946048,6.3537592830627663,5.6707893743287592,1.3742755308009829,56.470863110690317]
[null,{"$f":"+$B$111","v":"2026-11-01"},34.337871671907052,7.5690613656479977,3.7868150981286233,5.0350512560168648,6.9194177890650401,6.2995310854396154,1.5756713516927168,65.5234196178979,null,{"$f":"+$B$111","v":"2026-11-01"},37.85318477240979,8.4052600614962536,4.7323791466974141,5.8128714753270723,7.2524131875602267,6.7202451251316599,1.7307880127170212,72.507141781339428,null,{"$f":"+$B$111","v":"2026-11-01"},30.822558571404311,6.7328626697997445,2.8412510495598329,4.2572310367066573,6.5864223905698527,5.8788170457475708,1.420554690668413,58.539697454456373]
[null,{"$f":"+$B$112","v":"2026-12-01"},33.330850307414217,7.34268910127936,3.6732653096930363,4.8873890993586899,6.7164931113209327,6.1147857276044526,1.5247612236278842,63.590233880298577,null,{"$f":"+$B$112","v":"2026-12-01"},36.732766211126545,8.1519136456486407,4.5883272921789624,5.64011834385244,7.0387467227678897,6.5219283466612703,1.67487412139334,70.348674683629099,null,{"$f":"+$B$112","v":"2026-12-01"},29.928934403701899,6.533464556910082,2.7582033272071094,4.1346598548649407,6.3942394998739776,5.7076431085476358,1.3746483258624285,56.831793076968076]
[null,{"$f":"+$B$113","v":"2027-01-01"},33.431692887615057,7.3604215486051681,3.6818388945891245,4.9021759086563552,6.7368138798881869,6.133286028810681,1.5244927787411362,63.770721926905708,null,{"$f":"+$B$113","v":"2027-01-01"},36.833608791327379,8.1696460929744461,4.5969008770750515,5.6549051531501053,7.0590674913351421,6.5404286478674987,1.6746056765065915,70.529162730236209,null,{"$f":"+$B$113","v":"2027-01-01"},30.029776983902725,6.5511970042358891,2.766776912103198,4.1494466641626051,6.4145602684412308,5.7261434097538624,1.3743798809756802,57.012281123575185]
[null,{"$f":"+$B$114","v":"2027-02-01"},37.125202697447016,8.1686047170935918,4.0857781287993191,5.4437648395253539,7.4810923175977209,6.8108871359418606,1.6878131700235941,70.803143006428456,null,{"$f":"+$B$114","v":"2027-02-01"},40.891609590842805,9.0645318912167241,5.0988824665515944,6.2771436459291463,7.8378731016997083,7.2616521784690518,1.8540095925496343,78.285702467258659,null,{"$f":"+$B$114","v":"2027-02-01"},33.358795804051233,7.2726775429704622,3.0726737910470425,4.6103860331215598,7.1243115334957352,6.3601220934146685,1.5216167474975537,63.320583545598254]
[null,{"$f":"+$B$115","v":"2027-03-01"},33.63301605666296,7.3957072754464965,3.6988890812912643,4.9316964475198422,6.7773824722159608,6.1702202212893038,1.5248329180654567,64.131744472491292,null,{"$f":"+$B$115","v":"2027-03-01"},37.034931960375289,8.2049318198157746,4.6139510637771917,5.6844256920135905,7.0996360836629169,6.5773628403461224,1.6749458158309125,70.890185275821793,null,{"$f":"+$B$115","v":"2027-03-01"},30.231100152950642,6.5864827310772176,2.7838270988053377,4.1789672030260929,6.4551288607690047,5.7630776022324861,1.3747200203000012,57.373303669160777]
[null,{"$f":"+$B$116","v":"2027-04-01"},34.858006834869585,7.6603673935510068,3.8309439600302655,5.1113200251064672,7.0242301237871629,6.3949536456675808,1.5761954454798364,66.456017428491904,null,{"$f":"+$B$116","v":"2027-04-01"},38.373319935372329,8.4965660893992627,4.7765080085990572,5.8891402444166747,7.3572255222823504,6.8156676853596263,1.7313121065041404,73.439739591933431,null,{"$f":"+$B$116","v":"2027-04-01"},31.342693734366854,6.8241686977027518,2.8853799114614742,4.3334998057962579,6.6912347252919746,5.9742396059755363,1.4210787844555319,59.472295265050384]
[null,{"$f":"+$B$117","v":"2027-05-01"},33.83428863013944,7.4307481280379397,3.71580809057191,4.9612095674233565,6.817940869040056,6.2071451316441557,1.5256722464927734,64.492812663349639,null,{"$f":"+$B$117","v":"2027-05-01"},37.236204533851762,8.2399726724072195,4.6308700730578369,5.7139388119171057,7.1401944804870103,6.6142877507009716,1.675785144258229,71.251253466680126,null,{"$f":"+$B$117","v":"2027-05-01"},30.432372726427115,6.6215235836686617,2.8007461080859835,4.2084803229296064,6.4956872575930991,5.800002512587338,1.3755593487273174,57.734371860019124]
[null,{"$f":"+$B$118","v":"2027-06-01"},35.066540526354999,7.6964469020284847,3.8483582592938923,5.1418978615917279,7.0662517070777797,6.4332106606749679,1.576427615235118,66.829133532256975,null,{"$f":"+$B$118","v":"2027-06-01"},38.581853626857729,8.5326455978767388,4.7939223078626831,5.9197180809019345,7.3992471055729672,6.8539247003670116,1.7315442762594218,73.812855695698488,null,{"$f":"+$B$118","v":"2027-06-01"},31.551227425852264,6.8602482061802297,2.902794210725101,4.3640776422815204,6.7332563085825932,6.0124966209829225,1.4213109542108138,59.845411368815448]
[null,{"$f":"+$B$119","v":"2027-07-01"},34.036602594112793,7.4655367117479345,3.7325936220357652,4.9908753891186235,6.8587091162590212,6.2442610926229287,1.5253228256360891,64.853901351533153,null,{"$f":"+$B$119","v":"2027-07-01"},37.438518497825122,8.2747612561172144,4.6476556045216917,5.7436046336123736,7.1809627277059782,6.6514037116797464,1.6754357234015451,71.612342154863683,null,{"$f":"+$B$119","v":"2027-07-01"},30.634686690400468,6.6563121673786556,2.8175316395498382,4.2381461446248752,6.5364555048120661,5.8371184735661101,1.3752099278706336,58.095460548202652]
[null,{"$f":"+$B$120","v":"2027-08-01"},34.137765248019782,7.4828340616875852,3.7409356328475889,5.0057091316546574,6.8790943828160582,6.26282011366715,1.5252936398040791,65.034452210496895,null,{"$f":"+$B$120","v":"2027-08-01"},37.539681151732111,8.2920586060568642,4.6559976153335159,5.7584383761484066,7.2013479942630134,6.669962732723965,1.6754065375695342,71.792893013827396,null,{"$f":"+$B$120","v":"2027-08-01"},30.735849344307464,6.6736095173183054,2.8258736503616624,4.2529798871609081,6.5568407713691013,5.8556774946103323,1.3751807420386231,58.276011407166401]
[null,{"$f":"+$B$121","v":"2027-09-01"},35.380115323254721,7.7500677936862843,3.8742181701553804,5.1878781480250566,7.1294401029283438,6.4907382267266609,1.5763808132992481,67.388838578075692,null,{"$f":"+$B$121","v":"2027-09-01"},38.895428423757465,8.5862664895345393,4.8197822187241703,5.9656983673352633,7.4624355014235322,6.9114522664187055,1.7314974743235525,74.372560741517219,null,{"$f":"+$B$121","v":"2027-09-01"},31.864802222751976,6.9138690978380311,2.9286541215865891,4.4100579287148483,6.7964447044331564,6.0700241870346154,1.4212641522749438,60.405116414634165]
[null,{"$f":"+$B$122","v":"2027-10-01"},34.339856291483038,7.5172303319415406,3.7575165834156685,5.0353422659368805,6.9198177093667352,6.2998951782649115,1.5258987915916034,65.395557152000379,null,{"$f":"+$B$122","v":"2027-10-01"},37.741772195195352,8.3264548763108195,4.6725785659015955,5.7880715104306297,7.2420713208136895,6.7070377973217292,1.6760116893570591,72.15399795533088,null,{"$f":"+$B$122","v":"2027-10-01"},30.937940387770713,6.7080057875722616,2.8424546009297411,4.2826130214431313,6.59756409791978,5.8927525592080929,1.375785893826148,58.637116348669863]
[null,{"$f":"+$B$123","v":"2027-11-01"},35.589105250381436,7.7854716159393655,3.8912801031423006,5.2185228835266795,7.1715536221736009,6.5290789414645403,1.5769631170801632,67.761975533708096,null,{"$f":"+$B$123","v":"2027-11-01"},39.104418350884167,8.6216703117876214,4.8368441517110927,5.996343102836887,7.5045490206687884,6.9497929811565857,1.7320797781044672,74.745697697149609,null,{"$f":"+$B$123","v":"2027-11-01"},32.073792149878706,6.9492729200911114,2.9457160545735097,4.4407026642164711,6.8385582236784144,6.1083649017724957,1.421846456055859,60.778253370266569]
[null,{"$f":"+$B$124","v":"2027-12-01"},34.542553789293635,7.5513557035534351,3.7739581837677907,5.0650643261942649,6.9606632424140589,6.3370815013020314,1.525969422772449,65.756646169297667,null,{"$f":"+$B$124","v":"2027-12-01"},37.944469693005964,8.360580247922714,4.6890201662537176,5.8177935706880151,7.2829168538610141,6.74422412035885,1.6760823205379045,72.515086972628183,null,{"$f":"+$B$124","v":"2027-12-01"},31.14063788558131,6.7421311591841562,2.8588962012818642,4.3123350817005148,6.6384096309671028,5.9299388822452146,1.3758565250069932,58.998205365967166]
[null,{"$f":"+$B$125","v":"2028-01-01"},34.644177134760419,7.5683144626789183,3.7821259727670102,5.0799656211295536,6.9811413428369935,6.3557250395472442,1.5257296655086816,65.937179239228811,null,{"$f":"+$B$125","v":"2028-01-01"},38.04609303847274,8.3775390070481972,4.6971879552529368,5.8326948656233037,7.3033949542839487,6.7628676586040619,1.6758425632741374,72.695620042559327,null,{"$f":"+$B$125","v":"2028-01-01"},31.242261231048097,6.7590899183096393,2.8670639902810837,4.3272363766358035,6.6588877313900383,5.9485824204904265,1.3756167677432263,59.17873843589831]
[null,{"$f":"+$B$126","v":"2028-02-01"},37.142014882884709,8.1083200491459166,4.0516551007369266,5.4462300539164286,7.4844801377894372,6.8139714530419679,1.6308732520826483,70.677544929598042,null,{"$f":"+$B$126","v":"2028-02-01"},40.77854567650823,8.973353182782045,5.0298248061529165,6.2508716600994028,7.8289581362327354,7.2491928734130484,1.7913387634871005,77.902085098675499,null,{"$f":"+$B$126","v":"2028-02-01"},33.505484089261195,7.243286915509791,3.0734853953209358,4.6415884477334552,7.1400021393461408,6.3787500326708884,1.4704077406781955,63.453004760520606]
[null,{"$f":"+$B$127","v":"2028-03-01"},34.84715147285592,7.6020192483996691,3.7986559204982369,5.1097282751965212,7.0220426619158554,6.3929621509383159,1.5258020007242417,66.298361730528754,null,{"$f":"+$B$127","v":"2028-03-01"},38.249067376568235,8.4112437927689498,4.7137179029841638,5.8624575196902713,7.3442962733628105,6.8001047699951336,1.6759148984896977,73.056802533859255,null,{"$f":"+$B$127","v":"2028-03-01"},31.445235569143595,6.7927947040303911,2.8835939380123099,4.3569990307027728,6.6997890504689002,5.9858195318814982,1.3756891029587861,59.539920927198253]
[null,{"$f":"+$B$128","v":"2028-04-01"},36.113602805123158,7.8727222378627353,3.9336597834431202,5.2954313214465705,7.2772450216079507,6.6253018140380817,1.5768930720578569,68.694856055579478,null,{"$f":"+$B$128","v":"2028-04-01"},39.628915905625902,8.7089209337109903,4.8792238320119123,6.0732515407567789,7.6102404201031391,7.0460158537301263,1.7320097330821613,75.67857821902102,null,{"$f":"+$B$128","v":"2028-04-01"},32.59828970462042,7.0365235420144785,2.9880957348743284,4.517611102136363,6.9442496231127642,6.2045877743460371,1.4217764110335527,61.711133892137944]
[null,{"$f":"+$B$129","v":"2028-05-01"},35.050268324374386,7.6354341485018935,3.8149652159068794,5.1395118263766291,7.0629726988466413,6.4302254074482992,1.5261188619790453,66.65949648343377,null,{"$f":"+$B$129","v":"2028-05-01"},38.452184228086708,8.4446586928711742,4.7300271983928068,5.8922410708703783,7.3852263102935973,6.837368026505116,1.6762317597445007,73.417937286764271,null,{"$f":"+$B$129","v":"2028-05-01"},31.648352420662054,6.8262096041326155,2.8999032334209534,4.3867825818828798,6.7407190873996861,6.0230827883914833,1.3760059642135893,59.901055680103262]
[null,{"$f":"+$B$130","v":"2028-06-01"},36.323789159280139,7.9070981335398285,3.9506738722790433,5.3262514921492743,7.3195996326295294,6.663862021974043,1.5768246968868902,69.068099008738741,null,{"$f":"+$B$130","v":"2028-06-01"},39.839102259782877,8.7432968293880844,4.8962379208478337,6.1040717114594809,7.6525950311247168,7.0845760616660884,1.7319413579111942,76.051821172180269,null,{"$f":"+$B$130","v":"2028-06-01"},32.808476058777394,7.0708994376915735,3.0051098237102516,4.5484312728390668,6.9866042341343428,6.2431479822819984,1.4217080358625858,62.084376845297207]
[null,{"$f":"+$B$131","v":"2028-07-01"},35.253957246895368,7.6685514151191141,3.8315030820767815,5.1693792618127956,7.1040180136929996,6.4675936145241755,1.5257105794584311,67.020713213579654,null,{"$f":"+$B$131","v":"2028-07-01"},38.655873150607697,8.4777759594883939,4.7465650645627084,5.9221085063065448,7.4262716251399539,6.8747362335809923,1.6758234772238865,73.779154016910169,null,{"$f":"+$B$131","v":"2028-07-01"},31.852041343183039,6.8593268707498343,2.9164410995908541,4.4166500173190473,6.7817644022460417,6.0604509954673578,1.3755976816929754,60.262272410249146]
[null,{"$f":"+$B$132","v":"2028-08-01"},35.355834419276832,7.6849960101447232,3.8397621551754137,5.1843177760474566,7.1245472627277504,6.4862837191540086,1.5255971707973517,67.201338513323535,null,{"$f":"+$B$132","v":"2028-08-01"},38.75775032298916,8.4942205545140013,4.7548241376613394,5.9370470205412058,7.4468008741747056,6.8934263382108272,1.6757100685628075,73.95977931665405,null,{"$f":"+$B$132","v":"2028-08-01"},31.95391851556451,6.8757714657754452,2.9247001726894868,4.4315885315537074,6.8022936512807961,6.0791411000971909,1.3754842730318961,60.442897709993026]
[null,{"$f":"+$B$133","v":"2028-09-01"},36.639551725692932,7.9580753141555327,3.9763390981254156,5.3725525769052238,7.3832288854857895,6.7217909501773301,1.5765009743131804,69.628039524855396,null,{"$f":"+$B$133","v":"2028-09-01"},40.154864826195677,8.7942740100037895,4.9219031466942074,6.1503727962154295,7.7162242839809769,7.1425049898693755,1.7316176353374846,76.611761688296937,null,{"$f":"+$B$133","v":"2028-09-01"},33.124238625190195,7.1218766183072786,3.0307750495566248,4.5947323575950163,7.050233486990602,6.3010769104852873,1.4213843132888762,62.644317361413869]
[null,{"$f":"+$B$134","v":"2028-10-01"},35.559438891132118,7.7176521295260434,3.8563833501511282,5.2141728282632966,7.1655755599370172,6.5236364331440324,1.5257550066237364,67.562614198777368,null,{"$f":"+$B$134","v":"2028-10-01"},38.961354794844439,8.5268766738953232,4.7714453326370547,5.9669020727570459,7.4878291713839715,6.9307790522008501,1.6758679043891924,74.321055002107883,null,{"$f":"+$B$134","v":"2028-10-01"},32.157522987419789,6.9084275851567645,2.9413213676652008,4.4614435837695465,6.8433219484900603,6.1164938140872138,1.3756421088582811,60.804173395446853]
[null,{"$f":"+$B$135","v":"2028-11-01"},36.850332559376298,7.9916570576016213,3.9935338410646839,5.4034599176840059,7.4257032899601905,6.7604602196850729,1.5766075836337112,70.00175446900559,null,{"$f":"+$B$135","v":"2028-11-01"},40.365645659879036,8.8278557534498781,4.9390978896334747,6.1812801369942116,7.758698688455377,7.1811742593771184,1.7317242446580154,76.985476632447103,null,{"$f":"+$B$135","v":"2028-11-01"},33.33501945887356,7.1554583617533671,3.0479697924958931,4.6256396983737975,7.092707891465003,6.3397461799930275,1.4214909226094075,63.018032305564056]
[null,{"$f":"+$B$136","v":"2028-12-01"},35.763972322775899,7.7499909465111596,3.8730668702173126,5.2441640962642779,7.2067910516511509,6.5611595715307889,1.5255525977740096,67.924697456724601,null,{"$f":"+$B$136","v":"2028-12-01"},39.165888226488235,8.5592154908804385,4.7881288527032391,5.9968933407580263,7.5290446630981078,6.9683021905876057,1.6756654955394656,74.683138260055117,null,{"$f":"+$B$136","v":"2028-12-01"},32.36205641906357,6.9407664021418816,2.958004887731386,4.4914348517705287,6.8845374402041957,6.1540169524739712,1.3754397000085541,61.166256653394093]
[null,{"$f":"+$B$137","v":"2029-01-01"},35.866695830391443,7.7660388527641011,3.8814372261452195,5.2592267108311903,7.2274908455330076,6.580004942484833,1.5252852019657772,68.106179610115561,null,{"$f":"+$B$137","v":"2029-01-01"},39.268611734103771,8.57526339713338,4.7964992086311478,6.0119559553249404,7.5497444569799628,6.9871475615416507,1.6753980997312328,74.86462041344609,null,{"$f":"+$B$137","v":"2029-01-01"},32.464779926679114,6.9568143083948213,2.9663752436592934,4.506497466337442,6.9052372340860524,6.1728623234280162,1.3751723042003214,61.347738806785053]
[null,{"$f":"+$B$138","v":"2029-02-01"},39.823454897944629,8.6157906197682177,4.3065851878186843,5.8394165636909134,8.0248165895589878,7.3059010312642352,1.6885277996757115,75.604492689721383,null,{"$f":"+$B$138","v":"2029-02-01"},43.589861791340418,9.5117177938913482,5.3196895255709604,6.6727953700947076,8.3815973736609752,7.7566660737914264,1.8547242222017519,83.087052150551585,null,{"$f":"+$B$138","v":"2029-02-01"},36.05704800454884,7.7198634456450863,3.2934808500664086,5.0060377572871193,7.6680358054570021,6.8551359887370449,1.5223313771496714,68.121933228891166]
[null,{"$f":"+$B$139","v":"2029-03-01"},36.072601886836821,7.797886723601124,3.898226217151298,5.2894192503698312,7.2689829346018247,6.6177798988260896,1.5250876081413627,68.469984519528353,null,{"$f":"+$B$139","v":"2029-03-01"},39.47451779054915,8.6071112679704029,4.8132881996372259,6.0421484948635813,7.5912365460487816,7.0249225178829064,1.6752005059068185,75.228425322858868,null,{"$f":"+$B$139","v":"2029-03-01"},32.670685983124493,6.9886621792318451,2.9831642346653719,4.536690005876082,6.9467293231548695,6.2106372797692728,1.3749747103759069,61.711543716197845]
[null,{"$f":"+$B$140","v":"2029-04-01"},37.381701758983063,8.0741407722146086,4.0368715170417353,5.4813759627275775,7.532779393204188,6.8579437452440128,1.5759234338811703,70.940736583296356,null,{"$f":"+$B$140","v":"2029-04-01"},40.8970148594858,8.9103394680628636,4.9824355656105261,6.2591961820377851,7.8657747916993754,7.2786577849360583,1.7310400949054745,77.924458746737898,null,{"$f":"+$B$140","v":"2029-04-01"},33.866388658480332,7.2379420763663527,3.0913074684729436,4.70355574341737,7.1997839947090005,6.4372297055519683,1.4208067728568661,63.957014419854829]
[null,{"$f":"+$B$141","v":"2029-05-01"},36.279371294517524,7.8293971566710843,3.9150892346178763,5.3197383853411564,7.3106489974088227,6.6557132432001431,1.5249981160231763,68.834956427779773,null,{"$f":"+$B$141","v":"2029-05-01"},39.68128719822986,8.6386217010403641,4.8301512171038024,6.0724676298349056,7.6329026088557788,7.0628558622569608,1.675111013788632,75.593397231110316,null,{"$f":"+$B$141","v":"2029-05-01"},32.877455390805196,7.0201726123018062,3.0000272521319493,4.5670091408474072,6.9883953859618675,6.2485706241433272,1.3748852182577211,62.076515624449279]
[null,{"$f":"+$B$142","v":"2029-06-01"},37.596005866200613,8.1065240791448918,4.0543347338690152,5.5127999302502371,7.5759637718377641,6.8972593847819992,1.5755820112403596,71.318469777324879,null,{"$f":"+$B$142","v":"2029-06-01"},41.111318966703351,8.9427227749931451,4.9998987824378061,6.2906201495604437,7.9089591703329525,7.3179734244740446,1.730698672264664,78.302191940766406,null,{"$f":"+$B$142","v":"2029-06-01"},34.080692765697876,7.2703253832966377,3.1087706853002239,4.7349797109400296,7.2429683733425785,6.4765453450899555,1.4204653502160556,64.334747613883351]
[null,{"$f":"+$B$143","v":"2029-07-01"},36.487358300760995,7.8605620185035754,3.932028141092355,5.3502360599503298,7.3525604182635069,6.6938699648431514,1.5244623240409831,69.201077227454888,null,{"$f":"+$B$143","v":"2029-07-01"},39.889274204473317,8.6697865628728561,4.8470901235782815,6.1029653044440781,7.6748140297104621,7.1010125838999674,1.6745752218064387,75.959518030785404,null,{"$f":"+$B$143","v":"2029-07-01"},33.085442397048666,7.0513374741342965,3.0169661586064276,4.5975068154565797,7.0303068068165517,6.2867273457863329,1.3743494262755271,62.442636424124387]
[null,{"$f":"+$B$144","v":"2029-08-01"},36.591668717616727,7.8760122675734268,3.9405232485709032,5.3655313671383622,7.3735799899152612,6.7130064657828834,1.5242487636384703,69.384570820236036,null,{"$f":"+$B$144","v":"2029-08-01"},39.993584621329056,8.6852368119427048,4.855585231056831,6.1182606116321123,7.6958336013622164,7.120149084839702,1.6743616614039261,76.143011623566537,null,{"$f":"+$B$144","v":"2029-08-01"},33.189752813904398,7.0667877232041469,3.0254612660849767,4.6128021226446139,7.0513263784683069,6.3058638467260657,1.3741358658730147,62.626130016905535]
[null,{"$f":"+$B$145","v":"2029-09-01"},37.919353123794828,8.154418860265217,4.080672732506998,5.5602131779621322,7.6411214143271025,6.9565797794782425,1.574936302908033,71.887295391242546,null,{"$f":"+$B$145","v":"2029-09-01"},41.434666224297565,8.990617556113472,5.0262367810757889,6.3380333972723397,7.974116812822289,7.377293819170287,1.7300529639323372,78.871017554684087,null,{"$f":"+$B$145","v":"2029-09-01"},34.404040023292097,7.3182201644169611,3.1351086839382063,4.7823929586519247,7.308126015831915,6.535865739786197,1.4198196418837288,64.903573227801033]
[null,{"$f":"+$B$146","v":"2029-10-01"},36.800847672858254,7.9066433709918984,3.9575712493104436,5.3962038203231302,7.4157316001788747,6.7513818590965542,1.5240384778210843,69.752418050580232,null,{"$f":"+$B$146","v":"2029-10-01"},40.202763576570575,8.7158679153611764,4.8726332317963701,6.1489330648168785,7.737985211625829,7.1585244781533701,1.6741513755865398,76.510858853910747,null,{"$f":"+$B$146","v":"2029-10-01"},33.398931769145918,7.0974188266226204,3.0425092668245171,4.6434745758293809,7.0934779887319195,6.3442392400397356,1.3739255800556283,62.993977247249717]
[null,{"$f":"+$B$147","v":"2029-11-01"},38.136025885479164,8.1858828062214908,4.0983261663614705,5.591984467437709,7.6847831000579347,6.9963299658217739,1.574664217751546,72.267996609131103,null,{"$f":"+$B$147","v":"2029-11-01"},41.651338985981901,9.0220815020697476,5.0438902149302605,6.3698046867479166,8.0177784985531222,7.4170440055138194,1.7297808787758502,79.251718772572616,null,{"$f":"+$B$147","v":"2029-11-01"},34.620712784976433,7.3496841103732349,3.1527621177926779,4.8141642481275015,7.3517877015627473,6.5756159261297293,1.419547556727242,65.284274445689562]
[null,{"$f":"+$B$148","v":"2029-12-01"},37.011125845321459,7.9369081508333954,3.9746920137824713,5.4270374545824147,7.4581047134893428,6.7899589117653463,1.5235828023640294,70.121409892138459,null,{"$f":"+$B$148","v":"2029-12-01"},40.413041749033788,8.7461326952026752,4.8897539962683982,6.1797666990761639,7.780358324936298,7.1971015308221622,1.6736957001294848,76.879850695468974,null,{"$f":"+$B$148","v":"2029-12-01"},33.609209941609137,7.1276836064641156,3.0596300312965443,4.6743082100886646,7.1358511020423885,6.3828162927085286,1.3734699045985737,63.362969088807944]
[null,{"$f":"+$B$149","v":"2030-01-01"},37.116683504039671,7.9519004941158302,3.983280488538933,5.4425156480822805,7.4793756166042966,6.8093242282519126,1.5232537069551357,70.306333686588047,null,{"$f":"+$B$149","v":"2030-01-01"},40.518599407751985,8.76112503848511,4.8983424710248595,6.1952448925760297,7.8016292280512518,7.2164668473087294,1.6733666047205913,77.064774489918548,null,{"$f":"+$B$149","v":"2030-01-01"},33.714767600327342,7.1426759497465513,3.0682185060530056,4.6897864035885313,7.1571220051573414,6.4021816091950949,1.3731408091896804,63.547892883257553]
[null,{"$f":"+$B$150","v":"2030-02-01"},41.210555190165415,8.8203835682172009,4.4195893145924687,6.0428106801143127,8.3043308975194936,7.5603746192885071,1.6861643612223054,78.044208631119716,null,{"$f":"+$B$150","v":"2030-02-01"},44.97696208356119,9.7163107423403332,5.4326936523447449,6.8761894865181068,8.6611116816214828,8.0111396618156974,1.8523607837483453,85.52676809194989,null,{"$f":"+$B$150","v":"2030-02-01"},37.444148296769619,7.9244563940940704,3.4064849768401926,5.2094318737105185,7.9475501134175088,7.1096095767613159,1.519967938696265,70.561649170289499]
[null,{"$f":"+$B$151","v":"2030-03-01"},37.328378193228772,7.9815998147381526,4.0005126328772995,5.4735569898660144,7.5220341719225061,6.8481611511663942,1.5227947781903313,70.677037731989458,null,{"$f":"+$B$151","v":"2030-03-01"},40.730294096941101,8.7908243591074324,4.9155746153632274,6.2262862343597636,7.8442877833694622,7.2553037702232119,1.6729076759557873,77.435478535319973,null,{"$f":"+$B$151","v":"2030-03-01"},33.926462289516451,7.1723752703688737,3.0854506503913726,4.720827745372266,7.1997805604755518,6.4410185321095774,1.3726818804248757,63.918596928658971]
[null,{"$f":"+$B$152","v":"2030-04-01"},38.682367227627097,8.2628482056620634,4.1427953812443432,5.6720959166061329,7.7948762368102873,7.0965602392937734,1.5733678216249447,73.224911028868647,null,{"$f":"+$B$152","v":"2030-04-01"},42.197680328129827,9.0990469015103201,5.088359429813134,6.4499161359163413,8.1278716353054747,7.5172742789858171,1.7284844826492487,80.208633192310174,null,{"$f":"+$B$152","v":"2030-04-01"},35.167054127124359,7.4266495098138092,3.1972313326755515,4.8942756972959263,7.4618808383150999,6.6758461996017289,1.4182511606006405,66.241188865427119]
[null,{"$f":"+$B$153","v":"2030-05-01"},37.540996650851412,8.0109116449430591,4.0178194858843597,5.5047337862130377,7.5648788756366647,6.8871675460859683,1.5223720714689846,71.04888006108348,null,{"$f":"+$B$153","v":"2030-05-01"},40.94291255456374,8.820136189312338,4.9328814683702857,6.2574630307067869,7.887132487083619,7.2943101651427869,1.6724849692344399,77.80732086441401,null,{"$f":"+$B$153","v":"2030-05-01"},34.139080747139083,7.201687100573781,3.1027575033984327,4.7520045417192884,7.2426252641897086,6.4800249270291506,1.3722591737035288,64.290439257752965]
[null,{"$f":"+$B$154","v":"2030-06-01"},38.902666273844552,8.2929334689092062,4.1607176889831008,5.7043989375957551,7.8392686544264993,7.1369756937808662,1.5727721523013156,73.609732869841295,null,{"$f":"+$B$154","v":"2030-06-01"},42.417979374347283,9.129132164757463,5.1062817375518916,6.4822191569059644,8.1722640529216868,7.5576897334729107,1.7278888133256198,80.593455033282822,null,{"$f":"+$B$154","v":"2030-06-01"},35.387353173341815,7.4567347730609512,3.2151536404143091,4.9265787182855476,7.5062732559313119,6.7162616540888216,1.4176554912770118,66.626010706399768]
[null,{"$f":"+$B$155","v":"2030-07-01"},37.754745862200735,8.0398272006276787,4.0352012916162074,5.5360763879141652,7.607951437312618,6.9263813859607595,1.5216701742712733,71.421853739903455,null,{"$f":"+$B$155","v":"2030-07-01"},41.156661765913064,8.8490517449969559,4.9502632741021344,6.2888056324079145,7.9302050487595723,7.3335240050175754,1.6717830720367288,78.180294543233956,null,{"$f":"+$B$155","v":"2030-07-01"},34.352829958488414,7.2306026562583989,3.1201393091302809,4.783347143420416,7.2856978258656628,6.5192387669039418,1.3715572765058179,64.663412936572925]
[null,{"$f":"+$B$156","v":"2030-08-01"},37.861957869536212,8.0541336711398337,4.0439202721030423,5.5517971628460678,7.62955570789312,6.946050204674842,1.5213497166192529,71.608764604812379,null,{"$f":"+$B$156","v":"2030-08-01"},41.263873773248541,8.8633582155091126,4.9589822545889684,6.3045264073398171,7.9518093193400752,7.3531928237316597,1.6714626143847084,78.36720540814288,null,{"$f":"+$B$156","v":"2030-08-01"},34.460041965823883,7.2449091267705548,3.1288582896171149,4.7990679183523177,7.3073020964461639,6.5389075856180243,1.3712368188537969,64.850323801481863]
[null,{"$f":"+$B$157","v":"2030-09-01"},39.235018043241681,8.3372824560989489,4.1877467785920208,5.7531325402468321,7.9062407943240087,7.1979480313393092,1.5717876213604991,74.189156265203295,null,{"$f":"+$B$157","v":"2030-09-01"},42.750331143744418,9.1734811519472039,5.1333108271608117,6.5309527595570414,8.2392361928191971,7.6186620710313528,1.7269042823848038,81.172878428644822,null,{"$f":"+$B$157","v":"2030-09-01"},35.719704942738943,7.5010837602506948,3.24218273002323,4.9753123209366255,7.5732453958288231,6.7772339916472646,1.4166709603361951,67.205434101761767]
[null,{"$f":"+$B$158","v":"2030-10-01"},38.077022139695636,8.0824385720866214,4.0614149539779323,5.5833325950340917,7.6728932668120935,6.9855053016063478,1.5208255502990713,71.983432379511797,null,{"$f":"+$B$158","v":"2030-10-01"},41.478938043407958,8.8916631164559021,4.9764769364638601,6.3360618395278419,7.9951468782590478,7.3926479206631646,1.6709384480645271,78.741873182842312,null,{"$f":"+$B$158","v":"2030-10-01"},34.675106235983307,7.2732140277173407,3.1463529714920058,4.8306033505403425,7.3506396553651383,6.57836268254953,1.3707126525336157,65.224991576181282]
[null,{"$f":"+$B$159","v":"2030-11-01"},39.457776353843656,8.366315928290236,4.2058636362497781,5.785796169556809,7.9511287778242332,7.2388146556771602,1.5711980687920186,74.576893590233894,null,{"$f":"+$B$159","v":"2030-11-01"},42.973089454346393,9.202514624138491,5.1514276848185689,6.5636163888670147,8.2841241763194216,7.6595286953692057,1.7263147298163226,81.560615753675421,null,{"$f":"+$B$159","v":"2030-11-01"},35.942463253340925,7.5301172324419809,3.2602995876809868,5.0079759502466006,7.6181333793290475,6.8181006159851147,1.4160814077677144,67.593171426792381]
[null,{"$f":"+$B$160","v":"2030-12-01"},38.293153628972341,8.1103253366607575,4.0789852393966148,5.6150245163315269,7.716445880846174,7.0251561876091317,1.5201313490151824,72.35922213883174,null,{"$f":"+$B$160","v":"2030-12-01"},41.69506953268467,8.9195498810300347,4.9940472218825418,6.3677537608252761,8.0386994922931283,7.4322988066659494,1.670244246780638,79.117662942162241,null,{"$f":"+$B$160","v":"2030-12-01"},34.891237725260019,7.3011007922914786,3.1639232569106883,4.8622952718377777,7.3941922693992188,6.6180135685523132,1.3700184512497264,65.60078133550121]
[null,{"$f":"+$B$161","v":"2031-01-01"},38.401620172208567,8.1241090778801723,4.0877989067526412,5.6309292471190275,7.738302952710101,7.0450551600141633,1.5197211567719642,72.547536673456634,null,{"$f":"+$B$161","v":"2031-01-01"},41.803536075920903,8.9333336222494513,5.0028608892385682,6.3836584916127759,8.0605565641570571,7.4521977790709819,1.66983405453742,79.305977476787163,null,{"$f":"+$B$161","v":"2031-01-01"},34.999704268496252,7.3148845335108916,3.1727369242667147,4.8782000026252783,7.4160493412631467,6.6379125409573465,1.3696082590065086,65.789095870126147]
[null,{"$f":"+$B$162","v":"2031-02-01"},42.636408075145667,9.0096904907405975,4.5355563892226778,6.2518871898063422,8.591654232849967,7.821957650934162,1.6821337948434887,80.529287823542901,null,{"$f":"+$B$162","v":"2031-02-01"},46.402814968541456,9.905617664863728,5.5486607269749539,7.0852659962101363,8.9484350169519544,8.272722693461354,1.8483302173695286,88.011847284373118,null,{"$f":"+$B$162","v":"2031-02-01"},38.870001181749871,8.1137633166174652,3.5224520514704012,5.4185083834025489,8.2348734487479813,7.3711926084069708,1.5159373723174483,73.046728362712685]
[null,{"$f":"+$B$163","v":"2031-03-01"},38.619201759575681,8.1513518675736325,4.1054833330768892,5.6628338000635585,7.7821477757261022,7.0849720770070048,1.519013267728905,72.925003880751774,null,{"$f":"+$B$163","v":"2031-03-01"},42.021117663287995,8.9605764119429097,5.0205453155628161,6.4155630445573069,8.1044013871730591,7.4921146960638225,1.6691261654943608,79.683444684082275,null,{"$f":"+$B$163","v":"2031-03-01"},35.217285855863345,7.3421273232043527,3.1904213505909618,4.9101045555698102,7.459894164279147,6.6778294579501871,1.3689003699634492,66.166563077421259]
[null,{"$f":"+$B$164","v":"2031-04-01"},40.019284801826203,8.4369688952616588,4.2514993980617959,5.8681316108238812,8.0642782350999855,7.3418274444894873,1.5693030583096188,75.551293443872623,null,{"$f":"+$B$164","v":"2031-04-01"},43.534597902328933,9.2731675911099138,5.1970634466305867,6.6459518301340879,8.397273633595173,7.7625414841815328,1.724419719333923,82.535015607314165,null,{"$f":"+$B$164","v":"2031-04-01"},36.503971701323458,7.6007701994134038,3.3059353494930055,5.0903113915136737,7.7312828366047972,6.9211134047974419,1.4141863972853148,68.567571280431096]
[null,{"$f":"+$B$165","v":"2031-05-01"},38.837747842256199,8.1781540696361166,4.1232443060043522,5.6948797794594883,7.8261869540036324,7.1250659376458199,1.5183046559648614,73.303583544970465,null,{"$f":"+$B$165","v":"2031-05-01"},42.239663745968514,8.9873786140053937,5.0383062884902792,6.4476090239532393,8.1484405654505867,7.5322085567026367,1.6684175537303172,80.06202434830098,null,{"$f":"+$B$165","v":"2031-05-01"},35.43583193854387,7.3689295252668359,3.2081823235184257,4.9421505349657409,7.5039333425566772,6.717923318589003,1.3681917581994059,66.545142741639964]
[null,{"$f":"+$B$166","v":"2031-06-01"},40.245682712090151,8.4644332942531406,4.2698920170696457,5.9013289240798077,8.1098996336145923,7.3833617797276601,1.5684671997680653,75.94306556060306,null,{"$f":"+$B$166","v":"2031-06-01"},43.760995812592888,9.3006319901013974,5.2154560656384357,6.6791491433900152,8.4428950321097798,7.8040758194197055,1.723583860792369,82.926787724044601,null,{"$f":"+$B$166","v":"2031-06-01"},36.730369611587406,7.6282345984048865,3.3243279685008549,5.1235087047695993,7.7769042351194058,6.9626477400356146,1.4133505387437608,68.959343397161518]
[null,{"$f":"+$B$167","v":"2031-07-01"},39.057377843396019,8.2045064663821474,4.1410821157214803,5.7270846966327005,7.8704445524774069,7.1653586509710721,1.5174168264937891,73.68327115207461,null,{"$f":"+$B$167","v":"2031-07-01"},42.459293747108347,9.0137310107514246,5.0561440982074073,6.4798139411264488,8.1926981639243621,7.5725012700278898,1.6675297242592448,80.441711955405125,null,{"$f":"+$B$167","v":"2031-07-01"},35.655461939683683,7.3952819220128676,3.2260201332355534,4.9743554521389495,7.5481909410304517,6.7582160319142552,1.3673039287283333,66.924830348744095]
[null,{"$f":"+$B$168","v":"2031-08-01"},39.167546583980766,8.2175111014017492,4.150029917492204,5.7432390250359031,7.8926446337953386,7.1855699037996841,1.5169879695980351,73.873529135103681,null,{"$f":"+$B$168","v":"2031-08-01"},42.569462487693087,9.0267356457710282,5.0650918999781318,6.4959682695296523,8.2148982452422938,7.5927125228565018,1.6671008673634906,80.631969938434182,null,{"$f":"+$B$168","v":"2031-08-01"},35.765630680268444,7.4082865570324703,3.2349679350062779,4.990509780542153,7.5703910223483817,6.7784272847428673,1.3668750718325791,67.11508833177318]
[null,{"$f":"+$B$169","v":"2031-09-01"},40.587202833275633,8.5047465185783651,4.297630288240665,5.9514069059524228,8.1787192862836271,7.446016117779461,1.5671422192961093,76.532864169406295,null,{"$f":"+$B$169","v":"2031-09-01"},44.102515933778371,9.3409452144266218,5.2431943368094567,6.7292271252626312,8.5117146847788145,7.8667301574715056,1.7222588803204137,83.516586332847808,null,{"$f":"+$B$169","v":"2031-09-01"},37.071889732772895,7.6685478227301118,3.3520662396718737,5.1735866866422162,7.8457238877884388,7.0253020780874156,1.4120255582718053,69.549142005964754]
[null,{"$f":"+$B$170","v":"2031-10-01"},39.388575012980034,8.2431715442743556,4.1679836060186917,5.7756489973161207,7.9371840291929248,7.2261191688371555,1.5161878867195007,74.254870245338793,null,{"$f":"+$B$170","v":"2031-10-01"},42.790490916692363,9.0523960886436363,5.0830455885046177,6.5283782418098699,8.2594376406398791,7.6332617878939732,1.666300784484956,81.013311048669294,null,{"$f":"+$B$170","v":"2031-10-01"},35.986659109267713,7.4339469999050776,3.2529216235327643,5.0229197528223724,7.6149304177459687,6.818976549780337,1.3660749889540451,67.496429442008264]
[null,{"$f":"+$B$171","v":"2031-11-01"},40.816128189365891,8.5310191433735234,4.3162225194127464,5.9849748251504975,8.2248499899112186,7.4880141312473674,1.5662752094540726,76.927484007915311,null,{"$f":"+$B$171","v":"2031-11-01"},44.331441289868636,9.3672178392217766,5.2617865679815363,6.7627950444607041,8.5578453884064078,7.9087281709394119,1.7213918704783768,83.911206171356852,null,{"$f":"+$B$171","v":"2031-11-01"},37.300815088863153,7.6948204475252675,3.3706584708439546,5.20715460584029,7.8918545914160321,7.0673000915553228,1.4111585484297686,69.943761844473784]
[null,{"$f":"+$B$172","v":"2031-12-01"},39.610655756870806,8.2683589709390262,4.186014923283234,5.8082132732604341,7.9819354763580037,7.2668614886578107,1.5152670846038836,74.637306973973196,null,{"$f":"+$B$172","v":"2031-12-01"},43.012571660583141,9.0775835153083051,5.1010769057691618,6.5609425177541851,8.3041890878049589,7.6740041077146284,1.6653799823693392,81.395747777303725,null,{"$f":"+$B$172","v":"2031-12-01"},36.208739853158484,7.4591344265697472,3.2709529407973075,5.0554840287666849,7.6596818649110467,6.859718869600993,1.365154186838428,67.878866170642695]
[null,{"$f":"+$B$173","v":"2032-01-01"},39.722088317417025,8.2807724236292763,4.1950598550287186,5.824552918865157,8.004390229788612,7.2873045984055036,1.5147657690958118,74.828934112230101,null,{"$f":"+$B$173","v":"2032-01-01"},43.12400422112934,9.0899969679985571,5.1101218375146455,6.5772821633589054,8.3266438412355654,7.6944472174623222,1.6648786668612676,81.587374915560616,null,{"$f":"+$B$173","v":"2032-01-01"},36.320172413704704,7.4715478792599983,3.2799978725427921,5.0718236743714087,7.6821366183416551,6.8801619793486868,1.3646528713303563,68.0704933088996]
[null,{"$f":"+$B$174","v":"2032-02-01"},42.580908543127393,8.8649995241553281,4.4940638947743485,6.2437491493632127,8.5804705330330044,7.8117758600964224,1.6187165722460439,80.194684076795753,null,{"$f":"+$B$174","v":"2032-02-01"},46.2174393367509,9.7300326577914547,5.4722336001903393,7.0483907555461851,8.9249485314763,8.2469972804675038,1.7791820836504966,87.419224245873167,null,{"$f":"+$B$174","v":"2032-02-01"},38.944377749503865,7.9999663905192016,3.5158941893583573,5.4391075431802376,8.2359925345897054,7.3765544397253411,1.4582510608415915,72.970143907718281]
[null,{"$f":"+$B$175","v":"2032-03-01"},39.945649117299375,8.3052327326872941,4.2132083081753535,5.8573342192613804,8.0494399227464069,7.3283184452100176,1.5138219776708197,75.213004723050645,null,{"$f":"+$B$175","v":"2032-03-01"},43.347565021011697,9.1144572770565713,5.1282702906612814,6.6100634637551297,8.371693534193362,7.7354610642668353,1.6639348754362755,81.971445526381146,null,{"$f":"+$B$175","v":"2032-03-01"},36.543733213587053,7.4960081883180143,3.298146325689427,5.1046049747676321,7.7271863112994525,6.9211758261532017,1.3637090799053639,68.454563919720144]
[null,{"$f":"+$B$176","v":"2032-04-01"},41.393052893653689,8.5945198046983275,4.3630556877583331,6.0695707920964628,8.3411059739728657,7.59385514385714,1.5638010879490336,77.918961383985859,null,{"$f":"+$B$176","v":"2032-04-01"},44.908365994156441,9.4307185005465826,5.3086197363271239,6.8473910114066703,8.6741013724680531,8.0145691835491846,1.7189177489733376,84.902683547427401,null,{"$f":"+$B$176","v":"2032-04-01"},37.877739793150958,7.7583211088500725,3.4174916391895418,5.2917505727862535,8.0081105754776782,7.1731411041650954,1.4086844269247292,70.935239220544332]
[null,{"$f":"+$B$177","v":"2032-05-01"},40.170202430820915,8.3291963044881765,4.2314352742307424,5.8902610545088425,8.0946896169330618,7.3695143758251556,1.5128592248068848,75.598158281613792,null,{"$f":"+$B$177","v":"2032-05-01"},43.572118334533243,9.1384208488574572,5.1464972567166694,6.6429902990025917,8.4169432283800152,7.7766569948819733,1.6629721225723402,82.356599084944307,null,{"$f":"+$B$177","v":"2032-05-01"},36.768286527108579,7.5199717601188976,3.3163732917448154,5.1375318100150933,7.7724360054861057,6.9623717567683379,1.3627463270414288,68.839717478283262]
[null,{"$f":"+$B$178","v":"2032-06-01"},41.625643792741002,8.6190217399699396,4.3819309158746895,6.1036761993790503,8.3879753204512042,7.6365256277179547,1.562736545592071,78.317510141725919,null,{"$f":"+$B$178","v":"2032-06-01"},45.14095689324374,9.4552204358181946,5.3274949644434813,6.8814964186892578,8.7209707189463899,8.0572396674099984,1.7178532066163752,85.301232305167431,null,{"$f":"+$B$178","v":"2032-06-01"},38.110330692238264,7.7828230441216837,3.4363668673058996,5.3258559800688419,8.054979921956015,7.2158115880259102,1.407619884567767,71.333787978284391]
[null,{"$f":"+$B$179","v":"2032-07-01"},40.395815461594793,8.3526534031960988,4.2497410928534114,5.923343278847784,8.1401528545354918,7.4109047192401505,1.5117770840649079,75.984387894332627,null,{"$f":"+$B$179","v":"2032-07-01"},43.797731365307122,9.1618779475653778,5.1648030753393375,6.6760725233415332,8.4624064659824469,7.8180473382969682,1.6618899818303636,82.742828697663157,null,{"$f":"+$B$179","v":"2032-07-01"},36.993899557882472,7.5434288588268199,3.3346791103674844,5.1706140343540348,7.8178992430885357,7.0037621001833337,1.3616641862994525,69.225947091002126]
[null,{"$f":"+$B$180","v":"2032-08-01"},40.508987942767128,8.364189002231651,4.2589236784223834,5.9399380535303239,8.1629582190303775,7.4316670300197307,1.5112412135125817,76.177905139514166,null,{"$f":"+$B$180","v":"2032-08-01"},43.910903846479464,9.1734135466009299,5.1739856609083095,6.692667298024074,8.4852118304773327,7.8388096490765484,1.6613541112780377,82.93634594284471,null,{"$f":"+$B$180","v":"2032-08-01"},37.107072039054799,7.5549644578623738,3.3438616959364573,5.1872088090365756,7.8407046075834224,7.024524410962913,1.3611283157471263,69.419464336183665]
[null,{"$f":"+$B$181","v":"2032-09-01"},41.976477170150424,8.6547808042703114,4.4103969753436747,6.1551198081867309,8.4586716855561672,7.7008885500305952,1.5610773802016635,78.917412373739566,null,{"$f":"+$B$181","v":"2032-09-01"},45.491790270653169,9.4909795001185664,5.3559610239124655,6.9329400274969393,8.7916670840513547,8.1216025897226416,1.716194041225968,85.901134537181093,null,{"$f":"+$B$181","v":"2032-09-01"},38.461164069647694,7.8185821084220555,3.4648329267748843,5.3772995888765243,8.125676287060978,7.2801745103385516,1.4059607191773595,71.933690210298039]
[null,{"$f":"+$B$182","v":"2032-10-01"},40.736057499214418,8.3868682117007332,4.2773484159717867,5.9732338520095434,8.2087149608357226,7.4733245836114097,1.5101925744311726,76.565740097774793,null,{"$f":"+$B$182","v":"2032-10-01"},44.13797340292674,9.1960927560700121,5.1924103984577137,6.7259630965032926,8.5309685722826778,7.8804672026682283,1.6603054721966284,83.324180901105279,null,{"$f":"+$B$182","v":"2032-10-01"},37.334141595502103,7.5776436673314542,3.3622864334858598,5.220504607515795,7.8864613493887648,7.0661819645545929,1.3600796766657171,69.807299294444292]
[null,{"$f":"+$B$183","v":"2032-11-01"},42.211648152734689,8.6779429716809293,4.4294770089143851,6.1896035398097506,8.5060609441541839,7.7440323688828023,1.5599602856982,79.318725271874925,null,{"$f":"+$B$183","v":"2032-11-01"},45.726961253237434,9.5141416675291843,5.375041057483176,6.9674237591199573,8.8390563426493731,8.164746408574846,1.7150769467225042,86.302447435316466,null,{"$f":"+$B$183","v":"2032-11-01"},38.696335052231959,7.8417442758326734,3.4839129603455934,5.4117833204995414,8.1730655456589965,7.3233183291907569,1.404843624673896,72.335003108433426]
[null,{"$f":"+$B$184","v":"2032-12-01"},40.964173477486369,8.409016430298438,4.295852861677381,6.0066830900371695,8.254682566897813,7.515174110860511,1.509055463892589,76.954638001150286,null,{"$f":"+$B$184","v":"2032-12-01"},44.366089381198698,9.218240974667717,5.210914844163308,6.7594123345309187,8.57693617834477,7.9223167299173287,1.6591683616580448,83.713078804480773,null,{"$f":"+$B$184","v":"2032-12-01"},37.562257573774033,7.5997918859291591,3.380790879191454,5.2539538455434203,7.9324289554508578,7.1080314918036933,1.3589425661271337,70.196197197819757]
[]
[]
[null,null,"INDUSTRIAL MEDIO",null,null,null,null,null,null,null,null,null,"INDUSTRIAL ALTO",null,null,null,null,null,null,null,null,null,"INDUSTRIAL BAJO"]
[null,null,"CENTRO","COSTA","CQR","NORESTE","NOROESTE","SUROESTE","TOLIMA GRANDE","TOTAL",null,null,"CENTRO","COSTA","CQR","NORESTE","NOROESTE","SUROESTE","TOLIMA GRANDE","TOTAL",null,null,"CENTRO","COSTA","CQR","NORESTE","NOROESTE","SUROESTE","TOLIMA GRANDE","TOTAL"]
[null,{"$f":"+$B$5","v":"2018-01-01"},70.19737267902272,73.758762579955118,6.1893340791723466,13.127569907213266,24.508627080347548,39.905491906441668,0.42549996399239898,228.11265819614502,null,{"$f":"+$B$5","v":"2018-01-01"},76.332455815115921,80.205102708844493,6.7302671324135934,11.980251572040066,26.650622698573461,43.393136829452807,0.46268764714735755,245.75452440358768,null,{"$f":"+$B$5","v":"2018-01-01"},64.062289542929491,67.312422451065743,5.6484010259311015,10.84866520664405,22.366631462121635,36.417846983430522,0.38831228083744046,207.04456895295999]
[null,{"$f":"+$B$6","v":"2018-02-01"},79.73190847887895,83.777023029492355,7.0299984103713671,14.910617911271171,27.837503552283234,45.325642642461183,0.48329336116231064,259.09598738592058,null,{"$f":"+$B$6","v":"2018-02-01"},86.700287329095886,91.098935254476899,7.6444035233866598,13.607465428421822,30.270435043543795,49.286995827000666,0.52553204954471444,279.13405445547045,null,{"$f":"+$B$6","v":"2018-02-01"},72.763529628661999,76.455110804507811,6.4155932973560743,12.050408739776904,25.40457206102267,41.3642894579217,0.4410546727799069,234.89455866202707]
[null,{"$f":"+$B$7","v":"2018-03-01"},70.659242851810163,74.244065250372202,6.2300573810779296,13.213943980058527,24.669883882309964,40.168053819211146,0.42829958076422364,229.61354674560414,null,{"$f":"+$B$7","v":"2018-03-01"},76.834692340659771,80.732819676485931,6.7745495538877876,12.059076756693576,26.825972960854166,43.678646027878955,0.46573194375531918,247.3714892602155,null,{"$f":"+$B$7","v":"2018-03-01"},64.483793362960554,67.755310824258473,5.6855652082680743,10.829195625156657,22.513794803765766,36.657461610543344,0.39086721777312822,208.31598865272602]
[null,{"$f":"+$B$8","v":"2018-04-01"},72.94102023151693,76.643607254714354,6.4314106384048984,13.641013989173038,25.467205828760758,41.466271152096084,0.44404650117733541,237.03457559584339,null,{"$f":"+$B$8","v":"2018-04-01"},79.343349973460263,83.370928105165746,6.9959216842089802,12.443686761010531,27.702565970477224,45.105934269528596,0.48302226697098588,255.44540903082233,null,{"$f":"+$B$8","v":"2018-04-01"},66.538690489573625,69.916286404262976,5.8668995926008156,11.285643163147173,23.231845687044295,37.826608034663572,0.40507073538368499,215.07104410667611]
[null,{"$f":"+$B$9","v":"2018-05-01"},70.509464232158678,74.088622111359669,6.2170136492688339,13.186278241065528,24.618233098145485,40.083954863252494,0.42924380263398187,229.13280999788466,null,{"$f":"+$B$9","v":"2018-05-01"},76.698366423397601,80.591681533583113,6.7627062001331399,12.028865017335546,26.779075453490648,43.602286462963619,0.46692027542563802,246.92990136632932,null,{"$f":"+$B$9","v":"2018-05-01"},64.320562040919739,67.585562689136211,5.671321098404527,11.404459750887419,22.457390742800317,36.565623263541362,0.39156732984232573,208.39648691553191]
[null,{"$f":"+$B$10","v":"2018-06-01"},73.218364460610601,76.935029860287287,6.4558648429091905,13.692881326603674,25.564039990736127,41.623938689094665,0.44573490276755001,237.9358540730091,null,{"$f":"+$B$10","v":"2018-06-01"},79.645037832531216,83.687930057027117,7.022522333612403,12.49100149147168,27.807899660335298,45.277440926932414,0.48485886642960241,256.41669116833975,null,{"$f":"+$B$10","v":"2018-06-01"},66.791691088689987,70.182129663547443,5.8892073522059754,11.266090640314893,23.320180321136949,37.970436451256909,0.40661093910549762,215.82634645625765]
[null,{"$f":"+$B$11","v":"2018-07-01"},71.207793895690557,74.81208507951068,6.2777217447841602,13.315040036376116,24.858626015171904,40.475367959274337,0.42361872462548822,231.37025345543324,null,{"$f":"+$B$11","v":"2018-07-01"},77.316434985518057,81.22992436269098,6.81626320074988,12.172794276058752,26.991151347095204,43.947593151422495,0.45995933575940773,248.93412065929476,null,{"$f":"+$B$11","v":"2018-07-01"},65.099152805863071,68.394245796330367,5.7391802888184404,11.155000376168402,22.726100683248596,37.003142767126185,0.38727811349156877,210.50410083104663]
[null,{"$f":"+$B$12","v":"2018-08-01"},72.666328648069495,76.344445794775012,6.4063070418366896,13.58776929198007,25.367800193389403,41.304416684901256,0.43229562076033834,236.10936327571227,null,{"$f":"+$B$12","v":"2018-08-01"},78.900091790300053,82.893740374034479,6.9558793328578155,12.422127144188311,27.544005607741529,44.84776275910135,0.46938058923720755,254.03298759746076,null,{"$f":"+$B$12","v":"2018-08-01"},66.432565505838937,69.79515121551556,5.8567347508155638,11.401344349617794,23.191594779037271,37.761070610701168,0.39521065228346908,214.8336718638098]
[null,{"$f":"+$B$13","v":"2018-09-01"},75.455494829603964,79.274789880136112,6.6522016023855608,14.109311349997474,26.34149752633158,42.889812346260221,0.44888850976797923,245.17199604448291,null,{"$f":"+$B$13","v":"2018-09-01"},81.928529745481043,86.075467339103824,7.2228682362328982,12.898928127228089,28.601232667019264,46.569163379338796,0.48739691798431722,263.78358641238822,null,{"$f":"+$B$13","v":"2018-09-01"},68.982459913726856,72.474112421168428,6.0815349685382234,11.435985620226599,24.081762385643888,39.210461313181639,0.4103801015516414,222.67669672403727]
[null,{"$f":"+$B$14","v":"2018-10-01"},73.230477693023062,76.929851938808739,6.4554303469287051,13.691959761167841,25.562319466392577,41.621137293078426,0.42866389074566791,237.91984039014503,null,{"$f":"+$B$14","v":"2018-10-01"},79.412457197113653,83.424125674561651,7.0003856626933576,12.53611021217006,27.720242506041281,45.134715598020506,0.46485089198089163,255.69288774258141,null,{"$f":"+$B$14","v":"2018-10-01"},67.04849818893247,70.435578203055812,5.9104750311640544,11.085714240789448,23.404396426743872,38.10755898813634,0.39247688951044418,216.38469796833243]
[null,{"$f":"+$B$15","v":"2018-11-01"},75.917160390911889,79.75225742715692,6.6922674339844992,14.194290929137599,26.500150866539336,43.148135244676155,0.44439072873386004,246.64865302114026,null,{"$f":"+$B$15","v":"2018-11-01"},82.325944606586745,86.484793337770171,7.2572160921949687,12.99603552560378,28.737243873074004,46.790619851160287,0.48190536011939783,265.07375864650936,null,{"$f":"+$B$15","v":"2018-11-01"},69.508376175237046,73.01972151654364,6.1273187757740297,11.382229317435089,24.263057860004668,39.505650638192009,0.40687609734832225,224.21323038053478]
[null,{"$f":"+$B$16","v":"2018-12-01"},73.732603177138614,77.457343228837459,6.4996938310713839,13.785842556148188,25.737594740315878,41.906524393792616,0.43160314596349963,239.55120507326762,null,{"$f":"+$B$16","v":"2018-12-01"},79.956971172320252,83.996146789415675,7.0483857871034488,12.622067597776621,27.910314189671343,45.444194542225638,0.468038273608469,257.44611835212146,null,{"$f":"+$B$16","v":"2018-12-01"},67.508235181956977,70.918539668259228,5.9510018750393181,11.005290571486347,23.564875290960416,38.368854245359586,0.39516801831853027,217.71196485138037]
[null,{"$f":"+$B$17","v":"2019-01-01"},71.896424940004337,75.531209732378116,6.3380657983647861,16.251029699194611,25.097577392946263,40.864433909013073,0.42353839615182187,236.40227986805306,null,{"$f":"+$B$17","v":"2019-01-01"},78.00426043570674,81.947832036223261,6.8765051336954874,15.205184888178099,27.229698345896189,44.336000682319721,0.45951936254851905,254.05900088456804,null,{"$f":"+$B$17","v":"2019-01-01"},65.788589444301962,69.114587428532971,5.7996264630340821,13.889719988469611,22.965456439996338,37.392867135706432,0.38755742975512475,215.33840432979653]
[null,{"$f":"+$B$18","v":"2019-02-01"},81.747219766559027,85.880019853270923,7.206467611514678,18.092908868076123,28.536289202995214,46.463420986282998,0.48156895671364691,268.40789524541265,null,{"$f":"+$B$18","v":"2019-02-01"},88.691912370980248,93.17580728733526,7.8186805096242722,16.890590421884049,30.960539925546819,50.410639950071513,0.52247980826013829,288.47065027370229,null,{"$f":"+$B$18","v":"2019-02-01"},74.802527162137807,78.584232419206586,6.5942547134050846,14.35687788145276,26.112038480443605,42.51620202249449,0.44065810516715559,243.4067907843075]
[null,{"$f":"+$B$19","v":"2019-03-01"},73.302017601111302,77.00786332360957,6.4619765321631437,16.513844211932881,25.58824115855807,41.663343568995892,0.43181867520359385,240.96910507157443,null,{"$f":"+$B$19","v":"2019-03-01"},79.529262771984207,83.549932160114821,7.0109424879596585,15.445672451961284,27.762045596696023,45.202780320304569,0.46850307827810822,258.96913886729868,null,{"$f":"+$B$19","v":"2019-03-01"},67.074772430238383,70.465794487104333,5.913010576366629,13.761323168001846,23.414436720420117,38.123906817687214,0.39513427212907942,219.14837847194758]
[null,{"$f":"+$B$20","v":"2019-04-01"},75.418807326200906,79.23097906208578,6.6485252962802157,16.909513909306622,26.326940028834017,42.866109504943879,0.44362783351981855,247.84450296117126,null,{"$f":"+$B$20","v":"2019-04-01"},81.816407764005859,85.951957082103064,7.2125040948611741,15.809499928404989,28.560192569225489,46.502340979006867,0.48125974156197698,266.33416215916941,null,{"$f":"+$B$20","v":"2019-04-01"},69.021206888395952,72.510001042068495,6.0845464976992565,13.956165813059785,24.093687488442544,39.22987803088089,0.40599592547766011,225.3014816860246]
[null,{"$f":"+$B$21","v":"2019-05-01"},72.959501332672588,76.647363269307093,6.4317258176230361,16.449682483903889,25.468453880622558,41.468303257905468,0.42916172581338907,239.85419176784802,null,{"$f":"+$B$21","v":"2019-05-01"},79.148484614376898,83.149179224675066,6.9773140251996315,15.388674923718369,27.628883055697578,44.985962108307874,0.46556650788687898,257.74406445986227,null,{"$f":"+$B$21","v":"2019-05-01"},66.770518050968249,70.145547313939147,5.8861376100464415,14.26133039664132,23.308024705547542,37.950644407503056,0.39275694373989917,218.71495942838567]
[null,{"$f":"+$B$22","v":"2019-06-01"},75.86261297571042,79.697217622075684,6.6876488676015438,16.992494955566325,26.481862191267044,43.118357216691749,0.44623838313967928,249.28643221205246,null,{"$f":"+$B$22","v":"2019-06-01"},82.297860405270654,86.457745565000295,7.2549464269251809,15.885441887244705,28.728256415137022,46.77598627218471,0.48409173797983196,267.88432870974242,null,{"$f":"+$B$22","v":"2019-06-01"},69.427365546150185,72.936689679151087,6.1203513082779066,14.022868038734472,24.235467967397071,39.460728161198794,0.40838502829952661,226.61185572920911]
[null,{"$f":"+$B$23","v":"2019-07-01"},72.930631065324135,76.613323928986276,6.4288694675202018,16.443624168877619,25.457143258415744,41.449887051177477,0.42543985207588281,239.74891879237737,null,{"$f":"+$B$23","v":"2019-07-01"},79.066237925767226,83.058753360126047,6.9697261011955511,15.39265227106954,27.598836269185306,44.937039261995459,0.46123183189249245,257.48447702123167,null,{"$f":"+$B$23","v":"2019-07-01"},66.795024204881059,70.167894497846504,5.8880128338448516,13.990779542549634,23.315450247646179,37.962734840359488,0.38964787225927328,218.50954403938698]
[null,{"$f":"+$B$24","v":"2019-08-01"},73.52836640745636,77.241242414287214,6.4815601193705836,16.555380976116407,25.665788569898769,41.789607989498791,0.42892673312740537,241.69087320975555,null,{"$f":"+$B$24","v":"2019-08-01"},79.714260355949335,83.739498221805945,7.0268495835350144,15.495007050337648,27.825034775887335,45.305340703314663,0.46501206199349882,259.5710027528234,null,{"$f":"+$B$24","v":"2019-08-01"},67.3424724589634,70.742986606768497,5.9362706552061502,13.992131560665829,23.506542363910206,38.273875275682919,0.39284140426131198,220.1871203254583]
[null,{"$f":"+$B$25","v":"2019-09-01"},77.224462869321457,81.123976340612529,6.8073727627770344,17.246429188777128,26.95594684430537,43.890272396712554,0.45048786195660218,253.69894826446264,null,{"$f":"+$B$25","v":"2019-09-01"},83.721307024565917,87.948884044154198,7.3800726340763383,16.127917823453927,29.223733232160949,47.582732649562665,0.48838711465731627,272.47303452263128,null,{"$f":"+$B$25","v":"2019-09-01"},70.727618714076982,74.299068637070874,6.2346728914777287,14.368958613638407,24.68816045644979,40.197812143862429,0.41258860925588814,230.92888006583209]
[null,{"$f":"+$B$26","v":"2019-10-01"},73.710308798743213,77.434475799486336,6.497774951811004,16.589772615616315,25.729996330599537,41.894152494034898,0.43200231497296693,242.28848330526426,null,{"$f":"+$B$26","v":"2019-10-01"},79.940388904825795,83.97932678526243,7.0469743666663884,15.521105689270341,27.904725223765965,45.435094463589202,0.46851564766898462,260.29613108104911,null,{"$f":"+$B$26","v":"2019-10-01"},67.480228692660603,70.889624813710242,5.9485755369556177,14.118853233985766,23.555267437433109,38.353210524480595,0.39548898227694923,220.7412492215029]
[null,{"$f":"+$B$27","v":"2019-11-01"},75.645045896144012,79.466964272111028,6.6683275713116954,16.951514510093769,26.405353403824098,42.993783906727586,0.44334144675198728,248.57433100696417,null,{"$f":"+$B$27","v":"2019-11-01"},82.038652207684905,86.183603522045857,7.2319422897943211,15.852272742629248,28.637164253842538,46.627667988448934,0.48081317591205458,267.05211618035781,null,{"$f":"+$B$27","v":"2019-11-01"},69.251439584603133,72.750325022176185,6.1047128528290688,14.137391211757146,24.173542553805653,39.359899825006238,0.40586971759191992,226.18318076776933]
[null,{"$f":"+$B$28","v":"2019-12-01"},73.245840952128802,76.946541006993442,6.456830780109148,16.502930078207037,25.567864924778139,41.630166531803098,0.42928015591220675,240.77945442993192,null,{"$f":"+$B$28","v":"2019-12-01"},79.436663701428273,83.450151182721171,7.002569546464521,15.441603183038415,27.728890284986413,45.148796104104044,0.46556340859246526,258.6742374113353,null,{"$f":"+$B$28","v":"2019-12-01"},67.055018202829331,70.442930831265713,5.9110920137537732,13.987333876098843,23.406839564569857,38.11153695950216,0.3929969032319483,219.3077483512516]
[null,{"$f":"+$B$29","v":"2020-01-01"},72.223274484917624,75.87267750271829,6.3667194529812701,16.527804065105936,25.21104060667837,41.049177238062946,0.42363895198470297,237.67433230244916,null,{"$f":"+$B$29","v":"2020-01-01"},78.332713559492177,82.290823231135803,6.9052866237486477,15.481688115286754,27.343667764497024,44.521568225399449,0.45947499493935545,255.33522251449918,null,{"$f":"+$B$29","v":"2020-01-01"},66.113835410343071,69.454531774300747,5.8281522822138943,14.465458757441022,23.07841344885971,37.57678625072645,0.3878029090300506,216.90498083291496]
[null,{"$f":"+$B$30","v":"2020-02-01"},78.262339989171821,82.216893722349198,6.8990829618082303,17.656946407202586,27.319102401715618,44.481570355162226,0.45906220576868212,257.2949980431784,null,{"$f":"+$B$30","v":"2020-02-01"},84.882629659052895,89.171703050502259,7.4826832946123725,16.515315176544085,29.630052616666056,48.244310911643304,0.49789473721488875,276.42458944623587,null,{"$f":"+$B$30","v":"2020-02-01"},71.64205031929076,75.262084394196137,6.3154826290040891,14.452096056029127,25.008152186765177,40.718829798681142,0.4202296743224756,233.8189250582889]
[null,{"$f":"+$B$31","v":"2020-03-01"},74.54173997307295,78.30829379869121,6.571099819695144,16.961294569476486,26.020349350762974,42.366911741550389,0.4372383393929814,245.20692759264216,null,{"$f":"+$B$31","v":"2020-03-01"},80.847300363766266,84.932470747313189,7.1269557302404216,15.878509224026239,28.221436745254195,45.950771209413929,0.47422476813967884,263.4316687881539,null,{"$f":"+$B$31","v":"2020-03-01"},68.23617958237962,71.684116850069231,6.0152439091498673,14.289869073098698,23.819261956271745,38.783052273686842,0.40025191064628407,223.22797555530227]
[null,{"$f":"+$B$32","v":"2020-04-01"},77.31888739459221,81.220754518458691,6.8154937297416582,17.47965374963918,26.988104383116788,43.942632016880708,0.44872694287424236,254.21425273530346,null,{"$f":"+$B$32","v":"2020-04-01"},83.790528305837398,88.018984233034544,7.3859549655148999,16.365890527490873,29.247026185125936,47.620658753826859,0.48628567838297443,272.91532864921351,null,{"$f":"+$B$32","v":"2020-04-01"},70.847246483347007,74.422524803882851,6.2450324939684148,14.46488608253151,24.729182581107644,40.264605279934571,0.41116820736551019,231.38464593213746]
[null,{"$f":"+$B$33","v":"2020-05-01"},73.147742247483905,76.839114178431771,6.4478162507464374,16.699810272606651,25.532169042857827,41.572045702660191,0.42451933625679961,240.66321703104356,null,{"$f":"+$B$33","v":"2020-05-01"},79.270255610591931,83.270597761002833,6.9875026435881535,15.651320454155618,27.669228114690039,45.051652830999544,0.46005187942588699,258.36060929445398,null,{"$f":"+$B$33","v":"2020-05-01"},67.025228884375878,70.407630595860709,5.9081298579047212,14.510634987003431,23.395109971025608,38.09243857432083,0.38898679308771206,219.72815966357891]
[null,{"$f":"+$B$34","v":"2020-06-01"},76.838058403245981,80.715660681914159,6.7731096876786401,17.389757248979297,26.820271354911728,43.669362546228029,0.44593640966039805,252.65215633261823,null,{"$f":"+$B$34","v":"2020-06-01"},83.269453616750766,87.471613715503679,7.3400233517027029,16.283518422112046,29.065145423848268,47.324516451636327,0.48326157573325956,271.23753255728701,null,{"$f":"+$B$34","v":"2020-06-01"},70.406663189741238,73.959707648324652,6.2061960236545755,14.678299898606154,24.575397285975189,40.014208640819724,0.40861124358753659,230.24908393070908]
[null,{"$f":"+$B$35","v":"2020-07-01"},74.721121720213858,78.491145342154965,6.586443478533818,16.993838450847328,26.081107423879519,42.465839388009528,0.43293411273815818,245.77242991637721,null,{"$f":"+$B$35","v":"2020-07-01"},80.965054407612769,85.05011309839891,7.1368274768269986,15.92265902449866,28.260527050063612,46.014418913427647,0.46911145317126568,263.81871142399984,null,{"$f":"+$B$35","v":"2020-07-01"},68.47718903281492,71.93217758591102,6.0360594802406338,14.444075515436584,23.901687797695431,38.917259862591408,0.39675677230505058,224.10520604699502]
[null,{"$f":"+$B$36","v":"2020-08-01"},73.522864773539652,77.232430831540114,6.4808207112313942,16.769812692370049,25.662860649364553,41.784840684141464,0.42599141305568822,241.87962175524291,null,{"$f":"+$B$36","v":"2020-08-01"},79.666667329792304,83.686216431842141,7.0223785378329557,15.717353565234943,27.807330255438242,45.2765138092103,0.46158859959805931,259.63804852894896,null,{"$f":"+$B$36","v":"2020-08-01"},67.379062217286986,70.778645231238087,5.9392628846298336,14.476551687295757,23.518391043290862,38.293167559072629,0.39039422651331701,220.77547484932745]
[null,{"$f":"+$B$37","v":"2020-09-01"},76.937698509046029,80.819558605886897,6.7818280953512566,17.408248980842181,26.854794649283836,43.725574142235963,0.44577695667969203,252.97347993932584,null,{"$f":"+$B$37","v":"2020-09-01"},83.36685534655534,87.573095920944837,7.3485390486937661,16.302440103079142,29.098866021123104,47.37942107837123,0.4830274856736721,271.55224500444115,null,{"$f":"+$B$37","v":"2020-09-01"},70.508541671536747,74.066021290828957,6.2151171420087454,14.746676832127143,24.610723277444563,40.071727206100718,0.40852642768571179,230.62733384773256]
[null,{"$f":"+$B$38","v":"2020-10-01"},73.499132499362872,77.208640837677351,6.4788244166270959,16.765578553989716,25.65495568909364,41.771969651950329,0.42694513661719269,241.80604678531822,null,{"$f":"+$B$38","v":"2020-10-01"},79.656599110324152,83.676875385069067,7.0215947006710318,15.71054780612277,27.804226404127654,45.271460049448578,0.46271291147433746,259.60401636723759,null,{"$f":"+$B$38","v":"2020-10-01"},67.341665888401593,70.740406290285634,5.9360541325831608,14.697333033645167,23.505684974059626,38.27247925445208,0.39117736176004786,220.88480093518731]
[null,{"$f":"+$B$39","v":"2020-11-01"},77.267939443580119,81.167659833515657,6.8110383846213454,17.470203968163581,26.970462034090023,43.913906351669432,0.44883755549297472,254.05004757113315,null,{"$f":"+$B$39","v":"2020-11-01"},83.741141793631627,87.967565333339991,7.3816402409037325,16.356142490089745,29.229940667508561,47.592839733905329,0.48643939061283048,272.75570964999179,null,{"$f":"+$B$39","v":"2020-11-01"},70.794737093528596,74.367754333691295,6.2404365283389591,14.810561613667392,24.710983400671488,40.234972969433542,0.41123572037311895,231.57068165970443]
[null,{"$f":"+$B$40","v":"2020-12-01"},73.85606789848228,77.58359080097253,6.5102876693259413,16.832312073949854,25.779544395611456,41.974827755885805,0.42901851935734775,242.96564911358521,null,{"$f":"+$B$40","v":"2020-12-01"},80.043437145401441,84.08323717325608,7.0556938202349313,15.771690655730573,27.939252659693999,45.491312802970654,0.46495999401964816,260.84958425130731,null,{"$f":"+$B$40","v":"2020-12-01"},67.668698651563133,71.08394442868898,5.9648815184169504,14.218721787151829,23.619836131528917,38.458342708800949,0.39307704469504723,221.40750227084581]
[null,{"$f":"+$B$41","v":"2021-01-01"},72.972809097751309,76.657857998463513,6.4326064639699583,17.42355033371372,25.471941078539214,41.473981191140282,0.42590250133798785,240.85864866491602,null,{"$f":"+$B$41","v":"2021-01-01"},79.115070065327274,83.110296582967095,6.9740512581602498,16.371330948182752,27.615963097008112,44.964925544112582,0.46175152979538214,258.61338902555343,null,{"$f":"+$B$41","v":"2021-01-01"},66.830548130175359,70.205419413959959,5.8911616697796658,15.321409686650931,23.327919060070322,37.983036838167983,0.3900534728805935,219.94954827168479]
[null,{"$f":"+$B$42","v":"2021-02-01"},82.801335225177965,86.982714195258609,7.2989982266043318,19.261166187944255,28.902693457433315,47.060008545513931,0.48326624975185811,272.79018208768429,null,{"$f":"+$B$42","v":"2021-02-01"},89.770882042753556,94.304215681376064,7.9133688732053473,18.054271159877466,31.335488468018657,51.021139509181445,0.52394369467276525,292.92330942908529,null,{"$f":"+$B$42","v":"2021-02-01"},75.831788407602403,79.661212709141139,6.6846275800033164,16.022272438799725,26.469898446847974,43.098877581846409,0.44258880483095087,248.21126596907189]
[null,{"$f":"+$B$43","v":"2021-03-01"},73.318743381182117,77.021261593637107,6.4631008239270331,17.488228833369977,25.59269314761185,41.670592396625885,0.42792153114420484,241.98254170749817,null,{"$f":"+$B$43","v":"2021-03-01"},79.490122299303422,83.5042885540811,7.0071123867426728,16.430565334767422,27.746879098781015,45.178085890958826,0.46394050520359026,259.82099406983809,null,{"$f":"+$B$43","v":"2021-03-01"},67.147364463060811,70.538234633193113,5.9190892611113934,15.524596335003325,23.438507196442689,38.163098902292937,0.39190255708481936,221.12279334818911]
[null,{"$f":"+$B$44","v":"2021-04-01"},77.180813091030458,81.071314313903912,6.802953723395337,18.209056411728113,26.93844825934066,43.861780811345724,0.44371456541177695,254.508081176156,null,{"$f":"+$B$44","v":"2021-04-01"},83.580511525231316,87.793606325279356,7.3670427832009748,17.108808566905665,29.172137413946604,47.498723190386968,0.48050660342967999,273.00133640838061,null,{"$f":"+$B$44","v":"2021-04-01"},70.781114656829615,74.349022302528454,6.2388646635896992,15.581177209516127,24.704759104734716,40.22483843230448,0.40692252739387391,232.28669889689695]
[null,{"$f":"+$B$45","v":"2021-05-01"},75.025901179278961,78.807778417873223,6.6130131743582536,17.806192742744809,26.186318543245445,42.637146473410944,0.43132591900951978,247.50767644992115,null,{"$f":"+$B$45","v":"2021-05-01"},81.246918075476174,85.342381979886284,7.1613526950546031,16.739349650843891,28.357642413350778,46.172544308658566,0.46709071207097386,265.48727983534127,null,{"$f":"+$B$45","v":"2021-05-01"},68.804884283081748,72.273174855860191,6.064673653661905,15.634455914014325,24.014994673140109,39.101748638163322,0.39556112594806569,226.28949314386966]
[null,{"$f":"+$B$46","v":"2021-06-01"},77.215732543045405,81.107993972443339,6.806031631059045,18.215584650066265,26.950636208828055,43.881625501871675,0.44391531827838598,254.62151982559217,null,{"$f":"+$B$46","v":"2021-06-01"},83.618326437315091,87.833327397143165,7.3703759056009259,17.114795495104705,29.185335966952241,47.520213368046306,0.48072400237391688,273.12309857253632,null,{"$f":"+$B$46","v":"2021-06-01"},70.813138648775762,74.382660547743484,6.2416873565171649,15.548524233692314,24.715936450703868,40.243037635697036,0.40710663418285498,232.35209150731254]
[null,{"$f":"+$B$47","v":"2021-07-01"},74.398829477310372,78.147015654018261,6.5575664538666736,17.688590317335532,25.966759705739914,42.279655889203951,0.42572750983854984,245.46414500731325,null,{"$f":"+$B$47","v":"2021-07-01"},80.539264056295096,84.596803110859071,7.0987887834410008,16.636842778979172,28.109900805156535,45.769165910175708,0.46086451321620298,263.21162995812284,null,{"$f":"+$B$47","v":"2021-07-01"},68.258394898325648,71.697228197177466,6.0163441242923428,15.378385847280262,23.823618606323297,38.790145868232202,0.39059050646089666,224.35470804809214]
[null,{"$f":"+$B$48","v":"2021-08-01"},74.662471252620492,78.423939606813747,6.5808040299650816,17.737877187425898,26.058776242504923,42.429479261647344,0.42723612976282466,246.32058371074035,null,{"$f":"+$B$48","v":"2021-08-01"},80.824665247512073,84.89658271108128,7.1239442501407666,16.682061805482228,28.209511836729593,45.931354808036026,0.46249764560948631,264.13061830459145,null,{"$f":"+$B$48","v":"2021-08-01"},68.500277257728925,71.951296502546199,6.0376638097893958,15.616326681528717,23.908040648280259,38.927603715258655,0.39197461391616306,225.33318322904833]
[null,{"$f":"+$B$49","v":"2021-09-01"},78.979219353277728,82.958163918762011,6.9612853188984714,18.544877529460692,27.565412320350216,44.882617644850306,0.45193757241191312,260.34351365801132,null,{"$f":"+$B$49","v":"2021-09-01"},85.497691927983865,89.805034789105505,7.5358281898905348,17.422457164074451,29.840496648759856,48.586960566882958,0.48923779765304881,279.17770708435023,null,{"$f":"+$B$49","v":"2021-09-01"},72.46074677857159,76.111293048418517,6.3867424479064061,15.704574182084245,25.290327991940575,41.178274722817655,0.41463734717077733,237.54659651890981]
[null,{"$f":"+$B$50","v":"2021-10-01"},74.509271726354868,78.265931330105587,6.5675450492336607,17.709754905735558,26.006273112110751,42.343992496593586,0.42914517863728696,245.83191379877132,null,{"$f":"+$B$50","v":"2021-10-01"},80.698770589357494,84.767496595146028,7.1131122205817041,16.648791963364712,28.166618987581298,45.86151571672665,0.46479434730711056,263.72110042006506,null,{"$f":"+$B$50","v":"2021-10-01"},68.31977286335227,71.764366065065147,6.0219778778856154,15.488030028552487,23.845927236640208,38.826469276460529,0.39349600996746337,224.66003935792369]
[null,{"$f":"+$B$51","v":"2021-11-01"},77.136554947187179,81.025678719686738,6.7991242944755461,18.200934197737691,26.92328442359916,43.837090716610128,0.44427733468996811,254.36694463398644,null,{"$f":"+$B$51","v":"2021-11-01"},83.544302709036231,87.756496706357851,7.3639287961840827,17.099168901526333,29.159806596841925,47.478645879627884,0.48118353433745076,272.88353312391172,null,{"$f":"+$B$51","v":"2021-11-01"},70.728807185338127,74.294860733015611,6.2343197927670087,15.849009482402796,24.686762250356391,40.195535553592372,0.4073711350424854,232.39666613251481]
[null,{"$f":"+$B$52","v":"2021-12-01"},74.87152048287777,78.646444193076022,6.5994751026668821,17.777478509474481,26.132710263868933,42.549860280195617,0.43123159424338886,247.00872042640313,null,{"$f":"+$B$52","v":"2021-12-01"},81.091111416500226,85.179618731407487,7.1476947094077499,16.710889754924445,28.3035592967173,46.084484974856743,0.4670540818401393,264.98441296565414,null,{"$f":"+$B$52","v":"2021-12-01"},68.651929549255314,72.113269654744556,6.0512554959260134,15.500215009217779,23.961861231020567,39.015235585534484,0.39540910664663831,225.68917563234538]
[null,{"$f":"+$B$53","v":"2022-01-01"},73.03074674735123,76.716744053034162,6.4375477814703288,17.650030862004822,25.491507789004835,41.50584014446158,0.42434733684123421,241.25676471416818,null,{"$f":"+$B$53","v":"2022-01-01"},79.15073725513335,83.145621838123347,6.9770155134967888,16.602004822871809,27.62770100413751,44.984037465658218,0.45990772461126855,258.94702562403228,null,{"$f":"+$B$53","v":"2022-01-01"},66.910756239569068,70.287866267944963,5.8980800494438679,15.680617619772754,23.355314573872171,38.027642823264927,0.38878694907119987,220.54906452293895]
[null,{"$f":"+$B$54","v":"2022-02-01"},82.019690872325413,86.159376868063973,7.2299093536404389,19.330628774057338,28.629114199759766,46.614560711285129,0.47657786535607238,270.45985864448812,null,{"$f":"+$B$54","v":"2022-02-01"},88.892956612389384,93.379549084201145,7.8357771365548947,18.141768309326274,31.028239430600916,50.52086979045179,0.51651518137843699,290.31567554490283,null,{"$f":"+$B$54","v":"2022-02-01"},75.146425132261456,78.939204651926801,6.624041570725983,16.987619344236276,26.229988968918622,42.708251632118468,0.43664054933370788,247.07217184952131]
[null,{"$f":"+$B$55","v":"2022-03-01"},74.953201394612151,78.736228553688406,6.6070091960203685,18.009458312135024,26.162543890883907,42.598436055471929,0.43551781703070053,247.50239521984247,null,{"$f":"+$B$55","v":"2022-03-01"},81.234293968536093,85.334339525141885,7.1606778269102813,16.931312184121598,28.354970059351785,46.168193122420007,0.47201429317134141,265.65580097965301,null,{"$f":"+$B$55","v":"2022-03-01"},68.67210882068818,72.138117582234941,6.0533405651304539,15.817871956833166,23.970117722416035,39.028678988523843,0.39902134089005981,226.07925697671666]
[null,{"$f":"+$B$56","v":"2022-04-01"},76.758540870015992,80.630956478141215,6.7660018865615497,18.346681611623552,26.792125766919266,43.62353527364548,0.44435097985057992,253.36219286675762,null,{"$f":"+$B$56","v":"2022-04-01"},83.167163955458108,87.36289019170853,7.3309000124885522,17.244717738560919,29.029018674885144,47.265694075187909,0.48145014712541839,271.88183479541459,null,{"$f":"+$B$56","v":"2022-04-01"},70.349917784573861,73.8990227645739,6.2011037606345463,15.827135404885205,24.555232858953392,39.981376472103051,0.40725181257574133,231.22104085829969]
[null,{"$f":"+$B$57","v":"2022-05-01"},73.509385799299892,77.217883768209376,6.4796000205408841,17.739223608929123,25.658026938252583,41.776970328163372,0.42554179949104093,242.8066322628863,null,{"$f":"+$B$57","v":"2022-05-01"},79.64673470523887,83.66485770644428,7.0205862587549364,16.687976820055159,27.800233159210251,45.264958159228073,0.46107057543086816,260.54641738436243,null,{"$f":"+$B$57","v":"2022-05-01"},67.372036893360928,70.770909829974443,5.938613782326831,16.206639990867242,23.515820717294918,38.288982497098672,0.3900130235512137,222.48301673447423]
[null,{"$f":"+$B$58","v":"2022-06-01"},77.605819156110485,81.52097937118512,6.8406865590055697,18.505087709269084,27.08786336358704,44.105061808427166,0.44925582734201097,256.11475379492646,null,{"$f":"+$B$58","v":"2022-06-01"},84.085182085256193,88.327221704930494,7.4118201593244555,17.389898402753186,29.349447605803888,47.787423589756308,0.48676450368916752,274.83775805151373,null,{"$f":"+$B$58","v":"2022-06-01"},71.126456226964805,74.714737037439733,6.2695529586866803,16.233210639758735,24.826279121370195,40.422700027098024,0.41174715099485454,234.004683162313]
[null,{"$f":"+$B$59","v":"2022-07-01"},74.411834476584332,78.162281917931196,6.5588474949822348,17.907307403953162,25.971832393459518,42.287915352211606,0.42733972178597052,245.72735876090803,null,{"$f":"+$B$59","v":"2022-07-01"},80.575395968412579,84.636494445165482,7.1021194104672363,16.851212696421737,28.123089476940212,45.790639999009599,0.46273643887614585,263.541688435293,null,{"$f":"+$B$59","v":"2022-07-01"},68.248272984756056,71.688069390696924,6.0155755794972343,15.950441167702873,23.820575309978821,38.785190705413612,0.39194300469579513,224.90006814274133]
[null,{"$f":"+$B$60","v":"2022-08-01"},74.622471033955762,78.383534815340553,6.5774135344621794,17.946685950668424,26.045350502540781,42.407619173127451,0.42854938646442148,246.41162439655957,null,{"$f":"+$B$60","v":"2022-08-01"},80.803479634606404,84.876073807014521,7.1222232822933291,16.887329502637712,28.202697119887596,45.920258934452747,0.46404630055528323,264.27610858144766,null,{"$f":"+$B$60","v":"2022-08-01"},68.441462433305119,71.890995823666586,6.0326037866310296,15.932454424971375,23.888003885193964,38.894979411802154,0.39305247237355972,225.47355223794381]
[null,{"$f":"+$B$61","v":"2022-09-01"},78.168623986753971,82.10841821285895,6.8899804342690016,18.609639957578921,27.283058063165811,44.422882161182322,0.44891458814126156,257.93151740395024,null,{"$f":"+$B$61","v":"2022-09-01"},84.643361830041115,88.909490760142546,7.4606802212427255,17.495370768630195,29.54292448414969,48.102446947760022,0.48609835989007,276.64037337185641,null,{"$f":"+$B$61","v":"2022-09-01"},71.693886143466827,75.307345665575383,6.3192806472952787,16.270499814403586,25.023191642181928,40.743317374604622,0.41173081639245318,235.76925210392011]
[null,{"$f":"+$B$62","v":"2022-10-01"},75.119182594322595,78.904594603883936,6.621137330709737,18.039424068292433,26.218488711443502,42.689526657027429,0.43074450238306361,248.0230984680627,null,{"$f":"+$B$62","v":"2022-10-01"},81.331905624600822,85.430389682588171,7.1687377033506943,16.974148708500465,28.386885690898719,46.220158863797927,0.46636917503922265,265.97859544877605,null,{"$f":"+$B$62","v":"2022-10-01"},68.906459564044397,72.378799525179687,6.0735369580687806,16.181534574460848,24.050091731988282,39.158894450256916,0.39511982972690451,227.14443663372583]
[null,{"$f":"+$B$63","v":"2022-11-01"},77.65762523420176,81.570954653440893,6.8448801450523344,18.513982300074268,27.104469194720867,44.132099792143592,0.44530030789079456,256.26931162752453,null,{"$f":"+$B$63","v":"2022-11-01"},84.080289860024024,88.317270721788447,7.4109851404476741,17.4094586583658,29.346141084295382,47.782039837869128,0.48212881670409746,274.82831411949456,null,{"$f":"+$B$63","v":"2022-11-01"},71.234960608379481,74.824638585093368,6.2787751496569948,16.372700922575206,24.862797305146344,40.482159746418056,0.4084717990774917,234.46450411634694]
[null,{"$f":"+$B$64","v":"2022-12-01"},74.752570851647121,78.519508532206956,6.5888235246821312,17.970886525776674,26.090531969838246,42.481184643426928,0.42864229643229651,246.83214834401036,null,{"$f":"+$B$64","v":"2022-12-01"},80.93497330150592,85.013455113316823,7.1337513878525334,16.911279555257867,28.248346302251846,45.994585948830192,0.46409310639621559,264.70048471541139,null,{"$f":"+$B$64","v":"2022-12-01"},68.570168401788294,72.025561951097103,6.043895661511729,15.774322905020135,23.932717637424638,38.967783338023658,0.39319148646837737,225.70764138133393]
[null,{"$f":"+$B$65","v":"2023-01-01"},73.878526379239574,77.602556524593183,6.5118791439580468,17.80768758967114,25.785846343085481,41.985088726975484,0.42471942518671413,243.99630413270964,null,{"$f":"+$B$65","v":"2023-01-01"},80.004258607882207,84.037071461823245,7.0518199074811676,16.758658251320266,27.923912676133682,45.466335900437336,0.45993557795134116,261.70199238302922,null,{"$f":"+$B$65","v":"2023-01-01"},67.752794150596941,71.16804158736312,5.9719383804349269,16.225708488192819,23.64778001003728,38.503841553513645,0.3895032724220871,223.6596074425608]
[null,{"$f":"+$B$66","v":"2023-02-01"},83.53170826840983,87.742330961228689,7.3627401031255486,19.612362629006476,29.155099590480344,47.470981827143433,0.48021449343083783,275.35543787282512,null,{"$f":"+$B$66","v":"2023-02-01"},90.457846383654683,95.017598226663267,7.9732310881421347,18.413696358349522,31.572531853190959,51.407098822914449,0.52003209054925037,295.36203482346423,null,{"$f":"+$B$66","v":"2023-02-01"},76.605570153165004,80.46706369579411,6.7522491181089634,16.806141902555371,26.737667327769731,43.534864831372438,0.44039689631242523,251.34395392507807]
[null,{"$f":"+$B$67","v":"2023-03-01"},75.120785109652431,78.907434383826214,6.6213756257428882,18.039929491762265,26.219432316042624,42.691063055030043,0.43186103235962592,248.03188101441611,null,{"$f":"+$B$67","v":"2023-03-01"},81.349520805123035,85.450144932805685,7.1703954296890577,16.971643519932023,28.393449982970942,46.230846990199325,0.46766934059036008,266.03367100131044,null,{"$f":"+$B$67","v":"2023-03-01"},68.892049414181841,72.364723834846771,6.0723558217967195,16.305977465180874,24.045414649114306,39.151279119860753,0.39605272412889164,227.22785302911018]
[null,{"$f":"+$B$68","v":"2023-04-01"},78.343813641979722,82.289794127546372,6.9052002683693754,18.641921206833374,27.343325813043137,44.521011452434131,0.44738956170578903,258.49245607191193,null,{"$f":"+$B$68","v":"2023-04-01"},84.796763174515547,89.0677624681542,7.4739613073388131,17.531764099997709,29.595515147731145,48.188076236296844,0.48423972419933164,277.13808215823354,null,{"$f":"+$B$68","v":"2023-04-01"},71.89086410944391,75.511825786938516,6.3364392293999385,16.301664884780095,25.091136478355136,40.853946668571425,0.41053939921224636,236.39641655670121]
[null,{"$f":"+$B$69","v":"2023-05-01"},74.208139257567325,77.945816245296527,6.5406831668706236,17.868780886552017,25.899904987674354,42.170801549794135,0.42377241232044582,245.05789850607539,null,{"$f":"+$B$69","v":"2023-05-01"},80.320445453443895,84.36598390271692,7.0794200041785622,16.822305074210689,28.033203993856251,45.644286455583675,0.4586772996735361,262.7243221836635,null,{"$f":"+$B$69","v":"2023-05-01"},68.095833061690755,71.52564858787612,6.0019463295626849,16.19037084398747,23.766605981492457,38.697316644004601,0.3888675249673556,224.66658897358147]
[null,{"$f":"+$B$70","v":"2023-06-01"},78.458696742499498,82.410463600361524,6.9153260304386759,18.66339793562652,27.383421972546941,44.586296911440584,0.44804561222975031,258.86564880514351,null,{"$f":"+$B$70","v":"2023-06-01"},84.921108858171536,89.198371130574714,7.4849210986514461,17.551471853799931,29.638913909976612,48.258739066567124,0.48494981167560758,277.53847572941703,null,{"$f":"+$B$70","v":"2023-06-01"},71.99628462682746,75.62255607014832,6.3457309622259057,16.64395891700093,25.127930035117274,40.913854756314045,0.4111414127838931,237.06145678041784]
[null,{"$f":"+$B$71","v":"2023-07-01"},75.349881622669187,79.143306921647721,6.6411684460887672,18.081910039172978,26.297808252212864,42.818676498094298,0.42860882062837763,248.76136060051419,null,{"$f":"+$B$71","v":"2023-07-01"},81.532083387556497,85.636746343095041,7.1860537518670311,17.022393332830131,28.455454065163764,46.331803416359001,0.4637747180428447,266.62830901491429,null,{"$f":"+$B$71","v":"2023-07-01"},69.167679857781863,72.649867500200401,6.0962831403105069,16.080876333132455,24.140162439261957,39.305549579829602,0.3934429232139105,227.83386177373072]
[null,{"$f":"+$B$72","v":"2023-08-01"},75.556986121821467,79.360837919550875,6.6594221690567874,18.120626162953712,26.370089645223555,42.936366670388267,0.42978688240122831,249.43411557139586,null,{"$f":"+$B$72","v":"2023-08-01"},81.756180107168888,85.872125020253876,7.2058051307824575,17.057932930203496,28.533665900874784,46.459149667404482,0.46504943578136415,267.34990819246934,null,{"$f":"+$B$72","v":"2023-08-01"},69.357792136474046,72.849550818847888,6.1130392073311182,16.408908044276032,24.206513389572329,39.413583673372059,0.39452432902109241,228.74391159889458]
[null,{"$f":"+$B$73","v":"2023-09-01"},78.464306183142426,82.414524521008815,6.9156667953007211,18.66412069747637,27.384771338863111,44.588493979698711,0.44632444020274054,258.87820795569291,null,{"$f":"+$B$73","v":"2023-09-01"},84.902035901089889,89.176356231608935,7.4830737579470705,17.556835584842936,29.631598779813213,48.246828408880219,0.48294384400952223,277.47967250819175,null,{"$f":"+$B$73","v":"2023-09-01"},72.026576465194935,75.652692810408709,6.3482598326543718,16.484953317952964,25.137943897913008,40.930159550517224,0.40970503639595879,236.99029091103719]
[null,{"$f":"+$B$74","v":"2023-10-01"},74.464834275575441,78.214703055046044,6.5632463205463463,17.916637307520148,25.989250935416251,42.316276609771961,0.42453234957601288,245.8894808534522,null,{"$f":"+$B$74","v":"2023-10-01"},80.588159191812068,84.646383789882577,7.1029492570663013,16.868112399948085,28.126375517178179,45.795990402836409,0.45944210985677847,263.58741266858038,null,{"$f":"+$B$74","v":"2023-10-01"},68.341509359338829,71.78302232020954,6.0235433840263921,16.45921342262718,23.85212635365432,38.83656281670752,0.38962258929524723,225.68560024585904]
[null,{"$f":"+$B$75","v":"2023-11-01"},78.66582630737328,82.627246875229588,6.9335170095712373,18.701980979810052,27.455454911484043,44.70358254528405,0.44848267505728795,259.53609130380954,null,{"$f":"+$B$75","v":"2023-11-01"},85.134603401560383,89.421775923380352,7.5036677105684166,17.588876401536719,29.713147052769649,48.37960712128131,0.48536189684559866,278.22703950794238,null,{"$f":"+$B$75","v":"2023-11-01"},72.197049213186176,75.832717827078852,6.3633663085740597,16.69009042757143,25.197762770198441,41.027557969286789,0.41160345326897729,237.72014796916471]
[null,{"$f":"+$B$76","v":"2023-12-01"},75.735181128011959,79.549021499542008,6.675213256163449,18.154119039126158,26.432619452168833,43.038179093286772,0.43177473907822461,250.01610820737741,null,{"$f":"+$B$76","v":"2023-12-01"},81.96296805788846,86.090424702129397,7.2241233564853351,17.086065748546993,28.606202712877909,46.577255718584759,0.46728004898349979,268.0143203454964,null,{"$f":"+$B$76","v":"2023-12-01"},69.507394198135444,73.007618296954604,6.1263031558415637,16.023279684140821,24.259036191459753,39.499102467988799,0.39626942917294949,228.81900342369391]
[null,{"$f":"+$B$77","v":"2024-01-01"},74.493782661840669,78.246892743016716,6.5659474603944936,17.922366421788677,25.999946953498853,42.333692104390536,0.42640509092267126,245.9890334358526,null,{"$f":"+$B$77","v":"2024-01-01"},80.643979238614776,84.70694557824244,7.1080311907577043,16.868791853427229,28.146499041954257,45.828755973606576,0.46160903730321967,263.76461191390626,null,{"$f":"+$B$77","v":"2024-01-01"},68.343586085066548,71.786839907790991,6.0238637300312821,16.456832147817391,23.853394865043448,38.83862823517449,0.3912011445421229,225.69434611546626]
[null,{"$f":"+$B$78","v":"2024-02-01"},80.470431427995052,84.524654164944366,7.0927345342358006,19.039681152195477,28.085927089386196,45.730131372765506,0.46061564339405742,265.40417538491647,null,{"$f":"+$B$78","v":"2024-02-01"},87.114059314990612,91.502998130346782,7.6783097338526902,17.893861231475956,30.404697414485462,49.505604806581097,0.49864400833922851,284.59817464007187,null,{"$f":"+$B$78","v":"2024-02-01"},73.826803540999506,77.546310199541921,6.5071593346189109,16.743393958561608,25.767156764286931,41.9546579389499,0.42258727844888638,242.76806901540766]
[null,{"$f":"+$B$79","v":"2024-03-01"},75.649242503957723,79.460566409521363,6.6677907061640846,18.138375819781391,26.403227516365622,42.990322489468674,0.43301898461192007,249.74254442987078,null,{"$f":"+$B$79","v":"2024-03-01"},81.894833688330792,86.020819977779283,7.2182826010628922,17.066967544865982,28.583074393306685,46.539597674075225,0.46876897315697252,267.7923448525778,null,{"$f":"+$B$79","v":"2024-03-01"},69.403651319584654,72.900312841263442,6.1172988112652771,16.571427631249414,24.223380639424555,39.441047304862117,0.39726899606686766,229.0543875437163]
[null,{"$f":"+$B$80","v":"2024-04-01"},78.089149455803707,82.020156816030223,6.8825741376859311,18.593931211709958,27.253730487908275,44.375130350636667,0.44388019880190061,257.65855265857664,null,{"$f":"+$B$80","v":"2024-04-01"},84.491649025514491,88.744958179367586,7.4468737652542494,17.493236752923966,29.48825345221081,48.013430357177398,0.48027376694341012,276.15867529939192,null,{"$f":"+$B$80","v":"2024-04-01"},71.686649886092937,75.295355452692846,6.3182745101176137,16.618997186144053,25.01920752360574,40.736830344095928,0.40748663066039126,236.08280153340948]
[null,{"$f":"+$B$81","v":"2024-05-01"},75.54218159537642,79.344974607317994,6.6580910277038514,18.117802813794743,26.364818569758413,42.927784188039375,0.42940253310689419,249.38505533509772,null,{"$f":"+$B$81","v":"2024-05-01"},81.735856241982077,85.850438802053318,7.2039853707341299,17.056145940691568,28.526459985047708,46.447416834929896,0.46460908296188541,267.28491225840065,null,{"$f":"+$B$81","v":"2024-05-01"},69.348506948770762,72.839510412582669,6.1121966846735747,16.795528636940716,24.203177154469113,39.408151541148861,0.39419598325190308,229.10126736183761]
[null,{"$f":"+$B$82","v":"2024-06-01"},78.415837530802932,82.363290366953677,6.9113675732880502,18.655002052918491,27.367747208690737,44.560774912180946,0.44573718365430881,258.71975682848915,null,{"$f":"+$B$82","v":"2024-06-01"},84.845122131138183,89.116225119211933,7.478027963655526,17.549300419162805,29.611618360428235,48.214295845491783,0.48228300527535228,277.2968728443638,null,{"$f":"+$B$82","v":"2024-06-01"},71.986552930467681,75.610355614695436,6.3447071829205761,16.56941790986108,25.123876056953236,40.907253978870109,0.40919136203326534,236.95135503580136]
[null,{"$f":"+$B$83","v":"2024-07-01"},75.26181072691142,79.047620760966311,6.6331391137830833,18.064879835308911,26.266013569833955,42.766907688842778,0.42506169971758817,248.46543339536404,null,{"$f":"+$B$83","v":"2024-07-01"},81.393096003470916,85.487321169947705,7.1735150068542657,17.014927587726156,28.405802936037041,46.250960343223305,0.45968981344400828,266.18531286070339,null,{"$f":"+$B$83","v":"2024-07-01"},69.130525450351939,72.60792035198493,6.0927632207119,16.411538672722312,24.126224203630866,39.282855034462251,0.39043358599116801,228.04226051985535]
[null,{"$f":"+$B$84","v":"2024-08-01"},76.428877243115593,80.273392908682439,6.735997581872696,18.283042518583528,26.673314226773325,43.430083680533286,0.4316530276735584,252.25636118723443,null,{"$f":"+$B$84","v":"2024-08-01"},82.655238862888936,86.812952179005563,7.2847529519306269,17.215317410702337,28.846284784033411,46.968162688443542,0.4668181111015986,270.24952698810597,null,{"$f":"+$B$84","v":"2024-08-01"},70.202515623342251,73.733833638359286,6.1872422118147616,16.703720426062585,24.500343669513235,39.892004672623031,0.39648794424551814,231.61614818596064]
[null,{"$f":"+$B$85","v":"2024-09-01"},79.334167117592159,83.32482430503309,6.9920529666307658,18.82613567214932,27.687246558858661,45.080990862688552,0.44806144836248196,261.69347893131504,null,{"$f":"+$B$85","v":"2024-09-01"},85.797211337205539,90.112971753240529,7.5616681671310921,17.714166889765792,29.942818216452352,48.753562819959853,0.48456326163013014,280.3669624453853,null,{"$f":"+$B$85","v":"2024-09-01"},72.871122897978751,76.536676856825636,6.4224377661304386,16.691173958208061,25.431674901264966,41.408418905417257,0.41155963509483373,239.77306492091992]
[null,{"$f":"+$B$86","v":"2024-10-01"},75.737165446466264,79.547810322841599,6.6751116224461056,18.153903474137699,26.432217001300081,43.037523813828109,0.42863073769450216,250.01236241871436,null,{"$f":"+$B$86","v":"2024-10-01"},81.919860380258854,86.041581788648088,7.2200247911303599,17.094327670605789,28.589973146245288,46.550830377100723,0.46362139353420034,267.88021954752332,null,{"$f":"+$B$86","v":"2024-10-01"},69.55447051267366,73.054038857035124,6.1301984537618512,16.607912296573232,24.274460856354871,39.524217250555502,0.39364008185480392,229.53893830880904]
[null,{"$f":"+$B$87","v":"2024-11-01"},78.524635308853476,82.475529132843121,6.9207858877285986,18.674978286168276,27.405042005416217,44.621499129984009,0.44440628535822813,259.06687603635191,null,{"$f":"+$B$87","v":"2024-11-01"},84.934881349090148,89.208300726888623,7.4857543228909584,17.57286528730463,29.642213325050886,48.264111247599978,0.48068475541758127,277.58881101424282,null,{"$f":"+$B$87","v":"2024-11-01"},72.114389268616819,75.742757538797605,6.3558174525662379,16.926012966789788,25.167870685781551,40.978887012368055,0.40812781529887493,237.69386274021898]
[null,{"$f":"+$B$88","v":"2024-12-01"},76.265574791239501,80.102806091207782,6.7216830954859592,18.252681510707077,26.61663148769162,43.337791583622078,0.43162124421688997,251.72878980417093,null,{"$f":"+$B$88","v":"2024-12-01"},82.491405664430388,86.641883840991582,7.2703980596127202,17.185042103755794,28.78944204487961,46.8756100758551,0.46685602576972307,269.72063781529494,null,{"$f":"+$B$88","v":"2024-12-01"},70.0397439180486,73.563728341423996,6.1729681313591973,16.480890819893069,24.44382093050363,39.79997309138907,0.3963864626640568,230.89751169528159]
[null,{"$f":"+$B$89","v":"2025-01-01"},74.692860825519588,78.45323132535836,6.5832619919140667,17.959090521671847,26.068509320735117,42.445326876173702,0.42489292363988479,246.62717378501259,null,{"$f":"+$B$89","v":"2025-01-01"},80.82146319590835,84.890374770545236,7.1234233219611545,16.909593361997139,28.207449056739627,45.927996143761412,0.45975569031130303,264.34005554122416,null,{"$f":"+$B$89","v":"2025-01-01"},68.56425845513084,72.016087880171497,6.043100661866978,16.917971427324709,23.929569584730608,38.962657608585985,0.3900301569684666,226.82367577477913]
[null,{"$f":"+$B$90","v":"2025-02-01"},83.614259561075158,87.823772914082298,7.3695741583162775,19.626857651591855,29.182161194842553,47.515044133461579,0.47564260908254313,275.60731222245232,null,{"$f":"+$B$90","v":"2025-02-01"},90.474869044775986,95.029775963222889,7.9742529610323425,18.440519012387256,31.576578282300982,51.41368730882067,0.51466942355000056,295.42435199609008,null,{"$f":"+$B$90","v":"2025-02-01"},76.753650077374331,80.617769864941707,6.7648953556002125,17.355141572511162,26.787744107384121,43.616400958102489,0.43661579461508587,252.33221773052912]
[null,{"$f":"+$B$91","v":"2025-03-01"},76.61322431987395,80.470274450849175,6.7525185428523731,18.318083456335593,26.73873420030851,43.536601936977007,0.43581697783394707,252.86525388503054,null,{"$f":"+$B$91","v":"2025-03-01"},82.899393881202158,87.072917719492196,7.3065674933202054,17.239130670968994,28.932666364508297,47.108811099682782,0.47157607092382159,271.03106330009848,null,{"$f":"+$B$91","v":"2025-03-01"},70.327054758545742,73.867631182206139,6.198469592384539,16.818220095177388,24.544802036108727,39.964392774271225,0.40005788474407272,232.12062832343784]
[null,{"$f":"+$B$92","v":"2025-04-01"},78.927639779970647,82.899412750537905,6.9563553201435901,18.75042100821474,27.545890430039506,44.850831668702455,0.44726381220323419,260.37781476981206,null,{"$f":"+$B$92","v":"2025-04-01"},85.37905674516665,89.67547598154971,7.524956495263166,17.640602972406409,29.79744673322044,48.516865736580989,0.48382242910867002,279.01822709329605,null,{"$f":"+$B$92","v":"2025-04-01"},72.476222814774658,76.123349519526073,6.3877541450240169,16.720027698130302,25.29433412685858,41.184797600823934,0.41070519529779842,238.59719110043537]
[null,{"$f":"+$B$93","v":"2025-05-01"},75.161730928557716,78.943996965592433,6.6244437091194603,18.046436892799584,26.231581363155929,42.710844403844952,0.4259233191391012,248.14495758220917,null,{"$f":"+$B$93","v":"2025-05-01"},81.305328626370112,85.396750940549751,7.1659149687331878,16.994161374138336,28.375708179844658,46.201959391610451,0.46073759883410725,265.90056108008059,null,{"$f":"+$B$93","v":"2025-05-01"},69.01813323074532,72.491242990635129,6.0829724495057356,17.401300525919105,24.087454546467196,39.219729416079453,0.39110903944409509,228.69194219879606]
[null,{"$f":"+$B$94","v":"2025-06-01"},78.695575123591951,82.65567020625835,6.9359021023415943,18.707039758618489,27.464899441139895,44.718960338601725,0.44594875801969447,259.62399572857174,null,{"$f":"+$B$94","v":"2025-06-01"},85.128023501036466,89.411810317946077,7.5028314646882484,17.60076763562849,29.709835672552916,48.374215458337297,0.48239988453401383,278.20988393472351,null,{"$f":"+$B$94","v":"2025-06-01"},72.263126746147449,75.899530094570608,6.3689727399949412,16.709795994076579,25.21996320972687,41.063705218866161,0.40949763150537505,237.93459163488799]
[null,{"$f":"+$B$95","v":"2025-07-01"},76.49119925424074,80.3387142993342,6.7414789090414056,18.294668406711569,26.695019276422425,43.46542432528917,0.43187523626553531,252.45837970730506,null,{"$f":"+$B$95","v":"2025-07-01"},82.720776622359111,86.881640038011426,7.2905167702445466,17.22634413546168,28.869108446774458,47.005324683923845,0.46704791265080448,270.46075860942585,null,{"$f":"+$B$95","v":"2025-07-01"},70.26162188612237,73.795788560656973,6.1924410478382645,16.752840572558558,24.520930106070388,39.925523966654495,0.39670255988026615,231.84584869978127]
[null,{"$f":"+$B$96","v":"2025-08-01"},75.62848491721013,79.4326053440507,6.6654444035777312,18.133399314905127,26.393936588719608,42.975194794360917,0.42700428428978748,249.65606964711398,null,{"$f":"+$B$96","v":"2025-08-01"},81.787801317249603,85.901735980861091,7.2082898813557117,17.078209081221512,28.543505057140806,46.475170000548914,0.46178026180662285,267.45649158018421,null,{"$f":"+$B$96","v":"2025-08-01"},69.46916851717063,72.963474707240309,6.1225989257997506,16.741772921242784,24.244368120298411,39.475219588172905,0.39222830677295228,229.40883108669775]
[null,{"$f":"+$B$97","v":"2025-09-01"},78.961809912845041,82.933596923500872,6.9592238236174486,18.756505100525878,27.557249177365179,44.869326233819706,0.44582449542616648,260.48353566710028,null,{"$f":"+$B$97","v":"2025-09-01"},85.392598144361131,89.687854452319115,7.525995212404033,17.6505680392609,29.801559862471802,48.523562825141376,0.48213322393267716,279.06427175989103,null,{"$f":"+$B$97","v":"2025-09-01"},72.531021681328937,76.179339394682628,6.3924524348308633,17.157665626989377,25.312938492258549,41.215089642498036,0.4095157669196558,239.19802303950806]
[null,{"$f":"+$B$98","v":"2025-10-01"},75.445605155852689,79.241973540773316,6.6494478782114088,18.099470704438687,26.330593283968327,42.872057816235099,0.42735704690626841,249.06650542638582,null,{"$f":"+$B$98","v":"2025-10-01"},81.609897422627341,85.716448544218309,7.1927418189161836,17.043329281443434,28.481937583277233,46.374924469785064,0.46227430595607011,266.8815534262236,null,{"$f":"+$B$98","v":"2025-10-01"},69.281312889078038,72.767498537328308,6.1061539375066349,17.030073473535364,24.179248984659424,39.369191162685141,0.39243978785646683,229.12591877264936]
[null,{"$f":"+$B$99","v":"2025-11-01"},79.049884383497087,83.027617497111848,6.9671133911757837,18.773238863534122,27.58849041699435,44.920193915272527,0.44777326762276742,260.77431173520847,null,{"$f":"+$B$99","v":"2025-11-01"},85.508664719184011,89.811398996496735,7.5363622309226184,17.662047131854468,29.842611353239128,48.590403775766319,0.48435863644807553,279.43584684391135,null,{"$f":"+$B$99","v":"2025-11-01"},72.591104047810177,76.243835997726976,6.3978645514289489,16.987940444453326,25.334369480749572,41.249984054778743,0.41118789879745932,239.21628647574519]
[null,{"$f":"+$B$100","v":"2025-12-01"},75.848031250612635,79.664649426097711,6.6849159659338238,18.174698474517864,26.471040402207898,43.100736938970876,0.42963656507169856,250.37370902341249,null,{"$f":"+$B$100","v":"2025-12-01"},82.045203789985706,86.173659213720995,7.2311078310228352,17.112410557497039,28.633859950248212,46.62228784781896,0.46474007242807963,268.28326926272183,null,{"$f":"+$B$100","v":"2025-12-01"},69.650858711239579,73.155639638474426,6.138724100844815,16.834201661316254,24.30822085416759,39.579186030122806,0.39453305771531755,230.06136405388077]
[null,{"$f":"+$B$101","v":"2026-01-01"},74.834207118442919,78.602343248038522,6.5957744510765259,17.985629432040106,26.11805636271864,42.526000472306997,0.4263189869309284,247.08833007155465,null,{"$f":"+$B$101","v":"2026-01-01"},80.983328025906346,85.061091604617488,7.1377487184571482,16.932287034528994,28.264174997851761,46.020358583179764,0.46134958452430541,264.86033854906583,null,{"$f":"+$B$101","v":"2026-01-01"},68.685086210979463,72.143594891459585,6.0538001836959037,17.035339416220079,23.971937727585523,39.031642361434237,0.39128838933755139,227.31268918071231]
[null,{"$f":"+$B$102","v":"2026-02-01"},83.855017798201899,88.077379928840642,7.3908551354403098,19.67199457768373,29.266429958746151,47.652252409751263,0.47770916020026971,276.3916389688643,null,{"$f":"+$B$102","v":"2026-02-01"},90.745378009041431,95.314691303541608,7.9981611200609306,18.480083688917244,31.671250204403414,51.567834238750315,0.51696248428540359,296.29436104900032,null,{"$f":"+$B$102","v":"2026-02-01"},76.964657587362382,80.840068554139663,6.7835491508196872,18.0758196515701,26.861609713088885,43.736670580752204,0.43845583611513572,253.70083107384804]
[null,{"$f":"+$B$103","v":"2026-03-01"},75.923470339754729,79.746454275680009,6.6917804729517174,18.189258085390897,26.498222590217125,43.14499558226597,0.43252435224302149,250.62670569850349,null,{"$f":"+$B$103","v":"2026-03-01"},82.16209592035915,86.299214145328023,7.2416435475915755,17.119183537464988,28.675579454334517,46.690216472592546,0.46806484421556455,268.65599792188635,null,{"$f":"+$B$103","v":"2026-03-01"},69.684844759150309,73.19369440603198,6.1419173983118593,16.891872020273432,24.320865726099733,39.599774691939402,0.39698386027047844,230.22995286207717]
[null,{"$f":"+$B$104","v":"2026-04-01"},78.691389850160476,82.651364545064794,6.935540800516204,18.706273437894847,27.463468752217846,44.716630859067344,0.44601142755325962,259.61067967247476,null,{"$f":"+$B$104","v":"2026-04-01"},85.124735162036643,89.408454102494645,7.5025498338969481,17.599832332740334,29.708720466304552,48.372399654711394,0.48247469922702968,278.19916625141161,null,{"$f":"+$B$104","v":"2026-04-01"},72.258044538284324,75.894274987634944,6.3685317671354609,17.219956353120697,25.218217038131137,41.060862063423293,0.40954815587948951,238.42943490360935]
[null,{"$f":"+$B$105","v":"2026-05-01"},75.072505595051609,78.850367734804635,6.616586980391217,18.029772780909241,26.200470159267297,42.660188449478049,0.42550011448782099,247.85539181438989,null,{"$f":"+$B$105","v":"2026-05-01"},81.209992210046707,85.296710143705198,7.1575202249555065,16.978638391500713,28.342466535097351,46.147834606037115,0.46028650181628683,265.5934486131589,null,{"$f":"+$B$105","v":"2026-05-01"},68.935018980056498,72.404025325904072,6.0756537358269282,17.324483595906596,24.058473783437243,39.172542292918983,0.39071372715935498,228.36091144120968]
[null,{"$f":"+$B$106","v":"2026-06-01"},78.978451965015594,82.952872442525305,6.9608412941744175,18.759935753571561,27.563654063930862,44.87975481262874,0.44763845414265874,260.54314878598916,null,{"$f":"+$B$106","v":"2026-06-01"},85.435265787415403,89.734611512720306,7.529918747144321,17.649107533033263,29.817096339992073,48.548859663512076,0.48423474194311228,279.19909432576054,null,{"$f":"+$B$106","v":"2026-06-01"},72.521638142615757,76.171133372330274,6.3917638412045159,17.155927131407488,25.310211787869648,41.210649961745382,0.41104216634220508,239.1723664035153]
[null,{"$f":"+$B$107","v":"2026-07-01"},75.567506617009414,79.367820810006009,6.6600081257669235,18.121868976409335,26.3724099262603,42.940144603596387,0.42595239665871326,249.45571145570707,null,{"$f":"+$B$107","v":"2026-07-01"},81.711707290995534,85.821015310456588,7.2015163512861617,17.069515053108333,28.51668312115083,46.431497927606848,0.46058549651604497,267.21252055112035,null,{"$f":"+$B$107","v":"2026-07-01"},69.423305943023323,72.91462630955543,6.1184999002476852,16.957481341391539,24.228136731369766,39.448791279585933,0.3913192968013815,229.48216080197506]
[null,{"$f":"+$B$108","v":"2026-08-01"},76.663730283868617,80.519173917366388,6.7566218537537752,18.326786573669406,26.754982558434083,43.563057875187958,0.43213149557406072,253.01648455785428,null,{"$f":"+$B$108","v":"2026-08-01"},82.897062100250281,87.065981994007757,7.305985494373866,17.257771324680125,28.930361755489862,47.105058684003566,0.46726700215909783,271.02948835496454,null,{"$f":"+$B$108","v":"2026-08-01"},70.430398467486995,73.972365840725018,6.2072582131336826,17.242559139465936,24.579603361378304,40.021057066372357,0.39699598898902366,232.8502380775513]
[null,{"$f":"+$B$109","v":"2026-09-01"},79.238838760030305,83.223785426360166,6.9835744706091747,18.808152792600772,27.653673270595771,45.026326087764389,0.44664664469280041,261.38099745265339,null,{"$f":"+$B$109","v":"2026-09-01"},85.681546059911867,89.990498546853942,7.5513910479989441,17.699998887604462,29.902122710756881,48.687301492149238,0.48296234092535845,279.99582108620075,null,{"$f":"+$B$109","v":"2026-09-01"},72.796131460148743,76.45707230586639,6.4157578932194053,17.290361608849558,25.405223830434654,41.365350683379553,0.41033094846024226,240.14022873035856]
[null,{"$f":"+$B$110","v":"2026-10-01"},75.9443851067102,79.763143937066801,6.6931809559096482,18.192228508008082,26.503768245712408,43.154025141929075,0.42758967754165272,250.67832157287788,null,{"$f":"+$B$110","v":"2026-10-01"},82.112242268551412,86.241143303207451,7.2367706371796974,17.135459819640591,28.656283623385182,46.6587985713265,0.46231656421337891,268.50301478750418,null,{"$f":"+$B$110","v":"2026-10-01"},69.776527944868988,73.285144570926178,6.1495912746395973,17.108190712425543,24.35125286803963,39.649251712531665,0.39286279086992654,230.71282187430154]
[null,{"$f":"+$B$111","v":"2026-11-01"},78.775947662999627,82.737087717463112,6.9427341065552604,18.721530431084055,27.491952924009329,44.763009421324639,0.44353222442884632,259.87579448786488,null,{"$f":"+$B$111","v":"2026-11-01"},85.17377144274775,89.45661725623016,7.5065913584338118,17.621774250587514,29.724724161765653,48.398457227728535,0.47955389216777056,278.36148958966123,null,{"$f":"+$B$111","v":"2026-11-01"},72.37812388325149,76.017558178696063,6.3788768546767063,17.495928713796722,25.259181686253001,41.127561614920737,0.40751055668992203,239.06474148828468]
[null,{"$f":"+$B$112","v":"2026-12-01"},76.99557103987992,80.867187307412408,6.7858247722908818,18.388725927675289,26.870620756490347,43.751342562105812,0.43350816978527024,254.09278053563995,null,{"$f":"+$B$112","v":"2026-12-01"},83.248800736862719,87.434852049067004,7.3369385624935983,17.315998613591429,29.052930224704006,47.30462739261278,0.46871572944843359,272.16286330877995,null,{"$f":"+$B$112","v":"2026-12-01"},70.742341342897149,74.299522565757826,6.2347109820881634,17.100515885399375,24.688311288276687,40.198057731598844,0.39830061012210688,233.66176040614016]
[null,{"$f":"+$B$113","v":"2027-01-01"},75.662763943556115,79.467918411987739,6.668407636245659,18.139684327719426,26.405670446268992,42.994300122290269,0.42653697349215236,249.76528186156037,null,{"$f":"+$B$113","v":"2027-01-01"},81.815393063060242,85.92996927299933,7.2106590273539144,17.085754151125638,28.552886440505489,46.490444977670371,0.46122145588313013,267.54632838859811,null,{"$f":"+$B$113","v":"2027-01-01"},69.510134824051988,73.005867550976149,6.1261562451374054,17.417886725069625,24.258454452032499,39.49815526691016,0.39185249110117459,230.208507555279]
[null,{"$f":"+$B$114","v":"2027-02-01"},84.766625512999212,89.029622091940979,7.4707608261751943,19.841474448650182,29.582841829678927,48.16744125787465,0.47785856628802964,279.33662453360716,null,{"$f":"+$B$114","v":"2027-02-01"},91.659548548198458,96.269196974375276,8.0782567489816319,18.6491607012271,31.988414195694357,52.084247705974846,0.51671633960624341,299.24554121405794,null,{"$f":"+$B$114","v":"2027-02-01"},77.873702477799966,81.790047209506696,6.8632649033687585,17.946807596147323,27.177269463663496,44.250634809774446,0.43900079296981576,256.34072725323051]
[null,{"$f":"+$B$115","v":"2027-03-01"},76.662249779452239,80.517669369013063,6.7564956022811193,18.326518794452454,26.754482625772173,43.562243873704801,0.43217141824769195,253.01183146292354,null,{"$f":"+$B$115","v":"2027-03-01"},82.896153562185077,87.065082275630601,7.3059099961222893,17.257395897944203,28.930062796269134,47.104571911948803,0.46731407381485757,271.02649051391501,null,{"$f":"+$B$115","v":"2027-03-01"},70.428345996719386,73.970256462395525,6.2070812084399494,17.465541865497382,24.578902455275209,40.019915835460793,0.39702876268052634,233.06707258646873]
[null,{"$f":"+$B$116","v":"2027-04-01"},79.191293174145287,83.171123667920767,6.9791554537388096,18.798780063298267,27.636174774771803,44.997834647538511,0.44376941260564007,261.21813119401912,null,{"$f":"+$B$116","v":"2027-04-01"},85.59270723435435,89.894246616303704,7.5433142401309308,17.698384328472347,29.870140033863926,48.635226586047224,0.47964143392871061,279.71366047310119,null,{"$f":"+$B$116","v":"2027-04-01"},72.789879113936209,76.448000719537859,6.4149966673466885,17.416185262253176,25.402209515679679,41.360442709029797,0.40789739128256958,240.23961137906599]
[null,{"$f":"+$B$117","v":"2027-05-01"},76.863017758827652,80.725838653133536,6.7739637538522235,18.363568722274437,26.823653300219988,43.674869104824069,0.43072230386393084,253.65563359699584,null,{"$f":"+$B$117","v":"2027-05-01"},83.076226091080287,87.251297423455171,7.3215359057793199,17.298353218581575,28.991938530827408,47.205319359634295,0.46553966447877698,271.61021019383685,null,{"$f":"+$B$117","v":"2027-05-01"},70.649809426575047,74.200379882811902,6.2263916019251271,17.691049379201203,24.65536806961256,40.144418850013857,0.39590494324908476,233.96332215338882]
[null,{"$f":"+$B$118","v":"2027-06-01"},79.318849219800001,83.305090158711749,6.9903970111879454,18.822623392708465,27.680689279207797,45.070314154067631,0.44448420673496458,261.63244742241852,null,{"$f":"+$B$118","v":"2027-06-01"},85.730574250210339,90.039042264485246,7.5554645068715711,17.720300286602054,29.918252860326977,48.713564960560127,0.48041400831399772,280.15761313737033,null,{"$f":"+$B$118","v":"2027-06-01"},72.907124189389648,76.571138052938252,6.4253295155043206,17.447039574133782,25.443125698088618,41.427063347575128,0.40855440515593144,240.6293747827857]
[null,{"$f":"+$B$119","v":"2027-07-01"},76.456134987358226,80.296554247280099,6.7379411239995912,18.287164769024699,26.681010296914909,43.442614593168237,0.42657190636778558,252.32799192411355,null,{"$f":"+$B$119","v":"2027-07-01"},82.609623150949275,86.759134342644373,7.2802369248579586,17.233140399405983,28.82840214561174,46.939045778693256,0.46090407836665348,270.11048682052922,null,{"$f":"+$B$119","v":"2027-07-01"},70.302646823767148,73.833974151915797,6.1956453231412203,17.200949796655529,24.533618448218085,39.946183407643225,0.39223973436891768,232.4052576857099]
[null,{"$f":"+$B$120","v":"2027-08-01"},76.720563562680312,80.574265165395317,6.7612447368792887,18.336591703046295,26.773288327214686,43.592863735202911,0.42804723338362166,253.18686446380241,null,{"$f":"+$B$120","v":"2027-08-01"},82.895333970117846,87.059196519397048,7.3054161034597245,17.278589260856755,28.928107071965087,47.101387558123911,0.46249814545914758,271.03052862937955,null,{"$f":"+$B$120","v":"2027-08-01"},70.545793155242762,74.089333811393587,6.2170733702988503,17.517489577305149,24.618469582464282,40.084339912281919,0.39359632130809574,233.46609573029468]
[null,{"$f":"+$B$121","v":"2027-09-01"},80.695909131901814,84.749293777598353,7.1115847638424103,19.079662465817009,28.160570539214177,45.851667498522943,0.45022688892354584,266.09891506582028,null,{"$f":"+$B$121","v":"2027-09-01"},87.190630867122707,91.570247730075593,7.6839528632227223,17.961854788322594,30.427043171157681,49.541988664767175,0.48646290624746047,284.86218099091599,null,{"$f":"+$B$121","v":"2027-09-01"},74.201187396680922,77.928339825121142,6.5392166644620966,17.618008047471758,25.894097907270673,42.161346332278718,0.41399087159963116,244.75618704488491]
[null,{"$f":"+$B$122","v":"2027-10-01"},76.903247269931086,80.76608578424711,6.7773410195692305,18.370731898672439,26.837026652659933,43.696643894811494,0.42902879737149513,253.78010531726281,null,{"$f":"+$B$122","v":"2027-10-01"},83.092180187283049,87.265887868823611,7.3227602367956006,17.310082766810197,28.996786656961351,47.213213186471883,0.46355569370949351,271.66446659685522,null,{"$f":"+$B$122","v":"2027-10-01"},70.714314352579123,74.266283699670623,6.2319218023428622,17.412284803303343,24.677266648358522,40.180074603151098,0.39450190103349669,233.87664781043907]
[null,{"$f":"+$B$123","v":"2027-11-01"},79.644965595650973,83.645520208050897,7.0189635873105463,18.883213065242241,27.793807678084853,45.254496047898705,0.44432432984603748,262.68529051208424,null,{"$f":"+$B$123","v":"2027-11-01"},86.054543432411805,90.377050173067673,7.5838278334031299,17.781321051266399,30.030566428124086,48.896436410520089,0.48008216281910221,281.20382749161223,null,{"$f":"+$B$123","v":"2027-11-01"},73.235387758890127,76.913990243034135,6.4540993412179644,17.646274205272174,25.557048928045621,41.612555685277329,0.40856649687297275,241.82792265861031]
[null,{"$f":"+$B$124","v":"2027-12-01"},77.310806934872772,81.194117109703882,6.8132584994311136,18.44691282892218,26.979253281298874,43.928220455971982,0.43130249632588796,255.10387160652664,null,{"$f":"+$B$124","v":"2027-12-01"},83.532538979903805,87.728365817197101,7.361568243147806,17.380132893958191,29.15045924002947,47.463426305295833,0.46601237284746172,273.08250385237972,null,{"$f":"+$B$124","v":"2027-12-01"},71.089074889841726,74.659868402210691,6.2649487557144221,17.487404709305377,24.808047322568282,40.39301460664813,0.39659261980431426,235.09895130609294]
[null,{"$f":"+$B$125","v":"2028-01-01"},76.285956856448777,80.117804013833307,6.7229416192243727,18.255350837995692,26.621615010730121,43.345905866712144,0.42559945760287021,251.77517366254727,null,{"$f":"+$B$125","v":"2028-01-01"},82.42541885571984,86.565651474586431,7.2640011575115517,17.203948579757519,28.764111486525259,46.834366297161111,0.45985152449088368,269.51734937575259,null,{"$f":"+$B$125","v":"2028-01-01"},70.146494857177743,73.669956553080183,6.1818820809371928,17.731500056779822,24.479118534934983,39.857445436263163,0.3913473907148568,232.45774490988791]
[null,{"$f":"+$B$126","v":"2028-02-01"},82.458773022366785,86.600681022573795,7.266940599112151,19.409171999784469,28.775751135814179,46.853318233104737,0.46003760743221001,271.82467362018832,null,{"$f":"+$B$126","v":"2028-02-01"},89.095020692825713,93.570267721860759,7.8517809484724346,18.264910695548,31.09161158875779,50.624053748334546,0.49706124225900278,290.99470663805823,null,{"$f":"+$B$126","v":"2028-02-01"},75.822525351907885,79.631094323286817,6.6821002497518656,17.71687769855712,26.459890682870572,43.082582717874935,0.42301397260541723,249.81808499685462]
[null,{"$f":"+$B$127","v":"2028-03-01"},77.857188528748011,81.767958726036483,6.8614113879528631,18.549045045767713,27.169929882775669,44.238684340874016,0.43436536125086878,256.87858327340564,null,{"$f":"+$B$127","v":"2028-03-01"},84.12310259785788,88.348609949971788,7.4136149154903324,17.474006400148106,29.356554510845193,47.798995210666611,0.46932290440940255,274.98420648938935,null,{"$f":"+$B$127","v":"2028-03-01"},71.591274459638157,75.187307502101191,6.3092078604153921,17.752397507548974,24.983305254706138,40.678373471081422,0.39940781809233505,236.90127387358359]
[null,{"$f":"+$B$128","v":"2028-04-01"},80.239879680034036,84.266493060174327,7.0710714088283222,18.993733690068275,28.000145088412406,45.590459210210028,0.44398213246747265,264.60576427019481,null,{"$f":"+$B$128","v":"2028-04-01"},86.64481178311658,90.992838722300107,7.6355006234556582,17.892764377290792,30.235181193686699,49.229594724297883,0.47942180940586593,283.11011323355365,null,{"$f":"+$B$128","v":"2028-04-01"},73.834947576951521,77.540147398048546,6.506642194200988,17.582708866491146,25.765108983138116,41.951323696122166,0.40854245552907936,243.58942117048156]
[null,{"$f":"+$B$129","v":"2028-05-01"},77.140778029137095,81.01187168238252,6.7979657017398454,18.414476823981914,26.918696608991954,43.829620734792073,0.42683422839302193,254.54024380941843,null,{"$f":"+$B$129","v":"2028-05-01"},83.298332696788549,87.478425966092445,7.340594989474952,17.359745129111161,29.067409004518794,47.328202064046643,0.4609051201120829,272.33361497014465,null,{"$f":"+$B$129","v":"2028-05-01"},70.98322336148567,74.54531739867258,6.2553364140047405,17.850704203344606,24.769984213465115,40.331039405537481,0.39276333667396091,235.12836833318414]
[null,{"$f":"+$B$130","v":"2028-06-01"},81.018279835492322,85.083955044907142,7.1396672629826012,19.13922541167134,28.27177208207922,46.032728324746998,0.44828916485973797,267.13391712673933,null,{"$f":"+$B$130","v":"2028-06-01"},87.485345632750608,91.875552406436555,7.7095719567627361,18.026642614400309,30.528490079932837,49.707166778734511,0.48407263904892767,285.81684210806651,null,{"$f":"+$B$130","v":"2028-06-01"},74.55121403823405,78.292357683377745,6.5697625692024681,17.98132002112532,26.015054084225604,42.358289870759478,0.41250569067054826,246.18050395759522]
[null,{"$f":"+$B$131","v":"2028-07-01"},77.711761467739962,81.609153568771731,6.848085538420861,18.52078093543426,27.117161964203024,44.152766441816794,0.4277389440785514,256.38744886046516,null,{"$f":"+$B$131","v":"2028-07-01"},83.882545704340444,88.089414328445002,7.3918649804673713,17.463609764695196,29.27042875972549,47.658763346475418,0.46170400526939537,274.21833088941833,null,{"$f":"+$B$131","v":"2028-07-01"},71.540977231139479,75.12889280909846,6.3043060963743498,17.63454073750383,24.963895168680565,40.646769537158171,0.39377388288770743,236.61315546284254]
[null,{"$f":"+$B$132","v":"2028-08-01"},77.938087481700478,81.846830261219083,6.8680297511616155,18.563082585926779,27.196137386473275,44.28135598148711,0.42898468151134861,257.12250812947968,null,{"$f":"+$B$132","v":"2028-08-01"},84.126843373722252,88.345963988889238,7.4133928844186663,17.502552408093919,29.355675308548779,47.797563673926142,0.46304866179459331,275.00504029939356,null,{"$f":"+$B$132","v":"2028-08-01"},71.74933158967869,75.347696533548941,6.3226666179045639,17.595791266193459,25.036599464397771,40.765148289048064,0.39492070122810397,237.21215446199957]
[null,{"$f":"+$B$133","v":"2028-09-01"},81.402290662406187,85.484769796086042,7.1733009128993466,19.21056234143937,28.404955163266312,46.249579980735831,0.44805225355710321,268.37351111039015,null,{"$f":"+$B$133","v":"2028-09-01"},87.86612525520809,92.272777942653263,7.7429044241527434,18.098618351934086,30.660480533587393,49.922076572040012,0.48363031447354821,287.04661339404913,null,{"$f":"+$B$133","v":"2028-09-01"},74.9384560696043,78.696761649518791,6.6036974016459489,17.95326003716168,26.149429792945234,42.577083389431664,0.41247419264065821,247.33116253294824]
[null,{"$f":"+$B$134","v":"2028-10-01"},78.167418510985044,82.087617617675249,6.8882349896854089,18.605937871781457,27.276146422940631,44.411628474790106,0.43020381622413745,257.86718770408203,null,{"$f":"+$B$134","v":"2028-10-01"},84.373765680478101,88.605221281154158,7.4351479944308476,17.542120418443556,29.441821551676078,47.937828903660019,0.46436119647269408,275.8002670263154,null,{"$f":"+$B$134","v":"2028-10-01"},71.961071341492001,75.570013954196327,6.341321984939972,17.938137389610965,25.110471294205176,40.885428045920186,0.39604643597558076,238.20249044634025]
[null,{"$f":"+$B$135","v":"2028-11-01"},80.867595260172578,84.92321179117728,7.1261787815668667,19.110616359314147,28.218360171093369,45.945761862914345,0.44506456465498034,266.63678879089355,null,{"$f":"+$B$135","v":"2028-11-01"},87.288331425025575,91.665956340818013,7.6919840793849534,18.006728375795408,30.458845313262785,49.593769620110862,0.48040186059881296,285.18601701499642,null,{"$f":"+$B$135","v":"2028-11-01"},74.446859095319596,78.180467241536533,6.5603734837487808,18.097660304790274,25.977875028923954,42.297754105717836,0.40972726871114784,245.97071652874814]
[null,{"$f":"+$B$136","v":"2028-12-01"},78.023386959296388,81.936362693755285,6.8755427044230899,18.579017550478383,27.225887302603539,44.329795456838447,0.4294111212065268,257.39940378860166,null,{"$f":"+$B$136","v":"2028-12-01"},84.21829829234801,88.441956998516403,7.4214479654024847,17.517337520418668,29.387571950967665,47.849498496783291,0.46350556294985285,275.29961678738641,null,{"$f":"+$B$136","v":"2028-12-01"},71.828475626244781,75.430768388994167,6.3296374434436968,17.361502442258292,25.06420265423942,40.81009241689361,0.39531667946320082,237.21999565153715]
[null,{"$f":"+$B$137","v":"2029-01-01"},77.294584594678994,81.171218171194653,6.8113369761363254,18.442837280396603,26.971644401691513,43.915831508904759,0.42559945760287021,255.03305239060569,null,{"$f":"+$B$137","v":"2029-01-01"},83.434491106339934,87.619065631947763,7.3523965144235053,17.391435022158429,29.114140877486651,47.404291939353733,0.45940701210100404,272.775228103811,null,{"$f":"+$B$137","v":"2029-01-01"},71.154678083018069,74.723370710441529,6.2702774378491473,17.995803782377802,24.829147925896372,40.427371078455785,0.39179190310473644,235.79244092114345]
[null,{"$f":"+$B$138","v":"2029-02-01"},86.532909115980857,90.87288173775859,7.6254346485600957,20.16953743413459,30.195321780418691,49.164694740779943,0.4764675219833604,285.0372469796161,null,{"$f":"+$B$138","v":"2029-02-01"},93.406663272759786,98.091382247734387,8.2311621532546759,18.980974499333936,32.593891535253142,53.070099381553668,0.51431578853607274,304.88848887842568,null,{"$f":"+$B$138","v":"2029-02-01"},79.659154959201956,83.654381227782778,7.0197071438655163,18.491300137571635,27.796752025584244,45.259290100006218,0.438619255430648,262.319204849443]
[null,{"$f":"+$B$139","v":"2029-03-01"},78.886590573458378,82.843069638033924,6.9516273890592064,18.74039307224735,27.527168690620289,44.820348516038756,0.43436536125086878,260.20356324070877,null,{"$f":"+$B$139","v":"2029-03-01"},85.152958310403946,89.42372086196923,7.5038309165966774,17.665354426627744,29.713793318689817,48.380659385831351,0.46886923657369134,278.30918645669249,null,{"$f":"+$B$139","v":"2029-03-01"},72.620222836512795,76.262418414098633,6.3994238615217371,18.072235114267215,25.340544062550762,41.260037646246161,0.39986148592804621,240.35474342112533]
[null,{"$f":"+$B$140","v":"2029-04-01"},81.336429326372311,85.411733150169397,7.1671721739429382,19.197563293712403,28.380686481751628,46.21006517353797,0.44398213246747265,268.14763173195411,null,{"$f":"+$B$140","v":"2029-04-01"},87.741836621062689,92.138078812295177,7.7316013885702723,18.096593980934916,30.615722587025921,49.849200687625832,0.47894661779799907,286.65198069531283,null,{"$f":"+$B$140","v":"2029-04-01"},74.93102203168192,78.685387488043631,6.6027429593156022,17.910454416327113,26.145650376477338,42.570929659450123,0.40901764713694622,247.25520457843268]
[null,{"$f":"+$B$141","v":"2029-05-01"},78.194975682516144,82.112879210368149,6.8903547708623085,18.610433925029149,27.28454036737665,44.425295681878318,0.42683422839302193,257.94531386642376,null,{"$f":"+$B$141","v":"2029-05-01"},84.352987188469044,88.579433494078074,7.4329840585974134,17.555702230158396,29.433252762903489,47.923877011132888,0.46044828181060576,275.73868502714993,null,{"$f":"+$B$141","v":"2029-05-01"},72.036964176563231,75.64632492665821,6.3477254831272019,18.026511096344649,25.13582797184981,40.926714352623733,0.39322017497543815,238.51328818214225]
[null,{"$f":"+$B$142","v":"2029-06-01"},82.12546701541838,86.240305010286434,7.236700293334942,19.345032348728679,28.656005074669519,46.658345032110212,0.44828916485973797,270.71014393940789,null,{"$f":"+$B$142","v":"2029-06-01"},88.593012614077352,93.031902371815846,7.8066049871150751,18.232449551457648,30.912723072523139,50.332783486097718,0.48359283764823829,289.393068920735,null,{"$f":"+$B$142","v":"2029-06-01"},75.657921416759407,79.448707648757036,6.6667955995548063,18.337419491115291,26.399287076815902,42.983906578122706,0.41298549207123764,249.90702330319641]
[null,{"$f":"+$B$143","v":"2029-07-01"},78.745800277917112,82.689107134011735,6.938707902075862,18.712990856375708,27.476009893164242,44.737050623785024,0.4277389440785514,259.72740563140826,null,{"$f":"+$B$143","v":"2029-07-01"},84.917028112111012,89.169367893685006,7.482487344122374,17.655819685636644,29.629276688686701,48.243047528443647,0.46126040767597604,277.55828766036137,null,{"$f":"+$B$143","v":"2029-07-01"},72.574572443723198,76.208846374338449,6.3949284600293517,17.724832511789511,25.322743097641787,41.231053719126393,0.39421748048112681,239.85119408712984]
[null,{"$f":"+$B$144","v":"2029-08-01"},78.975137803620072,82.929929059317885,6.9589160413826132,18.755852294787438,27.55603041619975,44.867341819773848,0.42898468151134861,260.47219211659296,null,{"$f":"+$B$144","v":"2029-08-01"},85.164338585159086,89.429062786988041,7.5042791746396649,17.695322116954582,29.715568338275254,48.383549512212895,0.46260377227736188,278.35472428650689,null,{"$f":"+$B$144","v":"2029-08-01"},72.785937022081072,76.430795331647744,6.4135529081255616,18.151887187389317,25.396492494124249,41.351134127334809,0.3953655907453355,240.92516466144809]
[null,{"$f":"+$B$145","v":"2029-09-01"},82.48543594431041,86.616010323378205,7.2682269298552349,19.411900305695518,28.780844769488009,46.861611800781098,0.44805225355710321,271.87208232706558,null,{"$f":"+$B$145","v":"2029-09-01"},88.949735201141976,93.404018469945427,7.8378304411086335,18.299956316190229,31.036370139809087,50.534108392085265,0.48316565044387422,290.5451846107245,null,{"$f":"+$B$145","v":"2029-09-01"},76.021136687478844,79.828002176810955,6.6986234186018381,18.149974998376297,26.525319399166939,43.189115209476924,0.41293885667033231,250.82511074658214]
[null,{"$f":"+$B$146","v":"2029-10-01"},79.252627237028406,83.221013212874752,6.983341845293892,18.807659394595511,27.652752117038894,45.024826245048274,0.43020381622413745,261.37242386810385,null,{"$f":"+$B$146","v":"2029-10-01"},85.459439599419539,89.73861687635366,7.5302548500393289,17.74384194125761,29.818427245774348,48.551026673918194,0.46389600357461858,279.30550319033733,null,{"$f":"+$B$146","v":"2029-10-01"},73.045814874637315,76.703409549395829,6.4364288405484542,18.221233592616258,25.487076988303446,41.498625816178361,0.39651162887365615,241.7891012905533]
[null,{"$f":"+$B$147","v":"2029-11-01"},81.990290901172301,86.095758844773215,7.2245709614843037,19.319306050913724,28.607975146528883,46.580141634490275,0.44506456465498034,270.26310810401759,null,{"$f":"+$B$147","v":"2029-11-01"},88.411508328317396,92.838503394413948,7.7903762593023895,18.215418067394989,30.848460288698298,50.228149391686784,0.4799205983067214,288.81233632812052,null,{"$f":"+$B$147","v":"2029-11-01"},75.569073474027206,79.353014295132468,6.6587656636662178,18.426842059646514,26.367490004359468,42.932133877293758,0.41020853100323934,249.71752790512886]
[null,{"$f":"+$B$148","v":"2029-12-01"},79.106596076043516,83.06766989036926,6.9704743158153715,18.780367380527174,27.601799061766652,44.941863346795792,0.4294111212065268,260.89818119252425,null,{"$f":"+$B$148","v":"2029-12-01"},85.301971744827199,89.573264195130363,7.5163795767947645,17.718687350467462,29.763483710130778,48.461566386740635,0.46304122721779639,278.798394191309,null,{"$f":"+$B$148","v":"2029-12-01"},72.911220407259862,76.562075585608127,6.4245690548359775,17.596785904195428,25.440114413402526,41.422160306850948,0.39578101519525716,240.75270668734814]
[null,{"$f":"+$B$149","v":"2030-01-01"},78.042820142872827,81.952677861061417,6.8769117623828935,18.581921320713505,27.231308520873384,44.338622405042486,0.42559945760287021,257.44986147054937,null,{"$f":"+$B$149","v":"2030-01-01"},84.18304902644087,88.400525321814555,7.4179713006700716,17.530519062475332,29.373804996668522,47.82708283549146,0.45908464019391326,275.19203718375468,null,{"$f":"+$B$149","v":"2030-01-01"},71.902591259304799,75.504830400308293,6.3358522240957145,17.786562900786059,25.088812045078246,40.850161974593512,0.39211427501182716,237.86092507917843]
[null,{"$f":"+$B$150","v":"2030-02-01"},87.37057451037721,91.747742255809655,7.6988469975406826,20.325244935291849,30.486021209669428,49.638018019278654,0.4764675219833604,287.74291544995077,null,{"$f":"+$B$150","v":"2030-02-01"},94.244689569269568,98.966242765785481,8.3045745022352619,19.136682000491199,32.884590964503886,53.543422660052379,0.51395488642263076,307.5941573487604,null,{"$f":"+$B$150","v":"2030-02-01"},80.496459451484839,84.529241745833858,7.0931194928461041,19.711429430268403,28.08745145483498,45.732613378504929,0.43898015754408981,266.08929511131726]
[null,{"$f":"+$B$151","v":"2030-03-01"},79.650237233213346,83.640624743963386,7.0185527932346909,18.882341771516732,27.792181008933831,45.251847468995123,0.43436536125086878,262.67015038110799,null,{"$f":"+$B$151","v":"2030-03-01"},85.916933981832642,90.221275967898677,7.5707563207721593,17.807303125897121,29.978805637003358,48.812158338787718,0.46854022489997038,280.77577359709164,null,{"$f":"+$B$151","v":"2030-03-01"},73.383540484594036,77.05997352002808,6.4663492656972217,18.016997563472401,25.605556380864304,41.691536599202536,0.40019049760176706,242.62414431146036]
[null,{"$f":"+$B$152","v":"2030-04-01"},81.815351078521701,85.911920617616701,7.2091445068557984,19.286586559775316,28.546889217279368,46.480680165380946,0.44398213246747265,269.69455427789728,null,{"$f":"+$B$152","v":"2030-04-01"},88.220961939809655,92.638266279742481,7.7735737214831335,18.185617246997833,30.781925322553658,50.119815679468807,0.47874305120046123,288.19890324125601,null,{"$f":"+$B$152","v":"2030-04-01"},75.409740217233775,79.185574955490921,6.6447152922284642,18.062712074320437,26.311853112005078,42.841544651293091,0.40922121373448411,248.86536151630628]
[null,{"$f":"+$B$153","v":"2030-05-01"},78.655400059063098,82.593747957344959,6.9307060080464504,18.696018849061591,27.44432386132387,44.685458721757712,0.42683422839302193,259.43248968499074,null,{"$f":"+$B$153","v":"2030-05-01"},84.813607269269042,89.060302241054899,7.4733352957815553,17.641287154190838,29.593036256850713,48.184040051012296,0.46025257755759047,277.22586084571697,null,{"$f":"+$B$153","v":"2030-05-01"},72.497192848857168,76.127193673635034,6.3880767203113447,19.023510124433486,25.295611465797037,41.186877392503142,0.39341587922845345,240.91187810476566]
[null,{"$f":"+$B$154","v":"2030-06-01"},82.609034746198503,86.745344753235287,7.2790797962310405,19.434919221821154,28.823820128606613,46.931585236659885,0.44828916485973797,272.2720730476122,null,{"$f":"+$B$154","v":"2030-06-01"},89.076785886237047,93.536942114764699,7.8489844900111736,18.322336424550123,31.08053812646023,50.60602369064739,0.48338729626868676,290.95499802893931,null,{"$f":"+$B$154","v":"2030-06-01"},76.141283606159988,79.953747391705889,6.7091751024509056,18.020307366563646,26.567102130753003,43.257146782672372,0.41319103345078922,251.06195341375661]
[null,{"$f":"+$B$155","v":"2030-07-01"},79.086613028528191,83.045053101879859,6.9685764686327119,18.776342049006065,27.594283935218257,44.929627050545093,0.4277389440785514,260.82823457788874,null,{"$f":"+$B$155","v":"2030-07-01"},85.257984541717533,89.52531386155313,7.5123559106792221,17.719170878267004,29.747550730740713,48.435623955203717,0.46111672868055287,278.65911660684185,null,{"$f":"+$B$155","v":"2030-07-01"},72.915241515338877,76.564792342206587,6.4247970265861998,18.066782364728112,25.441017139695791,41.423630145886463,0.39436115947654993,241.23062169391858]
[null,{"$f":"+$B$156","v":"2030-08-01"},79.316943129742214,83.286911676344019,6.9888715964915669,18.819387990028943,27.674648916955864,45.060479101856565,0.42898468151134861,261.57622709293054,null,{"$f":"+$B$156","v":"2030-08-01"},85.506288008724184,89.786045404014175,7.5342347297486176,17.758857812196087,29.834186839031364,48.576686794295611,0.46245967483441275,279.45875926284441,null,{"$f":"+$B$156","v":"2030-08-01"},73.127598250760258,76.787777948673877,6.4435084632345143,18.327779474305117,25.515110994880359,41.544271409417526,0.39550968818828453,242.14155622945995]
[null,{"$f":"+$B$157","v":"2030-09-01"},82.842433882109248,86.988860154462529,7.299513953731787,19.47826004454209,28.904735642211246,47.063333676206071,0.44805225355710321,273.02518960682005,null,{"$f":"+$B$157","v":"2030-09-01"},89.306883641247381,93.776868301029765,7.8691174649851838,18.366316055036805,31.16026101253232,50.735830267510238,0.48301514813731689,291.69829189047903,null,{"$f":"+$B$157","v":"2030-09-01"},76.377984122971114,80.200852007895278,6.7299104424783884,18.479769744448852,26.649210271890173,43.390837084901904,0.41308935897688948,252.24165303356261]
[null,{"$f":"+$B$158","v":"2030-10-01"},79.601810361051065,83.585701226514487,7.0139439849195311,18.872566494795151,27.773930973819205,45.222132355775138,0.43020381622413745,262.50028921309871,null,{"$f":"+$B$158","v":"2030-10-01"},85.808769723906366,90.10330488999341,7.560856989664968,17.808749041457251,29.939606102554649,48.748332784645058,0.46374900311042766,280.43336853533214,null,{"$f":"+$B$158","v":"2030-10-01"},73.39485099819575,77.068097563035579,6.4670309801740924,18.508659165572194,25.608255845083754,41.695931926905217,0.39665862933784718,243.13948510830443]
[null,{"$f":"+$B$159","v":"2030-11-01"},82.351536034797604,86.47304446127481,7.2562302063267534,19.386455269967421,28.733339945966687,46.784263390185409,0.44506456465498034,271.4299338731737,null,{"$f":"+$B$159","v":"2030-11-01"},88.772905540318405,93.215789010915557,7.8220355041448393,18.282567286448682,30.973825088136099,50.432271147381925,0.479768519931003,289.97916209727646,null,{"$f":"+$B$159","v":"2030-11-01"},75.930166529276804,79.730299911634063,6.6904249085086658,18.348923480462744,26.492854803797272,43.136255632988892,0.41036060937895774,250.73928587604738]
[null,{"$f":"+$B$160","v":"2030-12-01"},79.455135794052083,83.431685928632447,7.0010200678342658,18.845154882682827,27.722754633972567,45.138805900610748,0.4294111212065268,262.02396832899149,null,{"$f":"+$B$160","v":"2030-12-01"},85.650658192436367,89.937280233393594,7.5469253288136589,17.783474852623115,29.884439282336682,48.658508940555585,0.46289449761716167,279.92418132777624,null,{"$f":"+$B$160","v":"2030-12-01"},73.25961339566777,76.926091623871329,6.4551148068548709,18.221838009890821,25.561069985608441,41.619102860665905,0.39592774479589193,242.43875842735505]
[null,{"$f":"+$B$161","v":"2031-01-01"},78.869975791371431,82.816561965615918,6.949403045340337,18.735675241977791,27.518360697707497,44.806007146008461,0.42559945760287021,260.12158334562429,null,{"$f":"+$B$161","v":"2031-01-01"},85.010553968804018,89.264409426369042,7.490462583627516,17.684272983739618,29.660857173502635,48.294467576457443,0.4587353463293537,277.86375905882966,null,{"$f":"+$B$161","v":"2031-01-01"},72.729397613938858,76.368714504862808,6.408343507053158,18.843663645983689,25.375864221912355,41.317546715559487,0.39246356887638678,241.4359937781868]
[null,{"$f":"+$B$162","v":"2031-02-01"},88.296592612830764,92.714878635391187,7.7800025096991527,20.49737567594795,30.807382144071045,50.161265042654072,0.4764675219833604,290.73396414257752,null,{"$f":"+$B$162","v":"2031-02-01"},95.171098713532771,99.933379145366985,8.385730014393733,19.308812741147303,33.205951898905496,54.066669683427797,0.51356384461297233,310.5852060413871,null,{"$f":"+$B$162","v":"2031-02-01"},81.422086512128743,85.496378125415376,7.1742750050045734,18.961203759282455,28.408812389236591,46.255860401880348,0.43937119935374841,268.15798739230183]
[null,{"$f":"+$B$163","v":"2031-03-01"},80.49442947935583,84.522301927640243,7.0925371504674253,19.039262501467512,28.085145485887516,45.728858748558984,0.43436536125086878,265.39690065462838,null,{"$f":"+$B$163","v":"2031-03-01"},86.761482716107238,91.102953151575534,7.6447406780048963,17.964223855847905,30.271770113957039,49.289169618351579,0.46818373676787395,283.50252387061204,null,{"$f":"+$B$163","v":"2031-03-01"},74.227376242604436,77.941650703704937,6.540333622929956,18.474926760302186,25.898520857817985,42.168547878766404,0.4005469857338636,245.65190305185973]
[null,{"$f":"+$B$164","v":"2031-04-01"},82.960518664052685,87.107937444663648,7.3095061106568506,19.499453396989978,28.94430274986323,47.127757721216469,0.44398213246747265,273.39345821991031,null,{"$f":"+$B$164","v":"2031-04-01"},89.366606802669736,93.834283106789428,7.8739353252841848,18.398484084212495,31.179338855137519,50.76689323530433,0.47826577387134672,291.89780718326904,null,{"$f":"+$B$164","v":"2031-04-01"},76.554430525435635,80.381591782537882,6.7450768960295138,18.488588091114764,26.709266644588933,43.488622207128614,0.40969849106359868,252.77727463789896]
[null,{"$f":"+$B$165","v":"2031-05-01"},79.756337882921642,83.743571074506221,7.0271913496538545,18.900664138970054,27.826388106996653,45.307544227137228,0.42683422839302193,262.98853100857872,null,{"$f":"+$B$165","v":"2031-05-01"},85.915003936593564,90.21012535821616,7.5698206373889594,17.845932444099301,29.975100502523489,48.806125556391805,0.45979373409159358,280.78190216930489,null,{"$f":"+$B$165","v":"2031-05-01"},73.597671829249705,77.277016790796281,6.4845620619187478,18.70555431871686,25.677675711469814,41.808962897882637,0.3938747226944504,243.94531833272848]
[null,{"$f":"+$B$166","v":"2031-06-01"},83.765311503754148,87.952964036415239,7.3804149992985941,19.649851061872816,29.22508893560985,47.584940036081321,0.44828916485973797,276.00685973789166,null,{"$f":"+$B$166","v":"2031-06-01"},90.233544551148,94.744561397944636,7.9503196930787281,18.537268264601785,31.481806933463467,51.259378490068826,0.48290538891334756,294.68978471921884,null,{"$f":"+$B$166","v":"2031-06-01"},77.297078456360268,81.161366674885826,6.8105103055184593,18.788267630434373,26.968370937756234,43.910501582093808,0.41367294080612838,255.3497685278551]
[null,{"$f":"+$B$167","v":"2031-07-01"},80.307988937575388,84.3206621549364,7.0756169111187832,19.003374694789965,28.01814444328722,45.61976616028614,0.4277389440785514,264.77329224607246,null,{"$f":"+$B$167","v":"2031-07-01"},86.479865392295309,90.800922914609671,7.6193963531652953,17.946203524050901,30.171411238809679,49.125763064944771,0.46061178714995804,282.60417427502557,null,{"$f":"+$B$167","v":"2031-07-01"},74.136112482855467,77.840401395263115,6.5318374690722729,18.472986782609219,25.864877647764754,42.113769255627503,0.39486610100714481,245.35485113419946]
[null,{"$f":"+$B$168","v":"2031-08-01"},80.541876146951935,84.566235784971269,7.09622378119301,19.047081840665093,28.099743866986437,45.752628157464699,0.42898468151134861,265.53277425974375,null,{"$f":"+$B$168","v":"2031-08-01"},86.731727438045041,91.065369512641425,7.6415869144500626,17.986551662832234,30.259281789061941,49.268835849903745,0.46195326272328102,283.41530642965773,null,{"$f":"+$B$168","v":"2031-08-01"},74.352024855858843,78.067102057301113,6.5508606479359601,18.495896758905388,25.940205944910932,42.23642046502566,0.39601610029941631,246.03852683023732]
[null,{"$f":"+$B$169","v":"2031-09-01"},84.121812896025858,88.325047842752284,7.4116377435843814,19.716074463787088,29.348725272950322,47.786247471332899,0.44805225355710321,277.15759794398991,null,{"$f":"+$B$169","v":"2031-09-01"},90.586791576352553,95.113055989319534,7.98124125483778,18.604130474281799,31.604250643271403,51.458744062637074,0.48248622694875193,295.83070022764889,null,{"$f":"+$B$169","v":"2031-09-01"},77.656834215699163,81.537039696185047,6.8420342323309846,18.751336555932713,27.093199902629244,44.113750880028725,0.4136182801654546,256.40781376297133]
[null,{"$f":"+$B$170","v":"2031-10-01"},80.681678184903745,84.713518765740019,7.1085827679800513,19.073295236315388,28.148683186528711,45.832312246397898,0.43020381622413745,265.98827420408992,null,{"$f":"+$B$170","v":"2031-10-01"},86.889084145311344,91.231122429218914,7.6554957727254891,18.009477782977484,30.314358315264158,49.358512675267818,0.46330240555813407,283.92135352632334,null,{"$f":"+$B$170","v":"2031-10-01"},74.474272224496147,78.195915102261097,6.5616697632346135,18.954081659847414,25.983008057793267,42.306111817527977,0.39710522689014072,246.87216385205065]
[null,{"$f":"+$B$171","v":"2031-11-01"},83.46870628011574,87.639820773282551,7.3541381448290073,19.594117886125851,29.121037414266574,47.415521033980355,0.44506456465498034,275.03840609725501,null,{"$f":"+$B$171","v":"2031-11-01"},89.890537810234406,94.382565322923284,7.9199434426470932,18.490229902607116,31.36152255643599,51.063528791176864,0.47930649533314601,293.58763432135794,null,{"$f":"+$B$171","v":"2031-11-01"},77.046874749997087,80.897076223641818,6.7883328470109197,18.932538733509919,26.880552272097159,43.767513276783838,0.41082263397681479,254.72371073701751]
[null,{"$f":"+$B$172","v":"2031-12-01"},80.53301384977307,84.557425347417379,7.0954844691506551,19.045513760739993,28.096816326978036,45.747861471687969,0.4294111212065268,265.50552634695362,null,{"$f":"+$B$172","v":"2031-12-01"},86.7289820228075,91.063019652178497,7.6413897301300482,17.983833730680281,30.258500975342159,49.26756451163282,0.46244872296703959,283.40573934573837,null,{"$f":"+$B$172","v":"2031-12-01"},74.337045676738668,78.051831042656261,6.5495792081712603,18.04877341936648,25.935131678613917,42.228158431743132,0.39637351944601396,245.54689297673573]
[null,{"$f":"+$B$173","v":"2032-01-01"},79.700392601039653,83.68385203771949,7.02218013394699,18.89003535666965,27.80654461246111,45.275234607835102,0.42559945760287021,262.80383880727481,null,{"$f":"+$B$173","v":"2032-01-01"},85.841314195112645,90.131699498472614,7.563239672234169,17.838633098431472,29.949041088256244,48.763695038284084,0.45839192968895032,280.54601452048018,null,{"$f":"+$B$173","v":"2032-01-01"},73.559471006966675,77.236004576966366,6.4811205956598101,18.760087886411082,25.664048136665972,41.786774177386121,0.39280698551679011,243.88031336557279]
[null,{"$f":"+$B$174","v":"2032-02-01"},86.149494010405022,90.455282271684737,7.5903925394410159,20.095213164144877,30.056561459272281,48.938762098600918,0.46003760743221001,283.74574315098101,null,{"$f":"+$B$174","v":"2032-02-01"},92.787319381419024,97.424868970971715,8.1752328888013004,18.950951859908407,32.372421912215891,52.70949761383072,0.49548354170392239,302.91577616885098,null,{"$f":"+$B$174","v":"2032-02-01"},79.511668639391004,83.485695572397745,7.0055521900807314,18.811296625683095,27.740701006328674,45.168026583371109,0.42459167316049751,262.14753229041281]
[null,{"$f":"+$B$175","v":"2032-03-01"},81.341950055514317,85.407455230232273,7.1668131999752527,19.196801910372066,28.379265010718878,46.207750702776046,0.43436536125086878,268.13440147083969,null,{"$f":"+$B$175","v":"2032-03-01"},87.60935378212281,91.988106454167578,7.7190167275127228,18.12176326475246,30.565889638788409,49.768061572568641,0.46783324691079436,286.2400246868234,null,{"$f":"+$B$175","v":"2032-03-01"},75.074546328905853,78.826804006296982,6.6146096724377825,19.050200931084913,26.192640382649351,42.647439832983451,0.40089747559094313,248.80713862994926]
[null,{"$f":"+$B$176","v":"2032-04-01"},83.608338614627414,87.784522751105825,7.3662805513897771,19.619871915384785,29.169119115859854,47.493808730287789,0.44398213246747265,275.48592381112286,null,{"$f":"+$B$176","v":"2032-04-01"},90.014690988980973,94.510868413231577,7.9307097660171122,18.518902602607298,31.404155221134143,51.132944244375643,0.47800153813481522,293.99027277448158,null,{"$f":"+$B$176","v":"2032-04-01"},77.20198624027384,81.058177088980045,6.8018513367624402,18.902557116042811,26.93408301058556,43.854673216199934,0.40996272680012996,255.16329073564475]
[null,{"$f":"+$B$177","v":"2032-05-01"},80.379137109558144,84.394024653825554,7.0817729934420965,19.016431737764233,28.042521399516762,45.659457262783739,0.42683422839302193,265.00017938528356,null,{"$f":"+$B$177","v":"2032-05-01"},86.538057193400348,90.860578937535479,7.6244022811772023,17.961700042893483,30.191233795043598,49.158038592038324,0.45953970392130394,282.79355054600967,null,{"$f":"+$B$177","v":"2032-05-01"},74.220217025715939,77.927470370115628,6.5391437057069917,19.158034905708277,25.893809003989919,42.160875933529169,0.39412875286473986,246.29367969763064]
[null,{"$f":"+$B$178","v":"2032-06-01"},84.419415899822141,88.636112838588133,7.437740203986662,19.771437749933536,29.452086225792048,47.954542074435125,0.44828916485973797,278.11962415741732,null,{"$f":"+$B$178","v":"2032-06-01"},90.88791574628064,95.427710200117545,8.0076448977667951,18.658854952662502,31.708804223645661,51.62898052842263,0.48263858984871527,296.8025491387445,null,{"$f":"+$B$178","v":"2032-06-01"},77.950916053363656,81.844515477058721,6.8678355102065272,18.771959731747696,27.195368227938431,44.280103620447612,0.41393973987076055,257.32463836063346]
[null,{"$f":"+$B$179","v":"2032-07-01"},80.962215403166027,85.003938446923854,7.1329528138856482,19.124984073462553,28.245184095898129,45.989437174088906,0.4277389440785514,266.88645095150366,null,{"$f":"+$B$179","v":"2032-07-01"},87.134356095458131,91.48419920659714,7.6767322559321602,18.067812902723485,30.398450891420591,49.495434078747536,0.46034754957777851,284.71733298045677,null,{"$f":"+$B$179","v":"2032-07-01"},74.790074710873924,78.523677687250597,6.5891733718391379,18.623794162185156,26.09191730037567,42.483440269430282,0.39513033857932434,247.49720784053406]
[null,{"$f":"+$B$180","v":"2032-08-01"},81.198007967219752,85.251502035707304,7.1537266677739728,19.169045391800317,28.327444744856127,46.123375792945453,0.42898468151134861,267.65208728181432,null,{"$f":"+$B$180","v":"2032-08-01"},87.388124265444688,91.75063576337746,7.6990898010310245,18.108515213967458,30.486982666931631,49.639583485384499,0.46168825559144511,285.53461945172825,null,{"$f":"+$B$180","v":"2032-08-01"},75.00789166899483,78.752368308037163,6.6083635345169212,19.009639860895557,26.167906822780623,42.607168100506414,0.39628110743125217,248.54961940316275]
[null,{"$f":"+$B$181","v":"2032-09-01"},84.807108556621003,89.040772905118601,7.4716965266343225,19.843459068163732,29.58654703177633,48.17347415036695,0.44805225355710321,279.37111049223802,null,{"$f":"+$B$181","v":"2032-09-01"},91.272364023154168,95.828781051685851,8.0413000378877211,18.731515078658447,31.842072402097411,51.845970741671131,0.48220944074228533,298.04421277589699,null,{"$f":"+$B$181","v":"2032-09-01"},78.341853090087852,82.252764758551379,6.9020930153809257,18.929724510987732,27.331021661455257,44.500977559062775,0.41389506637192108,258.67232966189789]
[null,{"$f":"+$B$182","v":"2032-10-01"},81.426247898533759,85.491149845821738,7.1738362833133102,19.211697861423534,28.407075131853862,46.253031760757423,0.43020381622413745,268.39324259792778,null,{"$f":"+$B$182","v":"2032-10-01"},87.63395492509639,92.008753509300632,7.7207492880587489,18.147880408085634,30.572750260589313,49.779232189627336,0.46300133940310645,286.32632192016115,null,{"$f":"+$B$182","v":"2032-10-01"},75.218540871971129,78.973546182342815,6.6269232785678733,18.810197299994986,26.241400003118414,42.726831331887503,0.39740629304516845,248.99484526092795]
[null,{"$f":"+$B$183","v":"2032-11-01"},84.238996042676504,88.444313957830303,7.4216457454098279,19.737301423249036,29.388355123499949,47.850773675725215,0.44506456465498034,277.52645053304582,null,{"$f":"+$B$183","v":"2032-11-01"},90.661139038830939,95.187058507471036,7.9874510432279155,18.633413439730298,31.628840265669364,51.498781432921724,0.4789950292973591,296.07567875714864,null,{"$f":"+$B$183","v":"2032-11-01"},77.816853046522056,81.701569408189556,6.855840447591742,19.21159213989651,27.147869981330533,44.202765918528705,0.4111341000126017,257.34762504207168]
[null,{"$f":"+$B$184","v":"2032-12-01"},81.276211616711791,85.333623561821312,7.1606177481342224,19.183661364699535,28.354732158424312,46.167805766836821,0.4294111212065268,267.9060633378345,null,{"$f":"+$B$184","v":"2032-12-01"},87.472480301155713,91.839217866582416,7.7065230091136163,18.12198133463982,30.516416806788438,49.687508806781658,0.46214821155753505,285.80627633661919,null,{"$f":"+$B$184","v":"2032-12-01"},75.079942932267855,78.828029257060194,6.6147124871548284,18.75979008207705,26.19304751006019,42.648102726891977,0.39667403085551856,248.52029902636761]
[]
[]
[null,null,"PETROQUIMICA MEDIO",null,null,null,null,null,null,null,null,null,"PETROQUIMICA ALTO",null,null,null,null,null,null,null,null,null,"PETROQUIMICA BAJO"]
[null,null,"CENTRO","COSTA","CQR","NORESTE","NOROESTE","SUROESTE","TOLIMA GRANDE","TOTAL",null,null,"CENTRO","COSTA","CQR","NORESTE","NOROESTE","SUROESTE","TOLIMA GRANDE","TOTAL",null,null,"CENTRO","COSTA","CQR","NORESTE","NOROESTE","SUROESTE","TOLIMA GRANDE","TOTAL"]
[null,{"$f":"+$B$5","v":"2018-01-01"},null,16.647739278698108,null,null,0.63649507776210279,null,null,17.28423435646021,null,{"$f":"+$B$5","v":"2018-01-01"},null,21.634939256660218,null,null,0.90328212976045763,null,null,22.538221386420677,null,{"$f":"+$B$5","v":"2018-01-01"},null,11.660539300736001,null,null,0.36970802576374806,null,null,12.030247326499749]
[null,{"$f":"+$B$6","v":"2018-02-01"},null,18.908913167145553,null,null,0.72294681909869229,null,null,19.631859986244244,null,{"$f":"+$B$6","v":"2018-02-01"},null,24.573497994656758,null,null,1.0259701375147012,null,null,25.599468132171459,null,{"$f":"+$B$6","v":"2018-02-01"},null,13.244328339634341,null,null,0.41992350068268353,null,null,13.664251840317025]
[null,{"$f":"+$B$7","v":"2018-03-01"},null,16.757274634847846,null,null,0.64068295660036867,null,null,17.397957591448215,null,{"$f":"+$B$7","v":"2018-03-01"},null,21.777288361069161,null,null,0.90922535893594136,null,null,22.686513720005102,null,{"$f":"+$B$7","v":"2018-03-01"},null,11.737260908626537,null,null,0.37214055426479603,null,null,12.109401462891332]
[null,{"$f":"+$B$8","v":"2018-04-01"},null,17.792832290550539,null,null,0.66997436366248087,null,null,18.462806654213018,null,{"$f":"+$B$8","v":"2018-04-01"},null,22.997412521549847,null,null,0.94839003234489105,null,null,23.945802553894737,null,{"$f":"+$B$8","v":"2018-04-01"},null,12.588252059551223,null,null,0.39155869498007045,null,null,12.979810754531293]
[null,{"$f":"+$B$9","v":"2018-05-01"},null,17.199691860592996,null,null,0.64764015201848413,null,null,17.847332012611481,null,{"$f":"+$B$9","v":"2018-05-01"},null,22.230772622505366,null,null,0.91677457830325182,null,null,23.147547200808617,null,{"$f":"+$B$9","v":"2018-05-01"},null,12.168611098680621,null,null,0.37850572573371638,null,null,12.547116824414339]
[null,{"$f":"+$B$10","v":"2018-06-01"},null,17.860486120170034,null,null,0.6725218125850857,null,null,18.533007932755119,null,{"$f":"+$B$10","v":"2018-06-01"},null,23.084855768527934,null,null,0.95199610340841523,null,null,24.036851871936349,null,{"$f":"+$B$10","v":"2018-06-01"},null,12.636116471812137,null,null,0.39304752176175628,null,null,13.029163993573894]
[null,{"$f":"+$B$11","v":"2018-07-01"},null,16.32691166562137,null,null,0.5620939668527779,null,null,16.889005632474149,null,{"$f":"+$B$11","v":"2018-07-01"},null,21.29206201321179,null,null,0.82770148807023158,null,null,22.119763501282023,null,{"$f":"+$B$11","v":"2018-07-01"},null,11.36176131803095,null,null,0.29648644563532428,null,null,11.658247763666274]
[null,{"$f":"+$B$12","v":"2018-08-01"},null,16.661332474925096,null,null,0.57360722319601265,null,null,17.23493969812111,null,{"$f":"+$B$12","v":"2018-08-01"},null,21.728182986732872,null,null,0.84465512922241515,null,null,22.572838115955285,null,{"$f":"+$B$12","v":"2018-08-01"},null,11.594481963117326,null,null,0.30255931716961004,null,null,11.897041280286937]
[null,{"$f":"+$B$13","v":"2018-09-01"},null,17.300847721435318,null,null,0.59562410361624984,null,null,17.896471825051567,null,{"$f":"+$B$13","v":"2018-09-01"},null,22.562180166723849,null,null,0.87707569546426511,null,null,23.439255862188112,null,{"$f":"+$B$13","v":"2018-09-01"},null,12.039515276146789,null,null,0.31417251176823452,null,null,12.353687787915023]
[null,{"$f":"+$B$14","v":"2018-10-01"},null,16.436109530499383,null,null,0.57681302486863328,null,null,17.012922555368018,null,{"$f":"+$B$14","v":"2018-10-01"},null,21.460393261151211,null,null,0.84558384834213307,null,null,22.305977109493345,null,{"$f":"+$B$14","v":"2018-10-01"},null,11.411825799847557,null,null,0.3080422013951335,null,null,11.719868001242691]
[null,{"$f":"+$B$15","v":"2018-11-01"},null,17.039118175087339,null,null,0.59797516422170105,null,null,17.63709333930904,null,{"$f":"+$B$15","v":"2018-11-01"},null,22.247733028431167,null,null,0.87660666242888996,null,null,23.124339690860058,null,{"$f":"+$B$15","v":"2018-11-01"},null,11.83050332174351,null,null,0.31934366601451203,null,null,12.149846987758023]
[null,{"$f":"+$B$16","v":"2018-12-01"},null,16.548808364577376,null,null,0.58076810652972033,null,null,17.129576471107097,null,{"$f":"+$B$16","v":"2018-12-01"},null,21.607542517786364,null,null,0.85138183317829552,null,null,22.458924350964658,null,{"$f":"+$B$16","v":"2018-12-01"},null,11.490074211368389,null,null,0.31015437988114508,null,null,11.800228591249535]
[null,{"$f":"+$B$17","v":"2019-01-01"},null,16.668777118951102,null,null,0.64789621420735533,null,null,17.316673333158459,null,{"$f":"+$B$17","v":"2019-01-01"},null,21.632985952567378,null,null,0.91345336974092062,null,null,22.546439322308299,null,{"$f":"+$B$17","v":"2019-01-01"},null,11.704568285334826,null,null,0.38233905867379003,null,null,12.086907344008615]
[null,{"$f":"+$B$18","v":"2019-02-01"},null,18.95262786042229,null,null,0.73666686838639173,null,null,19.689294728808683,null,{"$f":"+$B$18","v":"2019-02-01"},null,24.597001288271603,null,null,1.0386089909898435,null,null,25.635610279261446,null,{"$f":"+$B$18","v":"2019-02-01"},null,13.308254432572976,null,null,0.43472474578294007,null,null,13.742979178355917]
[null,{"$f":"+$B$19","v":"2019-03-01"},null,16.994655781312641,null,null,0.66056274337912957,null,null,17.655218524691772,null,{"$f":"+$B$19","v":"2019-03-01"},null,22.055916109638922,null,null,0.93131160613922104,null,null,22.987227715778143,null,{"$f":"+$B$19","v":"2019-03-01"},null,11.933395452986355,null,null,0.3898138806190381,null,null,12.323209333605393]
[null,{"$f":"+$B$20","v":"2019-04-01"},null,17.298003028779796,null,null,0.63582116346344308,null,null,17.93382419224324,null,{"$f":"+$B$20","v":"2019-04-01"},null,22.497676139898882,null,null,0.91397432892712693,null,null,23.411650468826011,null,{"$f":"+$B$20","v":"2019-04-01"},null,12.098329917660701,null,null,0.35766799799975918,null,null,12.455997915660459]
[null,{"$f":"+$B$21","v":"2019-05-01"},null,16.73393838717454,null,null,0.61508788944924941,null,null,17.349026276623789,null,{"$f":"+$B$21","v":"2019-05-01"},null,21.764057143088113,null,null,0.88417085384246286,null,null,22.648227996930576,null,{"$f":"+$B$21","v":"2019-05-01"},null,11.703819631260966,null,null,0.34600492505603603,null,null,12.049824556317002]
[null,{"$f":"+$B$22","v":"2019-06-01"},null,17.399793971139847,null,null,0.63956268410566575,null,null,18.039356655245513,null,{"$f":"+$B$22","v":"2019-06-01"},null,22.6300648122434,null,null,0.91935265543566103,null,null,23.54941746767906,null,{"$f":"+$B$22","v":"2019-06-01"},null,12.169523130036291,null,null,0.3597727127756703,null,null,12.529295842811962]
[null,{"$f":"+$B$23","v":"2019-07-01"},null,16.631464873291243,null,null,0.56624076651984145,null,null,17.197705639811083,null,{"$f":"+$B$23","v":"2019-07-01"},null,21.61796029150225,null,null,0.83299012854791565,null,null,22.450950420050166,null,{"$f":"+$B$23","v":"2019-07-01"},null,11.644969455080235,null,null,0.29949140449176742,null,null,11.944460859572002]
[null,{"$f":"+$B$24","v":"2019-08-01"},null,16.767775422109782,null,null,0.57088164393116936,null,null,17.338657066040952,null,{"$f":"+$B$24","v":"2019-08-01"},null,21.795139875749474,null,null,0.83981726869749673,null,null,22.634957144446972,null,{"$f":"+$B$24","v":"2019-08-01"},null,11.740410968470089,null,null,0.30194601916484226,null,null,12.042356987634932]
[null,{"$f":"+$B$25","v":"2019-09-01"},null,17.610651694752274,null,null,0.59957850920062195,null,null,18.210230203952896,null,{"$f":"+$B$25","v":"2019-09-01"},null,22.890729827173217,null,null,0.88203288951307401,null,null,23.772762716686291,null,{"$f":"+$B$25","v":"2019-09-01"},null,12.330573562331333,null,null,0.31712412888816999,null,null,12.647697691219502]
[null,{"$f":"+$B$26","v":"2019-10-01"},null,16.966566918827048,null,null,0.6937206574443584,null,null,17.660287576271408,null,{"$f":"+$B$26","v":"2019-10-01"},null,22.029979652162197,null,null,0.96458466172465351,null,null,22.994564313886851,null,{"$f":"+$B$26","v":"2019-10-01"},null,11.903154185491895,null,null,0.42285665316406329,null,null,12.326010838655957]
[null,{"$f":"+$B$27","v":"2019-11-01"},null,17.411902815099232,null,null,0.71192933290731841,null,null,18.123832148006549,null,{"$f":"+$B$27","v":"2019-11-01"},null,22.608219244189929,null,null,0.98990293482696778,null,null,23.598122179016897,null,{"$f":"+$B$27","v":"2019-11-01"},null,12.215586386008543,null,null,0.43395573098766904,null,null,12.649542116996212]
[null,{"$f":"+$B$28","v":"2019-12-01"},null,16.859656163334989,null,null,0.68934934296791439,null,null,17.549005506302905,null,{"$f":"+$B$28","v":"2019-12-01"},null,21.891163014750781,null,null,0.9585065626363457,null,null,22.849669577387125,null,{"$f":"+$B$28","v":"2019-12-01"},null,11.828149311919194,null,null,0.42019212329948308,null,null,12.248341435218677]
[null,{"$f":"+$B$29","v":"2020-01-01"},null,16.690040245498544,null,null,0.68199400184545611,null,null,17.372034247344001,null,{"$f":"+$B$29","v":"2020-01-01"},null,21.655427673920855,null,null,0.9476142055493757,null,null,22.603041879470229,null,{"$f":"+$B$29","v":"2020-01-01"},null,11.724652817076237,null,null,0.41637379814153658,null,null,12.141026615217774]
[null,{"$f":"+$B$30","v":"2020-02-01"},null,18.731519320671399,null,null,0.76541360201906294,null,null,19.496932922690462,null,{"$f":"+$B$30","v":"2020-02-01"},null,24.304259061379746,null,null,1.0635237266475863,null,null,25.367782788027331,null,{"$f":"+$B$30","v":"2020-02-01"},null,13.158779579963062,null,null,0.46730347739053962,null,null,13.6260830573536]
[null,{"$f":"+$B$31","v":"2020-03-01"},null,17.225813271314379,null,null,0.70388693826635773,null,null,17.929700209580737,null,{"$f":"+$B$31","v":"2020-03-01"},null,22.350596399671637,null,null,0.97803391231732006,null,null,23.328630311988956,null,{"$f":"+$B$31","v":"2020-03-01"},null,12.101030142957123,null,null,0.42973996421539545,null,null,12.530770107172518]
[null,{"$f":"+$B$32","v":"2020-04-01"},null,17.701874042140272,null,null,0.68819848956926066,null,null,18.390072531709531,null,{"$f":"+$B$32","v":"2020-04-01"},null,22.961312794180692,null,null,0.96954877951615193,null,null,23.930861573696845,null,{"$f":"+$B$32","v":"2020-04-01"},null,12.442435290099855,null,null,0.4068481996223694,null,null,12.849283489722225]
[null,{"$f":"+$B$33","v":"2020-05-01"},null,16.746905747928114,null,null,0.65107203978779549,null,null,17.397977787715909,null,{"$f":"+$B$33","v":"2020-05-01"},null,21.722611984326807,null,null,0.91724424148103234,null,null,22.63985622580784,null,{"$f":"+$B$33","v":"2020-05-01"},null,11.771199511529415,null,null,0.38489983809455863,null,null,12.156099349623974]
[null,{"$f":"+$B$34","v":"2020-06-01"},null,17.591790018334009,null,null,0.68391873598335062,null,null,18.27570875431736,null,{"$f":"+$B$34","v":"2020-06-01"},null,22.818521488681601,null,null,0.96351937095344786,null,null,23.78204085963505,null,{"$f":"+$B$34","v":"2020-06-01"},null,12.365058547986417,null,null,0.40431810101325349,null,null,12.769376648999669]
[null,{"$f":"+$B$35","v":"2020-07-01"},null,17.143400759675316,null,null,0.59587103073772762,null,null,17.739271790413042,null,{"$f":"+$B$35","v":"2020-07-01"},null,22.21773490825672,null,null,0.86731926909527524,null,null,23.085054177351996,null,{"$f":"+$B$35","v":"2020-07-01"},null,12.069066611093909,null,null,0.32442279238018018,null,null,12.393489403474089]
[null,{"$f":"+$B$36","v":"2020-08-01"},null,16.868482522676427,null,null,0.58631541131626164,null,null,17.454797933992687,null,{"$f":"+$B$36","v":"2020-08-01"},null,21.861442676819539,null,null,0.8534106002309445,null,null,22.714853277050484,null,{"$f":"+$B$36","v":"2020-08-01"},null,11.875522368533314,null,null,0.31922022240157899,null,null,12.194742590934894]
[null,{"$f":"+$B$37","v":"2020-09-01"},null,17.651953941569861,null,null,0.61354734321087745,null,null,18.26550128478074,null,{"$f":"+$B$37","v":"2020-09-01"},null,22.876816495421199,null,null,0.89304800169623955,null,null,23.769864497117439,null,{"$f":"+$B$37","v":"2020-09-01"},null,12.427091387718527,null,null,0.33404668472551552,null,null,12.761138072444043]
[null,{"$f":"+$B$38","v":"2020-10-01"},null,16.953052095768161,null,null,0.70001668432672948,null,null,17.653068780094891,null,{"$f":"+$B$38","v":"2020-10-01"},null,21.957190653030953,null,null,0.96770985471950155,null,null,22.924900507750454,null,{"$f":"+$B$38","v":"2020-10-01"},null,11.948913538505373,null,null,0.43232351393395729,null,null,12.38123705243933]
[null,{"$f":"+$B$39","v":"2020-11-01"},null,17.822351886003943,null,null,0.73591136296094839,null,null,18.558263248964892,null,{"$f":"+$B$39","v":"2020-11-01"},null,23.083087106425996,null,null,1.0173310066492325,null,null,24.100418113075229,null,{"$f":"+$B$39","v":"2020-11-01"},null,12.561616665581884,null,null,0.45449171927266419,null,null,13.016108384854547]
[null,{"$f":"+$B$40","v":"2020-12-01"},null,17.03538156293769,null,null,0.70341619022719115,null,null,17.738797753164881,null,{"$f":"+$B$40","v":"2020-12-01"},null,22.063821824621293,null,null,0.97240936465220829,null,null,23.036231189273501,null,{"$f":"+$B$40","v":"2020-12-01"},null,12.006941301254091,null,null,0.43442301580217407,null,null,12.441364317056266]
[null,{"$f":"+$B$41","v":"2021-01-01"},null,16.958383494587867,null,null,0.71674301440292354,null,null,17.67512650899079,null,{"$f":"+$B$41","v":"2021-01-01"},null,21.950301532270149,null,null,0.98378245596846248,null,null,22.934083988238612,null,{"$f":"+$B$41","v":"2021-01-01"},null,11.966465456905578,null,null,0.44970357283738471,null,null,12.416169029742962]
[null,{"$f":"+$B$42","v":"2021-02-01"},null,18.578932671455995,null,null,0.78523523256672023,null,null,19.364167904022715,null,{"$f":"+$B$42","v":"2021-02-01"},null,24.04788017775131,null,null,1.0777930584380786,null,null,25.125673236189389,null,{"$f":"+$B$42","v":"2021-02-01"},null,13.109985165160682,null,null,0.49267740669536192,null,null,13.602662571856044]
[null,{"$f":"+$B$43","v":"2021-03-01"},null,17.038776264372654,null,null,0.72014080029272498,null,null,17.758917064665379,null,{"$f":"+$B$43","v":"2021-03-01"},null,22.05435894660765,null,null,0.98844616678301189,null,null,23.04280511339066,null,{"$f":"+$B$43","v":"2021-03-01"},null,12.02319358213766,null,null,0.4518354338024379,null,null,12.475029015940098]
[null,{"$f":"+$B$44","v":"2021-04-01"},null,17.718898112045032,null,null,0.68839175543086906,null,null,18.4072898674759,null,{"$f":"+$B$44","v":"2021-04-01"},null,22.919587790323384,null,null,0.96659930150025908,null,null,23.886187091823643,null,{"$f":"+$B$44","v":"2021-04-01"},null,12.518208433766679,null,null,0.41018420936147909,null,null,12.928392643128158]
[null,{"$f":"+$B$45","v":"2021-05-01"},null,17.224181056399054,null,null,0.66917164703449994,null,null,17.893352703433553,null,{"$f":"+$B$45","v":"2021-05-01"},null,22.279665887925834,null,null,0.93961155331164015,null,null,23.219277441237473,null,{"$f":"+$B$45","v":"2021-05-01"},null,12.168696224872278,null,null,0.39873174075735979,null,null,12.567427965629637]
[null,{"$f":"+$B$46","v":"2021-06-01"},null,17.726914796342612,null,null,0.6887032093001475,null,null,18.415618005642759,null,{"$f":"+$B$46","v":"2021-06-01"},null,22.929957458819917,null,null,0.96703662674437929,null,null,23.896994085564295,null,{"$f":"+$B$46","v":"2021-06-01"},null,12.523872133865309,null,null,0.41036979185591588,null,null,12.934241925721224]
[null,{"$f":"+$B$47","v":"2021-07-01"},null,17.051908744881597,null,null,0.65438799044226159,null,null,17.706296735323861,null,{"$f":"+$B$47","v":"2021-07-01"},null,22.041775742197267,null,null,0.92131771292387432,null,null,22.96309345512114,null,{"$f":"+$B$47","v":"2021-07-01"},null,12.062041747565919,null,null,0.38745826796064875,null,null,12.449500015526567]
[null,{"$f":"+$B$48","v":"2021-08-01"},null,17.11233436616503,null,null,0.65670689804811899,null,null,17.769041264213147,null,{"$f":"+$B$48","v":"2021-08-01"},null,22.119883595889146,null,null,0.92458252016837539,null,null,23.044466116057521,null,{"$f":"+$B$48","v":"2021-08-01"},null,12.104785136440915,null,null,0.38883127592786265,null,null,12.493616412368779]
[null,{"$f":"+$B$49","v":"2021-09-01"},null,18.101715451918491,null,null,0.69467561522660681,null,null,18.796391067145098,null,{"$f":"+$B$49","v":"2021-09-01"},null,23.398785350644044,null,null,0.97803895913800865,null,null,24.376824309782052,null,{"$f":"+$B$49","v":"2021-09-01"},null,12.804645553192943,null,null,0.41131227131520476,null,null,13.215957824508148]
[null,{"$f":"+$B$50","v":"2021-10-01"},null,17.237345646770315,null,null,0.67139065836888256,null,null,17.908736305139197,null,{"$f":"+$B$50","v":"2021-10-01"},null,22.267270456542228,null,null,0.94046324773811318,null,null,23.20773370428034,null,{"$f":"+$B$50","v":"2021-10-01"},null,12.207420836998399,null,null,0.40231806899965206,null,null,12.60973890599805]
[null,{"$f":"+$B$51","v":"2021-11-01"},null,17.845154419291543,null,null,0.69506467061576638,null,null,18.54021908990731,null,{"$f":"+$B$51","v":"2021-11-01"},null,23.052440203725723,null,null,0.97362507113730534,null,null,24.026065274863029,null,{"$f":"+$B$51","v":"2021-11-01"},null,12.637868634857362,null,null,0.41650427009422758,null,null,13.05437290495159]
[null,{"$f":"+$B$52","v":"2021-12-01"},null,17.321150076495925,null,null,0.67465482168037538,null,null,17.995804898176299,null,{"$f":"+$B$52","v":"2021-12-01"},null,22.375529346303839,null,null,0.94503558664513954,null,null,23.320564932948979,null,{"$f":"+$B$52","v":"2021-12-01"},null,12.266770806688012,null,null,0.40427405671561123,null,null,12.671044863403623]
[null,{"$f":"+$B$53","v":"2022-01-01"},null,17.094355073895173,null,null,0.64809072931399325,null,null,17.742445803209165,null,{"$f":"+$B$53","v":"2022-01-01"},null,22.068045339543907,null,null,0.91415508794986866,null,null,22.982200427493776,null,{"$f":"+$B$53","v":"2022-01-01"},null,12.120664808246437,null,null,0.38202637067811784,null,null,12.502691178924554]
[null,{"$f":"+$B$54","v":"2022-02-01"},null,19.198403155770851,null,null,0.72786057438857554,null,null,19.926263730159427,null,{"$f":"+$B$54","v":"2022-02-01"},null,24.784277000036301,null,null,1.026673299430984,null,null,25.810950299467287,null,{"$f":"+$B$54","v":"2022-02-01"},null,13.612529311505398,null,null,0.42904784934616702,null,null,14.041577160851565]
[null,{"$f":"+$B$55","v":"2022-03-01"},null,17.544345301537614,null,null,0.66515100994793852,null,null,18.209496311485552,null,{"$f":"+$B$55","v":"2022-03-01"},null,22.648962531391046,null,null,0.93821922224150078,null,null,23.587181753632546,null,{"$f":"+$B$55","v":"2022-03-01"},null,12.439728071684177,null,null,0.39208279765437637,null,null,12.831810869338554]
[null,{"$f":"+$B$56","v":"2022-04-01"},null,17.952346133462736,null,null,0.67409276717302047,null,null,18.626438900635758,null,{"$f":"+$B$56","v":"2022-04-01"},null,23.16049509809541,null,null,0.95269934296355163,null,null,24.113194441058962,null,{"$f":"+$B$56","v":"2022-04-01"},null,12.744197168830061,null,null,0.39548619138248936,null,null,13.139683360212549]
[null,{"$f":"+$B$57","v":"2022-05-01"},null,17.192431265232404,null,null,0.64555871861284486,null,null,17.837989983845247,null,{"$f":"+$B$57","v":"2022-05-01"},null,22.180121588706996,null,null,0.91237200132869933,null,null,23.092493590035694,null,{"$f":"+$B$57","v":"2022-05-01"},null,12.204740941757812,null,null,0.3787454358969905,null,null,12.583486377654802]
[null,{"$f":"+$B$58","v":"2022-06-01"},null,18.150508225797108,null,null,0.68153355692703943,null,null,18.832041782724147,null,{"$f":"+$B$58","v":"2022-06-01"},null,23.416145926907348,null,null,0.96321545566345879,null,null,24.379361382570806,null,{"$f":"+$B$58","v":"2022-06-01"},null,12.884870524686864,null,null,0.39985165819062007,null,null,13.284722182877484]
[null,{"$f":"+$B$59","v":"2022-07-01"},null,17.315036315268312,null,null,0.65823126663199993,null,null,17.973267581900313,null,{"$f":"+$B$59","v":"2022-07-01"},null,22.32379972637731,null,null,0.92617184060373536,null,null,23.249971566981046,null,{"$f":"+$B$59","v":"2022-07-01"},null,12.306272904159307,null,null,0.39029069266026428,null,null,12.696563596819571]
[null,{"$f":"+$B$60","v":"2022-08-01"},null,17.364049750642724,null,null,0.66009451283380172,null,null,18.024144263476526,null,{"$f":"+$B$60","v":"2022-08-01"},null,22.386991399514915,null,null,0.92879354250654944,null,null,23.315784942021466,null,{"$f":"+$B$60","v":"2022-08-01"},null,12.341108101770534,null,null,0.3913954831610541,null,null,12.732503584931587]
[null,{"$f":"+$B$61","v":"2022-09-01"},null,18.189211065225265,null,null,0.69146302788533809,null,null,18.880674093110603,null,{"$f":"+$B$61","v":"2022-09-01"},null,23.450849169911361,null,null,0.97293097078603885,null,null,24.423780140697399,null,{"$f":"+$B$61","v":"2022-09-01"},null,12.92757296053917,null,null,0.40999508498463738,null,null,13.337568045523806]
[null,{"$f":"+$B$62","v":"2022-10-01"},null,17.503249011272988,null,null,0.66439819637248609,null,null,18.167647207645473,null,{"$f":"+$B$62","v":"2022-10-01"},null,22.5519191748044,null,null,0.934473556372584,null,null,23.486392731176984,null,{"$f":"+$B$62","v":"2022-10-01"},null,12.45457884774158,null,null,0.39432283637238835,null,null,12.848901684113969]
[null,{"$f":"+$B$63","v":"2022-11-01"},null,18.094722348603952,null,null,0.68684967485353898,null,null,18.781572023457493,null,{"$f":"+$B$63","v":"2022-11-01"},null,23.313998197330374,null,null,0.96605147614503584,null,null,24.280049673475411,null,{"$f":"+$B$63","v":"2022-11-01"},null,12.875446499877528,null,null,0.4076478735620423,null,null,13.283094373439571]
[null,{"$f":"+$B$64","v":"2022-12-01"},null,17.417826135239316,null,null,0.66115566667247605,null,null,18.078981801911791,null,{"$f":"+$B$64","v":"2022-12-01"},null,22.441856763262972,null,null,0.92991295058383283,null,null,23.371769713846806,null,{"$f":"+$B$64","v":"2022-12-01"},null,12.393795507215655,null,null,0.39239838276111921,null,null,12.786193889976774]
[null,{"$f":"+$B$65","v":"2023-01-01"},null,17.308304049022162,null,null,0.62606488892670409,null,null,17.934368937948864,null,{"$f":"+$B$65","v":"2023-01-01"},null,22.286355487750601,null,null,0.89236254570869955,null,null,23.178718033459301,null,{"$f":"+$B$65","v":"2023-01-01"},null,12.330252610293721,null,null,0.35976723214470874,null,null,12.69001984243843]
[null,{"$f":"+$B$66","v":"2023-02-01"},null,19.56985710600387,null,null,0.70786833768811486,null,null,20.277725443691985,null,{"$f":"+$B$66","v":"2023-02-01"},null,25.198355140608037,null,null,1.0089612163506971,null,null,26.207316356958735,null,{"$f":"+$B$66","v":"2023-02-01"},null,13.941359071399704,null,null,0.40677545902553247,null,null,14.348134530425236]
[null,{"$f":"+$B$67","v":"2023-03-01"},null,17.599341145554991,null,null,0.63659209638725678,null,null,18.235933241942249,null,{"$f":"+$B$67","v":"2023-03-01"},null,22.661097933635698,null,null,0.90736751694228379,null,null,23.568465450577982,null,{"$f":"+$B$67","v":"2023-03-01"},null,12.537584357474289,null,null,0.3658166758322296,null,null,12.903401033306519]
[null,{"$f":"+$B$68","v":"2023-04-01"},null,18.284587692134743,null,null,0.65868896736206284,null,null,18.943276659496807,null,{"$f":"+$B$68","v":"2023-04-01"},null,23.528351266975957,null,null,0.93920072379656105,null,null,24.467551990772517,null,{"$f":"+$B$68","v":"2023-04-01"},null,13.040824117293532,null,null,0.3781772109275649,null,null,13.419001328221096]
[null,{"$f":"+$B$69","v":"2023-05-01"},null,17.319366605330462,null,null,0.62391758002491848,null,null,17.943284185355381,null,{"$f":"+$B$69","v":"2023-05-01"},null,22.286318295655946,null,null,0.88962146291225674,null,null,23.175939758568202,null,{"$f":"+$B$69","v":"2023-05-01"},null,12.35241491500498,null,null,0.35821369713758017,null,null,12.71062861214256]
[null,{"$f":"+$B$70","v":"2023-06-01"},null,18.311400149023779,null,null,0.65965486661218797,null,null,18.971055015635969,null,{"$f":"+$B$70","v":"2023-06-01"},null,23.562853160846242,null,null,0.94057796452744047,null,null,24.503431125373684,null,{"$f":"+$B$70","v":"2023-06-01"},null,13.059947137201323,null,null,0.37873176869693548,null,null,13.438678905898259]
[null,{"$f":"+$B$71","v":"2023-07-01"},null,17.567250433228612,null,null,0.63041371190658102,null,null,18.197664145135192,null,{"$f":"+$B$71","v":"2023-07-01"},null,22.590888698049692,null,null,0.89915000660102473,null,null,23.490038704650718,null,{"$f":"+$B$71","v":"2023-07-01"},null,12.543612168407522,null,null,0.36167741721213736,null,null,12.905289585619659]
[null,{"$f":"+$B$72","v":"2023-08-01"},null,17.615535268242368,null,null,0.63214644875037551,null,null,18.247681716992744,null,{"$f":"+$B$72","v":"2023-08-01"},null,22.652981359490681,null,null,0.90162138422988969,null,null,23.554602743720572,null,{"$f":"+$B$72","v":"2023-08-01"},null,12.57808917699405,null,null,0.36267151327086133,null,null,12.940760690264911]
[null,{"$f":"+$B$73","v":"2023-09-01"},null,18.293354775146661,null,null,0.65647050065447821,null,null,18.949825275801139,null,{"$f":"+$B$73","v":"2023-09-01"},null,23.524634273874938,null,null,0.93631442947472188,null,null,24.460948703349658,null,{"$f":"+$B$73","v":"2023-09-01"},null,13.06207527641838,null,null,0.37662657183423465,null,null,13.438701848252615]
[null,{"$f":"+$B$74","v":"2023-10-01"},null,17.449945857046213,null,null,0.61806826323381303,null,null,18.068014120280026,null,{"$f":"+$B$74","v":"2023-10-01"},null,22.425804619956743,null,null,0.88424862423460193,null,null,23.310053244191344,null,{"$f":"+$B$74","v":"2023-10-01"},null,12.47408709413568,null,null,0.35188790223302396,null,null,12.825974996368704]
[null,{"$f":"+$B$75","v":"2023-11-01"},null,18.434398239354135,null,null,0.65293706908307314,null,null,19.087335308437208,null,{"$f":"+$B$75","v":"2023-11-01"},null,23.690973977165594,null,null,0.93413420392703139,null,null,24.625108181092624,null,{"$f":"+$B$75","v":"2023-11-01"},null,13.177822501542671,null,null,0.37173993423911506,null,null,13.549562435781786]
[null,{"$f":"+$B$76","v":"2023-12-01"},null,17.74763649196591,null,null,0.62861231507289039,null,null,18.376248807038799,null,{"$f":"+$B$76","v":"2023-12-01"},null,22.808381853753968,null,null,0.89933363002956146,null,null,23.707715483783531,null,{"$f":"+$B$76","v":"2023-12-01"},null,12.686891130177857,null,null,0.35789100011621949,null,null,13.044782130294077]
[null,{"$f":"+$B$77","v":"2024-01-01"},null,17.576950854196163,null,null,0.62071415981158695,null,null,18.19766501400775,null,{"$f":"+$B$77","v":"2024-01-01"},null,22.574759643882608,null,null,0.88806872336304721,null,null,23.462828367245656,null,{"$f":"+$B$77","v":"2024-01-01"},null,12.579142064509718,null,null,0.35335959626012675,null,null,12.932501660769844]
[null,{"$f":"+$B$78","v":"2024-02-01"},null,19.665265182766479,null,null,0.69446109604834427,null,null,20.359726278814822,null,{"$f":"+$B$78","v":"2024-02-01"},null,25.256862724184295,null,null,0.99358000658492962,null,null,26.250442730769223,null,{"$f":"+$B$78","v":"2024-02-01"},null,14.073667641348658,null,null,0.39534218551175898,null,null,14.469009826860416]
[null,{"$f":"+$B$79","v":"2024-03-01"},null,17.849583819434109,null,null,0.63034194698345669,null,null,18.479925766417566,null,{"$f":"+$B$79","v":"2024-03-01"},null,22.924912734273502,null,null,0.90184339972153205,null,null,23.826756133995033,null,{"$f":"+$B$79","v":"2024-03-01"},null,12.774254904594718,null,null,0.35884049424538128,null,null,13.1330953988401]
[null,{"$f":"+$B$80","v":"2024-04-01"},null,18.349352695177338,null,null,0.65504610510738215,null,null,19.004398800284719,null,{"$f":"+$B$80","v":"2024-04-01"},null,23.551983729294655,null,null,0.93335750275750773,null,null,24.485341232052164,null,{"$f":"+$B$80","v":"2024-04-01"},null,13.14672166106002,null,null,0.3767347074572564,null,null,13.523456368517277]
[null,{"$f":"+$B$81","v":"2024-05-01"},null,17.750867349902673,null,null,0.63368101932487098,null,null,18.384548369227545,null,{"$f":"+$B$81","v":"2024-05-01"},null,22.78380855994196,null,null,0.9029149690844076,null,null,23.686723529026366,null,{"$f":"+$B$81","v":"2024-05-01"},null,12.717926139863387,null,null,0.36444706956533424,null,null,13.082373209428722]
[null,{"$f":"+$B$82","v":"2024-06-01"},null,18.426117709923233,null,null,0.65778650825691798,null,null,19.083904218180152,null,{"$f":"+$B$82","v":"2024-06-01"},null,23.650514092098657,null,null,0.93726222918860436,null,null,24.587776321287262,null,{"$f":"+$B$82","v":"2024-06-01"},null,13.20172132774781,null,null,0.37831078732523166,null,null,13.580032115073042]
[null,{"$f":"+$B$83","v":"2024-07-01"},null,17.621283437694881,null,null,0.59799327030356708,null,null,18.21927670799845,null,{"$f":"+$B$83","v":"2024-07-01"},null,22.603346607744793,null,null,0.86450553206980074,null,null,23.467852139814593,null,{"$f":"+$B$83","v":"2024-07-01"},null,12.639220267644975,null,null,0.33148100853733337,null,null,12.970701276182307]
[null,{"$f":"+$B$84","v":"2024-08-01"},null,17.894532375955194,null,null,0.60726620588598423,null,null,18.501798581841179,null,{"$f":"+$B$84","v":"2024-08-01"},null,22.953851182711436,null,null,0.87791120819966262,null,null,23.831762390911098,null,{"$f":"+$B$84","v":"2024-08-01"},null,12.835213569198949,null,null,0.3366212035723059,null,null,13.171834772771255]
[null,{"$f":"+$B$85","v":"2024-09-01"},null,18.574756992561586,null,null,0.63035020793746355,null,null,19.20510720049905,null,{"$f":"+$B$85","v":"2024-09-01"},null,23.826395616528565,null,null,0.91128323505488773,null,null,24.737678851583453,null,{"$f":"+$B$85","v":"2024-09-01"},null,13.323118368594606,null,null,0.34941718082003947,null,null,13.672535549414645]
[null,{"$f":"+$B$86","v":"2024-10-01"},null,17.81952995278419,null,null,0.60981059304891094,null,null,18.429340545833103,null,{"$f":"+$B$86","v":"2024-10-01"},null,22.843425103153908,null,null,0.87856062967039239,null,null,23.721985732824301,null,{"$f":"+$B$86","v":"2024-10-01"},null,12.795634802414472,null,null,0.34106055642742933,null,null,13.136695358841902]
[null,{"$f":"+$B$87","v":"2024-11-01"},null,18.475369162140417,null,null,0.63225437794458172,null,null,19.107623540084997,null,{"$f":"+$B$87","v":"2024-11-01"},null,23.684166351567136,null,null,0.91089563010313468,null,null,24.59506198167027,null,{"$f":"+$B$87","v":"2024-11-01"},null,13.266571972713701,null,null,0.3536131257860286,null,null,13.620185098499729]
[null,{"$f":"+$B$88","v":"2024-12-01"},null,17.943854729015396,null,null,0.61406517023052609,null,null,18.55791989924592,null,{"$f":"+$B$88","v":"2024-12-01"},null,23.002801008232719,null,null,0.88469024442334798,null,null,23.887491252656066,null,{"$f":"+$B$88","v":"2024-12-01"},null,12.884908449798077,null,null,0.34344009603770431,null,null,13.228348545835782]
[null,{"$f":"+$B$89","v":"2025-01-01"},null,17.713987810685527,null,null,0.61854605277754238,null,null,18.33253386346307,null,{"$f":"+$B$89","v":"2025-01-01"},null,22.694072790083887,null,null,0.88495249250845598,null,null,23.579025282592344,null,{"$f":"+$B$89","v":"2025-01-01"},null,12.733902831287162,null,null,0.35213961304662872,null,null,13.08604244433379]
[null,{"$f":"+$B$90","v":"2025-02-01"},null,19.145981257963278,null,null,0.66854912966137359,null,null,19.81453038762465,null,{"$f":"+$B$90","v":"2025-02-01"},null,24.528654809376068,null,null,0.95649178586055972,null,null,25.485146595236628,null,{"$f":"+$B$90","v":"2025-02-01"},null,13.763307706550489,null,null,0.38060647346218757,null,null,14.143914180012676]
[null,{"$f":"+$B$91","v":"2025-03-01"},null,18.169416818961725,null,null,0.63444895495859188,null,null,18.803865773920318,null,{"$f":"+$B$91","v":"2025-03-01"},null,23.277540452757854,null,null,0.90770474007360102,null,null,24.185245192831456,null,{"$f":"+$B$91","v":"2025-03-01"},null,13.061293185165598,null,null,0.36119316984358268,null,null,13.42248635500918]
[null,{"$f":"+$B$92","v":"2025-04-01"},null,18.699104826235068,null,null,0.65516198373511902,null,null,19.354266809970188,null,{"$f":"+$B$92","v":"2025-04-01"},null,23.941394516306737,null,null,0.93559489565277576,null,null,24.876989411959514,null,{"$f":"+$B$92","v":"2025-04-01"},null,13.456815136163401,null,null,0.37472907181746201,null,null,13.831544207980864]
[null,{"$f":"+$B$93","v":"2025-05-01"},null,17.806906293820735,null,null,0.62390195466880627,null,null,18.430808248489541,null,{"$f":"+$B$93","v":"2025-05-01"},null,22.799068332786312,null,null,0.89095444892590347,null,null,23.690022781712216,null,{"$f":"+$B$93","v":"2025-05-01"},null,12.814744254855157,null,null,0.35684946041170895,null,null,13.171593715266866]
[null,{"$f":"+$B$94","v":"2025-06-01"},null,18.644125336816831,null,null,0.65323566310711434,null,null,19.297360999923946,null,{"$f":"+$B$94","v":"2025-06-01"},null,23.871001539814067,null,null,0.93284404045712332,null,null,24.80384558027119,null,{"$f":"+$B$94","v":"2025-06-01"},null,13.417249133819594,null,null,0.3736272857571053,null,null,13.7908764195767]
[null,{"$f":"+$B$95","v":"2025-07-01"},null,18.106423264837101,null,null,0.61159169427033067,null,null,18.718014959107432,null,{"$f":"+$B$95","v":"2025-07-01"},null,23.168346534058188,null,null,0.88237602062677978,null,null,24.050722554684967,null,{"$f":"+$B$95","v":"2025-07-01"},null,13.044499995616018,null,null,0.34080736791388155,null,null,13.3853073635299]
[null,{"$f":"+$B$96","v":"2025-08-01"},null,17.902207994384877,null,null,0.60469379061343886,null,null,18.506901784998316,null,{"$f":"+$B$96","v":"2025-08-01"},null,22.907039809688619,null,null,0.87242404639878335,null,null,23.779463856087403,null,{"$f":"+$B$96","v":"2025-08-01"},null,12.897376179081139,null,null,0.33696353482809449,null,null,13.234339713909232]
[null,{"$f":"+$B$97","v":"2025-09-01"},null,18.691247698803959,null,null,0.63134566562010486,null,null,19.322593364424065,null,{"$f":"+$B$97","v":"2025-09-01"},null,23.916667444794971,null,null,0.91087613074025164,null,null,24.827543575535223,null,{"$f":"+$B$97","v":"2025-09-01"},null,13.465827952812948,null,null,0.35181520049995818,null,null,13.817643153312906]
[null,{"$f":"+$B$98","v":"2025-10-01"},null,17.967137276704445,null,null,0.61562459983257078,null,null,18.582761876537017,null,{"$f":"+$B$98","v":"2025-10-01"},null,22.976103752083439,null,null,0.88357603659669393,null,null,23.859679788680133,null,{"$f":"+$B$98","v":"2025-10-01"},null,12.958170801325455,null,null,0.34767316306844753,null,null,13.305843964393903]
[null,{"$f":"+$B$99","v":"2025-11-01"},null,18.825485215366818,null,null,0.64503496711135055,null,null,19.470520182478168,null,{"$f":"+$B$99","v":"2025-11-01"},null,24.073746130519751,null,null,0.92578730587037927,null,null,24.999533436390131,null,{"$f":"+$B$99","v":"2025-11-01"},null,13.577224300213885,null,null,0.364282628352322,null,null,13.941506928566207]
[null,{"$f":"+$B$100","v":"2025-12-01"},null,18.062973805198638,null,null,0.61890833522096089,null,null,18.681882140419599,null,{"$f":"+$B$100","v":"2025-12-01"},null,23.098658057091001,null,null,0.88828902223842288,null,null,23.986947079329422,null,{"$f":"+$B$100","v":"2025-12-01"},null,13.02728955330627,null,null,0.3495276482034988,null,null,13.376817201509768]
[null,{"$f":"+$B$101","v":"2026-01-01"},null,17.973512567235883,null,null,0.62554328509083457,null,null,18.599055852326718,null,{"$f":"+$B$101","v":"2026-01-01"},null,22.970312149255907,null,null,0.89284386172792052,null,null,23.863156010983829,null,{"$f":"+$B$101","v":"2026-01-01"},null,12.976712985215858,null,null,0.35824270845374878,null,null,13.334955693669608]
[null,{"$f":"+$B$102","v":"2026-02-01"},null,20.140110709482325,null,null,0.70094874155364828,null,null,20.841059451035974,null,{"$f":"+$B$102","v":"2026-02-01"},null,25.739244234357646,null,null,1.0004707846735306,null,null,26.739715019031177,null,{"$f":"+$B$102","v":"2026-02-01"},null,14.540977184607005,null,null,0.40142669843376588,null,null,14.942403883040772]
[null,{"$f":"+$B$103","v":"2026-03-01"},null,18.235129372586535,null,null,0.63464849673167645,null,null,18.869777869318209,null,{"$f":"+$B$103","v":"2026-03-01"},null,23.304660800356537,null,null,0.90583981663147095,null,null,24.210500616988007,null,{"$f":"+$B$103","v":"2026-03-01"},null,13.165597944816527,null,null,0.36345717683188211,null,null,13.52905512164841]
[null,{"$f":"+$B$104","v":"2026-04-01"},null,18.856069723811913,null,null,0.65262599836159341,null,null,19.508695722173506,null,{"$f":"+$B$104","v":"2026-04-01"},null,24.08368046387816,null,null,0.93227366929920485,null,null,25.015954133177367,null,{"$f":"+$B$104","v":"2026-04-01"},null,13.628458983745666,null,null,0.3729783274239819,null,null,14.001437311169648]
[null,{"$f":"+$B$105","v":"2026-05-01"},null,17.988910890213059,null,null,0.62261282977424681,null,null,18.611523719987307,null,{"$f":"+$B$105","v":"2026-05-01"},null,22.976112632101909,null,null,0.88939997613272703,null,null,23.865512608234635,null,{"$f":"+$B$105","v":"2026-05-01"},null,13.001709148324203,null,null,0.35582568341576654,null,null,13.357534831739969]
[null,{"$f":"+$B$106","v":"2026-06-01"},null,18.924855689634601,null,null,0.65500674420501825,null,null,19.579862433839619,null,{"$f":"+$B$106","v":"2026-06-01"},null,24.171536482949872,null,null,0.93567455536364397,null,null,25.107211038313515,null,{"$f":"+$B$106","v":"2026-06-01"},null,13.678174896319321,null,null,0.37433893304639265,null,null,14.052513829365713]
[null,{"$f":"+$B$107","v":"2026-07-01"},null,18.058006933718069,null,null,0.60539527958491435,null,null,18.663402213302984,null,{"$f":"+$B$107","v":"2026-07-01"},null,23.050509784475512,null,null,0.87246600534939878,null,null,23.92297578982491,null,{"$f":"+$B$107","v":"2026-07-01"},null,13.065504082960624,null,null,0.33832455382042992,null,null,13.403828636781054]
[null,{"$f":"+$B$108","v":"2026-08-01"},null,18.319966279252348,null,null,0.61417747530627542,null,null,18.934143754558622,null,{"$f":"+$B$108","v":"2026-08-01"},null,23.384893112576801,null,null,0.88512247539070132,null,null,24.270015587967503,null,{"$f":"+$B$108","v":"2026-08-01"},null,13.255039445927901,null,null,0.34323247522184952,null,null,13.598271921149751]
[null,{"$f":"+$B$109","v":"2026-09-01"},null,18.935327679930573,null,null,0.63480748661243747,null,null,19.570135166543011,null,{"$f":"+$B$109","v":"2026-09-01"},null,24.170383673045944,null,null,0.91485343656856355,null,null,25.085237109614507,null,{"$f":"+$B$109","v":"2026-09-01"},null,13.700271686815199,null,null,0.35476153665631138,null,null,14.055033223471511]
[null,{"$f":"+$B$110","v":"2026-10-01"},null,18.177585474231357,null,null,0.635113165409395,null,null,18.81269863964075,null,{"$f":"+$B$110","v":"2026-10-01"},null,23.189278566761558,null,null,0.90321046080259149,null,null,24.092489027564149,null,{"$f":"+$B$110","v":"2026-10-01"},null,13.165892381701152,null,null,0.36701587001619862,null,null,13.53290825171735]
[null,{"$f":"+$B$111","v":"2026-11-01"},null,18.855331041863007,null,null,0.65879316039062774,null,null,19.514124202253633,null,{"$f":"+$B$111","v":"2026-11-01"},null,24.053883537948629,null,null,0.93688637927456242,null,null,24.99076991722319,null,{"$f":"+$B$111","v":"2026-11-01"},null,13.656778545777383,null,null,0.38069994150669295,null,null,14.037478487284076]
[null,{"$f":"+$B$112","v":"2026-12-01"},null,18.429190936868963,null,null,0.64390409872870724,null,null,19.073095035597671,null,{"$f":"+$B$112","v":"2026-12-01"},null,23.510253493288158,null,null,0.91571226893170288,null,null,24.42596576221986,null,{"$f":"+$B$112","v":"2026-12-01"},null,13.348128380449767,null,null,0.37209592852571166,null,null,13.720224308975478]
[null,{"$f":"+$B$113","v":"2027-01-01"},null,18.182887296694311,null,null,0.63273305068075514,null,null,18.815620347375067,null,{"$f":"+$B$113","v":"2027-01-01"},null,23.182241855601131,null,null,0.90017030416147337,null,null,24.082412159762605,null,{"$f":"+$B$113","v":"2027-01-01"},null,13.183532737787491,null,null,0.36529579720003685,null,null,13.548828534987528]
[null,{"$f":"+$B$114","v":"2027-02-01"},null,20.370680608149041,null,null,0.70886447654442264,null,null,21.079545084693464,null,{"$f":"+$B$114","v":"2027-02-01"},null,25.971565291897782,null,null,1.0084801967808201,null,null,26.980045488678602,null,{"$f":"+$B$114","v":"2027-02-01"},null,14.769795924400304,null,null,0.4092487563080251,null,null,15.17904468070833]
[null,{"$f":"+$B$115","v":"2027-03-01"},null,18.423078605622685,null,null,0.64109129308557289,null,null,19.064169898708258,null,{"$f":"+$B$115","v":"2027-03-01"},null,23.48847336462023,null,null,0.91206132455262456,null,null,24.400534689172854,null,{"$f":"+$B$115","v":"2027-03-01"},null,13.357683846625136,null,null,0.37012126161852127,null,null,13.727805108243658]
[null,{"$f":"+$B$116","v":"2027-04-01"},null,18.969555913241049,null,null,0.64890936766261154,null,null,19.61846528090366,null,{"$f":"+$B$116","v":"2027-04-01"},null,24.170888444509234,null,null,0.92715130273881563,null,null,25.098039747248052,null,{"$f":"+$B$116","v":"2027-04-01"},null,13.768223381972863,null,null,0.37066743258640744,null,null,14.13889081455927]
[null,{"$f":"+$B$117","v":"2027-05-01"},null,18.411838657946731,null,null,0.62983101110419859,null,null,19.041669669050929,null,{"$f":"+$B$117","v":"2027-05-01"},null,23.46024863707509,null,null,0.89989245270716522,null,null,24.360141089782253,null,{"$f":"+$B$117","v":"2027-05-01"},null,13.363428678818371,null,null,0.3597695695012319,null,null,13.723198248319603]
[null,{"$f":"+$B$118","v":"2027-06-01"},null,19.000110806880659,null,null,0.64995458752971647,null,null,19.650065394410376,null,{"$f":"+$B$118","v":"2027-06-01"},null,24.209821297179829,null,null,0.92864469613044653,null,null,25.138465993310277,null,{"$f":"+$B$118","v":"2027-06-01"},null,13.790400316581486,null,null,0.37126447892898623,null,null,14.161664795510472]
[null,{"$f":"+$B$119","v":"2027-07-01"},null,18.284471551572171,null,null,0.61599947954257483,null,null,18.900471031114744,null,{"$f":"+$B$119","v":"2027-07-01"},null,23.284235551727715,null,null,0.88345863581929029,null,null,24.167694187547006,null,{"$f":"+$B$119","v":"2027-07-01"},null,13.284707551416625,null,null,0.34854032326585971,null,null,13.633247874682485]
[null,{"$f":"+$B$120","v":"2027-08-01"},null,18.347709599947212,null,null,0.61812995428866979,null,null,18.965839554235881,null,{"$f":"+$B$120","v":"2027-08-01"},null,23.364765612989967,null,null,0.88651413566196879,null,null,24.251279748651935,null,{"$f":"+$B$120","v":"2027-08-01"},null,13.330653586904459,null,null,0.3497457729153709,null,null,13.68039935981983]
[null,{"$f":"+$B$121","v":"2027-09-01"},null,19.298412810096636,null,null,0.65015891837438033,null,null,19.948571728471016,null,{"$f":"+$B$121","v":"2027-09-01"},null,24.575432129791736,null,null,0.93244966946936569,null,null,25.507881799261103,null,{"$f":"+$B$121","v":"2027-09-01"},null,14.02139349040154,null,null,0.36786816727939498,null,null,14.389261657680935]
[null,{"$f":"+$B$122","v":"2027-10-01"},null,18.440129642703965,null,null,0.64025147260940996,null,null,19.080381115313376,null,{"$f":"+$B$122","v":"2027-10-01"},null,23.468690370935786,null,null,0.90925109131486603,null,null,24.37794146225065,null,{"$f":"+$B$122","v":"2027-10-01"},null,13.411568914472147,null,null,0.37125185390395365,null,null,13.7828207683761]
[null,{"$f":"+$B$123","v":"2027-11-01"},null,19.097548453545521,null,null,0.66307741634831241,null,null,19.760625869893833,null,{"$f":"+$B$123","v":"2027-11-01"},null,24.305385058804958,null,null,0.94166728267527289,null,null,25.247052341480231,null,{"$f":"+$B$123","v":"2027-11-01"},null,13.889711848286083,null,null,0.38448755002135204,null,null,14.274199398307434]
[null,{"$f":"+$B$124","v":"2027-12-01"},null,18.537855724832625,null,null,0.64364457608577164,null,null,19.181500300918398,null,{"$f":"+$B$124","v":"2027-12-01"},null,23.593066023769094,null,null,0.91406979641874064,null,null,24.507135820187834,null,{"$f":"+$B$124","v":"2027-12-01"},null,13.482645425896155,null,null,0.37321935575280257,null,null,13.855864781648958]
[null,{"$f":"+$B$125","v":"2028-01-01"},null,18.342666303537982,null,null,0.62913707820822296,null,null,18.971803381746206,null,{"$f":"+$B$125","v":"2028-01-01"},null,23.331032426209703,null,null,0.89598651236703952,null,null,24.227018938576741,null,{"$f":"+$B$125","v":"2028-01-01"},null,13.354300180866263,null,null,0.36228764404940617,null,null,13.716587824915669]
[null,{"$f":"+$B$126","v":"2028-02-01"},null,20.534999761135708,null,null,0.70433215852787767,null,null,21.239331919663584,null,{"$f":"+$B$126","v":"2028-02-01"},null,26.119580292798275,null,null,1.003075698645246,null,null,27.122655991443523,null,{"$f":"+$B$126","v":"2028-02-01"},null,14.950419229473139,null,null,0.40558861841050931,null,null,15.356007847883649]
[null,{"$f":"+$B$127","v":"2028-03-01"},null,18.720462944468476,null,null,0.64209516570208114,null,null,19.362558110170557,null,{"$f":"+$B$127","v":"2028-03-01"},null,23.811572470617655,null,null,0.91444079208241569,null,null,24.726013262700071,null,{"$f":"+$B$127","v":"2028-03-01"},null,13.629353418319292,null,null,0.36974953932174659,null,null,13.999102957641039]
[null,{"$f":"+$B$128","v":"2028-04-01"},null,19.187020841181184,null,null,0.65100012327480961,null,null,19.838020964455993,null,{"$f":"+$B$128","v":"2028-04-01"},null,24.390846619405934,null,null,0.92937543299177117,null,null,25.320222052397707,null,{"$f":"+$B$128","v":"2028-04-01"},null,13.983195062956431,null,null,0.37262481355784816,null,null,14.35581987651428]
[null,{"$f":"+$B$129","v":"2028-05-01"},null,18.445961305675738,null,null,0.62585657165409248,null,null,19.071817877329831,null,{"$f":"+$B$129","v":"2028-05-01"},null,23.44879992982467,null,null,0.89348020296185215,null,null,24.342280132786524,null,{"$f":"+$B$129","v":"2028-05-01"},null,13.443122681526809,null,null,0.35823294034633291,null,null,13.801355621873142]
[null,{"$f":"+$B$130","v":"2028-06-01"},null,19.37315247628722,null,null,0.65731541934929472,null,null,20.030467895636516,null,{"$f":"+$B$130","v":"2028-06-01"},null,24.62746011977524,null,null,0.93839122394764807,null,null,25.565851343722887,null,{"$f":"+$B$130","v":"2028-06-01"},null,14.118844832799205,null,null,0.37623961475094136,null,null,14.495084447550147]
[null,{"$f":"+$B$131","v":"2028-07-01"},null,18.535254437650273,null,null,0.62169620585834628,null,null,19.156950643508619,null,{"$f":"+$B$131","v":"2028-07-01"},null,23.548697053406162,null,null,0.88988709087013551,null,null,24.438584144276298,null,{"$f":"+$B$131","v":"2028-07-01"},null,13.521811821894394,null,null,0.35350532084655722,null,null,13.875317142740951]
[null,{"$f":"+$B$132","v":"2028-08-01"},null,18.589236102399425,null,null,0.62350682012713632,null,null,19.212742922526562,null,{"$f":"+$B$132","v":"2028-08-01"},null,23.617279757457634,null,null,0.89247877833606881,null,null,24.509758535793704,null,{"$f":"+$B$132","v":"2028-08-01"},null,13.56119244734121,null,null,0.35453486191820371,null,null,13.915727309259413]
[null,{"$f":"+$B$133","v":"2028-09-01"},null,19.415493108615308,null,null,0.65122053981500116,null,null,20.066713648430309,null,{"$f":"+$B$133","v":"2028-09-01"},null,24.667023962107404,null,null,0.93214780182025547,null,null,25.599171763927661,null,{"$f":"+$B$133","v":"2028-09-01"},null,14.163962255123215,null,null,0.3702932778097468,null,null,14.534255532932962]
[null,{"$f":"+$B$134","v":"2028-10-01"},null,18.692538651560668,null,null,0.63983761873008915,null,null,19.332376270290755,null,{"$f":"+$B$134","v":"2028-10-01"},null,23.734871540760537,null,null,0.909573970319839,null,null,24.644445511080377,null,{"$f":"+$B$134","v":"2028-10-01"},null,13.650205762360795,null,null,0.37010126714033947,null,null,14.020307029501135]
[null,{"$f":"+$B$135","v":"2028-11-01"},null,19.338244486698876,null,null,0.66193985383342346,null,null,20.0001843405323,null,{"$f":"+$B$135","v":"2028-11-01"},null,24.554757236106973,null,null,0.94099384490580451,null,null,25.495751081012777,null,{"$f":"+$B$135","v":"2028-11-01"},null,14.121731737290782,null,null,0.38288586276104236,null,null,14.504617600051825]
[null,{"$f":"+$B$136","v":"2028-12-01"},null,18.658095716150104,null,null,0.63865865175369463,null,null,19.296754367903798,null,{"$f":"+$B$136","v":"2028-12-01"},null,23.691137585587562,null,null,0.90789798622293083,null,null,24.599035571810493,null,{"$f":"+$B$136","v":"2028-12-01"},null,13.625053846712643,null,null,0.36941931728445843,null,null,13.994473163997101]
[null,{"$f":"+$B$137","v":"2029-01-01"},null,18.542410768977451,null,null,0.62045144447746359,null,null,19.162862213454915,null,{"$f":"+$B$137","v":"2029-01-01"},null,23.530776891649172,null,null,0.88730087863628027,null,null,24.418077770285453,null,{"$f":"+$B$137","v":"2029-01-01"},null,13.55404464630573,null,null,0.35360201031864696,null,null,13.907646656624378]
[null,{"$f":"+$B$138","v":"2029-02-01"},null,20.042803471204667,null,null,0.67065639522409504,null,null,20.713459866428764,null,{"$f":"+$B$138","v":"2029-02-01"},null,25.434812260396114,null,null,0.95909843395810568,null,null,26.393910694354219,null,{"$f":"+$B$138","v":"2029-02-01"},null,14.650794682013224,null,null,0.38221435649008428,null,null,15.033009038503309]
[null,{"$f":"+$B$139","v":"2029-03-01"},null,18.92432146763754,null,null,0.63323063740967345,null,null,19.557552105047215,null,{"$f":"+$B$139","v":"2029-03-01"},null,24.015430993786719,null,null,0.90557626379000788,null,null,24.921007257576726,null,{"$f":"+$B$139","v":"2029-03-01"},null,13.833211941488356,null,null,0.36088501102933895,null,null,14.194096952517695]
[null,{"$f":"+$B$140","v":"2029-04-01"},null,19.395403855054788,null,null,0.64816596333220355,null,null,20.043569818386992,null,{"$f":"+$B$140","v":"2029-04-01"},null,24.599229633279542,null,null,0.92654127304916511,null,null,25.525770906328706,null,{"$f":"+$B$140","v":"2029-04-01"},null,14.191578076830037,null,null,0.36979065361524205,null,null,14.561368730445279]
[null,{"$f":"+$B$141","v":"2029-05-01"},null,18.646295950772004,null,null,0.62313187535714554,null,null,19.269427826129149,null,{"$f":"+$B$141","v":"2029-05-01"},null,23.649134574920932,null,null,0.89075550666490522,null,null,24.539890081585838,null,{"$f":"+$B$141","v":"2029-05-01"},null,13.643457326623073,null,null,0.35550824404938597,null,null,13.998965570672459]
[null,{"$f":"+$B$142","v":"2029-06-01"},null,19.583556995814138,null,null,0.65445376546541256,null,null,20.238010761279551,null,{"$f":"+$B$142","v":"2029-06-01"},null,24.837864639302154,null,null,0.93552957006376591,null,null,25.773394209365922,null,{"$f":"+$B$142","v":"2029-06-01"},null,14.329249352326123,null,null,0.37337796086705916,null,null,14.702627313193181]
[null,{"$f":"+$B$143","v":"2029-07-01"},null,18.736003017579943,null,null,0.62235962896061225,null,null,19.358362646540556,null,{"$f":"+$B$143","v":"2029-07-01"},null,23.749445633335831,null,null,0.89055051397240115,null,null,24.639996147308231,null,{"$f":"+$B$143","v":"2029-07-01"},null,13.722560401824056,null,null,0.35416874394882319,null,null,14.07672914577288]
[null,{"$f":"+$B$144","v":"2029-08-01"},null,18.790569338049735,null,null,0.62417217536816039,null,null,19.414741513417894,null,{"$f":"+$B$144","v":"2029-08-01"},null,23.818612993107951,null,null,0.89314413357709288,null,null,24.711757126685043,null,{"$f":"+$B$144","v":"2029-08-01"},null,13.762525682991519,null,null,0.35520021715922789,null,null,14.117725900150747]
[null,{"$f":"+$B$145","v":"2029-09-01"},null,19.625775232515995,null,null,0.6519154688602683,null,null,20.277690701376262,null,{"$f":"+$B$145","v":"2029-09-01"},null,24.877306086008094,null,null,0.93284273086552238,null,null,25.810148816873618,null,{"$f":"+$B$145","v":"2029-09-01"},null,14.374244379023899,null,null,0.37098820685501399,null,null,14.745232585878913]
[null,{"$f":"+$B$146","v":"2029-10-01"},null,18.894444057610059,null,null,0.63197747235481205,null,null,19.526421529964871,null,{"$f":"+$B$146","v":"2029-10-01"},null,23.936776946809928,null,null,0.9017138239445619,null,null,24.83849077075449,null,{"$f":"+$B$146","v":"2029-10-01"},null,13.852111168410191,null,null,0.36224112076506232,null,null,14.214352289175254]
[null,{"$f":"+$B$147","v":"2029-11-01"},null,19.547124413505575,null,null,0.65380819043875349,null,null,20.200932603944327,null,{"$f":"+$B$147","v":"2029-11-01"},null,24.763637162913668,null,null,0.93286218151113454,null,null,25.696499344424801,null,{"$f":"+$B$147","v":"2029-11-01"},null,14.330611664097482,null,null,0.37475419936637244,null,null,14.705365863463854]
[null,{"$f":"+$B$148","v":"2029-12-01"},null,18.859629090610355,null,null,0.6308129885109105,null,null,19.490442079121266,null,{"$f":"+$B$148","v":"2029-12-01"},null,23.892670960047813,null,null,0.9000523229801467,null,null,24.792723283027961,null,{"$f":"+$B$148","v":"2029-12-01"},null,13.826587221172897,null,null,0.3615736540416743,null,null,14.188160875214571]
[null,{"$f":"+$B$149","v":"2030-01-01"},null,18.742155234416916,null,null,0.61459232314450918,null,null,19.356747557561427,null,{"$f":"+$B$149","v":"2030-01-01"},null,23.730521357088637,null,null,0.88144175730332586,null,null,24.611963114391962,null,{"$f":"+$B$149","v":"2030-01-01"},null,13.753789111745194,null,null,0.3477428889856925,null,null,14.101532000730886]
[null,{"$f":"+$B$150","v":"2030-02-01"},null,20.98223600064539,null,null,0.6880490000809768,null,null,21.670285000726366,null,{"$f":"+$B$150","v":"2030-02-01"},null,26.566816532307961,null,null,0.98679254019834517,null,null,27.553609072506305,null,{"$f":"+$B$150","v":"2030-02-01"},null,15.397655468982817,null,null,0.38930545996360844,null,null,15.786960928946426]
[null,{"$f":"+$B$151","v":"2030-03-01"},null,19.128179990806604,null,null,0.62725083807267301,null,null,19.755430828879277,null,{"$f":"+$B$151","v":"2030-03-01"},null,24.219289516955786,null,null,0.89959646445300756,null,null,25.118885981408795,null,{"$f":"+$B$151","v":"2030-03-01"},null,14.037070464657418,null,null,0.35490521169233846,null,null,14.391975676349757]
[null,{"$f":"+$B$152","v":"2030-04-01"},null,19.603775769375087,null,null,0.64625584120279533,null,null,20.250031610577881,null,{"$f":"+$B$152","v":"2030-04-01"},null,24.807601547599841,null,null,0.92463115091975689,null,null,25.732232698519599,null,{"$f":"+$B$152","v":"2030-04-01"},null,14.399949991150329,null,null,0.36788053148583383,null,null,14.767830522636164]
[null,{"$f":"+$B$153","v":"2030-05-01"},null,18.846619925012554,null,null,0.62129552779804176,null,null,19.467915452810598,null,{"$f":"+$B$153","v":"2030-05-01"},null,23.84945854916149,null,null,0.88891915910580122,null,null,24.73837770826729,null,{"$f":"+$B$153","v":"2030-05-01"},null,13.843781300863624,null,null,0.35367189649028208,null,null,14.197453197353905]
[null,{"$f":"+$B$154","v":"2030-06-01"},null,19.793950308111935,null,null,0.65252511340589481,null,null,20.446475421517828,null,{"$f":"+$B$154","v":"2030-06-01"},null,25.048257951599954,null,null,0.93360091800424816,null,null,25.981858869604203,null,{"$f":"+$B$154","v":"2030-06-01"},null,14.539642664623917,null,null,0.3714493088075414,null,null,14.911091973431459]
[null,{"$f":"+$B$155","v":"2030-07-01"},null,18.936751597509605,null,null,0.61619655238485638,null,null,19.552948149894462,null,{"$f":"+$B$155","v":"2030-07-01"},null,23.95019421326549,null,null,0.88438743739664549,null,null,24.834581650662138,null,{"$f":"+$B$155","v":"2030-07-01"},null,13.923308981753724,null,null,0.34800566737306737,null,null,14.271314649126792]
[null,{"$f":"+$B$156","v":"2030-08-01"},null,18.991902573700049,null,null,0.6179911495846041,null,null,19.609893723284653,null,{"$f":"+$B$156","v":"2030-08-01"},null,24.019946228758261,null,null,0.8869631077935366,null,null,24.906909336551799,null,{"$f":"+$B$156","v":"2030-08-01"},null,13.963858918641835,null,null,0.34901919137567161,null,null,14.312878110017506]
[null,{"$f":"+$B$157","v":"2030-09-01"},null,19.836057356416681,null,null,0.64545970796489072,null,null,20.48151706438157,null,{"$f":"+$B$157","v":"2030-09-01"},null,25.087588209908777,null,null,0.92638696997014491,null,null,26.013975179878923,null,{"$f":"+$B$157","v":"2030-09-01"},null,14.584526502924588,null,null,0.36453244595963646,null,null,14.949058948884224]
[null,{"$f":"+$B$158","v":"2030-10-01"},null,19.096349463659454,null,null,0.62673802007701829,null,null,19.723087483736471,null,{"$f":"+$B$158","v":"2030-10-01"},null,24.138682352859323,null,null,0.89647437166676813,null,null,25.035156724526093,null,{"$f":"+$B$158","v":"2030-10-01"},null,14.054016574459585,null,null,0.3570016684872685,null,null,14.411018242946852]
[null,{"$f":"+$B$159","v":"2030-11-01"},null,19.756004340312277,null,null,0.64838774910582042,null,null,20.404392089418096,null,{"$f":"+$B$159","v":"2030-11-01"},null,24.97251708972037,null,null,0.92744174017820147,null,null,25.899958829898573,null,{"$f":"+$B$159","v":"2030-11-01"},null,14.539491590904182,null,null,0.36933375803343943,null,null,14.908825348937622]
[null,{"$f":"+$B$160","v":"2030-12-01"},null,19.061162465070609,null,null,0.62558319046573618,null,null,19.686745655536345,null,{"$f":"+$B$160","v":"2030-12-01"},null,24.094204334508067,null,null,0.89482252493497239,null,null,24.98902685944304,null,{"$f":"+$B$160","v":"2030-12-01"},null,14.028120595633151,null,null,0.35634385599649993,null,null,14.38446445162965]
[null,{"$f":"+$B$161","v":"2031-01-01"},null,18.941910339842824,null,null,0.61165685728555774,null,null,19.55356719712838,null,{"$f":"+$B$161","v":"2031-01-01"},null,23.930276462514545,null,null,0.87850629144437442,null,null,24.808782753958919,null,{"$f":"+$B$161","v":"2031-01-01"},null,13.953544217171105,null,null,0.34480742312674123,null,null,14.298351640297847]
[null,{"$f":"+$B$162","v":"2031-02-01"},null,21.205866032088277,null,null,0.68476268446497712,null,null,21.890628716553255,null,{"$f":"+$B$162","v":"2031-02-01"},null,26.790446563750852,null,null,0.98350622458234527,null,null,27.773952788333197,null,{"$f":"+$B$162","v":"2031-02-01"},null,15.621285500425712,null,null,0.38601914434760881,null,null,16.00730464477332]
[null,{"$f":"+$B$163","v":"2031-03-01"},null,19.332049373109701,null,null,0.62425491158478552,null,null,19.956304284694486,null,{"$f":"+$B$163","v":"2031-03-01"},null,24.42315889925888,null,null,0.89660053796511996,null,null,25.319759437224,null,{"$f":"+$B$163","v":"2031-03-01"},null,14.240939846960519,null,null,0.35190928520445103,null,null,14.59284913216497]
[null,{"$f":"+$B$164","v":"2031-04-01"},null,19.812147683695382,null,null,0.64508117547581956,null,null,20.457228859171202,null,{"$f":"+$B$164","v":"2031-04-01"},null,25.015973461920137,null,null,0.92345648519278123,null,null,25.939429947112917,null,{"$f":"+$B$164","v":"2031-04-01"},null,14.608321905470628,null,null,0.36670586575885794,null,null,14.975027771229486]
[null,{"$f":"+$B$165","v":"2031-05-01"},null,19.046943899253115,null,null,0.62016623113827085,null,null,19.667110130391386,null,{"$f":"+$B$165","v":"2031-05-01"},null,24.049782523402047,null,null,0.88778986244603053,null,null,24.937572385848078,null,{"$f":"+$B$165","v":"2031-05-01"},null,14.044105275104181,null,null,0.35254259983051112,null,null,14.396647874934692]
[null,{"$f":"+$B$166","v":"2031-06-01"},null,20.004343620409731,null,null,0.65133905234796707,null,null,20.655682672757699,null,{"$f":"+$B$166","v":"2031-06-01"},null,25.25865126389775,null,null,0.93241485694632043,null,null,26.19106612084407,null,{"$f":"+$B$166","v":"2031-06-01"},null,14.750035976921714,null,null,0.37026324774961361,null,null,15.120299224671328]
[null,{"$f":"+$B$167","v":"2031-07-01"},null,19.137500177439275,null,null,0.61286938500834132,null,null,19.750369562447617,null,{"$f":"+$B$167","v":"2031-07-01"},null,24.15094279319516,null,null,0.88106027002013054,null,null,25.032003063215292,null,{"$f":"+$B$167","v":"2031-07-01"},null,14.124057561683392,null,null,0.34467849999655226,null,null,14.468736061679945]
[null,{"$f":"+$B$168","v":"2031-08-01"},null,19.193235809350362,null,null,0.6146542922394681,null,null,19.80789010158983,null,{"$f":"+$B$168","v":"2031-08-01"},null,24.221279464408575,null,null,0.8836262504484006,null,null,25.104905714856976,null,{"$f":"+$B$168","v":"2031-08-01"},null,14.165192154292148,null,null,0.3456823340305355,null,null,14.510874488322683]
[null,{"$f":"+$B$169","v":"2031-09-01"},null,20.046339480317371,null,null,0.64197453351059675,null,null,20.688314013827966,null,{"$f":"+$B$169","v":"2031-09-01"},null,25.297870333809463,null,null,0.92290179551585116,null,null,26.220772129325315,null,{"$f":"+$B$169","v":"2031-09-01"},null,14.794808626825278,null,null,0.36104727150534244,null,null,15.15585589833062]
[null,{"$f":"+$B$170","v":"2031-10-01"},null,19.298265624804252,null,null,0.62303052358879873,null,null,19.921296148393051,null,{"$f":"+$B$170","v":"2031-10-01"},null,24.340598514004121,null,null,0.89276687517854847,null,null,25.233365389182669,null,{"$f":"+$B$170","v":"2031-10-01"},null,14.255932735604384,null,null,0.353294171999049,null,null,14.609226907603434]
[null,{"$f":"+$B$171","v":"2031-11-01"},null,19.964895393733091,null,null,0.64455218268762393,null,null,20.609447576420713,null,{"$f":"+$B$171","v":"2031-11-01"},null,25.181408143141184,null,null,0.92360617376000498,null,null,26.10501431690119,null,{"$f":"+$B$171","v":"2031-11-01"},null,14.748382644324996,null,null,0.36549819161524277,null,null,15.11388083594024]
[null,{"$f":"+$B$172","v":"2031-12-01"},null,19.262706574808892,null,null,0.62188252542317835,null,null,19.88458910023207,null,{"$f":"+$B$172","v":"2031-12-01"},null,24.29574844424635,null,null,0.89112185989241466,null,null,25.186870304138765,null,{"$f":"+$B$172","v":"2031-12-01"},null,14.229664705371434,null,null,0.3526431909539422,null,null,14.582307896325377]
[null,{"$f":"+$B$173","v":"2032-01-01"},null,19.141654805282293,null,null,0.61180443389748163,null,null,19.753459239179776,null,{"$f":"+$B$173","v":"2032-01-01"},null,24.130020927954014,null,null,0.87865386805629819,null,null,25.008674796010311,null,{"$f":"+$B$173","v":"2032-01-01"},null,14.153288682610569,null,null,0.34495499973866495,null,null,14.498243682349234]
[null,{"$f":"+$B$174","v":"2032-02-01"},null,21.42948415184312,null,null,0.68492789957822475,null,null,22.114412051421343,null,{"$f":"+$B$174","v":"2032-02-01"},null,27.014064683505691,null,null,0.98367143969559301,null,null,27.997736123201285,null,{"$f":"+$B$174","v":"2032-02-01"},null,15.844903620180547,null,null,0.38618435946085661,null,null,16.231087979641405]
[null,{"$f":"+$B$175","v":"2032-03-01"},null,19.535907896278761,null,null,0.62440552777379921,null,null,20.160313424052561,null,{"$f":"+$B$175","v":"2032-03-01"},null,24.627017422427944,null,null,0.89675115415413376,null,null,25.523768576582079,null,{"$f":"+$B$175","v":"2032-03-01"},null,14.444798370129579,null,null,0.35205990139346471,null,null,14.796858271523044]
[null,{"$f":"+$B$176","v":"2032-04-01"},null,20.020519598015678,null,null,0.64442374893316834,null,null,20.664943346948846,null,{"$f":"+$B$176","v":"2032-04-01"},null,25.224345376240429,null,null,0.9227990586501299,null,null,26.14714443489056,null,{"$f":"+$B$176","v":"2032-04-01"},null,14.816693819790926,null,null,0.36604843921620672,null,null,15.182742259007133]
[null,{"$f":"+$B$177","v":"2032-05-01"},null,19.247267873493669,null,null,0.61953419635457785,null,null,19.866802069848248,null,{"$f":"+$B$177","v":"2032-05-01"},null,24.250106497642598,null,null,0.88715782766233753,null,null,25.137264325304937,null,{"$f":"+$B$177","v":"2032-05-01"},null,14.244429249344737,null,null,0.35191056504681822,null,null,14.596339814391555]
[null,{"$f":"+$B$178","v":"2032-06-01"},null,20.214736932707527,null,null,0.65067524816710098,null,null,20.865412180874628,null,{"$f":"+$B$178","v":"2032-06-01"},null,25.469044576195543,null,null,0.93175105276545445,null,null,26.400795628960999,null,{"$f":"+$B$178","v":"2032-06-01"},null,14.960429289219512,null,null,0.36959944356874758,null,null,15.330028732788259]
[null,{"$f":"+$B$179","v":"2032-07-01"},null,19.338259450842543,null,null,0.61103278091720403,null,null,19.949292231759745,null,{"$f":"+$B$179","v":"2032-07-01"},null,24.351702066598428,null,null,0.87922366592899315,null,null,25.230925732527421,null,{"$f":"+$B$179","v":"2032-07-01"},null,14.324816835086658,null,null,0.34284189590541514,null,null,14.667658730992073]
[null,{"$f":"+$B$180","v":"2032-08-01"},null,19.394579769617714,null,null,0.61281233926322876,null,null,20.007392108880943,null,{"$f":"+$B$180","v":"2032-08-01"},null,24.42262342467593,null,null,0.88178429747216125,null,null,25.304407722148092,null,{"$f":"+$B$180","v":"2032-08-01"},null,14.3665361145595,null,null,0.34384038105429626,null,null,14.710376495613795]
[null,{"$f":"+$B$181","v":"2032-09-01"},null,20.256632805524397,null,null,0.640050709146886,null,null,20.896683514671285,null,{"$f":"+$B$181","v":"2032-09-01"},null,25.508163659016489,null,null,0.92097797115214031,null,null,26.42914163016863,null,{"$f":"+$B$181","v":"2032-09-01"},null,15.005101952032303,null,null,0.35912344714163175,null,null,15.364225399173936]
[null,{"$f":"+$B$182","v":"2032-10-01"},null,19.500171030853643,null,null,0.6242676822133052,null,null,20.124438713066947,null,{"$f":"+$B$182","v":"2032-10-01"},null,24.542503920053516,null,null,0.89400403380305504,null,null,25.436507953856569,null,{"$f":"+$B$182","v":"2032-10-01"},null,14.457838141653774,null,null,0.35453133062355541,null,null,14.812369472277329]
[null,{"$f":"+$B$183","v":"2032-11-01"},null,20.173775320539786,null,null,0.64583207710943036,null,null,20.819607397649214,null,{"$f":"+$B$183","v":"2032-11-01"},null,25.390288069947882,null,null,0.92488606818181152,null,null,26.315174138129695,null,{"$f":"+$B$183","v":"2032-11-01"},null,14.95726257113169,null,null,0.36677808603704926,null,null,15.324040657168739]
[null,{"$f":"+$B$184","v":"2032-12-01"},null,19.464239949269146,null,null,0.62311740445498798,null,null,20.087357353724133,null,{"$f":"+$B$184","v":"2032-12-01"},null,24.497281818706604,null,null,0.89235673892422429,null,null,25.389638557630828,null,{"$f":"+$B$184","v":"2032-12-01"},null,14.431198079831683,null,null,0.35387806998575178,null,null,14.785076149817435]
[]
[]
[null,null,"ECOPETROL MEDIO",null,null,null,null,null,null,null,null,null,"ECOPETROL ALTO",null,null,null,null,null,null,null,null,null,"Proyección Escenario Bajo - Revisión Marzo de 2015"]
[null,null,"CENTRO","COSTA","CQR","NORESTE","NOROESTE","SUROESTE","TOLIMA GRANDE","TOTAL",null,null,"CENTRO","COSTA","CQR","NORESTE","NOROESTE","SUROESTE","TOLIMA GRANDE","TOTAL",null,null,"CENTRO","COSTA","CQR","NORESTE","NOROESTE","SUROESTE","TOLIMA GRANDE","TOTAL"]
[null,{"$f":"+$B$5","v":"2018-01-01"},56.034999999999997,72.090873963167994,null,99.5,null,null,null,227.62587396316798,null,{"$f":"+$B$5","v":"2018-01-01"},56.034999999999997,72.090873963167994,null,99.5,null,null,null,227.62587396316798,null,{"$f":"+$B$5","v":"2018-01-01"},50.4315,64.88178656685119,null,89.55,null,null,null,204.86328656685117]
[null,{"$f":"+$B$6","v":"2018-02-01"},56.034999999999997,72.522639112247901,null,105.67100000000001,null,null,null,234.22863911224789,null,{"$f":"+$B$6","v":"2018-02-01"},56.034999999999997,72.522639112247901,null,105.67100000000001,null,null,null,234.22863911224789,null,{"$f":"+$B$6","v":"2018-02-01"},50.4315,65.270375201023114,null,95.10390000000001,null,null,null,210.80577520102312]
[null,{"$f":"+$B$7","v":"2018-03-01"},56.034999999999997,72,null,103.83907511809502,null,null,null,231.87407511809502,null,{"$f":"+$B$7","v":"2018-03-01"},56.034999999999997,72,null,103.83907511809502,null,null,null,231.87407511809502,null,{"$f":"+$B$7","v":"2018-03-01"},50.4315,64.8,null,93.455167606285528,null,null,null,208.68666760628554]
[null,{"$f":"+$B$8","v":"2018-04-01"},56.034999999999997,72,null,107.77697809006249,null,null,null,235.8119780900625,null,{"$f":"+$B$8","v":"2018-04-01"},56.034999999999997,72,null,107.77697809006249,null,null,null,235.8119780900625,null,{"$f":"+$B$8","v":"2018-04-01"},50.4315,64.8,null,96.999280281056244,null,null,null,212.23078028105624]
[null,{"$f":"+$B$9","v":"2018-05-01"},56.034999999999997,72,null,109.06573650849549,null,null,null,237.10073650849549,null,{"$f":"+$B$9","v":"2018-05-01"},56.034999999999997,72,null,109.06573650849549,null,null,null,237.10073650849549,null,{"$f":"+$B$9","v":"2018-05-01"},50.4315,64.8,null,98.159162857645939,null,null,null,213.39066285764594]
[null,{"$f":"+$B$10","v":"2018-06-01"},56.034999999999997,72,null,103.14727918440089,null,null,null,231.1822791844009,null,{"$f":"+$B$10","v":"2018-06-01"},56.034999999999997,72,null,103.14727918440089,null,null,null,231.1822791844009,null,{"$f":"+$B$10","v":"2018-06-01"},50.4315,64.8,null,92.832551265960802,null,null,null,208.06405126596081]
[null,{"$f":"+$B$11","v":"2018-07-01"},56.034999999999997,72,null,98.439882762290239,null,null,null,226.47488276229024,null,{"$f":"+$B$11","v":"2018-07-01"},56.034999999999997,72,null,98.439882762290239,null,null,null,226.47488276229024,null,{"$f":"+$B$11","v":"2018-07-01"},50.4315,64.8,null,88.595894486061212,null,null,null,203.82739448606122]
[null,{"$f":"+$B$12","v":"2018-08-01"},56.034999999999997,72.039792536172399,null,98.484680823877653,null,null,null,226.55947336005005,null,{"$f":"+$B$12","v":"2018-08-01"},56.034999999999997,72.039792536172399,null,98.484680823877653,null,null,null,226.55947336005005,null,{"$f":"+$B$12","v":"2018-08-01"},50.4315,64.835813282555165,null,88.636212741489885,null,null,null,203.90352602404505]
[null,{"$f":"+$B$13","v":"2018-09-01"},56.034999999999997,72,null,108.8739526020758,null,null,null,236.9089526020758,null,{"$f":"+$B$13","v":"2018-09-01"},56.034999999999997,72,null,108.8739526020758,null,null,null,236.9089526020758,null,{"$f":"+$B$13","v":"2018-09-01"},50.4315,64.8,null,97.98655734186822,null,null,null,213.21805734186822]
[null,{"$f":"+$B$14","v":"2018-10-01"},56.034999999999997,72,null,107.82800827085444,null,null,null,235.86300827085444,null,{"$f":"+$B$14","v":"2018-10-01"},56.034999999999997,72,null,107.82800827085444,null,null,null,235.86300827085444,null,{"$f":"+$B$14","v":"2018-10-01"},50.4315,64.8,null,97.045207443769002,null,null,null,212.276707443769]
[null,{"$f":"+$B$15","v":"2018-11-01"},56.034999999999997,72.199781791448075,null,105.8658258666528,null,null,null,234.1006076581009,null,{"$f":"+$B$15","v":"2018-11-01"},56.034999999999997,72.199781791448075,null,105.8658258666528,null,null,null,234.1006076581009,null,{"$f":"+$B$15","v":"2018-11-01"},50.4315,64.979803612303272,null,95.279243279987526,null,null,null,210.6905468922908]
[null,{"$f":"+$B$16","v":"2018-12-01"},57.94039999999999,72.233197836987074,null,102.14172012591611,null,null,null,232.31531796290318,null,{"$f":"+$B$16","v":"2018-12-01"},57.94039999999999,72.233197836987074,null,102.14172012591611,null,null,null,232.31531796290318,null,{"$f":"+$B$16","v":"2018-12-01"},52.146359999999994,65.009878053288375,null,91.927548113324505,null,null,null,209.08378616661287]
[null,{"$f":"+$B$17","v":"2019-01-01"},57.22936112466742,73.753909151314559,null,103.2,null,null,null,234.18327027598195,null,{"$f":"+$B$17","v":"2019-01-01"},57.22936112466742,73.753909151314559,null,103.2,null,null,null,234.18327027598195,null,{"$f":"+$B$17","v":"2019-01-01"},51.50642501220068,66.378518236183112,null,92.88000000000001,null,null,null,210.76494324838382]
[null,{"$f":"+$B$18","v":"2019-02-01"},57.22936112466742,72,null,103.2,null,null,null,232.42936112466742,null,{"$f":"+$B$18","v":"2019-02-01"},57.22936112466742,72,null,103.2,null,null,null,232.42936112466742,null,{"$f":"+$B$18","v":"2019-02-01"},51.50642501220068,64.8,null,92.88000000000001,null,null,null,209.18642501220069]
[null,{"$f":"+$B$19","v":"2019-03-01"},57.22936112466742,72.912491576249266,null,103.19999999999999,null,null,null,233.34185270091666,null,{"$f":"+$B$19","v":"2019-03-01"},57.22936112466742,72.912491576249266,null,103.19999999999999,null,null,null,233.34185270091666,null,{"$f":"+$B$19","v":"2019-03-01"},51.50642501220068,65.621242418624348,null,92.88,null,null,null,210.00766743082502]
[null,{"$f":"+$B$20","v":"2019-04-01"},61.279361124667417,72.983501621491854,null,103.2,null,null,null,237.46286274615926,null,{"$f":"+$B$20","v":"2019-04-01"},61.279361124667417,72.983501621491854,null,103.2,null,null,null,237.46286274615926,null,{"$f":"+$B$20","v":"2019-04-01"},55.151425012200676,65.685151459342677,null,92.88000000000001,null,null,null,213.71657647154336]
[null,{"$f":"+$B$21","v":"2019-05-01"},61.279361124667417,73.1344988079708,null,103.19999999999999,null,null,null,237.61385993263821,null,{"$f":"+$B$21","v":"2019-05-01"},61.279361124667417,73.1344988079708,null,103.19999999999999,null,null,null,237.61385993263821,null,{"$f":"+$B$21","v":"2019-05-01"},55.151425012200676,65.82104892717372,null,92.88,null,null,null,213.85247393937439]
[null,{"$f":"+$B$22","v":"2019-06-01"},61.279361124667417,73.138629022161425,null,106.099,null,null,null,240.51699014682885,null,{"$f":"+$B$22","v":"2019-06-01"},61.279361124667417,73.138629022161425,null,106.099,null,null,null,240.51699014682885,null,{"$f":"+$B$22","v":"2019-06-01"},55.151425012200676,65.824766119945281,null,95.489100000000008,null,null,null,216.46529113214598]
[null,{"$f":"+$B$23","v":"2019-07-01"},64.645857847799093,73.300418901696034,null,106.099,null,null,null,244.04527674949514,null,{"$f":"+$B$23","v":"2019-07-01"},64.645857847799093,73.300418901696034,null,106.099,null,null,null,244.04527674949514,null,{"$f":"+$B$23","v":"2019-07-01"},58.181272063019186,65.970377011526438,null,95.489100000000008,null,null,null,219.64074907454562]
[null,{"$f":"+$B$24","v":"2019-08-01"},65.021505847799091,72,null,106.09900000000002,null,null,null,243.12050584779911,null,{"$f":"+$B$24","v":"2019-08-01"},65.021505847799091,72,null,106.09900000000002,null,null,null,243.12050584779911,null,{"$f":"+$B$24","v":"2019-08-01"},58.519355263019186,64.8,null,95.489100000000022,null,null,null,218.8084552630192]
[null,{"$f":"+$B$25","v":"2019-09-01"},64.977426487799093,72.108723687480691,null,106.099,null,null,null,243.18515017527977,null,{"$f":"+$B$25","v":"2019-09-01"},64.977426487799093,72.108723687480691,null,106.099,null,null,null,243.18515017527977,null,{"$f":"+$B$25","v":"2019-09-01"},58.479683839019188,64.89785131873262,null,95.489100000000008,null,null,null,218.86663515775183]
[null,{"$f":"+$B$26","v":"2019-10-01"},64.920809527799094,72.864365863281222,null,106.09900000000002,null,null,null,243.88417539108033,null,{"$f":"+$B$26","v":"2019-10-01"},64.920809527799094,72.864365863281222,null,106.09900000000002,null,null,null,243.88417539108033,null,{"$f":"+$B$26","v":"2019-10-01"},58.428728575019186,65.5779292769531,null,95.489100000000022,null,null,null,219.49575785197231]
[null,{"$f":"+$B$27","v":"2019-11-01"},65.7255477677991,72.931586825955605,null,106.099,null,null,null,244.75613459375472,null,{"$f":"+$B$27","v":"2019-11-01"},65.7255477677991,72.931586825955605,null,106.099,null,null,null,244.75613459375472,null,{"$f":"+$B$27","v":"2019-11-01"},59.15299299101919,65.638428143360045,null,95.489100000000008,null,null,null,220.28052113437923]
[null,{"$f":"+$B$28","v":"2019-12-01"},66.124902007799093,72.923384027942021,null,106.099,null,null,null,245.1472860357411,null,{"$f":"+$B$28","v":"2019-12-01"},66.124902007799093,72.923384027942021,null,106.099,null,null,null,245.1472860357411,null,{"$f":"+$B$28","v":"2019-12-01"},59.512411807019184,65.63104562514782,null,95.489100000000008,null,null,null,220.632557432167]
[null,{"$f":"+$B$29","v":"2020-01-01"},64.303420086963797,76.780458548066605,null,106.099,null,null,null,247.18287863503042,null,{"$f":"+$B$29","v":"2020-01-01"},64.303420086963797,76.780458548066605,null,106.099,null,null,null,247.18287863503042,null,{"$f":"+$B$29","v":"2020-01-01"},57.873078078267419,69.10241269325995,null,95.489100000000008,null,null,null,222.46459077152738]
[null,{"$f":"+$B$30","v":"2020-02-01"},64.207178166963786,72,null,106.099,null,null,null,242.30617816696378,null,{"$f":"+$B$30","v":"2020-02-01"},64.207178166963786,72,null,106.099,null,null,null,242.30617816696378,null,{"$f":"+$B$30","v":"2020-02-01"},57.786460350267411,64.8,null,95.489100000000008,null,null,null,218.07556035026741]
[null,{"$f":"+$B$31","v":"2020-03-01"},64.409494326963795,75.761372548538191,null,106.099,null,null,null,246.26986687550198,null,{"$f":"+$B$31","v":"2020-03-01"},64.409494326963795,75.761372548538191,null,106.099,null,null,null,246.26986687550198,null,{"$f":"+$B$31","v":"2020-03-01"},57.968544894267417,68.185235293684372,null,95.489100000000008,null,null,null,221.64288018795179]
[null,{"$f":"+$B$32","v":"2020-04-01"},101.6444799269638,73.805988355081439,null,106.099,null,null,null,281.54946828204521,null,{"$f":"+$B$32","v":"2020-04-01"},101.6444799269638,73.805988355081439,null,106.099,null,null,null,281.54946828204521,null,{"$f":"+$B$32","v":"2020-04-01"},91.480031934267416,66.425389519573301,null,95.489100000000008,null,null,null,253.39452145384072]
[null,{"$f":"+$B$33","v":"2020-05-01"},101.80134776696379,75.871880542472212,null,106.099,null,null,null,283.772228309436,null,{"$f":"+$B$33","v":"2020-05-01"},101.80134776696379,75.871880542472212,null,106.099,null,null,null,283.772228309436,null,{"$f":"+$B$33","v":"2020-05-01"},91.621212990267409,68.284692488224991,null,95.489100000000008,null,null,null,255.39500547849241]
[null,{"$f":"+$B$34","v":"2020-06-01"},102.07529624696379,76.125754607978791,null,106.099,null,null,null,284.30005085494258,null,{"$f":"+$B$34","v":"2020-06-01"},102.07529624696379,76.125754607978791,null,106.099,null,null,null,284.30005085494258,null,{"$f":"+$B$34","v":"2020-06-01"},91.867766622267411,68.513179147180921,null,95.489100000000008,null,null,null,255.87004576944832]
[null,{"$f":"+$B$35","v":"2020-07-01"},102.10813592696378,76.039478680627326,null,106.099,null,null,null,284.24661460759108,null,{"$f":"+$B$35","v":"2020-07-01"},102.10813592696378,76.039478680627326,null,106.099,null,null,null,284.24661460759108,null,{"$f":"+$B$35","v":"2020-07-01"},91.8973223342674,68.435530812564593,null,95.489100000000008,null,null,null,255.82195314683202]
[null,{"$f":"+$B$36","v":"2020-08-01"},102.47275352696379,75.956736197797412,null,106.099,null,null,null,284.52848972476119,null,{"$f":"+$B$36","v":"2020-08-01"},102.47275352696379,75.956736197797412,null,106.099,null,null,null,284.52848972476119,null,{"$f":"+$B$36","v":"2020-08-01"},92.225478174267408,68.361062578017666,null,95.489100000000008,null,null,null,256.0756407522851]
[null,{"$f":"+$B$37","v":"2020-09-01"},102.89014040696379,75.530484467881806,null,106.09900000000002,null,null,null,284.51962487484559,null,{"$f":"+$B$37","v":"2020-09-01"},102.89014040696379,75.530484467881806,null,106.09900000000002,null,null,null,284.51962487484559,null,{"$f":"+$B$37","v":"2020-09-01"},92.601126366267422,67.977436021093624,null,95.489100000000022,null,null,null,256.06766238736105]
[null,{"$f":"+$B$38","v":"2020-10-01"},102.80162072696379,72,null,106.099,null,null,null,280.90062072696378,null,{"$f":"+$B$38","v":"2020-10-01"},102.80162072696379,72,null,106.099,null,null,null,280.90062072696378,null,{"$f":"+$B$38","v":"2020-10-01"},92.52145865426742,64.8,null,95.489100000000008,null,null,null,252.81055865426742]
[null,{"$f":"+$B$39","v":"2020-11-01"},102.75336536696379,72,null,106.099,null,null,null,280.8523653669638,null,{"$f":"+$B$39","v":"2020-11-01"},102.75336536696379,72,null,106.099,null,null,null,280.8523653669638,null,{"$f":"+$B$39","v":"2020-11-01"},92.478028830267419,64.8,null,95.489100000000008,null,null,null,252.76712883026744]
[null,{"$f":"+$B$40","v":"2020-12-01"},102.99544856696379,75.899402103265146,null,106.09899999999999,null,null,null,284.99385067022894,null,{"$f":"+$B$40","v":"2020-12-01"},102.99544856696379,75.899402103265146,null,106.09899999999999,null,null,null,284.99385067022894,null,{"$f":"+$B$40","v":"2020-12-01"},92.695903710267416,68.309461892938629,null,95.489099999999993,null,null,null,256.49446560320604]
[null,{"$f":"+$B$41","v":"2021-01-01"},103.31203592313166,75.334223925524981,null,106.099,null,null,null,284.74525984865664,null,{"$f":"+$B$41","v":"2021-01-01"},103.31203592313166,75.334223925524981,null,106.099,null,null,null,284.74525984865664,null,{"$f":"+$B$41","v":"2021-01-01"},92.980832330818501,67.800801532972486,null,95.489100000000008,null,null,null,256.27073386379101]
[null,{"$f":"+$B$42","v":"2021-02-01"},103.32684488313167,75,null,106.099,null,null,null,284.42584488313167,null,{"$f":"+$B$42","v":"2021-02-01"},103.32684488313167,75,null,106.099,null,null,null,284.42584488313167,null,{"$f":"+$B$42","v":"2021-02-01"},92.994160394818508,67.5,null,95.489100000000008,null,null,null,255.9832603948185]
[null,{"$f":"+$B$43","v":"2021-03-01"},103.25241416313166,75.39330978129189,null,106.099,null,null,null,284.74472394442353,null,{"$f":"+$B$43","v":"2021-03-01"},103.25241416313166,75.39330978129189,null,106.099,null,null,null,284.74472394442353,null,{"$f":"+$B$43","v":"2021-03-01"},92.927172746818499,67.853978803162704,null,95.489100000000008,null,null,null,256.2702515499812]
[null,{"$f":"+$B$44","v":"2021-04-01"},103.25005640313167,75.325470465411371,null,106.099,null,null,null,284.67452686854301,null,{"$f":"+$B$44","v":"2021-04-01"},103.25005640313167,75.325470465411371,null,106.099,null,null,null,284.67452686854301,null,{"$f":"+$B$44","v":"2021-04-01"},92.925050762818501,67.792923418870231,null,95.489100000000008,null,null,null,256.20707418168877]
[null,{"$f":"+$B$45","v":"2021-05-01"},103.70158856313166,75.334223925524981,null,106.099,null,null,null,285.13481248865662,null,{"$f":"+$B$45","v":"2021-05-01"},103.70158856313166,75.334223925524981,null,106.099,null,null,null,285.13481248865662,null,{"$f":"+$B$45","v":"2021-05-01"},93.331429706818497,67.800801532972486,null,95.489100000000008,null,null,null,256.621331239791]
[null,{"$f":"+$B$46","v":"2021-06-01"},104.33465288313167,75.067763313213987,null,106.099,null,null,null,285.50141619634564,null,{"$f":"+$B$46","v":"2021-06-01"},104.33465288313167,75.067763313213987,null,106.099,null,null,null,285.50141619634564,null,{"$f":"+$B$46","v":"2021-06-01"},93.901187594818509,67.560986981892597,null,95.489100000000008,null,null,null,256.95127457671111]
[null,{"$f":"+$B$47","v":"2021-07-01"},105.35245256313166,73.856036044758824,null,106.099,null,null,null,285.30748860789049,null,{"$f":"+$B$47","v":"2021-07-01"},105.35245256313166,73.856036044758824,null,106.099,null,null,null,285.30748860789049,null,{"$f":"+$B$47","v":"2021-07-01"},94.817207306818503,66.470432440282949,null,95.489100000000008,null,null,null,256.77673974710149]
[null,{"$f":"+$B$48","v":"2021-08-01"},106.30806344313167,72.661566737497694,null,106.099,null,null,null,285.06863018062938,null,{"$f":"+$B$48","v":"2021-08-01"},106.30806344313167,72.661566737497694,null,106.099,null,null,null,285.06863018062938,null,{"$f":"+$B$48","v":"2021-08-01"},95.677257098818501,65.395410063747931,null,95.489100000000008,null,null,null,256.56176716256641]
[null,{"$f":"+$B$49","v":"2021-09-01"},107.27569928313166,71.484104171577982,null,106.09900000000002,null,null,null,284.85880345470969,null,{"$f":"+$B$49","v":"2021-09-01"},107.27569928313166,71.484104171577982,null,106.09900000000002,null,null,null,284.85880345470969,null,{"$f":"+$B$49","v":"2021-09-01"},96.548129354818499,64.335693754420191,null,95.489100000000022,null,null,null,256.37292310923868]
[null,{"$f":"+$B$50","v":"2021-10-01"},107.77030856313166,70.323400831698464,null,106.09899999999999,null,null,null,284.1927093948301,null,{"$f":"+$B$50","v":"2021-10-01"},107.77030856313166,70.323400831698464,null,106.09899999999999,null,null,null,284.1927093948301,null,{"$f":"+$B$50","v":"2021-10-01"},96.993277706818503,63.291060748528622,null,95.489099999999993,null,null,null,255.7734384553471]
[null,{"$f":"+$B$51","v":"2021-11-01"},108.78743624313167,69.179212852072268,null,106.099,null,null,null,284.06564909520392,null,{"$f":"+$B$51","v":"2021-11-01"},108.78743624313167,69.179212852072268,null,106.099,null,null,null,284.06564909520392,null,{"$f":"+$B$51","v":"2021-11-01"},97.908692618818506,62.26129156686504,null,95.489100000000008,null,null,null,255.65908418568355]
[null,{"$f":"+$B$52","v":"2021-12-01"},110.08733768313166,69.251299962210993,null,106.099,null,null,null,285.43763764534265,null,{"$f":"+$B$52","v":"2021-12-01"},110.08733768313166,69.251299962210993,null,106.099,null,null,null,285.43763764534265,null,{"$f":"+$B$52","v":"2021-12-01"},99.078603914818501,62.326169965989898,null,95.489100000000008,null,null,null,256.89387388080843]
[null,{"$f":"+$B$53","v":"2022-01-01"},110.47682215379682,75.412450394548728,null,106.099,null,null,null,291.98827254834555,null,{"$f":"+$B$53","v":"2022-01-01"},110.47682215379682,75.412450394548728,null,106.099,null,null,null,291.98827254834555,null,{"$f":"+$B$53","v":"2022-01-01"},99.429139938417137,67.871205355093863,null,95.489100000000008,null,null,null,262.78944529351099]
[null,{"$f":"+$B$54","v":"2022-02-01"},111.33172711379682,74.000850075102235,null,106.09900000000002,null,null,null,291.43157718889904,null,{"$f":"+$B$54","v":"2022-02-01"},111.33172711379682,74.000850075102235,null,106.09900000000002,null,null,null,291.43157718889904,null,{"$f":"+$B$54","v":"2022-02-01"},100.19855440241713,66.600765067592008,null,95.489100000000022,null,null,null,262.28841947000916]
[null,{"$f":"+$B$55","v":"2022-03-01"},111.66250279379682,72.615966750099957,null,106.099,null,null,null,290.37746954389678,null,{"$f":"+$B$55","v":"2022-03-01"},111.66250279379682,72.615966750099957,null,106.099,null,null,null,290.37746954389678,null,{"$f":"+$B$55","v":"2022-03-01"},100.49625251441714,65.35437007508996,null,95.489100000000008,null,null,null,261.33972258950712]
[null,{"$f":"+$B$56","v":"2022-04-01"},113.26077991379681,71.257278704752551,null,106.099,null,null,null,290.61705861854938,null,{"$f":"+$B$56","v":"2022-04-01"},113.26077991379681,71.257278704752551,null,106.099,null,null,null,290.61705861854938,null,{"$f":"+$B$56","v":"2022-04-01"},101.93470192241713,64.131550834277292,null,95.489100000000008,null,null,null,261.55535275669445]
[null,{"$f":"+$B$57","v":"2022-05-01"},113.55896935379683,69.924274553357321,null,106.099,null,null,null,289.58224390715412,null,{"$f":"+$B$57","v":"2022-05-01"},113.55896935379683,69.924274553357321,null,106.099,null,null,null,289.58224390715412,null,{"$f":"+$B$57","v":"2022-05-01"},102.20307241841715,62.931847098021592,null,95.489100000000008,null,null,null,260.62401951643875]
[null,{"$f":"+$B$58","v":"2022-06-01"},115.12184935379682,68.616453033593146,null,106.09900000000002,null,null,null,289.83730238738997,null,{"$f":"+$B$58","v":"2022-06-01"},115.12184935379682,68.616453033593146,null,106.09900000000002,null,null,null,289.83730238738997,null,{"$f":"+$B$58","v":"2022-06-01"},103.60966441841714,61.754807730233836,null,95.489100000000022,null,null,null,260.85357214865098]
[null,{"$f":"+$B$59","v":"2022-07-01"},114.88588519379682,67.333322804922403,null,106.099,null,null,null,288.31820799871923,null,{"$f":"+$B$59","v":"2022-07-01"},114.88588519379682,67.333322804922403,null,106.099,null,null,null,288.31820799871923,null,{"$f":"+$B$59","v":"2022-07-01"},103.39729667441715,60.599990524430162,null,95.489100000000008,null,null,null,259.4863871988473]
[null,{"$f":"+$B$60","v":"2022-08-01"},116.69965351379682,66.074402251017403,null,106.09899999999999,null,null,null,288.87305576481424,null,{"$f":"+$B$60","v":"2022-08-01"},116.69965351379682,66.074402251017403,null,106.09899999999999,null,null,null,288.87305576481424,null,{"$f":"+$B$60","v":"2022-08-01"},105.02968816241714,59.466962025915663,null,95.489099999999993,null,null,null,259.98575018833282]
[null,{"$f":"+$B$61","v":"2022-09-01"},117.42530791379681,64.839219286131211,null,106.099,null,null,null,288.363527199928,null,{"$f":"+$B$61","v":"2022-09-01"},117.42530791379681,64.839219286131211,null,106.099,null,null,null,288.363527199928,null,{"$f":"+$B$61","v":"2022-09-01"},105.68277712241714,58.35529735751809,null,95.489100000000008,null,null,null,259.52717447993524]
[null,{"$f":"+$B$62","v":"2022-10-01"},118.72213543379682,63.627311165333978,null,106.09899999999999,null,null,null,288.44844659913076,null,{"$f":"+$B$62","v":"2022-10-01"},118.72213543379682,63.627311165333978,null,106.09899999999999,null,null,null,288.44844659913076,null,{"$f":"+$B$62","v":"2022-10-01"},106.84992189041714,57.264580048800582,null,95.489099999999993,null,null,null,259.6036019392177]
[null,{"$f":"+$B$63","v":"2022-11-01"},118.93143079379682,62.450268020068023,null,106.09900000000002,null,null,null,287.48069881386482,null,{"$f":"+$B$63","v":"2022-11-01"},118.93143079379682,62.450268020068023,null,106.09900000000002,null,null,null,287.48069881386482,null,{"$f":"+$B$63","v":"2022-11-01"},107.03828771441714,56.205241218061225,null,95.489100000000022,null,null,null,258.73262893247841]
[null,{"$f":"+$B$64","v":"2022-12-01"},120.22683559379682,61.295410819035169,null,106.099,null,null,null,287.62124641283197,null,{"$f":"+$B$64","v":"2022-12-01"},120.22683559379682,61.295410819035169,null,106.099,null,null,null,287.62124641283197,null,{"$f":"+$B$64","v":"2022-12-01"},108.20415203441713,55.165869737131651,null,95.489100000000008,null,null,null,258.85912177154876]
[null,{"$f":"+$B$65","v":"2023-01-01"},121.60759247562582,70.630361192789252,null,106.09899999999999,null,null,null,298.33695366841505,null,{"$f":"+$B$65","v":"2023-01-01"},121.60759247562582,70.630361192789252,null,106.09899999999999,null,null,null,298.33695366841505,null,{"$f":"+$B$65","v":"2023-01-01"},109.44683322806324,63.567325073510325,null,95.489099999999993,null,null,null,268.50325830157357]
[null,{"$f":"+$B$66","v":"2023-02-01"},122.56869455562583,69.68336696816948,null,106.099,null,null,null,298.35106152379529,null,{"$f":"+$B$66","v":"2023-02-01"},122.56869455562583,69.68336696816948,null,106.099,null,null,null,298.35106152379529,null,{"$f":"+$B$66","v":"2023-02-01"},110.31182510006325,62.715030271352532,null,95.489100000000008,null,null,null,268.51595537141577]
[null,{"$f":"+$B$67","v":"2023-03-01"},123.46602575562582,68.76287101686161,null,106.099,null,null,null,298.32789677248741,null,{"$f":"+$B$67","v":"2023-03-01"},123.46602575562582,68.76287101686161,null,106.099,null,null,null,298.32789677248741,null,{"$f":"+$B$67","v":"2023-03-01"},111.11942318006324,61.88658391517545,null,95.489100000000008,null,null,null,268.49510709523872]
[null,{"$f":"+$B$68","v":"2023-04-01"},123.79242383562583,67.856781748393814,null,106.099,null,null,null,297.74820558401962,null,{"$f":"+$B$68","v":"2023-04-01"},123.79242383562583,67.856781748393814,null,106.099,null,null,null,297.74820558401962,null,{"$f":"+$B$68","v":"2023-04-01"},111.41318145206324,61.071103573554431,null,95.489100000000008,null,null,null,267.97338502561769]
[null,{"$f":"+$B$69","v":"2023-05-01"},125.13018575562583,66.96486528416105,null,106.09899999999999,null,null,null,298.19405103978687,null,{"$f":"+$B$69","v":"2023-05-01"},125.13018575562583,66.96486528416105,null,106.09899999999999,null,null,null,298.19405103978687,null,{"$f":"+$B$69","v":"2023-05-01"},112.61716718006325,60.268378755744948,null,95.489099999999993,null,null,null,268.37464593580819]
[null,{"$f":"+$B$70","v":"2023-06-01"},125.32587023562583,66.08689160198324,null,106.099,null,null,null,297.51176183760907,null,{"$f":"+$B$70","v":"2023-06-01"},125.32587023562583,66.08689160198324,null,106.099,null,null,null,297.51176183760907,null,{"$f":"+$B$70","v":"2023-06-01"},112.79328321206324,59.478202441784916,null,95.489100000000008,null,null,null,267.76058565384818]
[null,{"$f":"+$B$71","v":"2023-07-01"},121.25813607802056,65.222634472108467,null,106.09900000000002,null,null,null,292.57977055012907,null,{"$f":"+$B$71","v":"2023-07-01"},121.25813607802056,65.222634472108467,null,106.09900000000002,null,null,null,292.57977055012907,null,{"$f":"+$B$71","v":"2023-07-01"},109.1323224702185,58.70037102489762,null,95.489100000000022,null,null,null,263.32179349511614]
[null,{"$f":"+$B$72","v":"2023-08-01"},117.09953388107598,64.371871394280959,null,106.099,null,null,null,287.57040527535696,null,{"$f":"+$B$72","v":"2023-08-01"},117.09953388107598,64.371871394280959,null,106.099,null,null,null,287.57040527535696,null,{"$f":"+$B$72","v":"2023-08-01"},105.38958049296839,57.934684254852861,null,95.489100000000008,null,null,null,258.81336474782125]
[null,{"$f":"+$B$73","v":"2023-09-01"},106.3703807713724,63.534383535856321,null,106.09900000000002,null,null,null,276.00376430722872,null,{"$f":"+$B$73","v":"2023-09-01"},106.3703807713724,63.534383535856321,null,106.09900000000002,null,null,null,276.00376430722872,null,{"$f":"+$B$73","v":"2023-09-01"},95.733342694235162,57.18094518227069,null,95.489100000000022,null,null,null,248.40338787650586]
[null,{"$f":"+$B$74","v":"2023-10-01"},105.98695420587805,62.709955670945995,null,106.09900000000002,null,null,null,274.79590987682406,null,{"$f":"+$B$74","v":"2023-10-01"},105.98695420587805,62.709955670945995,null,106.09900000000002,null,null,null,274.79590987682406,null,{"$f":"+$B$74","v":"2023-10-01"},95.388258785290247,56.438960103851393,null,95.489100000000022,null,null,null,247.31631888914166]
[null,{"$f":"+$B$75","v":"2023-11-01"},101.91871860137221,61.89837612057449,null,106.099,null,null,null,269.91609472194671,null,{"$f":"+$B$75","v":"2023-11-01"},101.91871860137221,61.89837612057449,null,106.099,null,null,null,269.91609472194671,null,{"$f":"+$B$75","v":"2023-11-01"},91.726846741234993,55.708538508517044,null,95.489100000000008,null,null,null,242.92448524975205]
[null,{"$f":"+$B$76","v":"2023-12-01"},110.52377456740257,61.099436693831997,null,106.09900000000002,null,null,null,277.72221126123458,null,{"$f":"+$B$76","v":"2023-12-01"},110.52377456740257,61.099436693831997,null,106.09900000000002,null,null,null,277.72221126123458,null,{"$f":"+$B$76","v":"2023-12-01"},99.471397110662309,54.989493024448798,null,95.489100000000022,null,null,null,249.94999013511114]
[null,{"$f":"+$B$77","v":"2024-01-01"},125.97122168779909,76.21593263000608,null,106.09900000000002,null,null,null,308.2861543178052,null,{"$f":"+$B$77","v":"2024-01-01"},125.97122168779909,76.21593263000608,null,106.09900000000002,null,null,null,308.2861543178052,null,{"$f":"+$B$77","v":"2024-01-01"},113.37409951901918,68.594339367005475,null,95.489100000000022,null,null,null,277.45753888602468]
[null,{"$f":"+$B$78","v":"2024-02-01"},112.94094276265433,75.441662541676138,null,106.09900000000002,null,null,null,294.48160530433051,null,{"$f":"+$B$78","v":"2024-02-01"},112.94094276265433,75.441662541676138,null,106.09900000000002,null,null,null,294.48160530433051,null,{"$f":"+$B$78","v":"2024-02-01"},101.6468484863889,67.897496287508531,null,95.489100000000022,null,null,null,265.03344477389743]
[null,{"$f":"+$B$79","v":"2024-03-01"},104.52815652610052,82.679428358754336,null,106.099,null,null,null,293.30658488485483,null,{"$f":"+$B$79","v":"2024-03-01"},104.52815652610052,82.679428358754336,null,106.099,null,null,null,293.30658488485483,null,{"$f":"+$B$79","v":"2024-03-01"},94.075340873490461,74.411485522878905,null,95.489100000000008,null,null,null,263.97592639636935]
[null,{"$f":"+$B$80","v":"2024-04-01"},102.46631476859646,81.929035273457629,null,106.099,null,null,null,290.49435004205407,null,{"$f":"+$B$80","v":"2024-04-01"},102.46631476859646,81.929035273457629,null,106.099,null,null,null,290.49435004205407,null,{"$f":"+$B$80","v":"2024-04-01"},92.219683291736814,73.736131746111866,null,95.489100000000008,null,null,null,261.44491503784866]
[null,{"$f":"+$B$81","v":"2024-05-01"},99.587374647799081,81.190291686195096,null,106.09899999999999,null,null,null,286.87666633399419,null,{"$f":"+$B$81","v":"2024-05-01"},99.587374647799081,81.190291686195096,null,106.09899999999999,null,null,null,286.87666633399419,null,{"$f":"+$B$81","v":"2024-05-01"},89.62863718301918,73.07126251757559,null,95.489099999999993,null,null,null,258.18899970059476]
[null,{"$f":"+$B$82","v":"2024-06-01"},99.587374647799081,80.463009152355426,null,106.099,null,null,null,286.14938380015451,null,{"$f":"+$B$82","v":"2024-06-01"},99.587374647799081,80.463009152355426,null,106.099,null,null,null,286.14938380015451,null,{"$f":"+$B$82","v":"2024-06-01"},89.62863718301918,72.416708237119892,null,95.489100000000008,null,null,null,257.53444542013909]
[null,{"$f":"+$B$83","v":"2024-07-01"},99.587374647799081,79.747002329979537,null,106.099,null,null,null,285.43337697777861,null,{"$f":"+$B$83","v":"2024-07-01"},99.587374647799081,79.747002329979537,null,106.099,null,null,null,285.43337697777861,null,{"$f":"+$B$83","v":"2024-07-01"},89.62863718301918,71.772302096981591,null,95.489100000000008,null,null,null,256.89003928000079]
[null,{"$f":"+$B$84","v":"2024-08-01"},99.587374647799081,79.042088928303713,null,106.099,null,null,null,284.7284635761028,null,{"$f":"+$B$84","v":"2024-08-01"},99.587374647799081,79.042088928303713,null,106.099,null,null,null,284.7284635761028,null,{"$f":"+$B$84","v":"2024-08-01"},89.62863718301918,71.137880035473344,null,95.489100000000008,null,null,null,256.25561721849255]
[null,{"$f":"+$B$85","v":"2024-09-01"},99.587374647799081,78.348089657158553,null,106.099,null,null,null,284.03446430495762,null,{"$f":"+$B$85","v":"2024-09-01"},99.587374647799081,78.348089657158553,null,106.099,null,null,null,284.03446430495762,null,{"$f":"+$B$85","v":"2024-09-01"},89.62863718301918,70.513280691442702,null,95.489100000000008,null,null,null,255.63101787446189]
[null,{"$f":"+$B$86","v":"2024-10-01"},99.587374647799081,77.664828177209628,null,106.09899999999999,null,null,null,283.35120282500873,null,{"$f":"+$B$86","v":"2024-10-01"},99.587374647799081,77.664828177209628,null,106.09899999999999,null,null,null,283.35120282500873,null,{"$f":"+$B$86","v":"2024-10-01"},89.62863718301918,69.898345359488673,null,95.489099999999993,null,null,null,255.01608254250783]
[null,{"$f":"+$B$87","v":"2024-11-01"},99.587374647799081,76.992131051025837,null,106.09899999999999,null,null,null,282.67850569882489,null,{"$f":"+$B$87","v":"2024-11-01"},99.587374647799081,76.992131051025837,null,106.09899999999999,null,null,null,282.67850569882489,null,{"$f":"+$B$87","v":"2024-11-01"},89.62863718301918,69.29291794592325,null,95.489099999999993,null,null,null,254.41065512894244]
[null,{"$f":"+$B$88","v":"2024-12-01"},99.587374647799081,76.329827694961523,null,106.099,null,null,null,282.01620234276061,null,{"$f":"+$B$88","v":"2024-12-01"},99.587374647799081,76.329827694961523,null,106.099,null,null,null,282.01620234276061,null,{"$f":"+$B$88","v":"2024-12-01"},89.62863718301918,68.696844925465371,null,95.489100000000008,null,null,null,253.81458210848456]
[null,{"$f":"+$B$89","v":"2025-01-01"},99.539705564804919,82.587505034650803,null,106.099,null,null,null,288.22621059945573,null,{"$f":"+$B$89","v":"2025-01-01"},99.539705564804919,82.587505034650803,null,106.099,null,null,null,288.22621059945573,null,{"$f":"+$B$89","v":"2025-01-01"},89.585735008324434,74.328754531185723,null,95.489100000000008,null,null,null,259.40358953951016]
[null,{"$f":"+$B$90","v":"2025-02-01"},99.539705564804919,81.880406190460391,null,106.09900000000002,null,null,null,287.51911175526533,null,{"$f":"+$B$90","v":"2025-02-01"},99.539705564804919,81.880406190460391,null,106.09900000000002,null,null,null,287.51911175526533,null,{"$f":"+$B$90","v":"2025-02-01"},89.585735008324434,73.692365571414356,null,95.489100000000022,null,null,null,258.76720057973881]
[null,{"$f":"+$B$91","v":"2025-03-01"},99.539705564804919,81.185294694082842,null,106.099,null,null,null,286.82400025888774,null,{"$f":"+$B$91","v":"2025-03-01"},99.539705564804919,81.185294694082842,null,106.099,null,null,null,286.82400025888774,null,{"$f":"+$B$91","v":"2025-03-01"},89.585735008324434,73.066765224674555,null,95.489100000000008,null,null,null,258.141600232999]
[null,{"$f":"+$B$92","v":"2025-04-01"},99.539705564804919,80.501958098457436,null,106.099,null,null,null,286.14066366326233,null,{"$f":"+$B$92","v":"2025-04-01"},99.539705564804919,80.501958098457436,null,106.099,null,null,null,286.14066366326233,null,{"$f":"+$B$92","v":"2025-04-01"},89.585735008324434,72.45176228861169,null,95.489100000000008,null,null,null,257.52659729693613]
[null,{"$f":"+$B$93","v":"2025-05-01"},99.539705564804919,79.830187796478768,null,106.099,null,null,null,285.46889336128368,null,{"$f":"+$B$93","v":"2025-05-01"},99.539705564804919,79.830187796478768,null,106.099,null,null,null,285.46889336128368,null,{"$f":"+$B$93","v":"2025-05-01"},89.585735008324434,71.84716901683089,null,95.489100000000008,null,null,null,256.92200402515533]
[null,{"$f":"+$B$94","v":"2025-06-01"},99.539705564804919,79.169778951009562,null,106.099,null,null,null,284.80848451581448,null,{"$f":"+$B$94","v":"2025-06-01"},99.539705564804919,79.169778951009562,null,106.099,null,null,null,284.80848451581448,null,{"$f":"+$B$94","v":"2025-06-01"},89.585735008324434,71.252801055908606,null,95.489100000000008,null,null,null,256.32763606423305]
[null,{"$f":"+$B$95","v":"2025-07-01"},99.539705564804919,78.520530426173195,null,106.099,null,null,null,284.15923599097812,null,{"$f":"+$B$95","v":"2025-07-01"},99.539705564804919,78.520530426173195,null,106.099,null,null,null,284.15923599097812,null,{"$f":"+$B$95","v":"2025-07-01"},89.585735008324434,70.668477383555881,null,95.489100000000008,null,null,null,255.74331239188032]
[null,{"$f":"+$B$96","v":"2025-08-01"},99.539705564804919,77.882244719902872,null,106.09900000000002,null,null,null,283.52095028470785,null,{"$f":"+$B$96","v":"2025-08-01"},99.539705564804919,77.882244719902872,null,106.09900000000002,null,null,null,283.52095028470785,null,{"$f":"+$B$96","v":"2025-08-01"},89.585735008324434,70.094020247912582,null,95.489100000000022,null,null,null,255.16885525623701]
[null,{"$f":"+$B$97","v":"2025-09-01"},99.539705564804919,77.254727897724507,null,106.099,null,null,null,282.8934334625294,null,{"$f":"+$B$97","v":"2025-09-01"},99.539705564804919,77.254727897724507,null,106.099,null,null,null,282.8934334625294,null,{"$f":"+$B$97","v":"2025-09-01"},89.585735008324434,69.529255107952054,null,95.489100000000008,null,null,null,254.6040901162765]
[null,{"$f":"+$B$98","v":"2025-10-01"},99.539705564804919,76.6377895277503,null,106.099,null,null,null,282.27649509255519,null,{"$f":"+$B$98","v":"2025-10-01"},99.539705564804919,76.6377895277503,null,106.099,null,null,null,282.27649509255519,null,{"$f":"+$B$98","v":"2025-10-01"},89.585735008324434,68.974010574975267,null,95.489100000000008,null,null,null,254.04884558329971]
[null,{"$f":"+$B$99","v":"2025-11-01"},99.539705564804919,76.031242616861363,null,106.099,null,null,null,281.66994818166626,null,{"$f":"+$B$99","v":"2025-11-01"},99.539705564804919,76.031242616861363,null,106.099,null,null,null,281.66994818166626,null,{"$f":"+$B$99","v":"2025-11-01"},89.585735008324434,68.428118355175229,null,95.489100000000008,null,null,null,253.50295336349967]
[null,{"$f":"+$B$100","v":"2025-12-01"},99.539705564804919,75.434903548057207,null,106.099,null,null,null,281.07360911286213,null,{"$f":"+$B$100","v":"2025-12-01"},99.539705564804919,75.434903548057207,null,106.099,null,null,null,281.07360911286213,null,{"$f":"+$B$100","v":"2025-12-01"},89.585735008324434,67.891413193251495,null,95.489100000000008,null,null,null,252.96624820157592]
[null,{"$f":"+$B$101","v":"2026-01-01"},99.502287123440965,77.887376089145661,null,106.099,null,null,null,283.48866321258663,null,{"$f":"+$B$101","v":"2026-01-01"},99.502287123440965,77.887376089145661,null,106.099,null,null,null,283.48866321258663,null,{"$f":"+$B$101","v":"2026-01-01"},89.552058411096866,70.098638480231102,null,95.489100000000008,null,null,null,255.13979689132799]
[null,{"$f":"+$B$102","v":"2026-02-01"},99.502287123440965,77.301845040666976,null,106.099,null,null,null,282.90313216410794,null,{"$f":"+$B$102","v":"2026-02-01"},99.502287123440965,77.301845040666976,null,106.099,null,null,null,282.90313216410794,null,{"$f":"+$B$102","v":"2026-02-01"},89.552058411096866,69.571660536600277,null,95.489100000000008,null,null,null,254.61281894769715]
[null,{"$f":"+$B$103","v":"2026-03-01"},99.502287123440965,76.726134815038037,null,106.09900000000002,null,null,null,282.32742193847901,null,{"$f":"+$B$103","v":"2026-03-01"},99.502287123440965,76.726134815038037,null,106.09900000000002,null,null,null,282.32742193847901,null,{"$f":"+$B$103","v":"2026-03-01"},89.552058411096866,69.053521333534235,null,95.489100000000022,null,null,null,254.09467974463109]
[null,{"$f":"+$B$104","v":"2026-04-01"},99.502287123440965,76.160072979781944,null,106.099,null,null,null,281.7613601032229,null,{"$f":"+$B$104","v":"2026-04-01"},99.502287123440965,76.160072979781944,null,106.099,null,null,null,281.7613601032229,null,{"$f":"+$B$104","v":"2026-04-01"},89.552058411096866,68.544065681803758,null,95.489100000000008,null,null,null,253.58522409290063]
[null,{"$f":"+$B$105","v":"2026-05-01"},99.502287123440965,75.603490200217649,null,106.099,null,null,null,281.20477732365862,null,{"$f":"+$B$105","v":"2026-05-01"},99.502287123440965,75.603490200217649,null,106.099,null,null,null,281.20477732365862,null,{"$f":"+$B$105","v":"2026-05-01"},89.552058411096866,68.043141180195889,null,95.489100000000008,null,null,null,253.08429959129276]
[null,{"$f":"+$B$106","v":"2026-06-01"},99.502287123440965,75.056220183196004,null,106.099,null,null,null,280.65750730663694,null,{"$f":"+$B$106","v":"2026-06-01"},99.502287123440965,75.056220183196004,null,106.099,null,null,null,280.65750730663694,null,{"$f":"+$B$106","v":"2026-06-01"},89.552058411096866,67.550598164876405,null,95.489100000000008,null,null,null,252.59175657597328]
[null,{"$f":"+$B$107","v":"2026-07-01"},99.502287123440965,74.518099621862717,null,106.099,null,null,null,280.1193867453037,null,{"$f":"+$B$107","v":"2026-07-01"},99.502287123440965,74.518099621862717,null,106.099,null,null,null,280.1193867453037,null,{"$f":"+$B$107","v":"2026-07-01"},89.552058411096866,67.066289659676443,null,95.489100000000008,null,null,null,252.10744807077333]
[null,{"$f":"+$B$108","v":"2026-08-01"},99.502287123440965,73.988968141429851,null,106.09900000000002,null,null,null,279.59025526487085,null,{"$f":"+$B$108","v":"2026-08-01"},99.502287123440965,73.988968141429851,null,106.09900000000002,null,null,null,279.59025526487085,null,{"$f":"+$B$108","v":"2026-08-01"},89.552058411096866,66.590071327286864,null,95.489100000000022,null,null,null,251.63122973838375]
[null,{"$f":"+$B$109","v":"2026-09-01"},99.502287123440965,73.468668245936897,null,106.099,null,null,null,279.06995536937785,null,{"$f":"+$B$109","v":"2026-09-01"},99.502287123440965,73.468668245936897,null,106.099,null,null,null,279.06995536937785,null,{"$f":"+$B$109","v":"2026-09-01"},89.552058411096866,66.121801421343207,null,95.489100000000008,null,null,null,251.16295983244009]
[null,{"$f":"+$B$110","v":"2026-10-01"},99.502287123440965,72.957045265983879,null,106.09899999999999,null,null,null,278.55833238942483,null,{"$f":"+$B$110","v":"2026-10-01"},99.502287123440965,72.957045265983879,null,106.09899999999999,null,null,null,278.55833238942483,null,{"$f":"+$B$110","v":"2026-10-01"},89.552058411096866,65.661340739385494,null,95.489099999999993,null,null,null,250.70249915048237]
[null,{"$f":"+$B$111","v":"2026-11-01"},99.502287123440965,72.45394730741819,null,106.099,null,null,null,278.05523443085917,null,{"$f":"+$B$111","v":"2026-11-01"},99.502287123440965,72.45394730741819,null,106.099,null,null,null,278.05523443085917,null,{"$f":"+$B$111","v":"2026-11-01"},89.552058411096866,65.208552576676368,null,95.489100000000008,null,null,null,250.24971098777326]
[null,{"$f":"+$B$112","v":"2026-12-01"},99.502287123440965,71.95922520095813,null,106.09900000000002,null,null,null,277.56051232439916,null,{"$f":"+$B$112","v":"2026-12-01"},99.502287123440965,71.95922520095813,null,106.09900000000002,null,null,null,277.56051232439916,null,{"$f":"+$B$112","v":"2026-12-01"},89.552058411096866,64.763302680862324,null,95.489100000000022,null,null,null,249.80446109195918]
[null,{"$f":"+$B$113","v":"2027-01-01"},99.472252398464249,76.802045982333482,null,106.099,null,null,null,282.37329838079773,null,{"$f":"+$B$113","v":"2027-01-01"},99.472252398464249,76.802045982333482,null,106.099,null,null,null,282.37329838079773,null,{"$f":"+$B$113","v":"2027-01-01"},89.525027158617831,69.121841384100136,null,95.489100000000008,null,null,null,254.13596854271799]
[null,{"$f":"+$B$114","v":"2027-02-01"},98.922452398464245,76.350815411465973,null,106.099,null,null,null,281.37226780993024,null,{"$f":"+$B$114","v":"2027-02-01"},98.922452398464245,76.350815411465973,null,106.099,null,null,null,281.37226780993024,null,{"$f":"+$B$114","v":"2027-02-01"},89.030207158617827,68.715733870319383,null,95.489100000000008,null,null,null,253.23504102893722]
[null,{"$f":"+$B$115","v":"2027-03-01"},97.472252398464249,75.906423981224748,null,106.099,null,null,null,279.477676379689,null,{"$f":"+$B$115","v":"2027-03-01"},97.472252398464249,75.906423981224748,null,106.099,null,null,null,279.477676379689,null,{"$f":"+$B$115","v":"2027-03-01"},87.72502715861782,68.315781583102279,null,95.489100000000008,null,null,null,251.52990874172011]
[null,{"$f":"+$B$116","v":"2027-04-01"},96.070652398464247,75.468763951814168,null,106.09900000000002,null,null,null,277.63841635027848,null,{"$f":"+$B$116","v":"2027-04-01"},96.070652398464247,75.468763951814168,null,106.09900000000002,null,null,null,277.63841635027848,null,{"$f":"+$B$116","v":"2027-04-01"},86.463587158617827,67.921887556632754,null,95.489100000000022,null,null,null,249.87457471525062]
[null,{"$f":"+$B$117","v":"2027-05-01"},95.306252398464238,75.037729321847948,null,106.099,null,null,null,276.44298172031216,null,{"$f":"+$B$117","v":"2027-05-01"},95.306252398464238,75.037729321847948,null,106.099,null,null,null,276.44298172031216,null,{"$f":"+$B$117","v":"2027-05-01"},85.775627158617823,67.53395638966316,null,95.489100000000008,null,null,null,248.79868354828099]
[null,{"$f":"+$B$118","v":"2027-06-01"},94.522252398464246,74.613215799900487,null,106.099,null,null,null,275.23446819836471,null,{"$f":"+$B$118","v":"2027-06-01"},94.522252398464246,74.613215799900487,null,106.099,null,null,null,275.23446819836471,null,{"$f":"+$B$118","v":"2027-06-01"},85.070027158617819,67.151894219910446,null,95.489100000000008,null,null,null,247.71102137852827]
[null,{"$f":"+$B$119","v":"2027-07-01"},93.73825239846424,74.195120776527574,null,106.099,null,null,null,274.03237317499179,null,{"$f":"+$B$119","v":"2027-07-01"},93.73825239846424,74.195120776527574,null,106.099,null,null,null,274.03237317499179,null,{"$f":"+$B$119","v":"2027-07-01"},84.364427158617815,66.775608698874819,null,95.489100000000008,null,null,null,246.62913585749266]
[null,{"$f":"+$B$120","v":"2027-08-01"},92.954252398464249,73.783343296748512,null,106.099,null,null,null,272.83659569521274,null,{"$f":"+$B$120","v":"2027-08-01"},92.954252398464249,73.783343296748512,null,106.099,null,null,null,272.83659569521274,null,{"$f":"+$B$120","v":"2027-08-01"},83.658827158617825,66.40500896707367,null,95.489100000000008,null,null,null,245.5529361256915]
[null,{"$f":"+$B$121","v":"2027-09-01"},92.199652398464238,73.37778403298239,null,106.099,null,null,null,271.67643643144663,null,{"$f":"+$B$121","v":"2027-09-01"},92.199652398464238,73.37778403298239,null,106.099,null,null,null,271.67643643144663,null,{"$f":"+$B$121","v":"2027-09-01"},82.979687158617821,66.04000562968416,null,95.489100000000008,null,null,null,244.508792788302]
[null,{"$f":"+$B$122","v":"2027-10-01"},91.464652398464239,72.978345258430508,null,106.099,null,null,null,270.54199765689475,null,{"$f":"+$B$122","v":"2027-10-01"},91.464652398464239,72.978345258430508,null,106.099,null,null,null,270.54199765689475,null,{"$f":"+$B$122","v":"2027-10-01"},82.318187158617818,65.680510732587464,null,95.489100000000008,null,null,null,243.48779789120528]
[null,{"$f":"+$B$123","v":"2027-11-01"},90.719852398464255,72.584930820897895,null,106.099,null,null,null,269.40378321936214,null,{"$f":"+$B$123","v":"2027-11-01"},90.719852398464255,72.584930820897895,null,106.099,null,null,null,269.40378321936214,null,{"$f":"+$B$123","v":"2027-11-01"},81.647867158617828,65.32643773880811,null,95.489100000000008,null,null,null,242.46340489742596]
[null,{"$f":"+$B$124","v":"2027-12-01"},89.984852398464241,72,null,106.099,null,null,null,268.08385239846422,null,{"$f":"+$B$124","v":"2027-12-01"},89.984852398464241,72,null,106.099,null,null,null,268.08385239846422,null,{"$f":"+$B$124","v":"2027-12-01"},80.986367158617824,64.8,null,95.489100000000008,null,null,null,241.27546715861783]
[null,{"$f":"+$B$125","v":"2028-01-01"},89.984852398464241,72,null,106.099,null,null,null,268.08385239846422,null,{"$f":"+$B$125","v":"2028-01-01"},89.984852398464241,72,null,106.099,null,null,null,268.08385239846422,null,{"$f":"+$B$125","v":"2028-01-01"},80.986367158617824,64.8,null,95.489100000000008,null,null,null,241.27546715861783]
[null,{"$f":"+$B$126","v":"2028-02-01"},89.984852398464241,72,null,106.099,null,null,null,268.08385239846422,null,{"$f":"+$B$126","v":"2028-02-01"},89.984852398464241,72,null,106.099,null,null,null,268.08385239846422,null,{"$f":"+$B$126","v":"2028-02-01"},80.986367158617824,64.8,null,95.489100000000008,null,null,null,241.27546715861783]
[null,{"$f":"+$B$127","v":"2028-03-01"},89.984852398464241,72,null,106.099,null,null,null,268.08385239846422,null,{"$f":"+$B$127","v":"2028-03-01"},89.984852398464241,72,null,106.099,null,null,null,268.08385239846422,null,{"$f":"+$B$127","v":"2028-03-01"},80.986367158617824,64.8,null,95.489100000000008,null,null,null,241.27546715861783]
[null,{"$f":"+$B$128","v":"2028-04-01"},89.984852398464241,72,null,106.099,null,null,null,268.08385239846422,null,{"$f":"+$B$128","v":"2028-04-01"},89.984852398464241,72,null,106.099,null,null,null,268.08385239846422,null,{"$f":"+$B$128","v":"2028-04-01"},80.986367158617824,64.8,null,95.489100000000008,null,null,null,241.27546715861783]
[null,{"$f":"+$B$129","v":"2028-05-01"},89.984852398464241,72,null,106.099,null,null,null,268.08385239846422,null,{"$f":"+$B$129","v":"2028-05-01"},89.984852398464241,72,null,106.099,null,null,null,268.08385239846422,null,{"$f":"+$B$129","v":"2028-05-01"},80.986367158617824,64.8,null,95.489100000000008,null,null,null,241.27546715861783]
[null,{"$f":"+$B$130","v":"2028-06-01"},89.984852398464241,72,null,106.099,null,null,null,268.08385239846422,null,{"$f":"+$B$130","v":"2028-06-01"},89.984852398464241,72,null,106.099,null,null,null,268.08385239846422,null,{"$f":"+$B$130","v":"2028-06-01"},80.986367158617824,64.8,null,95.489100000000008,null,null,null,241.27546715861783]
[null,{"$f":"+$B$131","v":"2028-07-01"},89.984852398464241,72,null,106.099,null,null,null,268.08385239846422,null,{"$f":"+$B$131","v":"2028-07-01"},89.984852398464241,72,null,106.099,null,null,null,268.08385239846422,null,{"$f":"+$B$131","v":"2028-07-01"},80.986367158617824,64.8,null,95.489100000000008,null,null,null,241.27546715861783]
[null,{"$f":"+$B$132","v":"2028-08-01"},89.984852398464241,72,null,106.099,null,null,null,268.08385239846422,null,{"$f":"+$B$132","v":"2028-08-01"},89.984852398464241,72,null,106.099,null,null,null,268.08385239846422,null,{"$f":"+$B$132","v":"2028-08-01"},80.986367158617824,64.8,null,95.489100000000008,null,null,null,241.27546715861783]
[null,{"$f":"+$B$133","v":"2028-09-01"},89.984852398464241,72,null,106.099,null,null,null,268.08385239846422,null,{"$f":"+$B$133","v":"2028-09-01"},89.984852398464241,72,null,106.099,null,null,null,268.08385239846422,null,{"$f":"+$B$133","v":"2028-09-01"},80.986367158617824,64.8,null,95.489100000000008,null,null,null,241.27546715861783]
[null,{"$f":"+$B$134","v":"2028-10-01"},89.984852398464241,72,null,106.099,null,null,null,268.08385239846422,null,{"$f":"+$B$134","v":"2028-10-01"},89.984852398464241,72,null,106.099,null,null,null,268.08385239846422,null,{"$f":"+$B$134","v":"2028-10-01"},80.986367158617824,64.8,null,95.489100000000008,null,null,null,241.27546715861783]
[null,{"$f":"+$B$135","v":"2028-11-01"},89.984852398464241,72,null,106.099,null,null,null,268.08385239846422,null,{"$f":"+$B$135","v":"2028-11-01"},89.984852398464241,72,null,106.099,null,null,null,268.08385239846422,null,{"$f":"+$B$135","v":"2028-11-01"},80.986367158617824,64.8,null,95.489100000000008,null,null,null,241.27546715861783]
[null,{"$f":"+$B$136","v":"2028-12-01"},89.984852398464241,72,null,106.099,null,null,null,268.08385239846422,null,{"$f":"+$B$136","v":"2028-12-01"},89.984852398464241,72,null,106.099,null,null,null,268.08385239846422,null,{"$f":"+$B$136","v":"2028-12-01"},80.986367158617824,64.8,null,95.489100000000008,null,null,null,241.27546715861783]
[null,{"$f":"+$B$137","v":"2029-01-01"},89.984852398464241,72,null,106.099,null,null,null,268.08385239846422,null,{"$f":"+$B$137","v":"2029-01-01"},89.984852398464241,72,null,106.099,null,null,null,268.08385239846422,null,{"$f":"+$B$137","v":"2029-01-01"},80.986367158617824,64.8,null,95.489100000000008,null,null,null,241.27546715861783]
[null,{"$f":"+$B$138","v":"2029-02-01"},89.984852398464241,72,null,106.099,null,null,null,268.08385239846422,null,{"$f":"+$B$138","v":"2029-02-01"},89.984852398464241,72,null,106.099,null,null,null,268.08385239846422,null,{"$f":"+$B$138","v":"2029-02-01"},80.986367158617824,64.8,null,95.489100000000008,null,null,null,241.27546715861783]
[null,{"$f":"+$B$139","v":"2029-03-01"},89.984852398464241,72,null,106.099,null,null,null,268.08385239846422,null,{"$f":"+$B$139","v":"2029-03-01"},89.984852398464241,72,null,106.099,null,null,null,268.08385239846422,null,{"$f":"+$B$139","v":"2029-03-01"},80.986367158617824,64.8,null,95.489100000000008,null,null,null,241.27546715861783]
[null,{"$f":"+$B$140","v":"2029-04-01"},89.984852398464241,72,null,106.099,null,null,null,268.08385239846422,null,{"$f":"+$B$140","v":"2029-04-01"},89.984852398464241,72,null,106.099,null,null,null,268.08385239846422,null,{"$f":"+$B$140","v":"2029-04-01"},80.986367158617824,64.8,null,95.489100000000008,null,null,null,241.27546715861783]
[null,{"$f":"+$B$141","v":"2029-05-01"},89.984852398464241,72,null,106.099,null,null,null,268.08385239846422,null,{"$f":"+$B$141","v":"2029-05-01"},89.984852398464241,72,null,106.099,null,null,null,268.08385239846422,null,{"$f":"+$B$141","v":"2029-05-01"},80.986367158617824,64.8,null,95.489100000000008,null,null,null,241.27546715861783]
[null,{"$f":"+$B$142","v":"2029-06-01"},89.984852398464241,72,null,106.099,null,null,null,268.08385239846422,null,{"$f":"+$B$142","v":"2029-06-01"},89.984852398464241,72,null,106.099,null,null,null,268.08385239846422,null,{"$f":"+$B$142","v":"2029-06-01"},80.986367158617824,64.8,null,95.489100000000008,null,null,null,241.27546715861783]
[null,{"$f":"+$B$143","v":"2029-07-01"},89.984852398464241,72,null,106.099,null,null,null,268.08385239846422,null,{"$f":"+$B$143","v":"2029-07-01"},89.984852398464241,72,null,106.099,null,null,null,268.08385239846422,null,{"$f":"+$B$143","v":"2029-07-01"},80.986367158617824,64.8,null,95.489100000000008,null,null,null,241.27546715861783]
[null,{"$f":"+$B$144","v":"2029-08-01"},89.984852398464241,72,null,106.099,null,null,null,268.08385239846422,null,{"$f":"+$B$144","v":"2029-08-01"},89.984852398464241,72,null,106.099,null,null,null,268.08385239846422,null,{"$f":"+$B$144","v":"2029-08-01"},80.986367158617824,64.8,null,95.489100000000008,null,null,null,241.27546715861783]
[null,{"$f":"+$B$145","v":"2029-09-01"},89.984852398464241,72,null,106.099,null,null,null,268.08385239846422,null,{"$f":"+$B$145","v":"2029-09-01"},89.984852398464241,72,null,106.099,null,null,null,268.08385239846422,null,{"$f":"+$B$145","v":"2029-09-01"},80.986367158617824,64.8,null,95.489100000000008,null,null,null,241.27546715861783]
[null,{"$f":"+$B$146","v":"2029-10-01"},89.984852398464241,72,null,106.099,null,null,null,268.08385239846422,null,{"$f":"+$B$146","v":"2029-10-01"},89.984852398464241,72,null,106.099,null,null,null,268.08385239846422,null,{"$f":"+$B$146","v":"2029-10-01"},80.986367158617824,64.8,null,95.489100000000008,null,null,null,241.27546715861783]
[null,{"$f":"+$B$147","v":"2029-11-01"},89.984852398464241,72,null,106.099,null,null,null,268.08385239846422,null,{"$f":"+$B$147","v":"2029-11-01"},89.984852398464241,72,null,106.099,null,null,null,268.08385239846422,null,{"$f":"+$B$147","v":"2029-11-01"},80.986367158617824,64.8,null,95.489100000000008,null,null,null,241.27546715861783]
[null,{"$f":"+$B$148","v":"2029-12-01"},89.984852398464241,72,null,106.099,null,null,null,268.08385239846422,null,{"$f":"+$B$148","v":"2029-12-01"},89.984852398464241,72,null,106.099,null,null,null,268.08385239846422,null,{"$f":"+$B$148","v":"2029-12-01"},80.986367158617824,64.8,null,95.489100000000008,null,null,null,241.27546715861783]
[null,{"$f":"+$B$149","v":"2030-01-01"},89.984852398464241,72,null,106.099,null,null,null,268.08385239846422,null,{"$f":"+$B$149","v":"2030-01-01"},89.984852398464241,72,null,106.099,null,null,null,268.08385239846422,null,{"$f":"+$B$149","v":"2030-01-01"},80.986367158617824,64.8,null,95.489100000000008,null,null,null,241.27546715861783]
[null,{"$f":"+$B$150","v":"2030-02-01"},89.984852398464241,72,null,106.099,null,null,null,268.08385239846422,null,{"$f":"+$B$150","v":"2030-02-01"},89.984852398464241,72,null,106.099,null,null,null,268.08385239846422,null,{"$f":"+$B$150","v":"2030-02-01"},80.986367158617824,64.8,null,95.489100000000008,null,null,null,241.27546715861783]
[null,{"$f":"+$B$151","v":"2030-03-01"},89.984852398464241,72,null,106.099,null,null,null,268.08385239846422,null,{"$f":"+$B$151","v":"2030-03-01"},89.984852398464241,72,null,106.099,null,null,null,268.08385239846422,null,{"$f":"+$B$151","v":"2030-03-01"},80.986367158617824,64.8,null,95.489100000000008,null,null,null,241.27546715861783]
[null,{"$f":"+$B$152","v":"2030-04-01"},89.984852398464241,72,null,106.099,null,null,null,268.08385239846422,null,{"$f":"+$B$152","v":"2030-04-01"},89.984852398464241,72,null,106.099,null,null,null,268.08385239846422,null,{"$f":"+$B$152","v":"2030-04-01"},80.986367158617824,64.8,null,95.489100000000008,null,null,null,241.27546715861783]
[null,{"$f":"+$B$153","v":"2030-05-01"},89.984852398464241,72,null,106.099,null,null,null,268.08385239846422,null,{"$f":"+$B$153","v":"2030-05-01"},89.984852398464241,72,null,106.099,null,null,null,268.08385239846422,null,{"$f":"+$B$153","v":"2030-05-01"},80.986367158617824,64.8,null,95.489100000000008,null,null,null,241.27546715861783]
[null,{"$f":"+$B$154","v":"2030-06-01"},89.984852398464241,72,null,106.099,null,null,null,268.08385239846422,null,{"$f":"+$B$154","v":"2030-06-01"},89.984852398464241,72,null,106.099,null,null,null,268.08385239846422,null,{"$f":"+$B$154","v":"2030-06-01"},80.986367158617824,64.8,null,95.489100000000008,null,null,null,241.27546715861783]
[null,{"$f":"+$B$155","v":"2030-07-01"},89.984852398464241,72,null,106.099,null,null,null,268.08385239846422,null,{"$f":"+$B$155","v":"2030-07-01"},89.984852398464241,72,null,106.099,null,null,null,268.08385239846422,null,{"$f":"+$B$155","v":"2030-07-01"},80.986367158617824,64.8,null,95.489100000000008,null,null,null,241.27546715861783]
[null,{"$f":"+$B$156","v":"2030-08-01"},89.984852398464241,72,null,106.099,null,null,null,268.08385239846422,null,{"$f":"+$B$156","v":"2030-08-01"},89.984852398464241,72,null,106.099,null,null,null,268.08385239846422,null,{"$f":"+$B$156","v":"2030-08-01"},80.986367158617824,64.8,null,95.489100000000008,null,null,null,241.27546715861783]
[null,{"$f":"+$B$157","v":"2030-09-01"},89.984852398464241,72,null,106.099,null,null,null,268.08385239846422,null,{"$f":"+$B$157","v":"2030-09-01"},89.984852398464241,72,null,106.099,null,null,null,268.08385239846422,null,{"$f":"+$B$157","v":"2030-09-01"},80.986367158617824,64.8,null,95.489100000000008,null,null,null,241.27546715861783]
[null,{"$f":"+$B$158","v":"2030-10-01"},89.984852398464241,72,null,106.099,null,null,null,268.08385239846422,null,{"$f":"+$B$158","v":"2030-10-01"},89.984852398464241,72,null,106.099,null,null,null,268.08385239846422,null,{"$f":"+$B$158","v":"2030-10-01"},80.986367158617824,64.8,null,95.489100000000008,null,null,null,241.27546715861783]
[null,{"$f":"+$B$159","v":"2030-11-01"},89.984852398464241,72,null,106.099,null,null,null,268.08385239846422,null,{"$f":"+$B$159","v":"2030-11-01"},89.984852398464241,72,null,106.099,null,null,null,268.08385239846422,null,{"$f":"+$B$159","v":"2030-11-01"},80.986367158617824,64.8,null,95.489100000000008,null,null,null,241.27546715861783]
[null,{"$f":"+$B$160","v":"2030-12-01"},89.984852398464241,72,null,106.099,null,null,null,268.08385239846422,null,{"$f":"+$B$160","v":"2030-12-01"},89.984852398464241,72,null,106.099,null,null,null,268.08385239846422,null,{"$f":"+$B$160","v":"2030-12-01"},80.986367158617824,64.8,null,95.489100000000008,null,null,null,241.27546715861783]
[null,{"$f":"+$B$161","v":"2031-01-01"},89.984852398464241,72,null,106.099,null,null,null,268.08385239846422,null,{"$f":"+$B$161","v":"2031-01-01"},89.984852398464241,72,null,106.099,null,null,null,268.08385239846422,null,{"$f":"+$B$161","v":"2031-01-01"},80.986367158617824,64.8,null,95.489100000000008,null,null,null,241.27546715861783]
[null,{"$f":"+$B$162","v":"2031-02-01"},89.984852398464241,72,null,106.099,null,null,null,268.08385239846422,null,{"$f":"+$B$162","v":"2031-02-01"},89.984852398464241,72,null,106.099,null,null,null,268.08385239846422,null,{"$f":"+$B$162","v":"2031-02-01"},80.986367158617824,64.8,null,95.489100000000008,null,null,null,241.27546715861783]
[null,{"$f":"+$B$163","v":"2031-03-01"},89.984852398464241,72,null,106.099,null,null,null,268.08385239846422,null,{"$f":"+$B$163","v":"2031-03-01"},89.984852398464241,72,null,106.099,null,null,null,268.08385239846422,null,{"$f":"+$B$163","v":"2031-03-01"},80.986367158617824,64.8,null,95.489100000000008,null,null,null,241.27546715861783]
[null,{"$f":"+$B$164","v":"2031-04-01"},89.984852398464241,72,null,106.099,null,null,null,268.08385239846422,null,{"$f":"+$B$164","v":"2031-04-01"},89.984852398464241,72,null,106.099,null,null,null,268.08385239846422,null,{"$f":"+$B$164","v":"2031-04-01"},80.986367158617824,64.8,null,95.489100000000008,null,null,null,241.27546715861783]
[null,{"$f":"+$B$165","v":"2031-05-01"},89.984852398464241,72,null,106.099,null,null,null,268.08385239846422,null,{"$f":"+$B$165","v":"2031-05-01"},89.984852398464241,72,null,106.099,null,null,null,268.08385239846422,null,{"$f":"+$B$165","v":"2031-05-01"},80.986367158617824,64.8,null,95.489100000000008,null,null,null,241.27546715861783]
[null,{"$f":"+$B$166","v":"2031-06-01"},89.984852398464241,72,null,106.099,null,null,null,268.08385239846422,null,{"$f":"+$B$166","v":"2031-06-01"},89.984852398464241,72,null,106.099,null,null,null,268.08385239846422,null,{"$f":"+$B$166","v":"2031-06-01"},80.986367158617824,64.8,null,95.489100000000008,null,null,null,241.27546715861783]
[null,{"$f":"+$B$167","v":"2031-07-01"},89.984852398464241,72,null,106.099,null,null,null,268.08385239846422,null,{"$f":"+$B$167","v":"2031-07-01"},89.984852398464241,72,null,106.099,null,null,null,268.08385239846422,null,{"$f":"+$B$167","v":"2031-07-01"},80.986367158617824,64.8,null,95.489100000000008,null,null,null,241.27546715861783]
[null,{"$f":"+$B$168","v":"2031-08-01"},89.984852398464241,72,null,106.099,null,null,null,268.08385239846422,null,{"$f":"+$B$168","v":"2031-08-01"},89.984852398464241,72,null,106.099,null,null,null,268.08385239846422,null,{"$f":"+$B$168","v":"2031-08-01"},80.986367158617824,64.8,null,95.489100000000008,null,null,null,241.27546715861783]
[null,{"$f":"+$B$169","v":"2031-09-01"},89.984852398464241,72,null,106.099,null,null,null,268.08385239846422,null,{"$f":"+$B$169","v":"2031-09-01"},89.984852398464241,72,null,106.099,null,null,null,268.08385239846422,null,{"$f":"+$B$169","v":"2031-09-01"},80.986367158617824,64.8,null,95.489100000000008,null,null,null,241.27546715861783]
[null,{"$f":"+$B$170","v":"2031-10-01"},89.984852398464241,72,null,106.099,null,null,null,268.08385239846422,null,{"$f":"+$B$170","v":"2031-10-01"},89.984852398464241,72,null,106.099,null,null,null,268.08385239846422,null,{"$f":"+$B$170","v":"2031-10-01"},80.986367158617824,64.8,null,95.489100000000008,null,null,null,241.27546715861783]
[null,{"$f":"+$B$171","v":"2031-11-01"},89.984852398464241,72,null,106.099,null,null,null,268.08385239846422,null,{"$f":"+$B$171","v":"2031-11-01"},89.984852398464241,72,null,106.099,null,null,null,268.08385239846422,null,{"$f":"+$B$171","v":"2031-11-01"},80.986367158617824,64.8,null,95.489100000000008,null,null,null,241.27546715861783]
[null,{"$f":"+$B$172","v":"2031-12-01"},89.984852398464241,72,null,106.099,null,null,null,268.08385239846422,null,{"$f":"+$B$172","v":"2031-12-01"},89.984852398464241,72,null,106.099,null,null,null,268.08385239846422,null,{"$f":"+$B$172","v":"2031-12-01"},80.986367158617824,64.8,null,95.489100000000008,null,null,null,241.27546715861783]
[null,{"$f":"+$B$173","v":"2032-01-01"},89.984852398464241,72,null,106.099,null,null,null,268.08385239846422,null,{"$f":"+$B$173","v":"2032-01-01"},89.984852398464241,72,null,106.099,null,null,null,268.08385239846422,null,{"$f":"+$B$173","v":"2032-01-01"},80.986367158617824,64.8,null,95.489100000000008,null,null,null,241.27546715861783]
[null,{"$f":"+$B$174","v":"2032-02-01"},89.984852398464241,72,null,106.099,null,null,null,268.08385239846422,null,{"$f":"+$B$174","v":"2032-02-01"},89.984852398464241,72,null,106.099,null,null,null,268.08385239846422,null,{"$f":"+$B$174","v":"2032-02-01"},80.986367158617824,64.8,null,95.489100000000008,null,null,null,241.27546715861783]
[null,{"$f":"+$B$175","v":"2032-03-01"},89.984852398464241,72,null,106.099,null,null,null,268.08385239846422,null,{"$f":"+$B$175","v":"2032-03-01"},89.984852398464241,72,null,106.099,null,null,null,268.08385239846422,null,{"$f":"+$B$175","v":"2032-03-01"},80.986367158617824,64.8,null,95.489100000000008,null,null,null,241.27546715861783]
[null,{"$f":"+$B$176","v":"2032-04-01"},89.984852398464241,72,null,106.099,null,null,null,268.08385239846422,null,{"$f":"+$B$176","v":"2032-04-01"},89.984852398464241,72,null,106.099,null,null,null,268.08385239846422,null,{"$f":"+$B$176","v":"2032-04-01"},80.986367158617824,64.8,null,95.489100000000008,null,null,null,241.27546715861783]
[null,{"$f":"+$B$177","v":"2032-05-01"},89.984852398464241,72,null,106.099,null,null,null,268.08385239846422,null,{"$f":"+$B$177","v":"2032-05-01"},89.984852398464241,72,null,106.099,null,null,null,268.08385239846422,null,{"$f":"+$B$177","v":"2032-05-01"},80.986367158617824,64.8,null,95.489100000000008,null,null,null,241.27546715861783]
[null,{"$f":"+$B$178","v":"2032-06-01"},89.984852398464241,72,null,106.099,null,null,null,268.08385239846422,null,{"$f":"+$B$178","v":"2032-06-01"},89.984852398464241,72,null,106.099,null,null,null,268.08385239846422,null,{"$f":"+$B$178","v":"2032-06-01"},80.986367158617824,64.8,null,95.489100000000008,null,null,null,241.27546715861783]
[null,{"$f":"+$B$179","v":"2032-07-01"},89.984852398464241,72,null,106.099,null,null,null,268.08385239846422,null,{"$f":"+$B$179","v":"2032-07-01"},89.984852398464241,72,null,106.099,null,null,null,268.08385239846422,null,{"$f":"+$B$179","v":"2032-07-01"},80.986367158617824,64.8,null,95.489100000000008,null,null,null,241.27546715861783]
[null,{"$f":"+$B$180","v":"2032-08-01"},89.984852398464241,72,null,106.099,null,null,null,268.08385239846422,null,{"$f":"+$B$180","v":"2032-08-01"},89.984852398464241,72,null,106.099,null,null,null,268.08385239846422,null,{"$f":"+$B$180","v":"2032-08-01"},80.986367158617824,64.8,null,95.489100000000008,null,null,null,241.27546715861783]
[null,{"$f":"+$B$181","v":"2032-09-01"},89.984852398464241,72,null,106.099,null,null,null,268.08385239846422,null,{"$f":"+$B$181","v":"2032-09-01"},89.984852398464241,72,null,106.099,null,null,null,268.08385239846422,null,{"$f":"+$B$181","v":"2032-09-01"},80.986367158617824,64.8,null,95.489100000000008,null,null,null,241.27546715861783]
[null,{"$f":"+$B$182","v":"2032-10-01"},89.984852398464241,72,null,106.099,null,null,null,268.08385239846422,null,{"$f":"+$B$182","v":"2032-10-01"},89.984852398464241,72,null,106.099,null,null,null,268.08385239846422,null,{"$f":"+$B$182","v":"2032-10-01"},80.986367158617824,64.8,null,95.489100000000008,null,null,null,241.27546715861783]
[null,{"$f":"+$B$183","v":"2032-11-01"},89.984852398464241,72,null,106.099,null,null,null,268.08385239846422,null,{"$f":"+$B$183","v":"2032-11-01"},89.984852398464241,72,null,106.099,null,null,null,268.08385239846422,null,{"$f":"+$B$183","v":"2032-11-01"},80.986367158617824,64.8,null,95.489100000000008,null,null,null,241.27546715861783]
[null,{"$f":"+$B$184","v":"2032-12-01"},89.984852398464241,72,null,106.099,null,null,null,268.08385239846422,null,{"$f":"+$B$184","v":"2032-12-01"},89.984852398464241,72,null,106.099,null,null,null,268.08385239846422,null,{"$f":"+$B$184","v":"2032-12-01"},80.986367158617824,64.8,null,95.489100000000008,null,null,null,241.27546715861783]
[]
[]
[null,null,"TRANSPORTE MEDIO",null,null,null,null,null,null,null,null,null,"TRANSPORTE ALTO",null,null,null,null,null,null,null,null,null,"TRANSPORTE BAJO"]
[null,null,"CENTRO","COSTA","CQR","NORESTE","NOROESTE","SUROESTE","TOLIMA GRANDE","TOTAL",null,null,"CENTRO","COSTA","CQR","NORESTE","NOROESTE","SUROESTE","TOLIMA GRANDE","TOTAL",null,null,"CENTRO","COSTA","CQR","NORESTE","NOROESTE","SUROESTE","TOLIMA GRANDE","TOTAL"]
[null,{"$f":"+$B$5","v":"2018-01-01"},28.409634701952925,15.564057905269047,5.8123788392521805,1.8736968887282426,6.3794343978354151,11.911994533211102,3.9661487390382191,73.917346005287129,null,{"$f":"+$B$5","v":"2018-01-01"},29.672285133150829,16.255793812169891,6.0707067876633882,1.9569723060050535,6.6629648155169887,12.441416512464926,4.1424220163288057,77.20256138329988,null,{"$f":"+$B$5","v":"2018-01-01"},27.462646878554501,15.045255975093413,5.6186328779437753,1.8112403257706347,6.1667865845742345,11.514928048770733,3.8339437810702788,71.453434471777555]
[null,{"$f":"+$B$6","v":"2018-02-01"},32.055951940195392,18.480434904391878,6.675056193303047,2.0939555587896725,7.5523273337773213,13.983816351538227,4.4333978415821687,85.274940123577707,null,{"$f":"+$B$6","v":"2018-02-01"},33.480660915315191,19.301787566809299,6.9717253574498486,2.187020250291436,7.8879863263896466,14.605319300495482,4.630437745652487,89.064937462403392,null,{"$f":"+$B$6","v":"2018-02-01"},30.987420208855546,17.864420407578816,6.4525543201929443,2.0241570401633502,7.300583089318077,13.517689139820286,4.2856179135294292,82.432442119458457]
[null,{"$f":"+$B$7","v":"2018-03-01"},28.707972528672911,16.392941939937426,6.0121124939216442,1.9019722209701215,6.564226234800457,12.474164291399767,4.0198272990298891,76.073217008732215,null,{"$f":"+$B$7","v":"2018-03-01"},29.983882418836153,17.121517137267983,6.2793174936514955,1.9865043196799048,6.8559696230138103,13.028571593239757,4.1984862900978843,79.454248875786988,null,{"$f":"+$B$7","v":"2018-03-01"},27.751040111050482,15.846510541939514,5.8117087441242568,1.8385731469377844,6.3454186936404433,12.058358815019778,3.8858330557288929,73.537443108441153]
[null,{"$f":"+$B$8","v":"2018-04-01"},30.099439708841889,17.571499952701156,6.3549030816729148,1.977692064584945,7.0058880563825037,13.314703070364908,4.1865424798732951,86.050821294544306,null,{"$f":"+$B$8","v":"2018-04-01"},31.437192584790413,18.352455506154538,6.637343218636155,2.0655894896776088,7.3172608588883925,13.906467651270015,4.3726110345343301,101.74575461885563,null,{"$f":"+$B$8","v":"2018-04-01"},29.096125051880492,16.985783287611117,6.1430729789504843,1.9117689957654465,6.7723584545030873,12.870879634686078,4.0469910638775186,70.35588797023297]
[null,{"$f":"+$B$9","v":"2018-05-01"},28.781397558336231,16.513307422848676,6.0694696385125502,1.920223005927141,6.5995303297744856,12.541152107812525,4.0587001860437697,81.880219477413846,null,{"$f":"+$B$9","v":"2018-05-01"},30.060570783151174,17.247232197197508,6.3392238446686635,2.005566250635014,6.8928427888755746,13.098536645937527,4.2390868609790493,96.814470725047997,null,{"$f":"+$B$9","v":"2018-05-01"},27.822017639725026,15.962863842087058,5.8671539838954665,1.8562155723962368,6.3795459854486696,12.123113704218776,3.9234101798423118,66.945968229779751]
[null,{"$f":"+$B$10","v":"2018-06-01"},30.41097149610836,18.031498436313036,6.4818421081112714,2.0006407430267998,7.1491461424055824,13.582458374353472,4.2428380980348077,88.447992213945213,null,{"$f":"+$B$10","v":"2018-06-01"},31.762570229268729,18.832898366815837,6.7699239795828836,2.0895581093835465,7.4668859709569411,14.186123190991403,4.4314086801696879,104.58014899738185,null,{"$f":"+$B$10","v":"2018-06-01"},29.397272446238087,17.430448488435939,6.2657807045075629,1.93395271825924,6.9108412709920639,13.129709761875025,4.1014101614336482,72.315835430508557]
[null,{"$f":"+$B$11","v":"2018-07-01"},29.448105683027961,17.662509505225852,6.3847886602129611,1.9605740409267096,6.9123639223936033,13.224318513683137,4.1702921073447303,79.76295243281497,null,{"$f":"+$B$11","v":"2018-07-01"},30.756910380051426,18.447509927680333,6.6685570451113154,2.0477106649678967,7.2195800967222086,13.812066003180165,4.3556384232267185,83.307972540940057,null,{"$f":"+$B$11","v":"2018-07-01"},28.466502160260365,17.07375918838499,6.1719623715391956,1.8952215728958195,6.6819517916471503,12.783507896560366,4.0312823704332397,77.104187351721137]
[null,{"$f":"+$B$12","v":"2018-08-01"},29.302914342534528,17.252106947246531,6.3014474416017574,1.9636486030321521,6.7737008507961578,13.014368428433832,4.1780943678138147,78.786280981458773,null,{"$f":"+$B$12","v":"2018-08-01"},30.605266091091618,18.018867256013046,6.5815117723396135,2.0509218742780253,7.0747542219426531,13.59278480303089,4.3637874508277612,82.287893469523596,null,{"$f":"+$B$12","v":"2018-08-01"},28.326150531116713,16.677036715671647,6.0913991935483667,1.8981936495977469,6.5479108224362861,12.580556147486037,4.0388245555533535,76.160071615410146]
[null,{"$f":"+$B$13","v":"2018-09-01"},30.471902926890099,18.071641768918425,6.552643268853207,2.0392564725750257,7.1541313857156998,13.552487472457102,4.3441904298632235,82.186253725272778,null,{"$f":"+$B$13","v":"2018-09-01"},31.826209723640773,18.874825847537021,6.8438718585800169,2.1298900935783607,7.4720927806363981,14.154820249010752,4.5372655600793665,85.838976113062685,null,{"$f":"+$B$13","v":"2018-09-01"},29.456172829327102,17.469253709954479,6.3342218265581023,1.9712812568225255,6.9156603395251777,13.100737890041868,4.1993840822011173,79.446711934430368]
[null,{"$f":"+$B$14","v":"2018-10-01"},29.279431545663094,17.096206135146893,6.259808363225007,1.9793070626314242,6.7791702592664889,12.763524775838695,4.2112991511258304,78.368747292897424,null,{"$f":"+$B$14","v":"2018-10-01"},30.580739614359228,17.856037518931199,6.538022068257229,2.0672762654150429,7.0804667152338876,13.330792543653747,4.398468002286978,81.851802728137301,null,{"$f":"+$B$14","v":"2018-10-01"},28.303450494140989,16.526332597308663,6.0511480844508396,1.9133301605437099,6.5531979172909391,12.338073949977405,4.0709225127549695,75.756455716467514]
[null,{"$f":"+$B$15","v":"2018-11-01"},30.990045749799183,18.859433658412819,6.7353502902118176,2.0668610559668843,7.4137604711716838,13.961862954108682,4.4164192707388077,84.44373345040988,null,{"$f":"+$B$15","v":"2018-11-01"},32.367381116456926,19.697630709897837,7.0346991919990103,2.1587215473431907,7.7432609365570926,14.582390196513513,4.6127045716605322,88.196788270428101,null,{"$f":"+$B$15","v":"2018-11-01"},29.957044224805877,18.230785869799057,6.5108386138714254,1.9979656874346552,7.1666351221326288,13.496467522305062,4.2692052950475139,81.628942335396232]
[null,{"$f":"+$B$16","v":"2018-12-01"},29.481597546038746,17.442032143114769,6.3884042228171749,2.0068480620469225,6.8312670415116443,12.968078758910721,4.2847260492003416,79.402953823640317,null,{"$f":"+$B$16","v":"2018-12-01"},30.791890770307138,18.217233571697651,6.6723332993868274,2.0960413092490078,7.1348789100232732,13.544437814862308,4.4751583180536914,82.931973993579888,null,{"$f":"+$B$16","v":"2018-12-01"},28.498877627837459,16.860631071677613,6.1754574153899364,1.9399531266453585,6.6035581401279231,12.535809466947031,4.1419018475603311,76.75618869618566]
[null,{"$f":"+$B$17","v":"2019-01-01"},29.07377320064705,16.358137640551053,6.0754309788932748,2.704822269963282,6.582429934538955,12.32778416080005,4.2079559568221869,77.330334142215861,null,{"$f":"+$B$17","v":"2019-01-01"},30.011636852280823,16.885819499923663,6.2714126233737009,2.8224413408217472,6.7947663840402104,12.72545461760005,4.3436964715583857,79.855227789598587,null,{"$f":"+$B$17","v":"2019-01-01"},27.823288331802015,15.654561828054231,5.8141221195860364,2.5658997338363942,6.2993146685372787,11.797556885066713,4.0269686038405865,73.981712170723256]
[null,{"$f":"+$B$18","v":"2019-02-01"},32.792942430250015,19.310470084426225,6.9476630718636025,2.9293643715079041,7.7904543827250796,14.422431592685436,4.6890782021417596,88.882404135600012,null,{"$f":"+$B$18","v":"2019-02-01"},33.850779282838722,19.933388474246424,7.1717812354721042,3.0542267359645825,8.041759362812984,14.887671321481736,4.840338789307622,91.779945202124168,null,{"$f":"+$B$18","v":"2019-02-01"},31.382493293465064,18.479912231332623,6.6488388537189298,2.7807841105833981,7.4553810759412036,13.802111954290359,4.4873974192539405,85.036918938585501]
[null,{"$f":"+$B$19","v":"2019-03-01"},29.298026408632296,16.981489571859395,6.2126124044763564,2.7169511075047601,6.7426398897020876,12.814226329877803,4.2306052653731463,78.996550977425855,null,{"$f":"+$B$19","v":"2019-03-01"},30.243124034717205,17.529279558048408,6.4130192562336577,2.8349614311871436,6.960144402273122,13.227588469551279,4.3670764029658278,81.57519355497665,null,{"$f":"+$B$19","v":"2019-03-01"},28.037896240519078,16.251102923607377,5.9454032687999536,2.5775069009459806,6.4526338729407069,12.263076810313166,4.0486437485829025,75.576263765709157]
[null,{"$f":"+$B$20","v":"2019-04-01"},30.808088199839379,18.338604890184186,6.590790861980607,2.7919939495175066,7.2560195819680784,13.801883106935389,4.400427823794721,83.987808414219856,null,{"$f":"+$B$20","v":"2019-04-01"},31.80189749660838,18.930172789867541,6.8033970188186892,2.9124250100390103,7.490084729773498,14.247105142642978,4.5423771084332589,86.727459296183341,null,{"$f":"+$B$20","v":"2019-04-01"},29.483009137480689,17.54984769060637,6.3073159861964943,2.6493220938398991,6.943932718227515,13.208253725991931,4.2111621109433344,80.352843463286234]
[null,{"$f":"+$B$21","v":"2019-05-01"},29.46028848949576,17.251285135549363,6.3026087426428283,2.7278139375163035,6.8281019934500637,13.051522760970467,4.2612253465743439,79.882846406199135,null,{"$f":"+$B$21","v":"2019-05-01"},30.410620376253679,17.807778204438051,6.5059187020829174,2.8461746750700274,7.0483633480774834,13.472539624227577,4.3986842287219021,82.490079158871637,null,{"$f":"+$B$21","v":"2019-05-01"},28.193179307151848,16.509294377031111,6.0315287967227054,2.5879025124624038,6.5344201872801673,12.490166943294316,4.0779468370442631,76.424438960986819]
[null,{"$f":"+$B$22","v":"2019-06-01"},31.118964498566569,18.739544941946242,6.7109874720080178,2.8072146380967218,7.3723124269830302,14.083133699702818,4.4462491624574421,85.278406839760848,null,{"$f":"+$B$22","v":"2019-06-01"},32.122802063036453,19.34404639168644,6.9274709388469846,2.9281366885723941,7.6101289568857062,14.537428335177101,4.5896765547947771,88.059689928999859,null,{"$f":"+$B$22","v":"2019-06-01"},29.780514412606717,17.933543008959308,6.4223428495560606,2.6638881291468901,7.0552237204461248,13.477407519070438,4.2550126393409924,81.58793227912652]
[null,{"$f":"+$B$23","v":"2019-07-01"},30.157132587284316,18.353745802057322,6.6048145423330089,2.7614087286845921,7.1441482138539891,13.715120711842953,4.3630086048431886,83.099379190899384,null,{"$f":"+$B$23","v":"2019-07-01"},31.129943315906385,18.945802118252715,6.8178730759566522,2.8808531691792281,7.3746046078492782,14.157543960612079,4.5037508179026444,85.81037106565897,null,{"$f":"+$B$23","v":"2019-07-01"},28.860051615788212,17.564337380463456,6.320736497501481,2.6200523663761421,6.8368730218602689,13.125223046817448,4.1753523207639107,79.502626249570909]
[null,{"$f":"+$B$24","v":"2019-08-01"},30.054951364366666,17.997537165414276,6.534607025021467,2.7631187516001838,7.0221519251779121,13.53864372151939,4.3709903587627563,82.282000311862646,null,{"$f":"+$B$24","v":"2019-08-01"},31.02446592450752,18.578102880427632,6.7454008000221579,2.8826183541243551,7.248672955022359,13.975374164149043,4.511990047755102,84.966625126008182,null,{"$f":"+$B$24","v":"2019-08-01"},28.762265284178852,17.223449545396452,6.2535486583538766,2.6216888399190208,6.7201238853853127,12.956336464679845,4.1829907734396263,78.720403451352993]
[null,{"$f":"+$B$25","v":"2019-09-01"},31.290808323553616,18.891270184483243,6.809001194162664,2.8408943626762428,7.4225222167853255,14.137992577820084,4.5464731740818358,85.938962033563016,null,{"$f":"+$B$25","v":"2019-09-01"},32.300189237216628,19.500665996885925,7.0286463939743609,2.9629028558802872,7.6619584173267867,14.594056854523954,4.6931335990522163,88.741553354860159,null,{"$f":"+$B$25","v":"2019-09-01"},29.944967105336254,18.078742434612995,6.5161409277470641,2.6961192634219158,7.1032739493967085,13.529906875548251,4.3509259407879926,82.220076496851178]
[null,{"$f":"+$B$26","v":"2019-10-01"},29.952614270940895,17.659530673176445,6.4541006524440769,2.7732161426869233,6.9678367724685151,13.187951947867123,4.3946788786473858,81.389929338231354,null,{"$f":"+$B$26","v":"2019-10-01"},30.918827634519623,18.229192952956328,6.6622974476842067,2.8930414675042151,7.1926057006126598,13.613369752637027,4.5364427134424608,84.045777669356525,null,{"$f":"+$B$26","v":"2019-10-01"},28.66432978616924,16.899980966803266,6.1765049254572348,2.6313519346149326,6.6681448682763209,12.620728208173912,4.205660432253949,77.866701121748861]
[null,{"$f":"+$B$27","v":"2019-11-01"},31.757848468965399,19.509362713976714,6.9398761069839816,2.8610080126829303,7.6555935632675896,14.449258927703248,4.602028379841844,87.774976173421692,null,{"$f":"+$B$27","v":"2019-11-01"},32.782295193770729,20.138696995072731,7.1637430781770099,2.9836653333065448,7.9025481943407359,14.915364054403348,4.7504809082238371,90.636793757294924,null,{"$f":"+$B$27","v":"2019-11-01"},30.391919502558281,18.670250339182012,6.6413868120599373,2.7153678102025087,7.3263207218367246,13.82778542543644,4.4040916753325172,83.977122286608434]
[null,{"$f":"+$B$28","v":"2019-12-01"},30.25604759239096,18.155272576788629,6.6082866026098168,2.7989094815471618,7.0831957502252703,13.491336187435076,4.4670080205289393,82.860056211525858,null,{"$f":"+$B$28","v":"2019-12-01"},31.232049127629374,18.740926530878582,6.8214571381778741,2.9195636237470421,7.3116859357164072,13.926540580578141,4.6111050534492266,85.563327990176646,null,{"$f":"+$B$28","v":"2019-12-01"},28.954712212073073,17.374400638002022,6.3240592218524059,2.6559401836317198,6.7785421695704198,12.91106366324432,4.2748786433018884,79.273596731675852]
[null,{"$f":"+$B$29","v":"2020-01-01"},29.250580169354706,15.995865182758752,6.0317476168997262,3.4846653633458411,6.4870634504894396,12.188118426167614,4.3226449990165028,77.760685208032584,null,{"$f":"+$B$29","v":"2020-01-01"},30.522344524544028,16.69133758200913,6.2939975132866683,3.6264899237619015,6.769109687467239,12.71803661860968,4.5105860859302629,81.131901935608894,null,{"$f":"+$B$29","v":"2020-01-01"},28.296756902962695,15.474260883320964,5.8350601946095164,3.3648697742704954,6.2755287727560871,11.79067978183606,4.1816891838311809,75.218845493586997]
[null,{"$f":"+$B$30","v":"2020-02-01"},31.852466702518761,18.206859671843294,6.5810341107483916,3.6187106203464783,7.509522275763894,13.794080212103053,4.5979503767829408,86.160623970106826,null,{"$f":"+$B$30","v":"2020-02-01"},33.237356559150001,18.998462266271261,6.8671660286070164,3.7663632354147407,7.836023244275367,14.393822830020573,4.7978612627300246,89.897055426468981,null,{"$f":"+$B$30","v":"2020-02-01"},30.813799310045322,17.613157726022319,6.3664351723544232,3.4945439902819819,7.2646465493802896,13.34427324866491,4.448017212322628,83.344873209071864]
[null,{"$f":"+$B$31","v":"2020-03-01"},29.378895355703744,16.569494998229867,6.0787815127918066,3.4715516273565612,6.7092649641749933,12.73207350592083,4.2675783891953873,79.207640353373193,null,{"$f":"+$B$31","v":"2020-03-01"},30.656238632038679,17.289907824239858,6.3430763611740568,3.6128060253383047,7.000972136530426,13.285641919221733,4.453125275682142,82.641768174225192,null,{"$f":"+$B$31","v":"2020-03-01"},28.420887898452531,16.029185378722367,5.880560376505116,3.3521836601069532,6.4904845849084163,12.316897195945151,4.1284182243303196,76.618617318970848]
[null,{"$f":"+$B$32","v":"2020-04-01"},30.813286702299177,17.775697105890149,6.413955071710677,3.536043470305644,7.13853848567281,13.666646914874766,4.4044560126299173,83.748623763383137,null,{"$f":"+$B$32","v":"2020-04-01"},32.152994819790443,18.548553501798413,6.6928226835241844,3.6801018614590872,7.4489097241803224,14.260848954651927,4.5959541001355655,87.380185645539939,null,{"$f":"+$B$32","v":"2020-04-01"},29.808505614180721,17.196054808958944,6.2048043628505463,3.4145725081772618,6.9057600567921735,13.220995385041892,4.2608324470006798,81.01152518300222]
[null,{"$f":"+$B$33","v":"2020-05-01"},29.549988728094018,16.952153993593885,6.1823249533498723,3.4666537202250591,6.8011775700353434,13.110375009790641,4.2524151930942278,80.315089168183036,null,{"$f":"+$B$33","v":"2020-05-01"},30.834770846706789,17.689204167228397,6.4511216904520383,3.6076951657228244,7.0968809426455746,13.680391314564144,4.4373028101852805,83.79736693750506,null,{"$f":"+$B$33","v":"2020-05-01"},28.586402139134425,16.399366363367996,5.9807274005232456,3.3474454673384351,6.579400040577668,12.68286278121051,4.1137494802759376,77.689953672428231]
[null,{"$f":"+$B$34","v":"2020-06-01"},31.184024401597046,18.425243856100838,6.5996690010588548,3.542371657165317,7.3032783432218418,14.169047167903885,4.4273550952493075,85.650989522297095,null,{"$f":"+$B$34","v":"2020-06-01"},32.53985154949256,19.226341415061736,6.8866111315396727,3.6867051868778766,7.6208121842314851,14.785092696943183,4.6198487950427545,89.365262959189266,null,{"$f":"+$B$34","v":"2020-06-01"},30.167154040675403,17.824420686880156,6.3844624031982402,3.4206943411175978,7.0651279624646071,13.707013021124409,4.2829848204042218,82.851857275864631]
[null,{"$f":"+$B$35","v":"2020-07-01"},30.034183385558901,17.696445474950647,6.4112671628039832,3.4848926725088876,6.9583502331193214,13.577808448800033,4.3124845265704206,82.475431904312174,null,{"$f":"+$B$35","v":"2020-07-01"},31.340017445800587,18.465856147774584,6.69001790901285,3.6267271159320367,7.2608871997766817,14.168147946573942,4.4999838538126111,86.051637618683287,null,{"$f":"+$B$35","v":"2020-07-01"},29.054807840377627,17.119387470332686,6.2022041031473307,3.3650896711782252,6.7314475081263003,13.135053825469594,4.1718600311387757,79.779850449770549]
[null,{"$f":"+$B$36","v":"2020-08-01"},30.032793632326751,17.631236517418941,6.3936723908987494,3.4842350962413504,6.9594593133161267,13.602448686493078,4.3158757693640739,82.419721406059068,null,{"$f":"+$B$36","v":"2020-08-01"},31.338567268514868,18.397812018176282,6.6716581470247807,3.6260409493919989,7.2620445008516086,14.193859498949298,4.5035225419451201,85.993504924853937,null,{"$f":"+$B$36","v":"2020-08-01"},29.05346340518566,17.056304891850928,6.1851830738042244,3.364453537615065,6.7325204226645132,13.158890577150911,4.1751406899282886,79.725956598199588]
[null,{"$f":"+$B$37","v":"2020-09-01"},31.240257729371422,18.556841964996469,6.6890133399250873,3.5609973884847479,7.3275871455123944,14.248223908745409,4.4894814793949296,86.112402956430458,null,{"$f":"+$B$37","v":"2020-09-01"},32.598529804561473,19.363661180865872,6.9798400068783506,3.7061407326024991,7.6461778909694527,14.867711904777813,4.6846763263251425,89.846737846980588,null,{"$f":"+$B$37","v":"2020-09-01"},30.221553672978875,17.951727553094411,6.4708933397101394,3.4387127116331335,7.0886440864195981,13.7836079117211,4.3430853441972683,83.298224619754521]
[null,{"$f":"+$B$38","v":"2020-10-01"},29.947914934103785,17.414851153984213,6.3641344384353653,3.494487474561669,6.8893007261742065,13.26920541087693,4.3433598005976073,81.723253938733777,null,{"$f":"+$B$38","v":"2020-10-01"},31.249998192108293,18.172018595461786,6.6408359357586413,3.6367390832914608,7.1888355403556918,13.846127385262884,4.532201531058373,85.26675626329714,null,{"$f":"+$B$38","v":"2020-10-01"},28.971352490600403,16.84697557287603,6.1566083154429077,3.3743715992510248,6.6646496155380905,12.836513930087467,4.2017285027520339,79.052200026547951]
[null,{"$f":"+$B$39","v":"2020-11-01"},31.581420546845415,18.980253244849983,6.7858267540529793,3.5769445576774896,7.4930149890821509,14.308510099809666,4.535020533540802,87.260990725858491,null,{"$f":"+$B$39","v":"2020-11-01"},32.954525788012603,19.805481646799983,7.0808626998813686,3.7227812569775347,7.818798249477025,14.930619234583997,4.7321953393469238,91.045264215079442,null,{"$f":"+$B$39","v":"2020-11-01"},30.551591615970022,18.361331943387487,6.5645497946816862,3.4541398644391563,7.2486775437859929,13.841928248728916,4.3871394291862105,84.409358440179474]
[null,{"$f":"+$B$40","v":"2020-12-01"},30.159456783061362,17.773161115319429,6.4756525428460554,3.5129557678033452,6.9867091422609038,13.410490803003782,4.397043831809456,82.715469986104338,null,{"$f":"+$B$40","v":"2020-12-01"},31.470737512759673,18.545907250768092,6.7572026534045779,3.6560103458045141,7.290479104967897,13.993555620525681,4.5882196505837785,86.302112138814223,null,{"$f":"+$B$40","v":"2020-12-01"},29.175996235787615,17.193601513732922,6.2644899599271602,3.3922376655391679,6.7588816702306564,12.973192189862353,4.2536619677287115,80.012061202808596]
[null,{"$f":"+$B$41","v":"2021-01-01"},29.264990766231239,15.898130991787157,5.9758696297214122,4.1929098834269558,6.460359208903645,12.257772874152801,4.2690204387399309,78.319053792963146,null,{"$f":"+$B$41","v":"2021-01-01"},30.537381669110854,16.589354078386595,6.2356900484049511,4.334066814281325,6.7412443918994542,12.790719520855093,4.4546300230329701,81.68308654597125,null,{"$f":"+$B$41","v":"2021-01-01"},28.310697589071527,15.379713676837575,5.7810043157087581,4.0736150165228784,6.2496953216567865,11.858062889126078,4.1298132505201499,75.782602059443747]
[null,{"$f":"+$B$42","v":"2021-02-01"},32.853764601619169,18.513437666763526,6.71534704955282,4.4002957137383696,7.6405780602001885,14.212316547567866,4.6980971282565251,89.03383676769846,null,{"$f":"+$B$42","v":"2021-02-01"},34.282189149515652,19.318369739231503,7.0073186604029418,4.5504694198236706,7.9727771062958466,14.830243353983859,4.9023622207894162,92.863729650042899,null,{"$f":"+$B$42","v":"2021-02-01"},31.782446190696806,17.909738612412543,6.496368341415228,4.2742382654110944,7.3914287756284427,13.74887144275587,4.5448983088568555,86.147989937176845]
[null,{"$f":"+$B$43","v":"2021-03-01"},29.510968173579105,16.701054992819078,6.0872567050577606,4.1835171241209306,6.7515784833937618,12.945654511073304,4.2304636683424253,80.410493658386372,null,{"$f":"+$B$43","v":"2021-03-01"},30.794053746343408,17.427187818593818,6.3519200400602713,4.3242656741359085,7.0451253739760986,13.508509055033011,4.4143968713138353,83.865458579456373,null,{"$f":"+$B$43","v":"2021-03-01"},28.548653994005871,16.156455373488019,5.8887592038058765,4.0645285428463973,6.5314183154570085,12.523513603103522,4.0925137661138677,77.805842798820564]
[null,{"$f":"+$B$44","v":"2021-04-01"},30.775102374624851,17.65866286426369,6.3881624865569702,4.2492282476723711,7.0642911957913164,13.690534446658146,4.3710515348914409,84.197033150458779,null,{"$f":"+$B$44","v":"2021-04-01"},32.11315030395636,18.426430814883847,6.6659086816246651,4.3928338030591494,7.3714342912605035,14.285775074773715,4.5610972537997645,87.81663022335799,null,{"$f":"+$B$44","v":"2021-04-01"},29.771566427626215,17.082836901298567,6.1798528402562001,4.1280969123689868,6.8339338741894258,13.244103975571468,4.2285172457101989,81.468908177021063]
[null,{"$f":"+$B$45","v":"2021-05-01"},29.509069465665611,16.764425591810149,6.1271083082892357,4.1766310874464168,6.7298480634039439,13.086828777328357,4.2126895093157319,80.606600803259454,null,{"$f":"+$B$45","v":"2021-05-01"},30.792072485911937,17.493313661019283,6.3935043216931149,4.3170802445625025,7.0224501531171564,13.65582133286437,4.3958499227642411,84.070092121932603,null,{"$f":"+$B$45","v":"2021-05-01"},28.546817200480863,16.217759539903295,5.9273112982363259,4.0578670508460526,6.5103964961190313,12.660084360676343,4.0753191992293489,77.995555145491252]
[null,{"$f":"+$B$46","v":"2021-06-01"},31.106623161179503,18.262818973005366,6.5457197803600575,4.2526153363486401,7.2579604346758675,14.173621948066206,4.3883852213341852,85.987744854969819,null,{"$f":"+$B$46","v":"2021-06-01"},32.459085037752523,19.056854580527332,6.8303162925496244,4.3963681564604755,7.5735239318356866,14.789866380590821,4.5791845787834973,89.685198958499967,null,{"$f":"+$B$46","v":"2021-06-01"},30.092276753749736,17.667292267363887,6.3322723962178822,4.131373552501465,7.0212878118060029,13.711438623672743,4.2452857032472009,83.201227108558925]
[null,{"$f":"+$B$47","v":"2021-07-01"},30.038136215480261,17.680391060795838,6.3942912712911939,4.1982833533960155,6.9440800061311077,13.670198118451886,4.2835903965356597,83.208970422081961,null,{"$f":"+$B$47","v":"2021-07-01"},31.344142137892451,18.449103715613049,6.672303935260377,4.3396739133794746,7.2459965281368079,14.264554558384576,4.4698334572546017,86.785608245921338,null,{"$f":"+$B$47","v":"2021-07-01"},29.058631773671124,17.103856569682929,6.1857817733143081,4.0788132646451212,6.7176426146268327,13.224430788502369,4.1439081009964536,80.51306488543915]
[null,{"$f":"+$B$48","v":"2021-08-01"},30.01083940886382,17.573604019957774,6.3757445166836701,4.1992821834277478,6.9225584973307832,13.633658929288599,4.2918394728164184,83.007527028368813,null,{"$f":"+$B$48","v":"2021-08-01"},31.315658513597022,18.337673759955933,6.6529508000177415,4.3407161708038915,7.2235393015625551,14.226426708822883,4.478441189025828,86.575406443785866,null,{"$f":"+$B$48","v":"2021-08-01"},29.032225080313911,17.000551714959148,6.1678398041831155,4.0797795241323414,6.6968228941569539,13.189083094637885,4.1518881856593621,80.318190298042708]
[null,{"$f":"+$B$49","v":"2021-09-01"},31.094066680598942,18.277545044812772,6.6151029073982466,4.2720816540980211,7.2317170532525719,14.122986655096481,4.4536515642145371,86.067151559471569,null,{"$f":"+$B$49","v":"2021-09-01"},32.445982623233675,19.072220916326369,6.9027160772851248,4.4166808358511327,7.5461395338287689,14.737029553144152,4.6472885887456039,89.768058128414836,null,{"$f":"+$B$49","v":"2021-09-01"},30.080129723622893,17.681538141177572,6.3993930299830861,4.1502050990198871,6.9959001928204234,13.662454481560728,4.3084237958162372,83.278044464000828]
[null,{"$f":"+$B$50","v":"2021-10-01"},29.90789577760718,17.307488116776884,6.3190241847286348,4.2059472680652243,6.8677643683544805,13.259239439254683,4.3096257461310241,82.1769849009181,null,{"$f":"+$B$50","v":"2021-10-01"},31.20823907228575,18.059987600115011,6.5937643666733567,4.3476710417299529,7.1663628191525017,13.835728110526627,4.4970007785715032,85.708753789054697,null,{"$f":"+$B$50","v":"2021-10-01"},28.932638306598253,16.743113504273293,6.1129690482700916,4.0862272690533779,6.6438155302559663,12.826872935800729,4.1690944718006646,79.514731066052377]
[null,{"$f":"+$B$51","v":"2021-11-01"},31.627562177293751,19.088095387499333,6.8028484696017459,4.2944920366728851,7.5168813832758934,14.421366237516443,4.5185658029858295,88.269811494845882,null,{"$f":"+$B$51","v":"2021-11-01"},33.00267357630652,19.918012578260171,7.0986244900192128,4.4400655828857731,7.8437023129835399,15.048382160886719,4.7150251857243424,92.066485887066278,null,{"$f":"+$B$51","v":"2021-11-01"},30.596228628034172,18.465657494428701,6.5810164542886458,4.1718847082499186,7.2717656859951587,13.951104294988731,4.3712212659319425,85.408878531917267]
[null,{"$f":"+$B$52","v":"2021-12-01"},30.107721106771621,17.694306167306689,6.459128777172185,4.2291666555436693,6.9330172866509159,13.423543778331991,4.3777900090903374,83.224673780867406,null,{"$f":"+$B$52","v":"2021-12-01"},31.416752459239952,18.463623826754805,6.7399604631361916,4.3718999677944179,7.2344528208531296,14.007176116520336,4.5681287051377426,86.801994359436577,null,{"$f":"+$B$52","v":"2021-12-01"},29.125947592420371,17.117317922720602,6.2485050126991775,4.1086895025923074,6.7069406359992545,12.985819524690728,4.2350359870547809,80.52825617817723]
[null,{"$f":"+$B$53","v":"2022-01-01"},29.293315600537195,15.951370838966659,5.9843939035051452,4.2090870662359485,6.4750097980943417,12.34287128957207,4.256520607841181,78.512569104752529,null,{"$f":"+$B$53","v":"2022-01-01"},30.566938017951855,16.644908701530426,6.244584942787978,4.3500082224298398,6.7565319632288778,12.879517867379549,4.4415867212255797,81.884076436534102,null,{"$f":"+$B$53","v":"2022-01-01"},28.338098787476198,15.431217442043833,5.7892506240430217,4.0899690303272305,6.2638681742434397,11.940386356216459,4.1177210228028818,75.970511437153064]
[null,{"$f":"+$B$54","v":"2022-02-01"},32.978684468490705,18.751041996272527,6.7771595244021698,4.4221657763918927,7.7006395477764702,14.403674769155277,4.702854634401918,89.736220716890955,null,{"$f":"+$B$54","v":"2022-02-01"},34.412540314946817,19.566304691762635,7.0718186341587836,4.5723512243316948,8.0354499628971841,15.029921498248983,4.9073265750280877,93.595712901374185,null,{"$f":"+$B$54","v":"2022-02-01"},31.903292583648611,18.139594974654944,6.5561651920847064,4.2960995216737423,7.4495317364359313,13.933989722334996,4.54950067893229,86.828174409765225]
[null,{"$f":"+$B$55","v":"2022-03-01"},29.404341001415691,16.505924580938665,6.0521536430094853,4.2005305469604224,6.6620852901814223,12.847644773287447,4.2202360337509415,79.892915869544069,null,{"$f":"+$B$55","v":"2022-03-01"},30.682790610172891,17.22357347576208,6.3152907579229405,4.341079680577117,6.9517411723632225,13.406238024299943,4.4037245569575028,83.32443827805568,null,{"$f":"+$B$55","v":"2022-03-01"},28.445503794847784,15.967687909821096,5.8548008068243922,4.081691527984602,6.4448433785450705,12.428699835028072,4.0826196413460183,77.305846894397035]
[null,{"$f":"+$B$56","v":"2022-04-01"},30.777554443526284,17.650671770913718,6.3762040533902669,4.2660671427756025,7.0813517214862349,13.722573258075808,4.3610200646719992,84.235442454839927,null,{"$f":"+$B$56","v":"2022-04-01"},32.115708984549165,18.418092282692569,6.6534303165811473,4.4094656936016534,7.3892365789421577,14.319206877992146,4.5506296327012157,87.855770367060046,null,{"$f":"+$B$56","v":"2022-04-01"},29.773938537759122,17.075106387079572,6.1682843559971055,4.1450910608927654,6.8504380783942924,13.275098043138552,4.2188128886500857,81.506769351911501]
[null,{"$f":"+$B$57","v":"2022-05-01"},29.577818264091121,16.925107697811438,6.1653514578153077,4.1989720205274903,6.7774958542239627,13.221418249017507,4.2176296750130069,81.083793218499835,null,{"$f":"+$B$57","v":"2022-05-01"},30.863810362529861,17.660981945542368,6.4334102168507545,4.3394533921253622,7.0721695870163082,13.796262520713919,4.401004878274442,84.567092903053009,null,{"$f":"+$B$57","v":"2022-05-01"},28.613324190262055,16.373202012013234,5.9643073885387201,4.080183823065787,6.5564905546297023,12.790285045245195,4.0800982725669304,78.457891286321626]
[null,{"$f":"+$B$58","v":"2022-06-01"},31.042229769110076,18.138546189632791,6.5246418438133249,4.2720826191129779,7.193654453553922,14.100743595918361,4.3842754935472499,85.656173964688705,null,{"$f":"+$B$58","v":"2022-06-01"},32.391891932984421,18.927178632660304,6.8083219239791211,4.4157427123884787,7.5064220384910492,14.713819404436549,4.5748961671797383,89.338272812119669,null,{"$f":"+$B$58","v":"2022-06-01"},30.029983146204309,17.547071857362155,6.3118817836889765,4.1509103803930518,6.9590787648510757,13.640936739529717,4.2413099883228824,82.881172660352163]
[null,{"$f":"+$B$59","v":"2022-07-01"},30.027025965167134,17.644809470226065,6.3797199919297407,4.2169367870618064,6.9475975087502899,13.654193988130709,4.2772795896505551,83.147563300916303,null,{"$f":"+$B$59","v":"2022-07-01"},31.332548833217874,18.411975099366327,6.6570991220136415,4.3581992354655172,7.2496669656524757,14.247854596310301,4.4632482674614469,86.720592119487591,null,{"$f":"+$B$59","v":"2022-07-01"},29.047883814129072,17.069435248370866,6.1716856443668151,4.0975627819957232,6.7210454160736504,13.208948531996011,4.1378030812923843,80.454364518224537]
[null,{"$f":"+$B$60","v":"2022-08-01"},30.00835637571998,17.586665727612086,6.3757649845496767,4.2192376175088153,6.9294374772673102,13.662456705722478,4.2887766358382953,83.070695524218635,null,{"$f":"+$B$60","v":"2022-08-01"},31.313067522490414,18.351303367943046,6.6529721577909671,4.3606001020189193,7.2307173675832797,14.256476562493019,4.475245185222569,86.640382265542229,null,{"$f":"+$B$60","v":"2022-08-01"},29.029823015642155,17.013187497363866,6.1678596046187097,4.0997885853629388,6.7034775595303335,13.216941813144571,4.1489252238000898,80.380003299462672]
[null,{"$f":"+$B$61","v":"2022-09-01"},31.121932745160688,18.31496194109549,6.6241408533295338,4.2928551686426033,7.2333702766805441,14.163914860049793,4.4531682400797434,86.2043440850384,null,{"$f":"+$B$61","v":"2022-09-01"},32.475060255819848,19.1112646341866,6.912146977387339,4.4374184162454799,7.5478646365362181,14.779737245269349,4.6467842505179924,89.910276415962826,null,{"$f":"+$B$61","v":"2022-09-01"},30.107087112166315,17.71773492127716,6.40813626028618,4.1710055641771469,6.9974995067887864,13.702048071135126,4.3079562322510556,83.411467668081769]
[null,{"$f":"+$B$62","v":"2022-10-01"},29.891456383947734,17.298421865781457,6.3188527567988935,4.2266252527955732,6.8608154590410875,13.277030928768912,4.3085960794413785,82.181798726575025,null,{"$f":"+$B$62","v":"2022-10-01"},31.191084922380245,18.05052716429369,6.5935854853553666,4.3683089388398839,7.159111783347222,13.854293143063213,4.4959263437649168,85.712837781044556,null,{"$f":"+$B$62","v":"2022-10-01"},28.916734980123351,16.734342891897274,6.1128032103815384,4.1069353194990423,6.637093215811487,12.844084268048185,4.1680983811987247,79.520092266959608]
[null,{"$f":"+$B$63","v":"2022-11-01"},31.528637551813414,18.914005386991843,6.758645231385918,4.3110875166196267,7.4628136377583685,14.352244475043978,4.5056624505723422,87.833096250185491,null,{"$f":"+$B$63","v":"2022-11-01"},32.899447880153126,19.736353447295834,7.0524993718809581,4.4564434750041126,7.7872837959217751,14.976255104393715,4.7015608179885309,91.609843892638054,null,{"$f":"+$B$63","v":"2022-11-01"},30.500529805558632,18.29724434176385,6.5382546260146386,4.1886433790679627,7.219461019135812,13.884236503031675,4.3587386750102004,84.987108349582769]
[null,{"$f":"+$B$64","v":"2022-12-01"},30.110110560006259,17.693540601113948,6.4487875284516232,4.2475717030168436,6.9455578543546919,13.443250428027875,4.3696266955102576,83.25844537048151,null,{"$f":"+$B$64","v":"2022-12-01"},31.419245801745657,18.462824975075424,6.7291695949060406,4.3901661042881654,7.2475386306309817,14.027739577072564,4.5596104648802687,86.836295148599092,null,{"$f":"+$B$64","v":"2022-12-01"},29.128259128701711,17.11657732064284,6.2385009786108094,4.1271987333000535,6.719072272147474,13.004883566244358,4.2271388684827489,80.561630868129996]
[null,{"$f":"+$B$65","v":"2023-01-01"},29.307422821498633,16.011808500889618,5.9978275113419084,4.208712430848653,6.4882080339796113,12.402958322358446,4.2559422085375234,78.672879829454388,null,{"$f":"+$B$65","v":"2023-01-01"},30.581658596346394,16.707974087884821,6.2586026205306871,4.3496172985474439,6.7703040354569843,12.942217379852289,4.440983174126111,82.051357192744746,null,{"$f":"+$B$65","v":"2023-01-01"},28.351745990362801,15.489684310643216,5.8022461794503233,4.0896066113112592,6.2766360328715791,11.998514029238057,4.1171614843460818,76.125594638223319]
[null,{"$f":"+$B$66","v":"2023-02-01"},32.911390665811915,18.648103873213227,6.754316306281674,4.418755143844745,7.6554646031386957,14.373834297009012,4.6940636143430581,89.455928503642326,null,{"$f":"+$B$66","v":"2023-02-01"},34.342320694760261,19.458890998135537,7.0479822326417452,4.5687923034129323,7.9883108902316815,14.99878361427027,4.898153336705799,93.303234070158226,null,{"$f":"+$B$66","v":"2023-02-01"},31.83819314410065,18.040013529521485,6.5340668615116178,4.2928001054053055,7.4058298878189541,13.905122309063062,4.5409963225710008,86.557022159992073]
[null,{"$f":"+$B$67","v":"2023-03-01"},29.483776436562184,16.652172193271074,6.0834233037676428,4.2011580130026918,6.7160947485559372,12.955246491529484,4.223490009713009,80.315361196402023,null,{"$f":"+$B$67","v":"2023-03-01"},30.765679759890972,17.376179679935031,6.3479199691488448,4.3417344277516587,7.0080988680583687,13.518518078117722,4.407120010135313,83.765250793037922,null,{"$f":"+$B$67","v":"2023-03-01"},28.522348944065591,16.109166578273101,5.8850508047317422,4.0822985331776662,6.4970916589291132,12.532792801588307,4.0857675093962804,77.714516830161784]
[null,{"$f":"+$B$68","v":"2023-04-01"},30.749601460648158,17.619064586631264,6.3768120650448834,4.2662074616567054,7.0554687665077207,13.709658782664571,4.36222080843815,84.139033931591456,null,{"$f":"+$B$68","v":"2023-04-01"},32.086540654589385,18.385110873006532,6.6540647635250956,4.4096121133036732,7.3622282780950137,14.305730903649986,4.5518825827180693,87.755170168887744,null,{"$f":"+$B$68","v":"2023-04-01"},29.746897065192243,17.044529871849807,6.1688725411847241,4.1452268041581792,6.8253991328172523,13.262604691925509,4.2199744777282104,81.413504584855929]
[null,{"$f":"+$B$69","v":"2023-05-01"},29.601774261669096,16.948592700238251,6.1704253931594044,4.1986629049963007,6.7859967091478914,13.244409041167073,4.218262723766677,81.168123734144686,null,{"$f":"+$B$69","v":"2023-05-01"},30.888807925219918,17.685488035031213,6.4387047580793766,4.3391308367884678,7.0810400443282333,13.820252912522159,4.4016654508869655,84.655089962856337,null,{"$f":"+$B$69","v":"2023-05-01"},28.63649901400597,16.395921199143526,5.9692158694694237,4.0798847873888757,6.5647142077626333,12.812526137650755,4.0807106784264588,78.539471893847633]
[null,{"$f":"+$B$70","v":"2023-06-01"},30.971752770665098,18.037545292561557,6.50133410724382,4.2702623214432975,7.163977586345756,14.048721710876118,4.3795514463218588,85.3731452354575,null,{"$f":"+$B$70","v":"2023-06-01"},32.31835071721575,18.821786392238142,6.7840008075587672,4.4138432713418556,7.4754548727086139,14.659535698305511,4.5699667265967214,89.042938485965365,null,{"$f":"+$B$70","v":"2023-06-01"},29.961804310752104,17.449364467804113,6.2893340820076089,4.1491494402560782,6.9303696215736119,13.590611220304071,4.2367399861157109,82.607373128813293]
[null,{"$f":"+$B$71","v":"2023-07-01"},30.052658522740295,17.683546639635228,6.3834040304154565,4.2161126953512262,6.9658893524992358,13.691466950578095,4.2757985438991941,83.268876735118738,null,{"$f":"+$B$71","v":"2023-07-01"},31.35929584981595,18.452396493532408,6.6609433360856931,4.3573393136805638,7.2687541069557229,14.286748122342358,4.4617028284165494,86.847180050829238,null,{"$f":"+$B$71","v":"2023-07-01"},29.072680527433544,17.10690924921234,6.1752495511627785,4.0967655628409227,6.7387407866568694,13.245006071754895,4.1363703305111761,80.571722079572524]
[null,{"$f":"+$B$72","v":"2023-08-01"},29.93565012733395,17.476769492228581,6.3501977854232239,4.2171416325165847,6.8904736605980199,13.595446363286184,4.2824209240017899,82.748099985388336,null,{"$f":"+$B$72","v":"2023-08-01"},31.237200132870203,18.236629035368953,6.6262933413111886,4.3584129872444173,7.1900594719283681,14.186552726907321,4.4686131380888225,86.303760833719281,null,{"$f":"+$B$72","v":"2023-08-01"},28.959487623181758,16.906874834873303,6.143126118507249,4.0977609477074113,6.665784302100259,13.152116590570332,4.1427767634365136,80.067927180376827]
[null,{"$f":"+$B$73","v":"2023-09-01"},31.110643124556635,18.296053796536,6.6125336337617515,4.2904879432903975,7.2352820961446387,14.160075983982717,4.4464274296472892,86.151504007919428,null,{"$f":"+$B$73","v":"2023-09-01"},32.463279782146046,19.091534396385388,6.9000350960992174,4.4349482680518735,7.5498595785857079,14.77573146154718,4.6397503613710844,89.855138944186493,null,{"$f":"+$B$73","v":"2023-09-01"},30.096165631364567,17.699443346648955,6.3969075370086497,4.1687155309559909,6.9993489843138343,13.698334375809365,4.3014352308544428,83.3603506369558]
[null,{"$f":"+$B$74","v":"2023-10-01"},29.962526023347728,17.4457498467522,6.3528756544248957,4.2279759676855946,6.9064823237282997,13.384516178455492,4.3131002043053757,82.593226198699583,null,{"$f":"+$B$74","v":"2023-10-01"},31.265244546101972,18.20426070965447,6.6290876393998905,4.3697183804642528,7.2067641638903988,13.966451664475295,4.5006263001447397,86.142153404131037,null,{"$f":"+$B$74","v":"2023-10-01"},28.985487131282042,16.876866699575501,6.1457166656936488,4.1082419893383015,6.6812709436067248,12.94806456394064,4.1724556324258524,79.918103625862713]
[null,{"$f":"+$B$75","v":"2023-11-01"},31.495671060957545,18.870106340558838,6.7566041436578823,4.3112492601301309,7.4300980599352728,14.328920961346755,4.5064033643872765,87.6990531909737,null,{"$f":"+$B$75","v":"2023-11-01"},32.865048063607865,19.690545746670086,7.0503695412082239,4.4566122508411601,7.7531458016715877,14.951917524883566,4.7023339454475908,91.469972874330097,null,{"$f":"+$B$75","v":"2023-11-01"},30.468638308969798,18.254776785975398,6.5362800954951252,4.1887998483335585,7.1878122536330356,13.861673538694141,4.3594554285920388,84.857436259693088]
[null,{"$f":"+$B$76","v":"2023-12-01"},30.098204555656388,17.657288536193924,6.4379361258689647,4.245745235116118,6.9403836925382985,13.437326020819057,4.3655484191122458,83.182432585304994,null,{"$f":"+$B$76","v":"2023-12-01"},31.406822145032748,18.424996733419746,6.7178463922110936,4.3882602247395823,7.2421395052573541,14.021557586941624,4.5553548721171255,86.756977459719266,null,{"$f":"+$B$76","v":"2023-12-01"},29.116741363624111,17.081507388274552,6.2280034261123669,4.1254318241352204,6.7140668329990056,12.999152346227129,4.2231935793585853,80.488096760730969]
[null,{"$f":"+$B$77","v":"2024-01-01"},29.510780434201632,16.393995639836543,6.0911822290697328,4.2159502927484063,6.6124926767358625,12.655223069606972,4.2784513993759434,79.758075741575084,null,{"$f":"+$B$77","v":"2024-01-01"},30.462741093369416,16.92283420886352,6.2876719783945596,4.3345863965999385,6.8257988921144364,13.063456071852352,4.4164659606461329,82.313554601840366,null,{"$f":"+$B$77","v":"2024-01-01"},28.241499555311233,15.688877547800562,5.8291958966366249,4.0756717126307596,6.3280843895644265,12.110912399946455,4.0944319843490202,76.368673486239075]
[null,{"$f":"+$B$78","v":"2024-02-01"},32.044752980281004,18.488035213291734,6.6657533434736003,4.3573798817656684,7.5021743264211356,14.183635178058944,4.5787767883862163,87.820507711678317,null,{"$f":"+$B$78","v":"2024-02-01"},33.078454689322321,19.084423445978558,6.8807776448759732,4.4805782304242108,7.7441799498540744,14.641171796706006,4.7264792654309327,90.636065022592078,null,{"$f":"+$B$78","v":"2024-02-01"},30.666484034892569,17.692850903042622,6.3790542749371006,4.2110183085720108,7.1795001618438823,13.573586353196195,4.3818401523265944,84.084334188810956]
[null,{"$f":"+$B$79","v":"2024-03-01"},29.667214220529271,16.93589098829451,6.185717049410143,4.2158394940345438,6.7747510139471947,13.111801946101799,4.2701597339342179,81.161374446251685,null,{"$f":"+$B$79","v":"2024-03-01"},30.624221130868921,17.482210052433039,6.3852563090685335,4.3344720237340173,6.9932913692358118,13.534763299201854,4.4079068221256437,83.762121006667812,null,{"$f":"+$B$79","v":"2024-03-01"},28.391205006743068,16.20746556944313,5.9196647031989542,4.0755656794529784,6.4833638735623689,12.54785347530172,4.0864969496789829,77.711615257381197]
[null,{"$f":"+$B$80","v":"2024-04-01"},31.050758310003072,18.077986284085934,6.5149638243416197,4.2853262173054691,7.1990851987469018,13.973430973951498,4.4234011272353948,85.52495193566989,null,{"$f":"+$B$80","v":"2024-04-01"},32.052395674841875,18.661147131959677,6.7251239477074769,4.4062002542072314,7.4313137535451874,14.424186811820899,4.5660914861784709,88.266459060260814,null,{"$f":"+$B$80","v":"2024-04-01"},29.715241823551327,17.30043848692095,6.2347503265204738,4.1420637264541869,6.8894471256825192,13.372423190125627,4.2331473153112915,81.887511994566381]
[null,{"$f":"+$B$81","v":"2024-05-01"},29.779584157533439,17.176596361768816,6.2595518816638345,4.2172122106909935,6.8413484113671998,13.344164250899214,4.2765253450137042,81.894982618937206,null,{"$f":"+$B$81","v":"2024-05-01"},30.740215904550634,17.730680115374255,6.4614729101046011,4.3358890215729335,7.0620370697983983,13.774621162218539,4.4144777754980167,84.51939395911738,null,{"$f":"+$B$81","v":"2024-05-01"},28.498741828177156,16.437818023628221,5.9903238437428081,4.0768793545328066,6.5470968667922662,12.770221702473442,4.0925887710346203,78.413670390381327]
[null,{"$f":"+$B$82","v":"2024-06-01"},31.274457678579967,18.44829579989797,6.62448069255821,4.2923519811503175,7.2991800316014679,14.261015105629667,4.448492802350799,86.6482740917684,null,{"$f":"+$B$82","v":"2024-06-01"},32.28331115208254,19.043402116023707,6.8381736181246024,4.413452655595461,7.5346374519757084,14.721047850972557,4.5919925701685669,89.426017414943146,null,{"$f":"+$B$82","v":"2024-06-01"},29.929319713909862,17.654820711730316,6.3395567918030178,4.1487873069078578,6.9852368044358135,13.647638111839143,4.2571597785937758,82.962519219219786]
[null,{"$f":"+$B$83","v":"2024-07-01"},30.299026075730591,18.031366841986255,6.4983776111042948,4.2394698430767495,7.0715251271610553,13.875770766660255,4.3474584909837253,84.362994756702932,null,{"$f":"+$B$83","v":"2024-07-01"},31.27641401365738,18.613023836889038,6.7080026953334642,4.3588646421001638,7.2996388409404425,14.323376275262195,4.487699087467071,87.067019391649751,null,{"$f":"+$B$83","v":"2024-07-01"},28.995842158494863,17.25582418211588,6.2188774987987312,4.0981796693965933,6.7673735087885349,13.278963421857661,4.1604710290059304,80.775531468458198]
[null,{"$f":"+$B$84","v":"2024-08-01"},30.2013298121236,17.784911983585808,6.4530167394601188,4.2403514471878312,6.9856037704530509,13.74376179204401,4.3535255342214558,83.762501079075875,null,{"$f":"+$B$84","v":"2024-08-01"},31.175566257675968,18.35861882176599,6.6611785697652826,4.359774685053539,7.210945827564438,14.187108946626074,4.4939618417769855,86.447154950228267,null,{"$f":"+$B$84","v":"2024-08-01"},28.902347884720431,17.019969532678889,6.1754676323865647,4.0990233550512851,6.6851476943045318,13.152632252601258,4.166277124147415,80.200865475890382]
[null,{"$f":"+$B$85","v":"2024-09-01"},31.369630960915806,18.578566595703418,6.7073806443607884,4.3144441588065483,7.3339164550326785,14.287982388526949,4.5189276715089788,87.110848874855151,null,{"$f":"+$B$85","v":"2024-09-01"},32.381554540300179,19.177875195564813,6.9237477619208123,4.4362574841438276,7.5704944051950207,14.748885046221362,4.6646995318802347,89.903513965226253,null,{"$f":"+$B$85","v":"2024-09-01"},30.020399521736628,17.779488462554877,6.4188911542807539,4.1699292833745734,7.0184791881495512,13.673445511601056,4.324565191013968,83.40519831271142]
[null,{"$f":"+$B$86","v":"2024-10-01"},30.231301898444624,17.751122742030994,6.4491042055352272,4.2513161526463925,7.0121901067167949,13.559700785950463,4.383642908303913,83.638378799628413,null,{"$f":"+$B$86","v":"2024-10-01"},31.206505185491221,18.323739604677151,6.6571398250686196,4.3710930906881833,7.2383897875786261,13.99711048872306,4.5250507440556511,86.319028726282511,null,{"$f":"+$B$86","v":"2024-10-01"},28.931030849049158,16.987633591836111,6.1717233794907012,4.1095164602750698,6.7105905322343524,12.976487848920337,4.1950991273015941,80.08208178910732]
[null,{"$f":"+$B$87","v":"2024-11-01"},31.792650764872043,19.206284982104282,6.8621725561385318,4.3359985830018841,7.5412177252306698,14.548629627176958,4.5811067847310278,88.868061023255407,null,{"$f":"+$B$87","v":"2024-11-01"},32.818220144384036,19.825842562172159,7.0835329611752567,4.4585072123454648,7.7844828131413362,15.017940260311697,4.7288844229481564,91.717410376478099,null,{"$f":"+$B$87","v":"2024-11-01"},30.425224925522702,18.380208208680436,6.5670253494228943,4.1905566355615083,7.2168642746831138,13.922882116330635,4.3840699337748532,85.086831443976152]
[null,{"$f":"+$B$88","v":"2024-12-01"},30.427611098143796,18.058022277836574,6.5606667363466045,4.2721275585277798,7.0705934444031771,13.698502162898055,4.4447168579523462,84.532240136108328,null,{"$f":"+$B$88","v":"2024-12-01"},31.409146940019397,18.640539125508717,6.7723011471964929,4.3925758322431641,7.2986771039000518,14.140389329443151,4.5880948211120982,87.241724299423069,null,{"$f":"+$B$88","v":"2024-12-01"},29.118896642309654,17.281333147607043,6.2784875218800833,4.129432751925,6.7664818984073403,13.109319274171256,4.2535462404060072,80.937497476706383]
[null,{"$f":"+$B$89","v":"2025-01-01"},29.586729290569032,16.325300037174401,6.1008928189621372,4.2336697757641168,6.5918185968449112,12.632336136366829,4.3315207367542143,79.802267392435638,null,{"$f":"+$B$89","v":"2025-01-01"},30.859276786937585,17.027463479633511,6.3632968111755606,4.3747104841835132,6.8753376762790985,13.17566242180196,4.5178227039264378,83.193570363937667,null,{"$f":"+$B$89","v":"2025-01-01"},28.632318668292609,15.798677455330065,5.9040898248020683,4.1144620756862693,6.3791792872692685,12.22484142229048,4.1917942613750458,77.245362995045809]
[null,{"$f":"+$B$90","v":"2025-02-01"},33.222334698751339,18.945707086674194,6.8537904119844653,4.4458577274982298,7.7553680701388714,14.58586372908375,4.7755231627151256,90.584444886845986,null,{"$f":"+$B$90","v":"2025-02-01"},34.651252320203007,19.76057620868168,7.1485770963708939,4.5960247994330725,8.0889322882093602,15.213212706678748,4.9809220084233017,94.439497428000067,null,{"$f":"+$B$90","v":"2025-02-01"},32.150646482662587,18.334555245168577,6.6327003986946451,4.3198052547837991,7.5051949065860049,14.115351995887499,4.621474028433993,87.679728312217108]
[null,{"$f":"+$B$91","v":"2025-03-01"},29.691795703833389,16.803995913366883,6.1411639504748212,4.2232920404171175,6.7791678999765308,13.072309601648666,4.2891204431361185,81.000845552853519,null,{"$f":"+$B$91","v":"2025-03-01"},30.968862185718692,17.526748425769757,6.4053000343662108,4.3638863946280413,7.0707450139540162,13.634559476988391,4.4735987417656293,84.443700273190728,null,{"$f":"+$B$91","v":"2025-03-01"},28.733995842419407,16.261931529064725,5.9430618875562775,4.1044191059956248,6.5604850644934167,12.650622195143868,4.1507617191639854,78.405277343837298]
[null,{"$f":"+$B$92","v":"2025-04-01"},31.026752611212711,17.872360438548736,6.4520718633671539,4.2891985250080253,7.158462955925172,13.903590263170958,4.4298288380575332,85.132265495290284,null,{"$f":"+$B$92","v":"2025-04-01"},32.36123659449067,18.641064113325019,6.7295803306087514,4.432627566728236,7.46635383574991,14.501594145457879,4.6203591106621582,88.752815697022626,null,{"$f":"+$B$92","v":"2025-04-01"},30.025889623754228,17.295832682466514,6.2439405129359544,4.1681995749545688,6.9275447960566181,13.455087351455763,4.2869311336040647,82.403425675227723]
[null,{"$f":"+$B$93","v":"2025-05-01"},29.838741367004218,17.1356293616135,6.2332112408661606,4.2204186682870439,6.855517091566349,13.38463235797934,4.2811000972381859,81.949250184554799,null,{"$f":"+$B$93","v":"2025-05-01"},31.122128092466763,17.872645678242037,6.5013063480001891,4.3608894365999005,7.1503780417412459,13.960315470150494,4.4652334347538076,85.432896501954446,null,{"$f":"+$B$93","v":"2025-05-01"},28.876201322907306,16.582867124142098,6.0321399105156397,4.1016384232891028,6.6343713789351764,12.952870023850974,4.1430000941014704,79.323088277741761]
[null,{"$f":"+$B$94","v":"2025-06-01"},31.322500734277487,18.401412269861133,6.6055841171335281,4.2953381046027417,7.2935181941369693,14.300501908344952,4.4520220658383067,86.670877394195131,null,{"$f":"+$B$94","v":"2025-06-01"},32.669705066934583,19.192870862113224,6.889695261956474,4.4390312142625099,7.6072179014116763,14.915577259241505,4.6435068858743618,90.35760445179433,null,{"$f":"+$B$94","v":"2025-06-01"},30.312097484784658,17.807818325672063,6.3925007585163156,4.1741411035946161,7.0582434136809376,13.839195395172531,4.308408450811263,83.892404932232367]
[null,{"$f":"+$B$95","v":"2025-07-01"},30.216553799730328,17.730072857442789,6.4171920965759019,4.2355979049864505,6.9829537182465158,13.759675783321555,4.3315113757632551,83.673557536066795,null,{"$f":"+$B$95","v":"2025-07-01"},31.516190522299372,18.492656636257529,6.6932003587942202,4.3767215436949805,7.2832958136549681,14.351489795507428,4.5178129403122123,87.231367610520721,null,{"$f":"+$B$95","v":"2025-07-01"},29.241826257803542,17.158135023331731,6.2101858999121635,4.1163280071917541,6.7576971466901776,13.315815274182151,4.1917852023515367,80.991772811463065]
[null,{"$f":"+$B$96","v":"2025-08-01"},30.222672789186529,17.708554030835899,6.4130777135379216,4.2365729955625522,6.991619277368275,13.787627206808494,4.3385233233913585,83.698647336691039,null,{"$f":"+$B$96","v":"2025-08-01"},31.522572694097779,18.470212268721312,6.6889090130449294,4.3777385736506984,7.2923340849970177,14.380643430757244,4.5251264770856103,87.257536542354586,null,{"$f":"+$B$96","v":"2025-08-01"},29.247747860503093,17.137310352421839,6.2062042389076666,4.117271643233142,6.7660831716467182,13.342865038846929,4.1985709581206683,81.016053263680064]
[null,{"$f":"+$B$97","v":"2025-09-01"},31.39844607907434,18.571886187356863,6.6955339255661999,4.3126154767491283,7.3320894198100035,14.395725547772701,4.5096861215663271,87.215982757895574,null,{"$f":"+$B$97","v":"2025-09-01"},32.748916878174306,19.370676991114145,6.9835138793539926,4.4570516991893854,7.6474481045330132,15.01489653907475,4.7036511160422965,90.926155207481898,null,{"$f":"+$B$97","v":"2025-09-01"},30.385592979749358,17.9727930845389,6.4795489602253546,4.1908611411556356,7.0955704062677452,13.931347304296162,4.3642123757093474,84.419926251942499]
[null,{"$f":"+$B$98","v":"2025-10-01"},30.191540996380226,17.600378439358227,6.4081944451244341,4.2473058687517735,6.9557678747291298,13.545990040491299,4.3685343048303062,83.317711969665396,null,{"$f":"+$B$98","v":"2025-10-01"},31.490101899450337,18.357383963631698,6.6838157115813983,4.388933075794295,7.254940686545436,14.128613268039311,4.5564282534251568,86.860216858467638,null,{"$f":"+$B$98","v":"2025-10-01"},29.217620319077632,17.03262429615312,6.2014784952817097,4.127658294706583,6.7313882658668991,13.109022619830288,4.2276138433841668,80.647406134300397]
[null,{"$f":"+$B$99","v":"2025-11-01"},31.685633175771478,18.936676326327895,6.7846626871704734,4.3282015070962956,7.470961645097983,14.438468262694652,4.5545099844952075,88.199113588653987,null,{"$f":"+$B$99","v":"2025-11-01"},33.048456108062716,19.751157028535545,7.0764761360810295,4.4733080964332048,7.7922933287581095,15.059477650337429,4.7504028870541397,91.951571235262165,null,{"$f":"+$B$99","v":"2025-11-01"},30.66351597655304,18.325815799672156,6.5658026004875545,4.2059443963303131,7.2299628823528854,13.972711221962564,4.4075903075760063,85.371343184934517]
[null,{"$f":"+$B$100","v":"2025-12-01"},30.381356997178418,17.911054409692124,6.5058345830422395,4.2643318755726423,7.042862174238631,13.657429689047152,4.4183431906452251,84.181212919416438,null,{"$f":"+$B$100","v":"2025-12-01"},31.688082029315115,18.681422341291778,6.7856554253236245,4.4066913839838024,7.3457809774316898,14.244846019758857,4.6083794569095353,87.7608576340144,null,{"$f":"+$B$100","v":"2025-12-01"},29.401313223075885,17.333278460992371,6.295968951331198,4.1441350755009712,6.8156730718438352,13.216867441013372,4.2758159909469917,81.483052214704628]
[null,{"$f":"+$B$101","v":"2026-01-01"},29.772292881943294,16.61753630062163,6.1611455811991815,4.2350055273324907,6.6825498961840806,12.857223913422974,4.3327529715124307,80.658507072216082,null,{"$f":"+$B$101","v":"2026-01-01"},30.722472442005309,17.147883203832954,6.3577778869821326,4.3535590596409808,6.8958227652112303,13.267560846830087,4.4710323216670815,83.216108526169762,null,{"$f":"+$B$101","v":"2026-01-01"},28.505386801860599,15.910407096339855,5.8989691734885774,4.0948370426055689,6.3981860708145444,12.310108002213484,4.1483805046395608,77.266274691962195]
[null,{"$f":"+$B$102","v":"2026-02-01"},33.389821130136262,19.225984157686373,6.9397288694175741,4.4523896789770632,7.8007666195347847,14.800498327139293,4.7932951675352315,91.402483950426586,null,{"$f":"+$B$102","v":"2026-02-01"},34.455453719395919,19.839579396761462,7.1612095780160061,4.5778810033593151,8.0497272563284472,15.272854656728841,4.9462726728820998,94.3029782834721,null,{"$f":"+$B$102","v":"2026-02-01"},31.968977677790036,18.407857172252907,6.6444212579529971,4.3029708048184574,7.4688191038099001,14.170689887686555,4.5893251604060721,87.553061064716928]
[null,{"$f":"+$B$103","v":"2026-03-01"},29.945122333052659,17.170488050738605,6.2490139904071942,4.2328694509157341,6.871615170524028,13.327634749147949,4.3192006972745043,82.11594444206068,null,{"$f":"+$B$103","v":"2026-03-01"},30.900817726660723,17.718482350230261,6.4484506071223171,4.3513548105726256,7.0909220376684114,13.752984794333521,4.4570475280385837,84.720059854626427,null,{"$f":"+$B$103","v":"2026-03-01"},28.670861808241906,16.439828984749727,5.9830985014536964,4.0927918630576112,6.5792060143315156,12.760501355567184,4.1354049229223975,78.661693450324037]
[null,{"$f":"+$B$104","v":"2026-04-01"},31.223017096875552,18.13202686518256,6.5433668574709145,4.3013313779864664,7.2187152400781534,14.062114836178749,4.4680186835427911,85.94859095731519,null,{"$f":"+$B$104","v":"2026-04-01"},32.219496365924769,18.710708573645832,6.7521977146242413,4.4220016927626364,7.4490997690168168,14.51090573520573,4.6106150245069228,88.675024875686944,null,{"$f":"+$B$104","v":"2026-04-01"},29.894378071476591,17.360451253898194,6.2649257145998112,4.1583405166359722,6.911535868159933,13.463726970809439,4.2778902289239484,82.3312486245039]
[null,{"$f":"+$B$105","v":"2026-05-01"},30.040026994489434,17.372856311823789,6.3121780652399515,4.2328075963325045,6.9211127285742267,13.529914985359477,4.3209420459948333,82.729838727814212,null,{"$f":"+$B$105","v":"2026-05-01"},30.99875126027101,17.92730917283944,6.5136305566837791,4.3512909819069527,7.1419993050180848,13.961720782764568,4.4588444517180728,85.353546511201927,null,{"$f":"+$B$105","v":"2026-05-01"},28.761727973447332,16.633585830469585,6.0435747433148466,4.0927326405843054,6.626597293315748,12.954173922152689,4.1370721716971808,79.249464574981687]
[null,{"$f":"+$B$106","v":"2026-06-01"},31.490059031541708,18.604487777158582,6.6752568010515594,4.3089436583308096,7.3557866826313267,14.432838985616765,4.4951430081775197,87.362515944508274,null,{"$f":"+$B$106","v":"2026-06-01"},32.495060915527077,19.198248025365768,6.8882969117234172,4.4298569182243526,7.5905458320770061,14.893461506434319,4.6386050190768016,90.134075128428748,null,{"$f":"+$B$106","v":"2026-06-01"},30.150056519561211,17.812807446215665,6.391203320155749,4.1656288701571516,7.0427744833704189,13.818675624526691,4.3038603269784756,83.685006590965358]
[null,{"$f":"+$B$107","v":"2026-07-01"},30.471290008118345,18.075459732356745,6.518755582633446,4.2525230765438753,7.0921280252882388,13.972365252760257,4.3841499223493114,84.766671600050216,null,{"$f":"+$B$107","v":"2026-07-01"},31.443777987100841,18.652336106793658,6.7268009735685546,4.3716356795718774,7.3184725367336059,14.418291803380264,4.5240696007221608,87.455384687870975,null,{"$f":"+$B$107","v":"2026-07-01"},29.174639369475006,17.306291233107519,6.241361728053298,4.1116091641909369,6.790335343361078,13.377796518600244,4.1975903511855099,81.199623707973601]
[null,{"$f":"+$B$108","v":"2026-08-01"},30.406206392696586,17.902793520979831,6.4855085827764203,4.2534110813311283,7.0430250034992179,13.882041967312901,4.3900771370124225,84.363063685608509,null,{"$f":"+$B$108","v":"2026-08-01"},31.376617235016678,18.474159271649391,6.6924928992480064,4.3725520249374474,7.2678023972279142,14.325085859886714,4.53018598181069,87.038895669776835,null,{"$f":"+$B$108","v":"2026-08-01"},29.112325269603112,17.140972520087072,6.2095294941476356,4.1124593815404351,6.7433218118609535,13.29131677721448,4.2032653439480638,80.813190598401746]
[null,{"$f":"+$B$109","v":"2026-09-01"},31.62161031230686,18.7976941815304,6.7684873237013683,4.3300189712094843,7.4111969173801358,14.502748636962451,4.5628021766005293,87.994558519691225,null,{"$f":"+$B$109","v":"2026-09-01"},32.630810641423032,19.397620591579241,6.9845028765854531,4.4516048474714953,7.6477244785731164,14.965602316865505,4.7084235226622475,90.786289275160073,null,{"$f":"+$B$109","v":"2026-09-01"},30.27600987348529,17.997792301465275,6.4804665865225868,4.1858073612112019,7.0958268357894916,13.885610397091709,4.3686403818515709,84.290153737417128]
[null,{"$f":"+$B$110","v":"2026-10-01"},30.423485167812306,17.8567795722903,6.4874037591351543,4.2648108692819964,7.0435705008637095,13.70168633392354,4.422012251973122,84.199748455280115,null,{"$f":"+$B$110","v":"2026-10-01"},31.394447460402048,18.426676792682539,6.6944485599586132,4.384315635908024,7.2683653040827609,14.138974195644501,4.5631403025680077,86.870368251246504,null,{"$f":"+$B$110","v":"2026-10-01"},29.128868777692631,17.096916611767305,6.2113440247038696,4.1233740721316918,6.7438440965716344,13.11863585162892,4.2338415178466056,80.656824952342646]
[null,{"$f":"+$B$111","v":"2026-11-01"},32.005613287462261,19.338754492495777,6.9030593592439988,4.3499343484828312,7.5958705874576067,14.700171624044073,4.6205995858993285,89.514003285085877,null,{"$f":"+$B$111","v":"2026-11-01"},33.027069030679144,19.955948784809472,7.1233697643262532,4.4721558218918638,7.8382919891849765,15.169326037577394,4.7680655301301575,92.35422695859927,null,{"$f":"+$B$111","v":"2026-11-01"},30.64367229650642,18.515828769410852,6.6093121524676581,4.2048752756218519,7.2726420518211121,14.074632405999644,4.4239783269248898,85.744941278752435]
[null,{"$f":"+$B$112","v":"2026-12-01"},30.596794364635116,18.127377091398756,6.5853416658051893,4.2838994829946788,7.1022331340824056,13.816742279812212,4.478132127911211,84.990520146639568,null,{"$f":"+$B$112","v":"2026-12-01"},31.573287801804312,18.705910402826365,6.7955121445010969,4.4040134606966426,7.328900148999927,14.257702139806215,4.6210512383764613,87.68637733701101,null,{"$f":"+$B$112","v":"2026-12-01"},29.294803115076171,17.355999342828589,6.3051143608773073,4.1416504044097913,6.8000104475257057,13.228795799820201,4.2875733139575427,81.413946784495309]
[null,{"$f":"+$B$113","v":"2027-01-01"},30.022377816944193,16.87076458634456,6.2410340078509314,4.2543411822645973,6.7730017925478929,13.039756958050843,4.3919572582777944,81.593233602280804,null,{"$f":"+$B$113","v":"2027-01-01"},30.97045290590032,17.403525573281751,6.4381192923093806,4.3728227367577297,6.9868860596809839,13.45153875672613,4.5306506453813036,84.153995970037599,null,{"$f":"+$B$113","v":"2027-01-01"},28.758277698336016,16.160416603761629,5.9782536285729968,4.1142686679581528,6.4878227697037714,12.490714559817125,4.2070327421397815,78.196786670289484]
[null,{"$f":"+$B$114","v":"2027-02-01"},33.63894955114386,19.459235354121294,7.0177884471070282,4.4738800333958153,7.8830127365513141,14.973560204418352,4.8580653833336154,92.304491710071275,null,{"$f":"+$B$114","v":"2027-02-01"},34.701232168548394,20.073737523198805,7.2394028191209321,4.5992943937141444,8.1319499808634585,15.446409474031558,5.0114779743862536,95.203504333863535,null,{"$f":"+$B$114","v":"2027-02-01"},32.222572727937795,18.639899128684608,6.7223026177551519,4.3245637779891091,7.551096410801784,14.343094511600736,4.6535152619300941,88.457044436699292]
[null,{"$f":"+$B$115","v":"2027-03-01"},30.194714362448376,17.413989063978505,6.3250782189380486,4.2528325462839058,6.9564341050242176,13.503722303747768,4.3788341977459817,83.02560479816681,null,{"$f":"+$B$115","v":"2027-03-01"},31.148231658104631,17.96390450810414,6.5248175311150396,4.3712664596408057,7.1761109714986659,13.93015563965559,4.5171131724116433,85.631599940530521,null,{"$f":"+$B$115","v":"2027-03-01"},28.923357968240023,16.680768471810989,6.0587591360353947,4.1128235534924382,6.6635316163916194,12.935144522537335,4.1944622315250983,79.568847500032902]
[null,{"$f":"+$B$116","v":"2027-04-01"},31.480798849120948,18.387378871026222,6.6241580473811004,4.322391928791216,7.3072874691069822,14.256334679435598,4.5305429938264536,86.90889283868853,null,{"$f":"+$B$116","v":"2027-04-01"},32.47492933909318,18.968032940637571,6.8333419857194482,4.4430224542272931,7.5380439154998315,14.706534721944086,4.6736127725788661,89.637518129700268,null,{"$f":"+$B$116","v":"2027-04-01"},30.155291529157957,17.613173444877749,6.3452461295966325,4.1794541198941761,6.9996122072498448,13.65606795609094,4.3397832888232335,83.288628675690518]
[null,{"$f":"+$B$117","v":"2027-05-01"},30.273225348797002,17.57319653332026,6.3792945238091514,4.2526447261242737,6.99105657848623,13.679167060445673,4.3793704661337305,83.527955237116331,null,{"$f":"+$B$117","v":"2027-05-01"},31.229221938759,18.128139581740896,6.5807459298241744,4.3710727083182377,7.2118267862278982,14.111140757091322,4.5176663755905837,86.149814077552108,null,{"$f":"+$B$117","v":"2027-05-01"},28.998563228847647,16.833272468759407,6.1106926491224494,4.1126436415500525,6.6966963014973349,13.103202131584801,4.1949759201912578,80.050046341552942]
[null,{"$f":"+$B$118","v":"2027-06-01"},31.769442036734208,18.856491103681435,6.7529626773685889,4.3299870822443758,7.4478346280328926,14.611805158193983,4.5568085098764302,88.325331196131913,null,{"$f":"+$B$118","v":"2027-06-01"},32.772687574736331,19.451959243797685,6.9662141303381215,4.4508574546316062,7.6830294057602453,15.073230584242213,4.7007077259777894,91.098686119484,null,{"$f":"+$B$118","v":"2027-06-01"},30.431781319398024,18.062533583526424,6.4686274067425424,4.1867294774124666,7.1342415910630859,13.99657125679634,4.3649428884079482,84.645427523346839]
[null,{"$f":"+$B$119","v":"2027-07-01"},30.709170500841353,18.273187787594843,6.5846476038331598,4.2725276401438688,7.162275055616794,14.121154641387365,4.4422513682351807,85.565214597652556,null,{"$f":"+$B$119","v":"2027-07-01"},31.678933779815278,18.85023582299257,6.7925838439542039,4.3915835038331874,7.3884521626362689,14.567085840589066,4.5825329903899741,88.251407944210541,null,{"$f":"+$B$119","v":"2027-07-01"},29.416152795542764,17.503790407064532,6.3073992836717618,4.1316893802425074,6.8607055795908218,13.526579709118421,4.2552092053621191,82.001526360592933]
[null,{"$f":"+$B$120","v":"2027-08-01"},30.713527771379308,18.209924388699886,6.5754406970908867,4.2746433597345153,7.1504920656134718,14.116179458686364,4.4523157383975116,85.492523479601942,null,{"$f":"+$B$120","v":"2027-08-01"},31.683428648370224,18.784974632553563,6.7830861927884909,4.3937660356214341,7.3762970782117909,14.561953546855403,4.5929151827679586,88.17642131716886,null,{"$f":"+$B$120","v":"2027-08-01"},29.420326602058068,17.443190730228313,6.2985800361607422,4.1337160169030209,6.8494187154823782,13.521814007794305,4.2648498125702474,81.931895921197068]
[null,{"$f":"+$B$121","v":"2027-09-01"},31.823404063994833,18.920608845606729,6.8200086796784332,4.3497271356076208,7.4523023243347692,14.620534256698717,4.6197846778256517,88.60636998374676,null,{"$f":"+$B$121","v":"2027-09-01"},32.828353666015715,19.518101756520618,7.0353773748261705,4.4712208781010592,7.6876381872084965,15.082235338489198,4.7656726150201445,91.388599816181411,null,{"$f":"+$B$121","v":"2027-09-01"},30.483471261300313,18.123951631054862,6.532850419481445,4.2056383706341016,7.1385211738364625,14.004932814311399,4.4252674282329911,84.914633098851581]
[null,{"$f":"+$B$122","v":"2027-10-01"},30.680098069177649,18.055981476238518,6.5463563347656688,4.2831356714389104,7.1254907901106117,13.872975336191043,4.475397876712802,85.039435554635219,null,{"$f":"+$B$122","v":"2027-10-01"},31.648943271362196,18.62617036496183,6.7530833769161607,4.4025265255901793,7.3505062887456818,14.31106929417602,4.6167262307142574,87.709025352466327,null,{"$f":"+$B$122","v":"2027-10-01"},29.388304466264902,17.295729624607421,6.2707202785650074,4.1418507575882844,6.8254701252638483,13.288850058877735,4.2869600713775258,81.497885382544723]
[null,{"$f":"+$B$123","v":"2027-11-01"},32.250192062826841,19.535405342660201,6.9656642504222734,4.3695835468251598,7.6697906441918029,14.872891575726603,4.676849132307038,90.340376554959917,null,{"$f":"+$B$123","v":"2027-11-01"},33.268619180600311,20.152312879796831,7.1856325951724473,4.4917043338833622,7.9119945592715402,15.342561836012699,4.8245391049062052,93.177364489643381,null,{"$f":"+$B$123","v":"2027-11-01"},30.892289239128864,18.712861959811349,6.6723731240887032,4.2246587224319558,7.3468520907521473,14.246664562011798,4.479929168841478,86.5756288670663]
[null,{"$f":"+$B$124","v":"2027-12-01"},30.870762435046259,18.367878448639985,6.6576303009006734,4.3033484528093213,7.1855792973551029,14.018302991579521,4.5341650305603673,85.937666956891235,null,{"$f":"+$B$124","v":"2027-12-01"},31.845628617205609,18.947916715439138,6.8678712577712187,4.4233776053196552,7.4124923277978931,14.460986243945186,4.677349189420168,88.635621956898873,null,{"$f":"+$B$124","v":"2027-12-01"},29.570940858833783,17.594494092907773,6.3773090250732762,4.1612124744799406,6.8830285900980446,13.428058655091961,4.343252818747299,82.358296515232084]
[null,{"$f":"+$B$125","v":"2028-01-01"},30.341186167621078,17.199578811408511,6.3381884586294115,4.2759012959752649,6.882696337190521,13.299001891160264,4.4545930371363029,82.791145999121355,null,{"$f":"+$B$125","v":"2028-01-01"},31.289348235359224,17.73706564926502,6.5362568479615781,4.3943818865276896,7.0977805977277226,13.714595700259018,4.5937990695468107,85.363227986647075,null,{"$f":"+$B$125","v":"2028-01-01"},29.076970077303528,16.482929694266485,6.0740972728531855,4.1358300669230976,6.5959173231409158,12.744876812361918,4.2689849939222899,79.379606240771423]
[null,{"$f":"+$B$126","v":"2028-02-01"},32.847811283733442,19.175589775785699,6.8954116548896147,4.4212574854080078,7.7310014666883422,14.750690460695244,4.7654707182211702,90.587232845421511,null,{"$f":"+$B$126","v":"2028-02-01"},33.874305386350095,19.774826956278996,7.1108932691049125,4.5442804568802062,7.9725952625223497,15.211649537591965,4.9143916781655808,93.40294254689411,null,{"$f":"+$B$126","v":"2028-02-01"},31.47915248024454,18.376606868461291,6.6081028359358793,4.2751297484628097,7.4088764055763257,14.136078358166271,4.5669094382952871,86.850856135142408]
[null,{"$f":"+$B$127","v":"2028-03-01"},30.474709281226861,17.635363612633505,6.4045806975715314,4.2750154130680036,7.0254673352777841,13.685751141857347,4.4440681190161104,83.944955600651141,null,{"$f":"+$B$127","v":"2028-03-01"},31.427043946265186,18.186468725528297,6.60472384437064,4.3934683197795756,7.2450131895052117,14.113430865040383,4.5829452477353616,86.553094138224665,null,{"$f":"+$B$127","v":"2028-03-01"},29.204929727842405,16.900556795440441,6.1377231685060503,4.1349810958036377,6.7327395296412078,13.115511510946623,4.2588986140571041,80.485340442237472]
[null,{"$f":"+$B$128","v":"2028-04-01"},31.805250029286292,18.673850019404394,6.7132120461423401,4.3459849595685496,7.4136292012766631,14.478860189167184,4.5997181828168845,88.030504627662296,null,{"$f":"+$B$128","v":"2028-04-01"},32.799164092701474,19.257407832510772,6.9229999225842844,4.4666556646082638,7.6453051138165558,14.931324570078653,4.7434593760299091,90.766316572329913,null,{"$f":"+$B$128","v":"2028-04-01"},30.480031278066022,17.895772935262542,6.4334948775530743,4.2029935778666623,7.104727984556801,13.875574347951881,4.408063258532847,84.400658259789836]
[null,{"$f":"+$B$129","v":"2028-05-01"},30.651249594637083,17.971812573169423,6.4972500498281471,4.278429912714607,7.1249033615810013,13.980678627847508,4.4551101581362333,84.959434277914013,null,{"$f":"+$B$129","v":"2028-05-01"},31.609101144469481,18.533431716080958,6.7002891138852734,4.3969895225401361,7.3475565916304033,14.417574834967738,4.5943323505779885,87.599275274151978,null,{"$f":"+$B$129","v":"2028-05-01"},29.374114194860535,17.222987049287358,6.2265312977519729,4.1382533246316333,6.828032388181791,13.398150351687194,4.2694805682138899,81.457549174614385]
[null,{"$f":"+$B$130","v":"2028-06-01"},32.050451993752354,19.062143619350572,6.8318657905412481,4.3549193584409034,7.5092434199128162,14.780718235123276,4.6293165872108091,89.218659004331982,null,{"$f":"+$B$130","v":"2028-06-01"},33.052028618557102,19.657835607455265,7.0453615964956589,4.4758692634453787,7.7439072767850892,15.242615679970871,4.7739827305611451,91.99160077327052,null,{"$f":"+$B$130","v":"2028-06-01"},30.715016494012669,18.267887635210961,6.5472047159353624,4.2115557101193346,7.1963582774164481,14.16485497532647,4.4364283960770248,85.539306204098267]
[null,{"$f":"+$B$131","v":"2028-07-01"},31.02935088319612,18.529023812046823,6.6638902965929221,4.2958566223306658,7.2635093797765666,14.323839831842669,4.5104360720203376,86.615906897806113,null,{"$f":"+$B$131","v":"2028-07-01"},31.999018098295984,19.108055806173279,6.8721368683614479,4.4149608168316963,7.4904940478945807,14.771459826587746,4.651387199270971,89.307512663415707,null,{"$f":"+$B$131","v":"2028-07-01"},29.736461263062939,17.756981153211534,6.3862282009015487,4.1549539213470226,6.9608631556192089,13.727013172182556,4.3225012356861567,83.045002102010969]
[null,{"$f":"+$B$132","v":"2028-08-01"},31.041651990097353,18.50060994970621,6.6653077126554221,4.2992444521922035,7.2560249537670245,14.342310359066778,4.5235157065259815,86.628665124010979,null,{"$f":"+$B$132","v":"2028-08-01"},32.011703614787891,19.078754010634519,6.8735985786759022,4.4184545163764071,7.4827757335722422,14.79050755778761,4.6648755723549167,89.320669584189488,null,{"$f":"+$B$132","v":"2028-08-01"},29.748249823843295,17.729751201801783,6.3875865579614457,4.1582005916309965,6.9536905806933982,13.744714094105658,4.3350358854207309,83.057228735457315]
[null,{"$f":"+$B$133","v":"2028-09-01"},32.184149130441909,19.236897251703159,6.9187018952568282,4.3757012156777844,7.5575530961117581,14.868551226808979,4.6950903680652099,89.836644184065619,null,{"$f":"+$B$133","v":"2028-09-01"},33.189903790768213,19.838050290818874,7.1349113294836002,4.4973005537209119,7.7937266303652466,15.333193452646752,4.8418119420672463,92.628897989870836,null,{"$f":"+$B$133","v":"2028-09-01"},30.843142916673497,18.435359866215524,6.6304226496211252,4.2314716566380106,7.2426550504404332,14.249028259025268,4.4994616027291592,86.131542001343007]
[null,{"$f":"+$B$134","v":"2028-10-01"},30.998107925344705,18.317672072845223,6.6319495773018362,4.3075896278841457,7.2168032920945242,14.094925494157936,4.5464288661200536,86.113476855748416,null,{"$f":"+$B$134","v":"2028-10-01"},31.96679879801172,18.890099325121628,6.8391980015925169,4.4270604788087233,7.4423283949724759,14.535391915850367,4.6885047681863039,88.789381682543734,null,{"$f":"+$B$134","v":"2028-10-01"},29.706520095122002,17.554435736476666,6.3556183449142587,4.1661980516691077,6.9161031549239178,13.507636931901352,4.3569943300317169,82.563506645039013]
[null,{"$f":"+$B$135","v":"2028-11-01"},32.529619991743211,19.702863754838315,7.0260970277566761,4.3924365701304193,7.7363271538739156,15.047532482935129,4.7429075038003976,91.177784485078064,null,{"$f":"+$B$135","v":"2028-11-01"},33.546170616485171,20.318578247177005,7.2456625598740692,4.5145588880001917,7.9780873774324723,15.517767873026845,4.8911233632941578,94.0119489252899,null,{"$f":"+$B$135","v":"2028-11-01"},31.174219158753903,18.881911098386716,6.7333429849334809,4.2475097046551191,7.4139801891291679,14.42055196281283,4.545286357808715,87.416801456479931]
[null,{"$f":"+$B$136","v":"2028-12-01"},31.204461993347135,18.635199080758941,6.735787288031295,4.3260920508202458,7.2902891343143468,14.25220984885547,4.5998893496875688,87.043928745815009,null,{"$f":"+$B$136","v":"2028-12-01"},32.179601430639224,19.217549052032645,6.9462806407822697,4.446141102461576,7.5181106697616658,14.697591406632197,4.7436358918653028,89.748910194174869,null,{"$f":"+$B$136","v":"2028-12-01"},29.904276076957665,17.85873245239398,6.4551294843633222,4.1839295403162033,6.9865270870512468,13.658367771819822,4.4082272934505857,83.455189706352812]
[null,{"$f":"+$B$137","v":"2029-01-01"},30.05504914657967,16.424021593979003,6.1606752631553681,4.2770387685719244,6.6492821123704111,12.875675069680982,4.4548900592627474,80.896632013600112,null,{"$f":"+$B$137","v":"2029-01-01"},31.333987408136235,17.122916129892996,6.42283165733219,4.4189959018622247,6.9322302873648942,13.42357613647591,4.6444598490186078,84.298997370083057,null,{"$f":"+$B$137","v":"2029-01-01"},28.776110885023087,15.725127058065004,5.8985188689785444,4.1350816352816233,6.3663339373759253,12.327774002886045,4.2653202695068861,77.494266657117109]
[null,{"$f":"+$B$138","v":"2029-02-01"},33.712465490432912,18.971396000760844,6.8688715075545739,4.484577551923417,7.8367881312381247,14.833906618981947,4.8838039001575382,91.591809201049358,null,{"$f":"+$B$138","v":"2029-02-01"},35.147038490025786,19.778689447601721,7.1611639121313626,4.6353661228031431,8.1702684772482552,15.465136687874789,5.0916253427174309,95.449288480402501,null,{"$f":"+$B$138","v":"2029-02-01"},32.277892490840017,18.164102553919953,6.5765791029777825,4.3337889810436909,7.5033077852279906,14.202676550089096,4.6759824575976419,87.734329921696173]
[null,{"$f":"+$B$139","v":"2029-03-01"},30.128810248839134,16.889333041553311,6.1607965407155056,4.255012202441117,6.8692739559911091,13.34461604208987,4.3754750749939388,82.023317106623992,null,{"$f":"+$B$139","v":"2029-03-01"},31.410887280704618,17.608028064598127,6.4229580956395678,4.3960320350449997,7.1615834860332823,13.912472043880925,4.5616655037170837,85.473626509618597,null,{"$f":"+$B$139","v":"2029-03-01"},28.846733216973639,16.170638018508487,5.8986349857914417,4.1139923698372325,6.576964425948935,12.776760040298813,4.1892846462707931,78.573007703629344]
[null,{"$f":"+$B$140","v":"2029-04-01"},31.444026575586712,17.912829945923988,6.4625988077659731,4.3184498797510766,7.2109635264425673,14.156921746642764,4.5070299008301387,86.012820382943218,null,{"$f":"+$B$140","v":"2029-04-01"},32.782070259654226,18.675078028729263,6.737603012351757,4.4621691879851717,7.5178130382060795,14.75934394862756,4.6988184072484414,89.632895882802501,null,{"$f":"+$B$140","v":"2029-04-01"},30.10598289151919,17.15058186311871,6.1875946031801865,4.1747305715169816,6.9041140146790534,13.554499544657965,4.3152413944118342,82.392744883083907]
[null,{"$f":"+$B$141","v":"2029-05-01"},30.270986209913456,17.25399087296115,6.2592666834429256,4.2459717896403735,6.9336860971605825,13.701600151159258,4.3484449533278156,83.013946757605552,null,{"$f":"+$B$141","v":"2029-05-01"},31.559113282675721,17.988203250533957,6.525618457206452,4.3866069238272036,7.2287365693801791,14.2846469661022,4.533485164107721,86.506410613833424,null,{"$f":"+$B$141","v":"2029-05-01"},28.982859137151181,16.519778495388334,5.9929149096793966,4.1053366554535424,6.6386356249409824,13.118553336216312,4.1634047425479075,79.521482901377667]
[null,{"$f":"+$B$142","v":"2029-06-01"},31.635472116117214,18.320343933589218,6.5872638827198911,4.3161788465322903,7.298478525679811,14.510520968714873,4.5047845783836973,87.17304285173698,null,{"$f":"+$B$142","v":"2029-06-01"},32.981662418930696,19.099933037146194,6.8675729841122237,4.4598015150549459,7.6090520799640551,15.127989946106988,4.6964775391659801,90.842489520481095,null,{"$f":"+$B$142","v":"2029-06-01"},30.289281813303706,17.540754830032224,6.3069547813275539,4.1725561780096321,6.9879049713955625,13.893051991322748,4.3130916176014118,83.503596182992851]
[null,{"$f":"+$B$143","v":"2029-07-01"},30.620586222721172,17.818973995446683,6.4292859435679244,4.2539407180803144,7.051066250504384,14.079050772090687,4.378574036561047,84.63147793897221,null,{"$f":"+$B$143","v":"2029-07-01"},31.923589891773126,18.577228208018877,6.7028725794644304,4.3949149556050147,7.3511116228662692,14.678159315583903,4.5648963359891761,88.192772909300785,null,{"$f":"+$B$143","v":"2029-07-01"},29.317582553669208,17.060719782874482,6.1556993076714175,4.1129664805556132,6.7510208781424943,13.479942228597464,4.1922517371329171,81.070182968643607]
[null,{"$f":"+$B$144","v":"2029-08-01"},30.585256916757743,17.814851432204197,6.4390986624836444,4.2553915135979459,7.0455079337708453,14.117146352136185,4.3866834255253355,84.643936236475895,null,{"$f":"+$B$144","v":"2029-08-01"},31.886757211087847,18.572930216553303,6.7131028608872017,4.3964274871021196,7.3453167820164103,14.717875984141974,4.5733508053349219,88.205761347123783,null,{"$f":"+$B$144","v":"2029-08-01"},29.283756622427621,17.056772647855077,6.1650944640800844,4.1143555400937704,6.7456990855252768,13.516416720130389,4.2000160457157465,81.082111125827964]
[null,{"$f":"+$B$145","v":"2029-09-01"},31.693974059288884,18.534812789949925,6.6875998989244216,4.327395025841712,7.3345719408371162,14.651125680147663,4.5470206378908395,87.776500032880563,null,{"$f":"+$B$145","v":"2029-09-01"},33.042653806492652,19.323528227820127,6.972178618027586,4.4714949785903011,7.6466813851280531,15.274577836749684,4.7405108778010865,91.471625730609489,null,{"$f":"+$B$145","v":"2029-09-01"},30.345294312085095,17.746097352079712,6.4030211798212537,4.183295073093122,7.022462496546173,14.027673523545634,4.3535303979805899,84.081374335151565]
[null,{"$f":"+$B$146","v":"2029-10-01"},30.527303704951844,17.678927152859263,6.4219302493955306,4.2614552953540876,7.0104442469956894,13.836028301317507,4.404770399101273,84.140859349975202,null,{"$f":"+$B$146","v":"2029-10-01"},31.82633790516255,18.431221925321349,6.69520387702938,4.4027493021244801,7.308761023463588,14.424795463075691,4.5922074373609005,87.681276933537944,null,{"$f":"+$B$146","v":"2029-10-01"},29.228269504741121,16.926632380397162,6.1486566217616776,4.1201612885836942,6.7121274705277862,13.247261139559312,4.2173333608416437,80.600441766412402]
[null,{"$f":"+$B$147","v":"2029-11-01"},32.033798105783106,19.046518029547265,6.8128909480817237,4.344149033384431,7.5202065919903207,14.733106475082536,4.5954427492768968,89.086111933146285,null,{"$f":"+$B$147","v":"2029-11-01"},33.396938450710039,19.857008158464165,7.102801201191582,4.4889619226242008,7.840215383138843,15.360047176149873,4.7909935045652743,92.836965796843984,null,{"$f":"+$B$147","v":"2029-11-01"},30.670657760856162,18.236027900630358,6.5229806949718627,4.1993361441446613,7.2001978008417966,14.106165774015192,4.3998919939885175,85.335258069448557]
[null,{"$f":"+$B$148","v":"2029-12-01"},30.723463720777165,18.027914378888308,6.5374630883958842,4.2790845615307855,7.0885559134157079,13.935660807977099,4.4572950992823701,85.04943757026733,null,{"$f":"+$B$148","v":"2029-12-01"},32.030845155703844,18.795059671606953,6.8156530070510266,4.4211287498406122,7.390196590582331,14.528667650869737,4.6469672311667249,88.628518056821221,null,{"$f":"+$B$148","v":"2029-12-01"},29.416082285850475,17.260769086169653,6.25927316974074,4.137040373220958,6.7869152362490821,13.342653965084455,4.2676229673980135,81.470357083713367]
[null,{"$f":"+$B$149","v":"2030-01-01"},29.629790467196131,15.942095627557126,5.9959582906416307,4.2323059628385682,6.4833339288897944,12.618465765479646,4.3203536302822902,79.222303672885175,null,{"$f":"+$B$149","v":"2030-01-01"},30.918042226639425,16.635230220059601,6.2566521293651771,4.3742366362760503,6.7652180127545636,13.167094711804843,4.5081950924684753,82.624669029368135,null,{"$f":"+$B$149","v":"2030-01-01"},28.66360164761365,15.422244683180264,5.8004379115989693,4.1124307889971554,6.2719208659912127,12.206994055735743,4.1794725336426506,76.657102486759641]
[null,{"$f":"+$B$150","v":"2030-02-01"},33.22110248630122,18.432389402690905,6.6933512309118033,4.4356982526733066,7.6386284831757765,14.530336559420494,4.7384174837258639,89.689923898899366,null,{"$f":"+$B$150","v":"2030-02-01"},34.665498246575176,19.233797637590499,6.9843665018210093,4.5864720691470824,7.9707427650529805,15.162090322873555,4.944435635192205,93.547403178252495,null,{"$f":"+$B$150","v":"2030-02-01"},32.137805666095737,17.831333226516197,6.4750897777298961,4.3091907215546748,7.3895427717678697,14.056521236830694,4.5839038701261074,86.783387270621176]
[null,{"$f":"+$B$151","v":"2030-03-01"},29.683560070433355,16.41288602207214,6.0063072218404425,4.2111853522407703,6.6962027973663343,13.068429371700077,4.2464459070001572,80.325016742653276,null,{"$f":"+$B$151","v":"2030-03-01"},30.974149638713055,17.12648976216223,6.2674510140943731,4.3521977382609585,6.9873420494257372,13.636621953078338,4.431073989913207,83.775326145647881,null,{"$f":"+$B$151","v":"2030-03-01"},28.71561789422357,15.877683217004572,5.8104493776499941,4.0919988939623302,6.4778483583217801,12.64228493566638,4.1079748448153701,77.723857521644007]
[null,{"$f":"+$B$152","v":"2030-04-01"},30.965570837930791,17.416585702175166,6.303054137918048,4.273181136032365,7.0326110460128159,13.863622940248986,4.3750111702220069,84.22963697054017,null,{"$f":"+$B$152","v":"2030-04-01"},32.31190000479733,18.17382855879147,6.5770999700014388,4.4168889909130558,7.3383767436655445,14.466389155042414,4.5652290471881791,87.849712470399453,null,{"$f":"+$B$152","v":"2030-04-01"},29.955823962780872,16.848653559712933,6.0975197638555025,4.151973076108546,6.8032867727732667,13.41154827915391,4.2323477624973753,81.501153176882397]
[null,{"$f":"+$B$153","v":"2030-05-01"},29.800275074917444,16.780732209550383,6.1069117249359959,4.2024465401762452,6.7627229796026098,13.41916313180206,4.2223175060334706,81.294569167018224,null,{"$f":"+$B$153","v":"2030-05-01"},31.095939208609501,17.510329262139525,6.3724296260201676,4.343078977845801,7.056754413498374,14.002605007097801,4.4058965280349245,84.787033023246096,null,{"$f":"+$B$153","v":"2030-05-01"},28.828526974648398,16.233534420108519,5.907773299122864,4.083545043160778,6.5421994041807858,12.981581725330255,4.084633239532379,78.661794106083974]
[null,{"$f":"+$B$154","v":"2030-06-01"},31.129576601970822,17.8260993173717,6.4289521419887103,4.2711101620378713,7.1203492542173823,14.214080306977801,4.375006070327208,85.365173854891495,null,{"$f":"+$B$154","v":"2030-06-01"},32.483036454230408,18.60114711377916,6.7084718003360413,4.414727974570976,7.4299296565746564,14.832083798585526,4.5652237255588242,89.034620523635596,null,{"$f":"+$B$154","v":"2030-06-01"},30.114481712776115,17.244813470066099,6.2193123982282073,4.1499696338747425,6.8881639524494229,13.750577688272001,4.2323428289034943,82.59966168457008]
[null,{"$f":"+$B$155","v":"2030-07-01"},30.124351578098477,17.34543362964407,6.2774791200736217,4.2106321095614661,6.8810770358591613,13.784532381902654,4.2541789361950455,82.877684791334488,null,{"$f":"+$B$155","v":"2030-07-01"},31.434105994537521,18.099582917889457,6.5504129948594292,4.351620441552118,7.1802542982878172,14.383859876767982,4.4391432377687412,86.438979761663077,null,{"$f":"+$B$155","v":"2030-07-01"},29.142035765769172,16.779821663460019,6.0727787139842633,4.0914636918051759,6.656694089037666,13.335036760753654,4.1154557100147713,80.193286394824725]
[null,{"$f":"+$B$156","v":"2030-08-01"},30.088244510058622,17.347575416073905,6.2893777832739115,4.2124877779628385,6.8776199627926147,13.810895245120593,4.2636773233960197,82.889878018678516,null,{"$f":"+$B$156","v":"2030-08-01"},31.396429053974202,18.101817825468412,6.5628289912423394,4.3535567911883319,7.1766469176966394,14.411368951430177,4.4490545983262795,86.45170312932639,null,{"$f":"+$B$156","v":"2030-08-01"},29.107106102121929,16.781893609028014,6.084289377297587,4.0932588492804172,6.6533497466145946,13.360539965388398,4.1246443671983224,80.205082016929268]
[null,{"$f":"+$B$157","v":"2030-09-01"},31.175728140585438,18.056259178671723,6.5346330793333509,4.2834806600568136,7.1624272595209018,14.322033302292404,4.4212299010820262,85.955791521542665,null,{"$f":"+$B$157","v":"2030-09-01"},32.531194581480442,18.841313925570486,6.8187475610434944,4.4276363203298716,7.4738371403696346,14.944730402392066,4.6134572880855904,89.650917219271577,null,{"$f":"+$B$157","v":"2030-09-01"},30.159128309914177,17.467468118497646,6.3215472180507417,4.1619367460887187,6.928869848884351,13.855010477217652,4.2770593608293517,83.171020079482631]
[null,{"$f":"+$B$158","v":"2030-10-01"},30.026643023969729,17.225205710104856,6.2766748591315533,4.2193644262867629,6.8471443347769689,13.518184392530241,4.2842881489202682,82.397504895720388,null,{"$f":"+$B$158","v":"2030-10-01"},31.332149242403183,17.974127697500712,6.5495737660503135,4.3607324242219931,7.1448462623759657,14.105931540031552,4.4705615466994084,85.937922479283131,null,{"$f":"+$B$158","v":"2030-10-01"},29.047513360144627,16.66351421955796,6.072000678942481,4.0999112590720399,6.6238678890777205,13.077374031904254,4.144583100585912,79.728764539284981]
[null,{"$f":"+$B$159","v":"2030-11-01"},31.500608883875099,18.567253509580375,6.6606545492532199,4.3004463638667145,7.3476365677874904,14.390336569146317,4.4706028953147854,87.237539338823993,null,{"$f":"+$B$159","v":"2030-11-01"},32.870200574478353,19.374525401301256,6.9502482253077051,4.4453396634358562,7.6670990272565094,15.0160033765005,4.6649769342415137,90.988393202521678,null,{"$f":"+$B$159","v":"2030-11-01"},30.473415115922649,17.96179959078971,6.4434592922123537,4.1783492204265578,7.1080397231857235,13.921086463630676,4.3248223661197382,84.410971772287397]
[null,{"$f":"+$B$160","v":"2030-12-01"},30.211076056298058,17.575689495049083,6.392986743218521,4.2372284954198101,6.9264118649579762,13.605693006150169,4.3376660034233252,83.286751664516942,null,{"$f":"+$B$160","v":"2030-12-01"},31.524601102224047,18.339849907877298,6.6709426885758445,4.3793731920129986,7.2275602069126679,14.197244875982781,4.5262601774852067,86.865832151070848,null,{"$f":"+$B$160","v":"2030-12-01"},29.225932271853555,17.002569185427916,6.1845197842005248,4.1171928042116184,6.7005506084919544,13.162029103775707,4.1962203728769119,80.58901413083818]
[null,{"$f":"+$B$161","v":"2031-01-01"},29.807487904385805,16.696314893254463,6.1540350448945649,4.2166192941910605,6.6974778099921766,13.045434363978488,4.2792627029035541,80.896632013600112,null,{"$f":"+$B$161","v":"2031-01-01"},31.075891644997952,17.406796378073796,6.4159088765922032,4.356005386018345,6.9824768657365217,13.600559230530758,4.4613589881334903,84.298997370083072,null,{"$f":"+$B$161","v":"2031-01-01"},28.856185098926684,16.163453779639962,5.9576296711213343,4.0986525565572967,6.4837285181839155,12.629090714064281,4.1426904889811,78.331430827474577]
[null,{"$f":"+$B$162","v":"2031-02-01"},33.40982568361428,19.291998784239215,6.9543627622903941,4.4374563799203814,7.7695242776332734,14.97661457143389,4.7520267419179216,91.591809201049358,null,{"$f":"+$B$162","v":"2031-02-01"},34.831520393555294,20.112934902717473,7.2502930926006206,4.5862397945446585,8.1001423320006438,15.613917319154478,4.9542406458293202,95.449288480402487,null,{"$f":"+$B$162","v":"2031-02-01"},32.343554651158506,18.676296695380518,6.7324150145577226,4.3124416501888732,7.5215607368577437,14.498637510643448,4.6003663139843711,88.685272572771183]
[null,{"$f":"+$B$163","v":"2031-03-01"},29.929984244658939,17.130211876303505,6.241299581672207,4.2199548151039474,6.8245134181407341,13.391702085075671,4.2856510856689987,82.023317106624006,null,{"$f":"+$B$163","v":"2031-03-01"},31.203600595495473,17.859157062529178,6.5068867979135749,4.3594828439913549,7.114918244444592,13.961561748270373,4.46801921697406,85.473626509618597,null,{"$f":"+$B$163","v":"2031-03-01"},28.974771981531525,16.583502986634244,6.0421091694911793,4.1018816246750909,6.6067097984128393,12.96430733767964,4.1488749871902009,79.422157885614709]
[null,{"$f":"+$B$164","v":"2031-04-01"},31.225879238824472,18.145065203979694,6.544263886263475,4.2903098479293647,7.2106132276836679,14.155445246346542,4.4412437319160132,86.012820382943232,null,{"$f":"+$B$164","v":"2031-04-01"},32.554640057497842,18.91719563819159,6.8227432005725559,4.4328317080008333,7.5174478331170125,14.757804618531493,4.6302328268911603,89.632895882802487,null,{"$f":"+$B$164","v":"2031-04-01"},30.229308624819438,17.565967378320767,6.3354044005316617,4.1699912841124638,6.9804872736086576,13.703675717207823,4.2995019106846515,83.284336589285459]
[null,{"$f":"+$B$165","v":"2031-05-01"},30.084836641755306,17.467045386707031,6.3359451714933508,4.2260299810464828,6.9307247945519395,13.662542441396445,4.3068223406550139,83.013946757605567,null,{"$f":"+$B$165","v":"2031-05-01"},31.365042456298074,18.210323913800938,6.6055598596420007,4.365816527633573,7.2256492538945727,14.243927226136712,4.4900913764275661,86.506410613833438,null,{"$f":"+$B$165","v":"2031-05-01"},29.124682280848223,16.909586491386591,6.1337341553818607,4.1077629023428646,6.7095314500449623,13.226503852841239,4.1693705638255985,80.381171696671331]
[null,{"$f":"+$B$166","v":"2031-06-01"},31.441283140577148,18.534887986774855,6.664207013351179,4.3017001544680085,7.3096695475918043,14.441878369968926,4.4794166390050432,87.173042851736952,null,{"$f":"+$B$166","v":"2031-06-01"},32.779210082729357,19.323606624509946,6.9477902905150559,4.4447067084347376,7.6207193155744299,15.056426385712278,4.6700301130052555,90.842489520481053,null,{"$f":"+$B$166","v":"2031-06-01"},30.437837933962978,17.943349008473529,6.4515195554782681,4.1810180702296602,7.0763822216048302,13.980967358161404,4.3364565335048821,84.407530681415565]
[null,{"$f":"+$B$167","v":"2031-07-01"},30.43711505761058,18.022414058738946,6.5026251893896312,4.2453718136303777,7.0741675820072247,13.981335103283609,4.3684491343118195,84.631477938972196,null,{"$f":"+$B$167","v":"2031-07-01"},31.732311443040807,18.789325295281021,6.7793326442572726,4.3859814169231655,7.3751959897522088,14.576285533210566,4.5543405868357247,88.192772909300771,null,{"$f":"+$B$167","v":"2031-07-01"},29.465717768537907,17.447230631332385,6.2950945982388999,4.1264874423974867,6.8483962761984838,13.535122280838388,4.2290305449188894,81.947079542462433]
[null,{"$f":"+$B$168","v":"2031-08-01"},30.455481245303215,18.001059038465925,6.506380192398268,4.2499591275801567,7.0703283902221372,13.97587901676939,4.3848492257367742,84.643936236475881,null,{"$f":"+$B$168","v":"2031-08-01"},31.751459170635254,18.767061550741069,6.7832474346279792,4.3907639357218704,7.3711934281039282,14.570597272802123,4.5714385544915279,88.20576134712374,null,{"$f":"+$B$168","v":"2031-08-01"},29.483497801304175,17.426557154259566,6.2987297607259825,4.13092835271057,6.8446796118107924,13.529840324744834,4.244907229170706,81.959140234726632]
[null,{"$f":"+$B$169","v":"2031-09-01"},31.575273651013536,18.723243000393609,6.7555796399269061,4.3256167142149833,7.3675794275851034,14.475087710290696,4.554119889455718,87.776500032880548,null,{"$f":"+$B$169","v":"2031-09-01"},32.918902317014094,19.519976745091196,7.043051113966345,4.4696409941283921,7.6810934457802098,15.091048889451994,4.7479122251772354,91.47162573060946,null,{"$f":"+$B$169","v":"2031-09-01"},30.567552151513098,18.125692691870405,6.5399760343973226,4.2041713355166266,7.1324439139387694,14.013116825919715,4.4087756376645775,84.9917285908205]
[null,{"$f":"+$B$170","v":"2031-10-01"},30.408122428470044,17.826563272612749,6.4755565869892351,4.2596016107195673,7.035840075481187,13.723703204146531,4.4114721715558938,84.140859349975216,null,{"$f":"+$B$170","v":"2031-10-01"},31.702085085000668,18.585140433149455,6.7511121864355825,4.4008167372927449,7.3352375255016593,14.307690574535737,4.5991943916220999,87.681276933537958,null,{"$f":"+$B$170","v":"2031-10-01"},29.437650436072065,17.257630402210218,6.2688898874044723,4.1402630970263825,6.8112919879658298,13.285712676354619,4.2706805065062383,81.472118993539823]
[null,{"$f":"+$B$171","v":"2031-11-01"},31.900641715459813,19.180137481873317,6.8606851480962092,4.3425954576778718,7.5444353870429941,14.654643607289383,4.6029731357066908,89.086111933146285,null,{"$f":"+$B$171","v":"2031-11-01"},33.258115831011281,19.996313544931745,7.1526291969513638,4.4873422373131069,7.865475190746948,15.278245462918711,4.7988443329708037,92.836965796843955,null,{"$f":"+$B$171","v":"2031-11-01"},30.8825361287962,18.568005434579486,6.6417271114548404,4.2206082041881459,7.3036555342650251,14.186942215567379,4.4560697377586056,86.259544366609688]
[null,{"$f":"+$B$172","v":"2031-12-01"},30.600535120795843,18.140066405199619,6.5781323592665393,4.2784950221227938,7.1098031187308903,13.876380837828274,4.4660247063233607,85.04943757026733,null,{"$f":"+$B$172","v":"2031-12-01"},31.902685551467997,18.911984124569805,6.8580528851927722,4.4205141236493013,7.4123479322939039,14.466865128799684,4.6560683108477567,88.628518056821207,null,{"$f":"+$B$172","v":"2031-12-01"},29.623922297791722,17.561128115671973,6.3681919648218637,4.1585535272146128,6.8828945085586284,13.433517619599714,4.3234920029300623,82.351700036588582]
[31,{"$f":"+$B$173","v":"2032-01-01"},29.807487904385805,16.696314893254463,6.1540350448945649,4.2166192941910596,6.6974778099921766,13.045434363978488,4.2792627029035541,80.896632013600112,{"$f":"+J1081/J1069-1","v":2.1134557606761417E-2},{"$f":"+$B$173","v":"2032-01-01"},31.075891644997952,17.406796378073796,6.4159088765922032,4.3560053860183467,6.9824768657365217,13.600559230530758,4.4613589881334903,84.298997370083072,null,{"$f":"+$B$173","v":"2032-01-01"},28.856185098926684,16.163453779639962,5.9576296711213343,4.098652556557294,6.4837285181839155,12.629090714064281,4.1426904889811,78.331430827474577,null,null,{"$f":"+$A1093*C1093","v":924.03212503596001},{"$f":"+$A1093*D1093","v":517.58576169088838},190.77508639173152,130.71519811992286,207.62181210975749,404.40846528333316,132.65714379001017,2507.7955924216035,null,null,963.35264099493656,539.61068772028773,198.8931751743583,135.03616696656874,216.45678283783218,421.61733614645351,138.30212863213819,{"$f":"+$A1093*T1093","v":2613.268918472575},null,null,{"$f":"+$A1093*W1093","v":894.54173806672725},501.06706716883883,184.68651980476136,127.05822925327611,200.99558406370139,391.50181213599274,128.42340515841411,2428.2743556517121]
[28,{"$f":"+$B$174","v":"2032-02-01"},33.40982568361428,19.291998784239215,6.9543627622903941,4.4374563799203806,7.7695242776332734,14.97661457143389,4.7520267419179216,91.591809201049358,{"$f":"+J1082/J1070-1","v":2.120511668951619E-2},{"$f":"+$B$174","v":"2032-02-01"},34.831520393555294,20.112934902717473,7.2502930926006206,4.5862397945446602,8.1001423320006438,15.613917319154478,4.9542406458293202,95.449288480402487,null,{"$f":"+$B$174","v":"2032-02-01"},32.343554651158506,18.676296695380518,6.7324150145577226,4.3124416501888714,7.5215607368577437,14.498637510643448,4.6003663139843711,88.685272572771183,null,null,{"$f":"+$A1094*C1094","v":935.4751191411998},540.17596595869804,194.72215734413103,124.24877863777066,217.54667977373165,419.34520800014894,133.0567487737018,2564.5706576293819,null,null,975.28257101954819,563.16217727608921,203.00820659281737,128.41471424725049,226.80398529601803,437.18968493632536,138.71873808322096,2672.5800774512695,null,null,905.61953023243814,522.93630747065447,188.50762040761623,120.74836620528839,210.60370063201682,405.96185029801654,128.81025679156238,2483.1876320375932]
[31,{"$f":"+$B$175","v":"2032-03-01"},29.929984244658939,17.130211876303505,6.241299581672207,4.2199548151039465,6.8245134181407341,13.391702085075671,4.2856510856689987,82.023317106624006,2.1142857267142157E-2,{"$f":"+$B$175","v":"2032-03-01"},31.203600595495473,17.859157062529178,6.5068867979135749,4.3594828439913567,7.114918244444592,13.961561748270373,4.46801921697406,85.473626509618597,null,{"$f":"+$B$175","v":"2032-03-01"},28.974771981531525,16.583502986634244,6.0421091694911793,4.1018816246750891,6.6067097984128393,12.96430733767964,4.1488749871902009,79.422157885614709,null,null,927.82951158442711,531.03656816540865,193.48028703183843,130.81859926822233,211.55991596236277,415.14276463734581,132.85518365573895,2542.7228303053444,null,null,967.31161846035968,553.63386893840448,201.71349073532082,135.14396816373207,220.56246557778235,432.80841419638159,138.50859572619586,2649.6824217981766,null,null,898.21793142747731,514.08859258566156,187.30538425422657,127.15833036492776,204.80800375079801,401.89352746806884,128.61512460289623,2462.0868944540562]
[30,{"$f":"+$B$176","v":"2032-04-01"},31.225879238824472,18.145065203979694,6.544263886263475,4.2903098479293647,7.2106132276836679,14.155445246346542,4.4412437319160132,86.012820382943232,2.1170498609969668E-2,{"$f":"+$B$176","v":"2032-04-01"},32.554640057497842,18.91719563819159,6.8227432005725559,4.432831708000835,7.5174478331170125,14.757804618531493,4.6302328268911603,89.632895882802487,null,{"$f":"+$B$176","v":"2032-04-01"},30.229308624819438,17.565967378320767,6.3354044005316617,4.1699912841124611,6.9804872736086576,13.703675717207823,4.2995019106846515,83.284336589285459,null,null,936.77637716473419,544.35195611939082,196.32791658790424,128.70929543788094,216.31839683051004,424.66335739039624,133.23731195748039,2580.3846114882972,null,null,976.63920172493522,567.51586914574773,204.68229601717667,132.98495124002505,225.52343499351036,442.73413855594481,138.90698480673481,2688.9868764840744,null,null,906.87925874458313,526.97902134962305,190.06213201594986,125.09973852337383,209.41461820825972,411.11027151623466,128.98505732053954,2498.5300976785638]
[31,{"$f":"+$B$177","v":"2032-05-01"},30.084836641755306,17.467045386707031,6.3359451714933508,4.2260299810464819,6.9307247945519395,13.662542441396445,4.3068223406550139,83.013946757605567,2.1149968665863828E-2,{"$f":"+$B$177","v":"2032-05-01"},31.365042456298074,18.210323913800938,6.6055598596420007,4.3658165276335748,7.2256492538945727,14.243927226136712,4.4900913764275661,86.506410613833438,null,{"$f":"+$B$177","v":"2032-05-01"},29.124682280848223,16.909586491386591,6.1337341553818607,4.1077629023428628,6.7095314500449623,13.226503852841239,4.1693705638255985,80.381171696671331,null,null,932.62993589441453,541.47840698791799,196.41430031629386,131.00692941244094,214.85246863111013,423.53881568328978,133.51149256030544,2573.4323494857726,null,null,972.31631614524031,564.52004132782906,204.77235564890202,135.34031235664082,223.99512687073175,441.5617440102381,139.19283266925456,2681.6987290288366,null,null,902.86515070629491,524.19718123298435,190.14575881683768,127.34064997262874,207.99547495139385,410.0216194380784,129.25048747859356,2491.8163225968115]
[30,{"$f":"+$B$178","v":"2032-06-01"},31.441283140577148,18.534887986774855,6.664207013351179,4.3017001544680076,7.3096695475918043,14.441878369968926,4.4794166390050432,87.173042851736952,2.1178062612729809E-2,{"$f":"+$B$178","v":"2032-06-01"},32.779210082729357,19.323606624509946,6.9477902905150559,4.4447067084347394,7.6207193155744299,15.056426385712278,4.6700301130052555,90.842489520481053,null,{"$f":"+$B$178","v":"2032-06-01"},30.437837933962978,17.943349008473529,6.4515195554782681,4.1810180702296584,7.0763822216048302,13.980967358161404,4.3364565335048821,84.407530681415565,null,null,943.2384942173145,556.04663960324569,199.92621040053538,129.05100463404023,219.29008642775412,433.25635109906779,134.38249917015131,2615.1912855521086,null,null,983.37630248188066,579.70819873529842,208.43370871545167,133.34120125304219,228.62157946723289,451.69279157136833,140.10090339015767,2725.2746856144317,null,null,913.13513801888939,538.30047025420583,193.54558666434804,125.43054210688976,212.2914666481449,419.42902074484215,130.09369600514646,2532.2259204424668]
[31,{"$f":"+$B$179","v":"2032-07-01"},30.43711505761058,18.022414058738946,6.5026251893896312,4.2453718136303777,7.0741675820072247,13.981335103283609,4.3684491343118195,84.631477938972196,2.116122273508636E-2,{"$f":"+$B$179","v":"2032-07-01"},31.732311443040807,18.789325295281021,6.7793326442572726,4.3859814169231672,7.3751959897522088,14.576285533210566,4.5543405868357247,88.192772909300771,null,{"$f":"+$B$179","v":"2032-07-01"},29.465717768537907,17.447230631332385,6.2950945982388999,4.1264874423974849,6.8483962761984838,13.535122280838388,4.2290305449188894,81.947079542462433,null,null,943.55056678592803,558.69483582090731,201.58138087107858,131.6065262225417,219.29919504222397,433.4213882017919,135.42192316366641,2623.575816108138,null,null,983.70165473426505,582.46908415371161,210.15931197197546,135.96542392461819,228.63107568231848,451.86485152952753,141.18455819190746,2733.9759601883238,null,null,913.43725082467506,540.86414957130398,195.14793254540589,127.92111071432203,212.300284562153,419.58879070599005,131.09994689248558,2540.3594658163356]
[31,{"$f":"+$B$180","v":"2032-08-01"},30.455481245303215,18.001059038465925,6.506380192398268,4.2499591275801558,7.0703283902221372,13.97587901676939,4.3848492257367742,84.643936236475881,2.1161307746189406E-2,{"$f":"+$B$180","v":"2032-08-01"},31.751459170635254,18.767061550741069,6.7832474346279792,4.3907639357218722,7.3711934281039282,14.570597272802123,4.5714385544915279,88.20576134712374,null,{"$f":"+$B$180","v":"2032-08-01"},29.483497801304175,17.426557154259566,6.2987297607259825,4.1309283527105674,6.8446796118107924,13.529840324744834,4.244907229170706,81.959140234726632,null,null,944.11991860439969,558.03283019244373,201.69778596434631,131.74873295498483,219.18018009688626,433.25224951985109,135.93032599783999,2623.9620233307523,null,null,984.29523428969287,581.77890807297308,210.28067047346735,136.11368200737803,228.50699627122177,451.68851545686584,141.71459518923737,2734.3786017608359,null,null,913.98843184042937,540.2232717820466,195.26062258250545,128.0587789340276,212.18506796613457,419.42505006708984,131.59212410429188,2540.7333472765258]
[30,{"$f":"+$B$181","v":"2032-09-01"},31.575273651013536,18.723243000393609,6.7555796399269061,4.3256167142149824,7.3675794275851034,14.475087710290696,4.554119889455718,87.776500032880548,2.1181917810408013E-2,{"$f":"+$B$181","v":"2032-09-01"},32.918902317014094,19.519976745091196,7.043051113966345,4.4696409941283939,7.6810934457802098,15.091048889451994,4.7479122251772354,91.47162573060946,null,{"$f":"+$B$181","v":"2032-09-01"},30.567552151513098,18.125692691870405,6.5399760343973226,4.2041713355166239,7.1324439139387694,14.013116825919715,4.4087756376645775,84.9917285908205,null,null,947.25820953040602,561.69729001180826,202.66738919780718,129.76850142644946,221.02738282755311,434.25263130872088,136.62359668367154,2633.2950009864167,null,null,987.56706951042281,585.59930235273589,211.29153341899035,134.08922982385181,230.4328033734063,452.7314666835598,142.43736675531707,2744.1487719182837,null,null,917.02656454539294,543.77078075611212,196.19928103191967,126.12514006549871,213.97331741816308,420.39350477759143,132.26326912993733,2549.7518577246151]
[31,{"$f":"+$B$182","v":"2032-10-01"},30.408122428470044,17.826563272612749,6.4755565869892351,4.2596016107195664,7.035840075481187,13.723703204146531,4.4114721715558938,84.140859349975216,2.1157854918800734E-2,{"$f":"+$B$182","v":"2032-10-01"},31.702085085000668,18.585140433149455,6.7511121864355825,4.4008167372927467,7.3352375255016593,14.307690574535737,4.5991943916220999,87.681276933537958,null,{"$f":"+$B$182","v":"2032-10-01"},29.437650436072065,17.257630402210218,6.2688898874044723,4.1402630970263807,6.8112919879658298,13.285712676354619,4.2706805065062383,81.472118993539823,null,null,942.65179528257136,552.62346145099525,200.74225419666629,132.04764993230657,218.11104233991679,425.43479932854245,136.75563731823271,2608.3666398492319,null,null,982.76463763502068,576.13935342763307,209.28447777950305,136.42531885607514,227.39236329055143,443.53840781060785,142.5750261402851,2718.1195849396768,null,null,912.567163518234,534.98654246851675,194.33558650953864,128.34815600781781,211.15005162694072,411.85709296699321,132.39109570169339,2525.6356887997345]
[30,{"$f":"+$B$183","v":"2032-11-01"},31.900641715459813,19.180137481873317,6.8606851480962092,4.3425954576778718,7.5444353870429941,14.654643607289383,4.6029731357066908,89.086111933146285,2.1190104722493164E-2,{"$f":"+$B$183","v":"2032-11-01"},33.258115831011281,19.996313544931745,7.1526291969513638,4.4873422373131087,7.865475190746948,15.278245462918711,4.7988443329708037,92.836965796843955,null,{"$f":"+$B$183","v":"2032-11-01"},30.8825361287962,18.568005434579486,6.6417271114548404,4.2206082041881441,7.3036555342650251,14.186942215567379,4.4560697377586056,86.259544366609688,null,null,957.01925146379438,575.4041244561995,205.82055444288628,130.27786373033615,226.33306161128982,439.63930821868149,138.08919407120072,2672.5833579943887,null,null,997.74347493033838,599.88940634795233,214.57887590854091,134.62026711939325,235.96425572240844,458.34736388756136,143.96532998912411,2785.1089739053186,null,null,926.47608386388606,557.04016303738456,199.25181334364521,126.61824612564432,219.10966602795077,425.60826646702139,133.68209213275816,2587.7863309982909]
[31,{"$f":"+$B$184","v":"2032-12-01"},30.600535120795843,18.140066405199619,6.5781323592665393,4.2784950221227938,7.1098031187308903,13.876380837828274,4.4660247063233607,85.04943757026733,2.116406115645586E-2,{"$f":"+$B$184","v":"2032-12-01"},31.902685551467997,18.911984124569805,6.8580528851927722,4.4205141236493031,7.4123479322939039,14.466865128799684,4.6560683108477567,88.628518056821221,null,{"$f":"+$B$184","v":"2032-12-01"},29.623922297791722,17.561128115671973,6.3681919648218637,4.158553527214611,6.8828945085586284,13.433517619599714,4.3234920029300623,82.351700036588568,null,null,948.61658874467116,562.3420585611882,203.92210313726272,132.6333456858066,220.4038966806576,430.16780597267649,138.44676589602417,2636.5325646782871,null,null,988.98325209550785,586.27150786166396,212.59963944097595,137.0359378331284,229.78278590111103,448.47281899279022,144.33811763628046,2747.484059761458,null,null,918.34159123154336,544.39497158583117,197.41395090947776,128.91515934365293,213.36972976531749,416.4390462075911,134.02825209083193,2552.9027011342455]
[null,null,null,null,null,null,null,null,null,null,null,null,null,null,null,null,null,null,null,null,null,null,null,null,null,null,null,null,null,null,null,null,{"$f":"+SUM(AG1093:AG1104)/365","v":30.912870940958417},{"$f":"+SUM(AH1093:AH1104)/365","v":18.080739449367371},6.5426778791300872,4.2811847272950763,7.1549153926952149,14.01787162916122,4.441007734350749,85.431267752958163,null,null,{"$f":"+SUM(AQ1093:AQ1104)/365","v":32.228312257594936},{"$f":"+SUM(AR1093:AR1104)/365","v":18.850132617425555},6.8210897037739162,4.4233182843608336,7.4593798774907532,14.614376804870203,4.6299867868763105,89.026596332392501,null,null,{"$f":"+SUM(BA1093:BA1104)/365","v":29.926289953481021},{"$f":"+SUM(BB1093:BB1104)/365","v":17.503694573323735},6.3338690106472129,4.1611573907324608,6.9265670290985604,13.570492747379479,4.2992734449565759,82.721344149619043]
[]
[null,null,"TERMOELECTRICA MEDIO",null,null,null,null,null,null,null,null,null,"TERMOELECTRICA ALTO",null,null,null,null,null,null,null,null,null,"TERMOELECTRICA BAJO"]
[null,null,"CENTRO","COSTA","CQR","NORESTE","NOROESTE","SUROESTE","TOLIMA GRANDE","MEDIO",null,null,"CENTRO","COSTA","CQR","NORESTE","NOROESTE","SUROESTE","TOLIMA GRANDE","ALTO",null,null,"CENTRO","COSTA","CQR","NORESTE","NOROESTE","SUROESTE","TOLIMA GRANDE","BAJO"]
[null,{"$f":"+$B$5","v":"2018-01-01"},35.009377419354841,178.13957245161291,0.18137096774193548,0,10.999354838709678,2.0054838709677423,0,226.33515954838711,null,{"$f":"+$B$5","v":"2018-01-01"},66.45,274.95251582580647,0,0,55.261290322580642,0,0,396.6638061483871,null,{"$f":"+$B$5","v":"2018-01-01"},29.517741935483869,156.17409374193551,0,0,0,0,0,185.69183567741936]
[null,{"$f":"+$B$6","v":"2018-02-01"},43.439403571428571,186.32685171428574,0,0,21.234642857142859,4.8520000000000003,0,255.85289814285716,null,{"$f":"+$B$6","v":"2018-02-01"},66.448928571428581,275.29372274285714,0,0,55.260714285714286,49.50535714285715,0,446.50872274285712,null,{"$f":"+$B$6","v":"2018-02-01"},29.516785714285714,156.160066,0,0,0,0,0,185.6768517142857]
[null,{"$f":"+$B$7","v":"2018-03-01"},39.659203225806451,186.49894987096775,9.0683870967741928E-2,0.38958064516129032,17.650967741935482,1.5899677419354838,0,245.8793530967742,null,{"$f":"+$B$7","v":"2018-03-01"},66.45,274.8363867935484,0,0,55.261290322580642,0,0,396.54767711612902,null,{"$f":"+$B$7","v":"2018-03-01"},29.517741935483869,156.160066,0,0,0,0,0,185.67780793548388]
[null,{"$f":"+$B$8","v":"2018-04-01"},39.879080000000002,185.46311600000001,9.0683333333333324E-2,0.67686666666666673,18.098666666666666,4.3840666666666674,0,248.59247933333333,null,{"$f":"+$B$8","v":"2018-04-01"},66.451000000000008,275.29969893333333,0,0,55.26,59.590333333333334,0,456.60103226666666,null,{"$f":"+$B$8","v":"2018-04-01"},29.517666666666667,156.160066,0,0,0,0,0,185.67773266666666]
[null,{"$f":"+$B$9","v":"2018-05-01"},32.418290322580646,167.77458212903227,0,0,4.9135483870967738,0,0,205.10642083870968,null,{"$f":"+$B$9","v":"2018-05-01"},66.45,225.34393696774191,0,0,55.261290322580642,0,0,347.05522729032253,null,{"$f":"+$B$9","v":"2018-05-01"},29.517741935483869,156.160066,0,0,0,0,0,185.67780793548388]
[null,{"$f":"+$B$10","v":"2018-06-01"},32.166166666666669,169.55073266666668,0,0,4.823666666666667,0,0,206.54056600000001,null,{"$f":"+$B$10","v":"2018-06-01"},66.451000000000008,236.73961259999999,0,0,55.26,0,0,358.4506126,null,{"$f":"+$B$10","v":"2018-06-01"},29.517666666666667,156.22760933333333,0,0,0,0,0,185.74527599999999]
[null,{"$f":"+$B$11","v":"2018-07-01"},34.255806451612905,183.48425954838712,0,0,16.01483870967742,0,0,233.75490470967742,null,{"$f":"+$B$11","v":"2018-07-01"},66.45,277.69944964814022,0,0,55.261290322580642,0,0,399.41073997072084,null,{"$f":"+$B$11","v":"2018-07-01"},29.517741935483869,156.160066,0,0,0,0,0,185.67780793548388]
[null,{"$f":"+$B$12","v":"2018-08-01"},34.460619354838713,181.85135632258064,0,0,16.125806451612902,0.22915806451612905,0,232.66694019354838,null,{"$f":"+$B$12","v":"2018-08-01"},66.45,275.29626882580646,0,0,55.261290322580642,0,0,397.00755914838709,null,{"$f":"+$B$12","v":"2018-08-01"},29.517741935483869,156.25129503225807,0,0,0,0,0,185.76903696774195]
[null,{"$f":"+$B$13","v":"2018-09-01"},36.71091666666667,189.15839933333336,0,0,17.946999999999999,0.67518,0,244.49149600000004,null,{"$f":"+$B$13","v":"2018-09-01"},66.451000000000008,275.29969893333333,0,0,55.26,0,0,397.01069893333334,null,{"$f":"+$B$13","v":"2018-09-01"},29.517666666666667,156.21081599999999,0,0,0,0,0,185.72848266666665]
[null,{"$f":"+$B$14","v":"2018-10-01"},32.671129032258065,172.65716277419355,0,0,6.7735483870967741,1.3503548387096775,0,213.45219503225806,null,{"$f":"+$B$14","v":"2018-10-01"},66.45,245.42025776129032,0,0,55.261290322580642,0,0,367.13154808387094,null,{"$f":"+$B$14","v":"2018-10-01"},29.517741935483869,156.28684664516129,0,0,0,0,0,185.80458858064515]
[null,{"$f":"+$B$15","v":"2018-11-01"},37.175830000000005,178.90901933333333,9.0683333333333324E-2,0.3896,11.662666666666667,2.0255333333333332,0,230.25333266666669,null,{"$f":"+$B$15","v":"2018-11-01"},66.451000000000008,275.5208078106981,0,0,55.26,0,0,397.23180781069811,null,{"$f":"+$B$15","v":"2018-11-01"},29.517666666666667,156.23836933333334,0,0,0,0,0,185.75603599999999]
[null,{"$f":"+$B$16","v":"2018-12-01"},37.462806451612906,181.20392729032261,0.18137096774193548,0.77919354838709676,11.429677419354839,4.8460967741935486,0,235.90307245161293,null,{"$f":"+$B$16","v":"2018-12-01"},73.205161290322579,275.29626882580646,0,0,55.261290322580642,68.867741935483878,0,472.63046237419354,null,{"$f":"+$B$16","v":"2018-12-01"},29.517741935483869,156.37750793548389,0,0,0,0,0,185.89524987096775]
[null,{"$f":"+$B$17","v":"2019-01-01"},40.443451612903239,81.051323354838715,0.18137096774193548,0.77919354838709676,16.89,3.6954193548387098,0,143.04075883870971,null,{"$f":"+$B$17","v":"2019-01-01"},73.205161290322579,262.54870967741937,0,0,55.261290322580642,63.425161290322578,0,454.44032258064516,null,{"$f":"+$B$17","v":"2019-01-01"},29.517741935483869,43.794419564516133,0,0,0,0,0,73.312161500000002]
[null,{"$f":"+$B$18","v":"2019-02-01"},44.146535714285719,90.707686142857142,0.18137142857142857,0.61042857142857143,21.69107142857143,5.7317142857142862,0,163.06880757142858,null,{"$f":"+$B$18","v":"2019-02-01"},74.396428571428586,273.94071428571431,0,0,55.260714285714286,68.868928571428569,0,472.46678571428578,null,{"$f":"+$B$18","v":"2019-02-01"},29.516785714285714,43.759061500000001,0,0,0,0,0,73.275847214285719]
[null,{"$f":"+$B$19","v":"2019-03-01"},41.492925806451623,81.669052387096784,0,0,19.284193548387094,3.9229354838709671,0,146.36910722580646,null,{"$f":"+$B$19","v":"2019-03-01"},66.45,262.54870967741937,0,0,55.261290322580642,65.793548387096763,0,450.05354838709673,null,{"$f":"+$B$19","v":"2019-03-01"},29.517741935483869,43.759061500000001,0,0,0,0,0,73.27680343548387]
[null,{"$f":"+$B$20","v":"2019-04-01"},36.465413333333338,68.839611500000004,9.0683333333333324E-2,0.14698333333333335,14.664666666666667,2.5320333333333331,0,122.7393915,null,{"$f":"+$B$20","v":"2019-04-01"},66.451000000000008,257.79899999999998,0,0,55.26,8.0873333333333335,0,387.59733333333332,null,{"$f":"+$B$20","v":"2019-04-01"},29.517666666666667,43.759061500000001,0,0,0,0,0,73.276728166666672]
[null,{"$f":"+$B$21","v":"2019-05-01"},29.517741935483869,45.57415827419355,0,0,0.12094516129032258,0,0,75.212845370967742,null,{"$f":"+$B$21","v":"2019-05-01"},29.517741935483869,45.129513112903226,0,0,0,0,0,74.647255048387095,null,{"$f":"+$B$21","v":"2019-05-01"},29.517741935483869,43.759061500000001,0,0,0,0,0,73.27680343548387]
[null,{"$f":"+$B$22","v":"2019-06-01"},29.517666666666667,44.406328166666668,0,0,0,0,0,73.923994833333339,null,{"$f":"+$B$22","v":"2019-06-01"},29.517666666666667,43.779632833333338,0,0,0,0,0,73.297299500000008,null,{"$f":"+$B$22","v":"2019-06-01"},29.517666666666667,43.779632833333338,0,0,0,0,0,73.297299500000008]
[null,{"$f":"+$B$23","v":"2019-07-01"},29.879838709677419,46.064384080645169,0,0,0.70645161290322578,0,0,76.650674403225807,null,{"$f":"+$B$23","v":"2019-07-01"},29.517741935483869,43.759061500000001,0,0,0,0,0,73.27680343548387,null,{"$f":"+$B$23","v":"2019-07-01"},29.517741935483869,43.759061500000001,0,0,0,0,0,73.27680343548387]
[null,{"$f":"+$B$24","v":"2019-08-01"},29.517741935483869,45.323222790322589,0,0,0.40448387096774191,0,0,75.245448596774196,null,{"$f":"+$B$24","v":"2019-08-01"},29.517741935483869,43.84419375806452,0,0,0,0,0,73.361935693548389,null,{"$f":"+$B$24","v":"2019-08-01"},29.517741935483869,43.84419375806452,0,0,0,0,0,73.361935693548389]
[null,{"$f":"+$B$25","v":"2019-09-01"},29.809343333333334,46.401594833333334,0,0,0.54176666666666662,0,0,76.752704833333325,null,{"$f":"+$B$25","v":"2019-09-01"},29.517666666666667,70.068728166666673,0,0,0,0,0,99.586394833333344,null,{"$f":"+$B$25","v":"2019-09-01"},29.517666666666667,43.759061500000001,0,0,0,0,0,73.276728166666672]
[null,{"$f":"+$B$26","v":"2019-10-01"},30.236419354838709,47.945835693548389,0,0,2.1670645161290323,0,0,80.349319564516136,null,{"$f":"+$B$26","v":"2019-10-01"},29.517741935483869,112.94293246774193,0,0,0,0,0,142.4606744032258,null,{"$f":"+$B$26","v":"2019-10-01"},29.517741935483869,43.883558274193547,0,0,0,0,0,73.401300209677416]
[null,{"$f":"+$B$27","v":"2019-11-01"},31.336833333333335,50.826061500000002,0,0,3.6653333333333333,0,0,85.828228166666676,null,{"$f":"+$B$27","v":"2019-11-01"},61.044000000000011,112.94239483333334,0,0,55.26,0,0,229.24639483333334,null,{"$f":"+$B$27","v":"2019-11-01"},29.517666666666667,43.840251500000008,0,0,0,0,0,73.357918166666678]
[null,{"$f":"+$B$28","v":"2019-12-01"},31.074548387096772,50.265190532258067,0,0,3.6267741935483873,0,0,84.966513112903229,null,{"$f":"+$B$28","v":"2019-12-01"},37.786129032258067,112.94293246774193,0,0,55.261290322580642,0,0,205.99035182258064,null,{"$f":"+$B$28","v":"2019-12-01"},29.517741935483869,43.940693758064519,0,0,0,0,0,73.458435693548381]
[null,{"$f":"+$B$29","v":"2020-01-01"},32.144174193548388,63.505119354838712,0,0,5.2338709677419351,1.1588709677419353,0,102.04203548387098,null,{"$f":"+$B$29","v":"2020-01-01"},66.45,149.55518051630179,0,0,55.261290322580642,0,0,271.26647083888241,null,{"$f":"+$B$29","v":"2020-01-01"},29.517741935483869,54.264167741935481,0,0,0,0,0,83.78190967741935]
[null,{"$f":"+$B$30","v":"2020-02-01"},34.343158620689657,69.977031034482764,8.755862068965517E-2,0.37617241379310346,10.271724137931034,1.4194137931034483,0,116.47505862068964,null,{"$f":"+$B$30","v":"2020-02-01"},64.157586206896539,249.4989655172414,0,0,53.355172413793099,0,0,367.01172413793108,null,{"$f":"+$B$30","v":"2020-02-01"},28.49896551724138,54.178865517241377,0,0,0,0,0,82.67783103448275]
[null,{"$f":"+$B$31","v":"2020-03-01"},35.360990322580648,70.637548387096771,0.11413870967741936,0.38958064516129032,9.5409677419354839,1.9644838709677419,0,118.00770967741936,null,{"$f":"+$B$31","v":"2020-03-01"},66.45,237.8100192259792,0,0,55.261290322580642,0,0,359.52130954855983,null,{"$f":"+$B$31","v":"2020-03-01"},29.517741935483869,54.114590322580646,0,0,0,0,0,83.632332258064508]
[null,{"$f":"+$B$32","v":"2020-04-01"},33.294163333333337,67.785683333333338,0.18136999999999998,0.3896,6.181,1.3503666666666667,0,109.18218333333334,null,{"$f":"+$B$32","v":"2020-04-01"},66.451000000000008,183.973567613076,0,0,55.26,0,0,305.68456761307601,null,{"$f":"+$B$32","v":"2020-04-01"},29.517666666666667,54.117139999999999,0,0,0,0,0,83.634806666666663]
[null,{"$f":"+$B$33","v":"2020-05-01"},29.957754838709675,56.166625806451613,9.0683870967741928E-2,0.38958064516129032,0.54177419354838718,0.67519354838709678,0,87.821612903225812,null,{"$f":"+$B$33","v":"2020-05-01"},29.517741935483869,54.193316129032254,0,0,0,0,0,83.711058064516124,null,{"$f":"+$B$33","v":"2020-05-01"},29.517741935483869,54.193316129032254,0,0,0,0,0,83.711058064516124]
[null,{"$f":"+$B$34","v":"2020-06-01"},29.517666666666667,54.803333333333335,0,0,0,0,0,84.320999999999998,null,{"$f":"+$B$34","v":"2020-06-01"},29.517666666666667,54.273276666666668,0,0,0,0,0,83.790943333333331,null,{"$f":"+$B$34","v":"2020-06-01"},29.517666666666667,54.273276666666668,0,0,0,0,0,83.790943333333331]
[null,{"$f":"+$B$35","v":"2020-07-01"},29.517741935483869,54.265945161290318,0,0,0,0,0,83.783687096774187,null,{"$f":"+$B$35","v":"2020-07-01"},29.517741935483869,54.265945161290318,0,0,0,0,0,83.783687096774187,null,{"$f":"+$B$35","v":"2020-07-01"},29.517741935483869,54.265945161290318,0,0,0,0,0,83.783687096774187]
[null,{"$f":"+$B$36","v":"2020-08-01"},29.984870967741934,57.18135483870968,0,0,1.4905806451612902,0,0,88.656806451612908,null,{"$f":"+$B$36","v":"2020-08-01"},29.517741935483869,69.408387096774192,0,0,0,0,0,98.926129032258061,null,{"$f":"+$B$36","v":"2020-08-01"},29.517741935483869,54.261880645161291,0,0,0,0,0,83.779622580645167]
[null,{"$f":"+$B$37","v":"2020-09-01"},31.328066666666668,58.640666666666668,0,0,3.0943666666666667,0.48714333333333332,0,93.550243333333341,null,{"$f":"+$B$37","v":"2020-09-01"},60.910000000000011,123.18333333333334,0,0,52.87,0,0,236.96333333333337,null,{"$f":"+$B$37","v":"2020-09-01"},29.517666666666667,54.253070000000001,0,0,0,0,0,83.770736666666664]
[null,{"$f":"+$B$38","v":"2020-10-01"},30.24190322580645,58.308064516129036,0,0,1.0835483870967744,0,0,89.633516129032259,null,{"$f":"+$B$38","v":"2020-10-01"},29.517741935483869,118.29032258064518,0,0,0,0,0,147.80806451612904,null,{"$f":"+$B$38","v":"2020-10-01"},29.517741935483869,54.406870967741938,0,0,0,0,0,83.924612903225807]
[null,{"$f":"+$B$39","v":"2020-11-01"},31.332333333333334,60.771666666666675,0,0,3.1463999999999999,0.3302133333333333,0,95.580613333333346,null,{"$f":"+$B$39","v":"2020-11-01"},60.975333333333346,123.18333333333334,0,0,53.666666666666664,0,0,237.82533333333333,null,{"$f":"+$B$39","v":"2020-11-01"},29.517666666666667,54.29925333333334,0,0,0,0,0,83.81692000000001]
[null,{"$f":"+$B$40","v":"2020-12-01"},30.969064516129031,66.323225806451617,0,0,3.2816129032258066,0,0,100.57390322580645,null,{"$f":"+$B$40","v":"2020-12-01"},29.777596774193547,123.18387096774192,0,0,55.261290322580642,0,0,208.22275806451611,null,{"$f":"+$B$40","v":"2020-12-01"},29.517741935483869,54.430516129032256,0,0,0,0,0,83.948258064516125]
[null,{"$f":"+$B$41","v":"2021-01-01"},34.332258064516132,77.949354838709681,0,0,8.3664516129032265,0.73534193548387095,0,121.38340645161291,null,{"$f":"+$B$41","v":"2021-01-01"},66.45,217.03595504202394,0,0,55.261290322580642,0,0,338.74724536460457,null,{"$f":"+$B$41","v":"2021-01-01"},29.517741935483869,65.446516129032261,0,0,0,0,0,94.96425806451613]
[null,{"$f":"+$B$42","v":"2021-02-01"},38.645532142857142,88.781649642857133,0.27205714285714289,0.38960714285714287,14.734285714285715,5.6869642857142857,0,148.51009607142853,null,{"$f":"+$B$42","v":"2021-02-01"},66.448928571428581,262.54607142857139,0,0,55.260714285714286,68.868928571428569,0,453.12464285714287,null,{"$f":"+$B$42","v":"2021-02-01"},29.516785714285714,65.274885714285716,0,0,0,0,0,94.791671428571433]
[null,{"$f":"+$B$43","v":"2021-03-01"},39.604483870967748,93.147235483870958,0.45341935483870965,0.56148387096774188,16.083870967741937,5.0948709677419357,0,154.94536451612905,null,{"$f":"+$B$43","v":"2021-03-01"},74.376129032258063,300.26032258064515,7.862580645161291,0,55.261290322580642,68.867741935483878,0,506.62806451612903,null,{"$f":"+$B$43","v":"2021-03-01"},29.517741935483869,65.351258064516131,0,0,0,0,0,94.869]
[null,{"$f":"+$B$44","v":"2021-04-01"},35.991080000000004,85.192020000000014,0.20836333333333332,0.3896,12.936666666666667,2.1919666666666666,0,136.90969666666669,null,{"$f":"+$B$44","v":"2021-04-01"},66.451000000000008,256.17433333333332,0,0,55.26,0,0,377.88533333333334,null,{"$f":"+$B$44","v":"2021-04-01"},29.517666666666667,65.274586666666664,0,0,0,0,0,94.792253333333335]
[null,{"$f":"+$B$45","v":"2021-05-01"},30.571677419354838,70.755806451612898,0,0,2.1305161290322583,0,0,103.458,null,{"$f":"+$B$45","v":"2021-05-01"},29.517741935483869,134.18387096774194,0,0,6.0861290322580643,0,0,169.78774193548387,null,{"$f":"+$B$45","v":"2021-05-01"},29.517741935483869,65.34593548387096,0,0,0,0,0,94.863677419354829]
[null,{"$f":"+$B$46","v":"2021-06-01"},29.5762,67.496033333333344,0,0,0.99016666666666664,0,0,98.062400000000011,null,{"$f":"+$B$46","v":"2021-06-01"},29.517666666666667,65.443333333333342,0,0,0,0,0,94.961000000000013,null,{"$f":"+$B$46","v":"2021-06-01"},29.517666666666667,65.443333333333342,0,0,0,0,0,94.961000000000013]
[null,{"$f":"+$B$47","v":"2021-07-01"},31.32816129032258,69.564193548387095,0,0,2.7088387096774196,0,0,103.6011935483871,null,{"$f":"+$B$47","v":"2021-07-01"},60.910000000000004,134.18387096774194,0,0,46.970967741935482,0,0,242.06483870967742,null,{"$f":"+$B$47","v":"2021-07-01"},29.517741935483869,65.404838709677421,0,0,0,0,0,94.92258064516129]
[null,{"$f":"+$B$48","v":"2021-08-01"},30.52622580645161,71.990645161290331,0,0,2.431806451612903,0,0,104.94867741935484,null,{"$f":"+$B$48","v":"2021-08-01"},29.517741935483869,134.18387096774194,0,0,32.700000000000003,0,0,196.40161290322578,null,{"$f":"+$B$48","v":"2021-08-01"},29.517741935483869,65.379193548387093,0,0,0,0,0,94.896935483870962]
[null,{"$f":"+$B$49","v":"2021-09-01"},30.412566666666667,71.352333333333348,0,0,2.6884000000000001,0,0,104.45330000000001,null,{"$f":"+$B$49","v":"2021-09-01"},29.517666666666667,134.18333333333334,0,0,37.283333333333331,0,0,200.98433333333332,null,{"$f":"+$B$49","v":"2021-09-01"},29.517666666666667,65.386899999999997,0,0,0,0,0,94.904566666666668]
[null,{"$f":"+$B$50","v":"2021-10-01"},30.150354838709674,71.652580645161294,0,0,2.5115806451612901,0,0,104.31451612903226,null,{"$f":"+$B$50","v":"2021-10-01"},29.517741935483869,134.18387096774194,0,0,30.01258064516129,0,0,193.71419354838707,null,{"$f":"+$B$50","v":"2021-10-01"},29.517741935483869,65.601419354838711,0,0,0,0,0,95.11916129032258]
[null,{"$f":"+$B$51","v":"2021-11-01"},32.418833333333339,74.479000000000013,0,0,5.3356666666666666,0,0,112.23350000000002,null,{"$f":"+$B$51","v":"2021-11-01"},66.451000000000008,165.00466471944333,0,0,55.26,0,0,286.71566471944334,null,{"$f":"+$B$51","v":"2021-11-01"},29.517666666666667,65.494133333333338,0,0,0,0,0,95.011800000000008]
[null,{"$f":"+$B$52","v":"2021-12-01"},32.83806451612903,76.647096774193557,0,0,5.6490322580645165,0.67519354838709678,0,115.80938709677422,null,{"$f":"+$B$52","v":"2021-12-01"},66.45,200.00692278395945,0,0,55.261290322580642,0,0,321.71821310654008,null,{"$f":"+$B$52","v":"2021-12-01"},29.517741935483869,65.741838709677424,0,0,0,0,0,95.259580645161293]
[null,{"$f":"+$B$53","v":"2022-01-01"},35.852454838709676,91.486580645161297,0.27205483870967739,0.38958064516129032,10.82516129032258,2.0255483870967743,0,140.85138064516127,null,{"$f":"+$B$53","v":"2022-01-01"},66.45,245.7577500050125,0,0,55.261290322580642,0,0,367.46904032759312,null,{"$f":"+$B$53","v":"2022-01-01"},29.517741935483869,73,0,0,0,0,0,102.51774193548387]
[null,{"$f":"+$B$54","v":"2022-02-01"},36.635532142857144,97.74290357142857,0.27205714285714289,0.38960714285714287,12.913571428571428,3.1855357142857139,0,151.13920714285715,null,{"$f":"+$B$54","v":"2022-02-01"},66.448928571428581,262.54607142857139,0,0,55.260714285714286,42.901785714285715,0,427.15750000000003,null,{"$f":"+$B$54","v":"2022-02-01"},29.516785714285714,73,0,0,0,0,0,102.51678571428572]
[null,{"$f":"+$B$55","v":"2022-03-01"},39.886499999999998,102.37554838709677,0.36274193548387096,0.77919354838709676,17.531612903225806,3.0096774193548388,0,163.94527419354839,null,{"$f":"+$B$55","v":"2022-03-01"},66.45,258.75129032258064,0,0,55.261290322580642,26.605161290322581,0,407.06774193548387,null,{"$f":"+$B$55","v":"2022-03-01"},29.517741935483869,73,0,0,0,0,0,102.51774193548387]
[null,{"$f":"+$B$56","v":"2022-04-01"},32.811199999999999,84.725333333333339,0,0,6.3553333333333333,0,0,123.89186666666667,null,{"$f":"+$B$56","v":"2022-04-01"},66.451000000000008,166.31000806952864,0,0,55.26,0,0,288.02100806952865,null,{"$f":"+$B$56","v":"2022-04-01"},29.517666666666667,73,0,0,0,0,0,102.51766666666667]
[null,{"$f":"+$B$57","v":"2022-05-01"},29.517741935483869,73.786064516129031,0,0,0.22556129032258065,0,0,103.52936774193547,null,{"$f":"+$B$57","v":"2022-05-01"},29.517741935483869,73,0,0,0,0,0,102.51774193548387,null,{"$f":"+$B$57","v":"2022-05-01"},29.517741935483869,73,0,0,0,0,0,102.51774193548387]
[null,{"$f":"+$B$58","v":"2022-06-01"},29.517666666666667,73.06495000000001,0,0,0,0,0,102.58261666666668,null,{"$f":"+$B$58","v":"2022-06-01"},29.517666666666667,73.187133333333335,0,0,0,0,0,102.70480000000001,null,{"$f":"+$B$58","v":"2022-06-01"},29.517666666666667,73,0,0,0,0,0,102.51766666666667]
[null,{"$f":"+$B$59","v":"2022-07-01"},29.879838709677419,73.694999999999993,0,0,0.54177419354838718,0,0,104.1166129032258,null,{"$f":"+$B$59","v":"2022-07-01"},29.517741935483869,73.082819354838705,0,0,0,0,0,102.60056129032257,null,{"$f":"+$B$59","v":"2022-07-01"},29.517741935483869,73,0,0,0,0,0,102.51774193548387]
[null,{"$f":"+$B$60","v":"2022-08-01"},30.24190322580645,75.437483870967753,0,0,1.3093870967741936,0,0,106.98877419354839,null,{"$f":"+$B$60","v":"2022-08-01"},29.517741935483869,73.150525806451611,0,0,0,0,0,102.66826774193548,null,{"$f":"+$B$60","v":"2022-08-01"},29.517741935483869,73,0,0,0,0,0,102.51774193548387]
[null,{"$f":"+$B$61","v":"2022-09-01"},31.256766666666667,79.830666666666673,0,0,3.7106666666666666,0,0,114.79810000000001,null,{"$f":"+$B$61","v":"2022-09-01"},54.729333333333344,142.18333333333334,0,0,54.980000000000004,0,0,251.89266666666668,null,{"$f":"+$B$61","v":"2022-09-01"},29.517666666666667,73,0,0,0,0,0,102.51766666666667]
[null,{"$f":"+$B$62","v":"2022-10-01"},29.933451612903223,76.283225806451611,0,0,1.0835483870967744,0,0,107.30022580645161,null,{"$f":"+$B$62","v":"2022-10-01"},29.517741935483869,104.8783870967742,0,0,0,0,0,134.39612903225807,null,{"$f":"+$B$62","v":"2022-10-01"},29.517741935483869,73.237148387096767,0,0,0,0,0,102.75489032258064]
[null,{"$f":"+$B$63","v":"2022-11-01"},29.917933333333334,78.009333333333331,0,0,1.7464333333333333,0.67518,0,110.34887999999999,null,{"$f":"+$B$63","v":"2022-11-01"},29.517666666666667,142.18333333333334,0,0,0,0,0,171.70099999999999,null,{"$f":"+$B$63","v":"2022-11-01"},29.517666666666667,73.128193333333328,0,0,0,0,0,102.64586]
[null,{"$f":"+$B$64","v":"2022-12-01"},31.958129032258061,79.639032258064503,0,0,4.4687096774193549,0.67519354838709678,0,116.74106451612901,null,{"$f":"+$B$64","v":"2022-12-01"},65.304838709677426,142.18387096774194,0,0,55.261290322580642,0,0,262.75,null,{"$f":"+$B$64","v":"2022-12-01"},29.517741935483869,73.495709677419356,0,0,0,0,0,103.01345161290322]
[null,{"$f":"+$B$65","v":"2023-01-01"},31.404774193548384,90.041723806451614,0,0,3.2506451612903224,1.1836451612903225,0,125.88078832258064,null,{"$f":"+$B$65","v":"2023-01-01"},53.483225806451621,153.82236896774191,0,0,55.261290322580642,0,0,262.56688509677417,null,{"$f":"+$B$65","v":"2023-01-01"},29.517741935483869,84.638497999999998,0,0,0,0,0,114.15623993548387]
[null,{"$f":"+$B$66","v":"2023-02-01"},32.176164285714286,91.706018357142852,9.0685714285714286E-2,0,4.8464285714285706,1.7786071428571428,0,130.59790407142856,null,{"$f":"+$B$66","v":"2023-02-01"},66.448928571428581,234.91757824865888,0,0,55.260714285714286,0,0,356.62722110580177,null,{"$f":"+$B$66","v":"2023-02-01"},29.516785714285714,84.638497999999998,0,0,0,0,0,114.15528371428572]
[null,{"$f":"+$B$67","v":"2023-03-01"},33.822432258064516,97.146562516129038,4.064838709677419E-4,0,7.6654838709677415,1.8821935483870966,0,140.51707867741936,null,{"$f":"+$B$67","v":"2023-03-01"},66.45,258.13252645161288,0,0,55.261290322580642,13.321612903225807,0,393.1654296774193,null,{"$f":"+$B$67","v":"2023-03-01"},29.517741935483869,84.640070580645158,0,0,0,0,0,114.15781251612903]
[null,{"$f":"+$B$68","v":"2023-04-01"},32.052233333333334,92.872164666666663,0,0,4.5093333333333332,0.67518,0,130.10891133333334,null,{"$f":"+$B$68","v":"2023-04-01"},66.451000000000008,153.82183133333334,0,0,55.26,0,0,275.53283133333332,null,{"$f":"+$B$68","v":"2023-04-01"},29.517666666666667,84.638497999999998,0,0,0,0,0,114.15616466666667]
[null,{"$f":"+$B$69","v":"2023-05-01"},29.836474193548383,85.316756064516142,0,0,0.54177419354838718,0,0,115.69500445161292,null,{"$f":"+$B$69","v":"2023-05-01"},29.517741935483869,84.638497999999998,0,0,0,0,0,114.15623993548387,null,{"$f":"+$B$69","v":"2023-05-01"},29.517741935483869,84.638497999999998,0,0,0,0,0,114.15623993548387]
[null,{"$f":"+$B$70","v":"2023-06-01"},29.517666666666667,85.389098000000004,0,0,0.41043333333333337,0,0,115.317198,null,{"$f":"+$B$70","v":"2023-06-01"},29.517666666666667,84.743774666666667,0,0,0,0,0,114.26144133333334,null,{"$f":"+$B$70","v":"2023-06-01"},29.517666666666667,84.638497999999998,0,0,0,0,0,114.15616466666667]
[null,{"$f":"+$B$71","v":"2023-07-01"},30.319819354838707,86.248130258064521,9.0683870967741928E-2,0,1.0835483870967744,0.67519354838709678,0,118.41737541935483,null,{"$f":"+$B$71","v":"2023-07-01"},29.517741935483869,84.638497999999998,0,0,0,0,0,114.15623993548387,null,{"$f":"+$B$71","v":"2023-07-01"},29.517741935483869,84.638497999999998,0,0,0,0,0,114.15623993548387]
[null,{"$f":"+$B$72","v":"2023-08-01"},29.879838709677419,85.316756064516142,0,0,0.54177419354838718,0,0,115.73836896774195,null,{"$f":"+$B$72","v":"2023-08-01"},29.517741935483869,84.638497999999998,0,0,0,0,0,114.15623993548387,null,{"$f":"+$B$72","v":"2023-08-01"},29.517741935483869,84.638497999999998,0,0,0,0,0,114.15623993548387]
[null,{"$f":"+$B$73","v":"2023-09-01"},29.910795,86.347397999999998,9.0683333333333324E-2,0,0.65186666666666671,0.67518,0,117.675923,null,{"$f":"+$B$73","v":"2023-09-01"},29.517666666666667,84.638497999999998,0,0,0,0,0,114.15616466666667,null,{"$f":"+$B$73","v":"2023-09-01"},29.517666666666667,84.638497999999998,0,0,0,0,0,114.15616466666667]
[null,{"$f":"+$B$74","v":"2023-10-01"},29.657706451612903,85.365820580645163,0,0,0.54177419354838718,0,0,115.56530122580646,null,{"$f":"+$B$74","v":"2023-10-01"},29.517741935483869,84.638497999999998,0,0,0,0,0,114.15623993548387,null,{"$f":"+$B$74","v":"2023-10-01"},29.517741935483869,84.638497999999998,0,0,0,0,0,114.15623993548387]
[null,{"$f":"+$B$75","v":"2023-11-01"},29.879733333333334,86.041898000000003,0,0,0.54176666666666662,0,0,116.463398,null,{"$f":"+$B$75","v":"2023-11-01"},29.517666666666667,84.638497999999998,0,0,0,0,0,114.15616466666667,null,{"$f":"+$B$75","v":"2023-11-01"},29.517666666666667,84.638497999999998,0,0,0,0,0,114.15616466666667]
[null,{"$f":"+$B$76","v":"2023-12-01"},30.037516129032255,87.732981870967748,0,0,1.3529354838709677,0,0,119.12343348387097,null,{"$f":"+$B$76","v":"2023-12-01"},29.517741935483869,116.94172380645162,0,0,0,0,0,146.4594657419355,null,{"$f":"+$B$76","v":"2023-12-01"},29.517741935483869,84.638497999999998,0,0,0,0,0,114.15623993548387]
[null,{"$f":"+$B$77","v":"2024-01-01"},30.319819354838707,99.813177419354844,9.0683870967741928E-2,0,1.4156451612903225,0.67519354838709678,0,132.31451935483869,null,{"$f":"+$B$77","v":"2024-01-01"},29.517741935483869,154.20322580645163,0,0,0,0,0,183.72096774193551,null,{"$f":"+$B$77","v":"2024-01-01"},29.517741935483869,94.5,0,0,0,0,0,124.01774193548387]
[null,{"$f":"+$B$78","v":"2024-02-01"},31.994827586206899,106.01275862068967,0,0,5.8334482758620689,1.5186206896551724,0,145.35965517241382,null,{"$f":"+$B$78","v":"2024-02-01"},64.157586206896539,197.45657152660459,0,0,53.355172413793099,0,0,314.96933014729427,null,{"$f":"+$B$78","v":"2024-02-01"},28.49896551724138,94.5,0,0,0,0,0,122.99896551724137]
[null,{"$f":"+$B$79","v":"2024-03-01"},34.39503548387097,112.99602580645163,0.27205483870967739,0.77919354838709676,9.6100000000000012,3.1984193548387099,0,161.25072903225808,null,{"$f":"+$B$79","v":"2024-03-01"},66.45,263.26168547711723,0,0,55.261290322580642,44.285161290322577,0,429.25813709002045,null,{"$f":"+$B$79","v":"2024-03-01"},29.517741935483869,94.500000000000014,0,0,0,0,0,124.01774193548388]
[null,{"$f":"+$B$80","v":"2024-04-01"},32.05545,106.15028666666666,9.0683333333333324E-2,0.3896,4.6226666666666665,0.86653333333333338,0,144.17522000000002,null,{"$f":"+$B$80","v":"2024-04-01"},66.451000000000008,184.74036463005285,0,0,55.26,0,0,306.45136463005286,null,{"$f":"+$B$80","v":"2024-04-01"},29.517666666666667,94.5,0,0,0,0,0,124.01766666666667]
[null,{"$f":"+$B$81","v":"2024-05-01"},29.517741935483869,94.924870967741953,0,0,0,0,0,124.44261290322582,null,{"$f":"+$B$81","v":"2024-05-01"},29.517741935483869,94.5,0,0,0,0,0,124.01774193548387,null,{"$f":"+$B$81","v":"2024-05-01"},29.517741935483869,94.5,0,0,0,0,0,124.01774193548387]
[null,{"$f":"+$B$82","v":"2024-06-01"},29.517666666666667,94.523508000000007,0,0,0,0,0,124.04117466666668,null,{"$f":"+$B$82","v":"2024-06-01"},29.517666666666667,94.5,0,0,0,0,0,124.01766666666667,null,{"$f":"+$B$82","v":"2024-06-01"},29.517666666666667,94.5,0,0,0,0,0,124.01766666666667]
[null,{"$f":"+$B$83","v":"2024-07-01"},29.517741935483869,95.038451612903231,0,0,0,0,0,124.5561935483871,null,{"$f":"+$B$83","v":"2024-07-01"},29.517741935483869,94.5,0,0,0,0,0,124.01774193548387,null,{"$f":"+$B$83","v":"2024-07-01"},29.517741935483869,94.5,0,0,0,0,0,124.01774193548387]
[null,{"$f":"+$B$84","v":"2024-08-01"},29.517741935483869,96.840806451612906,0,0,0.52532258064516124,0,0,126.88387096774194,null,{"$f":"+$B$84","v":"2024-08-01"},29.517741935483869,94.5,0,0,0,0,0,124.01774193548387,null,{"$f":"+$B$84","v":"2024-08-01"},29.517741935483869,94.5,0,0,0,0,0,124.01774193548387]
[null,{"$f":"+$B$85","v":"2024-09-01"},30.241833333333332,97.460700000000003,0,0,1.3668666666666667,0.48971999999999993,0,129.55912000000001,null,{"$f":"+$B$85","v":"2024-09-01"},29.517666666666667,127.16266666666667,0,0,0,0,0,156.68033333333332,null,{"$f":"+$B$85","v":"2024-09-01"},29.517666666666667,94.500000000000014,0,0,0,0,0,124.01766666666668]
[null,{"$f":"+$B$86","v":"2024-10-01"},29.674058064516128,95.178258064516143,0,0,0.54177419354838718,0,0,125.39409032258067,null,{"$f":"+$B$86","v":"2024-10-01"},29.517741935483869,94.5,0,0,0,0,0,124.01774193548387,null,{"$f":"+$B$86","v":"2024-10-01"},29.517741935483869,94.5,0,0,0,0,0,124.01774193548387]
[null,{"$f":"+$B$87","v":"2024-11-01"},29.879733333333334,95.857766666666663,0,0,0.54700000000000004,0,0,126.28449999999999,null,{"$f":"+$B$87","v":"2024-11-01"},29.517666666666667,94.5,0,0,0,0,0,124.01766666666667,null,{"$f":"+$B$87","v":"2024-11-01"},29.517666666666667,94.5,0,0,0,0,0,124.01766666666667]
[null,{"$f":"+$B$88","v":"2024-12-01"},30.319819354838707,97.212809677419358,9.0683870967741928E-2,0.3780645161290323,1.0835483870967744,0.67519354838709678,0,129.76011935483871,null,{"$f":"+$B$88","v":"2024-12-01"},29.517741935483869,95.322806451612905,0,0,0,0,0,124.84054838709677,null,{"$f":"+$B$88","v":"2024-12-01"},29.517741935483869,94.500000000000014,0,0,0,0,0,124.01774193548388]
[null,{"$f":"+$B$89","v":"2025-01-01"},31.768141935483868,111.09564612903225,9.0683870967741928E-2,0,3.4296774193548383,0.67519354838709678,0,147.0593429032258,null,{"$f":"+$B$89","v":"2025-01-01"},66.45,173.7838709677419,0,0,55.261290322580642,0,0,295.49516129032253,null,{"$f":"+$B$89","v":"2025-01-01"},29.517741935483869,104.6,0,0,0,0,0,134.11774193548388]
[null,{"$f":"+$B$90","v":"2025-02-01"},32.491342857142861,112.60883214285714,9.0685714285714286E-2,0,4.3342857142857145,0.71108214285714277,0,150.2362285714286,null,{"$f":"+$B$90","v":"2025-02-01"},66.448928571428581,173.78214285714284,0,0,55.260714285714286,0,0,295.4917857142857,null,{"$f":"+$B$90","v":"2025-02-01"},29.516785714285714,104.6,0,0,0,0,0,134.1167857142857]
[null,{"$f":"+$B$91","v":"2025-03-01"},34.26228064516129,125.2703129032258,0.18137096774193548,0.77919354838709676,9.8003225806451617,2.0351935483870971,0,172.32867419354841,null,{"$f":"+$B$91","v":"2025-03-01"},66.45,236.66541879140107,0,0,55.261290322580642,0,0,358.37670911398169,null,{"$f":"+$B$91","v":"2025-03-01"},29.517741935483869,104.6,0,0,0,0,0,134.11774193548388]
[null,{"$f":"+$B$92","v":"2025-04-01"},31.917200000000001,111.91533333333334,0,0,3.9643333333333337,0,0,147.79686666666669,null,{"$f":"+$B$92","v":"2025-04-01"},66.314333333333337,173.78333333333333,0,0,55.26,0,0,295.35766666666666,null,{"$f":"+$B$92","v":"2025-04-01"},29.517666666666667,104.6,0,0,0,0,0,134.11766666666665]
[null,{"$f":"+$B$93","v":"2025-05-01"},29.879838709677419,105.49187096774193,0,0,0.54177419354838718,0,0,135.91348387096772,null,{"$f":"+$B$93","v":"2025-05-01"},29.517741935483869,104.6,0,0,0,0,0,134.11774193548388,null,{"$f":"+$B$93","v":"2025-05-01"},29.517741935483869,104.6,0,0,0,0,0,134.11774193548388]
[null,{"$f":"+$B$94","v":"2025-06-01"},29.517666666666667,104.90935333333333,0,0,0,0,0,134.42702,null,{"$f":"+$B$94","v":"2025-06-01"},29.517666666666667,104.6,0,0,0,0,0,134.11766666666665,null,{"$f":"+$B$94","v":"2025-06-01"},29.517666666666667,104.6,0,0,0,0,0,134.11766666666665]
[null,{"$f":"+$B$95","v":"2025-07-01"},29.879838709677419,105.27825806451612,0,0,0.54177419354838718,1.079741935483871E-2,0,135.71066838709677,null,{"$f":"+$B$95","v":"2025-07-01"},29.517741935483869,104.6,0,0,0,0,0,134.11774193548388,null,{"$f":"+$B$95","v":"2025-07-01"},29.517741935483869,104.6,0,0,0,0,0,134.11774193548388]
[null,{"$f":"+$B$96","v":"2025-08-01"},29.738464516129032,105.27825806451612,0,0,0,0,0,135.01672258064517,null,{"$f":"+$B$96","v":"2025-08-01"},29.517741935483869,104.6,0,0,0,0,0,134.11774193548388,null,{"$f":"+$B$96","v":"2025-08-01"},29.517741935483869,104.6,0,0,0,0,0,134.11774193548388]
[null,{"$f":"+$B$97","v":"2025-09-01"},31.873333333333335,110.086,8.014333333333333E-2,0,2.0263,0.67518,0,144.74095666666668,null,{"$f":"+$B$97","v":"2025-09-01"},59.885000000000012,173.78333333333333,0,0,0,0,0,233.66833333333335,null,{"$f":"+$B$97","v":"2025-09-01"},29.517666666666667,104.6,0,0,0,0,0,134.11766666666665]
[null,{"$f":"+$B$98","v":"2025-10-01"},29.879838709677419,106.18209677419354,0,0,0.54177419354838718,0,0,136.60370967741935,null,{"$f":"+$B$98","v":"2025-10-01"},29.517741935483869,104.6,0,0,0,0,0,134.11774193548388,null,{"$f":"+$B$98","v":"2025-10-01"},29.517741935483869,104.6,0,0,0,0,0,134.11774193548388]
[null,{"$f":"+$B$99","v":"2025-11-01"},30.560466666666667,106.63476666666666,0,0,0.88916666666666666,0,0,138.08439999999999,null,{"$f":"+$B$99","v":"2025-11-01"},29.517666666666667,104.6,0,0,0,0,0,134.11766666666665,null,{"$f":"+$B$99","v":"2025-11-01"},29.517666666666667,104.6,0,0,0,0,0,134.11766666666665]
[null,{"$f":"+$B$100","v":"2025-12-01"},31.066258064516127,109.29064516129031,0,0,1.372741935483871,0,0,141.72964516129031,null,{"$f":"+$B$100","v":"2025-12-01"},47.655806451612911,170.85483870967744,0,0,0,0,0,218.51064516129034,null,{"$f":"+$B$100","v":"2025-12-01"},29.517741935483869,104.6,0,0,0,0,0,134.11774193548388]
[null,{"$f":"+$B$101","v":"2026-01-01"},32.615916129032257,123.3050129032258,0.36274193548387096,0.38958064516129032,4.3341935483870975,1.1093870967741934,0,162.11683225806453,null,{"$f":"+$B$101","v":"2026-01-01"},66.45,243.07015037210408,0,0,55.261290322580642,0,0,364.7814406946847,null,{"$f":"+$B$101","v":"2026-01-01"},29.517741935483869,114.69999999999999,0,0,0,0,0,144.21774193548384]
[null,{"$f":"+$B$102","v":"2026-02-01"},33.179617857142858,125.79833571428571,0.36275000000000002,0.35229642857142857,4.008571428571428,2.6384999999999996,0,166.34007142857143,null,{"$f":"+$B$102","v":"2026-02-01"},66.448928571428581,237.33789230758796,0,0,55.260714285714286,0,0,359.04753516473085,null,{"$f":"+$B$102","v":"2026-02-01"},29.516785714285714,114.69999999999999,0,0,0,0,0,144.21678571428569]
[null,{"$f":"+$B$103","v":"2026-03-01"},37.241958064516133,133.76688387096772,0.36274193548387096,0.76516129032258062,7.1322580645161286,2.0107741935483872,0,181.27977741935482,null,{"$f":"+$B$103","v":"2026-03-01"},66.45,239.83466650113635,0,0,55.261290322580642,0,0,361.54595682371701,null,{"$f":"+$B$103","v":"2026-03-01"},29.517741935483869,114.69999999999999,0,0,0,0,0,144.21774193548384]
[null,{"$f":"+$B$104","v":"2026-04-01"},30.512366666666669,121.40899999999999,0,0,0.91333333333333333,0,0,152.8347,null,{"$f":"+$B$104","v":"2026-04-01"},29.517666666666667,181.92,0,0,0,0,0,211.43766666666664,null,{"$f":"+$B$104","v":"2026-04-01"},29.517666666666667,114.69999999999999,0,0,0,0,0,144.21766666666664]
[null,{"$f":"+$B$105","v":"2026-05-01"},29.517741935483869,114.69999999999999,0,0,0,0,0,144.21774193548384,null,{"$f":"+$B$105","v":"2026-05-01"},29.517741935483869,114.69999999999999,0,0,0,0,0,144.21774193548384,null,{"$f":"+$B$105","v":"2026-05-01"},29.517741935483869,114.69999999999999,0,0,0,0,0,144.21774193548384]
[null,{"$f":"+$B$106","v":"2026-06-01"},29.879733333333334,115.37826666666666,0,0,0.54176666666666662,0,0,145.79976666666664,null,{"$f":"+$B$106","v":"2026-06-01"},29.517666666666667,114.69999999999999,0,0,0,0,0,144.21766666666664,null,{"$f":"+$B$106","v":"2026-06-01"},29.517666666666667,114.69999999999999,0,0,0,0,0,144.21766666666664]
[null,{"$f":"+$B$107","v":"2026-07-01"},29.879838709677419,115.37825806451613,0,0,0.37429032258064515,0,0,145.63238709677418,null,{"$f":"+$B$107","v":"2026-07-01"},29.517741935483869,114.69999999999999,0,0,0,0,0,144.21774193548384,null,{"$f":"+$B$107","v":"2026-07-01"},29.517741935483869,114.69999999999999,0,0,0,0,0,144.21774193548384]
[null,{"$f":"+$B$108","v":"2026-08-01"},29.517741935483869,115.81467741935484,0,0,0,0,0,145.33241935483869,null,{"$f":"+$B$108","v":"2026-08-01"},29.517741935483869,114.69999999999999,0,0,0,0,0,144.21774193548384,null,{"$f":"+$B$108","v":"2026-08-01"},29.517741935483869,114.69999999999999,0,0,0,0,0,144.21774193548384]
[null,{"$f":"+$B$109","v":"2026-09-01"},30.241833333333332,116.98776666666666,0,0,0.54176666666666662,0,0,147.77136666666667,null,{"$f":"+$B$109","v":"2026-09-01"},29.517666666666667,114.69999999999999,0,0,0,0,0,144.21766666666664,null,{"$f":"+$B$109","v":"2026-09-01"},29.517666666666667,114.69999999999999,0,0,0,0,0,144.21766666666664]
[null,{"$f":"+$B$110","v":"2026-10-01"},29.517741935483869,114.69999999999999,0,0,0,0,0,144.21774193548384,null,{"$f":"+$B$110","v":"2026-10-01"},29.517741935483869,114.69999999999999,0,0,0,0,0,144.21774193548384,null,{"$f":"+$B$110","v":"2026-10-01"},29.517741935483869,114.69999999999999,0,0,0,0,0,144.21774193548384]
[null,{"$f":"+$B$111","v":"2026-11-01"},29.879733333333334,116.05649999999999,9.0683333333333324E-2,0,0.54176666666666662,0.39983666666666662,0,146.96851999999998,null,{"$f":"+$B$111","v":"2026-11-01"},29.517666666666667,114.69999999999999,0,0,0,0,0,144.21766666666664,null,{"$f":"+$B$111","v":"2026-11-01"},29.517666666666667,114.69999999999999,0,0,0,0,0,144.21766666666664]
[null,{"$f":"+$B$112","v":"2026-12-01"},29.517741935483869,115.00283870967741,0,0,0,0,0,144.52058064516126,null,{"$f":"+$B$112","v":"2026-12-01"},29.517741935483869,114.69999999999999,0,0,0,0,0,144.21774193548384,null,{"$f":"+$B$112","v":"2026-12-01"},29.517741935483869,114.69999999999999,0,0,0,0,0,144.21774193548384]
[null,{"$f":"+$B$113","v":"2027-01-01"},29.920612903225805,126.43254838709677,0,0,0,0,0,156.35316129032259,null,{"$f":"+$B$113","v":"2027-01-01"},29.517741935483869,124.79999999999998,0,0,0,0,0,154.31774193548387,null,{"$f":"+$B$113","v":"2027-01-01"},29.517741935483869,124.79999999999998,0,0,0,0,0,154.31774193548387]
[null,{"$f":"+$B$114","v":"2027-02-01"},32.189057142857145,132.20121071428571,0.36275000000000002,0.38960714285714287,3.7925,2.3044285714285713,0,171.23955357142853,null,{"$f":"+$B$114","v":"2027-02-01"},66.448928571428581,213.06808471778407,0,0,55.260714285714286,0,0,334.77772757492693,null,{"$f":"+$B$114","v":"2027-02-01"},29.516785714285714,124.79999999999998,0,0,0,0,0,154.31678571428569]
[null,{"$f":"+$B$115","v":"2027-03-01"},33.539377419354842,135.5340580645161,0.57658064516129026,0.38958064516129032,5.4177419354838703,2.2691290322580646,0,177.72646774193547,null,{"$f":"+$B$115","v":"2027-03-01"},66.45,260.88778517861357,8.1112903225806452,0,55.261290322580642,20.62709677419355,0,411.3374625979684,null,{"$f":"+$B$115","v":"2027-03-01"},29.517741935483869,124.79999999999998,0,0,0,0,0,154.31774193548387]
[null,{"$f":"+$B$116","v":"2027-04-01"},30.881033333333335,129.49466666666666,6.2653333333333325E-2,0,0.82213333333333338,1.0840599999999999E-2,0,161.27132726666667,null,{"$f":"+$B$116","v":"2027-04-01"},31.884733333333333,193.98333333333332,0,0,0,0,0,225.86806666666666,null,{"$f":"+$B$116","v":"2027-04-01"},29.517666666666667,124.79999999999998,0,0,0,0,0,154.31766666666664]
[null,{"$f":"+$B$117","v":"2027-05-01"},29.517741935483869,124.79999999999998,0,0,0,0,0,154.31774193548387,null,{"$f":"+$B$117","v":"2027-05-01"},29.517741935483869,124.79999999999998,0,0,0,0,0,154.31774193548387,null,{"$f":"+$B$117","v":"2027-05-01"},29.517741935483869,124.79999999999998,0,0,0,0,0,154.31774193548387]
[null,{"$f":"+$B$118","v":"2027-06-01"},29.517666666666667,124.79999999999998,0,0,0,0,0,154.31766666666664,null,{"$f":"+$B$118","v":"2027-06-01"},29.517666666666667,124.79999999999998,0,0,0,0,0,154.31766666666664,null,{"$f":"+$B$118","v":"2027-06-01"},29.517666666666667,124.79999999999998,0,0,0,0,0,154.31766666666664]
[null,{"$f":"+$B$119","v":"2027-07-01"},29.517741935483869,124.79999999999998,0,0,0,0,0,154.31774193548387,null,{"$f":"+$B$119","v":"2027-07-01"},29.517741935483869,124.79999999999998,0,0,0,0,0,154.31774193548387,null,{"$f":"+$B$119","v":"2027-07-01"},29.517741935483869,124.79999999999998,0,0,0,0,0,154.31774193548387]
[null,{"$f":"+$B$120","v":"2027-08-01"},29.517741935483869,124.79999999999998,0,0,0,0,0,154.31774193548387,null,{"$f":"+$B$120","v":"2027-08-01"},29.517741935483869,124.79999999999998,0,0,0,0,0,154.31774193548387,null,{"$f":"+$B$120","v":"2027-08-01"},29.517741935483869,124.79999999999998,0,0,0,0,0,154.31774193548387]
[null,{"$f":"+$B$121","v":"2027-09-01"},29.517666666666667,125.42293333333333,0,0,0,0,0,154.94059999999999,null,{"$f":"+$B$121","v":"2027-09-01"},29.517666666666667,124.79999999999998,0,0,0,0,0,154.31766666666664,null,{"$f":"+$B$121","v":"2027-09-01"},29.517666666666667,124.79999999999998,0,0,0,0,0,154.31766666666664]
[null,{"$f":"+$B$122","v":"2027-10-01"},29.517741935483869,124.79999999999998,0,0,0,0,0,154.31774193548387,null,{"$f":"+$B$122","v":"2027-10-01"},29.517741935483869,124.79999999999998,0,0,0,0,0,154.31774193548387,null,{"$f":"+$B$122","v":"2027-10-01"},29.517741935483869,124.79999999999998,0,0,0,0,0,154.31774193548387]
[null,{"$f":"+$B$123","v":"2027-11-01"},29.517666666666667,124.79999999999998,0,0,0,0,0,154.31766666666664,null,{"$f":"+$B$123","v":"2027-11-01"},29.517666666666667,124.79999999999998,0,0,0,0,0,154.31766666666664,null,{"$f":"+$B$123","v":"2027-11-01"},29.517666666666667,124.79999999999998,0,0,0,0,0,154.31766666666664]
[null,{"$f":"+$B$124","v":"2027-12-01"},29.517741935483869,124.79999999999998,0,0,0,0,0,154.31774193548387,null,{"$f":"+$B$124","v":"2027-12-01"},29.517741935483869,124.79999999999998,0,0,0,0,0,154.31774193548387,null,{"$f":"+$B$124","v":"2027-12-01"},29.517741935483869,124.79999999999998,0,0,0,0,0,154.31774193548387]
[null,{"$f":"+$B$125","v":"2028-01-01"},29.879838709677419,136.29103225806449,0,0,0.54177419354838718,0,0,166.71264516129028,null,{"$f":"+$B$125","v":"2028-01-01"},29.517741935483869,134.89999999999998,0,0,0,0,0,164.41774193548383,null,{"$f":"+$B$125","v":"2028-01-01"},29.517741935483869,134.89999999999998,0,0,0,0,0,164.41774193548383]
[null,{"$f":"+$B$126","v":"2028-02-01"},31.46684827586207,141.80663303448273,0.26267586206896554,0.37617241379310346,3.6944827586206896,1.280448275862069,0,178.88726062068963,null,{"$f":"+$B$126","v":"2028-02-01"},64.157586206896539,201.69655172413792,0,0,53.355172413793099,0,0,319.2093103448276,null,{"$f":"+$B$126","v":"2028-02-01"},28.49896551724138,134.89999999999998,0,0,0,0,0,163.39896551724135]
[null,{"$f":"+$B$127","v":"2028-03-01"},32.594229032258063,144.86119354838706,0.45341935483870965,0.1442225806451613,3.7922580645161292,2.8845483870967743,0,184.72987096774187,null,{"$f":"+$B$127","v":"2028-03-01"},66.45,262.26025869480054,7.862580645161291,0,55.261290322580642,27.320967741935487,0,419.15509740447794,null,{"$f":"+$B$127","v":"2028-03-01"},29.517741935483869,134.89999999999998,0,0,0,0,0,164.41774193548383]
[null,{"$f":"+$B$128","v":"2028-04-01"},31.588699999999999,139.45400000000001,9.0683333333333324E-2,0,2.2123333333333335,3.5293333333333329E-2,0,173.38101,null,{"$f":"+$B$128","v":"2028-04-01"},64.89766666666668,204.08333333333331,0,0,12.189666666666666,0,0,281.17066666666665,null,{"$f":"+$B$128","v":"2028-04-01"},29.517666666666667,134.89999999999998,0,0,0,0,0,164.41766666666663]
[null,{"$f":"+$B$129","v":"2028-05-01"},29.879838709677419,135.57825806451612,0,0,0.11013548387096775,0,0,165.56823225806451,null,{"$f":"+$B$129","v":"2028-05-01"},29.517741935483869,134.89999999999998,0,0,0,0,0,164.41774193548383,null,{"$f":"+$B$129","v":"2028-05-01"},29.517741935483869,134.89999999999998,0,0,0,0,0,164.41774193548383]
[null,{"$f":"+$B$130","v":"2028-06-01"},29.879733333333334,135.57826666666665,9.0683333333333324E-2,0,0.54176666666666662,0,0,166.09044999999998,null,{"$f":"+$B$130","v":"2028-06-01"},29.517666666666667,134.89999999999998,0,0,0,0,0,164.41766666666663,null,{"$f":"+$B$130","v":"2028-06-01"},29.517666666666667,134.89999999999998,0,0,0,0,0,164.41766666666663]
[null,{"$f":"+$B$131","v":"2028-07-01"},29.596193548387095,135.57825806451612,0,0,0,0,0,165.17445161290323,null,{"$f":"+$B$131","v":"2028-07-01"},29.517741935483869,134.89999999999998,0,0,0,0,0,164.41774193548383,null,{"$f":"+$B$131","v":"2028-07-01"},29.517741935483869,134.89999999999998,0,0,0,0,0,164.41774193548383]
[null,{"$f":"+$B$132","v":"2028-08-01"},30.532935483870965,137.26064516129031,0,0,0.28674516129032257,0,0,168.08032580645161,null,{"$f":"+$B$132","v":"2028-08-01"},29.517741935483869,134.89999999999998,0,0,0,0,0,164.41774193548383,null,{"$f":"+$B$132","v":"2028-08-01"},29.517741935483869,134.89999999999998,0,0,0,0,0,164.41774193548383]
[null,{"$f":"+$B$133","v":"2028-09-01"},30.966000000000001,138.58299999999997,0.3627333333333333,0,2.1670666666666665,0.67518,0,172.75397999999998,null,{"$f":"+$B$133","v":"2028-09-01"},29.517666666666667,189.08999999999997,0,0,0,0,0,218.60766666666663,null,{"$f":"+$B$133","v":"2028-09-01"},29.517666666666667,134.89999999999998,0,0,0,0,0,164.41766666666663]
[null,{"$f":"+$B$134","v":"2028-10-01"},29.879838709677419,136.25651612903226,9.0683870967741928E-2,0,0.54177419354838718,0,0,166.76881290322581,null,{"$f":"+$B$134","v":"2028-10-01"},29.517741935483869,134.89999999999998,0,0,0,0,0,164.41774193548383,null,{"$f":"+$B$134","v":"2028-10-01"},29.517741935483869,134.89999999999998,0,0,0,0,0,164.41774193548383]
[null,{"$f":"+$B$135","v":"2028-11-01"},30.241833333333332,136.25649999999999,9.0683333333333324E-2,0,1.0835333333333332,0,0,167.67255,null,{"$f":"+$B$135","v":"2028-11-01"},29.517666666666667,134.89999999999998,0,0,0,0,0,164.41766666666663,null,{"$f":"+$B$135","v":"2028-11-01"},29.517666666666667,134.89999999999998,0,0,0,0,0,164.41766666666663]
[null,{"$f":"+$B$136","v":"2028-12-01"},31.32816129032258,138.29129032258064,0.36274193548387096,0,2.391258064516129,0.39922580645161293,0,172.77267741935486,null,{"$f":"+$B$136","v":"2028-12-01"},60.910000000000004,193.70645161290321,0,0,19.438064516129035,0,0,274.05451612903227,null,{"$f":"+$B$136","v":"2028-12-01"},29.517741935483869,134.89999999999998,0,0,0,0,0,164.41774193548383]
[null,{"$f":"+$B$137","v":"2029-01-01"},32.862258064516126,151.79903225806453,0.72548387096774192,0,4.3361290322580643,1.5739677419354838,0,191.29687096774197,null,{"$f":"+$B$137","v":"2029-01-01"},66.45,272.75208704969708,9.25,0,55.261290322580642,0,0,403.71337737227771,null,{"$f":"+$B$137","v":"2029-01-01"},29.517741935483869,145,0,0,0,0,0,174.51774193548385]
[null,{"$f":"+$B$138","v":"2029-02-01"},32.747282142857145,155.00867857142856,0.63478571428571429,0.77917857142857139,3.8864285714285711,3.0309285714285714,0,196.08728214285716,null,{"$f":"+$B$138","v":"2029-02-01"},66.448928571428581,257.19989810960493,9.25,0,55.260714285714286,28.629285714285714,0,416.78882668103347,null,{"$f":"+$B$138","v":"2029-02-01"},29.516785714285714,145,0,0,0,0,0,174.5167857142857]
[null,{"$f":"+$B$139","v":"2029-03-01"},34.036129032258067,155.34677419354838,0.89729032258064512,0,5.8716129032258069,1.1680870967741934,0,197.31989354838711,null,{"$f":"+$B$139","v":"2029-03-01"},66.45,214.18387096774194,9.25,0,55.261290322580642,0,0,345.14516129032256,null,{"$f":"+$B$139","v":"2029-03-01"},29.517741935483869,145,0,0,0,0,0,174.51774193548385]
[null,{"$f":"+$B$140","v":"2029-04-01"},30.554333333333332,149.37299999999999,9.0683333333333324E-2,0,0.82250000000000001,0,0,180.84051666666664,null,{"$f":"+$B$140","v":"2029-04-01"},29.517666666666667,210.36,0,0,0,0,0,239.87766666666667,null,{"$f":"+$B$140","v":"2029-04-01"},29.517666666666667,145,0,0,0,0,0,174.51766666666666]
[null,{"$f":"+$B$141","v":"2029-05-01"},29.879838709677419,145.67825806451614,0,0,0.3151741935483871,0,0,175.87327096774195,null,{"$f":"+$B$141","v":"2029-05-01"},29.517741935483869,145,0,0,0,0,0,174.51774193548385,null,{"$f":"+$B$141","v":"2029-05-01"},29.517741935483869,145,0,0,0,0,0,174.51774193548385]
[null,{"$f":"+$B$142","v":"2029-06-01"},29.517666666666667,145,0,0,0,0,0,174.51766666666666,null,{"$f":"+$B$142","v":"2029-06-01"},29.517666666666667,145,0,0,0,0,0,174.51766666666666,null,{"$f":"+$B$142","v":"2029-06-01"},29.517666666666667,145,0,0,0,0,0,174.51766666666666]
[null,{"$f":"+$B$143","v":"2029-07-01"},29.517741935483869,145.26550322580647,0,0,0,0,0,174.78324516129032,null,{"$f":"+$B$143","v":"2029-07-01"},29.517741935483869,145,0,0,0,0,0,174.51774193548385,null,{"$f":"+$B$143","v":"2029-07-01"},29.517741935483869,145,0,0,0,0,0,174.51774193548385]
[null,{"$f":"+$B$144","v":"2029-08-01"},29.517741935483869,145.39148387096776,0,0,0,0,0,174.90922580645162,null,{"$f":"+$B$144","v":"2029-08-01"},29.517741935483869,145,0,0,0,0,0,174.51774193548385,null,{"$f":"+$B$144","v":"2029-08-01"},29.517741935483869,145,0,0,0,0,0,174.51774193548385]
[null,{"$f":"+$B$145","v":"2029-09-01"},30.910966666666667,148.39133333333334,0.27205333333333331,0,1.6253,0,0,181.19965333333334,null,{"$f":"+$B$145","v":"2029-09-01"},40.031333333333336,203.80333333333334,0,0,0,0,0,243.83466666666669,null,{"$f":"+$B$145","v":"2029-09-01"},29.517666666666667,145,0,0,0,0,0,174.51766666666666]
[null,{"$f":"+$B$146","v":"2029-10-01"},30.96606451612903,147.71303225806452,0.18137096774193548,0,2.1446451612903226,0.10556774193548388,0,181.1106806451613,null,{"$f":"+$B$146","v":"2029-10-01"},29.517741935483869,145,0,0,0,0,0,174.51774193548385,null,{"$f":"+$B$146","v":"2029-10-01"},29.517741935483869,145,0,0,0,0,0,174.51774193548385]
[null,{"$f":"+$B$147","v":"2029-11-01"},30.603899999999999,147.25106666666667,0.27205333333333331,0,1.6253,1.3503666666666667,0,181.1026866666667,null,{"$f":"+$B$147","v":"2029-11-01"},29.517666666666667,145,0,0,0,0,0,174.51766666666666,null,{"$f":"+$B$147","v":"2029-11-01"},29.517666666666667,145,0,0,0,0,0,174.51766666666666]
[null,{"$f":"+$B$148","v":"2029-12-01"},30.690658064516125,147.84151535483872,0.27205483870967739,0,1.6304838709677421,1.0053870967741936,0,181.44009922580645,null,{"$f":"+$B$148","v":"2029-12-01"},29.517741935483869,145,0,0,0,0,0,174.51774193548385,null,{"$f":"+$B$148","v":"2029-12-01"},29.517741935483869,145,0,0,0,0,0,174.51774193548385]
[null,{"$f":"+$B$149","v":"2030-01-01"},32.37091612903226,162.53951612903225,0.54632258064516126,0.38958064516129032,3.2638709677419357,1.3503548387096775,0,200.46056129032254,null,{"$f":"+$B$149","v":"2030-01-01"},66.45,224.28387096774193,9.25,0,55.261290322580642,0,0,355.24516129032259,null,{"$f":"+$B$149","v":"2030-01-01"},29.517741935483869,155.1,0,0,0,0,0,184.61774193548388]
[null,{"$f":"+$B$150","v":"2030-02-01"},33.885414285714283,166.32933214285714,0.81617857142857153,0.38960714285714287,5.9707142857142861,1.6835714285714287,0,209.07481785714285,null,{"$f":"+$B$150","v":"2030-02-01"},66.448928571428581,224.28214285714284,9.25,0,55.260714285714286,0,0,355.24178571428575,null,{"$f":"+$B$150","v":"2030-02-01"},29.516785714285714,155.1,0,0,0,0,0,184.6167857142857]
[null,{"$f":"+$B$151","v":"2030-03-01"},34.922280645161294,168.82136774193549,1.0882258064516128,0.38958064516129032,6.7703225806451615,2.1722258064516131,0,214.16400322580648,null,{"$f":"+$B$151","v":"2030-03-01"},66.45,224.28387096774193,9.25,0,55.261290322580642,0,0,355.24516129032259,null,{"$f":"+$B$151","v":"2030-03-01"},29.517741935483869,155.1,0,0,0,0,0,184.61774193548388]
[null,{"$f":"+$B$152","v":"2030-04-01"},31.917466666666666,162.387,0.3627333333333333,0,2.9794666666666667,0.7493333333333333,0,198.39599999999999,null,{"$f":"+$B$152","v":"2030-04-01"},66.451000000000008,224.28333333333333,0,0,42.013333333333335,0,0,332.74766666666665,null,{"$f":"+$B$152","v":"2030-04-01"},29.517666666666667,155.1,0,0,0,0,0,184.61766666666665]
[null,{"$f":"+$B$153","v":"2030-05-01"},29.517741935483869,155.33658064516129,0,0,0,0,0,184.85432258064515,null,{"$f":"+$B$153","v":"2030-05-01"},29.517741935483869,155.1,0,0,0,0,0,184.61774193548388,null,{"$f":"+$B$153","v":"2030-05-01"},29.517741935483869,155.1,0,0,0,0,0,184.61774193548388]
[null,{"$f":"+$B$154","v":"2030-06-01"},29.517666666666667,155.1,0,0,0,0,0,184.61766666666665,null,{"$f":"+$B$154","v":"2030-06-01"},29.517666666666667,155.1,0,0,0,0,0,184.61766666666665,null,{"$f":"+$B$154","v":"2030-06-01"},29.517666666666667,155.1,0,0,0,0,0,184.61766666666665]
[null,{"$f":"+$B$155","v":"2030-07-01"},29.517741935483869,155.55296774193548,0,0,0,0,0,185.07070967741936,null,{"$f":"+$B$155","v":"2030-07-01"},29.517741935483869,155.1,0,0,0,0,0,184.61774193548388,null,{"$f":"+$B$155","v":"2030-07-01"},29.517741935483869,155.1,0,0,0,0,0,184.61774193548388]
[null,{"$f":"+$B$156","v":"2030-08-01"},29.608019354838707,156.72035483870968,0,0,0,0,0,186.3283741935484,null,{"$f":"+$B$156","v":"2030-08-01"},29.517741935483869,155.1,0,0,0,0,0,184.61774193548388,null,{"$f":"+$B$156","v":"2030-08-01"},29.517741935483869,155.1,0,0,0,0,0,184.61774193548388]
[null,{"$f":"+$B$157","v":"2030-09-01"},31.108966666666667,159.83733333333333,0,0,1.3194333333333332,0,0,192.26573333333334,null,{"$f":"+$B$157","v":"2030-09-01"},41.914666666666676,222.37666666666667,0,0,0,0,0,264.29133333333334,null,{"$f":"+$B$157","v":"2030-09-01"},29.517666666666667,155.1,0,0,0,0,0,184.61766666666665]
[null,{"$f":"+$B$158","v":"2030-10-01"},30.873612903225805,158.23045161290324,0.18137096774193548,0,1.0835483870967744,0,0,190.36898387096775,null,{"$f":"+$B$158","v":"2030-10-01"},29.517741935483869,191.29032258064518,0,0,0,0,0,220.80806451612904,null,{"$f":"+$B$158","v":"2030-10-01"},29.517741935483869,155.1,0,0,0,0,0,184.61774193548388]
[null,{"$f":"+$B$159","v":"2030-11-01"},32.414300000000004,160.52600000000001,0.72546666666666659,0,4.3340000000000005,2.0255333333333332,0,200.02530000000002,null,{"$f":"+$B$159","v":"2030-11-01"},66.451000000000008,224.28333333333333,9.25,0,55.26,0,0,355.24433333333332,null,{"$f":"+$B$159","v":"2030-11-01"},29.517666666666667,155.1,0,0,0,0,0,184.61766666666665]
[null,{"$f":"+$B$160","v":"2030-12-01"},32.570216129032261,163.04028709677419,0.72548387096774192,0.77919354838709676,4.3112903225806454,2.2327419354838711,0,203.65921290322578,null,{"$f":"+$B$160","v":"2030-12-01"},66.45,275.84391540459364,9.25,0,55.261290322580642,1.501774193548387,0,408.30697992072265,null,{"$f":"+$B$160","v":"2030-12-01"},29.517741935483869,155.11618354838708,0,0,0,0,0,184.63392548387094]
[null,{"$f":"+$B$161","v":"2031-01-01"},34.712925806451615,167.86641612903225,1.1693548387096775,0.77919354838709676,6.5141935483870963,3.8441935483870964,0,214.8862774193548,null,{"$f":"+$B$161","v":"2031-01-01"},66.45,278.81339612306783,9.25,0,55.261290322580642,65.70225806451613,0,475.47694451016457,null,{"$f":"+$B$161","v":"2031-01-01"},29.517741935483869,155.31604193548387,0,0,0,0,0,184.83378387096775]
[null,{"$f":"+$B$162","v":"2031-02-01"},38.730714285714285,180.54100714285715,2.287607142857143,1.9479642857142856,11.633928571428571,4.5735714285714284,0,239.71479285714287,null,{"$f":"+$B$162","v":"2031-02-01"},74.396428571428586,397.15131086961162,9.25,33.777857142857144,55.260714285714286,68.868928571428569,0,638.70523944104013,null,{"$f":"+$B$162","v":"2031-02-01"},29.516785714285714,155.31061785714286,0,0,0,0,0,184.82740357142856]
[null,{"$f":"+$B$163","v":"2031-03-01"},39.964774193548386,184.29370967741934,2.5321612903225805,2.4018709677419356,13.375483870967741,8.4319354838709675,0,250.99993548387096,null,{"$f":"+$B$163","v":"2031-03-01"},74.397419354838703,396.49694451016455,9.25,37.812903225806451,55.261290322580642,68.867741935483878,0,642.08629934887415,null,{"$f":"+$B$163","v":"2031-03-01"},29.517741935483869,155.21014516129031,0,0,0,0,0,184.72788709677417]
[null,{"$f":"+$B$164","v":"2031-04-01"},37.074660000000009,174.71080333333333,2.5391666666666666,0.7792,7.8209999999999997,3.3759333333333332,0,226.30076333333332,null,{"$f":"+$B$164","v":"2031-04-01"},66.451000000000008,274.14628099599156,9.25,0,55.26,58.538333333333327,0,463.64561432932487,null,{"$f":"+$B$164","v":"2031-04-01"},29.517666666666667,155.17824999999999,0,0,0,0,0,184.69591666666665]
[null,{"$f":"+$B$165","v":"2031-05-01"},29.984516129032254,157.15051612903227,0.32364516129032256,0,0.52870967741935482,0,0,187.9873870967742,null,{"$f":"+$B$165","v":"2031-05-01"},29.517741935483869,155.21268387096774,0.19027096774193547,0,0,0,0,184.92069677419352,null,{"$f":"+$B$165","v":"2031-05-01"},29.517741935483869,155.21268387096774,0,0,0,0,0,184.73042580645159]
[null,{"$f":"+$B$166","v":"2031-06-01"},29.879733333333334,155.99916666666667,9.0683333333333324E-2,0,0.4,0,0,186.36958333333334,null,{"$f":"+$B$166","v":"2031-06-01"},29.517666666666667,155.32310000000001,0,0,0,0,0,184.84076666666667,null,{"$f":"+$B$166","v":"2031-06-01"},29.517666666666667,155.32310000000001,0,0,0,0,0,184.84076666666667]
[null,{"$f":"+$B$167","v":"2031-07-01"},29.879838709677419,155.77825806451614,9.0683870967741928E-2,0,0.54177419354838718,0,0,186.29055483870968,null,{"$f":"+$B$167","v":"2031-07-01"},29.517741935483869,155.1,0,0,0,0,0,184.61774193548388,null,{"$f":"+$B$167","v":"2031-07-01"},29.517741935483869,155.1,0,0,0,0,0,184.61774193548388]
[null,{"$f":"+$B$168","v":"2031-08-01"},30.319819354838707,159.33021612903227,0.5440967741935484,0.38958064516129032,0.54177419354838718,0.67519354838709678,0,191.80068064516126,null,{"$f":"+$B$168","v":"2031-08-01"},29.517741935483869,194.1709677419355,9.25,0,0,0,0,232.93870967741935,null,{"$f":"+$B$168","v":"2031-08-01"},29.517741935483869,155.14208709677422,0,0,0,0,0,184.65982903225807]
[null,{"$f":"+$B$169","v":"2031-09-01"},31.328066666666668,159.78866666666667,0.72546666666666659,0,2.5760666666666667,0,0,194.41826666666668,null,{"$f":"+$B$169","v":"2031-09-01"},60.910000000000011,224.20000000000002,9.25,0,37.963333333333338,0,0,332.32333333333338,null,{"$f":"+$B$169","v":"2031-09-01"},29.517666666666667,155.16066666666669,0,0,0,0,0,184.67833333333334]
[null,{"$f":"+$B$170","v":"2031-10-01"},30.24190322580645,157.86358064516131,0.43196774193548387,0,0.68361290322580648,0.16403548387096772,0,189.38510000000002,null,{"$f":"+$B$170","v":"2031-10-01"},29.517741935483869,162.69225806451612,5.4658064516129032,0,0,0,0,197.67580645161289,null,{"$f":"+$B$170","v":"2031-10-01"},29.517741935483869,155.31324838709679,0,0,0,0,0,184.83099032258065]
[null,{"$f":"+$B$171","v":"2031-11-01"},31.18,160.98666666666668,0.87883333333333324,0,2.1682333333333332,0.87946666666666662,0,196.09320000000005,null,{"$f":"+$B$171","v":"2031-11-01"},45.954000000000015,224.22,9.25,0,0.10013666666666668,0,0,279.52413666666672,null,{"$f":"+$B$171","v":"2031-11-01"},29.517666666666667,155.30998,0,0,0,0,0,184.82764666666665]
[null,{"$f":"+$B$172","v":"2031-12-01"},31.307806451612901,159.84677419354841,0.72548387096774192,0,1.6384193548387096,0.67519354838709678,0,194.19367741935483,null,{"$f":"+$B$172","v":"2031-12-01"},49.380645161290332,224.28387096774193,9.25,0,0,0,0,282.91451612903228,null,{"$f":"+$B$172","v":"2031-12-01"},29.517741935483869,155.41635161290324,0,0,0,0,0,184.93409354838712]
[null,{"$f":"+$B$173","v":"2032-01-01"},34.712925806451615,167.86641612903227,1.1693548387096775,0.77919354838709676,6.5141935483870963,3.8441935483870964,0,214.88627741935483,null,{"$f":"+$B$173","v":"2032-01-01"},66.45,278.81339612306783,9.25,0,55.261290322580642,65.70225806451613,0,475.47694451016457,null,{"$f":"+$B$173","v":"2032-01-01"},29.517741935483869,155.3160419354839,0,0,0,0,0,184.83378387096775]
[null,{"$f":"+$B$174","v":"2032-02-01"},37.395172413793098,179.66373103448279,2.2087241379310343,1.8807931034482759,11.232758620689655,4.4158620689655175,0,236.79704137931034,null,{"$f":"+$B$174","v":"2032-02-01"},71.831034482758611,385.0574561898087,8.931034482758621,32.613103448275858,53.355172413793099,66.494137931034487,0,618.28193894842934,null,{"$f":"+$B$174","v":"2032-02-01"},28.49896551724138,155.3033551724138,0,0,0,0,0,183.80232068965518]
[null,{"$f":"+$B$175","v":"2032-03-01"},39.964774193548386,184.29370967741937,2.5321612903225805,2.4018709677419356,13.375483870967741,8.4319354838709675,0,250.99993548387098,null,{"$f":"+$B$175","v":"2032-03-01"},74.397419354838703,396.49694451016455,9.25,37.812903225806451,55.261290322580642,68.867741935483878,0,642.08629934887415,null,{"$f":"+$B$175","v":"2032-03-01"},29.517741935483869,155.21014516129031,0,0,0,0,0,184.72788709677417]
[null,{"$f":"+$B$176","v":"2032-04-01"},37.074660000000009,174.71080333333333,2.5391666666666666,0.7792,7.8209999999999997,3.3759333333333332,0,226.30076333333332,null,{"$f":"+$B$176","v":"2032-04-01"},66.451000000000008,274.14628099599156,9.25,0,55.26,58.538333333333327,0,463.64561432932487,null,{"$f":"+$B$176","v":"2032-04-01"},29.517666666666667,155.17824999999999,0,0,0,0,0,184.69591666666665]
[null,{"$f":"+$B$177","v":"2032-05-01"},29.984516129032254,157.15051612903227,0.32364516129032256,0,0.52870967741935482,0,0,187.9873870967742,null,{"$f":"+$B$177","v":"2032-05-01"},29.517741935483869,155.21268387096774,0.19027096774193547,0,0,0,0,184.92069677419352,null,{"$f":"+$B$177","v":"2032-05-01"},29.517741935483869,155.21268387096774,0,0,0,0,0,184.73042580645159]
[null,{"$f":"+$B$178","v":"2032-06-01"},29.879733333333334,155.99916666666667,9.0683333333333324E-2,0,0.4,0,0,186.36958333333334,null,{"$f":"+$B$178","v":"2032-06-01"},29.517666666666667,155.32310000000001,0,0,0,0,0,184.84076666666667,null,{"$f":"+$B$178","v":"2032-06-01"},29.517666666666667,155.32310000000001,0,0,0,0,0,184.84076666666667]
[null,{"$f":"+$B$179","v":"2032-07-01"},29.879838709677419,155.77825806451614,9.0683870967741928E-2,0,0.54177419354838718,0,0,186.29055483870968,null,{"$f":"+$B$179","v":"2032-07-01"},29.517741935483869,155.10000000000002,0,0,0,0,0,184.61774193548388,null,{"$f":"+$B$179","v":"2032-07-01"},29.517741935483869,155.10000000000002,0,0,0,0,0,184.61774193548388]
[null,{"$f":"+$B$180","v":"2032-08-01"},30.319819354838707,159.33021612903227,0.5440967741935484,0.38958064516129032,0.54177419354838718,0.67519354838709678,0,191.80068064516126,null,{"$f":"+$B$180","v":"2032-08-01"},29.517741935483869,194.1709677419355,9.25,0,0,0,0,232.93870967741935,null,{"$f":"+$B$180","v":"2032-08-01"},29.517741935483869,155.14208709677422,0,0,0,0,0,184.65982903225807]
[null,{"$f":"+$B$181","v":"2032-09-01"},31.328066666666668,159.78866666666667,0.72546666666666659,0,2.5760666666666667,0,0,194.41826666666668,null,{"$f":"+$B$181","v":"2032-09-01"},60.910000000000011,224.20000000000002,9.25,0,37.963333333333338,0,0,332.32333333333338,null,{"$f":"+$B$181","v":"2032-09-01"},29.517666666666667,155.16066666666669,0,0,0,0,0,184.67833333333334]
[null,{"$f":"+$B$182","v":"2032-10-01"},30.24190322580645,157.86358064516131,0.43196774193548387,0,0.68361290322580648,0.16403548387096772,0,189.38510000000002,null,{"$f":"+$B$182","v":"2032-10-01"},29.517741935483869,162.69225806451612,5.4658064516129032,0,0,0,0,197.67580645161289,null,{"$f":"+$B$182","v":"2032-10-01"},29.517741935483869,155.31324838709679,0,0,0,0,0,184.83099032258065]
[null,{"$f":"+$B$183","v":"2032-11-01"},31.18,160.98666666666668,0.87883333333333324,0,2.1682333333333332,0.87946666666666662,0,196.09320000000005,null,{"$f":"+$B$183","v":"2032-11-01"},45.954000000000015,224.22,9.25,0,0.10013666666666668,0,0,279.52413666666672,null,{"$f":"+$B$183","v":"2032-11-01"},29.517666666666667,155.30998,0,0,0,0,0,184.82764666666665]
[null,{"$f":"+$B$184","v":"2032-12-01"},31.307806451612901,159.84677419354841,0.72548387096774192,0,1.6384193548387096,0.67519354838709678,0,194.19367741935483,null,{"$f":"+$B$184","v":"2032-12-01"},49.380645161290332,224.28387096774193,9.25,0,0,0,0,282.91451612903228,null,{"$f":"+$B$184","v":"2032-12-01"},29.517741935483869,155.41635161290324,0,0,0,0,0,184.93409354838712]
[]
[]
[null,null,"TOTAL MEDIO",null,null,null,null,null,null,null,null,null,"TOTAL ALTO",null,null,null,null,null,null,null,null,null,"TOTAL BAJO"]
[null,null,"CENTRO","COSTA","CQR","NORESTE","NOROESTE","SUROESTE","TOLIMA GRANDE","MEDIA (Estocástico)",null,null,"CENTRO","COSTA","CQR","NORESTE","NOROESTE","SUROESTE","TOLIMA GRANDE","ALTA (Determinístico serie seca)",null,null,"CENTRO","COSTA","CQR","NORESTE","NOROESTE","SUROESTE","TOLIMA GRANDE","BAJA (Estocástico)"]
[null,{"$f":"+$B$5","v":"2018-01-01"},266.09026834288295,388.29115928183273,22.811120991425337,130.92532941954377,65.290809682345127,72.329704084363897,13.900629176788151,959.63902097918185,null,{"$f":"+$B$5","v":"2018-01-01"},311.21254745751668,499.50775444422715,24.81034492084995,131.32232301573313,113.55144715432527,75.522758135734065,14.709702035614253,1170.6368771640005,null,{"$f":"+$B$5","v":"2018-01-01"},241.62913893282291,344.8858753643629,20.513737113619666,117.17293164193119,50.36363545994665,65.258037785871707,13.135624637284694,852.95898093583969]
[null,{"$f":"+$B$6","v":"2018-02-01"},302.25195498540137,417.05943004151379,26.152395619238447,141.82408924673501,83.850383472480985,86.341982872762998,15.369797880273504,1072.8500341184063,null,{"$f":"+$B$6","v":"2018-02-01"},340.53504589571219,522.33040226711751,28.573949235086914,142.20195759680848,122.35148039978638,136.88186162322046,16.231391708805585,1309.1060887265373,null,{"$f":"+$B$6","v":"2018-02-01"},267.80844846172772,363.54161738457537,23.805009294426682,126.7390254151934,58.224629864757269,75.758837002402018,14.557464027759007,930.43503145084139]
[null,{"$f":"+$B$7","v":"2018-03-01"},272.21736598016327,399.96008286004235,23.967168360901258,136.07024640128168,72.738943357344738,73.617650443475668,14.174251125466455,992.74570852867532,null,{"$f":"+$B$7","v":"2018-03-01"},312.76769848601708,502.8413959574919,26.071390439571594,136.0710076222305,114.37265914567786,77.305346902668234,14.973643262676839,1184.403141816334,null,{"$f":"+$B$7","v":"2018-03-01"},243.03184643072132,348.05946661353829,21.748379790227901,121.38793382461141,51.137518254774619,66.888620325872125,13.419523736023065,865.67328897576863]
[null,{"$f":"+$B$8","v":"2018-04-01"},282.1466920229318,403.90777826489892,24.646435395505669,141.54223782131854,75.558476953483847,79.363831462510745,14.455374983269685,1027.160979784042,null,{"$f":"+$B$8","v":"2018-04-01"},323.07874816508343,508.87099571096866,26.84217744378617,141.27645590630104,116.91545376233225,140.06102871280817,15.289740743131413,1289.9914347193153,null,{"$f":"+$B$8","v":"2018-04-01"},252.15608076643403,352.47333264052588,22.339936714799304,126.14586489608129,53.342010011928565,69.636775357439589,13.667526362073213,882.29043525224063]
[null,{"$f":"+$B$9","v":"2018-05-01"},265.49116527854363,381.32033764179704,24.00521908548782,140.97458486049061,60.230248457881203,72.128836928555188,14.168429990584141,963.71526147149802,null,{"$f":"+$B$9","v":"2018-05-01"},313.29371871798406,453.45358852941422,26.208070997648623,141.3634297972398,114.61564032532678,77.418242458483931,14.96850644127316,1158.2526086209741,null,{"$f":"+$B$9","v":"2018-05-01"},243.53606643562949,348.12540665744444,21.86980572486604,126.76127037016072,51.35237825359799,66.978777533157682,13.413450208628939,865.04880250565157]
[null,{"$f":"+$B$10","v":"2018-06-01"},271.29932862878968,387.70030140035868,24.695120811483505,135.75055339671383,61.867139317095003,74.751875146299085,14.270065998599941,976.88298151493154,null,{"$f":"+$B$10","v":"2018-06-01"},319.93832007517443,470.0622866608968,26.992295280817331,136.15912600786763,116.52312936055137,80.269867303386263,15.107116333160736,1184.0929214920675,null,{"$f":"+$B$10","v":"2018-06-01"},249.03107019902825,352.20442272244622,22.469966810017588,121.42081168728835,52.903250897443129,69.384799193371379,13.480158309572868,874.04089969793483]
[null,{"$f":"+$B$11","v":"2018-07-01"},268.15956242304691,397.27168709115142,24.099485081831876,130.23368374495286,71.522838277513117,72.853499858302698,14.04228122104699,978.18303769784598,null,{"$f":"+$B$11","v":"2018-07-01"},313.98093863696522,505.89934671976789,26.293465563310818,130.61326526979389,114.75877094559911,78.09517119294317,14.830142722563867,1184.4711010509441,null,{"$f":"+$B$11","v":"2018-07-01"},244.51801641564253,348.53127411951448,21.976446696577522,116.72961267936802,51.595322556235075,67.758765396036495,13.300756298500609,864.41019416187487]
[null,{"$f":"+$B$12","v":"2018-08-01"},271.26230327986036,397.61967346319273,24.333553365280885,130.88197948190515,72.536068175020034,74.197558240300211,14.133372274817386,984.96450828037666,null,{"$f":"+$B$12","v":"2018-08-01"},317.05940757350339,505.72611102773362,26.54667309319651,131.25420963924225,115.72968164790819,79.295721414478791,14.93195563357094,1190.5437600296339,null,{"$f":"+$B$12","v":"2018-08-01"},247.23379014916299,350.34579793512955,22.190449720049717,117.33103246983772,52.427395464273324,68.785683030738653,13.381212186817312,871.69536095600938]
[null,{"$f":"+$B$13","v":"2018-09-01"},281.12566970270888,411.02448600202337,25.446612064035207,142.63338370153375,76.877579171833474,77.673920648845865,14.79344455385341,1029.5750958448339,null,{"$f":"+$B$13","v":"2018-09-01"},325.23185487437894,512.41104322272133,27.746379810705555,143.02263993300522,118.4207991910358,82.538932279929313,15.626016293768377,1224.9976656055446,null,{"$f":"+$B$13","v":"2018-09-01"},254.3013945635598,355.83244106764664,23.219651464796566,127.49568166256523,54.779849501361298,71.609132211900828,14.009141596492478,901.24729206832285]
[null,{"$f":"+$B$14","v":"2018-10-01"},271.20206742825161,389.18894178214987,24.584291520138166,140.61821585914993,63.898559194884676,75.743237932560348,14.377999049255067,979.61331276638964,null,{"$f":"+$B$14","v":"2018-10-01"},318.84743711700577,476.56293575536267,26.811396829276298,141.02710283743417,116.46779833439999,79.711705203684417,15.192797201408681,1174.6211732785719,null,{"$f":"+$B$14","v":"2018-10-01"},248.9040086276392,351.19768451294772,22.426739637258098,125.68642528509999,53.118837717748313,69.215877925970673,13.609993109891736,884.15956681655564]
[null,{"$f":"+$B$15","v":"2018-11-01"},282.68244222089731,401.88028183270728,25.816286819629202,140.17254289235879,71.204472294182935,79.808521322989861,14.924754124778893,1016.4893015075444,null,{"$f":"+$B$15","v":"2018-11-01"},326.34298430496648,513.67940527785868,28.0419844505555,140.2025410158775,119.04906736468325,83.327204718489881,15.769556899772336,1226.4127440322036,null,{"$f":"+$B$15","v":"2018-11-01"},255.37974064515925,357.01186794864719,23.48405974748303,124.78941028978257,55.37691900669563,72.39390307142439,14.129022675015886,902.56492338420787]
[null,{"$f":"+$B$16","v":"2018-12-01"},278.6913847000277,398.94978199676575,25.0505947565476,135.83286212458458,68.909703110510918,79.790275644014343,14.471550334649848,1001.6961526671007,null,{"$f":"+$B$16","v":"2018-12-01"},328.34869191087404,507.74310715561296,27.107300565387266,135.45440103106608,116.8462774021018,149.16544138783334,15.28865625087051,1279.953875703746,null,{"$f":"+$B$16","v":"2018-12-01"},251.36490111782905,352.39285959201061,22.702129281366481,120.5167354775044,53.450967269918905,69.734748051280008,13.702052485642529,883.86439327555206]
[null,{"$f":"+$B$17","v":"2019-01-01"},277.56688524345878,296.81014667559367,24.383256866997115,139.77020493663318,73.200022393256461,76.691678442826102,14.157901849092472,902.58009640785781,null,{"$f":"+$B$17","v":"2019-01-01"},323.75714557142896,492.54641998827901,26.343729346966178,139.53912125168367,115.54407856728072,141.53458331138813,14.920315666655004,1254.1853937036817,null,{"$f":"+$B$17","v":"2019-01-01"},247.17706758581062,237.76307102691072,21.994715236717376,124.69444353779858,52.26647772531242,67.750539335975901,13.350241193284544,764.99655564181012]
[null,{"$f":"+$B$18","v":"2019-02-01"},303.9918338184662,324.20287927911124,27.50991394196463,143.60731764358718,85.567145841102104,88.751556311600027,15.797435345106784,989.4280821809383,null,{"$f":"+$B$18","v":"2019-02-01"},349.23959071326232,523.54211516054147,29.71183902596341,143.53532098366497,123.59978413932707,157.65952615113085,16.632062420877375,1343.9202385947674,null,{"$f":"+$B$18","v":"2019-02-01"},268.28867138415001,253.74040743440764,24.870539946286826,127.17638983136899,59.329310644752589,77.094006562470412,14.912388073614242,825.41171387705072]
[null,{"$f":"+$B$19","v":"2019-03-01"},281.63790815595775,299.649772779567,24.732087628416853,139.57370287103757,76.820309290586493,78.646225780866558,14.343879595991702,915.40388610242383,null,{"$f":"+$B$19","v":"2019-03-01"},320.11177356346144,494.99056502124739,26.884750667119786,140.08994218998001,116.81433618697397,145.7064465834614,15.101338314873995,1259.6991525271178,null,{"$f":"+$B$19","v":"2019-03-01"},250.10796441653952,239.8048011214245,22.512622305794807,124.89533686531607,53.446684115815096,69.395895017735356,13.540930497911839,773.70423434053725]
[null,{"$f":"+$B$20","v":"2019-04-01"},286.83487995379994,291.79991787266556,25.777293845996763,140.71905266306561,74.244454538948787,80.10714191495812,14.850353929104454,914.33309471853931,null,{"$f":"+$B$20","v":"2019-04-01"},330.80587234888048,495.67632952193964,27.920728052653633,141.11669188507332,119.00153295549717,91.034258837154894,15.638962642665419,1221.1943762438646,null,{"$f":"+$B$20","v":"2019-04-01"},259.44252168066299,244.30680526134788,23.381624253727196,125.63184390208663,55.340021073131929,72.054884314192151,14.014428787330647,794.17212927247954]
[null,{"$f":"+$B$21","v":"2019-05-01"},274.01210382979446,263.58900113491302,24.897970972025174,139.61393146596183,57.832099992241858,74.950706785743066,14.449712852265559,849.34552703294514,null,{"$f":"+$B$21","v":"2019-05-01"},287.52156644432017,277.55400314756491,27.056784916137303,140.14355496371468,61.730691394657455,80.136933398800039,15.211096522494756,889.35463078768942,null,{"$f":"+$B$21","v":"2019-05-01"},254.057927807216,239.86530961635074,22.671387041433015,125.49339763326067,53.618197815703134,69.624141218267027,13.642509554653842,778.97287068688445]
[null,{"$f":"+$B$22","v":"2019-06-01"},280.1630567201006,268.18125005638831,25.813098436055991,143.43512264729637,59.780074617268731,78.037146066080211,14.795136498086464,870.20488504127673,null,{"$f":"+$B$22","v":"2019-06-01"},294.2120238756554,282.5622431650113,28.059764349385297,143.97705846518619,63.972593185558793,83.448411832258415,15.587417851020486,911.81951272407605,null,{"$f":"+$B$22","v":"2019-06-01"},259.65154093058908,245.03150289563581,23.494271367113694,128.18420238577886,55.508283872344442,72.474448754743904,13.955046014373327,798.29929622057921]
[null,{"$f":"+$B$23","v":"2019-07-01"},277.82182102465737,264.8492457863515,25.13706472095296,142.37387987464749,58.547094575568863,75.490765527641344,14.408984479212023,858.62885598903165,null,{"$f":"+$B$23","v":"2019-07-01"},290.90418439247418,276.87150382735939,27.297571364768697,142.9060421911602,61.843075084260065,80.662476075916516,15.167461838630377,895.65231477456939,null,{"$f":"+$B$23","v":"2019-07-01"},257.2264080807995,240.68894858848523,22.905538565929341,127.70608911218487,53.761392043072782,70.171580563109771,13.603593048773849,786.06355000235533]
[null,{"$f":"+$B$24","v":"2019-08-01"},278.39396976519049,263.20800952692144,25.148611790571891,142.4932901081701,58.402489867646189,75.703292158503004,14.390979179612678,857.74064239661584,null,{"$f":"+$B$24","v":"2019-08-01"},291.90475348057674,276.14825939929727,27.315864473039159,143.02082325052703,62.02628110967408,80.905622146330316,15.152687352064962,896.47429121150947,null,{"$f":"+$B$24","v":"2019-08-01"},258.05786394497733,239.91617968502499,22.911094516437721,127.71030331542681,53.894223873734653,70.355385356465803,13.582271110829609,786.42732180289704]
[null,{"$f":"+$B$25","v":"2019-09-01"},287.02198564493591,271.49696459565831,26.304954066844189,144.00630506001511,61.400557817944247,79.331785604730612,15.01115034784274,884.57370313797105,null,{"$f":"+$B$25","v":"2019-09-01"},300.80206320332798,310.26706550854908,28.556458427831245,144.52656118952723,65.070167234358138,84.77336161046739,15.799265006171396,949.79494218023228,null,{"$f":"+$B$25","v":"2019-09-01"},265.82435179987624,246.33745937655195,23.980234639253229,128.85740038399081,56.567603001349873,73.738188173425868,14.174148881190622,809.47938625563859]
[null,{"$f":"+$B$26","v":"2019-10-01"},280.37023643194351,267.32784702135143,25.338246383246695,142.82526496247914,60.836640540800715,75.879749613305037,14.592739307848891,867.17072426097548,null,{"$f":"+$B$26","v":"2019-10-01"},293.23652218934637,346.83166890908922,27.514860622337874,143.35259441409656,62.731196353173729,81.109460039639927,15.359970470815256,970.13627299849895,null,{"$f":"+$B$26","v":"2019-10-01"},259.2524437618581,241.28252047553102,23.0922332124088,128.12641031963048,54.533032720121575,70.508233252046836,13.778253533284158,790.5731272748809]
[null,{"$f":"+$B$27","v":"2019-11-01"},288.60903256293,275.65455058122353,26.406399600741945,143.81345380927075,64.558975110366376,78.931326353097631,15.114664520280311,893.08840253791061,null,{"$f":"+$B$27","v":"2019-11-01"},332.36024184097994,352.73154115703755,28.665856976696034,144.36807459572043,120.35987484282001,84.346025757413088,15.912506964867442,1078.7441221355346,null,{"$f":"+$B$27","v":"2019-11-01"},265.83178626649828,246.2051465624487,24.07231990105684,128.71258507516308,56.605090500888345,73.361258573215437,14.267337899565845,809.05552477883634]
[null,{"$f":"+$B$28","v":"2019-12-01"},282.45102940689384,269.64445294261088,25.523557717408789,142.79021173023264,62.398871243374863,76.038228671012803,14.669815088151669,873.51616679968549,null,{"$f":"+$B$28","v":"2019-12-01"},302.73081076789168,346.77753961398156,27.706320578224119,143.32851371361909,118.0937080728431,81.263313726159026,15.440455917000346,1035.340662389719,null,{"$f":"+$B$28","v":"2019-12-01"},260.38819819358497,241.3770550450397,23.269738011404105,128.04277149385382,54.635612954226772,70.6680754848189,13.851141914996226,792.23259309792445]
[null,{"$f":"+$B$29","v":"2020-01-01"},279.10204495104659,283.00843880778939,24.776081158492207,143.35107847838853,62.879120379606249,75.178747087610034,14.399809750665234,882.69532061359826,null,{"$f":"+$B$29","v":"2020-01-01"},327.202464372983,383.477813028681,27.004072957086393,143.92856815371758,116.99576534035779,79.299097422848178,15.215346703066412,1093.1231279787403,null,{"$f":"+$B$29","v":"2020-01-01"},256.56861815759817,251.84399638046352,22.613651833994759,129.07725651691609,53.626535365195934,68.873134364998535,13.631258069992498,796.23445068915953]
[null,{"$f":"+$B$30","v":"2020-02-01"},295.8147072933557,297.80052764799677,26.88026979134272,146.25601013222729,73.04754878392167,82.048920968906543,15.406731574353387,937.25471619210407,null,{"$f":"+$B$30","v":"2020-02-01"},340.45179361597491,493.12339198638176,29.182862404652973,146.46041106900975,120.56188798596102,86.348147828729012,16.27212347885477,1232.4006183695642,null,{"$f":"+$B$30","v":"2020-02-01"},269.07336010095651,259.19933292373616,24.474092916117819,130.36636877103041,58.426558961941218,75.060802177356564,14.591317391338777,831.19183324247729]
[null,{"$f":"+$B$31","v":"2020-03-01"},285.65543760103844,292.98881251667552,25.310486441027599,144.32645914999586,68.598801795988081,78.131142283407641,14.425748917103636,909.43688870523692,null,{"$f":"+$B$31","v":"2020-03-01"},330.71830010195544,474.95861426402422,27.442341968521418,144.47138744317428,118.49257403410604,81.578704580557584,15.23615719089932,1192.8980795832381,null,{"$f":"+$B$31","v":"2020-03-01"},259.71672277683138,254.27248949534183,23.016427206274489,129.060145155399,54.957311189668637,70.893004347647434,13.661727364929638,805.5778275360924]
[null,{"$f":"+$B$32","v":"2020-04-01"},327.8707347214953,293.9483697712775,26.414358433524757,145.5041308326405,67.554235339062188,80.792676051126989,14.920613437934033,957.00511858706113,null,{"$f":"+$B$32","v":"2020-04-01"},375.46156572063012,425.38133776566565,28.560189161050424,145.67444499518336,120.94699776210027,85.039285011942212,15.759575469438818,1196.823395886011,null,{"$f":"+$B$32","v":"2020-04-01"},299.8307227590368,257.84735798676758,23.975504608952463,129.8387732098667,57.137065725651006,73.993884266922763,14.129525928305664,856.75283448550294]
[null,{"$f":"+$B$33","v":"2020-05-01"},316.95678800799635,277.27273033300662,25.397629853025414,144.16764780707609,59.424175788620097,76.643685140877409,14.469451115151967,914.3321080457539,null,{"$f":"+$B$33","v":"2020-05-01"},330.33422868835692,289.78055233826166,27.54706939142924,144.35099979975678,63.000464037603756,81.302600898494475,15.279954908950703,951.59587006285358,null,{"$f":"+$B$33","v":"2020-05-01"},292.84038227414089,253.4153634620742,23.134021756961655,129.37940261262975,54.838264995692207,70.776886362679505,13.705169225625994,838.08949068980428]
[null,{"$f":"+$B$34","v":"2020-06-01"},324.42540589792031,283.25405114849281,26.415320443361203,145.00887240328697,61.446705074960633,79.737313406204791,14.906711118396212,935.19437949262294,null,{"$f":"+$B$34","v":"2020-06-01"},338.85537182082862,297.93175534798382,28.753100754351273,145.58111225526363,65.764959698424917,85.343594876033606,15.748733362185064,977.97862811507082,null,{"$f":"+$B$34","v":"2020-06-01"},300.12686713728954,260.10393254461087,24.149275664991336,130.0316925877348,57.207833911748772,74.285043318635786,14.112812299555722,860.01745746456675]
[null,{"$f":"+$B$35","v":"2020-07-01"},318.79391152710593,278.21355787043689,25.694394892009718,144.04462833461739,59.574411879423749,77.364707427800042,14.475960399644382,918.16157233103809,null,{"$f":"+$B$35","v":"2020-07-01"},332.74447280920396,292.94759864746561,27.956075269554738,144.59308064981238,63.749083002816008,82.789704371014693,15.28773235958305,960.06774710945047,null,{"$f":"+$B$35","v":"2020-07-01"},294.958995167372,256.06792189355144,23.502402201016906,129.28736509975545,55.475374997695866,72.087295359028872,13.711063271516261,845.09041798993667]
[null,{"$f":"+$B$36","v":"2020-08-01"},318.41301429534388,279.40168255477238,25.58553262769075,143.80406482625858,60.668525229197463,76.734105698011092,14.441624115530132,919.04854934680429,null,{"$f":"+$B$36","v":"2020-08-01"},331.80894638693013,306.17937351759144,27.841071973055342,144.3741065648328,63.320760298906258,82.109150453113855,15.254496566619572,970.8879057610493,null,{"$f":"+$B$36","v":"2020-08-01"},294.16199219559218,254.52751991187904,23.399489721357668,129.30042724999936,55.110775166049962,71.506913646022369,13.675663357585954,841.68278124848644]
[null,{"$f":"+$B$37","v":"2020-09-01"},327.95069814418389,287.05314213650166,26.69538128960404,145.18736314260798,64.91282856181769,80.671248295908157,15.003403352495212,947.4740649231187,null,{"$f":"+$B$37","v":"2020-09-01"},371.94109959735675,366.79265993673823,29.037008577754072,145.75506955012091,119.00744582764798,85.792882660043574,15.843891323726199,1134.1700574733877,null,{"$f":"+$B$37","v":"2020-09-01"},301.78238400244561,260.11735069344428,24.42646066819232,130.2652343758831,57.579125649018316,74.730199264114191,14.21171409299677,863.11246874609446]
[null,{"$f":"+$B$38","v":"2020-10-01"},319.70439767203982,276.7614851639978,25.732349940146225,143.98308219097098,60.669377260688378,76.689882349364979,14.564913594475183,918.10548817168342,null,{"$f":"+$B$38","v":"2020-10-01"},332.86341821261834,351.31492550009307,27.992105854319668,144.55309902396939,63.740175798794574,82.065608368241357,15.379978048168523,1017.909310806205,null,{"$f":"+$B$38","v":"2020-10-01"},295.14241329262086,251.27840120440089,23.5417694003036,129.70202482318021,55.506365651934011,71.458386824085082,13.797059573397039,840.42642076992183]
[null,{"$f":"+$B$39","v":"2020-11-01"},328.90126580230486,286.7363728224114,26.931536411935479,145.34020355839476,65.594614459049694,80.949283782374422,15.091493812570375,949.54477064904097,null,{"$f":"+$B$39","v":"2020-11-01"},373.04649079092604,364.46239002055211,29.289944249557298,145.90840254365108,120.47684869870039,86.270390283898351,15.938708336333384,1135.3931749236185,null,{"$f":"+$B$39","v":"2020-11-01"},302.65231392061253,257.95591605809147,24.646887560770754,130.41143274663017,58.16769270116437,75.123277897877443,14.293572990258895,863.25109387540567]
[null,{"$f":"+$B$40","v":"2020-12-01"},321.51740837083685,289.58596703064904,25.968049455958017,144.12186369093436,63.282838328959301,77.192293551001484,14.635345936398764,936.30376636473784,null,{"$f":"+$B$40","v":"2020-12-01"},334.25997136497728,361.09422494878709,28.239878627585334,144.68956145931679,119.44256063651164,82.599050363323087,15.453955301545804,1085.7792027020469,null,{"$f":"+$B$40","v":"2020-12-01"},296.16033037984397,255.64889091991762,23.766607811970331,129.29239069327161,55.897123028212746,71.931302943060359,13.864530525945302,846.56117630222195]
[null,{"$f":"+$B$41","v":"2021-01-01"},323.21068434752465,297.62468850794897,25.370834566395516,145.32953165734423,67.502531790365538,76.242400636718685,14.445415566262355,949.72608707256006,null,{"$f":"+$B$41","v":"2021-01-01"},369.19167033935457,451.19992563442656,27.620559288795963,145.90673031677457,118.54446141420468,80.844303444791208,15.259941854875102,1208.5675922932228,null,{"$f":"+$B$41","v":"2021-01-01"},294.51981829555319,263.27259625420561,23.186064948665958,131.00993502927048,55.059210559049539,70.303050619353982,13.67729167372287,851.02796737982169]
[null,{"$f":"+$B$42","v":"2021-02-01"},350.15594309636452,326.51120741366049,28.704232993915653,149.70269946730008,81.525411421335846,91.182579108083445,15.989773915456482,1043.7718474161165,null,{"$f":"+$B$42","v":"2021-02-01"},393.47863479410182,516.46649343355284,30.940396155522386,149.89948106862983,126.71659919550022,160.3947220302471,16.888297005186349,1394.7846236827406,null,{"$f":"+$B$42","v":"2021-02-01"},315.53232304728817,279.51481226902786,25.996948449307158,133.69513106080282,62.209416265838229,79.619917887523769,15.142317098859824,911.71086607864788]
[null,{"$f":"+$B$43","v":"2021-03-01"},329.49221223505828,314.29619154678375,26.084470230557322,146.03564496195324,75.878819031140367,81.690297224190175,14.432991324572296,987.91062655425537,null,{"$f":"+$B$43","v":"2021-03-01"},378.15838529650159,535.9819194512279,35.751827149484811,146.04304943062135,119.2295087250599,150.848794824571,15.244066826980735,1381.2575517044475,null,{"$f":"+$B$43","v":"2021-03-01"},295.50647237629943,264.56977554807338,23.439021080864336,131.29583672312089,55.695064446963165,71.350513259799271,13.667899122906704,855.52458255802719]
[null,{"$f":"+$B$44","v":"2021-04-01"},333.92975774266574,313.1619819629135,26.959360453154478,147.26013001879366,75.334342698563916,82.529321919463655,14.927917062690094,994.10281185824499,null,{"$f":"+$B$44","v":"2021-04-01"},378.78962521482106,499.26456049525621,29.093308932509572,147.45080694772881,121.98800224875023,85.933215343246275,15.766294938628381,1278.2858141209404,null,{"$f":"+$B$44","v":"2021-04-01"},303.0659032791969,270.78367837168469,24.478121855899637,131.97470026290745,58.14413558891156,74.89030531937658,14.13705061647889,877.47389529445559]
[null,{"$f":"+$B$45","v":"2021-05-01"},323.10848444376325,294.06453981287393,25.945071528788411,145.87967636531027,62.6981015547167,77.915283652794329,14.467683949048586,944.07884130729542,null,{"$f":"+$B$45","v":"2021-05-01"},336.00811942656344,372.16345892375523,28.213562516713296,146.44095678083553,70.85404232416704,83.342294249211761,15.278385008476771,1052.3008192297232,null,{"$f":"+$B$45","v":"2021-05-01"},298.05157039196951,266.63261387512944,23.743179544214492,131.49160114966935,56.440408081888208,72.630521195260883,13.702772992982528,862.69266723111446]
[null,{"$f":"+$B$46","v":"2021-06-01"},329.21666483996171,295.91054887590025,26.992499633492926,146.9141935427468,63.754071652423981,80.980567017525232,14.943469381727336,958.71201494377829,null,{"$f":"+$B$46","v":"2021-06-01"},343.59272707562741,309.01770089180974,29.347639495184382,147.49781434726287,67.115615948007544,86.608962305543741,15.7843700974044,998.96483016084005,null,{"$f":"+$B$46","v":"2021-06-01"},304.62818611845955,271.38972943054983,24.708508899848866,131.97533420315992,58.491084897797045,75.506232837637882,14.150268505412601,880.8493448928657]
[null,{"$f":"+$B$47","v":"2021-07-01"},325.57370422340426,291.48194907413841,26.218773730094142,145.79465104675901,63.377025918547297,78.250640001383857,14.507574114397386,945.20431810872435,null,{"$f":"+$B$47","v":"2021-07-01"},369.05444181620112,370.66251349217163,28.49484959701271,146.37223232461307,111.82329508054585,83.662534986456905,15.320407900181092,1125.3902751971825,null,{"$f":"+$B$47","v":"2021-07-01"},299.65564220973602,265.56828179597881,24.012201029167869,131.26713823172591,56.559526209630818,72.987334126293987,13.741301093793416,863.79142469632677]
[null,{"$f":"+$B$48","v":"2021-08-01"},325.97735501984482,292.91384397240108,26.24283846379176,145.83471177908555,63.208058819185517,78.399262909240051,14.494338426123667,947.07040938967248,null,{"$f":"+$B$48","v":"2021-08-01"},338.89789566714069,369.70827135727944,28.523013263354994,146.41034429970944,97.674121249290522,83.827102665482926,15.308657605561937,1080.34940610782,null,{"$f":"+$B$48","v":"2021-08-01"},300.7352450624835,264.62605154232085,24.031965235062039,131.49374469870151,56.653628686912668,73.119615097880725,13.726669675737753,864.38691999909906]
[null,{"$f":"+$B$49","v":"2021-09-01"},335.28411127324341,298.58071465871569,27.366122160958231,147.3513090562316,66.344118440229252,82.191009383881592,15.022729550548121,972.14011452380794,null,{"$f":"+$B$49","v":"2021-09-01"},348.93237466652459,376.78306268494282,29.737275080812633,147.91181339151728,105.34030352752893,87.887993012486916,15.864804718044589,1112.4576270818579,null,{"$f":"+$B$49","v":"2021-09-01"},309.45645693730791,270.2941918498758,25.066872533575548,132.2409036348582,59.333072306406962,76.647536479788201,14.229063639184423,887.26809738099701]
[null,{"$f":"+$B$50","v":"2021-10-01"},327.34672967016019,290.14155920680628,26.30493785969022,145.91687328315649,63.460201400585284,78.167067965112295,14.560499088169255,945.89786847368009,null,{"$f":"+$B$50","v":"2021-10-01"},340.66871807954658,367.31434207687005,28.588149752556674,146.48784272206228,95.173516468767446,83.599702311459168,15.375603036584195,1077.2078744478465,null,{"$f":"+$B$50","v":"2021-10-01"},302.30757042167858,262.60469015666536,24.090411012309943,131.47531979934968,56.810955299941334,72.878555786583433,13.792238897864436,863.95974137439271]
[null,{"$f":"+$B$51","v":"2021-11-01"},337.87690821322735,298.14715131188723,27.497714637009079,147.09509653642922,68.842733911426663,81.627335803401309,15.105992618065459,976.19293303144639,null,{"$f":"+$B$51","v":"2021-11-01"},386.38419803608048,403.88256864441627,29.873454957220353,147.68142960249062,123.14985189299765,87.285196845173971,15.952499319017434,1194.2091992973969,null,{"$f":"+$B$51","v":"2021-11-01"},309.96565261581435,267.24209004461795,25.19591832190217,132.46813967661143,59.20598782894929,76.126228742471227,14.308600762798111,884.51261799316455]
[null,{"$f":"+$B$52","v":"2021-12-01"},333.28142917488515,295.02940302779592,26.578134405324267,146.06937703133323,66.991032322048923,79.388890789479362,14.645738405830318,961.98400515669721,null,{"$f":"+$B$52","v":"2021-12-01"},380.89677731271604,433.10784645680519,28.874483666656971,146.6376574443984,120.83896737346862,84.178264322433435,15.464633097435428,1209.9986296739141,null,{"$f":"+$B$52","v":"2021-12-01"},305.27621801008399,262.67272696267736,24.351993065482564,131.56960052276068,57.181681960631366,73.395038244298192,13.87442838823706,868.32168715417129]
[null,{"$f":"+$B$53","v":"2022-01-01"},333.98946458745291,312.07234570550003,26.223072739003634,146.28766653882548,71.053722048474668,78.633891497522953,14.486344685743624,982.74650780252318,null,{"$f":"+$B$53","v":"2022-01-01"},378.4665368105936,480.80657267227298,28.221279379804169,146.48554124333887,119.67330858039952,81.975233927316665,15.300901990984215,1250.9293746047099,null,{"$f":"+$B$53","v":"2022-01-01"},303.04594801135073,271.75484687960306,23.745804180604456,131.70509438290955,56.11548379976896,71.375613937987538,13.718053908849136,871.46084510107346]
[null,{"$f":"+$B$54","v":"2022-02-01"},357.6689791541429,335.12940002345943,29.316969378114283,150.1419338558014,80.659859361413325,89.506048855752155,16.041572781683776,1058.4647634103674,null,{"$f":"+$B$54","v":"2022-02-01"},402.96214218169882,516.16983621247755,31.573574597176741,150.36608983130657,127.69963822173575,135.25184419421166,16.941917802911004,1380.9650430415181,null,{"$f":"+$B$54","v":"2022-02-01"},324.29575737682131,286.95295878651802,26.589914650776691,135.02091289325148,63.137354533442519,80.44752948528037,15.192345745613094,931.63677347170346]
[null,{"$f":"+$B$55","v":"2022-03-01"},341.61196381439999,323.3018565203821,26.651966437391902,147.08909850256143,78.831507991199885,81.393066649836726,14.470187715389203,1013.3496476311612,null,{"$f":"+$B$55","v":"2022-03-01"},382.21912074975023,494.46319094805028,28.578921631757861,146.86591669722571,120.82011056708379,110.47308951870959,15.283022030762604,1298.7033721433402,null,{"$f":"+$B$55","v":"2022-03-01"},306.35291093734321,272.05853118979689,24.065311650786558,131.89597084244849,57.113383901990453,73.038498545329873,13.703225530817438,878.22783259851292]
[null,{"$f":"+$B$56","v":"2022-04-01"},342.30852747677233,308.95888189066602,27.270259376329129,147.33184621536216,69.721615936994084,81.124596749517693,14.952501189210475,991.66822883485202,null,{"$f":"+$B$56","v":"2022-04-01"},390.3992899124143,405.69667417938894,29.636436446728386,147.91734601383507,123.00751419013449,86.768433911093098,15.791953538054326,1199.2176481916485,null,{"$f":"+$B$56","v":"2022-04-01"},313.57249235167313,275.14655826227437,24.973388871727593,132.53735880603148,59.062022231551012,75.629917992921364,14.16045123237393,895.08218974855288]
[null,{"$f":"+$B$57","v":"2022-05-01"},332.29926995234905,290.71661117300357,26.388590101515259,146.11384995606832,61.3363401090878,78.134093276436559,14.487064527651054,949.47581909611154,null,{"$f":"+$B$57","v":"2022-05-01"},346.21278127113186,304.46853034781259,28.674244342035429,146.69760951512023,65.325269006777091,83.55970948049584,15.298846069249041,990.23699003262186,null,{"$f":"+$B$57","v":"2022-05-01"},307.35135972279619,268.58410407253342,24.169950550753953,132.35805316421676,56.969957063951426,72.852188140301408,13.721126786868425,876.00673950142163]
[null,{"$f":"+$B$58","v":"2022-06-01"},342.30768198830413,296.32017937415236,27.587259063669677,147.54391947969322,63.959044030766634,82.15054914339818,14.984810126637569,974.85344320662171,null,{"$f":"+$B$58","v":"2022-06-01"},356.85432891964678,311.75441386051671,29.971283842957622,148.11911459873119,68.382912363913832,87.860099542491284,15.826729757919345,1018.7688828861767,null,{"$f":"+$B$58","v":"2022-06-01"},316.58626566255043,274.27869102851889,25.274154304423178,132.99424583918457,59.613367593853738,76.594267696434613,14.190545663763912,899.53153778872934]
[null,{"$f":"+$B$59","v":"2022-07-01"},335.59128066107343,289.87338917649998,26.761872638637257,146.33144315600339,62.296981207357412,79.220775990138364,14.536802492460154,954.61254532217004,null,{"$f":"+$B$59","v":"2022-07-01"},349.19476283109367,303.8811583695591,29.062914228034636,146.91209462144298,65.994322236796776,84.686671623495329,15.351091543186497,995.08301545360905,null,{"$f":"+$B$59","v":"2022-07-01"},310.10139714029901,268.01689846507236,24.530175831760854,132.14981919011973,57.591609155046825,73.90329550882629,13.769005611186531,880.06220090231159]
[null,{"$f":"+$B$60","v":"2022-08-01"},338.02422984007524,290.56460791096777,26.805277257771824,146.37422981438081,63.171724790677537,79.401632310668703,14.535127065273063,958.87682898981495,null,{"$f":"+$B$60","v":"2022-08-01"},351.2897134439807,302.93090932343671,29.110362559466449,146.95321469347095,66.112661216680763,84.882514438804577,15.350641649394527,996.6300173252348,null,{"$f":"+$B$60","v":"2022-08-01"},311.9666360908376,267.05758374799586,24.569493749387519,132.13367041392712,57.687334143704916,74.069255146725453,13.766229618497663,881.25020291107626]
[null,{"$f":"+$B$61","v":"2022-09-01"},347.48792868956144,300.24571987373116,27.879083631015924,147.74314077069675,68.182776330400188,82.78685540593932,15.052385153881854,989.37788985522661,null,{"$f":"+$B$61","v":"2022-09-01"},385.50730676608708,377.90832250181256,30.271332969406863,148.31958372292397,123.88334482889505,88.504206243601075,15.895808513729426,1170.2899055464561,null,{"$f":"+$B$61","v":"2022-09-01"},319.79776836598751,271.8202709903095,25.558835823639438,133.12610212948289,60.119498088535899,77.223460164582434,14.257365796643835,901.90330135918146]
[null,{"$f":"+$B$62","v":"2022-10-01"},340.53117477176238,289.47182520228671,26.902711738457995,146.54465643939281,63.264054890891614,79.493536184876859,14.578873848510142,960.78683307617848,null,{"$f":"+$B$62","v":"2022-10-01"},354.1343113459983,332.76716500901284,29.211229908195765,147.11806780542199,66.445759381354819,84.981282971991334,15.394856112050586,1030.0526725340258,null,{"$f":"+$B$62","v":"2022-10-01"},314.5493124339161,265.55086447462293,24.662876750859343,132.46017397248784,57.989827707311392,74.150104951335948,13.809724151050583,883.17288444158419]
[null,{"$f":"+$B$63","v":"2022-11-01"},347.89728236027764,296.10350904713533,28.068311542973213,147.71892680755198,66.449339435625333,83.536962122221141,15.11401868979004,984.88835000557469,null,{"$f":"+$B$63","v":"2022-11-01"},362.02176905649964,375.52172947343365,30.466820892400698,148.30824164943886,69.133043139880741,88.566568121447659,15.960200503478008,1089.9783728365792,null,{"$f":"+$B$63","v":"2022-11-01"},321.4218218334276,269.93870883390622,25.743265728669488,133.2968187672904,60.353886604244096,77.312998780332052,14.316811467956114,902.38431201582591]
[null,{"$f":"+$B$64","v":"2022-12-01"},344.26932593968974,290.52689792314152,27.100394371311488,146.55313132635462,66.788464385517528,80.305164321325719,14.646782811060948,970.19016107840139,null,{"$f":"+$B$64","v":"2022-12-01"},391.62190766396543,367.73572647307293,29.415988794643493,147.13438709410536,121.84553632975943,85.115040594720526,15.465454818818113,1158.3340417690852,null,{"$f":"+$B$64","v":"2022-12-01"},316.1276670471143,263.78236551382923,24.854895464593088,132.12802639888309,58.13075860308664,74.291023238417864,13.875606745646285,883.19034301157058]
[null,{"$f":"+$B$65","v":"2023-01-01"},343.47076836811596,307.54417822537994,26.598572988783182,146.34817756010054,64.815363386309059,79.326337473711177,14.511752662948247,982.61515066534798,null,{"$f":"+$B$65","v":"2023-01-01"},379.47211113164781,385.81419327315712,28.892494649075729,146.94006314828059,121.05393158518766,83.555535722505255,15.326008261524048,1161.054337771378,null,{"$f":"+$B$65","v":"2023-01-01"},315.81864465557209,280.76258780991134,24.369845105787824,132.53718258025268,57.407319187799786,72.864663666709887,13.743757305769581,897.50400031180311]
[null,{"$f":"+$B$66","v":"2023-02-01"},368.01733324824932,327.21320879785287,29.862938908257295,150.34908129421456,74.205548628272567,90.025230066084376,16.061788194581304,1055.7351291375123,null,{"$f":"+$B$66","v":"2023-02-01"},417.86618151889741,486.77316173163115,32.330561975237408,150.96015427021629,129.37911472323009,94.351046505225852,16.962424138349224,1328.6226448627872,null,{"$f":"+$B$66","v":"2023-02-01"},337.88273374356157,297.03165548286142,27.287360894295773,135.14730344223352,64.683051247945471,82.298436670543936,15.212174681404065,959.54271616284575]
[null,{"$f":"+$B$67","v":"2023-03-01"},349.5030339007584,315.11353099423417,26.890512062018324,146.62351087355259,70.0778583131099,81.456786316947117,14.489549806552709,1004.1547822671732,null,{"$f":"+$B$67","v":"2023-03-01"},396.16636629045632,490.80888457589452,29.199909023429438,147.19569157268143,121.95706718863983,98.397226629133868,15.302363087173955,1299.0275083674092,null,{"$f":"+$B$67","v":"2023-03-01"},319.13645218568479,281.20236418255365,24.646426299210574,132.66090911093605,58.201973048100719,74.214389707859056,13.722644026037038,903.785158560382]
[null,{"$f":"+$B$68","v":"2023-04-01"},355.60564646968999,316.20104048034176,27.983632226319525,147.91734055633296,69.444522597830741,83.710377443660306,14.972328576795096,1015.8348883509706,null,{"$f":"+$B$68","v":"2023-04-01"},404.53996321996408,392.39985942624429,30.377757574992838,148.50085721335256,124.63617447757443,88.746423349928747,15.811933995677396,1205.0129692577343,null,{"$f":"+$B$68","v":"2023-04-01"},326.49052213433873,286.12405493119365,25.658820052266258,133.29593446457287,60.570893929317229,77.472989567638223,14.180138601482774,923.79335368080967]
[null,{"$f":"+$B$69","v":"2023-05-01"},346.75987649849105,300.65592706426656,27.000466248732639,146.50894042739009,62.880863354360891,79.530049600524123,14.490648203170188,977.82677139693556,null,{"$f":"+$B$69","v":"2023-05-01"},360.37058999075248,314.48427164156033,29.307378339600746,147.10334525367821,66.585886323717901,84.983895333802622,15.302082701682441,1018.1374495847948,null,{"$f":"+$B$69","v":"2023-05-01"},320.32043833042559,278.95880366322251,24.760623999094513,132.60143956038081,58.166052831702181,74.220164835084404,13.725064386438007,902.75258760634824]
[null,{"$f":"+$B$70","v":"2023-06-01"},355.27233962182015,307.60402603549954,28.215046125876739,147.99027293463388,65.667520941530441,83.614854021935031,14.992357786878145,1003.356417468174,null,{"$f":"+$B$70","v":"2023-06-01"},369.83709159278663,322.24788700124566,30.620080569649325,148.57390361057497,69.714757491126917,89.354571114832368,15.833202155389625,1046.1814935356056,null,{"$f":"+$B$70","v":"2023-06-01"},328.51165011392885,285.15161285114095,25.880678357182894,133.68784522695196,60.877287046858044,78.027840425895036,14.199117238435385,926.33603126039316]
[null,{"$f":"+$B$71","v":"2023-07-01"},345.2558783741261,302.09683653751154,27.492632450556854,146.77818970030185,64.161454320701523,81.461077744627772,14.546215173419494,981.79228430124522,null,{"$f":"+$B$71","v":"2023-07-01"},358.47951284660911,315.15828853905305,29.728226836591386,147.3612383257454,67.36667230574237,86.305980139105642,15.360397044870172,1019.7603160377172,null,{"$f":"+$B$71","v":"2023-07-01"},318.62893478690017,279.48606903610442,25.145055149004413,132.54657014829394,58.86485575008124,75.414608546316813,13.778509373098153,903.86460278979916]
[null,{"$f":"+$B$72","v":"2023-08-01"},340.85047226082895,300.38791596367662,27.423020022457099,146.82687102367851,63.678016089398106,80.874569696548164,14.544944271382562,974.58580932796997,null,{"$f":"+$B$72","v":"2023-08-01"},354.53205551797583,314.40603712668155,29.751841692246163,147.40788145113979,67.432812689999182,86.404613085661893,15.359873652873567,1015.2951152165779,null,{"$f":"+$B$72","v":"2023-08-01"},315.06012956857148,278.76605641799642,25.163222241640028,132.88343991470799,58.914567554532844,75.492302898339744,13.776562943413314,900.0562815392019]
[null,{"$f":"+$B$73","v":"2023-09-01"},337.34377393424177,306.38376539358359,28.560879831364669,148.07948312330868,66.230658572294985,84.665769653603306,15.053854239148297,986.31818474754539,null,{"$f":"+$B$73","v":"2023-09-01"},351.50233993309968,319.93055214539368,30.883112025751,148.66887031214335,70.038285945893165,89.730648992794542,15.896580585113067,1026.6503899401885,null,{"$f":"+$B$73","v":"2023-09-01"},312.10007235597737,283.26461043815027,26.129156335896035,133.61643135474421,61.19794223597372,78.404444183803179,14.259458626114478,908.97211553065915]
[null,{"$f":"+$B$74","v":"2023-10-01"},328.80447223194483,297.53648530408333,27.43015695488425,146.6868359586926,63.47650795847391,80.226232961905822,14.578660745323685,958.73935211530829,null,{"$f":"+$B$74","v":"2023-10-01"},342.6370382937784,311.36394672585027,29.755791730548822,147.2826080786632,67.207633060229227,85.710253083908682,15.394071362096906,999.35134233507529,null,{"$f":"+$B$74","v":"2023-10-01"},304.41896134795388,276.17301086965711,25.17357517546343,132.99722348068832,58.736904929662337,74.887696711407926,13.810131652510297,886.19750416734348]
[null,{"$f":"+$B$75","v":"2023-11-01"},333.77107177070775,305.45659886811615,28.728301373399464,148.18271142629848,66.548368403165995,84.45021188289617,15.119425325466089,982.25668905005011,null,{"$f":"+$B$75","v":"2023-11-01"},348.01738786722035,319.39544291509753,31.154709752771989,148.76854348125181,70.494372610031107,90.22343953603125,15.965229448309639,1024.0191256107137,null,{"$f":"+$B$75","v":"2023-11-01"},308.95109473138712,282.72622706060514,26.375334343414526,133.88489781974766,61.599592798401638,78.832733370645286,14.322603847887612,906.69248397208889]
[null,{"$f":"+$B$76","v":"2023-12-01"},335.46602254184995,300.23205469242163,27.724851389715944,146.99095051214377,64.945071721973434,81.179572226967224,14.641226269156771,971.17974935422865,null,{"$f":"+$B$76","v":"2023-12-01"},349.03559718778683,344.2017908628352,30.067331506281164,147.56875840806126,67.913956218281058,86.732454458722671,15.459402793838162,1040.9792914358063,null,{"$f":"+$B$76","v":"2023-12-01"},310.13167644942007,276.45855996644741,25.452348839736253,132.62655154930437,59.345755211103636,75.772747886742422,13.870501357726599,893.65814126048076]
[null,{"$f":"+$B$77","v":"2024-01-01"},349.465884160786,324.70415285746844,27.394748213683314,146.73673911317564,64.29518996280234,80.43475491825339,14.537955608967348,1007.5694248351364,null,{"$f":"+$B$77","v":"2024-01-01"},362.32550144268805,393.47492799876534,29.558914223492536,147.30633449540096,67.08705084651757,85.097148313338465,15.304448467785797,1100.1543257879889,null,{"$f":"+$B$77","v":"2024-01-01"},322.0876696516716,297.21237589790383,24.983717878830312,133.01649241235145,58.600936684713602,74.285896758978978,13.725457896392157,923.9125471808419]
[null,{"$f":"+$B$78","v":"2024-02-01"},352.95856796491654,343.15742774233786,29.468921043686155,149.29856403908011,73.89896986011658,88.009451416539434,15.551251606298401,1052.3431536729752,null,{"$f":"+$B$78","v":"2024-02-01"},399.81059904556258,450.32626396835133,31.891831840133573,149.88382776396446,125.97189368927614,92.259818201467951,16.370618828706565,1266.5148533374627,null,{"$f":"+$B$78","v":"2024-02-01"},323.13477192338212,308.17668346981975,26.974335480104614,134.63812997530727,63.433653351881652,80.569331046084869,14.682650224875335,951.60955547145556]
[null,{"$f":"+$B$79","v":"2024-03-01"},333.73407807597488,346.46582746006521,27.867443492095664,147.77638948023616,73.225879756385666,84.246337720918831,14.53534169483431,1027.8512976805107,null,{"$f":"+$B$79","v":"2024-03-01"},379.55532030376366,511.30865082649314,29.865220672183831,147.54915717031852,123.13275566208006,130.74613835196737,15.301647457242378,1337.4588904440488,null,{"$f":"+$B$79","v":"2024-03-01"},304.31868885987137,304.94258876726298,25.259043548035343,133.17533694505013,59.287447388175686,75.493872552815432,13.723120236362432,916.20009829757328]
[null,{"$f":"+$B$80","v":"2024-04-01"},336.27928185401584,344.32113407397105,28.765634874737845,148.54640646663202,70.60363044609413,85.074507530099893,15.025131422864529,1028.6157266684154,null,{"$f":"+$B$80","v":"2024-04-01"},384.8642668604345,437.89789227248622,31.021830063075775,148.73214046059346,125.62761375240797,89.789498349159771,15.816632850722925,1233.7498746088806,null,{"$f":"+$B$80","v":"2024-04-01"},308.97155291579134,309.2968766955384,26.258019645277962,133.87355553436913,61.516904288180882,78.476198098416859,14.186066542025102,932.57917371959957]
[null,{"$f":"+$B$81","v":"2024-05-01"},324.26105158728683,327.02760727858981,27.758050157395118,147.02595497346982,63.813659948426462,81.399325208719887,14.542566600793627,985.82821575468154,null,{"$f":"+$B$81","v":"2024-05-01"},337.98385889528413,341.09206066754837,30.029333797487915,147.58805257690923,68.056508746424143,86.797038695932528,15.308144797137068,1026.8549981767235,null,{"$f":"+$B$81","v":"2024-05-01"},300.25929623217047,303.8096882009927,25.419459507822065,133.44837027479696,59.497248264285048,75.858126084400823,13.731004260955419,912.02319282542351]
[null,{"$f":"+$B$82","v":"2024-06-01"},331.74003470520785,332.10431509678381,28.910187997645103,148.26835168059989,66.358784965396964,84.861174120865314,15.050194602715482,1007.2930431692143,null,{"$f":"+$B$82","v":"2024-06-01"},345.97151811599014,347.13249147999591,31.267347377682807,148.83997239972621,70.766136057109193,90.475260263553153,15.842672908461999,1050.2953986025193,null,{"$f":"+$B$82","v":"2024-06-01"},307.21352933847822,308.78445302629427,26.481797642418613,133.87308118486314,61.872948066893329,79.093743729729837,14.209883041029713,931.52943602970697]
[null,{"$f":"+$B$83","v":"2024-07-01"},324.80475471802254,326.20172636254301,28.063214759331572,147.03409339858229,64.059229918580812,81.940608261189738,14.602596225648654,986.70622364389862,null,{"$f":"+$B$83","v":"2024-07-01"},338.48838233290326,340.06591783913746,30.340680161277646,147.60931729472253,68.291086700530116,87.327280365307502,15.369703064963032,1027.4923677588415,null,{"$f":"+$B$83","v":"2024-07-01"},300.83659365905299,303.09204576217655,25.715874329309116,133.12378071761592,59.751335232038379,76.404734320871341,13.788742520839829,912.71310654190415]
[null,{"$f":"+$B$84","v":"2024-08-01"},325.99923687857239,328.57611312132042,28.161201472826257,147.26592682753989,64.978630626023502,82.548442345841664,14.608531540970512,992.13808281309457,null,{"$f":"+$B$84","v":"2024-08-01"},339.77976098753777,340.80918015207959,30.447924959413871,147.8241624965973,68.723456090426055,87.989175800511958,15.376515810087852,1030.9501762966545,null,{"$f":"+$B$84","v":"2024-08-01"},301.93522982297623,303.56598868177826,25.805090709470246,133.42883910380951,60.108045981293486,76.959926506310666,13.793735169334658,915.5968559749731]
[null,{"$f":"+$B$85","v":"2024-09-01"},333.96354651681548,334.29176232406712,29.218217857697439,148.524490866761,68.288466169050679,86.168114849002279,15.115943604760684,1015.5705421881547,null,{"$f":"+$B$85","v":"2024-09-01"},347.51507338402672,379.11445108935874,31.586714608248151,149.09099551526378,71.351621273742296,91.323056502186986,15.909980525295113,1085.8918928981218,null,{"$f":"+$B$85","v":"2024-09-01"},308.6676409916962,308.17576172643919,26.777598734626718,134.07845417183879,62.41271841430494,79.880098976586098,14.273316064102495,934.26558907959429]
[null,{"$f":"+$B$86","v":"2024-10-01"},325.82146956952818,324.79022343368661,28.192852528906414,147.19150730181835,64.940272107999206,82.151804634457562,14.636232789257893,987.72436236565431,null,{"$f":"+$B$86","v":"2024-10-01"},339.40732278291534,338.60486155243734,30.47922071012637,147.75841139900351,68.657575245052584,87.568602501183534,15.404517114780836,1027.8805113054996,null,{"$f":"+$B$86","v":"2024-10-01"},301.63917887094766,301.66171408063383,25.837139141175321,133.38711346920732,60.064020690228404,76.589203533474048,13.820812518484367,912.99918230415096]
[null,{"$f":"+$B$87","v":"2024-11-01"},333.52837963317086,331.0904957519781,29.396645180516412,148.43391014077443,67.54703316415798,85.657707131966134,15.172106715602318,1010.8262777181661,null,{"$f":"+$B$87","v":"2024-11-01"},347.4101474849316,344.77825270480378,31.769774083927423,149.01178813430801,71.422489124314566,91.28877614597036,15.967805588020035,1051.6490332662759,null,{"$f":"+$B$87","v":"2024-11-01"},308.62188452345953,306.78147316736045,26.949729475426487,134.37212051090188,62.496488841364503,79.870201240250353,14.327148630445558,933.4190463892088]
[null,{"$f":"+$B$88","v":"2024-12-01"},327.51519340861717,326.56110955262784,28.537210189790468,147.73125006504881,65.882608811219299,83.445445128694217,14.698449589331819,994.37126674532965,null,{"$f":"+$B$88","v":"2024-12-01"},340.51052266191903,339.25629271743128,30.744199300535424,147.91317508458673,69.08261813145576,88.223338189518628,15.468656342591775,1031.1988024280386,null,{"$f":"+$B$88","v":"2024-12-01"},302.62979323786709,301.43595843254502,26.078308533493399,133.32161938260012,60.43947483029033,77.169869248913912,13.880450181685276,914.95547384739518]
[null,{"$f":"+$B$89","v":"2025-01-01"},326.6250605300304,343.11205023104981,27.979098952521717,147.03273569084971,67.266554877448229,81.563755887070002,14.570928920411726,1008.1501850893815,null,{"$f":"+$B$89","v":"2025-01-01"},375.30322000117593,420.32644131254023,30.230697718309514,147.63221588725602,123.40277419569992,86.392355539288516,15.383852428337983,1198.6715570826079,null,{"$f":"+$B$89","v":"2025-01-01"},300.74252544101256,314.00702821638663,25.611733442851797,133.75457224876308,59.603150812926074,75.520600709436067,13.804580904278531,923.04419177565467]
[null,{"$f":"+$B$90","v":"2025-02-01"},349.84442782616918,361.34822716342273,31.201433280941622,150.94501445607787,75.858627333556356,91.490321107900343,16.116256039969212,1076.8043072080375,null,{"$f":"+$B$90","v":"2025-02-01"},399.39470835475697,438.58994769453039,33.716720346838201,151.57816489536097,131.592183286492,96.94483927779072,17.015437371556555,1268.8320012273257,null,{"$f":"+$B$90","v":"2025-02-01"},321.68043471789247,329.28666186519956,28.57847145757022,136.26802389772988,66.800605292281233,84.770475896694407,15.268424419808905,982.65309754717669]
[null,{"$f":"+$B$91","v":"2025-03-01"},331.46082190028943,358.91652834042645,28.37362760534819,148.20017311269831,74.658684662304935,84.633449693834308,14.536311446981566,1040.7795967618831,null,{"$f":"+$B$91","v":"2025-03-01"},377.81182235238748,485.15351533247735,30.553916941027147,147.99078952408823,124.49934026419351,88.217602456177445,15.347904835815141,1269.5748917061662,null,{"$f":"+$B$91","v":"2025-03-01"},302.91829815734349,315.46649299201738,25.896630355158216,133.68417487779885,60.551568500201057,77.119472303551916,13.770837632805378,929.40747481887627]
[null,{"$f":"+$B$92","v":"2025-04-01"},335.95390438401034,350.17146855905315,29.262016161507759,148.56093574959942,71.12135002916213,85.696134613612244,15.012524535206348,1035.7783340321514,null,{"$f":"+$B$92","v":"2025-04-01"},384.95977129411608,427.31611276724038,31.705048222546854,149.15315814821719,126.93459715727982,91.498326249777676,15.850511655109088,1227.417525494287,null,{"$f":"+$B$92","v":"2025-04-01"},309.32528791324364,319.72147112638095,26.888361217279073,134.24103209675562,62.716408954333978,80.043443948018549,14.222169983454762,947.15817523946669]
[null,{"$f":"+$B$93","v":"2025-05-01"},326.09406171173583,336.3088721424698,28.251725131150419,147.18662445514863,65.106961033328105,82.265838557177503,14.517878590042629,999.73196162105285,null,{"$f":"+$B$93","v":"2025-05-01"},339.76387565052102,350.00887179871063,30.608536774273663,147.78319146528207,68.897235666489649,87.824661386762827,15.327785341627546,1040.2141580836674,null,{"$f":"+$B$93","v":"2025-05-01"},302.06693034944863,313.02636585025436,25.961937264810679,134.30443608278838,60.306853250613479,76.850936505634948,13.754005172836612,926.271464476387]
[null,{"$f":"+$B$94","v":"2025-06-01"},333.93747241790572,342.14296332137155,29.491333212425715,148.56212735688428,67.35645626018345,86.144660477496785,15.029525041221925,1022.6645380874894,null,{"$f":"+$B$94","v":"2025-06-01"},348.54677095541666,357.10018312388195,31.943549540974168,149.15877370159126,71.878330234263146,91.961148285632106,15.868196178993305,1066.4569520207524,null,{"$f":"+$B$94","v":"2025-06-01"},309.71100440707858,318.84792360515655,27.110144670083006,134.27456123329708,62.913007212922437,80.481941507085594,14.238725108459555,947.57730774408265]
[null,{"$f":"+$B$95","v":"2025-07-01"},328.10593574406238,337.14804955212821,28.64488573025297,147.48580178575438,65.825165697164067,83.5826746549522,14.568161171956131,1005.3606743362703,null,{"$f":"+$B$95","v":"2025-07-01"},341.8839172242761,351.24926221149877,31.021171204951386,148.06739957658377,69.660040878618901,89.203165972762264,15.3803503479513,1046.4653074166426,null,{"$f":"+$B$95","v":"2025-07-01"},303.97469933962333,314.02891366581173,26.337602321109131,133.7060056304359,60.981827652464546,78.088542001478913,13.802547387098198,930.92013799802169]
[null,{"$f":"+$B$96","v":"2025-08-01"},327.24435059086215,335.4068092390782,28.607739421593067,147.33946818823762,65.046777734666705,83.192783133483715,14.565479352891812,1001.4034076608133,null,{"$f":"+$B$96","v":"2025-08-01"},341.09781280910744,349.37782451651879,30.979884377998985,147.93471268749497,69.399367512091032,88.789532458532733,15.377609596266927,1042.956743958011,null,{"$f":"+$B$96","v":"2025-08-01"},303.32044763107382,312.4814679200864,26.304552290063896,133.70937128739308,60.769366659149554,77.744287864421864,13.799999897940253,928.12949355012881]
[null,{"$f":"+$B$97","v":"2025-09-01"},337.11435538344898,346.01775836480493,29.829213168177805,148.68540559892293,69.7091122629936,87.342448425087113,15.079933625351515,1033.778226828787,null,{"$f":"+$B$97","v":"2025-09-01"},379.74478959431906,424.98823598982455,32.210941972199393,149.28344437711908,72.213399420967733,92.498146087604255,15.920387572644758,1166.8593450146789,null,{"$f":"+$B$97","v":"2025-09-01"},310.52356831587338,317.73283898428559,27.359192685936499,134.79537217277206,63.231064776200192,80.99118351039553,14.287970926677261,948.92119137214058]
[null,{"$f":"+$B$98","v":"2025-10-01"},327.48528755261754,334.91075588763977,28.681308836326387,147.35351828769404,65.641265892586716,83.029239681431605,14.593914650651289,1001.6952907889474,null,{"$f":"+$B$98","v":"2025-10-01"},341.20573488972417,347.98424317183105,31.057469613092987,147.94837384813349,69.457329156262659,88.625707286723838,15.407076381295614,1041.6859343470637,null,{"$f":"+$B$98","v":"2025-10-01"},303.41131633641083,311.19854748335467,26.374053376174036,134.04520370635339,60.816447444768073,77.578427883026364,13.827726407155676,927.25172263724312]
[null,{"$f":"+$B$99","v":"2025-11-01"},336.48457226440513,342.00887544816629,29.940533209426011,148.75213936651272,68.893913419923663,86.943119228587832,15.122692172396533,1028.1458451094181,null,{"$f":"+$B$99","v":"2025-11-01"},350.10726623759501,355.31758905520803,32.412927269944362,149.34603751417202,72.557858279787283,92.799812451996758,15.965146088887435,1068.5066368975909,null,{"$f":"+$B$99","v":"2025-11-01"},311.16301346780756,317.231124421657,27.541092511135293,134.67470054666393,63.531968147641749,81.241678352089593,14.329211481545359,949.71278892854036]
[null,{"$f":"+$B$100","v":"2025-12-01"},329.57482495687907,337.72187258436526,28.908319955763677,147.48178235027862,66.84098836926411,83.550580821369323,14.642499875398304,1008.7208689133183,null,{"$f":"+$B$100","v":"2025-12-01"},360.29329975179746,414.0180514318323,31.295493600357922,148.07144277128344,69.847685588672519,89.178011026318771,15.457681196536921,1128.1616653667993,null,{"$f":"+$B$100","v":"2025-12-01"},304.27009312157878,310.94834375208922,26.59110152173977,133.90159990739079,61.164536979686225,78.070004699097836,13.874827620825762,928.82050760240838]
[null,{"$f":"+$B$101","v":"2026-01-01"},329.59823540127883,351.77048792302998,28.879843747346563,147.66571258279782,69.15518812092175,83.368558466005837,14.548144330872505,1024.9861705722533,null,{"$f":"+$B$101","v":"2026-01-01"},377.16071555524127,485.94003174136787,30.819113793934001,147.85135949038866,124.3563116513603,87.686576192797986,15.311534629445283,1269.1256430545354,null,{"$f":"+$B$101","v":"2026-01-01"},302.5047096923708,320.79554876035945,26.14954572786371,134.06575701913479,60.475876859947242,76.694987567862924,13.738660915581498,934.42508654312041]
[null,{"$f":"+$B$102","v":"2026-02-01"},352.92844281719476,371.97829904803598,32.195196265859138,151.58402606277375,76.612526371641309,94.949589610391968,16.107295453596002,1096.355375629493,null,{"$f":"+$B$102","v":"2026-02-01"},401.49511494054934,499.64604841339678,34.394135419502362,151.83699549780471,132.64409625910383,98.388742129482111,16.952534884933364,1335.3576675447725,null,{"$f":"+$B$102","v":"2026-02-01"},323.66280968983807,336.81705431126647,29.196930209349759,137.20455040594345,67.741541033819004,86.075984981438623,15.211063520476348,995.90993415213177]
[null,{"$f":"+$B$103","v":"2026-03-01"},335.79529434112885,363.10436853880265,29.157403755331298,148.2775332437449,72.665966851013323,85.541410918602153,14.537012662916702,1049.0789903115399,null,{"$f":"+$B$103","v":"2026-03-01"},378.831792384278,483.76257682102869,31.111247047308854,148.07090768766508,125.11487753879686,89.031385475802693,15.300141074503269,1271.2229280293836,null,{"$f":"+$B$103","v":"2026-03-01"},303.97382826088437,321.59178076777653,26.411597720147633,133.954883377935,61.140728067730045,77.888104625909648,13.727935307742111,938.68885812812528]
[null,{"$f":"+$B$104","v":"2026-04-01"},336.36361766285313,355.94824472492382,29.907033267743319,148.74548941767677,68.891552359040915,86.828491770657976,15.022443580244589,1041.7068727831406,null,{"$f":"+$B$104","v":"2026-04-01"},349.65672443437705,431.52432992105491,32.304433619506383,149.32025145007381,72.443022821704076,92.518152002616503,15.810744221739547,1143.5776584710723,null,{"$f":"+$B$104","v":"2026-04-01"},310.79872242263554,326.3652583279935,27.440022630262472,134.94574864877671,63.436620386731548,80.989234572357105,14.186610825094924,958.16221781385184]
[null,{"$f":"+$B$105","v":"2026-05-01"},327.62299761823562,342.04885251305365,28.87639339470493,147.38686651684594,65.405707188875851,83.430993681399769,14.528959247929606,1009.3007701610454,null,{"$f":"+$B$105","v":"2026-05-01"},341.35820296902267,356.45852272036598,31.189923796030257,147.96438001011782,69.691919776539436,88.888084299232702,15.291032786350879,1050.8420663576596,null,{"$f":"+$B$105","v":"2026-05-01"},303.617988799844,319.894015665381,26.495712162898329,134.42143787898914,61.045865742397666,77.82996779776515,13.720918240933919,937.02590628820917]
[null,{"$f":"+$B$106","v":"2026-06-01"},336.59718745202986,349.72919541171643,30.159786467073708,148.84016962056438,68.89268236153552,87.549579498898581,15.04643349695567,1036.8150343087741,null,{"$f":"+$B$106","v":"2026-06-01"},350.56092338709755,364.17688294552988,32.56766005286201,149.41104436405641,72.834330668409962,93.272490267321359,15.835501673295781,1078.6588333585728,null,{"$f":"+$B$106","v":"2026-06-01"},311.6240888432896,326.22143244351423,27.680899511061455,134.92215650608986,63.789247671512541,81.673127890203247,14.209544650315799,960.12049751598681]
[null,{"$f":"+$B$107","v":"2026-07-01"},329.21181042893119,342.99996903240742,29.218501156195657,147.53030761430307,66.232798210475067,84.334487747747815,14.586792369487029,1014.1146665595473,null,{"$f":"+$B$107","v":"2026-07-01"},342.61084904925156,356.76778035832456,31.543194533254216,148.10738199100152,70.157406257502615,89.817130842050034,15.350461250081787,1054.3542042814663,null,{"$f":"+$B$107","v":"2026-07-01"},304.81418688821884,320.23153949045951,26.824459315492071,134.10479036996091,61.484161347804459,78.703202469905619,13.776483596101318,939.93882347794283]
[null,{"$f":"+$B$108","v":"2026-08-01"},330.02210867569238,344.17788102662462,29.326168346130032,147.74964383140858,66.259911314879261,84.954877277388263,14.595053321407509,1017.0856437935308,null,{"$f":"+$B$108","v":"2026-08-01"},343.873746522712,357.67106829329651,31.659807134967739,148.3103191506566,70.594818981683559,90.489423490221313,15.35937977570314,1057.9585633492406,null,{"$f":"+$B$108","v":"2026-08-01"},305.89677183555546,320.86598685687693,26.923534785135118,134.40401507278344,61.850077850165391,79.272649767030586,13.784023918845794,942.99706008639259]
[null,{"$f":"+$B$109","v":"2026-09-01"},337.82138310031479,350.33475064127674,30.419654758594959,148.9589503972085,69.21461043902903,88.049566055423824,15.10561839386102,1039.9045337857087,null,{"$f":"+$B$109","v":"2026-09-01"},351.42087669467696,363.15492970680708,32.835315488163474,149.53321412639281,73.159252431428996,93.778379861955969,15.896064127242379,1079.7780324366677,null,{"$f":"+$B$109","v":"2026-09-01"},312.48692735056972,325.39219594780297,27.931988844731748,135.1262158455404,64.107592592898072,82.166467688923987,14.266632211792412,961.47802048225935]
[null,{"$f":"+$B$110","v":"2026-10-01"},329.62440796275308,341.15769151350315,29.357920446285426,147.65830711348471,66.15624976382621,84.5496779525362,14.619006615617799,1013.1232613680065,null,{"$f":"+$B$110","v":"2026-10-01"},343.41590300149005,355.64352368555132,31.689728558490533,148.23154578174723,70.469708133033578,90.048816550391251,15.383594688897158,1054.8828203996011,null,{"$f":"+$B$110","v":"2026-10-01"},305.55903011414205,319.18618907472592,26.957097400472502,134.3124299307479,61.767859793545817,78.904776734107486,13.807375858806818,940.49475890654844]
[null,{"$f":"+$B$111","v":"2026-11-01"},337.68423669592437,348.43076954036775,30.698352395347388,148.92235897480589,69.386423812529443,88.570598818972286,15.155365046662943,1038.84810528461,null,{"$f":"+$B$111","v":"2026-11-01"},351.61895502770886,362.11772501367102,33.027852295228911,149.50578277694939,73.324000888112778,93.888494614701131,15.947114236647305,1079.4299248530194,null,{"$f":"+$B$111","v":"2026-11-01"},312.73467107072355,324.57968790555145,28.114049027105114,135.38083967542659,64.28450626970367,82.296644885398962,14.31446054193497,961.70485937584442]
[null,{"$f":"+$B$112","v":"2026-12-01"},331.1506411421567,342.15773514941907,29.641285028308509,147.90450936173664,66.713531982424797,85.44628595784836,14.676477414406472,1017.6904660363004,null,{"$f":"+$B$112","v":"2026-12-01"},345.03805006563641,356.50998598029372,31.987688462250475,148.46237769673695,71.066608953021117,91.005322124083705,15.443026607253772,1059.5130598892761,null,{"$f":"+$B$112","v":"2026-12-01"},306.98750569394321,319.81103994195121,27.224824768134575,134.35366856949364,62.284899340189291,79.740263171614998,13.862288518070754,944.26449000339767]
[null,{"$f":"+$B$113","v":"2027-01-01"},329.75510120551229,355.55616124332727,29.223458863756282,147.63819038231526,65.963898067333659,84.000438596318972,14.578971992829807,1026.7162203513935,null,{"$f":"+$B$113","v":"2027-01-01"},343.11396972548954,368.3468186299649,31.550067619065167,148.21339895269259,70.267161866528198,89.477336563038676,15.340733351550433,1066.3094867083296,null,{"$f":"+$B$113","v":"2027-01-01"},305.32724048055275,331.64261548861691,26.83115501362791,134.65576307288103,61.58933951242809,78.386280030040822,13.770979505074674,952.20337310322225]
[null,{"$f":"+$B$114","v":"2027-02-01"},354.50911193456375,379.30116732832079,32.965471743998265,152.01786353243881,77.632965479235267,96.512300921758481,16.139989656131348,1109.0788705964467,null,{"$f":"+$B$114","v":"2027-02-01"},404.10115525633671,476.31290935756488,35.191256107784895,152.23371738944823,133.9115278666074,100.33872727095792,16.983447025477162,1319.0727402741772,null,{"$f":"+$B$114","v":"2027-02-01"},326.25832916714285,347.91517299078373,29.940315922873669,137.30201289470085,68.947138296140025,87.91940100649748,15.245394756434655,1013.5277650345731]
[null,{"$f":"+$B$115","v":"2027-03-01"},332.84742898426401,365.6632350328577,30.065129948901014,148.24288975689848,72.042327693769977,87.487291102008498,14.567026931521298,1050.915329450221,null,{"$f":"+$B$115","v":"2027-03-01"},379.61140384863955,505.61024412275532,39.940212046707884,148.413187864555,126.23087475747772,111.39075362846268,15.328516732298212,1326.5251930008965,null,{"$f":"+$B$115","v":"2027-03-01"},304.90737687826413,332.56194744637708,27.081597112626547,134.73185545402151,62.20636145951697,79.530522839929148,13.75944413918916,954.7791053299245]
[null,{"$f":"+$B$116","v":"2027-04-01"},335.91544913104326,364.65235139138809,30.666093920837195,149.04739926675973,69.820425125340762,88.448834022761645,15.052449615745243,1053.6030024738761,null,{"$f":"+$B$116","v":"2027-04-01"},351.20540259225874,444.15851258967461,33.023098387476153,149.62850870113564,73.478058205842558,94.158927760005042,15.838908530431102,1161.4914167668239,null,{"$f":"+$B$116","v":"2027-04-01"},310.32738693332402,337.19976244138309,28.114054808085456,135.35109201305184,64.441606562708017,82.566992404682082,14.218300774808572,972.21919593804296]
[null,{"$f":"+$B$117","v":"2027-05-01"},327.23840771167107,354.48309137781996,29.652885711247123,147.91887837949497,66.834331511238929,85.692319402907913,14.561973564991725,1026.3818876593718,null,{"$f":"+$B$117","v":"2027-05-01"},341.07826299412159,369.04388695340617,31.997053786456071,148.48250017331497,71.176091095444121,91.239233689065202,15.322823310821512,1068.3398520026296,null,{"$f":"+$B$117","v":"2027-05-01"},303.54926165938684,332.23354185390866,27.24156716736649,134.98604863652861,62.418981857786491,80.001413884535395,13.75502518267632,954.18584024218899]
[null,{"$f":"+$B$118","v":"2027-06-01"},333.72546175660608,359.80213514112586,30.83841955623647,149.10731770668212,69.302861323952413,89.057357253706869,15.074014358728874,1046.9075670970385,null,{"$f":"+$B$118","v":"2027-06-01"},348.03655211139585,374.85538492949064,33.267229929886774,149.68668516790422,73.795282927182683,94.803614695676643,15.861092986056979,1090.3058427475937,null,{"$f":"+$B$118","v":"2027-06-01"},309.62773098263574,337.0890743927323,28.338525364929652,135.4177560883343,64.732041461479682,83.157291336387644,14.23896932603364,972.60138895253294]
[null,{"$f":"+$B$119","v":"2027-07-01"},325.99449751749654,353.8472538954901,29.913930192019102,147.88944498591118,66.962368627432411,86.087527351257194,14.614793543410812,1025.3098161130174,null,{"$f":"+$B$119","v":"2027-07-01"},339.79341485936828,368.3201948929227,32.263310256032121,148.46476791659157,71.289932390764406,91.622302732194868,15.376859098271446,1067.1307821461453,null,{"$f":"+$B$119","v":"2027-07-01"},302.49850050945372,331.76245147527209,27.495238047965721,134.54220031703085,62.559412495093937,80.404108237252274,13.805967447831913,953.06787852990055]
[null,{"$f":"+$B$120","v":"2027-08-01"},325.62175846655782,353.74222776709348,29.972891218587421,147.95316572883911,67.098818024978073,86.324129472243385,14.62290134025735,1025.3358920185567,null,{"$f":"+$B$120","v":"2027-08-01"},339.44504563718937,368.25381341681492,32.325956605916886,148.52461002322656,71.436454200741963,91.874984730234885,15.385322804914901,1067.2461874190394,null,{"$f":"+$B$120","v":"2027-08-01"},302.17974576374962,331.66062437307937,27.550610666025413,134.87291219957643,62.685913511681399,80.62468285152886,13.813613394142978,953.38810275978426]
[null,{"$f":"+$B$121","v":"2027-09-01"},333.29412077535216,361.09558943490833,31.169615569491572,149.42614812000275,69.962007776556646,90.137279495895783,15.134622852675502,1050.2193840248826,null,{"$f":"+$B$121","v":"2027-09-01"},347.69730929317114,375.68447176195781,33.613989951261949,149.99035121153372,74.492838657285205,95.943097296871898,15.923513020935648,1093.3455711930176,null,{"$f":"+$B$121","v":"2027-09-01"},309.33598381701307,337.72389773425607,28.653451622671945,135.64998791015208,65.352731608203513,84.177561334322831,14.29710337201719,975.19071739863671]
[null,{"$f":"+$B$122","v":"2027-10-01"},324.57826711967721,353.13137947590906,30.052298814809866,148.02252509855353,67.270887027715915,86.372568324779962,14.642487447222631,1024.0704133086683,null,{"$f":"+$B$122","v":"2027-10-01"},338.41929087489325,367.665841962662,32.409641044154711,148.59134094776505,71.616868806090537,91.931662043837889,15.405388369100145,1066.0400340485037,null,{"$f":"+$B$122","v":"2027-10-01"},301.26782972388662,331.10901950040522,27.626047571414858,134.80281896241135,62.849900083129612,80.667443286393677,13.832477074011305,952.15553620165269]
[null,{"$f":"+$B$123","v":"2027-11-01"},331.48988482059724,359.05216584864877,31.316697204446093,149.27525930806436,69.936593113313478,89.984576758847524,15.180228229379665,1046.235405283297,null,{"$f":"+$B$123","v":"2027-11-01"},345.82663644764125,374.12641462569769,33.762348390962302,149.85583489614402,74.444707409915409,95.758311919316185,15.970169062553786,1089.7444227522305,null,{"$f":"+$B$123","v":"2027-11-01"},307.74167224778222,336.51378814379791,28.797723236346496,135.7231488087038,65.347744178351618,84.054284844950175,14.341057405339155,972.51941886527129]
[null,{"$f":"+$B$124","v":"2027-12-01"},323.99096138340087,353.05254647750644,30.291385411240505,148.14445709808609,67.584648522527559,86.937424580439085,14.698226574500417,1024.6996500477007,null,{"$f":"+$B$124","v":"2027-12-01"},337.87549543609867,367.6593398923057,32.659108189116019,148.70751591311367,71.948899148019223,92.52769897761857,15.462856260596913,1066.8409138168688,null,{"$f":"+$B$124","v":"2027-12-01"},300.78298669680356,331.05240697377405,27.853582314408136,134.92310340265863,63.144760220221642,81.199589099137725,13.88586883545066,952.84229754245439]
[null,{"$f":"+$B$125","v":"2028-01-01"},322.93878916204773,362.13095556663274,29.926101971731878,147.93638426657182,67.50170694956563,85.727598125080931,14.609113965114442,1030.770650006745,null,{"$f":"+$B$125","v":"2028-01-01"},336.3550912788632,375.15185435887173,32.276500628043379,148.51324284054019,71.281986541147802,91.248219303994205,15.369221012193321,1070.1961159636537,null,{"$f":"+$B$125","v":"2028-01-01"},299.48375423441951,338.94882997897923,27.509680518976332,135.15278201464969,62.5661842173743,80.068445676468087,13.80260490723207,957.53228154809915]
[null,{"$f":"+$B$126","v":"2028-02-01"},340.01645147613772,380.96472662231395,32.502786641272593,150.95701407326015,76.053340955452981,94.07491223182771,15.62281879696021,1090.1920507972252,null,{"$f":"+$B$126","v":"2028-02-01"},387.52434008545555,456.61501822725779,34.764896977203584,151.17327534465403,130.38660232072232,98.758392827464377,16.435669505890235,1275.6581952886479,null,{"$f":"+$B$126","v":"2028-02-01"},312.8907680985152,350.8979749457115,29.643497376465234,136.51884760334323,67.605755221457358,86.676882058834693,14.76032776804872,998.99405307237578]
[null,{"$f":"+$B$127","v":"2028-03-01"},327.652375641508,373.22602253488174,30.676803085175031,148.39815546874749,71.56134185335506,90.08134990090069,14.602246740755712,1056.1982952253236,null,{"$f":"+$B$127","v":"2028-03-01"},375.42178303296191,505.28751969319632,40.453566158449178,148.80680162861859,127.40982399589663,120.13034475572663,15.362420954985295,1332.8722602198345,null,{"$f":"+$B$127","v":"2028-03-01"},301.34632199282936,341.21869527029526,27.789067565118387,135.19789655319491,63.316451952952754,81.441666106089016,13.795780150286383,964.10587959076599]
[null,{"$f":"+$B$128","v":"2028-04-01"},333.73109850198369,373.12565837936324,31.444075435762162,149.42518607060904,72.357513731723245,90.449014751625612,15.088476156567532,1065.6210230276345,null,{"$f":"+$B$128","v":"2028-04-01"},381.35988817631278,452.79030598516863,33.798776595935209,150.00448356443704,86.839246129003001,96.188234993863659,15.873387686504152,1216.8543231312246,null,{"$f":"+$B$128","v":"2028-04-01"},308.01045223333648,346.14182483585574,28.838078316775128,135.70167376376423,65.563556030263527,84.488386382417104,14.255650895559905,982.99962245797201]
[null,{"$f":"+$B$129","v":"2028-05-01"},324.6901260418432,363.30840437911303,30.344570142713494,148.14640019351253,67.813250070359956,87.2725755476161,14.600689441132332,1036.1760158162906,null,{"$f":"+$B$129","v":"2028-05-01"},338.14329727357426,377.10198356548938,32.709464545344922,148.71929594659898,72.04618348461257,92.840665376281109,15.36000167561836,1076.9208918675195,null,{"$f":"+$B$129","v":"2028-05-01"},301.19499217193436,340.77110268273384,27.91199605206301,135.32348314666052,63.285827945015612,81.558853649910958,13.794969809165709,963.84122545748414]
[null,{"$f":"+$B$130","v":"2028-06-01"},333.34489030390222,370.70159360364283,31.726052646728128,149.60312011181335,71.163784534022184,91.35366017423739,15.116439322768358,1063.0095406971145,null,{"$f":"+$B$130","v":"2028-06-01"},347.37734963140764,385.1879460735891,34.094109555227448,150.17073366666833,75.157101625668702,97.181341973585688,15.902329765809686,1105.0709122919566,null,{"$f":"+$B$130","v":"2028-06-01"},309.25595352828213,347.46014380432837,29.105463802910666,136.13270462582426,66.008712823418264,85.37201255993989,14.282326831943582,987.61731797664697]
[null,{"$f":"+$B$131","v":"2028-07-01"},325.64447411667811,364.60938146730643,30.653044324333447,148.29244280418393,68.134657114751377,88.128690700497884,14.650778831908006,1040.1134693596591,null,{"$f":"+$B$131","v":"2028-07-01"},339.41093541422742,378.44599718435404,33.028310321253137,148.86305661705146,72.490270519012512,93.72305521254394,15.411417760059345,1081.3730430285018,null,{"$f":"+$B$131","v":"2028-07-01"},302.39940194844269,342.02323895651767,28.20836280349091,135.14671911616432,63.703382154450907,82.385119523536815,13.843156194673121,967.70938069727629]
[null,{"$f":"+$B$132","v":"2028-08-01"},326.96139151885535,366.58198445236462,30.71973633546208,148.34841376417998,68.542033669841203,88.369995835562378,14.661789032232342,1044.1853446084979,null,{"$f":"+$B$132","v":"2028-08-01"},339.81202628938746,378.76958095569228,33.098699197875725,148.91562921219969,72.619334388531968,93.979336454787202,15.422824356363662,1082.6174308548379,null,{"$f":"+$B$132","v":"2028-08-01"},302.7585338701391,342.28038293948021,28.271343184374945,135.12164302221709,63.815659035301408,82.611256150097262,13.853633752824713,968.71245195443464]
[null,{"$f":"+$B$133","v":"2028-09-01"},335.3983496165182,374.4131576455315,32.261460473182375,149.72956237915571,73.115695028819317,92.629683929575066,15.173144430427119,1072.7210535032091,null,{"$f":"+$B$133","v":"2028-09-01"},348.35238431117114,440.08578186679142,34.366070478567281,150.29777624688413,75.488448773915465,97.795583558486584,15.96040301230417,1162.3464482481202,null,{"$f":"+$B$133","v":"2028-09-01"},310.21391146191002,348.16414907789965,29.359313989721862,136.15957199664763,66.330083438971968,85.958543558717651,14.336978657216045,990.52255218108473]
[null,{"$f":"+$B$134","v":"2028-10-01"},326.78359237311122,365.79584534196078,30.889670422563704,148.42124025076387,68.950033004284236,88.444677958082167,14.680644912325036,1043.9657042630911,null,{"$f":"+$B$134","v":"2028-10-01"},340.30790850366179,379.0157926499167,33.182442676162033,148.98494166478841,72.78080678850904,94.06441734741928,15.442171889822461,1083.7784815202795,null,{"$f":"+$B$134","v":"2028-10-01"},303.21370049677148,342.47205669184814,28.346447618932995,135.49410017594047,63.960535798669987,82.678116428180886,13.871759300805522,970.03671651114939]
[null,{"$f":"+$B$135","v":"2028-11-01"},334.77971747928808,371.96993912687412,32.144309237752495,149.66737492136926,72.13111428072277,92.026724982437386,15.211907188881598,1067.9310872173257,null,{"$f":"+$B$135","v":"2028-11-01"},348.43035883454075,385.71467767946115,34.524706707766313,150.2437041972905,75.579040655545555,97.857440689213703,16.000126736082702,1108.3500554999007,null,{"$f":"+$B$135","v":"2028-11-01"},310.34340734260832,348.10696241017422,29.509356590366217,136.34149705979985,66.435534498047105,86.039264145630483,14.37428235518257,991.15030440180863]
[null,{"$f":"+$B$136","v":"2028-12-01"},328.58184640719185,368.0174120128662,31.345036968038162,148.43337958178029,70.914360912097067,89.111431850542957,14.727442325835135,1051.1309100583517,null,{"$f":"+$B$136","v":"2028-12-01"},372.04945333588415,437.99882445495052,33.371987842755402,148.99927684519605,92.334236214225086,94.338557747936079,15.490265162842466,1194.5826016037897,null,{"$f":"+$B$136","v":"2028-12-01"},303.56212711439457,342.66575388143258,28.522437771436188,134.95627372122198,64.07409348525006,82.937393820987694,13.916703974768556,970.63478376949161]
[null,{"$f":"+$B$137","v":"2029-01-01"},328.37758608326851,378.45827349785725,31.11373033597275,148.25727923669342,71.989638496429848,88.59056970148545,14.575004921643185,1061.3620822733503,null,{"$f":"+$B$137","v":"2029-01-01"},376.10234181977961,513.99241923976479,42.076823311738544,148.85515507048547,127.32284963151469,92.7184576702859,15.383247734297235,1316.4512944778662,null,{"$f":"+$B$137","v":"2029-01-01"},301.89757091336253,349.87815028951775,27.949669618271468,135.55106764664444,63.245459619409552,81.314746248814004,13.766762108989131,973.60342644500884]
[null,{"$f":"+$B$138","v":"2029-02-01"},351.83875183064777,399.57531425096306,34.462873106229857,153.0647322905759,79.631745438017802,100.60072861607308,16.090412379670273,1135.2645579121777,null,{"$f":"+$B$138","v":"2029-02-01"},401.28889588181869,517.89292629306624,45.788865961828442,152.91624362776869,135.9274481954003,132.58416201330272,16.983417176447222,1403.3819591496322,null,{"$f":"+$B$138","v":"2029-02-01"},323.86127253963036,366.24024317560747,31.117308822059833,138.17816357916237,70.823899823492425,91.184723790272002,15.197407582893319,1036.6030193131178]
[null,{"$f":"+$B$139","v":"2029-03-01"},331.50574310669867,384.57909042038989,31.518575343658636,148.55261932806025,74.403179798486519,89.752070636119498,14.498639476988291,1074.8099181104017,null,{"$f":"+$B$139","v":"2029-03-01"},378.19048698457982,458.25373699396795,42.325017008423096,149.12533777717647,128.26240384222942,94.385902176872676,15.30388757228787,1265.8467723555373,null,{"$f":"+$B$139","v":"2029-03-01"},303.71799785993881,352.19476642745695,28.167553033732894,135.62680427534431,64.062020270872637,82.782064901817961,13.693391381688713,980.2445981508522]
[null,{"$f":"+$B$140","v":"2029-04-01"},335.21686925214038,383.9802399020225,31.860119225784143,149.73102940304227,71.724962412917506,91.899228763657689,14.959475328753003,1079.3719242883176,null,{"$f":"+$B$140","v":"2029-04-01"},348.87237406352659,460.18889932228734,34.304960222357217,150.33043047288686,75.499524473464291,97.874625019641172,15.790110520761377,1182.8609240949247,null,{"$f":"+$B$140","v":"2029-04-01"},310.48954586757452,357.18558048175782,29.233911562544399,136.13365014303491,66.305400352370725,85.923832507674206,14.128840136744628,999.40076105170112]
[null,{"$f":"+$B$141","v":"2029-05-01"},327.08707095127949,374.31936627734603,30.750984934758414,148.43246202148927,68.745285933518858,88.740304830525645,14.458305314236766,1052.5337802631543,null,{"$f":"+$B$141","v":"2029-05-01"},340.8976918686306,388.29285657366592,33.203331490037527,149.02446440749279,72.86211895629306,94.503964115444958,15.261195038916807,1094.0456224504817,null,{"$f":"+$B$141","v":"2029-05-01"},303.55377124569475,351.78935985199382,28.298638379479296,135.59190511193052,63.998104523647861,82.976645545606303,13.655415589556721,979.86384024790925]
[null,{"$f":"+$B$142","v":"2029-06-01"},335.45588122388097,381.0842884983208,32.058954962653715,149.89502981346291,71.359504576738573,92.901912996470628,14.955125413393281,1077.710697484921,null,{"$f":"+$B$142","v":"2029-06-01"},350.22277112857563,396.44017293487536,34.609431620169026,150.48207817103759,75.987107964561204,98.936302612779471,15.785697977590203,1122.4635624095886,null,{"$f":"+$B$142","v":"2029-06-01"},311.69050607933985,358.52840406176631,29.508478305138389,136.57788580100379,66.731901188915927,86.867523380161771,14.124552849196355,1004.0292516655223]
[null,{"$f":"+$B$143","v":"2029-07-01"},327.91085121057438,375.18797354274869,31.06162382044316,148.56079990286966,68.821989870178669,89.624238467307222,14.482892114329751,1055.6503689284516,null,{"$f":"+$B$143","v":"2029-07-01"},342.11584553618127,389.62362717795395,33.52637740528376,149.1500407555516,73.266368599206402,95.419730557851935,15.286664786500243,1098.3886548185292,null,{"$f":"+$B$143","v":"2029-07-01"},304.7073716451211,353.02131345593045,28.596870235602559,135.31632953486246,64.377611141150965,83.828746376762496,13.679119442159251,983.52736183158936]
[null,{"$f":"+$B$144","v":"2029-08-01"},328.24607435465634,375.62934485776344,31.137515212475805,148.61343730656341,68.938660032011569,89.889791192365522,14.488893048067107,1056.9437160039031,null,{"$f":"+$B$144","v":"2029-08-01"},342.46977440385518,389.97291214948314,33.606319014987015,149.19907147012015,73.391000100726885,95.701372743406907,15.29297674664463,1099.633426629224,null,{"$f":"+$B$144","v":"2029-08-01"},305.023889065611,353.30280982410829,28.668711409964587,135.75340785777567,64.486319963296211,84.078209641324122,13.684809349489576,984.99815711156941]
[null,{"$f":"+$B$145","v":"2029-09-01"},337.71163268677822,385.18586959753179,32.606442074193346,150.00032843170419,73.27104088445958,93.549396206183289,14.987555044468373,1087.3122649253187,null,{"$f":"+$B$145","v":"2029-09-01"},361.60444918519397,455.95805800573771,34.89505019012379,150.58739458563812,76.276831562567935,99.600788358616072,15.819246245821404,1194.7418181336989,null,{"$f":"+$B$145","v":"2029-09-01"},312.54739761518272,359.2343478559925,29.773727291596238,136.4294929809457,67.01465020635122,87.49800405375052,14.155863843115338,1006.653483846934]
[null,{"$f":"+$B$146","v":"2029-10-01"},330.20033341806806,378.25945824440146,31.418923496760002,148.6883804631351,71.233497983454555,90.068382545090415,14.502258242241759,1064.3712343931513,null,{"$f":"+$B$146","v":"2029-10-01"},342.99485963969761,390.30940574248734,33.711182487045868,149.27023760716142,73.548610723525016,95.780808951329078,15.306865887450122,1100.9219710386965,null,{"$f":"+$B$146","v":"2029-10-01"},305.51067679530172,353.5834462301865,28.76392257099026,135.84638006379163,64.629094920803468,84.144820654980762,13.697650597033391,986.17599183308766]
[null,{"$f":"+$B$147","v":"2029-11-01"},337.54247855322399,384.00771604639169,32.78342811330981,149.94117941819312,73.366747963080897,94.902949007009568,15.026448926329925,1087.5709480275391,null,{"$f":"+$B$147","v":"2029-11-01"},351.20433875804247,397.05937425253586,35.077746771383701,150.53625485407426,76.365594390137971,99.591719084580248,15.859634407304195,1125.6946625180585,null,{"$f":"+$B$147","v":"2029-11-01"},312.70966644189241,359.25392450691425,29.945002788569248,136.73985200752603,67.117301536023831,87.513445596105527,14.193263445355651,1007.4724563223868]
[null,{"$f":"+$B$148","v":"2029-12-01"},330.26010490212542,378.59655055509137,31.704889789763374,148.6948209142291,70.823089032665976,91.181993646079192,14.547627277421824,1065.8090761173762,null,{"$f":"+$B$148","v":"2029-12-01"},343.33090880867076,390.51248815873498,33.914387102869696,149.27877759291451,73.653074815929187,96.00077320143275,15.354091168911857,1102.0445008494635,null,{"$f":"+$B$148","v":"2029-12-01"},305.84498349766915,353.79758224177027,28.951282799237678,135.25570272915223,64.732135507467277,84.352439897177206,13.741163385931783,986.67529005840549]
[null,{"$f":"+$B$149","v":"2030-01-01"},329.9230553362566,389.99857150274408,31.389917611522719,148.84644283348732,71.501510952993314,89.704523676927039,14.403281746727895,1075.7673036606589,null,{"$f":"+$B$149","v":"2030-01-01"},378.1737159071705,466.32447907007065,42.554852350302937,149.05061182420957,127.91902386292074,94.107014255750443,15.207634299507472,1273.3373315699323,null,{"$f":"+$B$149","v":"2030-01-01"},304.22188214277645,360.95078629322052,28.447511171133062,135.42850737387292,63.888017451128853,82.738480657265569,13.645889559494867,989.32107464889225]
[null,{"$f":"+$B$150","v":"2030-02-01"},355.21842662555071,412.49956718741691,35.156143025408426,152.89583237856652,82.366673520618477,100.72319903191161,15.903503802458729,1154.7633455719313,null,{"$f":"+$B$150","v":"2030-02-01"},403.56806980346869,486.77224088781941,46.326215985795379,153.13222648822656,136.60109679401006,105.48102799357147,16.792313376330874,1348.6731913292224,null,{"$f":"+$B$150","v":"2030-02-01"},326.42628286214051,377.95072411716791,31.67646673989163,139.49221182872321,71.534564531981943,92.756165653972147,15.066198766453171,1054.9026145003306]
[null,{"$f":"+$B$151","v":"2030-03-01"},334.42109895475778,398.87164933580158,32.176780491267749,149.14096287976969,75.86872124858084,92.088415040195045,14.331861802155856,1096.8994897525286,null,{"$f":"+$B$151","v":"2030-03-01"},380.25306438372581,469.17258242855763,42.815422548468774,149.31972082405798,128.84032228131002,95.768938804673823,15.133372673232428,1281.3034239440262,null,{"$f":"+$B$151","v":"2030-03-01"},306.03647632317438,363.29025266193895,28.676972769226989,135.65458671923668,64.690550190156799,84.205487808157613,13.576507951807544,996.13083442369896]
[null,{"$f":"+$B$152","v":"2030-04-01"},338.34805348288745,397.50603268797386,32.588364694777873,149.87670283724711,74.357311484580137,93.845015260365173,14.788280017316712,1101.3097604651484,null,{"$f":"+$B$152","v":"2030-04-01"},387.60738042111177,474.62505494333709,34.785158956377465,150.47143027618566,117.99937507434512,99.123716126736355,15.615228854277404,1280.2273446523709,null,{"$f":"+$B$152","v":"2030-04-01"},312.56055692986683,367.98565448009799,29.734615224532455,136.369731395033,66.846089319228312,87.218339281025649,14.008885649597556,1014.7238722793819]
[null,{"$f":"+$B$153","v":"2030-05-01"},328.42281501082999,384.47115987358768,31.194207616652427,148.57063243921303,68.882587239106527,89.899965373697341,14.293839608946016,1065.735207162033,null,{"$f":"+$B$153","v":"2030-05-01"},342.62741897165068,398.88744086963516,33.669887865098858,149.15799013293545,73.324983079673586,95.714754393487993,15.093222808921043,1108.4756981214027,null,{"$f":"+$B$153","v":"2030-05-01"},305.54364184358587,362.56411685036488,28.784906843477046,136.66786526664583,64.513699257013414,84.231036822730616,13.540351164471346,995.845618048289]
[null,{"$f":"+$B$154","v":"2030-06-01"},337.19881880571467,391.69745626638638,32.517297728934771,150.0371853889402,71.82095751013081,94.103244074608753,14.785719825107511,1092.1606795998232,null,{"$f":"+$B$154","v":"2030-06-01"},351.99784794163776,407.05454405791392,35.091944179461841,150.61926966061498,76.458873018234584,100.19068239243106,15.612685267909235,1137.0258465182033,null,{"$f":"+$B$154","v":"2030-06-01"},313.73966939301016,369.3341304239608,30.012531192994526,136.34048374910688,67.260437102616336,88.170306629688369,14.006308796113698,1018.8638672874906]
[null,{"$f":"+$B$155","v":"2030-07-01"},329.46127329234633,385.83683940924504,31.495395361812708,148.67250662923649,69.214303208986792,90.709452208085551,14.319805901560589,1069.7095760112734,null,{"$f":"+$B$155","v":"2030-07-01"},343.69688745199386,400.08638377325042,33.98366663930075,149.25683761101484,73.668345540805831,96.556121131908881,15.120217149837616,1112.3684592981122,null,{"$f":"+$B$155","v":"2030-07-01"},306.55461249696214,363.66989688342994,29.075357553021114,135.73336470667553,64.835055192774917,85.012615157978544,13.56563572867698,998.44653771951914]
[null,{"$f":"+$B$156","v":"2030-08-01"},329.88644656446343,387.32411881039081,31.573824195716753,148.72364004618584,69.325959150245922,90.966670984176361,14.327073951582996,1072.1277337027623,null,{"$f":"+$B$156","v":"2030-08-01"},344.05013799705841,400.44026924836976,34.066231678053931,149.30422564078344,73.787579096048944,96.829040430257166,15.127849366329983,1113.6053334569015,null,{"$f":"+$B$156","v":"2030-08-01"},306.87076118929116,363.95581929734118,29.149779515371677,136.00285584257466,64.939095943168866,85.254419964672948,13.572642855568564,999.74537460798911]
[null,{"$f":"+$B$157","v":"2030-09-01"},339.50937254188744,397.01664559838338,32.787558419108386,150.11302247274841,73.359996164184011,94.654397637971698,14.821406814631761,1102.2623996489151,null,{"$f":"+$B$157","v":"2030-09-01"},365.11849208698089,474.91784997547575,35.372725493144259,150.6947544295131,76.68090825752796,100.75790790260164,15.649747283063839,1219.1923854283075,null,{"$f":"+$B$157","v":"2030-09-01"},314.45503436717144,369.91370490801557,30.273419965500043,136.83356797269013,67.478069874385568,88.706561648366673,14.041123192950574,1021.70148192908]
[null,{"$f":"+$B$158","v":"2030-10-01"},331.65886198987977,389.15688043877685,31.860674640117988,148.79615622837781,70.552067968912468,91.037300011276542,14.342379364637942,1077.4043206419792,null,{"$f":"+$B$158","v":"2030-10-01"},344.57550037037294,436.98139345379514,34.176723953492299,149.37272918566742,73.936852159323308,96.905553779212568,15.143796452926161,1151.0925493547898,null,{"$f":"+$B$158","v":"2030-10-01"},307.3583729886646,364.24901727544619,29.250108117989498,136.20387331924786,65.074612486207826,85.315983030215847,13.587530625794512,1001.0394978435663]
[null,{"$f":"+$B$159","v":"2030-11-01"},340.93996221759096,397.66220468685299,33.691659467763664,150.05032614074284,76.456464291071867,96.677409411135841,14.860786905141497,1110.3388131202998,null,{"$f":"+$B$159","v":"2030-11-01"},389.75491174546119,476.72409003756184,44.807212075776725,150.63979025070671,132.01508594339617,100.74283140579391,15.690691380592678,1310.3746128392891,null,{"$f":"+$B$159","v":"2030-11-01"},314.60899203919189,369.93347064240777,30.44757194543088,136.73233841388455,67.569708253614806,88.717337451649641,14.079475939421995,1022.0888946856015]
[null,{"$f":"+$B$160","v":"2030-12-01"},333.67570401534937,394.1681284626336,32.601179876074397,149.57734474699546,73.868798985742956,93.476501938920748,14.388139733956958,1091.7557977596737,null,{"$f":"+$B$160","v":"2030-12-01"},381.82812557178465,521.73099597664145,43.631183898338328,149.37656921831447,129.28708149620348,98.619756976493321,15.191491441674327,1339.6652045794501,null,{"$f":"+$B$160","v":"2030-12-01"},307.68048815796851,364.47582581126528,29.43969709821431,135.94694528143555,65.164513238190438,85.517425191386991,13.631936569755062,1001.8568313482161]
[null,{"$f":"+$B$161","v":"2031-01-01"},334.96942060968485,397.39941339750612,32.800696374995724,149.45244264627192,75.653905933773117,94.295818847915669,14.322262211160798,1098.8939600213082,null,{"$f":"+$B$161","v":"2031-01-01"},380.88091750613222,522.9498944800489,43.367934521592538,149.25865684964398,128.83204031441551,161.96482382690351,15.11861917842428,1402.3728866771607,null,{"$f":"+$B$161","v":"2031-01-01"},306.91842973112472,363.22315848665528,29.210217008903967,136.55594684608693,64.77992454287326,84.779466053307843,13.571429315204799,999.03857198415699]
[null,{"$f":"+$B$162","v":"2031-02-01"},363.05809477843803,429.04058494302308,37.586706713619677,154.712128214258,88.916938241788571,105.91739737762815,15.87259487643832,1195.1044451451939,null,{"$f":"+$B$162","v":"2031-02-01"},414.51217269334529,661.99524466124376,47.317019729941677,187.15946539653788,137.49484031017107,176.71697358922859,16.755105000525084,1641.9508213809931,null,{"$f":"+$B$162","v":"2031-02-01"},329.41274101545542,380.47107369546217,32.605161994160959,138.83585343683336,72.41454782985511,94.9989325672436,15.04063822832941,1063.7789487673399]
[null,{"$f":"+$B$163","v":"2031-03-01"},342.25071802409053,416.39496503853206,34.48714933400889,151.39257657360557,83.279922732995374,100.35653780514176,14.33061366693882,1142.4924831753131,null,{"$f":"+$B$163","v":"2031-03-01"},390.99291161881968,643.45630160401902,43.710456424165528,187.36438082248415,129.65255947345358,166.69858894318997,15.127598344722347,1577.0027972308542,null,{"$f":"+$B$163","v":"2031-03-01"},308.81405618044982,365.43553508621778,29.515916467267427,136.20211406672317,65.490209779758288,86.160822550634137,13.579221021981555,1005.1978751530321]
[null,{"$f":"+$B$164","v":"2031-04-01"},346.66303695585225,412.21530762245061,35.682715366206978,150.95973952751106,80.165771097173604,98.661815671017209,14.812515327813244,1139.1609015680249,null,{"$f":"+$B$164","v":"2031-04-01"},390.77049970374287,526.89269136910571,44.982470613336936,150.76764619309401,132.22072936725613,159.90551389547426,15.635779071225247,1421.1753302132352,null,{"$f":"+$B$164","v":"2031-04-01"},315.70862583945029,370.43388081367345,30.624246614320942,136.89390153952999,67.805521478449407,89.355173956273035,14.036498858145027,1024.857849099842]
[null,{"$f":"+$B$165","v":"2031-05-01"},331.96884475324367,388.56170226161635,32.401140307497954,148.867842944172,70.331930575151205,91.97868742940814,14.337361478328839,1078.447509749418,null,{"$f":"+$B$165","v":"2031-05-01"},345.71317580318618,401.29447508452802,34.771702795239818,149.44798827504138,74.252540968545418,97.843480410690972,15.134058687969739,1118.4574220252016,null,{"$f":"+$B$165","v":"2031-05-01"},308.61253152999359,364.93908455434905,29.640962136954549,136.44947556606212,65.42763194175393,86.259240644310381,13.586481527631078,1004.9154079010546]
[null,{"$f":"+$B$166","v":"2031-06-01"},340.77861594275362,394.96792049435476,33.521301606208198,150.35179844494348,73.186514946006938,96.24111825260124,14.847683710149196,1103.8949533970174,null,{"$f":"+$B$166","v":"2031-06-01"},355.22247040354074,409.66664193074695,36.034281801650401,150.92653223961474,77.431640132273785,102.37899636821237,15.67257064172547,1147.3331335177645,null,{"$f":"+$B$166","v":"2031-06-01"},316.94662464432486,371.91424538406284,30.897850563390293,137.21532289129121,68.219152201735753,90.256877140925909,14.070450147072972,1029.5205229728037]
[null,{"$f":"+$B$167","v":"2031-07-01"},333.04875206128145,388.44772891660199,32.47639947507205,148.99865093327404,70.725340034716865,92.814898498977072,14.392706712011506,1080.9044766319353,null,{"$f":"+$B$167","v":"2031-07-01"},346.92927097261759,402.48852366908136,34.901916114694252,149.57594519666205,74.644572918420039,98.70947511679654,15.19161224959724,1122.4413162378689,null,{"$f":"+$B$167","v":"2031-07-01"},309.7693534580693,366.04214584422584,29.938691957231274,136.24562281902615,65.797815865853153,87.069059488639354,13.640274037556747,1008.5029634706018]
[null,{"$f":"+$B$168","v":"2031-08-01"},333.88071798526687,392.29655966663131,33.000654333124764,149.44051667839585,70.829899861307084,93.720251357423152,14.406708962387123,1087.575308844536,null,{"$f":"+$B$168","v":"2031-08-01"},347.34169779879676,441.88919224164044,44.226525167585336,149.62444353988568,74.756218224761554,98.954052523638595,15.206251217491648,1171.9983807137999,null,{"$f":"+$B$168","v":"2031-08-01"},310.14109257451389,366.34805030033601,30.005806760834524,136.27758730026304,65.895249370226281,87.284742658441701,13.653814039471289,1009.6063430040867]
[null,{"$f":"+$B$169","v":"2031-09-01"},343.15271729779732,399.4133324541441,34.423256409378546,150.45477231388517,75.613191985822525,96.795036882422878,14.911128608708111,1114.7634359521585,null,{"$f":"+$B$169","v":"2031-09-01"},387.5480286164601,479.2018129737163,45.56126383031026,151.02918434585439,115.64722635945573,102.94606049592861,15.738498436640551,1297.6720750583659,null,{"$f":"+$B$169","v":"2031-09-01"},317.86636123912155,372.40736870407966,31.156183523623334,137.21635728577129,68.468736116738128,90.798003563707454,14.132206864706044,1032.0452172977473]
[null,{"$f":"+$B$170","v":"2031-10-01"},334.17586207529155,390.94129226127916,32.963413154717962,149.09451228117925,71.04315846842961,93.243391758014312,14.427491744480687,1085.8891217433925,null,{"$f":"+$B$170","v":"2031-10-01"},347.73346783407288,410.54760377431057,40.521470772398693,149.6638283160093,74.833287288323376,98.996461088517606,15.227963546066018,1137.5240826196984,null,{"$f":"+$B$170","v":"2031-10-01"},310.49493916015143,366.60297019967214,30.076115404640763,136.75414182942333,65.960653204589349,87.308248302366408,13.67395049791191,1010.8710185987552]
[null,{"$f":"+$B$171","v":"2031-11-01"},342.9657406478911,400.33505218897164,34.720500555481649,150.35716334309942,75.205497749334526,97.697088511942752,14.949523642017649,1116.2305666387388,null,{"$f":"+$B$171","v":"2031-11-01"},372.52711248061922,478.88513005593961,45.709975425830152,150.93898269917668,77.774946344895184,102.96098422382659,15.778442376858342,1244.5755736071458,null,{"$f":"+$B$171","v":"2031-11-01"},317.85691877087106,372.34566500443498,31.296345030680257,137.42273637703298,68.479979104699851,90.830159930632888,14.169572706492984,1032.401376924845]
[null,{"$f":"+$B$172","v":"2031-12-01"},335.56524573501019,393.0782475844353,33.439689242755065,149.09245285331968,72.064530217110331,94.030252983438331,14.473974070743974,1091.7443926868129,null,{"$f":"+$B$172","v":"2031-12-01"},367.9197046140863,472.28539332097796,44.495795052081924,149.66334791268744,74.898572946882325,99.281053196406717,15.276372275585299,1223.820239318708,null,{"$f":"+$B$172","v":"2031-12-01"},310.82061341730412,366.87075547128347,30.252595822974275,135.87531502913703,66.02928498105166,87.576686746438597,13.719086767033748,1011.1443382352229]
[null,{"$f":"+$B$173","v":"2032-01-01"},337.48359614142117,398.67454124496794,33.432624484106938,149.65723327691299,76.249051489945671,95.999410896659271,14.279604379234215,1105.776061913248,null,{"$f":"+$B$173","v":"2032-01-01"},383.41508136554,524.22791011894117,44.023987414727202,149.45589294555882,129.42948267641677,163.72135152004967,15.073650240793906,1409.3473562820272,null,{"$f":"+$B$173","v":"2032-01-01"},309.41261693518953,364.4953985426867,29.818020333991715,136.53035613718976,65.37277329321708,86.430122457648849,13.531082588982002,1005.5903702889057]
[null,{"$f":"+$B$174","v":"2032-02-01"},357.48952176820274,424.85251122892606,37.206864415110175,153.54477171568266,86.773005849588259,104.61085768450151,15.443249662809356,1179.9207823248207,null,{"$f":"+$B$174","v":"2032-02-01"},407.23949874578852,646.25081769276994,46.637643861429872,184.87345384575789,133.69947240087464,173.04776158879207,16.299824308442886,1608.0484724438556,null,{"$f":"+$B$174","v":"2032-02-01"},324.63613840066961,377.49278808795873,32.36365375826459,138.05329766918129,70.818848984307579,93.995693260244536,14.637228493153678,1051.9976486537798]
[null,{"$f":"+$B$175","v":"2032-03-01"},344.77891906475026,417.68355956067967,35.120762071652592,151.59572715173309,83.864267641211768,102.07489224081516,14.287455497538424,1149.4055832283809,null,{"$f":"+$B$175","v":"2032-03-01"},393.54065619041711,644.74749369440542,44.368186442971215,187.55968012138317,130.23825863021679,168.47010514534412,15.082111705990945,1584.0064919307288,null,{"$f":"+$B$175","v":"2032-03-01"},311.32271369017184,366.72153204012648,30.125411923749144,136.8308506859573,66.073200439427836,87.8260152198268,13.538391321912165,1012.4381153211716]
[null,{"$f":"+$B$176","v":"2032-04-01"},349.04644503681754,413.30229948735507,36.317664688013906,151.12489837295459,80.681182251554745,100.31146699764648,14.76770612910332,1145.5516629634456,null,{"$f":"+$B$176","v":"2032-04-01"},393.1737638235698,527.98221329305682,45.642335380632169,150.92453661301067,132.73704754926052,161.61021345705188,15.588655543436154,1427.6587656600182,null,{"$f":"+$B$176","v":"2032-04-01"},318.07217788155407,371.51834261953115,31.234280490639591,137.36087931703361,68.32002560520732,90.949777047953944,13.99400398851428,1031.449486950434]
[null,{"$f":"+$B$177","v":"2032-05-01"},334.26937781201337,389.60352633653554,33.015257491264805,149.0244108747074,70.820711879941527,93.575226132029385,14.293704094535745,1084.6022146210278,null,{"$f":"+$B$177","v":"2032-05-01"},348.03270543321901,402.33860606317165,35.409929518714726,149.59640742732705,74.741728918821764,99.493408787584798,15.088159479880606,1124.7009456287196,null,{"$f":"+$B$177","v":"2032-05-01"},310.8940680175001,365.97860172554374,30.230969781013329,136.95090526304455,65.916006601058214,87.802389672659046,13.545065968134017,1011.3180070289529]
[null,{"$f":"+$B$178","v":"2032-06-01"},343.16542573157881,396.05472338516734,34.157041847001366,150.51318167770535,73.686763894240954,97.899733395681068,14.802418406818548,1110.2792883381935,null,{"$f":"+$B$178","v":"2032-06-01"},357.6286466088651,410.7556608296851,36.694923253688231,151.07933307414498,77.931802730798594,104.09288544813043,15.624975011807656,1153.80822695712,null,{"$f":"+$B$178","v":"2032-06-01"},319.31406801665094,372.99883226675013,31.508689592938811,137.24739393553725,68.719487499678934,91.860218347167532,14.027515170329497,1035.6762048290532]
[null,{"$f":"+$B$179","v":"2032-07-01"},335.37790254493405,389.51427667027593,33.093495789774849,149.15626308212768,71.206987161721045,94.434436698910901,14.348636756912811,1087.1319987046572,null,{"$f":"+$B$179","v":"2032-07-01"},349.276961028627,403.55707832095726,35.54310993654822,149.72510623201791,75.125666408841724,100.38262557077555,15.145278593761349,1128.7558260915291,null,{"$f":"+$B$179","v":"2032-07-01"},312.07996436936509,367.10668669969789,30.531690764782901,136.44088408228086,66.2800166294398,88.634985434528019,13.59846778319524,1014.6726957632898]
[null,{"$f":"+$B$180","v":"2032-08-01"},336.21053255587771,393.36145991498074,33.618060495516801,149.59611235576324,71.30381214042329,95.343556624233585,14.36244458186577,1093.7959786686611,null,{"$f":"+$B$180","v":"2032-08-01"},349.68979316006573,442.95593620301332,44.868016790645555,149.77143069962506,75.229083639931446,100.63107155909604,15.159713298497312,1178.3050453508745,null,{"$f":"+$B$180","v":"2032-08-01"},312.45262635446659,367.41110683566217,30.599127462558368,136.83357104611332,66.370208513288816,88.854334156605091,13.611823197422915,1016.1327975661172]
[null,{"$f":"+$B$181","v":"2032-09-01"},345.56599093648083,400.51908949906419,35.061976672673453,150.61440650245672,76.096621624870764,98.479272500833829,14.865144243497312,1121.2025019798771,null,{"$f":"+$B$181","v":"2032-09-01"},389.97996202992715,480.30932341750213,46.224867596869707,151.17976796817149,116.12907788697684,104.68591922135468,15.690157021056311,1304.1990751418584,null,{"$f":"+$B$181","v":"2032-09-01"},320.26097510302168,373.51137235013402,31.770020283653732,137.43604539127571,68.953743867313477,92.426616075103297,14.088579549868694,1038.4473526203706]
[null,{"$f":"+$B$182","v":"2032-10-01"},336.59098228927371,392.09027914155951,33.588695953702285,149.26164162234565,71.533698553683536,94.921803340573376,14.382720148167838,1092.369821049306,null,{"$f":"+$B$182","v":"2032-10-01"},350.16644167393184,411.69813460570418,41.170826968796391,149.82204605876871,75.321813502226192,100.72881222967115,15.180871674560386,1144.0889467136587,null,{"$f":"+$B$182","v":"2032-10-01"},312.89220574825663,367.75041312883923,30.677324806211704,136.64789578403622,66.453207161194371,88.932720326330951,13.631499176791834,1016.9852661316611]
[null,{"$f":"+$B$183","v":"2032-11-01"},345.46111439108284,401.51915537954994,35.366870925322146,150.52759329741824,75.704003670084717,99.434801041866876,14.90306876135406,1122.9166074666789,null,{"$f":"+$B$183","v":"2032-11-01"},375.0406764501567,480.07066372520001,46.38121078645198,151.10004258207638,78.270861193619041,104.754543711324,15.729581597863103,1251.3475800466913,null,{"$f":"+$B$183","v":"2032-11-01"},320.33410228771709,373.52833771633118,31.917850409739426,137.73840627203433,68.981076097476347,92.51202550298369,14.125523724161042,1039.1373220104431]
[null,{"$f":"+$B$184","v":"2032-12-01"},337.86153451775346,394.36831332569204,34.106658645608384,149.26459255706254,72.62147335706797,95.713258243483295,14.428798176538375,1098.364628823206,null,{"$f":"+$B$184","v":"2032-12-01"},370.22412193845344,473.58322998737856,45.188280171547895,149.82613179444016,75.455680754050817,101.0168677905754,15.228469867324467,1230.5227823037706,null,{"$f":"+$B$184","v":"2032-12-01"},313.1087736584235,368.15305028739647,30.894049509214952,136.62967961362105,66.586063453798459,89.206882672359839,13.676637386883385,1018.2551365816976]

{"sheet":"Demanda_Mensual","index":4,"n_rows":192,"n_cols":83,"rows_kept":192,"cut":false,"hidden":false,"merged":[[10,19,10,26],[10,0,11,0],[10,1,10,8],[10,9,11,9],[10,10,10,17],[10,18,11,18]]}
[]
[]
[null,null,null,null,null,null,null,"Contenido",null,null,null,null,null,null,null,null,null,null,null,null,null,null,null,null,null,null,null,null,null,null,null,null,null,null,null,null,null,null,null,null,null,null,null,null,null,null,null,null,null,null,null,null,null,null,null,null,null,null,null,null,null,null,null,null,null,null,null,null,null,null,null,null,null,null,null,"RESIDENCIAL",null,"GBTUD"]
[null,null,null,null,null,null,null,null,null,null,null,null,null,null,null,null,null,null,null,null,null,null,null,null,null,null,null,null,null,null,null,null,null,null,null,null,null,null,null,null,null,null,null,null,null,null,null,null,null,null,null,null,null,null,null,null,null,null,null,null,null,null,null,null,null,null,null,null,null,null,null,null,null,null,null,"TERCIARIO",null,"MPCD"]
[null,null,"Sector de consumo",null,null,null,null,null,null,null,null,null,null,null,null,null,null,null,null,null,null,null,null,null,null,null,null,null,null,null,null,null,null,null,null,null,null,null,null,null,null,null,null,null,null,null,null,null,null,null,null,null,null,null,null,null,null,null,null,null,null,null,null,null,null,null,null,null,null,null,null,null,null,null,null,"INDUSTRIAL"]
[null,null,null,null,null,null,null,null,null,null,null,null,null,null,null,null,null,null,null,null,null,null,null,null,null,null,null,null,null,null,null,null,null,null,null,null,null,null,null,null,null,null,null,null,null,null,null,null,null,null,null,null,null,null,null,null,null,null,null,null,null,null,null,null,null,null,null,null,null,null,null,null,null,null,null,"PETROQUIMICO",null,null,null,null,"nf","nc","nd"]
[null,null,"Unidad de energía",null,null,null,null,null,null,null,null,null,null,null,null,null,null,null,null,null,null,null,null,null,null,null,null,null,null,null,null,null,null,null,null,null,null,null,null,null,null,null,null,null,null,null,null,null,null,null,null,null,null,null,null,null,null,null,null,null,null,null,null,null,null,null,null,null,null,null,null,null,null,null,null,"PETROLERO",null,null,null,"TOTAL",{"$f":"+VLOOKUP($CB7,Mensual!$AH$3:$AK$10,2,FALSE)","v":1293},{"$f":"+VLOOKUP($CB7,Mensual!$AH$3:$AK$10,3,FALSE)","v":3},{"$f":"+VLOOKUP($CB7,Mensual!$AH$3:$AK$10,4,FALSE)","v":180}]
[null,null,null,null,null,null,null,null,null,null,null,null,null,null,null,null,null,null,null,null,null,null,null,null,null,null,null,null,null,null,null,null,null,null,null,null,null,null,null,null,null,null,null,null,null,null,null,null,null,null,null,null,null,null,null,null,null,null,null,null,null,null,null,null,null,null,null,null,null,null,null,null,null,null,null,"GNVC",null,null,null,"GBTUD",{"$f":"+VLOOKUP($CB8,Mensual!$AM$3:$AN$4,2,FALSE)","v":1}]
["Fuente: Construcción UPME con datos de Ecopetrol, Chevron, CNO Gas, Concentra y SUI",null,null,null,null,null,null,null,null,null,null,null,null,null,null,null,null,null,null,null,null,null,null,null,null,null,null,null,null,null,null,null,null,null,null,null,null,null,null,null,null,null,null,null,null,null,null,null,null,null,null,null,null,null,null,null,null,null,null,null,null,null,null,null,null,null,null,null,null,null,null,null,null,null,null,"TERMOELECTRICO"]
[null,null,null,null,null,null,null,null,null,null,null,null,null,null,null,null,null,null,null,null,null,null,null,null,null,null,null,null,null,null,null,null,null,null,null,null,null,null,null,null,null,null,null,null,null,null,null,null,null,null,null,null,null,null,null,null,null,null,null,null,null,null,null,null,null,null,null,null,null,null,null,null,null,null,null,"TOTAL"]
["MES","Proyección Demanda Gas Natural - Escenario Medio - Revisión Abril de 2018",null,null,null,null,null,null,null,"MES","Proyección Demanda Gas Natural - Escenario Alto - Revisión Abril de 2018",null,null,null,null,null,null,null,"MES","Proyección Demanda Gas Natural - Escenario Bajo - Revisión Abril de 2018"]
[null,"CENTRO","COSTA","CQR","NORESTE","NOROESTE","SUROESTE","TOLIMA \nGRANDE","TOTAL",null,"CENTRO","COSTA","CQR","NORESTE","NOROESTE","SUROESTE","TOLIMA \nGRANDE","TOTAL",null,"CENTRO","COSTA","CQR","NORESTE","NOROESTE","SUROESTE","TOLIMA \nGRANDE","TOTAL"]
["2018-01-01",266.09026834288295,388.29115928183273,22.811120991425337,130.92532941954377,65.290809682345127,72.329704084363897,13.900629176788151,959.63902097918208,{"$f":"+A13","v":"2018-01-01"},311.21254745751668,499.50775444422715,24.81034492084995,131.32232301573313,113.55144715432527,75.522758135734065,14.709702035614253,1170.6368771640005,{"$f":"+A13","v":"2018-01-01"},241.62913893282291,344.8858753643629,20.513737113619666,117.17293164193119,50.36363545994665,65.258037785871707,13.135624637284694,852.95898093583969]
["2018-02-01",302.25195498540137,417.05943004151379,26.152395619238447,141.82408924673501,83.850383472480985,86.341982872762998,15.369797880273504,1072.850034118406,{"$f":"+A14","v":"2018-02-01"},340.53504589571219,522.33040226711751,28.573949235086914,142.20195759680848,122.35148039978638,136.88186162322046,16.231391708805585,1309.1060887265376,{"$f":"+A14","v":"2018-02-01"},267.80844846172772,363.54161738457537,23.805009294426682,126.7390254151934,58.224629864757269,75.758837002402018,14.557464027759007,930.43503145084151]
["2018-03-01",272.21736598016327,399.96008286004235,23.967168360901258,136.07024640128168,72.738943357344738,73.617650443475668,14.174251125466455,992.74570852867544,"2018-03-01",312.76769848601708,502.8413959574919,26.071390439571594,136.0710076222305,114.37265914567786,77.305346902668234,14.973643262676839,1184.403141816334,"2018-03-01",243.03184643072132,348.05946661353829,21.748379790227901,121.38793382461141,51.137518254774619,66.888620325872125,13.419523736023065,865.67328897576863]
["2018-04-01",282.1466920229318,403.90777826489892,24.646435395505669,141.54223782131854,75.558476953483847,79.363831462510745,14.455374983269685,1021.6208269039192,"2018-04-01",323.07874816508343,508.87099571096866,26.84217744378617,141.27645590630104,116.91545376233225,140.06102871280817,15.289740743131413,1272.3346004444111,"2018-04-01",252.15608076643403,352.47333264052588,22.339936714799304,126.14586489608129,53.342010011928565,69.636775357439589,13.667526362073213,889.76152674928176]
["2018-05-01",265.49116527854363,381.32033764179704,24.00521908548782,140.97458486049061,60.230248457881203,72.128836928555188,14.168429990584141,958.3188222433397,"2018-05-01",313.29371871798406,453.45358852941422,26.208070997648623,141.3634297972398,114.61564032532678,77.418242458483931,14.96850644127316,1141.3211972673705,"2018-05-01",243.53606643562949,348.12540665744444,21.86980572486604,126.76127037016072,51.35237825359799,66.978777533157682,13.413450208628939,872.0371551834852]
["2018-06-01",271.29932862878968,387.70030140035868,24.695120811483505,135.75055339671383,61.867139317095003,74.751875146299085,14.270065998599941,970.33438469933992,"2018-06-01",319.93832007517443,470.0622866608968,26.992295280817331,136.15912600786763,116.52312936055137,80.269867303386263,15.107116333160736,1165.0521410218546,"2018-06-01",249.03107019902825,352.20442272244622,22.469966810017588,121.42081168728835,52.903250897443129,69.384799193371379,13.480158309572868,880.89447981916783]
["2018-07-01",268.15956242304691,397.27168709115142,24.099485081831876,130.23368374495286,71.522838277513117,72.853499858302698,14.04228122104699,978.18303769784575,"2018-07-01",313.98093863696522,505.89934671976789,26.293465563310818,130.61326526979389,114.75877094559911,78.09517119294317,14.830142722563867,1184.4711010509438,"2018-07-01",244.51801641564253,348.53127411951448,21.976446696577522,116.72961267936802,51.595322556235075,67.758765396036495,13.300756298500609,864.41019416187487]
["2018-08-01",271.26230327986036,397.61967346319273,24.333553365280885,130.88197948190515,72.536068175020034,74.197558240300211,14.133372274817386,984.96450828037666,"2018-08-01",317.05940757350339,505.72611102773362,26.54667309319651,131.25420963924225,115.72968164790819,79.295721414478791,14.93195563357094,1190.5437600296336,"2018-08-01",247.23379014916299,350.34579793512955,22.190449720049717,117.33103246983772,52.427395464273324,68.785683030738653,13.381212186817312,871.69536095600915]
["2018-09-01",281.12566970270888,411.02448600202337,25.446612064035207,142.63338370153375,76.877579171833474,77.673920648845865,14.79344455385341,1029.5750958448339,"2018-09-01",325.23185487437894,512.41104322272133,27.746379810705555,143.02263993300522,118.4207991910358,82.538932279929313,15.626016293768377,1224.9976656055442,"2018-09-01",254.3013945635598,355.83244106764664,23.219651464796566,127.49568166256523,54.779849501361298,71.609132211900828,14.009141596492478,901.24729206832285]
["2018-10-01",271.20206742825161,389.18894178214987,24.584291520138166,140.61821585914993,63.898559194884676,75.743237932560348,14.377999049255067,979.61331276638975,"2018-10-01",318.84743711700577,476.56293575536267,26.811396829276298,141.02710283743417,116.46779833439999,79.711705203684417,15.192797201408681,1174.6211732785721,"2018-10-01",248.9040086276392,351.19768451294772,22.426739637258098,125.68642528509999,53.118837717748313,69.215877925970673,13.609993109891736,884.15956681655575]
["2018-11-01",282.68244222089731,401.88028183270728,25.816286819629202,140.17254289235879,71.204472294182935,79.808521322989861,14.924754124778893,1016.4893015075443,"2018-11-01",326.34298430496648,513.67940527785868,28.0419844505555,140.2025410158775,119.04906736468325,83.327204718489881,15.769556899772336,1226.4127440322036,"2018-11-01",255.37974064515925,357.01186794864719,23.48405974748303,124.78941028978257,55.37691900669563,72.39390307142439,14.129022675015886,902.56492338420799]
["2018-12-01",278.6913847000277,398.94978199676575,25.0505947565476,135.83286212458458,68.909703110510918,79.790275644014343,14.471550334649848,1001.6961526671008,"2018-12-01",328.34869191087404,507.74310715561296,27.107300565387266,135.45440103106608,116.8462774021018,149.16544138783334,15.28865625087051,1279.953875703746,"2018-12-01",251.36490111782905,352.39285959201061,22.702129281366481,120.5167354775044,53.450967269918905,69.734748051280008,13.702052485642529,883.86439327555206]
["2019-01-01",277.56688524345878,296.81014667559367,24.383256866997115,139.77020493663318,73.200022393256461,76.691678442826102,14.157901849092472,902.58009640785781,"2019-01-01",323.75714557142896,492.54641998827901,26.343729346966178,139.53912125168367,115.54407856728072,141.53458331138813,14.920315666655004,1254.1853937036815,"2019-01-01",247.17706758581062,237.76307102691072,21.994715236717376,124.69444353779858,52.26647772531242,67.750539335975901,13.350241193284544,764.99655564181012]
["2019-02-01",303.9918338184662,324.20287927911124,27.50991394196463,143.60731764358718,85.567145841102104,88.751556311600027,15.797435345106784,989.4280821809383,"2019-02-01",349.23959071326232,523.54211516054147,29.71183902596341,143.53532098366497,123.59978413932707,157.65952615113085,16.632062420877375,1343.9202385947674,"2019-02-01",268.28867138415001,253.74040743440764,24.870539946286826,127.17638983136899,59.329310644752589,77.094006562470412,14.912388073614242,825.41171387705072]
["2019-03-01",281.63790815595775,299.649772779567,24.732087628416853,139.57370287103757,76.820309290586493,78.646225780866558,14.343879595991702,915.40388610242383,"2019-03-01",320.11177356346144,494.99056502124739,26.884750667119786,140.08994218998001,116.81433618697397,145.7064465834614,15.101338314873995,1259.699152527118,"2019-03-01",250.10796441653952,239.8048011214245,22.512622305794807,124.89533686531607,53.446684115815096,69.395895017735356,13.540930497911839,773.70423434053714]
["2019-04-01",286.83487995379994,291.79991787266556,25.777293845996763,140.71905266306561,74.244454538948787,80.10714191495812,14.850353929104454,914.33309471853909,"2019-04-01",330.80587234888048,495.67632952193964,27.920728052653633,141.11669188507332,119.00153295549717,91.034258837154894,15.638962642665419,1221.1943762438646,"2019-04-01",259.44252168066299,244.30680526134788,23.381624253727196,125.63184390208663,55.340021073131929,72.054884314192151,14.014428787330647,794.17212927247931]
["2019-05-01",274.01210382979446,263.58900113491302,24.897970972025174,139.61393146596183,57.832099992241858,74.950706785743066,14.449712852265559,849.34552703294491,"2019-05-01",287.52156644432017,277.55400314756491,27.056784916137303,140.14355496371468,61.730691394657455,80.136933398800039,15.211096522494756,889.3546307876893,"2019-05-01",254.057927807216,239.86530961635074,22.671387041433015,125.49339763326067,53.618197815703134,69.624141218267027,13.642509554653842,778.97287068688456]
["2019-06-01",280.1630567201006,268.18125005638831,25.813098436055991,143.43512264729637,59.780074617268731,78.037146066080211,14.795136498086464,870.20488504127661,"2019-06-01",294.2120238756554,282.5622431650113,28.059764349385297,143.97705846518619,63.972593185558793,83.448411832258415,15.587417851020486,911.81951272407593,"2019-06-01",259.65154093058908,245.03150289563581,23.494271367113694,128.18420238577886,55.508283872344442,72.474448754743904,13.955046014373327,798.29929622057909]
["2019-07-01",277.82182102465737,264.8492457863515,25.13706472095296,142.37387987464749,58.547094575568863,75.490765527641344,14.408984479212023,858.62885598903142,"2019-07-01",290.90418439247418,276.87150382735939,27.297571364768697,142.9060421911602,61.843075084260065,80.662476075916516,15.167461838630377,895.65231477456939,"2019-07-01",257.2264080807995,240.68894858848523,22.905538565929341,127.70608911218487,53.761392043072782,70.171580563109771,13.603593048773849,786.06355000235521]
["2019-08-01",278.39396976519049,263.20800952692144,25.148611790571891,142.4932901081701,58.402489867646189,75.703292158503004,14.390979179612678,857.74064239661584,"2019-08-01",291.90475348057674,276.14825939929727,27.315864473039159,143.02082325052703,62.02628110967408,80.905622146330316,15.152687352064962,896.47429121150947,"2019-08-01",258.05786394497733,239.91617968502499,22.911094516437721,127.71030331542681,53.894223873734653,70.355385356465803,13.582271110829609,786.42732180289693]
["2019-09-01",287.02198564493591,271.49696459565831,26.304954066844189,144.00630506001511,61.400557817944247,79.331785604730612,15.01115034784274,884.57370313797117,"2019-09-01",300.80206320332798,310.26706550854908,28.556458427831245,144.52656118952723,65.070167234358138,84.77336161046739,15.799265006171396,949.7949421802324,"2019-09-01",265.82435179987624,246.33745937655195,23.980234639253229,128.85740038399081,56.567603001349873,73.738188173425868,14.174148881190622,809.47938625563859]
["2019-10-01",280.37023643194351,267.32784702135143,25.338246383246695,142.82526496247914,60.836640540800715,75.879749613305037,14.592739307848891,867.17072426097536,"2019-10-01",293.23652218934637,346.83166890908922,27.514860622337874,143.35259441409656,62.731196353173729,81.109460039639927,15.359970470815256,970.13627299849884,"2019-10-01",259.2524437618581,241.28252047553102,23.0922332124088,128.12641031963048,54.533032720121575,70.508233252046836,13.778253533284158,790.57312727488102]
["2019-11-01",288.60903256293,275.65455058122353,26.406399600741945,143.81345380927075,64.558975110366376,78.931326353097631,15.114664520280311,893.0884025379105,"2019-11-01",332.36024184097994,352.73154115703755,28.665856976696034,144.36807459572043,120.35987484282001,84.346025757413088,15.912506964867442,1078.7441221355343,"2019-11-01",265.83178626649828,246.2051465624487,24.07231990105684,128.71258507516308,56.605090500888345,73.361258573215437,14.267337899565845,809.05552477883657]
["2019-12-01",282.45102940689384,269.64445294261088,25.523557717408789,142.79021173023264,62.398871243374863,76.038228671012803,14.669815088151669,873.51616679968549,"2019-12-01",302.73081076789168,346.77753961398156,27.706320578224119,143.32851371361909,118.0937080728431,81.263313726159026,15.440455917000346,1035.340662389719,"2019-12-01",260.38819819358497,241.3770550450397,23.269738011404105,128.04277149385382,54.635612954226772,70.6680754848189,13.851141914996226,792.23259309792445]
["2020-01-01",279.10204495104659,283.00843880778939,24.776081158492207,143.35107847838853,62.879120379606249,75.178747087610034,14.399809750665234,882.69532061359814,"2020-01-01",327.202464372983,383.477813028681,27.004072957086393,143.92856815371758,116.99576534035779,79.299097422848178,15.215346703066412,1093.1231279787403,"2020-01-01",256.56861815759817,251.84399638046352,22.613651833994759,129.07725651691609,53.626535365195934,68.873134364998535,13.631258069992498,796.23445068915953]
["2020-02-01",295.8147072933557,297.80052764799677,26.88026979134272,146.25601013222729,73.04754878392167,82.048920968906543,15.406731574353387,937.25471619210407,"2020-02-01",340.45179361597491,493.12339198638176,29.182862404652973,146.46041106900975,120.56188798596102,86.348147828729012,16.27212347885477,1232.4006183695642,"2020-02-01",269.07336010095651,259.19933292373616,24.474092916117819,130.36636877103041,58.426558961941218,75.060802177356564,14.591317391338777,831.1918332424774]
["2020-03-01",285.65543760103844,292.98881251667552,25.310486441027599,144.32645914999586,68.598801795988081,78.131142283407641,14.425748917103636,909.4368887052367,"2020-03-01",330.71830010195544,474.95861426402422,27.442341968521418,144.47138744317428,118.49257403410604,81.578704580557584,15.23615719089932,1192.8980795832383,"2020-03-01",259.71672277683138,254.27248949534183,23.016427206274489,129.060145155399,54.957311189668637,70.893004347647434,13.661727364929638,805.5778275360924]
["2020-04-01",327.8707347214953,293.9483697712775,26.414358433524757,145.5041308326405,67.554235339062188,80.792676051126989,14.920613437934033,957.00511858706113,"2020-04-01",375.46156572063012,425.38133776566565,28.560189161050424,145.67444499518336,120.94699776210027,85.039285011942212,15.759575469438818,1196.8233958860108,"2020-04-01",299.8307227590368,257.84735798676758,23.975504608952463,129.8387732098667,57.137065725651006,73.993884266922763,14.129525928305664,856.75283448550306]
["2020-05-01",316.95678800799635,277.27273033300662,25.397629853025414,144.16764780707609,59.424175788620097,76.643685140877409,14.469451115151967,914.33210804575401,"2020-05-01",330.33422868835692,289.78055233826166,27.54706939142924,144.35099979975678,63.000464037603756,81.302600898494475,15.279954908950703,951.59587006285346,"2020-05-01",292.84038227414089,253.4153634620742,23.134021756961655,129.37940261262975,54.838264995692207,70.776886362679505,13.705169225625994,838.08949068980417]
["2020-06-01",324.42540589792031,283.25405114849281,26.415320443361203,145.00887240328697,61.446705074960633,79.737313406204791,14.906711118396212,935.19437949262283,"2020-06-01",338.85537182082862,297.93175534798382,28.753100754351273,145.58111225526363,65.764959698424917,85.343594876033606,15.748733362185064,977.97862811507105,"2020-06-01",300.12686713728954,260.10393254461087,24.149275664991336,130.0316925877348,57.207833911748772,74.285043318635786,14.112812299555722,860.01745746456686]
["2020-07-01",318.79391152710593,278.21355787043689,25.694394892009718,144.04462833461739,59.574411879423749,77.364707427800042,14.475960399644382,918.16157233103809,"2020-07-01",332.74447280920396,292.94759864746561,27.956075269554738,144.59308064981238,63.749083002816008,82.789704371014693,15.28773235958305,960.06774710945047,"2020-07-01",294.958995167372,256.06792189355144,23.502402201016906,129.28736509975545,55.475374997695866,72.087295359028872,13.711063271516261,845.0904179899369]
["2020-08-01",318.41301429534388,279.40168255477238,25.58553262769075,143.80406482625858,60.668525229197463,76.734105698011092,14.441624115530132,919.04854934680418,"2020-08-01",331.80894638693013,306.17937351759144,27.841071973055342,144.3741065648328,63.320760298906258,82.109150453113855,15.254496566619572,970.88790576104952,"2020-08-01",294.16199219559218,254.52751991187904,23.399489721357668,129.30042724999936,55.110775166049962,71.506913646022369,13.675663357585954,841.68278124848644]
["2020-09-01",327.95069814418389,287.05314213650166,26.69538128960404,145.18736314260798,64.91282856181769,80.671248295908157,15.003403352495212,947.4740649231187,"2020-09-01",371.94109959735675,366.79265993673823,29.037008577754072,145.75506955012091,119.00744582764798,85.792882660043574,15.843891323726199,1134.1700574733879,"2020-09-01",301.78238400244561,260.11735069344428,24.42646066819232,130.2652343758831,57.579125649018316,74.730199264114191,14.21171409299677,863.11246874609469]
["2020-10-01",319.70439767203982,276.7614851639978,25.732349940146225,143.98308219097098,60.669377260688378,76.689882349364979,14.564913594475183,918.10548817168353,"2020-10-01",332.86341821261834,351.31492550009307,27.992105854319668,144.55309902396939,63.740175798794574,82.065608368241357,15.379978048168523,1017.9093108062049,"2020-10-01",295.14241329262086,251.27840120440089,23.5417694003036,129.70202482318021,55.506365651934011,71.458386824085082,13.797059573397039,840.42642076992172]
["2020-11-01",328.90126580230486,286.7363728224114,26.931536411935479,145.34020355839476,65.594614459049694,80.949283782374422,15.091493812570375,949.54477064904097,"2020-11-01",373.04649079092604,364.46239002055211,29.289944249557298,145.90840254365108,120.47684869870039,86.270390283898351,15.938708336333384,1135.3931749236185,"2020-11-01",302.65231392061253,257.95591605809147,24.646887560770754,130.41143274663017,58.16769270116437,75.123277897877443,14.293572990258895,863.25109387540556]
["2020-12-01",321.51740837083685,289.58596703064904,25.968049455958017,144.12186369093436,63.282838328959301,77.192293551001484,14.635345936398764,936.30376636473784,"2020-12-01",334.25997136497728,361.09422494878709,28.239878627585334,144.68956145931679,119.44256063651164,82.599050363323087,15.453955301545804,1085.7792027020471,"2020-12-01",296.16033037984397,255.64889091991762,23.766607811970331,129.29239069327161,55.897123028212746,71.931302943060359,13.864530525945302,846.56117630222184]
["2021-01-01",323.21068434752465,297.62468850794897,25.370834566395516,145.32953165734423,67.502531790365538,76.242400636718685,14.445415566262355,949.72608707255995,"2021-01-01",369.19167033935457,451.19992563442656,27.620559288795963,145.90673031677457,118.54446141420468,80.844303444791208,15.259941854875102,1208.5675922932226,"2021-01-01",294.51981829555319,263.27259625420561,23.186064948665958,131.00993502927048,55.059210559049539,70.303050619353982,13.67729167372287,851.02796737982169]
["2021-02-01",350.15594309636452,326.51120741366049,28.704232993915653,149.70269946730008,81.525411421335846,91.182579108083445,15.989773915456482,1043.7718474161165,"2021-02-01",393.47863479410182,516.46649343355284,30.940396155522386,149.89948106862983,126.71659919550022,160.3947220302471,16.888297005186349,1394.7846236827406,"2021-02-01",315.53232304728817,279.51481226902786,25.996948449307158,133.69513106080282,62.209416265838229,79.619917887523769,15.142317098859824,911.710866078648]
["2021-03-01",329.49221223505828,314.29619154678375,26.084470230557322,146.03564496195324,75.878819031140367,81.690297224190175,14.432991324572296,987.91062655425549,"2021-03-01",378.15838529650159,535.9819194512279,35.751827149484811,146.04304943062135,119.2295087250599,150.848794824571,15.244066826980735,1381.2575517044475,"2021-03-01",295.50647237629943,264.56977554807338,23.439021080864336,131.29583672312089,55.695064446963165,71.350513259799271,13.667899122906704,855.5245825580273]
["2021-04-01",333.92975774266574,313.1619819629135,26.959360453154478,147.26013001879366,75.334342698563916,82.529321919463655,14.927917062690094,994.10281185824499,"2021-04-01",378.78962521482106,499.26456049525621,29.093308932509572,147.45080694772881,121.98800224875023,85.933215343246275,15.766294938628381,1278.2858141209406,"2021-04-01",303.0659032791969,270.78367837168469,24.478121855899637,131.97470026290745,58.14413558891156,74.89030531937658,14.13705061647889,877.4738952944557]
["2021-05-01",323.10848444376325,294.06453981287393,25.945071528788411,145.87967636531027,62.6981015547167,77.915283652794329,14.467683949048586,944.07884130729542,"2021-05-01",336.00811942656344,372.16345892375523,28.213562516713296,146.44095678083553,70.85404232416704,83.342294249211761,15.278385008476771,1052.3008192297232,"2021-05-01",298.05157039196951,266.63261387512944,23.743179544214492,131.49160114966935,56.440408081888208,72.630521195260883,13.702772992982528,862.69266723111446]
["2021-06-01",329.21666483996171,295.91054887590025,26.992499633492926,146.9141935427468,63.754071652423981,80.980567017525232,14.943469381727336,958.71201494377817,"2021-06-01",343.59272707562741,309.01770089180974,29.347639495184382,147.49781434726287,67.115615948007544,86.608962305543741,15.7843700974044,998.96483016083994,"2021-06-01",304.62818611845955,271.38972943054983,24.708508899848866,131.97533420315992,58.491084897797045,75.506232837637882,14.150268505412601,880.84934489286559]
["2021-07-01",325.57370422340426,291.48194907413841,26.218773730094142,145.79465104675901,63.377025918547297,78.250640001383857,14.507574114397386,945.20431810872435,"2021-07-01",369.05444181620112,370.66251349217163,28.49484959701271,146.37223232461307,111.82329508054585,83.662534986456905,15.320407900181092,1125.3902751971823,"2021-07-01",299.65564220973602,265.56828179597881,24.012201029167869,131.26713823172591,56.559526209630818,72.987334126293987,13.741301093793416,863.79142469632666]
["2021-08-01",325.97735501984482,292.91384397240108,26.24283846379176,145.83471177908555,63.208058819185517,78.399262909240051,14.494338426123667,947.07040938967248,"2021-08-01",338.89789566714069,369.70827135727944,28.523013263354994,146.41034429970944,97.674121249290522,83.827102665482926,15.308657605561937,1080.3494061078197,"2021-08-01",300.7352450624835,264.62605154232085,24.031965235062039,131.49374469870151,56.653628686912668,73.119615097880725,13.726669675737753,864.38691999909906]
["2021-09-01",335.28411127324341,298.58071465871569,27.366122160958231,147.3513090562316,66.344118440229252,82.191009383881592,15.022729550548121,972.14011452380782,"2021-09-01",348.93237466652459,376.78306268494282,29.737275080812633,147.91181339151728,105.34030352752893,87.887993012486916,15.864804718044589,1112.4576270818577,"2021-09-01",309.45645693730791,270.2941918498758,25.066872533575548,132.2409036348582,59.333072306406962,76.647536479788201,14.229063639184423,887.26809738099712]
["2021-10-01",327.34672967016019,290.14155920680628,26.30493785969022,145.91687328315649,63.460201400585284,78.167067965112295,14.560499088169255,945.89786847368009,"2021-10-01",340.66871807954658,367.31434207687005,28.588149752556674,146.48784272206228,95.173516468767446,83.599702311459168,15.375603036584195,1077.2078744478463,"2021-10-01",302.30757042167858,262.60469015666536,24.090411012309943,131.47531979934968,56.810955299941334,72.878555786583433,13.792238897864436,863.95974137439271]
["2021-11-01",337.87690821322735,298.14715131188723,27.497714637009079,147.09509653642922,68.842733911426663,81.627335803401309,15.105992618065459,976.19293303144616,"2021-11-01",386.38419803608048,403.88256864441627,29.873454957220353,147.68142960249062,123.14985189299765,87.285196845173971,15.952499319017434,1194.2091992973969,"2021-11-01",309.96565261581435,267.24209004461795,25.19591832190217,132.46813967661143,59.20598782894929,76.126228742471227,14.308600762798111,884.51261799316455]
["2021-12-01",333.28142917488515,295.02940302779592,26.578134405324267,146.06937703133323,66.991032322048923,79.388890789479362,14.645738405830318,961.98400515669709,"2021-12-01",380.89677731271604,433.10784645680519,28.874483666656971,146.6376574443984,120.83896737346862,84.178264322433435,15.464633097435428,1209.9986296739141,"2021-12-01",305.27621801008399,262.67272696267736,24.351993065482564,131.56960052276068,57.181681960631366,73.395038244298192,13.87442838823706,868.3216871541714]
["2022-01-01",333.98946458745291,312.07234570550003,26.223072739003634,146.28766653882548,71.053722048474668,78.633891497522953,14.486344685743624,982.7465078025233,"2022-01-01",378.4665368105936,480.80657267227298,28.221279379804169,146.48554124333887,119.67330858039952,81.975233927316665,15.300901990984215,1250.9293746047099,"2022-01-01",303.04594801135073,271.75484687960306,23.745804180604456,131.70509438290955,56.11548379976896,71.375613937987538,13.718053908849136,871.46084510107335]
["2022-02-01",357.6689791541429,335.12940002345943,29.316969378114283,150.1419338558014,80.659859361413325,89.506048855752155,16.041572781683776,1058.4647634103671,"2022-02-01",402.96214218169882,516.16983621247755,31.573574597176741,150.36608983130657,127.69963822173575,135.25184419421166,16.941917802911004,1380.9650430415179,"2022-02-01",324.29575737682131,286.95295878651802,26.589914650776691,135.02091289325148,63.137354533442519,80.44752948528037,15.192345745613094,931.63677347170346]
["2022-03-01",341.61196381439999,323.3018565203821,26.651966437391902,147.08909850256143,78.831507991199885,81.393066649836726,14.470187715389203,1013.3496476311612,"2022-03-01",382.21912074975023,494.46319094805028,28.578921631757861,146.86591669722571,120.82011056708379,110.47308951870959,15.283022030762604,1298.7033721433402,"2022-03-01",306.35291093734321,272.05853118979689,24.065311650786558,131.89597084244849,57.113383901990453,73.038498545329873,13.703225530817438,878.22783259851303]
["2022-04-01",342.30852747677233,308.95888189066602,27.270259376329129,147.33184621536216,69.721615936994084,81.124596749517693,14.952501189210475,991.6682288348519,"2022-04-01",390.3992899124143,405.69667417938894,29.636436446728386,147.91734601383507,123.00751419013449,86.768433911093098,15.791953538054326,1199.2176481916485,"2022-04-01",313.57249235167313,275.14655826227437,24.973388871727593,132.53735880603148,59.062022231551012,75.629917992921364,14.16045123237393,895.08218974855299]
["2022-05-01",332.29926995234905,290.71661117300357,26.388590101515259,146.11384995606832,61.3363401090878,78.134093276436559,14.487064527651054,949.47581909611154,"2022-05-01",346.21278127113186,304.46853034781259,28.674244342035429,146.69760951512023,65.325269006777091,83.55970948049584,15.298846069249041,990.23699003262197,"2022-05-01",307.35135972279619,268.58410407253342,24.169950550753953,132.35805316421676,56.969957063951426,72.852188140301408,13.721126786868425,876.00673950142152]
["2022-06-01",342.30768198830413,296.32017937415236,27.587259063669677,147.54391947969322,63.959044030766634,82.15054914339818,14.984810126637569,974.85344320662193,"2022-06-01",356.85432891964678,311.75441386051671,29.971283842957622,148.11911459873119,68.382912363913832,87.860099542491284,15.826729757919345,1018.7688828861769,"2022-06-01",316.58626566255043,274.27869102851889,25.274154304423178,132.99424583918457,59.613367593853738,76.594267696434613,14.190545663763912,899.53153778872934]
["2022-07-01",335.59128066107343,289.87338917649998,26.761872638637257,146.33144315600339,62.296981207357412,79.220775990138364,14.536802492460154,954.61254532216992,"2022-07-01",349.19476283109367,303.8811583695591,29.062914228034636,146.91209462144298,65.994322236796776,84.686671623495329,15.351091543186497,995.08301545360894,"2022-07-01",310.10139714029901,268.01689846507236,24.530175831760854,132.14981919011973,57.591609155046825,73.90329550882629,13.769005611186531,880.0622009023117]
["2022-08-01",338.02422984007524,290.56460791096777,26.805277257771824,146.37422981438081,63.171724790677537,79.401632310668703,14.535127065273063,958.87682898981495,"2022-08-01",351.2897134439807,302.93090932343671,29.110362559466449,146.95321469347095,66.112661216680763,84.882514438804577,15.350641649394527,996.63001732523469,"2022-08-01",311.9666360908376,267.05758374799586,24.569493749387519,132.13367041392712,57.687334143704916,74.069255146725453,13.766229618497663,881.25020291107614]
["2022-09-01",347.48792868956144,300.24571987373116,27.879083631015924,147.74314077069675,68.182776330400188,82.78685540593932,15.052385153881854,989.3778898552265,"2022-09-01",385.50730676608708,377.90832250181256,30.271332969406863,148.31958372292397,123.88334482889505,88.504206243601075,15.895808513729426,1170.2899055464563,"2022-09-01",319.79776836598751,271.8202709903095,25.558835823639438,133.12610212948289,60.119498088535899,77.223460164582434,14.257365796643835,901.90330135918157]
["2022-10-01",340.53117477176238,289.47182520228671,26.902711738457995,146.54465643939281,63.264054890891614,79.493536184876859,14.578873848510142,960.7868330761786,"2022-10-01",354.1343113459983,332.76716500901284,29.211229908195765,147.11806780542199,66.445759381354819,84.981282971991334,15.394856112050586,1030.0526725340255,"2022-10-01",314.5493124339161,265.55086447462293,24.662876750859343,132.46017397248784,57.989827707311392,74.150104951335948,13.809724151050583,883.17288444158407]
["2022-11-01",347.89728236027764,296.10350904713533,28.068311542973213,147.71892680755198,66.449339435625333,83.536962122221141,15.11401868979004,984.88835000557458,"2022-11-01",362.02176905649964,375.52172947343365,30.466820892400698,148.30824164943886,69.133043139880741,88.566568121447659,15.960200503478008,1089.9783728365794,"2022-11-01",321.4218218334276,269.93870883390622,25.743265728669488,133.2968187672904,60.353886604244096,77.312998780332052,14.316811467956114,902.3843120158258]
["2022-12-01",344.26932593968974,290.52689792314152,27.100394371311488,146.55313132635462,66.788464385517528,80.305164321325719,14.646782811060948,970.1901610784015,"2022-12-01",391.62190766396543,367.73572647307293,29.415988794643493,147.13438709410536,121.84553632975943,85.115040594720526,15.465454818818113,1158.3340417690854,"2022-12-01",316.1276670471143,263.78236551382923,24.854895464593088,132.12802639888309,58.13075860308664,74.291023238417864,13.875606745646285,883.19034301157069]
["2023-01-01",343.47076836811596,307.54417822537994,26.598572988783182,146.34817756010054,64.815363386309059,79.326337473711177,14.511752662948247,982.6151506653481,"2023-01-01",379.47211113164781,385.81419327315712,28.892494649075729,146.94006314828059,121.05393158518766,83.555535722505255,15.326008261524048,1161.0543377713782,"2023-01-01",315.81864465557209,280.76258780991134,24.369845105787824,132.53718258025268,57.407319187799786,72.864663666709887,13.743757305769581,897.50400031180322]
["2023-02-01",368.01733324824932,327.21320879785287,29.862938908257295,150.34908129421456,74.205548628272567,90.025230066084376,16.061788194581304,1055.7351291375123,"2023-02-01",417.86618151889741,486.77316173163115,32.330561975237408,150.96015427021629,129.37911472323009,94.351046505225852,16.962424138349224,1328.6226448627874,"2023-02-01",337.88273374356157,297.03165548286142,27.287360894295773,135.14730344223352,64.683051247945471,82.298436670543936,15.212174681404065,959.54271616284586]
["2023-03-01",349.5030339007584,315.11353099423417,26.890512062018324,146.62351087355259,70.0778583131099,81.456786316947117,14.489549806552709,1004.1547822671732,"2023-03-01",396.16636629045632,490.80888457589452,29.199909023429438,147.19569157268143,121.95706718863983,98.397226629133868,15.302363087173955,1299.0275083674096,"2023-03-01",319.13645218568479,281.20236418255365,24.646426299210574,132.66090911093605,58.201973048100719,74.214389707859056,13.722644026037038,903.78515856038189]
["2023-04-01",355.60564646968999,316.20104048034176,27.983632226319525,147.91734055633296,69.444522597830741,83.710377443660306,14.972328576795096,1015.8348883509703,"2023-04-01",404.53996321996408,392.39985942624429,30.377757574992838,148.50085721335256,124.63617447757443,88.746423349928747,15.811933995677396,1205.0129692577345,"2023-04-01",326.49052213433873,286.12405493119365,25.658820052266258,133.29593446457287,60.570893929317229,77.472989567638223,14.180138601482774,923.79335368080967]
["2023-05-01",346.75987649849105,300.65592706426656,27.000466248732639,146.50894042739009,62.880863354360891,79.530049600524123,14.490648203170188,977.82677139693567,"2023-05-01",360.37058999075248,314.48427164156033,29.307378339600746,147.10334525367821,66.585886323717901,84.983895333802622,15.302082701682441,1018.1374495847947,"2023-05-01",320.32043833042559,278.95880366322251,24.760623999094513,132.60143956038081,58.166052831702181,74.220164835084404,13.725064386438007,902.7525876063479]
["2023-06-01",355.27233962182015,307.60402603549954,28.215046125876739,147.99027293463388,65.667520941530441,83.614854021935031,14.992357786878145,1003.356417468174,{"$f":"+A78","v":"2023-06-01"},369.83709159278663,322.24788700124566,30.620080569649325,148.57390361057497,69.714757491126917,89.354571114832368,15.833202155389625,1046.1814935356056,{"$f":"+A78","v":"2023-06-01"},328.51165011392885,285.15161285114095,25.880678357182894,133.68784522695196,60.877287046858044,78.027840425895036,14.199117238435385,926.33603126039316]
["2023-07-01",345.2558783741261,302.09683653751154,27.492632450556854,146.77818970030185,64.161454320701523,81.461077744627772,14.546215173419494,981.79228430124499,"2023-07-01",358.47951284660911,315.15828853905305,29.728226836591386,147.3612383257454,67.36667230574237,86.305980139105642,15.360397044870172,1019.7603160377171,"2023-07-01",318.62893478690017,279.48606903610442,25.145055149004413,132.54657014829394,58.86485575008124,75.414608546316813,13.778509373098153,903.86460278979905]
["2023-08-01",340.85047226082895,300.38791596367662,27.423020022457099,146.82687102367851,63.678016089398106,80.874569696548164,14.544944271382562,974.58580932796997,"2023-08-01",354.53205551797583,314.40603712668155,29.751841692246163,147.40788145113979,67.432812689999182,86.404613085661893,15.359873652873567,1015.2951152165782,"2023-08-01",315.06012956857148,278.76605641799642,25.163222241640028,132.88343991470799,58.914567554532844,75.492302898339744,13.776562943413314,900.05628153920179]
["2023-09-01",337.34377393424177,306.38376539358359,28.560879831364669,148.07948312330868,66.230658572294985,84.665769653603306,15.053854239148297,986.31818474754527,"2023-09-01",351.50233993309968,319.93055214539368,30.883112025751,148.66887031214335,70.038285945893165,89.730648992794542,15.896580585113067,1026.6503899401885,"2023-09-01",312.10007235597737,283.26461043815027,26.129156335896035,133.61643135474421,61.19794223597372,78.404444183803179,14.259458626114478,908.97211553065938]
["2023-10-01",328.80447223194483,297.53648530408333,27.43015695488425,146.6868359586926,63.47650795847391,80.226232961905822,14.578660745323685,958.73935211530841,"2023-10-01",342.6370382937784,311.36394672585027,29.755791730548822,147.2826080786632,67.207633060229227,85.710253083908682,15.394071362096906,999.35134233507551,"2023-10-01",304.41896134795388,276.17301086965711,25.17357517546343,132.99722348068832,58.736904929662337,74.887696711407926,13.810131652510297,886.19750416734337]
["2023-11-01",333.77107177070775,305.45659886811615,28.728301373399464,148.18271142629848,66.548368403165995,84.45021188289617,15.119425325466089,982.25668905005011,"2023-11-01",348.01738786722035,319.39544291509753,31.154709752771989,148.76854348125181,70.494372610031107,90.22343953603125,15.965229448309639,1024.0191256107137,"2023-11-01",308.95109473138712,282.72622706060514,26.375334343414526,133.88489781974766,61.599592798401638,78.832733370645286,14.322603847887612,906.69248397208912]
["2023-12-01",335.46602254184995,300.23205469242163,27.724851389715944,146.99095051214377,64.945071721973434,81.179572226967224,14.641226269156771,971.17974935422865,"2023-12-01",349.03559718778683,344.2017908628352,30.067331506281164,147.56875840806126,67.913956218281058,86.732454458722671,15.459402793838162,1040.9792914358063,"2023-12-01",310.13167644942007,276.45855996644741,25.452348839736253,132.62655154930437,59.345755211103636,75.772747886742422,13.870501357726599,893.65814126048087]
["2024-01-01",349.465884160786,324.70415285746844,27.394748213683314,146.73673911317564,64.29518996280234,80.43475491825339,14.537955608967348,1007.5694248351365,"2024-01-01",362.32550144268805,393.47492799876534,29.558914223492536,147.30633449540096,67.08705084651757,85.097148313338465,15.304448467785797,1100.1543257879887,"2024-01-01",322.0876696516716,297.21237589790383,24.983717878830312,133.01649241235145,58.600936684713602,74.285896758978978,13.725457896392157,923.91254718084201]
["2024-02-01",352.95856796491654,343.15742774233786,29.468921043686155,149.29856403908011,73.89896986011658,88.009451416539434,15.551251606298401,1052.3431536729749,"2024-02-01",399.81059904556258,450.32626396835133,31.891831840133573,149.88382776396446,125.97189368927614,92.259818201467951,16.370618828706565,1266.5148533374625,"2024-02-01",323.13477192338212,308.17668346981975,26.974335480104614,134.63812997530727,63.433653351881652,80.569331046084869,14.682650224875335,951.60955547145556]
["2024-03-01",333.73407807597488,346.46582746006521,27.867443492095664,147.77638948023616,73.225879756385666,84.246337720918831,14.53534169483431,1027.8512976805107,"2024-03-01",379.55532030376366,511.30865082649314,29.865220672183831,147.54915717031852,123.13275566208006,130.74613835196737,15.301647457242378,1337.4588904440491,"2024-03-01",304.31868885987137,304.94258876726298,25.259043548035343,133.17533694505013,59.287447388175686,75.493872552815432,13.723120236362432,916.2000982975735]
["2024-04-01",336.27928185401584,344.32113407397105,28.765634874737845,148.54640646663202,70.60363044609413,85.074507530099893,15.025131422864529,1028.6157266684154,"2024-04-01",384.8642668604345,437.89789227248622,31.021830063075775,148.73214046059346,125.62761375240797,89.789498349159771,15.816632850722925,1233.7498746088806,"2024-04-01",308.97155291579134,309.2968766955384,26.258019645277962,133.87355553436913,61.516904288180882,78.476198098416859,14.186066542025102,932.57917371959968]
["2024-05-01",324.26105158728683,327.02760727858981,27.758050157395118,147.02595497346982,63.813659948426462,81.399325208719887,14.542566600793627,985.82821575468154,"2024-05-01",337.98385889528413,341.09206066754837,30.029333797487915,147.58805257690923,68.056508746424143,86.797038695932528,15.308144797137068,1026.8549981767235,"2024-05-01",300.25929623217047,303.8096882009927,25.419459507822065,133.44837027479696,59.497248264285048,75.858126084400823,13.731004260955419,912.02319282542351]
["2024-06-01",331.74003470520785,332.10431509678381,28.910187997645103,148.26835168059989,66.358784965396964,84.861174120865314,15.050194602715482,1007.2930431692143,"2024-06-01",345.97151811599014,347.13249147999591,31.267347377682807,148.83997239972621,70.766136057109193,90.475260263553153,15.842672908461999,1050.2953986025193,"2024-06-01",307.21352933847822,308.78445302629427,26.481797642418613,133.87308118486314,61.872948066893329,79.093743729729837,14.209883041029713,931.52943602970709]
["2024-07-01",324.80475471802254,326.20172636254301,28.063214759331572,147.03409339858229,64.059229918580812,81.940608261189738,14.602596225648654,986.70622364389862,"2024-07-01",338.48838233290326,340.06591783913746,30.340680161277646,147.60931729472253,68.291086700530116,87.327280365307502,15.369703064963032,1027.4923677588415,"2024-07-01",300.83659365905299,303.09204576217655,25.715874329309116,133.12378071761592,59.751335232038379,76.404734320871341,13.788742520839829,912.71310654190415]
["2024-08-01",325.99923687857239,328.57611312132042,28.161201472826257,147.26592682753989,64.978630626023502,82.548442345841664,14.608531540970512,992.13808281309446,"2024-08-01",339.77976098753777,340.80918015207959,30.447924959413871,147.8241624965973,68.723456090426055,87.989175800511958,15.376515810087852,1030.9501762966543,"2024-08-01",301.93522982297623,303.56598868177826,25.805090709470246,133.42883910380951,60.108045981293486,76.959926506310666,13.793735169334658,915.5968559749731]
["2024-09-01",333.96354651681548,334.29176232406712,29.218217857697439,148.524490866761,68.288466169050679,86.168114849002279,15.115943604760684,1015.5705421881547,"2024-09-01",347.51507338402672,379.11445108935874,31.586714608248151,149.09099551526378,71.351621273742296,91.323056502186986,15.909980525295113,1085.8918928981218,"2024-09-01",308.6676409916962,308.17576172643919,26.777598734626718,134.07845417183879,62.41271841430494,79.880098976586098,14.273316064102495,934.26558907959429]
["2024-10-01",325.82146956952818,324.79022343368661,28.192852528906414,147.19150730181835,64.940272107999206,82.151804634457562,14.636232789257893,987.7243623656542,"2024-10-01",339.40732278291534,338.60486155243734,30.47922071012637,147.75841139900351,68.657575245052584,87.568602501183534,15.404517114780836,1027.8805113054996,"2024-10-01",301.63917887094766,301.66171408063383,25.837139141175321,133.38711346920732,60.064020690228404,76.589203533474048,13.820812518484367,912.99918230415085]
["2024-11-01",333.52837963317086,331.0904957519781,29.396645180516412,148.43391014077443,67.54703316415798,85.657707131966134,15.172106715602318,1010.8262777181662,"2024-11-01",347.4101474849316,344.77825270480378,31.769774083927423,149.01178813430801,71.422489124314566,91.28877614597036,15.967805588020035,1051.6490332662756,"2024-11-01",308.62188452345953,306.78147316736045,26.949729475426487,134.37212051090188,62.496488841364503,79.870201240250353,14.327148630445558,933.41904638920869]
["2024-12-01",327.51519340861717,326.56110955262784,28.537210189790468,147.73125006504881,65.882608811219299,83.445445128694217,14.698449589331819,994.37126674532965,"2024-12-01",340.51052266191903,339.25629271743128,30.744199300535424,147.91317508458673,69.08261813145576,88.223338189518628,15.468656342591775,1031.1988024280386,"2024-12-01",302.62979323786709,301.43595843254502,26.078308533493399,133.32161938260012,60.43947483029033,77.169869248913912,13.880450181685276,914.95547384739518]
["2025-01-01",326.6250605300304,343.11205023104981,27.979098952521717,147.03273569084971,67.266554877448229,81.563755887070002,14.570928920411726,1008.1501850893815,"2025-01-01",375.30322000117593,420.32644131254023,30.230697718309514,147.63221588725602,123.40277419569992,86.392355539288516,15.383852428337983,1198.6715570826082,"2025-01-01",300.74252544101256,314.00702821638663,25.611733442851797,133.75457224876308,59.603150812926074,75.520600709436067,13.804580904278531,923.04419177565478]
["2025-02-01",349.84442782616918,361.34822716342273,31.201433280941622,150.94501445607787,75.858627333556356,91.490321107900343,16.116256039969212,1076.8043072080372,"2025-02-01",399.39470835475697,438.58994769453039,33.716720346838201,151.57816489536097,131.592183286492,96.94483927779072,17.015437371556555,1268.8320012273259,"2025-02-01",321.68043471789247,329.28666186519956,28.57847145757022,136.26802389772988,66.800605292281233,84.770475896694407,15.268424419808905,982.65309754717669]
["2025-03-01",331.46082190028943,358.91652834042645,28.37362760534819,148.20017311269831,74.658684662304935,84.633449693834308,14.536311446981566,1040.7795967618831,"2025-03-01",377.81182235238748,485.15351533247735,30.553916941027147,147.99078952408823,124.49934026419351,88.217602456177445,15.347904835815141,1269.5748917061665,"2025-03-01",302.91829815734349,315.46649299201738,25.896630355158216,133.68417487779885,60.551568500201057,77.119472303551916,13.770837632805378,929.40747481887627]
["2025-04-01",335.95390438401034,350.17146855905315,29.262016161507759,148.56093574959942,71.12135002916213,85.696134613612244,15.012524535206348,1035.7783340321512,"2025-04-01",384.95977129411608,427.31611276724038,31.705048222546854,149.15315814821719,126.93459715727982,91.498326249777676,15.850511655109088,1227.417525494287,"2025-04-01",309.32528791324364,319.72147112638095,26.888361217279073,134.24103209675562,62.716408954333978,80.043443948018549,14.222169983454762,947.15817523946657]
["2025-05-01",326.09406171173583,336.3088721424698,28.251725131150419,147.18662445514863,65.106961033328105,82.265838557177503,14.517878590042629,999.73196162105296,"2025-05-01",339.76387565052102,350.00887179871063,30.608536774273663,147.78319146528207,68.897235666489649,87.824661386762827,15.327785341627546,1040.2141580836674,"2025-05-01",302.06693034944863,313.02636585025436,25.961937264810679,134.30443608278838,60.306853250613479,76.850936505634948,13.754005172836612,926.27146447638711]
["2025-06-01",333.93747241790572,342.14296332137155,29.491333212425715,148.56212735688428,67.35645626018345,86.144660477496785,15.029525041221925,1022.6645380874895,"2025-06-01",348.54677095541666,357.10018312388195,31.943549540974168,149.15877370159126,71.878330234263146,91.961148285632106,15.868196178993305,1066.4569520207524,"2025-06-01",309.71100440707858,318.84792360515655,27.110144670083006,134.27456123329708,62.913007212922437,80.481941507085594,14.238725108459555,947.57730774408287]
["2025-07-01",328.10593574406238,337.14804955212821,28.64488573025297,147.48580178575438,65.825165697164067,83.5826746549522,14.568161171956131,1005.3606743362703,"2025-07-01",341.8839172242761,351.24926221149877,31.021171204951386,148.06739957658377,69.660040878618901,89.203165972762264,15.3803503479513,1046.4653074166424,"2025-07-01",303.97469933962333,314.02891366581173,26.337602321109131,133.7060056304359,60.981827652464546,78.088542001478913,13.802547387098198,930.92013799802169]
["2025-08-01",327.24435059086215,335.4068092390782,28.607739421593067,147.33946818823762,65.046777734666705,83.192783133483715,14.565479352891812,1001.4034076608132,"2025-08-01",341.09781280910744,349.37782451651879,30.979884377998985,147.93471268749497,69.399367512091032,88.789532458532733,15.377609596266927,1042.9567439580107,"2025-08-01",303.32044763107382,312.4814679200864,26.304552290063896,133.70937128739308,60.769366659149554,77.744287864421864,13.799999897940253,928.1294935501287]
["2025-09-01",337.11435538344898,346.01775836480493,29.829213168177805,148.68540559892293,69.7091122629936,87.342448425087113,15.079933625351515,1033.778226828787,"2025-09-01",379.74478959431906,424.98823598982455,32.210941972199393,149.28344437711908,72.213399420967733,92.498146087604255,15.920387572644758,1166.8593450146789,"2025-09-01",310.52356831587338,317.73283898428559,27.359192685936499,134.79537217277206,63.231064776200192,80.99118351039553,14.287970926677261,948.9211913721407]
["2025-10-01",327.48528755261754,334.91075588763977,28.681308836326387,147.35351828769404,65.641265892586716,83.029239681431605,14.593914650651289,1001.6952907889473,"2025-10-01",341.20573488972417,347.98424317183105,31.057469613092987,147.94837384813349,69.457329156262659,88.625707286723838,15.407076381295614,1041.6859343470637,"2025-10-01",303.41131633641083,311.19854748335467,26.374053376174036,134.04520370635339,60.816447444768073,77.578427883026364,13.827726407155676,927.25172263724301]
["2025-11-01",336.48457226440513,342.00887544816629,29.940533209426011,148.75213936651272,68.893913419923663,86.943119228587832,15.122692172396533,1028.1458451094184,"2025-11-01",350.10726623759501,355.31758905520803,32.412927269944362,149.34603751417202,72.557858279787283,92.799812451996758,15.965146088887435,1068.5066368975909,"2025-11-01",311.16301346780756,317.231124421657,27.541092511135293,134.67470054666393,63.531968147641749,81.241678352089593,14.329211481545359,949.71278892854048]
["2025-12-01",329.57482495687907,337.72187258436526,28.908319955763677,147.48178235027862,66.84098836926411,83.550580821369323,14.642499875398304,1008.7208689133184,"2025-12-01",360.29329975179746,414.0180514318323,31.295493600357922,148.07144277128344,69.847685588672519,89.178011026318771,15.457681196536921,1128.1616653667993,"2025-12-01",304.27009312157878,310.94834375208922,26.59110152173977,133.90159990739079,61.164536979686225,78.070004699097836,13.874827620825762,928.82050760240838]
["2026-01-01",329.59823540127883,351.77048792302998,28.879843747346563,147.66571258279782,69.15518812092175,83.368558466005837,14.548144330872505,1024.9861705722533,"2026-01-01",377.16071555524127,485.94003174136787,30.819113793934001,147.85135949038866,124.3563116513603,87.686576192797986,15.311534629445283,1269.1256430545354,"2026-01-01",302.5047096923708,320.79554876035945,26.14954572786371,134.06575701913479,60.475876859947242,76.694987567862924,13.738660915581498,934.42508654312041]
["2026-02-01",352.92844281719476,371.97829904803598,32.195196265859138,151.58402606277375,76.612526371641309,94.949589610391968,16.107295453596002,1096.355375629493,"2026-02-01",401.49511494054934,499.64604841339678,34.394135419502362,151.83699549780471,132.64409625910383,98.388742129482111,16.952534884933364,1335.3576675447725,"2026-02-01",323.66280968983807,336.81705431126647,29.196930209349759,137.20455040594345,67.741541033819004,86.075984981438623,15.211063520476348,995.90993415213165]
["2026-03-01",335.79529434112885,363.10436853880265,29.157403755331298,148.2775332437449,72.665966851013323,85.541410918602153,14.537012662916702,1049.0789903115397,"2026-03-01",378.831792384278,483.76257682102869,31.111247047308854,148.07090768766508,125.11487753879686,89.031385475802693,15.300141074503269,1271.2229280293834,"2026-03-01",303.97382826088437,321.59178076777653,26.411597720147633,133.954883377935,61.140728067730045,77.888104625909648,13.727935307742111,938.68885812812539]
["2026-04-01",336.36361766285313,355.94824472492382,29.907033267743319,148.74548941767677,68.891552359040915,86.828491770657976,15.022443580244589,1041.7068727831404,"2026-04-01",349.65672443437705,431.52432992105491,32.304433619506383,149.32025145007381,72.443022821704076,92.518152002616503,15.810744221739547,1143.5776584710723,"2026-04-01",310.79872242263554,326.3652583279935,27.440022630262472,134.94574864877671,63.436620386731548,80.989234572357105,14.186610825094924,958.16221781385161]
["2026-05-01",327.62299761823562,342.04885251305365,28.87639339470493,147.38686651684594,65.405707188875851,83.430993681399769,14.528959247929606,1009.3007701610452,"2026-05-01",341.35820296902267,356.45852272036598,31.189923796030257,147.96438001011782,69.691919776539436,88.888084299232702,15.291032786350879,1050.8420663576596,"2026-05-01",303.617988799844,319.894015665381,26.495712162898329,134.42143787898914,61.045865742397666,77.82996779776515,13.720918240933919,937.02590628820917]
["2026-06-01",336.59718745202986,349.72919541171643,30.159786467073708,148.84016962056438,68.89268236153552,87.549579498898581,15.04643349695567,1036.8150343087741,"2026-06-01",350.56092338709755,364.17688294552988,32.56766005286201,149.41104436405641,72.834330668409962,93.272490267321359,15.835501673295781,1078.658833358573,"2026-06-01",311.6240888432896,326.22143244351423,27.680899511061455,134.92215650608986,63.789247671512541,81.673127890203247,14.209544650315799,960.1204975159867]
["2026-07-01",329.21181042893119,342.99996903240742,29.218501156195657,147.53030761430307,66.232798210475067,84.334487747747815,14.586792369487029,1014.1146665595473,"2026-07-01",342.61084904925156,356.76778035832456,31.543194533254216,148.10738199100152,70.157406257502615,89.817130842050034,15.350461250081787,1054.3542042814663,"2026-07-01",304.81418688821884,320.23153949045951,26.824459315492071,134.10479036996091,61.484161347804459,78.703202469905619,13.776483596101318,939.93882347794283]
["2026-08-01",330.02210867569238,344.17788102662462,29.326168346130032,147.74964383140858,66.259911314879261,84.954877277388263,14.595053321407509,1017.0856437935306,"2026-08-01",343.873746522712,357.67106829329651,31.659807134967739,148.3103191506566,70.594818981683559,90.489423490221313,15.35937977570314,1057.9585633492411,"2026-08-01",305.89677183555546,320.86598685687693,26.923534785135118,134.40401507278344,61.850077850165391,79.272649767030586,13.784023918845794,942.99706008639259]
["2026-09-01",337.82138310031479,350.33475064127674,30.419654758594959,148.9589503972085,69.21461043902903,88.049566055423824,15.10561839386102,1039.9045337857087,"2026-09-01",351.42087669467696,363.15492970680708,32.835315488163474,149.53321412639281,73.159252431428996,93.778379861955969,15.896064127242379,1079.7780324366677,"2026-09-01",312.48692735056972,325.39219594780297,27.931988844731748,135.1262158455404,64.107592592898072,82.166467688923987,14.266632211792412,961.47802048225924]
["2026-10-01",329.62440796275308,341.15769151350315,29.357920446285426,147.65830711348471,66.15624976382621,84.5496779525362,14.619006615617799,1013.1232613680065,"2026-10-01",343.41590300149005,355.64352368555132,31.689728558490533,148.23154578174723,70.469708133033578,90.048816550391251,15.383594688897158,1054.8828203996011,"2026-10-01",305.55903011414205,319.18618907472592,26.957097400472502,134.3124299307479,61.767859793545817,78.904776734107486,13.807375858806818,940.49475890654855]
["2026-11-01",337.68423669592437,348.43076954036775,30.698352395347388,148.92235897480589,69.386423812529443,88.570598818972286,15.155365046662943,1038.84810528461,"2026-11-01",351.61895502770886,362.11772501367102,33.027852295228911,149.50578277694939,73.324000888112778,93.888494614701131,15.947114236647305,1079.4299248530197,"2026-11-01",312.73467107072355,324.57968790555145,28.114049027105114,135.38083967542659,64.28450626970367,82.296644885398962,14.31446054193497,961.70485937584431]
["2026-12-01",331.1506411421567,342.15773514941907,29.641285028308509,147.90450936173664,66.713531982424797,85.44628595784836,14.676477414406472,1017.6904660363004,"2026-12-01",345.03805006563641,356.50998598029372,31.987688462250475,148.46237769673695,71.066608953021117,91.005322124083705,15.443026607253772,1059.5130598892763,"2026-12-01",306.98750569394321,319.81103994195121,27.224824768134575,134.35366856949364,62.284899340189291,79.740263171614998,13.862288518070754,944.26449000339767]
["2027-01-01",329.75510120551229,355.55616124332727,29.223458863756282,147.63819038231526,65.963898067333659,84.000438596318972,14.578971992829807,1026.7162203513935,"2027-01-01",343.11396972548954,368.3468186299649,31.550067619065167,148.21339895269259,70.267161866528198,89.477336563038676,15.340733351550433,1066.3094867083296,"2027-01-01",305.32724048055275,331.64261548861691,26.83115501362791,134.65576307288103,61.58933951242809,78.386280030040822,13.770979505074674,952.20337310322213]
["2027-02-01",354.50911193456375,379.30116732832079,32.965471743998265,152.01786353243881,77.632965479235267,96.512300921758481,16.139989656131348,1109.0788705964467,"2027-02-01",404.10115525633671,476.31290935756488,35.191256107784895,152.23371738944823,133.9115278666074,100.33872727095792,16.983447025477162,1319.072740274177,"2027-02-01",326.25832916714285,347.91517299078373,29.940315922873669,137.30201289470085,68.947138296140025,87.91940100649748,15.245394756434655,1013.5277650345732]
["2027-03-01",332.84742898426401,365.6632350328577,30.065129948901014,148.24288975689848,72.042327693769977,87.487291102008498,14.567026931521298,1050.915329450221,"2027-03-01",379.61140384863955,505.61024412275532,39.940212046707884,148.413187864555,126.23087475747772,111.39075362846268,15.328516732298212,1326.5251930008965,"2027-03-01",304.90737687826413,332.56194744637708,27.081597112626547,134.73185545402151,62.20636145951697,79.530522839929148,13.75944413918916,954.77910532992473]
["2027-04-01",335.91544913104326,364.65235139138809,30.666093920837195,149.04739926675973,69.820425125340762,88.448834022761645,15.052449615745243,1053.6030024738759,"2027-04-01",351.20540259225874,444.15851258967461,33.023098387476153,149.62850870113564,73.478058205842558,94.158927760005042,15.838908530431102,1161.4914167668239,"2027-04-01",310.32738693332402,337.19976244138309,28.114054808085456,135.35109201305184,64.441606562708017,82.566992404682082,14.218300774808572,972.21919593804296]
["2027-05-01",327.23840771167107,354.48309137781996,29.652885711247123,147.91887837949497,66.834331511238929,85.692319402907913,14.561973564991725,1026.3818876593718,"2027-05-01",341.07826299412159,369.04388695340617,31.997053786456071,148.48250017331497,71.176091095444121,91.239233689065202,15.322823310821512,1068.3398520026296,"2027-05-01",303.54926165938684,332.23354185390866,27.24156716736649,134.98604863652861,62.418981857786491,80.001413884535395,13.75502518267632,954.18584024218876]
["2027-06-01",333.72546175660608,359.80213514112586,30.83841955623647,149.10731770668212,69.302861323952413,89.057357253706869,15.074014358728874,1046.9075670970385,"2027-06-01",348.03655211139585,374.85538492949064,33.267229929886774,149.68668516790422,73.795282927182683,94.803614695676643,15.861092986056979,1090.3058427475937,"2027-06-01",309.62773098263574,337.0890743927323,28.338525364929652,135.4177560883343,64.732041461479682,83.157291336387644,14.23896932603364,972.60138895253283]
["2027-07-01",325.99449751749654,353.8472538954901,29.913930192019102,147.88944498591118,66.962368627432411,86.087527351257194,14.614793543410812,1025.3098161130174,"2027-07-01",339.79341485936828,368.3201948929227,32.263310256032121,148.46476791659157,71.289932390764406,91.622302732194868,15.376859098271446,1067.1307821461455,"2027-07-01",302.49850050945372,331.76245147527209,27.495238047965721,134.54220031703085,62.559412495093937,80.404108237252274,13.805967447831913,953.06787852990044]
["2027-08-01",325.62175846655782,353.74222776709348,29.972891218587421,147.95316572883911,67.098818024978073,86.324129472243385,14.62290134025735,1025.3358920185567,"2027-08-01",339.44504563718937,368.25381341681492,32.325956605916886,148.52461002322656,71.436454200741963,91.874984730234885,15.385322804914901,1067.2461874190396,"2027-08-01",302.17974576374962,331.66062437307937,27.550610666025413,134.87291219957643,62.685913511681399,80.62468285152886,13.813613394142978,953.38810275978415]
["2027-09-01",333.29412077535216,361.09558943490833,31.169615569491572,149.42614812000275,69.962007776556646,90.137279495895783,15.134622852675502,1050.2193840248829,"2027-09-01",347.69730929317114,375.68447176195781,33.613989951261949,149.99035121153372,74.492838657285205,95.943097296871898,15.923513020935648,1093.3455711930173,"2027-09-01",309.33598381701307,337.72389773425607,28.653451622671945,135.64998791015208,65.352731608203513,84.177561334322831,14.29710337201719,975.19071739863671]
["2027-10-01",324.57826711967721,353.13137947590906,30.052298814809866,148.02252509855353,67.270887027715915,86.372568324779962,14.642487447222631,1024.0704133086683,"2027-10-01",338.41929087489325,367.665841962662,32.409641044154711,148.59134094776505,71.616868806090537,91.931662043837889,15.405388369100145,1066.0400340485035,"2027-10-01",301.26782972388662,331.10901950040522,27.626047571414858,134.80281896241135,62.849900083129612,80.667443286393677,13.832477074011305,952.15553620165258]
["2027-11-01",331.48988482059724,359.05216584864877,31.316697204446093,149.27525930806436,69.936593113313478,89.984576758847524,15.180228229379665,1046.2354052832973,"2027-11-01",345.82663644764125,374.12641462569769,33.762348390962302,149.85583489614402,74.444707409915409,95.758311919316185,15.970169062553786,1089.7444227522308,"2027-11-01",307.74167224778222,336.51378814379791,28.797723236346496,135.7231488087038,65.347744178351618,84.054284844950175,14.341057405339155,972.51941886527129]
["2027-12-01",323.99096138340087,353.05254647750644,30.291385411240505,148.14445709808609,67.584648522527559,86.937424580439085,14.698226574500417,1024.6996500477012,"2027-12-01",337.87549543609867,367.6593398923057,32.659108189116019,148.70751591311367,71.948899148019223,92.52769897761857,15.462856260596913,1066.8409138168688,"2027-12-01",300.78298669680356,331.05240697377405,27.853582314408136,134.92310340265863,63.144760220221642,81.199589099137725,13.88586883545066,952.84229754245439]
["2028-01-01",322.93878916204773,362.13095556663274,29.926101971731878,147.93638426657182,67.50170694956563,85.727598125080931,14.609113965114442,1030.7706500067452,"2028-01-01",336.3550912788632,375.15185435887173,32.276500628043379,148.51324284054019,71.281986541147802,91.248219303994205,15.369221012193321,1070.1961159636539,"2028-01-01",299.48375423441951,338.94882997897923,27.509680518976332,135.15278201464969,62.5661842173743,80.068445676468087,13.80260490723207,957.53228154809915]
["2028-02-01",340.01645147613772,380.96472662231395,32.502786641272593,150.95701407326015,76.053340955452981,94.07491223182771,15.62281879696021,1090.1920507972254,"2028-02-01",387.52434008545555,456.61501822725779,34.764896977203584,151.17327534465403,130.38660232072232,98.758392827464377,16.435669505890235,1275.6581952886479,"2028-02-01",312.8907680985152,350.8979749457115,29.643497376465234,136.51884760334323,67.605755221457358,86.676882058834693,14.76032776804872,998.994053072376]
["2028-03-01",327.652375641508,373.22602253488174,30.676803085175031,148.39815546874749,71.56134185335506,90.08134990090069,14.602246740755712,1056.1982952253236,"2028-03-01",375.42178303296191,505.28751969319632,40.453566158449178,148.80680162861859,127.40982399589663,120.13034475572663,15.362420954985295,1332.8722602198345,"2028-03-01",301.34632199282936,341.21869527029526,27.789067565118387,135.19789655319491,63.316451952952754,81.441666106089016,13.795780150286383,964.10587959076611]
["2028-04-01",333.73109850198369,373.12565837936324,31.444075435762162,149.42518607060904,72.357513731723245,90.449014751625612,15.088476156567532,1065.6210230276345,"2028-04-01",381.35988817631278,452.79030598516863,33.798776595935209,150.00448356443704,86.839246129003001,96.188234993863659,15.873387686504152,1216.8543231312246,"2028-04-01",308.01045223333648,346.14182483585574,28.838078316775128,135.70167376376423,65.563556030263527,84.488386382417104,14.255650895559905,982.99962245797224]
["2028-05-01",324.6901260418432,363.30840437911303,30.344570142713494,148.14640019351253,67.813250070359956,87.2725755476161,14.600689441132332,1036.1760158162906,"2028-05-01",338.14329727357426,377.10198356548938,32.709464545344922,148.71929594659898,72.04618348461257,92.840665376281109,15.36000167561836,1076.9208918675197,"2028-05-01",301.19499217193436,340.77110268273384,27.91199605206301,135.32348314666052,63.285827945015612,81.558853649910958,13.794969809165709,963.84122545748414]
["2028-06-01",333.34489030390222,370.70159360364283,31.726052646728128,149.60312011181335,71.163784534022184,91.35366017423739,15.116439322768358,1063.0095406971145,"2028-06-01",347.37734963140764,385.1879460735891,34.094109555227448,150.17073366666833,75.157101625668702,97.181341973585688,15.902329765809686,1105.0709122919566,"2028-06-01",309.25595352828213,347.46014380432837,29.105463802910666,136.13270462582426,66.008712823418264,85.37201255993989,14.282326831943582,987.61731797664709]
["2028-07-01",325.64447411667811,364.60938146730643,30.653044324333447,148.29244280418393,68.134657114751377,88.128690700497884,14.650778831908006,1040.1134693596591,"2028-07-01",339.41093541422742,378.44599718435404,33.028310321253137,148.86305661705146,72.490270519012512,93.72305521254394,15.411417760059345,1081.3730430285018,"2028-07-01",302.39940194844269,342.02323895651767,28.20836280349091,135.14671911616432,63.703382154450907,82.385119523536815,13.843156194673121,967.70938069727652]
["2028-08-01",326.96139151885535,366.58198445236462,30.71973633546208,148.34841376417998,68.542033669841203,88.369995835562378,14.661789032232342,1044.1853446084981,"2028-08-01",339.81202628938746,378.76958095569228,33.098699197875725,148.91562921219969,72.619334388531968,93.979336454787202,15.422824356363662,1082.6174308548382,"2028-08-01",302.7585338701391,342.28038293948021,28.271343184374945,135.12164302221709,63.815659035301408,82.611256150097262,13.853633752824713,968.71245195443475]
["2028-09-01",335.3983496165182,374.4131576455315,32.261460473182375,149.72956237915571,73.115695028819317,92.629683929575066,15.173144430427119,1072.7210535032093,"2028-09-01",348.35238431117114,440.08578186679142,34.366070478567281,150.29777624688413,75.488448773915465,97.795583558486584,15.96040301230417,1162.3464482481202,"2028-09-01",310.21391146191002,348.16414907789965,29.359313989721862,136.15957199664763,66.330083438971968,85.958543558717651,14.336978657216045,990.52255218108485]
["2028-10-01",326.78359237311122,365.79584534196078,30.889670422563704,148.42124025076387,68.950033004284236,88.444677958082167,14.680644912325036,1043.9657042630911,{"$f":"+A142","v":"2028-10-01"},340.30790850366179,379.0157926499167,33.182442676162033,148.98494166478841,72.78080678850904,94.06441734741928,15.442171889822461,1083.7784815202797,{"$f":"+A142","v":"2028-10-01"},303.21370049677148,342.47205669184814,28.346447618932995,135.49410017594047,63.960535798669987,82.678116428180886,13.871759300805522,970.03671651114951]
["2028-11-01",334.77971747928808,371.96993912687412,32.144309237752495,149.66737492136926,72.13111428072277,92.026724982437386,15.211907188881598,1067.931087217326,"2028-11-01",348.43035883454075,385.71467767946115,34.524706707766313,150.2437041972905,75.579040655545555,97.857440689213703,16.000126736082702,1108.3500554999007,"2028-11-01",310.34340734260832,348.10696241017422,29.509356590366217,136.34149705979985,66.435534498047105,86.039264145630483,14.37428235518257,991.15030440180874]
["2028-12-01",328.58184640719185,368.0174120128662,31.345036968038162,148.43337958178029,70.914360912097067,89.111431850542957,14.727442325835135,1051.1309100583517,"2028-12-01",372.04945333588415,437.99882445495052,33.371987842755402,148.99927684519605,92.334236214225086,94.338557747936079,15.490265162842466,1194.5826016037897,"2028-12-01",303.56212711439457,342.66575388143258,28.522437771436188,134.95627372122198,64.07409348525006,82.937393820987694,13.916703974768556,970.63478376949161]
["2029-01-01",328.37758608326851,378.45827349785725,31.11373033597275,148.25727923669342,71.989638496429848,88.59056970148545,14.575004921643185,1061.3620822733503,"2029-01-01",376.10234181977961,513.99241923976479,42.076823311738544,148.85515507048547,127.32284963151469,92.7184576702859,15.383247734297235,1316.451294477866,"2029-01-01",301.89757091336253,349.87815028951775,27.949669618271468,135.55106764664444,63.245459619409552,81.314746248814004,13.766762108989131,973.60342644500895]
["2029-02-01",351.83875183064777,399.57531425096306,34.462873106229857,153.0647322905759,79.631745438017802,100.60072861607308,16.090412379670273,1135.2645579121777,"2029-02-01",401.28889588181869,517.89292629306624,45.788865961828442,152.91624362776869,135.9274481954003,132.58416201330272,16.983417176447222,1403.3819591496324,"2029-02-01",323.86127253963036,366.24024317560747,31.117308822059833,138.17816357916237,70.823899823492425,91.184723790272002,15.197407582893319,1036.6030193131178]
["2029-03-01",331.50574310669867,384.57909042038989,31.518575343658636,148.55261932806025,74.403179798486519,89.752070636119498,14.498639476988291,1074.8099181104017,"2029-03-01",378.19048698457982,458.25373699396795,42.325017008423096,149.12533777717647,128.26240384222942,94.385902176872676,15.30388757228787,1265.8467723555373,"2029-03-01",303.71799785993881,352.19476642745695,28.167553033732894,135.62680427534431,64.062020270872637,82.782064901817961,13.693391381688713,980.2445981508522]
["2029-04-01",335.21686925214038,383.9802399020225,31.860119225784143,149.73102940304227,71.724962412917506,91.899228763657689,14.959475328753003,1079.3719242883178,"2029-04-01",348.87237406352659,460.18889932228734,34.304960222357217,150.33043047288686,75.499524473464291,97.874625019641172,15.790110520761377,1182.8609240949247,"2029-04-01",310.48954586757452,357.18558048175782,29.233911562544399,136.13365014303491,66.305400352370725,85.923832507674206,14.128840136744628,999.40076105170124]
["2029-05-01",327.08707095127949,374.31936627734603,30.750984934758414,148.43246202148927,68.745285933518858,88.740304830525645,14.458305314236766,1052.5337802631543,"2029-05-01",340.8976918686306,388.29285657366592,33.203331490037527,149.02446440749279,72.86211895629306,94.503964115444958,15.261195038916807,1094.0456224504817,"2029-05-01",303.55377124569475,351.78935985199382,28.298638379479296,135.59190511193052,63.998104523647861,82.976645545606303,13.655415589556721,979.86384024790914]
["2029-06-01",335.45588122388097,381.0842884983208,32.058954962653715,149.89502981346291,71.359504576738573,92.901912996470628,14.955125413393281,1077.710697484921,"2029-06-01",350.22277112857563,396.44017293487536,34.609431620169026,150.48207817103759,75.987107964561204,98.936302612779471,15.785697977590203,1122.4635624095886,"2029-06-01",311.69050607933985,358.52840406176631,29.508478305138389,136.57788580100379,66.731901188915927,86.867523380161771,14.124552849196355,1004.0292516655222]
["2029-07-01",327.91085121057438,375.18797354274869,31.06162382044316,148.56079990286966,68.821989870178669,89.624238467307222,14.482892114329751,1055.6503689284516,"2029-07-01",342.11584553618127,389.62362717795395,33.52637740528376,149.1500407555516,73.266368599206402,95.419730557851935,15.286664786500243,1098.3886548185292,"2029-07-01",304.7073716451211,353.02131345593045,28.596870235602559,135.31632953486246,64.377611141150965,83.828746376762496,13.679119442159251,983.52736183158925]
["2029-08-01",328.24607435465634,375.62934485776344,31.137515212475805,148.61343730656341,68.938660032011569,89.889791192365522,14.488893048067107,1056.9437160039031,"2029-08-01",342.46977440385518,389.97291214948314,33.606319014987015,149.19907147012015,73.391000100726885,95.701372743406907,15.29297674664463,1099.6334266292238,"2029-08-01",305.023889065611,353.30280982410829,28.668711409964587,135.75340785777567,64.486319963296211,84.078209641324122,13.684809349489576,984.9981571115693]
["2029-09-01",337.71163268677822,385.18586959753179,32.606442074193346,150.00032843170419,73.27104088445958,93.549396206183289,14.987555044468373,1087.3122649253187,"2029-09-01",361.60444918519397,455.95805800573771,34.89505019012379,150.58739458563812,76.276831562567935,99.600788358616072,15.819246245821404,1194.7418181336989,"2029-09-01",312.54739761518272,359.2343478559925,29.773727291596238,136.4294929809457,67.01465020635122,87.49800405375052,14.155863843115338,1006.6534838469343]
["2029-10-01",330.20033341806806,378.25945824440146,31.418923496760002,148.6883804631351,71.233497983454555,90.068382545090415,14.502258242241759,1064.3712343931516,"2029-10-01",342.99485963969761,390.30940574248734,33.711182487045868,149.27023760716142,73.548610723525016,95.780808951329078,15.306865887450122,1100.9219710386965,"2029-10-01",305.51067679530172,353.5834462301865,28.76392257099026,135.84638006379163,64.629094920803468,84.144820654980762,13.697650597033391,986.17599183308778]
["2029-11-01",337.54247855322399,384.00771604639169,32.78342811330981,149.94117941819312,73.366747963080897,94.902949007009568,15.026448926329925,1087.5709480275391,"2029-11-01",351.20433875804247,397.05937425253586,35.077746771383701,150.53625485407426,76.365594390137971,99.591719084580248,15.859634407304195,1125.6946625180587,"2029-11-01",312.70966644189241,359.25392450691425,29.945002788569248,136.73985200752603,67.117301536023831,87.513445596105527,14.193263445355651,1007.472456322387]
["2029-12-01",330.26010490212542,378.59655055509137,31.704889789763374,148.6948209142291,70.823089032665976,91.181993646079192,14.547627277421824,1065.8090761173762,"2029-12-01",343.33090880867076,390.51248815873498,33.914387102869696,149.27877759291451,73.653074815929187,96.00077320143275,15.354091168911857,1102.0445008494639,"2029-12-01",305.84498349766915,353.79758224177027,28.951282799237678,135.25570272915223,64.732135507467277,84.352439897177206,13.741163385931783,986.67529005840572]
["2030-01-01",329.9230553362566,389.99857150274408,31.389917611522719,148.84644283348732,71.501510952993314,89.704523676927039,14.403281746727895,1075.7673036606591,"2030-01-01",378.1737159071705,466.32447907007065,42.554852350302937,149.05061182420957,127.91902386292074,94.107014255750443,15.207634299507472,1273.3373315699323,"2030-01-01",304.22188214277645,360.95078629322052,28.447511171133062,135.42850737387292,63.888017451128853,82.738480657265569,13.645889559494867,989.32107464889214]
["2030-02-01",355.21842662555071,412.49956718741691,35.156143025408426,152.89583237856652,82.366673520618477,100.72319903191161,15.903503802458729,1154.7633455719315,"2030-02-01",403.56806980346869,486.77224088781941,46.326215985795379,153.13222648822656,136.60109679401006,105.48102799357147,16.792313376330874,1348.6731913292224,"2030-02-01",326.42628286214051,377.95072411716791,31.67646673989163,139.49221182872321,71.534564531981943,92.756165653972147,15.066198766453171,1054.9026145003306]
["2030-03-01",334.42109895475778,398.87164933580158,32.176780491267749,149.14096287976969,75.86872124858084,92.088415040195045,14.331861802155856,1096.8994897525286,"2030-03-01",380.25306438372581,469.17258242855763,42.815422548468774,149.31972082405798,128.84032228131002,95.768938804673823,15.133372673232428,1281.3034239440262,"2030-03-01",306.03647632317438,363.29025266193895,28.676972769226989,135.65458671923668,64.690550190156799,84.205487808157613,13.576507951807544,996.13083442369896]
["2030-04-01",338.34805348288745,397.50603268797386,32.588364694777873,149.87670283724711,74.357311484580137,93.845015260365173,14.788280017316712,1101.3097604651484,"2030-04-01",387.60738042111177,474.62505494333709,34.785158956377465,150.47143027618566,117.99937507434512,99.123716126736355,15.615228854277404,1280.2273446523709,"2030-04-01",312.56055692986683,367.98565448009799,29.734615224532455,136.369731395033,66.846089319228312,87.218339281025649,14.008885649597556,1014.7238722793819]
["2030-05-01",328.42281501082999,384.47115987358768,31.194207616652427,148.57063243921303,68.882587239106527,89.899965373697341,14.293839608946016,1065.735207162033,"2030-05-01",342.62741897165068,398.88744086963516,33.669887865098858,149.15799013293545,73.324983079673586,95.714754393487993,15.093222808921043,1108.475698121403,"2030-05-01",305.54364184358587,362.56411685036488,28.784906843477046,136.66786526664583,64.513699257013414,84.231036822730616,13.540351164471346,995.84561804828888]
["2030-06-01",337.19881880571467,391.69745626638638,32.517297728934771,150.0371853889402,71.82095751013081,94.103244074608753,14.785719825107511,1092.160679599823,"2030-06-01",351.99784794163776,407.05454405791392,35.091944179461841,150.61926966061498,76.458873018234584,100.19068239243106,15.612685267909235,1137.0258465182035,"2030-06-01",313.73966939301016,369.3341304239608,30.012531192994526,136.34048374910688,67.260437102616336,88.170306629688369,14.006308796113698,1018.8638672874907]
["2030-07-01",329.46127329234633,385.83683940924504,31.495395361812708,148.67250662923649,69.214303208986792,90.709452208085551,14.319805901560589,1069.7095760112736,"2030-07-01",343.69688745199386,400.08638377325042,33.98366663930075,149.25683761101484,73.668345540805831,96.556121131908881,15.120217149837616,1112.3684592981122,"2030-07-01",306.55461249696214,363.66989688342994,29.075357553021114,135.73336470667553,64.835055192774917,85.012615157978544,13.56563572867698,998.44653771951914]
["2030-08-01",329.88644656446343,387.32411881039081,31.573824195716753,148.72364004618584,69.325959150245922,90.966670984176361,14.327073951582996,1072.1277337027623,"2030-08-01",344.05013799705841,400.44026924836976,34.066231678053931,149.30422564078344,73.787579096048944,96.829040430257166,15.127849366329983,1113.6053334569015,"2030-08-01",306.87076118929116,363.95581929734118,29.149779515371677,136.00285584257466,64.939095943168866,85.254419964672948,13.572642855568564,999.74537460798911]
["2030-09-01",339.50937254188744,397.01664559838338,32.787558419108386,150.11302247274841,73.359996164184011,94.654397637971698,14.821406814631761,1102.2623996489151,"2030-09-01",365.11849208698089,474.91784997547575,35.372725493144259,150.6947544295131,76.68090825752796,100.75790790260164,15.649747283063839,1219.1923854283075,"2030-09-01",314.45503436717144,369.91370490801557,30.273419965500043,136.83356797269013,67.478069874385568,88.706561648366673,14.041123192950574,1021.7014819290799]
["2030-10-01",331.65886198987977,389.15688043877685,31.860674640117988,148.79615622837781,70.552067968912468,91.037300011276542,14.342379364637942,1077.4043206419794,"2030-10-01",344.57550037037294,436.98139345379514,34.176723953492299,149.37272918566742,73.936852159323308,96.905553779212568,15.143796452926161,1151.09254935479,"2030-10-01",307.3583729886646,364.24901727544619,29.250108117989498,136.20387331924786,65.074612486207826,85.315983030215847,13.587530625794512,1001.0394978435664]
["2030-11-01",340.93996221759096,397.66220468685299,33.691659467763664,150.05032614074284,76.456464291071867,96.677409411135841,14.860786905141497,1110.3388131202996,"2030-11-01",389.75491174546119,476.72409003756184,44.807212075776725,150.63979025070671,132.01508594339617,100.74283140579391,15.690691380592678,1310.3746128392891,"2030-11-01",314.60899203919189,369.93347064240777,30.44757194543088,136.73233841388455,67.569708253614806,88.717337451649641,14.079475939421995,1022.0888946856015]
["2030-12-01",333.67570401534937,394.1681284626336,32.601179876074397,149.57734474699546,73.868798985742956,93.476501938920748,14.388139733956958,1091.7557977596734,"2030-12-01",381.82812557178465,521.73099597664145,43.631183898338328,149.37656921831447,129.28708149620348,98.619756976493321,15.191491441674327,1339.6652045794501,"2030-12-01",307.68048815796851,364.47582581126528,29.43969709821431,135.94694528143555,65.164513238190438,85.517425191386991,13.631936569755062,1001.8568313482162]
["2031-01-01",334.96942060968485,397.39941339750612,32.800696374995724,149.45244264627192,75.653905933773117,94.295818847915669,14.322262211160798,1098.8939600213082,"2031-01-01",380.88091750613222,522.9498944800489,43.367934521592538,149.25865684964398,128.83204031441551,161.96482382690351,15.11861917842428,1402.372886677161,"2031-01-01",306.91842973112472,363.22315848665528,29.210217008903967,136.55594684608693,64.77992454287326,84.779466053307843,13.571429315204799,999.03857198415687]
["2031-02-01",363.05809477843803,429.04058494302308,37.586706713619677,154.712128214258,88.916938241788571,105.91739737762815,15.87259487643832,1195.1044451451939,"2031-02-01",414.51217269334529,661.99524466124376,47.317019729941677,187.15946539653788,137.49484031017107,176.71697358922859,16.755105000525084,1641.9508213809934,"2031-02-01",329.41274101545542,380.47107369546217,32.605161994160959,138.83585343683336,72.41454782985511,94.9989325672436,15.04063822832941,1063.7789487673401]
["2031-03-01",342.25071802409053,416.39496503853206,34.48714933400889,151.39257657360557,83.279922732995374,100.35653780514176,14.33061366693882,1142.4924831753128,"2031-03-01",390.99291161881968,643.45630160401902,43.710456424165528,187.36438082248415,129.65255947345358,166.69858894318997,15.127598344722347,1577.0027972308546,"2031-03-01",308.81405618044982,365.43553508621778,29.515916467267427,136.20211406672317,65.490209779758288,86.160822550634137,13.579221021981555,1005.1978751530322]
["2031-04-01",346.66303695585225,412.21530762245061,35.682715366206978,150.95973952751106,80.165771097173604,98.661815671017209,14.812515327813244,1139.1609015680249,"2031-04-01",390.77049970374287,526.89269136910571,44.982470613336936,150.76764619309401,132.22072936725613,159.90551389547426,15.635779071225247,1421.1753302132352,"2031-04-01",315.70862583945029,370.43388081367345,30.624246614320942,136.89390153952999,67.805521478449407,89.355173956273035,14.036498858145027,1024.8578490998423]
["2031-05-01",331.96884475324367,388.56170226161635,32.401140307497954,148.867842944172,70.331930575151205,91.97868742940814,14.337361478328839,1078.4475097494183,"2031-05-01",345.71317580318618,401.29447508452802,34.771702795239818,149.44798827504138,74.252540968545418,97.843480410690972,15.134058687969739,1118.4574220252014,"2031-05-01",308.61253152999359,364.93908455434905,29.640962136954549,136.44947556606212,65.42763194175393,86.259240644310381,13.586481527631078,1004.9154079010547]
["2031-06-01",340.77861594275362,394.96792049435476,33.521301606208198,150.35179844494348,73.186514946006938,96.24111825260124,14.847683710149196,1103.8949533970174,"2031-06-01",355.22247040354074,409.66664193074695,36.034281801650401,150.92653223961474,77.431640132273785,102.37899636821237,15.67257064172547,1147.3331335177645,"2031-06-01",316.94662464432486,371.91424538406284,30.897850563390293,137.21532289129121,68.219152201735753,90.256877140925909,14.070450147072972,1029.5205229728037]
["2031-07-01",333.04875206128145,388.44772891660199,32.47639947507205,148.99865093327404,70.725340034716865,92.814898498977072,14.392706712011506,1080.904476631935,"2031-07-01",346.92927097261759,402.48852366908136,34.901916114694252,149.57594519666205,74.644572918420039,98.70947511679654,15.19161224959724,1122.4413162378692,"2031-07-01",309.7693534580693,366.04214584422584,29.938691957231274,136.24562281902615,65.797815865853153,87.069059488639354,13.640274037556747,1008.5029634706019]
["2031-08-01",333.88071798526687,392.29655966663131,33.000654333124764,149.44051667839585,70.829899861307084,93.720251357423152,14.406708962387123,1087.575308844536,"2031-08-01",347.34169779879676,441.88919224164044,44.226525167585336,149.62444353988568,74.756218224761554,98.954052523638595,15.206251217491648,1171.9983807138001,"2031-08-01",310.14109257451389,366.34805030033601,30.005806760834524,136.27758730026304,65.895249370226281,87.284742658441701,13.653814039471289,1009.6063430040866]
["2031-09-01",343.15271729779732,399.4133324541441,34.423256409378546,150.45477231388517,75.613191985822525,96.795036882422878,14.911128608708111,1114.7634359521585,"2031-09-01",387.5480286164601,479.2018129737163,45.56126383031026,151.02918434585439,115.64722635945573,102.94606049592861,15.738498436640551,1297.6720750583661,"2031-09-01",317.86636123912155,372.40736870407966,31.156183523623334,137.21635728577129,68.468736116738128,90.798003563707454,14.132206864706044,1032.0452172977475]
["2031-10-01",334.17586207529155,390.94129226127916,32.963413154717962,149.09451228117925,71.04315846842961,93.243391758014312,14.427491744480687,1085.8891217433925,"2031-10-01",347.73346783407288,410.54760377431057,40.521470772398693,149.6638283160093,74.833287288323376,98.996461088517606,15.227963546066018,1137.5240826196987,"2031-10-01",310.49493916015143,366.60297019967214,30.076115404640763,136.75414182942333,65.960653204589349,87.308248302366408,13.67395049791191,1010.8710185987554]
["2031-11-01",342.9657406478911,400.33505218897164,34.720500555481649,150.35716334309942,75.205497749334526,97.697088511942752,14.949523642017649,1116.2305666387385,"2031-11-01",372.52711248061922,478.88513005593961,45.709975425830152,150.93898269917668,77.774946344895184,102.96098422382659,15.778442376858342,1244.5755736071458,"2031-11-01",317.85691877087106,372.34566500443498,31.296345030680257,137.42273637703298,68.479979104699851,90.830159930632888,14.169572706492984,1032.401376924845]
["2031-12-01",335.56524573501019,393.0782475844353,33.439689242755065,149.09245285331968,72.064530217110331,94.030252983438331,14.473974070743974,1091.7443926868127,"2031-12-01",367.9197046140863,472.28539332097796,44.495795052081924,149.66334791268744,74.898572946882325,99.281053196406717,15.276372275585299,1223.820239318708,"2031-12-01",310.82061341730412,366.87075547128347,30.252595822974275,135.87531502913703,66.02928498105166,87.576686746438597,13.719086767033748,1011.1443382352229]
["2032-01-01",337.48359614142117,398.67454124496794,33.432624484106938,149.65723327691299,76.249051489945671,95.999410896659271,14.279604379234215,1105.7760619132482,"2032-01-01",383.41508136554,524.22791011894117,44.023987414727202,149.45589294555882,129.42948267641677,163.72135152004967,15.073650240793906,1409.3473562820275,"2032-01-01",309.41261693518953,364.4953985426867,29.818020333991715,136.53035613718976,65.37277329321708,86.430122457648849,13.531082588982002,1005.5903702889057]
["2032-02-01",357.48952176820274,424.85251122892606,37.206864415110175,153.54477171568266,86.773005849588259,104.61085768450151,15.443249662809356,1179.9207823248209,"2032-02-01",407.23949874578852,646.25081769276994,46.637643861429872,184.87345384575789,133.69947240087464,173.04776158879207,16.299824308442886,1608.0484724438559,"2032-02-01",324.63613840066961,377.49278808795873,32.36365375826459,138.05329766918129,70.818848984307579,93.995693260244536,14.637228493153678,1051.9976486537801]
["2032-03-01",344.77891906475026,417.68355956067967,35.120762071652592,151.59572715173309,83.864267641211768,102.07489224081516,14.287455497538424,1149.4055832283809,"2032-03-01",393.54065619041711,644.74749369440542,44.368186442971215,187.55968012138317,130.23825863021679,168.47010514534412,15.082111705990945,1584.0064919307288,"2032-03-01",311.32271369017184,366.72153204012648,30.125411923749144,136.8308506859573,66.073200439427836,87.8260152198268,13.538391321912165,1012.4381153211717]
["2032-04-01",349.04644503681754,413.30229948735507,36.317664688013906,151.12489837295459,80.681182251554745,100.31146699764648,14.76770612910332,1145.5516629634456,"2032-04-01",393.1737638235698,527.98221329305682,45.642335380632169,150.92453661301067,132.73704754926052,161.61021345705188,15.588655543436154,1427.6587656600182,"2032-04-01",318.07217788155407,371.51834261953115,31.234280490639591,137.36087931703361,68.32002560520732,90.949777047953944,13.99400398851428,1031.4494869504338]
["2032-05-01",334.26937781201337,389.60352633653554,33.015257491264805,149.0244108747074,70.820711879941527,93.575226132029385,14.293704094535745,1084.602214621028,"2032-05-01",348.03270543321901,402.33860606317165,35.409929518714726,149.59640742732705,74.741728918821764,99.493408787584798,15.088159479880606,1124.7009456287196,"2032-05-01",310.8940680175001,365.97860172554374,30.230969781013329,136.95090526304455,65.916006601058214,87.802389672659046,13.545065968134017,1011.318007028953]
["2032-06-01",343.16542573157881,396.05472338516734,34.157041847001366,150.51318167770535,73.686763894240954,97.899733395681068,14.802418406818548,1110.2792883381933,"2032-06-01",357.6286466088651,410.7556608296851,36.694923253688231,151.07933307414498,77.931802730798594,104.09288544813043,15.624975011807656,1153.80822695712,"2032-06-01",319.31406801665094,372.99883226675013,31.508689592938811,137.24739393553725,68.719487499678934,91.860218347167532,14.027515170329497,1035.6762048290532]
["2032-07-01",335.37790254493405,389.51427667027593,33.093495789774849,149.15626308212768,71.206987161721045,94.434436698910901,14.348636756912811,1087.1319987046572,"2032-07-01",349.276961028627,403.55707832095726,35.54310993654822,149.72510623201791,75.125666408841724,100.38262557077555,15.145278593761349,1128.7558260915291,"2032-07-01",312.07996436936509,367.10668669969789,30.531690764782901,136.44088408228086,66.2800166294398,88.634985434528019,13.59846778319524,1014.6726957632898]
["2032-08-01",336.21053255587771,393.36145991498074,33.618060495516801,149.59611235576324,71.30381214042329,95.343556624233585,14.36244458186577,1093.7959786686611,"2032-08-01",349.68979316006573,442.95593620301332,44.868016790645555,149.77143069962506,75.229083639931446,100.63107155909604,15.159713298497312,1178.3050453508745,"2032-08-01",312.45262635446659,367.41110683566217,30.599127462558368,136.83357104611332,66.370208513288816,88.854334156605091,13.611823197422915,1016.1327975661173]
["2032-09-01",345.56599093648083,400.51908949906419,35.061976672673453,150.61440650245672,76.096621624870764,98.479272500833829,14.865144243497312,1121.2025019798771,"2032-09-01",389.97996202992715,480.30932341750213,46.224867596869707,151.17976796817149,116.12907788697684,104.68591922135468,15.690157021056311,1304.1990751418582,"2032-09-01",320.26097510302168,373.51137235013402,31.770020283653732,137.43604539127571,68.953743867313477,92.426616075103297,14.088579549868694,1038.4473526203706]
["2032-10-01",336.59098228927371,392.09027914155951,33.588695953702285,149.26164162234565,71.533698553683536,94.921803340573376,14.382720148167838,1092.369821049306,"2032-10-01",350.16644167393184,411.69813460570418,41.170826968796391,149.82204605876871,75.321813502226192,100.72881222967115,15.180871674560386,1144.088946713659,"2032-10-01",312.89220574825663,367.75041312883923,30.677324806211704,136.64789578403622,66.453207161194371,88.932720326330951,13.631499176791834,1016.9852661316609]
["2032-11-01",345.46111439108284,401.51915537954994,35.366870925322146,150.52759329741824,75.704003670084717,99.434801041866876,14.90306876135406,1122.9166074666787,"2032-11-01",375.0406764501567,480.07066372520001,46.38121078645198,151.10004258207638,78.270861193619041,104.754543711324,15.729581597863103,1251.3475800466913,"2032-11-01",320.33410228771709,373.52833771633118,31.917850409739426,137.73840627203433,68.981076097476347,92.51202550298369,14.125523724161042,1039.1373220104431]
["2032-12-01",337.86153451775346,394.36831332569204,34.106658645608384,149.26459255706254,72.62147335706797,95.713258243483295,14.428798176538375,1098.364628823206,"2032-12-01",370.22412193845344,473.58322998737856,45.188280171547895,149.82613179444016,75.455680754050817,101.0168677905754,15.228469867324467,1230.5227823037708,"2032-12-01",313.1087736584235,368.15305028739647,30.894049509214952,136.62967961362105,66.586063453798459,89.206882672359839,13.676637386883385,1018.2551365816977]