{"text_format":"1","workbook":"xlsx","n_sheets":2,"sheets":["informacion","Cod_DIVIPOLA"],"not_rendered":{"charts":0,"images":0,"macros":1,"external_links":0,"defined_names":34,"comments":0,"pivot_tables":0},"unopened":[],"bounds":{"document_bytes":16777216,"sheet_cells":100000,"rows_first":2000,"rows_last":500,"rows_between":2000,"halvings":0,"cell_chars":16384,"cell_head_chars":4096},"cells_cut":0,"cells_raw":0,"read":"whole","date_system":"1900"}

{"sheet":"informacion","index":0,"n_rows":55639,"n_cols":55,"rows_kept":2250,"cut":true,"hidden":false,"merged":[],"bounds":{"rows_first":1000,"rows_last":250,"rows_between":1000,"halvings":1}}
[null,null,"Información General del Proyecto",null,null,null,null,null,null,null,null,null,null,null,"Entrega de Excedentes a la Red [KWh]",null,null,null,null,null,null,"Trámite con OR, TR o Distribuidor",null,null,null,null,null,null,"Información General del Promotor",null,null,null,null,null,"Datos Técnicos Generales del Proyecto",null,null,null,null,"Ubicación Geográfica del Proyecto",null,null,null,"Coordenadas",null,null,null,"Datos de Conexión",null,null,null,null,"Fechas (dd/mm/aaaa)"]
["No.","Nombre del proyecto","Tipo de generador ","No. de RCE","Entrega de Excedentes a la Red","Tipo de proyecto","Recurso energético","Tipo de tecnología","Enero","Febrero","Marzo","Abril","Mayo","Junio","Julio","Agosto","Septiembre","Octubre","Noviembre","Diciembre","Tipo de Solicitud","No. Identificador del proyecto inicial","Estado de la solicitud","Causal","Otros","Razón social de la Empresa / Persona Natural","Número de NIT / C.C.","Nombre del Representante Legal / Cliente","Teléfono","E-mail","Tipo de cliente","Tipo de usuario","Capacidad instalada o nominal  [kW]","Potencia máxima declarada [kW]","Sistema de medición bidireccional","Sistema de medición con perfil horario","Almacenamiento de energía eléctrica","Sistema basado en:","Codigo DIVIPOLA del municipio (5 dígitos)","Departamneto","Municipio","Área de ubicación del proyecto","Latitud","Longitud","Código Postal (6 dígitos)","Punto de conexión STR","Punto de conexión SDL","Tensión [kV]","Tipo de conexión","Nombre del comercializador","Inicio del trámite","Aprobación del punto de conexión","Inicio de pruebas de conexión","Aprobación de la conexión ","Puesta en operación"]
[1,null,null,null,null,null,null,null,null,null,null,null,null,null,null,null,null,null,null,null,null,null,null,null,null,null,null,null,null,null,null,null,null,null,null,null,null,null,null,{"$f":"IFERROR(VLOOKUP(AM3,Cod_DIVIPOLA!A:C,2,0),\"CODIGO INCORRECTO\")","v":"CODIGO INCORRECTO"},{"$f":"IFERROR(VLOOKUP(AM3,Cod_DIVIPOLA!A:C,3,0),\"\")","v":""}]
[2,null,null,null,null,null,null,null,null,null,null,null,null,null,null,null,null,null,null,null,null,null,null,null,null,null,null,null,null,null,null,null,null,null,null,null,null,null,null,{"$f":"IFERROR(VLOOKUP(AM4,Cod_DIVIPOLA!A:C,2,0),\"CODIGO INCORRECTO\")","v":"CODIGO INCORRECTO"},{"$f":"IFERROR(VLOOKUP(AM4,Cod_DIVIPOLA!A:C,3,0),\"\")","v":""}]
[3,null,null,null,null,null,null,null,null,null,null,null,null,null,null,null,null,null,null,null,null,null,null,null,null,null,null,null,null,null,null,null,null,null,null,null,null,null,null,{"$f":"IFERROR(VLOOKUP(AM5,Cod_DIVIPOLA!A:C,2,0),\"CODIGO INCORRECTO\")","v":"CODIGO INCORRECTO"},{"$f":"IFERROR(VLOOKUP(AM5,Cod_DIVIPOLA!A:C,3,0),\"\")","v":""}]
[4,null,null,null,null,null,null,null,null,null,null,null,null,null,null,null,null,null,null,null,null,null,null,null,null,null,null,null,null,null,null,null,null,null,null,null,null,null,null,{"$f":"IFERROR(VLOOKUP(AM6,Cod_DIVIPOLA!A:C,2,0),\"CODIGO INCORRECTO\")","v":"CODIGO INCORRECTO"},{"$f":"IFERROR(VLOOKUP(AM6,Cod_DIVIPOLA!A:C,3,0),\"\")","v":""}]
[5,null,null,null,null,null,null,null,null,null,null,null,null,null,null,null,null,null,null,null,null,null,null,null,null,null,null,null,null,null,null,null,null,null,null,null,null,null,null,{"$f":"IFERROR(VLOOKUP(AM7,Cod_DIVIPOLA!A:C,2,0),\"CODIGO INCORRECTO\")","v":"CODIGO INCORRECTO"},{"$f":"IFERROR(VLOOKUP(AM7,Cod_DIVIPOLA!A:C,3,0),\"\")","v":""}]
[6,null,null,null,null,null,null,null,null,null,null,null,null,null,null,null,null,null,null,null,null,null,null,null,null,null,null,null,null,null,null,null,null,null,null,null,null,null,null,{"$f":"IFERROR(VLOOKUP(AM8,Cod_DIVIPOLA!A:C,2,0),\"CODIGO INCORRECTO\")","v":"CODIGO INCORRECTO"},{"$f":"IFERROR(VLOOKUP(AM8,Cod_DIVIPOLA!A:C,3,0),\"\")","v":""}]
[7,null,null,null,null,null,null,null,null,null,null,null,null,null,null,null,null,null,null,null,null,null,null,null,null,null,null,null,null,null,null,null,null,null,null,null,null,null,null,{"$f":"IFERROR(VLOOKUP(AM9,Cod_DIVIPOLA!A:C,2,0),\"CODIGO INCORRECTO\")","v":"CODIGO INCORRECTO"},{"$f":"IFERROR(VLOOKUP(AM9,Cod_DIVIPOLA!A:C,3,0),\"\")","v":""}]
[8,null,null,null,null,null,null,null,null,null,null,null,null,null,null,null,null,null,null,null,null,null,null,null,null,null,null,null,null,null,null,null,null,null,null,null,null,null,null,{"$f":"IFERROR(VLOOKUP(AM10,Cod_DIVIPOLA!A:C,2,0),\"CODIGO INCORRECTO\")","v":"CODIGO INCORRECTO"},{"$f":"IFERROR(VLOOKUP(AM10,Cod_DIVIPOLA!A:C,3,0),\"\")","v":""}]
[9,null,null,null,null,null,null,null,null,null,null,null,null,null,null,null,null,null,null,null,null,null,null,null,null,null,null,null,null,null,null,null,null,null,null,null,null,null,null,{"$f":"IFERROR(VLOOKUP(AM11,Cod_DIVIPOLA!A:C,2,0),\"CODIGO INCORRECTO\")","v":"CODIGO INCORRECTO"},{"$f":"IFERROR(VLOOKUP(AM11,Cod_DIVIPOLA!A:C,3,0),\"\")","v":""}]
[10,null,null,null,null,null,null,null,null,null,null,null,null,null,null,null,null,null,null,null,null,null,null,null,null,null,null,null,null,null,null,null,null,null,null,null,null,null,null,{"$f":"IFERROR(VLOOKUP(AM12,Cod_DIVIPOLA!A:C,2,0),\"CODIGO INCORRECTO\")","v":"CODIGO INCORRECTO"},{"$f":"IFERROR(VLOOKUP(AM12,Cod_DIVIPOLA!A:C,3,0),\"\")","v":""}]
[11,null,null,null,null,null,null,null,null,null,null,null,null,null,null,null,null,null,null,null,null,null,null,null,null,null,null,null,null,null,null,null,null,null,null,null,null,null,null,{"$f":"IFERROR(VLOOKUP(AM13,Cod_DIVIPOLA!A:C,2,0),\"CODIGO INCORRECTO\")","v":"CODIGO INCORRECTO"},{"$f":"IFERROR(VLOOKUP(AM13,Cod_DIVIPOLA!A:C,3,0),\"\")","v":""}]
[12,null,null,null,null,null,null,null,null,null,null,null,null,null,null,null,null,null,null,null,null,null,null,null,null,null,null,null,null,null,null,null,null,null,null,null,null,null,null,{"$f":"IFERROR(VLOOKUP(AM14,Cod_DIVIPOLA!A:C,2,0),\"CODIGO INCORRECTO\")","v":"CODIGO INCORRECTO"},{"$f":"IFERROR(VLOOKUP(AM14,Cod_DIVIPOLA!A:C,3,0),\"\")","v":""}]
[13,null,null,null,null,null,null,null,null,null,null,null,null,null,null,null,null,null,null,null,null,null,null,null,null,null,null,null,null,null,null,null,null,null,null,null,null,null,null,{"$f":"IFERROR(VLOOKUP(AM15,Cod_DIVIPOLA!A:C,2,0),\"CODIGO INCORRECTO\")","v":"CODIGO INCORRECTO"},{"$f":"IFERROR(VLOOKUP(AM15,Cod_DIVIPOLA!A:C,3,0),\"\")","v":""}]
[14,null,null,null,null,null,null,null,null,null,null,null,null,null,null,null,null,null,null,null,null,null,null,null,null,null,null,null,null,null,null,null,null,null,null,null,null,null,null,{"$f":"IFERROR(VLOOKUP(AM16,Cod_DIVIPOLA!A:C,2,0),\"CODIGO INCORRECTO\")","v":"CODIGO INCORRECTO"},{"$f":"IFERROR(VLOOKUP(AM16,Cod_DIVIPOLA!A:C,3,0),\"\")","v":""}]
[15,null,null,null,null,null,null,null,null,null,null,null,null,null,null,null,null,null,null,null,null,null,null,null,null,null,null,null,null,null,null,null,null,null,null,null,null,null,null,{"$f":"IFERROR(VLOOKUP(AM17,Cod_DIVIPOLA!A:C,2,0),\"CODIGO INCORRECTO\")","v":"CODIGO INCORRECTO"},{"$f":"IFERROR(VLOOKUP(AM17,Cod_DIVIPOLA!A:C,3,0),\"\")","v":""}]
[16,null,null,null,null,null,null,null,null,null,null,null,null,null,null,null,null,null,null,null,null,null,null,null,null,null,null,null,null,null,null,null,null,null,null,null,null,null,null,{"$f":"IFERROR(VLOOKUP(AM18,Cod_DIVIPOLA!A:C,2,0),\"CODIGO INCORRECTO\")","v":"CODIGO INCORRECTO"},{"$f":"IFERROR(VLOOKUP(AM18,Cod_DIVIPOLA!A:C,3,0),\"\")","v":""}]
[17,null,null,null,null,null,null,null,null,null,null,null,null,null,null,null,null,null,null,null,null,null,null,null,null,null,null,null,null,null,null,null,null,null,null,null,null,null,null,{"$f":"IFERROR(VLOOKUP(AM19,Cod_DIVIPOLA!A:C,2,0),\"CODIGO INCORRECTO\")","v":"CODIGO INCORRECTO"},{"$f":"IFERROR(VLOOKUP(AM19,Cod_DIVIPOLA!A:C,3,0),\"\")","v":""}]
[18,null,null,null,null,null,null,null,null,null,null,null,null,null,null,null,null,null,null,null,null,null,null,null,null,null,null,null,null,null,null,null,null,null,null,null,null,null,null,{"$f":"IFERROR(VLOOKUP(AM20,Cod_DIVIPOLA!A:C,2,0),\"CODIGO INCORRECTO\")","v":"CODIGO INCORRECTO"},{"$f":"IFERROR(VLOOKUP(AM20,Cod_DIVIPOLA!A:C,3,0),\"\")","v":""}]
[19,null,null,null,null,null,null,null,null,null,null,null,null,null,null,null,null,null,null,null,null,null,null,null,null,null,null,null,null,null,null,null,null,null,null,null,null,null,null,{"$f":"IFERROR(VLOOKUP(AM21,Cod_DIVIPOLA!A:C,2,0),\"CODIGO INCORRECTO\")","v":"CODIGO INCORRECTO"},{"$f":"IFERROR(VLOOKUP(AM21,Cod_DIVIPOLA!A:C,3,0),\"\")","v":""}]
[20,null,null,null,null,null,null,null,null,null,null,null,null,null,null,null,null,null,null,null,null,null,null,null,null,null,null,null,null,null,null,null,null,null,null,null,null,null,null,{"$f":"IFERROR(VLOOKUP(AM22,Cod_DIVIPOLA!A:C,2,0),\"CODIGO INCORRECTO\")","v":"CODIGO INCORRECTO"},{"$f":"IFERROR(VLOOKUP(AM22,Cod_DIVIPOLA!A:C,3,0),\"\")","v":""}]
[21,null,null,null,null,null,null,null,null,null,null,null,null,null,null,null,null,null,null,null,null,null,null,null,null,null,null,null,null,null,null,null,null,null,null,null,null,null,null,{"$f":"IFERROR(VLOOKUP(AM23,Cod_DIVIPOLA!A:C,2,0),\"CODIGO INCORRECTO\")","v":"CODIGO INCORRECTO"},{"$f":"IFERROR(VLOOKUP(AM23,Cod_DIVIPOLA!A:C,3,0),\"\")","v":""}]
[22,null,null,null,null,null,null,null,null,null,null,null,null,null,null,null,null,null,null,null,null,null,null,null,null,null,null,null,null,null,null,null,null,null,null,null,null,null,null,{"$f":"IFERROR(VLOOKUP(AM24,Cod_DIVIPOLA!A:C,2,0),\"CODIGO INCORRECTO\")","v":"CODIGO INCORRECTO"},{"$f":"IFERROR(VLOOKUP(AM24,Cod_DIVIPOLA!A:C,3,0),\"\")","v":""}]
[23,null,null,null,null,null,null,null,null,null,null,null,null,null,null,null,null,null,null,null,null,null,null,null,null,null,null,null,null,null,null,null,null,null,null,null,null,null,null,{"$f":"IFERROR(VLOOKUP(AM25,Cod_DIVIPOLA!A:C,2,0),\"CODIGO INCORRECTO\")","v":"CODIGO INCORRECTO"},{"$f":"IFERROR(VLOOKUP(AM25,Cod_DIVIPOLA!A:C,3,0),\"\")","v":""}]
[24,null,null,null,null,null,null,null,null,null,null,null,null,null,null,null,null,null,null,null,null,null,null,null,null,null,null,null,null,null,null,null,null,null,null,null,null,null,null,{"$f":"IFERROR(VLOOKUP(AM26,Cod_DIVIPOLA!A:C,2,0),\"CODIGO INCORRECTO\")","v":"CODIGO INCORRECTO"}]
[25,null,null,null,null,null,null,null,null,null,null,null,null,null,null,null,null,null,null,null,null,null,null,null,null,null,null,null,null,null,null,null,null,null,null,null,null,null,null,{"$f":"IFERROR(VLOOKUP(AM27,Cod_DIVIPOLA!A:C,2,0),\"CODIGO INCORRECTO\")","v":"CODIGO INCORRECTO"}]
[26,null,null,null,null,null,null,null,null,null,null,null,null,null,null,null,null,null,null,null,null,null,null,null,null,null,null,null,null,null,null,null,null,null,null,null,null,null,null,{"$f":"IFERROR(VLOOKUP(AM28,Cod_DIVIPOLA!A:C,2,0),\"CODIGO INCORRECTO\")","v":"CODIGO INCORRECTO"}]
[27,null,null,null,null,null,null,null,null,null,null,null,null,null,null,null,null,null,null,null,null,null,null,null,null,null,null,null,null,null,null,null,null,null,null,null,null,null,null,{"$f":"IFERROR(VLOOKUP(AM29,Cod_DIVIPOLA!A:C,2,0),\"CODIGO INCORRECTO\")","v":"CODIGO INCORRECTO"}]
[28,null,null,null,null,null,null,null,null,null,null,null,null,null,null,null,null,null,null,null,null,null,null,null,null,null,null,null,null,null,null,null,null,null,null,null,null,null,null,{"$f":"IFERROR(VLOOKUP(AM30,Cod_DIVIPOLA!A:C,2,0),\"CODIGO INCORRECTO\")","v":"CODIGO INCORRECTO"}]
[29,null,null,null,null,null,null,null,null,null,null,null,null,null,null,null,null,null,null,null,null,null,null,null,null,null,null,null,null,null,null,null,null,null,null,null,null,null,null,{"$f":"IFERROR(VLOOKUP(AM31,Cod_DIVIPOLA!A:C,2,0),\"CODIGO INCORRECTO\")","v":"CODIGO INCORRECTO"}]
[30,null,null,null,null,null,null,null,null,null,null,null,null,null,null,null,null,null,null,null,null,null,null,null,null,null,null,null,null,null,null,null,null,null,null,null,null,null,null,{"$f":"IFERROR(VLOOKUP(AM32,Cod_DIVIPOLA!A:C,2,0),\"CODIGO INCORRECTO\")","v":"CODIGO INCORRECTO"}]
[31,null,null,null,null,null,null,null,null,null,null,null,null,null,null,null,null,null,null,null,null,null,null,null,null,null,null,null,null,null,null,null,null,null,null,null,null,null,null,{"$f":"IFERROR(VLOOKUP(AM33,Cod_DIVIPOLA!A:C,2,0),\"CODIGO INCORRECTO\")","v":"CODIGO INCORRECTO"}]
[32,null,null,null,null,null,null,null,null,null,null,null,null,null,null,null,null,null,null,null,null,null,null,null,null,null,null,null,null,null,null,null,null,null,null,null,null,null,null,{"$f":"IFERROR(VLOOKUP(AM34,Cod_DIVIPOLA!A:C,2,0),\"CODIGO INCORRECTO\")","v":"CODIGO INCORRECTO"}]
[33,null,null,null,null,null,null,null,null,null,null,null,null,null,null,null,null,null,null,null,null,null,null,null,null,null,null,null,null,null,null,null,null,null,null,null,null,null,null,{"$f":"IFERROR(VLOOKUP(AM35,Cod_DIVIPOLA!A:C,2,0),\"CODIGO INCORRECTO\")","v":"CODIGO INCORRECTO"}]
[34,null,null,null,null,null,null,null,null,null,null,null,null,null,null,null,null,null,null,null,null,null,null,null,null,null,null,null,null,null,null,null,null,null,null,null,null,null,null,{"$f":"IFERROR(VLOOKUP(AM36,Cod_DIVIPOLA!A:C,2,0),\"CODIGO INCORRECTO\")","v":"CODIGO INCORRECTO"}]
[35,null,null,null,null,null,null,null,null,null,null,null,null,null,null,null,null,null,null,null,null,null,null,null,null,null,null,null,null,null,null,null,null,null,null,null,null,null,null,{"$f":"IFERROR(VLOOKUP(AM37,Cod_DIVIPOLA!A:C,2,0),\"CODIGO INCORRECTO\")","v":"CODIGO INCORRECTO"}]
[36,null,null,null,null,null,null,null,null,null,null,null,null,null,null,null,null,null,null,null,null,null,null,null,null,null,null,null,null,null,null,null,null,null,null,null,null,null,null,{"$f":"IFERROR(VLOOKUP(AM38,Cod_DIVIPOLA!A:C,2,0),\"CODIGO INCORRECTO\")","v":"CODIGO INCORRECTO"}]
[37,null,null,null,null,null,null,null,null,null,null,null,null,null,null,null,null,null,null,null,null,null,null,null,null,null,null,null,null,null,null,null,null,null,null,null,null,null,null,{"$f":"IFERROR(VLOOKUP(AM39,Cod_DIVIPOLA!A:C,2,0),\"CODIGO INCORRECTO\")","v":"CODIGO INCORRECTO"}]
[38,null,null,null,null,null,null,null,null,null,null,null,null,null,null,null,null,null,null,null,null,null,null,null,null,null,null,null,null,null,null,null,null,null,null,null,null,null,null,{"$f":"IFERROR(VLOOKUP(AM40,Cod_DIVIPOLA!A:C,2,0),\"CODIGO INCORRECTO\")","v":"CODIGO INCORRECTO"}]
[39,null,null,null,null,null,null,null,null,null,null,null,null,null,null,null,null,null,null,null,null,null,null,null,null,null,null,null,null,null,null,null,null,null,null,null,null,null,null,{"$f":"IFERROR(VLOOKUP(AM41,Cod_DIVIPOLA!A:C,2,0),\"CODIGO INCORRECTO\")","v":"CODIGO INCORRECTO"}]
[40,null,null,null,null,null,null,null,null,null,null,null,null,null,null,null,null,null,null,null,null,null,null,null,null,null,null,null,null,null,null,null,null,null,null,null,null,null,null,{"$f":"IFERROR(VLOOKUP(AM42,Cod_DIVIPOLA!A:C,2,0),\"CODIGO INCORRECTO\")","v":"CODIGO INCORRECTO"}]
[41,null,null,null,null,null,null,null,null,null,null,null,null,null,null,null,null,null,null,null,null,null,null,null,null,null,null,null,null,null,null,null,null,null,null,null,null,null,null,{"$f":"IFERROR(VLOOKUP(AM43,Cod_DIVIPOLA!A:C,2,0),\"CODIGO INCORRECTO\")","v":"CODIGO INCORRECTO"}]
[42,null,null,null,null,null,null,null,null,null,null,null,null,null,null,null,null,null,null,null,null,null,null,null,null,null,null,null,null,null,null,null,null,null,null,null,null,null,null,{"$f":"IFERROR(VLOOKUP(AM44,Cod_DIVIPOLA!A:C,2,0),\"CODIGO INCORRECTO\")","v":"CODIGO INCORRECTO"}]
[43,null,null,null,null,null,null,null,null,null,null,null,null,null,null,null,null,null,null,null,null,null,null,null,null,null,null,null,null,null,null,null,null,null,null,null,null,null,null,{"$f":"IFERROR(VLOOKUP(AM45,Cod_DIVIPOLA!A:C,2,0),\"CODIGO INCORRECTO\")","v":"CODIGO INCORRECTO"}]
[44,null,null,null,null,null,null,null,null,null,null,null,null,null,null,null,null,null,null,null,null,null,null,null,null,null,null,null,null,null,null,null,null,null,null,null,null,null,null,{"$f":"IFERROR(VLOOKUP(AM46,Cod_DIVIPOLA!A:C,2,0),\"CODIGO INCORRECTO\")","v":"CODIGO INCORRECTO"}]
[45,null,null,null,null,null,null,null,null,null,null,null,null,null,null,null,null,null,null,null,null,null,null,null,null,null,null,null,null,null,null,null,null,null,null,null,null,null,null,{"$f":"IFERROR(VLOOKUP(AM47,Cod_DIVIPOLA!A:C,2,0),\"CODIGO INCORRECTO\")","v":"CODIGO INCORRECTO"}]
[46,null,null,null,null,null,null,null,null,null,null,null,null,null,null,null,null,null,null,null,null,null,null,null,null,null,null,null,null,null,null,null,null,null,null,null,null,null,null,{"$f":"IFERROR(VLOOKUP(AM48,Cod_DIVIPOLA!A:C,2,0),\"CODIGO INCORRECTO\")","v":"CODIGO INCORRECTO"}]
[47,null,null,null,null,null,null,null,null,null,null,null,null,null,null,null,null,null,null,null,null,null,null,null,null,null,null,null,null,null,null,null,null,null,null,null,null,null,null,{"$f":"IFERROR(VLOOKUP(AM49,Cod_DIVIPOLA!A:C,2,0),\"CODIGO INCORRECTO\")","v":"CODIGO INCORRECTO"}]
[48,null,null,null,null,null,null,null,null,null,null,null,null,null,null,null,null,null,null,null,null,null,null,null,null,null,null,null,null,null,null,null,null,null,null,null,null,null,null,{"$f":"IFERROR(VLOOKUP(AM50,Cod_DIVIPOLA!A:C,2,0),\"CODIGO INCORRECTO\")","v":"CODIGO INCORRECTO"}]
[49,null,null,null,null,null,null,null,null,null,null,null,null,null,null,null,null,null,null,null,null,null,null,null,null,null,null,null,null,null,null,null,null,null,null,null,null,null,null,{"$f":"IFERROR(VLOOKUP(AM51,Cod_DIVIPOLA!A:C,2,0),\"CODIGO INCORRECTO\")","v":"CODIGO INCORRECTO"}]
[50,null,null,null,null,null,null,null,null,null,null,null,null,null,null,null,null,null,null,null,null,null,null,null,null,null,null,null,null,null,null,null,null,null,null,null,null,null,null,{"$f":"IFERROR(VLOOKUP(AM52,Cod_DIVIPOLA!A:C,2,0),\"CODIGO INCORRECTO\")","v":"CODIGO INCORRECTO"}]
[51,null,null,null,null,null,null,null,null,null,null,null,null,null,null,null,null,null,null,null,null,null,null,null,null,null,null,null,null,null,null,null,null,null,null,null,null,null,null,{"$f":"IFERROR(VLOOKUP(AM53,Cod_DIVIPOLA!A:C,2,0),\"CODIGO INCORRECTO\")","v":"CODIGO INCORRECTO"}]
[52,null,null,null,null,null,null,null,null,null,null,null,null,null,null,null,null,null,null,null,null,null,null,null,null,null,null,null,null,null,null,null,null,null,null,null,null,null,null,{"$f":"IFERROR(VLOOKUP(AM54,Cod_DIVIPOLA!A:C,2,0),\"CODIGO INCORRECTO\")","v":"CODIGO INCORRECTO"}]
[53,null,null,null,null,null,null,null,null,null,null,null,null,null,null,null,null,null,null,null,null,null,null,null,null,null,null,null,null,null,null,null,null,null,null,null,null,null,null,{"$f":"IFERROR(VLOOKUP(AM55,Cod_DIVIPOLA!A:C,2,0),\"CODIGO INCORRECTO\")","v":"CODIGO INCORRECTO"}]
[54,null,null,null,null,null,null,null,null,null,null,null,null,null,null,null,null,null,null,null,null,null,null,null,null,null,null,null,null,null,null,null,null,null,null,null,null,null,null,{"$f":"IFERROR(VLOOKUP(AM56,Cod_DIVIPOLA!A:C,2,0),\"CODIGO INCORRECTO\")","v":"CODIGO INCORRECTO"}]
[55,null,null,null,null,null,null,null,null,null,null,null,null,null,null,null,null,null,null,null,null,null,null,null,null,null,null,null,null,null,null,null,null,null,null,null,null,null,null,{"$f":"IFERROR(VLOOKUP(AM57,Cod_DIVIPOLA!A:C,2,0),\"CODIGO INCORRECTO\")","v":"CODIGO INCORRECTO"}]
[56,null,null,null,null,null,null,null,null,null,null,null,null,null,null,null,null,null,null,null,null,null,null,null,null,null,null,null,null,null,null,null,null,null,null,null,null,null,null,{"$f":"IFERROR(VLOOKUP(AM58,Cod_DIVIPOLA!A:C,2,0),\"CODIGO INCORRECTO\")","v":"CODIGO INCORRECTO"}]
[57,null,null,null,null,null,null,null,null,null,null,null,null,null,null,null,null,null,null,null,null,null,null,null,null,null,null,null,null,null,null,null,null,null,null,null,null,null,null,{"$f":"IFERROR(VLOOKUP(AM59,Cod_DIVIPOLA!A:C,2,0),\"CODIGO INCORRECTO\")","v":"CODIGO INCORRECTO"}]
[58,null,null,null,null,null,null,null,null,null,null,null,null,null,null,null,null,null,null,null,null,null,null,null,null,null,null,null,null,null,null,null,null,null,null,null,null,null,null,{"$f":"IFERROR(VLOOKUP(AM60,Cod_DIVIPOLA!A:C,2,0),\"CODIGO INCORRECTO\")","v":"CODIGO INCORRECTO"}]
[59,null,null,null,null,null,null,null,null,null,null,null,null,null,null,null,null,null,null,null,null,null,null,null,null,null,null,null,null,null,null,null,null,null,null,null,null,null,null,{"$f":"IFERROR(VLOOKUP(AM61,Cod_DIVIPOLA!A:C,2,0),\"CODIGO INCORRECTO\")","v":"CODIGO INCORRECTO"}]
[60,null,null,null,null,null,null,null,null,null,null,null,null,null,null,null,null,null,null,null,null,null,null,null,null,null,null,null,null,null,null,null,null,null,null,null,null,null,null,{"$f":"IFERROR(VLOOKUP(AM62,Cod_DIVIPOLA!A:C,2,0),\"CODIGO INCORRECTO\")","v":"CODIGO INCORRECTO"}]
[61,null,null,null,null,null,null,null,null,null,null,null,null,null,null,null,null,null,null,null,null,null,null,null,null,null,null,null,null,null,null,null,null,null,null,null,null,null,null,{"$f":"IFERROR(VLOOKUP(AM63,Cod_DIVIPOLA!A:C,2,0),\"CODIGO INCORRECTO\")","v":"CODIGO INCORRECTO"}]
[62,null,null,null,null,null,null,null,null,null,null,null,null,null,null,null,null,null,null,null,null,null,null,null,null,null,null,null,null,null,null,null,null,null,null,null,null,null,null,{"$f":"IFERROR(VLOOKUP(AM64,Cod_DIVIPOLA!A:C,2,0),\"CODIGO INCORRECTO\")","v":"CODIGO INCORRECTO"}]
[63,null,null,null,null,null,null,null,null,null,null,null,null,null,null,null,null,null,null,null,null,null,null,null,null,null,null,null,null,null,null,null,null,null,null,null,null,null,null,{"$f":"IFERROR(VLOOKUP(AM65,Cod_DIVIPOLA!A:C,2,0),\"CODIGO INCORRECTO\")","v":"CODIGO INCORRECTO"}]
[64,null,null,null,null,null,null,null,null,null,null,null,null,null,null,null,null,null,null,null,null,null,null,null,null,null,null,null,null,null,null,null,null,null,null,null,null,null,null,{"$f":"IFERROR(VLOOKUP(AM66,Cod_DIVIPOLA!A:C,2,0),\"CODIGO INCORRECTO\")","v":"CODIGO INCORRECTO"}]
[65,null,null,null,null,null,null,null,null,null,null,null,null,null,null,null,null,null,null,null,null,null,null,null,null,null,null,null,null,null,null,null,null,null,null,null,null,null,null,{"$f":"IFERROR(VLOOKUP(AM67,Cod_DIVIPOLA!A:C,2,0),\"CODIGO INCORRECTO\")","v":"CODIGO INCORRECTO"}]
[66,null,null,null,null,null,null,null,null,null,null,null,null,null,null,null,null,null,null,null,null,null,null,null,null,null,null,null,null,null,null,null,null,null,null,null,null,null,null,{"$f":"IFERROR(VLOOKUP(AM68,Cod_DIVIPOLA!A:C,2,0),\"CODIGO INCORRECTO\")","v":"CODIGO INCORRECTO"}]
[67,null,null,null,null,null,null,null,null,null,null,null,null,null,null,null,null,null,null,null,null,null,null,null,null,null,null,null,null,null,null,null,null,null,null,null,null,null,null,{"$f":"IFERROR(VLOOKUP(AM69,Cod_DIVIPOLA!A:C,2,0),\"CODIGO INCORRECTO\")","v":"CODIGO INCORRECTO"}]
[68,null,null,null,null,null,null,null,null,null,null,null,null,null,null,null,null,null,null,null,null,null,null,null,null,null,null,null,null,null,null,null,null,null,null,null,null,null,null,{"$f":"IFERROR(VLOOKUP(AM70,Cod_DIVIPOLA!A:C,2,0),\"CODIGO INCORRECTO\")","v":"CODIGO INCORRECTO"}]
[69,null,null,null,null,null,null,null,null,null,null,null,null,null,null,null,null,null,null,null,null,null,null,null,null,null,null,null,null,null,null,null,null,null,null,null,null,null,null,{"$f":"IFERROR(VLOOKUP(AM71,Cod_DIVIPOLA!A:C,2,0),\"CODIGO INCORRECTO\")","v":"CODIGO INCORRECTO"}]
[70,null,null,null,null,null,null,null,null,null,null,null,null,null,null,null,null,null,null,null,null,null,null,null,null,null,null,null,null,null,null,null,null,null,null,null,null,null,null,{"$f":"IFERROR(VLOOKUP(AM72,Cod_DIVIPOLA!A:C,2,0),\"CODIGO INCORRECTO\")","v":"CODIGO INCORRECTO"}]
[71,null,null,null,null,null,null,null,null,null,null,null,null,null,null,null,null,null,null,null,null,null,null,null,null,null,null,null,null,null,null,null,null,null,null,null,null,null,null,{"$f":"IFERROR(VLOOKUP(AM73,Cod_DIVIPOLA!A:C,2,0),\"CODIGO INCORRECTO\")","v":"CODIGO INCORRECTO"}]
[72,null,null,null,null,null,null,null,null,null,null,null,null,null,null,null,null,null,null,null,null,null,null,null,null,null,null,null,null,null,null,null,null,null,null,null,null,null,null,{"$f":"IFERROR(VLOOKUP(AM74,Cod_DIVIPOLA!A:C,2,0),\"CODIGO INCORRECTO\")","v":"CODIGO INCORRECTO"}]
[73,null,null,null,null,null,null,null,null,null,null,null,null,null,null,null,null,null,null,null,null,null,null,null,null,null,null,null,null,null,null,null,null,null,null,null,null,null,null,{"$f":"IFERROR(VLOOKUP(AM75,Cod_DIVIPOLA!A:C,2,0),\"CODIGO INCORRECTO\")","v":"CODIGO INCORRECTO"}]
[74,null,null,null,null,null,null,null,null,null,null,null,null,null,null,null,null,null,null,null,null,null,null,null,null,null,null,null,null,null,null,null,null,null,null,null,null,null,null,{"$f":"IFERROR(VLOOKUP(AM76,Cod_DIVIPOLA!A:C,2,0),\"CODIGO INCORRECTO\")","v":"CODIGO INCORRECTO"}]
[75,null,null,null,null,null,null,null,null,null,null,null,null,null,null,null,null,null,null,null,null,null,null,null,null,null,null,null,null,null,null,null,null,null,null,null,null,null,null,{"$f":"IFERROR(VLOOKUP(AM77,Cod_DIVIPOLA!A:C,2,0),\"CODIGO INCORRECTO\")","v":"CODIGO INCORRECTO"}]
[76,null,null,null,null,null,null,null,null,null,null,null,null,null,null,null,null,null,null,null,null,null,null,null,null,null,null,null,null,null,null,null,null,null,null,null,null,null,null,{"$f":"IFERROR(VLOOKUP(AM78,Cod_DIVIPOLA!A:C,2,0),\"CODIGO INCORRECTO\")","v":"CODIGO INCORRECTO"}]
[77,null,null,null,null,null,null,null,null,null,null,null,null,null,null,null,null,null,null,null,null,null,null,null,null,null,null,null,null,null,null,null,null,null,null,null,null,null,null,{"$f":"IFERROR(VLOOKUP(AM79,Cod_DIVIPOLA!A:C,2,0),\"CODIGO INCORRECTO\")","v":"CODIGO INCORRECTO"}]
[78,null,null,null,null,null,null,null,null,null,null,null,null,null,null,null,null,null,null,null,null,null,null,null,null,null,null,null,null,null,null,null,null,null,null,null,null,null,null,{"$f":"IFERROR(VLOOKUP(AM80,Cod_DIVIPOLA!A:C,2,0),\"CODIGO INCORRECTO\")","v":"CODIGO INCORRECTO"}]
[79,null,null,null,null,null,null,null,null,null,null,null,null,null,null,null,null,null,null,null,null,null,null,null,null,null,null,null,null,null,null,null,null,null,null,null,null,null,null,{"$f":"IFERROR(VLOOKUP(AM81,Cod_DIVIPOLA!A:C,2,0),\"CODIGO INCORRECTO\")","v":"CODIGO INCORRECTO"}]
[80,null,null,null,null,null,null,null,null,null,null,null,null,null,null,null,null,null,null,null,null,null,null,null,null,null,null,null,null,null,null,null,null,null,null,null,null,null,null,{"$f":"IFERROR(VLOOKUP(AM82,Cod_DIVIPOLA!A:C,2,0),\"CODIGO INCORRECTO\")","v":"CODIGO INCORRECTO"}]
[81,null,null,null,null,null,null,null,null,null,null,null,null,null,null,null,null,null,null,null,null,null,null,null,null,null,null,null,null,null,null,null,null,null,null,null,null,null,null,{"$f":"IFERROR(VLOOKUP(AM83,Cod_DIVIPOLA!A:C,2,0),\"CODIGO INCORRECTO\")","v":"CODIGO INCORRECTO"}]
[82,null,null,null,null,null,null,null,null,null,null,null,null,null,null,null,null,null,null,null,null,null,null,null,null,null,null,null,null,null,null,null,null,null,null,null,null,null,null,{"$f":"IFERROR(VLOOKUP(AM84,Cod_DIVIPOLA!A:C,2,0),\"CODIGO INCORRECTO\")","v":"CODIGO INCORRECTO"}]
[83,null,null,null,null,null,null,null,null,null,null,null,null,null,null,null,null,null,null,null,null,null,null,null,null,null,null,null,null,null,null,null,null,null,null,null,null,null,null,{"$f":"IFERROR(VLOOKUP(AM85,Cod_DIVIPOLA!A:C,2,0),\"CODIGO INCORRECTO\")","v":"CODIGO INCORRECTO"}]
[84,null,null,null,null,null,null,null,null,null,null,null,null,null,null,null,null,null,null,null,null,null,null,null,null,null,null,null,null,null,null,null,null,null,null,null,null,null,null,{"$f":"IFERROR(VLOOKUP(AM86,Cod_DIVIPOLA!A:C,2,0),\"CODIGO INCORRECTO\")","v":"CODIGO INCORRECTO"}]
[85,null,null,null,null,null,null,null,null,null,null,null,null,null,null,null,null,null,null,null,null,null,null,null,null,null,null,null,null,null,null,null,null,null,null,null,null,null,null,{"$f":"IFERROR(VLOOKUP(AM87,Cod_DIVIPOLA!A:C,2,0),\"CODIGO INCORRECTO\")","v":"CODIGO INCORRECTO"}]
[86,null,null,null,null,null,null,null,null,null,null,null,null,null,null,null,null,null,null,null,null,null,null,null,null,null,null,null,null,null,null,null,null,null,null,null,null,null,null,{"$f":"IFERROR(VLOOKUP(AM88,Cod_DIVIPOLA!A:C,2,0),\"CODIGO INCORRECTO\")","v":"CODIGO INCORRECTO"}]
[87,null,null,null,null,null,null,null,null,null,null,null,null,null,null,null,null,null,null,null,null,null,null,null,null,null,null,null,null,null,null,null,null,null,null,null,null,null,null,{"$f":"IFERROR(VLOOKUP(AM89,Cod_DIVIPOLA!A:C,2,0),\"CODIGO INCORRECTO\")","v":"CODIGO INCORRECTO"}]
[88,null,null,null,null,null,null,null,null,null,null,null,null,null,null,null,null,null,null,null,null,null,null,null,null,null,null,null,null,null,null,null,null,null,null,null,null,null,null,{"$f":"IFERROR(VLOOKUP(AM90,Cod_DIVIPOLA!A:C,2,0),\"CODIGO INCORRECTO\")","v":"CODIGO INCORRECTO"}]
[89,null,null,null,null,null,null,null,null,null,null,null,null,null,null,null,null,null,null,null,null,null,null,null,null,null,null,null,null,null,null,null,null,null,null,null,null,null,null,{"$f":"IFERROR(VLOOKUP(AM91,Cod_DIVIPOLA!A:C,2,0),\"CODIGO INCORRECTO\")","v":"CODIGO INCORRECTO"}]
[90,null,null,null,null,null,null,null,null,null,null,null,null,null,null,null,null,null,null,null,null,null,null,null,null,null,null,null,null,null,null,null,null,null,null,null,null,null,null,{"$f":"IFERROR(VLOOKUP(AM92,Cod_DIVIPOLA!A:C,2,0),\"CODIGO INCORRECTO\")","v":"CODIGO INCORRECTO"}]
[91,null,null,null,null,null,null,null,null,null,null,null,null,null,null,null,null,null,null,null,null,null,null,null,null,null,null,null,null,null,null,null,null,null,null,null,null,null,null,{"$f":"IFERROR(VLOOKUP(AM93,Cod_DIVIPOLA!A:C,2,0),\"CODIGO INCORRECTO\")","v":"CODIGO INCORRECTO"}]
[92,null,null,null,null,null,null,null,null,null,null,null,null,null,null,null,null,null,null,null,null,null,null,null,null,null,null,null,null,null,null,null,null,null,null,null,null,null,null,{"$f":"IFERROR(VLOOKUP(AM94,Cod_DIVIPOLA!A:C,2,0),\"CODIGO INCORRECTO\")","v":"CODIGO INCORRECTO"}]
[93,null,null,null,null,null,null,null,null,null,null,null,null,null,null,null,null,null,null,null,null,null,null,null,null,null,null,null,null,null,null,null,null,null,null,null,null,null,null,{"$f":"IFERROR(VLOOKUP(AM95,Cod_DIVIPOLA!A:C,2,0),\"CODIGO INCORRECTO\")","v":"CODIGO INCORRECTO"}]
[94,null,null,null,null,null,null,null,null,null,null,null,null,null,null,null,null,null,null,null,null,null,null,null,null,null,null,null,null,null,null,null,null,null,null,null,null,null,null,{"$f":"IFERROR(VLOOKUP(AM96,Cod_DIVIPOLA!A:C,2,0),\"CODIGO INCORRECTO\")","v":"CODIGO INCORRECTO"}]
[95,null,null,null,null,null,null,null,null,null,null,null,null,null,null,null,null,null,null,null,null,null,null,null,null,null,null,null,null,null,null,null,null,null,null,null,null,null,null,{"$f":"IFERROR(VLOOKUP(AM97,Cod_DIVIPOLA!A:C,2,0),\"CODIGO INCORRECTO\")","v":"CODIGO INCORRECTO"}]
[96,null,null,null,null,null,null,null,null,null,null,null,null,null,null,null,null,null,null,null,null,null,null,null,null,null,null,null,null,null,null,null,null,null,null,null,null,null,null,{"$f":"IFERROR(VLOOKUP(AM98,Cod_DIVIPOLA!A:C,2,0),\"CODIGO INCORRECTO\")","v":"CODIGO INCORRECTO"}]
[97,null,null,null,null,null,null,null,null,null,null,null,null,null,null,null,null,null,null,null,null,null,null,null,null,null,null,null,null,null,null,null,null,null,null,null,null,null,null,{"$f":"IFERROR(VLOOKUP(AM99,Cod_DIVIPOLA!A:C,2,0),\"CODIGO INCORRECTO\")","v":"CODIGO INCORRECTO"}]
[98,null,null,null,null,null,null,null,null,null,null,null,null,null,null,null,null,null,null,null,null,null,null,null,null,null,null,null,null,null,null,null,null,null,null,null,null,null,null,{"$f":"IFERROR(VLOOKUP(AM100,Cod_DIVIPOLA!A:C,2,0),\"CODIGO INCORRECTO\")","v":"CODIGO INCORRECTO"}]
[99,null,null,null,null,null,null,null,null,null,null,null,null,null,null,null,null,null,null,null,null,null,null,null,null,null,null,null,null,null,null,null,null,null,null,null,null,null,null,{"$f":"IFERROR(VLOOKUP(AM101,Cod_DIVIPOLA!A:C,2,0),\"CODIGO INCORRECTO\")","v":"CODIGO INCORRECTO"}]
[100,null,null,null,null,null,null,null,null,null,null,null,null,null,null,null,null,null,null,null,null,null,null,null,null,null,null,null,null,null,null,null,null,null,null,null,null,null,null,{"$f":"IFERROR(VLOOKUP(AM102,Cod_DIVIPOLA!A:C,2,0),\"CODIGO INCORRECTO\")","v":"CODIGO INCORRECTO"}]
[101,null,null,null,null,null,null,null,null,null,null,null,null,null,null,null,null,null,null,null,null,null,null,null,null,null,null,null,null,null,null,null,null,null,null,null,null,null,null,{"$f":"IFERROR(VLOOKUP(AM103,Cod_DIVIPOLA!A:C,2,0),\"CODIGO INCORRECTO\")","v":"CODIGO INCORRECTO"}]
[102,null,null,null,null,null,null,null,null,null,null,null,null,null,null,null,null,null,null,null,null,null,null,null,null,null,null,null,null,null,null,null,null,null,null,null,null,null,null,{"$f":"IFERROR(VLOOKUP(AM104,Cod_DIVIPOLA!A:C,2,0),\"CODIGO INCORRECTO\")","v":"CODIGO INCORRECTO"}]
[103,null,null,null,null,null,null,null,null,null,null,null,null,null,null,null,null,null,null,null,null,null,null,null,null,null,null,null,null,null,null,null,null,null,null,null,null,null,null,{"$f":"IFERROR(VLOOKUP(AM105,Cod_DIVIPOLA!A:C,2,0),\"CODIGO INCORRECTO\")","v":"CODIGO INCORRECTO"}]
[104,null,null,null,null,null,null,null,null,null,null,null,null,null,null,null,null,null,null,null,null,null,null,null,null,null,null,null,null,null,null,null,null,null,null,null,null,null,null,{"$f":"IFERROR(VLOOKUP(AM106,Cod_DIVIPOLA!A:C,2,0),\"CODIGO INCORRECTO\")","v":"CODIGO INCORRECTO"}]
[105,null,null,null,null,null,null,null,null,null,null,null,null,null,null,null,null,null,null,null,null,null,null,null,null,null,null,null,null,null,null,null,null,null,null,null,null,null,null,{"$f":"IFERROR(VLOOKUP(AM107,Cod_DIVIPOLA!A:C,2,0),\"CODIGO INCORRECTO\")","v":"CODIGO INCORRECTO"}]
[106,null,null,null,null,null,null,null,null,null,null,null,null,null,null,null,null,null,null,null,null,null,null,null,null,null,null,null,null,null,null,null,null,null,null,null,null,null,null,{"$f":"IFERROR(VLOOKUP(AM108,Cod_DIVIPOLA!A:C,2,0),\"CODIGO INCORRECTO\")","v":"CODIGO INCORRECTO"}]
[107,null,null,null,null,null,null,null,null,null,null,null,null,null,null,null,null,null,null,null,null,null,null,null,null,null,null,null,null,null,null,null,null,null,null,null,null,null,null,{"$f":"IFERROR(VLOOKUP(AM109,Cod_DIVIPOLA!A:C,2,0),\"CODIGO INCORRECTO\")","v":"CODIGO INCORRECTO"}]
[108,null,null,null,null,null,null,null,null,null,null,null,null,null,null,null,null,null,null,null,null,null,null,null,null,null,null,null,null,null,null,null,null,null,null,null,null,null,null,{"$f":"IFERROR(VLOOKUP(AM110,Cod_DIVIPOLA!A:C,2,0),\"CODIGO INCORRECTO\")","v":"CODIGO INCORRECTO"}]
[109,null,null,null,null,null,null,null,null,null,null,null,null,null,null,null,null,null,null,null,null,null,null,null,null,null,null,null,null,null,null,null,null,null,null,null,null,null,null,{"$f":"IFERROR(VLOOKUP(AM111,Cod_DIVIPOLA!A:C,2,0),\"CODIGO INCORRECTO\")","v":"CODIGO INCORRECTO"}]
[110,null,null,null,null,null,null,null,null,null,null,null,null,null,null,null,null,null,null,null,null,null,null,null,null,null,null,null,null,null,null,null,null,null,null,null,null,null,null,{"$f":"IFERROR(VLOOKUP(AM112,Cod_DIVIPOLA!A:C,2,0),\"CODIGO INCORRECTO\")","v":"CODIGO INCORRECTO"}]
[111,null,null,null,null,null,null,null,null,null,null,null,null,null,null,null,null,null,null,null,null,null,null,null,null,null,null,null,null,null,null,null,null,null,null,null,null,null,null,{"$f":"IFERROR(VLOOKUP(AM113,Cod_DIVIPOLA!A:C,2,0),\"CODIGO INCORRECTO\")","v":"CODIGO INCORRECTO"}]
[112,null,null,null,null,null,null,null,null,null,null,null,null,null,null,null,null,null,null,null,null,null,null,null,null,null,null,null,null,null,null,null,null,null,null,null,null,null,null,{"$f":"IFERROR(VLOOKUP(AM114,Cod_DIVIPOLA!A:C,2,0),\"CODIGO INCORRECTO\")","v":"CODIGO INCORRECTO"}]
[113,null,null,null,null,null,null,null,null,null,null,null,null,null,null,null,null,null,null,null,null,null,null,null,null,null,null,null,null,null,null,null,null,null,null,null,null,null,null,{"$f":"IFERROR(VLOOKUP(AM115,Cod_DIVIPOLA!A:C,2,0),\"CODIGO INCORRECTO\")","v":"CODIGO INCORRECTO"}]
[114,null,null,null,null,null,null,null,null,null,null,null,null,null,null,null,null,null,null,null,null,null,null,null,null,null,null,null,null,null,null,null,null,null,null,null,null,null,null,{"$f":"IFERROR(VLOOKUP(AM116,Cod_DIVIPOLA!A:C,2,0),\"CODIGO INCORRECTO\")","v":"CODIGO INCORRECTO"}]
[115,null,null,null,null,null,null,null,null,null,null,null,null,null,null,null,null,null,null,null,null,null,null,null,null,null,null,null,null,null,null,null,null,null,null,null,null,null,null,{"$f":"IFERROR(VLOOKUP(AM117,Cod_DIVIPOLA!A:C,2,0),\"CODIGO INCORRECTO\")","v":"CODIGO INCORRECTO"}]
[116,null,null,null,null,null,null,null,null,null,null,null,null,null,null,null,null,null,null,null,null,null,null,null,null,null,null,null,null,null,null,null,null,null,null,null,null,null,null,{"$f":"IFERROR(VLOOKUP(AM118,Cod_DIVIPOLA!A:C,2,0),\"CODIGO INCORRECTO\")","v":"CODIGO INCORRECTO"}]
[117,null,null,null,null,null,null,null,null,null,null,null,null,null,null,null,null,null,null,null,null,null,null,null,null,null,null,null,null,null,null,null,null,null,null,null,null,null,null,{"$f":"IFERROR(VLOOKUP(AM119,Cod_DIVIPOLA!A:C,2,0),\"CODIGO INCORRECTO\")","v":"CODIGO INCORRECTO"}]
[118,null,null,null,null,null,null,null,null,null,null,null,null,null,null,null,null,null,null,null,null,null,null,null,null,null,null,null,null,null,null,null,null,null,null,null,null,null,null,{"$f":"IFERROR(VLOOKUP(AM120,Cod_DIVIPOLA!A:C,2,0),\"CODIGO INCORRECTO\")","v":"CODIGO INCORRECTO"}]
[119,null,null,null,null,null,null,null,null,null,null,null,null,null,null,null,null,null,null,null,null,null,null,null,null,null,null,null,null,null,null,null,null,null,null,null,null,null,null,{"$f":"IFERROR(VLOOKUP(AM121,Cod_DIVIPOLA!A:C,2,0),\"CODIGO INCORRECTO\")","v":"CODIGO INCORRECTO"}]
[120,null,null,null,null,null,null,null,null,null,null,null,null,null,null,null,null,null,null,null,null,null,null,null,null,null,null,null,null,null,null,null,null,null,null,null,null,null,null,{"$f":"IFERROR(VLOOKUP(AM122,Cod_DIVIPOLA!A:C,2,0),\"CODIGO INCORRECTO\")","v":"CODIGO INCORRECTO"}]
[121,null,null,null,null,null,null,null,null,null,null,null,null,null,null,null,null,null,null,null,null,null,null,null,null,null,null,null,null,null,null,null,null,null,null,null,null,null,null,{"$f":"IFERROR(VLOOKUP(AM123,Cod_DIVIPOLA!A:C,2,0),\"CODIGO INCORRECTO\")","v":"CODIGO INCORRECTO"}]
[122,null,null,null,null,null,null,null,null,null,null,null,null,null,null,null,null,null,null,null,null,null,null,null,null,null,null,null,null,null,null,null,null,null,null,null,null,null,null,{"$f":"IFERROR(VLOOKUP(AM124,Cod_DIVIPOLA!A:C,2,0),\"CODIGO INCORRECTO\")","v":"CODIGO INCORRECTO"}]
[123,null,null,null,null,null,null,null,null,null,null,null,null,null,null,null,null,null,null,null,null,null,null,null,null,null,null,null,null,null,null,null,null,null,null,null,null,null,null,{"$f":"IFERROR(VLOOKUP(AM125,Cod_DIVIPOLA!A:C,2,0),\"CODIGO INCORRECTO\")","v":"CODIGO INCORRECTO"}]
[124,null,null,null,null,null,null,null,null,null,null,null,null,null,null,null,null,null,null,null,null,null,null,null,null,null,null,null,null,null,null,null,null,null,null,null,null,null,null,{"$f":"IFERROR(VLOOKUP(AM126,Cod_DIVIPOLA!A:C,2,0),\"CODIGO INCORRECTO\")","v":"CODIGO INCORRECTO"}]
[125,null,null,null,null,null,null,null,null,null,null,null,null,null,null,null,null,null,null,null,null,null,null,null,null,null,null,null,null,null,null,null,null,null,null,null,null,null,null,{"$f":"IFERROR(VLOOKUP(AM127,Cod_DIVIPOLA!A:C,2,0),\"CODIGO INCORRECTO\")","v":"CODIGO INCORRECTO"}]
[126,null,null,null,null,null,null,null,null,null,null,null,null,null,null,null,null,null,null,null,null,null,null,null,null,null,null,null,null,null,null,null,null,null,null,null,null,null,null,{"$f":"IFERROR(VLOOKUP(AM128,Cod_DIVIPOLA!A:C,2,0),\"CODIGO INCORRECTO\")","v":"CODIGO INCORRECTO"}]
[127,null,null,null,null,null,null,null,null,null,null,null,null,null,null,null,null,null,null,null,null,null,null,null,null,null,null,null,null,null,null,null,null,null,null,null,null,null,null,{"$f":"IFERROR(VLOOKUP(AM129,Cod_DIVIPOLA!A:C,2,0),\"CODIGO INCORRECTO\")","v":"CODIGO INCORRECTO"}]
[128,null,null,null,null,null,null,null,null,null,null,null,null,null,null,null,null,null,null,null,null,null,null,null,null,null,null,null,null,null,null,null,null,null,null,null,null,null,null,{"$f":"IFERROR(VLOOKUP(AM130,Cod_DIVIPOLA!A:C,2,0),\"CODIGO INCORRECTO\")","v":"CODIGO INCORRECTO"}]
[129,null,null,null,null,null,null,null,null,null,null,null,null,null,null,null,null,null,null,null,null,null,null,null,null,null,null,null,null,null,null,null,null,null,null,null,null,null,null,{"$f":"IFERROR(VLOOKUP(AM131,Cod_DIVIPOLA!A:C,2,0),\"CODIGO INCORRECTO\")","v":"CODIGO INCORRECTO"}]
[130,null,null,null,null,null,null,null,null,null,null,null,null,null,null,null,null,null,null,null,null,null,null,null,null,null,null,null,null,null,null,null,null,null,null,null,null,null,null,{"$f":"IFERROR(VLOOKUP(AM132,Cod_DIVIPOLA!A:C,2,0),\"CODIGO INCORRECTO\")","v":"CODIGO INCORRECTO"}]
[131,null,null,null,null,null,null,null,null,null,null,null,null,null,null,null,null,null,null,null,null,null,null,null,null,null,null,null,null,null,null,null,null,null,null,null,null,null,null,{"$f":"IFERROR(VLOOKUP(AM133,Cod_DIVIPOLA!A:C,2,0),\"CODIGO INCORRECTO\")","v":"CODIGO INCORRECTO"}]
[132,null,null,null,null,null,null,null,null,null,null,null,null,null,null,null,null,null,null,null,null,null,null,null,null,null,null,null,null,null,null,null,null,null,null,null,null,null,null,{"$f":"IFERROR(VLOOKUP(AM134,Cod_DIVIPOLA!A:C,2,0),\"CODIGO INCORRECTO\")","v":"CODIGO INCORRECTO"}]
[133,null,null,null,null,null,null,null,null,null,null,null,null,null,null,null,null,null,null,null,null,null,null,null,null,null,null,null,null,null,null,null,null,null,null,null,null,null,null,{"$f":"IFERROR(VLOOKUP(AM135,Cod_DIVIPOLA!A:C,2,0),\"CODIGO INCORRECTO\")","v":"CODIGO INCORRECTO"}]
[134,null,null,null,null,null,null,null,null,null,null,null,null,null,null,null,null,null,null,null,null,null,null,null,null,null,null,null,null,null,null,null,null,null,null,null,null,null,null,{"$f":"IFERROR(VLOOKUP(AM136,Cod_DIVIPOLA!A:C,2,0),\"CODIGO INCORRECTO\")","v":"CODIGO INCORRECTO"}]
[135,null,null,null,null,null,null,null,null,null,null,null,null,null,null,null,null,null,null,null,null,null,null,null,null,null,null,null,null,null,null,null,null,null,null,null,null,null,null,{"$f":"IFERROR(VLOOKUP(AM137,Cod_DIVIPOLA!A:C,2,0),\"CODIGO INCORRECTO\")","v":"CODIGO INCORRECTO"}]
[136,null,null,null,null,null,null,null,null,null,null,null,null,null,null,null,null,null,null,null,null,null,null,null,null,null,null,null,null,null,null,null,null,null,null,null,null,null,null,{"$f":"IFERROR(VLOOKUP(AM138,Cod_DIVIPOLA!A:C,2,0),\"CODIGO INCORRECTO\")","v":"CODIGO INCORRECTO"}]
[137,null,null,null,null,null,null,null,null,null,null,null,null,null,null,null,null,null,null,null,null,null,null,null,null,null,null,null,null,null,null,null,null,null,null,null,null,null,null,{"$f":"IFERROR(VLOOKUP(AM139,Cod_DIVIPOLA!A:C,2,0),\"CODIGO INCORRECTO\")","v":"CODIGO INCORRECTO"}]
[138,null,null,null,null,null,null,null,null,null,null,null,null,null,null,null,null,null,null,null,null,null,null,null,null,null,null,null,null,null,null,null,null,null,null,null,null,null,null,{"$f":"IFERROR(VLOOKUP(AM140,Cod_DIVIPOLA!A:C,2,0),\"CODIGO INCORRECTO\")","v":"CODIGO INCORRECTO"}]
[139,null,null,null,null,null,null,null,null,null,null,null,null,null,null,null,null,null,null,null,null,null,null,null,null,null,null,null,null,null,null,null,null,null,null,null,null,null,null,{"$f":"IFERROR(VLOOKUP(AM141,Cod_DIVIPOLA!A:C,2,0),\"CODIGO INCORRECTO\")","v":"CODIGO INCORRECTO"}]
[140,null,null,null,null,null,null,null,null,null,null,null,null,null,null,null,null,null,null,null,null,null,null,null,null,null,null,null,null,null,null,null,null,null,null,null,null,null,null,{"$f":"IFERROR(VLOOKUP(AM142,Cod_DIVIPOLA!A:C,2,0),\"CODIGO INCORRECTO\")","v":"CODIGO INCORRECTO"}]
[141,null,null,null,null,null,null,null,null,null,null,null,null,null,null,null,null,null,null,null,null,null,null,null,null,null,null,null,null,null,null,null,null,null,null,null,null,null,null,{"$f":"IFERROR(VLOOKUP(AM143,Cod_DIVIPOLA!A:C,2,0),\"CODIGO INCORRECTO\")","v":"CODIGO INCORRECTO"}]
[142,null,null,null,null,null,null,null,null,null,null,null,null,null,null,null,null,null,null,null,null,null,null,null,null,null,null,null,null,null,null,null,null,null,null,null,null,null,null,{"$f":"IFERROR(VLOOKUP(AM144,Cod_DIVIPOLA!A:C,2,0),\"CODIGO INCORRECTO\")","v":"CODIGO INCORRECTO"}]
[143,null,null,null,null,null,null,null,null,null,null,null,null,null,null,null,null,null,null,null,null,null,null,null,null,null,null,null,null,null,null,null,null,null,null,null,null,null,null,{"$f":"IFERROR(VLOOKUP(AM145,Cod_DIVIPOLA!A:C,2,0),\"CODIGO INCORRECTO\")","v":"CODIGO INCORRECTO"}]
[144,null,null,null,null,null,null,null,null,null,null,null,null,null,null,null,null,null,null,null,null,null,null,null,null,null,null,null,null,null,null,null,null,null,null,null,null,null,null,{"$f":"IFERROR(VLOOKUP(AM146,Cod_DIVIPOLA!A:C,2,0),\"CODIGO INCORRECTO\")","v":"CODIGO INCORRECTO"}]
[145,null,null,null,null,null,null,null,null,null,null,null,null,null,null,null,null,null,null,null,null,null,null,null,null,null,null,null,null,null,null,null,null,null,null,null,null,null,null,{"$f":"IFERROR(VLOOKUP(AM147,Cod_DIVIPOLA!A:C,2,0),\"CODIGO INCORRECTO\")","v":"CODIGO INCORRECTO"}]
[146,null,null,null,null,null,null,null,null,null,null,null,null,null,null,null,null,null,null,null,null,null,null,null,null,null,null,null,null,null,null,null,null,null,null,null,null,null,null,{"$f":"IFERROR(VLOOKUP(AM148,Cod_DIVIPOLA!A:C,2,0),\"CODIGO INCORRECTO\")","v":"CODIGO INCORRECTO"}]
[147,null,null,null,null,null,null,null,null,null,null,null,null,null,null,null,null,null,null,null,null,null,null,null,null,null,null,null,null,null,null,null,null,null,null,null,null,null,null,{"$f":"IFERROR(VLOOKUP(AM149,Cod_DIVIPOLA!A:C,2,0),\"CODIGO INCORRECTO\")","v":"CODIGO INCORRECTO"}]
[148,null,null,null,null,null,null,null,null,null,null,null,null,null,null,null,null,null,null,null,null,null,null,null,null,null,null,null,null,null,null,null,null,null,null,null,null,null,null,{"$f":"IFERROR(VLOOKUP(AM150,Cod_DIVIPOLA!A:C,2,0),\"CODIGO INCORRECTO\")","v":"CODIGO INCORRECTO"}]
[149,null,null,null,null,null,null,null,null,null,null,null,null,null,null,null,null,null,null,null,null,null,null,null,null,null,null,null,null,null,null,null,null,null,null,null,null,null,null,{"$f":"IFERROR(VLOOKUP(AM151,Cod_DIVIPOLA!A:C,2,0),\"CODIGO INCORRECTO\")","v":"CODIGO INCORRECTO"}]
[150,null,null,null,null,null,null,null,null,null,null,null,null,null,null,null,null,null,null,null,null,null,null,null,null,null,null,null,null,null,null,null,null,null,null,null,null,null,null,{"$f":"IFERROR(VLOOKUP(AM152,Cod_DIVIPOLA!A:C,2,0),\"CODIGO INCORRECTO\")","v":"CODIGO INCORRECTO"}]
[151,null,null,null,null,null,null,null,null,null,null,null,null,null,null,null,null,null,null,null,null,null,null,null,null,null,null,null,null,null,null,null,null,null,null,null,null,null,null,{"$f":"IFERROR(VLOOKUP(AM153,Cod_DIVIPOLA!A:C,2,0),\"CODIGO INCORRECTO\")","v":"CODIGO INCORRECTO"}]
[152,null,null,null,null,null,null,null,null,null,null,null,null,null,null,null,null,null,null,null,null,null,null,null,null,null,null,null,null,null,null,null,null,null,null,null,null,null,null,{"$f":"IFERROR(VLOOKUP(AM154,Cod_DIVIPOLA!A:C,2,0),\"CODIGO INCORRECTO\")","v":"CODIGO INCORRECTO"}]
[153,null,null,null,null,null,null,null,null,null,null,null,null,null,null,null,null,null,null,null,null,null,null,null,null,null,null,null,null,null,null,null,null,null,null,null,null,null,null,{"$f":"IFERROR(VLOOKUP(AM155,Cod_DIVIPOLA!A:C,2,0),\"CODIGO INCORRECTO\")","v":"CODIGO INCORRECTO"}]
[154,null,null,null,null,null,null,null,null,null,null,null,null,null,null,null,null,null,null,null,null,null,null,null,null,null,null,null,null,null,null,null,null,null,null,null,null,null,null,{"$f":"IFERROR(VLOOKUP(AM156,Cod_DIVIPOLA!A:C,2,0),\"CODIGO INCORRECTO\")","v":"CODIGO INCORRECTO"}]
[155,null,null,null,null,null,null,null,null,null,null,null,null,null,null,null,null,null,null,null,null,null,null,null,null,null,null,null,null,null,null,null,null,null,null,null,null,null,null,{"$f":"IFERROR(VLOOKUP(AM157,Cod_DIVIPOLA!A:C,2,0),\"CODIGO INCORRECTO\")","v":"CODIGO INCORRECTO"}]
[156,null,null,null,null,null,null,null,null,null,null,null,null,null,null,null,null,null,null,null,null,null,null,null,null,null,null,null,null,null,null,null,null,null,null,null,null,null,null,{"$f":"IFERROR(VLOOKUP(AM158,Cod_DIVIPOLA!A:C,2,0),\"CODIGO INCORRECTO\")","v":"CODIGO INCORRECTO"}]
[157,null,null,null,null,null,null,null,null,null,null,null,null,null,null,null,null,null,null,null,null,null,null,null,null,null,null,null,null,null,null,null,null,null,null,null,null,null,null,{"$f":"IFERROR(VLOOKUP(AM159,Cod_DIVIPOLA!A:C,2,0),\"CODIGO INCORRECTO\")","v":"CODIGO INCORRECTO"}]
[158,null,null,null,null,null,null,null,null,null,null,null,null,null,null,null,null,null,null,null,null,null,null,null,null,null,null,null,null,null,null,null,null,null,null,null,null,null,null,{"$f":"IFERROR(VLOOKUP(AM160,Cod_DIVIPOLA!A:C,2,0),\"CODIGO INCORRECTO\")","v":"CODIGO INCORRECTO"}]
[159,null,null,null,null,null,null,null,null,null,null,null,null,null,null,null,null,null,null,null,null,null,null,null,null,null,null,null,null,null,null,null,null,null,null,null,null,null,null,{"$f":"IFERROR(VLOOKUP(AM161,Cod_DIVIPOLA!A:C,2,0),\"CODIGO INCORRECTO\")","v":"CODIGO INCORRECTO"}]
[160,null,null,null,null,null,null,null,null,null,null,null,null,null,null,null,null,null,null,null,null,null,null,null,null,null,null,null,null,null,null,null,null,null,null,null,null,null,null,{"$f":"IFERROR(VLOOKUP(AM162,Cod_DIVIPOLA!A:C,2,0),\"CODIGO INCORRECTO\")","v":"CODIGO INCORRECTO"}]
[161,null,null,null,null,null,null,null,null,null,null,null,null,null,null,null,null,null,null,null,null,null,null,null,null,null,null,null,null,null,null,null,null,null,null,null,null,null,null,{"$f":"IFERROR(VLOOKUP(AM163,Cod_DIVIPOLA!A:C,2,0),\"CODIGO INCORRECTO\")","v":"CODIGO INCORRECTO"}]
[162,null,null,null,null,null,null,null,null,null,null,null,null,null,null,null,null,null,null,null,null,null,null,null,null,null,null,null,null,null,null,null,null,null,null,null,null,null,null,{"$f":"IFERROR(VLOOKUP(AM164,Cod_DIVIPOLA!A:C,2,0),\"CODIGO INCORRECTO\")","v":"CODIGO INCORRECTO"}]
[163,null,null,null,null,null,null,null,null,null,null,null,null,null,null,null,null,null,null,null,null,null,null,null,null,null,null,null,null,null,null,null,null,null,null,null,null,null,null,{"$f":"IFERROR(VLOOKUP(AM165,Cod_DIVIPOLA!A:C,2,0),\"CODIGO INCORRECTO\")","v":"CODIGO INCORRECTO"}]
[164,null,null,null,null,null,null,null,null,null,null,null,null,null,null,null,null,null,null,null,null,null,null,null,null,null,null,null,null,null,null,null,null,null,null,null,null,null,null,{"$f":"IFERROR(VLOOKUP(AM166,Cod_DIVIPOLA!A:C,2,0),\"CODIGO INCORRECTO\")","v":"CODIGO INCORRECTO"}]
[165,null,null,null,null,null,null,null,null,null,null,null,null,null,null,null,null,null,null,null,null,null,null,null,null,null,null,null,null,null,null,null,null,null,null,null,null,null,null,{"$f":"IFERROR(VLOOKUP(AM167,Cod_DIVIPOLA!A:C,2,0),\"CODIGO INCORRECTO\")","v":"CODIGO INCORRECTO"}]
[166,null,null,null,null,null,null,null,null,null,null,null,null,null,null,null,null,null,null,null,null,null,null,null,null,null,null,null,null,null,null,null,null,null,null,null,null,null,null,{"$f":"IFERROR(VLOOKUP(AM168,Cod_DIVIPOLA!A:C,2,0),\"CODIGO INCORRECTO\")","v":"CODIGO INCORRECTO"}]
[167,null,null,null,null,null,null,null,null,null,null,null,null,null,null,null,null,null,null,null,null,null,null,null,null,null,null,null,null,null,null,null,null,null,null,null,null,null,null,{"$f":"IFERROR(VLOOKUP(AM169,Cod_DIVIPOLA!A:C,2,0),\"CODIGO INCORRECTO\")","v":"CODIGO INCORRECTO"}]
[168,null,null,null,null,null,null,null,null,null,null,null,null,null,null,null,null,null,null,null,null,null,null,null,null,null,null,null,null,null,null,null,null,null,null,null,null,null,null,{"$f":"IFERROR(VLOOKUP(AM170,Cod_DIVIPOLA!A:C,2,0),\"CODIGO INCORRECTO\")","v":"CODIGO INCORRECTO"}]
[169,null,null,null,null,null,null,null,null,null,null,null,null,null,null,null,null,null,null,null,null,null,null,null,null,null,null,null,null,null,null,null,null,null,null,null,null,null,null,{"$f":"IFERROR(VLOOKUP(AM171,Cod_DIVIPOLA!A:C,2,0),\"CODIGO INCORRECTO\")","v":"CODIGO INCORRECTO"}]
[170,null,null,null,null,null,null,null,null,null,null,null,null,null,null,null,null,null,null,null,null,null,null,null,null,null,null,null,null,null,null,null,null,null,null,null,null,null,null,{"$f":"IFERROR(VLOOKUP(AM172,Cod_DIVIPOLA!A:C,2,0),\"CODIGO INCORRECTO\")","v":"CODIGO INCORRECTO"}]
[171,null,null,null,null,null,null,null,null,null,null,null,null,null,null,null,null,null,null,null,null,null,null,null,null,null,null,null,null,null,null,null,null,null,null,null,null,null,null,{"$f":"IFERROR(VLOOKUP(AM173,Cod_DIVIPOLA!A:C,2,0),\"CODIGO INCORRECTO\")","v":"CODIGO INCORRECTO"}]
[172,null,null,null,null,null,null,null,null,null,null,null,null,null,null,null,null,null,null,null,null,null,null,null,null,null,null,null,null,null,null,null,null,null,null,null,null,null,null,{"$f":"IFERROR(VLOOKUP(AM174,Cod_DIVIPOLA!A:C,2,0),\"CODIGO INCORRECTO\")","v":"CODIGO INCORRECTO"}]
[173,null,null,null,null,null,null,null,null,null,null,null,null,null,null,null,null,null,null,null,null,null,null,null,null,null,null,null,null,null,null,null,null,null,null,null,null,null,null,{"$f":"IFERROR(VLOOKUP(AM175,Cod_DIVIPOLA!A:C,2,0),\"CODIGO INCORRECTO\")","v":"CODIGO INCORRECTO"}]
[174,null,null,null,null,null,null,null,null,null,null,null,null,null,null,null,null,null,null,null,null,null,null,null,null,null,null,null,null,null,null,null,null,null,null,null,null,null,null,{"$f":"IFERROR(VLOOKUP(AM176,Cod_DIVIPOLA!A:C,2,0),\"CODIGO INCORRECTO\")","v":"CODIGO INCORRECTO"}]
[175,null,null,null,null,null,null,null,null,null,null,null,null,null,null,null,null,null,null,null,null,null,null,null,null,null,null,null,null,null,null,null,null,null,null,null,null,null,null,{"$f":"IFERROR(VLOOKUP(AM177,Cod_DIVIPOLA!A:C,2,0),\"CODIGO INCORRECTO\")","v":"CODIGO INCORRECTO"}]
[176,null,null,null,null,null,null,null,null,null,null,null,null,null,null,null,null,null,null,null,null,null,null,null,null,null,null,null,null,null,null,null,null,null,null,null,null,null,null,{"$f":"IFERROR(VLOOKUP(AM178,Cod_DIVIPOLA!A:C,2,0),\"CODIGO INCORRECTO\")","v":"CODIGO INCORRECTO"}]
[177,null,null,null,null,null,null,null,null,null,null,null,null,null,null,null,null,null,null,null,null,null,null,null,null,null,null,null,null,null,null,null,null,null,null,null,null,null,null,{"$f":"IFERROR(VLOOKUP(AM179,Cod_DIVIPOLA!A:C,2,0),\"CODIGO INCORRECTO\")","v":"CODIGO INCORRECTO"}]
[178,null,null,null,null,null,null,null,null,null,null,null,null,null,null,null,null,null,null,null,null,null,null,null,null,null,null,null,null,null,null,null,null,null,null,null,null,null,null,{"$f":"IFERROR(VLOOKUP(AM180,Cod_DIVIPOLA!A:C,2,0),\"CODIGO INCORRECTO\")","v":"CODIGO INCORRECTO"}]
[179,null,null,null,null,null,null,null,null,null,null,null,null,null,null,null,null,null,null,null,null,null,null,null,null,null,null,null,null,null,null,null,null,null,null,null,null,null,null,{"$f":"IFERROR(VLOOKUP(AM181,Cod_DIVIPOLA!A:C,2,0),\"CODIGO INCORRECTO\")","v":"CODIGO INCORRECTO"}]
[180,null,null,null,null,null,null,null,null,null,null,null,null,null,null,null,null,null,null,null,null,null,null,null,null,null,null,null,null,null,null,null,null,null,null,null,null,null,null,{"$f":"IFERROR(VLOOKUP(AM182,Cod_DIVIPOLA!A:C,2,0),\"CODIGO INCORRECTO\")","v":"CODIGO INCORRECTO"}]
[181,null,null,null,null,null,null,null,null,null,null,null,null,null,null,null,null,null,null,null,null,null,null,null,null,null,null,null,null,null,null,null,null,null,null,null,null,null,null,{"$f":"IFERROR(VLOOKUP(AM183,Cod_DIVIPOLA!A:C,2,0),\"CODIGO INCORRECTO\")","v":"CODIGO INCORRECTO"}]
[182,null,null,null,null,null,null,null,null,null,null,null,null,null,null,null,null,null,null,null,null,null,null,null,null,null,null,null,null,null,null,null,null,null,null,null,null,null,null,{"$f":"IFERROR(VLOOKUP(AM184,Cod_DIVIPOLA!A:C,2,0),\"CODIGO INCORRECTO\")","v":"CODIGO INCORRECTO"}]
[183,null,null,null,null,null,null,null,null,null,null,null,null,null,null,null,null,null,null,null,null,null,null,null,null,null,null,null,null,null,null,null,null,null,null,null,null,null,null,{"$f":"IFERROR(VLOOKUP(AM185,Cod_DIVIPOLA!A:C,2,0),\"CODIGO INCORRECTO\")","v":"CODIGO INCORRECTO"}]
[184,null,null,null,null,null,null,null,null,null,null,null,null,null,null,null,null,null,null,null,null,null,null,null,null,null,null,null,null,null,null,null,null,null,null,null,null,null,null,{"$f":"IFERROR(VLOOKUP(AM186,Cod_DIVIPOLA!A:C,2,0),\"CODIGO INCORRECTO\")","v":"CODIGO INCORRECTO"}]
[185,null,null,null,null,null,null,null,null,null,null,null,null,null,null,null,null,null,null,null,null,null,null,null,null,null,null,null,null,null,null,null,null,null,null,null,null,null,null,{"$f":"IFERROR(VLOOKUP(AM187,Cod_DIVIPOLA!A:C,2,0),\"CODIGO INCORRECTO\")","v":"CODIGO INCORRECTO"}]
[186,null,null,null,null,null,null,null,null,null,null,null,null,null,null,null,null,null,null,null,null,null,null,null,null,null,null,null,null,null,null,null,null,null,null,null,null,null,null,{"$f":"IFERROR(VLOOKUP(AM188,Cod_DIVIPOLA!A:C,2,0),\"CODIGO INCORRECTO\")","v":"CODIGO INCORRECTO"}]
[187,null,null,null,null,null,null,null,null,null,null,null,null,null,null,null,null,null,null,null,null,null,null,null,null,null,null,null,null,null,null,null,null,null,null,null,null,null,null,{"$f":"IFERROR(VLOOKUP(AM189,Cod_DIVIPOLA!A:C,2,0),\"CODIGO INCORRECTO\")","v":"CODIGO INCORRECTO"}]
[188,null,null,null,null,null,null,null,null,null,null,null,null,null,null,null,null,null,null,null,null,null,null,null,null,null,null,null,null,null,null,null,null,null,null,null,null,null,null,{"$f":"IFERROR(VLOOKUP(AM190,Cod_DIVIPOLA!A:C,2,0),\"CODIGO INCORRECTO\")","v":"CODIGO INCORRECTO"}]
[189,null,null,null,null,null,null,null,null,null,null,null,null,null,null,null,null,null,null,null,null,null,null,null,null,null,null,null,null,null,null,null,null,null,null,null,null,null,null,{"$f":"IFERROR(VLOOKUP(AM191,Cod_DIVIPOLA!A:C,2,0),\"CODIGO INCORRECTO\")","v":"CODIGO INCORRECTO"}]
[190,null,null,null,null,null,null,null,null,null,null,null,null,null,null,null,null,null,null,null,null,null,null,null,null,null,null,null,null,null,null,null,null,null,null,null,null,null,null,{"$f":"IFERROR(VLOOKUP(AM192,Cod_DIVIPOLA!A:C,2,0),\"CODIGO INCORRECTO\")","v":"CODIGO INCORRECTO"}]
[191,null,null,null,null,null,null,null,null,null,null,null,null,null,null,null,null,null,null,null,null,null,null,null,null,null,null,null,null,null,null,null,null,null,null,null,null,null,null,{"$f":"IFERROR(VLOOKUP(AM193,Cod_DIVIPOLA!A:C,2,0),\"CODIGO INCORRECTO\")","v":"CODIGO INCORRECTO"}]
[192,null,null,null,null,null,null,null,null,null,null,null,null,null,null,null,null,null,null,null,null,null,null,null,null,null,null,null,null,null,null,null,null,null,null,null,null,null,null,{"$f":"IFERROR(VLOOKUP(AM194,Cod_DIVIPOLA!A:C,2,0),\"CODIGO INCORRECTO\")","v":"CODIGO INCORRECTO"}]
[193,null,null,null,null,null,null,null,null,null,null,null,null,null,null,null,null,null,null,null,null,null,null,null,null,null,null,null,null,null,null,null,null,null,null,null,null,null,null,{"$f":"IFERROR(VLOOKUP(AM195,Cod_DIVIPOLA!A:C,2,0),\"CODIGO INCORRECTO\")","v":"CODIGO INCORRECTO"}]
[194,null,null,null,null,null,null,null,null,null,null,null,null,null,null,null,null,null,null,null,null,null,null,null,null,null,null,null,null,null,null,null,null,null,null,null,null,null,null,{"$f":"IFERROR(VLOOKUP(AM196,Cod_DIVIPOLA!A:C,2,0),\"CODIGO INCORRECTO\")","v":"CODIGO INCORRECTO"}]
[195,null,null,null,null,null,null,null,null,null,null,null,null,null,null,null,null,null,null,null,null,null,null,null,null,null,null,null,null,null,null,null,null,null,null,null,null,null,null,{"$f":"IFERROR(VLOOKUP(AM197,Cod_DIVIPOLA!A:C,2,0),\"CODIGO INCORRECTO\")","v":"CODIGO INCORRECTO"}]
[196,null,null,null,null,null,null,null,null,null,null,null,null,null,null,null,null,null,null,null,null,null,null,null,null,null,null,null,null,null,null,null,null,null,null,null,null,null,null,{"$f":"IFERROR(VLOOKUP(AM198,Cod_DIVIPOLA!A:C,2,0),\"CODIGO INCORRECTO\")","v":"CODIGO INCORRECTO"}]
[197,null,null,null,null,null,null,null,null,null,null,null,null,null,null,null,null,null,null,null,null,null,null,null,null,null,null,null,null,null,null,null,null,null,null,null,null,null,null,{"$f":"IFERROR(VLOOKUP(AM199,Cod_DIVIPOLA!A:C,2,0),\"CODIGO INCORRECTO\")","v":"CODIGO INCORRECTO"}]
[198,null,null,null,null,null,null,null,null,null,null,null,null,null,null,null,null,null,null,null,null,null,null,null,null,null,null,null,null,null,null,null,null,null,null,null,null,null,null,{"$f":"IFERROR(VLOOKUP(AM200,Cod_DIVIPOLA!A:C,2,0),\"CODIGO INCORRECTO\")","v":"CODIGO INCORRECTO"}]
[199,null,null,null,null,null,null,null,null,null,null,null,null,null,null,null,null,null,null,null,null,null,null,null,null,null,null,null,null,null,null,null,null,null,null,null,null,null,null,{"$f":"IFERROR(VLOOKUP(AM201,Cod_DIVIPOLA!A:C,2,0),\"CODIGO INCORRECTO\")","v":"CODIGO INCORRECTO"}]
[200,null,null,null,null,null,null,null,null,null,null,null,null,null,null,null,null,null,null,null,null,null,null,null,null,null,null,null,null,null,null,null,null,null,null,null,null,null,null,{"$f":"IFERROR(VLOOKUP(AM202,Cod_DIVIPOLA!A:C,2,0),\"CODIGO INCORRECTO\")","v":"CODIGO INCORRECTO"}]
[201,null,null,null,null,null,null,null,null,null,null,null,null,null,null,null,null,null,null,null,null,null,null,null,null,null,null,null,null,null,null,null,null,null,null,null,null,null,null,{"$f":"IFERROR(VLOOKUP(AM203,Cod_DIVIPOLA!A:C,2,0),\"CODIGO INCORRECTO\")","v":"CODIGO INCORRECTO"}]
[202,null,null,null,null,null,null,null,null,null,null,null,null,null,null,null,null,null,null,null,null,null,null,null,null,null,null,null,null,null,null,null,null,null,null,null,null,null,null,{"$f":"IFERROR(VLOOKUP(AM204,Cod_DIVIPOLA!A:C,2,0),\"CODIGO INCORRECTO\")","v":"CODIGO INCORRECTO"}]
[203,null,null,null,null,null,null,null,null,null,null,null,null,null,null,null,null,null,null,null,null,null,null,null,null,null,null,null,null,null,null,null,null,null,null,null,null,null,null,{"$f":"IFERROR(VLOOKUP(AM205,Cod_DIVIPOLA!A:C,2,0),\"CODIGO INCORRECTO\")","v":"CODIGO INCORRECTO"}]
[204,null,null,null,null,null,null,null,null,null,null,null,null,null,null,null,null,null,null,null,null,null,null,null,null,null,null,null,null,null,null,null,null,null,null,null,null,null,null,{"$f":"IFERROR(VLOOKUP(AM206,Cod_DIVIPOLA!A:C,2,0),\"CODIGO INCORRECTO\")","v":"CODIGO INCORRECTO"}]
[205,null,null,null,null,null,null,null,null,null,null,null,null,null,null,null,null,null,null,null,null,null,null,null,null,null,null,null,null,null,null,null,null,null,null,null,null,null,null,{"$f":"IFERROR(VLOOKUP(AM207,Cod_DIVIPOLA!A:C,2,0),\"CODIGO INCORRECTO\")","v":"CODIGO INCORRECTO"}]
[206,null,null,null,null,null,null,null,null,null,null,null,null,null,null,null,null,null,null,null,null,null,null,null,null,null,null,null,null,null,null,null,null,null,null,null,null,null,null,{"$f":"IFERROR(VLOOKUP(AM208,Cod_DIVIPOLA!A:C,2,0),\"CODIGO INCORRECTO\")","v":"CODIGO INCORRECTO"}]
[207,null,null,null,null,null,null,null,null,null,null,null,null,null,null,null,null,null,null,null,null,null,null,null,null,null,null,null,null,null,null,null,null,null,null,null,null,null,null,{"$f":"IFERROR(VLOOKUP(AM209,Cod_DIVIPOLA!A:C,2,0),\"CODIGO INCORRECTO\")","v":"CODIGO INCORRECTO"}]
[208,null,null,null,null,null,null,null,null,null,null,null,null,null,null,null,null,null,null,null,null,null,null,null,null,null,null,null,null,null,null,null,null,null,null,null,null,null,null,{"$f":"IFERROR(VLOOKUP(AM210,Cod_DIVIPOLA!A:C,2,0),\"CODIGO INCORRECTO\")","v":"CODIGO INCORRECTO"}]
[209,null,null,null,null,null,null,null,null,null,null,null,null,null,null,null,null,null,null,null,null,null,null,null,null,null,null,null,null,null,null,null,null,null,null,null,null,null,null,{"$f":"IFERROR(VLOOKUP(AM211,Cod_DIVIPOLA!A:C,2,0),\"CODIGO INCORRECTO\")","v":"CODIGO INCORRECTO"}]
[210,null,null,null,null,null,null,null,null,null,null,null,null,null,null,null,null,null,null,null,null,null,null,null,null,null,null,null,null,null,null,null,null,null,null,null,null,null,null,{"$f":"IFERROR(VLOOKUP(AM212,Cod_DIVIPOLA!A:C,2,0),\"CODIGO INCORRECTO\")","v":"CODIGO INCORRECTO"}]
[211,null,null,null,null,null,null,null,null,null,null,null,null,null,null,null,null,null,null,null,null,null,null,null,null,null,null,null,null,null,null,null,null,null,null,null,null,null,null,{"$f":"IFERROR(VLOOKUP(AM213,Cod_DIVIPOLA!A:C,2,0),\"CODIGO INCORRECTO\")","v":"CODIGO INCORRECTO"}]
[212,null,null,null,null,null,null,null,null,null,null,null,null,null,null,null,null,null,null,null,null,null,null,null,null,null,null,null,null,null,null,null,null,null,null,null,null,null,null,{"$f":"IFERROR(VLOOKUP(AM214,Cod_DIVIPOLA!A:C,2,0),\"CODIGO INCORRECTO\")","v":"CODIGO INCORRECTO"}]
[213,null,null,null,null,null,null,null,null,null,null,null,null,null,null,null,null,null,null,null,null,null,null,null,null,null,null,null,null,null,null,null,null,null,null,null,null,null,null,{"$f":"IFERROR(VLOOKUP(AM215,Cod_DIVIPOLA!A:C,2,0),\"CODIGO INCORRECTO\")","v":"CODIGO INCORRECTO"}]
[214,null,null,null,null,null,null,null,null,null,null,null,null,null,null,null,null,null,null,null,null,null,null,null,null,null,null,null,null,null,null,null,null,null,null,null,null,null,null,{"$f":"IFERROR(VLOOKUP(AM216,Cod_DIVIPOLA!A:C,2,0),\"CODIGO INCORRECTO\")","v":"CODIGO INCORRECTO"}]
[215,null,null,null,null,null,null,null,null,null,null,null,null,null,null,null,null,null,null,null,null,null,null,null,null,null,null,null,null,null,null,null,null,null,null,null,null,null,null,{"$f":"IFERROR(VLOOKUP(AM217,Cod_DIVIPOLA!A:C,2,0),\"CODIGO INCORRECTO\")","v":"CODIGO INCORRECTO"}]
[216,null,null,null,null,null,null,null,null,null,null,null,null,null,null,null,null,null,null,null,null,null,null,null,null,null,null,null,null,null,null,null,null,null,null,null,null,null,null,{"$f":"IFERROR(VLOOKUP(AM218,Cod_DIVIPOLA!A:C,2,0),\"CODIGO INCORRECTO\")","v":"CODIGO INCORRECTO"}]
[217,null,null,null,null,null,null,null,null,null,null,null,null,null,null,null,null,null,null,null,null,null,null,null,null,null,null,null,null,null,null,null,null,null,null,null,null,null,null,{"$f":"IFERROR(VLOOKUP(AM219,Cod_DIVIPOLA!A:C,2,0),\"CODIGO INCORRECTO\")","v":"CODIGO INCORRECTO"}]
[218,null,null,null,null,null,null,null,null,null,null,null,null,null,null,null,null,null,null,null,null,null,null,null,null,null,null,null,null,null,null,null,null,null,null,null,null,null,null,{"$f":"IFERROR(VLOOKUP(AM220,Cod_DIVIPOLA!A:C,2,0),\"CODIGO INCORRECTO\")","v":"CODIGO INCORRECTO"}]
[219,null,null,null,null,null,null,null,null,null,null,null,null,null,null,null,null,null,null,null,null,null,null,null,null,null,null,null,null,null,null,null,null,null,null,null,null,null,null,{"$f":"IFERROR(VLOOKUP(AM221,Cod_DIVIPOLA!A:C,2,0),\"CODIGO INCORRECTO\")","v":"CODIGO INCORRECTO"}]
[220,null,null,null,null,null,null,null,null,null,null,null,null,null,null,null,null,null,null,null,null,null,null,null,null,null,null,null,null,null,null,null,null,null,null,null,null,null,null,{"$f":"IFERROR(VLOOKUP(AM222,Cod_DIVIPOLA!A:C,2,0),\"CODIGO INCORRECTO\")","v":"CODIGO INCORRECTO"}]
[221,null,null,null,null,null,null,null,null,null,null,null,null,null,null,null,null,null,null,null,null,null,null,null,null,null,null,null,null,null,null,null,null,null,null,null,null,null,null,{"$f":"IFERROR(VLOOKUP(AM223,Cod_DIVIPOLA!A:C,2,0),\"CODIGO INCORRECTO\")","v":"CODIGO INCORRECTO"}]
[222,null,null,null,null,null,null,null,null,null,null,null,null,null,null,null,null,null,null,null,null,null,null,null,null,null,null,null,null,null,null,null,null,null,null,null,null,null,null,{"$f":"IFERROR(VLOOKUP(AM224,Cod_DIVIPOLA!A:C,2,0),\"CODIGO INCORRECTO\")","v":"CODIGO INCORRECTO"}]
[223,null,null,null,null,null,null,null,null,null,null,null,null,null,null,null,null,null,null,null,null,null,null,null,null,null,null,null,null,null,null,null,null,null,null,null,null,null,null,{"$f":"IFERROR(VLOOKUP(AM225,Cod_DIVIPOLA!A:C,2,0),\"CODIGO INCORRECTO\")","v":"CODIGO INCORRECTO"}]
[224,null,null,null,null,null,null,null,null,null,null,null,null,null,null,null,null,null,null,null,null,null,null,null,null,null,null,null,null,null,null,null,null,null,null,null,null,null,null,{"$f":"IFERROR(VLOOKUP(AM226,Cod_DIVIPOLA!A:C,2,0),\"CODIGO INCORRECTO\")","v":"CODIGO INCORRECTO"}]
[225,null,null,null,null,null,null,null,null,null,null,null,null,null,null,null,null,null,null,null,null,null,null,null,null,null,null,null,null,null,null,null,null,null,null,null,null,null,null,{"$f":"IFERROR(VLOOKUP(AM227,Cod_DIVIPOLA!A:C,2,0),\"CODIGO INCORRECTO\")","v":"CODIGO INCORRECTO"}]
[226,null,null,null,null,null,null,null,null,null,null,null,null,null,null,null,null,null,null,null,null,null,null,null,null,null,null,null,null,null,null,null,null,null,null,null,null,null,null,{"$f":"IFERROR(VLOOKUP(AM228,Cod_DIVIPOLA!A:C,2,0),\"CODIGO INCORRECTO\")","v":"CODIGO INCORRECTO"}]
[227,null,null,null,null,null,null,null,null,null,null,null,null,null,null,null,null,null,null,null,null,null,null,null,null,null,null,null,null,null,null,null,null,null,null,null,null,null,null,{"$f":"IFERROR(VLOOKUP(AM229,Cod_DIVIPOLA!A:C,2,0),\"CODIGO INCORRECTO\")","v":"CODIGO INCORRECTO"}]
[228,null,null,null,null,null,null,null,null,null,null,null,null,null,null,null,null,null,null,null,null,null,null,null,null,null,null,null,null,null,null,null,null,null,null,null,null,null,null,{"$f":"IFERROR(VLOOKUP(AM230,Cod_DIVIPOLA!A:C,2,0),\"CODIGO INCORRECTO\")","v":"CODIGO INCORRECTO"}]
[229,null,null,null,null,null,null,null,null,null,null,null,null,null,null,null,null,null,null,null,null,null,null,null,null,null,null,null,null,null,null,null,null,null,null,null,null,null,null,{"$f":"IFERROR(VLOOKUP(AM231,Cod_DIVIPOLA!A:C,2,0),\"CODIGO INCORRECTO\")","v":"CODIGO INCORRECTO"}]
[230,null,null,null,null,null,null,null,null,null,null,null,null,null,null,null,null,null,null,null,null,null,null,null,null,null,null,null,null,null,null,null,null,null,null,null,null,null,null,{"$f":"IFERROR(VLOOKUP(AM232,Cod_DIVIPOLA!A:C,2,0),\"CODIGO INCORRECTO\")","v":"CODIGO INCORRECTO"}]
[231,null,null,null,null,null,null,null,null,null,null,null,null,null,null,null,null,null,null,null,null,null,null,null,null,null,null,null,null,null,null,null,null,null,null,null,null,null,null,{"$f":"IFERROR(VLOOKUP(AM233,Cod_DIVIPOLA!A:C,2,0),\"CODIGO INCORRECTO\")","v":"CODIGO INCORRECTO"}]
[232,null,null,null,null,null,null,null,null,null,null,null,null,null,null,null,null,null,null,null,null,null,null,null,null,null,null,null,null,null,null,null,null,null,null,null,null,null,null,{"$f":"IFERROR(VLOOKUP(AM234,Cod_DIVIPOLA!A:C,2,0),\"CODIGO INCORRECTO\")","v":"CODIGO INCORRECTO"}]
[233,null,null,null,null,null,null,null,null,null,null,null,null,null,null,null,null,null,null,null,null,null,null,null,null,null,null,null,null,null,null,null,null,null,null,null,null,null,null,{"$f":"IFERROR(VLOOKUP(AM235,Cod_DIVIPOLA!A:C,2,0),\"CODIGO INCORRECTO\")","v":"CODIGO INCORRECTO"}]
[234,null,null,null,null,null,null,null,null,null,null,null,null,null,null,null,null,null,null,null,null,null,null,null,null,null,null,null,null,null,null,null,null,null,null,null,null,null,null,{"$f":"IFERROR(VLOOKUP(AM236,Cod_DIVIPOLA!A:C,2,0),\"CODIGO INCORRECTO\")","v":"CODIGO INCORRECTO"}]
[235,null,null,null,null,null,null,null,null,null,null,null,null,null,null,null,null,null,null,null,null,null,null,null,null,null,null,null,null,null,null,null,null,null,null,null,null,null,null,{"$f":"IFERROR(VLOOKUP(AM237,Cod_DIVIPOLA!A:C,2,0),\"CODIGO INCORRECTO\")","v":"CODIGO INCORRECTO"}]
[236,null,null,null,null,null,null,null,null,null,null,null,null,null,null,null,null,null,null,null,null,null,null,null,null,null,null,null,null,null,null,null,null,null,null,null,null,null,null,{"$f":"IFERROR(VLOOKUP(AM238,Cod_DIVIPOLA!A:C,2,0),\"CODIGO INCORRECTO\")","v":"CODIGO INCORRECTO"}]
[237,null,null,null,null,null,null,null,null,null,null,null,null,null,null,null,null,null,null,null,null,null,null,null,null,null,null,null,null,null,null,null,null,null,null,null,null,null,null,{"$f":"IFERROR(VLOOKUP(AM239,Cod_DIVIPOLA!A:C,2,0),\"CODIGO INCORRECTO\")","v":"CODIGO INCORRECTO"}]
[238,null,null,null,null,null,null,null,null,null,null,null,null,null,null,null,null,null,null,null,null,null,null,null,null,null,null,null,null,null,null,null,null,null,null,null,null,null,null,{"$f":"IFERROR(VLOOKUP(AM240,Cod_DIVIPOLA!A:C,2,0),\"CODIGO INCORRECTO\")","v":"CODIGO INCORRECTO"}]
[239,null,null,null,null,null,null,null,null,null,null,null,null,null,null,null,null,null,null,null,null,null,null,null,null,null,null,null,null,null,null,null,null,null,null,null,null,null,null,{"$f":"IFERROR(VLOOKUP(AM241,Cod_DIVIPOLA!A:C,2,0),\"CODIGO INCORRECTO\")","v":"CODIGO INCORRECTO"}]
[240,null,null,null,null,null,null,null,null,null,null,null,null,null,null,null,null,null,null,null,null,null,null,null,null,null,null,null,null,null,null,null,null,null,null,null,null,null,null,{"$f":"IFERROR(VLOOKUP(AM242,Cod_DIVIPOLA!A:C,2,0),\"CODIGO INCORRECTO\")","v":"CODIGO INCORRECTO"}]
[241,null,null,null,null,null,null,null,null,null,null,null,null,null,null,null,null,null,null,null,null,null,null,null,null,null,null,null,null,null,null,null,null,null,null,null,null,null,null,{"$f":"IFERROR(VLOOKUP(AM243,Cod_DIVIPOLA!A:C,2,0),\"CODIGO INCORRECTO\")","v":"CODIGO INCORRECTO"}]
[242,null,null,null,null,null,null,null,null,null,null,null,null,null,null,null,null,null,null,null,null,null,null,null,null,null,null,null,null,null,null,null,null,null,null,null,null,null,null,{"$f":"IFERROR(VLOOKUP(AM244,Cod_DIVIPOLA!A:C,2,0),\"CODIGO INCORRECTO\")","v":"CODIGO INCORRECTO"}]
[243,null,null,null,null,null,null,null,null,null,null,null,null,null,null,null,null,null,null,null,null,null,null,null,null,null,null,null,null,null,null,null,null,null,null,null,null,null,null,{"$f":"IFERROR(VLOOKUP(AM245,Cod_DIVIPOLA!A:C,2,0),\"CODIGO INCORRECTO\")","v":"CODIGO INCORRECTO"}]
[244,null,null,null,null,null,null,null,null,null,null,null,null,null,null,null,null,null,null,null,null,null,null,null,null,null,null,null,null,null,null,null,null,null,null,null,null,null,null,{"$f":"IFERROR(VLOOKUP(AM246,Cod_DIVIPOLA!A:C,2,0),\"CODIGO INCORRECTO\")","v":"CODIGO INCORRECTO"}]
[245,null,null,null,null,null,null,null,null,null,null,null,null,null,null,null,null,null,null,null,null,null,null,null,null,null,null,null,null,null,null,null,null,null,null,null,null,null,null,{"$f":"IFERROR(VLOOKUP(AM247,Cod_DIVIPOLA!A:C,2,0),\"CODIGO INCORRECTO\")","v":"CODIGO INCORRECTO"}]
[246,null,null,null,null,null,null,null,null,null,null,null,null,null,null,null,null,null,null,null,null,null,null,null,null,null,null,null,null,null,null,null,null,null,null,null,null,null,null,{"$f":"IFERROR(VLOOKUP(AM248,Cod_DIVIPOLA!A:C,2,0),\"CODIGO INCORRECTO\")","v":"CODIGO INCORRECTO"}]
[247,null,null,null,null,null,null,null,null,null,null,null,null,null,null,null,null,null,null,null,null,null,null,null,null,null,null,null,null,null,null,null,null,null,null,null,null,null,null,{"$f":"IFERROR(VLOOKUP(AM249,Cod_DIVIPOLA!A:C,2,0),\"CODIGO INCORRECTO\")","v":"CODIGO INCORRECTO"}]
[248,null,null,null,null,null,null,null,null,null,null,null,null,null,null,null,null,null,null,null,null,null,null,null,null,null,null,null,null,null,null,null,null,null,null,null,null,null,null,{"$f":"IFERROR(VLOOKUP(AM250,Cod_DIVIPOLA!A:C,2,0),\"CODIGO INCORRECTO\")","v":"CODIGO INCORRECTO"}]
[249,null,null,null,null,null,null,null,null,null,null,null,null,null,null,null,null,null,null,null,null,null,null,null,null,null,null,null,null,null,null,null,null,null,null,null,null,null,null,{"$f":"IFERROR(VLOOKUP(AM251,Cod_DIVIPOLA!A:C,2,0),\"CODIGO INCORRECTO\")","v":"CODIGO INCORRECTO"}]
[250,null,null,null,null,null,null,null,null,null,null,null,null,null,null,null,null,null,null,null,null,null,null,null,null,null,null,null,null,null,null,null,null,null,null,null,null,null,null,{"$f":"IFERROR(VLOOKUP(AM252,Cod_DIVIPOLA!A:C,2,0),\"CODIGO INCORRECTO\")","v":"CODIGO INCORRECTO"}]
[251,null,null,null,null,null,null,null,null,null,null,null,null,null,null,null,null,null,null,null,null,null,null,null,null,null,null,null,null,null,null,null,null,null,null,null,null,null,null,{"$f":"IFERROR(VLOOKUP(AM253,Cod_DIVIPOLA!A:C,2,0),\"CODIGO INCORRECTO\")","v":"CODIGO INCORRECTO"}]
[252,null,null,null,null,null,null,null,null,null,null,null,null,null,null,null,null,null,null,null,null,null,null,null,null,null,null,null,null,null,null,null,null,null,null,null,null,null,null,{"$f":"IFERROR(VLOOKUP(AM254,Cod_DIVIPOLA!A:C,2,0),\"CODIGO INCORRECTO\")","v":"CODIGO INCORRECTO"}]
[253,null,null,null,null,null,null,null,null,null,null,null,null,null,null,null,null,null,null,null,null,null,null,null,null,null,null,null,null,null,null,null,null,null,null,null,null,null,null,{"$f":"IFERROR(VLOOKUP(AM255,Cod_DIVIPOLA!A:C,2,0),\"CODIGO INCORRECTO\")","v":"CODIGO INCORRECTO"}]
[254,null,null,null,null,null,null,null,null,null,null,null,null,null,null,null,null,null,null,null,null,null,null,null,null,null,null,null,null,null,null,null,null,null,null,null,null,null,null,{"$f":"IFERROR(VLOOKUP(AM256,Cod_DIVIPOLA!A:C,2,0),\"CODIGO INCORRECTO\")","v":"CODIGO INCORRECTO"}]
[255,null,null,null,null,null,null,null,null,null,null,null,null,null,null,null,null,null,null,null,null,null,null,null,null,null,null,null,null,null,null,null,null,null,null,null,null,null,null,{"$f":"IFERROR(VLOOKUP(AM257,Cod_DIVIPOLA!A:C,2,0),\"CODIGO INCORRECTO\")","v":"CODIGO INCORRECTO"}]
[256,null,null,null,null,null,null,null,null,null,null,null,null,null,null,null,null,null,null,null,null,null,null,null,null,null,null,null,null,null,null,null,null,null,null,null,null,null,null,{"$f":"IFERROR(VLOOKUP(AM258,Cod_DIVIPOLA!A:C,2,0),\"CODIGO INCORRECTO\")","v":"CODIGO INCORRECTO"}]
[257,null,null,null,null,null,null,null,null,null,null,null,null,null,null,null,null,null,null,null,null,null,null,null,null,null,null,null,null,null,null,null,null,null,null,null,null,null,null,{"$f":"IFERROR(VLOOKUP(AM259,Cod_DIVIPOLA!A:C,2,0),\"CODIGO INCORRECTO\")","v":"CODIGO INCORRECTO"}]
[258,null,null,null,null,null,null,null,null,null,null,null,null,null,null,null,null,null,null,null,null,null,null,null,null,null,null,null,null,null,null,null,null,null,null,null,null,null,null,{"$f":"IFERROR(VLOOKUP(AM260,Cod_DIVIPOLA!A:C,2,0),\"CODIGO INCORRECTO\")","v":"CODIGO INCORRECTO"}]
[259,null,null,null,null,null,null,null,null,null,null,null,null,null,null,null,null,null,null,null,null,null,null,null,null,null,null,null,null,null,null,null,null,null,null,null,null,null,null,{"$f":"IFERROR(VLOOKUP(AM261,Cod_DIVIPOLA!A:C,2,0),\"CODIGO INCORRECTO\")","v":"CODIGO INCORRECTO"}]
[260,null,null,null,null,null,null,null,null,null,null,null,null,null,null,null,null,null,null,null,null,null,null,null,null,null,null,null,null,null,null,null,null,null,null,null,null,null,null,{"$f":"IFERROR(VLOOKUP(AM262,Cod_DIVIPOLA!A:C,2,0),\"CODIGO INCORRECTO\")","v":"CODIGO INCORRECTO"}]
[261,null,null,null,null,null,null,null,null,null,null,null,null,null,null,null,null,null,null,null,null,null,null,null,null,null,null,null,null,null,null,null,null,null,null,null,null,null,null,{"$f":"IFERROR(VLOOKUP(AM263,Cod_DIVIPOLA!A:C,2,0),\"CODIGO INCORRECTO\")","v":"CODIGO INCORRECTO"}]
[262,null,null,null,null,null,null,null,null,null,null,null,null,null,null,null,null,null,null,null,null,null,null,null,null,null,null,null,null,null,null,null,null,null,null,null,null,null,null,{"$f":"IFERROR(VLOOKUP(AM264,Cod_DIVIPOLA!A:C,2,0),\"CODIGO INCORRECTO\")","v":"CODIGO INCORRECTO"}]
[263,null,null,null,null,null,null,null,null,null,null,null,null,null,null,null,null,null,null,null,null,null,null,null,null,null,null,null,null,null,null,null,null,null,null,null,null,null,null,{"$f":"IFERROR(VLOOKUP(AM265,Cod_DIVIPOLA!A:C,2,0),\"CODIGO INCORRECTO\")","v":"CODIGO INCORRECTO"}]
[264,null,null,null,null,null,null,null,null,null,null,null,null,null,null,null,null,null,null,null,null,null,null,null,null,null,null,null,null,null,null,null,null,null,null,null,null,null,null,{"$f":"IFERROR(VLOOKUP(AM266,Cod_DIVIPOLA!A:C,2,0),\"CODIGO INCORRECTO\")","v":"CODIGO INCORRECTO"}]
[265,null,null,null,null,null,null,null,null,null,null,null,null,null,null,null,null,null,null,null,null,null,null,null,null,null,null,null,null,null,null,null,null,null,null,null,null,null,null,{"$f":"IFERROR(VLOOKUP(AM267,Cod_DIVIPOLA!A:C,2,0),\"CODIGO INCORRECTO\")","v":"CODIGO INCORRECTO"}]
[266,null,null,null,null,null,null,null,null,null,null,null,null,null,null,null,null,null,null,null,null,null,null,null,null,null,null,null,null,null,null,null,null,null,null,null,null,null,null,{"$f":"IFERROR(VLOOKUP(AM268,Cod_DIVIPOLA!A:C,2,0),\"CODIGO INCORRECTO\")","v":"CODIGO INCORRECTO"}]
[267,null,null,null,null,null,null,null,null,null,null,null,null,null,null,null,null,null,null,null,null,null,null,null,null,null,null,null,null,null,null,null,null,null,null,null,null,null,null,{"$f":"IFERROR(VLOOKUP(AM269,Cod_DIVIPOLA!A:C,2,0),\"CODIGO INCORRECTO\")","v":"CODIGO INCORRECTO"}]
[268,null,null,null,null,null,null,null,null,null,null,null,null,null,null,null,null,null,null,null,null,null,null,null,null,null,null,null,null,null,null,null,null,null,null,null,null,null,null,{"$f":"IFERROR(VLOOKUP(AM270,Cod_DIVIPOLA!A:C,2,0),\"CODIGO INCORRECTO\")","v":"CODIGO INCORRECTO"}]
[269,null,null,null,null,null,null,null,null,null,null,null,null,null,null,null,null,null,null,null,null,null,null,null,null,null,null,null,null,null,null,null,null,null,null,null,null,null,null,{"$f":"IFERROR(VLOOKUP(AM271,Cod_DIVIPOLA!A:C,2,0),\"CODIGO INCORRECTO\")","v":"CODIGO INCORRECTO"}]
[270,null,null,null,null,null,null,null,null,null,null,null,null,null,null,null,null,null,null,null,null,null,null,null,null,null,null,null,null,null,null,null,null,null,null,null,null,null,null,{"$f":"IFERROR(VLOOKUP(AM272,Cod_DIVIPOLA!A:C,2,0),\"CODIGO INCORRECTO\")","v":"CODIGO INCORRECTO"}]
[271,null,null,null,null,null,null,null,null,null,null,null,null,null,null,null,null,null,null,null,null,null,null,null,null,null,null,null,null,null,null,null,null,null,null,null,null,null,null,{"$f":"IFERROR(VLOOKUP(AM273,Cod_DIVIPOLA!A:C,2,0),\"CODIGO INCORRECTO\")","v":"CODIGO INCORRECTO"}]
[272,null,null,null,null,null,null,null,null,null,null,null,null,null,null,null,null,null,null,null,null,null,null,null,null,null,null,null,null,null,null,null,null,null,null,null,null,null,null,{"$f":"IFERROR(VLOOKUP(AM274,Cod_DIVIPOLA!A:C,2,0),\"CODIGO INCORRECTO\")","v":"CODIGO INCORRECTO"}]
[273,null,null,null,null,null,null,null,null,null,null,null,null,null,null,null,null,null,null,null,null,null,null,null,null,null,null,null,null,null,null,null,null,null,null,null,null,null,null,{"$f":"IFERROR(VLOOKUP(AM275,Cod_DIVIPOLA!A:C,2,0),\"CODIGO INCORRECTO\")","v":"CODIGO INCORRECTO"}]
[274,null,null,null,null,null,null,null,null,null,null,null,null,null,null,null,null,null,null,null,null,null,null,null,null,null,null,null,null,null,null,null,null,null,null,null,null,null,null,{"$f":"IFERROR(VLOOKUP(AM276,Cod_DIVIPOLA!A:C,2,0),\"CODIGO INCORRECTO\")","v":"CODIGO INCORRECTO"}]
[275,null,null,null,null,null,null,null,null,null,null,null,null,null,null,null,null,null,null,null,null,null,null,null,null,null,null,null,null,null,null,null,null,null,null,null,null,null,null,{"$f":"IFERROR(VLOOKUP(AM277,Cod_DIVIPOLA!A:C,2,0),\"CODIGO INCORRECTO\")","v":"CODIGO INCORRECTO"}]
[276,null,null,null,null,null,null,null,null,null,null,null,null,null,null,null,null,null,null,null,null,null,null,null,null,null,null,null,null,null,null,null,null,null,null,null,null,null,null,{"$f":"IFERROR(VLOOKUP(AM278,Cod_DIVIPOLA!A:C,2,0),\"CODIGO INCORRECTO\")","v":"CODIGO INCORRECTO"}]
[277,null,null,null,null,null,null,null,null,null,null,null,null,null,null,null,null,null,null,null,null,null,null,null,null,null,null,null,null,null,null,null,null,null,null,null,null,null,null,{"$f":"IFERROR(VLOOKUP(AM279,Cod_DIVIPOLA!A:C,2,0),\"CODIGO INCORRECTO\")","v":"CODIGO INCORRECTO"}]
[278,null,null,null,null,null,null,null,null,null,null,null,null,null,null,null,null,null,null,null,null,null,null,null,null,null,null,null,null,null,null,null,null,null,null,null,null,null,null,{"$f":"IFERROR(VLOOKUP(AM280,Cod_DIVIPOLA!A:C,2,0),\"CODIGO INCORRECTO\")","v":"CODIGO INCORRECTO"}]
[279,null,null,null,null,null,null,null,null,null,null,null,null,null,null,null,null,null,null,null,null,null,null,null,null,null,null,null,null,null,null,null,null,null,null,null,null,null,null,{"$f":"IFERROR(VLOOKUP(AM281,Cod_DIVIPOLA!A:C,2,0),\"CODIGO INCORRECTO\")","v":"CODIGO INCORRECTO"}]
[280,null,null,null,null,null,null,null,null,null,null,null,null,null,null,null,null,null,null,null,null,null,null,null,null,null,null,null,null,null,null,null,null,null,null,null,null,null,null,{"$f":"IFERROR(VLOOKUP(AM282,Cod_DIVIPOLA!A:C,2,0),\"CODIGO INCORRECTO\")","v":"CODIGO INCORRECTO"}]
[281,null,null,null,null,null,null,null,null,null,null,null,null,null,null,null,null,null,null,null,null,null,null,null,null,null,null,null,null,null,null,null,null,null,null,null,null,null,null,{"$f":"IFERROR(VLOOKUP(AM283,Cod_DIVIPOLA!A:C,2,0),\"CODIGO INCORRECTO\")","v":"CODIGO INCORRECTO"}]
[282,null,null,null,null,null,null,null,null,null,null,null,null,null,null,null,null,null,null,null,null,null,null,null,null,null,null,null,null,null,null,null,null,null,null,null,null,null,null,{"$f":"IFERROR(VLOOKUP(AM284,Cod_DIVIPOLA!A:C,2,0),\"CODIGO INCORRECTO\")","v":"CODIGO INCORRECTO"}]
[283,null,null,null,null,null,null,null,null,null,null,null,null,null,null,null,null,null,null,null,null,null,null,null,null,null,null,null,null,null,null,null,null,null,null,null,null,null,null,{"$f":"IFERROR(VLOOKUP(AM285,Cod_DIVIPOLA!A:C,2,0),\"CODIGO INCORRECTO\")","v":"CODIGO INCORRECTO"}]
[284,null,null,null,null,null,null,null,null,null,null,null,null,null,null,null,null,null,null,null,null,null,null,null,null,null,null,null,null,null,null,null,null,null,null,null,null,null,null,{"$f":"IFERROR(VLOOKUP(AM286,Cod_DIVIPOLA!A:C,2,0),\"CODIGO INCORRECTO\")","v":"CODIGO INCORRECTO"}]
[285,null,null,null,null,null,null,null,null,null,null,null,null,null,null,null,null,null,null,null,null,null,null,null,null,null,null,null,null,null,null,null,null,null,null,null,null,null,null,{"$f":"IFERROR(VLOOKUP(AM287,Cod_DIVIPOLA!A:C,2,0),\"CODIGO INCORRECTO\")","v":"CODIGO INCORRECTO"}]
[286,null,null,null,null,null,null,null,null,null,null,null,null,null,null,null,null,null,null,null,null,null,null,null,null,null,null,null,null,null,null,null,null,null,null,null,null,null,null,{"$f":"IFERROR(VLOOKUP(AM288,Cod_DIVIPOLA!A:C,2,0),\"CODIGO INCORRECTO\")","v":"CODIGO INCORRECTO"}]
[287,null,null,null,null,null,null,null,null,null,null,null,null,null,null,null,null,null,null,null,null,null,null,null,null,null,null,null,null,null,null,null,null,null,null,null,null,null,null,{"$f":"IFERROR(VLOOKUP(AM289,Cod_DIVIPOLA!A:C,2,0),\"CODIGO INCORRECTO\")","v":"CODIGO INCORRECTO"}]
[288,null,null,null,null,null,null,null,null,null,null,null,null,null,null,null,null,null,null,null,null,null,null,null,null,null,null,null,null,null,null,null,null,null,null,null,null,null,null,{"$f":"IFERROR(VLOOKUP(AM290,Cod_DIVIPOLA!A:C,2,0),\"CODIGO INCORRECTO\")","v":"CODIGO INCORRECTO"}]
[289,null,null,null,null,null,null,null,null,null,null,null,null,null,null,null,null,null,null,null,null,null,null,null,null,null,null,null,null,null,null,null,null,null,null,null,null,null,null,{"$f":"IFERROR(VLOOKUP(AM291,Cod_DIVIPOLA!A:C,2,0),\"CODIGO INCORRECTO\")","v":"CODIGO INCORRECTO"}]
[290,null,null,null,null,null,null,null,null,null,null,null,null,null,null,null,null,null,null,null,null,null,null,null,null,null,null,null,null,null,null,null,null,null,null,null,null,null,null,{"$f":"IFERROR(VLOOKUP(AM292,Cod_DIVIPOLA!A:C,2,0),\"CODIGO INCORRECTO\")","v":"CODIGO INCORRECTO"}]
[291,null,null,null,null,null,null,null,null,null,null,null,null,null,null,null,null,null,null,null,null,null,null,null,null,null,null,null,null,null,null,null,null,null,null,null,null,null,null,{"$f":"IFERROR(VLOOKUP(AM293,Cod_DIVIPOLA!A:C,2,0),\"CODIGO INCORRECTO\")","v":"CODIGO INCORRECTO"}]
[292,null,null,null,null,null,null,null,null,null,null,null,null,null,null,null,null,null,null,null,null,null,null,null,null,null,null,null,null,null,null,null,null,null,null,null,null,null,null,{"$f":"IFERROR(VLOOKUP(AM294,Cod_DIVIPOLA!A:C,2,0),\"CODIGO INCORRECTO\")","v":"CODIGO INCORRECTO"}]
[293,null,null,null,null,null,null,null,null,null,null,null,null,null,null,null,null,null,null,null,null,null,null,null,null,null,null,null,null,null,null,null,null,null,null,null,null,null,null,{"$f":"IFERROR(VLOOKUP(AM295,Cod_DIVIPOLA!A:C,2,0),\"CODIGO INCORRECTO\")","v":"CODIGO INCORRECTO"}]
[294,null,null,null,null,null,null,null,null,null,null,null,null,null,null,null,null,null,null,null,null,null,null,null,null,null,null,null,null,null,null,null,null,null,null,null,null,null,null,{"$f":"IFERROR(VLOOKUP(AM296,Cod_DIVIPOLA!A:C,2,0),\"CODIGO INCORRECTO\")","v":"CODIGO INCORRECTO"}]
[295,null,null,null,null,null,null,null,null,null,null,null,null,null,null,null,null,null,null,null,null,null,null,null,null,null,null,null,null,null,null,null,null,null,null,null,null,null,null,{"$f":"IFERROR(VLOOKUP(AM297,Cod_DIVIPOLA!A:C,2,0),\"CODIGO INCORRECTO\")","v":"CODIGO INCORRECTO"}]
[296,null,null,null,null,null,null,null,null,null,null,null,null,null,null,null,null,null,null,null,null,null,null,null,null,null,null,null,null,null,null,null,null,null,null,null,null,null,null,{"$f":"IFERROR(VLOOKUP(AM298,Cod_DIVIPOLA!A:C,2,0),\"CODIGO INCORRECTO\")","v":"CODIGO INCORRECTO"}]
[297,null,null,null,null,null,null,null,null,null,null,null,null,null,null,null,null,null,null,null,null,null,null,null,null,null,null,null,null,null,null,null,null,null,null,null,null,null,null,{"$f":"IFERROR(VLOOKUP(AM299,Cod_DIVIPOLA!A:C,2,0),\"CODIGO INCORRECTO\")","v":"CODIGO INCORRECTO"}]
[298,null,null,null,null,null,null,null,null,null,null,null,null,null,null,null,null,null,null,null,null,null,null,null,null,null,null,null,null,null,null,null,null,null,null,null,null,null,null,{"$f":"IFERROR(VLOOKUP(AM300,Cod_DIVIPOLA!A:C,2,0),\"CODIGO INCORRECTO\")","v":"CODIGO INCORRECTO"}]
[299,null,null,null,null,null,null,null,null,null,null,null,null,null,null,null,null,null,null,null,null,null,null,null,null,null,null,null,null,null,null,null,null,null,null,null,null,null,null,{"$f":"IFERROR(VLOOKUP(AM301,Cod_DIVIPOLA!A:C,2,0),\"CODIGO INCORRECTO\")","v":"CODIGO INCORRECTO"}]
[300,null,null,null,null,null,null,null,null,null,null,null,null,null,null,null,null,null,null,null,null,null,null,null,null,null,null,null,null,null,null,null,null,null,null,null,null,null,null,{"$f":"IFERROR(VLOOKUP(AM302,Cod_DIVIPOLA!A:C,2,0),\"CODIGO INCORRECTO\")","v":"CODIGO INCORRECTO"}]
[301,null,null,null,null,null,null,null,null,null,null,null,null,null,null,null,null,null,null,null,null,null,null,null,null,null,null,null,null,null,null,null,null,null,null,null,null,null,null,{"$f":"IFERROR(VLOOKUP(AM303,Cod_DIVIPOLA!A:C,2,0),\"CODIGO INCORRECTO\")","v":"CODIGO INCORRECTO"}]
[302,null,null,null,null,null,null,null,null,null,null,null,null,null,null,null,null,null,null,null,null,null,null,null,null,null,null,null,null,null,null,null,null,null,null,null,null,null,null,{"$f":"IFERROR(VLOOKUP(AM304,Cod_DIVIPOLA!A:C,2,0),\"CODIGO INCORRECTO\")","v":"CODIGO INCORRECTO"}]
[303,null,null,null,null,null,null,null,null,null,null,null,null,null,null,null,null,null,null,null,null,null,null,null,null,null,null,null,null,null,null,null,null,null,null,null,null,null,null,{"$f":"IFERROR(VLOOKUP(AM305,Cod_DIVIPOLA!A:C,2,0),\"CODIGO INCORRECTO\")","v":"CODIGO INCORRECTO"}]
[304,null,null,null,null,null,null,null,null,null,null,null,null,null,null,null,null,null,null,null,null,null,null,null,null,null,null,null,null,null,null,null,null,null,null,null,null,null,null,{"$f":"IFERROR(VLOOKUP(AM306,Cod_DIVIPOLA!A:C,2,0),\"CODIGO INCORRECTO\")","v":"CODIGO INCORRECTO"}]
[305,null,null,null,null,null,null,null,null,null,null,null,null,null,null,null,null,null,null,null,null,null,null,null,null,null,null,null,null,null,null,null,null,null,null,null,null,null,null,{"$f":"IFERROR(VLOOKUP(AM307,Cod_DIVIPOLA!A:C,2,0),\"CODIGO INCORRECTO\")","v":"CODIGO INCORRECTO"}]
[306,null,null,null,null,null,null,null,null,null,null,null,null,null,null,null,null,null,null,null,null,null,null,null,null,null,null,null,null,null,null,null,null,null,null,null,null,null,null,{"$f":"IFERROR(VLOOKUP(AM308,Cod_DIVIPOLA!A:C,2,0),\"CODIGO INCORRECTO\")","v":"CODIGO INCORRECTO"}]
[307,null,null,null,null,null,null,null,null,null,null,null,null,null,null,null,null,null,null,null,null,null,null,null,null,null,null,null,null,null,null,null,null,null,null,null,null,null,null,{"$f":"IFERROR(VLOOKUP(AM309,Cod_DIVIPOLA!A:C,2,0),\"CODIGO INCORRECTO\")","v":"CODIGO INCORRECTO"}]
[308,null,null,null,null,null,null,null,null,null,null,null,null,null,null,null,null,null,null,null,null,null,null,null,null,null,null,null,null,null,null,null,null,null,null,null,null,null,null,{"$f":"IFERROR(VLOOKUP(AM310,Cod_DIVIPOLA!A:C,2,0),\"CODIGO INCORRECTO\")","v":"CODIGO INCORRECTO"}]
[309,null,null,null,null,null,null,null,null,null,null,null,null,null,null,null,null,null,null,null,null,null,null,null,null,null,null,null,null,null,null,null,null,null,null,null,null,null,null,{"$f":"IFERROR(VLOOKUP(AM311,Cod_DIVIPOLA!A:C,2,0),\"CODIGO INCORRECTO\")","v":"CODIGO INCORRECTO"}]
[310,null,null,null,null,null,null,null,null,null,null,null,null,null,null,null,null,null,null,null,null,null,null,null,null,null,null,null,null,null,null,null,null,null,null,null,null,null,null,{"$f":"IFERROR(VLOOKUP(AM312,Cod_DIVIPOLA!A:C,2,0),\"CODIGO INCORRECTO\")","v":"CODIGO INCORRECTO"}]
[311,null,null,null,null,null,null,null,null,null,null,null,null,null,null,null,null,null,null,null,null,null,null,null,null,null,null,null,null,null,null,null,null,null,null,null,null,null,null,{"$f":"IFERROR(VLOOKUP(AM313,Cod_DIVIPOLA!A:C,2,0),\"CODIGO INCORRECTO\")","v":"CODIGO INCORRECTO"}]
[312,null,null,null,null,null,null,null,null,null,null,null,null,null,null,null,null,null,null,null,null,null,null,null,null,null,null,null,null,null,null,null,null,null,null,null,null,null,null,{"$f":"IFERROR(VLOOKUP(AM314,Cod_DIVIPOLA!A:C,2,0),\"CODIGO INCORRECTO\")","v":"CODIGO INCORRECTO"}]
[313,null,null,null,null,null,null,null,null,null,null,null,null,null,null,null,null,null,null,null,null,null,null,null,null,null,null,null,null,null,null,null,null,null,null,null,null,null,null,{"$f":"IFERROR(VLOOKUP(AM315,Cod_DIVIPOLA!A:C,2,0),\"CODIGO INCORRECTO\")","v":"CODIGO INCORRECTO"}]
[314,null,null,null,null,null,null,null,null,null,null,null,null,null,null,null,null,null,null,null,null,null,null,null,null,null,null,null,null,null,null,null,null,null,null,null,null,null,null,{"$f":"IFERROR(VLOOKUP(AM316,Cod_DIVIPOLA!A:C,2,0),\"CODIGO INCORRECTO\")","v":"CODIGO INCORRECTO"}]
[315,null,null,null,null,null,null,null,null,null,null,null,null,null,null,null,null,null,null,null,null,null,null,null,null,null,null,null,null,null,null,null,null,null,null,null,null,null,null,{"$f":"IFERROR(VLOOKUP(AM317,Cod_DIVIPOLA!A:C,2,0),\"CODIGO INCORRECTO\")","v":"CODIGO INCORRECTO"}]
[316,null,null,null,null,null,null,null,null,null,null,null,null,null,null,null,null,null,null,null,null,null,null,null,null,null,null,null,null,null,null,null,null,null,null,null,null,null,null,{"$f":"IFERROR(VLOOKUP(AM318,Cod_DIVIPOLA!A:C,2,0),\"CODIGO INCORRECTO\")","v":"CODIGO INCORRECTO"}]
[317,null,null,null,null,null,null,null,null,null,null,null,null,null,null,null,null,null,null,null,null,null,null,null,null,null,null,null,null,null,null,null,null,null,null,null,null,null,null,{"$f":"IFERROR(VLOOKUP(AM319,Cod_DIVIPOLA!A:C,2,0),\"CODIGO INCORRECTO\")","v":"CODIGO INCORRECTO"}]
[318,null,null,null,null,null,null,null,null,null,null,null,null,null,null,null,null,null,null,null,null,null,null,null,null,null,null,null,null,null,null,null,null,null,null,null,null,null,null,{"$f":"IFERROR(VLOOKUP(AM320,Cod_DIVIPOLA!A:C,2,0),\"CODIGO INCORRECTO\")","v":"CODIGO INCORRECTO"}]
[319,null,null,null,null,null,null,null,null,null,null,null,null,null,null,null,null,null,null,null,null,null,null,null,null,null,null,null,null,null,null,null,null,null,null,null,null,null,null,{"$f":"IFERROR(VLOOKUP(AM321,Cod_DIVIPOLA!A:C,2,0),\"CODIGO INCORRECTO\")","v":"CODIGO INCORRECTO"}]
[320,null,null,null,null,null,null,null,null,null,null,null,null,null,null,null,null,null,null,null,null,null,null,null,null,null,null,null,null,null,null,null,null,null,null,null,null,null,null,{"$f":"IFERROR(VLOOKUP(AM322,Cod_DIVIPOLA!A:C,2,0),\"CODIGO INCORRECTO\")","v":"CODIGO INCORRECTO"}]
[321,null,null,null,null,null,null,null,null,null,null,null,null,null,null,null,null,null,null,null,null,null,null,null,null,null,null,null,null,null,null,null,null,null,null,null,null,null,null,{"$f":"IFERROR(VLOOKUP(AM323,Cod_DIVIPOLA!A:C,2,0),\"CODIGO INCORRECTO\")","v":"CODIGO INCORRECTO"}]
[322,null,null,null,null,null,null,null,null,null,null,null,null,null,null,null,null,null,null,null,null,null,null,null,null,null,null,null,null,null,null,null,null,null,null,null,null,null,null,{"$f":"IFERROR(VLOOKUP(AM324,Cod_DIVIPOLA!A:C,2,0),\"CODIGO INCORRECTO\")","v":"CODIGO INCORRECTO"}]
[323,null,null,null,null,null,null,null,null,null,null,null,null,null,null,null,null,null,null,null,null,null,null,null,null,null,null,null,null,null,null,null,null,null,null,null,null,null,null,{"$f":"IFERROR(VLOOKUP(AM325,Cod_DIVIPOLA!A:C,2,0),\"CODIGO INCORRECTO\")","v":"CODIGO INCORRECTO"}]
[324,null,null,null,null,null,null,null,null,null,null,null,null,null,null,null,null,null,null,null,null,null,null,null,null,null,null,null,null,null,null,null,null,null,null,null,null,null,null,{"$f":"IFERROR(VLOOKUP(AM326,Cod_DIVIPOLA!A:C,2,0),\"CODIGO INCORRECTO\")","v":"CODIGO INCORRECTO"}]
[325,null,null,null,null,null,null,null,null,null,null,null,null,null,null,null,null,null,null,null,null,null,null,null,null,null,null,null,null,null,null,null,null,null,null,null,null,null,null,{"$f":"IFERROR(VLOOKUP(AM327,Cod_DIVIPOLA!A:C,2,0),\"CODIGO INCORRECTO\")","v":"CODIGO INCORRECTO"}]
[326,null,null,null,null,null,null,null,null,null,null,null,null,null,null,null,null,null,null,null,null,null,null,null,null,null,null,null,null,null,null,null,null,null,null,null,null,null,null,{"$f":"IFERROR(VLOOKUP(AM328,Cod_DIVIPOLA!A:C,2,0),\"CODIGO INCORRECTO\")","v":"CODIGO INCORRECTO"}]
[327,null,null,null,null,null,null,null,null,null,null,null,null,null,null,null,null,null,null,null,null,null,null,null,null,null,null,null,null,null,null,null,null,null,null,null,null,null,null,{"$f":"IFERROR(VLOOKUP(AM329,Cod_DIVIPOLA!A:C,2,0),\"CODIGO INCORRECTO\")","v":"CODIGO INCORRECTO"}]
[328,null,null,null,null,null,null,null,null,null,null,null,null,null,null,null,null,null,null,null,null,null,null,null,null,null,null,null,null,null,null,null,null,null,null,null,null,null,null,{"$f":"IFERROR(VLOOKUP(AM330,Cod_DIVIPOLA!A:C,2,0),\"CODIGO INCORRECTO\")","v":"CODIGO INCORRECTO"}]
[329,null,null,null,null,null,null,null,null,null,null,null,null,null,null,null,null,null,null,null,null,null,null,null,null,null,null,null,null,null,null,null,null,null,null,null,null,null,null,{"$f":"IFERROR(VLOOKUP(AM331,Cod_DIVIPOLA!A:C,2,0),\"CODIGO INCORRECTO\")","v":"CODIGO INCORRECTO"}]
[330,null,null,null,null,null,null,null,null,null,null,null,null,null,null,null,null,null,null,null,null,null,null,null,null,null,null,null,null,null,null,null,null,null,null,null,null,null,null,{"$f":"IFERROR(VLOOKUP(AM332,Cod_DIVIPOLA!A:C,2,0),\"CODIGO INCORRECTO\")","v":"CODIGO INCORRECTO"}]
[331,null,null,null,null,null,null,null,null,null,null,null,null,null,null,null,null,null,null,null,null,null,null,null,null,null,null,null,null,null,null,null,null,null,null,null,null,null,null,{"$f":"IFERROR(VLOOKUP(AM333,Cod_DIVIPOLA!A:C,2,0),\"CODIGO INCORRECTO\")","v":"CODIGO INCORRECTO"}]
[332,null,null,null,null,null,null,null,null,null,null,null,null,null,null,null,null,null,null,null,null,null,null,null,null,null,null,null,null,null,null,null,null,null,null,null,null,null,null,{"$f":"IFERROR(VLOOKUP(AM334,Cod_DIVIPOLA!A:C,2,0),\"CODIGO INCORRECTO\")","v":"CODIGO INCORRECTO"}]
[333,null,null,null,null,null,null,null,null,null,null,null,null,null,null,null,null,null,null,null,null,null,null,null,null,null,null,null,null,null,null,null,null,null,null,null,null,null,null,{"$f":"IFERROR(VLOOKUP(AM335,Cod_DIVIPOLA!A:C,2,0),\"CODIGO INCORRECTO\")","v":"CODIGO INCORRECTO"}]
[334,null,null,null,null,null,null,null,null,null,null,null,null,null,null,null,null,null,null,null,null,null,null,null,null,null,null,null,null,null,null,null,null,null,null,null,null,null,null,{"$f":"IFERROR(VLOOKUP(AM336,Cod_DIVIPOLA!A:C,2,0),\"CODIGO INCORRECTO\")","v":"CODIGO INCORRECTO"}]
[335,null,null,null,null,null,null,null,null,null,null,null,null,null,null,null,null,null,null,null,null,null,null,null,null,null,null,null,null,null,null,null,null,null,null,null,null,null,null,{"$f":"IFERROR(VLOOKUP(AM337,Cod_DIVIPOLA!A:C,2,0),\"CODIGO INCORRECTO\")","v":"CODIGO INCORRECTO"}]
[336,null,null,null,null,null,null,null,null,null,null,null,null,null,null,null,null,null,null,null,null,null,null,null,null,null,null,null,null,null,null,null,null,null,null,null,null,null,null,{"$f":"IFERROR(VLOOKUP(AM338,Cod_DIVIPOLA!A:C,2,0),\"CODIGO INCORRECTO\")","v":"CODIGO INCORRECTO"}]
[337,null,null,null,null,null,null,null,null,null,null,null,null,null,null,null,null,null,null,null,null,null,null,null,null,null,null,null,null,null,null,null,null,null,null,null,null,null,null,{"$f":"IFERROR(VLOOKUP(AM339,Cod_DIVIPOLA!A:C,2,0),\"CODIGO INCORRECTO\")","v":"CODIGO INCORRECTO"}]
[338,null,null,null,null,null,null,null,null,null,null,null,null,null,null,null,null,null,null,null,null,null,null,null,null,null,null,null,null,null,null,null,null,null,null,null,null,null,null,{"$f":"IFERROR(VLOOKUP(AM340,Cod_DIVIPOLA!A:C,2,0),\"CODIGO INCORRECTO\")","v":"CODIGO INCORRECTO"}]
[339,null,null,null,null,null,null,null,null,null,null,null,null,null,null,null,null,null,null,null,null,null,null,null,null,null,null,null,null,null,null,null,null,null,null,null,null,null,null,{"$f":"IFERROR(VLOOKUP(AM341,Cod_DIVIPOLA!A:C,2,0),\"CODIGO INCORRECTO\")","v":"CODIGO INCORRECTO"}]
[340,null,null,null,null,null,null,null,null,null,null,null,null,null,null,null,null,null,null,null,null,null,null,null,null,null,null,null,null,null,null,null,null,null,null,null,null,null,null,{"$f":"IFERROR(VLOOKUP(AM342,Cod_DIVIPOLA!A:C,2,0),\"CODIGO INCORRECTO\")","v":"CODIGO INCORRECTO"}]
[341,null,null,null,null,null,null,null,null,null,null,null,null,null,null,null,null,null,null,null,null,null,null,null,null,null,null,null,null,null,null,null,null,null,null,null,null,null,null,{"$f":"IFERROR(VLOOKUP(AM343,Cod_DIVIPOLA!A:C,2,0),\"CODIGO INCORRECTO\")","v":"CODIGO INCORRECTO"}]
[342,null,null,null,null,null,null,null,null,null,null,null,null,null,null,null,null,null,null,null,null,null,null,null,null,null,null,null,null,null,null,null,null,null,null,null,null,null,null,{"$f":"IFERROR(VLOOKUP(AM344,Cod_DIVIPOLA!A:C,2,0),\"CODIGO INCORRECTO\")","v":"CODIGO INCORRECTO"}]
[343,null,null,null,null,null,null,null,null,null,null,null,null,null,null,null,null,null,null,null,null,null,null,null,null,null,null,null,null,null,null,null,null,null,null,null,null,null,null,{"$f":"IFERROR(VLOOKUP(AM345,Cod_DIVIPOLA!A:C,2,0),\"CODIGO INCORRECTO\")","v":"CODIGO INCORRECTO"}]
[344,null,null,null,null,null,null,null,null,null,null,null,null,null,null,null,null,null,null,null,null,null,null,null,null,null,null,null,null,null,null,null,null,null,null,null,null,null,null,{"$f":"IFERROR(VLOOKUP(AM346,Cod_DIVIPOLA!A:C,2,0),\"CODIGO INCORRECTO\")","v":"CODIGO INCORRECTO"}]
[345,null,null,null,null,null,null,null,null,null,null,null,null,null,null,null,null,null,null,null,null,null,null,null,null,null,null,null,null,null,null,null,null,null,null,null,null,null,null,{"$f":"IFERROR(VLOOKUP(AM347,Cod_DIVIPOLA!A:C,2,0),\"CODIGO INCORRECTO\")","v":"CODIGO INCORRECTO"}]
[346,null,null,null,null,null,null,null,null,null,null,null,null,null,null,null,null,null,null,null,null,null,null,null,null,null,null,null,null,null,null,null,null,null,null,null,null,null,null,{"$f":"IFERROR(VLOOKUP(AM348,Cod_DIVIPOLA!A:C,2,0),\"CODIGO INCORRECTO\")","v":"CODIGO INCORRECTO"}]
[347,null,null,null,null,null,null,null,null,null,null,null,null,null,null,null,null,null,null,null,null,null,null,null,null,null,null,null,null,null,null,null,null,null,null,null,null,null,null,{"$f":"IFERROR(VLOOKUP(AM349,Cod_DIVIPOLA!A:C,2,0),\"CODIGO INCORRECTO\")","v":"CODIGO INCORRECTO"}]
[348,null,null,null,null,null,null,null,null,null,null,null,null,null,null,null,null,null,null,null,null,null,null,null,null,null,null,null,null,null,null,null,null,null,null,null,null,null,null,{"$f":"IFERROR(VLOOKUP(AM350,Cod_DIVIPOLA!A:C,2,0),\"CODIGO INCORRECTO\")","v":"CODIGO INCORRECTO"}]
[349,null,null,null,null,null,null,null,null,null,null,null,null,null,null,null,null,null,null,null,null,null,null,null,null,null,null,null,null,null,null,null,null,null,null,null,null,null,null,{"$f":"IFERROR(VLOOKUP(AM351,Cod_DIVIPOLA!A:C,2,0),\"CODIGO INCORRECTO\")","v":"CODIGO INCORRECTO"}]
[350,null,null,null,null,null,null,null,null,null,null,null,null,null,null,null,null,null,null,null,null,null,null,null,null,null,null,null,null,null,null,null,null,null,null,null,null,null,null,{"$f":"IFERROR(VLOOKUP(AM352,Cod_DIVIPOLA!A:C,2,0),\"CODIGO INCORRECTO\")","v":"CODIGO INCORRECTO"}]
[351,null,null,null,null,null,null,null,null,null,null,null,null,null,null,null,null,null,null,null,null,null,null,null,null,null,null,null,null,null,null,null,null,null,null,null,null,null,null,{"$f":"IFERROR(VLOOKUP(AM353,Cod_DIVIPOLA!A:C,2,0),\"CODIGO INCORRECTO\")","v":"CODIGO INCORRECTO"}]
[352,null,null,null,null,null,null,null,null,null,null,null,null,null,null,null,null,null,null,null,null,null,null,null,null,null,null,null,null,null,null,null,null,null,null,null,null,null,null,{"$f":"IFERROR(VLOOKUP(AM354,Cod_DIVIPOLA!A:C,2,0),\"CODIGO INCORRECTO\")","v":"CODIGO INCORRECTO"}]
[353,null,null,null,null,null,null,null,null,null,null,null,null,null,null,null,null,null,null,null,null,null,null,null,null,null,null,null,null,null,null,null,null,null,null,null,null,null,null,{"$f":"IFERROR(VLOOKUP(AM355,Cod_DIVIPOLA!A:C,2,0),\"CODIGO INCORRECTO\")","v":"CODIGO INCORRECTO"}]
[354,null,null,null,null,null,null,null,null,null,null,null,null,null,null,null,null,null,null,null,null,null,null,null,null,null,null,null,null,null,null,null,null,null,null,null,null,null,null,{"$f":"IFERROR(VLOOKUP(AM356,Cod_DIVIPOLA!A:C,2,0),\"CODIGO INCORRECTO\")","v":"CODIGO INCORRECTO"}]
[355,null,null,null,null,null,null,null,null,null,null,null,null,null,null,null,null,null,null,null,null,null,null,null,null,null,null,null,null,null,null,null,null,null,null,null,null,null,null,{"$f":"IFERROR(VLOOKUP(AM357,Cod_DIVIPOLA!A:C,2,0),\"CODIGO INCORRECTO\")","v":"CODIGO INCORRECTO"}]
[356,null,null,null,null,null,null,null,null,null,null,null,null,null,null,null,null,null,null,null,null,null,null,null,null,null,null,null,null,null,null,null,null,null,null,null,null,null,null,{"$f":"IFERROR(VLOOKUP(AM358,Cod_DIVIPOLA!A:C,2,0),\"CODIGO INCORRECTO\")","v":"CODIGO INCORRECTO"}]
[357,null,null,null,null,null,null,null,null,null,null,null,null,null,null,null,null,null,null,null,null,null,null,null,null,null,null,null,null,null,null,null,null,null,null,null,null,null,null,{"$f":"IFERROR(VLOOKUP(AM359,Cod_DIVIPOLA!A:C,2,0),\"CODIGO INCORRECTO\")","v":"CODIGO INCORRECTO"}]
[358,null,null,null,null,null,null,null,null,null,null,null,null,null,null,null,null,null,null,null,null,null,null,null,null,null,null,null,null,null,null,null,null,null,null,null,null,null,null,{"$f":"IFERROR(VLOOKUP(AM360,Cod_DIVIPOLA!A:C,2,0),\"CODIGO INCORRECTO\")","v":"CODIGO INCORRECTO"}]
[359,null,null,null,null,null,null,null,null,null,null,null,null,null,null,null,null,null,null,null,null,null,null,null,null,null,null,null,null,null,null,null,null,null,null,null,null,null,null,{"$f":"IFERROR(VLOOKUP(AM361,Cod_DIVIPOLA!A:C,2,0),\"CODIGO INCORRECTO\")","v":"CODIGO INCORRECTO"}]
[360,null,null,null,null,null,null,null,null,null,null,null,null,null,null,null,null,null,null,null,null,null,null,null,null,null,null,null,null,null,null,null,null,null,null,null,null,null,null,{"$f":"IFERROR(VLOOKUP(AM362,Cod_DIVIPOLA!A:C,2,0),\"CODIGO INCORRECTO\")","v":"CODIGO INCORRECTO"}]
[361,null,null,null,null,null,null,null,null,null,null,null,null,null,null,null,null,null,null,null,null,null,null,null,null,null,null,null,null,null,null,null,null,null,null,null,null,null,null,{"$f":"IFERROR(VLOOKUP(AM363,Cod_DIVIPOLA!A:C,2,0),\"CODIGO INCORRECTO\")","v":"CODIGO INCORRECTO"}]
[362,null,null,null,null,null,null,null,null,null,null,null,null,null,null,null,null,null,null,null,null,null,null,null,null,null,null,null,null,null,null,null,null,null,null,null,null,null,null,{"$f":"IFERROR(VLOOKUP(AM364,Cod_DIVIPOLA!A:C,2,0),\"CODIGO INCORRECTO\")","v":"CODIGO INCORRECTO"}]
[363,null,null,null,null,null,null,null,null,null,null,null,null,null,null,null,null,null,null,null,null,null,null,null,null,null,null,null,null,null,null,null,null,null,null,null,null,null,null,{"$f":"IFERROR(VLOOKUP(AM365,Cod_DIVIPOLA!A:C,2,0),\"CODIGO INCORRECTO\")","v":"CODIGO INCORRECTO"}]
[364,null,null,null,null,null,null,null,null,null,null,null,null,null,null,null,null,null,null,null,null,null,null,null,null,null,null,null,null,null,null,null,null,null,null,null,null,null,null,{"$f":"IFERROR(VLOOKUP(AM366,Cod_DIVIPOLA!A:C,2,0),\"CODIGO INCORRECTO\")","v":"CODIGO INCORRECTO"}]
[365,null,null,null,null,null,null,null,null,null,null,null,null,null,null,null,null,null,null,null,null,null,null,null,null,null,null,null,null,null,null,null,null,null,null,null,null,null,null,{"$f":"IFERROR(VLOOKUP(AM367,Cod_DIVIPOLA!A:C,2,0),\"CODIGO INCORRECTO\")","v":"CODIGO INCORRECTO"}]
[366,null,null,null,null,null,null,null,null,null,null,null,null,null,null,null,null,null,null,null,null,null,null,null,null,null,null,null,null,null,null,null,null,null,null,null,null,null,null,{"$f":"IFERROR(VLOOKUP(AM368,Cod_DIVIPOLA!A:C,2,0),\"CODIGO INCORRECTO\")","v":"CODIGO INCORRECTO"}]
[367,null,null,null,null,null,null,null,null,null,null,null,null,null,null,null,null,null,null,null,null,null,null,null,null,null,null,null,null,null,null,null,null,null,null,null,null,null,null,{"$f":"IFERROR(VLOOKUP(AM369,Cod_DIVIPOLA!A:C,2,0),\"CODIGO INCORRECTO\")","v":"CODIGO INCORRECTO"}]
[368,null,null,null,null,null,null,null,null,null,null,null,null,null,null,null,null,null,null,null,null,null,null,null,null,null,null,null,null,null,null,null,null,null,null,null,null,null,null,{"$f":"IFERROR(VLOOKUP(AM370,Cod_DIVIPOLA!A:C,2,0),\"CODIGO INCORRECTO\")","v":"CODIGO INCORRECTO"}]
[369,null,null,null,null,null,null,null,null,null,null,null,null,null,null,null,null,null,null,null,null,null,null,null,null,null,null,null,null,null,null,null,null,null,null,null,null,null,null,{"$f":"IFERROR(VLOOKUP(AM371,Cod_DIVIPOLA!A:C,2,0),\"CODIGO INCORRECTO\")","v":"CODIGO INCORRECTO"}]
[370,null,null,null,null,null,null,null,null,null,null,null,null,null,null,null,null,null,null,null,null,null,null,null,null,null,null,null,null,null,null,null,null,null,null,null,null,null,null,{"$f":"IFERROR(VLOOKUP(AM372,Cod_DIVIPOLA!A:C,2,0),\"CODIGO INCORRECTO\")","v":"CODIGO INCORRECTO"}]
[371,null,null,null,null,null,null,null,null,null,null,null,null,null,null,null,null,null,null,null,null,null,null,null,null,null,null,null,null,null,null,null,null,null,null,null,null,null,null,{"$f":"IFERROR(VLOOKUP(AM373,Cod_DIVIPOLA!A:C,2,0),\"CODIGO INCORRECTO\")","v":"CODIGO INCORRECTO"}]
[372,null,null,null,null,null,null,null,null,null,null,null,null,null,null,null,null,null,null,null,null,null,null,null,null,null,null,null,null,null,null,null,null,null,null,null,null,null,null,{"$f":"IFERROR(VLOOKUP(AM374,Cod_DIVIPOLA!A:C,2,0),\"CODIGO INCORRECTO\")","v":"CODIGO INCORRECTO"}]
[373,null,null,null,null,null,null,null,null,null,null,null,null,null,null,null,null,null,null,null,null,null,null,null,null,null,null,null,null,null,null,null,null,null,null,null,null,null,null,{"$f":"IFERROR(VLOOKUP(AM375,Cod_DIVIPOLA!A:C,2,0),\"CODIGO INCORRECTO\")","v":"CODIGO INCORRECTO"}]
[374,null,null,null,null,null,null,null,null,null,null,null,null,null,null,null,null,null,null,null,null,null,null,null,null,null,null,null,null,null,null,null,null,null,null,null,null,null,null,{"$f":"IFERROR(VLOOKUP(AM376,Cod_DIVIPOLA!A:C,2,0),\"CODIGO INCORRECTO\")","v":"CODIGO INCORRECTO"}]
[375,null,null,null,null,null,null,null,null,null,null,null,null,null,null,null,null,null,null,null,null,null,null,null,null,null,null,null,null,null,null,null,null,null,null,null,null,null,null,{"$f":"IFERROR(VLOOKUP(AM377,Cod_DIVIPOLA!A:C,2,0),\"CODIGO INCORRECTO\")","v":"CODIGO INCORRECTO"}]
[376,null,null,null,null,null,null,null,null,null,null,null,null,null,null,null,null,null,null,null,null,null,null,null,null,null,null,null,null,null,null,null,null,null,null,null,null,null,null,{"$f":"IFERROR(VLOOKUP(AM378,Cod_DIVIPOLA!A:C,2,0),\"CODIGO INCORRECTO\")","v":"CODIGO INCORRECTO"}]
[377,null,null,null,null,null,null,null,null,null,null,null,null,null,null,null,null,null,null,null,null,null,null,null,null,null,null,null,null,null,null,null,null,null,null,null,null,null,null,{"$f":"IFERROR(VLOOKUP(AM379,Cod_DIVIPOLA!A:C,2,0),\"CODIGO INCORRECTO\")","v":"CODIGO INCORRECTO"}]
[378,null,null,null,null,null,null,null,null,null,null,null,null,null,null,null,null,null,null,null,null,null,null,null,null,null,null,null,null,null,null,null,null,null,null,null,null,null,null,{"$f":"IFERROR(VLOOKUP(AM380,Cod_DIVIPOLA!A:C,2,0),\"CODIGO INCORRECTO\")","v":"CODIGO INCORRECTO"}]
[379,null,null,null,null,null,null,null,null,null,null,null,null,null,null,null,null,null,null,null,null,null,null,null,null,null,null,null,null,null,null,null,null,null,null,null,null,null,null,{"$f":"IFERROR(VLOOKUP(AM381,Cod_DIVIPOLA!A:C,2,0),\"CODIGO INCORRECTO\")","v":"CODIGO INCORRECTO"}]
[380,null,null,null,null,null,null,null,null,null,null,null,null,null,null,null,null,null,null,null,null,null,null,null,null,null,null,null,null,null,null,null,null,null,null,null,null,null,null,{"$f":"IFERROR(VLOOKUP(AM382,Cod_DIVIPOLA!A:C,2,0),\"CODIGO INCORRECTO\")","v":"CODIGO INCORRECTO"}]
[381,null,null,null,null,null,null,null,null,null,null,null,null,null,null,null,null,null,null,null,null,null,null,null,null,null,null,null,null,null,null,null,null,null,null,null,null,null,null,{"$f":"IFERROR(VLOOKUP(AM383,Cod_DIVIPOLA!A:C,2,0),\"CODIGO INCORRECTO\")","v":"CODIGO INCORRECTO"}]
[382,null,null,null,null,null,null,null,null,null,null,null,null,null,null,null,null,null,null,null,null,null,null,null,null,null,null,null,null,null,null,null,null,null,null,null,null,null,null,{"$f":"IFERROR(VLOOKUP(AM384,Cod_DIVIPOLA!A:C,2,0),\"CODIGO INCORRECTO\")","v":"CODIGO INCORRECTO"}]
[383,null,null,null,null,null,null,null,null,null,null,null,null,null,null,null,null,null,null,null,null,null,null,null,null,null,null,null,null,null,null,null,null,null,null,null,null,null,null,{"$f":"IFERROR(VLOOKUP(AM385,Cod_DIVIPOLA!A:C,2,0),\"CODIGO INCORRECTO\")","v":"CODIGO INCORRECTO"}]
[384,null,null,null,null,null,null,null,null,null,null,null,null,null,null,null,null,null,null,null,null,null,null,null,null,null,null,null,null,null,null,null,null,null,null,null,null,null,null,{"$f":"IFERROR(VLOOKUP(AM386,Cod_DIVIPOLA!A:C,2,0),\"CODIGO INCORRECTO\")","v":"CODIGO INCORRECTO"}]
[385,null,null,null,null,null,null,null,null,null,null,null,null,null,null,null,null,null,null,null,null,null,null,null,null,null,null,null,null,null,null,null,null,null,null,null,null,null,null,{"$f":"IFERROR(VLOOKUP(AM387,Cod_DIVIPOLA!A:C,2,0),\"CODIGO INCORRECTO\")","v":"CODIGO INCORRECTO"}]
[386,null,null,null,null,null,null,null,null,null,null,null,null,null,null,null,null,null,null,null,null,null,null,null,null,null,null,null,null,null,null,null,null,null,null,null,null,null,null,{"$f":"IFERROR(VLOOKUP(AM388,Cod_DIVIPOLA!A:C,2,0),\"CODIGO INCORRECTO\")","v":"CODIGO INCORRECTO"}]
[387,null,null,null,null,null,null,null,null,null,null,null,null,null,null,null,null,null,null,null,null,null,null,null,null,null,null,null,null,null,null,null,null,null,null,null,null,null,null,{"$f":"IFERROR(VLOOKUP(AM389,Cod_DIVIPOLA!A:C,2,0),\"CODIGO INCORRECTO\")","v":"CODIGO INCORRECTO"}]
[388,null,null,null,null,null,null,null,null,null,null,null,null,null,null,null,null,null,null,null,null,null,null,null,null,null,null,null,null,null,null,null,null,null,null,null,null,null,null,{"$f":"IFERROR(VLOOKUP(AM390,Cod_DIVIPOLA!A:C,2,0),\"CODIGO INCORRECTO\")","v":"CODIGO INCORRECTO"}]
[389,null,null,null,null,null,null,null,null,null,null,null,null,null,null,null,null,null,null,null,null,null,null,null,null,null,null,null,null,null,null,null,null,null,null,null,null,null,null,{"$f":"IFERROR(VLOOKUP(AM391,Cod_DIVIPOLA!A:C,2,0),\"CODIGO INCORRECTO\")","v":"CODIGO INCORRECTO"}]
[390,null,null,null,null,null,null,null,null,null,null,null,null,null,null,null,null,null,null,null,null,null,null,null,null,null,null,null,null,null,null,null,null,null,null,null,null,null,null,{"$f":"IFERROR(VLOOKUP(AM392,Cod_DIVIPOLA!A:C,2,0),\"CODIGO INCORRECTO\")","v":"CODIGO INCORRECTO"}]
[391,null,null,null,null,null,null,null,null,null,null,null,null,null,null,null,null,null,null,null,null,null,null,null,null,null,null,null,null,null,null,null,null,null,null,null,null,null,null,{"$f":"IFERROR(VLOOKUP(AM393,Cod_DIVIPOLA!A:C,2,0),\"CODIGO INCORRECTO\")","v":"CODIGO INCORRECTO"}]
[392,null,null,null,null,null,null,null,null,null,null,null,null,null,null,null,null,null,null,null,null,null,null,null,null,null,null,null,null,null,null,null,null,null,null,null,null,null,null,{"$f":"IFERROR(VLOOKUP(AM394,Cod_DIVIPOLA!A:C,2,0),\"CODIGO INCORRECTO\")","v":"CODIGO INCORRECTO"}]
[393,null,null,null,null,null,null,null,null,null,null,null,null,null,null,null,null,null,null,null,null,null,null,null,null,null,null,null,null,null,null,null,null,null,null,null,null,null,null,{"$f":"IFERROR(VLOOKUP(AM395,Cod_DIVIPOLA!A:C,2,0),\"CODIGO INCORRECTO\")","v":"CODIGO INCORRECTO"}]
[394,null,null,null,null,null,null,null,null,null,null,null,null,null,null,null,null,null,null,null,null,null,null,null,null,null,null,null,null,null,null,null,null,null,null,null,null,null,null,{"$f":"IFERROR(VLOOKUP(AM396,Cod_DIVIPOLA!A:C,2,0),\"CODIGO INCORRECTO\")","v":"CODIGO INCORRECTO"}]
[395,null,null,null,null,null,null,null,null,null,null,null,null,null,null,null,null,null,null,null,null,null,null,null,null,null,null,null,null,null,null,null,null,null,null,null,null,null,null,{"$f":"IFERROR(VLOOKUP(AM397,Cod_DIVIPOLA!A:C,2,0),\"CODIGO INCORRECTO\")","v":"CODIGO INCORRECTO"}]
[396,null,null,null,null,null,null,null,null,null,null,null,null,null,null,null,null,null,null,null,null,null,null,null,null,null,null,null,null,null,null,null,null,null,null,null,null,null,null,{"$f":"IFERROR(VLOOKUP(AM398,Cod_DIVIPOLA!A:C,2,0),\"CODIGO INCORRECTO\")","v":"CODIGO INCORRECTO"}]
[397,null,null,null,null,null,null,null,null,null,null,null,null,null,null,null,null,null,null,null,null,null,null,null,null,null,null,null,null,null,null,null,null,null,null,null,null,null,null,{"$f":"IFERROR(VLOOKUP(AM399,Cod_DIVIPOLA!A:C,2,0),\"CODIGO INCORRECTO\")","v":"CODIGO INCORRECTO"}]
[398,null,null,null,null,null,null,null,null,null,null,null,null,null,null,null,null,null,null,null,null,null,null,null,null,null,null,null,null,null,null,null,null,null,null,null,null,null,null,{"$f":"IFERROR(VLOOKUP(AM400,Cod_DIVIPOLA!A:C,2,0),\"CODIGO INCORRECTO\")","v":"CODIGO INCORRECTO"}]
[399,null,null,null,null,null,null,null,null,null,null,null,null,null,null,null,null,null,null,null,null,null,null,null,null,null,null,null,null,null,null,null,null,null,null,null,null,null,null,{"$f":"IFERROR(VLOOKUP(AM401,Cod_DIVIPOLA!A:C,2,0),\"CODIGO INCORRECTO\")","v":"CODIGO INCORRECTO"}]
[400,null,null,null,null,null,null,null,null,null,null,null,null,null,null,null,null,null,null,null,null,null,null,null,null,null,null,null,null,null,null,null,null,null,null,null,null,null,null,{"$f":"IFERROR(VLOOKUP(AM402,Cod_DIVIPOLA!A:C,2,0),\"CODIGO INCORRECTO\")","v":"CODIGO INCORRECTO"}]
[401,null,null,null,null,null,null,null,null,null,null,null,null,null,null,null,null,null,null,null,null,null,null,null,null,null,null,null,null,null,null,null,null,null,null,null,null,null,null,{"$f":"IFERROR(VLOOKUP(AM403,Cod_DIVIPOLA!A:C,2,0),\"CODIGO INCORRECTO\")","v":"CODIGO INCORRECTO"}]
[402,null,null,null,null,null,null,null,null,null,null,null,null,null,null,null,null,null,null,null,null,null,null,null,null,null,null,null,null,null,null,null,null,null,null,null,null,null,null,{"$f":"IFERROR(VLOOKUP(AM404,Cod_DIVIPOLA!A:C,2,0),\"CODIGO INCORRECTO\")","v":"CODIGO INCORRECTO"}]
[403,null,null,null,null,null,null,null,null,null,null,null,null,null,null,null,null,null,null,null,null,null,null,null,null,null,null,null,null,null,null,null,null,null,null,null,null,null,null,{"$f":"IFERROR(VLOOKUP(AM405,Cod_DIVIPOLA!A:C,2,0),\"CODIGO INCORRECTO\")","v":"CODIGO INCORRECTO"}]
[404,null,null,null,null,null,null,null,null,null,null,null,null,null,null,null,null,null,null,null,null,null,null,null,null,null,null,null,null,null,null,null,null,null,null,null,null,null,null,{"$f":"IFERROR(VLOOKUP(AM406,Cod_DIVIPOLA!A:C,2,0),\"CODIGO INCORRECTO\")","v":"CODIGO INCORRECTO"}]
[405,null,null,null,null,null,null,null,null,null,null,null,null,null,null,null,null,null,null,null,null,null,null,null,null,null,null,null,null,null,null,null,null,null,null,null,null,null,null,{"$f":"IFERROR(VLOOKUP(AM407,Cod_DIVIPOLA!A:C,2,0),\"CODIGO INCORRECTO\")","v":"CODIGO INCORRECTO"}]
[406,null,null,null,null,null,null,null,null,null,null,null,null,null,null,null,null,null,null,null,null,null,null,null,null,null,null,null,null,null,null,null,null,null,null,null,null,null,null,{"$f":"IFERROR(VLOOKUP(AM408,Cod_DIVIPOLA!A:C,2,0),\"CODIGO INCORRECTO\")","v":"CODIGO INCORRECTO"}]
[407,null,null,null,null,null,null,null,null,null,null,null,null,null,null,null,null,null,null,null,null,null,null,null,null,null,null,null,null,null,null,null,null,null,null,null,null,null,null,{"$f":"IFERROR(VLOOKUP(AM409,Cod_DIVIPOLA!A:C,2,0),\"CODIGO INCORRECTO\")","v":"CODIGO INCORRECTO"}]
[408,null,null,null,null,null,null,null,null,null,null,null,null,null,null,null,null,null,null,null,null,null,null,null,null,null,null,null,null,null,null,null,null,null,null,null,null,null,null,{"$f":"IFERROR(VLOOKUP(AM410,Cod_DIVIPOLA!A:C,2,0),\"CODIGO INCORRECTO\")","v":"CODIGO INCORRECTO"}]
[409,null,null,null,null,null,null,null,null,null,null,null,null,null,null,null,null,null,null,null,null,null,null,null,null,null,null,null,null,null,null,null,null,null,null,null,null,null,null,{"$f":"IFERROR(VLOOKUP(AM411,Cod_DIVIPOLA!A:C,2,0),\"CODIGO INCORRECTO\")","v":"CODIGO INCORRECTO"}]
[410,null,null,null,null,null,null,null,null,null,null,null,null,null,null,null,null,null,null,null,null,null,null,null,null,null,null,null,null,null,null,null,null,null,null,null,null,null,null,{"$f":"IFERROR(VLOOKUP(AM412,Cod_DIVIPOLA!A:C,2,0),\"CODIGO INCORRECTO\")","v":"CODIGO INCORRECTO"}]
[411,null,null,null,null,null,null,null,null,null,null,null,null,null,null,null,null,null,null,null,null,null,null,null,null,null,null,null,null,null,null,null,null,null,null,null,null,null,null,{"$f":"IFERROR(VLOOKUP(AM413,Cod_DIVIPOLA!A:C,2,0),\"CODIGO INCORRECTO\")","v":"CODIGO INCORRECTO"}]
[412,null,null,null,null,null,null,null,null,null,null,null,null,null,null,null,null,null,null,null,null,null,null,null,null,null,null,null,null,null,null,null,null,null,null,null,null,null,null,{"$f":"IFERROR(VLOOKUP(AM414,Cod_DIVIPOLA!A:C,2,0),\"CODIGO INCORRECTO\")","v":"CODIGO INCORRECTO"}]
[413,null,null,null,null,null,null,null,null,null,null,null,null,null,null,null,null,null,null,null,null,null,null,null,null,null,null,null,null,null,null,null,null,null,null,null,null,null,null,{"$f":"IFERROR(VLOOKUP(AM415,Cod_DIVIPOLA!A:C,2,0),\"CODIGO INCORRECTO\")","v":"CODIGO INCORRECTO"}]
[414,null,null,null,null,null,null,null,null,null,null,null,null,null,null,null,null,null,null,null,null,null,null,null,null,null,null,null,null,null,null,null,null,null,null,null,null,null,null,{"$f":"IFERROR(VLOOKUP(AM416,Cod_DIVIPOLA!A:C,2,0),\"CODIGO INCORRECTO\")","v":"CODIGO INCORRECTO"}]
[415,null,null,null,null,null,null,null,null,null,null,null,null,null,null,null,null,null,null,null,null,null,null,null,null,null,null,null,null,null,null,null,null,null,null,null,null,null,null,{"$f":"IFERROR(VLOOKUP(AM417,Cod_DIVIPOLA!A:C,2,0),\"CODIGO INCORRECTO\")","v":"CODIGO INCORRECTO"}]
[416,null,null,null,null,null,null,null,null,null,null,null,null,null,null,null,null,null,null,null,null,null,null,null,null,null,null,null,null,null,null,null,null,null,null,null,null,null,null,{"$f":"IFERROR(VLOOKUP(AM418,Cod_DIVIPOLA!A:C,2,0),\"CODIGO INCORRECTO\")","v":"CODIGO INCORRECTO"}]
[417,null,null,null,null,null,null,null,null,null,null,null,null,null,null,null,null,null,null,null,null,null,null,null,null,null,null,null,null,null,null,null,null,null,null,null,null,null,null,{"$f":"IFERROR(VLOOKUP(AM419,Cod_DIVIPOLA!A:C,2,0),\"CODIGO INCORRECTO\")","v":"CODIGO INCORRECTO"}]
[418,null,null,null,null,null,null,null,null,null,null,null,null,null,null,null,null,null,null,null,null,null,null,null,null,null,null,null,null,null,null,null,null,null,null,null,null,null,null,{"$f":"IFERROR(VLOOKUP(AM420,Cod_DIVIPOLA!A:C,2,0),\"CODIGO INCORRECTO\")","v":"CODIGO INCORRECTO"}]
[419,null,null,null,null,null,null,null,null,null,null,null,null,null,null,null,null,null,null,null,null,null,null,null,null,null,null,null,null,null,null,null,null,null,null,null,null,null,null,{"$f":"IFERROR(VLOOKUP(AM421,Cod_DIVIPOLA!A:C,2,0),\"CODIGO INCORRECTO\")","v":"CODIGO INCORRECTO"}]
[420,null,null,null,null,null,null,null,null,null,null,null,null,null,null,null,null,null,null,null,null,null,null,null,null,null,null,null,null,null,null,null,null,null,null,null,null,null,null,{"$f":"IFERROR(VLOOKUP(AM422,Cod_DIVIPOLA!A:C,2,0),\"CODIGO INCORRECTO\")","v":"CODIGO INCORRECTO"}]
[421,null,null,null,null,null,null,null,null,null,null,null,null,null,null,null,null,null,null,null,null,null,null,null,null,null,null,null,null,null,null,null,null,null,null,null,null,null,null,{"$f":"IFERROR(VLOOKUP(AM423,Cod_DIVIPOLA!A:C,2,0),\"CODIGO INCORRECTO\")","v":"CODIGO INCORRECTO"}]
[422,null,null,null,null,null,null,null,null,null,null,null,null,null,null,null,null,null,null,null,null,null,null,null,null,null,null,null,null,null,null,null,null,null,null,null,null,null,null,{"$f":"IFERROR(VLOOKUP(AM424,Cod_DIVIPOLA!A:C,2,0),\"CODIGO INCORRECTO\")","v":"CODIGO INCORRECTO"}]
[423,null,null,null,null,null,null,null,null,null,null,null,null,null,null,null,null,null,null,null,null,null,null,null,null,null,null,null,null,null,null,null,null,null,null,null,null,null,null,{"$f":"IFERROR(VLOOKUP(AM425,Cod_DIVIPOLA!A:C,2,0),\"CODIGO INCORRECTO\")","v":"CODIGO INCORRECTO"}]
[424,null,null,null,null,null,null,null,null,null,null,null,null,null,null,null,null,null,null,null,null,null,null,null,null,null,null,null,null,null,null,null,null,null,null,null,null,null,null,{"$f":"IFERROR(VLOOKUP(AM426,Cod_DIVIPOLA!A:C,2,0),\"CODIGO INCORRECTO\")","v":"CODIGO INCORRECTO"}]
[425,null,null,null,null,null,null,null,null,null,null,null,null,null,null,null,null,null,null,null,null,null,null,null,null,null,null,null,null,null,null,null,null,null,null,null,null,null,null,{"$f":"IFERROR(VLOOKUP(AM427,Cod_DIVIPOLA!A:C,2,0),\"CODIGO INCORRECTO\")","v":"CODIGO INCORRECTO"}]
[426,null,null,null,null,null,null,null,null,null,null,null,null,null,null,null,null,null,null,null,null,null,null,null,null,null,null,null,null,null,null,null,null,null,null,null,null,null,null,{"$f":"IFERROR(VLOOKUP(AM428,Cod_DIVIPOLA!A:C,2,0),\"CODIGO INCORRECTO\")","v":"CODIGO INCORRECTO"}]
[427,null,null,null,null,null,null,null,null,null,null,null,null,null,null,null,null,null,null,null,null,null,null,null,null,null,null,null,null,null,null,null,null,null,null,null,null,null,null,{"$f":"IFERROR(VLOOKUP(AM429,Cod_DIVIPOLA!A:C,2,0),\"CODIGO INCORRECTO\")","v":"CODIGO INCORRECTO"}]
[428,null,null,null,null,null,null,null,null,null,null,null,null,null,null,null,null,null,null,null,null,null,null,null,null,null,null,null,null,null,null,null,null,null,null,null,null,null,null,{"$f":"IFERROR(VLOOKUP(AM430,Cod_DIVIPOLA!A:C,2,0),\"CODIGO INCORRECTO\")","v":"CODIGO INCORRECTO"}]
[429,null,null,null,null,null,null,null,null,null,null,null,null,null,null,null,null,null,null,null,null,null,null,null,null,null,null,null,null,null,null,null,null,null,null,null,null,null,null,{"$f":"IFERROR(VLOOKUP(AM431,Cod_DIVIPOLA!A:C,2,0),\"CODIGO INCORRECTO\")","v":"CODIGO INCORRECTO"}]
[430,null,null,null,null,null,null,null,null,null,null,null,null,null,null,null,null,null,null,null,null,null,null,null,null,null,null,null,null,null,null,null,null,null,null,null,null,null,null,{"$f":"IFERROR(VLOOKUP(AM432,Cod_DIVIPOLA!A:C,2,0),\"CODIGO INCORRECTO\")","v":"CODIGO INCORRECTO"}]
[431,null,null,null,null,null,null,null,null,null,null,null,null,null,null,null,null,null,null,null,null,null,null,null,null,null,null,null,null,null,null,null,null,null,null,null,null,null,null,{"$f":"IFERROR(VLOOKUP(AM433,Cod_DIVIPOLA!A:C,2,0),\"CODIGO INCORRECTO\")","v":"CODIGO INCORRECTO"}]
[432,null,null,null,null,null,null,null,null,null,null,null,null,null,null,null,null,null,null,null,null,null,null,null,null,null,null,null,null,null,null,null,null,null,null,null,null,null,null,{"$f":"IFERROR(VLOOKUP(AM434,Cod_DIVIPOLA!A:C,2,0),\"CODIGO INCORRECTO\")","v":"CODIGO INCORRECTO"}]
[433,null,null,null,null,null,null,null,null,null,null,null,null,null,null,null,null,null,null,null,null,null,null,null,null,null,null,null,null,null,null,null,null,null,null,null,null,null,null,{"$f":"IFERROR(VLOOKUP(AM435,Cod_DIVIPOLA!A:C,2,0),\"CODIGO INCORRECTO\")","v":"CODIGO INCORRECTO"}]
[434,null,null,null,null,null,null,null,null,null,null,null,null,null,null,null,null,null,null,null,null,null,null,null,null,null,null,null,null,null,null,null,null,null,null,null,null,null,null,{"$f":"IFERROR(VLOOKUP(AM436,Cod_DIVIPOLA!A:C,2,0),\"CODIGO INCORRECTO\")","v":"CODIGO INCORRECTO"}]
[435,null,null,null,null,null,null,null,null,null,null,null,null,null,null,null,null,null,null,null,null,null,null,null,null,null,null,null,null,null,null,null,null,null,null,null,null,null,null,{"$f":"IFERROR(VLOOKUP(AM437,Cod_DIVIPOLA!A:C,2,0),\"CODIGO INCORRECTO\")","v":"CODIGO INCORRECTO"}]
[436,null,null,null,null,null,null,null,null,null,null,null,null,null,null,null,null,null,null,null,null,null,null,null,null,null,null,null,null,null,null,null,null,null,null,null,null,null,null,{"$f":"IFERROR(VLOOKUP(AM438,Cod_DIVIPOLA!A:C,2,0),\"CODIGO INCORRECTO\")","v":"CODIGO INCORRECTO"}]
[437,null,null,null,null,null,null,null,null,null,null,null,null,null,null,null,null,null,null,null,null,null,null,null,null,null,null,null,null,null,null,null,null,null,null,null,null,null,null,{"$f":"IFERROR(VLOOKUP(AM439,Cod_DIVIPOLA!A:C,2,0),\"CODIGO INCORRECTO\")","v":"CODIGO INCORRECTO"}]
[438,null,null,null,null,null,null,null,null,null,null,null,null,null,null,null,null,null,null,null,null,null,null,null,null,null,null,null,null,null,null,null,null,null,null,null,null,null,null,{"$f":"IFERROR(VLOOKUP(AM440,Cod_DIVIPOLA!A:C,2,0),\"CODIGO INCORRECTO\")","v":"CODIGO INCORRECTO"}]
[439,null,null,null,null,null,null,null,null,null,null,null,null,null,null,null,null,null,null,null,null,null,null,null,null,null,null,null,null,null,null,null,null,null,null,null,null,null,null,{"$f":"IFERROR(VLOOKUP(AM441,Cod_DIVIPOLA!A:C,2,0),\"CODIGO INCORRECTO\")","v":"CODIGO INCORRECTO"}]
[440,null,null,null,null,null,null,null,null,null,null,null,null,null,null,null,null,null,null,null,null,null,null,null,null,null,null,null,null,null,null,null,null,null,null,null,null,null,null,{"$f":"IFERROR(VLOOKUP(AM442,Cod_DIVIPOLA!A:C,2,0),\"CODIGO INCORRECTO\")","v":"CODIGO INCORRECTO"}]
[441,null,null,null,null,null,null,null,null,null,null,null,null,null,null,null,null,null,null,null,null,null,null,null,null,null,null,null,null,null,null,null,null,null,null,null,null,null,null,{"$f":"IFERROR(VLOOKUP(AM443,Cod_DIVIPOLA!A:C,2,0),\"CODIGO INCORRECTO\")","v":"CODIGO INCORRECTO"}]
[442,null,null,null,null,null,null,null,null,null,null,null,null,null,null,null,null,null,null,null,null,null,null,null,null,null,null,null,null,null,null,null,null,null,null,null,null,null,null,{"$f":"IFERROR(VLOOKUP(AM444,Cod_DIVIPOLA!A:C,2,0),\"CODIGO INCORRECTO\")","v":"CODIGO INCORRECTO"}]
[443,null,null,null,null,null,null,null,null,null,null,null,null,null,null,null,null,null,null,null,null,null,null,null,null,null,null,null,null,null,null,null,null,null,null,null,null,null,null,{"$f":"IFERROR(VLOOKUP(AM445,Cod_DIVIPOLA!A:C,2,0),\"CODIGO INCORRECTO\")","v":"CODIGO INCORRECTO"}]
[444,null,null,null,null,null,null,null,null,null,null,null,null,null,null,null,null,null,null,null,null,null,null,null,null,null,null,null,null,null,null,null,null,null,null,null,null,null,null,{"$f":"IFERROR(VLOOKUP(AM446,Cod_DIVIPOLA!A:C,2,0),\"CODIGO INCORRECTO\")","v":"CODIGO INCORRECTO"}]
[445,null,null,null,null,null,null,null,null,null,null,null,null,null,null,null,null,null,null,null,null,null,null,null,null,null,null,null,null,null,null,null,null,null,null,null,null,null,null,{"$f":"IFERROR(VLOOKUP(AM447,Cod_DIVIPOLA!A:C,2,0),\"CODIGO INCORRECTO\")","v":"CODIGO INCORRECTO"}]
[446,null,null,null,null,null,null,null,null,null,null,null,null,null,null,null,null,null,null,null,null,null,null,null,null,null,null,null,null,null,null,null,null,null,null,null,null,null,null,{"$f":"IFERROR(VLOOKUP(AM448,Cod_DIVIPOLA!A:C,2,0),\"CODIGO INCORRECTO\")","v":"CODIGO INCORRECTO"}]
[447,null,null,null,null,null,null,null,null,null,null,null,null,null,null,null,null,null,null,null,null,null,null,null,null,null,null,null,null,null,null,null,null,null,null,null,null,null,null,{"$f":"IFERROR(VLOOKUP(AM449,Cod_DIVIPOLA!A:C,2,0),\"CODIGO INCORRECTO\")","v":"CODIGO INCORRECTO"}]
[448,null,null,null,null,null,null,null,null,null,null,null,null,null,null,null,null,null,null,null,null,null,null,null,null,null,null,null,null,null,null,null,null,null,null,null,null,null,null,{"$f":"IFERROR(VLOOKUP(AM450,Cod_DIVIPOLA!A:C,2,0),\"CODIGO INCORRECTO\")","v":"CODIGO INCORRECTO"}]
[449,null,null,null,null,null,null,null,null,null,null,null,null,null,null,null,null,null,null,null,null,null,null,null,null,null,null,null,null,null,null,null,null,null,null,null,null,null,null,{"$f":"IFERROR(VLOOKUP(AM451,Cod_DIVIPOLA!A:C,2,0),\"CODIGO INCORRECTO\")","v":"CODIGO INCORRECTO"}]
[450,null,null,null,null,null,null,null,null,null,null,null,null,null,null,null,null,null,null,null,null,null,null,null,null,null,null,null,null,null,null,null,null,null,null,null,null,null,null,{"$f":"IFERROR(VLOOKUP(AM452,Cod_DIVIPOLA!A:C,2,0),\"CODIGO INCORRECTO\")","v":"CODIGO INCORRECTO"}]
[451,null,null,null,null,null,null,null,null,null,null,null,null,null,null,null,null,null,null,null,null,null,null,null,null,null,null,null,null,null,null,null,null,null,null,null,null,null,null,{"$f":"IFERROR(VLOOKUP(AM453,Cod_DIVIPOLA!A:C,2,0),\"CODIGO INCORRECTO\")","v":"CODIGO INCORRECTO"}]
[452,null,null,null,null,null,null,null,null,null,null,null,null,null,null,null,null,null,null,null,null,null,null,null,null,null,null,null,null,null,null,null,null,null,null,null,null,null,null,{"$f":"IFERROR(VLOOKUP(AM454,Cod_DIVIPOLA!A:C,2,0),\"CODIGO INCORRECTO\")","v":"CODIGO INCORRECTO"}]
[453,null,null,null,null,null,null,null,null,null,null,null,null,null,null,null,null,null,null,null,null,null,null,null,null,null,null,null,null,null,null,null,null,null,null,null,null,null,null,{"$f":"IFERROR(VLOOKUP(AM455,Cod_DIVIPOLA!A:C,2,0),\"CODIGO INCORRECTO\")","v":"CODIGO INCORRECTO"}]
[454,null,null,null,null,null,null,null,null,null,null,null,null,null,null,null,null,null,null,null,null,null,null,null,null,null,null,null,null,null,null,null,null,null,null,null,null,null,null,{"$f":"IFERROR(VLOOKUP(AM456,Cod_DIVIPOLA!A:C,2,0),\"CODIGO INCORRECTO\")","v":"CODIGO INCORRECTO"}]
[455,null,null,null,null,null,null,null,null,null,null,null,null,null,null,null,null,null,null,null,null,null,null,null,null,null,null,null,null,null,null,null,null,null,null,null,null,null,null,{"$f":"IFERROR(VLOOKUP(AM457,Cod_DIVIPOLA!A:C,2,0),\"CODIGO INCORRECTO\")","v":"CODIGO INCORRECTO"}]
[456,null,null,null,null,null,null,null,null,null,null,null,null,null,null,null,null,null,null,null,null,null,null,null,null,null,null,null,null,null,null,null,null,null,null,null,null,null,null,{"$f":"IFERROR(VLOOKUP(AM458,Cod_DIVIPOLA!A:C,2,0),\"CODIGO INCORRECTO\")","v":"CODIGO INCORRECTO"}]
[457,null,null,null,null,null,null,null,null,null,null,null,null,null,null,null,null,null,null,null,null,null,null,null,null,null,null,null,null,null,null,null,null,null,null,null,null,null,null,{"$f":"IFERROR(VLOOKUP(AM459,Cod_DIVIPOLA!A:C,2,0),\"CODIGO INCORRECTO\")","v":"CODIGO INCORRECTO"}]
[458,null,null,null,null,null,null,null,null,null,null,null,null,null,null,null,null,null,null,null,null,null,null,null,null,null,null,null,null,null,null,null,null,null,null,null,null,null,null,{"$f":"IFERROR(VLOOKUP(AM460,Cod_DIVIPOLA!A:C,2,0),\"CODIGO INCORRECTO\")","v":"CODIGO INCORRECTO"}]
[459,null,null,null,null,null,null,null,null,null,null,null,null,null,null,null,null,null,null,null,null,null,null,null,null,null,null,null,null,null,null,null,null,null,null,null,null,null,null,{"$f":"IFERROR(VLOOKUP(AM461,Cod_DIVIPOLA!A:C,2,0),\"CODIGO INCORRECTO\")","v":"CODIGO INCORRECTO"}]
[460,null,null,null,null,null,null,null,null,null,null,null,null,null,null,null,null,null,null,null,null,null,null,null,null,null,null,null,null,null,null,null,null,null,null,null,null,null,null,{"$f":"IFERROR(VLOOKUP(AM462,Cod_DIVIPOLA!A:C,2,0),\"CODIGO INCORRECTO\")","v":"CODIGO INCORRECTO"}]
[461,null,null,null,null,null,null,null,null,null,null,null,null,null,null,null,null,null,null,null,null,null,null,null,null,null,null,null,null,null,null,null,null,null,null,null,null,null,null,{"$f":"IFERROR(VLOOKUP(AM463,Cod_DIVIPOLA!A:C,2,0),\"CODIGO INCORRECTO\")","v":"CODIGO INCORRECTO"}]
[462,null,null,null,null,null,null,null,null,null,null,null,null,null,null,null,null,null,null,null,null,null,null,null,null,null,null,null,null,null,null,null,null,null,null,null,null,null,null,{"$f":"IFERROR(VLOOKUP(AM464,Cod_DIVIPOLA!A:C,2,0),\"CODIGO INCORRECTO\")","v":"CODIGO INCORRECTO"}]
[463,null,null,null,null,null,null,null,null,null,null,null,null,null,null,null,null,null,null,null,null,null,null,null,null,null,null,null,null,null,null,null,null,null,null,null,null,null,null,{"$f":"IFERROR(VLOOKUP(AM465,Cod_DIVIPOLA!A:C,2,0),\"CODIGO INCORRECTO\")","v":"CODIGO INCORRECTO"}]
[464,null,null,null,null,null,null,null,null,null,null,null,null,null,null,null,null,null,null,null,null,null,null,null,null,null,null,null,null,null,null,null,null,null,null,null,null,null,null,{"$f":"IFERROR(VLOOKUP(AM466,Cod_DIVIPOLA!A:C,2,0),\"CODIGO INCORRECTO\")","v":"CODIGO INCORRECTO"}]
[465,null,null,null,null,null,null,null,null,null,null,null,null,null,null,null,null,null,null,null,null,null,null,null,null,null,null,null,null,null,null,null,null,null,null,null,null,null,null,{"$f":"IFERROR(VLOOKUP(AM467,Cod_DIVIPOLA!A:C,2,0),\"CODIGO INCORRECTO\")","v":"CODIGO INCORRECTO"}]
[466,null,null,null,null,null,null,null,null,null,null,null,null,null,null,null,null,null,null,null,null,null,null,null,null,null,null,null,null,null,null,null,null,null,null,null,null,null,null,{"$f":"IFERROR(VLOOKUP(AM468,Cod_DIVIPOLA!A:C,2,0),\"CODIGO INCORRECTO\")","v":"CODIGO INCORRECTO"}]
[467,null,null,null,null,null,null,null,null,null,null,null,null,null,null,null,null,null,null,null,null,null,null,null,null,null,null,null,null,null,null,null,null,null,null,null,null,null,null,{"$f":"IFERROR(VLOOKUP(AM469,Cod_DIVIPOLA!A:C,2,0),\"CODIGO INCORRECTO\")","v":"CODIGO INCORRECTO"}]
[468,null,null,null,null,null,null,null,null,null,null,null,null,null,null,null,null,null,null,null,null,null,null,null,null,null,null,null,null,null,null,null,null,null,null,null,null,null,null,{"$f":"IFERROR(VLOOKUP(AM470,Cod_DIVIPOLA!A:C,2,0),\"CODIGO INCORRECTO\")","v":"CODIGO INCORRECTO"}]
[469,null,null,null,null,null,null,null,null,null,null,null,null,null,null,null,null,null,null,null,null,null,null,null,null,null,null,null,null,null,null,null,null,null,null,null,null,null,null,{"$f":"IFERROR(VLOOKUP(AM471,Cod_DIVIPOLA!A:C,2,0),\"CODIGO INCORRECTO\")","v":"CODIGO INCORRECTO"}]
[470,null,null,null,null,null,null,null,null,null,null,null,null,null,null,null,null,null,null,null,null,null,null,null,null,null,null,null,null,null,null,null,null,null,null,null,null,null,null,{"$f":"IFERROR(VLOOKUP(AM472,Cod_DIVIPOLA!A:C,2,0),\"CODIGO INCORRECTO\")","v":"CODIGO INCORRECTO"}]
[471,null,null,null,null,null,null,null,null,null,null,null,null,null,null,null,null,null,null,null,null,null,null,null,null,null,null,null,null,null,null,null,null,null,null,null,null,null,null,{"$f":"IFERROR(VLOOKUP(AM473,Cod_DIVIPOLA!A:C,2,0),\"CODIGO INCORRECTO\")","v":"CODIGO INCORRECTO"}]
[472,null,null,null,null,null,null,null,null,null,null,null,null,null,null,null,null,null,null,null,null,null,null,null,null,null,null,null,null,null,null,null,null,null,null,null,null,null,null,{"$f":"IFERROR(VLOOKUP(AM474,Cod_DIVIPOLA!A:C,2,0),\"CODIGO INCORRECTO\")","v":"CODIGO INCORRECTO"}]
[473,null,null,null,null,null,null,null,null,null,null,null,null,null,null,null,null,null,null,null,null,null,null,null,null,null,null,null,null,null,null,null,null,null,null,null,null,null,null,{"$f":"IFERROR(VLOOKUP(AM475,Cod_DIVIPOLA!A:C,2,0),\"CODIGO INCORRECTO\")","v":"CODIGO INCORRECTO"}]
[474,null,null,null,null,null,null,null,null,null,null,null,null,null,null,null,null,null,null,null,null,null,null,null,null,null,null,null,null,null,null,null,null,null,null,null,null,null,null,{"$f":"IFERROR(VLOOKUP(AM476,Cod_DIVIPOLA!A:C,2,0),\"CODIGO INCORRECTO\")","v":"CODIGO INCORRECTO"}]
[475,null,null,null,null,null,null,null,null,null,null,null,null,null,null,null,null,null,null,null,null,null,null,null,null,null,null,null,null,null,null,null,null,null,null,null,null,null,null,{"$f":"IFERROR(VLOOKUP(AM477,Cod_DIVIPOLA!A:C,2,0),\"CODIGO INCORRECTO\")","v":"CODIGO INCORRECTO"}]
[476,null,null,null,null,null,null,null,null,null,null,null,null,null,null,null,null,null,null,null,null,null,null,null,null,null,null,null,null,null,null,null,null,null,null,null,null,null,null,{"$f":"IFERROR(VLOOKUP(AM478,Cod_DIVIPOLA!A:C,2,0),\"CODIGO INCORRECTO\")","v":"CODIGO INCORRECTO"}]
[477,null,null,null,null,null,null,null,null,null,null,null,null,null,null,null,null,null,null,null,null,null,null,null,null,null,null,null,null,null,null,null,null,null,null,null,null,null,null,{"$f":"IFERROR(VLOOKUP(AM479,Cod_DIVIPOLA!A:C,2,0),\"CODIGO INCORRECTO\")","v":"CODIGO INCORRECTO"}]
[478,null,null,null,null,null,null,null,null,null,null,null,null,null,null,null,null,null,null,null,null,null,null,null,null,null,null,null,null,null,null,null,null,null,null,null,null,null,null,{"$f":"IFERROR(VLOOKUP(AM480,Cod_DIVIPOLA!A:C,2,0),\"CODIGO INCORRECTO\")","v":"CODIGO INCORRECTO"}]
[479,null,null,null,null,null,null,null,null,null,null,null,null,null,null,null,null,null,null,null,null,null,null,null,null,null,null,null,null,null,null,null,null,null,null,null,null,null,null,{"$f":"IFERROR(VLOOKUP(AM481,Cod_DIVIPOLA!A:C,2,0),\"CODIGO INCORRECTO\")","v":"CODIGO INCORRECTO"}]
[480,null,null,null,null,null,null,null,null,null,null,null,null,null,null,null,null,null,null,null,null,null,null,null,null,null,null,null,null,null,null,null,null,null,null,null,null,null,null,{"$f":"IFERROR(VLOOKUP(AM482,Cod_DIVIPOLA!A:C,2,0),\"CODIGO INCORRECTO\")","v":"CODIGO INCORRECTO"}]
[481,null,null,null,null,null,null,null,null,null,null,null,null,null,null,null,null,null,null,null,null,null,null,null,null,null,null,null,null,null,null,null,null,null,null,null,null,null,null,{"$f":"IFERROR(VLOOKUP(AM483,Cod_DIVIPOLA!A:C,2,0),\"CODIGO INCORRECTO\")","v":"CODIGO INCORRECTO"}]
[482,null,null,null,null,null,null,null,null,null,null,null,null,null,null,null,null,null,null,null,null,null,null,null,null,null,null,null,null,null,null,null,null,null,null,null,null,null,null,{"$f":"IFERROR(VLOOKUP(AM484,Cod_DIVIPOLA!A:C,2,0),\"CODIGO INCORRECTO\")","v":"CODIGO INCORRECTO"}]
[483,null,null,null,null,null,null,null,null,null,null,null,null,null,null,null,null,null,null,null,null,null,null,null,null,null,null,null,null,null,null,null,null,null,null,null,null,null,null,{"$f":"IFERROR(VLOOKUP(AM485,Cod_DIVIPOLA!A:C,2,0),\"CODIGO INCORRECTO\")","v":"CODIGO INCORRECTO"}]
[484,null,null,null,null,null,null,null,null,null,null,null,null,null,null,null,null,null,null,null,null,null,null,null,null,null,null,null,null,null,null,null,null,null,null,null,null,null,null,{"$f":"IFERROR(VLOOKUP(AM486,Cod_DIVIPOLA!A:C,2,0),\"CODIGO INCORRECTO\")","v":"CODIGO INCORRECTO"}]
[485,null,null,null,null,null,null,null,null,null,null,null,null,null,null,null,null,null,null,null,null,null,null,null,null,null,null,null,null,null,null,null,null,null,null,null,null,null,null,{"$f":"IFERROR(VLOOKUP(AM487,Cod_DIVIPOLA!A:C,2,0),\"CODIGO INCORRECTO\")","v":"CODIGO INCORRECTO"}]
[486,null,null,null,null,null,null,null,null,null,null,null,null,null,null,null,null,null,null,null,null,null,null,null,null,null,null,null,null,null,null,null,null,null,null,null,null,null,null,{"$f":"IFERROR(VLOOKUP(AM488,Cod_DIVIPOLA!A:C,2,0),\"CODIGO INCORRECTO\")","v":"CODIGO INCORRECTO"}]
[487,null,null,null,null,null,null,null,null,null,null,null,null,null,null,null,null,null,null,null,null,null,null,null,null,null,null,null,null,null,null,null,null,null,null,null,null,null,null,{"$f":"IFERROR(VLOOKUP(AM489,Cod_DIVIPOLA!A:C,2,0),\"CODIGO INCORRECTO\")","v":"CODIGO INCORRECTO"}]
[488,null,null,null,null,null,null,null,null,null,null,null,null,null,null,null,null,null,null,null,null,null,null,null,null,null,null,null,null,null,null,null,null,null,null,null,null,null,null,{"$f":"IFERROR(VLOOKUP(AM490,Cod_DIVIPOLA!A:C,2,0),\"CODIGO INCORRECTO\")","v":"CODIGO INCORRECTO"}]
[489,null,null,null,null,null,null,null,null,null,null,null,null,null,null,null,null,null,null,null,null,null,null,null,null,null,null,null,null,null,null,null,null,null,null,null,null,null,null,{"$f":"IFERROR(VLOOKUP(AM491,Cod_DIVIPOLA!A:C,2,0),\"CODIGO INCORRECTO\")","v":"CODIGO INCORRECTO"}]
[490,null,null,null,null,null,null,null,null,null,null,null,null,null,null,null,null,null,null,null,null,null,null,null,null,null,null,null,null,null,null,null,null,null,null,null,null,null,null,{"$f":"IFERROR(VLOOKUP(AM492,Cod_DIVIPOLA!A:C,2,0),\"CODIGO INCORRECTO\")","v":"CODIGO INCORRECTO"}]
[491,null,null,null,null,null,null,null,null,null,null,null,null,null,null,null,null,null,null,null,null,null,null,null,null,null,null,null,null,null,null,null,null,null,null,null,null,null,null,{"$f":"IFERROR(VLOOKUP(AM493,Cod_DIVIPOLA!A:C,2,0),\"CODIGO INCORRECTO\")","v":"CODIGO INCORRECTO"}]
[492,null,null,null,null,null,null,null,null,null,null,null,null,null,null,null,null,null,null,null,null,null,null,null,null,null,null,null,null,null,null,null,null,null,null,null,null,null,null,{"$f":"IFERROR(VLOOKUP(AM494,Cod_DIVIPOLA!A:C,2,0),\"CODIGO INCORRECTO\")","v":"CODIGO INCORRECTO"}]
[493,null,null,null,null,null,null,null,null,null,null,null,null,null,null,null,null,null,null,null,null,null,null,null,null,null,null,null,null,null,null,null,null,null,null,null,null,null,null,{"$f":"IFERROR(VLOOKUP(AM495,Cod_DIVIPOLA!A:C,2,0),\"CODIGO INCORRECTO\")","v":"CODIGO INCORRECTO"}]
[494,null,null,null,null,null,null,null,null,null,null,null,null,null,null,null,null,null,null,null,null,null,null,null,null,null,null,null,null,null,null,null,null,null,null,null,null,null,null,{"$f":"IFERROR(VLOOKUP(AM496,Cod_DIVIPOLA!A:C,2,0),\"CODIGO INCORRECTO\")","v":"CODIGO INCORRECTO"}]
[495,null,null,null,null,null,null,null,null,null,null,null,null,null,null,null,null,null,null,null,null,null,null,null,null,null,null,null,null,null,null,null,null,null,null,null,null,null,null,{"$f":"IFERROR(VLOOKUP(AM497,Cod_DIVIPOLA!A:C,2,0),\"CODIGO INCORRECTO\")","v":"CODIGO INCORRECTO"}]
[496,null,null,null,null,null,null,null,null,null,null,null,null,null,null,null,null,null,null,null,null,null,null,null,null,null,null,null,null,null,null,null,null,null,null,null,null,null,null,{"$f":"IFERROR(VLOOKUP(AM498,Cod_DIVIPOLA!A:C,2,0),\"CODIGO INCORRECTO\")","v":"CODIGO INCORRECTO"}]
[497,null,null,null,null,null,null,null,null,null,null,null,null,null,null,null,null,null,null,null,null,null,null,null,null,null,null,null,null,null,null,null,null,null,null,null,null,null,null,{"$f":"IFERROR(VLOOKUP(AM499,Cod_DIVIPOLA!A:C,2,0),\"CODIGO INCORRECTO\")","v":"CODIGO INCORRECTO"}]
[498,null,null,null,null,null,null,null,null,null,null,null,null,null,null,null,null,null,null,null,null,null,null,null,null,null,null,null,null,null,null,null,null,null,null,null,null,null,null,{"$f":"IFERROR(VLOOKUP(AM500,Cod_DIVIPOLA!A:C,2,0),\"CODIGO INCORRECTO\")","v":"CODIGO INCORRECTO"}]
[499,null,null,null,null,null,null,null,null,null,null,null,null,null,null,null,null,null,null,null,null,null,null,null,null,null,null,null,null,null,null,null,null,null,null,null,null,null,null,{"$f":"IFERROR(VLOOKUP(AM501,Cod_DIVIPOLA!A:C,2,0),\"CODIGO INCORRECTO\")","v":"CODIGO INCORRECTO"}]
[500,null,null,null,null,null,null,null,null,null,null,null,null,null,null,null,null,null,null,null,null,null,null,null,null,null,null,null,null,null,null,null,null,null,null,null,null,null,null,{"$f":"IFERROR(VLOOKUP(AM502,Cod_DIVIPOLA!A:C,2,0),\"CODIGO INCORRECTO\")","v":"CODIGO INCORRECTO"}]
[501,null,null,null,null,null,null,null,null,null,null,null,null,null,null,null,null,null,null,null,null,null,null,null,null,null,null,null,null,null,null,null,null,null,null,null,null,null,null,{"$f":"IFERROR(VLOOKUP(AM503,Cod_DIVIPOLA!A:C,2,0),\"CODIGO INCORRECTO\")","v":"CODIGO INCORRECTO"}]
[502,null,null,null,null,null,null,null,null,null,null,null,null,null,null,null,null,null,null,null,null,null,null,null,null,null,null,null,null,null,null,null,null,null,null,null,null,null,null,{"$f":"IFERROR(VLOOKUP(AM504,Cod_DIVIPOLA!A:C,2,0),\"CODIGO INCORRECTO\")","v":"CODIGO INCORRECTO"}]
[503,null,null,null,null,null,null,null,null,null,null,null,null,null,null,null,null,null,null,null,null,null,null,null,null,null,null,null,null,null,null,null,null,null,null,null,null,null,null,{"$f":"IFERROR(VLOOKUP(AM505,Cod_DIVIPOLA!A:C,2,0),\"CODIGO INCORRECTO\")","v":"CODIGO INCORRECTO"}]
[504,null,null,null,null,null,null,null,null,null,null,null,null,null,null,null,null,null,null,null,null,null,null,null,null,null,null,null,null,null,null,null,null,null,null,null,null,null,null,{"$f":"IFERROR(VLOOKUP(AM506,Cod_DIVIPOLA!A:C,2,0),\"CODIGO INCORRECTO\")","v":"CODIGO INCORRECTO"}]
[505,null,null,null,null,null,null,null,null,null,null,null,null,null,null,null,null,null,null,null,null,null,null,null,null,null,null,null,null,null,null,null,null,null,null,null,null,null,null,{"$f":"IFERROR(VLOOKUP(AM507,Cod_DIVIPOLA!A:C,2,0),\"CODIGO INCORRECTO\")","v":"CODIGO INCORRECTO"}]
[506,null,null,null,null,null,null,null,null,null,null,null,null,null,null,null,null,null,null,null,null,null,null,null,null,null,null,null,null,null,null,null,null,null,null,null,null,null,null,{"$f":"IFERROR(VLOOKUP(AM508,Cod_DIVIPOLA!A:C,2,0),\"CODIGO INCORRECTO\")","v":"CODIGO INCORRECTO"}]
[507,null,null,null,null,null,null,null,null,null,null,null,null,null,null,null,null,null,null,null,null,null,null,null,null,null,null,null,null,null,null,null,null,null,null,null,null,null,null,{"$f":"IFERROR(VLOOKUP(AM509,Cod_DIVIPOLA!A:C,2,0),\"CODIGO INCORRECTO\")","v":"CODIGO INCORRECTO"}]
[508,null,null,null,null,null,null,null,null,null,null,null,null,null,null,null,null,null,null,null,null,null,null,null,null,null,null,null,null,null,null,null,null,null,null,null,null,null,null,{"$f":"IFERROR(VLOOKUP(AM510,Cod_DIVIPOLA!A:C,2,0),\"CODIGO INCORRECTO\")","v":"CODIGO INCORRECTO"}]
[509,null,null,null,null,null,null,null,null,null,null,null,null,null,null,null,null,null,null,null,null,null,null,null,null,null,null,null,null,null,null,null,null,null,null,null,null,null,null,{"$f":"IFERROR(VLOOKUP(AM511,Cod_DIVIPOLA!A:C,2,0),\"CODIGO INCORRECTO\")","v":"CODIGO INCORRECTO"}]
[510,null,null,null,null,null,null,null,null,null,null,null,null,null,null,null,null,null,null,null,null,null,null,null,null,null,null,null,null,null,null,null,null,null,null,null,null,null,null,{"$f":"IFERROR(VLOOKUP(AM512,Cod_DIVIPOLA!A:C,2,0),\"CODIGO INCORRECTO\")","v":"CODIGO INCORRECTO"}]
[511,null,null,null,null,null,null,null,null,null,null,null,null,null,null,null,null,null,null,null,null,null,null,null,null,null,null,null,null,null,null,null,null,null,null,null,null,null,null,{"$f":"IFERROR(VLOOKUP(AM513,Cod_DIVIPOLA!A:C,2,0),\"CODIGO INCORRECTO\")","v":"CODIGO INCORRECTO"}]
[512,null,null,null,null,null,null,null,null,null,null,null,null,null,null,null,null,null,null,null,null,null,null,null,null,null,null,null,null,null,null,null,null,null,null,null,null,null,null,{"$f":"IFERROR(VLOOKUP(AM514,Cod_DIVIPOLA!A:C,2,0),\"CODIGO INCORRECTO\")","v":"CODIGO INCORRECTO"}]
[513,null,null,null,null,null,null,null,null,null,null,null,null,null,null,null,null,null,null,null,null,null,null,null,null,null,null,null,null,null,null,null,null,null,null,null,null,null,null,{"$f":"IFERROR(VLOOKUP(AM515,Cod_DIVIPOLA!A:C,2,0),\"CODIGO INCORRECTO\")","v":"CODIGO INCORRECTO"}]
[514,null,null,null,null,null,null,null,null,null,null,null,null,null,null,null,null,null,null,null,null,null,null,null,null,null,null,null,null,null,null,null,null,null,null,null,null,null,null,{"$f":"IFERROR(VLOOKUP(AM516,Cod_DIVIPOLA!A:C,2,0),\"CODIGO INCORRECTO\")","v":"CODIGO INCORRECTO"}]
[515,null,null,null,null,null,null,null,null,null,null,null,null,null,null,null,null,null,null,null,null,null,null,null,null,null,null,null,null,null,null,null,null,null,null,null,null,null,null,{"$f":"IFERROR(VLOOKUP(AM517,Cod_DIVIPOLA!A:C,2,0),\"CODIGO INCORRECTO\")","v":"CODIGO INCORRECTO"}]
[516,null,null,null,null,null,null,null,null,null,null,null,null,null,null,null,null,null,null,null,null,null,null,null,null,null,null,null,null,null,null,null,null,null,null,null,null,null,null,{"$f":"IFERROR(VLOOKUP(AM518,Cod_DIVIPOLA!A:C,2,0),\"CODIGO INCORRECTO\")","v":"CODIGO INCORRECTO"}]
[517,null,null,null,null,null,null,null,null,null,null,null,null,null,null,null,null,null,null,null,null,null,null,null,null,null,null,null,null,null,null,null,null,null,null,null,null,null,null,{"$f":"IFERROR(VLOOKUP(AM519,Cod_DIVIPOLA!A:C,2,0),\"CODIGO INCORRECTO\")","v":"CODIGO INCORRECTO"}]
[518,null,null,null,null,null,null,null,null,null,null,null,null,null,null,null,null,null,null,null,null,null,null,null,null,null,null,null,null,null,null,null,null,null,null,null,null,null,null,{"$f":"IFERROR(VLOOKUP(AM520,Cod_DIVIPOLA!A:C,2,0),\"CODIGO INCORRECTO\")","v":"CODIGO INCORRECTO"}]
[519,null,null,null,null,null,null,null,null,null,null,null,null,null,null,null,null,null,null,null,null,null,null,null,null,null,null,null,null,null,null,null,null,null,null,null,null,null,null,{"$f":"IFERROR(VLOOKUP(AM521,Cod_DIVIPOLA!A:C,2,0),\"CODIGO INCORRECTO\")","v":"CODIGO INCORRECTO"}]
[520,null,null,null,null,null,null,null,null,null,null,null,null,null,null,null,null,null,null,null,null,null,null,null,null,null,null,null,null,null,null,null,null,null,null,null,null,null,null,{"$f":"IFERROR(VLOOKUP(AM522,Cod_DIVIPOLA!A:C,2,0),\"CODIGO INCORRECTO\")","v":"CODIGO INCORRECTO"}]
[521,null,null,null,null,null,null,null,null,null,null,null,null,null,null,null,null,null,null,null,null,null,null,null,null,null,null,null,null,null,null,null,null,null,null,null,null,null,null,{"$f":"IFERROR(VLOOKUP(AM523,Cod_DIVIPOLA!A:C,2,0),\"CODIGO INCORRECTO\")","v":"CODIGO INCORRECTO"}]
[522,null,null,null,null,null,null,null,null,null,null,null,null,null,null,null,null,null,null,null,null,null,null,null,null,null,null,null,null,null,null,null,null,null,null,null,null,null,null,{"$f":"IFERROR(VLOOKUP(AM524,Cod_DIVIPOLA!A:C,2,0),\"CODIGO INCORRECTO\")","v":"CODIGO INCORRECTO"}]
[523,null,null,null,null,null,null,null,null,null,null,null,null,null,null,null,null,null,null,null,null,null,null,null,null,null,null,null,null,null,null,null,null,null,null,null,null,null,null,{"$f":"IFERROR(VLOOKUP(AM525,Cod_DIVIPOLA!A:C,2,0),\"CODIGO INCORRECTO\")","v":"CODIGO INCORRECTO"}]
[524,null,null,null,null,null,null,null,null,null,null,null,null,null,null,null,null,null,null,null,null,null,null,null,null,null,null,null,null,null,null,null,null,null,null,null,null,null,null,{"$f":"IFERROR(VLOOKUP(AM526,Cod_DIVIPOLA!A:C,2,0),\"CODIGO INCORRECTO\")","v":"CODIGO INCORRECTO"}]
[525,null,null,null,null,null,null,null,null,null,null,null,null,null,null,null,null,null,null,null,null,null,null,null,null,null,null,null,null,null,null,null,null,null,null,null,null,null,null,{"$f":"IFERROR(VLOOKUP(AM527,Cod_DIVIPOLA!A:C,2,0),\"CODIGO INCORRECTO\")","v":"CODIGO INCORRECTO"}]
[526,null,null,null,null,null,null,null,null,null,null,null,null,null,null,null,null,null,null,null,null,null,null,null,null,null,null,null,null,null,null,null,null,null,null,null,null,null,null,{"$f":"IFERROR(VLOOKUP(AM528,Cod_DIVIPOLA!A:C,2,0),\"CODIGO INCORRECTO\")","v":"CODIGO INCORRECTO"}]
[527,null,null,null,null,null,null,null,null,null,null,null,null,null,null,null,null,null,null,null,null,null,null,null,null,null,null,null,null,null,null,null,null,null,null,null,null,null,null,{"$f":"IFERROR(VLOOKUP(AM529,Cod_DIVIPOLA!A:C,2,0),\"CODIGO INCORRECTO\")","v":"CODIGO INCORRECTO"}]
[528,null,null,null,null,null,null,null,null,null,null,null,null,null,null,null,null,null,null,null,null,null,null,null,null,null,null,null,null,null,null,null,null,null,null,null,null,null,null,{"$f":"IFERROR(VLOOKUP(AM530,Cod_DIVIPOLA!A:C,2,0),\"CODIGO INCORRECTO\")","v":"CODIGO INCORRECTO"}]
[529,null,null,null,null,null,null,null,null,null,null,null,null,null,null,null,null,null,null,null,null,null,null,null,null,null,null,null,null,null,null,null,null,null,null,null,null,null,null,{"$f":"IFERROR(VLOOKUP(AM531,Cod_DIVIPOLA!A:C,2,0),\"CODIGO INCORRECTO\")","v":"CODIGO INCORRECTO"}]
[530,null,null,null,null,null,null,null,null,null,null,null,null,null,null,null,null,null,null,null,null,null,null,null,null,null,null,null,null,null,null,null,null,null,null,null,null,null,null,{"$f":"IFERROR(VLOOKUP(AM532,Cod_DIVIPOLA!A:C,2,0),\"CODIGO INCORRECTO\")","v":"CODIGO INCORRECTO"}]
[531,null,null,null,null,null,null,null,null,null,null,null,null,null,null,null,null,null,null,null,null,null,null,null,null,null,null,null,null,null,null,null,null,null,null,null,null,null,null,{"$f":"IFERROR(VLOOKUP(AM533,Cod_DIVIPOLA!A:C,2,0),\"CODIGO INCORRECTO\")","v":"CODIGO INCORRECTO"}]
[532,null,null,null,null,null,null,null,null,null,null,null,null,null,null,null,null,null,null,null,null,null,null,null,null,null,null,null,null,null,null,null,null,null,null,null,null,null,null,{"$f":"IFERROR(VLOOKUP(AM534,Cod_DIVIPOLA!A:C,2,0),\"CODIGO INCORRECTO\")","v":"CODIGO INCORRECTO"}]
[533,null,null,null,null,null,null,null,null,null,null,null,null,null,null,null,null,null,null,null,null,null,null,null,null,null,null,null,null,null,null,null,null,null,null,null,null,null,null,{"$f":"IFERROR(VLOOKUP(AM535,Cod_DIVIPOLA!A:C,2,0),\"CODIGO INCORRECTO\")","v":"CODIGO INCORRECTO"}]
[534,null,null,null,null,null,null,null,null,null,null,null,null,null,null,null,null,null,null,null,null,null,null,null,null,null,null,null,null,null,null,null,null,null,null,null,null,null,null,{"$f":"IFERROR(VLOOKUP(AM536,Cod_DIVIPOLA!A:C,2,0),\"CODIGO INCORRECTO\")","v":"CODIGO INCORRECTO"}]
[535,null,null,null,null,null,null,null,null,null,null,null,null,null,null,null,null,null,null,null,null,null,null,null,null,null,null,null,null,null,null,null,null,null,null,null,null,null,null,{"$f":"IFERROR(VLOOKUP(AM537,Cod_DIVIPOLA!A:C,2,0),\"CODIGO INCORRECTO\")","v":"CODIGO INCORRECTO"}]
[536,null,null,null,null,null,null,null,null,null,null,null,null,null,null,null,null,null,null,null,null,null,null,null,null,null,null,null,null,null,null,null,null,null,null,null,null,null,null,{"$f":"IFERROR(VLOOKUP(AM538,Cod_DIVIPOLA!A:C,2,0),\"CODIGO INCORRECTO\")","v":"CODIGO INCORRECTO"}]
[537,null,null,null,null,null,null,null,null,null,null,null,null,null,null,null,null,null,null,null,null,null,null,null,null,null,null,null,null,null,null,null,null,null,null,null,null,null,null,{"$f":"IFERROR(VLOOKUP(AM539,Cod_DIVIPOLA!A:C,2,0),\"CODIGO INCORRECTO\")","v":"CODIGO INCORRECTO"}]
[538,null,null,null,null,null,null,null,null,null,null,null,null,null,null,null,null,null,null,null,null,null,null,null,null,null,null,null,null,null,null,null,null,null,null,null,null,null,null,{"$f":"IFERROR(VLOOKUP(AM540,Cod_DIVIPOLA!A:C,2,0),\"CODIGO INCORRECTO\")","v":"CODIGO INCORRECTO"}]
[539,null,null,null,null,null,null,null,null,null,null,null,null,null,null,null,null,null,null,null,null,null,null,null,null,null,null,null,null,null,null,null,null,null,null,null,null,null,null,{"$f":"IFERROR(VLOOKUP(AM541,Cod_DIVIPOLA!A:C,2,0),\"CODIGO INCORRECTO\")","v":"CODIGO INCORRECTO"}]
[540,null,null,null,null,null,null,null,null,null,null,null,null,null,null,null,null,null,null,null,null,null,null,null,null,null,null,null,null,null,null,null,null,null,null,null,null,null,null,{"$f":"IFERROR(VLOOKUP(AM542,Cod_DIVIPOLA!A:C,2,0),\"CODIGO INCORRECTO\")","v":"CODIGO INCORRECTO"}]
[541,null,null,null,null,null,null,null,null,null,null,null,null,null,null,null,null,null,null,null,null,null,null,null,null,null,null,null,null,null,null,null,null,null,null,null,null,null,null,{"$f":"IFERROR(VLOOKUP(AM543,Cod_DIVIPOLA!A:C,2,0),\"CODIGO INCORRECTO\")","v":"CODIGO INCORRECTO"}]
[542,null,null,null,null,null,null,null,null,null,null,null,null,null,null,null,null,null,null,null,null,null,null,null,null,null,null,null,null,null,null,null,null,null,null,null,null,null,null,{"$f":"IFERROR(VLOOKUP(AM544,Cod_DIVIPOLA!A:C,2,0),\"CODIGO INCORRECTO\")","v":"CODIGO INCORRECTO"}]
[543,null,null,null,null,null,null,null,null,null,null,null,null,null,null,null,null,null,null,null,null,null,null,null,null,null,null,null,null,null,null,null,null,null,null,null,null,null,null,{"$f":"IFERROR(VLOOKUP(AM545,Cod_DIVIPOLA!A:C,2,0),\"CODIGO INCORRECTO\")","v":"CODIGO INCORRECTO"}]
[544,null,null,null,null,null,null,null,null,null,null,null,null,null,null,null,null,null,null,null,null,null,null,null,null,null,null,null,null,null,null,null,null,null,null,null,null,null,null,{"$f":"IFERROR(VLOOKUP(AM546,Cod_DIVIPOLA!A:C,2,0),\"CODIGO INCORRECTO\")","v":"CODIGO INCORRECTO"}]
[545,null,null,null,null,null,null,null,null,null,null,null,null,null,null,null,null,null,null,null,null,null,null,null,null,null,null,null,null,null,null,null,null,null,null,null,null,null,null,{"$f":"IFERROR(VLOOKUP(AM547,Cod_DIVIPOLA!A:C,2,0),\"CODIGO INCORRECTO\")","v":"CODIGO INCORRECTO"}]
[546,null,null,null,null,null,null,null,null,null,null,null,null,null,null,null,null,null,null,null,null,null,null,null,null,null,null,null,null,null,null,null,null,null,null,null,null,null,null,{"$f":"IFERROR(VLOOKUP(AM548,Cod_DIVIPOLA!A:C,2,0),\"CODIGO INCORRECTO\")","v":"CODIGO INCORRECTO"}]
[547,null,null,null,null,null,null,null,null,null,null,null,null,null,null,null,null,null,null,null,null,null,null,null,null,null,null,null,null,null,null,null,null,null,null,null,null,null,null,{"$f":"IFERROR(VLOOKUP(AM549,Cod_DIVIPOLA!A:C,2,0),\"CODIGO INCORRECTO\")","v":"CODIGO INCORRECTO"}]
[548,null,null,null,null,null,null,null,null,null,null,null,null,null,null,null,null,null,null,null,null,null,null,null,null,null,null,null,null,null,null,null,null,null,null,null,null,null,null,{"$f":"IFERROR(VLOOKUP(AM550,Cod_DIVIPOLA!A:C,2,0),\"CODIGO INCORRECTO\")","v":"CODIGO INCORRECTO"}]
[549,null,null,null,null,null,null,null,null,null,null,null,null,null,null,null,null,null,null,null,null,null,null,null,null,null,null,null,null,null,null,null,null,null,null,null,null,null,null,{"$f":"IFERROR(VLOOKUP(AM551,Cod_DIVIPOLA!A:C,2,0),\"CODIGO INCORRECTO\")","v":"CODIGO INCORRECTO"}]
[550,null,null,null,null,null,null,null,null,null,null,null,null,null,null,null,null,null,null,null,null,null,null,null,null,null,null,null,null,null,null,null,null,null,null,null,null,null,null,{"$f":"IFERROR(VLOOKUP(AM552,Cod_DIVIPOLA!A:C,2,0),\"CODIGO INCORRECTO\")","v":"CODIGO INCORRECTO"}]
[551,null,null,null,null,null,null,null,null,null,null,null,null,null,null,null,null,null,null,null,null,null,null,null,null,null,null,null,null,null,null,null,null,null,null,null,null,null,null,{"$f":"IFERROR(VLOOKUP(AM553,Cod_DIVIPOLA!A:C,2,0),\"CODIGO INCORRECTO\")","v":"CODIGO INCORRECTO"}]
[552,null,null,null,null,null,null,null,null,null,null,null,null,null,null,null,null,null,null,null,null,null,null,null,null,null,null,null,null,null,null,null,null,null,null,null,null,null,null,{"$f":"IFERROR(VLOOKUP(AM554,Cod_DIVIPOLA!A:C,2,0),\"CODIGO INCORRECTO\")","v":"CODIGO INCORRECTO"}]
[553,null,null,null,null,null,null,null,null,null,null,null,null,null,null,null,null,null,null,null,null,null,null,null,null,null,null,null,null,null,null,null,null,null,null,null,null,null,null,{"$f":"IFERROR(VLOOKUP(AM555,Cod_DIVIPOLA!A:C,2,0),\"CODIGO INCORRECTO\")","v":"CODIGO INCORRECTO"}]
[554,null,null,null,null,null,null,null,null,null,null,null,null,null,null,null,null,null,null,null,null,null,null,null,null,null,null,null,null,null,null,null,null,null,null,null,null,null,null,{"$f":"IFERROR(VLOOKUP(AM556,Cod_DIVIPOLA!A:C,2,0),\"CODIGO INCORRECTO\")","v":"CODIGO INCORRECTO"}]
[555,null,null,null,null,null,null,null,null,null,null,null,null,null,null,null,null,null,null,null,null,null,null,null,null,null,null,null,null,null,null,null,null,null,null,null,null,null,null,{"$f":"IFERROR(VLOOKUP(AM557,Cod_DIVIPOLA!A:C,2,0),\"CODIGO INCORRECTO\")","v":"CODIGO INCORRECTO"}]
[556,null,null,null,null,null,null,null,null,null,null,null,null,null,null,null,null,null,null,null,null,null,null,null,null,null,null,null,null,null,null,null,null,null,null,null,null,null,null,{"$f":"IFERROR(VLOOKUP(AM558,Cod_DIVIPOLA!A:C,2,0),\"CODIGO INCORRECTO\")","v":"CODIGO INCORRECTO"}]
[557,null,null,null,null,null,null,null,null,null,null,null,null,null,null,null,null,null,null,null,null,null,null,null,null,null,null,null,null,null,null,null,null,null,null,null,null,null,null,{"$f":"IFERROR(VLOOKUP(AM559,Cod_DIVIPOLA!A:C,2,0),\"CODIGO INCORRECTO\")","v":"CODIGO INCORRECTO"}]
[558,null,null,null,null,null,null,null,null,null,null,null,null,null,null,null,null,null,null,null,null,null,null,null,null,null,null,null,null,null,null,null,null,null,null,null,null,null,null,{"$f":"IFERROR(VLOOKUP(AM560,Cod_DIVIPOLA!A:C,2,0),\"CODIGO INCORRECTO\")","v":"CODIGO INCORRECTO"}]
[559,null,null,null,null,null,null,null,null,null,null,null,null,null,null,null,null,null,null,null,null,null,null,null,null,null,null,null,null,null,null,null,null,null,null,null,null,null,null,{"$f":"IFERROR(VLOOKUP(AM561,Cod_DIVIPOLA!A:C,2,0),\"CODIGO INCORRECTO\")","v":"CODIGO INCORRECTO"}]
[560,null,null,null,null,null,null,null,null,null,null,null,null,null,null,null,null,null,null,null,null,null,null,null,null,null,null,null,null,null,null,null,null,null,null,null,null,null,null,{"$f":"IFERROR(VLOOKUP(AM562,Cod_DIVIPOLA!A:C,2,0),\"CODIGO INCORRECTO\")","v":"CODIGO INCORRECTO"}]
[561,null,null,null,null,null,null,null,null,null,null,null,null,null,null,null,null,null,null,null,null,null,null,null,null,null,null,null,null,null,null,null,null,null,null,null,null,null,null,{"$f":"IFERROR(VLOOKUP(AM563,Cod_DIVIPOLA!A:C,2,0),\"CODIGO INCORRECTO\")","v":"CODIGO INCORRECTO"}]
[562,null,null,null,null,null,null,null,null,null,null,null,null,null,null,null,null,null,null,null,null,null,null,null,null,null,null,null,null,null,null,null,null,null,null,null,null,null,null,{"$f":"IFERROR(VLOOKUP(AM564,Cod_DIVIPOLA!A:C,2,0),\"CODIGO INCORRECTO\")","v":"CODIGO INCORRECTO"}]
[563,null,null,null,null,null,null,null,null,null,null,null,null,null,null,null,null,null,null,null,null,null,null,null,null,null,null,null,null,null,null,null,null,null,null,null,null,null,null,{"$f":"IFERROR(VLOOKUP(AM565,Cod_DIVIPOLA!A:C,2,0),\"CODIGO INCORRECTO\")","v":"CODIGO INCORRECTO"}]
[564,null,null,null,null,null,null,null,null,null,null,null,null,null,null,null,null,null,null,null,null,null,null,null,null,null,null,null,null,null,null,null,null,null,null,null,null,null,null,{"$f":"IFERROR(VLOOKUP(AM566,Cod_DIVIPOLA!A:C,2,0),\"CODIGO INCORRECTO\")","v":"CODIGO INCORRECTO"}]
[565,null,null,null,null,null,null,null,null,null,null,null,null,null,null,null,null,null,null,null,null,null,null,null,null,null,null,null,null,null,null,null,null,null,null,null,null,null,null,{"$f":"IFERROR(VLOOKUP(AM567,Cod_DIVIPOLA!A:C,2,0),\"CODIGO INCORRECTO\")","v":"CODIGO INCORRECTO"}]
[566,null,null,null,null,null,null,null,null,null,null,null,null,null,null,null,null,null,null,null,null,null,null,null,null,null,null,null,null,null,null,null,null,null,null,null,null,null,null,{"$f":"IFERROR(VLOOKUP(AM568,Cod_DIVIPOLA!A:C,2,0),\"CODIGO INCORRECTO\")","v":"CODIGO INCORRECTO"}]
[567,null,null,null,null,null,null,null,null,null,null,null,null,null,null,null,null,null,null,null,null,null,null,null,null,null,null,null,null,null,null,null,null,null,null,null,null,null,null,{"$f":"IFERROR(VLOOKUP(AM569,Cod_DIVIPOLA!A:C,2,0),\"CODIGO INCORRECTO\")","v":"CODIGO INCORRECTO"}]
[568,null,null,null,null,null,null,null,null,null,null,null,null,null,null,null,null,null,null,null,null,null,null,null,null,null,null,null,null,null,null,null,null,null,null,null,null,null,null,{"$f":"IFERROR(VLOOKUP(AM570,Cod_DIVIPOLA!A:C,2,0),\"CODIGO INCORRECTO\")","v":"CODIGO INCORRECTO"}]
[569,null,null,null,null,null,null,null,null,null,null,null,null,null,null,null,null,null,null,null,null,null,null,null,null,null,null,null,null,null,null,null,null,null,null,null,null,null,null,{"$f":"IFERROR(VLOOKUP(AM571,Cod_DIVIPOLA!A:C,2,0),\"CODIGO INCORRECTO\")","v":"CODIGO INCORRECTO"}]
[570,null,null,null,null,null,null,null,null,null,null,null,null,null,null,null,null,null,null,null,null,null,null,null,null,null,null,null,null,null,null,null,null,null,null,null,null,null,null,{"$f":"IFERROR(VLOOKUP(AM572,Cod_DIVIPOLA!A:C,2,0),\"CODIGO INCORRECTO\")","v":"CODIGO INCORRECTO"}]
[571,null,null,null,null,null,null,null,null,null,null,null,null,null,null,null,null,null,null,null,null,null,null,null,null,null,null,null,null,null,null,null,null,null,null,null,null,null,null,{"$f":"IFERROR(VLOOKUP(AM573,Cod_DIVIPOLA!A:C,2,0),\"CODIGO INCORRECTO\")","v":"CODIGO INCORRECTO"}]
[572,null,null,null,null,null,null,null,null,null,null,null,null,null,null,null,null,null,null,null,null,null,null,null,null,null,null,null,null,null,null,null,null,null,null,null,null,null,null,{"$f":"IFERROR(VLOOKUP(AM574,Cod_DIVIPOLA!A:C,2,0),\"CODIGO INCORRECTO\")","v":"CODIGO INCORRECTO"}]
[573,null,null,null,null,null,null,null,null,null,null,null,null,null,null,null,null,null,null,null,null,null,null,null,null,null,null,null,null,null,null,null,null,null,null,null,null,null,null,{"$f":"IFERROR(VLOOKUP(AM575,Cod_DIVIPOLA!A:C,2,0),\"CODIGO INCORRECTO\")","v":"CODIGO INCORRECTO"}]
[574,null,null,null,null,null,null,null,null,null,null,null,null,null,null,null,null,null,null,null,null,null,null,null,null,null,null,null,null,null,null,null,null,null,null,null,null,null,null,{"$f":"IFERROR(VLOOKUP(AM576,Cod_DIVIPOLA!A:C,2,0),\"CODIGO INCORRECTO\")","v":"CODIGO INCORRECTO"}]
[575,null,null,null,null,null,null,null,null,null,null,null,null,null,null,null,null,null,null,null,null,null,null,null,null,null,null,null,null,null,null,null,null,null,null,null,null,null,null,{"$f":"IFERROR(VLOOKUP(AM577,Cod_DIVIPOLA!A:C,2,0),\"CODIGO INCORRECTO\")","v":"CODIGO INCORRECTO"}]
[576,null,null,null,null,null,null,null,null,null,null,null,null,null,null,null,null,null,null,null,null,null,null,null,null,null,null,null,null,null,null,null,null,null,null,null,null,null,null,{"$f":"IFERROR(VLOOKUP(AM578,Cod_DIVIPOLA!A:C,2,0),\"CODIGO INCORRECTO\")","v":"CODIGO INCORRECTO"}]
[577,null,null,null,null,null,null,null,null,null,null,null,null,null,null,null,null,null,null,null,null,null,null,null,null,null,null,null,null,null,null,null,null,null,null,null,null,null,null,{"$f":"IFERROR(VLOOKUP(AM579,Cod_DIVIPOLA!A:C,2,0),\"CODIGO INCORRECTO\")","v":"CODIGO INCORRECTO"}]
[578,null,null,null,null,null,null,null,null,null,null,null,null,null,null,null,null,null,null,null,null,null,null,null,null,null,null,null,null,null,null,null,null,null,null,null,null,null,null,{"$f":"IFERROR(VLOOKUP(AM580,Cod_DIVIPOLA!A:C,2,0),\"CODIGO INCORRECTO\")","v":"CODIGO INCORRECTO"}]
[579,null,null,null,null,null,null,null,null,null,null,null,null,null,null,null,null,null,null,null,null,null,null,null,null,null,null,null,null,null,null,null,null,null,null,null,null,null,null,{"$f":"IFERROR(VLOOKUP(AM581,Cod_DIVIPOLA!A:C,2,0),\"CODIGO INCORRECTO\")","v":"CODIGO INCORRECTO"}]
[580,null,null,null,null,null,null,null,null,null,null,null,null,null,null,null,null,null,null,null,null,null,null,null,null,null,null,null,null,null,null,null,null,null,null,null,null,null,null,{"$f":"IFERROR(VLOOKUP(AM582,Cod_DIVIPOLA!A:C,2,0),\"CODIGO INCORRECTO\")","v":"CODIGO INCORRECTO"}]
[581,null,null,null,null,null,null,null,null,null,null,null,null,null,null,null,null,null,null,null,null,null,null,null,null,null,null,null,null,null,null,null,null,null,null,null,null,null,null,{"$f":"IFERROR(VLOOKUP(AM583,Cod_DIVIPOLA!A:C,2,0),\"CODIGO INCORRECTO\")","v":"CODIGO INCORRECTO"}]
[582,null,null,null,null,null,null,null,null,null,null,null,null,null,null,null,null,null,null,null,null,null,null,null,null,null,null,null,null,null,null,null,null,null,null,null,null,null,null,{"$f":"IFERROR(VLOOKUP(AM584,Cod_DIVIPOLA!A:C,2,0),\"CODIGO INCORRECTO\")","v":"CODIGO INCORRECTO"}]
[583,null,null,null,null,null,null,null,null,null,null,null,null,null,null,null,null,null,null,null,null,null,null,null,null,null,null,null,null,null,null,null,null,null,null,null,null,null,null,{"$f":"IFERROR(VLOOKUP(AM585,Cod_DIVIPOLA!A:C,2,0),\"CODIGO INCORRECTO\")","v":"CODIGO INCORRECTO"}]
[584,null,null,null,null,null,null,null,null,null,null,null,null,null,null,null,null,null,null,null,null,null,null,null,null,null,null,null,null,null,null,null,null,null,null,null,null,null,null,{"$f":"IFERROR(VLOOKUP(AM586,Cod_DIVIPOLA!A:C,2,0),\"CODIGO INCORRECTO\")","v":"CODIGO INCORRECTO"}]
[585,null,null,null,null,null,null,null,null,null,null,null,null,null,null,null,null,null,null,null,null,null,null,null,null,null,null,null,null,null,null,null,null,null,null,null,null,null,null,{"$f":"IFERROR(VLOOKUP(AM587,Cod_DIVIPOLA!A:C,2,0),\"CODIGO INCORRECTO\")","v":"CODIGO INCORRECTO"}]
[586,null,null,null,null,null,null,null,null,null,null,null,null,null,null,null,null,null,null,null,null,null,null,null,null,null,null,null,null,null,null,null,null,null,null,null,null,null,null,{"$f":"IFERROR(VLOOKUP(AM588,Cod_DIVIPOLA!A:C,2,0),\"CODIGO INCORRECTO\")","v":"CODIGO INCORRECTO"}]
[587,null,null,null,null,null,null,null,null,null,null,null,null,null,null,null,null,null,null,null,null,null,null,null,null,null,null,null,null,null,null,null,null,null,null,null,null,null,null,{"$f":"IFERROR(VLOOKUP(AM589,Cod_DIVIPOLA!A:C,2,0),\"CODIGO INCORRECTO\")","v":"CODIGO INCORRECTO"}]
[588,null,null,null,null,null,null,null,null,null,null,null,null,null,null,null,null,null,null,null,null,null,null,null,null,null,null,null,null,null,null,null,null,null,null,null,null,null,null,{"$f":"IFERROR(VLOOKUP(AM590,Cod_DIVIPOLA!A:C,2,0),\"CODIGO INCORRECTO\")","v":"CODIGO INCORRECTO"}]
[589,null,null,null,null,null,null,null,null,null,null,null,null,null,null,null,null,null,null,null,null,null,null,null,null,null,null,null,null,null,null,null,null,null,null,null,null,null,null,{"$f":"IFERROR(VLOOKUP(AM591,Cod_DIVIPOLA!A:C,2,0),\"CODIGO INCORRECTO\")","v":"CODIGO INCORRECTO"}]
[590,null,null,null,null,null,null,null,null,null,null,null,null,null,null,null,null,null,null,null,null,null,null,null,null,null,null,null,null,null,null,null,null,null,null,null,null,null,null,{"$f":"IFERROR(VLOOKUP(AM592,Cod_DIVIPOLA!A:C,2,0),\"CODIGO INCORRECTO\")","v":"CODIGO INCORRECTO"}]
[591,null,null,null,null,null,null,null,null,null,null,null,null,null,null,null,null,null,null,null,null,null,null,null,null,null,null,null,null,null,null,null,null,null,null,null,null,null,null,{"$f":"IFERROR(VLOOKUP(AM593,Cod_DIVIPOLA!A:C,2,0),\"CODIGO INCORRECTO\")","v":"CODIGO INCORRECTO"}]
[592,null,null,null,null,null,null,null,null,null,null,null,null,null,null,null,null,null,null,null,null,null,null,null,null,null,null,null,null,null,null,null,null,null,null,null,null,null,null,{"$f":"IFERROR(VLOOKUP(AM594,Cod_DIVIPOLA!A:C,2,0),\"CODIGO INCORRECTO\")","v":"CODIGO INCORRECTO"}]
[593,null,null,null,null,null,null,null,null,null,null,null,null,null,null,null,null,null,null,null,null,null,null,null,null,null,null,null,null,null,null,null,null,null,null,null,null,null,null,{"$f":"IFERROR(VLOOKUP(AM595,Cod_DIVIPOLA!A:C,2,0),\"CODIGO INCORRECTO\")","v":"CODIGO INCORRECTO"}]
[594,null,null,null,null,null,null,null,null,null,null,null,null,null,null,null,null,null,null,null,null,null,null,null,null,null,null,null,null,null,null,null,null,null,null,null,null,null,null,{"$f":"IFERROR(VLOOKUP(AM596,Cod_DIVIPOLA!A:C,2,0),\"CODIGO INCORRECTO\")","v":"CODIGO INCORRECTO"}]
[595,null,null,null,null,null,null,null,null,null,null,null,null,null,null,null,null,null,null,null,null,null,null,null,null,null,null,null,null,null,null,null,null,null,null,null,null,null,null,{"$f":"IFERROR(VLOOKUP(AM597,Cod_DIVIPOLA!A:C,2,0),\"CODIGO INCORRECTO\")","v":"CODIGO INCORRECTO"}]
[596,null,null,null,null,null,null,null,null,null,null,null,null,null,null,null,null,null,null,null,null,null,null,null,null,null,null,null,null,null,null,null,null,null,null,null,null,null,null,{"$f":"IFERROR(VLOOKUP(AM598,Cod_DIVIPOLA!A:C,2,0),\"CODIGO INCORRECTO\")","v":"CODIGO INCORRECTO"}]
[597,null,null,null,null,null,null,null,null,null,null,null,null,null,null,null,null,null,null,null,null,null,null,null,null,null,null,null,null,null,null,null,null,null,null,null,null,null,null,{"$f":"IFERROR(VLOOKUP(AM599,Cod_DIVIPOLA!A:C,2,0),\"CODIGO INCORRECTO\")","v":"CODIGO INCORRECTO"}]
[598,null,null,null,null,null,null,null,null,null,null,null,null,null,null,null,null,null,null,null,null,null,null,null,null,null,null,null,null,null,null,null,null,null,null,null,null,null,null,{"$f":"IFERROR(VLOOKUP(AM600,Cod_DIVIPOLA!A:C,2,0),\"CODIGO INCORRECTO\")","v":"CODIGO INCORRECTO"}]
[599,null,null,null,null,null,null,null,null,null,null,null,null,null,null,null,null,null,null,null,null,null,null,null,null,null,null,null,null,null,null,null,null,null,null,null,null,null,null,{"$f":"IFERROR(VLOOKUP(AM601,Cod_DIVIPOLA!A:C,2,0),\"CODIGO INCORRECTO\")","v":"CODIGO INCORRECTO"}]
[600,null,null,null,null,null,null,null,null,null,null,null,null,null,null,null,null,null,null,null,null,null,null,null,null,null,null,null,null,null,null,null,null,null,null,null,null,null,null,{"$f":"IFERROR(VLOOKUP(AM602,Cod_DIVIPOLA!A:C,2,0),\"CODIGO INCORRECTO\")","v":"CODIGO INCORRECTO"}]
[601,null,null,null,null,null,null,null,null,null,null,null,null,null,null,null,null,null,null,null,null,null,null,null,null,null,null,null,null,null,null,null,null,null,null,null,null,null,null,{"$f":"IFERROR(VLOOKUP(AM603,Cod_DIVIPOLA!A:C,2,0),\"CODIGO INCORRECTO\")","v":"CODIGO INCORRECTO"}]
[602,null,null,null,null,null,null,null,null,null,null,null,null,null,null,null,null,null,null,null,null,null,null,null,null,null,null,null,null,null,null,null,null,null,null,null,null,null,null,{"$f":"IFERROR(VLOOKUP(AM604,Cod_DIVIPOLA!A:C,2,0),\"CODIGO INCORRECTO\")","v":"CODIGO INCORRECTO"}]
[603,null,null,null,null,null,null,null,null,null,null,null,null,null,null,null,null,null,null,null,null,null,null,null,null,null,null,null,null,null,null,null,null,null,null,null,null,null,null,{"$f":"IFERROR(VLOOKUP(AM605,Cod_DIVIPOLA!A:C,2,0),\"CODIGO INCORRECTO\")","v":"CODIGO INCORRECTO"}]
[604,null,null,null,null,null,null,null,null,null,null,null,null,null,null,null,null,null,null,null,null,null,null,null,null,null,null,null,null,null,null,null,null,null,null,null,null,null,null,{"$f":"IFERROR(VLOOKUP(AM606,Cod_DIVIPOLA!A:C,2,0),\"CODIGO INCORRECTO\")","v":"CODIGO INCORRECTO"}]
[605,null,null,null,null,null,null,null,null,null,null,null,null,null,null,null,null,null,null,null,null,null,null,null,null,null,null,null,null,null,null,null,null,null,null,null,null,null,null,{"$f":"IFERROR(VLOOKUP(AM607,Cod_DIVIPOLA!A:C,2,0),\"CODIGO INCORRECTO\")","v":"CODIGO INCORRECTO"}]
[606,null,null,null,null,null,null,null,null,null,null,null,null,null,null,null,null,null,null,null,null,null,null,null,null,null,null,null,null,null,null,null,null,null,null,null,null,null,null,{"$f":"IFERROR(VLOOKUP(AM608,Cod_DIVIPOLA!A:C,2,0),\"CODIGO INCORRECTO\")","v":"CODIGO INCORRECTO"}]
[607,null,null,null,null,null,null,null,null,null,null,null,null,null,null,null,null,null,null,null,null,null,null,null,null,null,null,null,null,null,null,null,null,null,null,null,null,null,null,{"$f":"IFERROR(VLOOKUP(AM609,Cod_DIVIPOLA!A:C,2,0),\"CODIGO INCORRECTO\")","v":"CODIGO INCORRECTO"}]
[608,null,null,null,null,null,null,null,null,null,null,null,null,null,null,null,null,null,null,null,null,null,null,null,null,null,null,null,null,null,null,null,null,null,null,null,null,null,null,{"$f":"IFERROR(VLOOKUP(AM610,Cod_DIVIPOLA!A:C,2,0),\"CODIGO INCORRECTO\")","v":"CODIGO INCORRECTO"}]
[609,null,null,null,null,null,null,null,null,null,null,null,null,null,null,null,null,null,null,null,null,null,null,null,null,null,null,null,null,null,null,null,null,null,null,null,null,null,null,{"$f":"IFERROR(VLOOKUP(AM611,Cod_DIVIPOLA!A:C,2,0),\"CODIGO INCORRECTO\")","v":"CODIGO INCORRECTO"}]
[610,null,null,null,null,null,null,null,null,null,null,null,null,null,null,null,null,null,null,null,null,null,null,null,null,null,null,null,null,null,null,null,null,null,null,null,null,null,null,{"$f":"IFERROR(VLOOKUP(AM612,Cod_DIVIPOLA!A:C,2,0),\"CODIGO INCORRECTO\")","v":"CODIGO INCORRECTO"}]
[611,null,null,null,null,null,null,null,null,null,null,null,null,null,null,null,null,null,null,null,null,null,null,null,null,null,null,null,null,null,null,null,null,null,null,null,null,null,null,{"$f":"IFERROR(VLOOKUP(AM613,Cod_DIVIPOLA!A:C,2,0),\"CODIGO INCORRECTO\")","v":"CODIGO INCORRECTO"}]
[612,null,null,null,null,null,null,null,null,null,null,null,null,null,null,null,null,null,null,null,null,null,null,null,null,null,null,null,null,null,null,null,null,null,null,null,null,null,null,{"$f":"IFERROR(VLOOKUP(AM614,Cod_DIVIPOLA!A:C,2,0),\"CODIGO INCORRECTO\")","v":"CODIGO INCORRECTO"}]
[613,null,null,null,null,null,null,null,null,null,null,null,null,null,null,null,null,null,null,null,null,null,null,null,null,null,null,null,null,null,null,null,null,null,null,null,null,null,null,{"$f":"IFERROR(VLOOKUP(AM615,Cod_DIVIPOLA!A:C,2,0),\"CODIGO INCORRECTO\")","v":"CODIGO INCORRECTO"}]
[614,null,null,null,null,null,null,null,null,null,null,null,null,null,null,null,null,null,null,null,null,null,null,null,null,null,null,null,null,null,null,null,null,null,null,null,null,null,null,{"$f":"IFERROR(VLOOKUP(AM616,Cod_DIVIPOLA!A:C,2,0),\"CODIGO INCORRECTO\")","v":"CODIGO INCORRECTO"}]
[615,null,null,null,null,null,null,null,null,null,null,null,null,null,null,null,null,null,null,null,null,null,null,null,null,null,null,null,null,null,null,null,null,null,null,null,null,null,null,{"$f":"IFERROR(VLOOKUP(AM617,Cod_DIVIPOLA!A:C,2,0),\"CODIGO INCORRECTO\")","v":"CODIGO INCORRECTO"}]
[616,null,null,null,null,null,null,null,null,null,null,null,null,null,null,null,null,null,null,null,null,null,null,null,null,null,null,null,null,null,null,null,null,null,null,null,null,null,null,{"$f":"IFERROR(VLOOKUP(AM618,Cod_DIVIPOLA!A:C,2,0),\"CODIGO INCORRECTO\")","v":"CODIGO INCORRECTO"}]
[617,null,null,null,null,null,null,null,null,null,null,null,null,null,null,null,null,null,null,null,null,null,null,null,null,null,null,null,null,null,null,null,null,null,null,null,null,null,null,{"$f":"IFERROR(VLOOKUP(AM619,Cod_DIVIPOLA!A:C,2,0),\"CODIGO INCORRECTO\")","v":"CODIGO INCORRECTO"}]
[618,null,null,null,null,null,null,null,null,null,null,null,null,null,null,null,null,null,null,null,null,null,null,null,null,null,null,null,null,null,null,null,null,null,null,null,null,null,null,{"$f":"IFERROR(VLOOKUP(AM620,Cod_DIVIPOLA!A:C,2,0),\"CODIGO INCORRECTO\")","v":"CODIGO INCORRECTO"}]
[619,null,null,null,null,null,null,null,null,null,null,null,null,null,null,null,null,null,null,null,null,null,null,null,null,null,null,null,null,null,null,null,null,null,null,null,null,null,null,{"$f":"IFERROR(VLOOKUP(AM621,Cod_DIVIPOLA!A:C,2,0),\"CODIGO INCORRECTO\")","v":"CODIGO INCORRECTO"}]
[620,null,null,null,null,null,null,null,null,null,null,null,null,null,null,null,null,null,null,null,null,null,null,null,null,null,null,null,null,null,null,null,null,null,null,null,null,null,null,{"$f":"IFERROR(VLOOKUP(AM622,Cod_DIVIPOLA!A:C,2,0),\"CODIGO INCORRECTO\")","v":"CODIGO INCORRECTO"}]
[621,null,null,null,null,null,null,null,null,null,null,null,null,null,null,null,null,null,null,null,null,null,null,null,null,null,null,null,null,null,null,null,null,null,null,null,null,null,null,{"$f":"IFERROR(VLOOKUP(AM623,Cod_DIVIPOLA!A:C,2,0),\"CODIGO INCORRECTO\")","v":"CODIGO INCORRECTO"}]
[622,null,null,null,null,null,null,null,null,null,null,null,null,null,null,null,null,null,null,null,null,null,null,null,null,null,null,null,null,null,null,null,null,null,null,null,null,null,null,{"$f":"IFERROR(VLOOKUP(AM624,Cod_DIVIPOLA!A:C,2,0),\"CODIGO INCORRECTO\")","v":"CODIGO INCORRECTO"}]
[623,null,null,null,null,null,null,null,null,null,null,null,null,null,null,null,null,null,null,null,null,null,null,null,null,null,null,null,null,null,null,null,null,null,null,null,null,null,null,{"$f":"IFERROR(VLOOKUP(AM625,Cod_DIVIPOLA!A:C,2,0),\"CODIGO INCORRECTO\")","v":"CODIGO INCORRECTO"}]
[624,null,null,null,null,null,null,null,null,null,null,null,null,null,null,null,null,null,null,null,null,null,null,null,null,null,null,null,null,null,null,null,null,null,null,null,null,null,null,{"$f":"IFERROR(VLOOKUP(AM626,Cod_DIVIPOLA!A:C,2,0),\"CODIGO INCORRECTO\")","v":"CODIGO INCORRECTO"}]
[625,null,null,null,null,null,null,null,null,null,null,null,null,null,null,null,null,null,null,null,null,null,null,null,null,null,null,null,null,null,null,null,null,null,null,null,null,null,null,{"$f":"IFERROR(VLOOKUP(AM627,Cod_DIVIPOLA!A:C,2,0),\"CODIGO INCORRECTO\")","v":"CODIGO INCORRECTO"}]
[626,null,null,null,null,null,null,null,null,null,null,null,null,null,null,null,null,null,null,null,null,null,null,null,null,null,null,null,null,null,null,null,null,null,null,null,null,null,null,{"$f":"IFERROR(VLOOKUP(AM628,Cod_DIVIPOLA!A:C,2,0),\"CODIGO INCORRECTO\")","v":"CODIGO INCORRECTO"}]
[627,null,null,null,null,null,null,null,null,null,null,null,null,null,null,null,null,null,null,null,null,null,null,null,null,null,null,null,null,null,null,null,null,null,null,null,null,null,null,{"$f":"IFERROR(VLOOKUP(AM629,Cod_DIVIPOLA!A:C,2,0),\"CODIGO INCORRECTO\")","v":"CODIGO INCORRECTO"}]
[628,null,null,null,null,null,null,null,null,null,null,null,null,null,null,null,null,null,null,null,null,null,null,null,null,null,null,null,null,null,null,null,null,null,null,null,null,null,null,{"$f":"IFERROR(VLOOKUP(AM630,Cod_DIVIPOLA!A:C,2,0),\"CODIGO INCORRECTO\")","v":"CODIGO INCORRECTO"}]
[629,null,null,null,null,null,null,null,null,null,null,null,null,null,null,null,null,null,null,null,null,null,null,null,null,null,null,null,null,null,null,null,null,null,null,null,null,null,null,{"$f":"IFERROR(VLOOKUP(AM631,Cod_DIVIPOLA!A:C,2,0),\"CODIGO INCORRECTO\")","v":"CODIGO INCORRECTO"}]
[630,null,null,null,null,null,null,null,null,null,null,null,null,null,null,null,null,null,null,null,null,null,null,null,null,null,null,null,null,null,null,null,null,null,null,null,null,null,null,{"$f":"IFERROR(VLOOKUP(AM632,Cod_DIVIPOLA!A:C,2,0),\"CODIGO INCORRECTO\")","v":"CODIGO INCORRECTO"}]
[631,null,null,null,null,null,null,null,null,null,null,null,null,null,null,null,null,null,null,null,null,null,null,null,null,null,null,null,null,null,null,null,null,null,null,null,null,null,null,{"$f":"IFERROR(VLOOKUP(AM633,Cod_DIVIPOLA!A:C,2,0),\"CODIGO INCORRECTO\")","v":"CODIGO INCORRECTO"}]
[632,null,null,null,null,null,null,null,null,null,null,null,null,null,null,null,null,null,null,null,null,null,null,null,null,null,null,null,null,null,null,null,null,null,null,null,null,null,null,{"$f":"IFERROR(VLOOKUP(AM634,Cod_DIVIPOLA!A:C,2,0),\"CODIGO INCORRECTO\")","v":"CODIGO INCORRECTO"}]
[633,null,null,null,null,null,null,null,null,null,null,null,null,null,null,null,null,null,null,null,null,null,null,null,null,null,null,null,null,null,null,null,null,null,null,null,null,null,null,{"$f":"IFERROR(VLOOKUP(AM635,Cod_DIVIPOLA!A:C,2,0),\"CODIGO INCORRECTO\")","v":"CODIGO INCORRECTO"}]
[634,null,null,null,null,null,null,null,null,null,null,null,null,null,null,null,null,null,null,null,null,null,null,null,null,null,null,null,null,null,null,null,null,null,null,null,null,null,null,{"$f":"IFERROR(VLOOKUP(AM636,Cod_DIVIPOLA!A:C,2,0),\"CODIGO INCORRECTO\")","v":"CODIGO INCORRECTO"}]
[635,null,null,null,null,null,null,null,null,null,null,null,null,null,null,null,null,null,null,null,null,null,null,null,null,null,null,null,null,null,null,null,null,null,null,null,null,null,null,{"$f":"IFERROR(VLOOKUP(AM637,Cod_DIVIPOLA!A:C,2,0),\"CODIGO INCORRECTO\")","v":"CODIGO INCORRECTO"}]
[636,null,null,null,null,null,null,null,null,null,null,null,null,null,null,null,null,null,null,null,null,null,null,null,null,null,null,null,null,null,null,null,null,null,null,null,null,null,null,{"$f":"IFERROR(VLOOKUP(AM638,Cod_DIVIPOLA!A:C,2,0),\"CODIGO INCORRECTO\")","v":"CODIGO INCORRECTO"}]
[637,null,null,null,null,null,null,null,null,null,null,null,null,null,null,null,null,null,null,null,null,null,null,null,null,null,null,null,null,null,null,null,null,null,null,null,null,null,null,{"$f":"IFERROR(VLOOKUP(AM639,Cod_DIVIPOLA!A:C,2,0),\"CODIGO INCORRECTO\")","v":"CODIGO INCORRECTO"}]
[638,null,null,null,null,null,null,null,null,null,null,null,null,null,null,null,null,null,null,null,null,null,null,null,null,null,null,null,null,null,null,null,null,null,null,null,null,null,null,{"$f":"IFERROR(VLOOKUP(AM640,Cod_DIVIPOLA!A:C,2,0),\"CODIGO INCORRECTO\")","v":"CODIGO INCORRECTO"}]
[639,null,null,null,null,null,null,null,null,null,null,null,null,null,null,null,null,null,null,null,null,null,null,null,null,null,null,null,null,null,null,null,null,null,null,null,null,null,null,{"$f":"IFERROR(VLOOKUP(AM641,Cod_DIVIPOLA!A:C,2,0),\"CODIGO INCORRECTO\")","v":"CODIGO INCORRECTO"}]
[640,null,null,null,null,null,null,null,null,null,null,null,null,null,null,null,null,null,null,null,null,null,null,null,null,null,null,null,null,null,null,null,null,null,null,null,null,null,null,{"$f":"IFERROR(VLOOKUP(AM642,Cod_DIVIPOLA!A:C,2,0),\"CODIGO INCORRECTO\")","v":"CODIGO INCORRECTO"}]
[641,null,null,null,null,null,null,null,null,null,null,null,null,null,null,null,null,null,null,null,null,null,null,null,null,null,null,null,null,null,null,null,null,null,null,null,null,null,null,{"$f":"IFERROR(VLOOKUP(AM643,Cod_DIVIPOLA!A:C,2,0),\"CODIGO INCORRECTO\")","v":"CODIGO INCORRECTO"}]
[642,null,null,null,null,null,null,null,null,null,null,null,null,null,null,null,null,null,null,null,null,null,null,null,null,null,null,null,null,null,null,null,null,null,null,null,null,null,null,{"$f":"IFERROR(VLOOKUP(AM644,Cod_DIVIPOLA!A:C,2,0),\"CODIGO INCORRECTO\")","v":"CODIGO INCORRECTO"}]
[643,null,null,null,null,null,null,null,null,null,null,null,null,null,null,null,null,null,null,null,null,null,null,null,null,null,null,null,null,null,null,null,null,null,null,null,null,null,null,{"$f":"IFERROR(VLOOKUP(AM645,Cod_DIVIPOLA!A:C,2,0),\"CODIGO INCORRECTO\")","v":"CODIGO INCORRECTO"}]
[644,null,null,null,null,null,null,null,null,null,null,null,null,null,null,null,null,null,null,null,null,null,null,null,null,null,null,null,null,null,null,null,null,null,null,null,null,null,null,{"$f":"IFERROR(VLOOKUP(AM646,Cod_DIVIPOLA!A:C,2,0),\"CODIGO INCORRECTO\")","v":"CODIGO INCORRECTO"}]
[645,null,null,null,null,null,null,null,null,null,null,null,null,null,null,null,null,null,null,null,null,null,null,null,null,null,null,null,null,null,null,null,null,null,null,null,null,null,null,{"$f":"IFERROR(VLOOKUP(AM647,Cod_DIVIPOLA!A:C,2,0),\"CODIGO INCORRECTO\")","v":"CODIGO INCORRECTO"}]
[646,null,null,null,null,null,null,null,null,null,null,null,null,null,null,null,null,null,null,null,null,null,null,null,null,null,null,null,null,null,null,null,null,null,null,null,null,null,null,{"$f":"IFERROR(VLOOKUP(AM648,Cod_DIVIPOLA!A:C,2,0),\"CODIGO INCORRECTO\")","v":"CODIGO INCORRECTO"}]
[647,null,null,null,null,null,null,null,null,null,null,null,null,null,null,null,null,null,null,null,null,null,null,null,null,null,null,null,null,null,null,null,null,null,null,null,null,null,null,{"$f":"IFERROR(VLOOKUP(AM649,Cod_DIVIPOLA!A:C,2,0),\"CODIGO INCORRECTO\")","v":"CODIGO INCORRECTO"}]
[648,null,null,null,null,null,null,null,null,null,null,null,null,null,null,null,null,null,null,null,null,null,null,null,null,null,null,null,null,null,null,null,null,null,null,null,null,null,null,{"$f":"IFERROR(VLOOKUP(AM650,Cod_DIVIPOLA!A:C,2,0),\"CODIGO INCORRECTO\")","v":"CODIGO INCORRECTO"}]
[649,null,null,null,null,null,null,null,null,null,null,null,null,null,null,null,null,null,null,null,null,null,null,null,null,null,null,null,null,null,null,null,null,null,null,null,null,null,null,{"$f":"IFERROR(VLOOKUP(AM651,Cod_DIVIPOLA!A:C,2,0),\"CODIGO INCORRECTO\")","v":"CODIGO INCORRECTO"}]
[650,null,null,null,null,null,null,null,null,null,null,null,null,null,null,null,null,null,null,null,null,null,null,null,null,null,null,null,null,null,null,null,null,null,null,null,null,null,null,{"$f":"IFERROR(VLOOKUP(AM652,Cod_DIVIPOLA!A:C,2,0),\"CODIGO INCORRECTO\")","v":"CODIGO INCORRECTO"}]
[651,null,null,null,null,null,null,null,null,null,null,null,null,null,null,null,null,null,null,null,null,null,null,null,null,null,null,null,null,null,null,null,null,null,null,null,null,null,null,{"$f":"IFERROR(VLOOKUP(AM653,Cod_DIVIPOLA!A:C,2,0),\"CODIGO INCORRECTO\")","v":"CODIGO INCORRECTO"}]
[652,null,null,null,null,null,null,null,null,null,null,null,null,null,null,null,null,null,null,null,null,null,null,null,null,null,null,null,null,null,null,null,null,null,null,null,null,null,null,{"$f":"IFERROR(VLOOKUP(AM654,Cod_DIVIPOLA!A:C,2,0),\"CODIGO INCORRECTO\")","v":"CODIGO INCORRECTO"}]
[653,null,null,null,null,null,null,null,null,null,null,null,null,null,null,null,null,null,null,null,null,null,null,null,null,null,null,null,null,null,null,null,null,null,null,null,null,null,null,{"$f":"IFERROR(VLOOKUP(AM655,Cod_DIVIPOLA!A:C,2,0),\"CODIGO INCORRECTO\")","v":"CODIGO INCORRECTO"}]
[654,null,null,null,null,null,null,null,null,null,null,null,null,null,null,null,null,null,null,null,null,null,null,null,null,null,null,null,null,null,null,null,null,null,null,null,null,null,null,{"$f":"IFERROR(VLOOKUP(AM656,Cod_DIVIPOLA!A:C,2,0),\"CODIGO INCORRECTO\")","v":"CODIGO INCORRECTO"}]
[655,null,null,null,null,null,null,null,null,null,null,null,null,null,null,null,null,null,null,null,null,null,null,null,null,null,null,null,null,null,null,null,null,null,null,null,null,null,null,{"$f":"IFERROR(VLOOKUP(AM657,Cod_DIVIPOLA!A:C,2,0),\"CODIGO INCORRECTO\")","v":"CODIGO INCORRECTO"}]
[656,null,null,null,null,null,null,null,null,null,null,null,null,null,null,null,null,null,null,null,null,null,null,null,null,null,null,null,null,null,null,null,null,null,null,null,null,null,null,{"$f":"IFERROR(VLOOKUP(AM658,Cod_DIVIPOLA!A:C,2,0),\"CODIGO INCORRECTO\")","v":"CODIGO INCORRECTO"}]
[657,null,null,null,null,null,null,null,null,null,null,null,null,null,null,null,null,null,null,null,null,null,null,null,null,null,null,null,null,null,null,null,null,null,null,null,null,null,null,{"$f":"IFERROR(VLOOKUP(AM659,Cod_DIVIPOLA!A:C,2,0),\"CODIGO INCORRECTO\")","v":"CODIGO INCORRECTO"}]
[658,null,null,null,null,null,null,null,null,null,null,null,null,null,null,null,null,null,null,null,null,null,null,null,null,null,null,null,null,null,null,null,null,null,null,null,null,null,null,{"$f":"IFERROR(VLOOKUP(AM660,Cod_DIVIPOLA!A:C,2,0),\"CODIGO INCORRECTO\")","v":"CODIGO INCORRECTO"}]
[659,null,null,null,null,null,null,null,null,null,null,null,null,null,null,null,null,null,null,null,null,null,null,null,null,null,null,null,null,null,null,null,null,null,null,null,null,null,null,{"$f":"IFERROR(VLOOKUP(AM661,Cod_DIVIPOLA!A:C,2,0),\"CODIGO INCORRECTO\")","v":"CODIGO INCORRECTO"}]
[660,null,null,null,null,null,null,null,null,null,null,null,null,null,null,null,null,null,null,null,null,null,null,null,null,null,null,null,null,null,null,null,null,null,null,null,null,null,null,{"$f":"IFERROR(VLOOKUP(AM662,Cod_DIVIPOLA!A:C,2,0),\"CODIGO INCORRECTO\")","v":"CODIGO INCORRECTO"}]
[661,null,null,null,null,null,null,null,null,null,null,null,null,null,null,null,null,null,null,null,null,null,null,null,null,null,null,null,null,null,null,null,null,null,null,null,null,null,null,{"$f":"IFERROR(VLOOKUP(AM663,Cod_DIVIPOLA!A:C,2,0),\"CODIGO INCORRECTO\")","v":"CODIGO INCORRECTO"}]
[662,null,null,null,null,null,null,null,null,null,null,null,null,null,null,null,null,null,null,null,null,null,null,null,null,null,null,null,null,null,null,null,null,null,null,null,null,null,null,{"$f":"IFERROR(VLOOKUP(AM664,Cod_DIVIPOLA!A:C,2,0),\"CODIGO INCORRECTO\")","v":"CODIGO INCORRECTO"}]
[663,null,null,null,null,null,null,null,null,null,null,null,null,null,null,null,null,null,null,null,null,null,null,null,null,null,null,null,null,null,null,null,null,null,null,null,null,null,null,{"$f":"IFERROR(VLOOKUP(AM665,Cod_DIVIPOLA!A:C,2,0),\"CODIGO INCORRECTO\")","v":"CODIGO INCORRECTO"}]
[664,null,null,null,null,null,null,null,null,null,null,null,null,null,null,null,null,null,null,null,null,null,null,null,null,null,null,null,null,null,null,null,null,null,null,null,null,null,null,{"$f":"IFERROR(VLOOKUP(AM666,Cod_DIVIPOLA!A:C,2,0),\"CODIGO INCORRECTO\")","v":"CODIGO INCORRECTO"}]
[665,null,null,null,null,null,null,null,null,null,null,null,null,null,null,null,null,null,null,null,null,null,null,null,null,null,null,null,null,null,null,null,null,null,null,null,null,null,null,{"$f":"IFERROR(VLOOKUP(AM667,Cod_DIVIPOLA!A:C,2,0),\"CODIGO INCORRECTO\")","v":"CODIGO INCORRECTO"}]
[666,null,null,null,null,null,null,null,null,null,null,null,null,null,null,null,null,null,null,null,null,null,null,null,null,null,null,null,null,null,null,null,null,null,null,null,null,null,null,{"$f":"IFERROR(VLOOKUP(AM668,Cod_DIVIPOLA!A:C,2,0),\"CODIGO INCORRECTO\")","v":"CODIGO INCORRECTO"}]
[667,null,null,null,null,null,null,null,null,null,null,null,null,null,null,null,null,null,null,null,null,null,null,null,null,null,null,null,null,null,null,null,null,null,null,null,null,null,null,{"$f":"IFERROR(VLOOKUP(AM669,Cod_DIVIPOLA!A:C,2,0),\"CODIGO INCORRECTO\")","v":"CODIGO INCORRECTO"}]
[668,null,null,null,null,null,null,null,null,null,null,null,null,null,null,null,null,null,null,null,null,null,null,null,null,null,null,null,null,null,null,null,null,null,null,null,null,null,null,{"$f":"IFERROR(VLOOKUP(AM670,Cod_DIVIPOLA!A:C,2,0),\"CODIGO INCORRECTO\")","v":"CODIGO INCORRECTO"}]
[669,null,null,null,null,null,null,null,null,null,null,null,null,null,null,null,null,null,null,null,null,null,null,null,null,null,null,null,null,null,null,null,null,null,null,null,null,null,null,{"$f":"IFERROR(VLOOKUP(AM671,Cod_DIVIPOLA!A:C,2,0),\"CODIGO INCORRECTO\")","v":"CODIGO INCORRECTO"}]
[670,null,null,null,null,null,null,null,null,null,null,null,null,null,null,null,null,null,null,null,null,null,null,null,null,null,null,null,null,null,null,null,null,null,null,null,null,null,null,{"$f":"IFERROR(VLOOKUP(AM672,Cod_DIVIPOLA!A:C,2,0),\"CODIGO INCORRECTO\")","v":"CODIGO INCORRECTO"}]
[671,null,null,null,null,null,null,null,null,null,null,null,null,null,null,null,null,null,null,null,null,null,null,null,null,null,null,null,null,null,null,null,null,null,null,null,null,null,null,{"$f":"IFERROR(VLOOKUP(AM673,Cod_DIVIPOLA!A:C,2,0),\"CODIGO INCORRECTO\")","v":"CODIGO INCORRECTO"}]
[672,null,null,null,null,null,null,null,null,null,null,null,null,null,null,null,null,null,null,null,null,null,null,null,null,null,null,null,null,null,null,null,null,null,null,null,null,null,null,{"$f":"IFERROR(VLOOKUP(AM674,Cod_DIVIPOLA!A:C,2,0),\"CODIGO INCORRECTO\")","v":"CODIGO INCORRECTO"}]
[673,null,null,null,null,null,null,null,null,null,null,null,null,null,null,null,null,null,null,null,null,null,null,null,null,null,null,null,null,null,null,null,null,null,null,null,null,null,null,{"$f":"IFERROR(VLOOKUP(AM675,Cod_DIVIPOLA!A:C,2,0),\"CODIGO INCORRECTO\")","v":"CODIGO INCORRECTO"}]
[674,null,null,null,null,null,null,null,null,null,null,null,null,null,null,null,null,null,null,null,null,null,null,null,null,null,null,null,null,null,null,null,null,null,null,null,null,null,null,{"$f":"IFERROR(VLOOKUP(AM676,Cod_DIVIPOLA!A:C,2,0),\"CODIGO INCORRECTO\")","v":"CODIGO INCORRECTO"}]
[675,null,null,null,null,null,null,null,null,null,null,null,null,null,null,null,null,null,null,null,null,null,null,null,null,null,null,null,null,null,null,null,null,null,null,null,null,null,null,{"$f":"IFERROR(VLOOKUP(AM677,Cod_DIVIPOLA!A:C,2,0),\"CODIGO INCORRECTO\")","v":"CODIGO INCORRECTO"}]
[676,null,null,null,null,null,null,null,null,null,null,null,null,null,null,null,null,null,null,null,null,null,null,null,null,null,null,null,null,null,null,null,null,null,null,null,null,null,null,{"$f":"IFERROR(VLOOKUP(AM678,Cod_DIVIPOLA!A:C,2,0),\"CODIGO INCORRECTO\")","v":"CODIGO INCORRECTO"}]
[677,null,null,null,null,null,null,null,null,null,null,null,null,null,null,null,null,null,null,null,null,null,null,null,null,null,null,null,null,null,null,null,null,null,null,null,null,null,null,{"$f":"IFERROR(VLOOKUP(AM679,Cod_DIVIPOLA!A:C,2,0),\"CODIGO INCORRECTO\")","v":"CODIGO INCORRECTO"}]
[678,null,null,null,null,null,null,null,null,null,null,null,null,null,null,null,null,null,null,null,null,null,null,null,null,null,null,null,null,null,null,null,null,null,null,null,null,null,null,{"$f":"IFERROR(VLOOKUP(AM680,Cod_DIVIPOLA!A:C,2,0),\"CODIGO INCORRECTO\")","v":"CODIGO INCORRECTO"}]
[679,null,null,null,null,null,null,null,null,null,null,null,null,null,null,null,null,null,null,null,null,null,null,null,null,null,null,null,null,null,null,null,null,null,null,null,null,null,null,{"$f":"IFERROR(VLOOKUP(AM681,Cod_DIVIPOLA!A:C,2,0),\"CODIGO INCORRECTO\")","v":"CODIGO INCORRECTO"}]
[680,null,null,null,null,null,null,null,null,null,null,null,null,null,null,null,null,null,null,null,null,null,null,null,null,null,null,null,null,null,null,null,null,null,null,null,null,null,null,{"$f":"IFERROR(VLOOKUP(AM682,Cod_DIVIPOLA!A:C,2,0),\"CODIGO INCORRECTO\")","v":"CODIGO INCORRECTO"}]
[681,null,null,null,null,null,null,null,null,null,null,null,null,null,null,null,null,null,null,null,null,null,null,null,null,null,null,null,null,null,null,null,null,null,null,null,null,null,null,{"$f":"IFERROR(VLOOKUP(AM683,Cod_DIVIPOLA!A:C,2,0),\"CODIGO INCORRECTO\")","v":"CODIGO INCORRECTO"}]
[682,null,null,null,null,null,null,null,null,null,null,null,null,null,null,null,null,null,null,null,null,null,null,null,null,null,null,null,null,null,null,null,null,null,null,null,null,null,null,{"$f":"IFERROR(VLOOKUP(AM684,Cod_DIVIPOLA!A:C,2,0),\"CODIGO INCORRECTO\")","v":"CODIGO INCORRECTO"}]
[683,null,null,null,null,null,null,null,null,null,null,null,null,null,null,null,null,null,null,null,null,null,null,null,null,null,null,null,null,null,null,null,null,null,null,null,null,null,null,{"$f":"IFERROR(VLOOKUP(AM685,Cod_DIVIPOLA!A:C,2,0),\"CODIGO INCORRECTO\")","v":"CODIGO INCORRECTO"}]
[684,null,null,null,null,null,null,null,null,null,null,null,null,null,null,null,null,null,null,null,null,null,null,null,null,null,null,null,null,null,null,null,null,null,null,null,null,null,null,{"$f":"IFERROR(VLOOKUP(AM686,Cod_DIVIPOLA!A:C,2,0),\"CODIGO INCORRECTO\")","v":"CODIGO INCORRECTO"}]
[685,null,null,null,null,null,null,null,null,null,null,null,null,null,null,null,null,null,null,null,null,null,null,null,null,null,null,null,null,null,null,null,null,null,null,null,null,null,null,{"$f":"IFERROR(VLOOKUP(AM687,Cod_DIVIPOLA!A:C,2,0),\"CODIGO INCORRECTO\")","v":"CODIGO INCORRECTO"}]
[686,null,null,null,null,null,null,null,null,null,null,null,null,null,null,null,null,null,null,null,null,null,null,null,null,null,null,null,null,null,null,null,null,null,null,null,null,null,null,{"$f":"IFERROR(VLOOKUP(AM688,Cod_DIVIPOLA!A:C,2,0),\"CODIGO INCORRECTO\")","v":"CODIGO INCORRECTO"}]
[687,null,null,null,null,null,null,null,null,null,null,null,null,null,null,null,null,null,null,null,null,null,null,null,null,null,null,null,null,null,null,null,null,null,null,null,null,null,null,{"$f":"IFERROR(VLOOKUP(AM689,Cod_DIVIPOLA!A:C,2,0),\"CODIGO INCORRECTO\")","v":"CODIGO INCORRECTO"}]
[688,null,null,null,null,null,null,null,null,null,null,null,null,null,null,null,null,null,null,null,null,null,null,null,null,null,null,null,null,null,null,null,null,null,null,null,null,null,null,{"$f":"IFERROR(VLOOKUP(AM690,Cod_DIVIPOLA!A:C,2,0),\"CODIGO INCORRECTO\")","v":"CODIGO INCORRECTO"}]
[689,null,null,null,null,null,null,null,null,null,null,null,null,null,null,null,null,null,null,null,null,null,null,null,null,null,null,null,null,null,null,null,null,null,null,null,null,null,null,{"$f":"IFERROR(VLOOKUP(AM691,Cod_DIVIPOLA!A:C,2,0),\"CODIGO INCORRECTO\")","v":"CODIGO INCORRECTO"}]
[690,null,null,null,null,null,null,null,null,null,null,null,null,null,null,null,null,null,null,null,null,null,null,null,null,null,null,null,null,null,null,null,null,null,null,null,null,null,null,{"$f":"IFERROR(VLOOKUP(AM692,Cod_DIVIPOLA!A:C,2,0),\"CODIGO INCORRECTO\")","v":"CODIGO INCORRECTO"}]
[691,null,null,null,null,null,null,null,null,null,null,null,null,null,null,null,null,null,null,null,null,null,null,null,null,null,null,null,null,null,null,null,null,null,null,null,null,null,null,{"$f":"IFERROR(VLOOKUP(AM693,Cod_DIVIPOLA!A:C,2,0),\"CODIGO INCORRECTO\")","v":"CODIGO INCORRECTO"}]
[692,null,null,null,null,null,null,null,null,null,null,null,null,null,null,null,null,null,null,null,null,null,null,null,null,null,null,null,null,null,null,null,null,null,null,null,null,null,null,{"$f":"IFERROR(VLOOKUP(AM694,Cod_DIVIPOLA!A:C,2,0),\"CODIGO INCORRECTO\")","v":"CODIGO INCORRECTO"}]
[693,null,null,null,null,null,null,null,null,null,null,null,null,null,null,null,null,null,null,null,null,null,null,null,null,null,null,null,null,null,null,null,null,null,null,null,null,null,null,{"$f":"IFERROR(VLOOKUP(AM695,Cod_DIVIPOLA!A:C,2,0),\"CODIGO INCORRECTO\")","v":"CODIGO INCORRECTO"}]
[694,null,null,null,null,null,null,null,null,null,null,null,null,null,null,null,null,null,null,null,null,null,null,null,null,null,null,null,null,null,null,null,null,null,null,null,null,null,null,{"$f":"IFERROR(VLOOKUP(AM696,Cod_DIVIPOLA!A:C,2,0),\"CODIGO INCORRECTO\")","v":"CODIGO INCORRECTO"}]
[695,null,null,null,null,null,null,null,null,null,null,null,null,null,null,null,null,null,null,null,null,null,null,null,null,null,null,null,null,null,null,null,null,null,null,null,null,null,null,{"$f":"IFERROR(VLOOKUP(AM697,Cod_DIVIPOLA!A:C,2,0),\"CODIGO INCORRECTO\")","v":"CODIGO INCORRECTO"}]
[696,null,null,null,null,null,null,null,null,null,null,null,null,null,null,null,null,null,null,null,null,null,null,null,null,null,null,null,null,null,null,null,null,null,null,null,null,null,null,{"$f":"IFERROR(VLOOKUP(AM698,Cod_DIVIPOLA!A:C,2,0),\"CODIGO INCORRECTO\")","v":"CODIGO INCORRECTO"}]
[697,null,null,null,null,null,null,null,null,null,null,null,null,null,null,null,null,null,null,null,null,null,null,null,null,null,null,null,null,null,null,null,null,null,null,null,null,null,null,{"$f":"IFERROR(VLOOKUP(AM699,Cod_DIVIPOLA!A:C,2,0),\"CODIGO INCORRECTO\")","v":"CODIGO INCORRECTO"}]
[698,null,null,null,null,null,null,null,null,null,null,null,null,null,null,null,null,null,null,null,null,null,null,null,null,null,null,null,null,null,null,null,null,null,null,null,null,null,null,{"$f":"IFERROR(VLOOKUP(AM700,Cod_DIVIPOLA!A:C,2,0),\"CODIGO INCORRECTO\")","v":"CODIGO INCORRECTO"}]
[699,null,null,null,null,null,null,null,null,null,null,null,null,null,null,null,null,null,null,null,null,null,null,null,null,null,null,null,null,null,null,null,null,null,null,null,null,null,null,{"$f":"IFERROR(VLOOKUP(AM701,Cod_DIVIPOLA!A:C,2,0),\"CODIGO INCORRECTO\")","v":"CODIGO INCORRECTO"}]
[700,null,null,null,null,null,null,null,null,null,null,null,null,null,null,null,null,null,null,null,null,null,null,null,null,null,null,null,null,null,null,null,null,null,null,null,null,null,null,{"$f":"IFERROR(VLOOKUP(AM702,Cod_DIVIPOLA!A:C,2,0),\"CODIGO INCORRECTO\")","v":"CODIGO INCORRECTO"}]
[701,null,null,null,null,null,null,null,null,null,null,null,null,null,null,null,null,null,null,null,null,null,null,null,null,null,null,null,null,null,null,null,null,null,null,null,null,null,null,{"$f":"IFERROR(VLOOKUP(AM703,Cod_DIVIPOLA!A:C,2,0),\"CODIGO INCORRECTO\")","v":"CODIGO INCORRECTO"}]
[702,null,null,null,null,null,null,null,null,null,null,null,null,null,null,null,null,null,null,null,null,null,null,null,null,null,null,null,null,null,null,null,null,null,null,null,null,null,null,{"$f":"IFERROR(VLOOKUP(AM704,Cod_DIVIPOLA!A:C,2,0),\"CODIGO INCORRECTO\")","v":"CODIGO INCORRECTO"}]
[703,null,null,null,null,null,null,null,null,null,null,null,null,null,null,null,null,null,null,null,null,null,null,null,null,null,null,null,null,null,null,null,null,null,null,null,null,null,null,{"$f":"IFERROR(VLOOKUP(AM705,Cod_DIVIPOLA!A:C,2,0),\"CODIGO INCORRECTO\")","v":"CODIGO INCORRECTO"}]
[704,null,null,null,null,null,null,null,null,null,null,null,null,null,null,null,null,null,null,null,null,null,null,null,null,null,null,null,null,null,null,null,null,null,null,null,null,null,null,{"$f":"IFERROR(VLOOKUP(AM706,Cod_DIVIPOLA!A:C,2,0),\"CODIGO INCORRECTO\")","v":"CODIGO INCORRECTO"}]
[705,null,null,null,null,null,null,null,null,null,null,null,null,null,null,null,null,null,null,null,null,null,null,null,null,null,null,null,null,null,null,null,null,null,null,null,null,null,null,{"$f":"IFERROR(VLOOKUP(AM707,Cod_DIVIPOLA!A:C,2,0),\"CODIGO INCORRECTO\")","v":"CODIGO INCORRECTO"}]
[706,null,null,null,null,null,null,null,null,null,null,null,null,null,null,null,null,null,null,null,null,null,null,null,null,null,null,null,null,null,null,null,null,null,null,null,null,null,null,{"$f":"IFERROR(VLOOKUP(AM708,Cod_DIVIPOLA!A:C,2,0),\"CODIGO INCORRECTO\")","v":"CODIGO INCORRECTO"}]
[707,null,null,null,null,null,null,null,null,null,null,null,null,null,null,null,null,null,null,null,null,null,null,null,null,null,null,null,null,null,null,null,null,null,null,null,null,null,null,{"$f":"IFERROR(VLOOKUP(AM709,Cod_DIVIPOLA!A:C,2,0),\"CODIGO INCORRECTO\")","v":"CODIGO INCORRECTO"}]
[708,null,null,null,null,null,null,null,null,null,null,null,null,null,null,null,null,null,null,null,null,null,null,null,null,null,null,null,null,null,null,null,null,null,null,null,null,null,null,{"$f":"IFERROR(VLOOKUP(AM710,Cod_DIVIPOLA!A:C,2,0),\"CODIGO INCORRECTO\")","v":"CODIGO INCORRECTO"}]
[709,null,null,null,null,null,null,null,null,null,null,null,null,null,null,null,null,null,null,null,null,null,null,null,null,null,null,null,null,null,null,null,null,null,null,null,null,null,null,{"$f":"IFERROR(VLOOKUP(AM711,Cod_DIVIPOLA!A:C,2,0),\"CODIGO INCORRECTO\")","v":"CODIGO INCORRECTO"}]
[710,null,null,null,null,null,null,null,null,null,null,null,null,null,null,null,null,null,null,null,null,null,null,null,null,null,null,null,null,null,null,null,null,null,null,null,null,null,null,{"$f":"IFERROR(VLOOKUP(AM712,Cod_DIVIPOLA!A:C,2,0),\"CODIGO INCORRECTO\")","v":"CODIGO INCORRECTO"}]
[711,null,null,null,null,null,null,null,null,null,null,null,null,null,null,null,null,null,null,null,null,null,null,null,null,null,null,null,null,null,null,null,null,null,null,null,null,null,null,{"$f":"IFERROR(VLOOKUP(AM713,Cod_DIVIPOLA!A:C,2,0),\"CODIGO INCORRECTO\")","v":"CODIGO INCORRECTO"}]
[712,null,null,null,null,null,null,null,null,null,null,null,null,null,null,null,null,null,null,null,null,null,null,null,null,null,null,null,null,null,null,null,null,null,null,null,null,null,null,{"$f":"IFERROR(VLOOKUP(AM714,Cod_DIVIPOLA!A:C,2,0),\"CODIGO INCORRECTO\")","v":"CODIGO INCORRECTO"}]
[713,null,null,null,null,null,null,null,null,null,null,null,null,null,null,null,null,null,null,null,null,null,null,null,null,null,null,null,null,null,null,null,null,null,null,null,null,null,null,{"$f":"IFERROR(VLOOKUP(AM715,Cod_DIVIPOLA!A:C,2,0),\"CODIGO INCORRECTO\")","v":"CODIGO INCORRECTO"}]
[714,null,null,null,null,null,null,null,null,null,null,null,null,null,null,null,null,null,null,null,null,null,null,null,null,null,null,null,null,null,null,null,null,null,null,null,null,null,null,{"$f":"IFERROR(VLOOKUP(AM716,Cod_DIVIPOLA!A:C,2,0),\"CODIGO INCORRECTO\")","v":"CODIGO INCORRECTO"}]
[715,null,null,null,null,null,null,null,null,null,null,null,null,null,null,null,null,null,null,null,null,null,null,null,null,null,null,null,null,null,null,null,null,null,null,null,null,null,null,{"$f":"IFERROR(VLOOKUP(AM717,Cod_DIVIPOLA!A:C,2,0),\"CODIGO INCORRECTO\")","v":"CODIGO INCORRECTO"}]
[716,null,null,null,null,null,null,null,null,null,null,null,null,null,null,null,null,null,null,null,null,null,null,null,null,null,null,null,null,null,null,null,null,null,null,null,null,null,null,{"$f":"IFERROR(VLOOKUP(AM718,Cod_DIVIPOLA!A:C,2,0),\"CODIGO INCORRECTO\")","v":"CODIGO INCORRECTO"}]
[717,null,null,null,null,null,null,null,null,null,null,null,null,null,null,null,null,null,null,null,null,null,null,null,null,null,null,null,null,null,null,null,null,null,null,null,null,null,null,{"$f":"IFERROR(VLOOKUP(AM719,Cod_DIVIPOLA!A:C,2,0),\"CODIGO INCORRECTO\")","v":"CODIGO INCORRECTO"}]
[718,null,null,null,null,null,null,null,null,null,null,null,null,null,null,null,null,null,null,null,null,null,null,null,null,null,null,null,null,null,null,null,null,null,null,null,null,null,null,{"$f":"IFERROR(VLOOKUP(AM720,Cod_DIVIPOLA!A:C,2,0),\"CODIGO INCORRECTO\")","v":"CODIGO INCORRECTO"}]
[719,null,null,null,null,null,null,null,null,null,null,null,null,null,null,null,null,null,null,null,null,null,null,null,null,null,null,null,null,null,null,null,null,null,null,null,null,null,null,{"$f":"IFERROR(VLOOKUP(AM721,Cod_DIVIPOLA!A:C,2,0),\"CODIGO INCORRECTO\")","v":"CODIGO INCORRECTO"}]
[720,null,null,null,null,null,null,null,null,null,null,null,null,null,null,null,null,null,null,null,null,null,null,null,null,null,null,null,null,null,null,null,null,null,null,null,null,null,null,{"$f":"IFERROR(VLOOKUP(AM722,Cod_DIVIPOLA!A:C,2,0),\"CODIGO INCORRECTO\")","v":"CODIGO INCORRECTO"}]
[721,null,null,null,null,null,null,null,null,null,null,null,null,null,null,null,null,null,null,null,null,null,null,null,null,null,null,null,null,null,null,null,null,null,null,null,null,null,null,{"$f":"IFERROR(VLOOKUP(AM723,Cod_DIVIPOLA!A:C,2,0),\"CODIGO INCORRECTO\")","v":"CODIGO INCORRECTO"}]
[722,null,null,null,null,null,null,null,null,null,null,null,null,null,null,null,null,null,null,null,null,null,null,null,null,null,null,null,null,null,null,null,null,null,null,null,null,null,null,{"$f":"IFERROR(VLOOKUP(AM724,Cod_DIVIPOLA!A:C,2,0),\"CODIGO INCORRECTO\")","v":"CODIGO INCORRECTO"}]
[723,null,null,null,null,null,null,null,null,null,null,null,null,null,null,null,null,null,null,null,null,null,null,null,null,null,null,null,null,null,null,null,null,null,null,null,null,null,null,{"$f":"IFERROR(VLOOKUP(AM725,Cod_DIVIPOLA!A:C,2,0),\"CODIGO INCORRECTO\")","v":"CODIGO INCORRECTO"}]
[724,null,null,null,null,null,null,null,null,null,null,null,null,null,null,null,null,null,null,null,null,null,null,null,null,null,null,null,null,null,null,null,null,null,null,null,null,null,null,{"$f":"IFERROR(VLOOKUP(AM726,Cod_DIVIPOLA!A:C,2,0),\"CODIGO INCORRECTO\")","v":"CODIGO INCORRECTO"}]
[725,null,null,null,null,null,null,null,null,null,null,null,null,null,null,null,null,null,null,null,null,null,null,null,null,null,null,null,null,null,null,null,null,null,null,null,null,null,null,{"$f":"IFERROR(VLOOKUP(AM727,Cod_DIVIPOLA!A:C,2,0),\"CODIGO INCORRECTO\")","v":"CODIGO INCORRECTO"}]
[726,null,null,null,null,null,null,null,null,null,null,null,null,null,null,null,null,null,null,null,null,null,null,null,null,null,null,null,null,null,null,null,null,null,null,null,null,null,null,{"$f":"IFERROR(VLOOKUP(AM728,Cod_DIVIPOLA!A:C,2,0),\"CODIGO INCORRECTO\")","v":"CODIGO INCORRECTO"}]
[727,null,null,null,null,null,null,null,null,null,null,null,null,null,null,null,null,null,null,null,null,null,null,null,null,null,null,null,null,null,null,null,null,null,null,null,null,null,null,{"$f":"IFERROR(VLOOKUP(AM729,Cod_DIVIPOLA!A:C,2,0),\"CODIGO INCORRECTO\")","v":"CODIGO INCORRECTO"}]
[728,null,null,null,null,null,null,null,null,null,null,null,null,null,null,null,null,null,null,null,null,null,null,null,null,null,null,null,null,null,null,null,null,null,null,null,null,null,null,{"$f":"IFERROR(VLOOKUP(AM730,Cod_DIVIPOLA!A:C,2,0),\"CODIGO INCORRECTO\")","v":"CODIGO INCORRECTO"}]
[729,null,null,null,null,null,null,null,null,null,null,null,null,null,null,null,null,null,null,null,null,null,null,null,null,null,null,null,null,null,null,null,null,null,null,null,null,null,null,{"$f":"IFERROR(VLOOKUP(AM731,Cod_DIVIPOLA!A:C,2,0),\"CODIGO INCORRECTO\")","v":"CODIGO INCORRECTO"}]
[730,null,null,null,null,null,null,null,null,null,null,null,null,null,null,null,null,null,null,null,null,null,null,null,null,null,null,null,null,null,null,null,null,null,null,null,null,null,null,{"$f":"IFERROR(VLOOKUP(AM732,Cod_DIVIPOLA!A:C,2,0),\"CODIGO INCORRECTO\")","v":"CODIGO INCORRECTO"}]
[731,null,null,null,null,null,null,null,null,null,null,null,null,null,null,null,null,null,null,null,null,null,null,null,null,null,null,null,null,null,null,null,null,null,null,null,null,null,null,{"$f":"IFERROR(VLOOKUP(AM733,Cod_DIVIPOLA!A:C,2,0),\"CODIGO INCORRECTO\")","v":"CODIGO INCORRECTO"}]
[732,null,null,null,null,null,null,null,null,null,null,null,null,null,null,null,null,null,null,null,null,null,null,null,null,null,null,null,null,null,null,null,null,null,null,null,null,null,null,{"$f":"IFERROR(VLOOKUP(AM734,Cod_DIVIPOLA!A:C,2,0),\"CODIGO INCORRECTO\")","v":"CODIGO INCORRECTO"}]
[733,null,null,null,null,null,null,null,null,null,null,null,null,null,null,null,null,null,null,null,null,null,null,null,null,null,null,null,null,null,null,null,null,null,null,null,null,null,null,{"$f":"IFERROR(VLOOKUP(AM735,Cod_DIVIPOLA!A:C,2,0),\"CODIGO INCORRECTO\")","v":"CODIGO INCORRECTO"}]
[734,null,null,null,null,null,null,null,null,null,null,null,null,null,null,null,null,null,null,null,null,null,null,null,null,null,null,null,null,null,null,null,null,null,null,null,null,null,null,{"$f":"IFERROR(VLOOKUP(AM736,Cod_DIVIPOLA!A:C,2,0),\"CODIGO INCORRECTO\")","v":"CODIGO INCORRECTO"}]
[735,null,null,null,null,null,null,null,null,null,null,null,null,null,null,null,null,null,null,null,null,null,null,null,null,null,null,null,null,null,null,null,null,null,null,null,null,null,null,{"$f":"IFERROR(VLOOKUP(AM737,Cod_DIVIPOLA!A:C,2,0),\"CODIGO INCORRECTO\")","v":"CODIGO INCORRECTO"}]
[736,null,null,null,null,null,null,null,null,null,null,null,null,null,null,null,null,null,null,null,null,null,null,null,null,null,null,null,null,null,null,null,null,null,null,null,null,null,null,{"$f":"IFERROR(VLOOKUP(AM738,Cod_DIVIPOLA!A:C,2,0),\"CODIGO INCORRECTO\")","v":"CODIGO INCORRECTO"}]
[737,null,null,null,null,null,null,null,null,null,null,null,null,null,null,null,null,null,null,null,null,null,null,null,null,null,null,null,null,null,null,null,null,null,null,null,null,null,null,{"$f":"IFERROR(VLOOKUP(AM739,Cod_DIVIPOLA!A:C,2,0),\"CODIGO INCORRECTO\")","v":"CODIGO INCORRECTO"}]
[738,null,null,null,null,null,null,null,null,null,null,null,null,null,null,null,null,null,null,null,null,null,null,null,null,null,null,null,null,null,null,null,null,null,null,null,null,null,null,{"$f":"IFERROR(VLOOKUP(AM740,Cod_DIVIPOLA!A:C,2,0),\"CODIGO INCORRECTO\")","v":"CODIGO INCORRECTO"}]
[739,null,null,null,null,null,null,null,null,null,null,null,null,null,null,null,null,null,null,null,null,null,null,null,null,null,null,null,null,null,null,null,null,null,null,null,null,null,null,{"$f":"IFERROR(VLOOKUP(AM741,Cod_DIVIPOLA!A:C,2,0),\"CODIGO INCORRECTO\")","v":"CODIGO INCORRECTO"}]
[740,null,null,null,null,null,null,null,null,null,null,null,null,null,null,null,null,null,null,null,null,null,null,null,null,null,null,null,null,null,null,null,null,null,null,null,null,null,null,{"$f":"IFERROR(VLOOKUP(AM742,Cod_DIVIPOLA!A:C,2,0),\"CODIGO INCORRECTO\")","v":"CODIGO INCORRECTO"}]
[741,null,null,null,null,null,null,null,null,null,null,null,null,null,null,null,null,null,null,null,null,null,null,null,null,null,null,null,null,null,null,null,null,null,null,null,null,null,null,{"$f":"IFERROR(VLOOKUP(AM743,Cod_DIVIPOLA!A:C,2,0),\"CODIGO INCORRECTO\")","v":"CODIGO INCORRECTO"}]
[742,null,null,null,null,null,null,null,null,null,null,null,null,null,null,null,null,null,null,null,null,null,null,null,null,null,null,null,null,null,null,null,null,null,null,null,null,null,null,{"$f":"IFERROR(VLOOKUP(AM744,Cod_DIVIPOLA!A:C,2,0),\"CODIGO INCORRECTO\")","v":"CODIGO INCORRECTO"}]
[743,null,null,null,null,null,null,null,null,null,null,null,null,null,null,null,null,null,null,null,null,null,null,null,null,null,null,null,null,null,null,null,null,null,null,null,null,null,null,{"$f":"IFERROR(VLOOKUP(AM745,Cod_DIVIPOLA!A:C,2,0),\"CODIGO INCORRECTO\")","v":"CODIGO INCORRECTO"}]
[744,null,null,null,null,null,null,null,null,null,null,null,null,null,null,null,null,null,null,null,null,null,null,null,null,null,null,null,null,null,null,null,null,null,null,null,null,null,null,{"$f":"IFERROR(VLOOKUP(AM746,Cod_DIVIPOLA!A:C,2,0),\"CODIGO INCORRECTO\")","v":"CODIGO INCORRECTO"}]
[745,null,null,null,null,null,null,null,null,null,null,null,null,null,null,null,null,null,null,null,null,null,null,null,null,null,null,null,null,null,null,null,null,null,null,null,null,null,null,{"$f":"IFERROR(VLOOKUP(AM747,Cod_DIVIPOLA!A:C,2,0),\"CODIGO INCORRECTO\")","v":"CODIGO INCORRECTO"}]
[746,null,null,null,null,null,null,null,null,null,null,null,null,null,null,null,null,null,null,null,null,null,null,null,null,null,null,null,null,null,null,null,null,null,null,null,null,null,null,{"$f":"IFERROR(VLOOKUP(AM748,Cod_DIVIPOLA!A:C,2,0),\"CODIGO INCORRECTO\")","v":"CODIGO INCORRECTO"}]
[747,null,null,null,null,null,null,null,null,null,null,null,null,null,null,null,null,null,null,null,null,null,null,null,null,null,null,null,null,null,null,null,null,null,null,null,null,null,null,{"$f":"IFERROR(VLOOKUP(AM749,Cod_DIVIPOLA!A:C,2,0),\"CODIGO INCORRECTO\")","v":"CODIGO INCORRECTO"}]
[748,null,null,null,null,null,null,null,null,null,null,null,null,null,null,null,null,null,null,null,null,null,null,null,null,null,null,null,null,null,null,null,null,null,null,null,null,null,null,{"$f":"IFERROR(VLOOKUP(AM750,Cod_DIVIPOLA!A:C,2,0),\"CODIGO INCORRECTO\")","v":"CODIGO INCORRECTO"}]
[749,null,null,null,null,null,null,null,null,null,null,null,null,null,null,null,null,null,null,null,null,null,null,null,null,null,null,null,null,null,null,null,null,null,null,null,null,null,null,{"$f":"IFERROR(VLOOKUP(AM751,Cod_DIVIPOLA!A:C,2,0),\"CODIGO INCORRECTO\")","v":"CODIGO INCORRECTO"}]
[750,null,null,null,null,null,null,null,null,null,null,null,null,null,null,null,null,null,null,null,null,null,null,null,null,null,null,null,null,null,null,null,null,null,null,null,null,null,null,{"$f":"IFERROR(VLOOKUP(AM752,Cod_DIVIPOLA!A:C,2,0),\"CODIGO INCORRECTO\")","v":"CODIGO INCORRECTO"}]
[751,null,null,null,null,null,null,null,null,null,null,null,null,null,null,null,null,null,null,null,null,null,null,null,null,null,null,null,null,null,null,null,null,null,null,null,null,null,null,{"$f":"IFERROR(VLOOKUP(AM753,Cod_DIVIPOLA!A:C,2,0),\"CODIGO INCORRECTO\")","v":"CODIGO INCORRECTO"}]
[752,null,null,null,null,null,null,null,null,null,null,null,null,null,null,null,null,null,null,null,null,null,null,null,null,null,null,null,null,null,null,null,null,null,null,null,null,null,null,{"$f":"IFERROR(VLOOKUP(AM754,Cod_DIVIPOLA!A:C,2,0),\"CODIGO INCORRECTO\")","v":"CODIGO INCORRECTO"}]
[753,null,null,null,null,null,null,null,null,null,null,null,null,null,null,null,null,null,null,null,null,null,null,null,null,null,null,null,null,null,null,null,null,null,null,null,null,null,null,{"$f":"IFERROR(VLOOKUP(AM755,Cod_DIVIPOLA!A:C,2,0),\"CODIGO INCORRECTO\")","v":"CODIGO INCORRECTO"}]
[754,null,null,null,null,null,null,null,null,null,null,null,null,null,null,null,null,null,null,null,null,null,null,null,null,null,null,null,null,null,null,null,null,null,null,null,null,null,null,{"$f":"IFERROR(VLOOKUP(AM756,Cod_DIVIPOLA!A:C,2,0),\"CODIGO INCORRECTO\")","v":"CODIGO INCORRECTO"}]
[755,null,null,null,null,null,null,null,null,null,null,null,null,null,null,null,null,null,null,null,null,null,null,null,null,null,null,null,null,null,null,null,null,null,null,null,null,null,null,{"$f":"IFERROR(VLOOKUP(AM757,Cod_DIVIPOLA!A:C,2,0),\"CODIGO INCORRECTO\")","v":"CODIGO INCORRECTO"}]
[756,null,null,null,null,null,null,null,null,null,null,null,null,null,null,null,null,null,null,null,null,null,null,null,null,null,null,null,null,null,null,null,null,null,null,null,null,null,null,{"$f":"IFERROR(VLOOKUP(AM758,Cod_DIVIPOLA!A:C,2,0),\"CODIGO INCORRECTO\")","v":"CODIGO INCORRECTO"}]
[757,null,null,null,null,null,null,null,null,null,null,null,null,null,null,null,null,null,null,null,null,null,null,null,null,null,null,null,null,null,null,null,null,null,null,null,null,null,null,{"$f":"IFERROR(VLOOKUP(AM759,Cod_DIVIPOLA!A:C,2,0),\"CODIGO INCORRECTO\")","v":"CODIGO INCORRECTO"}]
[758,null,null,null,null,null,null,null,null,null,null,null,null,null,null,null,null,null,null,null,null,null,null,null,null,null,null,null,null,null,null,null,null,null,null,null,null,null,null,{"$f":"IFERROR(VLOOKUP(AM760,Cod_DIVIPOLA!A:C,2,0),\"CODIGO INCORRECTO\")","v":"CODIGO INCORRECTO"}]
[759,null,null,null,null,null,null,null,null,null,null,null,null,null,null,null,null,null,null,null,null,null,null,null,null,null,null,null,null,null,null,null,null,null,null,null,null,null,null,{"$f":"IFERROR(VLOOKUP(AM761,Cod_DIVIPOLA!A:C,2,0),\"CODIGO INCORRECTO\")","v":"CODIGO INCORRECTO"}]
[760,null,null,null,null,null,null,null,null,null,null,null,null,null,null,null,null,null,null,null,null,null,null,null,null,null,null,null,null,null,null,null,null,null,null,null,null,null,null,{"$f":"IFERROR(VLOOKUP(AM762,Cod_DIVIPOLA!A:C,2,0),\"CODIGO INCORRECTO\")","v":"CODIGO INCORRECTO"}]
[761,null,null,null,null,null,null,null,null,null,null,null,null,null,null,null,null,null,null,null,null,null,null,null,null,null,null,null,null,null,null,null,null,null,null,null,null,null,null,{"$f":"IFERROR(VLOOKUP(AM763,Cod_DIVIPOLA!A:C,2,0),\"CODIGO INCORRECTO\")","v":"CODIGO INCORRECTO"}]
[762,null,null,null,null,null,null,null,null,null,null,null,null,null,null,null,null,null,null,null,null,null,null,null,null,null,null,null,null,null,null,null,null,null,null,null,null,null,null,{"$f":"IFERROR(VLOOKUP(AM764,Cod_DIVIPOLA!A:C,2,0),\"CODIGO INCORRECTO\")","v":"CODIGO INCORRECTO"}]
[763,null,null,null,null,null,null,null,null,null,null,null,null,null,null,null,null,null,null,null,null,null,null,null,null,null,null,null,null,null,null,null,null,null,null,null,null,null,null,{"$f":"IFERROR(VLOOKUP(AM765,Cod_DIVIPOLA!A:C,2,0),\"CODIGO INCORRECTO\")","v":"CODIGO INCORRECTO"}]
[764,null,null,null,null,null,null,null,null,null,null,null,null,null,null,null,null,null,null,null,null,null,null,null,null,null,null,null,null,null,null,null,null,null,null,null,null,null,null,{"$f":"IFERROR(VLOOKUP(AM766,Cod_DIVIPOLA!A:C,2,0),\"CODIGO INCORRECTO\")","v":"CODIGO INCORRECTO"}]
[765,null,null,null,null,null,null,null,null,null,null,null,null,null,null,null,null,null,null,null,null,null,null,null,null,null,null,null,null,null,null,null,null,null,null,null,null,null,null,{"$f":"IFERROR(VLOOKUP(AM767,Cod_DIVIPOLA!A:C,2,0),\"CODIGO INCORRECTO\")","v":"CODIGO INCORRECTO"}]
[766,null,null,null,null,null,null,null,null,null,null,null,null,null,null,null,null,null,null,null,null,null,null,null,null,null,null,null,null,null,null,null,null,null,null,null,null,null,null,{"$f":"IFERROR(VLOOKUP(AM768,Cod_DIVIPOLA!A:C,2,0),\"CODIGO INCORRECTO\")","v":"CODIGO INCORRECTO"}]
[767,null,null,null,null,null,null,null,null,null,null,null,null,null,null,null,null,null,null,null,null,null,null,null,null,null,null,null,null,null,null,null,null,null,null,null,null,null,null,{"$f":"IFERROR(VLOOKUP(AM769,Cod_DIVIPOLA!A:C,2,0),\"CODIGO INCORRECTO\")","v":"CODIGO INCORRECTO"}]
[768,null,null,null,null,null,null,null,null,null,null,null,null,null,null,null,null,null,null,null,null,null,null,null,null,null,null,null,null,null,null,null,null,null,null,null,null,null,null,{"$f":"IFERROR(VLOOKUP(AM770,Cod_DIVIPOLA!A:C,2,0),\"CODIGO INCORRECTO\")","v":"CODIGO INCORRECTO"}]
[769,null,null,null,null,null,null,null,null,null,null,null,null,null,null,null,null,null,null,null,null,null,null,null,null,null,null,null,null,null,null,null,null,null,null,null,null,null,null,{"$f":"IFERROR(VLOOKUP(AM771,Cod_DIVIPOLA!A:C,2,0),\"CODIGO INCORRECTO\")","v":"CODIGO INCORRECTO"}]
[770,null,null,null,null,null,null,null,null,null,null,null,null,null,null,null,null,null,null,null,null,null,null,null,null,null,null,null,null,null,null,null,null,null,null,null,null,null,null,{"$f":"IFERROR(VLOOKUP(AM772,Cod_DIVIPOLA!A:C,2,0),\"CODIGO INCORRECTO\")","v":"CODIGO INCORRECTO"}]
[771,null,null,null,null,null,null,null,null,null,null,null,null,null,null,null,null,null,null,null,null,null,null,null,null,null,null,null,null,null,null,null,null,null,null,null,null,null,null,{"$f":"IFERROR(VLOOKUP(AM773,Cod_DIVIPOLA!A:C,2,0),\"CODIGO INCORRECTO\")","v":"CODIGO INCORRECTO"}]
[772,null,null,null,null,null,null,null,null,null,null,null,null,null,null,null,null,null,null,null,null,null,null,null,null,null,null,null,null,null,null,null,null,null,null,null,null,null,null,{"$f":"IFERROR(VLOOKUP(AM774,Cod_DIVIPOLA!A:C,2,0),\"CODIGO INCORRECTO\")","v":"CODIGO INCORRECTO"}]
[773,null,null,null,null,null,null,null,null,null,null,null,null,null,null,null,null,null,null,null,null,null,null,null,null,null,null,null,null,null,null,null,null,null,null,null,null,null,null,{"$f":"IFERROR(VLOOKUP(AM775,Cod_DIVIPOLA!A:C,2,0),\"CODIGO INCORRECTO\")","v":"CODIGO INCORRECTO"}]
[774,null,null,null,null,null,null,null,null,null,null,null,null,null,null,null,null,null,null,null,null,null,null,null,null,null,null,null,null,null,null,null,null,null,null,null,null,null,null,{"$f":"IFERROR(VLOOKUP(AM776,Cod_DIVIPOLA!A:C,2,0),\"CODIGO INCORRECTO\")","v":"CODIGO INCORRECTO"}]
[775,null,null,null,null,null,null,null,null,null,null,null,null,null,null,null,null,null,null,null,null,null,null,null,null,null,null,null,null,null,null,null,null,null,null,null,null,null,null,{"$f":"IFERROR(VLOOKUP(AM777,Cod_DIVIPOLA!A:C,2,0),\"CODIGO INCORRECTO\")","v":"CODIGO INCORRECTO"}]
[776,null,null,null,null,null,null,null,null,null,null,null,null,null,null,null,null,null,null,null,null,null,null,null,null,null,null,null,null,null,null,null,null,null,null,null,null,null,null,{"$f":"IFERROR(VLOOKUP(AM778,Cod_DIVIPOLA!A:C,2,0),\"CODIGO INCORRECTO\")","v":"CODIGO INCORRECTO"}]
[777,null,null,null,null,null,null,null,null,null,null,null,null,null,null,null,null,null,null,null,null,null,null,null,null,null,null,null,null,null,null,null,null,null,null,null,null,null,null,{"$f":"IFERROR(VLOOKUP(AM779,Cod_DIVIPOLA!A:C,2,0),\"CODIGO INCORRECTO\")","v":"CODIGO INCORRECTO"}]
[778,null,null,null,null,null,null,null,null,null,null,null,null,null,null,null,null,null,null,null,null,null,null,null,null,null,null,null,null,null,null,null,null,null,null,null,null,null,null,{"$f":"IFERROR(VLOOKUP(AM780,Cod_DIVIPOLA!A:C,2,0),\"CODIGO INCORRECTO\")","v":"CODIGO INCORRECTO"}]
[779,null,null,null,null,null,null,null,null,null,null,null,null,null,null,null,null,null,null,null,null,null,null,null,null,null,null,null,null,null,null,null,null,null,null,null,null,null,null,{"$f":"IFERROR(VLOOKUP(AM781,Cod_DIVIPOLA!A:C,2,0),\"CODIGO INCORRECTO\")","v":"CODIGO INCORRECTO"}]
[780,null,null,null,null,null,null,null,null,null,null,null,null,null,null,null,null,null,null,null,null,null,null,null,null,null,null,null,null,null,null,null,null,null,null,null,null,null,null,{"$f":"IFERROR(VLOOKUP(AM782,Cod_DIVIPOLA!A:C,2,0),\"CODIGO INCORRECTO\")","v":"CODIGO INCORRECTO"}]
[781,null,null,null,null,null,null,null,null,null,null,null,null,null,null,null,null,null,null,null,null,null,null,null,null,null,null,null,null,null,null,null,null,null,null,null,null,null,null,{"$f":"IFERROR(VLOOKUP(AM783,Cod_DIVIPOLA!A:C,2,0),\"CODIGO INCORRECTO\")","v":"CODIGO INCORRECTO"}]
[782,null,null,null,null,null,null,null,null,null,null,null,null,null,null,null,null,null,null,null,null,null,null,null,null,null,null,null,null,null,null,null,null,null,null,null,null,null,null,{"$f":"IFERROR(VLOOKUP(AM784,Cod_DIVIPOLA!A:C,2,0),\"CODIGO INCORRECTO\")","v":"CODIGO INCORRECTO"}]
[783,null,null,null,null,null,null,null,null,null,null,null,null,null,null,null,null,null,null,null,null,null,null,null,null,null,null,null,null,null,null,null,null,null,null,null,null,null,null,{"$f":"IFERROR(VLOOKUP(AM785,Cod_DIVIPOLA!A:C,2,0),\"CODIGO INCORRECTO\")","v":"CODIGO INCORRECTO"}]
[784,null,null,null,null,null,null,null,null,null,null,null,null,null,null,null,null,null,null,null,null,null,null,null,null,null,null,null,null,null,null,null,null,null,null,null,null,null,null,{"$f":"IFERROR(VLOOKUP(AM786,Cod_DIVIPOLA!A:C,2,0),\"CODIGO INCORRECTO\")","v":"CODIGO INCORRECTO"}]
[785,null,null,null,null,null,null,null,null,null,null,null,null,null,null,null,null,null,null,null,null,null,null,null,null,null,null,null,null,null,null,null,null,null,null,null,null,null,null,{"$f":"IFERROR(VLOOKUP(AM787,Cod_DIVIPOLA!A:C,2,0),\"CODIGO INCORRECTO\")","v":"CODIGO INCORRECTO"}]
[786,null,null,null,null,null,null,null,null,null,null,null,null,null,null,null,null,null,null,null,null,null,null,null,null,null,null,null,null,null,null,null,null,null,null,null,null,null,null,{"$f":"IFERROR(VLOOKUP(AM788,Cod_DIVIPOLA!A:C,2,0),\"CODIGO INCORRECTO\")","v":"CODIGO INCORRECTO"}]
[787,null,null,null,null,null,null,null,null,null,null,null,null,null,null,null,null,null,null,null,null,null,null,null,null,null,null,null,null,null,null,null,null,null,null,null,null,null,null,{"$f":"IFERROR(VLOOKUP(AM789,Cod_DIVIPOLA!A:C,2,0),\"CODIGO INCORRECTO\")","v":"CODIGO INCORRECTO"}]
[788,null,null,null,null,null,null,null,null,null,null,null,null,null,null,null,null,null,null,null,null,null,null,null,null,null,null,null,null,null,null,null,null,null,null,null,null,null,null,{"$f":"IFERROR(VLOOKUP(AM790,Cod_DIVIPOLA!A:C,2,0),\"CODIGO INCORRECTO\")","v":"CODIGO INCORRECTO"}]
[789,null,null,null,null,null,null,null,null,null,null,null,null,null,null,null,null,null,null,null,null,null,null,null,null,null,null,null,null,null,null,null,null,null,null,null,null,null,null,{"$f":"IFERROR(VLOOKUP(AM791,Cod_DIVIPOLA!A:C,2,0),\"CODIGO INCORRECTO\")","v":"CODIGO INCORRECTO"}]
[790,null,null,null,null,null,null,null,null,null,null,null,null,null,null,null,null,null,null,null,null,null,null,null,null,null,null,null,null,null,null,null,null,null,null,null,null,null,null,{"$f":"IFERROR(VLOOKUP(AM792,Cod_DIVIPOLA!A:C,2,0),\"CODIGO INCORRECTO\")","v":"CODIGO INCORRECTO"}]
[791,null,null,null,null,null,null,null,null,null,null,null,null,null,null,null,null,null,null,null,null,null,null,null,null,null,null,null,null,null,null,null,null,null,null,null,null,null,null,{"$f":"IFERROR(VLOOKUP(AM793,Cod_DIVIPOLA!A:C,2,0),\"CODIGO INCORRECTO\")","v":"CODIGO INCORRECTO"}]
[792,null,null,null,null,null,null,null,null,null,null,null,null,null,null,null,null,null,null,null,null,null,null,null,null,null,null,null,null,null,null,null,null,null,null,null,null,null,null,{"$f":"IFERROR(VLOOKUP(AM794,Cod_DIVIPOLA!A:C,2,0),\"CODIGO INCORRECTO\")","v":"CODIGO INCORRECTO"}]
[793,null,null,null,null,null,null,null,null,null,null,null,null,null,null,null,null,null,null,null,null,null,null,null,null,null,null,null,null,null,null,null,null,null,null,null,null,null,null,{"$f":"IFERROR(VLOOKUP(AM795,Cod_DIVIPOLA!A:C,2,0),\"CODIGO INCORRECTO\")","v":"CODIGO INCORRECTO"}]
[794,null,null,null,null,null,null,null,null,null,null,null,null,null,null,null,null,null,null,null,null,null,null,null,null,null,null,null,null,null,null,null,null,null,null,null,null,null,null,{"$f":"IFERROR(VLOOKUP(AM796,Cod_DIVIPOLA!A:C,2,0),\"CODIGO INCORRECTO\")","v":"CODIGO INCORRECTO"}]
[795,null,null,null,null,null,null,null,null,null,null,null,null,null,null,null,null,null,null,null,null,null,null,null,null,null,null,null,null,null,null,null,null,null,null,null,null,null,null,{"$f":"IFERROR(VLOOKUP(AM797,Cod_DIVIPOLA!A:C,2,0),\"CODIGO INCORRECTO\")","v":"CODIGO INCORRECTO"}]
[796,null,null,null,null,null,null,null,null,null,null,null,null,null,null,null,null,null,null,null,null,null,null,null,null,null,null,null,null,null,null,null,null,null,null,null,null,null,null,{"$f":"IFERROR(VLOOKUP(AM798,Cod_DIVIPOLA!A:C,2,0),\"CODIGO INCORRECTO\")","v":"CODIGO INCORRECTO"}]
[797,null,null,null,null,null,null,null,null,null,null,null,null,null,null,null,null,null,null,null,null,null,null,null,null,null,null,null,null,null,null,null,null,null,null,null,null,null,null,{"$f":"IFERROR(VLOOKUP(AM799,Cod_DIVIPOLA!A:C,2,0),\"CODIGO INCORRECTO\")","v":"CODIGO INCORRECTO"}]
[798,null,null,null,null,null,null,null,null,null,null,null,null,null,null,null,null,null,null,null,null,null,null,null,null,null,null,null,null,null,null,null,null,null,null,null,null,null,null,{"$f":"IFERROR(VLOOKUP(AM800,Cod_DIVIPOLA!A:C,2,0),\"CODIGO INCORRECTO\")","v":"CODIGO INCORRECTO"}]
[799,null,null,null,null,null,null,null,null,null,null,null,null,null,null,null,null,null,null,null,null,null,null,null,null,null,null,null,null,null,null,null,null,null,null,null,null,null,null,{"$f":"IFERROR(VLOOKUP(AM801,Cod_DIVIPOLA!A:C,2,0),\"CODIGO INCORRECTO\")","v":"CODIGO INCORRECTO"}]
[800,null,null,null,null,null,null,null,null,null,null,null,null,null,null,null,null,null,null,null,null,null,null,null,null,null,null,null,null,null,null,null,null,null,null,null,null,null,null,{"$f":"IFERROR(VLOOKUP(AM802,Cod_DIVIPOLA!A:C,2,0),\"CODIGO INCORRECTO\")","v":"CODIGO INCORRECTO"}]
[801,null,null,null,null,null,null,null,null,null,null,null,null,null,null,null,null,null,null,null,null,null,null,null,null,null,null,null,null,null,null,null,null,null,null,null,null,null,null,{"$f":"IFERROR(VLOOKUP(AM803,Cod_DIVIPOLA!A:C,2,0),\"CODIGO INCORRECTO\")","v":"CODIGO INCORRECTO"}]
[802,null,null,null,null,null,null,null,null,null,null,null,null,null,null,null,null,null,null,null,null,null,null,null,null,null,null,null,null,null,null,null,null,null,null,null,null,null,null,{"$f":"IFERROR(VLOOKUP(AM804,Cod_DIVIPOLA!A:C,2,0),\"CODIGO INCORRECTO\")","v":"CODIGO INCORRECTO"}]
[803,null,null,null,null,null,null,null,null,null,null,null,null,null,null,null,null,null,null,null,null,null,null,null,null,null,null,null,null,null,null,null,null,null,null,null,null,null,null,{"$f":"IFERROR(VLOOKUP(AM805,Cod_DIVIPOLA!A:C,2,0),\"CODIGO INCORRECTO\")","v":"CODIGO INCORRECTO"}]
[804,null,null,null,null,null,null,null,null,null,null,null,null,null,null,null,null,null,null,null,null,null,null,null,null,null,null,null,null,null,null,null,null,null,null,null,null,null,null,{"$f":"IFERROR(VLOOKUP(AM806,Cod_DIVIPOLA!A:C,2,0),\"CODIGO INCORRECTO\")","v":"CODIGO INCORRECTO"}]
[805,null,null,null,null,null,null,null,null,null,null,null,null,null,null,null,null,null,null,null,null,null,null,null,null,null,null,null,null,null,null,null,null,null,null,null,null,null,null,{"$f":"IFERROR(VLOOKUP(AM807,Cod_DIVIPOLA!A:C,2,0),\"CODIGO INCORRECTO\")","v":"CODIGO INCORRECTO"}]
[806,null,null,null,null,null,null,null,null,null,null,null,null,null,null,null,null,null,null,null,null,null,null,null,null,null,null,null,null,null,null,null,null,null,null,null,null,null,null,{"$f":"IFERROR(VLOOKUP(AM808,Cod_DIVIPOLA!A:C,2,0),\"CODIGO INCORRECTO\")","v":"CODIGO INCORRECTO"}]
[807,null,null,null,null,null,null,null,null,null,null,null,null,null,null,null,null,null,null,null,null,null,null,null,null,null,null,null,null,null,null,null,null,null,null,null,null,null,null,{"$f":"IFERROR(VLOOKUP(AM809,Cod_DIVIPOLA!A:C,2,0),\"CODIGO INCORRECTO\")","v":"CODIGO INCORRECTO"}]
[808,null,null,null,null,null,null,null,null,null,null,null,null,null,null,null,null,null,null,null,null,null,null,null,null,null,null,null,null,null,null,null,null,null,null,null,null,null,null,{"$f":"IFERROR(VLOOKUP(AM810,Cod_DIVIPOLA!A:C,2,0),\"CODIGO INCORRECTO\")","v":"CODIGO INCORRECTO"}]
[809,null,null,null,null,null,null,null,null,null,null,null,null,null,null,null,null,null,null,null,null,null,null,null,null,null,null,null,null,null,null,null,null,null,null,null,null,null,null,{"$f":"IFERROR(VLOOKUP(AM811,Cod_DIVIPOLA!A:C,2,0),\"CODIGO INCORRECTO\")","v":"CODIGO INCORRECTO"}]
[810,null,null,null,null,null,null,null,null,null,null,null,null,null,null,null,null,null,null,null,null,null,null,null,null,null,null,null,null,null,null,null,null,null,null,null,null,null,null,{"$f":"IFERROR(VLOOKUP(AM812,Cod_DIVIPOLA!A:C,2,0),\"CODIGO INCORRECTO\")","v":"CODIGO INCORRECTO"}]
[811,null,null,null,null,null,null,null,null,null,null,null,null,null,null,null,null,null,null,null,null,null,null,null,null,null,null,null,null,null,null,null,null,null,null,null,null,null,null,{"$f":"IFERROR(VLOOKUP(AM813,Cod_DIVIPOLA!A:C,2,0),\"CODIGO INCORRECTO\")","v":"CODIGO INCORRECTO"}]
[812,null,null,null,null,null,null,null,null,null,null,null,null,null,null,null,null,null,null,null,null,null,null,null,null,null,null,null,null,null,null,null,null,null,null,null,null,null,null,{"$f":"IFERROR(VLOOKUP(AM814,Cod_DIVIPOLA!A:C,2,0),\"CODIGO INCORRECTO\")","v":"CODIGO INCORRECTO"}]
[813,null,null,null,null,null,null,null,null,null,null,null,null,null,null,null,null,null,null,null,null,null,null,null,null,null,null,null,null,null,null,null,null,null,null,null,null,null,null,{"$f":"IFERROR(VLOOKUP(AM815,Cod_DIVIPOLA!A:C,2,0),\"CODIGO INCORRECTO\")","v":"CODIGO INCORRECTO"}]
[814,null,null,null,null,null,null,null,null,null,null,null,null,null,null,null,null,null,null,null,null,null,null,null,null,null,null,null,null,null,null,null,null,null,null,null,null,null,null,{"$f":"IFERROR(VLOOKUP(AM816,Cod_DIVIPOLA!A:C,2,0),\"CODIGO INCORRECTO\")","v":"CODIGO INCORRECTO"}]
[815,null,null,null,null,null,null,null,null,null,null,null,null,null,null,null,null,null,null,null,null,null,null,null,null,null,null,null,null,null,null,null,null,null,null,null,null,null,null,{"$f":"IFERROR(VLOOKUP(AM817,Cod_DIVIPOLA!A:C,2,0),\"CODIGO INCORRECTO\")","v":"CODIGO INCORRECTO"}]
[816,null,null,null,null,null,null,null,null,null,null,null,null,null,null,null,null,null,null,null,null,null,null,null,null,null,null,null,null,null,null,null,null,null,null,null,null,null,null,{"$f":"IFERROR(VLOOKUP(AM818,Cod_DIVIPOLA!A:C,2,0),\"CODIGO INCORRECTO\")","v":"CODIGO INCORRECTO"}]
[817,null,null,null,null,null,null,null,null,null,null,null,null,null,null,null,null,null,null,null,null,null,null,null,null,null,null,null,null,null,null,null,null,null,null,null,null,null,null,{"$f":"IFERROR(VLOOKUP(AM819,Cod_DIVIPOLA!A:C,2,0),\"CODIGO INCORRECTO\")","v":"CODIGO INCORRECTO"}]
[818,null,null,null,null,null,null,null,null,null,null,null,null,null,null,null,null,null,null,null,null,null,null,null,null,null,null,null,null,null,null,null,null,null,null,null,null,null,null,{"$f":"IFERROR(VLOOKUP(AM820,Cod_DIVIPOLA!A:C,2,0),\"CODIGO INCORRECTO\")","v":"CODIGO INCORRECTO"}]
[819,null,null,null,null,null,null,null,null,null,null,null,null,null,null,null,null,null,null,null,null,null,null,null,null,null,null,null,null,null,null,null,null,null,null,null,null,null,null,{"$f":"IFERROR(VLOOKUP(AM821,Cod_DIVIPOLA!A:C,2,0),\"CODIGO INCORRECTO\")","v":"CODIGO INCORRECTO"}]
[820,null,null,null,null,null,null,null,null,null,null,null,null,null,null,null,null,null,null,null,null,null,null,null,null,null,null,null,null,null,null,null,null,null,null,null,null,null,null,{"$f":"IFERROR(VLOOKUP(AM822,Cod_DIVIPOLA!A:C,2,0),\"CODIGO INCORRECTO\")","v":"CODIGO INCORRECTO"}]
[821,null,null,null,null,null,null,null,null,null,null,null,null,null,null,null,null,null,null,null,null,null,null,null,null,null,null,null,null,null,null,null,null,null,null,null,null,null,null,{"$f":"IFERROR(VLOOKUP(AM823,Cod_DIVIPOLA!A:C,2,0),\"CODIGO INCORRECTO\")","v":"CODIGO INCORRECTO"}]
[822,null,null,null,null,null,null,null,null,null,null,null,null,null,null,null,null,null,null,null,null,null,null,null,null,null,null,null,null,null,null,null,null,null,null,null,null,null,null,{"$f":"IFERROR(VLOOKUP(AM824,Cod_DIVIPOLA!A:C,2,0),\"CODIGO INCORRECTO\")","v":"CODIGO INCORRECTO"}]
[823,null,null,null,null,null,null,null,null,null,null,null,null,null,null,null,null,null,null,null,null,null,null,null,null,null,null,null,null,null,null,null,null,null,null,null,null,null,null,{"$f":"IFERROR(VLOOKUP(AM825,Cod_DIVIPOLA!A:C,2,0),\"CODIGO INCORRECTO\")","v":"CODIGO INCORRECTO"}]
[824,null,null,null,null,null,null,null,null,null,null,null,null,null,null,null,null,null,null,null,null,null,null,null,null,null,null,null,null,null,null,null,null,null,null,null,null,null,null,{"$f":"IFERROR(VLOOKUP(AM826,Cod_DIVIPOLA!A:C,2,0),\"CODIGO INCORRECTO\")","v":"CODIGO INCORRECTO"}]
[825,null,null,null,null,null,null,null,null,null,null,null,null,null,null,null,null,null,null,null,null,null,null,null,null,null,null,null,null,null,null,null,null,null,null,null,null,null,null,{"$f":"IFERROR(VLOOKUP(AM827,Cod_DIVIPOLA!A:C,2,0),\"CODIGO INCORRECTO\")","v":"CODIGO INCORRECTO"}]
[826,null,null,null,null,null,null,null,null,null,null,null,null,null,null,null,null,null,null,null,null,null,null,null,null,null,null,null,null,null,null,null,null,null,null,null,null,null,null,{"$f":"IFERROR(VLOOKUP(AM828,Cod_DIVIPOLA!A:C,2,0),\"CODIGO INCORRECTO\")","v":"CODIGO INCORRECTO"}]
[827,null,null,null,null,null,null,null,null,null,null,null,null,null,null,null,null,null,null,null,null,null,null,null,null,null,null,null,null,null,null,null,null,null,null,null,null,null,null,{"$f":"IFERROR(VLOOKUP(AM829,Cod_DIVIPOLA!A:C,2,0),\"CODIGO INCORRECTO\")","v":"CODIGO INCORRECTO"}]
[828,null,null,null,null,null,null,null,null,null,null,null,null,null,null,null,null,null,null,null,null,null,null,null,null,null,null,null,null,null,null,null,null,null,null,null,null,null,null,{"$f":"IFERROR(VLOOKUP(AM830,Cod_DIVIPOLA!A:C,2,0),\"CODIGO INCORRECTO\")","v":"CODIGO INCORRECTO"}]
[829,null,null,null,null,null,null,null,null,null,null,null,null,null,null,null,null,null,null,null,null,null,null,null,null,null,null,null,null,null,null,null,null,null,null,null,null,null,null,{"$f":"IFERROR(VLOOKUP(AM831,Cod_DIVIPOLA!A:C,2,0),\"CODIGO INCORRECTO\")","v":"CODIGO INCORRECTO"}]
[830,null,null,null,null,null,null,null,null,null,null,null,null,null,null,null,null,null,null,null,null,null,null,null,null,null,null,null,null,null,null,null,null,null,null,null,null,null,null,{"$f":"IFERROR(VLOOKUP(AM832,Cod_DIVIPOLA!A:C,2,0),\"CODIGO INCORRECTO\")","v":"CODIGO INCORRECTO"}]
[831,null,null,null,null,null,null,null,null,null,null,null,null,null,null,null,null,null,null,null,null,null,null,null,null,null,null,null,null,null,null,null,null,null,null,null,null,null,null,{"$f":"IFERROR(VLOOKUP(AM833,Cod_DIVIPOLA!A:C,2,0),\"CODIGO INCORRECTO\")","v":"CODIGO INCORRECTO"}]
[832,null,null,null,null,null,null,null,null,null,null,null,null,null,null,null,null,null,null,null,null,null,null,null,null,null,null,null,null,null,null,null,null,null,null,null,null,null,null,{"$f":"IFERROR(VLOOKUP(AM834,Cod_DIVIPOLA!A:C,2,0),\"CODIGO INCORRECTO\")","v":"CODIGO INCORRECTO"}]
[833,null,null,null,null,null,null,null,null,null,null,null,null,null,null,null,null,null,null,null,null,null,null,null,null,null,null,null,null,null,null,null,null,null,null,null,null,null,null,{"$f":"IFERROR(VLOOKUP(AM835,Cod_DIVIPOLA!A:C,2,0),\"CODIGO INCORRECTO\")","v":"CODIGO INCORRECTO"}]
[834,null,null,null,null,null,null,null,null,null,null,null,null,null,null,null,null,null,null,null,null,null,null,null,null,null,null,null,null,null,null,null,null,null,null,null,null,null,null,{"$f":"IFERROR(VLOOKUP(AM836,Cod_DIVIPOLA!A:C,2,0),\"CODIGO INCORRECTO\")","v":"CODIGO INCORRECTO"}]
[835,null,null,null,null,null,null,null,null,null,null,null,null,null,null,null,null,null,null,null,null,null,null,null,null,null,null,null,null,null,null,null,null,null,null,null,null,null,null,{"$f":"IFERROR(VLOOKUP(AM837,Cod_DIVIPOLA!A:C,2,0),\"CODIGO INCORRECTO\")","v":"CODIGO INCORRECTO"}]
[836,null,null,null,null,null,null,null,null,null,null,null,null,null,null,null,null,null,null,null,null,null,null,null,null,null,null,null,null,null,null,null,null,null,null,null,null,null,null,{"$f":"IFERROR(VLOOKUP(AM838,Cod_DIVIPOLA!A:C,2,0),\"CODIGO INCORRECTO\")","v":"CODIGO INCORRECTO"}]
[837,null,null,null,null,null,null,null,null,null,null,null,null,null,null,null,null,null,null,null,null,null,null,null,null,null,null,null,null,null,null,null,null,null,null,null,null,null,null,{"$f":"IFERROR(VLOOKUP(AM839,Cod_DIVIPOLA!A:C,2,0),\"CODIGO INCORRECTO\")","v":"CODIGO INCORRECTO"}]
[838,null,null,null,null,null,null,null,null,null,null,null,null,null,null,null,null,null,null,null,null,null,null,null,null,null,null,null,null,null,null,null,null,null,null,null,null,null,null,{"$f":"IFERROR(VLOOKUP(AM840,Cod_DIVIPOLA!A:C,2,0),\"CODIGO INCORRECTO\")","v":"CODIGO INCORRECTO"}]
[839,null,null,null,null,null,null,null,null,null,null,null,null,null,null,null,null,null,null,null,null,null,null,null,null,null,null,null,null,null,null,null,null,null,null,null,null,null,null,{"$f":"IFERROR(VLOOKUP(AM841,Cod_DIVIPOLA!A:C,2,0),\"CODIGO INCORRECTO\")","v":"CODIGO INCORRECTO"}]
[840,null,null,null,null,null,null,null,null,null,null,null,null,null,null,null,null,null,null,null,null,null,null,null,null,null,null,null,null,null,null,null,null,null,null,null,null,null,null,{"$f":"IFERROR(VLOOKUP(AM842,Cod_DIVIPOLA!A:C,2,0),\"CODIGO INCORRECTO\")","v":"CODIGO INCORRECTO"}]
[841,null,null,null,null,null,null,null,null,null,null,null,null,null,null,null,null,null,null,null,null,null,null,null,null,null,null,null,null,null,null,null,null,null,null,null,null,null,null,{"$f":"IFERROR(VLOOKUP(AM843,Cod_DIVIPOLA!A:C,2,0),\"CODIGO INCORRECTO\")","v":"CODIGO INCORRECTO"}]
[842,null,null,null,null,null,null,null,null,null,null,null,null,null,null,null,null,null,null,null,null,null,null,null,null,null,null,null,null,null,null,null,null,null,null,null,null,null,null,{"$f":"IFERROR(VLOOKUP(AM844,Cod_DIVIPOLA!A:C,2,0),\"CODIGO INCORRECTO\")","v":"CODIGO INCORRECTO"}]
[843,null,null,null,null,null,null,null,null,null,null,null,null,null,null,null,null,null,null,null,null,null,null,null,null,null,null,null,null,null,null,null,null,null,null,null,null,null,null,{"$f":"IFERROR(VLOOKUP(AM845,Cod_DIVIPOLA!A:C,2,0),\"CODIGO INCORRECTO\")","v":"CODIGO INCORRECTO"}]
[844,null,null,null,null,null,null,null,null,null,null,null,null,null,null,null,null,null,null,null,null,null,null,null,null,null,null,null,null,null,null,null,null,null,null,null,null,null,null,{"$f":"IFERROR(VLOOKUP(AM846,Cod_DIVIPOLA!A:C,2,0),\"CODIGO INCORRECTO\")","v":"CODIGO INCORRECTO"}]
[845,null,null,null,null,null,null,null,null,null,null,null,null,null,null,null,null,null,null,null,null,null,null,null,null,null,null,null,null,null,null,null,null,null,null,null,null,null,null,{"$f":"IFERROR(VLOOKUP(AM847,Cod_DIVIPOLA!A:C,2,0),\"CODIGO INCORRECTO\")","v":"CODIGO INCORRECTO"}]
[846,null,null,null,null,null,null,null,null,null,null,null,null,null,null,null,null,null,null,null,null,null,null,null,null,null,null,null,null,null,null,null,null,null,null,null,null,null,null,{"$f":"IFERROR(VLOOKUP(AM848,Cod_DIVIPOLA!A:C,2,0),\"CODIGO INCORRECTO\")","v":"CODIGO INCORRECTO"}]
[847,null,null,null,null,null,null,null,null,null,null,null,null,null,null,null,null,null,null,null,null,null,null,null,null,null,null,null,null,null,null,null,null,null,null,null,null,null,null,{"$f":"IFERROR(VLOOKUP(AM849,Cod_DIVIPOLA!A:C,2,0),\"CODIGO INCORRECTO\")","v":"CODIGO INCORRECTO"}]
[848,null,null,null,null,null,null,null,null,null,null,null,null,null,null,null,null,null,null,null,null,null,null,null,null,null,null,null,null,null,null,null,null,null,null,null,null,null,null,{"$f":"IFERROR(VLOOKUP(AM850,Cod_DIVIPOLA!A:C,2,0),\"CODIGO INCORRECTO\")","v":"CODIGO INCORRECTO"}]
[849,null,null,null,null,null,null,null,null,null,null,null,null,null,null,null,null,null,null,null,null,null,null,null,null,null,null,null,null,null,null,null,null,null,null,null,null,null,null,{"$f":"IFERROR(VLOOKUP(AM851,Cod_DIVIPOLA!A:C,2,0),\"CODIGO INCORRECTO\")","v":"CODIGO INCORRECTO"}]
[850,null,null,null,null,null,null,null,null,null,null,null,null,null,null,null,null,null,null,null,null,null,null,null,null,null,null,null,null,null,null,null,null,null,null,null,null,null,null,{"$f":"IFERROR(VLOOKUP(AM852,Cod_DIVIPOLA!A:C,2,0),\"CODIGO INCORRECTO\")","v":"CODIGO INCORRECTO"}]
[851,null,null,null,null,null,null,null,null,null,null,null,null,null,null,null,null,null,null,null,null,null,null,null,null,null,null,null,null,null,null,null,null,null,null,null,null,null,null,{"$f":"IFERROR(VLOOKUP(AM853,Cod_DIVIPOLA!A:C,2,0),\"CODIGO INCORRECTO\")","v":"CODIGO INCORRECTO"}]
[852,null,null,null,null,null,null,null,null,null,null,null,null,null,null,null,null,null,null,null,null,null,null,null,null,null,null,null,null,null,null,null,null,null,null,null,null,null,null,{"$f":"IFERROR(VLOOKUP(AM854,Cod_DIVIPOLA!A:C,2,0),\"CODIGO INCORRECTO\")","v":"CODIGO INCORRECTO"}]
[853,null,null,null,null,null,null,null,null,null,null,null,null,null,null,null,null,null,null,null,null,null,null,null,null,null,null,null,null,null,null,null,null,null,null,null,null,null,null,{"$f":"IFERROR(VLOOKUP(AM855,Cod_DIVIPOLA!A:C,2,0),\"CODIGO INCORRECTO\")","v":"CODIGO INCORRECTO"}]
[854,null,null,null,null,null,null,null,null,null,null,null,null,null,null,null,null,null,null,null,null,null,null,null,null,null,null,null,null,null,null,null,null,null,null,null,null,null,null,{"$f":"IFERROR(VLOOKUP(AM856,Cod_DIVIPOLA!A:C,2,0),\"CODIGO INCORRECTO\")","v":"CODIGO INCORRECTO"}]
[855,null,null,null,null,null,null,null,null,null,null,null,null,null,null,null,null,null,null,null,null,null,null,null,null,null,null,null,null,null,null,null,null,null,null,null,null,null,null,{"$f":"IFERROR(VLOOKUP(AM857,Cod_DIVIPOLA!A:C,2,0),\"CODIGO INCORRECTO\")","v":"CODIGO INCORRECTO"}]
[856,null,null,null,null,null,null,null,null,null,null,null,null,null,null,null,null,null,null,null,null,null,null,null,null,null,null,null,null,null,null,null,null,null,null,null,null,null,null,{"$f":"IFERROR(VLOOKUP(AM858,Cod_DIVIPOLA!A:C,2,0),\"CODIGO INCORRECTO\")","v":"CODIGO INCORRECTO"}]
[857,null,null,null,null,null,null,null,null,null,null,null,null,null,null,null,null,null,null,null,null,null,null,null,null,null,null,null,null,null,null,null,null,null,null,null,null,null,null,{"$f":"IFERROR(VLOOKUP(AM859,Cod_DIVIPOLA!A:C,2,0),\"CODIGO INCORRECTO\")","v":"CODIGO INCORRECTO"}]
[858,null,null,null,null,null,null,null,null,null,null,null,null,null,null,null,null,null,null,null,null,null,null,null,null,null,null,null,null,null,null,null,null,null,null,null,null,null,null,{"$f":"IFERROR(VLOOKUP(AM860,Cod_DIVIPOLA!A:C,2,0),\"CODIGO INCORRECTO\")","v":"CODIGO INCORRECTO"}]
[859,null,null,null,null,null,null,null,null,null,null,null,null,null,null,null,null,null,null,null,null,null,null,null,null,null,null,null,null,null,null,null,null,null,null,null,null,null,null,{"$f":"IFERROR(VLOOKUP(AM861,Cod_DIVIPOLA!A:C,2,0),\"CODIGO INCORRECTO\")","v":"CODIGO INCORRECTO"}]
[860,null,null,null,null,null,null,null,null,null,null,null,null,null,null,null,null,null,null,null,null,null,null,null,null,null,null,null,null,null,null,null,null,null,null,null,null,null,null,{"$f":"IFERROR(VLOOKUP(AM862,Cod_DIVIPOLA!A:C,2,0),\"CODIGO INCORRECTO\")","v":"CODIGO INCORRECTO"}]
[861,null,null,null,null,null,null,null,null,null,null,null,null,null,null,null,null,null,null,null,null,null,null,null,null,null,null,null,null,null,null,null,null,null,null,null,null,null,null,{"$f":"IFERROR(VLOOKUP(AM863,Cod_DIVIPOLA!A:C,2,0),\"CODIGO INCORRECTO\")","v":"CODIGO INCORRECTO"}]
[862,null,null,null,null,null,null,null,null,null,null,null,null,null,null,null,null,null,null,null,null,null,null,null,null,null,null,null,null,null,null,null,null,null,null,null,null,null,null,{"$f":"IFERROR(VLOOKUP(AM864,Cod_DIVIPOLA!A:C,2,0),\"CODIGO INCORRECTO\")","v":"CODIGO INCORRECTO"}]
[863,null,null,null,null,null,null,null,null,null,null,null,null,null,null,null,null,null,null,null,null,null,null,null,null,null,null,null,null,null,null,null,null,null,null,null,null,null,null,{"$f":"IFERROR(VLOOKUP(AM865,Cod_DIVIPOLA!A:C,2,0),\"CODIGO INCORRECTO\")","v":"CODIGO INCORRECTO"}]
[864,null,null,null,null,null,null,null,null,null,null,null,null,null,null,null,null,null,null,null,null,null,null,null,null,null,null,null,null,null,null,null,null,null,null,null,null,null,null,{"$f":"IFERROR(VLOOKUP(AM866,Cod_DIVIPOLA!A:C,2,0),\"CODIGO INCORRECTO\")","v":"CODIGO INCORRECTO"}]
[865,null,null,null,null,null,null,null,null,null,null,null,null,null,null,null,null,null,null,null,null,null,null,null,null,null,null,null,null,null,null,null,null,null,null,null,null,null,null,{"$f":"IFERROR(VLOOKUP(AM867,Cod_DIVIPOLA!A:C,2,0),\"CODIGO INCORRECTO\")","v":"CODIGO INCORRECTO"}]
[866,null,null,null,null,null,null,null,null,null,null,null,null,null,null,null,null,null,null,null,null,null,null,null,null,null,null,null,null,null,null,null,null,null,null,null,null,null,null,{"$f":"IFERROR(VLOOKUP(AM868,Cod_DIVIPOLA!A:C,2,0),\"CODIGO INCORRECTO\")","v":"CODIGO INCORRECTO"}]
[867,null,null,null,null,null,null,null,null,null,null,null,null,null,null,null,null,null,null,null,null,null,null,null,null,null,null,null,null,null,null,null,null,null,null,null,null,null,null,{"$f":"IFERROR(VLOOKUP(AM869,Cod_DIVIPOLA!A:C,2,0),\"CODIGO INCORRECTO\")","v":"CODIGO INCORRECTO"}]
[868,null,null,null,null,null,null,null,null,null,null,null,null,null,null,null,null,null,null,null,null,null,null,null,null,null,null,null,null,null,null,null,null,null,null,null,null,null,null,{"$f":"IFERROR(VLOOKUP(AM870,Cod_DIVIPOLA!A:C,2,0),\"CODIGO INCORRECTO\")","v":"CODIGO INCORRECTO"}]
[869,null,null,null,null,null,null,null,null,null,null,null,null,null,null,null,null,null,null,null,null,null,null,null,null,null,null,null,null,null,null,null,null,null,null,null,null,null,null,{"$f":"IFERROR(VLOOKUP(AM871,Cod_DIVIPOLA!A:C,2,0),\"CODIGO INCORRECTO\")","v":"CODIGO INCORRECTO"}]
[870,null,null,null,null,null,null,null,null,null,null,null,null,null,null,null,null,null,null,null,null,null,null,null,null,null,null,null,null,null,null,null,null,null,null,null,null,null,null,{"$f":"IFERROR(VLOOKUP(AM872,Cod_DIVIPOLA!A:C,2,0),\"CODIGO INCORRECTO\")","v":"CODIGO INCORRECTO"}]
[871,null,null,null,null,null,null,null,null,null,null,null,null,null,null,null,null,null,null,null,null,null,null,null,null,null,null,null,null,null,null,null,null,null,null,null,null,null,null,{"$f":"IFERROR(VLOOKUP(AM873,Cod_DIVIPOLA!A:C,2,0),\"CODIGO INCORRECTO\")","v":"CODIGO INCORRECTO"}]
[872,null,null,null,null,null,null,null,null,null,null,null,null,null,null,null,null,null,null,null,null,null,null,null,null,null,null,null,null,null,null,null,null,null,null,null,null,null,null,{"$f":"IFERROR(VLOOKUP(AM874,Cod_DIVIPOLA!A:C,2,0),\"CODIGO INCORRECTO\")","v":"CODIGO INCORRECTO"}]
[873,null,null,null,null,null,null,null,null,null,null,null,null,null,null,null,null,null,null,null,null,null,null,null,null,null,null,null,null,null,null,null,null,null,null,null,null,null,null,{"$f":"IFERROR(VLOOKUP(AM875,Cod_DIVIPOLA!A:C,2,0),\"CODIGO INCORRECTO\")","v":"CODIGO INCORRECTO"}]
[874,null,null,null,null,null,null,null,null,null,null,null,null,null,null,null,null,null,null,null,null,null,null,null,null,null,null,null,null,null,null,null,null,null,null,null,null,null,null,{"$f":"IFERROR(VLOOKUP(AM876,Cod_DIVIPOLA!A:C,2,0),\"CODIGO INCORRECTO\")","v":"CODIGO INCORRECTO"}]
[875,null,null,null,null,null,null,null,null,null,null,null,null,null,null,null,null,null,null,null,null,null,null,null,null,null,null,null,null,null,null,null,null,null,null,null,null,null,null,{"$f":"IFERROR(VLOOKUP(AM877,Cod_DIVIPOLA!A:C,2,0),\"CODIGO INCORRECTO\")","v":"CODIGO INCORRECTO"}]
[876,null,null,null,null,null,null,null,null,null,null,null,null,null,null,null,null,null,null,null,null,null,null,null,null,null,null,null,null,null,null,null,null,null,null,null,null,null,null,{"$f":"IFERROR(VLOOKUP(AM878,Cod_DIVIPOLA!A:C,2,0),\"CODIGO INCORRECTO\")","v":"CODIGO INCORRECTO"}]
[877,null,null,null,null,null,null,null,null,null,null,null,null,null,null,null,null,null,null,null,null,null,null,null,null,null,null,null,null,null,null,null,null,null,null,null,null,null,null,{"$f":"IFERROR(VLOOKUP(AM879,Cod_DIVIPOLA!A:C,2,0),\"CODIGO INCORRECTO\")","v":"CODIGO INCORRECTO"}]
[878,null,null,null,null,null,null,null,null,null,null,null,null,null,null,null,null,null,null,null,null,null,null,null,null,null,null,null,null,null,null,null,null,null,null,null,null,null,null,{"$f":"IFERROR(VLOOKUP(AM880,Cod_DIVIPOLA!A:C,2,0),\"CODIGO INCORRECTO\")","v":"CODIGO INCORRECTO"}]
[879,null,null,null,null,null,null,null,null,null,null,null,null,null,null,null,null,null,null,null,null,null,null,null,null,null,null,null,null,null,null,null,null,null,null,null,null,null,null,{"$f":"IFERROR(VLOOKUP(AM881,Cod_DIVIPOLA!A:C,2,0),\"CODIGO INCORRECTO\")","v":"CODIGO INCORRECTO"}]
[880,null,null,null,null,null,null,null,null,null,null,null,null,null,null,null,null,null,null,null,null,null,null,null,null,null,null,null,null,null,null,null,null,null,null,null,null,null,null,{"$f":"IFERROR(VLOOKUP(AM882,Cod_DIVIPOLA!A:C,2,0),\"CODIGO INCORRECTO\")","v":"CODIGO INCORRECTO"}]
[881,null,null,null,null,null,null,null,null,null,null,null,null,null,null,null,null,null,null,null,null,null,null,null,null,null,null,null,null,null,null,null,null,null,null,null,null,null,null,{"$f":"IFERROR(VLOOKUP(AM883,Cod_DIVIPOLA!A:C,2,0),\"CODIGO INCORRECTO\")","v":"CODIGO INCORRECTO"}]
[882,null,null,null,null,null,null,null,null,null,null,null,null,null,null,null,null,null,null,null,null,null,null,null,null,null,null,null,null,null,null,null,null,null,null,null,null,null,null,{"$f":"IFERROR(VLOOKUP(AM884,Cod_DIVIPOLA!A:C,2,0),\"CODIGO INCORRECTO\")","v":"CODIGO INCORRECTO"}]
[883,null,null,null,null,null,null,null,null,null,null,null,null,null,null,null,null,null,null,null,null,null,null,null,null,null,null,null,null,null,null,null,null,null,null,null,null,null,null,{"$f":"IFERROR(VLOOKUP(AM885,Cod_DIVIPOLA!A:C,2,0),\"CODIGO INCORRECTO\")","v":"CODIGO INCORRECTO"}]
[884,null,null,null,null,null,null,null,null,null,null,null,null,null,null,null,null,null,null,null,null,null,null,null,null,null,null,null,null,null,null,null,null,null,null,null,null,null,null,{"$f":"IFERROR(VLOOKUP(AM886,Cod_DIVIPOLA!A:C,2,0),\"CODIGO INCORRECTO\")","v":"CODIGO INCORRECTO"}]
[885,null,null,null,null,null,null,null,null,null,null,null,null,null,null,null,null,null,null,null,null,null,null,null,null,null,null,null,null,null,null,null,null,null,null,null,null,null,null,{"$f":"IFERROR(VLOOKUP(AM887,Cod_DIVIPOLA!A:C,2,0),\"CODIGO INCORRECTO\")","v":"CODIGO INCORRECTO"}]
[886,null,null,null,null,null,null,null,null,null,null,null,null,null,null,null,null,null,null,null,null,null,null,null,null,null,null,null,null,null,null,null,null,null,null,null,null,null,null,{"$f":"IFERROR(VLOOKUP(AM888,Cod_DIVIPOLA!A:C,2,0),\"CODIGO INCORRECTO\")","v":"CODIGO INCORRECTO"}]
[887,null,null,null,null,null,null,null,null,null,null,null,null,null,null,null,null,null,null,null,null,null,null,null,null,null,null,null,null,null,null,null,null,null,null,null,null,null,null,{"$f":"IFERROR(VLOOKUP(AM889,Cod_DIVIPOLA!A:C,2,0),\"CODIGO INCORRECTO\")","v":"CODIGO INCORRECTO"}]
[888,null,null,null,null,null,null,null,null,null,null,null,null,null,null,null,null,null,null,null,null,null,null,null,null,null,null,null,null,null,null,null,null,null,null,null,null,null,null,{"$f":"IFERROR(VLOOKUP(AM890,Cod_DIVIPOLA!A:C,2,0),\"CODIGO INCORRECTO\")","v":"CODIGO INCORRECTO"}]
[889,null,null,null,null,null,null,null,null,null,null,null,null,null,null,null,null,null,null,null,null,null,null,null,null,null,null,null,null,null,null,null,null,null,null,null,null,null,null,{"$f":"IFERROR(VLOOKUP(AM891,Cod_DIVIPOLA!A:C,2,0),\"CODIGO INCORRECTO\")","v":"CODIGO INCORRECTO"}]
[890,null,null,null,null,null,null,null,null,null,null,null,null,null,null,null,null,null,null,null,null,null,null,null,null,null,null,null,null,null,null,null,null,null,null,null,null,null,null,{"$f":"IFERROR(VLOOKUP(AM892,Cod_DIVIPOLA!A:C,2,0),\"CODIGO INCORRECTO\")","v":"CODIGO INCORRECTO"}]
[891,null,null,null,null,null,null,null,null,null,null,null,null,null,null,null,null,null,null,null,null,null,null,null,null,null,null,null,null,null,null,null,null,null,null,null,null,null,null,{"$f":"IFERROR(VLOOKUP(AM893,Cod_DIVIPOLA!A:C,2,0),\"CODIGO INCORRECTO\")","v":"CODIGO INCORRECTO"}]
[892,null,null,null,null,null,null,null,null,null,null,null,null,null,null,null,null,null,null,null,null,null,null,null,null,null,null,null,null,null,null,null,null,null,null,null,null,null,null,{"$f":"IFERROR(VLOOKUP(AM894,Cod_DIVIPOLA!A:C,2,0),\"CODIGO INCORRECTO\")","v":"CODIGO INCORRECTO"}]
[893,null,null,null,null,null,null,null,null,null,null,null,null,null,null,null,null,null,null,null,null,null,null,null,null,null,null,null,null,null,null,null,null,null,null,null,null,null,null,{"$f":"IFERROR(VLOOKUP(AM895,Cod_DIVIPOLA!A:C,2,0),\"CODIGO INCORRECTO\")","v":"CODIGO INCORRECTO"}]
[894,null,null,null,null,null,null,null,null,null,null,null,null,null,null,null,null,null,null,null,null,null,null,null,null,null,null,null,null,null,null,null,null,null,null,null,null,null,null,{"$f":"IFERROR(VLOOKUP(AM896,Cod_DIVIPOLA!A:C,2,0),\"CODIGO INCORRECTO\")","v":"CODIGO INCORRECTO"}]
[895,null,null,null,null,null,null,null,null,null,null,null,null,null,null,null,null,null,null,null,null,null,null,null,null,null,null,null,null,null,null,null,null,null,null,null,null,null,null,{"$f":"IFERROR(VLOOKUP(AM897,Cod_DIVIPOLA!A:C,2,0),\"CODIGO INCORRECTO\")","v":"CODIGO INCORRECTO"}]
[896,null,null,null,null,null,null,null,null,null,null,null,null,null,null,null,null,null,null,null,null,null,null,null,null,null,null,null,null,null,null,null,null,null,null,null,null,null,null,{"$f":"IFERROR(VLOOKUP(AM898,Cod_DIVIPOLA!A:C,2,0),\"CODIGO INCORRECTO\")","v":"CODIGO INCORRECTO"}]
[897,null,null,null,null,null,null,null,null,null,null,null,null,null,null,null,null,null,null,null,null,null,null,null,null,null,null,null,null,null,null,null,null,null,null,null,null,null,null,{"$f":"IFERROR(VLOOKUP(AM899,Cod_DIVIPOLA!A:C,2,0),\"CODIGO INCORRECTO\")","v":"CODIGO INCORRECTO"}]
[898,null,null,null,null,null,null,null,null,null,null,null,null,null,null,null,null,null,null,null,null,null,null,null,null,null,null,null,null,null,null,null,null,null,null,null,null,null,null,{"$f":"IFERROR(VLOOKUP(AM900,Cod_DIVIPOLA!A:C,2,0),\"CODIGO INCORRECTO\")","v":"CODIGO INCORRECTO"}]
[899,null,null,null,null,null,null,null,null,null,null,null,null,null,null,null,null,null,null,null,null,null,null,null,null,null,null,null,null,null,null,null,null,null,null,null,null,null,null,{"$f":"IFERROR(VLOOKUP(AM901,Cod_DIVIPOLA!A:C,2,0),\"CODIGO INCORRECTO\")","v":"CODIGO INCORRECTO"}]
[900,null,null,null,null,null,null,null,null,null,null,null,null,null,null,null,null,null,null,null,null,null,null,null,null,null,null,null,null,null,null,null,null,null,null,null,null,null,null,{"$f":"IFERROR(VLOOKUP(AM902,Cod_DIVIPOLA!A:C,2,0),\"CODIGO INCORRECTO\")","v":"CODIGO INCORRECTO"}]
[901,null,null,null,null,null,null,null,null,null,null,null,null,null,null,null,null,null,null,null,null,null,null,null,null,null,null,null,null,null,null,null,null,null,null,null,null,null,null,{"$f":"IFERROR(VLOOKUP(AM903,Cod_DIVIPOLA!A:C,2,0),\"CODIGO INCORRECTO\")","v":"CODIGO INCORRECTO"}]
[902,null,null,null,null,null,null,null,null,null,null,null,null,null,null,null,null,null,null,null,null,null,null,null,null,null,null,null,null,null,null,null,null,null,null,null,null,null,null,{"$f":"IFERROR(VLOOKUP(AM904,Cod_DIVIPOLA!A:C,2,0),\"CODIGO INCORRECTO\")","v":"CODIGO INCORRECTO"}]
[903,null,null,null,null,null,null,null,null,null,null,null,null,null,null,null,null,null,null,null,null,null,null,null,null,null,null,null,null,null,null,null,null,null,null,null,null,null,null,{"$f":"IFERROR(VLOOKUP(AM905,Cod_DIVIPOLA!A:C,2,0),\"CODIGO INCORRECTO\")","v":"CODIGO INCORRECTO"}]
[904,null,null,null,null,null,null,null,null,null,null,null,null,null,null,null,null,null,null,null,null,null,null,null,null,null,null,null,null,null,null,null,null,null,null,null,null,null,null,{"$f":"IFERROR(VLOOKUP(AM906,Cod_DIVIPOLA!A:C,2,0),\"CODIGO INCORRECTO\")","v":"CODIGO INCORRECTO"}]
[905,null,null,null,null,null,null,null,null,null,null,null,null,null,null,null,null,null,null,null,null,null,null,null,null,null,null,null,null,null,null,null,null,null,null,null,null,null,null,{"$f":"IFERROR(VLOOKUP(AM907,Cod_DIVIPOLA!A:C,2,0),\"CODIGO INCORRECTO\")","v":"CODIGO INCORRECTO"}]
[906,null,null,null,null,null,null,null,null,null,null,null,null,null,null,null,null,null,null,null,null,null,null,null,null,null,null,null,null,null,null,null,null,null,null,null,null,null,null,{"$f":"IFERROR(VLOOKUP(AM908,Cod_DIVIPOLA!A:C,2,0),\"CODIGO INCORRECTO\")","v":"CODIGO INCORRECTO"}]
[907,null,null,null,null,null,null,null,null,null,null,null,null,null,null,null,null,null,null,null,null,null,null,null,null,null,null,null,null,null,null,null,null,null,null,null,null,null,null,{"$f":"IFERROR(VLOOKUP(AM909,Cod_DIVIPOLA!A:C,2,0),\"CODIGO INCORRECTO\")","v":"CODIGO INCORRECTO"}]
[908,null,null,null,null,null,null,null,null,null,null,null,null,null,null,null,null,null,null,null,null,null,null,null,null,null,null,null,null,null,null,null,null,null,null,null,null,null,null,{"$f":"IFERROR(VLOOKUP(AM910,Cod_DIVIPOLA!A:C,2,0),\"CODIGO INCORRECTO\")","v":"CODIGO INCORRECTO"}]
[909,null,null,null,null,null,null,null,null,null,null,null,null,null,null,null,null,null,null,null,null,null,null,null,null,null,null,null,null,null,null,null,null,null,null,null,null,null,null,{"$f":"IFERROR(VLOOKUP(AM911,Cod_DIVIPOLA!A:C,2,0),\"CODIGO INCORRECTO\")","v":"CODIGO INCORRECTO"}]
[910,null,null,null,null,null,null,null,null,null,null,null,null,null,null,null,null,null,null,null,null,null,null,null,null,null,null,null,null,null,null,null,null,null,null,null,null,null,null,{"$f":"IFERROR(VLOOKUP(AM912,Cod_DIVIPOLA!A:C,2,0),\"CODIGO INCORRECTO\")","v":"CODIGO INCORRECTO"}]
[911,null,null,null,null,null,null,null,null,null,null,null,null,null,null,null,null,null,null,null,null,null,null,null,null,null,null,null,null,null,null,null,null,null,null,null,null,null,null,{"$f":"IFERROR(VLOOKUP(AM913,Cod_DIVIPOLA!A:C,2,0),\"CODIGO INCORRECTO\")","v":"CODIGO INCORRECTO"}]
[912,null,null,null,null,null,null,null,null,null,null,null,null,null,null,null,null,null,null,null,null,null,null,null,null,null,null,null,null,null,null,null,null,null,null,null,null,null,null,{"$f":"IFERROR(VLOOKUP(AM914,Cod_DIVIPOLA!A:C,2,0),\"CODIGO INCORRECTO\")","v":"CODIGO INCORRECTO"}]
[913,null,null,null,null,null,null,null,null,null,null,null,null,null,null,null,null,null,null,null,null,null,null,null,null,null,null,null,null,null,null,null,null,null,null,null,null,null,null,{"$f":"IFERROR(VLOOKUP(AM915,Cod_DIVIPOLA!A:C,2,0),\"CODIGO INCORRECTO\")","v":"CODIGO INCORRECTO"}]
[914,null,null,null,null,null,null,null,null,null,null,null,null,null,null,null,null,null,null,null,null,null,null,null,null,null,null,null,null,null,null,null,null,null,null,null,null,null,null,{"$f":"IFERROR(VLOOKUP(AM916,Cod_DIVIPOLA!A:C,2,0),\"CODIGO INCORRECTO\")","v":"CODIGO INCORRECTO"}]
[915,null,null,null,null,null,null,null,null,null,null,null,null,null,null,null,null,null,null,null,null,null,null,null,null,null,null,null,null,null,null,null,null,null,null,null,null,null,null,{"$f":"IFERROR(VLOOKUP(AM917,Cod_DIVIPOLA!A:C,2,0),\"CODIGO INCORRECTO\")","v":"CODIGO INCORRECTO"}]
[916,null,null,null,null,null,null,null,null,null,null,null,null,null,null,null,null,null,null,null,null,null,null,null,null,null,null,null,null,null,null,null,null,null,null,null,null,null,null,{"$f":"IFERROR(VLOOKUP(AM918,Cod_DIVIPOLA!A:C,2,0),\"CODIGO INCORRECTO\")","v":"CODIGO INCORRECTO"}]
[917,null,null,null,null,null,null,null,null,null,null,null,null,null,null,null,null,null,null,null,null,null,null,null,null,null,null,null,null,null,null,null,null,null,null,null,null,null,null,{"$f":"IFERROR(VLOOKUP(AM919,Cod_DIVIPOLA!A:C,2,0),\"CODIGO INCORRECTO\")","v":"CODIGO INCORRECTO"}]
[918,null,null,null,null,null,null,null,null,null,null,null,null,null,null,null,null,null,null,null,null,null,null,null,null,null,null,null,null,null,null,null,null,null,null,null,null,null,null,{"$f":"IFERROR(VLOOKUP(AM920,Cod_DIVIPOLA!A:C,2,0),\"CODIGO INCORRECTO\")","v":"CODIGO INCORRECTO"}]
[919,null,null,null,null,null,null,null,null,null,null,null,null,null,null,null,null,null,null,null,null,null,null,null,null,null,null,null,null,null,null,null,null,null,null,null,null,null,null,{"$f":"IFERROR(VLOOKUP(AM921,Cod_DIVIPOLA!A:C,2,0),\"CODIGO INCORRECTO\")","v":"CODIGO INCORRECTO"}]
[920,null,null,null,null,null,null,null,null,null,null,null,null,null,null,null,null,null,null,null,null,null,null,null,null,null,null,null,null,null,null,null,null,null,null,null,null,null,null,{"$f":"IFERROR(VLOOKUP(AM922,Cod_DIVIPOLA!A:C,2,0),\"CODIGO INCORRECTO\")","v":"CODIGO INCORRECTO"}]
[921,null,null,null,null,null,null,null,null,null,null,null,null,null,null,null,null,null,null,null,null,null,null,null,null,null,null,null,null,null,null,null,null,null,null,null,null,null,null,{"$f":"IFERROR(VLOOKUP(AM923,Cod_DIVIPOLA!A:C,2,0),\"CODIGO INCORRECTO\")","v":"CODIGO INCORRECTO"}]
[922,null,null,null,null,null,null,null,null,null,null,null,null,null,null,null,null,null,null,null,null,null,null,null,null,null,null,null,null,null,null,null,null,null,null,null,null,null,null,{"$f":"IFERROR(VLOOKUP(AM924,Cod_DIVIPOLA!A:C,2,0),\"CODIGO INCORRECTO\")","v":"CODIGO INCORRECTO"}]
[923,null,null,null,null,null,null,null,null,null,null,null,null,null,null,null,null,null,null,null,null,null,null,null,null,null,null,null,null,null,null,null,null,null,null,null,null,null,null,{"$f":"IFERROR(VLOOKUP(AM925,Cod_DIVIPOLA!A:C,2,0),\"CODIGO INCORRECTO\")","v":"CODIGO INCORRECTO"}]
[924,null,null,null,null,null,null,null,null,null,null,null,null,null,null,null,null,null,null,null,null,null,null,null,null,null,null,null,null,null,null,null,null,null,null,null,null,null,null,{"$f":"IFERROR(VLOOKUP(AM926,Cod_DIVIPOLA!A:C,2,0),\"CODIGO INCORRECTO\")","v":"CODIGO INCORRECTO"}]
[925,null,null,null,null,null,null,null,null,null,null,null,null,null,null,null,null,null,null,null,null,null,null,null,null,null,null,null,null,null,null,null,null,null,null,null,null,null,null,{"$f":"IFERROR(VLOOKUP(AM927,Cod_DIVIPOLA!A:C,2,0),\"CODIGO INCORRECTO\")","v":"CODIGO INCORRECTO"}]
[926,null,null,null,null,null,null,null,null,null,null,null,null,null,null,null,null,null,null,null,null,null,null,null,null,null,null,null,null,null,null,null,null,null,null,null,null,null,null,{"$f":"IFERROR(VLOOKUP(AM928,Cod_DIVIPOLA!A:C,2,0),\"CODIGO INCORRECTO\")","v":"CODIGO INCORRECTO"}]
[927,null,null,null,null,null,null,null,null,null,null,null,null,null,null,null,null,null,null,null,null,null,null,null,null,null,null,null,null,null,null,null,null,null,null,null,null,null,null,{"$f":"IFERROR(VLOOKUP(AM929,Cod_DIVIPOLA!A:C,2,0),\"CODIGO INCORRECTO\")","v":"CODIGO INCORRECTO"}]
[928,null,null,null,null,null,null,null,null,null,null,null,null,null,null,null,null,null,null,null,null,null,null,null,null,null,null,null,null,null,null,null,null,null,null,null,null,null,null,{"$f":"IFERROR(VLOOKUP(AM930,Cod_DIVIPOLA!A:C,2,0),\"CODIGO INCORRECTO\")","v":"CODIGO INCORRECTO"}]
[929,null,null,null,null,null,null,null,null,null,null,null,null,null,null,null,null,null,null,null,null,null,null,null,null,null,null,null,null,null,null,null,null,null,null,null,null,null,null,{"$f":"IFERROR(VLOOKUP(AM931,Cod_DIVIPOLA!A:C,2,0),\"CODIGO INCORRECTO\")","v":"CODIGO INCORRECTO"}]
[930,null,null,null,null,null,null,null,null,null,null,null,null,null,null,null,null,null,null,null,null,null,null,null,null,null,null,null,null,null,null,null,null,null,null,null,null,null,null,{"$f":"IFERROR(VLOOKUP(AM932,Cod_DIVIPOLA!A:C,2,0),\"CODIGO INCORRECTO\")","v":"CODIGO INCORRECTO"}]
[931,null,null,null,null,null,null,null,null,null,null,null,null,null,null,null,null,null,null,null,null,null,null,null,null,null,null,null,null,null,null,null,null,null,null,null,null,null,null,{"$f":"IFERROR(VLOOKUP(AM933,Cod_DIVIPOLA!A:C,2,0),\"CODIGO INCORRECTO\")","v":"CODIGO INCORRECTO"}]
[932,null,null,null,null,null,null,null,null,null,null,null,null,null,null,null,null,null,null,null,null,null,null,null,null,null,null,null,null,null,null,null,null,null,null,null,null,null,null,{"$f":"IFERROR(VLOOKUP(AM934,Cod_DIVIPOLA!A:C,2,0),\"CODIGO INCORRECTO\")","v":"CODIGO INCORRECTO"}]
[933,null,null,null,null,null,null,null,null,null,null,null,null,null,null,null,null,null,null,null,null,null,null,null,null,null,null,null,null,null,null,null,null,null,null,null,null,null,null,{"$f":"IFERROR(VLOOKUP(AM935,Cod_DIVIPOLA!A:C,2,0),\"CODIGO INCORRECTO\")","v":"CODIGO INCORRECTO"}]
[934,null,null,null,null,null,null,null,null,null,null,null,null,null,null,null,null,null,null,null,null,null,null,null,null,null,null,null,null,null,null,null,null,null,null,null,null,null,null,{"$f":"IFERROR(VLOOKUP(AM936,Cod_DIVIPOLA!A:C,2,0),\"CODIGO INCORRECTO\")","v":"CODIGO INCORRECTO"}]
[935,null,null,null,null,null,null,null,null,null,null,null,null,null,null,null,null,null,null,null,null,null,null,null,null,null,null,null,null,null,null,null,null,null,null,null,null,null,null,{"$f":"IFERROR(VLOOKUP(AM937,Cod_DIVIPOLA!A:C,2,0),\"CODIGO INCORRECTO\")","v":"CODIGO INCORRECTO"}]
[936,null,null,null,null,null,null,null,null,null,null,null,null,null,null,null,null,null,null,null,null,null,null,null,null,null,null,null,null,null,null,null,null,null,null,null,null,null,null,{"$f":"IFERROR(VLOOKUP(AM938,Cod_DIVIPOLA!A:C,2,0),\"CODIGO INCORRECTO\")","v":"CODIGO INCORRECTO"}]
[937,null,null,null,null,null,null,null,null,null,null,null,null,null,null,null,null,null,null,null,null,null,null,null,null,null,null,null,null,null,null,null,null,null,null,null,null,null,null,{"$f":"IFERROR(VLOOKUP(AM939,Cod_DIVIPOLA!A:C,2,0),\"CODIGO INCORRECTO\")","v":"CODIGO INCORRECTO"}]
[938,null,null,null,null,null,null,null,null,null,null,null,null,null,null,null,null,null,null,null,null,null,null,null,null,null,null,null,null,null,null,null,null,null,null,null,null,null,null,{"$f":"IFERROR(VLOOKUP(AM940,Cod_DIVIPOLA!A:C,2,0),\"CODIGO INCORRECTO\")","v":"CODIGO INCORRECTO"}]
[939,null,null,null,null,null,null,null,null,null,null,null,null,null,null,null,null,null,null,null,null,null,null,null,null,null,null,null,null,null,null,null,null,null,null,null,null,null,null,{"$f":"IFERROR(VLOOKUP(AM941,Cod_DIVIPOLA!A:C,2,0),\"CODIGO INCORRECTO\")","v":"CODIGO INCORRECTO"}]
[940,null,null,null,null,null,null,null,null,null,null,null,null,null,null,null,null,null,null,null,null,null,null,null,null,null,null,null,null,null,null,null,null,null,null,null,null,null,null,{"$f":"IFERROR(VLOOKUP(AM942,Cod_DIVIPOLA!A:C,2,0),\"CODIGO INCORRECTO\")","v":"CODIGO INCORRECTO"}]
[941,null,null,null,null,null,null,null,null,null,null,null,null,null,null,null,null,null,null,null,null,null,null,null,null,null,null,null,null,null,null,null,null,null,null,null,null,null,null,{"$f":"IFERROR(VLOOKUP(AM943,Cod_DIVIPOLA!A:C,2,0),\"CODIGO INCORRECTO\")","v":"CODIGO INCORRECTO"}]
[942,null,null,null,null,null,null,null,null,null,null,null,null,null,null,null,null,null,null,null,null,null,null,null,null,null,null,null,null,null,null,null,null,null,null,null,null,null,null,{"$f":"IFERROR(VLOOKUP(AM944,Cod_DIVIPOLA!A:C,2,0),\"CODIGO INCORRECTO\")","v":"CODIGO INCORRECTO"}]
[943,null,null,null,null,null,null,null,null,null,null,null,null,null,null,null,null,null,null,null,null,null,null,null,null,null,null,null,null,null,null,null,null,null,null,null,null,null,null,{"$f":"IFERROR(VLOOKUP(AM945,Cod_DIVIPOLA!A:C,2,0),\"CODIGO INCORRECTO\")","v":"CODIGO INCORRECTO"}]
[944,null,null,null,null,null,null,null,null,null,null,null,null,null,null,null,null,null,null,null,null,null,null,null,null,null,null,null,null,null,null,null,null,null,null,null,null,null,null,{"$f":"IFERROR(VLOOKUP(AM946,Cod_DIVIPOLA!A:C,2,0),\"CODIGO INCORRECTO\")","v":"CODIGO INCORRECTO"}]
[945,null,null,null,null,null,null,null,null,null,null,null,null,null,null,null,null,null,null,null,null,null,null,null,null,null,null,null,null,null,null,null,null,null,null,null,null,null,null,{"$f":"IFERROR(VLOOKUP(AM947,Cod_DIVIPOLA!A:C,2,0),\"CODIGO INCORRECTO\")","v":"CODIGO INCORRECTO"}]
[946,null,null,null,null,null,null,null,null,null,null,null,null,null,null,null,null,null,null,null,null,null,null,null,null,null,null,null,null,null,null,null,null,null,null,null,null,null,null,{"$f":"IFERROR(VLOOKUP(AM948,Cod_DIVIPOLA!A:C,2,0),\"CODIGO INCORRECTO\")","v":"CODIGO INCORRECTO"}]
[947,null,null,null,null,null,null,null,null,null,null,null,null,null,null,null,null,null,null,null,null,null,null,null,null,null,null,null,null,null,null,null,null,null,null,null,null,null,null,{"$f":"IFERROR(VLOOKUP(AM949,Cod_DIVIPOLA!A:C,2,0),\"CODIGO INCORRECTO\")","v":"CODIGO INCORRECTO"}]
[948,null,null,null,null,null,null,null,null,null,null,null,null,null,null,null,null,null,null,null,null,null,null,null,null,null,null,null,null,null,null,null,null,null,null,null,null,null,null,{"$f":"IFERROR(VLOOKUP(AM950,Cod_DIVIPOLA!A:C,2,0),\"CODIGO INCORRECTO\")","v":"CODIGO INCORRECTO"}]
[949,null,null,null,null,null,null,null,null,null,null,null,null,null,null,null,null,null,null,null,null,null,null,null,null,null,null,null,null,null,null,null,null,null,null,null,null,null,null,{"$f":"IFERROR(VLOOKUP(AM951,Cod_DIVIPOLA!A:C,2,0),\"CODIGO INCORRECTO\")","v":"CODIGO INCORRECTO"}]
[950,null,null,null,null,null,null,null,null,null,null,null,null,null,null,null,null,null,null,null,null,null,null,null,null,null,null,null,null,null,null,null,null,null,null,null,null,null,null,{"$f":"IFERROR(VLOOKUP(AM952,Cod_DIVIPOLA!A:C,2,0),\"CODIGO INCORRECTO\")","v":"CODIGO INCORRECTO"}]
[951,null,null,null,null,null,null,null,null,null,null,null,null,null,null,null,null,null,null,null,null,null,null,null,null,null,null,null,null,null,null,null,null,null,null,null,null,null,null,{"$f":"IFERROR(VLOOKUP(AM953,Cod_DIVIPOLA!A:C,2,0),\"CODIGO INCORRECTO\")","v":"CODIGO INCORRECTO"}]
[952,null,null,null,null,null,null,null,null,null,null,null,null,null,null,null,null,null,null,null,null,null,null,null,null,null,null,null,null,null,null,null,null,null,null,null,null,null,null,{"$f":"IFERROR(VLOOKUP(AM954,Cod_DIVIPOLA!A:C,2,0),\"CODIGO INCORRECTO\")","v":"CODIGO INCORRECTO"}]
[953,null,null,null,null,null,null,null,null,null,null,null,null,null,null,null,null,null,null,null,null,null,null,null,null,null,null,null,null,null,null,null,null,null,null,null,null,null,null,{"$f":"IFERROR(VLOOKUP(AM955,Cod_DIVIPOLA!A:C,2,0),\"CODIGO INCORRECTO\")","v":"CODIGO INCORRECTO"}]
[954,null,null,null,null,null,null,null,null,null,null,null,null,null,null,null,null,null,null,null,null,null,null,null,null,null,null,null,null,null,null,null,null,null,null,null,null,null,null,{"$f":"IFERROR(VLOOKUP(AM956,Cod_DIVIPOLA!A:C,2,0),\"CODIGO INCORRECTO\")","v":"CODIGO INCORRECTO"}]
[955,null,null,null,null,null,null,null,null,null,null,null,null,null,null,null,null,null,null,null,null,null,null,null,null,null,null,null,null,null,null,null,null,null,null,null,null,null,null,{"$f":"IFERROR(VLOOKUP(AM957,Cod_DIVIPOLA!A:C,2,0),\"CODIGO INCORRECTO\")","v":"CODIGO INCORRECTO"}]
[956,null,null,null,null,null,null,null,null,null,null,null,null,null,null,null,null,null,null,null,null,null,null,null,null,null,null,null,null,null,null,null,null,null,null,null,null,null,null,{"$f":"IFERROR(VLOOKUP(AM958,Cod_DIVIPOLA!A:C,2,0),\"CODIGO INCORRECTO\")","v":"CODIGO INCORRECTO"}]
[957,null,null,null,null,null,null,null,null,null,null,null,null,null,null,null,null,null,null,null,null,null,null,null,null,null,null,null,null,null,null,null,null,null,null,null,null,null,null,{"$f":"IFERROR(VLOOKUP(AM959,Cod_DIVIPOLA!A:C,2,0),\"CODIGO INCORRECTO\")","v":"CODIGO INCORRECTO"}]
[958,null,null,null,null,null,null,null,null,null,null,null,null,null,null,null,null,null,null,null,null,null,null,null,null,null,null,null,null,null,null,null,null,null,null,null,null,null,null,{"$f":"IFERROR(VLOOKUP(AM960,Cod_DIVIPOLA!A:C,2,0),\"CODIGO INCORRECTO\")","v":"CODIGO INCORRECTO"}]
[959,null,null,null,null,null,null,null,null,null,null,null,null,null,null,null,null,null,null,null,null,null,null,null,null,null,null,null,null,null,null,null,null,null,null,null,null,null,null,{"$f":"IFERROR(VLOOKUP(AM961,Cod_DIVIPOLA!A:C,2,0),\"CODIGO INCORRECTO\")","v":"CODIGO INCORRECTO"}]
[960,null,null,null,null,null,null,null,null,null,null,null,null,null,null,null,null,null,null,null,null,null,null,null,null,null,null,null,null,null,null,null,null,null,null,null,null,null,null,{"$f":"IFERROR(VLOOKUP(AM962,Cod_DIVIPOLA!A:C,2,0),\"CODIGO INCORRECTO\")","v":"CODIGO INCORRECTO"}]
[961,null,null,null,null,null,null,null,null,null,null,null,null,null,null,null,null,null,null,null,null,null,null,null,null,null,null,null,null,null,null,null,null,null,null,null,null,null,null,{"$f":"IFERROR(VLOOKUP(AM963,Cod_DIVIPOLA!A:C,2,0),\"CODIGO INCORRECTO\")","v":"CODIGO INCORRECTO"}]
[962,null,null,null,null,null,null,null,null,null,null,null,null,null,null,null,null,null,null,null,null,null,null,null,null,null,null,null,null,null,null,null,null,null,null,null,null,null,null,{"$f":"IFERROR(VLOOKUP(AM964,Cod_DIVIPOLA!A:C,2,0),\"CODIGO INCORRECTO\")","v":"CODIGO INCORRECTO"}]
[963,null,null,null,null,null,null,null,null,null,null,null,null,null,null,null,null,null,null,null,null,null,null,null,null,null,null,null,null,null,null,null,null,null,null,null,null,null,null,{"$f":"IFERROR(VLOOKUP(AM965,Cod_DIVIPOLA!A:C,2,0),\"CODIGO INCORRECTO\")","v":"CODIGO INCORRECTO"}]
[964,null,null,null,null,null,null,null,null,null,null,null,null,null,null,null,null,null,null,null,null,null,null,null,null,null,null,null,null,null,null,null,null,null,null,null,null,null,null,{"$f":"IFERROR(VLOOKUP(AM966,Cod_DIVIPOLA!A:C,2,0),\"CODIGO INCORRECTO\")","v":"CODIGO INCORRECTO"}]
[965,null,null,null,null,null,null,null,null,null,null,null,null,null,null,null,null,null,null,null,null,null,null,null,null,null,null,null,null,null,null,null,null,null,null,null,null,null,null,{"$f":"IFERROR(VLOOKUP(AM967,Cod_DIVIPOLA!A:C,2,0),\"CODIGO INCORRECTO\")","v":"CODIGO INCORRECTO"}]
[966,null,null,null,null,null,null,null,null,null,null,null,null,null,null,null,null,null,null,null,null,null,null,null,null,null,null,null,null,null,null,null,null,null,null,null,null,null,null,{"$f":"IFERROR(VLOOKUP(AM968,Cod_DIVIPOLA!A:C,2,0),\"CODIGO INCORRECTO\")","v":"CODIGO INCORRECTO"}]
[967,null,null,null,null,null,null,null,null,null,null,null,null,null,null,null,null,null,null,null,null,null,null,null,null,null,null,null,null,null,null,null,null,null,null,null,null,null,null,{"$f":"IFERROR(VLOOKUP(AM969,Cod_DIVIPOLA!A:C,2,0),\"CODIGO INCORRECTO\")","v":"CODIGO INCORRECTO"}]
[968,null,null,null,null,null,null,null,null,null,null,null,null,null,null,null,null,null,null,null,null,null,null,null,null,null,null,null,null,null,null,null,null,null,null,null,null,null,null,{"$f":"IFERROR(VLOOKUP(AM970,Cod_DIVIPOLA!A:C,2,0),\"CODIGO INCORRECTO\")","v":"CODIGO INCORRECTO"}]
[969,null,null,null,null,null,null,null,null,null,null,null,null,null,null,null,null,null,null,null,null,null,null,null,null,null,null,null,null,null,null,null,null,null,null,null,null,null,null,{"$f":"IFERROR(VLOOKUP(AM971,Cod_DIVIPOLA!A:C,2,0),\"CODIGO INCORRECTO\")","v":"CODIGO INCORRECTO"}]
[970,null,null,null,null,null,null,null,null,null,null,null,null,null,null,null,null,null,null,null,null,null,null,null,null,null,null,null,null,null,null,null,null,null,null,null,null,null,null,{"$f":"IFERROR(VLOOKUP(AM972,Cod_DIVIPOLA!A:C,2,0),\"CODIGO INCORRECTO\")","v":"CODIGO INCORRECTO"}]
[971,null,null,null,null,null,null,null,null,null,null,null,null,null,null,null,null,null,null,null,null,null,null,null,null,null,null,null,null,null,null,null,null,null,null,null,null,null,null,{"$f":"IFERROR(VLOOKUP(AM973,Cod_DIVIPOLA!A:C,2,0),\"CODIGO INCORRECTO\")","v":"CODIGO INCORRECTO"}]
[972,null,null,null,null,null,null,null,null,null,null,null,null,null,null,null,null,null,null,null,null,null,null,null,null,null,null,null,null,null,null,null,null,null,null,null,null,null,null,{"$f":"IFERROR(VLOOKUP(AM974,Cod_DIVIPOLA!A:C,2,0),\"CODIGO INCORRECTO\")","v":"CODIGO INCORRECTO"}]
[973,null,null,null,null,null,null,null,null,null,null,null,null,null,null,null,null,null,null,null,null,null,null,null,null,null,null,null,null,null,null,null,null,null,null,null,null,null,null,{"$f":"IFERROR(VLOOKUP(AM975,Cod_DIVIPOLA!A:C,2,0),\"CODIGO INCORRECTO\")","v":"CODIGO INCORRECTO"}]
[974,null,null,null,null,null,null,null,null,null,null,null,null,null,null,null,null,null,null,null,null,null,null,null,null,null,null,null,null,null,null,null,null,null,null,null,null,null,null,{"$f":"IFERROR(VLOOKUP(AM976,Cod_DIVIPOLA!A:C,2,0),\"CODIGO INCORRECTO\")","v":"CODIGO INCORRECTO"}]
[975,null,null,null,null,null,null,null,null,null,null,null,null,null,null,null,null,null,null,null,null,null,null,null,null,null,null,null,null,null,null,null,null,null,null,null,null,null,null,{"$f":"IFERROR(VLOOKUP(AM977,Cod_DIVIPOLA!A:C,2,0),\"CODIGO INCORRECTO\")","v":"CODIGO INCORRECTO"}]
[976,null,null,null,null,null,null,null,null,null,null,null,null,null,null,null,null,null,null,null,null,null,null,null,null,null,null,null,null,null,null,null,null,null,null,null,null,null,null,{"$f":"IFERROR(VLOOKUP(AM978,Cod_DIVIPOLA!A:C,2,0),\"CODIGO INCORRECTO\")","v":"CODIGO INCORRECTO"}]
[977,null,null,null,null,null,null,null,null,null,null,null,null,null,null,null,null,null,null,null,null,null,null,null,null,null,null,null,null,null,null,null,null,null,null,null,null,null,null,{"$f":"IFERROR(VLOOKUP(AM979,Cod_DIVIPOLA!A:C,2,0),\"CODIGO INCORRECTO\")","v":"CODIGO INCORRECTO"}]
[978,null,null,null,null,null,null,null,null,null,null,null,null,null,null,null,null,null,null,null,null,null,null,null,null,null,null,null,null,null,null,null,null,null,null,null,null,null,null,{"$f":"IFERROR(VLOOKUP(AM980,Cod_DIVIPOLA!A:C,2,0),\"CODIGO INCORRECTO\")","v":"CODIGO INCORRECTO"}]
[979,null,null,null,null,null,null,null,null,null,null,null,null,null,null,null,null,null,null,null,null,null,null,null,null,null,null,null,null,null,null,null,null,null,null,null,null,null,null,{"$f":"IFERROR(VLOOKUP(AM981,Cod_DIVIPOLA!A:C,2,0),\"CODIGO INCORRECTO\")","v":"CODIGO INCORRECTO"}]
[980,null,null,null,null,null,null,null,null,null,null,null,null,null,null,null,null,null,null,null,null,null,null,null,null,null,null,null,null,null,null,null,null,null,null,null,null,null,null,{"$f":"IFERROR(VLOOKUP(AM982,Cod_DIVIPOLA!A:C,2,0),\"CODIGO INCORRECTO\")","v":"CODIGO INCORRECTO"}]
[981,null,null,null,null,null,null,null,null,null,null,null,null,null,null,null,null,null,null,null,null,null,null,null,null,null,null,null,null,null,null,null,null,null,null,null,null,null,null,{"$f":"IFERROR(VLOOKUP(AM983,Cod_DIVIPOLA!A:C,2,0),\"CODIGO INCORRECTO\")","v":"CODIGO INCORRECTO"}]
[982,null,null,null,null,null,null,null,null,null,null,null,null,null,null,null,null,null,null,null,null,null,null,null,null,null,null,null,null,null,null,null,null,null,null,null,null,null,null,{"$f":"IFERROR(VLOOKUP(AM984,Cod_DIVIPOLA!A:C,2,0),\"CODIGO INCORRECTO\")","v":"CODIGO INCORRECTO"}]
[983,null,null,null,null,null,null,null,null,null,null,null,null,null,null,null,null,null,null,null,null,null,null,null,null,null,null,null,null,null,null,null,null,null,null,null,null,null,null,{"$f":"IFERROR(VLOOKUP(AM985,Cod_DIVIPOLA!A:C,2,0),\"CODIGO INCORRECTO\")","v":"CODIGO INCORRECTO"}]
[984,null,null,null,null,null,null,null,null,null,null,null,null,null,null,null,null,null,null,null,null,null,null,null,null,null,null,null,null,null,null,null,null,null,null,null,null,null,null,{"$f":"IFERROR(VLOOKUP(AM986,Cod_DIVIPOLA!A:C,2,0),\"CODIGO INCORRECTO\")","v":"CODIGO INCORRECTO"}]
[985,null,null,null,null,null,null,null,null,null,null,null,null,null,null,null,null,null,null,null,null,null,null,null,null,null,null,null,null,null,null,null,null,null,null,null,null,null,null,{"$f":"IFERROR(VLOOKUP(AM987,Cod_DIVIPOLA!A:C,2,0),\"CODIGO INCORRECTO\")","v":"CODIGO INCORRECTO"}]
[986,null,null,null,null,null,null,null,null,null,null,null,null,null,null,null,null,null,null,null,null,null,null,null,null,null,null,null,null,null,null,null,null,null,null,null,null,null,null,{"$f":"IFERROR(VLOOKUP(AM988,Cod_DIVIPOLA!A:C,2,0),\"CODIGO INCORRECTO\")","v":"CODIGO INCORRECTO"}]
[987,null,null,null,null,null,null,null,null,null,null,null,null,null,null,null,null,null,null,null,null,null,null,null,null,null,null,null,null,null,null,null,null,null,null,null,null,null,null,{"$f":"IFERROR(VLOOKUP(AM989,Cod_DIVIPOLA!A:C,2,0),\"CODIGO INCORRECTO\")","v":"CODIGO INCORRECTO"}]
[988,null,null,null,null,null,null,null,null,null,null,null,null,null,null,null,null,null,null,null,null,null,null,null,null,null,null,null,null,null,null,null,null,null,null,null,null,null,null,{"$f":"IFERROR(VLOOKUP(AM990,Cod_DIVIPOLA!A:C,2,0),\"CODIGO INCORRECTO\")","v":"CODIGO INCORRECTO"}]
[989,null,null,null,null,null,null,null,null,null,null,null,null,null,null,null,null,null,null,null,null,null,null,null,null,null,null,null,null,null,null,null,null,null,null,null,null,null,null,{"$f":"IFERROR(VLOOKUP(AM991,Cod_DIVIPOLA!A:C,2,0),\"CODIGO INCORRECTO\")","v":"CODIGO INCORRECTO"}]
[990,null,null,null,null,null,null,null,null,null,null,null,null,null,null,null,null,null,null,null,null,null,null,null,null,null,null,null,null,null,null,null,null,null,null,null,null,null,null,{"$f":"IFERROR(VLOOKUP(AM992,Cod_DIVIPOLA!A:C,2,0),\"CODIGO INCORRECTO\")","v":"CODIGO INCORRECTO"}]
[991,null,null,null,null,null,null,null,null,null,null,null,null,null,null,null,null,null,null,null,null,null,null,null,null,null,null,null,null,null,null,null,null,null,null,null,null,null,null,{"$f":"IFERROR(VLOOKUP(AM993,Cod_DIVIPOLA!A:C,2,0),\"CODIGO INCORRECTO\")","v":"CODIGO INCORRECTO"}]
[992,null,null,null,null,null,null,null,null,null,null,null,null,null,null,null,null,null,null,null,null,null,null,null,null,null,null,null,null,null,null,null,null,null,null,null,null,null,null,{"$f":"IFERROR(VLOOKUP(AM994,Cod_DIVIPOLA!A:C,2,0),\"CODIGO INCORRECTO\")","v":"CODIGO INCORRECTO"}]
[993,null,null,null,null,null,null,null,null,null,null,null,null,null,null,null,null,null,null,null,null,null,null,null,null,null,null,null,null,null,null,null,null,null,null,null,null,null,null,{"$f":"IFERROR(VLOOKUP(AM995,Cod_DIVIPOLA!A:C,2,0),\"CODIGO INCORRECTO\")","v":"CODIGO INCORRECTO"}]
[994,null,null,null,null,null,null,null,null,null,null,null,null,null,null,null,null,null,null,null,null,null,null,null,null,null,null,null,null,null,null,null,null,null,null,null,null,null,null,{"$f":"IFERROR(VLOOKUP(AM996,Cod_DIVIPOLA!A:C,2,0),\"CODIGO INCORRECTO\")","v":"CODIGO INCORRECTO"}]
[995,null,null,null,null,null,null,null,null,null,null,null,null,null,null,null,null,null,null,null,null,null,null,null,null,null,null,null,null,null,null,null,null,null,null,null,null,null,null,{"$f":"IFERROR(VLOOKUP(AM997,Cod_DIVIPOLA!A:C,2,0),\"CODIGO INCORRECTO\")","v":"CODIGO INCORRECTO"}]
[996,null,null,null,null,null,null,null,null,null,null,null,null,null,null,null,null,null,null,null,null,null,null,null,null,null,null,null,null,null,null,null,null,null,null,null,null,null,null,{"$f":"IFERROR(VLOOKUP(AM998,Cod_DIVIPOLA!A:C,2,0),\"CODIGO INCORRECTO\")","v":"CODIGO INCORRECTO"}]
[997,null,null,null,null,null,null,null,null,null,null,null,null,null,null,null,null,null,null,null,null,null,null,null,null,null,null,null,null,null,null,null,null,null,null,null,null,null,null,{"$f":"IFERROR(VLOOKUP(AM999,Cod_DIVIPOLA!A:C,2,0),\"CODIGO INCORRECTO\")","v":"CODIGO INCORRECTO"}]
[998,null,null,null,null,null,null,null,null,null,null,null,null,null,null,null,null,null,null,null,null,null,null,null,null,null,null,null,null,null,null,null,null,null,null,null,null,null,null,{"$f":"IFERROR(VLOOKUP(AM1000,Cod_DIVIPOLA!A:C,2,0),\"CODIGO INCORRECTO\")","v":"CODIGO INCORRECTO"}]
[1032,null,null,null,null,null,null,null,null,null,null,null,null,null,null,null,null,null,null,null,null,null,null,null,null,null,null,null,null,null,null,null,null,null,null,null,null,null,null,{"$f":"IFERROR(VLOOKUP(AM1034,Cod_DIVIPOLA!A:C,2,0),\"CODIGO INCORRECTO\")","v":"CODIGO INCORRECTO"}]
[1075,null,null,null,null,null,null,null,null,null,null,null,null,null,null,null,null,null,null,null,null,null,null,null,null,null,null,null,null,null,null,null,null,null,null,null,null,null,null,{"$f":"IFERROR(VLOOKUP(AM1077,Cod_DIVIPOLA!A:C,2,0),\"CODIGO INCORRECTO\")","v":"CODIGO INCORRECTO"}]
[1148,null,null,null,null,null,null,null,null,null,null,null,null,null,null,null,null,null,null,null,null,null,null,null,null,null,null,null,null,null,null,null,null,null,null,null,null,null,null,{"$f":"IFERROR(VLOOKUP(AM1150,Cod_DIVIPOLA!A:C,2,0),\"CODIGO INCORRECTO\")","v":"CODIGO INCORRECTO"}]
[1194,null,null,null,null,null,null,null,null,null,null,null,null,null,null,null,null,null,null,null,null,null,null,null,null,null,null,null,null,null,null,null,null,null,null,null,null,null,null,{"$f":"IFERROR(VLOOKUP(AM1196,Cod_DIVIPOLA!A:C,2,0),\"CODIGO INCORRECTO\")","v":"CODIGO INCORRECTO"}]
[1269,null,null,null,null,null,null,null,null,null,null,null,null,null,null,null,null,null,null,null,null,null,null,null,null,null,null,null,null,null,null,null,null,null,null,null,null,null,null,{"$f":"IFERROR(VLOOKUP(AM1271,Cod_DIVIPOLA!A:C,2,0),\"CODIGO INCORRECTO\")","v":"CODIGO INCORRECTO"}]
[1322,null,null,null,null,null,null,null,null,null,null,null,null,null,null,null,null,null,null,null,null,null,null,null,null,null,null,null,null,null,null,null,null,null,null,null,null,null,null,{"$f":"IFERROR(VLOOKUP(AM1324,Cod_DIVIPOLA!A:C,2,0),\"CODIGO INCORRECTO\")","v":"CODIGO INCORRECTO"}]
[1334,null,null,null,null,null,null,null,null,null,null,null,null,null,null,null,null,null,null,null,null,null,null,null,null,null,null,null,null,null,null,null,null,null,null,null,null,null,null,{"$f":"IFERROR(VLOOKUP(AM1336,Cod_DIVIPOLA!A:C,2,0),\"CODIGO INCORRECTO\")","v":"CODIGO INCORRECTO"}]
[1392,null,null,null,null,null,null,null,null,null,null,null,null,null,null,null,null,null,null,null,null,null,null,null,null,null,null,null,null,null,null,null,null,null,null,null,null,null,null,{"$f":"IFERROR(VLOOKUP(AM1394,Cod_DIVIPOLA!A:C,2,0),\"CODIGO INCORRECTO\")","v":"CODIGO INCORRECTO"}]
[1453,null,null,null,null,null,null,null,null,null,null,null,null,null,null,null,null,null,null,null,null,null,null,null,null,null,null,null,null,null,null,null,null,null,null,null,null,null,null,{"$f":"IFERROR(VLOOKUP(AM1455,Cod_DIVIPOLA!A:C,2,0),\"CODIGO INCORRECTO\")","v":"CODIGO INCORRECTO"}]
[1528,null,null,null,null,null,null,null,null,null,null,null,null,null,null,null,null,null,null,null,null,null,null,null,null,null,null,null,null,null,null,null,null,null,null,null,null,null,null,{"$f":"IFERROR(VLOOKUP(AM1530,Cod_DIVIPOLA!A:C,2,0),\"CODIGO INCORRECTO\")","v":"CODIGO INCORRECTO"}]
[1566,null,null,null,null,null,null,null,null,null,null,null,null,null,null,null,null,null,null,null,null,null,null,null,null,null,null,null,null,null,null,null,null,null,null,null,null,null,null,{"$f":"IFERROR(VLOOKUP(AM1568,Cod_DIVIPOLA!A:C,2,0),\"CODIGO INCORRECTO\")","v":"CODIGO INCORRECTO"}]
[1647,null,null,null,null,null,null,null,null,null,null,null,null,null,null,null,null,null,null,null,null,null,null,null,null,null,null,null,null,null,null,null,null,null,null,null,null,null,null,{"$f":"IFERROR(VLOOKUP(AM1649,Cod_DIVIPOLA!A:C,2,0),\"CODIGO INCORRECTO\")","v":"CODIGO INCORRECTO"}]
[1691,null,null,null,null,null,null,null,null,null,null,null,null,null,null,null,null,null,null,null,null,null,null,null,null,null,null,null,null,null,null,null,null,null,null,null,null,null,null,{"$f":"IFERROR(VLOOKUP(AM1693,Cod_DIVIPOLA!A:C,2,0),\"CODIGO INCORRECTO\")","v":"CODIGO INCORRECTO"}]
[1744,null,null,null,null,null,null,null,null,null,null,null,null,null,null,null,null,null,null,null,null,null,null,null,null,null,null,null,null,null,null,null,null,null,null,null,null,null,null,{"$f":"IFERROR(VLOOKUP(AM1746,Cod_DIVIPOLA!A:C,2,0),\"CODIGO INCORRECTO\")","v":"CODIGO INCORRECTO"}]
[1787,null,null,null,null,null,null,null,null,null,null,null,null,null,null,null,null,null,null,null,null,null,null,null,null,null,null,null,null,null,null,null,null,null,null,null,null,null,null,{"$f":"IFERROR(VLOOKUP(AM1789,Cod_DIVIPOLA!A:C,2,0),\"CODIGO INCORRECTO\")","v":"CODIGO INCORRECTO"}]
[1865,null,null,null,null,null,null,null,null,null,null,null,null,null,null,null,null,null,null,null,null,null,null,null,null,null,null,null,null,null,null,null,null,null,null,null,null,null,null,{"$f":"IFERROR(VLOOKUP(AM1867,Cod_DIVIPOLA!A:C,2,0),\"CODIGO INCORRECTO\")","v":"CODIGO INCORRECTO"}]
[1906,null,null,null,null,null,null,null,null,null,null,null,null,null,null,null,null,null,null,null,null,null,null,null,null,null,null,null,null,null,null,null,null,null,null,null,null,null,null,{"$f":"IFERROR(VLOOKUP(AM1908,Cod_DIVIPOLA!A:C,2,0),\"CODIGO INCORRECTO\")","v":"CODIGO INCORRECTO"}]
[1935,null,null,null,null,null,null,null,null,null,null,null,null,null,null,null,null,null,null,null,null,null,null,null,null,null,null,null,null,null,null,null,null,null,null,null,null,null,null,{"$f":"IFERROR(VLOOKUP(AM1937,Cod_DIVIPOLA!A:C,2,0),\"CODIGO INCORRECTO\")","v":"CODIGO INCORRECTO"}]
[2003,null,null,null,null,null,null,null,null,null,null,null,null,null,null,null,null,null,null,null,null,null,null,null,null,null,null,null,null,null,null,null,null,null,null,null,null,null,null,{"$f":"IFERROR(VLOOKUP(AM2005,Cod_DIVIPOLA!A:C,2,0),\"CODIGO INCORRECTO\")","v":"CODIGO INCORRECTO"}]
[2046,null,null,null,null,null,null,null,null,null,null,null,null,null,null,null,null,null,null,null,null,null,null,null,null,null,null,null,null,null,null,null,null,null,null,null,null,null,null,{"$f":"IFERROR(VLOOKUP(AM2048,Cod_DIVIPOLA!A:C,2,0),\"CODIGO INCORRECTO\")","v":"CODIGO INCORRECTO"}]
[2109,null,null,null,null,null,null,null,null,null,null,null,null,null,null,null,null,null,null,null,null,null,null,null,null,null,null,null,null,null,null,null,null,null,null,null,null,null,null,{"$f":"IFERROR(VLOOKUP(AM2111,Cod_DIVIPOLA!A:C,2,0),\"CODIGO INCORRECTO\")","v":"CODIGO INCORRECTO"}]
[2165,null,null,null,null,null,null,null,null,null,null,null,null,null,null,null,null,null,null,null,null,null,null,null,null,null,null,null,null,null,null,null,null,null,null,null,null,null,null,{"$f":"IFERROR(VLOOKUP(AM2167,Cod_DIVIPOLA!A:C,2,0),\"CODIGO INCORRECTO\")","v":"CODIGO INCORRECTO"}]
[2240,null,null,null,null,null,null,null,null,null,null,null,null,null,null,null,null,null,null,null,null,null,null,null,null,null,null,null,null,null,null,null,null,null,null,null,null,null,null,{"$f":"IFERROR(VLOOKUP(AM2242,Cod_DIVIPOLA!A:C,2,0),\"CODIGO INCORRECTO\")","v":"CODIGO INCORRECTO"}]
[2283,null,null,null,null,null,null,null,null,null,null,null,null,null,null,null,null,null,null,null,null,null,null,null,null,null,null,null,null,null,null,null,null,null,null,null,null,null,null,{"$f":"IFERROR(VLOOKUP(AM2285,Cod_DIVIPOLA!A:C,2,0),\"CODIGO INCORRECTO\")","v":"CODIGO INCORRECTO"}]
[2305,null,null,null,null,null,null,null,null,null,null,null,null,null,null,null,null,null,null,null,null,null,null,null,null,null,null,null,null,null,null,null,null,null,null,null,null,null,null,{"$f":"IFERROR(VLOOKUP(AM2307,Cod_DIVIPOLA!A:C,2,0),\"CODIGO INCORRECTO\")","v":"CODIGO INCORRECTO"}]
[2408,null,null,null,null,null,null,null,null,null,null,null,null,null,null,null,null,null,null,null,null,null,null,null,null,null,null,null,null,null,null,null,null,null,null,null,null,null,null,{"$f":"IFERROR(VLOOKUP(AM2410,Cod_DIVIPOLA!A:C,2,0),\"CODIGO INCORRECTO\")","v":"CODIGO INCORRECTO"}]
[2456,null,null,null,null,null,null,null,null,null,null,null,null,null,null,null,null,null,null,null,null,null,null,null,null,null,null,null,null,null,null,null,null,null,null,null,null,null,null,{"$f":"IFERROR(VLOOKUP(AM2458,Cod_DIVIPOLA!A:C,2,0),\"CODIGO INCORRECTO\")","v":"CODIGO INCORRECTO"}]
[2499,null,null,null,null,null,null,null,null,null,null,null,null,null,null,null,null,null,null,null,null,null,null,null,null,null,null,null,null,null,null,null,null,null,null,null,null,null,null,{"$f":"IFERROR(VLOOKUP(AM2501,Cod_DIVIPOLA!A:C,2,0),\"CODIGO INCORRECTO\")","v":"CODIGO INCORRECTO"}]
[2527,null,null,null,null,null,null,null,null,null,null,null,null,null,null,null,null,null,null,null,null,null,null,null,null,null,null,null,null,null,null,null,null,null,null,null,null,null,null,{"$f":"IFERROR(VLOOKUP(AM2529,Cod_DIVIPOLA!A:C,2,0),\"CODIGO INCORRECTO\")","v":"CODIGO INCORRECTO"}]
[2618,null,null,null,null,null,null,null,null,null,null,null,null,null,null,null,null,null,null,null,null,null,null,null,null,null,null,null,null,null,null,null,null,null,null,null,null,null,null,{"$f":"IFERROR(VLOOKUP(AM2620,Cod_DIVIPOLA!A:C,2,0),\"CODIGO INCORRECTO\")","v":"CODIGO INCORRECTO"}]
[2652,null,null,null,null,null,null,null,null,null,null,null,null,null,null,null,null,null,null,null,null,null,null,null,null,null,null,null,null,null,null,null,null,null,null,null,null,null,null,{"$f":"IFERROR(VLOOKUP(AM2654,Cod_DIVIPOLA!A:C,2,0),\"CODIGO INCORRECTO\")","v":"CODIGO INCORRECTO"}]
[2715,null,null,null,null,null,null,null,null,null,null,null,null,null,null,null,null,null,null,null,null,null,null,null,null,null,null,null,null,null,null,null,null,null,null,null,null,null,null,{"$f":"IFERROR(VLOOKUP(AM2717,Cod_DIVIPOLA!A:C,2,0),\"CODIGO INCORRECTO\")","v":"CODIGO INCORRECTO"}]
[2758,null,null,null,null,null,null,null,null,null,null,null,null,null,null,null,null,null,null,null,null,null,null,null,null,null,null,null,null,null,null,null,null,null,null,null,null,null,null,{"$f":"IFERROR(VLOOKUP(AM2760,Cod_DIVIPOLA!A:C,2,0),\"CODIGO INCORRECTO\")","v":"CODIGO INCORRECTO"}]
[2826,null,null,null,null,null,null,null,null,null,null,null,null,null,null,null,null,null,null,null,null,null,null,null,null,null,null,null,null,null,null,null,null,null,null,null,null,null,null,{"$f":"IFERROR(VLOOKUP(AM2828,Cod_DIVIPOLA!A:C,2,0),\"CODIGO INCORRECTO\")","v":"CODIGO INCORRECTO"}]
[2855,null,null,null,null,null,null,null,null,null,null,null,null,null,null,null,null,null,null,null,null,null,null,null,null,null,null,null,null,null,null,null,null,null,null,null,null,null,null,{"$f":"IFERROR(VLOOKUP(AM2857,Cod_DIVIPOLA!A:C,2,0),\"CODIGO INCORRECTO\")","v":"CODIGO INCORRECTO"}]
[2951,null,null,null,null,null,null,null,null,null,null,null,null,null,null,null,null,null,null,null,null,null,null,null,null,null,null,null,null,null,null,null,null,null,null,null,null,null,null,{"$f":"IFERROR(VLOOKUP(AM2953,Cod_DIVIPOLA!A:C,2,0),\"CODIGO INCORRECTO\")","v":"CODIGO INCORRECTO"}]
[2974,null,null,null,null,null,null,null,null,null,null,null,null,null,null,null,null,null,null,null,null,null,null,null,null,null,null,null,null,null,null,null,null,null,null,null,null,null,null,{"$f":"IFERROR(VLOOKUP(AM2976,Cod_DIVIPOLA!A:C,2,0),\"CODIGO INCORRECTO\")","v":"CODIGO INCORRECTO"}]
[3017,null,null,null,null,null,null,null,null,null,null,null,null,null,null,null,null,null,null,null,null,null,null,null,null,null,null,null,null,null,null,null,null,null,null,null,null,null,null,{"$f":"IFERROR(VLOOKUP(AM3019,Cod_DIVIPOLA!A:C,2,0),\"CODIGO INCORRECTO\")","v":"CODIGO INCORRECTO"}]
[3070,null,null,null,null,null,null,null,null,null,null,null,null,null,null,null,null,null,null,null,null,null,null,null,null,null,null,null,null,null,null,null,null,null,null,null,null,null,null,{"$f":"IFERROR(VLOOKUP(AM3072,Cod_DIVIPOLA!A:C,2,0),\"CODIGO INCORRECTO\")","v":"CODIGO INCORRECTO"}]
[3168,null,null,null,null,null,null,null,null,null,null,null,null,null,null,null,null,null,null,null,null,null,null,null,null,null,null,null,null,null,null,null,null,null,null,null,null,null,null,{"$f":"IFERROR(VLOOKUP(AM3170,Cod_DIVIPOLA!A:C,2,0),\"CODIGO INCORRECTO\")","v":"CODIGO INCORRECTO"}]
[3211,null,null,null,null,null,null,null,null,null,null,null,null,null,null,null,null,null,null,null,null,null,null,null,null,null,null,null,null,null,null,null,null,null,null,null,null,null,null,{"$f":"IFERROR(VLOOKUP(AM3213,Cod_DIVIPOLA!A:C,2,0),\"CODIGO INCORRECTO\")","v":"CODIGO INCORRECTO"}]
[3244,null,null,null,null,null,null,null,null,null,null,null,null,null,null,null,null,null,null,null,null,null,null,null,null,null,null,null,null,null,null,null,null,null,null,null,null,null,null,{"$f":"IFERROR(VLOOKUP(AM3246,Cod_DIVIPOLA!A:C,2,0),\"CODIGO INCORRECTO\")","v":"CODIGO INCORRECTO"}]
[3330,null,null,null,null,null,null,null,null,null,null,null,null,null,null,null,null,null,null,null,null,null,null,null,null,null,null,null,null,null,null,null,null,null,null,null,null,null,null,{"$f":"IFERROR(VLOOKUP(AM3332,Cod_DIVIPOLA!A:C,2,0),\"CODIGO INCORRECTO\")","v":"CODIGO INCORRECTO"}]
[3369,null,null,null,null,null,null,null,null,null,null,null,null,null,null,null,null,null,null,null,null,null,null,null,null,null,null,null,null,null,null,null,null,null,null,null,null,null,null,{"$f":"IFERROR(VLOOKUP(AM3371,Cod_DIVIPOLA!A:C,2,0),\"CODIGO INCORRECTO\")","v":"CODIGO INCORRECTO"}]
[3427,null,null,null,null,null,null,null,null,null,null,null,null,null,null,null,null,null,null,null,null,null,null,null,null,null,null,null,null,null,null,null,null,null,null,null,null,null,null,{"$f":"IFERROR(VLOOKUP(AM3429,Cod_DIVIPOLA!A:C,2,0),\"CODIGO INCORRECTO\")","v":"CODIGO INCORRECTO"}]
[3470,null,null,null,null,null,null,null,null,null,null,null,null,null,null,null,null,null,null,null,null,null,null,null,null,null,null,null,null,null,null,null,null,null,null,null,null,null,null,{"$f":"IFERROR(VLOOKUP(AM3472,Cod_DIVIPOLA!A:C,2,0),\"CODIGO INCORRECTO\")","v":"CODIGO INCORRECTO"}]
[3543,null,null,null,null,null,null,null,null,null,null,null,null,null,null,null,null,null,null,null,null,null,null,null,null,null,null,null,null,null,null,null,null,null,null,null,null,null,null,{"$f":"IFERROR(VLOOKUP(AM3545,Cod_DIVIPOLA!A:C,2,0),\"CODIGO INCORRECTO\")","v":"CODIGO INCORRECTO"}]
[3567,null,null,null,null,null,null,null,null,null,null,null,null,null,null,null,null,null,null,null,null,null,null,null,null,null,null,null,null,null,null,null,null,null,null,null,null,null,null,{"$f":"IFERROR(VLOOKUP(AM3569,Cod_DIVIPOLA!A:C,2,0),\"CODIGO INCORRECTO\")","v":"CODIGO INCORRECTO"}]
[3613,null,null,null,null,null,null,null,null,null,null,null,null,null,null,null,null,null,null,null,null,null,null,null,null,null,null,null,null,null,null,null,null,null,null,null,null,null,null,{"$f":"IFERROR(VLOOKUP(AM3615,Cod_DIVIPOLA!A:C,2,0),\"CODIGO INCORRECTO\")","v":"CODIGO INCORRECTO"}]
[3686,null,null,null,null,null,null,null,null,null,null,null,null,null,null,null,null,null,null,null,null,null,null,null,null,null,null,null,null,null,null,null,null,null,null,null,null,null,null,{"$f":"IFERROR(VLOOKUP(AM3688,Cod_DIVIPOLA!A:C,2,0),\"CODIGO INCORRECTO\")","v":"CODIGO INCORRECTO"}]
[3729,null,null,null,null,null,null,null,null,null,null,null,null,null,null,null,null,null,null,null,null,null,null,null,null,null,null,null,null,null,null,null,null,null,null,null,null,null,null,{"$f":"IFERROR(VLOOKUP(AM3731,Cod_DIVIPOLA!A:C,2,0),\"CODIGO INCORRECTO\")","v":"CODIGO INCORRECTO"}]
[3787,null,null,null,null,null,null,null,null,null,null,null,null,null,null,null,null,null,null,null,null,null,null,null,null,null,null,null,null,null,null,null,null,null,null,null,null,null,null,{"$f":"IFERROR(VLOOKUP(AM3789,Cod_DIVIPOLA!A:C,2,0),\"CODIGO INCORRECTO\")","v":"CODIGO INCORRECTO"}]
[3880,null,null,null,null,null,null,null,null,null,null,null,null,null,null,null,null,null,null,null,null,null,null,null,null,null,null,null,null,null,null,null,null,null,null,null,null,null,null,{"$f":"IFERROR(VLOOKUP(AM3882,Cod_DIVIPOLA!A:C,2,0),\"CODIGO INCORRECTO\")","v":"CODIGO INCORRECTO"}]
[3912,null,null,null,null,null,null,null,null,null,null,null,null,null,null,null,null,null,null,null,null,null,null,null,null,null,null,null,null,null,null,null,null,null,null,null,null,null,null,{"$f":"IFERROR(VLOOKUP(AM3914,Cod_DIVIPOLA!A:C,2,0),\"CODIGO INCORRECTO\")","v":"CODIGO INCORRECTO"}]
[3945,null,null,null,null,null,null,null,null,null,null,null,null,null,null,null,null,null,null,null,null,null,null,null,null,null,null,null,null,null,null,null,null,null,null,null,null,null,null,{"$f":"IFERROR(VLOOKUP(AM3947,Cod_DIVIPOLA!A:C,2,0),\"CODIGO INCORRECTO\")","v":"CODIGO INCORRECTO"}]
[4042,null,null,null,null,null,null,null,null,null,null,null,null,null,null,null,null,null,null,null,null,null,null,null,null,null,null,null,null,null,null,null,null,null,null,null,null,null,null,{"$f":"IFERROR(VLOOKUP(AM4044,Cod_DIVIPOLA!A:C,2,0),\"CODIGO INCORRECTO\")","v":"CODIGO INCORRECTO"}]
[4086,null,null,null,null,null,null,null,null,null,null,null,null,null,null,null,null,null,null,null,null,null,null,null,null,null,null,null,null,null,null,null,null,null,null,null,null,null,null,{"$f":"IFERROR(VLOOKUP(AM4088,Cod_DIVIPOLA!A:C,2,0),\"CODIGO INCORRECTO\")","v":"CODIGO INCORRECTO"}]
[4139,null,null,null,null,null,null,null,null,null,null,null,null,null,null,null,null,null,null,null,null,null,null,null,null,null,null,null,null,null,null,null,null,null,null,null,null,null,null,{"$f":"IFERROR(VLOOKUP(AM4141,Cod_DIVIPOLA!A:C,2,0),\"CODIGO INCORRECTO\")","v":"CODIGO INCORRECTO"}]
[4182,null,null,null,null,null,null,null,null,null,null,null,null,null,null,null,null,null,null,null,null,null,null,null,null,null,null,null,null,null,null,null,null,null,null,null,null,null,null,{"$f":"IFERROR(VLOOKUP(AM4184,Cod_DIVIPOLA!A:C,2,0),\"CODIGO INCORRECTO\")","v":"CODIGO INCORRECTO"}]
[4260,null,null,null,null,null,null,null,null,null,null,null,null,null,null,null,null,null,null,null,null,null,null,null,null,null,null,null,null,null,null,null,null,null,null,null,null,null,null,{"$f":"IFERROR(VLOOKUP(AM4262,Cod_DIVIPOLA!A:C,2,0),\"CODIGO INCORRECTO\")","v":"CODIGO INCORRECTO"}]
[4279,null,null,null,null,null,null,null,null,null,null,null,null,null,null,null,null,null,null,null,null,null,null,null,null,null,null,null,null,null,null,null,null,null,null,null,null,null,null,{"$f":"IFERROR(VLOOKUP(AM4281,Cod_DIVIPOLA!A:C,2,0),\"CODIGO INCORRECTO\")","v":"CODIGO INCORRECTO"}]
[4330,null,null,null,null,null,null,null,null,null,null,null,null,null,null,null,null,null,null,null,null,null,null,null,null,null,null,null,null,null,null,null,null,null,null,null,null,null,null,{"$f":"IFERROR(VLOOKUP(AM4332,Cod_DIVIPOLA!A:C,2,0),\"CODIGO INCORRECTO\")","v":"CODIGO INCORRECTO"}]
[4398,null,null,null,null,null,null,null,null,null,null,null,null,null,null,null,null,null,null,null,null,null,null,null,null,null,null,null,null,null,null,null,null,null,null,null,null,null,null,{"$f":"IFERROR(VLOOKUP(AM4400,Cod_DIVIPOLA!A:C,2,0),\"CODIGO INCORRECTO\")","v":"CODIGO INCORRECTO"}]
[4441,null,null,null,null,null,null,null,null,null,null,null,null,null,null,null,null,null,null,null,null,null,null,null,null,null,null,null,null,null,null,null,null,null,null,null,null,null,null,{"$f":"IFERROR(VLOOKUP(AM4443,Cod_DIVIPOLA!A:C,2,0),\"CODIGO INCORRECTO\")","v":"CODIGO INCORRECTO"}]
[4504,null,null,null,null,null,null,null,null,null,null,null,null,null,null,null,null,null,null,null,null,null,null,null,null,null,null,null,null,null,null,null,null,null,null,null,null,null,null,{"$f":"IFERROR(VLOOKUP(AM4506,Cod_DIVIPOLA!A:C,2,0),\"CODIGO INCORRECTO\")","v":"CODIGO INCORRECTO"}]
[4538,null,null,null,null,null,null,null,null,null,null,null,null,null,null,null,null,null,null,null,null,null,null,null,null,null,null,null,null,null,null,null,null,null,null,null,null,null,null,{"$f":"IFERROR(VLOOKUP(AM4540,Cod_DIVIPOLA!A:C,2,0),\"CODIGO INCORRECTO\")","v":"CODIGO INCORRECTO"}]
[4629,null,null,null,null,null,null,null,null,null,null,null,null,null,null,null,null,null,null,null,null,null,null,null,null,null,null,null,null,null,null,null,null,null,null,null,null,null,null,{"$f":"IFERROR(VLOOKUP(AM4631,Cod_DIVIPOLA!A:C,2,0),\"CODIGO INCORRECTO\")","v":"CODIGO INCORRECTO"}]
[4657,null,null,null,null,null,null,null,null,null,null,null,null,null,null,null,null,null,null,null,null,null,null,null,null,null,null,null,null,null,null,null,null,null,null,null,null,null,null,{"$f":"IFERROR(VLOOKUP(AM4659,Cod_DIVIPOLA!A:C,2,0),\"CODIGO INCORRECTO\")","v":"CODIGO INCORRECTO"}]
[4732,null,null,null,null,null,null,null,null,null,null,null,null,null,null,null,null,null,null,null,null,null,null,null,null,null,null,null,null,null,null,null,null,null,null,null,null,null,null,{"$f":"IFERROR(VLOOKUP(AM4734,Cod_DIVIPOLA!A:C,2,0),\"CODIGO INCORRECTO\")","v":"CODIGO INCORRECTO"}]
[4803,null,null,null,null,null,null,null,null,null,null,null,null,null,null,null,null,null,null,null,null,null,null,null,null,null,null,null,null,null,null,null,null,null,null,null,null,null,null,{"$f":"IFERROR(VLOOKUP(AM4805,Cod_DIVIPOLA!A:C,2,0),\"CODIGO INCORRECTO\")","v":"CODIGO INCORRECTO"}]
[4851,null,null,null,null,null,null,null,null,null,null,null,null,null,null,null,null,null,null,null,null,null,null,null,null,null,null,null,null,null,null,null,null,null,null,null,null,null,null,{"$f":"IFERROR(VLOOKUP(AM4853,Cod_DIVIPOLA!A:C,2,0),\"CODIGO INCORRECTO\")","v":"CODIGO INCORRECTO"}]
[4873,null,null,null,null,null,null,null,null,null,null,null,null,null,null,null,null,null,null,null,null,null,null,null,null,null,null,null,null,null,null,null,null,null,null,null,null,null,null,{"$f":"IFERROR(VLOOKUP(AM4875,Cod_DIVIPOLA!A:C,2,0),\"CODIGO INCORRECTO\")","v":"CODIGO INCORRECTO"}]
[4916,null,null,null,null,null,null,null,null,null,null,null,null,null,null,null,null,null,null,null,null,null,null,null,null,null,null,null,null,null,null,null,null,null,null,null,null,null,null,{"$f":"IFERROR(VLOOKUP(AM4918,Cod_DIVIPOLA!A:C,2,0),\"CODIGO INCORRECTO\")","v":"CODIGO INCORRECTO"}]
[4991,null,null,null,null,null,null,null,null,null,null,null,null,null,null,null,null,null,null,null,null,null,null,null,null,null,null,null,null,null,null,null,null,null,null,null,null,null,null,{"$f":"IFERROR(VLOOKUP(AM4993,Cod_DIVIPOLA!A:C,2,0),\"CODIGO INCORRECTO\")","v":"CODIGO INCORRECTO"}]
[5047,null,null,null,null,null,null,null,null,null,null,null,null,null,null,null,null,null,null,null,null,null,null,null,null,null,null,null,null,null,null,null,null,null,null,null,null,null,null,{"$f":"IFERROR(VLOOKUP(AM5049,Cod_DIVIPOLA!A:C,2,0),\"CODIGO INCORRECTO\")","v":"CODIGO INCORRECTO"}]
[5110,null,null,null,null,null,null,null,null,null,null,null,null,null,null,null,null,null,null,null,null,null,null,null,null,null,null,null,null,null,null,null,null,null,null,null,null,null,null,{"$f":"IFERROR(VLOOKUP(AM5112,Cod_DIVIPOLA!A:C,2,0),\"CODIGO INCORRECTO\")","v":"CODIGO INCORRECTO"}]
[5153,null,null,null,null,null,null,null,null,null,null,null,null,null,null,null,null,null,null,null,null,null,null,null,null,null,null,null,null,null,null,null,null,null,null,null,null,null,null,{"$f":"IFERROR(VLOOKUP(AM5155,Cod_DIVIPOLA!A:C,2,0),\"CODIGO INCORRECTO\")","v":"CODIGO INCORRECTO"}]
[5221,null,null,null,null,null,null,null,null,null,null,null,null,null,null,null,null,null,null,null,null,null,null,null,null,null,null,null,null,null,null,null,null,null,null,null,null,null,null,{"$f":"IFERROR(VLOOKUP(AM5223,Cod_DIVIPOLA!A:C,2,0),\"CODIGO INCORRECTO\")","v":"CODIGO INCORRECTO"}]
[5250,null,null,null,null,null,null,null,null,null,null,null,null,null,null,null,null,null,null,null,null,null,null,null,null,null,null,null,null,null,null,null,null,null,null,null,null,null,null,{"$f":"IFERROR(VLOOKUP(AM5252,Cod_DIVIPOLA!A:C,2,0),\"CODIGO INCORRECTO\")","v":"CODIGO INCORRECTO"}]
[5346,null,null,null,null,null,null,null,null,null,null,null,null,null,null,null,null,null,null,null,null,null,null,null,null,null,null,null,null,null,null,null,null,null,null,null,null,null,null,{"$f":"IFERROR(VLOOKUP(AM5348,Cod_DIVIPOLA!A:C,2,0),\"CODIGO INCORRECTO\")","v":"CODIGO INCORRECTO"}]
[5369,null,null,null,null,null,null,null,null,null,null,null,null,null,null,null,null,null,null,null,null,null,null,null,null,null,null,null,null,null,null,null,null,null,null,null,null,null,null,{"$f":"IFERROR(VLOOKUP(AM5371,Cod_DIVIPOLA!A:C,2,0),\"CODIGO INCORRECTO\")","v":"CODIGO INCORRECTO"}]
[5444,null,null,null,null,null,null,null,null,null,null,null,null,null,null,null,null,null,null,null,null,null,null,null,null,null,null,null,null,null,null,null,null,null,null,null,null,null,null,{"$f":"IFERROR(VLOOKUP(AM5446,Cod_DIVIPOLA!A:C,2,0),\"CODIGO INCORRECTO\")","v":"CODIGO INCORRECTO"}]
[5465,null,null,null,null,null,null,null,null,null,null,null,null,null,null,null,null,null,null,null,null,null,null,null,null,null,null,null,null,null,null,null,null,null,null,null,null,null,null,{"$f":"IFERROR(VLOOKUP(AM5467,Cod_DIVIPOLA!A:C,2,0),\"CODIGO INCORRECTO\")","v":"CODIGO INCORRECTO"}]
[5563,null,null,null,null,null,null,null,null,null,null,null,null,null,null,null,null,null,null,null,null,null,null,null,null,null,null,null,null,null,null,null,null,null,null,null,null,null,null,{"$f":"IFERROR(VLOOKUP(AM5565,Cod_DIVIPOLA!A:C,2,0),\"CODIGO INCORRECTO\")","v":"CODIGO INCORRECTO"}]
[5590,null,null,null,null,null,null,null,null,null,null,null,null,null,null,null,null,null,null,null,null,null,null,null,null,null,null,null,null,null,null,null,null,null,null,null,null,null,null,{"$f":"IFERROR(VLOOKUP(AM5592,Cod_DIVIPOLA!A:C,2,0),\"CODIGO INCORRECTO\")","v":"CODIGO INCORRECTO"}]
[5628,null,null,null,null,null,null,null,null,null,null,null,null,null,null,null,null,null,null,null,null,null,null,null,null,null,null,null,null,null,null,null,null,null,null,null,null,null,null,{"$f":"IFERROR(VLOOKUP(AM5630,Cod_DIVIPOLA!A:C,2,0),\"CODIGO INCORRECTO\")","v":"CODIGO INCORRECTO"}]
[5703,null,null,null,null,null,null,null,null,null,null,null,null,null,null,null,null,null,null,null,null,null,null,null,null,null,null,null,null,null,null,null,null,null,null,null,null,null,null,{"$f":"IFERROR(VLOOKUP(AM5705,Cod_DIVIPOLA!A:C,2,0),\"CODIGO INCORRECTO\")","v":"CODIGO INCORRECTO"}]
[5764,null,null,null,null,null,null,null,null,null,null,null,null,null,null,null,null,null,null,null,null,null,null,null,null,null,null,null,null,null,null,null,null,null,null,null,null,null,null,{"$f":"IFERROR(VLOOKUP(AM5766,Cod_DIVIPOLA!A:C,2,0),\"CODIGO INCORRECTO\")","v":"CODIGO INCORRECTO"}]
[5822,null,null,null,null,null,null,null,null,null,null,null,null,null,null,null,null,null,null,null,null,null,null,null,null,null,null,null,null,null,null,null,null,null,null,null,null,null,null,{"$f":"IFERROR(VLOOKUP(AM5824,Cod_DIVIPOLA!A:C,2,0),\"CODIGO INCORRECTO\")","v":"CODIGO INCORRECTO"}]
[5863,null,null,null,null,null,null,null,null,null,null,null,null,null,null,null,null,null,null,null,null,null,null,null,null,null,null,null,null,null,null,null,null,null,null,null,null,null,null,{"$f":"IFERROR(VLOOKUP(AM5865,Cod_DIVIPOLA!A:C,2,0),\"CODIGO INCORRECTO\")","v":"CODIGO INCORRECTO"}]
[5941,null,null,null,null,null,null,null,null,null,null,null,null,null,null,null,null,null,null,null,null,null,null,null,null,null,null,null,null,null,null,null,null,null,null,null,null,null,null,{"$f":"IFERROR(VLOOKUP(AM5943,Cod_DIVIPOLA!A:C,2,0),\"CODIGO INCORRECTO\")","v":"CODIGO INCORRECTO"}]
[5962,null,null,null,null,null,null,null,null,null,null,null,null,null,null,null,null,null,null,null,null,null,null,null,null,null,null,null,null,null,null,null,null,null,null,null,null,null,null,{"$f":"IFERROR(VLOOKUP(AM5964,Cod_DIVIPOLA!A:C,2,0),\"CODIGO INCORRECTO\")","v":"CODIGO INCORRECTO"}]
[6008,null,null,null,null,null,null,null,null,null,null,null,null,null,null,null,null,null,null,null,null,null,null,null,null,null,null,null,null,null,null,null,null,null,null,null,null,null,null,{"$f":"IFERROR(VLOOKUP(AM6010,Cod_DIVIPOLA!A:C,2,0),\"CODIGO INCORRECTO\")","v":"CODIGO INCORRECTO"}]
[6081,null,null,null,null,null,null,null,null,null,null,null,null,null,null,null,null,null,null,null,null,null,null,null,null,null,null,null,null,null,null,null,null,null,null,null,null,null,null,{"$f":"IFERROR(VLOOKUP(AM6083,Cod_DIVIPOLA!A:C,2,0),\"CODIGO INCORRECTO\")","v":"CODIGO INCORRECTO"}]
[6156,null,null,null,null,null,null,null,null,null,null,null,null,null,null,null,null,null,null,null,null,null,null,null,null,null,null,null,null,null,null,null,null,null,null,null,null,null,null,{"$f":"IFERROR(VLOOKUP(AM6158,Cod_DIVIPOLA!A:C,2,0),\"CODIGO INCORRECTO\")","v":"CODIGO INCORRECTO"}]
[6182,null,null,null,null,null,null,null,null,null,null,null,null,null,null,null,null,null,null,null,null,null,null,null,null,null,null,null,null,null,null,null,null,null,null,null,null,null,null,{"$f":"IFERROR(VLOOKUP(AM6184,Cod_DIVIPOLA!A:C,2,0),\"CODIGO INCORRECTO\")","v":"CODIGO INCORRECTO"}]
[6221,null,null,null,null,null,null,null,null,null,null,null,null,null,null,null,null,null,null,null,null,null,null,null,null,null,null,null,null,null,null,null,null,null,null,null,null,null,null,{"$f":"IFERROR(VLOOKUP(AM6223,Cod_DIVIPOLA!A:C,2,0),\"CODIGO INCORRECTO\")","v":"CODIGO INCORRECTO"}]
[6307,null,null,null,null,null,null,null,null,null,null,null,null,null,null,null,null,null,null,null,null,null,null,null,null,null,null,null,null,null,null,null,null,null,null,null,null,null,null,{"$f":"IFERROR(VLOOKUP(AM6309,Cod_DIVIPOLA!A:C,2,0),\"CODIGO INCORRECTO\")","v":"CODIGO INCORRECTO"}]
[6340,null,null,null,null,null,null,null,null,null,null,null,null,null,null,null,null,null,null,null,null,null,null,null,null,null,null,null,null,null,null,null,null,null,null,null,null,null,null,{"$f":"IFERROR(VLOOKUP(AM6342,Cod_DIVIPOLA!A:C,2,0),\"CODIGO INCORRECTO\")","v":"CODIGO INCORRECTO"}]
[6415,null,null,null,null,null,null,null,null,null,null,null,null,null,null,null,null,null,null,null,null,null,null,null,null,null,null,null,null,null,null,null,null,null,null,null,null,null,null,{"$f":"IFERROR(VLOOKUP(AM6417,Cod_DIVIPOLA!A:C,2,0),\"CODIGO INCORRECTO\")","v":"CODIGO INCORRECTO"}]
[6481,null,null,null,null,null,null,null,null,null,null,null,null,null,null,null,null,null,null,null,null,null,null,null,null,null,null,null,null,null,null,null,null,null,null,null,null,null,null,{"$f":"IFERROR(VLOOKUP(AM6483,Cod_DIVIPOLA!A:C,2,0),\"CODIGO INCORRECTO\")","v":"CODIGO INCORRECTO"}]
[6534,null,null,null,null,null,null,null,null,null,null,null,null,null,null,null,null,null,null,null,null,null,null,null,null,null,null,null,null,null,null,null,null,null,null,null,null,null,null,{"$f":"IFERROR(VLOOKUP(AM6536,Cod_DIVIPOLA!A:C,2,0),\"CODIGO INCORRECTO\")","v":"CODIGO INCORRECTO"}]
[6580,null,null,null,null,null,null,null,null,null,null,null,null,null,null,null,null,null,null,null,null,null,null,null,null,null,null,null,null,null,null,null,null,null,null,null,null,null,null,{"$f":"IFERROR(VLOOKUP(AM6582,Cod_DIVIPOLA!A:C,2,0),\"CODIGO INCORRECTO\")","v":"CODIGO INCORRECTO"}]
[6653,null,null,null,null,null,null,null,null,null,null,null,null,null,null,null,null,null,null,null,null,null,null,null,null,null,null,null,null,null,null,null,null,null,null,null,null,null,null,{"$f":"IFERROR(VLOOKUP(AM6655,Cod_DIVIPOLA!A:C,2,0),\"CODIGO INCORRECTO\")","v":"CODIGO INCORRECTO"}]
[6674,null,null,null,null,null,null,null,null,null,null,null,null,null,null,null,null,null,null,null,null,null,null,null,null,null,null,null,null,null,null,null,null,null,null,null,null,null,null,{"$f":"IFERROR(VLOOKUP(AM6676,Cod_DIVIPOLA!A:C,2,0),\"CODIGO INCORRECTO\")","v":"CODIGO INCORRECTO"}]
[6725,null,null,null,null,null,null,null,null,null,null,null,null,null,null,null,null,null,null,null,null,null,null,null,null,null,null,null,null,null,null,null,null,null,null,null,null,null,null,{"$f":"IFERROR(VLOOKUP(AM6727,Cod_DIVIPOLA!A:C,2,0),\"CODIGO INCORRECTO\")","v":"CODIGO INCORRECTO"}]
[6793,null,null,null,null,null,null,null,null,null,null,null,null,null,null,null,null,null,null,null,null,null,null,null,null,null,null,null,null,null,null,null,null,null,null,null,null,null,null,{"$f":"IFERROR(VLOOKUP(AM6795,Cod_DIVIPOLA!A:C,2,0),\"CODIGO INCORRECTO\")","v":"CODIGO INCORRECTO"}]
[6824,null,null,null,null,null,null,null,null,null,null,null,null,null,null,null,null,null,null,null,null,null,null,null,null,null,null,null,null,null,null,null,null,null,null,null,null,null,null,{"$f":"IFERROR(VLOOKUP(AM6826,Cod_DIVIPOLA!A:C,2,0),\"CODIGO INCORRECTO\")","v":"CODIGO INCORRECTO"}]
[6912,null,null,null,null,null,null,null,null,null,null,null,null,null,null,null,null,null,null,null,null,null,null,null,null,null,null,null,null,null,null,null,null,null,null,null,null,null,null,{"$f":"IFERROR(VLOOKUP(AM6914,Cod_DIVIPOLA!A:C,2,0),\"CODIGO INCORRECTO\")","v":"CODIGO INCORRECTO"}]
[6933,null,null,null,null,null,null,null,null,null,null,null,null,null,null,null,null,null,null,null,null,null,null,null,null,null,null,null,null,null,null,null,null,null,null,null,null,null,null,{"$f":"IFERROR(VLOOKUP(AM6935,Cod_DIVIPOLA!A:C,2,0),\"CODIGO INCORRECTO\")","v":"CODIGO INCORRECTO"}]
[7024,null,null,null,null,null,null,null,null,null,null,null,null,null,null,null,null,null,null,null,null,null,null,null,null,null,null,null,null,null,null,null,null,null,null,null,null,null,null,{"$f":"IFERROR(VLOOKUP(AM7026,Cod_DIVIPOLA!A:C,2,0),\"CODIGO INCORRECTO\")","v":"CODIGO INCORRECTO"}]
[7052,null,null,null,null,null,null,null,null,null,null,null,null,null,null,null,null,null,null,null,null,null,null,null,null,null,null,null,null,null,null,null,null,null,null,null,null,null,null,{"$f":"IFERROR(VLOOKUP(AM7054,Cod_DIVIPOLA!A:C,2,0),\"CODIGO INCORRECTO\")","v":"CODIGO INCORRECTO"}]
[7127,null,null,null,null,null,null,null,null,null,null,null,null,null,null,null,null,null,null,null,null,null,null,null,null,null,null,null,null,null,null,null,null,null,null,null,null,null,null,{"$f":"IFERROR(VLOOKUP(AM7129,Cod_DIVIPOLA!A:C,2,0),\"CODIGO INCORRECTO\")","v":"CODIGO INCORRECTO"}]
[7198,null,null,null,null,null,null,null,null,null,null,null,null,null,null,null,null,null,null,null,null,null,null,null,null,null,null,null,null,null,null,null,null,null,null,null,null,null,null,{"$f":"IFERROR(VLOOKUP(AM7200,Cod_DIVIPOLA!A:C,2,0),\"CODIGO INCORRECTO\")","v":"CODIGO INCORRECTO"}]
[7246,null,null,null,null,null,null,null,null,null,null,null,null,null,null,null,null,null,null,null,null,null,null,null,null,null,null,null,null,null,null,null,null,null,null,null,null,null,null,{"$f":"IFERROR(VLOOKUP(AM7248,Cod_DIVIPOLA!A:C,2,0),\"CODIGO INCORRECTO\")","v":"CODIGO INCORRECTO"}]
[7297,null,null,null,null,null,null,null,null,null,null,null,null,null,null,null,null,null,null,null,null,null,null,null,null,null,null,null,null,null,null,null,null,null,null,null,null,null,null,{"$f":"IFERROR(VLOOKUP(AM7299,Cod_DIVIPOLA!A:C,2,0),\"CODIGO INCORRECTO\")","v":"CODIGO INCORRECTO"}]
[7311,null,null,null,null,null,null,null,null,null,null,null,null,null,null,null,null,null,null,null,null,null,null,null,null,null,null,null,null,null,null,null,null,null,null,null,null,null,null,{"$f":"IFERROR(VLOOKUP(AM7313,Cod_DIVIPOLA!A:C,2,0),\"CODIGO INCORRECTO\")","v":"CODIGO INCORRECTO"}]
[7386,null,null,null,null,null,null,null,null,null,null,null,null,null,null,null,null,null,null,null,null,null,null,null,null,null,null,null,null,null,null,null,null,null,null,null,null,null,null,{"$f":"IFERROR(VLOOKUP(AM7388,Cod_DIVIPOLA!A:C,2,0),\"CODIGO INCORRECTO\")","v":"CODIGO INCORRECTO"}]
[7442,null,null,null,null,null,null,null,null,null,null,null,null,null,null,null,null,null,null,null,null,null,null,null,null,null,null,null,null,null,null,null,null,null,null,null,null,null,null,{"$f":"IFERROR(VLOOKUP(AM7444,Cod_DIVIPOLA!A:C,2,0),\"CODIGO INCORRECTO\")","v":"CODIGO INCORRECTO"}]
[7505,null,null,null,null,null,null,null,null,null,null,null,null,null,null,null,null,null,null,null,null,null,null,null,null,null,null,null,null,null,null,null,null,null,null,null,null,null,null,{"$f":"IFERROR(VLOOKUP(AM7507,Cod_DIVIPOLA!A:C,2,0),\"CODIGO INCORRECTO\")","v":"CODIGO INCORRECTO"}]
[7541,null,null,null,null,null,null,null,null,null,null,null,null,null,null,null,null,null,null,null,null,null,null,null,null,null,null,null,null,null,null,null,null,null,null,null,null,null,null,{"$f":"IFERROR(VLOOKUP(AM7543,Cod_DIVIPOLA!A:C,2,0),\"CODIGO INCORRECTO\")","v":"CODIGO INCORRECTO"}]
[7624,null,null,null,null,null,null,null,null,null,null,null,null,null,null,null,null,null,null,null,null,null,null,null,null,null,null,null,null,null,null,null,null,null,null,null,null,null,null,{"$f":"IFERROR(VLOOKUP(AM7626,Cod_DIVIPOLA!A:C,2,0),\"CODIGO INCORRECTO\")","v":"CODIGO INCORRECTO"}]
[7645,null,null,null,null,null,null,null,null,null,null,null,null,null,null,null,null,null,null,null,null,null,null,null,null,null,null,null,null,null,null,null,null,null,null,null,null,null,null,{"$f":"IFERROR(VLOOKUP(AM7647,Cod_DIVIPOLA!A:C,2,0),\"CODIGO INCORRECTO\")","v":"CODIGO INCORRECTO"}]
[7715,null,null,null,null,null,null,null,null,null,null,null,null,null,null,null,null,null,null,null,null,null,null,null,null,null,null,null,null,null,null,null,null,null,null,null,null,null,null,{"$f":"IFERROR(VLOOKUP(AM7717,Cod_DIVIPOLA!A:C,2,0),\"CODIGO INCORRECTO\")","v":"CODIGO INCORRECTO"}]
[7764,null,null,null,null,null,null,null,null,null,null,null,null,null,null,null,null,null,null,null,null,null,null,null,null,null,null,null,null,null,null,null,null,null,null,null,null,null,null,{"$f":"IFERROR(VLOOKUP(AM7766,Cod_DIVIPOLA!A:C,2,0),\"CODIGO INCORRECTO\")","v":"CODIGO INCORRECTO"}]
[7840,null,null,null,null,null,null,null,null,null,null,null,null,null,null,null,null,null,null,null,null,null,null,null,null,null,null,null,null,null,null,null,null,null,null,null,null,null,null,{"$f":"IFERROR(VLOOKUP(AM7842,Cod_DIVIPOLA!A:C,2,0),\"CODIGO INCORRECTO\")","v":"CODIGO INCORRECTO"}]
[7883,null,null,null,null,null,null,null,null,null,null,null,null,null,null,null,null,null,null,null,null,null,null,null,null,null,null,null,null,null,null,null,null,null,null,null,null,null,null,{"$f":"IFERROR(VLOOKUP(AM7885,Cod_DIVIPOLA!A:C,2,0),\"CODIGO INCORRECTO\")","v":"CODIGO INCORRECTO"}]
[7958,null,null,null,null,null,null,null,null,null,null,null,null,null,null,null,null,null,null,null,null,null,null,null,null,null,null,null,null,null,null,null,null,null,null,null,null,null,null,{"$f":"IFERROR(VLOOKUP(AM7960,Cod_DIVIPOLA!A:C,2,0),\"CODIGO INCORRECTO\")","v":"CODIGO INCORRECTO"}]
[8014,null,null,null,null,null,null,null,null,null,null,null,null,null,null,null,null,null,null,null,null,null,null,null,null,null,null,null,null,null,null,null,null,null,null,null,null,null,null,{"$f":"IFERROR(VLOOKUP(AM8016,Cod_DIVIPOLA!A:C,2,0),\"CODIGO INCORRECTO\")","v":"CODIGO INCORRECTO"}]
[8023,null,null,null,null,null,null,null,null,null,null,null,null,null,null,null,null,null,null,null,null,null,null,null,null,null,null,null,null,null,null,null,null,null,null,null,null,null,null,{"$f":"IFERROR(VLOOKUP(AM8025,Cod_DIVIPOLA!A:C,2,0),\"CODIGO INCORRECTO\")","v":"CODIGO INCORRECTO"}]
[8098,null,null,null,null,null,null,null,null,null,null,null,null,null,null,null,null,null,null,null,null,null,null,null,null,null,null,null,null,null,null,null,null,null,null,null,null,null,null,{"$f":"IFERROR(VLOOKUP(AM8100,Cod_DIVIPOLA!A:C,2,0),\"CODIGO INCORRECTO\")","v":"CODIGO INCORRECTO"}]
[8159,null,null,null,null,null,null,null,null,null,null,null,null,null,null,null,null,null,null,null,null,null,null,null,null,null,null,null,null,null,null,null,null,null,null,null,null,null,null,{"$f":"IFERROR(VLOOKUP(AM8161,Cod_DIVIPOLA!A:C,2,0),\"CODIGO INCORRECTO\")","v":"CODIGO INCORRECTO"}]
[8217,null,null,null,null,null,null,null,null,null,null,null,null,null,null,null,null,null,null,null,null,null,null,null,null,null,null,null,null,null,null,null,null,null,null,null,null,null,null,{"$f":"IFERROR(VLOOKUP(AM8219,Cod_DIVIPOLA!A:C,2,0),\"CODIGO INCORRECTO\")","v":"CODIGO INCORRECTO"}]
[8258,null,null,null,null,null,null,null,null,null,null,null,null,null,null,null,null,null,null,null,null,null,null,null,null,null,null,null,null,null,null,null,null,null,null,null,null,null,null,{"$f":"IFERROR(VLOOKUP(AM8260,Cod_DIVIPOLA!A:C,2,0),\"CODIGO INCORRECTO\")","v":"CODIGO INCORRECTO"}]
[8336,null,null,null,null,null,null,null,null,null,null,null,null,null,null,null,null,null,null,null,null,null,null,null,null,null,null,null,null,null,null,null,null,null,null,null,null,null,null,{"$f":"IFERROR(VLOOKUP(AM8338,Cod_DIVIPOLA!A:C,2,0),\"CODIGO INCORRECTO\")","v":"CODIGO INCORRECTO"}]
[8357,null,null,null,null,null,null,null,null,null,null,null,null,null,null,null,null,null,null,null,null,null,null,null,null,null,null,null,null,null,null,null,null,null,null,null,null,null,null,{"$f":"IFERROR(VLOOKUP(AM8359,Cod_DIVIPOLA!A:C,2,0),\"CODIGO INCORRECTO\")","v":"CODIGO INCORRECTO"}]
[8432,null,null,null,null,null,null,null,null,null,null,null,null,null,null,null,null,null,null,null,null,null,null,null,null,null,null,null,null,null,null,null,null,null,null,null,null,null,null,{"$f":"IFERROR(VLOOKUP(AM8434,Cod_DIVIPOLA!A:C,2,0),\"CODIGO INCORRECTO\")","v":"CODIGO INCORRECTO"}]
[8476,null,null,null,null,null,null,null,null,null,null,null,null,null,null,null,null,null,null,null,null,null,null,null,null,null,null,null,null,null,null,null,null,null,null,null,null,null,null,{"$f":"IFERROR(VLOOKUP(AM8478,Cod_DIVIPOLA!A:C,2,0),\"CODIGO INCORRECTO\")","v":"CODIGO INCORRECTO"}]
[8557,null,null,null,null,null,null,null,null,null,null,null,null,null,null,null,null,null,null,null,null,null,null,null,null,null,null,null,null,null,null,null,null,null,null,null,null,null,null,{"$f":"IFERROR(VLOOKUP(AM8559,Cod_DIVIPOLA!A:C,2,0),\"CODIGO INCORRECTO\")","v":"CODIGO INCORRECTO"}]
[8595,null,null,null,null,null,null,null,null,null,null,null,null,null,null,null,null,null,null,null,null,null,null,null,null,null,null,null,null,null,null,null,null,null,null,null,null,null,null,{"$f":"IFERROR(VLOOKUP(AM8597,Cod_DIVIPOLA!A:C,2,0),\"CODIGO INCORRECTO\")","v":"CODIGO INCORRECTO"}]
[8616,null,null,null,null,null,null,null,null,null,null,null,null,null,null,null,null,null,null,null,null,null,null,null,null,null,null,null,null,null,null,null,null,null,null,null,null,null,null,{"$f":"IFERROR(VLOOKUP(AM8618,Cod_DIVIPOLA!A:C,2,0),\"CODIGO INCORRECTO\")","v":"CODIGO INCORRECTO"}]
[8676,null,null,null,null,null,null,null,null,null,null,null,null,null,null,null,null,null,null,null,null,null,null,null,null,null,null,null,null,null,null,null,null,null,null,null,null,null,null,{"$f":"IFERROR(VLOOKUP(AM8678,Cod_DIVIPOLA!A:C,2,0),\"CODIGO INCORRECTO\")","v":"CODIGO INCORRECTO"}]
[8735,null,null,null,null,null,null,null,null,null,null,null,null,null,null,null,null,null,null,null,null,null,null,null,null,null,null,null,null,null,null,null,null,null,null,null,null,null,null,{"$f":"IFERROR(VLOOKUP(AM8737,Cod_DIVIPOLA!A:C,2,0),\"CODIGO INCORRECTO\")","v":"CODIGO INCORRECTO"}]
[8801,null,null,null,null,null,null,null,null,null,null,null,null,null,null,null,null,null,null,null,null,null,null,null,null,null,null,null,null,null,null,null,null,null,null,null,null,null,null,{"$f":"IFERROR(VLOOKUP(AM8803,Cod_DIVIPOLA!A:C,2,0),\"CODIGO INCORRECTO\")","v":"CODIGO INCORRECTO"}]
[8854,null,null,null,null,null,null,null,null,null,null,null,null,null,null,null,null,null,null,null,null,null,null,null,null,null,null,null,null,null,null,null,null,null,null,null,null,null,null,{"$f":"IFERROR(VLOOKUP(AM8856,Cod_DIVIPOLA!A:C,2,0),\"CODIGO INCORRECTO\")","v":"CODIGO INCORRECTO"}]
[8929,null,null,null,null,null,null,null,null,null,null,null,null,null,null,null,null,null,null,null,null,null,null,null,null,null,null,null,null,null,null,null,null,null,null,null,null,null,null,{"$f":"IFERROR(VLOOKUP(AM8931,Cod_DIVIPOLA!A:C,2,0),\"CODIGO INCORRECTO\")","v":"CODIGO INCORRECTO"}]
[8975,null,null,null,null,null,null,null,null,null,null,null,null,null,null,null,null,null,null,null,null,null,null,null,null,null,null,null,null,null,null,null,null,null,null,null,null,null,null,{"$f":"IFERROR(VLOOKUP(AM8977,Cod_DIVIPOLA!A:C,2,0),\"CODIGO INCORRECTO\")","v":"CODIGO INCORRECTO"}]
[8994,null,null,null,null,null,null,null,null,null,null,null,null,null,null,null,null,null,null,null,null,null,null,null,null,null,null,null,null,null,null,null,null,null,null,null,null,null,null,{"$f":"IFERROR(VLOOKUP(AM8996,Cod_DIVIPOLA!A:C,2,0),\"CODIGO INCORRECTO\")","v":"CODIGO INCORRECTO"}]
[9069,null,null,null,null,null,null,null,null,null,null,null,null,null,null,null,null,null,null,null,null,null,null,null,null,null,null,null,null,null,null,null,null,null,null,null,null,null,null,{"$f":"IFERROR(VLOOKUP(AM9071,Cod_DIVIPOLA!A:C,2,0),\"CODIGO INCORRECTO\")","v":"CODIGO INCORRECTO"}]
[9149,null,null,null,null,null,null,null,null,null,null,null,null,null,null,null,null,null,null,null,null,null,null,null,null,null,null,null,null,null,null,null,null,null,null,null,null,null,null,{"$f":"IFERROR(VLOOKUP(AM9151,Cod_DIVIPOLA!A:C,2,0),\"CODIGO INCORRECTO\")","v":"CODIGO INCORRECTO"}]
[9188,null,null,null,null,null,null,null,null,null,null,null,null,null,null,null,null,null,null,null,null,null,null,null,null,null,null,null,null,null,null,null,null,null,null,null,null,null,null,{"$f":"IFERROR(VLOOKUP(AM9190,Cod_DIVIPOLA!A:C,2,0),\"CODIGO INCORRECTO\")","v":"CODIGO INCORRECTO"}]
[9219,null,null,null,null,null,null,null,null,null,null,null,null,null,null,null,null,null,null,null,null,null,null,null,null,null,null,null,null,null,null,null,null,null,null,null,null,null,null,{"$f":"IFERROR(VLOOKUP(AM9221,Cod_DIVIPOLA!A:C,2,0),\"CODIGO INCORRECTO\")","v":"CODIGO INCORRECTO"}]
[9307,null,null,null,null,null,null,null,null,null,null,null,null,null,null,null,null,null,null,null,null,null,null,null,null,null,null,null,null,null,null,null,null,null,null,null,null,null,null,{"$f":"IFERROR(VLOOKUP(AM9309,Cod_DIVIPOLA!A:C,2,0),\"CODIGO INCORRECTO\")","v":"CODIGO INCORRECTO"}]
[9328,null,null,null,null,null,null,null,null,null,null,null,null,null,null,null,null,null,null,null,null,null,null,null,null,null,null,null,null,null,null,null,null,null,null,null,null,null,null,{"$f":"IFERROR(VLOOKUP(AM9330,Cod_DIVIPOLA!A:C,2,0),\"CODIGO INCORRECTO\")","v":"CODIGO INCORRECTO"}]
[9393,null,null,null,null,null,null,null,null,null,null,null,null,null,null,null,null,null,null,null,null,null,null,null,null,null,null,null,null,null,null,null,null,null,null,null,null,null,null,{"$f":"IFERROR(VLOOKUP(AM9395,Cod_DIVIPOLA!A:C,2,0),\"CODIGO INCORRECTO\")","v":"CODIGO INCORRECTO"}]
[9447,null,null,null,null,null,null,null,null,null,null,null,null,null,null,null,null,null,null,null,null,null,null,null,null,null,null,null,null,null,null,null,null,null,null,null,null,null,null,{"$f":"IFERROR(VLOOKUP(AM9449,Cod_DIVIPOLA!A:C,2,0),\"CODIGO INCORRECTO\")","v":"CODIGO INCORRECTO"}]
[9518,null,null,null,null,null,null,null,null,null,null,null,null,null,null,null,null,null,null,null,null,null,null,null,null,null,null,null,null,null,null,null,null,null,null,null,null,null,null,{"$f":"IFERROR(VLOOKUP(AM9520,Cod_DIVIPOLA!A:C,2,0),\"CODIGO INCORRECTO\")","v":"CODIGO INCORRECTO"}]
[9544,null,null,null,null,null,null,null,null,null,null,null,null,null,null,null,null,null,null,null,null,null,null,null,null,null,null,null,null,null,null,null,null,null,null,null,null,null,null,{"$f":"IFERROR(VLOOKUP(AM9546,Cod_DIVIPOLA!A:C,2,0),\"CODIGO INCORRECTO\")","v":"CODIGO INCORRECTO"}]
[9641,null,null,null,null,null,null,null,null,null,null,null,null,null,null,null,null,null,null,null,null,null,null,null,null,null,null,null,null,null,null,null,null,null,null,null,null,null,null,{"$f":"IFERROR(VLOOKUP(AM9643,Cod_DIVIPOLA!A:C,2,0),\"CODIGO INCORRECTO\")","v":"CODIGO INCORRECTO"}]
[9692,null,null,null,null,null,null,null,null,null,null,null,null,null,null,null,null,null,null,null,null,null,null,null,null,null,null,null,null,null,null,null,null,null,null,null,null,null,null,{"$f":"IFERROR(VLOOKUP(AM9694,Cod_DIVIPOLA!A:C,2,0),\"CODIGO INCORRECTO\")","v":"CODIGO INCORRECTO"}]
[9706,null,null,null,null,null,null,null,null,null,null,null,null,null,null,null,null,null,null,null,null,null,null,null,null,null,null,null,null,null,null,null,null,null,null,null,null,null,null,{"$f":"IFERROR(VLOOKUP(AM9708,Cod_DIVIPOLA!A:C,2,0),\"CODIGO INCORRECTO\")","v":"CODIGO INCORRECTO"}]
[9762,null,null,null,null,null,null,null,null,null,null,null,null,null,null,null,null,null,null,null,null,null,null,null,null,null,null,null,null,null,null,null,null,null,null,null,null,null,null,{"$f":"IFERROR(VLOOKUP(AM9764,Cod_DIVIPOLA!A:C,2,0),\"CODIGO INCORRECTO\")","v":"CODIGO INCORRECTO"}]
[9857,null,null,null,null,null,null,null,null,null,null,null,null,null,null,null,null,null,null,null,null,null,null,null,null,null,null,null,null,null,null,null,null,null,null,null,null,null,null,{"$f":"IFERROR(VLOOKUP(AM9859,Cod_DIVIPOLA!A:C,2,0),\"CODIGO INCORRECTO\")","v":"CODIGO INCORRECTO"}]
[9900,null,null,null,null,null,null,null,null,null,null,null,null,null,null,null,null,null,null,null,null,null,null,null,null,null,null,null,null,null,null,null,null,null,null,null,null,null,null,{"$f":"IFERROR(VLOOKUP(AM9902,Cod_DIVIPOLA!A:C,2,0),\"CODIGO INCORRECTO\")","v":"CODIGO INCORRECTO"}]
[9936,null,null,null,null,null,null,null,null,null,null,null,null,null,null,null,null,null,null,null,null,null,null,null,null,null,null,null,null,null,null,null,null,null,null,null,null,null,null,{"$f":"IFERROR(VLOOKUP(AM9938,Cod_DIVIPOLA!A:C,2,0),\"CODIGO INCORRECTO\")","v":"CODIGO INCORRECTO"}]
[10019,null,null,null,null,null,null,null,null,null,null,null,null,null,null,null,null,null,null,null,null,null,null,null,null,null,null,null,null,null,null,null,null,null,null,null,null,null,null,{"$f":"IFERROR(VLOOKUP(AM10021,Cod_DIVIPOLA!A:C,2,0),\"CODIGO INCORRECTO\")","v":"CODIGO INCORRECTO"}]
[10040,null,null,null,null,null,null,null,null,null,null,null,null,null,null,null,null,null,null,null,null,null,null,null,null,null,null,null,null,null,null,null,null,null,null,null,null,null,null,{"$f":"IFERROR(VLOOKUP(AM10042,Cod_DIVIPOLA!A:C,2,0),\"CODIGO INCORRECTO\")","v":"CODIGO INCORRECTO"}]
[10110,null,null,null,null,null,null,null,null,null,null,null,null,null,null,null,null,null,null,null,null,null,null,null,null,null,null,null,null,null,null,null,null,null,null,null,null,null,null,{"$f":"IFERROR(VLOOKUP(AM10112,Cod_DIVIPOLA!A:C,2,0),\"CODIGO INCORRECTO\")","v":"CODIGO INCORRECTO"}]
[10159,null,null,null,null,null,null,null,null,null,null,null,null,null,null,null,null,null,null,null,null,null,null,null,null,null,null,null,null,null,null,null,null,null,null,null,null,null,null,{"$f":"IFERROR(VLOOKUP(AM10161,Cod_DIVIPOLA!A:C,2,0),\"CODIGO INCORRECTO\")","v":"CODIGO INCORRECTO"}]
[10235,null,null,null,null,null,null,null,null,null,null,null,null,null,null,null,null,null,null,null,null,null,null,null,null,null,null,null,null,null,null,null,null,null,null,null,null,null,null,{"$f":"IFERROR(VLOOKUP(AM10237,Cod_DIVIPOLA!A:C,2,0),\"CODIGO INCORRECTO\")","v":"CODIGO INCORRECTO"}]
[10256,null,null,null,null,null,null,null,null,null,null,null,null,null,null,null,null,null,null,null,null,null,null,null,null,null,null,null,null,null,null,null,null,null,null,null,null,null,null,{"$f":"IFERROR(VLOOKUP(AM10258,Cod_DIVIPOLA!A:C,2,0),\"CODIGO INCORRECTO\")","v":"CODIGO INCORRECTO"}]
[10299,null,null,null,null,null,null,null,null,null,null,null,null,null,null,null,null,null,null,null,null,null,null,null,null,null,null,null,null,null,null,null,null,null,null,null,null,null,null,{"$f":"IFERROR(VLOOKUP(AM10301,Cod_DIVIPOLA!A:C,2,0),\"CODIGO INCORRECTO\")","v":"CODIGO INCORRECTO"}]
[10354,null,null,null,null,null,null,null,null,null,null,null,null,null,null,null,null,null,null,null,null,null,null,null,null,null,null,null,null,null,null,null,null,null,null,null,null,null,null,{"$f":"IFERROR(VLOOKUP(AM10356,Cod_DIVIPOLA!A:C,2,0),\"CODIGO INCORRECTO\")","v":"CODIGO INCORRECTO"}]
[10418,null,null,null,null,null,null,null,null,null,null,null,null,null,null,null,null,null,null,null,null,null,null,null,null,null,null,null,null,null,null,null,null,null,null,null,null,null,null,{"$f":"IFERROR(VLOOKUP(AM10420,Cod_DIVIPOLA!A:C,2,0),\"CODIGO INCORRECTO\")","v":"CODIGO INCORRECTO"}]
[10479,null,null,null,null,null,null,null,null,null,null,null,null,null,null,null,null,null,null,null,null,null,null,null,null,null,null,null,null,null,null,null,null,null,null,null,null,null,null,{"$f":"IFERROR(VLOOKUP(AM10481,Cod_DIVIPOLA!A:C,2,0),\"CODIGO INCORRECTO\")","v":"CODIGO INCORRECTO"}]
[10569,null,null,null,null,null,null,null,null,null,null,null,null,null,null,null,null,null,null,null,null,null,null,null,null,null,null,null,null,null,null,null,null,null,null,null,null,null,null,{"$f":"IFERROR(VLOOKUP(AM10571,Cod_DIVIPOLA!A:C,2,0),\"CODIGO INCORRECTO\")","v":"CODIGO INCORRECTO"}]
[10612,null,null,null,null,null,null,null,null,null,null,null,null,null,null,null,null,null,null,null,null,null,null,null,null,null,null,null,null,null,null,null,null,null,null,null,null,null,null,{"$f":"IFERROR(VLOOKUP(AM10614,Cod_DIVIPOLA!A:C,2,0),\"CODIGO INCORRECTO\")","v":"CODIGO INCORRECTO"}]
[10653,null,null,null,null,null,null,null,null,null,null,null,null,null,null,null,null,null,null,null,null,null,null,null,null,null,null,null,null,null,null,null,null,null,null,null,null,null,null,{"$f":"IFERROR(VLOOKUP(AM10655,Cod_DIVIPOLA!A:C,2,0),\"CODIGO INCORRECTO\")","v":"CODIGO INCORRECTO"}]
[10709,null,null,null,null,null,null,null,null,null,null,null,null,null,null,null,null,null,null,null,null,null,null,null,null,null,null,null,null,null,null,null,null,null,null,null,null,null,null,{"$f":"IFERROR(VLOOKUP(AM10711,Cod_DIVIPOLA!A:C,2,0),\"CODIGO INCORRECTO\")","v":"CODIGO INCORRECTO"}]
[10778,null,null,null,null,null,null,null,null,null,null,null,null,null,null,null,null,null,null,null,null,null,null,null,null,null,null,null,null,null,null,null,null,null,null,null,null,null,null,{"$f":"IFERROR(VLOOKUP(AM10780,Cod_DIVIPOLA!A:C,2,0),\"CODIGO INCORRECTO\")","v":"CODIGO INCORRECTO"}]
[10828,null,null,null,null,null,null,null,null,null,null,null,null,null,null,null,null,null,null,null,null,null,null,null,null,null,null,null,null,null,null,null,null,null,null,null,null,null,null,{"$f":"IFERROR(VLOOKUP(AM10830,Cod_DIVIPOLA!A:C,2,0),\"CODIGO INCORRECTO\")","v":"CODIGO INCORRECTO"}]
[10871,null,null,null,null,null,null,null,null,null,null,null,null,null,null,null,null,null,null,null,null,null,null,null,null,null,null,null,null,null,null,null,null,null,null,null,null,null,null,{"$f":"IFERROR(VLOOKUP(AM10873,Cod_DIVIPOLA!A:C,2,0),\"CODIGO INCORRECTO\")","v":"CODIGO INCORRECTO"}]
[10897,null,null,null,null,null,null,null,null,null,null,null,null,null,null,null,null,null,null,null,null,null,null,null,null,null,null,null,null,null,null,null,null,null,null,null,null,null,null,{"$f":"IFERROR(VLOOKUP(AM10899,Cod_DIVIPOLA!A:C,2,0),\"CODIGO INCORRECTO\")","v":"CODIGO INCORRECTO"}]
[10968,null,null,null,null,null,null,null,null,null,null,null,null,null,null,null,null,null,null,null,null,null,null,null,null,null,null,null,null,null,null,null,null,null,null,null,null,null,null,{"$f":"IFERROR(VLOOKUP(AM10970,Cod_DIVIPOLA!A:C,2,0),\"CODIGO INCORRECTO\")","v":"CODIGO INCORRECTO"}]
[11011,null,null,null,null,null,null,null,null,null,null,null,null,null,null,null,null,null,null,null,null,null,null,null,null,null,null,null,null,null,null,null,null,null,null,null,null,null,null,{"$f":"IFERROR(VLOOKUP(AM11013,Cod_DIVIPOLA!A:C,2,0),\"CODIGO INCORRECTO\")","v":"CODIGO INCORRECTO"}]
[11071,null,null,null,null,null,null,null,null,null,null,null,null,null,null,null,null,null,null,null,null,null,null,null,null,null,null,null,null,null,null,null,null,null,null,null,null,null,null,{"$f":"IFERROR(VLOOKUP(AM11073,Cod_DIVIPOLA!A:C,2,0),\"CODIGO INCORRECTO\")","v":"CODIGO INCORRECTO"}]
[11130,null,null,null,null,null,null,null,null,null,null,null,null,null,null,null,null,null,null,null,null,null,null,null,null,null,null,null,null,null,null,null,null,null,null,null,null,null,null,{"$f":"IFERROR(VLOOKUP(AM11132,Cod_DIVIPOLA!A:C,2,0),\"CODIGO INCORRECTO\")","v":"CODIGO INCORRECTO"}]
[11196,null,null,null,null,null,null,null,null,null,null,null,null,null,null,null,null,null,null,null,null,null,null,null,null,null,null,null,null,null,null,null,null,null,null,null,null,null,null,{"$f":"IFERROR(VLOOKUP(AM11198,Cod_DIVIPOLA!A:C,2,0),\"CODIGO INCORRECTO\")","v":"CODIGO INCORRECTO"}]
[11227,null,null,null,null,null,null,null,null,null,null,null,null,null,null,null,null,null,null,null,null,null,null,null,null,null,null,null,null,null,null,null,null,null,null,null,null,null,null,{"$f":"IFERROR(VLOOKUP(AM11229,Cod_DIVIPOLA!A:C,2,0),\"CODIGO INCORRECTO\")","v":"CODIGO INCORRECTO"}]
[11324,null,null,null,null,null,null,null,null,null,null,null,null,null,null,null,null,null,null,null,null,null,null,null,null,null,null,null,null,null,null,null,null,null,null,null,null,null,null,{"$f":"IFERROR(VLOOKUP(AM11326,Cod_DIVIPOLA!A:C,2,0),\"CODIGO INCORRECTO\")","v":"CODIGO INCORRECTO"}]
[11370,null,null,null,null,null,null,null,null,null,null,null,null,null,null,null,null,null,null,null,null,null,null,null,null,null,null,null,null,null,null,null,null,null,null,null,null,null,null,{"$f":"IFERROR(VLOOKUP(AM11372,Cod_DIVIPOLA!A:C,2,0),\"CODIGO INCORRECTO\")","v":"CODIGO INCORRECTO"}]
[11421,null,null,null,null,null,null,null,null,null,null,null,null,null,null,null,null,null,null,null,null,null,null,null,null,null,null,null,null,null,null,null,null,null,null,null,null,null,null,{"$f":"IFERROR(VLOOKUP(AM11423,Cod_DIVIPOLA!A:C,2,0),\"CODIGO INCORRECTO\")","v":"CODIGO INCORRECTO"}]
[11495,null,null,null,null,null,null,null,null,null,null,null,null,null,null,null,null,null,null,null,null,null,null,null,null,null,null,null,null,null,null,null,null,null,null,null,null,null,null,{"$f":"IFERROR(VLOOKUP(AM11497,Cod_DIVIPOLA!A:C,2,0),\"CODIGO INCORRECTO\")","v":"CODIGO INCORRECTO"}]
[11540,null,null,null,null,null,null,null,null,null,null,null,null,null,null,null,null,null,null,null,null,null,null,null,null,null,null,null,null,null,null,null,null,null,null,null,null,null,null,{"$f":"IFERROR(VLOOKUP(AM11542,Cod_DIVIPOLA!A:C,2,0),\"CODIGO INCORRECTO\")","v":"CODIGO INCORRECTO"}]
[11583,null,null,null,null,null,null,null,null,null,null,null,null,null,null,null,null,null,null,null,null,null,null,null,null,null,null,null,null,null,null,null,null,null,null,null,null,null,null,{"$f":"IFERROR(VLOOKUP(AM11585,Cod_DIVIPOLA!A:C,2,0),\"CODIGO INCORRECTO\")","v":"CODIGO INCORRECTO"}]
[11614,null,null,null,null,null,null,null,null,null,null,null,null,null,null,null,null,null,null,null,null,null,null,null,null,null,null,null,null,null,null,null,null,null,null,null,null,null,null,{"$f":"IFERROR(VLOOKUP(AM11616,Cod_DIVIPOLA!A:C,2,0),\"CODIGO INCORRECTO\")","v":"CODIGO INCORRECTO"}]
[11680,null,null,null,null,null,null,null,null,null,null,null,null,null,null,null,null,null,null,null,null,null,null,null,null,null,null,null,null,null,null,null,null,null,null,null,null,null,null,{"$f":"IFERROR(VLOOKUP(AM11682,Cod_DIVIPOLA!A:C,2,0),\"CODIGO INCORRECTO\")","v":"CODIGO INCORRECTO"}]
[11739,null,null,null,null,null,null,null,null,null,null,null,null,null,null,null,null,null,null,null,null,null,null,null,null,null,null,null,null,null,null,null,null,null,null,null,null,null,null,{"$f":"IFERROR(VLOOKUP(AM11741,Cod_DIVIPOLA!A:C,2,0),\"CODIGO INCORRECTO\")","v":"CODIGO INCORRECTO"}]
[11799,null,null,null,null,null,null,null,null,null,null,null,null,null,null,null,null,null,null,null,null,null,null,null,null,null,null,null,null,null,null,null,null,null,null,null,null,null,null,{"$f":"IFERROR(VLOOKUP(AM11801,Cod_DIVIPOLA!A:C,2,0),\"CODIGO INCORRECTO\")","v":"CODIGO INCORRECTO"}]
[11842,null,null,null,null,null,null,null,null,null,null,null,null,null,null,null,null,null,null,null,null,null,null,null,null,null,null,null,null,null,null,null,null,null,null,null,null,null,null,{"$f":"IFERROR(VLOOKUP(AM11844,Cod_DIVIPOLA!A:C,2,0),\"CODIGO INCORRECTO\")","v":"CODIGO INCORRECTO"}]
[11913,null,null,null,null,null,null,null,null,null,null,null,null,null,null,null,null,null,null,null,null,null,null,null,null,null,null,null,null,null,null,null,null,null,null,null,null,null,null,{"$f":"IFERROR(VLOOKUP(AM11915,Cod_DIVIPOLA!A:C,2,0),\"CODIGO INCORRECTO\")","v":"CODIGO INCORRECTO"}]
[11939,null,null,null,null,null,null,null,null,null,null,null,null,null,null,null,null,null,null,null,null,null,null,null,null,null,null,null,null,null,null,null,null,null,null,null,null,null,null,{"$f":"IFERROR(VLOOKUP(AM11941,Cod_DIVIPOLA!A:C,2,0),\"CODIGO INCORRECTO\")","v":"CODIGO INCORRECTO"}]
[12036,null,null,null,null,null,null,null,null,null,null,null,null,null,null,null,null,null,null,null,null,null,null,null,null,null,null,null,null,null,null,null,null,null,null,null,null,null,null,{"$f":"IFERROR(VLOOKUP(AM12038,Cod_DIVIPOLA!A:C,2,0),\"CODIGO INCORRECTO\")","v":"CODIGO INCORRECTO"}]
[12087,null,null,null,null,null,null,null,null,null,null,null,null,null,null,null,null,null,null,null,null,null,null,null,null,null,null,null,null,null,null,null,null,null,null,null,null,null,null,{"$f":"IFERROR(VLOOKUP(AM12089,Cod_DIVIPOLA!A:C,2,0),\"CODIGO INCORRECTO\")","v":"CODIGO INCORRECTO"}]
[12133,null,null,null,null,null,null,null,null,null,null,null,null,null,null,null,null,null,null,null,null,null,null,null,null,null,null,null,null,null,null,null,null,null,null,null,null,null,null,{"$f":"IFERROR(VLOOKUP(AM12135,Cod_DIVIPOLA!A:C,2,0),\"CODIGO INCORRECTO\")","v":"CODIGO INCORRECTO"}]
[12157,null,null,null,null,null,null,null,null,null,null,null,null,null,null,null,null,null,null,null,null,null,null,null,null,null,null,null,null,null,null,null,null,null,null,null,null,null,null,{"$f":"IFERROR(VLOOKUP(AM12159,Cod_DIVIPOLA!A:C,2,0),\"CODIGO INCORRECTO\")","v":"CODIGO INCORRECTO"}]
[12252,null,null,null,null,null,null,null,null,null,null,null,null,null,null,null,null,null,null,null,null,null,null,null,null,null,null,null,null,null,null,null,null,null,null,null,null,null,null,{"$f":"IFERROR(VLOOKUP(AM12254,Cod_DIVIPOLA!A:C,2,0),\"CODIGO INCORRECTO\")","v":"CODIGO INCORRECTO"}]
[12295,null,null,null,null,null,null,null,null,null,null,null,null,null,null,null,null,null,null,null,null,null,null,null,null,null,null,null,null,null,null,null,null,null,null,null,null,null,null,{"$f":"IFERROR(VLOOKUP(AM12297,Cod_DIVIPOLA!A:C,2,0),\"CODIGO INCORRECTO\")","v":"CODIGO INCORRECTO"}]
[12331,null,null,null,null,null,null,null,null,null,null,null,null,null,null,null,null,null,null,null,null,null,null,null,null,null,null,null,null,null,null,null,null,null,null,null,null,null,null,{"$f":"IFERROR(VLOOKUP(AM12333,Cod_DIVIPOLA!A:C,2,0),\"CODIGO INCORRECTO\")","v":"CODIGO INCORRECTO"}]
[12392,null,null,null,null,null,null,null,null,null,null,null,null,null,null,null,null,null,null,null,null,null,null,null,null,null,null,null,null,null,null,null,null,null,null,null,null,null,null,{"$f":"IFERROR(VLOOKUP(AM12394,Cod_DIVIPOLA!A:C,2,0),\"CODIGO INCORRECTO\")","v":"CODIGO INCORRECTO"}]
[12456,null,null,null,null,null,null,null,null,null,null,null,null,null,null,null,null,null,null,null,null,null,null,null,null,null,null,null,null,null,null,null,null,null,null,null,null,null,null,{"$f":"IFERROR(VLOOKUP(AM12458,Cod_DIVIPOLA!A:C,2,0),\"CODIGO INCORRECTO\")","v":"CODIGO INCORRECTO"}]
[12511,null,null,null,null,null,null,null,null,null,null,null,null,null,null,null,null,null,null,null,null,null,null,null,null,null,null,null,null,null,null,null,null,null,null,null,null,null,null,{"$f":"IFERROR(VLOOKUP(AM12513,Cod_DIVIPOLA!A:C,2,0),\"CODIGO INCORRECTO\")","v":"CODIGO INCORRECTO"}]
[12532,null,null,null,null,null,null,null,null,null,null,null,null,null,null,null,null,null,null,null,null,null,null,null,null,null,null,null,null,null,null,null,null,null,null,null,null,null,null,{"$f":"IFERROR(VLOOKUP(AM12534,Cod_DIVIPOLA!A:C,2,0),\"CODIGO INCORRECTO\")","v":"CODIGO INCORRECTO"}]
[12630,null,null,null,null,null,null,null,null,null,null,null,null,null,null,null,null,null,null,null,null,null,null,null,null,null,null,null,null,null,null,null,null,null,null,null,null,null,null,{"$f":"IFERROR(VLOOKUP(AM12632,Cod_DIVIPOLA!A:C,2,0),\"CODIGO INCORRECTO\")","v":"CODIGO INCORRECTO"}]
[12651,null,null,null,null,null,null,null,null,null,null,null,null,null,null,null,null,null,null,null,null,null,null,null,null,null,null,null,null,null,null,null,null,null,null,null,null,null,null,{"$f":"IFERROR(VLOOKUP(AM12653,Cod_DIVIPOLA!A:C,2,0),\"CODIGO INCORRECTO\")","v":"CODIGO INCORRECTO"}]
[12700,null,null,null,null,null,null,null,null,null,null,null,null,null,null,null,null,null,null,null,null,null,null,null,null,null,null,null,null,null,null,null,null,null,null,null,null,null,null,{"$f":"IFERROR(VLOOKUP(AM12702,Cod_DIVIPOLA!A:C,2,0),\"CODIGO INCORRECTO\")","v":"CODIGO INCORRECTO"}]
[12770,null,null,null,null,null,null,null,null,null,null,null,null,null,null,null,null,null,null,null,null,null,null,null,null,null,null,null,null,null,null,null,null,null,null,null,null,null,null,{"$f":"IFERROR(VLOOKUP(AM12772,Cod_DIVIPOLA!A:C,2,0),\"CODIGO INCORRECTO\")","v":"CODIGO INCORRECTO"}]
[12845,null,null,null,null,null,null,null,null,null,null,null,null,null,null,null,null,null,null,null,null,null,null,null,null,null,null,null,null,null,null,null,null,null,null,null,null,null,null,{"$f":"IFERROR(VLOOKUP(AM12847,Cod_DIVIPOLA!A:C,2,0),\"CODIGO INCORRECTO\")","v":"CODIGO INCORRECTO"}]
[12874,null,null,null,null,null,null,null,null,null,null,null,null,null,null,null,null,null,null,null,null,null,null,null,null,null,null,null,null,null,null,null,null,null,null,null,null,null,null,{"$f":"IFERROR(VLOOKUP(AM12876,Cod_DIVIPOLA!A:C,2,0),\"CODIGO INCORRECTO\")","v":"CODIGO INCORRECTO"}]
[12910,null,null,null,null,null,null,null,null,null,null,null,null,null,null,null,null,null,null,null,null,null,null,null,null,null,null,null,null,null,null,null,null,null,null,null,null,null,null,{"$f":"IFERROR(VLOOKUP(AM12912,Cod_DIVIPOLA!A:C,2,0),\"CODIGO INCORRECTO\")","v":"CODIGO INCORRECTO"}]
[13007,null,null,null,null,null,null,null,null,null,null,null,null,null,null,null,null,null,null,null,null,null,null,null,null,null,null,null,null,null,null,null,null,null,null,null,null,null,null,{"$f":"IFERROR(VLOOKUP(AM13009,Cod_DIVIPOLA!A:C,2,0),\"CODIGO INCORRECTO\")","v":"CODIGO INCORRECTO"}]
[13048,null,null,null,null,null,null,null,null,null,null,null,null,null,null,null,null,null,null,null,null,null,null,null,null,null,null,null,null,null,null,null,null,null,null,null,null,null,null,{"$f":"IFERROR(VLOOKUP(AM13050,Cod_DIVIPOLA!A:C,2,0),\"CODIGO INCORRECTO\")","v":"CODIGO INCORRECTO"}]
[13104,null,null,null,null,null,null,null,null,null,null,null,null,null,null,null,null,null,null,null,null,null,null,null,null,null,null,null,null,null,null,null,null,null,null,null,null,null,null,{"$f":"IFERROR(VLOOKUP(AM13106,Cod_DIVIPOLA!A:C,2,0),\"CODIGO INCORRECTO\")","v":"CODIGO INCORRECTO"}]
[13173,null,null,null,null,null,null,null,null,null,null,null,null,null,null,null,null,null,null,null,null,null,null,null,null,null,null,null,null,null,null,null,null,null,null,null,null,null,null,{"$f":"IFERROR(VLOOKUP(AM13175,Cod_DIVIPOLA!A:C,2,0),\"CODIGO INCORRECTO\")","v":"CODIGO INCORRECTO"}]
[13223,null,null,null,null,null,null,null,null,null,null,null,null,null,null,null,null,null,null,null,null,null,null,null,null,null,null,null,null,null,null,null,null,null,null,null,null,null,null,{"$f":"IFERROR(VLOOKUP(AM13225,Cod_DIVIPOLA!A:C,2,0),\"CODIGO INCORRECTO\")","v":"CODIGO INCORRECTO"}]
[13244,null,null,null,null,null,null,null,null,null,null,null,null,null,null,null,null,null,null,null,null,null,null,null,null,null,null,null,null,null,null,null,null,null,null,null,null,null,null,{"$f":"IFERROR(VLOOKUP(AM13246,Cod_DIVIPOLA!A:C,2,0),\"CODIGO INCORRECTO\")","v":"CODIGO INCORRECTO"}]
[13292,null,null,null,null,null,null,null,null,null,null,null,null,null,null,null,null,null,null,null,null,null,null,null,null,null,null,null,null,null,null,null,null,null,null,null,null,null,null,{"$f":"IFERROR(VLOOKUP(AM13294,Cod_DIVIPOLA!A:C,2,0),\"CODIGO INCORRECTO\")","v":"CODIGO INCORRECTO"}]
[13363,null,null,null,null,null,null,null,null,null,null,null,null,null,null,null,null,null,null,null,null,null,null,null,null,null,null,null,null,null,null,null,null,null,null,null,null,null,null,{"$f":"IFERROR(VLOOKUP(AM13365,Cod_DIVIPOLA!A:C,2,0),\"CODIGO INCORRECTO\")","v":"CODIGO INCORRECTO"}]
[13417,null,null,null,null,null,null,null,null,null,null,null,null,null,null,null,null,null,null,null,null,null,null,null,null,null,null,null,null,null,null,null,null,null,null,null,null,null,null,{"$f":"IFERROR(VLOOKUP(AM13419,Cod_DIVIPOLA!A:C,2,0),\"CODIGO INCORRECTO\")","v":"CODIGO INCORRECTO"}]
[13482,null,null,null,null,null,null,null,null,null,null,null,null,null,null,null,null,null,null,null,null,null,null,null,null,null,null,null,null,null,null,null,null,null,null,null,null,null,null,{"$f":"IFERROR(VLOOKUP(AM13484,Cod_DIVIPOLA!A:C,2,0),\"CODIGO INCORRECTO\")","v":"CODIGO INCORRECTO"}]
[13557,null,null,null,null,null,null,null,null,null,null,null,null,null,null,null,null,null,null,null,null,null,null,null,null,null,null,null,null,null,null,null,null,null,null,null,null,null,null,{"$f":"IFERROR(VLOOKUP(AM13559,Cod_DIVIPOLA!A:C,2,0),\"CODIGO INCORRECTO\")","v":"CODIGO INCORRECTO"}]
[13591,null,null,null,null,null,null,null,null,null,null,null,null,null,null,null,null,null,null,null,null,null,null,null,null,null,null,null,null,null,null,null,null,null,null,null,null,null,null,{"$f":"IFERROR(VLOOKUP(AM13593,Cod_DIVIPOLA!A:C,2,0),\"CODIGO INCORRECTO\")","v":"CODIGO INCORRECTO"}]
[13622,null,null,null,null,null,null,null,null,null,null,null,null,null,null,null,null,null,null,null,null,null,null,null,null,null,null,null,null,null,null,null,null,null,null,null,null,null,null,{"$f":"IFERROR(VLOOKUP(AM13624,Cod_DIVIPOLA!A:C,2,0),\"CODIGO INCORRECTO\")","v":"CODIGO INCORRECTO"}]
[13690,null,null,null,null,null,null,null,null,null,null,null,null,null,null,null,null,null,null,null,null,null,null,null,null,null,null,null,null,null,null,null,null,null,null,null,null,null,null,{"$f":"IFERROR(VLOOKUP(AM13692,Cod_DIVIPOLA!A:C,2,0),\"CODIGO INCORRECTO\")","v":"CODIGO INCORRECTO"}]
[13741,null,null,null,null,null,null,null,null,null,null,null,null,null,null,null,null,null,null,null,null,null,null,null,null,null,null,null,null,null,null,null,null,null,null,null,null,null,null,{"$f":"IFERROR(VLOOKUP(AM13743,Cod_DIVIPOLA!A:C,2,0),\"CODIGO INCORRECTO\")","v":"CODIGO INCORRECTO"}]
[13816,null,null,null,null,null,null,null,null,null,null,null,null,null,null,null,null,null,null,null,null,null,null,null,null,null,null,null,null,null,null,null,null,null,null,null,null,null,null,{"$f":"IFERROR(VLOOKUP(AM13818,Cod_DIVIPOLA!A:C,2,0),\"CODIGO INCORRECTO\")","v":"CODIGO INCORRECTO"}]
[13835,null,null,null,null,null,null,null,null,null,null,null,null,null,null,null,null,null,null,null,null,null,null,null,null,null,null,null,null,null,null,null,null,null,null,null,null,null,null,{"$f":"IFERROR(VLOOKUP(AM13837,Cod_DIVIPOLA!A:C,2,0),\"CODIGO INCORRECTO\")","v":"CODIGO INCORRECTO"}]
[13935,null,null,null,null,null,null,null,null,null,null,null,null,null,null,null,null,null,null,null,null,null,null,null,null,null,null,null,null,null,null,null,null,null,null,null,null,null,null,{"$f":"IFERROR(VLOOKUP(AM13937,Cod_DIVIPOLA!A:C,2,0),\"CODIGO INCORRECTO\")","v":"CODIGO INCORRECTO"}]
[13956,null,null,null,null,null,null,null,null,null,null,null,null,null,null,null,null,null,null,null,null,null,null,null,null,null,null,null,null,null,null,null,null,null,null,null,null,null,null,{"$f":"IFERROR(VLOOKUP(AM13958,Cod_DIVIPOLA!A:C,2,0),\"CODIGO INCORRECTO\")","v":"CODIGO INCORRECTO"}]
[14009,null,null,null,null,null,null,null,null,null,null,null,null,null,null,null,null,null,null,null,null,null,null,null,null,null,null,null,null,null,null,null,null,null,null,null,null,null,null,{"$f":"IFERROR(VLOOKUP(AM14011,Cod_DIVIPOLA!A:C,2,0),\"CODIGO INCORRECTO\")","v":"CODIGO INCORRECTO"}]
[14075,null,null,null,null,null,null,null,null,null,null,null,null,null,null,null,null,null,null,null,null,null,null,null,null,null,null,null,null,null,null,null,null,null,null,null,null,null,null,{"$f":"IFERROR(VLOOKUP(AM14077,Cod_DIVIPOLA!A:C,2,0),\"CODIGO INCORRECTO\")","v":"CODIGO INCORRECTO"}]
[14134,null,null,null,null,null,null,null,null,null,null,null,null,null,null,null,null,null,null,null,null,null,null,null,null,null,null,null,null,null,null,null,null,null,null,null,null,null,null,{"$f":"IFERROR(VLOOKUP(AM14136,Cod_DIVIPOLA!A:C,2,0),\"CODIGO INCORRECTO\")","v":"CODIGO INCORRECTO"}]
[14194,null,null,null,null,null,null,null,null,null,null,null,null,null,null,null,null,null,null,null,null,null,null,null,null,null,null,null,null,null,null,null,null,null,null,null,null,null,null,{"$f":"IFERROR(VLOOKUP(AM14196,Cod_DIVIPOLA!A:C,2,0),\"CODIGO INCORRECTO\")","v":"CODIGO INCORRECTO"}]
[14215,null,null,null,null,null,null,null,null,null,null,null,null,null,null,null,null,null,null,null,null,null,null,null,null,null,null,null,null,null,null,null,null,null,null,null,null,null,null,{"$f":"IFERROR(VLOOKUP(AM14217,Cod_DIVIPOLA!A:C,2,0),\"CODIGO INCORRECTO\")","v":"CODIGO INCORRECTO"}]
[14308,null,null,null,null,null,null,null,null,null,null,null,null,null,null,null,null,null,null,null,null,null,null,null,null,null,null,null,null,null,null,null,null,null,null,null,null,null,null,{"$f":"IFERROR(VLOOKUP(AM14310,Cod_DIVIPOLA!A:C,2,0),\"CODIGO INCORRECTO\")","v":"CODIGO INCORRECTO"}]
[14334,null,null,null,null,null,null,null,null,null,null,null,null,null,null,null,null,null,null,null,null,null,null,null,null,null,null,null,null,null,null,null,null,null,null,null,null,null,null,{"$f":"IFERROR(VLOOKUP(AM14336,Cod_DIVIPOLA!A:C,2,0),\"CODIGO INCORRECTO\")","v":"CODIGO INCORRECTO"}]
[14407,null,null,null,null,null,null,null,null,null,null,null,null,null,null,null,null,null,null,null,null,null,null,null,null,null,null,null,null,null,null,null,null,null,null,null,null,null,null,{"$f":"IFERROR(VLOOKUP(AM14409,Cod_DIVIPOLA!A:C,2,0),\"CODIGO INCORRECTO\")","v":"CODIGO INCORRECTO"}]
[14453,null,null,null,null,null,null,null,null,null,null,null,null,null,null,null,null,null,null,null,null,null,null,null,null,null,null,null,null,null,null,null,null,null,null,null,null,null,null,{"$f":"IFERROR(VLOOKUP(AM14455,Cod_DIVIPOLA!A:C,2,0),\"CODIGO INCORRECTO\")","v":"CODIGO INCORRECTO"}]
[14528,null,null,null,null,null,null,null,null,null,null,null,null,null,null,null,null,null,null,null,null,null,null,null,null,null,null,null,null,null,null,null,null,null,null,null,null,null,null,{"$f":"IFERROR(VLOOKUP(AM14530,Cod_DIVIPOLA!A:C,2,0),\"CODIGO INCORRECTO\")","v":"CODIGO INCORRECTO"}]
[14552,null,null,null,null,null,null,null,null,null,null,null,null,null,null,null,null,null,null,null,null,null,null,null,null,null,null,null,null,null,null,null,null,null,null,null,null,null,null,{"$f":"IFERROR(VLOOKUP(AM14554,Cod_DIVIPOLA!A:C,2,0),\"CODIGO INCORRECTO\")","v":"CODIGO INCORRECTO"}]
[14647,null,null,null,null,null,null,null,null,null,null,null,null,null,null,null,null,null,null,null,null,null,null,null,null,null,null,null,null,null,null,null,null,null,null,null,null,null,null,{"$f":"IFERROR(VLOOKUP(AM14649,Cod_DIVIPOLA!A:C,2,0),\"CODIGO INCORRECTO\")","v":"CODIGO INCORRECTO"}]
[14651,null,null,null,null,null,null,null,null,null,null,null,null,null,null,null,null,null,null,null,null,null,null,null,null,null,null,null,null,null,null,null,null,null,null,null,null,null,null,{"$f":"IFERROR(VLOOKUP(AM14653,Cod_DIVIPOLA!A:C,2,0),\"CODIGO INCORRECTO\")","v":"CODIGO INCORRECTO"}]
[14712,null,null,null,null,null,null,null,null,null,null,null,null,null,null,null,null,null,null,null,null,null,null,null,null,null,null,null,null,null,null,null,null,null,null,null,null,null,null,{"$f":"IFERROR(VLOOKUP(AM14714,Cod_DIVIPOLA!A:C,2,0),\"CODIGO INCORRECTO\")","v":"CODIGO INCORRECTO"}]
[14787,null,null,null,null,null,null,null,null,null,null,null,null,null,null,null,null,null,null,null,null,null,null,null,null,null,null,null,null,null,null,null,null,null,null,null,null,null,null,{"$f":"IFERROR(VLOOKUP(AM14789,Cod_DIVIPOLA!A:C,2,0),\"CODIGO INCORRECTO\")","v":"CODIGO INCORRECTO"}]
[14851,null,null,null,null,null,null,null,null,null,null,null,null,null,null,null,null,null,null,null,null,null,null,null,null,null,null,null,null,null,null,null,null,null,null,null,null,null,null,{"$f":"IFERROR(VLOOKUP(AM14853,Cod_DIVIPOLA!A:C,2,0),\"CODIGO INCORRECTO\")","v":"CODIGO INCORRECTO"}]
[14906,null,null,null,null,null,null,null,null,null,null,null,null,null,null,null,null,null,null,null,null,null,null,null,null,null,null,null,null,null,null,null,null,null,null,null,null,null,null,{"$f":"IFERROR(VLOOKUP(AM14908,Cod_DIVIPOLA!A:C,2,0),\"CODIGO INCORRECTO\")","v":"CODIGO INCORRECTO"}]
[14927,null,null,null,null,null,null,null,null,null,null,null,null,null,null,null,null,null,null,null,null,null,null,null,null,null,null,null,null,null,null,null,null,null,null,null,null,null,null,{"$f":"IFERROR(VLOOKUP(AM14929,Cod_DIVIPOLA!A:C,2,0),\"CODIGO INCORRECTO\")","v":"CODIGO INCORRECTO"}]
[15025,null,null,null,null,null,null,null,null,null,null,null,null,null,null,null,null,null,null,null,null,null,null,null,null,null,null,null,null,null,null,null,null,null,null,null,null,null,null,{"$f":"IFERROR(VLOOKUP(AM15027,Cod_DIVIPOLA!A:C,2,0),\"CODIGO INCORRECTO\")","v":"CODIGO INCORRECTO"}]
[15046,null,null,null,null,null,null,null,null,null,null,null,null,null,null,null,null,null,null,null,null,null,null,null,null,null,null,null,null,null,null,null,null,null,null,null,null,null,null,{"$f":"IFERROR(VLOOKUP(AM15048,Cod_DIVIPOLA!A:C,2,0),\"CODIGO INCORRECTO\")","v":"CODIGO INCORRECTO"}]
[15124,null,null,null,null,null,null,null,null,null,null,null,null,null,null,null,null,null,null,null,null,null,null,null,null,null,null,null,null,null,null,null,null,null,null,null,null,null,null,{"$f":"IFERROR(VLOOKUP(AM15126,Cod_DIVIPOLA!A:C,2,0),\"CODIGO INCORRECTO\")","v":"CODIGO INCORRECTO"}]
[15165,null,null,null,null,null,null,null,null,null,null,null,null,null,null,null,null,null,null,null,null,null,null,null,null,null,null,null,null,null,null,null,null,null,null,null,null,null,null,{"$f":"IFERROR(VLOOKUP(AM15167,Cod_DIVIPOLA!A:C,2,0),\"CODIGO INCORRECTO\")","v":"CODIGO INCORRECTO"}]
[15240,null,null,null,null,null,null,null,null,null,null,null,null,null,null,null,null,null,null,null,null,null,null,null,null,null,null,null,null,null,null,null,null,null,null,null,null,null,null,{"$f":"IFERROR(VLOOKUP(AM15242,Cod_DIVIPOLA!A:C,2,0),\"CODIGO INCORRECTO\")","v":"CODIGO INCORRECTO"}]
[15269,null,null,null,null,null,null,null,null,null,null,null,null,null,null,null,null,null,null,null,null,null,null,null,null,null,null,null,null,null,null,null,null,null,null,null,null,null,null,{"$f":"IFERROR(VLOOKUP(AM15271,Cod_DIVIPOLA!A:C,2,0),\"CODIGO INCORRECTO\")","v":"CODIGO INCORRECTO"}]
[15305,null,null,null,null,null,null,null,null,null,null,null,null,null,null,null,null,null,null,null,null,null,null,null,null,null,null,null,null,null,null,null,null,null,null,null,null,null,null,{"$f":"IFERROR(VLOOKUP(AM15307,Cod_DIVIPOLA!A:C,2,0),\"CODIGO INCORRECTO\")","v":"CODIGO INCORRECTO"}]
[15368,null,null,null,null,null,null,null,null,null,null,null,null,null,null,null,null,null,null,null,null,null,null,null,null,null,null,null,null,null,null,null,null,null,null,null,null,null,null,{"$f":"IFERROR(VLOOKUP(AM15370,Cod_DIVIPOLA!A:C,2,0),\"CODIGO INCORRECTO\")","v":"CODIGO INCORRECTO"}]
[15424,null,null,null,null,null,null,null,null,null,null,null,null,null,null,null,null,null,null,null,null,null,null,null,null,null,null,null,null,null,null,null,null,null,null,null,null,null,null,{"$f":"IFERROR(VLOOKUP(AM15426,Cod_DIVIPOLA!A:C,2,0),\"CODIGO INCORRECTO\")","v":"CODIGO INCORRECTO"}]
[15499,null,null,null,null,null,null,null,null,null,null,null,null,null,null,null,null,null,null,null,null,null,null,null,null,null,null,null,null,null,null,null,null,null,null,null,null,null,null,{"$f":"IFERROR(VLOOKUP(AM15501,Cod_DIVIPOLA!A:C,2,0),\"CODIGO INCORRECTO\")","v":"CODIGO INCORRECTO"}]
[15542,null,null,null,null,null,null,null,null,null,null,null,null,null,null,null,null,null,null,null,null,null,null,null,null,null,null,null,null,null,null,null,null,null,null,null,null,null,null,{"$f":"IFERROR(VLOOKUP(AM15544,Cod_DIVIPOLA!A:C,2,0),\"CODIGO INCORRECTO\")","v":"CODIGO INCORRECTO"}]
[15618,null,null,null,null,null,null,null,null,null,null,null,null,null,null,null,null,null,null,null,null,null,null,null,null,null,null,null,null,null,null,null,null,null,null,null,null,null,null,{"$f":"IFERROR(VLOOKUP(AM15620,Cod_DIVIPOLA!A:C,2,0),\"CODIGO INCORRECTO\")","v":"CODIGO INCORRECTO"}]
[15667,null,null,null,null,null,null,null,null,null,null,null,null,null,null,null,null,null,null,null,null,null,null,null,null,null,null,null,null,null,null,null,null,null,null,null,null,null,null,{"$f":"IFERROR(VLOOKUP(AM15669,Cod_DIVIPOLA!A:C,2,0),\"CODIGO INCORRECTO\")","v":"CODIGO INCORRECTO"}]
[15737,null,null,null,null,null,null,null,null,null,null,null,null,null,null,null,null,null,null,null,null,null,null,null,null,null,null,null,null,null,null,null,null,null,null,null,null,null,null,{"$f":"IFERROR(VLOOKUP(AM15739,Cod_DIVIPOLA!A:C,2,0),\"CODIGO INCORRECTO\")","v":"CODIGO INCORRECTO"}]
[15758,null,null,null,null,null,null,null,null,null,null,null,null,null,null,null,null,null,null,null,null,null,null,null,null,null,null,null,null,null,null,null,null,null,null,null,null,null,null,{"$f":"IFERROR(VLOOKUP(AM15760,Cod_DIVIPOLA!A:C,2,0),\"CODIGO INCORRECTO\")","v":"CODIGO INCORRECTO"}]
[15841,null,null,null,null,null,null,null,null,null,null,null,null,null,null,null,null,null,null,null,null,null,null,null,null,null,null,null,null,null,null,null,null,null,null,null,null,null,null,{"$f":"IFERROR(VLOOKUP(AM15843,Cod_DIVIPOLA!A:C,2,0),\"CODIGO INCORRECTO\")","v":"CODIGO INCORRECTO"}]
[15877,null,null,null,null,null,null,null,null,null,null,null,null,null,null,null,null,null,null,null,null,null,null,null,null,null,null,null,null,null,null,null,null,null,null,null,null,null,null,{"$f":"IFERROR(VLOOKUP(AM15879,Cod_DIVIPOLA!A:C,2,0),\"CODIGO INCORRECTO\")","v":"CODIGO INCORRECTO"}]
[15952,null,null,null,null,null,null,null,null,null,null,null,null,null,null,null,null,null,null,null,null,null,null,null,null,null,null,null,null,null,null,null,null,null,null,null,null,null,null,{"$f":"IFERROR(VLOOKUP(AM15954,Cod_DIVIPOLA!A:C,2,0),\"CODIGO INCORRECTO\")","v":"CODIGO INCORRECTO"}]
[15986,null,null,null,null,null,null,null,null,null,null,null,null,null,null,null,null,null,null,null,null,null,null,null,null,null,null,null,null,null,null,null,null,null,null,null,null,null,null,{"$f":"IFERROR(VLOOKUP(AM15988,Cod_DIVIPOLA!A:C,2,0),\"CODIGO INCORRECTO\")","v":"CODIGO INCORRECTO"}]
[16017,null,null,null,null,null,null,null,null,null,null,null,null,null,null,null,null,null,null,null,null,null,null,null,null,null,null,null,null,null,null,null,null,null,null,null,null,null,null,{"$f":"IFERROR(VLOOKUP(AM16019,Cod_DIVIPOLA!A:C,2,0),\"CODIGO INCORRECTO\")","v":"CODIGO INCORRECTO"}]
[16085,null,null,null,null,null,null,null,null,null,null,null,null,null,null,null,null,null,null,null,null,null,null,null,null,null,null,null,null,null,null,null,null,null,null,null,null,null,null,{"$f":"IFERROR(VLOOKUP(AM16087,Cod_DIVIPOLA!A:C,2,0),\"CODIGO INCORRECTO\")","v":"CODIGO INCORRECTO"}]
[16136,null,null,null,null,null,null,null,null,null,null,null,null,null,null,null,null,null,null,null,null,null,null,null,null,null,null,null,null,null,null,null,null,null,null,null,null,null,null,{"$f":"IFERROR(VLOOKUP(AM16138,Cod_DIVIPOLA!A:C,2,0),\"CODIGO INCORRECTO\")","v":"CODIGO INCORRECTO"}]
[16211,null,null,null,null,null,null,null,null,null,null,null,null,null,null,null,null,null,null,null,null,null,null,null,null,null,null,null,null,null,null,null,null,null,null,null,null,null,null,{"$f":"IFERROR(VLOOKUP(AM16213,Cod_DIVIPOLA!A:C,2,0),\"CODIGO INCORRECTO\")","v":"CODIGO INCORRECTO"}]
[16259,null,null,null,null,null,null,null,null,null,null,null,null,null,null,null,null,null,null,null,null,null,null,null,null,null,null,null,null,null,null,null,null,null,null,null,null,null,null,{"$f":"IFERROR(VLOOKUP(AM16261,Cod_DIVIPOLA!A:C,2,0),\"CODIGO INCORRECTO\")","v":"CODIGO INCORRECTO"}]
[16330,null,null,null,null,null,null,null,null,null,null,null,null,null,null,null,null,null,null,null,null,null,null,null,null,null,null,null,null,null,null,null,null,null,null,null,null,null,null,{"$f":"IFERROR(VLOOKUP(AM16332,Cod_DIVIPOLA!A:C,2,0),\"CODIGO INCORRECTO\")","v":"CODIGO INCORRECTO"}]
[16384,null,null,null,null,null,null,null,null,null,null,null,null,null,null,null,null,null,null,null,null,null,null,null,null,null,null,null,null,null,null,null,null,null,null,null,null,null,null,{"$f":"IFERROR(VLOOKUP(AM16386,Cod_DIVIPOLA!A:C,2,0),\"CODIGO INCORRECTO\")","v":"CODIGO INCORRECTO"}]
[16395,null,null,null,null,null,null,null,null,null,null,null,null,null,null,null,null,null,null,null,null,null,null,null,null,null,null,null,null,null,null,null,null,null,null,null,null,null,null,{"$f":"IFERROR(VLOOKUP(AM16397,Cod_DIVIPOLA!A:C,2,0),\"CODIGO INCORRECTO\")","v":"CODIGO INCORRECTO"}]
[16470,null,null,null,null,null,null,null,null,null,null,null,null,null,null,null,null,null,null,null,null,null,null,null,null,null,null,null,null,null,null,null,null,null,null,null,null,null,null,{"$f":"IFERROR(VLOOKUP(AM16472,Cod_DIVIPOLA!A:C,2,0),\"CODIGO INCORRECTO\")","v":"CODIGO INCORRECTO"}]
[16503,null,null,null,null,null,null,null,null,null,null,null,null,null,null,null,null,null,null,null,null,null,null,null,null,null,null,null,null,null,null,null,null,null,null,null,null,null,null,{"$f":"IFERROR(VLOOKUP(AM16505,Cod_DIVIPOLA!A:C,2,0),\"CODIGO INCORRECTO\")","v":"CODIGO INCORRECTO"}]
[16589,null,null,null,null,null,null,null,null,null,null,null,null,null,null,null,null,null,null,null,null,null,null,null,null,null,null,null,null,null,null,null,null,null,null,null,null,null,null,{"$f":"IFERROR(VLOOKUP(AM16591,Cod_DIVIPOLA!A:C,2,0),\"CODIGO INCORRECTO\")","v":"CODIGO INCORRECTO"}]
[16628,null,null,null,null,null,null,null,null,null,null,null,null,null,null,null,null,null,null,null,null,null,null,null,null,null,null,null,null,null,null,null,null,null,null,null,null,null,null,{"$f":"IFERROR(VLOOKUP(AM16630,Cod_DIVIPOLA!A:C,2,0),\"CODIGO INCORRECTO\")","v":"CODIGO INCORRECTO"}]
[16708,null,null,null,null,null,null,null,null,null,null,null,null,null,null,null,null,null,null,null,null,null,null,null,null,null,null,null,null,null,null,null,null,null,null,null,null,null,null,{"$f":"IFERROR(VLOOKUP(AM16710,Cod_DIVIPOLA!A:C,2,0),\"CODIGO INCORRECTO\")","v":"CODIGO INCORRECTO"}]
[16729,null,null,null,null,null,null,null,null,null,null,null,null,null,null,null,null,null,null,null,null,null,null,null,null,null,null,null,null,null,null,null,null,null,null,null,null,null,null,{"$f":"IFERROR(VLOOKUP(AM16731,Cod_DIVIPOLA!A:C,2,0),\"CODIGO INCORRECTO\")","v":"CODIGO INCORRECTO"}]
[16802,null,null,null,null,null,null,null,null,null,null,null,null,null,null,null,null,null,null,null,null,null,null,null,null,null,null,null,null,null,null,null,null,null,null,null,null,null,null,{"$f":"IFERROR(VLOOKUP(AM16804,Cod_DIVIPOLA!A:C,2,0),\"CODIGO INCORRECTO\")","v":"CODIGO INCORRECTO"}]
[16848,null,null,null,null,null,null,null,null,null,null,null,null,null,null,null,null,null,null,null,null,null,null,null,null,null,null,null,null,null,null,null,null,null,null,null,null,null,null,{"$f":"IFERROR(VLOOKUP(AM16850,Cod_DIVIPOLA!A:C,2,0),\"CODIGO INCORRECTO\")","v":"CODIGO INCORRECTO"}]
[16923,null,null,null,null,null,null,null,null,null,null,null,null,null,null,null,null,null,null,null,null,null,null,null,null,null,null,null,null,null,null,null,null,null,null,null,null,null,null,{"$f":"IFERROR(VLOOKUP(AM16925,Cod_DIVIPOLA!A:C,2,0),\"CODIGO INCORRECTO\")","v":"CODIGO INCORRECTO"}]
[16976,null,null,null,null,null,null,null,null,null,null,null,null,null,null,null,null,null,null,null,null,null,null,null,null,null,null,null,null,null,null,null,null,null,null,null,null,null,null,{"$f":"IFERROR(VLOOKUP(AM16978,Cod_DIVIPOLA!A:C,2,0),\"CODIGO INCORRECTO\")","v":"CODIGO INCORRECTO"}]
[17042,null,null,null,null,null,null,null,null,null,null,null,null,null,null,null,null,null,null,null,null,null,null,null,null,null,null,null,null,null,null,null,null,null,null,null,null,null,null,{"$f":"IFERROR(VLOOKUP(AM17044,Cod_DIVIPOLA!A:C,2,0),\"CODIGO INCORRECTO\")","v":"CODIGO INCORRECTO"}]
[17046,null,null,null,null,null,null,null,null,null,null,null,null,null,null,null,null,null,null,null,null,null,null,null,null,null,null,null,null,null,null,null,null,null,null,null,null,null,null,{"$f":"IFERROR(VLOOKUP(AM17048,Cod_DIVIPOLA!A:C,2,0),\"CODIGO INCORRECTO\")","v":"CODIGO INCORRECTO"}]
[17107,null,null,null,null,null,null,null,null,null,null,null,null,null,null,null,null,null,null,null,null,null,null,null,null,null,null,null,null,null,null,null,null,null,null,null,null,null,null,{"$f":"IFERROR(VLOOKUP(AM17109,Cod_DIVIPOLA!A:C,2,0),\"CODIGO INCORRECTO\")","v":"CODIGO INCORRECTO"}]
[17182,null,null,null,null,null,null,null,null,null,null,null,null,null,null,null,null,null,null,null,null,null,null,null,null,null,null,null,null,null,null,null,null,null,null,null,null,null,null,{"$f":"IFERROR(VLOOKUP(AM17184,Cod_DIVIPOLA!A:C,2,0),\"CODIGO INCORRECTO\")","v":"CODIGO INCORRECTO"}]
[17220,null,null,null,null,null,null,null,null,null,null,null,null,null,null,null,null,null,null,null,null,null,null,null,null,null,null,null,null,null,null,null,null,null,null,null,null,null,null,{"$f":"IFERROR(VLOOKUP(AM17222,Cod_DIVIPOLA!A:C,2,0),\"CODIGO INCORRECTO\")","v":"CODIGO INCORRECTO"}]
[17301,null,null,null,null,null,null,null,null,null,null,null,null,null,null,null,null,null,null,null,null,null,null,null,null,null,null,null,null,null,null,null,null,null,null,null,null,null,null,{"$f":"IFERROR(VLOOKUP(AM17303,Cod_DIVIPOLA!A:C,2,0),\"CODIGO INCORRECTO\")","v":"CODIGO INCORRECTO"}]
[17345,null,null,null,null,null,null,null,null,null,null,null,null,null,null,null,null,null,null,null,null,null,null,null,null,null,null,null,null,null,null,null,null,null,null,null,null,null,null,{"$f":"IFERROR(VLOOKUP(AM17347,Cod_DIVIPOLA!A:C,2,0),\"CODIGO INCORRECTO\")","v":"CODIGO INCORRECTO"}]
[17398,null,null,null,null,null,null,null,null,null,null,null,null,null,null,null,null,null,null,null,null,null,null,null,null,null,null,null,null,null,null,null,null,null,null,null,null,null,null,{"$f":"IFERROR(VLOOKUP(AM17400,Cod_DIVIPOLA!A:C,2,0),\"CODIGO INCORRECTO\")","v":"CODIGO INCORRECTO"}]
[17441,null,null,null,null,null,null,null,null,null,null,null,null,null,null,null,null,null,null,null,null,null,null,null,null,null,null,null,null,null,null,null,null,null,null,null,null,null,null,{"$f":"IFERROR(VLOOKUP(AM17443,Cod_DIVIPOLA!A:C,2,0),\"CODIGO INCORRECTO\")","v":"CODIGO INCORRECTO"}]
[17519,null,null,null,null,null,null,null,null,null,null,null,null,null,null,null,null,null,null,null,null,null,null,null,null,null,null,null,null,null,null,null,null,null,null,null,null,null,null,{"$f":"IFERROR(VLOOKUP(AM17521,Cod_DIVIPOLA!A:C,2,0),\"CODIGO INCORRECTO\")","v":"CODIGO INCORRECTO"}]
[17560,null,null,null,null,null,null,null,null,null,null,null,null,null,null,null,null,null,null,null,null,null,null,null,null,null,null,null,null,null,null,null,null,null,null,null,null,null,null,{"$f":"IFERROR(VLOOKUP(AM17562,Cod_DIVIPOLA!A:C,2,0),\"CODIGO INCORRECTO\")","v":"CODIGO INCORRECTO"}]
[17589,null,null,null,null,null,null,null,null,null,null,null,null,null,null,null,null,null,null,null,null,null,null,null,null,null,null,null,null,null,null,null,null,null,null,null,null,null,null,{"$f":"IFERROR(VLOOKUP(AM17591,Cod_DIVIPOLA!A:C,2,0),\"CODIGO INCORRECTO\")","v":"CODIGO INCORRECTO"}]
[17657,null,null,null,null,null,null,null,null,null,null,null,null,null,null,null,null,null,null,null,null,null,null,null,null,null,null,null,null,null,null,null,null,null,null,null,null,null,null,{"$f":"IFERROR(VLOOKUP(AM17659,Cod_DIVIPOLA!A:C,2,0),\"CODIGO INCORRECTO\")","v":"CODIGO INCORRECTO"}]
[17700,null,null,null,null,null,null,null,null,null,null,null,null,null,null,null,null,null,null,null,null,null,null,null,null,null,null,null,null,null,null,null,null,null,null,null,null,null,null,{"$f":"IFERROR(VLOOKUP(AM17702,Cod_DIVIPOLA!A:C,2,0),\"CODIGO INCORRECTO\")","v":"CODIGO INCORRECTO"}]
[17763,null,null,null,null,null,null,null,null,null,null,null,null,null,null,null,null,null,null,null,null,null,null,null,null,null,null,null,null,null,null,null,null,null,null,null,null,null,null,{"$f":"IFERROR(VLOOKUP(AM17765,Cod_DIVIPOLA!A:C,2,0),\"CODIGO INCORRECTO\")","v":"CODIGO INCORRECTO"}]
[17819,null,null,null,null,null,null,null,null,null,null,null,null,null,null,null,null,null,null,null,null,null,null,null,null,null,null,null,null,null,null,null,null,null,null,null,null,null,null,{"$f":"IFERROR(VLOOKUP(AM17821,Cod_DIVIPOLA!A:C,2,0),\"CODIGO INCORRECTO\")","v":"CODIGO INCORRECTO"}]
[17894,null,null,null,null,null,null,null,null,null,null,null,null,null,null,null,null,null,null,null,null,null,null,null,null,null,null,null,null,null,null,null,null,null,null,null,null,null,null,{"$f":"IFERROR(VLOOKUP(AM17896,Cod_DIVIPOLA!A:C,2,0),\"CODIGO INCORRECTO\")","v":"CODIGO INCORRECTO"}]
[17937,null,null,null,null,null,null,null,null,null,null,null,null,null,null,null,null,null,null,null,null,null,null,null,null,null,null,null,null,null,null,null,null,null,null,null,null,null,null,{"$f":"IFERROR(VLOOKUP(AM17939,Cod_DIVIPOLA!A:C,2,0),\"CODIGO INCORRECTO\")","v":"CODIGO INCORRECTO"}]
[18013,null,null,null,null,null,null,null,null,null,null,null,null,null,null,null,null,null,null,null,null,null,null,null,null,null,null,null,null,null,null,null,null,null,null,null,null,null,null,{"$f":"IFERROR(VLOOKUP(AM18015,Cod_DIVIPOLA!A:C,2,0),\"CODIGO INCORRECTO\")","v":"CODIGO INCORRECTO"}]
[18062,null,null,null,null,null,null,null,null,null,null,null,null,null,null,null,null,null,null,null,null,null,null,null,null,null,null,null,null,null,null,null,null,null,null,null,null,null,null,{"$f":"IFERROR(VLOOKUP(AM18064,Cod_DIVIPOLA!A:C,2,0),\"CODIGO INCORRECTO\")","v":"CODIGO INCORRECTO"}]
[18110,null,null,null,null,null,null,null,null,null,null,null,null,null,null,null,null,null,null,null,null,null,null,null,null,null,null,null,null,null,null,null,null,null,null,null,null,null,null,{"$f":"IFERROR(VLOOKUP(AM18112,Cod_DIVIPOLA!A:C,2,0),\"CODIGO INCORRECTO\")","v":"CODIGO INCORRECTO"}]
[18153,null,null,null,null,null,null,null,null,null,null,null,null,null,null,null,null,null,null,null,null,null,null,null,null,null,null,null,null,null,null,null,null,null,null,null,null,null,null,{"$f":"IFERROR(VLOOKUP(AM18155,Cod_DIVIPOLA!A:C,2,0),\"CODIGO INCORRECTO\")","v":"CODIGO INCORRECTO"}]
[18236,null,null,null,null,null,null,null,null,null,null,null,null,null,null,null,null,null,null,null,null,null,null,null,null,null,null,null,null,null,null,null,null,null,null,null,null,null,null,{"$f":"IFERROR(VLOOKUP(AM18238,Cod_DIVIPOLA!A:C,2,0),\"CODIGO INCORRECTO\")","v":"CODIGO INCORRECTO"}]
[18272,null,null,null,null,null,null,null,null,null,null,null,null,null,null,null,null,null,null,null,null,null,null,null,null,null,null,null,null,null,null,null,null,null,null,null,null,null,null,{"$f":"IFERROR(VLOOKUP(AM18274,Cod_DIVIPOLA!A:C,2,0),\"CODIGO INCORRECTO\")","v":"CODIGO INCORRECTO"}]
[18306,null,null,null,null,null,null,null,null,null,null,null,null,null,null,null,null,null,null,null,null,null,null,null,null,null,null,null,null,null,null,null,null,null,null,null,null,null,null,{"$f":"IFERROR(VLOOKUP(AM18308,Cod_DIVIPOLA!A:C,2,0),\"CODIGO INCORRECTO\")","v":"CODIGO INCORRECTO"}]
[18369,null,null,null,null,null,null,null,null,null,null,null,null,null,null,null,null,null,null,null,null,null,null,null,null,null,null,null,null,null,null,null,null,null,null,null,null,null,null,{"$f":"IFERROR(VLOOKUP(AM18371,Cod_DIVIPOLA!A:C,2,0),\"CODIGO INCORRECTO\")","v":"CODIGO INCORRECTO"}]
[18412,null,null,null,null,null,null,null,null,null,null,null,null,null,null,null,null,null,null,null,null,null,null,null,null,null,null,null,null,null,null,null,null,null,null,null,null,null,null,{"$f":"IFERROR(VLOOKUP(AM18414,Cod_DIVIPOLA!A:C,2,0),\"CODIGO INCORRECTO\")","v":"CODIGO INCORRECTO"}]
[18480,null,null,null,null,null,null,null,null,null,null,null,null,null,null,null,null,null,null,null,null,null,null,null,null,null,null,null,null,null,null,null,null,null,null,null,null,null,null,{"$f":"IFERROR(VLOOKUP(AM18482,Cod_DIVIPOLA!A:C,2,0),\"CODIGO INCORRECTO\")","v":"CODIGO INCORRECTO"}]
[18563,null,null,null,null,null,null,null,null,null,null,null,null,null,null,null,null,null,null,null,null,null,null,null,null,null,null,null,null,null,null,null,null,null,null,null,null,null,null,{"$f":"IFERROR(VLOOKUP(AM18565,Cod_DIVIPOLA!A:C,2,0),\"CODIGO INCORRECTO\")","v":"CODIGO INCORRECTO"}]
[18605,null,null,null,null,null,null,null,null,null,null,null,null,null,null,null,null,null,null,null,null,null,null,null,null,null,null,null,null,null,null,null,null,null,null,null,null,null,null,{"$f":"IFERROR(VLOOKUP(AM18607,Cod_DIVIPOLA!A:C,2,0),\"CODIGO INCORRECTO\")","v":"CODIGO INCORRECTO"}]
[18628,null,null,null,null,null,null,null,null,null,null,null,null,null,null,null,null,null,null,null,null,null,null,null,null,null,null,null,null,null,null,null,null,null,null,null,null,null,null,{"$f":"IFERROR(VLOOKUP(AM18630,Cod_DIVIPOLA!A:C,2,0),\"CODIGO INCORRECTO\")","v":"CODIGO INCORRECTO"}]
[18725,null,null,null,null,null,null,null,null,null,null,null,null,null,null,null,null,null,null,null,null,null,null,null,null,null,null,null,null,null,null,null,null,null,null,null,null,null,null,{"$f":"IFERROR(VLOOKUP(AM18727,Cod_DIVIPOLA!A:C,2,0),\"CODIGO INCORRECTO\")","v":"CODIGO INCORRECTO"}]
[18779,null,null,null,null,null,null,null,null,null,null,null,null,null,null,null,null,null,null,null,null,null,null,null,null,null,null,null,null,null,null,null,null,null,null,null,null,null,null,{"$f":"IFERROR(VLOOKUP(AM18781,Cod_DIVIPOLA!A:C,2,0),\"CODIGO INCORRECTO\")","v":"CODIGO INCORRECTO"}]
[18822,null,null,null,null,null,null,null,null,null,null,null,null,null,null,null,null,null,null,null,null,null,null,null,null,null,null,null,null,null,null,null,null,null,null,null,null,null,null,{"$f":"IFERROR(VLOOKUP(AM18824,Cod_DIVIPOLA!A:C,2,0),\"CODIGO INCORRECTO\")","v":"CODIGO INCORRECTO"}]
[18865,null,null,null,null,null,null,null,null,null,null,null,null,null,null,null,null,null,null,null,null,null,null,null,null,null,null,null,null,null,null,null,null,null,null,null,null,null,null,{"$f":"IFERROR(VLOOKUP(AM18867,Cod_DIVIPOLA!A:C,2,0),\"CODIGO INCORRECTO\")","v":"CODIGO INCORRECTO"}]
[18898,null,null,null,null,null,null,null,null,null,null,null,null,null,null,null,null,null,null,null,null,null,null,null,null,null,null,null,null,null,null,null,null,null,null,null,null,null,null,{"$f":"IFERROR(VLOOKUP(AM18900,Cod_DIVIPOLA!A:C,2,0),\"CODIGO INCORRECTO\")","v":"CODIGO INCORRECTO"}]
[18984,null,null,null,null,null,null,null,null,null,null,null,null,null,null,null,null,null,null,null,null,null,null,null,null,null,null,null,null,null,null,null,null,null,null,null,null,null,null,{"$f":"IFERROR(VLOOKUP(AM18986,Cod_DIVIPOLA!A:C,2,0),\"CODIGO INCORRECTO\")","v":"CODIGO INCORRECTO"}]
[19023,null,null,null,null,null,null,null,null,null,null,null,null,null,null,null,null,null,null,null,null,null,null,null,null,null,null,null,null,null,null,null,null,null,null,null,null,null,null,{"$f":"IFERROR(VLOOKUP(AM19025,Cod_DIVIPOLA!A:C,2,0),\"CODIGO INCORRECTO\")","v":"CODIGO INCORRECTO"}]
[19081,null,null,null,null,null,null,null,null,null,null,null,null,null,null,null,null,null,null,null,null,null,null,null,null,null,null,null,null,null,null,null,null,null,null,null,null,null,null,{"$f":"IFERROR(VLOOKUP(AM19083,Cod_DIVIPOLA!A:C,2,0),\"CODIGO INCORRECTO\")","v":"CODIGO INCORRECTO"}]
[19124,null,null,null,null,null,null,null,null,null,null,null,null,null,null,null,null,null,null,null,null,null,null,null,null,null,null,null,null,null,null,null,null,null,null,null,null,null,null,{"$f":"IFERROR(VLOOKUP(AM19126,Cod_DIVIPOLA!A:C,2,0),\"CODIGO INCORRECTO\")","v":"CODIGO INCORRECTO"}]
[19197,null,null,null,null,null,null,null,null,null,null,null,null,null,null,null,null,null,null,null,null,null,null,null,null,null,null,null,null,null,null,null,null,null,null,null,null,null,null,{"$f":"IFERROR(VLOOKUP(AM19199,Cod_DIVIPOLA!A:C,2,0),\"CODIGO INCORRECTO\")","v":"CODIGO INCORRECTO"}]
[19221,null,null,null,null,null,null,null,null,null,null,null,null,null,null,null,null,null,null,null,null,null,null,null,null,null,null,null,null,null,null,null,null,null,null,null,null,null,null,{"$f":"IFERROR(VLOOKUP(AM19223,Cod_DIVIPOLA!A:C,2,0),\"CODIGO INCORRECTO\")","v":"CODIGO INCORRECTO"}]
[19322,null,null,null,null,null,null,null,null,null,null,null,null,null,null,null,null,null,null,null,null,null,null,null,null,null,null,null,null,null,null,null,null,null,null,null,null,null,null,{"$f":"IFERROR(VLOOKUP(AM19324,Cod_DIVIPOLA!A:C,2,0),\"CODIGO INCORRECTO\")","v":"CODIGO INCORRECTO"}]
[19340,null,null,null,null,null,null,null,null,null,null,null,null,null,null,null,null,null,null,null,null,null,null,null,null,null,null,null,null,null,null,null,null,null,null,null,null,null,null,{"$f":"IFERROR(VLOOKUP(AM19342,Cod_DIVIPOLA!A:C,2,0),\"CODIGO INCORRECTO\")","v":"CODIGO INCORRECTO"}]
[19383,null,null,null,null,null,null,null,null,null,null,null,null,null,null,null,null,null,null,null,null,null,null,null,null,null,null,null,null,null,null,null,null,null,null,null,null,null,null,{"$f":"IFERROR(VLOOKUP(AM19385,Cod_DIVIPOLA!A:C,2,0),\"CODIGO INCORRECTO\")","v":"CODIGO INCORRECTO"}]
[19441,null,null,null,null,null,null,null,null,null,null,null,null,null,null,null,null,null,null,null,null,null,null,null,null,null,null,null,null,null,null,null,null,null,null,null,null,null,null,{"$f":"IFERROR(VLOOKUP(AM19443,Cod_DIVIPOLA!A:C,2,0),\"CODIGO INCORRECTO\")","v":"CODIGO INCORRECTO"}]
[19534,null,null,null,null,null,null,null,null,null,null,null,null,null,null,null,null,null,null,null,null,null,null,null,null,null,null,null,null,null,null,null,null,null,null,null,null,null,null,{"$f":"IFERROR(VLOOKUP(AM19536,Cod_DIVIPOLA!A:C,2,0),\"CODIGO INCORRECTO\")","v":"CODIGO INCORRECTO"}]
[19566,null,null,null,null,null,null,null,null,null,null,null,null,null,null,null,null,null,null,null,null,null,null,null,null,null,null,null,null,null,null,null,null,null,null,null,null,null,null,{"$f":"IFERROR(VLOOKUP(AM19568,Cod_DIVIPOLA!A:C,2,0),\"CODIGO INCORRECTO\")","v":"CODIGO INCORRECTO"}]
[19653,null,null,null,null,null,null,null,null,null,null,null,null,null,null,null,null,null,null,null,null,null,null,null,null,null,null,null,null,null,null,null,null,null,null,null,null,null,null,{"$f":"IFERROR(VLOOKUP(AM19655,Cod_DIVIPOLA!A:C,2,0),\"CODIGO INCORRECTO\")","v":"CODIGO INCORRECTO"}]
[19696,null,null,null,null,null,null,null,null,null,null,null,null,null,null,null,null,null,null,null,null,null,null,null,null,null,null,null,null,null,null,null,null,null,null,null,null,null,null,{"$f":"IFERROR(VLOOKUP(AM19698,Cod_DIVIPOLA!A:C,2,0),\"CODIGO INCORRECTO\")","v":"CODIGO INCORRECTO"}]
[19740,null,null,null,null,null,null,null,null,null,null,null,null,null,null,null,null,null,null,null,null,null,null,null,null,null,null,null,null,null,null,null,null,null,null,null,null,null,null,{"$f":"IFERROR(VLOOKUP(AM19742,Cod_DIVIPOLA!A:C,2,0),\"CODIGO INCORRECTO\")","v":"CODIGO INCORRECTO"}]
[19793,null,null,null,null,null,null,null,null,null,null,null,null,null,null,null,null,null,null,null,null,null,null,null,null,null,null,null,null,null,null,null,null,null,null,null,null,null,null,{"$f":"IFERROR(VLOOKUP(AM19795,Cod_DIVIPOLA!A:C,2,0),\"CODIGO INCORRECTO\")","v":"CODIGO INCORRECTO"}]
[19836,null,null,null,null,null,null,null,null,null,null,null,null,null,null,null,null,null,null,null,null,null,null,null,null,null,null,null,null,null,null,null,null,null,null,null,null,null,null,{"$f":"IFERROR(VLOOKUP(AM19838,Cod_DIVIPOLA!A:C,2,0),\"CODIGO INCORRECTO\")","v":"CODIGO INCORRECTO"}]
[19914,null,null,null,null,null,null,null,null,null,null,null,null,null,null,null,null,null,null,null,null,null,null,null,null,null,null,null,null,null,null,null,null,null,null,null,null,null,null,{"$f":"IFERROR(VLOOKUP(AM19916,Cod_DIVIPOLA!A:C,2,0),\"CODIGO INCORRECTO\")","v":"CODIGO INCORRECTO"}]
[19933,null,null,null,null,null,null,null,null,null,null,null,null,null,null,null,null,null,null,null,null,null,null,null,null,null,null,null,null,null,null,null,null,null,null,null,null,null,null,{"$f":"IFERROR(VLOOKUP(AM19935,Cod_DIVIPOLA!A:C,2,0),\"CODIGO INCORRECTO\")","v":"CODIGO INCORRECTO"}]
[19984,null,null,null,null,null,null,null,null,null,null,null,null,null,null,null,null,null,null,null,null,null,null,null,null,null,null,null,null,null,null,null,null,null,null,null,null,null,null,{"$f":"IFERROR(VLOOKUP(AM19986,Cod_DIVIPOLA!A:C,2,0),\"CODIGO INCORRECTO\")","v":"CODIGO INCORRECTO"}]
[20052,null,null,null,null,null,null,null,null,null,null,null,null,null,null,null,null,null,null,null,null,null,null,null,null,null,null,null,null,null,null,null,null,null,null,null,null,null,null,{"$f":"IFERROR(VLOOKUP(AM20054,Cod_DIVIPOLA!A:C,2,0),\"CODIGO INCORRECTO\")","v":"CODIGO INCORRECTO"}]
[20095,null,null,null,null,null,null,null,null,null,null,null,null,null,null,null,null,null,null,null,null,null,null,null,null,null,null,null,null,null,null,null,null,null,null,null,null,null,null,{"$f":"IFERROR(VLOOKUP(AM20097,Cod_DIVIPOLA!A:C,2,0),\"CODIGO INCORRECTO\")","v":"CODIGO INCORRECTO"}]
[20158,null,null,null,null,null,null,null,null,null,null,null,null,null,null,null,null,null,null,null,null,null,null,null,null,null,null,null,null,null,null,null,null,null,null,null,null,null,null,{"$f":"IFERROR(VLOOKUP(AM20160,Cod_DIVIPOLA!A:C,2,0),\"CODIGO INCORRECTO\")","v":"CODIGO INCORRECTO"}]
[20246,null,null,null,null,null,null,null,null,null,null,null,null,null,null,null,null,null,null,null,null,null,null,null,null,null,null,null,null,null,null,null,null,null,null,null,null,null,null,{"$f":"IFERROR(VLOOKUP(AM20248,Cod_DIVIPOLA!A:C,2,0),\"CODIGO INCORRECTO\")","v":"CODIGO INCORRECTO"}]
[20283,null,null,null,null,null,null,null,null,null,null,null,null,null,null,null,null,null,null,null,null,null,null,null,null,null,null,null,null,null,null,null,null,null,null,null,null,null,null,{"$f":"IFERROR(VLOOKUP(AM20285,Cod_DIVIPOLA!A:C,2,0),\"CODIGO INCORRECTO\")","v":"CODIGO INCORRECTO"}]
[20311,null,null,null,null,null,null,null,null,null,null,null,null,null,null,null,null,null,null,null,null,null,null,null,null,null,null,null,null,null,null,null,null,null,null,null,null,null,null,{"$f":"IFERROR(VLOOKUP(AM20313,Cod_DIVIPOLA!A:C,2,0),\"CODIGO INCORRECTO\")","v":"CODIGO INCORRECTO"}]
[20386,null,null,null,null,null,null,null,null,null,null,null,null,null,null,null,null,null,null,null,null,null,null,null,null,null,null,null,null,null,null,null,null,null,null,null,null,null,null,{"$f":"IFERROR(VLOOKUP(AM20388,Cod_DIVIPOLA!A:C,2,0),\"CODIGO INCORRECTO\")","v":"CODIGO INCORRECTO"}]
[20457,null,null,null,null,null,null,null,null,null,null,null,null,null,null,null,null,null,null,null,null,null,null,null,null,null,null,null,null,null,null,null,null,null,null,null,null,null,null,{"$f":"IFERROR(VLOOKUP(AM20459,Cod_DIVIPOLA!A:C,2,0),\"CODIGO INCORRECTO\")","v":"CODIGO INCORRECTO"}]
[20505,null,null,null,null,null,null,null,null,null,null,null,null,null,null,null,null,null,null,null,null,null,null,null,null,null,null,null,null,null,null,null,null,null,null,null,null,null,null,{"$f":"IFERROR(VLOOKUP(AM20507,Cod_DIVIPOLA!A:C,2,0),\"CODIGO INCORRECTO\")","v":"CODIGO INCORRECTO"}]
[20527,null,null,null,null,null,null,null,null,null,null,null,null,null,null,null,null,null,null,null,null,null,null,null,null,null,null,null,null,null,null,null,null,null,null,null,null,null,null,{"$f":"IFERROR(VLOOKUP(AM20529,Cod_DIVIPOLA!A:C,2,0),\"CODIGO INCORRECTO\")","v":"CODIGO INCORRECTO"}]
[20624,null,null,null,null,null,null,null,null,null,null,null,null,null,null,null,null,null,null,null,null,null,null,null,null,null,null,null,null,null,null,null,null,null,null,null,null,null,null,{"$f":"IFERROR(VLOOKUP(AM20626,Cod_DIVIPOLA!A:C,2,0),\"CODIGO INCORRECTO\")","v":"CODIGO INCORRECTO"}]
[20645,null,null,null,null,null,null,null,null,null,null,null,null,null,null,null,null,null,null,null,null,null,null,null,null,null,null,null,null,null,null,null,null,null,null,null,null,null,null,{"$f":"IFERROR(VLOOKUP(AM20647,Cod_DIVIPOLA!A:C,2,0),\"CODIGO INCORRECTO\")","v":"CODIGO INCORRECTO"}]
[20701,null,null,null,null,null,null,null,null,null,null,null,null,null,null,null,null,null,null,null,null,null,null,null,null,null,null,null,null,null,null,null,null,null,null,null,null,null,null,{"$f":"IFERROR(VLOOKUP(AM20703,Cod_DIVIPOLA!A:C,2,0),\"CODIGO INCORRECTO\")","v":"CODIGO INCORRECTO"}]
[20764,null,null,null,null,null,null,null,null,null,null,null,null,null,null,null,null,null,null,null,null,null,null,null,null,null,null,null,null,null,null,null,null,null,null,null,null,null,null,{"$f":"IFERROR(VLOOKUP(AM20766,Cod_DIVIPOLA!A:C,2,0),\"CODIGO INCORRECTO\")","v":"CODIGO INCORRECTO"}]
[20807,null,null,null,null,null,null,null,null,null,null,null,null,null,null,null,null,null,null,null,null,null,null,null,null,null,null,null,null,null,null,null,null,null,null,null,null,null,null,{"$f":"IFERROR(VLOOKUP(AM20809,Cod_DIVIPOLA!A:C,2,0),\"CODIGO INCORRECTO\")","v":"CODIGO INCORRECTO"}]
[20875,null,null,null,null,null,null,null,null,null,null,null,null,null,null,null,null,null,null,null,null,null,null,null,null,null,null,null,null,null,null,null,null,null,null,null,null,null,null,{"$f":"IFERROR(VLOOKUP(AM20877,Cod_DIVIPOLA!A:C,2,0),\"CODIGO INCORRECTO\")","v":"CODIGO INCORRECTO"}]
[20958,null,null,null,null,null,null,null,null,null,null,null,null,null,null,null,null,null,null,null,null,null,null,null,null,null,null,null,null,null,null,null,null,null,null,null,null,null,null,{"$f":"IFERROR(VLOOKUP(AM20960,Cod_DIVIPOLA!A:C,2,0),\"CODIGO INCORRECTO\")","v":"CODIGO INCORRECTO"}]
[21000,null,null,null,null,null,null,null,null,null,null,null,null,null,null,null,null,null,null,null,null,null,null,null,null,null,null,null,null,null,null,null,null,null,null,null,null,null,null,{"$f":"IFERROR(VLOOKUP(AM21002,Cod_DIVIPOLA!A:C,2,0),\"CODIGO INCORRECTO\")","v":"CODIGO INCORRECTO"}]
[21023,null,null,null,null,null,null,null,null,null,null,null,null,null,null,null,null,null,null,null,null,null,null,null,null,null,null,null,null,null,null,null,null,null,null,null,null,null,null,{"$f":"IFERROR(VLOOKUP(AM21025,Cod_DIVIPOLA!A:C,2,0),\"CODIGO INCORRECTO\")","v":"CODIGO INCORRECTO"}]
[21098,null,null,null,null,null,null,null,null,null,null,null,null,null,null,null,null,null,null,null,null,null,null,null,null,null,null,null,null,null,null,null,null,null,null,null,null,null,null,{"$f":"IFERROR(VLOOKUP(AM21100,Cod_DIVIPOLA!A:C,2,0),\"CODIGO INCORRECTO\")","v":"CODIGO INCORRECTO"}]
[21174,null,null,null,null,null,null,null,null,null,null,null,null,null,null,null,null,null,null,null,null,null,null,null,null,null,null,null,null,null,null,null,null,null,null,null,null,null,null,{"$f":"IFERROR(VLOOKUP(AM21176,Cod_DIVIPOLA!A:C,2,0),\"CODIGO INCORRECTO\")","v":"CODIGO INCORRECTO"}]
[21217,null,null,null,null,null,null,null,null,null,null,null,null,null,null,null,null,null,null,null,null,null,null,null,null,null,null,null,null,null,null,null,null,null,null,null,null,null,null,{"$f":"IFERROR(VLOOKUP(AM21219,Cod_DIVIPOLA!A:C,2,0),\"CODIGO INCORRECTO\")","v":"CODIGO INCORRECTO"}]
[21244,null,null,null,null,null,null,null,null,null,null,null,null,null,null,null,null,null,null,null,null,null,null,null,null,null,null,null,null,null,null,null,null,null,null,null,null,null,null,{"$f":"IFERROR(VLOOKUP(AM21246,Cod_DIVIPOLA!A:C,2,0),\"CODIGO INCORRECTO\")","v":"CODIGO INCORRECTO"}]
[21336,null,null,null,null,null,null,null,null,null,null,null,null,null,null,null,null,null,null,null,null,null,null,null,null,null,null,null,null,null,null,null,null,null,null,null,null,null,null,{"$f":"IFERROR(VLOOKUP(AM21338,Cod_DIVIPOLA!A:C,2,0),\"CODIGO INCORRECTO\")","v":"CODIGO INCORRECTO"}]
[21357,null,null,null,null,null,null,null,null,null,null,null,null,null,null,null,null,null,null,null,null,null,null,null,null,null,null,null,null,null,null,null,null,null,null,null,null,null,null,{"$f":"IFERROR(VLOOKUP(AM21359,Cod_DIVIPOLA!A:C,2,0),\"CODIGO INCORRECTO\")","v":"CODIGO INCORRECTO"}]
[21418,null,null,null,null,null,null,null,null,null,null,null,null,null,null,null,null,null,null,null,null,null,null,null,null,null,null,null,null,null,null,null,null,null,null,null,null,null,null,{"$f":"IFERROR(VLOOKUP(AM21420,Cod_DIVIPOLA!A:C,2,0),\"CODIGO INCORRECTO\")","v":"CODIGO INCORRECTO"}]
[21476,null,null,null,null,null,null,null,null,null,null,null,null,null,null,null,null,null,null,null,null,null,null,null,null,null,null,null,null,null,null,null,null,null,null,null,null,null,null,{"$f":"IFERROR(VLOOKUP(AM21478,Cod_DIVIPOLA!A:C,2,0),\"CODIGO INCORRECTO\")","v":"CODIGO INCORRECTO"}]
[21543,null,null,null,null,null,null,null,null,null,null,null,null,null,null,null,null,null,null,null,null,null,null,null,null,null,null,null,null,null,null,null,null,null,null,null,null,null,null,{"$f":"IFERROR(VLOOKUP(AM21545,Cod_DIVIPOLA!A:C,2,0),\"CODIGO INCORRECTO\")","v":"CODIGO INCORRECTO"}]
[21595,null,null,null,null,null,null,null,null,null,null,null,null,null,null,null,null,null,null,null,null,null,null,null,null,null,null,null,null,null,null,null,null,null,null,null,null,null,null,{"$f":"IFERROR(VLOOKUP(AM21597,Cod_DIVIPOLA!A:C,2,0),\"CODIGO INCORRECTO\")","v":"CODIGO INCORRECTO"}]
[21616,null,null,null,null,null,null,null,null,null,null,null,null,null,null,null,null,null,null,null,null,null,null,null,null,null,null,null,null,null,null,null,null,null,null,null,null,null,null,{"$f":"IFERROR(VLOOKUP(AM21618,Cod_DIVIPOLA!A:C,2,0),\"CODIGO INCORRECTO\")","v":"CODIGO INCORRECTO"}]
[21717,null,null,null,null,null,null,null,null,null,null,null,null,null,null,null,null,null,null,null,null,null,null,null,null,null,null,null,null,null,null,null,null,null,null,null,null,null,null,{"$f":"IFERROR(VLOOKUP(AM21719,Cod_DIVIPOLA!A:C,2,0),\"CODIGO INCORRECTO\")","v":"CODIGO INCORRECTO"}]
[21735,null,null,null,null,null,null,null,null,null,null,null,null,null,null,null,null,null,null,null,null,null,null,null,null,null,null,null,null,null,null,null,null,null,null,null,null,null,null,{"$f":"IFERROR(VLOOKUP(AM21737,Cod_DIVIPOLA!A:C,2,0),\"CODIGO INCORRECTO\")","v":"CODIGO INCORRECTO"}]
[21810,null,null,null,null,null,null,null,null,null,null,null,null,null,null,null,null,null,null,null,null,null,null,null,null,null,null,null,null,null,null,null,null,null,null,null,null,null,null,{"$f":"IFERROR(VLOOKUP(AM21812,Cod_DIVIPOLA!A:C,2,0),\"CODIGO INCORRECTO\")","v":"CODIGO INCORRECTO"}]
[21836,null,null,null,null,null,null,null,null,null,null,null,null,null,null,null,null,null,null,null,null,null,null,null,null,null,null,null,null,null,null,null,null,null,null,null,null,null,null,{"$f":"IFERROR(VLOOKUP(AM21838,Cod_DIVIPOLA!A:C,2,0),\"CODIGO INCORRECTO\")","v":"CODIGO INCORRECTO"}]
[21929,null,null,null,null,null,null,null,null,null,null,null,null,null,null,null,null,null,null,null,null,null,null,null,null,null,null,null,null,null,null,null,null,null,null,null,null,null,null,{"$f":"IFERROR(VLOOKUP(AM21931,Cod_DIVIPOLA!A:C,2,0),\"CODIGO INCORRECTO\")","v":"CODIGO INCORRECTO"}]
[21961,null,null,null,null,null,null,null,null,null,null,null,null,null,null,null,null,null,null,null,null,null,null,null,null,null,null,null,null,null,null,null,null,null,null,null,null,null,null,{"$f":"IFERROR(VLOOKUP(AM21963,Cod_DIVIPOLA!A:C,2,0),\"CODIGO INCORRECTO\")","v":"CODIGO INCORRECTO"}]
[21994,null,null,null,null,null,null,null,null,null,null,null,null,null,null,null,null,null,null,null,null,null,null,null,null,null,null,null,null,null,null,null,null,null,null,null,null,null,null,{"$f":"IFERROR(VLOOKUP(AM21996,Cod_DIVIPOLA!A:C,2,0),\"CODIGO INCORRECTO\")","v":"CODIGO INCORRECTO"}]
[22069,null,null,null,null,null,null,null,null,null,null,null,null,null,null,null,null,null,null,null,null,null,null,null,null,null,null,null,null,null,null,null,null,null,null,null,null,null,null,{"$f":"IFERROR(VLOOKUP(AM22071,Cod_DIVIPOLA!A:C,2,0),\"CODIGO INCORRECTO\")","v":"CODIGO INCORRECTO"}]
[22135,null,null,null,null,null,null,null,null,null,null,null,null,null,null,null,null,null,null,null,null,null,null,null,null,null,null,null,null,null,null,null,null,null,null,null,null,null,null,{"$f":"IFERROR(VLOOKUP(AM22137,Cod_DIVIPOLA!A:C,2,0),\"CODIGO INCORRECTO\")","v":"CODIGO INCORRECTO"}]
[22188,null,null,null,null,null,null,null,null,null,null,null,null,null,null,null,null,null,null,null,null,null,null,null,null,null,null,null,null,null,null,null,null,null,null,null,null,null,null,{"$f":"IFERROR(VLOOKUP(AM22190,Cod_DIVIPOLA!A:C,2,0),\"CODIGO INCORRECTO\")","v":"CODIGO INCORRECTO"}]
[22234,null,null,null,null,null,null,null,null,null,null,null,null,null,null,null,null,null,null,null,null,null,null,null,null,null,null,null,null,null,null,null,null,null,null,null,null,null,null,{"$f":"IFERROR(VLOOKUP(AM22236,Cod_DIVIPOLA!A:C,2,0),\"CODIGO INCORRECTO\")","v":"CODIGO INCORRECTO"}]
[22307,null,null,null,null,null,null,null,null,null,null,null,null,null,null,null,null,null,null,null,null,null,null,null,null,null,null,null,null,null,null,null,null,null,null,null,null,null,null,{"$f":"IFERROR(VLOOKUP(AM22309,Cod_DIVIPOLA!A:C,2,0),\"CODIGO INCORRECTO\")","v":"CODIGO INCORRECTO"}]
[22328,null,null,null,null,null,null,null,null,null,null,null,null,null,null,null,null,null,null,null,null,null,null,null,null,null,null,null,null,null,null,null,null,null,null,null,null,null,null,{"$f":"IFERROR(VLOOKUP(AM22330,Cod_DIVIPOLA!A:C,2,0),\"CODIGO INCORRECTO\")","v":"CODIGO INCORRECTO"}]
[22379,null,null,null,null,null,null,null,null,null,null,null,null,null,null,null,null,null,null,null,null,null,null,null,null,null,null,null,null,null,null,null,null,null,null,null,null,null,null,{"$f":"IFERROR(VLOOKUP(AM22381,Cod_DIVIPOLA!A:C,2,0),\"CODIGO INCORRECTO\")","v":"CODIGO INCORRECTO"}]
[22447,null,null,null,null,null,null,null,null,null,null,null,null,null,null,null,null,null,null,null,null,null,null,null,null,null,null,null,null,null,null,null,null,null,null,null,null,null,null,{"$f":"IFERROR(VLOOKUP(AM22449,Cod_DIVIPOLA!A:C,2,0),\"CODIGO INCORRECTO\")","v":"CODIGO INCORRECTO"}]
[22533,null,null,null,null,null,null,null,null,null,null,null,null,null,null,null,null,null,null,null,null,null,null,null,null,null,null,null,null,null,null,null,null,null,null,null,null,null,null,{"$f":"IFERROR(VLOOKUP(AM22535,Cod_DIVIPOLA!A:C,2,0),\"CODIGO INCORRECTO\")","v":"CODIGO INCORRECTO"}]
[22566,null,null,null,null,null,null,null,null,null,null,null,null,null,null,null,null,null,null,null,null,null,null,null,null,null,null,null,null,null,null,null,null,null,null,null,null,null,null,{"$f":"IFERROR(VLOOKUP(AM22568,Cod_DIVIPOLA!A:C,2,0),\"CODIGO INCORRECTO\")","v":"CODIGO INCORRECTO"}]
[22641,null,null,null,null,null,null,null,null,null,null,null,null,null,null,null,null,null,null,null,null,null,null,null,null,null,null,null,null,null,null,null,null,null,null,null,null,null,null,{"$f":"IFERROR(VLOOKUP(AM22643,Cod_DIVIPOLA!A:C,2,0),\"CODIGO INCORRECTO\")","v":"CODIGO INCORRECTO"}]
[22678,null,null,null,null,null,null,null,null,null,null,null,null,null,null,null,null,null,null,null,null,null,null,null,null,null,null,null,null,null,null,null,null,null,null,null,null,null,null,{"$f":"IFERROR(VLOOKUP(AM22680,Cod_DIVIPOLA!A:C,2,0),\"CODIGO INCORRECTO\")","v":"CODIGO INCORRECTO"}]
[22706,null,null,null,null,null,null,null,null,null,null,null,null,null,null,null,null,null,null,null,null,null,null,null,null,null,null,null,null,null,null,null,null,null,null,null,null,null,null,{"$f":"IFERROR(VLOOKUP(AM22708,Cod_DIVIPOLA!A:C,2,0),\"CODIGO INCORRECTO\")","v":"CODIGO INCORRECTO"}]
[22781,null,null,null,null,null,null,null,null,null,null,null,null,null,null,null,null,null,null,null,null,null,null,null,null,null,null,null,null,null,null,null,null,null,null,null,null,null,null,{"$f":"IFERROR(VLOOKUP(AM22783,Cod_DIVIPOLA!A:C,2,0),\"CODIGO INCORRECTO\")","v":"CODIGO INCORRECTO"}]
[22852,null,null,null,null,null,null,null,null,null,null,null,null,null,null,null,null,null,null,null,null,null,null,null,null,null,null,null,null,null,null,null,null,null,null,null,null,null,null,{"$f":"IFERROR(VLOOKUP(AM22854,Cod_DIVIPOLA!A:C,2,0),\"CODIGO INCORRECTO\")","v":"CODIGO INCORRECTO"}]
[22900,null,null,null,null,null,null,null,null,null,null,null,null,null,null,null,null,null,null,null,null,null,null,null,null,null,null,null,null,null,null,null,null,null,null,null,null,null,null,{"$f":"IFERROR(VLOOKUP(AM22902,Cod_DIVIPOLA!A:C,2,0),\"CODIGO INCORRECTO\")","v":"CODIGO INCORRECTO"}]
[22951,null,null,null,null,null,null,null,null,null,null,null,null,null,null,null,null,null,null,null,null,null,null,null,null,null,null,null,null,null,null,null,null,null,null,null,null,null,null,{"$f":"IFERROR(VLOOKUP(AM22953,Cod_DIVIPOLA!A:C,2,0),\"CODIGO INCORRECTO\")","v":"CODIGO INCORRECTO"}]
[23019,null,null,null,null,null,null,null,null,null,null,null,null,null,null,null,null,null,null,null,null,null,null,null,null,null,null,null,null,null,null,null,null,null,null,null,null,null,null,{"$f":"IFERROR(VLOOKUP(AM23021,Cod_DIVIPOLA!A:C,2,0),\"CODIGO INCORRECTO\")","v":"CODIGO INCORRECTO"}]
[23040,null,null,null,null,null,null,null,null,null,null,null,null,null,null,null,null,null,null,null,null,null,null,null,null,null,null,null,null,null,null,null,null,null,null,null,null,null,null,{"$f":"IFERROR(VLOOKUP(AM23042,Cod_DIVIPOLA!A:C,2,0),\"CODIGO INCORRECTO\")","v":"CODIGO INCORRECTO"}]
[23096,null,null,null,null,null,null,null,null,null,null,null,null,null,null,null,null,null,null,null,null,null,null,null,null,null,null,null,null,null,null,null,null,null,null,null,null,null,null,{"$f":"IFERROR(VLOOKUP(AM23098,Cod_DIVIPOLA!A:C,2,0),\"CODIGO INCORRECTO\")","v":"CODIGO INCORRECTO"}]
[23159,null,null,null,null,null,null,null,null,null,null,null,null,null,null,null,null,null,null,null,null,null,null,null,null,null,null,null,null,null,null,null,null,null,null,null,null,null,null,{"$f":"IFERROR(VLOOKUP(AM23161,Cod_DIVIPOLA!A:C,2,0),\"CODIGO INCORRECTO\")","v":"CODIGO INCORRECTO"}]
[23195,null,null,null,null,null,null,null,null,null,null,null,null,null,null,null,null,null,null,null,null,null,null,null,null,null,null,null,null,null,null,null,null,null,null,null,null,null,null,{"$f":"IFERROR(VLOOKUP(AM23197,Cod_DIVIPOLA!A:C,2,0),\"CODIGO INCORRECTO\")","v":"CODIGO INCORRECTO"}]
[23278,null,null,null,null,null,null,null,null,null,null,null,null,null,null,null,null,null,null,null,null,null,null,null,null,null,null,null,null,null,null,null,null,null,null,null,null,null,null,{"$f":"IFERROR(VLOOKUP(AM23280,Cod_DIVIPOLA!A:C,2,0),\"CODIGO INCORRECTO\")","v":"CODIGO INCORRECTO"}]
[23299,null,null,null,null,null,null,null,null,null,null,null,null,null,null,null,null,null,null,null,null,null,null,null,null,null,null,null,null,null,null,null,null,null,null,null,null,null,null,{"$f":"IFERROR(VLOOKUP(AM23301,Cod_DIVIPOLA!A:C,2,0),\"CODIGO INCORRECTO\")","v":"CODIGO INCORRECTO"}]
[23369,null,null,null,null,null,null,null,null,null,null,null,null,null,null,null,null,null,null,null,null,null,null,null,null,null,null,null,null,null,null,null,null,null,null,null,null,null,null,{"$f":"IFERROR(VLOOKUP(AM23371,Cod_DIVIPOLA!A:C,2,0),\"CODIGO INCORRECTO\")","v":"CODIGO INCORRECTO"}]
[23418,null,null,null,null,null,null,null,null,null,null,null,null,null,null,null,null,null,null,null,null,null,null,null,null,null,null,null,null,null,null,null,null,null,null,null,null,null,null,{"$f":"IFERROR(VLOOKUP(AM23420,Cod_DIVIPOLA!A:C,2,0),\"CODIGO INCORRECTO\")","v":"CODIGO INCORRECTO"}]
[23494,null,null,null,null,null,null,null,null,null,null,null,null,null,null,null,null,null,null,null,null,null,null,null,null,null,null,null,null,null,null,null,null,null,null,null,null,null,null,{"$f":"IFERROR(VLOOKUP(AM23496,Cod_DIVIPOLA!A:C,2,0),\"CODIGO INCORRECTO\")","v":"CODIGO INCORRECTO"}]
[23537,null,null,null,null,null,null,null,null,null,null,null,null,null,null,null,null,null,null,null,null,null,null,null,null,null,null,null,null,null,null,null,null,null,null,null,null,null,null,{"$f":"IFERROR(VLOOKUP(AM23539,Cod_DIVIPOLA!A:C,2,0),\"CODIGO INCORRECTO\")","v":"CODIGO INCORRECTO"}]
[23612,null,null,null,null,null,null,null,null,null,null,null,null,null,null,null,null,null,null,null,null,null,null,null,null,null,null,null,null,null,null,null,null,null,null,null,null,null,null,{"$f":"IFERROR(VLOOKUP(AM23614,Cod_DIVIPOLA!A:C,2,0),\"CODIGO INCORRECTO\")","v":"CODIGO INCORRECTO"}]
[23668,null,null,null,null,null,null,null,null,null,null,null,null,null,null,null,null,null,null,null,null,null,null,null,null,null,null,null,null,null,null,null,null,null,null,null,null,null,null,{"$f":"IFERROR(VLOOKUP(AM23670,Cod_DIVIPOLA!A:C,2,0),\"CODIGO INCORRECTO\")","v":"CODIGO INCORRECTO"}]
[23731,null,null,null,null,null,null,null,null,null,null,null,null,null,null,null,null,null,null,null,null,null,null,null,null,null,null,null,null,null,null,null,null,null,null,null,null,null,null,{"$f":"IFERROR(VLOOKUP(AM23733,Cod_DIVIPOLA!A:C,2,0),\"CODIGO INCORRECTO\")","v":"CODIGO INCORRECTO"}]
[23752,null,null,null,null,null,null,null,null,null,null,null,null,null,null,null,null,null,null,null,null,null,null,null,null,null,null,null,null,null,null,null,null,null,null,null,null,null,null,{"$f":"IFERROR(VLOOKUP(AM23754,Cod_DIVIPOLA!A:C,2,0),\"CODIGO INCORRECTO\")","v":"CODIGO INCORRECTO"}]
[23813,null,null,null,null,null,null,null,null,null,null,null,null,null,null,null,null,null,null,null,null,null,null,null,null,null,null,null,null,null,null,null,null,null,null,null,null,null,null,{"$f":"IFERROR(VLOOKUP(AM23815,Cod_DIVIPOLA!A:C,2,0),\"CODIGO INCORRECTO\")","v":"CODIGO INCORRECTO"}]
[23871,null,null,null,null,null,null,null,null,null,null,null,null,null,null,null,null,null,null,null,null,null,null,null,null,null,null,null,null,null,null,null,null,null,null,null,null,null,null,{"$f":"IFERROR(VLOOKUP(AM23873,Cod_DIVIPOLA!A:C,2,0),\"CODIGO INCORRECTO\")","v":"CODIGO INCORRECTO"}]
[23912,null,null,null,null,null,null,null,null,null,null,null,null,null,null,null,null,null,null,null,null,null,null,null,null,null,null,null,null,null,null,null,null,null,null,null,null,null,null,{"$f":"IFERROR(VLOOKUP(AM23914,Cod_DIVIPOLA!A:C,2,0),\"CODIGO INCORRECTO\")","v":"CODIGO INCORRECTO"}]
[23990,null,null,null,null,null,null,null,null,null,null,null,null,null,null,null,null,null,null,null,null,null,null,null,null,null,null,null,null,null,null,null,null,null,null,null,null,null,null,{"$f":"IFERROR(VLOOKUP(AM23992,Cod_DIVIPOLA!A:C,2,0),\"CODIGO INCORRECTO\")","v":"CODIGO INCORRECTO"}]
[24011,null,null,null,null,null,null,null,null,null,null,null,null,null,null,null,null,null,null,null,null,null,null,null,null,null,null,null,null,null,null,null,null,null,null,null,null,null,null,{"$f":"IFERROR(VLOOKUP(AM24013,Cod_DIVIPOLA!A:C,2,0),\"CODIGO INCORRECTO\")","v":"CODIGO INCORRECTO"}]
[24086,null,null,null,null,null,null,null,null,null,null,null,null,null,null,null,null,null,null,null,null,null,null,null,null,null,null,null,null,null,null,null,null,null,null,null,null,null,null,{"$f":"IFERROR(VLOOKUP(AM24088,Cod_DIVIPOLA!A:C,2,0),\"CODIGO INCORRECTO\")","v":"CODIGO INCORRECTO"}]
[24130,null,null,null,null,null,null,null,null,null,null,null,null,null,null,null,null,null,null,null,null,null,null,null,null,null,null,null,null,null,null,null,null,null,null,null,null,null,null,{"$f":"IFERROR(VLOOKUP(AM24132,Cod_DIVIPOLA!A:C,2,0),\"CODIGO INCORRECTO\")","v":"CODIGO INCORRECTO"}]
[24211,null,null,null,null,null,null,null,null,null,null,null,null,null,null,null,null,null,null,null,null,null,null,null,null,null,null,null,null,null,null,null,null,null,null,null,null,null,null,{"$f":"IFERROR(VLOOKUP(AM24213,Cod_DIVIPOLA!A:C,2,0),\"CODIGO INCORRECTO\")","v":"CODIGO INCORRECTO"}]
[24249,null,null,null,null,null,null,null,null,null,null,null,null,null,null,null,null,null,null,null,null,null,null,null,null,null,null,null,null,null,null,null,null,null,null,null,null,null,null,{"$f":"IFERROR(VLOOKUP(AM24251,Cod_DIVIPOLA!A:C,2,0),\"CODIGO INCORRECTO\")","v":"CODIGO INCORRECTO"}]
[24324,null,null,null,null,null,null,null,null,null,null,null,null,null,null,null,null,null,null,null,null,null,null,null,null,null,null,null,null,null,null,null,null,null,null,null,null,null,null,{"$f":"IFERROR(VLOOKUP(AM24326,Cod_DIVIPOLA!A:C,2,0),\"CODIGO INCORRECTO\")","v":"CODIGO INCORRECTO"}]
[24385,null,null,null,null,null,null,null,null,null,null,null,null,null,null,null,null,null,null,null,null,null,null,null,null,null,null,null,null,null,null,null,null,null,null,null,null,null,null,{"$f":"IFERROR(VLOOKUP(AM24387,Cod_DIVIPOLA!A:C,2,0),\"CODIGO INCORRECTO\")","v":"CODIGO INCORRECTO"}]
[24389,null,null,null,null,null,null,null,null,null,null,null,null,null,null,null,null,null,null,null,null,null,null,null,null,null,null,null,null,null,null,null,null,null,null,null,null,null,null,{"$f":"IFERROR(VLOOKUP(AM24391,Cod_DIVIPOLA!A:C,2,0),\"CODIGO INCORRECTO\")","v":"CODIGO INCORRECTO"}]
[24455,null,null,null,null,null,null,null,null,null,null,null,null,null,null,null,null,null,null,null,null,null,null,null,null,null,null,null,null,null,null,null,null,null,null,null,null,null,null,{"$f":"IFERROR(VLOOKUP(AM24457,Cod_DIVIPOLA!A:C,2,0),\"CODIGO INCORRECTO\")","v":"CODIGO INCORRECTO"}]
[24508,null,null,null,null,null,null,null,null,null,null,null,null,null,null,null,null,null,null,null,null,null,null,null,null,null,null,null,null,null,null,null,null,null,null,null,null,null,null,{"$f":"IFERROR(VLOOKUP(AM24510,Cod_DIVIPOLA!A:C,2,0),\"CODIGO INCORRECTO\")","v":"CODIGO INCORRECTO"}]
[24583,null,null,null,null,null,null,null,null,null,null,null,null,null,null,null,null,null,null,null,null,null,null,null,null,null,null,null,null,null,null,null,null,null,null,null,null,null,null,{"$f":"IFERROR(VLOOKUP(AM24585,Cod_DIVIPOLA!A:C,2,0),\"CODIGO INCORRECTO\")","v":"CODIGO INCORRECTO"}]
[24629,null,null,null,null,null,null,null,null,null,null,null,null,null,null,null,null,null,null,null,null,null,null,null,null,null,null,null,null,null,null,null,null,null,null,null,null,null,null,{"$f":"IFERROR(VLOOKUP(AM24631,Cod_DIVIPOLA!A:C,2,0),\"CODIGO INCORRECTO\")","v":"CODIGO INCORRECTO"}]
[24702,null,null,null,null,null,null,null,null,null,null,null,null,null,null,null,null,null,null,null,null,null,null,null,null,null,null,null,null,null,null,null,null,null,null,null,null,null,null,{"$f":"IFERROR(VLOOKUP(AM24704,Cod_DIVIPOLA!A:C,2,0),\"CODIGO INCORRECTO\")","v":"CODIGO INCORRECTO"}]
[24723,null,null,null,null,null,null,null,null,null,null,null,null,null,null,null,null,null,null,null,null,null,null,null,null,null,null,null,null,null,null,null,null,null,null,null,null,null,null,{"$f":"IFERROR(VLOOKUP(AM24725,Cod_DIVIPOLA!A:C,2,0),\"CODIGO INCORRECTO\")","v":"CODIGO INCORRECTO"}]
[24803,null,null,null,null,null,null,null,null,null,null,null,null,null,null,null,null,null,null,null,null,null,null,null,null,null,null,null,null,null,null,null,null,null,null,null,null,null,null,{"$f":"IFERROR(VLOOKUP(AM24805,Cod_DIVIPOLA!A:C,2,0),\"CODIGO INCORRECTO\")","v":"CODIGO INCORRECTO"}]
[24842,null,null,null,null,null,null,null,null,null,null,null,null,null,null,null,null,null,null,null,null,null,null,null,null,null,null,null,null,null,null,null,null,null,null,null,null,null,null,{"$f":"IFERROR(VLOOKUP(AM24844,Cod_DIVIPOLA!A:C,2,0),\"CODIGO INCORRECTO\")","v":"CODIGO INCORRECTO"}]
[24928,null,null,null,null,null,null,null,null,null,null,null,null,null,null,null,null,null,null,null,null,null,null,null,null,null,null,null,null,null,null,null,null,null,null,null,null,null,null,{"$f":"IFERROR(VLOOKUP(AM24930,Cod_DIVIPOLA!A:C,2,0),\"CODIGO INCORRECTO\")","v":"CODIGO INCORRECTO"}]
[24961,null,null,null,null,null,null,null,null,null,null,null,null,null,null,null,null,null,null,null,null,null,null,null,null,null,null,null,null,null,null,null,null,null,null,null,null,null,null,{"$f":"IFERROR(VLOOKUP(AM24963,Cod_DIVIPOLA!A:C,2,0),\"CODIGO INCORRECTO\")","v":"CODIGO INCORRECTO"}]
[25036,null,null,null,null,null,null,null,null,null,null,null,null,null,null,null,null,null,null,null,null,null,null,null,null,null,null,null,null,null,null,null,null,null,null,null,null,null,null,{"$f":"IFERROR(VLOOKUP(AM25038,Cod_DIVIPOLA!A:C,2,0),\"CODIGO INCORRECTO\")","v":"CODIGO INCORRECTO"}]
[25047,null,null,null,null,null,null,null,null,null,null,null,null,null,null,null,null,null,null,null,null,null,null,null,null,null,null,null,null,null,null,null,null,null,null,null,null,null,null,{"$f":"IFERROR(VLOOKUP(AM25049,Cod_DIVIPOLA!A:C,2,0),\"CODIGO INCORRECTO\")","v":"CODIGO INCORRECTO"}]
[25101,null,null,null,null,null,null,null,null,null,null,null,null,null,null,null,null,null,null,null,null,null,null,null,null,null,null,null,null,null,null,null,null,null,null,null,null,null,null,{"$f":"IFERROR(VLOOKUP(AM25103,Cod_DIVIPOLA!A:C,2,0),\"CODIGO INCORRECTO\")","v":"CODIGO INCORRECTO"}]
[25172,null,null,null,null,null,null,null,null,null,null,null,null,null,null,null,null,null,null,null,null,null,null,null,null,null,null,null,null,null,null,null,null,null,null,null,null,null,null,{"$f":"IFERROR(VLOOKUP(AM25174,Cod_DIVIPOLA!A:C,2,0),\"CODIGO INCORRECTO\")","v":"CODIGO INCORRECTO"}]
[25252,null,null,null,null,null,null,null,null,null,null,null,null,null,null,null,null,null,null,null,null,null,null,null,null,null,null,null,null,null,null,null,null,null,null,null,null,null,null,{"$f":"IFERROR(VLOOKUP(AM25254,Cod_DIVIPOLA!A:C,2,0),\"CODIGO INCORRECTO\")","v":"CODIGO INCORRECTO"}]
[25295,null,null,null,null,null,null,null,null,null,null,null,null,null,null,null,null,null,null,null,null,null,null,null,null,null,null,null,null,null,null,null,null,null,null,null,null,null,null,{"$f":"IFERROR(VLOOKUP(AM25297,Cod_DIVIPOLA!A:C,2,0),\"CODIGO INCORRECTO\")","v":"CODIGO INCORRECTO"}]
[25346,null,null,null,null,null,null,null,null,null,null,null,null,null,null,null,null,null,null,null,null,null,null,null,null,null,null,null,null,null,null,null,null,null,null,null,null,null,null,{"$f":"IFERROR(VLOOKUP(AM25348,Cod_DIVIPOLA!A:C,2,0),\"CODIGO INCORRECTO\")","v":"CODIGO INCORRECTO"}]
[25414,null,null,null,null,null,null,null,null,null,null,null,null,null,null,null,null,null,null,null,null,null,null,null,null,null,null,null,null,null,null,null,null,null,null,null,null,null,null,{"$f":"IFERROR(VLOOKUP(AM25416,Cod_DIVIPOLA!A:C,2,0),\"CODIGO INCORRECTO\")","v":"CODIGO INCORRECTO"}]
[25471,null,null,null,null,null,null,null,null,null,null,null,null,null,null,null,null,null,null,null,null,null,null,null,null,null,null,null,null,null,null,null,null,null,null,null,null,null,null,{"$f":"IFERROR(VLOOKUP(AM25473,Cod_DIVIPOLA!A:C,2,0),\"CODIGO INCORRECTO\")","v":"CODIGO INCORRECTO"}]
[25511,null,null,null,null,null,null,null,null,null,null,null,null,null,null,null,null,null,null,null,null,null,null,null,null,null,null,null,null,null,null,null,null,null,null,null,null,null,null,{"$f":"IFERROR(VLOOKUP(AM25513,Cod_DIVIPOLA!A:C,2,0),\"CODIGO INCORRECTO\")","v":"CODIGO INCORRECTO"}]
[25554,null,null,null,null,null,null,null,null,null,null,null,null,null,null,null,null,null,null,null,null,null,null,null,null,null,null,null,null,null,null,null,null,null,null,null,null,null,null,{"$f":"IFERROR(VLOOKUP(AM25556,Cod_DIVIPOLA!A:C,2,0),\"CODIGO INCORRECTO\")","v":"CODIGO INCORRECTO"}]
[25590,null,null,null,null,null,null,null,null,null,null,null,null,null,null,null,null,null,null,null,null,null,null,null,null,null,null,null,null,null,null,null,null,null,null,null,null,null,null,{"$f":"IFERROR(VLOOKUP(AM25592,Cod_DIVIPOLA!A:C,2,0),\"CODIGO INCORRECTO\")","v":"CODIGO INCORRECTO"}]
[25673,null,null,null,null,null,null,null,null,null,null,null,null,null,null,null,null,null,null,null,null,null,null,null,null,null,null,null,null,null,null,null,null,null,null,null,null,null,null,{"$f":"IFERROR(VLOOKUP(AM25675,Cod_DIVIPOLA!A:C,2,0),\"CODIGO INCORRECTO\")","v":"CODIGO INCORRECTO"}]
[25694,null,null,null,null,null,null,null,null,null,null,null,null,null,null,null,null,null,null,null,null,null,null,null,null,null,null,null,null,null,null,null,null,null,null,null,null,null,null,{"$f":"IFERROR(VLOOKUP(AM25696,Cod_DIVIPOLA!A:C,2,0),\"CODIGO INCORRECTO\")","v":"CODIGO INCORRECTO"}]
[25764,null,null,null,null,null,null,null,null,null,null,null,null,null,null,null,null,null,null,null,null,null,null,null,null,null,null,null,null,null,null,null,null,null,null,null,null,null,null,{"$f":"IFERROR(VLOOKUP(AM25766,Cod_DIVIPOLA!A:C,2,0),\"CODIGO INCORRECTO\")","v":"CODIGO INCORRECTO"}]
[25813,null,null,null,null,null,null,null,null,null,null,null,null,null,null,null,null,null,null,null,null,null,null,null,null,null,null,null,null,null,null,null,null,null,null,null,null,null,null,{"$f":"IFERROR(VLOOKUP(AM25815,Cod_DIVIPOLA!A:C,2,0),\"CODIGO INCORRECTO\")","v":"CODIGO INCORRECTO"}]
[25889,null,null,null,null,null,null,null,null,null,null,null,null,null,null,null,null,null,null,null,null,null,null,null,null,null,null,null,null,null,null,null,null,null,null,null,null,null,null,{"$f":"IFERROR(VLOOKUP(AM25891,Cod_DIVIPOLA!A:C,2,0),\"CODIGO INCORRECTO\")","v":"CODIGO INCORRECTO"}]
[25910,null,null,null,null,null,null,null,null,null,null,null,null,null,null,null,null,null,null,null,null,null,null,null,null,null,null,null,null,null,null,null,null,null,null,null,null,null,null,{"$f":"IFERROR(VLOOKUP(AM25912,Cod_DIVIPOLA!A:C,2,0),\"CODIGO INCORRECTO\")","v":"CODIGO INCORRECTO"}]
[26007,null,null,null,null,null,null,null,null,null,null,null,null,null,null,null,null,null,null,null,null,null,null,null,null,null,null,null,null,null,null,null,null,null,null,null,null,null,null,{"$f":"IFERROR(VLOOKUP(AM26009,Cod_DIVIPOLA!A:C,2,0),\"CODIGO INCORRECTO\")","v":"CODIGO INCORRECTO"}]
[26063,null,null,null,null,null,null,null,null,null,null,null,null,null,null,null,null,null,null,null,null,null,null,null,null,null,null,null,null,null,null,null,null,null,null,null,null,null,null,{"$f":"IFERROR(VLOOKUP(AM26065,Cod_DIVIPOLA!A:C,2,0),\"CODIGO INCORRECTO\")","v":"CODIGO INCORRECTO"}]
[26072,null,null,null,null,null,null,null,null,null,null,null,null,null,null,null,null,null,null,null,null,null,null,null,null,null,null,null,null,null,null,null,null,null,null,null,null,null,null,{"$f":"IFERROR(VLOOKUP(AM26074,Cod_DIVIPOLA!A:C,2,0),\"CODIGO INCORRECTO\")","v":"CODIGO INCORRECTO"}]
[26133,null,null,null,null,null,null,null,null,null,null,null,null,null,null,null,null,null,null,null,null,null,null,null,null,null,null,null,null,null,null,null,null,null,null,null,null,null,null,{"$f":"IFERROR(VLOOKUP(AM26135,Cod_DIVIPOLA!A:C,2,0),\"CODIGO INCORRECTO\")","v":"CODIGO INCORRECTO"}]
[26223,null,null,null,null,null,null,null,null,null,null,null,null,null,null,null,null,null,null,null,null,null,null,null,null,null,null,null,null,null,null,null,null,null,null,null,null,null,null,{"$f":"IFERROR(VLOOKUP(AM26225,Cod_DIVIPOLA!A:C,2,0),\"CODIGO INCORRECTO\")","v":"CODIGO INCORRECTO"}]
[26266,null,null,null,null,null,null,null,null,null,null,null,null,null,null,null,null,null,null,null,null,null,null,null,null,null,null,null,null,null,null,null,null,null,null,null,null,null,null,{"$f":"IFERROR(VLOOKUP(AM26268,Cod_DIVIPOLA!A:C,2,0),\"CODIGO INCORRECTO\")","v":"CODIGO INCORRECTO"}]
[26307,null,null,null,null,null,null,null,null,null,null,null,null,null,null,null,null,null,null,null,null,null,null,null,null,null,null,null,null,null,null,null,null,null,null,null,null,null,null,{"$f":"IFERROR(VLOOKUP(AM26309,Cod_DIVIPOLA!A:C,2,0),\"CODIGO INCORRECTO\")","v":"CODIGO INCORRECTO"}]
[26363,null,null,null,null,null,null,null,null,null,null,null,null,null,null,null,null,null,null,null,null,null,null,null,null,null,null,null,null,null,null,null,null,null,null,null,null,null,null,{"$f":"IFERROR(VLOOKUP(AM26365,Cod_DIVIPOLA!A:C,2,0),\"CODIGO INCORRECTO\")","v":"CODIGO INCORRECTO"}]
[26432,null,null,null,null,null,null,null,null,null,null,null,null,null,null,null,null,null,null,null,null,null,null,null,null,null,null,null,null,null,null,null,null,null,null,null,null,null,null,{"$f":"IFERROR(VLOOKUP(AM26434,Cod_DIVIPOLA!A:C,2,0),\"CODIGO INCORRECTO\")","v":"CODIGO INCORRECTO"}]
[26482,null,null,null,null,null,null,null,null,null,null,null,null,null,null,null,null,null,null,null,null,null,null,null,null,null,null,null,null,null,null,null,null,null,null,null,null,null,null,{"$f":"IFERROR(VLOOKUP(AM26484,Cod_DIVIPOLA!A:C,2,0),\"CODIGO INCORRECTO\")","v":"CODIGO INCORRECTO"}]
[26525,null,null,null,null,null,null,null,null,null,null,null,null,null,null,null,null,null,null,null,null,null,null,null,null,null,null,null,null,null,null,null,null,null,null,null,null,null,null,{"$f":"IFERROR(VLOOKUP(AM26527,Cod_DIVIPOLA!A:C,2,0),\"CODIGO INCORRECTO\")","v":"CODIGO INCORRECTO"}]
[26606,null,null,null,null,null,null,null,null,null,null,null,null,null,null,null,null,null,null,null,null,null,null,null,null,null,null,null,null,null,null,null,null,null,null,null,null,null,null,{"$f":"IFERROR(VLOOKUP(AM26608,Cod_DIVIPOLA!A:C,2,0),\"CODIGO INCORRECTO\")","v":"CODIGO INCORRECTO"}]
[26622,null,null,null,null,null,null,null,null,null,null,null,null,null,null,null,null,null,null,null,null,null,null,null,null,null,null,null,null,null,null,null,null,null,null,null,null,null,null,{"$f":"IFERROR(VLOOKUP(AM26624,Cod_DIVIPOLA!A:C,2,0),\"CODIGO INCORRECTO\")","v":"CODIGO INCORRECTO"}]
[26719,null,null,null,null,null,null,null,null,null,null,null,null,null,null,null,null,null,null,null,null,null,null,null,null,null,null,null,null,null,null,null,null,null,null,null,null,null,null,{"$f":"IFERROR(VLOOKUP(AM26721,Cod_DIVIPOLA!A:C,2,0),\"CODIGO INCORRECTO\")","v":"CODIGO INCORRECTO"}]
[26725,null,null,null,null,null,null,null,null,null,null,null,null,null,null,null,null,null,null,null,null,null,null,null,null,null,null,null,null,null,null,null,null,null,null,null,null,null,null,{"$f":"IFERROR(VLOOKUP(AM26727,Cod_DIVIPOLA!A:C,2,0),\"CODIGO INCORRECTO\")","v":"CODIGO INCORRECTO"}]
[26784,null,null,null,null,null,null,null,null,null,null,null,null,null,null,null,null,null,null,null,null,null,null,null,null,null,null,null,null,null,null,null,null,null,null,null,null,null,null,{"$f":"IFERROR(VLOOKUP(AM26786,Cod_DIVIPOLA!A:C,2,0),\"CODIGO INCORRECTO\")","v":"CODIGO INCORRECTO"}]
[26850,null,null,null,null,null,null,null,null,null,null,null,null,null,null,null,null,null,null,null,null,null,null,null,null,null,null,null,null,null,null,null,null,null,null,null,null,null,null,{"$f":"IFERROR(VLOOKUP(AM26852,Cod_DIVIPOLA!A:C,2,0),\"CODIGO INCORRECTO\")","v":"CODIGO INCORRECTO"}]
[26935,null,null,null,null,null,null,null,null,null,null,null,null,null,null,null,null,null,null,null,null,null,null,null,null,null,null,null,null,null,null,null,null,null,null,null,null,null,null,{"$f":"IFERROR(VLOOKUP(AM26937,Cod_DIVIPOLA!A:C,2,0),\"CODIGO INCORRECTO\")","v":"CODIGO INCORRECTO"}]
[26978,null,null,null,null,null,null,null,null,null,null,null,null,null,null,null,null,null,null,null,null,null,null,null,null,null,null,null,null,null,null,null,null,null,null,null,null,null,null,{"$f":"IFERROR(VLOOKUP(AM26980,Cod_DIVIPOLA!A:C,2,0),\"CODIGO INCORRECTO\")","v":"CODIGO INCORRECTO"}]
[27024,null,null,null,null,null,null,null,null,null,null,null,null,null,null,null,null,null,null,null,null,null,null,null,null,null,null,null,null,null,null,null,null,null,null,null,null,null,null,{"$f":"IFERROR(VLOOKUP(AM27026,Cod_DIVIPOLA!A:C,2,0),\"CODIGO INCORRECTO\")","v":"CODIGO INCORRECTO"}]
[27075,null,null,null,null,null,null,null,null,null,null,null,null,null,null,null,null,null,null,null,null,null,null,null,null,null,null,null,null,null,null,null,null,null,null,null,null,null,null,{"$f":"IFERROR(VLOOKUP(AM27077,Cod_DIVIPOLA!A:C,2,0),\"CODIGO INCORRECTO\")","v":"CODIGO INCORRECTO"}]
[27149,null,null,null,null,null,null,null,null,null,null,null,null,null,null,null,null,null,null,null,null,null,null,null,null,null,null,null,null,null,null,null,null,null,null,null,null,null,null,{"$f":"IFERROR(VLOOKUP(AM27151,Cod_DIVIPOLA!A:C,2,0),\"CODIGO INCORRECTO\")","v":"CODIGO INCORRECTO"}]
[27194,null,null,null,null,null,null,null,null,null,null,null,null,null,null,null,null,null,null,null,null,null,null,null,null,null,null,null,null,null,null,null,null,null,null,null,null,null,null,{"$f":"IFERROR(VLOOKUP(AM27196,Cod_DIVIPOLA!A:C,2,0),\"CODIGO INCORRECTO\")","v":"CODIGO INCORRECTO"}]
[27237,null,null,null,null,null,null,null,null,null,null,null,null,null,null,null,null,null,null,null,null,null,null,null,null,null,null,null,null,null,null,null,null,null,null,null,null,null,null,{"$f":"IFERROR(VLOOKUP(AM27239,Cod_DIVIPOLA!A:C,2,0),\"CODIGO INCORRECTO\")","v":"CODIGO INCORRECTO"}]
[27268,null,null,null,null,null,null,null,null,null,null,null,null,null,null,null,null,null,null,null,null,null,null,null,null,null,null,null,null,null,null,null,null,null,null,null,null,null,null,{"$f":"IFERROR(VLOOKUP(AM27270,Cod_DIVIPOLA!A:C,2,0),\"CODIGO INCORRECTO\")","v":"CODIGO INCORRECTO"}]
[27334,null,null,null,null,null,null,null,null,null,null,null,null,null,null,null,null,null,null,null,null,null,null,null,null,null,null,null,null,null,null,null,null,null,null,null,null,null,null,{"$f":"IFERROR(VLOOKUP(AM27336,Cod_DIVIPOLA!A:C,2,0),\"CODIGO INCORRECTO\")","v":"CODIGO INCORRECTO"}]
[27393,null,null,null,null,null,null,null,null,null,null,null,null,null,null,null,null,null,null,null,null,null,null,null,null,null,null,null,null,null,null,null,null,null,null,null,null,null,null,{"$f":"IFERROR(VLOOKUP(AM27395,Cod_DIVIPOLA!A:C,2,0),\"CODIGO INCORRECTO\")","v":"CODIGO INCORRECTO"}]
[27453,null,null,null,null,null,null,null,null,null,null,null,null,null,null,null,null,null,null,null,null,null,null,null,null,null,null,null,null,null,null,null,null,null,null,null,null,null,null,{"$f":"IFERROR(VLOOKUP(AM27455,Cod_DIVIPOLA!A:C,2,0),\"CODIGO INCORRECTO\")","v":"CODIGO INCORRECTO"}]
[27496,null,null,null,null,null,null,null,null,null,null,null,null,null,null,null,null,null,null,null,null,null,null,null,null,null,null,null,null,null,null,null,null,null,null,null,null,null,null,{"$f":"IFERROR(VLOOKUP(AM27498,Cod_DIVIPOLA!A:C,2,0),\"CODIGO INCORRECTO\")","v":"CODIGO INCORRECTO"}]
[27567,null,null,null,null,null,null,null,null,null,null,null,null,null,null,null,null,null,null,null,null,null,null,null,null,null,null,null,null,null,null,null,null,null,null,null,null,null,null,{"$f":"IFERROR(VLOOKUP(AM27569,Cod_DIVIPOLA!A:C,2,0),\"CODIGO INCORRECTO\")","v":"CODIGO INCORRECTO"}]
[27647,null,null,null,null,null,null,null,null,null,null,null,null,null,null,null,null,null,null,null,null,null,null,null,null,null,null,null,null,null,null,null,null,null,null,null,null,null,null,{"$f":"IFERROR(VLOOKUP(AM27649,Cod_DIVIPOLA!A:C,2,0),\"CODIGO INCORRECTO\")","v":"CODIGO INCORRECTO"}]
[27690,null,null,null,null,null,null,null,null,null,null,null,null,null,null,null,null,null,null,null,null,null,null,null,null,null,null,null,null,null,null,null,null,null,null,null,null,null,null,{"$f":"IFERROR(VLOOKUP(AM27692,Cod_DIVIPOLA!A:C,2,0),\"CODIGO INCORRECTO\")","v":"CODIGO INCORRECTO"}]
[27741,null,null,null,null,null,null,null,null,null,null,null,null,null,null,null,null,null,null,null,null,null,null,null,null,null,null,null,null,null,null,null,null,null,null,null,null,null,null,{"$f":"IFERROR(VLOOKUP(AM27743,Cod_DIVIPOLA!A:C,2,0),\"CODIGO INCORRECTO\")","v":"CODIGO INCORRECTO"}]
[27787,null,null,null,null,null,null,null,null,null,null,null,null,null,null,null,null,null,null,null,null,null,null,null,null,null,null,null,null,null,null,null,null,null,null,null,null,null,null,{"$f":"IFERROR(VLOOKUP(AM27789,Cod_DIVIPOLA!A:C,2,0),\"CODIGO INCORRECTO\")","v":"CODIGO INCORRECTO"}]
[27866,null,null,null,null,null,null,null,null,null,null,null,null,null,null,null,null,null,null,null,null,null,null,null,null,null,null,null,null,null,null,null,null,null,null,null,null,null,null,{"$f":"IFERROR(VLOOKUP(AM27868,Cod_DIVIPOLA!A:C,2,0),\"CODIGO INCORRECTO\")","v":"CODIGO INCORRECTO"}]
[27906,null,null,null,null,null,null,null,null,null,null,null,null,null,null,null,null,null,null,null,null,null,null,null,null,null,null,null,null,null,null,null,null,null,null,null,null,null,null,{"$f":"IFERROR(VLOOKUP(AM27908,Cod_DIVIPOLA!A:C,2,0),\"CODIGO INCORRECTO\")","v":"CODIGO INCORRECTO"}]
[27949,null,null,null,null,null,null,null,null,null,null,null,null,null,null,null,null,null,null,null,null,null,null,null,null,null,null,null,null,null,null,null,null,null,null,null,null,null,null,{"$f":"IFERROR(VLOOKUP(AM27951,Cod_DIVIPOLA!A:C,2,0),\"CODIGO INCORRECTO\")","v":"CODIGO INCORRECTO"}]
[27985,null,null,null,null,null,null,null,null,null,null,null,null,null,null,null,null,null,null,null,null,null,null,null,null,null,null,null,null,null,null,null,null,null,null,null,null,null,null,{"$f":"IFERROR(VLOOKUP(AM27987,Cod_DIVIPOLA!A:C,2,0),\"CODIGO INCORRECTO\")","v":"CODIGO INCORRECTO"}]
[28046,null,null,null,null,null,null,null,null,null,null,null,null,null,null,null,null,null,null,null,null,null,null,null,null,null,null,null,null,null,null,null,null,null,null,null,null,null,null,{"$f":"IFERROR(VLOOKUP(AM28048,Cod_DIVIPOLA!A:C,2,0),\"CODIGO INCORRECTO\")","v":"CODIGO INCORRECTO"}]
[28110,null,null,null,null,null,null,null,null,null,null,null,null,null,null,null,null,null,null,null,null,null,null,null,null,null,null,null,null,null,null,null,null,null,null,null,null,null,null,{"$f":"IFERROR(VLOOKUP(AM28112,Cod_DIVIPOLA!A:C,2,0),\"CODIGO INCORRECTO\")","v":"CODIGO INCORRECTO"}]
[28165,null,null,null,null,null,null,null,null,null,null,null,null,null,null,null,null,null,null,null,null,null,null,null,null,null,null,null,null,null,null,null,null,null,null,null,null,null,null,{"$f":"IFERROR(VLOOKUP(AM28167,Cod_DIVIPOLA!A:C,2,0),\"CODIGO INCORRECTO\")","v":"CODIGO INCORRECTO"}]
[28240,null,null,null,null,null,null,null,null,null,null,null,null,null,null,null,null,null,null,null,null,null,null,null,null,null,null,null,null,null,null,null,null,null,null,null,null,null,null,{"$f":"IFERROR(VLOOKUP(AM28242,Cod_DIVIPOLA!A:C,2,0),\"CODIGO INCORRECTO\")","v":"CODIGO INCORRECTO"}]
[28284,null,null,null,null,null,null,null,null,null,null,null,null,null,null,null,null,null,null,null,null,null,null,null,null,null,null,null,null,null,null,null,null,null,null,null,null,null,null,{"$f":"IFERROR(VLOOKUP(AM28286,Cod_DIVIPOLA!A:C,2,0),\"CODIGO INCORRECTO\")","v":"CODIGO INCORRECTO"}]
[28305,null,null,null,null,null,null,null,null,null,null,null,null,null,null,null,null,null,null,null,null,null,null,null,null,null,null,null,null,null,null,null,null,null,null,null,null,null,null,{"$f":"IFERROR(VLOOKUP(AM28307,Cod_DIVIPOLA!A:C,2,0),\"CODIGO INCORRECTO\")","v":"CODIGO INCORRECTO"}]
[28409,null,null,null,null,null,null,null,null,null,null,null,null,null,null,null,null,null,null,null,null,null,null,null,null,null,null,null,null,null,null,null,null,null,null,null,null,null,null,{"$f":"IFERROR(VLOOKUP(AM28411,Cod_DIVIPOLA!A:C,2,0),\"CODIGO INCORRECTO\")","v":"CODIGO INCORRECTO"}]
[28424,null,null,null,null,null,null,null,null,null,null,null,null,null,null,null,null,null,null,null,null,null,null,null,null,null,null,null,null,null,null,null,null,null,null,null,null,null,null,{"$f":"IFERROR(VLOOKUP(AM28426,Cod_DIVIPOLA!A:C,2,0),\"CODIGO INCORRECTO\")","v":"CODIGO INCORRECTO"}]
[28499,null,null,null,null,null,null,null,null,null,null,null,null,null,null,null,null,null,null,null,null,null,null,null,null,null,null,null,null,null,null,null,null,null,null,null,null,null,null,{"$f":"IFERROR(VLOOKUP(AM28501,Cod_DIVIPOLA!A:C,2,0),\"CODIGO INCORRECTO\")","v":"CODIGO INCORRECTO"}]
[28528,null,null,null,null,null,null,null,null,null,null,null,null,null,null,null,null,null,null,null,null,null,null,null,null,null,null,null,null,null,null,null,null,null,null,null,null,null,null,{"$f":"IFERROR(VLOOKUP(AM28530,Cod_DIVIPOLA!A:C,2,0),\"CODIGO INCORRECTO\")","v":"CODIGO INCORRECTO"}]
[28618,null,null,null,null,null,null,null,null,null,null,null,null,null,null,null,null,null,null,null,null,null,null,null,null,null,null,null,null,null,null,null,null,null,null,null,null,null,null,{"$f":"IFERROR(VLOOKUP(AM28620,Cod_DIVIPOLA!A:C,2,0),\"CODIGO INCORRECTO\")","v":"CODIGO INCORRECTO"}]
[28653,null,null,null,null,null,null,null,null,null,null,null,null,null,null,null,null,null,null,null,null,null,null,null,null,null,null,null,null,null,null,null,null,null,null,null,null,null,null,{"$f":"IFERROR(VLOOKUP(AM28655,Cod_DIVIPOLA!A:C,2,0),\"CODIGO INCORRECTO\")","v":"CODIGO INCORRECTO"}]
[28683,null,null,null,null,null,null,null,null,null,null,null,null,null,null,null,null,null,null,null,null,null,null,null,null,null,null,null,null,null,null,null,null,null,null,null,null,null,null,{"$f":"IFERROR(VLOOKUP(AM28685,Cod_DIVIPOLA!A:C,2,0),\"CODIGO INCORRECTO\")","v":"CODIGO INCORRECTO"}]
[28758,null,null,null,null,null,null,null,null,null,null,null,null,null,null,null,null,null,null,null,null,null,null,null,null,null,null,null,null,null,null,null,null,null,null,null,null,null,null,{"$f":"IFERROR(VLOOKUP(AM28760,Cod_DIVIPOLA!A:C,2,0),\"CODIGO INCORRECTO\")","v":"CODIGO INCORRECTO"}]
[28827,null,null,null,null,null,null,null,null,null,null,null,null,null,null,null,null,null,null,null,null,null,null,null,null,null,null,null,null,null,null,null,null,null,null,null,null,null,null,{"$f":"IFERROR(VLOOKUP(AM28829,Cod_DIVIPOLA!A:C,2,0),\"CODIGO INCORRECTO\")","v":"CODIGO INCORRECTO"}]
[28877,null,null,null,null,null,null,null,null,null,null,null,null,null,null,null,null,null,null,null,null,null,null,null,null,null,null,null,null,null,null,null,null,null,null,null,null,null,null,{"$f":"IFERROR(VLOOKUP(AM28879,Cod_DIVIPOLA!A:C,2,0),\"CODIGO INCORRECTO\")","v":"CODIGO INCORRECTO"}]
[28952,null,null,null,null,null,null,null,null,null,null,null,null,null,null,null,null,null,null,null,null,null,null,null,null,null,null,null,null,null,null,null,null,null,null,null,null,null,null,{"$f":"IFERROR(VLOOKUP(AM28954,Cod_DIVIPOLA!A:C,2,0),\"CODIGO INCORRECTO\")","v":"CODIGO INCORRECTO"}]
[29001,null,null,null,null,null,null,null,null,null,null,null,null,null,null,null,null,null,null,null,null,null,null,null,null,null,null,null,null,null,null,null,null,null,null,null,null,null,null,{"$f":"IFERROR(VLOOKUP(AM29003,Cod_DIVIPOLA!A:C,2,0),\"CODIGO INCORRECTO\")","v":"CODIGO INCORRECTO"}]
[29017,null,null,null,null,null,null,null,null,null,null,null,null,null,null,null,null,null,null,null,null,null,null,null,null,null,null,null,null,null,null,null,null,null,null,null,null,null,null,{"$f":"IFERROR(VLOOKUP(AM29019,Cod_DIVIPOLA!A:C,2,0),\"CODIGO INCORRECTO\")","v":"CODIGO INCORRECTO"}]
[29071,null,null,null,null,null,null,null,null,null,null,null,null,null,null,null,null,null,null,null,null,null,null,null,null,null,null,null,null,null,null,null,null,null,null,null,null,null,null,{"$f":"IFERROR(VLOOKUP(AM29073,Cod_DIVIPOLA!A:C,2,0),\"CODIGO INCORRECTO\")","v":"CODIGO INCORRECTO"}]
[29136,null,null,null,null,null,null,null,null,null,null,null,null,null,null,null,null,null,null,null,null,null,null,null,null,null,null,null,null,null,null,null,null,null,null,null,null,null,null,{"$f":"IFERROR(VLOOKUP(AM29138,Cod_DIVIPOLA!A:C,2,0),\"CODIGO INCORRECTO\")","v":"CODIGO INCORRECTO"}]
[29211,null,null,null,null,null,null,null,null,null,null,null,null,null,null,null,null,null,null,null,null,null,null,null,null,null,null,null,null,null,null,null,null,null,null,null,null,null,null,{"$f":"IFERROR(VLOOKUP(AM29213,Cod_DIVIPOLA!A:C,2,0),\"CODIGO INCORRECTO\")","v":"CODIGO INCORRECTO"}]
[29245,null,null,null,null,null,null,null,null,null,null,null,null,null,null,null,null,null,null,null,null,null,null,null,null,null,null,null,null,null,null,null,null,null,null,null,null,null,null,{"$f":"IFERROR(VLOOKUP(AM29247,Cod_DIVIPOLA!A:C,2,0),\"CODIGO INCORRECTO\")","v":"CODIGO INCORRECTO"}]
[29330,null,null,null,null,null,null,null,null,null,null,null,null,null,null,null,null,null,null,null,null,null,null,null,null,null,null,null,null,null,null,null,null,null,null,null,null,null,null,{"$f":"IFERROR(VLOOKUP(AM29332,Cod_DIVIPOLA!A:C,2,0),\"CODIGO INCORRECTO\")","v":"CODIGO INCORRECTO"}]
[29370,null,null,null,null,null,null,null,null,null,null,null,null,null,null,null,null,null,null,null,null,null,null,null,null,null,null,null,null,null,null,null,null,null,null,null,null,null,null,{"$f":"IFERROR(VLOOKUP(AM29372,Cod_DIVIPOLA!A:C,2,0),\"CODIGO INCORRECTO\")","v":"CODIGO INCORRECTO"}]
[29395,null,null,null,null,null,null,null,null,null,null,null,null,null,null,null,null,null,null,null,null,null,null,null,null,null,null,null,null,null,null,null,null,null,null,null,null,null,null,{"$f":"IFERROR(VLOOKUP(AM29397,Cod_DIVIPOLA!A:C,2,0),\"CODIGO INCORRECTO\")","v":"CODIGO INCORRECTO"}]
[29470,null,null,null,null,null,null,null,null,null,null,null,null,null,null,null,null,null,null,null,null,null,null,null,null,null,null,null,null,null,null,null,null,null,null,null,null,null,null,{"$f":"IFERROR(VLOOKUP(AM29472,Cod_DIVIPOLA!A:C,2,0),\"CODIGO INCORRECTO\")","v":"CODIGO INCORRECTO"}]
[29544,null,null,null,null,null,null,null,null,null,null,null,null,null,null,null,null,null,null,null,null,null,null,null,null,null,null,null,null,null,null,null,null,null,null,null,null,null,null,{"$f":"IFERROR(VLOOKUP(AM29546,Cod_DIVIPOLA!A:C,2,0),\"CODIGO INCORRECTO\")","v":"CODIGO INCORRECTO"}]
[29589,null,null,null,null,null,null,null,null,null,null,null,null,null,null,null,null,null,null,null,null,null,null,null,null,null,null,null,null,null,null,null,null,null,null,null,null,null,null,{"$f":"IFERROR(VLOOKUP(AM29591,Cod_DIVIPOLA!A:C,2,0),\"CODIGO INCORRECTO\")","v":"CODIGO INCORRECTO"}]
[29643,null,null,null,null,null,null,null,null,null,null,null,null,null,null,null,null,null,null,null,null,null,null,null,null,null,null,null,null,null,null,null,null,null,null,null,null,null,null,{"$f":"IFERROR(VLOOKUP(AM29645,Cod_DIVIPOLA!A:C,2,0),\"CODIGO INCORRECTO\")","v":"CODIGO INCORRECTO"}]
[29708,null,null,null,null,null,null,null,null,null,null,null,null,null,null,null,null,null,null,null,null,null,null,null,null,null,null,null,null,null,null,null,null,null,null,null,null,null,null,{"$f":"IFERROR(VLOOKUP(AM29710,Cod_DIVIPOLA!A:C,2,0),\"CODIGO INCORRECTO\")","v":"CODIGO INCORRECTO"}]
[29729,null,null,null,null,null,null,null,null,null,null,null,null,null,null,null,null,null,null,null,null,null,null,null,null,null,null,null,null,null,null,null,null,null,null,null,null,null,null,{"$f":"IFERROR(VLOOKUP(AM29731,Cod_DIVIPOLA!A:C,2,0),\"CODIGO INCORRECTO\")","v":"CODIGO INCORRECTO"}]
[29788,null,null,null,null,null,null,null,null,null,null,null,null,null,null,null,null,null,null,null,null,null,null,null,null,null,null,null,null,null,null,null,null,null,null,null,null,null,null,{"$f":"IFERROR(VLOOKUP(AM29790,Cod_DIVIPOLA!A:C,2,0),\"CODIGO INCORRECTO\")","v":"CODIGO INCORRECTO"}]
[29848,null,null,null,null,null,null,null,null,null,null,null,null,null,null,null,null,null,null,null,null,null,null,null,null,null,null,null,null,null,null,null,null,null,null,null,null,null,null,{"$f":"IFERROR(VLOOKUP(AM29850,Cod_DIVIPOLA!A:C,2,0),\"CODIGO INCORRECTO\")","v":"CODIGO INCORRECTO"}]
[29923,null,null,null,null,null,null,null,null,null,null,null,null,null,null,null,null,null,null,null,null,null,null,null,null,null,null,null,null,null,null,null,null,null,null,null,null,null,null,{"$f":"IFERROR(VLOOKUP(AM29925,Cod_DIVIPOLA!A:C,2,0),\"CODIGO INCORRECTO\")","v":"CODIGO INCORRECTO"}]
[29962,null,null,null,null,null,null,null,null,null,null,null,null,null,null,null,null,null,null,null,null,null,null,null,null,null,null,null,null,null,null,null,null,null,null,null,null,null,null,{"$f":"IFERROR(VLOOKUP(AM29964,Cod_DIVIPOLA!A:C,2,0),\"CODIGO INCORRECTO\")","v":"CODIGO INCORRECTO"}]
[29988,null,null,null,null,null,null,null,null,null,null,null,null,null,null,null,null,null,null,null,null,null,null,null,null,null,null,null,null,null,null,null,null,null,null,null,null,null,null,{"$f":"IFERROR(VLOOKUP(AM29990,Cod_DIVIPOLA!A:C,2,0),\"CODIGO INCORRECTO\")","v":"CODIGO INCORRECTO"}]
[30061,null,null,null,null,null,null,null,null,null,null,null,null,null,null,null,null,null,null,null,null,null,null,null,null,null,null,null,null,null,null,null,null,null,null,null,null,null,null,{"$f":"IFERROR(VLOOKUP(AM30063,Cod_DIVIPOLA!A:C,2,0),\"CODIGO INCORRECTO\")","v":"CODIGO INCORRECTO"}]
[30107,null,null,null,null,null,null,null,null,null,null,null,null,null,null,null,null,null,null,null,null,null,null,null,null,null,null,null,null,null,null,null,null,null,null,null,null,null,null,{"$f":"IFERROR(VLOOKUP(AM30109,Cod_DIVIPOLA!A:C,2,0),\"CODIGO INCORRECTO\")","v":"CODIGO INCORRECTO"}]
[30182,null,null,null,null,null,null,null,null,null,null,null,null,null,null,null,null,null,null,null,null,null,null,null,null,null,null,null,null,null,null,null,null,null,null,null,null,null,null,{"$f":"IFERROR(VLOOKUP(AM30184,Cod_DIVIPOLA!A:C,2,0),\"CODIGO INCORRECTO\")","v":"CODIGO INCORRECTO"}]
[30206,null,null,null,null,null,null,null,null,null,null,null,null,null,null,null,null,null,null,null,null,null,null,null,null,null,null,null,null,null,null,null,null,null,null,null,null,null,null,{"$f":"IFERROR(VLOOKUP(AM30208,Cod_DIVIPOLA!A:C,2,0),\"CODIGO INCORRECTO\")","v":"CODIGO INCORRECTO"}]
[30301,null,null,null,null,null,null,null,null,null,null,null,null,null,null,null,null,null,null,null,null,null,null,null,null,null,null,null,null,null,null,null,null,null,null,null,null,null,null,{"$f":"IFERROR(VLOOKUP(AM30303,Cod_DIVIPOLA!A:C,2,0),\"CODIGO INCORRECTO\")","v":"CODIGO INCORRECTO"}]
[30360,null,null,null,null,null,null,null,null,null,null,null,null,null,null,null,null,null,null,null,null,null,null,null,null,null,null,null,null,null,null,null,null,null,null,null,null,null,null,{"$f":"IFERROR(VLOOKUP(AM30362,Cod_DIVIPOLA!A:C,2,0),\"CODIGO INCORRECTO\")","v":"CODIGO INCORRECTO"}]
[30420,null,null,null,null,null,null,null,null,null,null,null,null,null,null,null,null,null,null,null,null,null,null,null,null,null,null,null,null,null,null,null,null,null,null,null,null,null,null,{"$f":"IFERROR(VLOOKUP(AM30422,Cod_DIVIPOLA!A:C,2,0),\"CODIGO INCORRECTO\")","v":"CODIGO INCORRECTO"}]
[30441,null,null,null,null,null,null,null,null,null,null,null,null,null,null,null,null,null,null,null,null,null,null,null,null,null,null,null,null,null,null,null,null,null,null,null,null,null,null,{"$f":"IFERROR(VLOOKUP(AM30443,Cod_DIVIPOLA!A:C,2,0),\"CODIGO INCORRECTO\")","v":"CODIGO INCORRECTO"}]
[30505,null,null,null,null,null,null,null,null,null,null,null,null,null,null,null,null,null,null,null,null,null,null,null,null,null,null,null,null,null,null,null,null,null,null,null,null,null,null,{"$f":"IFERROR(VLOOKUP(AM30507,Cod_DIVIPOLA!A:C,2,0),\"CODIGO INCORRECTO\")","v":"CODIGO INCORRECTO"}]
[30560,null,null,null,null,null,null,null,null,null,null,null,null,null,null,null,null,null,null,null,null,null,null,null,null,null,null,null,null,null,null,null,null,null,null,null,null,null,null,{"$f":"IFERROR(VLOOKUP(AM30562,Cod_DIVIPOLA!A:C,2,0),\"CODIGO INCORRECTO\")","v":"CODIGO INCORRECTO"}]
[30604,null,null,null,null,null,null,null,null,null,null,null,null,null,null,null,null,null,null,null,null,null,null,null,null,null,null,null,null,null,null,null,null,null,null,null,null,null,null,{"$f":"IFERROR(VLOOKUP(AM30606,Cod_DIVIPOLA!A:C,2,0),\"CODIGO INCORRECTO\")","v":"CODIGO INCORRECTO"}]
[30679,null,null,null,null,null,null,null,null,null,null,null,null,null,null,null,null,null,null,null,null,null,null,null,null,null,null,null,null,null,null,null,null,null,null,null,null,null,null,{"$f":"IFERROR(VLOOKUP(AM30681,Cod_DIVIPOLA!A:C,2,0),\"CODIGO INCORRECTO\")","v":"CODIGO INCORRECTO"}]
[30700,null,null,null,null,null,null,null,null,null,null,null,null,null,null,null,null,null,null,null,null,null,null,null,null,null,null,null,null,null,null,null,null,null,null,null,null,null,null,{"$f":"IFERROR(VLOOKUP(AM30702,Cod_DIVIPOLA!A:C,2,0),\"CODIGO INCORRECTO\")","v":"CODIGO INCORRECTO"}]
[30778,null,null,null,null,null,null,null,null,null,null,null,null,null,null,null,null,null,null,null,null,null,null,null,null,null,null,null,null,null,null,null,null,null,null,null,null,null,null,{"$f":"IFERROR(VLOOKUP(AM30780,Cod_DIVIPOLA!A:C,2,0),\"CODIGO INCORRECTO\")","v":"CODIGO INCORRECTO"}]
[30819,null,null,null,null,null,null,null,null,null,null,null,null,null,null,null,null,null,null,null,null,null,null,null,null,null,null,null,null,null,null,null,null,null,null,null,null,null,null,{"$f":"IFERROR(VLOOKUP(AM30821,Cod_DIVIPOLA!A:C,2,0),\"CODIGO INCORRECTO\")","v":"CODIGO INCORRECTO"}]
[30894,null,null,null,null,null,null,null,null,null,null,null,null,null,null,null,null,null,null,null,null,null,null,null,null,null,null,null,null,null,null,null,null,null,null,null,null,null,null,{"$f":"IFERROR(VLOOKUP(AM30896,Cod_DIVIPOLA!A:C,2,0),\"CODIGO INCORRECTO\")","v":"CODIGO INCORRECTO"}]
[30923,null,null,null,null,null,null,null,null,null,null,null,null,null,null,null,null,null,null,null,null,null,null,null,null,null,null,null,null,null,null,null,null,null,null,null,null,null,null,{"$f":"IFERROR(VLOOKUP(AM30925,Cod_DIVIPOLA!A:C,2,0),\"CODIGO INCORRECTO\")","v":"CODIGO INCORRECTO"}]
[31013,null,null,null,null,null,null,null,null,null,null,null,null,null,null,null,null,null,null,null,null,null,null,null,null,null,null,null,null,null,null,null,null,null,null,null,null,null,null,{"$f":"IFERROR(VLOOKUP(AM31015,Cod_DIVIPOLA!A:C,2,0),\"CODIGO INCORRECTO\")","v":"CODIGO INCORRECTO"}]
[31022,null,null,null,null,null,null,null,null,null,null,null,null,null,null,null,null,null,null,null,null,null,null,null,null,null,null,null,null,null,null,null,null,null,null,null,null,null,null,{"$f":"IFERROR(VLOOKUP(AM31024,Cod_DIVIPOLA!A:C,2,0),\"CODIGO INCORRECTO\")","v":"CODIGO INCORRECTO"}]
[31078,null,null,null,null,null,null,null,null,null,null,null,null,null,null,null,null,null,null,null,null,null,null,null,null,null,null,null,null,null,null,null,null,null,null,null,null,null,null,{"$f":"IFERROR(VLOOKUP(AM31080,Cod_DIVIPOLA!A:C,2,0),\"CODIGO INCORRECTO\")","v":"CODIGO INCORRECTO"}]
[31153,null,null,null,null,null,null,null,null,null,null,null,null,null,null,null,null,null,null,null,null,null,null,null,null,null,null,null,null,null,null,null,null,null,null,null,null,null,null,{"$f":"IFERROR(VLOOKUP(AM31155,Cod_DIVIPOLA!A:C,2,0),\"CODIGO INCORRECTO\")","v":"CODIGO INCORRECTO"}]
[31196,null,null,null,null,null,null,null,null,null,null,null,null,null,null,null,null,null,null,null,null,null,null,null,null,null,null,null,null,null,null,null,null,null,null,null,null,null,null,{"$f":"IFERROR(VLOOKUP(AM31198,Cod_DIVIPOLA!A:C,2,0),\"CODIGO INCORRECTO\")","v":"CODIGO INCORRECTO"}]
[31272,null,null,null,null,null,null,null,null,null,null,null,null,null,null,null,null,null,null,null,null,null,null,null,null,null,null,null,null,null,null,null,null,null,null,null,null,null,null,{"$f":"IFERROR(VLOOKUP(AM31274,Cod_DIVIPOLA!A:C,2,0),\"CODIGO INCORRECTO\")","v":"CODIGO INCORRECTO"}]
[31321,null,null,null,null,null,null,null,null,null,null,null,null,null,null,null,null,null,null,null,null,null,null,null,null,null,null,null,null,null,null,null,null,null,null,null,null,null,null,{"$f":"IFERROR(VLOOKUP(AM31323,Cod_DIVIPOLA!A:C,2,0),\"CODIGO INCORRECTO\")","v":"CODIGO INCORRECTO"}]
[31391,null,null,null,null,null,null,null,null,null,null,null,null,null,null,null,null,null,null,null,null,null,null,null,null,null,null,null,null,null,null,null,null,null,null,null,null,null,null,{"$f":"IFERROR(VLOOKUP(AM31393,Cod_DIVIPOLA!A:C,2,0),\"CODIGO INCORRECTO\")","v":"CODIGO INCORRECTO"}]
[31412,null,null,null,null,null,null,null,null,null,null,null,null,null,null,null,null,null,null,null,null,null,null,null,null,null,null,null,null,null,null,null,null,null,null,null,null,null,null,{"$f":"IFERROR(VLOOKUP(AM31414,Cod_DIVIPOLA!A:C,2,0),\"CODIGO INCORRECTO\")","v":"CODIGO INCORRECTO"}]
[31495,null,null,null,null,null,null,null,null,null,null,null,null,null,null,null,null,null,null,null,null,null,null,null,null,null,null,null,null,null,null,null,null,null,null,null,null,null,null,{"$f":"IFERROR(VLOOKUP(AM31497,Cod_DIVIPOLA!A:C,2,0),\"CODIGO INCORRECTO\")","v":"CODIGO INCORRECTO"}]
[31531,null,null,null,null,null,null,null,null,null,null,null,null,null,null,null,null,null,null,null,null,null,null,null,null,null,null,null,null,null,null,null,null,null,null,null,null,null,null,{"$f":"IFERROR(VLOOKUP(AM31533,Cod_DIVIPOLA!A:C,2,0),\"CODIGO INCORRECTO\")","v":"CODIGO INCORRECTO"}]
[31565,null,null,null,null,null,null,null,null,null,null,null,null,null,null,null,null,null,null,null,null,null,null,null,null,null,null,null,null,null,null,null,null,null,null,null,null,null,null,{"$f":"IFERROR(VLOOKUP(AM31567,Cod_DIVIPOLA!A:C,2,0),\"CODIGO INCORRECTO\")","v":"CODIGO INCORRECTO"}]
[31650,null,null,null,null,null,null,null,null,null,null,null,null,null,null,null,null,null,null,null,null,null,null,null,null,null,null,null,null,null,null,null,null,null,null,null,null,null,null,{"$f":"IFERROR(VLOOKUP(AM31652,Cod_DIVIPOLA!A:C,2,0),\"CODIGO INCORRECTO\")","v":"CODIGO INCORRECTO"}]
[31725,null,null,null,null,null,null,null,null,null,null,null,null,null,null,null,null,null,null,null,null,null,null,null,null,null,null,null,null,null,null,null,null,null,null,null,null,null,null,{"$f":"IFERROR(VLOOKUP(AM31727,Cod_DIVIPOLA!A:C,2,0),\"CODIGO INCORRECTO\")","v":"CODIGO INCORRECTO"}]
[31739,null,null,null,null,null,null,null,null,null,null,null,null,null,null,null,null,null,null,null,null,null,null,null,null,null,null,null,null,null,null,null,null,null,null,null,null,null,null,{"$f":"IFERROR(VLOOKUP(AM31741,Cod_DIVIPOLA!A:C,2,0),\"CODIGO INCORRECTO\")","v":"CODIGO INCORRECTO"}]
[31790,null,null,null,null,null,null,null,null,null,null,null,null,null,null,null,null,null,null,null,null,null,null,null,null,null,null,null,null,null,null,null,null,null,null,null,null,null,null,{"$f":"IFERROR(VLOOKUP(AM31792,Cod_DIVIPOLA!A:C,2,0),\"CODIGO INCORRECTO\")","v":"CODIGO INCORRECTO"}]
[31865,null,null,null,null,null,null,null,null,null,null,null,null,null,null,null,null,null,null,null,null,null,null,null,null,null,null,null,null,null,null,null,null,null,null,null,null,null,null,{"$f":"IFERROR(VLOOKUP(AM31867,Cod_DIVIPOLA!A:C,2,0),\"CODIGO INCORRECTO\")","v":"CODIGO INCORRECTO"}]
[31913,null,null,null,null,null,null,null,null,null,null,null,null,null,null,null,null,null,null,null,null,null,null,null,null,null,null,null,null,null,null,null,null,null,null,null,null,null,null,{"$f":"IFERROR(VLOOKUP(AM31915,Cod_DIVIPOLA!A:C,2,0),\"CODIGO INCORRECTO\")","v":"CODIGO INCORRECTO"}]
[31984,null,null,null,null,null,null,null,null,null,null,null,null,null,null,null,null,null,null,null,null,null,null,null,null,null,null,null,null,null,null,null,null,null,null,null,null,null,null,{"$f":"IFERROR(VLOOKUP(AM31986,Cod_DIVIPOLA!A:C,2,0),\"CODIGO INCORRECTO\")","v":"CODIGO INCORRECTO"}]
[32038,null,null,null,null,null,null,null,null,null,null,null,null,null,null,null,null,null,null,null,null,null,null,null,null,null,null,null,null,null,null,null,null,null,null,null,null,null,null,{"$f":"IFERROR(VLOOKUP(AM32040,Cod_DIVIPOLA!A:C,2,0),\"CODIGO INCORRECTO\")","v":"CODIGO INCORRECTO"}]
[32103,null,null,null,null,null,null,null,null,null,null,null,null,null,null,null,null,null,null,null,null,null,null,null,null,null,null,null,null,null,null,null,null,null,null,null,null,null,null,{"$f":"IFERROR(VLOOKUP(AM32105,Cod_DIVIPOLA!A:C,2,0),\"CODIGO INCORRECTO\")","v":"CODIGO INCORRECTO"}]
[32124,null,null,null,null,null,null,null,null,null,null,null,null,null,null,null,null,null,null,null,null,null,null,null,null,null,null,null,null,null,null,null,null,null,null,null,null,null,null,{"$f":"IFERROR(VLOOKUP(AM32126,Cod_DIVIPOLA!A:C,2,0),\"CODIGO INCORRECTO\")","v":"CODIGO INCORRECTO"}]
[32212,null,null,null,null,null,null,null,null,null,null,null,null,null,null,null,null,null,null,null,null,null,null,null,null,null,null,null,null,null,null,null,null,null,null,null,null,null,null,{"$f":"IFERROR(VLOOKUP(AM32214,Cod_DIVIPOLA!A:C,2,0),\"CODIGO INCORRECTO\")","v":"CODIGO INCORRECTO"}]
[32243,null,null,null,null,null,null,null,null,null,null,null,null,null,null,null,null,null,null,null,null,null,null,null,null,null,null,null,null,null,null,null,null,null,null,null,null,null,null,{"$f":"IFERROR(VLOOKUP(AM32245,Cod_DIVIPOLA!A:C,2,0),\"CODIGO INCORRECTO\")","v":"CODIGO INCORRECTO"}]
[32282,null,null,null,null,null,null,null,null,null,null,null,null,null,null,null,null,null,null,null,null,null,null,null,null,null,null,null,null,null,null,null,null,null,null,null,null,null,null,{"$f":"IFERROR(VLOOKUP(AM32284,Cod_DIVIPOLA!A:C,2,0),\"CODIGO INCORRECTO\")","v":"CODIGO INCORRECTO"}]
[32362,null,null,null,null,null,null,null,null,null,null,null,null,null,null,null,null,null,null,null,null,null,null,null,null,null,null,null,null,null,null,null,null,null,null,null,null,null,null,{"$f":"IFERROR(VLOOKUP(AM32364,Cod_DIVIPOLA!A:C,2,0),\"CODIGO INCORRECTO\")","v":"CODIGO INCORRECTO"}]
[32383,null,null,null,null,null,null,null,null,null,null,null,null,null,null,null,null,null,null,null,null,null,null,null,null,null,null,null,null,null,null,null,null,null,null,null,null,null,null,{"$f":"IFERROR(VLOOKUP(AM32385,Cod_DIVIPOLA!A:C,2,0),\"CODIGO INCORRECTO\")","v":"CODIGO INCORRECTO"}]
[32456,null,null,null,null,null,null,null,null,null,null,null,null,null,null,null,null,null,null,null,null,null,null,null,null,null,null,null,null,null,null,null,null,null,null,null,null,null,null,{"$f":"IFERROR(VLOOKUP(AM32458,Cod_DIVIPOLA!A:C,2,0),\"CODIGO INCORRECTO\")","v":"CODIGO INCORRECTO"}]
[32502,null,null,null,null,null,null,null,null,null,null,null,null,null,null,null,null,null,null,null,null,null,null,null,null,null,null,null,null,null,null,null,null,null,null,null,null,null,null,{"$f":"IFERROR(VLOOKUP(AM32504,Cod_DIVIPOLA!A:C,2,0),\"CODIGO INCORRECTO\")","v":"CODIGO INCORRECTO"}]
[32581,null,null,null,null,null,null,null,null,null,null,null,null,null,null,null,null,null,null,null,null,null,null,null,null,null,null,null,null,null,null,null,null,null,null,null,null,null,null,{"$f":"IFERROR(VLOOKUP(AM32583,Cod_DIVIPOLA!A:C,2,0),\"CODIGO INCORRECTO\")","v":"CODIGO INCORRECTO"}]
[32599,null,null,null,null,null,null,null,null,null,null,null,null,null,null,null,null,null,null,null,null,null,null,null,null,null,null,null,null,null,null,null,null,null,null,null,null,null,null,{"$f":"IFERROR(VLOOKUP(AM32601,Cod_DIVIPOLA!A:C,2,0),\"CODIGO INCORRECTO\")","v":"CODIGO INCORRECTO"}]
[32696,null,null,null,null,null,null,null,null,null,null,null,null,null,null,null,null,null,null,null,null,null,null,null,null,null,null,null,null,null,null,null,null,null,null,null,null,null,null,{"$f":"IFERROR(VLOOKUP(AM32698,Cod_DIVIPOLA!A:C,2,0),\"CODIGO INCORRECTO\")","v":"CODIGO INCORRECTO"}]
[32755,null,null,null,null,null,null,null,null,null,null,null,null,null,null,null,null,null,null,null,null,null,null,null,null,null,null,null,null,null,null,null,null,null,null,null,null,null,null,{"$f":"IFERROR(VLOOKUP(AM32757,Cod_DIVIPOLA!A:C,2,0),\"CODIGO INCORRECTO\")","v":"CODIGO INCORRECTO"}]
[32815,null,null,null,null,null,null,null,null,null,null,null,null,null,null,null,null,null,null,null,null,null,null,null,null,null,null,null,null,null,null,null,null,null,null,null,null,null,null,{"$f":"IFERROR(VLOOKUP(AM32817,Cod_DIVIPOLA!A:C,2,0),\"CODIGO INCORRECTO\")","v":"CODIGO INCORRECTO"}]
[32836,null,null,null,null,null,null,null,null,null,null,null,null,null,null,null,null,null,null,null,null,null,null,null,null,null,null,null,null,null,null,null,null,null,null,null,null,null,null,{"$f":"IFERROR(VLOOKUP(AM32838,Cod_DIVIPOLA!A:C,2,0),\"CODIGO INCORRECTO\")","v":"CODIGO INCORRECTO"}]
[32874,null,null,null,null,null,null,null,null,null,null,null,null,null,null,null,null,null,null,null,null,null,null,null,null,null,null,null,null,null,null,null,null,null,null,null,null,null,null,{"$f":"IFERROR(VLOOKUP(AM32876,Cod_DIVIPOLA!A:C,2,0),\"CODIGO INCORRECTO\")","v":"CODIGO INCORRECTO"}]
[32955,null,null,null,null,null,null,null,null,null,null,null,null,null,null,null,null,null,null,null,null,null,null,null,null,null,null,null,null,null,null,null,null,null,null,null,null,null,null,{"$f":"IFERROR(VLOOKUP(AM32957,Cod_DIVIPOLA!A:C,2,0),\"CODIGO INCORRECTO\")","v":"CODIGO INCORRECTO"}]
[32999,null,null,null,null,null,null,null,null,null,null,null,null,null,null,null,null,null,null,null,null,null,null,null,null,null,null,null,null,null,null,null,null,null,null,null,null,null,null,{"$f":"IFERROR(VLOOKUP(AM33001,Cod_DIVIPOLA!A:C,2,0),\"CODIGO INCORRECTO\")","v":"CODIGO INCORRECTO"}]
[33052,null,null,null,null,null,null,null,null,null,null,null,null,null,null,null,null,null,null,null,null,null,null,null,null,null,null,null,null,null,null,null,null,null,null,null,null,null,null,{"$f":"IFERROR(VLOOKUP(AM33054,Cod_DIVIPOLA!A:C,2,0),\"CODIGO INCORRECTO\")","v":"CODIGO INCORRECTO"}]
[33095,null,null,null,null,null,null,null,null,null,null,null,null,null,null,null,null,null,null,null,null,null,null,null,null,null,null,null,null,null,null,null,null,null,null,null,null,null,null,{"$f":"IFERROR(VLOOKUP(AM33097,Cod_DIVIPOLA!A:C,2,0),\"CODIGO INCORRECTO\")","v":"CODIGO INCORRECTO"}]
[33173,null,null,null,null,null,null,null,null,null,null,null,null,null,null,null,null,null,null,null,null,null,null,null,null,null,null,null,null,null,null,null,null,null,null,null,null,null,null,{"$f":"IFERROR(VLOOKUP(AM33175,Cod_DIVIPOLA!A:C,2,0),\"CODIGO INCORRECTO\")","v":"CODIGO INCORRECTO"}]
[33214,null,null,null,null,null,null,null,null,null,null,null,null,null,null,null,null,null,null,null,null,null,null,null,null,null,null,null,null,null,null,null,null,null,null,null,null,null,null,{"$f":"IFERROR(VLOOKUP(AM33216,Cod_DIVIPOLA!A:C,2,0),\"CODIGO INCORRECTO\")","v":"CODIGO INCORRECTO"}]
[33298,null,null,null,null,null,null,null,null,null,null,null,null,null,null,null,null,null,null,null,null,null,null,null,null,null,null,null,null,null,null,null,null,null,null,null,null,null,null,{"$f":"IFERROR(VLOOKUP(AM33300,Cod_DIVIPOLA!A:C,2,0),\"CODIGO INCORRECTO\")","v":"CODIGO INCORRECTO"}]
[33311,null,null,null,null,null,null,null,null,null,null,null,null,null,null,null,null,null,null,null,null,null,null,null,null,null,null,null,null,null,null,null,null,null,null,null,null,null,null,{"$f":"IFERROR(VLOOKUP(AM33313,Cod_DIVIPOLA!A:C,2,0),\"CODIGO INCORRECTO\")","v":"CODIGO INCORRECTO"}]
[33408,null,null,null,null,null,null,null,null,null,null,null,null,null,null,null,null,null,null,null,null,null,null,null,null,null,null,null,null,null,null,null,null,null,null,null,null,null,null,{"$f":"IFERROR(VLOOKUP(AM33410,Cod_DIVIPOLA!A:C,2,0),\"CODIGO INCORRECTO\")","v":"CODIGO INCORRECTO"}]
[33417,null,null,null,null,null,null,null,null,null,null,null,null,null,null,null,null,null,null,null,null,null,null,null,null,null,null,null,null,null,null,null,null,null,null,null,null,null,null,{"$f":"IFERROR(VLOOKUP(AM33419,Cod_DIVIPOLA!A:C,2,0),\"CODIGO INCORRECTO\")","v":"CODIGO INCORRECTO"}]
[33473,null,null,null,null,null,null,null,null,null,null,null,null,null,null,null,null,null,null,null,null,null,null,null,null,null,null,null,null,null,null,null,null,null,null,null,null,null,null,{"$f":"IFERROR(VLOOKUP(AM33475,Cod_DIVIPOLA!A:C,2,0),\"CODIGO INCORRECTO\")","v":"CODIGO INCORRECTO"}]
[33542,null,null,null,null,null,null,null,null,null,null,null,null,null,null,null,null,null,null,null,null,null,null,null,null,null,null,null,null,null,null,null,null,null,null,null,null,null,null,{"$f":"IFERROR(VLOOKUP(AM33544,Cod_DIVIPOLA!A:C,2,0),\"CODIGO INCORRECTO\")","v":"CODIGO INCORRECTO"}]
[33624,null,null,null,null,null,null,null,null,null,null,null,null,null,null,null,null,null,null,null,null,null,null,null,null,null,null,null,null,null,null,null,null,null,null,null,null,null,null,{"$f":"IFERROR(VLOOKUP(AM33626,Cod_DIVIPOLA!A:C,2,0),\"CODIGO INCORRECTO\")","v":"CODIGO INCORRECTO"}]
[33667,null,null,null,null,null,null,null,null,null,null,null,null,null,null,null,null,null,null,null,null,null,null,null,null,null,null,null,null,null,null,null,null,null,null,null,null,null,null,{"$f":"IFERROR(VLOOKUP(AM33669,Cod_DIVIPOLA!A:C,2,0),\"CODIGO INCORRECTO\")","v":"CODIGO INCORRECTO"}]
[33716,null,null,null,null,null,null,null,null,null,null,null,null,null,null,null,null,null,null,null,null,null,null,null,null,null,null,null,null,null,null,null,null,null,null,null,null,null,null,{"$f":"IFERROR(VLOOKUP(AM33718,Cod_DIVIPOLA!A:C,2,0),\"CODIGO INCORRECTO\")","v":"CODIGO INCORRECTO"}]
[33764,null,null,null,null,null,null,null,null,null,null,null,null,null,null,null,null,null,null,null,null,null,null,null,null,null,null,null,null,null,null,null,null,null,null,null,null,null,null,{"$f":"IFERROR(VLOOKUP(AM33766,Cod_DIVIPOLA!A:C,2,0),\"CODIGO INCORRECTO\")","v":"CODIGO INCORRECTO"}]
[33807,null,null,null,null,null,null,null,null,null,null,null,null,null,null,null,null,null,null,null,null,null,null,null,null,null,null,null,null,null,null,null,null,null,null,null,null,null,null,{"$f":"IFERROR(VLOOKUP(AM33809,Cod_DIVIPOLA!A:C,2,0),\"CODIGO INCORRECTO\")","v":"CODIGO INCORRECTO"}]
[33890,null,null,null,null,null,null,null,null,null,null,null,null,null,null,null,null,null,null,null,null,null,null,null,null,null,null,null,null,null,null,null,null,null,null,null,null,null,null,{"$f":"IFERROR(VLOOKUP(AM33892,Cod_DIVIPOLA!A:C,2,0),\"CODIGO INCORRECTO\")","v":"CODIGO INCORRECTO"}]
[33926,null,null,null,null,null,null,null,null,null,null,null,null,null,null,null,null,null,null,null,null,null,null,null,null,null,null,null,null,null,null,null,null,null,null,null,null,null,null,{"$f":"IFERROR(VLOOKUP(AM33928,Cod_DIVIPOLA!A:C,2,0),\"CODIGO INCORRECTO\")","v":"CODIGO INCORRECTO"}]
[33960,null,null,null,null,null,null,null,null,null,null,null,null,null,null,null,null,null,null,null,null,null,null,null,null,null,null,null,null,null,null,null,null,null,null,null,null,null,null,{"$f":"IFERROR(VLOOKUP(AM33962,Cod_DIVIPOLA!A:C,2,0),\"CODIGO INCORRECTO\")","v":"CODIGO INCORRECTO"}]
[34023,null,null,null,null,null,null,null,null,null,null,null,null,null,null,null,null,null,null,null,null,null,null,null,null,null,null,null,null,null,null,null,null,null,null,null,null,null,null,{"$f":"IFERROR(VLOOKUP(AM34025,Cod_DIVIPOLA!A:C,2,0),\"CODIGO INCORRECTO\")","v":"CODIGO INCORRECTO"}]
[34120,null,null,null,null,null,null,null,null,null,null,null,null,null,null,null,null,null,null,null,null,null,null,null,null,null,null,null,null,null,null,null,null,null,null,null,null,null,null,{"$f":"IFERROR(VLOOKUP(AM34122,Cod_DIVIPOLA!A:C,2,0),\"CODIGO INCORRECTO\")","v":"CODIGO INCORRECTO"}]
[34134,null,null,null,null,null,null,null,null,null,null,null,null,null,null,null,null,null,null,null,null,null,null,null,null,null,null,null,null,null,null,null,null,null,null,null,null,null,null,{"$f":"IFERROR(VLOOKUP(AM34136,Cod_DIVIPOLA!A:C,2,0),\"CODIGO INCORRECTO\")","v":"CODIGO INCORRECTO"}]
[34217,null,null,null,null,null,null,null,null,null,null,null,null,null,null,null,null,null,null,null,null,null,null,null,null,null,null,null,null,null,null,null,null,null,null,null,null,null,null,{"$f":"IFERROR(VLOOKUP(AM34219,Cod_DIVIPOLA!A:C,2,0),\"CODIGO INCORRECTO\")","v":"CODIGO INCORRECTO"}]
[34259,null,null,null,null,null,null,null,null,null,null,null,null,null,null,null,null,null,null,null,null,null,null,null,null,null,null,null,null,null,null,null,null,null,null,null,null,null,null,{"$f":"IFERROR(VLOOKUP(AM34261,Cod_DIVIPOLA!A:C,2,0),\"CODIGO INCORRECTO\")","v":"CODIGO INCORRECTO"}]
[34336,null,null,null,null,null,null,null,null,null,null,null,null,null,null,null,null,null,null,null,null,null,null,null,null,null,null,null,null,null,null,null,null,null,null,null,null,null,null,{"$f":"IFERROR(VLOOKUP(AM34338,Cod_DIVIPOLA!A:C,2,0),\"CODIGO INCORRECTO\")","v":"CODIGO INCORRECTO"}]
[34379,null,null,null,null,null,null,null,null,null,null,null,null,null,null,null,null,null,null,null,null,null,null,null,null,null,null,null,null,null,null,null,null,null,null,null,null,null,null,{"$f":"IFERROR(VLOOKUP(AM34381,Cod_DIVIPOLA!A:C,2,0),\"CODIGO INCORRECTO\")","v":"CODIGO INCORRECTO"}]
[34433,null,null,null,null,null,null,null,null,null,null,null,null,null,null,null,null,null,null,null,null,null,null,null,null,null,null,null,null,null,null,null,null,null,null,null,null,null,null,{"$f":"IFERROR(VLOOKUP(AM34435,Cod_DIVIPOLA!A:C,2,0),\"CODIGO INCORRECTO\")","v":"CODIGO INCORRECTO"}]
[34476,null,null,null,null,null,null,null,null,null,null,null,null,null,null,null,null,null,null,null,null,null,null,null,null,null,null,null,null,null,null,null,null,null,null,null,null,null,null,{"$f":"IFERROR(VLOOKUP(AM34478,Cod_DIVIPOLA!A:C,2,0),\"CODIGO INCORRECTO\")","v":"CODIGO INCORRECTO"}]
[34503,null,null,null,null,null,null,null,null,null,null,null,null,null,null,null,null,null,null,null,null,null,null,null,null,null,null,null,null,null,null,null,null,null,null,null,null,null,null,{"$f":"IFERROR(VLOOKUP(AM34505,Cod_DIVIPOLA!A:C,2,0),\"CODIGO INCORRECTO\")","v":"CODIGO INCORRECTO"}]
[34595,null,null,null,null,null,null,null,null,null,null,null,null,null,null,null,null,null,null,null,null,null,null,null,null,null,null,null,null,null,null,null,null,null,null,null,null,null,null,{"$f":"IFERROR(VLOOKUP(AM34597,Cod_DIVIPOLA!A:C,2,0),\"CODIGO INCORRECTO\")","v":"CODIGO INCORRECTO"}]
[34638,null,null,null,null,null,null,null,null,null,null,null,null,null,null,null,null,null,null,null,null,null,null,null,null,null,null,null,null,null,null,null,null,null,null,null,null,null,null,{"$f":"IFERROR(VLOOKUP(AM34640,Cod_DIVIPOLA!A:C,2,0),\"CODIGO INCORRECTO\")","v":"CODIGO INCORRECTO"}]
[34677,null,null,null,null,null,null,null,null,null,null,null,null,null,null,null,null,null,null,null,null,null,null,null,null,null,null,null,null,null,null,null,null,null,null,null,null,null,null,{"$f":"IFERROR(VLOOKUP(AM34679,Cod_DIVIPOLA!A:C,2,0),\"CODIGO INCORRECTO\")","v":"CODIGO INCORRECTO"}]
[34735,null,null,null,null,null,null,null,null,null,null,null,null,null,null,null,null,null,null,null,null,null,null,null,null,null,null,null,null,null,null,null,null,null,null,null,null,null,null,{"$f":"IFERROR(VLOOKUP(AM34737,Cod_DIVIPOLA!A:C,2,0),\"CODIGO INCORRECTO\")","v":"CODIGO INCORRECTO"}]
[34778,null,null,null,null,null,null,null,null,null,null,null,null,null,null,null,null,null,null,null,null,null,null,null,null,null,null,null,null,null,null,null,null,null,null,null,null,null,null,{"$f":"IFERROR(VLOOKUP(AM34780,Cod_DIVIPOLA!A:C,2,0),\"CODIGO INCORRECTO\")","v":"CODIGO INCORRECTO"}]
[34851,null,null,null,null,null,null,null,null,null,null,null,null,null,null,null,null,null,null,null,null,null,null,null,null,null,null,null,null,null,null,null,null,null,null,null,null,null,null,{"$f":"IFERROR(VLOOKUP(AM34853,Cod_DIVIPOLA!A:C,2,0),\"CODIGO INCORRECTO\")","v":"CODIGO INCORRECTO"}]
[34929,null,null,null,null,null,null,null,null,null,null,null,null,null,null,null,null,null,null,null,null,null,null,null,null,null,null,null,null,null,null,null,null,null,null,null,null,null,null,{"$f":"IFERROR(VLOOKUP(AM34931,Cod_DIVIPOLA!A:C,2,0),\"CODIGO INCORRECTO\")","v":"CODIGO INCORRECTO"}]
[34976,null,null,null,null,null,null,null,null,null,null,null,null,null,null,null,null,null,null,null,null,null,null,null,null,null,null,null,null,null,null,null,null,null,null,null,null,null,null,{"$f":"IFERROR(VLOOKUP(AM34978,Cod_DIVIPOLA!A:C,2,0),\"CODIGO INCORRECTO\")","v":"CODIGO INCORRECTO"}]
[34994,null,null,null,null,null,null,null,null,null,null,null,null,null,null,null,null,null,null,null,null,null,null,null,null,null,null,null,null,null,null,null,null,null,null,null,null,null,null,{"$f":"IFERROR(VLOOKUP(AM34996,Cod_DIVIPOLA!A:C,2,0),\"CODIGO INCORRECTO\")","v":"CODIGO INCORRECTO"}]
[35091,null,null,null,null,null,null,null,null,null,null,null,null,null,null,null,null,null,null,null,null,null,null,null,null,null,null,null,null,null,null,null,null,null,null,null,null,null,null,{"$f":"IFERROR(VLOOKUP(AM35093,Cod_DIVIPOLA!A:C,2,0),\"CODIGO INCORRECTO\")","v":"CODIGO INCORRECTO"}]
[35150,null,null,null,null,null,null,null,null,null,null,null,null,null,null,null,null,null,null,null,null,null,null,null,null,null,null,null,null,null,null,null,null,null,null,null,null,null,null,{"$f":"IFERROR(VLOOKUP(AM35152,Cod_DIVIPOLA!A:C,2,0),\"CODIGO INCORRECTO\")","v":"CODIGO INCORRECTO"}]
[35188,null,null,null,null,null,null,null,null,null,null,null,null,null,null,null,null,null,null,null,null,null,null,null,null,null,null,null,null,null,null,null,null,null,null,null,null,null,null,{"$f":"IFERROR(VLOOKUP(AM35190,Cod_DIVIPOLA!A:C,2,0),\"CODIGO INCORRECTO\")","v":"CODIGO INCORRECTO"}]
[35220,null,null,null,null,null,null,null,null,null,null,null,null,null,null,null,null,null,null,null,null,null,null,null,null,null,null,null,null,null,null,null,null,null,null,null,null,null,null,{"$f":"IFERROR(VLOOKUP(AM35222,Cod_DIVIPOLA!A:C,2,0),\"CODIGO INCORRECTO\")","v":"CODIGO INCORRECTO"}]
[35307,null,null,null,null,null,null,null,null,null,null,null,null,null,null,null,null,null,null,null,null,null,null,null,null,null,null,null,null,null,null,null,null,null,null,null,null,null,null,{"$f":"IFERROR(VLOOKUP(AM35309,Cod_DIVIPOLA!A:C,2,0),\"CODIGO INCORRECTO\")","v":"CODIGO INCORRECTO"}]
[35350,null,null,null,null,null,null,null,null,null,null,null,null,null,null,null,null,null,null,null,null,null,null,null,null,null,null,null,null,null,null,null,null,null,null,null,null,null,null,{"$f":"IFERROR(VLOOKUP(AM35352,Cod_DIVIPOLA!A:C,2,0),\"CODIGO INCORRECTO\")","v":"CODIGO INCORRECTO"}]
[35394,null,null,null,null,null,null,null,null,null,null,null,null,null,null,null,null,null,null,null,null,null,null,null,null,null,null,null,null,null,null,null,null,null,null,null,null,null,null,{"$f":"IFERROR(VLOOKUP(AM35396,Cod_DIVIPOLA!A:C,2,0),\"CODIGO INCORRECTO\")","v":"CODIGO INCORRECTO"}]
[35447,null,null,null,null,null,null,null,null,null,null,null,null,null,null,null,null,null,null,null,null,null,null,null,null,null,null,null,null,null,null,null,null,null,null,null,null,null,null,{"$f":"IFERROR(VLOOKUP(AM35449,Cod_DIVIPOLA!A:C,2,0),\"CODIGO INCORRECTO\")","v":"CODIGO INCORRECTO"}]
[35519,null,null,null,null,null,null,null,null,null,null,null,null,null,null,null,null,null,null,null,null,null,null,null,null,null,null,null,null,null,null,null,null,null,null,null,null,null,null,{"$f":"IFERROR(VLOOKUP(AM35521,Cod_DIVIPOLA!A:C,2,0),\"CODIGO INCORRECTO\")","v":"CODIGO INCORRECTO"}]
[35566,null,null,null,null,null,null,null,null,null,null,null,null,null,null,null,null,null,null,null,null,null,null,null,null,null,null,null,null,null,null,null,null,null,null,null,null,null,null,{"$f":"IFERROR(VLOOKUP(AM35568,Cod_DIVIPOLA!A:C,2,0),\"CODIGO INCORRECTO\")","v":"CODIGO INCORRECTO"}]
[35641,null,null,null,null,null,null,null,null,null,null,null,null,null,null,null,null,null,null,null,null,null,null,null,null,null,null,null,null,null,null,null,null,null,null,null,null,null,null,{"$f":"IFERROR(VLOOKUP(AM35643,Cod_DIVIPOLA!A:C,2,0),\"CODIGO INCORRECTO\")","v":"CODIGO INCORRECTO"}]
[35693,null,null,null,null,null,null,null,null,null,null,null,null,null,null,null,null,null,null,null,null,null,null,null,null,null,null,null,null,null,null,null,null,null,null,null,null,null,null,{"$f":"IFERROR(VLOOKUP(AM35695,Cod_DIVIPOLA!A:C,2,0),\"CODIGO INCORRECTO\")","v":"CODIGO INCORRECTO"}]
[35706,null,null,null,null,null,null,null,null,null,null,null,null,null,null,null,null,null,null,null,null,null,null,null,null,null,null,null,null,null,null,null,null,null,null,null,null,null,null,{"$f":"IFERROR(VLOOKUP(AM35708,Cod_DIVIPOLA!A:C,2,0),\"CODIGO INCORRECTO\")","v":"CODIGO INCORRECTO"}]
[35803,null,null,null,null,null,null,null,null,null,null,null,null,null,null,null,null,null,null,null,null,null,null,null,null,null,null,null,null,null,null,null,null,null,null,null,null,null,null,{"$f":"IFERROR(VLOOKUP(AM35805,Cod_DIVIPOLA!A:C,2,0),\"CODIGO INCORRECTO\")","v":"CODIGO INCORRECTO"}]
[35812,null,null,null,null,null,null,null,null,null,null,null,null,null,null,null,null,null,null,null,null,null,null,null,null,null,null,null,null,null,null,null,null,null,null,null,null,null,null,{"$f":"IFERROR(VLOOKUP(AM35814,Cod_DIVIPOLA!A:C,2,0),\"CODIGO INCORRECTO\")","v":"CODIGO INCORRECTO"}]
[35900,null,null,null,null,null,null,null,null,null,null,null,null,null,null,null,null,null,null,null,null,null,null,null,null,null,null,null,null,null,null,null,null,null,null,null,null,null,null,{"$f":"IFERROR(VLOOKUP(AM35902,Cod_DIVIPOLA!A:C,2,0),\"CODIGO INCORRECTO\")","v":"CODIGO INCORRECTO"}]
[35937,null,null,null,null,null,null,null,null,null,null,null,null,null,null,null,null,null,null,null,null,null,null,null,null,null,null,null,null,null,null,null,null,null,null,null,null,null,null,{"$f":"IFERROR(VLOOKUP(AM35939,Cod_DIVIPOLA!A:C,2,0),\"CODIGO INCORRECTO\")","v":"CODIGO INCORRECTO"}]
[36019,null,null,null,null,null,null,null,null,null,null,null,null,null,null,null,null,null,null,null,null,null,null,null,null,null,null,null,null,null,null,null,null,null,null,null,null,null,null,{"$f":"IFERROR(VLOOKUP(AM36021,Cod_DIVIPOLA!A:C,2,0),\"CODIGO INCORRECTO\")","v":"CODIGO INCORRECTO"}]
[36040,null,null,null,null,null,null,null,null,null,null,null,null,null,null,null,null,null,null,null,null,null,null,null,null,null,null,null,null,null,null,null,null,null,null,null,null,null,null,{"$f":"IFERROR(VLOOKUP(AM36042,Cod_DIVIPOLA!A:C,2,0),\"CODIGO INCORRECTO\")","v":"CODIGO INCORRECTO"}]
[36111,null,null,null,null,null,null,null,null,null,null,null,null,null,null,null,null,null,null,null,null,null,null,null,null,null,null,null,null,null,null,null,null,null,null,null,null,null,null,{"$f":"IFERROR(VLOOKUP(AM36113,Cod_DIVIPOLA!A:C,2,0),\"CODIGO INCORRECTO\")","v":"CODIGO INCORRECTO"}]
[36159,null,null,null,null,null,null,null,null,null,null,null,null,null,null,null,null,null,null,null,null,null,null,null,null,null,null,null,null,null,null,null,null,null,null,null,null,null,null,{"$f":"IFERROR(VLOOKUP(AM36161,Cod_DIVIPOLA!A:C,2,0),\"CODIGO INCORRECTO\")","v":"CODIGO INCORRECTO"}]
[36236,null,null,null,null,null,null,null,null,null,null,null,null,null,null,null,null,null,null,null,null,null,null,null,null,null,null,null,null,null,null,null,null,null,null,null,null,null,null,{"$f":"IFERROR(VLOOKUP(AM36238,Cod_DIVIPOLA!A:C,2,0),\"CODIGO INCORRECTO\")","v":"CODIGO INCORRECTO"}]
[36278,null,null,null,null,null,null,null,null,null,null,null,null,null,null,null,null,null,null,null,null,null,null,null,null,null,null,null,null,null,null,null,null,null,null,null,null,null,null,{"$f":"IFERROR(VLOOKUP(AM36280,Cod_DIVIPOLA!A:C,2,0),\"CODIGO INCORRECTO\")","v":"CODIGO INCORRECTO"}]
[36299,null,null,null,null,null,null,null,null,null,null,null,null,null,null,null,null,null,null,null,null,null,null,null,null,null,null,null,null,null,null,null,null,null,null,null,null,null,null,{"$f":"IFERROR(VLOOKUP(AM36301,Cod_DIVIPOLA!A:C,2,0),\"CODIGO INCORRECTO\")","v":"CODIGO INCORRECTO"}]
[36355,null,null,null,null,null,null,null,null,null,null,null,null,null,null,null,null,null,null,null,null,null,null,null,null,null,null,null,null,null,null,null,null,null,null,null,null,null,null,{"$f":"IFERROR(VLOOKUP(AM36357,Cod_DIVIPOLA!A:C,2,0),\"CODIGO INCORRECTO\")","v":"CODIGO INCORRECTO"}]
[36418,null,null,null,null,null,null,null,null,null,null,null,null,null,null,null,null,null,null,null,null,null,null,null,null,null,null,null,null,null,null,null,null,null,null,null,null,null,null,{"$f":"IFERROR(VLOOKUP(AM36420,Cod_DIVIPOLA!A:C,2,0),\"CODIGO INCORRECTO\")","v":"CODIGO INCORRECTO"}]
[36480,null,null,null,null,null,null,null,null,null,null,null,null,null,null,null,null,null,null,null,null,null,null,null,null,null,null,null,null,null,null,null,null,null,null,null,null,null,null,{"$f":"IFERROR(VLOOKUP(AM36482,Cod_DIVIPOLA!A:C,2,0),\"CODIGO INCORRECTO\")","v":"CODIGO INCORRECTO"}]
[36537,null,null,null,null,null,null,null,null,null,null,null,null,null,null,null,null,null,null,null,null,null,null,null,null,null,null,null,null,null,null,null,null,null,null,null,null,null,null,{"$f":"IFERROR(VLOOKUP(AM36539,Cod_DIVIPOLA!A:C,2,0),\"CODIGO INCORRECTO\")","v":"CODIGO INCORRECTO"}]
[36612,null,null,null,null,null,null,null,null,null,null,null,null,null,null,null,null,null,null,null,null,null,null,null,null,null,null,null,null,null,null,null,null,null,null,null,null,null,null,{"$f":"IFERROR(VLOOKUP(AM36614,Cod_DIVIPOLA!A:C,2,0),\"CODIGO INCORRECTO\")","v":"CODIGO INCORRECTO"}]
[36654,null,null,null,null,null,null,null,null,null,null,null,null,null,null,null,null,null,null,null,null,null,null,null,null,null,null,null,null,null,null,null,null,null,null,null,null,null,null,{"$f":"IFERROR(VLOOKUP(AM36656,Cod_DIVIPOLA!A:C,2,0),\"CODIGO INCORRECTO\")","v":"CODIGO INCORRECTO"}]
[36731,null,null,null,null,null,null,null,null,null,null,null,null,null,null,null,null,null,null,null,null,null,null,null,null,null,null,null,null,null,null,null,null,null,null,null,null,null,null,{"$f":"IFERROR(VLOOKUP(AM36733,Cod_DIVIPOLA!A:C,2,0),\"CODIGO INCORRECTO\")","v":"CODIGO INCORRECTO"}]
[36752,null,null,null,null,null,null,null,null,null,null,null,null,null,null,null,null,null,null,null,null,null,null,null,null,null,null,null,null,null,null,null,null,null,null,null,null,null,null,{"$f":"IFERROR(VLOOKUP(AM36754,Cod_DIVIPOLA!A:C,2,0),\"CODIGO INCORRECTO\")","v":"CODIGO INCORRECTO"}]
[36828,null,null,null,null,null,null,null,null,null,null,null,null,null,null,null,null,null,null,null,null,null,null,null,null,null,null,null,null,null,null,null,null,null,null,null,null,null,null,{"$f":"IFERROR(VLOOKUP(AM36830,Cod_DIVIPOLA!A:C,2,0),\"CODIGO INCORRECTO\")","v":"CODIGO INCORRECTO"}]
[36871,null,null,null,null,null,null,null,null,null,null,null,null,null,null,null,null,null,null,null,null,null,null,null,null,null,null,null,null,null,null,null,null,null,null,null,null,null,null,{"$f":"IFERROR(VLOOKUP(AM36873,Cod_DIVIPOLA!A:C,2,0),\"CODIGO INCORRECTO\")","v":"CODIGO INCORRECTO"}]
[36898,null,null,null,null,null,null,null,null,null,null,null,null,null,null,null,null,null,null,null,null,null,null,null,null,null,null,null,null,null,null,null,null,null,null,null,null,null,null,{"$f":"IFERROR(VLOOKUP(AM36900,Cod_DIVIPOLA!A:C,2,0),\"CODIGO INCORRECTO\")","v":"CODIGO INCORRECTO"}]
[36990,null,null,null,null,null,null,null,null,null,null,null,null,null,null,null,null,null,null,null,null,null,null,null,null,null,null,null,null,null,null,null,null,null,null,null,null,null,null,{"$f":"IFERROR(VLOOKUP(AM36992,Cod_DIVIPOLA!A:C,2,0),\"CODIGO INCORRECTO\")","v":"CODIGO INCORRECTO"}]
[37011,null,null,null,null,null,null,null,null,null,null,null,null,null,null,null,null,null,null,null,null,null,null,null,null,null,null,null,null,null,null,null,null,null,null,null,null,null,null,{"$f":"IFERROR(VLOOKUP(AM37013,Cod_DIVIPOLA!A:C,2,0),\"CODIGO INCORRECTO\")","v":"CODIGO INCORRECTO"}]
[37072,null,null,null,null,null,null,null,null,null,null,null,null,null,null,null,null,null,null,null,null,null,null,null,null,null,null,null,null,null,null,null,null,null,null,null,null,null,null,{"$f":"IFERROR(VLOOKUP(AM37074,Cod_DIVIPOLA!A:C,2,0),\"CODIGO INCORRECTO\")","v":"CODIGO INCORRECTO"}]
[37130,null,null,null,null,null,null,null,null,null,null,null,null,null,null,null,null,null,null,null,null,null,null,null,null,null,null,null,null,null,null,null,null,null,null,null,null,null,null,{"$f":"IFERROR(VLOOKUP(AM37132,Cod_DIVIPOLA!A:C,2,0),\"CODIGO INCORRECTO\")","v":"CODIGO INCORRECTO"}]
[37197,null,null,null,null,null,null,null,null,null,null,null,null,null,null,null,null,null,null,null,null,null,null,null,null,null,null,null,null,null,null,null,null,null,null,null,null,null,null,{"$f":"IFERROR(VLOOKUP(AM37199,Cod_DIVIPOLA!A:C,2,0),\"CODIGO INCORRECTO\")","v":"CODIGO INCORRECTO"}]
[37249,null,null,null,null,null,null,null,null,null,null,null,null,null,null,null,null,null,null,null,null,null,null,null,null,null,null,null,null,null,null,null,null,null,null,null,null,null,null,{"$f":"IFERROR(VLOOKUP(AM37251,Cod_DIVIPOLA!A:C,2,0),\"CODIGO INCORRECTO\")","v":"CODIGO INCORRECTO"}]
[37324,null,null,null,null,null,null,null,null,null,null,null,null,null,null,null,null,null,null,null,null,null,null,null,null,null,null,null,null,null,null,null,null,null,null,null,null,null,null,{"$f":"IFERROR(VLOOKUP(AM37326,Cod_DIVIPOLA!A:C,2,0),\"CODIGO INCORRECTO\")","v":"CODIGO INCORRECTO"}]
[37371,null,null,null,null,null,null,null,null,null,null,null,null,null,null,null,null,null,null,null,null,null,null,null,null,null,null,null,null,null,null,null,null,null,null,null,null,null,null,{"$f":"IFERROR(VLOOKUP(AM37373,Cod_DIVIPOLA!A:C,2,0),\"CODIGO INCORRECTO\")","v":"CODIGO INCORRECTO"}]
[37389,null,null,null,null,null,null,null,null,null,null,null,null,null,null,null,null,null,null,null,null,null,null,null,null,null,null,null,null,null,null,null,null,null,null,null,null,null,null,{"$f":"IFERROR(VLOOKUP(AM37391,Cod_DIVIPOLA!A:C,2,0),\"CODIGO INCORRECTO\")","v":"CODIGO INCORRECTO"}]
[37470,null,null,null,null,null,null,null,null,null,null,null,null,null,null,null,null,null,null,null,null,null,null,null,null,null,null,null,null,null,null,null,null,null,null,null,null,null,null,{"$f":"IFERROR(VLOOKUP(AM37472,Cod_DIVIPOLA!A:C,2,0),\"CODIGO INCORRECTO\")","v":"CODIGO INCORRECTO"}]
[37508,null,null,null,null,null,null,null,null,null,null,null,null,null,null,null,null,null,null,null,null,null,null,null,null,null,null,null,null,null,null,null,null,null,null,null,null,null,null,{"$f":"IFERROR(VLOOKUP(AM37510,Cod_DIVIPOLA!A:C,2,0),\"CODIGO INCORRECTO\")","v":"CODIGO INCORRECTO"}]
[37583,null,null,null,null,null,null,null,null,null,null,null,null,null,null,null,null,null,null,null,null,null,null,null,null,null,null,null,null,null,null,null,null,null,null,null,null,null,null,{"$f":"IFERROR(VLOOKUP(AM37585,Cod_DIVIPOLA!A:C,2,0),\"CODIGO INCORRECTO\")","v":"CODIGO INCORRECTO"}]
[37615,null,null,null,null,null,null,null,null,null,null,null,null,null,null,null,null,null,null,null,null,null,null,null,null,null,null,null,null,null,null,null,null,null,null,null,null,null,null,{"$f":"IFERROR(VLOOKUP(AM37617,Cod_DIVIPOLA!A:C,2,0),\"CODIGO INCORRECTO\")","v":"CODIGO INCORRECTO"}]
[37702,null,null,null,null,null,null,null,null,null,null,null,null,null,null,null,null,null,null,null,null,null,null,null,null,null,null,null,null,null,null,null,null,null,null,null,null,null,null,{"$f":"IFERROR(VLOOKUP(AM37704,Cod_DIVIPOLA!A:C,2,0),\"CODIGO INCORRECTO\")","v":"CODIGO INCORRECTO"}]
[37723,null,null,null,null,null,null,null,null,null,null,null,null,null,null,null,null,null,null,null,null,null,null,null,null,null,null,null,null,null,null,null,null,null,null,null,null,null,null,{"$f":"IFERROR(VLOOKUP(AM37725,Cod_DIVIPOLA!A:C,2,0),\"CODIGO INCORRECTO\")","v":"CODIGO INCORRECTO"}]
[37789,null,null,null,null,null,null,null,null,null,null,null,null,null,null,null,null,null,null,null,null,null,null,null,null,null,null,null,null,null,null,null,null,null,null,null,null,null,null,{"$f":"IFERROR(VLOOKUP(AM37791,Cod_DIVIPOLA!A:C,2,0),\"CODIGO INCORRECTO\")","v":"CODIGO INCORRECTO"}]
[37842,null,null,null,null,null,null,null,null,null,null,null,null,null,null,null,null,null,null,null,null,null,null,null,null,null,null,null,null,null,null,null,null,null,null,null,null,null,null,{"$f":"IFERROR(VLOOKUP(AM37844,Cod_DIVIPOLA!A:C,2,0),\"CODIGO INCORRECTO\")","v":"CODIGO INCORRECTO"}]
[37888,null,null,null,null,null,null,null,null,null,null,null,null,null,null,null,null,null,null,null,null,null,null,null,null,null,null,null,null,null,null,null,null,null,null,null,null,null,null,{"$f":"IFERROR(VLOOKUP(AM37890,Cod_DIVIPOLA!A:C,2,0),\"CODIGO INCORRECTO\")","v":"CODIGO INCORRECTO"}]
[37961,null,null,null,null,null,null,null,null,null,null,null,null,null,null,null,null,null,null,null,null,null,null,null,null,null,null,null,null,null,null,null,null,null,null,null,null,null,null,{"$f":"IFERROR(VLOOKUP(AM37963,Cod_DIVIPOLA!A:C,2,0),\"CODIGO INCORRECTO\")","v":"CODIGO INCORRECTO"}]
[38036,null,null,null,null,null,null,null,null,null,null,null,null,null,null,null,null,null,null,null,null,null,null,null,null,null,null,null,null,null,null,null,null,null,null,null,null,null,null,{"$f":"IFERROR(VLOOKUP(AM38038,Cod_DIVIPOLA!A:C,2,0),\"CODIGO INCORRECTO\")","v":"CODIGO INCORRECTO"}]
[38088,null,null,null,null,null,null,null,null,null,null,null,null,null,null,null,null,null,null,null,null,null,null,null,null,null,null,null,null,null,null,null,null,null,null,null,null,null,null,{"$f":"IFERROR(VLOOKUP(AM38090,Cod_DIVIPOLA!A:C,2,0),\"CODIGO INCORRECTO\")","v":"CODIGO INCORRECTO"}]
[38101,null,null,null,null,null,null,null,null,null,null,null,null,null,null,null,null,null,null,null,null,null,null,null,null,null,null,null,null,null,null,null,null,null,null,null,null,null,null,{"$f":"IFERROR(VLOOKUP(AM38103,Cod_DIVIPOLA!A:C,2,0),\"CODIGO INCORRECTO\")","v":"CODIGO INCORRECTO"}]
[38187,null,null,null,null,null,null,null,null,null,null,null,null,null,null,null,null,null,null,null,null,null,null,null,null,null,null,null,null,null,null,null,null,null,null,null,null,null,null,{"$f":"IFERROR(VLOOKUP(AM38189,Cod_DIVIPOLA!A:C,2,0),\"CODIGO INCORRECTO\")","v":"CODIGO INCORRECTO"}]
[38220,null,null,null,null,null,null,null,null,null,null,null,null,null,null,null,null,null,null,null,null,null,null,null,null,null,null,null,null,null,null,null,null,null,null,null,null,null,null,{"$f":"IFERROR(VLOOKUP(AM38222,Cod_DIVIPOLA!A:C,2,0),\"CODIGO INCORRECTO\")","v":"CODIGO INCORRECTO"}]
[38295,null,null,null,null,null,null,null,null,null,null,null,null,null,null,null,null,null,null,null,null,null,null,null,null,null,null,null,null,null,null,null,null,null,null,null,null,null,null,{"$f":"IFERROR(VLOOKUP(AM38297,Cod_DIVIPOLA!A:C,2,0),\"CODIGO INCORRECTO\")","v":"CODIGO INCORRECTO"}]
[38332,null,null,null,null,null,null,null,null,null,null,null,null,null,null,null,null,null,null,null,null,null,null,null,null,null,null,null,null,null,null,null,null,null,null,null,null,null,null,{"$f":"IFERROR(VLOOKUP(AM38334,Cod_DIVIPOLA!A:C,2,0),\"CODIGO INCORRECTO\")","v":"CODIGO INCORRECTO"}]
[38414,null,null,null,null,null,null,null,null,null,null,null,null,null,null,null,null,null,null,null,null,null,null,null,null,null,null,null,null,null,null,null,null,null,null,null,null,null,null,{"$f":"IFERROR(VLOOKUP(AM38416,Cod_DIVIPOLA!A:C,2,0),\"CODIGO INCORRECTO\")","v":"CODIGO INCORRECTO"}]
[38431,null,null,null,null,null,null,null,null,null,null,null,null,null,null,null,null,null,null,null,null,null,null,null,null,null,null,null,null,null,null,null,null,null,null,null,null,null,null,{"$f":"IFERROR(VLOOKUP(AM38433,Cod_DIVIPOLA!A:C,2,0),\"CODIGO INCORRECTO\")","v":"CODIGO INCORRECTO"}]
[38479,null,null,null,null,null,null,null,null,null,null,null,null,null,null,null,null,null,null,null,null,null,null,null,null,null,null,null,null,null,null,null,null,null,null,null,null,null,null,{"$f":"IFERROR(VLOOKUP(AM38481,Cod_DIVIPOLA!A:C,2,0),\"CODIGO INCORRECTO\")","v":"CODIGO INCORRECTO"}]
[38554,null,null,null,null,null,null,null,null,null,null,null,null,null,null,null,null,null,null,null,null,null,null,null,null,null,null,null,null,null,null,null,null,null,null,null,null,null,null,{"$f":"IFERROR(VLOOKUP(AM38556,Cod_DIVIPOLA!A:C,2,0),\"CODIGO INCORRECTO\")","v":"CODIGO INCORRECTO"}]
[38605,null,null,null,null,null,null,null,null,null,null,null,null,null,null,null,null,null,null,null,null,null,null,null,null,null,null,null,null,null,null,null,null,null,null,null,null,null,null,{"$f":"IFERROR(VLOOKUP(AM38607,Cod_DIVIPOLA!A:C,2,0),\"CODIGO INCORRECTO\")","v":"CODIGO INCORRECTO"}]
[38673,null,null,null,null,null,null,null,null,null,null,null,null,null,null,null,null,null,null,null,null,null,null,null,null,null,null,null,null,null,null,null,null,null,null,null,null,null,null,{"$f":"IFERROR(VLOOKUP(AM38675,Cod_DIVIPOLA!A:C,2,0),\"CODIGO INCORRECTO\")","v":"CODIGO INCORRECTO"}]
[38694,null,null,null,null,null,null,null,null,null,null,null,null,null,null,null,null,null,null,null,null,null,null,null,null,null,null,null,null,null,null,null,null,null,null,null,null,null,null,{"$f":"IFERROR(VLOOKUP(AM38696,Cod_DIVIPOLA!A:C,2,0),\"CODIGO INCORRECTO\")","v":"CODIGO INCORRECTO"}]
[38750,null,null,null,null,null,null,null,null,null,null,null,null,null,null,null,null,null,null,null,null,null,null,null,null,null,null,null,null,null,null,null,null,null,null,null,null,null,null,{"$f":"IFERROR(VLOOKUP(AM38752,Cod_DIVIPOLA!A:C,2,0),\"CODIGO INCORRECTO\")","v":"CODIGO INCORRECTO"}]
[38813,null,null,null,null,null,null,null,null,null,null,null,null,null,null,null,null,null,null,null,null,null,null,null,null,null,null,null,null,null,null,null,null,null,null,null,null,null,null,{"$f":"IFERROR(VLOOKUP(AM38815,Cod_DIVIPOLA!A:C,2,0),\"CODIGO INCORRECTO\")","v":"CODIGO INCORRECTO"}]
[38904,null,null,null,null,null,null,null,null,null,null,null,null,null,null,null,null,null,null,null,null,null,null,null,null,null,null,null,null,null,null,null,null,null,null,null,null,null,null,{"$f":"IFERROR(VLOOKUP(AM38906,Cod_DIVIPOLA!A:C,2,0),\"CODIGO INCORRECTO\")","v":"CODIGO INCORRECTO"}]
[38932,null,null,null,null,null,null,null,null,null,null,null,null,null,null,null,null,null,null,null,null,null,null,null,null,null,null,null,null,null,null,null,null,null,null,null,null,null,null,{"$f":"IFERROR(VLOOKUP(AM38934,Cod_DIVIPOLA!A:C,2,0),\"CODIGO INCORRECTO\")","v":"CODIGO INCORRECTO"}]
[39007,null,null,null,null,null,null,null,null,null,null,null,null,null,null,null,null,null,null,null,null,null,null,null,null,null,null,null,null,null,null,null,null,null,null,null,null,null,null,{"$f":"IFERROR(VLOOKUP(AM39009,Cod_DIVIPOLA!A:C,2,0),\"CODIGO INCORRECTO\")","v":"CODIGO INCORRECTO"}]
[39023,null,null,null,null,null,null,null,null,null,null,null,null,null,null,null,null,null,null,null,null,null,null,null,null,null,null,null,null,null,null,null,null,null,null,null,null,null,null,{"$f":"IFERROR(VLOOKUP(AM39025,Cod_DIVIPOLA!A:C,2,0),\"CODIGO INCORRECTO\")","v":"CODIGO INCORRECTO"}]
[39072,null,null,null,null,null,null,null,null,null,null,null,null,null,null,null,null,null,null,null,null,null,null,null,null,null,null,null,null,null,null,null,null,null,null,null,null,null,null,{"$f":"IFERROR(VLOOKUP(AM39074,Cod_DIVIPOLA!A:C,2,0),\"CODIGO INCORRECTO\")","v":"CODIGO INCORRECTO"}]
[39148,null,null,null,null,null,null,null,null,null,null,null,null,null,null,null,null,null,null,null,null,null,null,null,null,null,null,null,null,null,null,null,null,null,null,null,null,null,null,{"$f":"IFERROR(VLOOKUP(AM39150,Cod_DIVIPOLA!A:C,2,0),\"CODIGO INCORRECTO\")","v":"CODIGO INCORRECTO"}]
[39191,null,null,null,null,null,null,null,null,null,null,null,null,null,null,null,null,null,null,null,null,null,null,null,null,null,null,null,null,null,null,null,null,null,null,null,null,null,null,{"$f":"IFERROR(VLOOKUP(AM39193,Cod_DIVIPOLA!A:C,2,0),\"CODIGO INCORRECTO\")","v":"CODIGO INCORRECTO"}]
[39266,null,null,null,null,null,null,null,null,null,null,null,null,null,null,null,null,null,null,null,null,null,null,null,null,null,null,null,null,null,null,null,null,null,null,null,null,null,null,{"$f":"IFERROR(VLOOKUP(AM39268,Cod_DIVIPOLA!A:C,2,0),\"CODIGO INCORRECTO\")","v":"CODIGO INCORRECTO"}]
[39322,null,null,null,null,null,null,null,null,null,null,null,null,null,null,null,null,null,null,null,null,null,null,null,null,null,null,null,null,null,null,null,null,null,null,null,null,null,null,{"$f":"IFERROR(VLOOKUP(AM39324,Cod_DIVIPOLA!A:C,2,0),\"CODIGO INCORRECTO\")","v":"CODIGO INCORRECTO"}]
[39385,null,null,null,null,null,null,null,null,null,null,null,null,null,null,null,null,null,null,null,null,null,null,null,null,null,null,null,null,null,null,null,null,null,null,null,null,null,null,{"$f":"IFERROR(VLOOKUP(AM39387,Cod_DIVIPOLA!A:C,2,0),\"CODIGO INCORRECTO\")","v":"CODIGO INCORRECTO"}]
[39447,null,null,null,null,null,null,null,null,null,null,null,null,null,null,null,null,null,null,null,null,null,null,null,null,null,null,null,null,null,null,null,null,null,null,null,null,null,null,{"$f":"IFERROR(VLOOKUP(AM39449,Cod_DIVIPOLA!A:C,2,0),\"CODIGO INCORRECTO\")","v":"CODIGO INCORRECTO"}]
[39504,null,null,null,null,null,null,null,null,null,null,null,null,null,null,null,null,null,null,null,null,null,null,null,null,null,null,null,null,null,null,null,null,null,null,null,null,null,null,{"$f":"IFERROR(VLOOKUP(AM39506,Cod_DIVIPOLA!A:C,2,0),\"CODIGO INCORRECTO\")","v":"CODIGO INCORRECTO"}]
[39525,null,null,null,null,null,null,null,null,null,null,null,null,null,null,null,null,null,null,null,null,null,null,null,null,null,null,null,null,null,null,null,null,null,null,null,null,null,null,{"$f":"IFERROR(VLOOKUP(AM39527,Cod_DIVIPOLA!A:C,2,0),\"CODIGO INCORRECTO\")","v":"CODIGO INCORRECTO"}]
[39566,null,null,null,null,null,null,null,null,null,null,null,null,null,null,null,null,null,null,null,null,null,null,null,null,null,null,null,null,null,null,null,null,null,null,null,null,null,null,{"$f":"IFERROR(VLOOKUP(AM39568,Cod_DIVIPOLA!A:C,2,0),\"CODIGO INCORRECTO\")","v":"CODIGO INCORRECTO"}]
[39644,null,null,null,null,null,null,null,null,null,null,null,null,null,null,null,null,null,null,null,null,null,null,null,null,null,null,null,null,null,null,null,null,null,null,null,null,null,null,{"$f":"IFERROR(VLOOKUP(AM39646,Cod_DIVIPOLA!A:C,2,0),\"CODIGO INCORRECTO\")","v":"CODIGO INCORRECTO"}]
[39719,null,null,null,null,null,null,null,null,null,null,null,null,null,null,null,null,null,null,null,null,null,null,null,null,null,null,null,null,null,null,null,null,null,null,null,null,null,null,{"$f":"IFERROR(VLOOKUP(AM39721,Cod_DIVIPOLA!A:C,2,0),\"CODIGO INCORRECTO\")","v":"CODIGO INCORRECTO"}]
[39740,null,null,null,null,null,null,null,null,null,null,null,null,null,null,null,null,null,null,null,null,null,null,null,null,null,null,null,null,null,null,null,null,null,null,null,null,null,null,{"$f":"IFERROR(VLOOKUP(AM39742,Cod_DIVIPOLA!A:C,2,0),\"CODIGO INCORRECTO\")","v":"CODIGO INCORRECTO"}]
[39784,null,null,null,null,null,null,null,null,null,null,null,null,null,null,null,null,null,null,null,null,null,null,null,null,null,null,null,null,null,null,null,null,null,null,null,null,null,null,{"$f":"IFERROR(VLOOKUP(AM39786,Cod_DIVIPOLA!A:C,2,0),\"CODIGO INCORRECTO\")","v":"CODIGO INCORRECTO"}]
[39865,null,null,null,null,null,null,null,null,null,null,null,null,null,null,null,null,null,null,null,null,null,null,null,null,null,null,null,null,null,null,null,null,null,null,null,null,null,null,{"$f":"IFERROR(VLOOKUP(AM39867,Cod_DIVIPOLA!A:C,2,0),\"CODIGO INCORRECTO\")","v":"CODIGO INCORRECTO"}]
[39903,null,null,null,null,null,null,null,null,null,null,null,null,null,null,null,null,null,null,null,null,null,null,null,null,null,null,null,null,null,null,null,null,null,null,null,null,null,null,{"$f":"IFERROR(VLOOKUP(AM39905,Cod_DIVIPOLA!A:C,2,0),\"CODIGO INCORRECTO\")","v":"CODIGO INCORRECTO"}]
[39978,null,null,null,null,null,null,null,null,null,null,null,null,null,null,null,null,null,null,null,null,null,null,null,null,null,null,null,null,null,null,null,null,null,null,null,null,null,null,{"$f":"IFERROR(VLOOKUP(AM39980,Cod_DIVIPOLA!A:C,2,0),\"CODIGO INCORRECTO\")","v":"CODIGO INCORRECTO"}]
[40039,null,null,null,null,null,null,null,null,null,null,null,null,null,null,null,null,null,null,null,null,null,null,null,null,null,null,null,null,null,null,null,null,null,null,null,null,null,null,{"$f":"IFERROR(VLOOKUP(AM40041,Cod_DIVIPOLA!A:C,2,0),\"CODIGO INCORRECTO\")","v":"CODIGO INCORRECTO"}]
[40097,null,null,null,null,null,null,null,null,null,null,null,null,null,null,null,null,null,null,null,null,null,null,null,null,null,null,null,null,null,null,null,null,null,null,null,null,null,null,{"$f":"IFERROR(VLOOKUP(AM40099,Cod_DIVIPOLA!A:C,2,0),\"CODIGO INCORRECTO\")","v":"CODIGO INCORRECTO"}]
[40109,null,null,null,null,null,null,null,null,null,null,null,null,null,null,null,null,null,null,null,null,null,null,null,null,null,null,null,null,null,null,null,null,null,null,null,null,null,null,{"$f":"IFERROR(VLOOKUP(AM40111,Cod_DIVIPOLA!A:C,2,0),\"CODIGO INCORRECTO\")","v":"CODIGO INCORRECTO"}]
[40162,null,null,null,null,null,null,null,null,null,null,null,null,null,null,null,null,null,null,null,null,null,null,null,null,null,null,null,null,null,null,null,null,null,null,null,null,null,null,{"$f":"IFERROR(VLOOKUP(AM40164,Cod_DIVIPOLA!A:C,2,0),\"CODIGO INCORRECTO\")","v":"CODIGO INCORRECTO"}]
[40237,null,null,null,null,null,null,null,null,null,null,null,null,null,null,null,null,null,null,null,null,null,null,null,null,null,null,null,null,null,null,null,null,null,null,null,null,null,null,{"$f":"IFERROR(VLOOKUP(AM40239,Cod_DIVIPOLA!A:C,2,0),\"CODIGO INCORRECTO\")","v":"CODIGO INCORRECTO"}]
[40283,null,null,null,null,null,null,null,null,null,null,null,null,null,null,null,null,null,null,null,null,null,null,null,null,null,null,null,null,null,null,null,null,null,null,null,null,null,null,{"$f":"IFERROR(VLOOKUP(AM40285,Cod_DIVIPOLA!A:C,2,0),\"CODIGO INCORRECTO\")","v":"CODIGO INCORRECTO"}]
[40356,null,null,null,null,null,null,null,null,null,null,null,null,null,null,null,null,null,null,null,null,null,null,null,null,null,null,null,null,null,null,null,null,null,null,null,null,null,null,{"$f":"IFERROR(VLOOKUP(AM40358,Cod_DIVIPOLA!A:C,2,0),\"CODIGO INCORRECTO\")","v":"CODIGO INCORRECTO"}]
[40408,null,null,null,null,null,null,null,null,null,null,null,null,null,null,null,null,null,null,null,null,null,null,null,null,null,null,null,null,null,null,null,null,null,null,null,null,null,null,{"$f":"IFERROR(VLOOKUP(AM40410,Cod_DIVIPOLA!A:C,2,0),\"CODIGO INCORRECTO\")","v":"CODIGO INCORRECTO"}]
[40453,null,null,null,null,null,null,null,null,null,null,null,null,null,null,null,null,null,null,null,null,null,null,null,null,null,null,null,null,null,null,null,null,null,null,null,null,null,null,{"$f":"IFERROR(VLOOKUP(AM40455,Cod_DIVIPOLA!A:C,2,0),\"CODIGO INCORRECTO\")","v":"CODIGO INCORRECTO"}]
[40496,null,null,null,null,null,null,null,null,null,null,null,null,null,null,null,null,null,null,null,null,null,null,null,null,null,null,null,null,null,null,null,null,null,null,null,null,null,null,{"$f":"IFERROR(VLOOKUP(AM40498,Cod_DIVIPOLA!A:C,2,0),\"CODIGO INCORRECTO\")","v":"CODIGO INCORRECTO"}]
[40582,null,null,null,null,null,null,null,null,null,null,null,null,null,null,null,null,null,null,null,null,null,null,null,null,null,null,null,null,null,null,null,null,null,null,null,null,null,null,{"$f":"IFERROR(VLOOKUP(AM40584,Cod_DIVIPOLA!A:C,2,0),\"CODIGO INCORRECTO\")","v":"CODIGO INCORRECTO"}]
[40615,null,null,null,null,null,null,null,null,null,null,null,null,null,null,null,null,null,null,null,null,null,null,null,null,null,null,null,null,null,null,null,null,null,null,null,null,null,null,{"$f":"IFERROR(VLOOKUP(AM40617,Cod_DIVIPOLA!A:C,2,0),\"CODIGO INCORRECTO\")","v":"CODIGO INCORRECTO"}]
[40690,null,null,null,null,null,null,null,null,null,null,null,null,null,null,null,null,null,null,null,null,null,null,null,null,null,null,null,null,null,null,null,null,null,null,null,null,null,null,{"$f":"IFERROR(VLOOKUP(AM40692,Cod_DIVIPOLA!A:C,2,0),\"CODIGO INCORRECTO\")","v":"CODIGO INCORRECTO"}]
[40756,null,null,null,null,null,null,null,null,null,null,null,null,null,null,null,null,null,null,null,null,null,null,null,null,null,null,null,null,null,null,null,null,null,null,null,null,null,null,{"$f":"IFERROR(VLOOKUP(AM40758,Cod_DIVIPOLA!A:C,2,0),\"CODIGO INCORRECTO\")","v":"CODIGO INCORRECTO"}]
[40809,null,null,null,null,null,null,null,null,null,null,null,null,null,null,null,null,null,null,null,null,null,null,null,null,null,null,null,null,null,null,null,null,null,null,null,null,null,null,{"$f":"IFERROR(VLOOKUP(AM40811,Cod_DIVIPOLA!A:C,2,0),\"CODIGO INCORRECTO\")","v":"CODIGO INCORRECTO"}]
[40826,null,null,null,null,null,null,null,null,null,null,null,null,null,null,null,null,null,null,null,null,null,null,null,null,null,null,null,null,null,null,null,null,null,null,null,null,null,null,{"$f":"IFERROR(VLOOKUP(AM40828,Cod_DIVIPOLA!A:C,2,0),\"CODIGO INCORRECTO\")","v":"CODIGO INCORRECTO"}]
[40906,null,null,null,null,null,null,null,null,null,null,null,null,null,null,null,null,null,null,null,null,null,null,null,null,null,null,null,null,null,null,null,null,null,null,null,null,null,null,{"$f":"IFERROR(VLOOKUP(AM40908,Cod_DIVIPOLA!A:C,2,0),\"CODIGO INCORRECTO\")","v":"CODIGO INCORRECTO"}]
[40949,null,null,null,null,null,null,null,null,null,null,null,null,null,null,null,null,null,null,null,null,null,null,null,null,null,null,null,null,null,null,null,null,null,null,null,null,null,null,{"$f":"IFERROR(VLOOKUP(AM40951,Cod_DIVIPOLA!A:C,2,0),\"CODIGO INCORRECTO\")","v":"CODIGO INCORRECTO"}]
[41000,null,null,null,null,null,null,null,null,null,null,null,null,null,null,null,null,null,null,null,null,null,null,null,null,null,null,null,null,null,null,null,null,null,null,null,null,null,null,{"$f":"IFERROR(VLOOKUP(AM41002,Cod_DIVIPOLA!A:C,2,0),\"CODIGO INCORRECTO\")","v":"CODIGO INCORRECTO"}]
[41068,null,null,null,null,null,null,null,null,null,null,null,null,null,null,null,null,null,null,null,null,null,null,null,null,null,null,null,null,null,null,null,null,null,null,null,null,null,null,{"$f":"IFERROR(VLOOKUP(AM41070,Cod_DIVIPOLA!A:C,2,0),\"CODIGO INCORRECTO\")","v":"CODIGO INCORRECTO"}]
[41125,null,null,null,null,null,null,null,null,null,null,null,null,null,null,null,null,null,null,null,null,null,null,null,null,null,null,null,null,null,null,null,null,null,null,null,null,null,null,{"$f":"IFERROR(VLOOKUP(AM41127,Cod_DIVIPOLA!A:C,2,0),\"CODIGO INCORRECTO\")","v":"CODIGO INCORRECTO"}]
[41165,null,null,null,null,null,null,null,null,null,null,null,null,null,null,null,null,null,null,null,null,null,null,null,null,null,null,null,null,null,null,null,null,null,null,null,null,null,null,{"$f":"IFERROR(VLOOKUP(AM41167,Cod_DIVIPOLA!A:C,2,0),\"CODIGO INCORRECTO\")","v":"CODIGO INCORRECTO"}]
[41208,null,null,null,null,null,null,null,null,null,null,null,null,null,null,null,null,null,null,null,null,null,null,null,null,null,null,null,null,null,null,null,null,null,null,null,null,null,null,{"$f":"IFERROR(VLOOKUP(AM41210,Cod_DIVIPOLA!A:C,2,0),\"CODIGO INCORRECTO\")","v":"CODIGO INCORRECTO"}]
[41299,null,null,null,null,null,null,null,null,null,null,null,null,null,null,null,null,null,null,null,null,null,null,null,null,null,null,null,null,null,null,null,null,null,null,null,null,null,null,{"$f":"IFERROR(VLOOKUP(AM41301,Cod_DIVIPOLA!A:C,2,0),\"CODIGO INCORRECTO\")","v":"CODIGO INCORRECTO"}]
[41327,null,null,null,null,null,null,null,null,null,null,null,null,null,null,null,null,null,null,null,null,null,null,null,null,null,null,null,null,null,null,null,null,null,null,null,null,null,null,{"$f":"IFERROR(VLOOKUP(AM41329,Cod_DIVIPOLA!A:C,2,0),\"CODIGO INCORRECTO\")","v":"CODIGO INCORRECTO"}]
[41369,null,null,null,null,null,null,null,null,null,null,null,null,null,null,null,null,null,null,null,null,null,null,null,null,null,null,null,null,null,null,null,null,null,null,null,null,null,null,{"$f":"IFERROR(VLOOKUP(AM41371,Cod_DIVIPOLA!A:C,2,0),\"CODIGO INCORRECTO\")","v":"CODIGO INCORRECTO"}]
[41424,null,null,null,null,null,null,null,null,null,null,null,null,null,null,null,null,null,null,null,null,null,null,null,null,null,null,null,null,null,null,null,null,null,null,null,null,null,null,{"$f":"IFERROR(VLOOKUP(AM41426,Cod_DIVIPOLA!A:C,2,0),\"CODIGO INCORRECTO\")","v":"CODIGO INCORRECTO"}]
[41467,null,null,null,null,null,null,null,null,null,null,null,null,null,null,null,null,null,null,null,null,null,null,null,null,null,null,null,null,null,null,null,null,null,null,null,null,null,null,{"$f":"IFERROR(VLOOKUP(AM41469,Cod_DIVIPOLA!A:C,2,0),\"CODIGO INCORRECTO\")","v":"CODIGO INCORRECTO"}]
[41543,null,null,null,null,null,null,null,null,null,null,null,null,null,null,null,null,null,null,null,null,null,null,null,null,null,null,null,null,null,null,null,null,null,null,null,null,null,null,{"$f":"IFERROR(VLOOKUP(AM41545,Cod_DIVIPOLA!A:C,2,0),\"CODIGO INCORRECTO\")","v":"CODIGO INCORRECTO"}]
[41618,null,null,null,null,null,null,null,null,null,null,null,null,null,null,null,null,null,null,null,null,null,null,null,null,null,null,null,null,null,null,null,null,null,null,null,null,null,null,{"$f":"IFERROR(VLOOKUP(AM41620,Cod_DIVIPOLA!A:C,2,0),\"CODIGO INCORRECTO\")","v":"CODIGO INCORRECTO"}]
[41661,null,null,null,null,null,null,null,null,null,null,null,null,null,null,null,null,null,null,null,null,null,null,null,null,null,null,null,null,null,null,null,null,null,null,null,null,null,null,{"$f":"IFERROR(VLOOKUP(AM41663,Cod_DIVIPOLA!A:C,2,0),\"CODIGO INCORRECTO\")","v":"CODIGO INCORRECTO"}]
[41717,null,null,null,null,null,null,null,null,null,null,null,null,null,null,null,null,null,null,null,null,null,null,null,null,null,null,null,null,null,null,null,null,null,null,null,null,null,null,{"$f":"IFERROR(VLOOKUP(AM41719,Cod_DIVIPOLA!A:C,2,0),\"CODIGO INCORRECTO\")","v":"CODIGO INCORRECTO"}]
[41780,null,null,null,null,null,null,null,null,null,null,null,null,null,null,null,null,null,null,null,null,null,null,null,null,null,null,null,null,null,null,null,null,null,null,null,null,null,null,{"$f":"IFERROR(VLOOKUP(AM41782,Cod_DIVIPOLA!A:C,2,0),\"CODIGO INCORRECTO\")","v":"CODIGO INCORRECTO"}]
[41842,null,null,null,null,null,null,null,null,null,null,null,null,null,null,null,null,null,null,null,null,null,null,null,null,null,null,null,null,null,null,null,null,null,null,null,null,null,null,{"$f":"IFERROR(VLOOKUP(AM41844,Cod_DIVIPOLA!A:C,2,0),\"CODIGO INCORRECTO\")","v":"CODIGO INCORRECTO"}]
[41877,null,null,null,null,null,null,null,null,null,null,null,null,null,null,null,null,null,null,null,null,null,null,null,null,null,null,null,null,null,null,null,null,null,null,null,null,null,null,{"$f":"IFERROR(VLOOKUP(AM41879,Cod_DIVIPOLA!A:C,2,0),\"CODIGO INCORRECTO\")","v":"CODIGO INCORRECTO"}]
[41920,null,null,null,null,null,null,null,null,null,null,null,null,null,null,null,null,null,null,null,null,null,null,null,null,null,null,null,null,null,null,null,null,null,null,null,null,null,null,{"$f":"IFERROR(VLOOKUP(AM41922,Cod_DIVIPOLA!A:C,2,0),\"CODIGO INCORRECTO\")","v":"CODIGO INCORRECTO"}]
[41961,null,null,null,null,null,null,null,null,null,null,null,null,null,null,null,null,null,null,null,null,null,null,null,null,null,null,null,null,null,null,null,null,null,null,null,null,null,null,{"$f":"IFERROR(VLOOKUP(AM41963,Cod_DIVIPOLA!A:C,2,0),\"CODIGO INCORRECTO\")","v":"CODIGO INCORRECTO"}]
[42039,null,null,null,null,null,null,null,null,null,null,null,null,null,null,null,null,null,null,null,null,null,null,null,null,null,null,null,null,null,null,null,null,null,null,null,null,null,null,{"$f":"IFERROR(VLOOKUP(AM42041,Cod_DIVIPOLA!A:C,2,0),\"CODIGO INCORRECTO\")","v":"CODIGO INCORRECTO"}]
[42086,null,null,null,null,null,null,null,null,null,null,null,null,null,null,null,null,null,null,null,null,null,null,null,null,null,null,null,null,null,null,null,null,null,null,null,null,null,null,{"$f":"IFERROR(VLOOKUP(AM42088,Cod_DIVIPOLA!A:C,2,0),\"CODIGO INCORRECTO\")","v":"CODIGO INCORRECTO"}]
[42136,null,null,null,null,null,null,null,null,null,null,null,null,null,null,null,null,null,null,null,null,null,null,null,null,null,null,null,null,null,null,null,null,null,null,null,null,null,null,{"$f":"IFERROR(VLOOKUP(AM42138,Cod_DIVIPOLA!A:C,2,0),\"CODIGO INCORRECTO\")","v":"CODIGO INCORRECTO"}]
[42179,null,null,null,null,null,null,null,null,null,null,null,null,null,null,null,null,null,null,null,null,null,null,null,null,null,null,null,null,null,null,null,null,null,null,null,null,null,null,{"$f":"IFERROR(VLOOKUP(AM42181,Cod_DIVIPOLA!A:C,2,0),\"CODIGO INCORRECTO\")","v":"CODIGO INCORRECTO"}]
[42260,null,null,null,null,null,null,null,null,null,null,null,null,null,null,null,null,null,null,null,null,null,null,null,null,null,null,null,null,null,null,null,null,null,null,null,null,null,null,{"$f":"IFERROR(VLOOKUP(AM42262,Cod_DIVIPOLA!A:C,2,0),\"CODIGO INCORRECTO\")","v":"CODIGO INCORRECTO"}]
[42330,null,null,null,null,null,null,null,null,null,null,null,null,null,null,null,null,null,null,null,null,null,null,null,null,null,null,null,null,null,null,null,null,null,null,null,null,null,null,{"$f":"IFERROR(VLOOKUP(AM42332,Cod_DIVIPOLA!A:C,2,0),\"CODIGO INCORRECTO\")","v":"CODIGO INCORRECTO"}]
[42385,null,null,null,null,null,null,null,null,null,null,null,null,null,null,null,null,null,null,null,null,null,null,null,null,null,null,null,null,null,null,null,null,null,null,null,null,null,null,{"$f":"IFERROR(VLOOKUP(AM42387,Cod_DIVIPOLA!A:C,2,0),\"CODIGO INCORRECTO\")","v":"CODIGO INCORRECTO"}]
[42395,null,null,null,null,null,null,null,null,null,null,null,null,null,null,null,null,null,null,null,null,null,null,null,null,null,null,null,null,null,null,null,null,null,null,null,null,null,null,{"$f":"IFERROR(VLOOKUP(AM42397,Cod_DIVIPOLA!A:C,2,0),\"CODIGO INCORRECTO\")","v":"CODIGO INCORRECTO"}]
[42492,null,null,null,null,null,null,null,null,null,null,null,null,null,null,null,null,null,null,null,null,null,null,null,null,null,null,null,null,null,null,null,null,null,null,null,null,null,null,{"$f":"IFERROR(VLOOKUP(AM42494,Cod_DIVIPOLA!A:C,2,0),\"CODIGO INCORRECTO\")","v":"CODIGO INCORRECTO"}]
[42504,null,null,null,null,null,null,null,null,null,null,null,null,null,null,null,null,null,null,null,null,null,null,null,null,null,null,null,null,null,null,null,null,null,null,null,null,null,null,{"$f":"IFERROR(VLOOKUP(AM42506,Cod_DIVIPOLA!A:C,2,0),\"CODIGO INCORRECTO\")","v":"CODIGO INCORRECTO"}]
[42589,null,null,null,null,null,null,null,null,null,null,null,null,null,null,null,null,null,null,null,null,null,null,null,null,null,null,null,null,null,null,null,null,null,null,null,null,null,null,{"$f":"IFERROR(VLOOKUP(AM42591,Cod_DIVIPOLA!A:C,2,0),\"CODIGO INCORRECTO\")","v":"CODIGO INCORRECTO"}]
[42632,null,null,null,null,null,null,null,null,null,null,null,null,null,null,null,null,null,null,null,null,null,null,null,null,null,null,null,null,null,null,null,null,null,null,null,null,null,null,{"$f":"IFERROR(VLOOKUP(AM42634,Cod_DIVIPOLA!A:C,2,0),\"CODIGO INCORRECTO\")","v":"CODIGO INCORRECTO"}]
[42678,null,null,null,null,null,null,null,null,null,null,null,null,null,null,null,null,null,null,null,null,null,null,null,null,null,null,null,null,null,null,null,null,null,null,null,null,null,null,{"$f":"IFERROR(VLOOKUP(AM42680,Cod_DIVIPOLA!A:C,2,0),\"CODIGO INCORRECTO\")","v":"CODIGO INCORRECTO"}]
[42729,null,null,null,null,null,null,null,null,null,null,null,null,null,null,null,null,null,null,null,null,null,null,null,null,null,null,null,null,null,null,null,null,null,null,null,null,null,null,{"$f":"IFERROR(VLOOKUP(AM42731,Cod_DIVIPOLA!A:C,2,0),\"CODIGO INCORRECTO\")","v":"CODIGO INCORRECTO"}]
[42803,null,null,null,null,null,null,null,null,null,null,null,null,null,null,null,null,null,null,null,null,null,null,null,null,null,null,null,null,null,null,null,null,null,null,null,null,null,null,{"$f":"IFERROR(VLOOKUP(AM42805,Cod_DIVIPOLA!A:C,2,0),\"CODIGO INCORRECTO\")","v":"CODIGO INCORRECTO"}]
[42848,null,null,null,null,null,null,null,null,null,null,null,null,null,null,null,null,null,null,null,null,null,null,null,null,null,null,null,null,null,null,null,null,null,null,null,null,null,null,{"$f":"IFERROR(VLOOKUP(AM42850,Cod_DIVIPOLA!A:C,2,0),\"CODIGO INCORRECTO\")","v":"CODIGO INCORRECTO"}]
[42891,null,null,null,null,null,null,null,null,null,null,null,null,null,null,null,null,null,null,null,null,null,null,null,null,null,null,null,null,null,null,null,null,null,null,null,null,null,null,{"$f":"IFERROR(VLOOKUP(AM42893,Cod_DIVIPOLA!A:C,2,0),\"CODIGO INCORRECTO\")","v":"CODIGO INCORRECTO"}]
[42977,null,null,null,null,null,null,null,null,null,null,null,null,null,null,null,null,null,null,null,null,null,null,null,null,null,null,null,null,null,null,null,null,null,null,null,null,null,null,{"$f":"IFERROR(VLOOKUP(AM42979,Cod_DIVIPOLA!A:C,2,0),\"CODIGO INCORRECTO\")","v":"CODIGO INCORRECTO"}]
[42988,null,null,null,null,null,null,null,null,null,null,null,null,null,null,null,null,null,null,null,null,null,null,null,null,null,null,null,null,null,null,null,null,null,null,null,null,null,null,{"$f":"IFERROR(VLOOKUP(AM42990,Cod_DIVIPOLA!A:C,2,0),\"CODIGO INCORRECTO\")","v":"CODIGO INCORRECTO"}]
[43047,null,null,null,null,null,null,null,null,null,null,null,null,null,null,null,null,null,null,null,null,null,null,null,null,null,null,null,null,null,null,null,null,null,null,null,null,null,null,{"$f":"IFERROR(VLOOKUP(AM43049,Cod_DIVIPOLA!A:C,2,0),\"CODIGO INCORRECTO\")","v":"CODIGO INCORRECTO"}]
[43107,null,null,null,null,null,null,null,null,null,null,null,null,null,null,null,null,null,null,null,null,null,null,null,null,null,null,null,null,null,null,null,null,null,null,null,null,null,null,{"$f":"IFERROR(VLOOKUP(AM43109,Cod_DIVIPOLA!A:C,2,0),\"CODIGO INCORRECTO\")","v":"CODIGO INCORRECTO"}]
[43150,null,null,null,null,null,null,null,null,null,null,null,null,null,null,null,null,null,null,null,null,null,null,null,null,null,null,null,null,null,null,null,null,null,null,null,null,null,null,{"$f":"IFERROR(VLOOKUP(AM43152,Cod_DIVIPOLA!A:C,2,0),\"CODIGO INCORRECTO\")","v":"CODIGO INCORRECTO"}]
[43221,null,null,null,null,null,null,null,null,null,null,null,null,null,null,null,null,null,null,null,null,null,null,null,null,null,null,null,null,null,null,null,null,null,null,null,null,null,null,{"$f":"IFERROR(VLOOKUP(AM43223,Cod_DIVIPOLA!A:C,2,0),\"CODIGO INCORRECTO\")","v":"CODIGO INCORRECTO"}]
[43301,null,null,null,null,null,null,null,null,null,null,null,null,null,null,null,null,null,null,null,null,null,null,null,null,null,null,null,null,null,null,null,null,null,null,null,null,null,null,{"$f":"IFERROR(VLOOKUP(AM43303,Cod_DIVIPOLA!A:C,2,0),\"CODIGO INCORRECTO\")","v":"CODIGO INCORRECTO"}]
[43346,null,null,null,null,null,null,null,null,null,null,null,null,null,null,null,null,null,null,null,null,null,null,null,null,null,null,null,null,null,null,null,null,null,null,null,null,null,null,{"$f":"IFERROR(VLOOKUP(AM43348,Cod_DIVIPOLA!A:C,2,0),\"CODIGO INCORRECTO\")","v":"CODIGO INCORRECTO"}]
[43420,null,null,null,null,null,null,null,null,null,null,null,null,null,null,null,null,null,null,null,null,null,null,null,null,null,null,null,null,null,null,null,null,null,null,null,null,null,null,{"$f":"IFERROR(VLOOKUP(AM43422,Cod_DIVIPOLA!A:C,2,0),\"CODIGO INCORRECTO\")","v":"CODIGO INCORRECTO"}]
[43441,null,null,null,null,null,null,null,null,null,null,null,null,null,null,null,null,null,null,null,null,null,null,null,null,null,null,null,null,null,null,null,null,null,null,null,null,null,null,{"$f":"IFERROR(VLOOKUP(AM43443,Cod_DIVIPOLA!A:C,2,0),\"CODIGO INCORRECTO\")","v":"CODIGO INCORRECTO"}]
[43520,null,null,null,null,null,null,null,null,null,null,null,null,null,null,null,null,null,null,null,null,null,null,null,null,null,null,null,null,null,null,null,null,null,null,null,null,null,null,{"$f":"IFERROR(VLOOKUP(AM43522,Cod_DIVIPOLA!A:C,2,0),\"CODIGO INCORRECTO\")","v":"CODIGO INCORRECTO"}]
[43560,null,null,null,null,null,null,null,null,null,null,null,null,null,null,null,null,null,null,null,null,null,null,null,null,null,null,null,null,null,null,null,null,null,null,null,null,null,null,{"$f":"IFERROR(VLOOKUP(AM43562,Cod_DIVIPOLA!A:C,2,0),\"CODIGO INCORRECTO\")","v":"CODIGO INCORRECTO"}]
[43603,null,null,null,null,null,null,null,null,null,null,null,null,null,null,null,null,null,null,null,null,null,null,null,null,null,null,null,null,null,null,null,null,null,null,null,null,null,null,{"$f":"IFERROR(VLOOKUP(AM43605,Cod_DIVIPOLA!A:C,2,0),\"CODIGO INCORRECTO\")","v":"CODIGO INCORRECTO"}]
[43639,null,null,null,null,null,null,null,null,null,null,null,null,null,null,null,null,null,null,null,null,null,null,null,null,null,null,null,null,null,null,null,null,null,null,null,null,null,null,{"$f":"IFERROR(VLOOKUP(AM43641,Cod_DIVIPOLA!A:C,2,0),\"CODIGO INCORRECTO\")","v":"CODIGO INCORRECTO"}]
[43700,null,null,null,null,null,null,null,null,null,null,null,null,null,null,null,null,null,null,null,null,null,null,null,null,null,null,null,null,null,null,null,null,null,null,null,null,null,null,{"$f":"IFERROR(VLOOKUP(AM43702,Cod_DIVIPOLA!A:C,2,0),\"CODIGO INCORRECTO\")","v":"CODIGO INCORRECTO"}]
[43764,null,null,null,null,null,null,null,null,null,null,null,null,null,null,null,null,null,null,null,null,null,null,null,null,null,null,null,null,null,null,null,null,null,null,null,null,null,null,{"$f":"IFERROR(VLOOKUP(AM43766,Cod_DIVIPOLA!A:C,2,0),\"CODIGO INCORRECTO\")","v":"CODIGO INCORRECTO"}]
[43819,null,null,null,null,null,null,null,null,null,null,null,null,null,null,null,null,null,null,null,null,null,null,null,null,null,null,null,null,null,null,null,null,null,null,null,null,null,null,{"$f":"IFERROR(VLOOKUP(AM43821,Cod_DIVIPOLA!A:C,2,0),\"CODIGO INCORRECTO\")","v":"CODIGO INCORRECTO"}]
[43894,null,null,null,null,null,null,null,null,null,null,null,null,null,null,null,null,null,null,null,null,null,null,null,null,null,null,null,null,null,null,null,null,null,null,null,null,null,null,{"$f":"IFERROR(VLOOKUP(AM43896,Cod_DIVIPOLA!A:C,2,0),\"CODIGO INCORRECTO\")","v":"CODIGO INCORRECTO"}]
[43938,null,null,null,null,null,null,null,null,null,null,null,null,null,null,null,null,null,null,null,null,null,null,null,null,null,null,null,null,null,null,null,null,null,null,null,null,null,null,{"$f":"IFERROR(VLOOKUP(AM43940,Cod_DIVIPOLA!A:C,2,0),\"CODIGO INCORRECTO\")","v":"CODIGO INCORRECTO"}]
[44013,null,null,null,null,null,null,null,null,null,null,null,null,null,null,null,null,null,null,null,null,null,null,null,null,null,null,null,null,null,null,null,null,null,null,null,null,null,null,{"$f":"IFERROR(VLOOKUP(AM44015,Cod_DIVIPOLA!A:C,2,0),\"CODIGO INCORRECTO\")","v":"CODIGO INCORRECTO"}]
[44063,null,null,null,null,null,null,null,null,null,null,null,null,null,null,null,null,null,null,null,null,null,null,null,null,null,null,null,null,null,null,null,null,null,null,null,null,null,null,{"$f":"IFERROR(VLOOKUP(AM44065,Cod_DIVIPOLA!A:C,2,0),\"CODIGO INCORRECTO\")","v":"CODIGO INCORRECTO"}]
[44078,null,null,null,null,null,null,null,null,null,null,null,null,null,null,null,null,null,null,null,null,null,null,null,null,null,null,null,null,null,null,null,null,null,null,null,null,null,null,{"$f":"IFERROR(VLOOKUP(AM44080,Cod_DIVIPOLA!A:C,2,0),\"CODIGO INCORRECTO\")","v":"CODIGO INCORRECTO"}]
[44153,null,null,null,null,null,null,null,null,null,null,null,null,null,null,null,null,null,null,null,null,null,null,null,null,null,null,null,null,null,null,null,null,null,null,null,null,null,null,{"$f":"IFERROR(VLOOKUP(AM44155,Cod_DIVIPOLA!A:C,2,0),\"CODIGO INCORRECTO\")","v":"CODIGO INCORRECTO"}]
[44237,null,null,null,null,null,null,null,null,null,null,null,null,null,null,null,null,null,null,null,null,null,null,null,null,null,null,null,null,null,null,null,null,null,null,null,null,null,null,{"$f":"IFERROR(VLOOKUP(AM44239,Cod_DIVIPOLA!A:C,2,0),\"CODIGO INCORRECTO\")","v":"CODIGO INCORRECTO"}]
[44272,null,null,null,null,null,null,null,null,null,null,null,null,null,null,null,null,null,null,null,null,null,null,null,null,null,null,null,null,null,null,null,null,null,null,null,null,null,null,{"$f":"IFERROR(VLOOKUP(AM44274,Cod_DIVIPOLA!A:C,2,0),\"CODIGO INCORRECTO\")","v":"CODIGO INCORRECTO"}]
[44307,null,null,null,null,null,null,null,null,null,null,null,null,null,null,null,null,null,null,null,null,null,null,null,null,null,null,null,null,null,null,null,null,null,null,null,null,null,null,{"$f":"IFERROR(VLOOKUP(AM44309,Cod_DIVIPOLA!A:C,2,0),\"CODIGO INCORRECTO\")","v":"CODIGO INCORRECTO"}]
[44391,null,null,null,null,null,null,null,null,null,null,null,null,null,null,null,null,null,null,null,null,null,null,null,null,null,null,null,null,null,null,null,null,null,null,null,null,null,null,{"$f":"IFERROR(VLOOKUP(AM44393,Cod_DIVIPOLA!A:C,2,0),\"CODIGO INCORRECTO\")","v":"CODIGO INCORRECTO"}]
[44412,null,null,null,null,null,null,null,null,null,null,null,null,null,null,null,null,null,null,null,null,null,null,null,null,null,null,null,null,null,null,null,null,null,null,null,null,null,null,{"$f":"IFERROR(VLOOKUP(AM44414,Cod_DIVIPOLA!A:C,2,0),\"CODIGO INCORRECTO\")","v":"CODIGO INCORRECTO"}]
[44481,null,null,null,null,null,null,null,null,null,null,null,null,null,null,null,null,null,null,null,null,null,null,null,null,null,null,null,null,null,null,null,null,null,null,null,null,null,null,{"$f":"IFERROR(VLOOKUP(AM44483,Cod_DIVIPOLA!A:C,2,0),\"CODIGO INCORRECTO\")","v":"CODIGO INCORRECTO"}]
[44531,null,null,null,null,null,null,null,null,null,null,null,null,null,null,null,null,null,null,null,null,null,null,null,null,null,null,null,null,null,null,null,null,null,null,null,null,null,null,{"$f":"IFERROR(VLOOKUP(AM44533,Cod_DIVIPOLA!A:C,2,0),\"CODIGO INCORRECTO\")","v":"CODIGO INCORRECTO"}]
[44606,null,null,null,null,null,null,null,null,null,null,null,null,null,null,null,null,null,null,null,null,null,null,null,null,null,null,null,null,null,null,null,null,null,null,null,null,null,null,{"$f":"IFERROR(VLOOKUP(AM44608,Cod_DIVIPOLA!A:C,2,0),\"CODIGO INCORRECTO\")","v":"CODIGO INCORRECTO"}]
[44655,null,null,null,null,null,null,null,null,null,null,null,null,null,null,null,null,null,null,null,null,null,null,null,null,null,null,null,null,null,null,null,null,null,null,null,null,null,null,{"$f":"IFERROR(VLOOKUP(AM44657,Cod_DIVIPOLA!A:C,2,0),\"CODIGO INCORRECTO\")","v":"CODIGO INCORRECTO"}]
[44725,null,null,null,null,null,null,null,null,null,null,null,null,null,null,null,null,null,null,null,null,null,null,null,null,null,null,null,null,null,null,null,null,null,null,null,null,null,null,{"$f":"IFERROR(VLOOKUP(AM44727,Cod_DIVIPOLA!A:C,2,0),\"CODIGO INCORRECTO\")","v":"CODIGO INCORRECTO"}]
[44780,null,null,null,null,null,null,null,null,null,null,null,null,null,null,null,null,null,null,null,null,null,null,null,null,null,null,null,null,null,null,null,null,null,null,null,null,null,null,{"$f":"IFERROR(VLOOKUP(AM44782,Cod_DIVIPOLA!A:C,2,0),\"CODIGO INCORRECTO\")","v":"CODIGO INCORRECTO"}]
[44790,null,null,null,null,null,null,null,null,null,null,null,null,null,null,null,null,null,null,null,null,null,null,null,null,null,null,null,null,null,null,null,null,null,null,null,null,null,null,{"$f":"IFERROR(VLOOKUP(AM44792,Cod_DIVIPOLA!A:C,2,0),\"CODIGO INCORRECTO\")","v":"CODIGO INCORRECTO"}]
[44865,null,null,null,null,null,null,null,null,null,null,null,null,null,null,null,null,null,null,null,null,null,null,null,null,null,null,null,null,null,null,null,null,null,null,null,null,null,null,{"$f":"IFERROR(VLOOKUP(AM44867,Cod_DIVIPOLA!A:C,2,0),\"CODIGO INCORRECTO\")","v":"CODIGO INCORRECTO"}]
[44899,null,null,null,null,null,null,null,null,null,null,null,null,null,null,null,null,null,null,null,null,null,null,null,null,null,null,null,null,null,null,null,null,null,null,null,null,null,null,{"$f":"IFERROR(VLOOKUP(AM44901,Cod_DIVIPOLA!A:C,2,0),\"CODIGO INCORRECTO\")","v":"CODIGO INCORRECTO"}]
[44984,null,null,null,null,null,null,null,null,null,null,null,null,null,null,null,null,null,null,null,null,null,null,null,null,null,null,null,null,null,null,null,null,null,null,null,null,null,null,{"$f":"IFERROR(VLOOKUP(AM44986,Cod_DIVIPOLA!A:C,2,0),\"CODIGO INCORRECTO\")","v":"CODIGO INCORRECTO"}]
[45024,null,null,null,null,null,null,null,null,null,null,null,null,null,null,null,null,null,null,null,null,null,null,null,null,null,null,null,null,null,null,null,null,null,null,null,null,null,null,{"$f":"IFERROR(VLOOKUP(AM45026,Cod_DIVIPOLA!A:C,2,0),\"CODIGO INCORRECTO\")","v":"CODIGO INCORRECTO"}]
[45103,null,null,null,null,null,null,null,null,null,null,null,null,null,null,null,null,null,null,null,null,null,null,null,null,null,null,null,null,null,null,null,null,null,null,null,null,null,null,{"$f":"IFERROR(VLOOKUP(AM45105,Cod_DIVIPOLA!A:C,2,0),\"CODIGO INCORRECTO\")","v":"CODIGO INCORRECTO"}]
[45124,null,null,null,null,null,null,null,null,null,null,null,null,null,null,null,null,null,null,null,null,null,null,null,null,null,null,null,null,null,null,null,null,null,null,null,null,null,null,{"$f":"IFERROR(VLOOKUP(AM45126,Cod_DIVIPOLA!A:C,2,0),\"CODIGO INCORRECTO\")","v":"CODIGO INCORRECTO"}]
[45198,null,null,null,null,null,null,null,null,null,null,null,null,null,null,null,null,null,null,null,null,null,null,null,null,null,null,null,null,null,null,null,null,null,null,null,null,null,null,{"$f":"IFERROR(VLOOKUP(AM45200,Cod_DIVIPOLA!A:C,2,0),\"CODIGO INCORRECTO\")","v":"CODIGO INCORRECTO"}]
[45243,null,null,null,null,null,null,null,null,null,null,null,null,null,null,null,null,null,null,null,null,null,null,null,null,null,null,null,null,null,null,null,null,null,null,null,null,null,null,{"$f":"IFERROR(VLOOKUP(AM45245,Cod_DIVIPOLA!A:C,2,0),\"CODIGO INCORRECTO\")","v":"CODIGO INCORRECTO"}]
[45297,null,null,null,null,null,null,null,null,null,null,null,null,null,null,null,null,null,null,null,null,null,null,null,null,null,null,null,null,null,null,null,null,null,null,null,null,null,null,{"$f":"IFERROR(VLOOKUP(AM45299,Cod_DIVIPOLA!A:C,2,0),\"CODIGO INCORRECTO\")","v":"CODIGO INCORRECTO"}]
[45362,null,null,null,null,null,null,null,null,null,null,null,null,null,null,null,null,null,null,null,null,null,null,null,null,null,null,null,null,null,null,null,null,null,null,null,null,null,null,{"$f":"IFERROR(VLOOKUP(AM45364,Cod_DIVIPOLA!A:C,2,0),\"CODIGO INCORRECTO\")","v":"CODIGO INCORRECTO"}]
[45383,null,null,null,null,null,null,null,null,null,null,null,null,null,null,null,null,null,null,null,null,null,null,null,null,null,null,null,null,null,null,null,null,null,null,null,null,null,null,{"$f":"IFERROR(VLOOKUP(AM45385,Cod_DIVIPOLA!A:C,2,0),\"CODIGO INCORRECTO\")","v":"CODIGO INCORRECTO"}]
[45442,null,null,null,null,null,null,null,null,null,null,null,null,null,null,null,null,null,null,null,null,null,null,null,null,null,null,null,null,null,null,null,null,null,null,null,null,null,null,{"$f":"IFERROR(VLOOKUP(AM45444,Cod_DIVIPOLA!A:C,2,0),\"CODIGO INCORRECTO\")","v":"CODIGO INCORRECTO"}]
[45502,null,null,null,null,null,null,null,null,null,null,null,null,null,null,null,null,null,null,null,null,null,null,null,null,null,null,null,null,null,null,null,null,null,null,null,null,null,null,{"$f":"IFERROR(VLOOKUP(AM45504,Cod_DIVIPOLA!A:C,2,0),\"CODIGO INCORRECTO\")","v":"CODIGO INCORRECTO"}]
[45577,null,null,null,null,null,null,null,null,null,null,null,null,null,null,null,null,null,null,null,null,null,null,null,null,null,null,null,null,null,null,null,null,null,null,null,null,null,null,{"$f":"IFERROR(VLOOKUP(AM45579,Cod_DIVIPOLA!A:C,2,0),\"CODIGO INCORRECTO\")","v":"CODIGO INCORRECTO"}]
[45616,null,null,null,null,null,null,null,null,null,null,null,null,null,null,null,null,null,null,null,null,null,null,null,null,null,null,null,null,null,null,null,null,null,null,null,null,null,null,{"$f":"IFERROR(VLOOKUP(AM45618,Cod_DIVIPOLA!A:C,2,0),\"CODIGO INCORRECTO\")","v":"CODIGO INCORRECTO"}]
[45696,null,null,null,null,null,null,null,null,null,null,null,null,null,null,null,null,null,null,null,null,null,null,null,null,null,null,null,null,null,null,null,null,null,null,null,null,null,null,{"$f":"IFERROR(VLOOKUP(AM45698,Cod_DIVIPOLA!A:C,2,0),\"CODIGO INCORRECTO\")","v":"CODIGO INCORRECTO"}]
[45715,null,null,null,null,null,null,null,null,null,null,null,null,null,null,null,null,null,null,null,null,null,null,null,null,null,null,null,null,null,null,null,null,null,null,null,null,null,null,{"$f":"IFERROR(VLOOKUP(AM45717,Cod_DIVIPOLA!A:C,2,0),\"CODIGO INCORRECTO\")","v":"CODIGO INCORRECTO"}]
[45761,null,null,null,null,null,null,null,null,null,null,null,null,null,null,null,null,null,null,null,null,null,null,null,null,null,null,null,null,null,null,null,null,null,null,null,null,null,null,{"$f":"IFERROR(VLOOKUP(AM45763,Cod_DIVIPOLA!A:C,2,0),\"CODIGO INCORRECTO\")","v":"CODIGO INCORRECTO"}]
[45836,null,null,null,null,null,null,null,null,null,null,null,null,null,null,null,null,null,null,null,null,null,null,null,null,null,null,null,null,null,null,null,null,null,null,null,null,null,null,{"$f":"IFERROR(VLOOKUP(AM45838,Cod_DIVIPOLA!A:C,2,0),\"CODIGO INCORRECTO\")","v":"CODIGO INCORRECTO"}]
[45915,null,null,null,null,null,null,null,null,null,null,null,null,null,null,null,null,null,null,null,null,null,null,null,null,null,null,null,null,null,null,null,null,null,null,null,null,null,null,{"$f":"IFERROR(VLOOKUP(AM45917,Cod_DIVIPOLA!A:C,2,0),\"CODIGO INCORRECTO\")","v":"CODIGO INCORRECTO"}]
[45955,null,null,null,null,null,null,null,null,null,null,null,null,null,null,null,null,null,null,null,null,null,null,null,null,null,null,null,null,null,null,null,null,null,null,null,null,null,null,{"$f":"IFERROR(VLOOKUP(AM45957,Cod_DIVIPOLA!A:C,2,0),\"CODIGO INCORRECTO\")","v":"CODIGO INCORRECTO"}]
[46014,null,null,null,null,null,null,null,null,null,null,null,null,null,null,null,null,null,null,null,null,null,null,null,null,null,null,null,null,null,null,null,null,null,null,null,null,null,null,{"$f":"IFERROR(VLOOKUP(AM46016,Cod_DIVIPOLA!A:C,2,0),\"CODIGO INCORRECTO\")","v":"CODIGO INCORRECTO"}]
[46074,null,null,null,null,null,null,null,null,null,null,null,null,null,null,null,null,null,null,null,null,null,null,null,null,null,null,null,null,null,null,null,null,null,null,null,null,null,null,{"$f":"IFERROR(VLOOKUP(AM46076,Cod_DIVIPOLA!A:C,2,0),\"CODIGO INCORRECTO\")","v":"CODIGO INCORRECTO"}]
[46095,null,null,null,null,null,null,null,null,null,null,null,null,null,null,null,null,null,null,null,null,null,null,null,null,null,null,null,null,null,null,null,null,null,null,null,null,null,null,{"$f":"IFERROR(VLOOKUP(AM46097,Cod_DIVIPOLA!A:C,2,0),\"CODIGO INCORRECTO\")","v":"CODIGO INCORRECTO"}]
[46159,null,null,null,null,null,null,null,null,null,null,null,null,null,null,null,null,null,null,null,null,null,null,null,null,null,null,null,null,null,null,null,null,null,null,null,null,null,null,{"$f":"IFERROR(VLOOKUP(AM46161,Cod_DIVIPOLA!A:C,2,0),\"CODIGO INCORRECTO\")","v":"CODIGO INCORRECTO"}]
[46214,null,null,null,null,null,null,null,null,null,null,null,null,null,null,null,null,null,null,null,null,null,null,null,null,null,null,null,null,null,null,null,null,null,null,null,null,null,null,{"$f":"IFERROR(VLOOKUP(AM46216,Cod_DIVIPOLA!A:C,2,0),\"CODIGO INCORRECTO\")","v":"CODIGO INCORRECTO"}]
[46258,null,null,null,null,null,null,null,null,null,null,null,null,null,null,null,null,null,null,null,null,null,null,null,null,null,null,null,null,null,null,null,null,null,null,null,null,null,null,{"$f":"IFERROR(VLOOKUP(AM46260,Cod_DIVIPOLA!A:C,2,0),\"CODIGO INCORRECTO\")","v":"CODIGO INCORRECTO"}]
[46333,null,null,null,null,null,null,null,null,null,null,null,null,null,null,null,null,null,null,null,null,null,null,null,null,null,null,null,null,null,null,null,null,null,null,null,null,null,null,{"$f":"IFERROR(VLOOKUP(AM46335,Cod_DIVIPOLA!A:C,2,0),\"CODIGO INCORRECTO\")","v":"CODIGO INCORRECTO"}]
[46408,null,null,null,null,null,null,null,null,null,null,null,null,null,null,null,null,null,null,null,null,null,null,null,null,null,null,null,null,null,null,null,null,null,null,null,null,null,null,{"$f":"IFERROR(VLOOKUP(AM46410,Cod_DIVIPOLA!A:C,2,0),\"CODIGO INCORRECTO\")","v":"CODIGO INCORRECTO"}]
[46432,null,null,null,null,null,null,null,null,null,null,null,null,null,null,null,null,null,null,null,null,null,null,null,null,null,null,null,null,null,null,null,null,null,null,null,null,null,null,{"$f":"IFERROR(VLOOKUP(AM46434,Cod_DIVIPOLA!A:C,2,0),\"CODIGO INCORRECTO\")","v":"CODIGO INCORRECTO"}]
[46473,null,null,null,null,null,null,null,null,null,null,null,null,null,null,null,null,null,null,null,null,null,null,null,null,null,null,null,null,null,null,null,null,null,null,null,null,null,null,{"$f":"IFERROR(VLOOKUP(AM46475,Cod_DIVIPOLA!A:C,2,0),\"CODIGO INCORRECTO\")","v":"CODIGO INCORRECTO"}]
[46548,null,null,null,null,null,null,null,null,null,null,null,null,null,null,null,null,null,null,null,null,null,null,null,null,null,null,null,null,null,null,null,null,null,null,null,null,null,null,{"$f":"IFERROR(VLOOKUP(AM46550,Cod_DIVIPOLA!A:C,2,0),\"CODIGO INCORRECTO\")","v":"CODIGO INCORRECTO"}]
[46577,null,null,null,null,null,null,null,null,null,null,null,null,null,null,null,null,null,null,null,null,null,null,null,null,null,null,null,null,null,null,null,null,null,null,null,null,null,null,{"$f":"IFERROR(VLOOKUP(AM46579,Cod_DIVIPOLA!A:C,2,0),\"CODIGO INCORRECTO\")","v":"CODIGO INCORRECTO"}]
[46667,null,null,null,null,null,null,null,null,null,null,null,null,null,null,null,null,null,null,null,null,null,null,null,null,null,null,null,null,null,null,null,null,null,null,null,null,null,null,{"$f":"IFERROR(VLOOKUP(AM46669,Cod_DIVIPOLA!A:C,2,0),\"CODIGO INCORRECTO\")","v":"CODIGO INCORRECTO"}]
[46731,null,null,null,null,null,null,null,null,null,null,null,null,null,null,null,null,null,null,null,null,null,null,null,null,null,null,null,null,null,null,null,null,null,null,null,null,null,null,{"$f":"IFERROR(VLOOKUP(AM46733,Cod_DIVIPOLA!A:C,2,0),\"CODIGO INCORRECTO\")","v":"CODIGO INCORRECTO"}]
[46786,null,null,null,null,null,null,null,null,null,null,null,null,null,null,null,null,null,null,null,null,null,null,null,null,null,null,null,null,null,null,null,null,null,null,null,null,null,null,{"$f":"IFERROR(VLOOKUP(AM46788,Cod_DIVIPOLA!A:C,2,0),\"CODIGO INCORRECTO\")","v":"CODIGO INCORRECTO"}]
[46807,null,null,null,null,null,null,null,null,null,null,null,null,null,null,null,null,null,null,null,null,null,null,null,null,null,null,null,null,null,null,null,null,null,null,null,null,null,null,{"$f":"IFERROR(VLOOKUP(AM46809,Cod_DIVIPOLA!A:C,2,0),\"CODIGO INCORRECTO\")","v":"CODIGO INCORRECTO"}]
[46850,null,null,null,null,null,null,null,null,null,null,null,null,null,null,null,null,null,null,null,null,null,null,null,null,null,null,null,null,null,null,null,null,null,null,null,null,null,null,{"$f":"IFERROR(VLOOKUP(AM46852,Cod_DIVIPOLA!A:C,2,0),\"CODIGO INCORRECTO\")","v":"CODIGO INCORRECTO"}]
[46926,null,null,null,null,null,null,null,null,null,null,null,null,null,null,null,null,null,null,null,null,null,null,null,null,null,null,null,null,null,null,null,null,null,null,null,null,null,null,{"$f":"IFERROR(VLOOKUP(AM46928,Cod_DIVIPOLA!A:C,2,0),\"CODIGO INCORRECTO\")","v":"CODIGO INCORRECTO"}]
[46975,null,null,null,null,null,null,null,null,null,null,null,null,null,null,null,null,null,null,null,null,null,null,null,null,null,null,null,null,null,null,null,null,null,null,null,null,null,null,{"$f":"IFERROR(VLOOKUP(AM46977,Cod_DIVIPOLA!A:C,2,0),\"CODIGO INCORRECTO\")","v":"CODIGO INCORRECTO"}]
[47045,null,null,null,null,null,null,null,null,null,null,null,null,null,null,null,null,null,null,null,null,null,null,null,null,null,null,null,null,null,null,null,null,null,null,null,null,null,null,{"$f":"IFERROR(VLOOKUP(AM47047,Cod_DIVIPOLA!A:C,2,0),\"CODIGO INCORRECTO\")","v":"CODIGO INCORRECTO"}]
[47066,null,null,null,null,null,null,null,null,null,null,null,null,null,null,null,null,null,null,null,null,null,null,null,null,null,null,null,null,null,null,null,null,null,null,null,null,null,null,{"$f":"IFERROR(VLOOKUP(AM47068,Cod_DIVIPOLA!A:C,2,0),\"CODIGO INCORRECTO\")","v":"CODIGO INCORRECTO"}]
[47149,null,null,null,null,null,null,null,null,null,null,null,null,null,null,null,null,null,null,null,null,null,null,null,null,null,null,null,null,null,null,null,null,null,null,null,null,null,null,{"$f":"IFERROR(VLOOKUP(AM47151,Cod_DIVIPOLA!A:C,2,0),\"CODIGO INCORRECTO\")","v":"CODIGO INCORRECTO"}]
[47185,null,null,null,null,null,null,null,null,null,null,null,null,null,null,null,null,null,null,null,null,null,null,null,null,null,null,null,null,null,null,null,null,null,null,null,null,null,null,{"$f":"IFERROR(VLOOKUP(AM47187,Cod_DIVIPOLA!A:C,2,0),\"CODIGO INCORRECTO\")","v":"CODIGO INCORRECTO"}]
[47274,null,null,null,null,null,null,null,null,null,null,null,null,null,null,null,null,null,null,null,null,null,null,null,null,null,null,null,null,null,null,null,null,null,null,null,null,null,null,{"$f":"IFERROR(VLOOKUP(AM47276,Cod_DIVIPOLA!A:C,2,0),\"CODIGO INCORRECTO\")","v":"CODIGO INCORRECTO"}]
[47304,null,null,null,null,null,null,null,null,null,null,null,null,null,null,null,null,null,null,null,null,null,null,null,null,null,null,null,null,null,null,null,null,null,null,null,null,null,null,{"$f":"IFERROR(VLOOKUP(AM47306,Cod_DIVIPOLA!A:C,2,0),\"CODIGO INCORRECTO\")","v":"CODIGO INCORRECTO"}]
[47379,null,null,null,null,null,null,null,null,null,null,null,null,null,null,null,null,null,null,null,null,null,null,null,null,null,null,null,null,null,null,null,null,null,null,null,null,null,null,{"$f":"IFERROR(VLOOKUP(AM47381,Cod_DIVIPOLA!A:C,2,0),\"CODIGO INCORRECTO\")","v":"CODIGO INCORRECTO"}]
[47393,null,null,null,null,null,null,null,null,null,null,null,null,null,null,null,null,null,null,null,null,null,null,null,null,null,null,null,null,null,null,null,null,null,null,null,null,null,null,{"$f":"IFERROR(VLOOKUP(AM47395,Cod_DIVIPOLA!A:C,2,0),\"CODIGO INCORRECTO\")","v":"CODIGO INCORRECTO"}]
[47498,null,null,null,null,null,null,null,null,null,null,null,null,null,null,null,null,null,null,null,null,null,null,null,null,null,null,null,null,null,null,null,null,null,null,null,null,null,null,{"$f":"IFERROR(VLOOKUP(AM47500,Cod_DIVIPOLA!A:C,2,0),\"CODIGO INCORRECTO\")","v":"CODIGO INCORRECTO"}]
[47519,null,null,null,null,null,null,null,null,null,null,null,null,null,null,null,null,null,null,null,null,null,null,null,null,null,null,null,null,null,null,null,null,null,null,null,null,null,null,{"$f":"IFERROR(VLOOKUP(AM47521,Cod_DIVIPOLA!A:C,2,0),\"CODIGO INCORRECTO\")","v":"CODIGO INCORRECTO"}]
[47567,null,null,null,null,null,null,null,null,null,null,null,null,null,null,null,null,null,null,null,null,null,null,null,null,null,null,null,null,null,null,null,null,null,null,null,null,null,null,{"$f":"IFERROR(VLOOKUP(AM47569,Cod_DIVIPOLA!A:C,2,0),\"CODIGO INCORRECTO\")","v":"CODIGO INCORRECTO"}]
[47638,null,null,null,null,null,null,null,null,null,null,null,null,null,null,null,null,null,null,null,null,null,null,null,null,null,null,null,null,null,null,null,null,null,null,null,null,null,null,{"$f":"IFERROR(VLOOKUP(AM47640,Cod_DIVIPOLA!A:C,2,0),\"CODIGO INCORRECTO\")","v":"CODIGO INCORRECTO"}]
[47692,null,null,null,null,null,null,null,null,null,null,null,null,null,null,null,null,null,null,null,null,null,null,null,null,null,null,null,null,null,null,null,null,null,null,null,null,null,null,{"$f":"IFERROR(VLOOKUP(AM47694,Cod_DIVIPOLA!A:C,2,0),\"CODIGO INCORRECTO\")","v":"CODIGO INCORRECTO"}]
[47757,null,null,null,null,null,null,null,null,null,null,null,null,null,null,null,null,null,null,null,null,null,null,null,null,null,null,null,null,null,null,null,null,null,null,null,null,null,null,{"$f":"IFERROR(VLOOKUP(AM47759,Cod_DIVIPOLA!A:C,2,0),\"CODIGO INCORRECTO\")","v":"CODIGO INCORRECTO"}]
[47778,null,null,null,null,null,null,null,null,null,null,null,null,null,null,null,null,null,null,null,null,null,null,null,null,null,null,null,null,null,null,null,null,null,null,null,null,null,null,{"$f":"IFERROR(VLOOKUP(AM47780,Cod_DIVIPOLA!A:C,2,0),\"CODIGO INCORRECTO\")","v":"CODIGO INCORRECTO"}]
[47866,null,null,null,null,null,null,null,null,null,null,null,null,null,null,null,null,null,null,null,null,null,null,null,null,null,null,null,null,null,null,null,null,null,null,null,null,null,null,{"$f":"IFERROR(VLOOKUP(AM47868,Cod_DIVIPOLA!A:C,2,0),\"CODIGO INCORRECTO\")","v":"CODIGO INCORRECTO"}]
[47897,null,null,null,null,null,null,null,null,null,null,null,null,null,null,null,null,null,null,null,null,null,null,null,null,null,null,null,null,null,null,null,null,null,null,null,null,null,null,{"$f":"IFERROR(VLOOKUP(AM47899,Cod_DIVIPOLA!A:C,2,0),\"CODIGO INCORRECTO\")","v":"CODIGO INCORRECTO"}]
[47936,null,null,null,null,null,null,null,null,null,null,null,null,null,null,null,null,null,null,null,null,null,null,null,null,null,null,null,null,null,null,null,null,null,null,null,null,null,null,{"$f":"IFERROR(VLOOKUP(AM47938,Cod_DIVIPOLA!A:C,2,0),\"CODIGO INCORRECTO\")","v":"CODIGO INCORRECTO"}]
[48016,null,null,null,null,null,null,null,null,null,null,null,null,null,null,null,null,null,null,null,null,null,null,null,null,null,null,null,null,null,null,null,null,null,null,null,null,null,null,{"$f":"IFERROR(VLOOKUP(AM48018,Cod_DIVIPOLA!A:C,2,0),\"CODIGO INCORRECTO\")","v":"CODIGO INCORRECTO"}]
[48091,null,null,null,null,null,null,null,null,null,null,null,null,null,null,null,null,null,null,null,null,null,null,null,null,null,null,null,null,null,null,null,null,null,null,null,null,null,null,{"$f":"IFERROR(VLOOKUP(AM48093,Cod_DIVIPOLA!A:C,2,0),\"CODIGO INCORRECTO\")","v":"CODIGO INCORRECTO"}]
[48110,null,null,null,null,null,null,null,null,null,null,null,null,null,null,null,null,null,null,null,null,null,null,null,null,null,null,null,null,null,null,null,null,null,null,null,null,null,null,{"$f":"IFERROR(VLOOKUP(AM48112,Cod_DIVIPOLA!A:C,2,0),\"CODIGO INCORRECTO\")","v":"CODIGO INCORRECTO"}]
[48156,null,null,null,null,null,null,null,null,null,null,null,null,null,null,null,null,null,null,null,null,null,null,null,null,null,null,null,null,null,null,null,null,null,null,null,null,null,null,{"$f":"IFERROR(VLOOKUP(AM48158,Cod_DIVIPOLA!A:C,2,0),\"CODIGO INCORRECTO\")","v":"CODIGO INCORRECTO"}]
[48235,null,null,null,null,null,null,null,null,null,null,null,null,null,null,null,null,null,null,null,null,null,null,null,null,null,null,null,null,null,null,null,null,null,null,null,null,null,null,{"$f":"IFERROR(VLOOKUP(AM48237,Cod_DIVIPOLA!A:C,2,0),\"CODIGO INCORRECTO\")","v":"CODIGO INCORRECTO"}]
[48307,null,null,null,null,null,null,null,null,null,null,null,null,null,null,null,null,null,null,null,null,null,null,null,null,null,null,null,null,null,null,null,null,null,null,null,null,null,null,{"$f":"IFERROR(VLOOKUP(AM48309,Cod_DIVIPOLA!A:C,2,0),\"CODIGO INCORRECTO\")","v":"CODIGO INCORRECTO"}]
[48350,null,null,null,null,null,null,null,null,null,null,null,null,null,null,null,null,null,null,null,null,null,null,null,null,null,null,null,null,null,null,null,null,null,null,null,null,null,null,{"$f":"IFERROR(VLOOKUP(AM48352,Cod_DIVIPOLA!A:C,2,0),\"CODIGO INCORRECTO\")","v":"CODIGO INCORRECTO"}]
[48409,null,null,null,null,null,null,null,null,null,null,null,null,null,null,null,null,null,null,null,null,null,null,null,null,null,null,null,null,null,null,null,null,null,null,null,null,null,null,{"$f":"IFERROR(VLOOKUP(AM48411,Cod_DIVIPOLA!A:C,2,0),\"CODIGO INCORRECTO\")","v":"CODIGO INCORRECTO"}]
[48469,null,null,null,null,null,null,null,null,null,null,null,null,null,null,null,null,null,null,null,null,null,null,null,null,null,null,null,null,null,null,null,null,null,null,null,null,null,null,{"$f":"IFERROR(VLOOKUP(AM48471,Cod_DIVIPOLA!A:C,2,0),\"CODIGO INCORRECTO\")","v":"CODIGO INCORRECTO"}]
[48490,null,null,null,null,null,null,null,null,null,null,null,null,null,null,null,null,null,null,null,null,null,null,null,null,null,null,null,null,null,null,null,null,null,null,null,null,null,null,{"$f":"IFERROR(VLOOKUP(AM48492,Cod_DIVIPOLA!A:C,2,0),\"CODIGO INCORRECTO\")","v":"CODIGO INCORRECTO"}]
[48583,null,null,null,null,null,null,null,null,null,null,null,null,null,null,null,null,null,null,null,null,null,null,null,null,null,null,null,null,null,null,null,null,null,null,null,null,null,null,{"$f":"IFERROR(VLOOKUP(AM48585,Cod_DIVIPOLA!A:C,2,0),\"CODIGO INCORRECTO\")","v":"CODIGO INCORRECTO"}]
[48609,null,null,null,null,null,null,null,null,null,null,null,null,null,null,null,null,null,null,null,null,null,null,null,null,null,null,null,null,null,null,null,null,null,null,null,null,null,null,{"$f":"IFERROR(VLOOKUP(AM48611,Cod_DIVIPOLA!A:C,2,0),\"CODIGO INCORRECTO\")","v":"CODIGO INCORRECTO"}]
[48653,null,null,null,null,null,null,null,null,null,null,null,null,null,null,null,null,null,null,null,null,null,null,null,null,null,null,null,null,null,null,null,null,null,null,null,null,null,null,{"$f":"IFERROR(VLOOKUP(AM48655,Cod_DIVIPOLA!A:C,2,0),\"CODIGO INCORRECTO\")","v":"CODIGO INCORRECTO"}]
[48706,null,null,null,null,null,null,null,null,null,null,null,null,null,null,null,null,null,null,null,null,null,null,null,null,null,null,null,null,null,null,null,null,null,null,null,null,null,null,{"$f":"IFERROR(VLOOKUP(AM48708,Cod_DIVIPOLA!A:C,2,0),\"CODIGO INCORRECTO\")","v":"CODIGO INCORRECTO"}]
[48803,null,null,null,null,null,null,null,null,null,null,null,null,null,null,null,null,null,null,null,null,null,null,null,null,null,null,null,null,null,null,null,null,null,null,null,null,null,null,{"$f":"IFERROR(VLOOKUP(AM48805,Cod_DIVIPOLA!A:C,2,0),\"CODIGO INCORRECTO\")","v":"CODIGO INCORRECTO"}]
[48827,null,null,null,null,null,null,null,null,null,null,null,null,null,null,null,null,null,null,null,null,null,null,null,null,null,null,null,null,null,null,null,null,null,null,null,null,null,null,{"$f":"IFERROR(VLOOKUP(AM48829,Cod_DIVIPOLA!A:C,2,0),\"CODIGO INCORRECTO\")","v":"CODIGO INCORRECTO"}]
[48868,null,null,null,null,null,null,null,null,null,null,null,null,null,null,null,null,null,null,null,null,null,null,null,null,null,null,null,null,null,null,null,null,null,null,null,null,null,null,{"$f":"IFERROR(VLOOKUP(AM48870,Cod_DIVIPOLA!A:C,2,0),\"CODIGO INCORRECTO\")","v":"CODIGO INCORRECTO"}]
[48952,null,null,null,null,null,null,null,null,null,null,null,null,null,null,null,null,null,null,null,null,null,null,null,null,null,null,null,null,null,null,null,null,null,null,null,null,null,null,{"$f":"IFERROR(VLOOKUP(AM48954,Cod_DIVIPOLA!A:C,2,0),\"CODIGO INCORRECTO\")","v":"CODIGO INCORRECTO"}]
[49019,null,null,null,null,null,null,null,null,null,null,null,null,null,null,null,null,null,null,null,null,null,null,null,null,null,null,null,null,null,null,null,null,null,null,null,null,null,null,{"$f":"IFERROR(VLOOKUP(AM49021,Cod_DIVIPOLA!A:C,2,0),\"CODIGO INCORRECTO\")","v":"CODIGO INCORRECTO"}]
[49062,null,null,null,null,null,null,null,null,null,null,null,null,null,null,null,null,null,null,null,null,null,null,null,null,null,null,null,null,null,null,null,null,null,null,null,null,null,null,{"$f":"IFERROR(VLOOKUP(AM49064,Cod_DIVIPOLA!A:C,2,0),\"CODIGO INCORRECTO\")","v":"CODIGO INCORRECTO"}]
[49126,null,null,null,null,null,null,null,null,null,null,null,null,null,null,null,null,null,null,null,null,null,null,null,null,null,null,null,null,null,null,null,null,null,null,null,null,null,null,{"$f":"IFERROR(VLOOKUP(AM49128,Cod_DIVIPOLA!A:C,2,0),\"CODIGO INCORRECTO\")","v":"CODIGO INCORRECTO"}]
[49181,null,null,null,null,null,null,null,null,null,null,null,null,null,null,null,null,null,null,null,null,null,null,null,null,null,null,null,null,null,null,null,null,null,null,null,null,null,null,{"$f":"IFERROR(VLOOKUP(AM49183,Cod_DIVIPOLA!A:C,2,0),\"CODIGO INCORRECTO\")","v":"CODIGO INCORRECTO"}]
[49196,null,null,null,null,null,null,null,null,null,null,null,null,null,null,null,null,null,null,null,null,null,null,null,null,null,null,null,null,null,null,null,null,null,null,null,null,null,null,{"$f":"IFERROR(VLOOKUP(AM49198,Cod_DIVIPOLA!A:C,2,0),\"CODIGO INCORRECTO\")","v":"CODIGO INCORRECTO"}]
[49278,null,null,null,null,null,null,null,null,null,null,null,null,null,null,null,null,null,null,null,null,null,null,null,null,null,null,null,null,null,null,null,null,null,null,null,null,null,null,{"$f":"IFERROR(VLOOKUP(AM49280,Cod_DIVIPOLA!A:C,2,0),\"CODIGO INCORRECTO\")","v":"CODIGO INCORRECTO"}]
[49321,null,null,null,null,null,null,null,null,null,null,null,null,null,null,null,null,null,null,null,null,null,null,null,null,null,null,null,null,null,null,null,null,null,null,null,null,null,null,{"$f":"IFERROR(VLOOKUP(AM49323,Cod_DIVIPOLA!A:C,2,0),\"CODIGO INCORRECTO\")","v":"CODIGO INCORRECTO"}]
[49370,null,null,null,null,null,null,null,null,null,null,null,null,null,null,null,null,null,null,null,null,null,null,null,null,null,null,null,null,null,null,null,null,null,null,null,null,null,null,{"$f":"IFERROR(VLOOKUP(AM49372,Cod_DIVIPOLA!A:C,2,0),\"CODIGO INCORRECTO\")","v":"CODIGO INCORRECTO"}]
[49418,null,null,null,null,null,null,null,null,null,null,null,null,null,null,null,null,null,null,null,null,null,null,null,null,null,null,null,null,null,null,null,null,null,null,null,null,null,null,{"$f":"IFERROR(VLOOKUP(AM49420,Cod_DIVIPOLA!A:C,2,0),\"CODIGO INCORRECTO\")","v":"CODIGO INCORRECTO"}]
[49461,null,null,null,null,null,null,null,null,null,null,null,null,null,null,null,null,null,null,null,null,null,null,null,null,null,null,null,null,null,null,null,null,null,null,null,null,null,null,{"$f":"IFERROR(VLOOKUP(AM49463,Cod_DIVIPOLA!A:C,2,0),\"CODIGO INCORRECTO\")","v":"CODIGO INCORRECTO"}]
[49544,null,null,null,null,null,null,null,null,null,null,null,null,null,null,null,null,null,null,null,null,null,null,null,null,null,null,null,null,null,null,null,null,null,null,null,null,null,null,{"$f":"IFERROR(VLOOKUP(AM49546,Cod_DIVIPOLA!A:C,2,0),\"CODIGO INCORRECTO\")","v":"CODIGO INCORRECTO"}]
[49580,null,null,null,null,null,null,null,null,null,null,null,null,null,null,null,null,null,null,null,null,null,null,null,null,null,null,null,null,null,null,null,null,null,null,null,null,null,null,{"$f":"IFERROR(VLOOKUP(AM49582,Cod_DIVIPOLA!A:C,2,0),\"CODIGO INCORRECTO\")","v":"CODIGO INCORRECTO"}]
[49669,null,null,null,null,null,null,null,null,null,null,null,null,null,null,null,null,null,null,null,null,null,null,null,null,null,null,null,null,null,null,null,null,null,null,null,null,null,null,{"$f":"IFERROR(VLOOKUP(AM49671,Cod_DIVIPOLA!A:C,2,0),\"CODIGO INCORRECTO\")","v":"CODIGO INCORRECTO"}]
[49677,null,null,null,null,null,null,null,null,null,null,null,null,null,null,null,null,null,null,null,null,null,null,null,null,null,null,null,null,null,null,null,null,null,null,null,null,null,null,{"$f":"IFERROR(VLOOKUP(AM49679,Cod_DIVIPOLA!A:C,2,0),\"CODIGO INCORRECTO\")","v":"CODIGO INCORRECTO"}]
[49774,null,null,null,null,null,null,null,null,null,null,null,null,null,null,null,null,null,null,null,null,null,null,null,null,null,null,null,null,null,null,null,null,null,null,null,null,null,null,{"$f":"IFERROR(VLOOKUP(AM49776,Cod_DIVIPOLA!A:C,2,0),\"CODIGO INCORRECTO\")","v":"CODIGO INCORRECTO"}]
[49788,null,null,null,null,null,null,null,null,null,null,null,null,null,null,null,null,null,null,null,null,null,null,null,null,null,null,null,null,null,null,null,null,null,null,null,null,null,null,{"$f":"IFERROR(VLOOKUP(AM49790,Cod_DIVIPOLA!A:C,2,0),\"CODIGO INCORRECTO\")","v":"CODIGO INCORRECTO"}]
[49893,null,null,null,null,null,null,null,null,null,null,null,null,null,null,null,null,null,null,null,null,null,null,null,null,null,null,null,null,null,null,null,null,null,null,null,null,null,null,{"$f":"IFERROR(VLOOKUP(AM49895,Cod_DIVIPOLA!A:C,2,0),\"CODIGO INCORRECTO\")","v":"CODIGO INCORRECTO"}]
[49913,null,null,null,null,null,null,null,null,null,null,null,null,null,null,null,null,null,null,null,null,null,null,null,null,null,null,null,null,null,null,null,null,null,null,null,null,null,null,{"$f":"IFERROR(VLOOKUP(AM49915,Cod_DIVIPOLA!A:C,2,0),\"CODIGO INCORRECTO\")","v":"CODIGO INCORRECTO"}]
[49990,null,null,null,null,null,null,null,null,null,null,null,null,null,null,null,null,null,null,null,null,null,null,null,null,null,null,null,null,null,null,null,null,null,null,null,null,null,null,{"$f":"IFERROR(VLOOKUP(AM49992,Cod_DIVIPOLA!A:C,2,0),\"CODIGO INCORRECTO\")","v":"CODIGO INCORRECTO"}]
[50033,null,null,null,null,null,null,null,null,null,null,null,null,null,null,null,null,null,null,null,null,null,null,null,null,null,null,null,null,null,null,null,null,null,null,null,null,null,null,{"$f":"IFERROR(VLOOKUP(AM50035,Cod_DIVIPOLA!A:C,2,0),\"CODIGO INCORRECTO\")","v":"CODIGO INCORRECTO"}]
[50087,null,null,null,null,null,null,null,null,null,null,null,null,null,null,null,null,null,null,null,null,null,null,null,null,null,null,null,null,null,null,null,null,null,null,null,null,null,null,{"$f":"IFERROR(VLOOKUP(AM50089,Cod_DIVIPOLA!A:C,2,0),\"CODIGO INCORRECTO\")","v":"CODIGO INCORRECTO"}]
[50130,null,null,null,null,null,null,null,null,null,null,null,null,null,null,null,null,null,null,null,null,null,null,null,null,null,null,null,null,null,null,null,null,null,null,null,null,null,null,{"$f":"IFERROR(VLOOKUP(AM50132,Cod_DIVIPOLA!A:C,2,0),\"CODIGO INCORRECTO\")","v":"CODIGO INCORRECTO"}]
[50212,null,null,null,null,null,null,null,null,null,null,null,null,null,null,null,null,null,null,null,null,null,null,null,null,null,null,null,null,null,null,null,null,null,null,null,null,null,null,{"$f":"IFERROR(VLOOKUP(AM50214,Cod_DIVIPOLA!A:C,2,0),\"CODIGO INCORRECTO\")","v":"CODIGO INCORRECTO"}]
[50249,null,null,null,null,null,null,null,null,null,null,null,null,null,null,null,null,null,null,null,null,null,null,null,null,null,null,null,null,null,null,null,null,null,null,null,null,null,null,{"$f":"IFERROR(VLOOKUP(AM50251,Cod_DIVIPOLA!A:C,2,0),\"CODIGO INCORRECTO\")","v":"CODIGO INCORRECTO"}]
[50292,null,null,null,null,null,null,null,null,null,null,null,null,null,null,null,null,null,null,null,null,null,null,null,null,null,null,null,null,null,null,null,null,null,null,null,null,null,null,{"$f":"IFERROR(VLOOKUP(AM50294,Cod_DIVIPOLA!A:C,2,0),\"CODIGO INCORRECTO\")","v":"CODIGO INCORRECTO"}]
[50331,null,null,null,null,null,null,null,null,null,null,null,null,null,null,null,null,null,null,null,null,null,null,null,null,null,null,null,null,null,null,null,null,null,null,null,null,null,null,{"$f":"IFERROR(VLOOKUP(AM50333,Cod_DIVIPOLA!A:C,2,0),\"CODIGO INCORRECTO\")","v":"CODIGO INCORRECTO"}]
[50389,null,null,null,null,null,null,null,null,null,null,null,null,null,null,null,null,null,null,null,null,null,null,null,null,null,null,null,null,null,null,null,null,null,null,null,null,null,null,{"$f":"IFERROR(VLOOKUP(AM50391,Cod_DIVIPOLA!A:C,2,0),\"CODIGO INCORRECTO\")","v":"CODIGO INCORRECTO"}]
[50486,null,null,null,null,null,null,null,null,null,null,null,null,null,null,null,null,null,null,null,null,null,null,null,null,null,null,null,null,null,null,null,null,null,null,null,null,null,null,{"$f":"IFERROR(VLOOKUP(AM50488,Cod_DIVIPOLA!A:C,2,0),\"CODIGO INCORRECTO\")","v":"CODIGO INCORRECTO"}]
[50505,null,null,null,null,null,null,null,null,null,null,null,null,null,null,null,null,null,null,null,null,null,null,null,null,null,null,null,null,null,null,null,null,null,null,null,null,null,null,{"$f":"IFERROR(VLOOKUP(AM50507,Cod_DIVIPOLA!A:C,2,0),\"CODIGO INCORRECTO\")","v":"CODIGO INCORRECTO"}]
[50583,null,null,null,null,null,null,null,null,null,null,null,null,null,null,null,null,null,null,null,null,null,null,null,null,null,null,null,null,null,null,null,null,null,null,null,null,null,null,{"$f":"IFERROR(VLOOKUP(AM50585,Cod_DIVIPOLA!A:C,2,0),\"CODIGO INCORRECTO\")","v":"CODIGO INCORRECTO"}]
[50630,null,null,null,null,null,null,null,null,null,null,null,null,null,null,null,null,null,null,null,null,null,null,null,null,null,null,null,null,null,null,null,null,null,null,null,null,null,null,{"$f":"IFERROR(VLOOKUP(AM50632,Cod_DIVIPOLA!A:C,2,0),\"CODIGO INCORRECTO\")","v":"CODIGO INCORRECTO"}]
[50702,null,null,null,null,null,null,null,null,null,null,null,null,null,null,null,null,null,null,null,null,null,null,null,null,null,null,null,null,null,null,null,null,null,null,null,null,null,null,{"$f":"IFERROR(VLOOKUP(AM50704,Cod_DIVIPOLA!A:C,2,0),\"CODIGO INCORRECTO\")","v":"CODIGO INCORRECTO"}]
[50745,null,null,null,null,null,null,null,null,null,null,null,null,null,null,null,null,null,null,null,null,null,null,null,null,null,null,null,null,null,null,null,null,null,null,null,null,null,null,{"$f":"IFERROR(VLOOKUP(AM50747,Cod_DIVIPOLA!A:C,2,0),\"CODIGO INCORRECTO\")","v":"CODIGO INCORRECTO"}]
[50804,null,null,null,null,null,null,null,null,null,null,null,null,null,null,null,null,null,null,null,null,null,null,null,null,null,null,null,null,null,null,null,null,null,null,null,null,null,null,{"$f":"IFERROR(VLOOKUP(AM50806,Cod_DIVIPOLA!A:C,2,0),\"CODIGO INCORRECTO\")","v":"CODIGO INCORRECTO"}]
[50842,null,null,null,null,null,null,null,null,null,null,null,null,null,null,null,null,null,null,null,null,null,null,null,null,null,null,null,null,null,null,null,null,null,null,null,null,null,null,{"$f":"IFERROR(VLOOKUP(AM50844,Cod_DIVIPOLA!A:C,2,0),\"CODIGO INCORRECTO\")","v":"CODIGO INCORRECTO"}]
[50874,null,null,null,null,null,null,null,null,null,null,null,null,null,null,null,null,null,null,null,null,null,null,null,null,null,null,null,null,null,null,null,null,null,null,null,null,null,null,{"$f":"IFERROR(VLOOKUP(AM50876,Cod_DIVIPOLA!A:C,2,0),\"CODIGO INCORRECTO\")","v":"CODIGO INCORRECTO"}]
[50961,null,null,null,null,null,null,null,null,null,null,null,null,null,null,null,null,null,null,null,null,null,null,null,null,null,null,null,null,null,null,null,null,null,null,null,null,null,null,{"$f":"IFERROR(VLOOKUP(AM50963,Cod_DIVIPOLA!A:C,2,0),\"CODIGO INCORRECTO\")","v":"CODIGO INCORRECTO"}]
[51004,null,null,null,null,null,null,null,null,null,null,null,null,null,null,null,null,null,null,null,null,null,null,null,null,null,null,null,null,null,null,null,null,null,null,null,null,null,null,{"$f":"IFERROR(VLOOKUP(AM51006,Cod_DIVIPOLA!A:C,2,0),\"CODIGO INCORRECTO\")","v":"CODIGO INCORRECTO"}]
[51048,null,null,null,null,null,null,null,null,null,null,null,null,null,null,null,null,null,null,null,null,null,null,null,null,null,null,null,null,null,null,null,null,null,null,null,null,null,null,{"$f":"IFERROR(VLOOKUP(AM51050,Cod_DIVIPOLA!A:C,2,0),\"CODIGO INCORRECTO\")","v":"CODIGO INCORRECTO"}]
[51101,null,null,null,null,null,null,null,null,null,null,null,null,null,null,null,null,null,null,null,null,null,null,null,null,null,null,null,null,null,null,null,null,null,null,null,null,null,null,{"$f":"IFERROR(VLOOKUP(AM51103,Cod_DIVIPOLA!A:C,2,0),\"CODIGO INCORRECTO\")","v":"CODIGO INCORRECTO"}]
[51173,null,null,null,null,null,null,null,null,null,null,null,null,null,null,null,null,null,null,null,null,null,null,null,null,null,null,null,null,null,null,null,null,null,null,null,null,null,null,{"$f":"IFERROR(VLOOKUP(AM51175,Cod_DIVIPOLA!A:C,2,0),\"CODIGO INCORRECTO\")","v":"CODIGO INCORRECTO"}]
[51220,null,null,null,null,null,null,null,null,null,null,null,null,null,null,null,null,null,null,null,null,null,null,null,null,null,null,null,null,null,null,null,null,null,null,null,null,null,null,{"$f":"IFERROR(VLOOKUP(AM51222,Cod_DIVIPOLA!A:C,2,0),\"CODIGO INCORRECTO\")","v":"CODIGO INCORRECTO"}]
[51295,null,null,null,null,null,null,null,null,null,null,null,null,null,null,null,null,null,null,null,null,null,null,null,null,null,null,null,null,null,null,null,null,null,null,null,null,null,null,{"$f":"IFERROR(VLOOKUP(AM51297,Cod_DIVIPOLA!A:C,2,0),\"CODIGO INCORRECTO\")","v":"CODIGO INCORRECTO"}]
[51347,null,null,null,null,null,null,null,null,null,null,null,null,null,null,null,null,null,null,null,null,null,null,null,null,null,null,null,null,null,null,null,null,null,null,null,null,null,null,{"$f":"IFERROR(VLOOKUP(AM51349,Cod_DIVIPOLA!A:C,2,0),\"CODIGO INCORRECTO\")","v":"CODIGO INCORRECTO"}]
[51414,null,null,null,null,null,null,null,null,null,null,null,null,null,null,null,null,null,null,null,null,null,null,null,null,null,null,null,null,null,null,null,null,null,null,null,null,null,null,{"$f":"IFERROR(VLOOKUP(AM51416,Cod_DIVIPOLA!A:C,2,0),\"CODIGO INCORRECTO\")","v":"CODIGO INCORRECTO"}]
[51457,null,null,null,null,null,null,null,null,null,null,null,null,null,null,null,null,null,null,null,null,null,null,null,null,null,null,null,null,null,null,null,null,null,null,null,null,null,null,{"$f":"IFERROR(VLOOKUP(AM51459,Cod_DIVIPOLA!A:C,2,0),\"CODIGO INCORRECTO\")","v":"CODIGO INCORRECTO"}]
[51521,null,null,null,null,null,null,null,null,null,null,null,null,null,null,null,null,null,null,null,null,null,null,null,null,null,null,null,null,null,null,null,null,null,null,null,null,null,null,{"$f":"IFERROR(VLOOKUP(AM51523,Cod_DIVIPOLA!A:C,2,0),\"CODIGO INCORRECTO\")","v":"CODIGO INCORRECTO"}]
[51554,null,null,null,null,null,null,null,null,null,null,null,null,null,null,null,null,null,null,null,null,null,null,null,null,null,null,null,null,null,null,null,null,null,null,null,null,null,null,{"$f":"IFERROR(VLOOKUP(AM51556,Cod_DIVIPOLA!A:C,2,0),\"CODIGO INCORRECTO\")","v":"CODIGO INCORRECTO"}]
[51591,null,null,null,null,null,null,null,null,null,null,null,null,null,null,null,null,null,null,null,null,null,null,null,null,null,null,null,null,null,null,null,null,null,null,null,null,null,null,{"$f":"IFERROR(VLOOKUP(AM51593,Cod_DIVIPOLA!A:C,2,0),\"CODIGO INCORRECTO\")","v":"CODIGO INCORRECTO"}]
[51673,null,null,null,null,null,null,null,null,null,null,null,null,null,null,null,null,null,null,null,null,null,null,null,null,null,null,null,null,null,null,null,null,null,null,null,null,null,null,{"$f":"IFERROR(VLOOKUP(AM51675,Cod_DIVIPOLA!A:C,2,0),\"CODIGO INCORRECTO\")","v":"CODIGO INCORRECTO"}]
[51694,null,null,null,null,null,null,null,null,null,null,null,null,null,null,null,null,null,null,null,null,null,null,null,null,null,null,null,null,null,null,null,null,null,null,null,null,null,null,{"$f":"IFERROR(VLOOKUP(AM51696,Cod_DIVIPOLA!A:C,2,0),\"CODIGO INCORRECTO\")","v":"CODIGO INCORRECTO"}]
[51765,null,null,null,null,null,null,null,null,null,null,null,null,null,null,null,null,null,null,null,null,null,null,null,null,null,null,null,null,null,null,null,null,null,null,null,null,null,null,{"$f":"IFERROR(VLOOKUP(AM51767,Cod_DIVIPOLA!A:C,2,0),\"CODIGO INCORRECTO\")","v":"CODIGO INCORRECTO"}]
[51813,null,null,null,null,null,null,null,null,null,null,null,null,null,null,null,null,null,null,null,null,null,null,null,null,null,null,null,null,null,null,null,null,null,null,null,null,null,null,{"$f":"IFERROR(VLOOKUP(AM51815,Cod_DIVIPOLA!A:C,2,0),\"CODIGO INCORRECTO\")","v":"CODIGO INCORRECTO"}]
[51890,null,null,null,null,null,null,null,null,null,null,null,null,null,null,null,null,null,null,null,null,null,null,null,null,null,null,null,null,null,null,null,null,null,null,null,null,null,null,{"$f":"IFERROR(VLOOKUP(AM51892,Cod_DIVIPOLA!A:C,2,0),\"CODIGO INCORRECTO\")","v":"CODIGO INCORRECTO"}]
[51932,null,null,null,null,null,null,null,null,null,null,null,null,null,null,null,null,null,null,null,null,null,null,null,null,null,null,null,null,null,null,null,null,null,null,null,null,null,null,{"$f":"IFERROR(VLOOKUP(AM51934,Cod_DIVIPOLA!A:C,2,0),\"CODIGO INCORRECTO\")","v":"CODIGO INCORRECTO"}]
[52007,null,null,null,null,null,null,null,null,null,null,null,null,null,null,null,null,null,null,null,null,null,null,null,null,null,null,null,null,null,null,null,null,null,null,null,null,null,null,{"$f":"IFERROR(VLOOKUP(AM52009,Cod_DIVIPOLA!A:C,2,0),\"CODIGO INCORRECTO\")","v":"CODIGO INCORRECTO"}]
[52064,null,null,null,null,null,null,null,null,null,null,null,null,null,null,null,null,null,null,null,null,null,null,null,null,null,null,null,null,null,null,null,null,null,null,null,null,null,null,{"$f":"IFERROR(VLOOKUP(AM52066,Cod_DIVIPOLA!A:C,2,0),\"CODIGO INCORRECTO\")","v":"CODIGO INCORRECTO"}]
[52072,null,null,null,null,null,null,null,null,null,null,null,null,null,null,null,null,null,null,null,null,null,null,null,null,null,null,null,null,null,null,null,null,null,null,null,null,null,null,{"$f":"IFERROR(VLOOKUP(AM52074,Cod_DIVIPOLA!A:C,2,0),\"CODIGO INCORRECTO\")","v":"CODIGO INCORRECTO"}]
[52134,null,null,null,null,null,null,null,null,null,null,null,null,null,null,null,null,null,null,null,null,null,null,null,null,null,null,null,null,null,null,null,null,null,null,null,null,null,null,{"$f":"IFERROR(VLOOKUP(AM52136,Cod_DIVIPOLA!A:C,2,0),\"CODIGO INCORRECTO\")","v":"CODIGO INCORRECTO"}]
[52191,null,null,null,null,null,null,null,null,null,null,null,null,null,null,null,null,null,null,null,null,null,null,null,null,null,null,null,null,null,null,null,null,null,null,null,null,null,null,{"$f":"IFERROR(VLOOKUP(AM52193,Cod_DIVIPOLA!A:C,2,0),\"CODIGO INCORRECTO\")","v":"CODIGO INCORRECTO"}]
[52266,null,null,null,null,null,null,null,null,null,null,null,null,null,null,null,null,null,null,null,null,null,null,null,null,null,null,null,null,null,null,null,null,null,null,null,null,null,null,{"$f":"IFERROR(VLOOKUP(AM52268,Cod_DIVIPOLA!A:C,2,0),\"CODIGO INCORRECTO\")","v":"CODIGO INCORRECTO"}]
[52308,null,null,null,null,null,null,null,null,null,null,null,null,null,null,null,null,null,null,null,null,null,null,null,null,null,null,null,null,null,null,null,null,null,null,null,null,null,null,{"$f":"IFERROR(VLOOKUP(AM52310,Cod_DIVIPOLA!A:C,2,0),\"CODIGO INCORRECTO\")","v":"CODIGO INCORRECTO"}]
[52385,null,null,null,null,null,null,null,null,null,null,null,null,null,null,null,null,null,null,null,null,null,null,null,null,null,null,null,null,null,null,null,null,null,null,null,null,null,null,{"$f":"IFERROR(VLOOKUP(AM52387,Cod_DIVIPOLA!A:C,2,0),\"CODIGO INCORRECTO\")","v":"CODIGO INCORRECTO"}]
[52406,null,null,null,null,null,null,null,null,null,null,null,null,null,null,null,null,null,null,null,null,null,null,null,null,null,null,null,null,null,null,null,null,null,null,null,null,null,null,{"$f":"IFERROR(VLOOKUP(AM52408,Cod_DIVIPOLA!A:C,2,0),\"CODIGO INCORRECTO\")","v":"CODIGO INCORRECTO"}]
[52482,null,null,null,null,null,null,null,null,null,null,null,null,null,null,null,null,null,null,null,null,null,null,null,null,null,null,null,null,null,null,null,null,null,null,null,null,null,null,{"$f":"IFERROR(VLOOKUP(AM52484,Cod_DIVIPOLA!A:C,2,0),\"CODIGO INCORRECTO\")","v":"CODIGO INCORRECTO"}]
[52525,null,null,null,null,null,null,null,null,null,null,null,null,null,null,null,null,null,null,null,null,null,null,null,null,null,null,null,null,null,null,null,null,null,null,null,null,null,null,{"$f":"IFERROR(VLOOKUP(AM52527,Cod_DIVIPOLA!A:C,2,0),\"CODIGO INCORRECTO\")","v":"CODIGO INCORRECTO"}]
[52607,null,null,null,null,null,null,null,null,null,null,null,null,null,null,null,null,null,null,null,null,null,null,null,null,null,null,null,null,null,null,null,null,null,null,null,null,null,null,{"$f":"IFERROR(VLOOKUP(AM52609,Cod_DIVIPOLA!A:C,2,0),\"CODIGO INCORRECTO\")","v":"CODIGO INCORRECTO"}]
[52644,null,null,null,null,null,null,null,null,null,null,null,null,null,null,null,null,null,null,null,null,null,null,null,null,null,null,null,null,null,null,null,null,null,null,null,null,null,null,{"$f":"IFERROR(VLOOKUP(AM52646,Cod_DIVIPOLA!A:C,2,0),\"CODIGO INCORRECTO\")","v":"CODIGO INCORRECTO"}]
[52719,null,null,null,null,null,null,null,null,null,null,null,null,null,null,null,null,null,null,null,null,null,null,null,null,null,null,null,null,null,null,null,null,null,null,null,null,null,null,{"$f":"IFERROR(VLOOKUP(AM52721,Cod_DIVIPOLA!A:C,2,0),\"CODIGO INCORRECTO\")","v":"CODIGO INCORRECTO"}]
[52726,null,null,null,null,null,null,null,null,null,null,null,null,null,null,null,null,null,null,null,null,null,null,null,null,null,null,null,null,null,null,null,null,null,null,null,null,null,null,{"$f":"IFERROR(VLOOKUP(AM52728,Cod_DIVIPOLA!A:C,2,0),\"CODIGO INCORRECTO\")","v":"CODIGO INCORRECTO"}]
[52784,null,null,null,null,null,null,null,null,null,null,null,null,null,null,null,null,null,null,null,null,null,null,null,null,null,null,null,null,null,null,null,null,null,null,null,null,null,null,{"$f":"IFERROR(VLOOKUP(AM52786,Cod_DIVIPOLA!A:C,2,0),\"CODIGO INCORRECTO\")","v":"CODIGO INCORRECTO"}]
[52851,null,null,null,null,null,null,null,null,null,null,null,null,null,null,null,null,null,null,null,null,null,null,null,null,null,null,null,null,null,null,null,null,null,null,null,null,null,null,{"$f":"IFERROR(VLOOKUP(AM52853,Cod_DIVIPOLA!A:C,2,0),\"CODIGO INCORRECTO\")","v":"CODIGO INCORRECTO"}]
[52903,null,null,null,null,null,null,null,null,null,null,null,null,null,null,null,null,null,null,null,null,null,null,null,null,null,null,null,null,null,null,null,null,null,null,null,null,null,null,{"$f":"IFERROR(VLOOKUP(AM52905,Cod_DIVIPOLA!A:C,2,0),\"CODIGO INCORRECTO\")","v":"CODIGO INCORRECTO"}]
[52978,null,null,null,null,null,null,null,null,null,null,null,null,null,null,null,null,null,null,null,null,null,null,null,null,null,null,null,null,null,null,null,null,null,null,null,null,null,null,{"$f":"IFERROR(VLOOKUP(AM52980,Cod_DIVIPOLA!A:C,2,0),\"CODIGO INCORRECTO\")","v":"CODIGO INCORRECTO"}]
[53025,null,null,null,null,null,null,null,null,null,null,null,null,null,null,null,null,null,null,null,null,null,null,null,null,null,null,null,null,null,null,null,null,null,null,null,null,null,null,{"$f":"IFERROR(VLOOKUP(AM53027,Cod_DIVIPOLA!A:C,2,0),\"CODIGO INCORRECTO\")","v":"CODIGO INCORRECTO"}]
[53097,null,null,null,null,null,null,null,null,null,null,null,null,null,null,null,null,null,null,null,null,null,null,null,null,null,null,null,null,null,null,null,null,null,null,null,null,null,null,{"$f":"IFERROR(VLOOKUP(AM53099,Cod_DIVIPOLA!A:C,2,0),\"CODIGO INCORRECTO\")","v":"CODIGO INCORRECTO"}]
[53124,null,null,null,null,null,null,null,null,null,null,null,null,null,null,null,null,null,null,null,null,null,null,null,null,null,null,null,null,null,null,null,null,null,null,null,null,null,null,{"$f":"IFERROR(VLOOKUP(AM53126,Cod_DIVIPOLA!A:C,2,0),\"CODIGO INCORRECTO\")","v":"CODIGO INCORRECTO"}]
[53162,null,null,null,null,null,null,null,null,null,null,null,null,null,null,null,null,null,null,null,null,null,null,null,null,null,null,null,null,null,null,null,null,null,null,null,null,null,null,{"$f":"IFERROR(VLOOKUP(AM53164,Cod_DIVIPOLA!A:C,2,0),\"CODIGO INCORRECTO\")","v":"CODIGO INCORRECTO"}]
[53237,null,null,null,null,null,null,null,null,null,null,null,null,null,null,null,null,null,null,null,null,null,null,null,null,null,null,null,null,null,null,null,null,null,null,null,null,null,null,{"$f":"IFERROR(VLOOKUP(AM53239,Cod_DIVIPOLA!A:C,2,0),\"CODIGO INCORRECTO\")","v":"CODIGO INCORRECTO"}]
[53269,null,null,null,null,null,null,null,null,null,null,null,null,null,null,null,null,null,null,null,null,null,null,null,null,null,null,null,null,null,null,null,null,null,null,null,null,null,null,{"$f":"IFERROR(VLOOKUP(AM53271,Cod_DIVIPOLA!A:C,2,0),\"CODIGO INCORRECTO\")","v":"CODIGO INCORRECTO"}]
[53356,null,null,null,null,null,null,null,null,null,null,null,null,null,null,null,null,null,null,null,null,null,null,null,null,null,null,null,null,null,null,null,null,null,null,null,null,null,null,{"$f":"IFERROR(VLOOKUP(AM53358,Cod_DIVIPOLA!A:C,2,0),\"CODIGO INCORRECTO\")","v":"CODIGO INCORRECTO"}]
[53377,null,null,null,null,null,null,null,null,null,null,null,null,null,null,null,null,null,null,null,null,null,null,null,null,null,null,null,null,null,null,null,null,null,null,null,null,null,null,{"$f":"IFERROR(VLOOKUP(AM53379,Cod_DIVIPOLA!A:C,2,0),\"CODIGO INCORRECTO\")","v":"CODIGO INCORRECTO"}]
[53443,null,null,null,null,null,null,null,null,null,null,null,null,null,null,null,null,null,null,null,null,null,null,null,null,null,null,null,null,null,null,null,null,null,null,null,null,null,null,{"$f":"IFERROR(VLOOKUP(AM53445,Cod_DIVIPOLA!A:C,2,0),\"CODIGO INCORRECTO\")","v":"CODIGO INCORRECTO"}]
[53496,null,null,null,null,null,null,null,null,null,null,null,null,null,null,null,null,null,null,null,null,null,null,null,null,null,null,null,null,null,null,null,null,null,null,null,null,null,null,{"$f":"IFERROR(VLOOKUP(AM53498,Cod_DIVIPOLA!A:C,2,0),\"CODIGO INCORRECTO\")","v":"CODIGO INCORRECTO"}]
[53542,null,null,null,null,null,null,null,null,null,null,null,null,null,null,null,null,null,null,null,null,null,null,null,null,null,null,null,null,null,null,null,null,null,null,null,null,null,null,{"$f":"IFERROR(VLOOKUP(AM53544,Cod_DIVIPOLA!A:C,2,0),\"CODIGO INCORRECTO\")","v":"CODIGO INCORRECTO"}]
[53615,null,null,null,null,null,null,null,null,null,null,null,null,null,null,null,null,null,null,null,null,null,null,null,null,null,null,null,null,null,null,null,null,null,null,null,null,null,null,{"$f":"IFERROR(VLOOKUP(AM53617,Cod_DIVIPOLA!A:C,2,0),\"CODIGO INCORRECTO\")","v":"CODIGO INCORRECTO"}]
[53690,null,null,null,null,null,null,null,null,null,null,null,null,null,null,null,null,null,null,null,null,null,null,null,null,null,null,null,null,null,null,null,null,null,null,null,null,null,null,{"$f":"IFERROR(VLOOKUP(AM53692,Cod_DIVIPOLA!A:C,2,0),\"CODIGO INCORRECTO\")","v":"CODIGO INCORRECTO"}]
[53742,null,null,null,null,null,null,null,null,null,null,null,null,null,null,null,null,null,null,null,null,null,null,null,null,null,null,null,null,null,null,null,null,null,null,null,null,null,null,{"$f":"IFERROR(VLOOKUP(AM53744,Cod_DIVIPOLA!A:C,2,0),\"CODIGO INCORRECTO\")","v":"CODIGO INCORRECTO"}]
[53809,null,null,null,null,null,null,null,null,null,null,null,null,null,null,null,null,null,null,null,null,null,null,null,null,null,null,null,null,null,null,null,null,null,null,null,null,null,null,{"$f":"IFERROR(VLOOKUP(AM53811,Cod_DIVIPOLA!A:C,2,0),\"CODIGO INCORRECTO\")","v":"CODIGO INCORRECTO"}]
[53841,null,null,null,null,null,null,null,null,null,null,null,null,null,null,null,null,null,null,null,null,null,null,null,null,null,null,null,null,null,null,null,null,null,null,null,null,null,null,{"$f":"IFERROR(VLOOKUP(AM53843,Cod_DIVIPOLA!A:C,2,0),\"CODIGO INCORRECTO\")","v":"CODIGO INCORRECTO"}]
[53874,null,null,null,null,null,null,null,null,null,null,null,null,null,null,null,null,null,null,null,null,null,null,null,null,null,null,null,null,null,null,null,null,null,null,null,null,null,null,{"$f":"IFERROR(VLOOKUP(AM53876,Cod_DIVIPOLA!A:C,2,0),\"CODIGO INCORRECTO\")","v":"CODIGO INCORRECTO"}]
[53949,null,null,null,null,null,null,null,null,null,null,null,null,null,null,null,null,null,null,null,null,null,null,null,null,null,null,null,null,null,null,null,null,null,null,null,null,null,null,{"$f":"IFERROR(VLOOKUP(AM53951,Cod_DIVIPOLA!A:C,2,0),\"CODIGO INCORRECTO\")","v":"CODIGO INCORRECTO"}]
[53986,null,null,null,null,null,null,null,null,null,null,null,null,null,null,null,null,null,null,null,null,null,null,null,null,null,null,null,null,null,null,null,null,null,null,null,null,null,null,{"$f":"IFERROR(VLOOKUP(AM53988,Cod_DIVIPOLA!A:C,2,0),\"CODIGO INCORRECTO\")","v":"CODIGO INCORRECTO"}]
[54068,null,null,null,null,null,null,null,null,null,null,null,null,null,null,null,null,null,null,null,null,null,null,null,null,null,null,null,null,null,null,null,null,null,null,null,null,null,null,{"$f":"IFERROR(VLOOKUP(AM54070,Cod_DIVIPOLA!A:C,2,0),\"CODIGO INCORRECTO\")","v":"CODIGO INCORRECTO"}]
[54085,null,null,null,null,null,null,null,null,null,null,null,null,null,null,null,null,null,null,null,null,null,null,null,null,null,null,null,null,null,null,null,null,null,null,null,null,null,null,{"$f":"IFERROR(VLOOKUP(AM54087,Cod_DIVIPOLA!A:C,2,0),\"CODIGO INCORRECTO\")","v":"CODIGO INCORRECTO"}]
[54187,null,null,null,null,null,null,null,null,null,null,null,null,null,null,null,null,null,null,null,null,null,null,null,null,null,null,null,null,null,null,null,null,null,null,null,null,null,null,{"$f":"IFERROR(VLOOKUP(AM54189,Cod_DIVIPOLA!A:C,2,0),\"CODIGO INCORRECTO\")","v":"CODIGO INCORRECTO"}]
[54208,null,null,null,null,null,null,null,null,null,null,null,null,null,null,null,null,null,null,null,null,null,null,null,null,null,null,null,null,null,null,null,null,null,null,null,null,null,null,{"$f":"IFERROR(VLOOKUP(AM54210,Cod_DIVIPOLA!A:C,2,0),\"CODIGO INCORRECTO\")","v":"CODIGO INCORRECTO"}]
[54259,null,null,null,null,null,null,null,null,null,null,null,null,null,null,null,null,null,null,null,null,null,null,null,null,null,null,null,null,null,null,null,null,null,null,null,null,null,null,{"$f":"IFERROR(VLOOKUP(AM54261,Cod_DIVIPOLA!A:C,2,0),\"CODIGO INCORRECTO\")","v":"CODIGO INCORRECTO"}]
[54327,null,null,null,null,null,null,null,null,null,null,null,null,null,null,null,null,null,null,null,null,null,null,null,null,null,null,null,null,null,null,null,null,null,null,null,null,null,null,{"$f":"IFERROR(VLOOKUP(AM54329,Cod_DIVIPOLA!A:C,2,0),\"CODIGO INCORRECTO\")","v":"CODIGO INCORRECTO"}]
[54402,null,null,null,null,null,null,null,null,null,null,null,null,null,null,null,null,null,null,null,null,null,null,null,null,null,null,null,null,null,null,null,null,null,null,null,null,null,null,{"$f":"IFERROR(VLOOKUP(AM54404,Cod_DIVIPOLA!A:C,2,0),\"CODIGO INCORRECTO\")","v":"CODIGO INCORRECTO"}]
[54459,null,null,null,null,null,null,null,null,null,null,null,null,null,null,null,null,null,null,null,null,null,null,null,null,null,null,null,null,null,null,null,null,null,null,null,null,null,null,{"$f":"IFERROR(VLOOKUP(AM54461,Cod_DIVIPOLA!A:C,2,0),\"CODIGO INCORRECTO\")","v":"CODIGO INCORRECTO"}]
[54467,null,null,null,null,null,null,null,null,null,null,null,null,null,null,null,null,null,null,null,null,null,null,null,null,null,null,null,null,null,null,null,null,null,null,null,null,null,null,{"$f":"IFERROR(VLOOKUP(AM54469,Cod_DIVIPOLA!A:C,2,0),\"CODIGO INCORRECTO\")","v":"CODIGO INCORRECTO"}]
[54558,null,null,null,null,null,null,null,null,null,null,null,null,null,null,null,null,null,null,null,null,null,null,null,null,null,null,null,null,null,null,null,null,null,null,null,null,null,null,{"$f":"IFERROR(VLOOKUP(AM54560,Cod_DIVIPOLA!A:C,2,0),\"CODIGO INCORRECTO\")","v":"CODIGO INCORRECTO"}]
[54586,null,null,null,null,null,null,null,null,null,null,null,null,null,null,null,null,null,null,null,null,null,null,null,null,null,null,null,null,null,null,null,null,null,null,null,null,null,null,{"$f":"IFERROR(VLOOKUP(AM54588,Cod_DIVIPOLA!A:C,2,0),\"CODIGO INCORRECTO\")","v":"CODIGO INCORRECTO"}]
[54661,null,null,null,null,null,null,null,null,null,null,null,null,null,null,null,null,null,null,null,null,null,null,null,null,null,null,null,null,null,null,null,null,null,null,null,null,null,null,{"$f":"IFERROR(VLOOKUP(AM54663,Cod_DIVIPOLA!A:C,2,0),\"CODIGO INCORRECTO\")","v":"CODIGO INCORRECTO"}]
[54703,null,null,null,null,null,null,null,null,null,null,null,null,null,null,null,null,null,null,null,null,null,null,null,null,null,null,null,null,null,null,null,null,null,null,null,null,null,null,{"$f":"IFERROR(VLOOKUP(AM54705,Cod_DIVIPOLA!A:C,2,0),\"CODIGO INCORRECTO\")","v":"CODIGO INCORRECTO"}]
[54780,null,null,null,null,null,null,null,null,null,null,null,null,null,null,null,null,null,null,null,null,null,null,null,null,null,null,null,null,null,null,null,null,null,null,null,null,null,null,{"$f":"IFERROR(VLOOKUP(AM54782,Cod_DIVIPOLA!A:C,2,0),\"CODIGO INCORRECTO\")","v":"CODIGO INCORRECTO"}]
[54802,null,null,null,null,null,null,null,null,null,null,null,null,null,null,null,null,null,null,null,null,null,null,null,null,null,null,null,null,null,null,null,null,null,null,null,null,null,null,{"$f":"IFERROR(VLOOKUP(AM54804,Cod_DIVIPOLA!A:C,2,0),\"CODIGO INCORRECTO\")","v":"CODIGO INCORRECTO"}]
[54845,null,null,null,null,null,null,null,null,null,null,null,null,null,null,null,null,null,null,null,null,null,null,null,null,null,null,null,null,null,null,null,null,null,null,null,null,null,null,{"$f":"IFERROR(VLOOKUP(AM54847,Cod_DIVIPOLA!A:C,2,0),\"CODIGO INCORRECTO\")","v":"CODIGO INCORRECTO"}]
[54920,null,null,null,null,null,null,null,null,null,null,null,null,null,null,null,null,null,null,null,null,null,null,null,null,null,null,null,null,null,null,null,null,null,null,null,null,null,null,{"$f":"IFERROR(VLOOKUP(AM54922,Cod_DIVIPOLA!A:C,2,0),\"CODIGO INCORRECTO\")","v":"CODIGO INCORRECTO"}]
[54976,null,null,null,null,null,null,null,null,null,null,null,null,null,null,null,null,null,null,null,null,null,null,null,null,null,null,null,null,null,null,null,null,null,null,null,null,null,null,{"$f":"IFERROR(VLOOKUP(AM54978,Cod_DIVIPOLA!A:C,2,0),\"CODIGO INCORRECTO\")","v":"CODIGO INCORRECTO"}]
[55039,null,null,null,null,null,null,null,null,null,null,null,null,null,null,null,null,null,null,null,null,null,null,null,null,null,null,null,null,null,null,null,null,null,null,null,null,null,null,{"$f":"IFERROR(VLOOKUP(AM55041,Cod_DIVIPOLA!A:C,2,0),\"CODIGO INCORRECTO\")","v":"CODIGO INCORRECTO"}]
[55101,null,null,null,null,null,null,null,null,null,null,null,null,null,null,null,null,null,null,null,null,null,null,null,null,null,null,null,null,null,null,null,null,null,null,null,null,null,null,{"$f":"IFERROR(VLOOKUP(AM55103,Cod_DIVIPOLA!A:C,2,0),\"CODIGO INCORRECTO\")","v":"CODIGO INCORRECTO"}]
[55158,null,null,null,null,null,null,null,null,null,null,null,null,null,null,null,null,null,null,null,null,null,null,null,null,null,null,null,null,null,null,null,null,null,null,null,null,null,null,{"$f":"IFERROR(VLOOKUP(AM55160,Cod_DIVIPOLA!A:C,2,0),\"CODIGO INCORRECTO\")","v":"CODIGO INCORRECTO"}]
[55179,null,null,null,null,null,null,null,null,null,null,null,null,null,null,null,null,null,null,null,null,null,null,null,null,null,null,null,null,null,null,null,null,null,null,null,null,null,null,{"$f":"IFERROR(VLOOKUP(AM55181,Cod_DIVIPOLA!A:C,2,0),\"CODIGO INCORRECTO\")","v":"CODIGO INCORRECTO"}]
[55275,null,null,null,null,null,null,null,null,null,null,null,null,null,null,null,null,null,null,null,null,null,null,null,null,null,null,null,null,null,null,null,null,null,null,null,null,null,null,{"$f":"IFERROR(VLOOKUP(AM55277,Cod_DIVIPOLA!A:C,2,0),\"CODIGO INCORRECTO\")","v":"CODIGO INCORRECTO"}]
[55298,null,null,null,null,null,null,null,null,null,null,null,null,null,null,null,null,null,null,null,null,null,null,null,null,null,null,null,null,null,null,null,null,null,null,null,null,null,null,{"$f":"IFERROR(VLOOKUP(AM55300,Cod_DIVIPOLA!A:C,2,0),\"CODIGO INCORRECTO\")","v":"CODIGO INCORRECTO"}]
[55345,null,null,null,null,null,null,null,null,null,null,null,null,null,null,null,null,null,null,null,null,null,null,null,null,null,null,null,null,null,null,null,null,null,null,null,null,null,null,{"$f":"IFERROR(VLOOKUP(AM55347,Cod_DIVIPOLA!A:C,2,0),\"CODIGO INCORRECTO\")","v":"CODIGO INCORRECTO"}]
[55388,null,null,null,null,null,null,null,null,null,null,null,null,null,null,null,null,null,null,null,null,null,null,null,null,null,null,null,null,null,null,null,null,null,null,null,null,null,null,{"$f":"IFERROR(VLOOKUP(AM55390,Cod_DIVIPOLA!A:C,2,0),\"CODIGO INCORRECTO\")","v":"CODIGO INCORRECTO"}]
[55389,null,null,null,null,null,null,null,null,null,null,null,null,null,null,null,null,null,null,null,null,null,null,null,null,null,null,null,null,null,null,null,null,null,null,null,null,null,null,{"$f":"IFERROR(VLOOKUP(AM55391,Cod_DIVIPOLA!A:C,2,0),\"CODIGO INCORRECTO\")","v":"CODIGO INCORRECTO"}]
[55390,null,null,null,null,null,null,null,null,null,null,null,null,null,null,null,null,null,null,null,null,null,null,null,null,null,null,null,null,null,null,null,null,null,null,null,null,null,null,{"$f":"IFERROR(VLOOKUP(AM55392,Cod_DIVIPOLA!A:C,2,0),\"CODIGO INCORRECTO\")","v":"CODIGO INCORRECTO"}]
[55391,null,null,null,null,null,null,null,null,null,null,null,null,null,null,null,null,null,null,null,null,null,null,null,null,null,null,null,null,null,null,null,null,null,null,null,null,null,null,{"$f":"IFERROR(VLOOKUP(AM55393,Cod_DIVIPOLA!A:C,2,0),\"CODIGO INCORRECTO\")","v":"CODIGO INCORRECTO"}]
[55392,null,null,null,null,null,null,null,null,null,null,null,null,null,null,null,null,null,null,null,null,null,null,null,null,null,null,null,null,null,null,null,null,null,null,null,null,null,null,{"$f":"IFERROR(VLOOKUP(AM55394,Cod_DIVIPOLA!A:C,2,0),\"CODIGO INCORRECTO\")","v":"CODIGO INCORRECTO"}]
[55393,null,null,null,null,null,null,null,null,null,null,null,null,null,null,null,null,null,null,null,null,null,null,null,null,null,null,null,null,null,null,null,null,null,null,null,null,null,null,{"$f":"IFERROR(VLOOKUP(AM55395,Cod_DIVIPOLA!A:C,2,0),\"CODIGO INCORRECTO\")","v":"CODIGO INCORRECTO"}]
[55394,null,null,null,null,null,null,null,null,null,null,null,null,null,null,null,null,null,null,null,null,null,null,null,null,null,null,null,null,null,null,null,null,null,null,null,null,null,null,{"$f":"IFERROR(VLOOKUP(AM55396,Cod_DIVIPOLA!A:C,2,0),\"CODIGO INCORRECTO\")","v":"CODIGO INCORRECTO"}]
[55395,null,null,null,null,null,null,null,null,null,null,null,null,null,null,null,null,null,null,null,null,null,null,null,null,null,null,null,null,null,null,null,null,null,null,null,null,null,null,{"$f":"IFERROR(VLOOKUP(AM55397,Cod_DIVIPOLA!A:C,2,0),\"CODIGO INCORRECTO\")","v":"CODIGO INCORRECTO"}]
[55396,null,null,null,null,null,null,null,null,null,null,null,null,null,null,null,null,null,null,null,null,null,null,null,null,null,null,null,null,null,null,null,null,null,null,null,null,null,null,{"$f":"IFERROR(VLOOKUP(AM55398,Cod_DIVIPOLA!A:C,2,0),\"CODIGO INCORRECTO\")","v":"CODIGO INCORRECTO"}]
[55397,null,null,null,null,null,null,null,null,null,null,null,null,null,null,null,null,null,null,null,null,null,null,null,null,null,null,null,null,null,null,null,null,null,null,null,null,null,null,{"$f":"IFERROR(VLOOKUP(AM55399,Cod_DIVIPOLA!A:C,2,0),\"CODIGO INCORRECTO\")","v":"CODIGO INCORRECTO"}]
[55398,null,null,null,null,null,null,null,null,null,null,null,null,null,null,null,null,null,null,null,null,null,null,null,null,null,null,null,null,null,null,null,null,null,null,null,null,null,null,{"$f":"IFERROR(VLOOKUP(AM55400,Cod_DIVIPOLA!A:C,2,0),\"CODIGO INCORRECTO\")","v":"CODIGO INCORRECTO"}]
[55399,null,null,null,null,null,null,null,null,null,null,null,null,null,null,null,null,null,null,null,null,null,null,null,null,null,null,null,null,null,null,null,null,null,null,null,null,null,null,{"$f":"IFERROR(VLOOKUP(AM55401,Cod_DIVIPOLA!A:C,2,0),\"CODIGO INCORRECTO\")","v":"CODIGO INCORRECTO"}]
[55400,null,null,null,null,null,null,null,null,null,null,null,null,null,null,null,null,null,null,null,null,null,null,null,null,null,null,null,null,null,null,null,null,null,null,null,null,null,null,{"$f":"IFERROR(VLOOKUP(AM55402,Cod_DIVIPOLA!A:C,2,0),\"CODIGO INCORRECTO\")","v":"CODIGO INCORRECTO"}]
[55401,null,null,null,null,null,null,null,null,null,null,null,null,null,null,null,null,null,null,null,null,null,null,null,null,null,null,null,null,null,null,null,null,null,null,null,null,null,null,{"$f":"IFERROR(VLOOKUP(AM55403,Cod_DIVIPOLA!A:C,2,0),\"CODIGO INCORRECTO\")","v":"CODIGO INCORRECTO"}]
[55402,null,null,null,null,null,null,null,null,null,null,null,null,null,null,null,null,null,null,null,null,null,null,null,null,null,null,null,null,null,null,null,null,null,null,null,null,null,null,{"$f":"IFERROR(VLOOKUP(AM55404,Cod_DIVIPOLA!A:C,2,0),\"CODIGO INCORRECTO\")","v":"CODIGO INCORRECTO"}]
[55403,null,null,null,null,null,null,null,null,null,null,null,null,null,null,null,null,null,null,null,null,null,null,null,null,null,null,null,null,null,null,null,null,null,null,null,null,null,null,{"$f":"IFERROR(VLOOKUP(AM55405,Cod_DIVIPOLA!A:C,2,0),\"CODIGO INCORRECTO\")","v":"CODIGO INCORRECTO"}]
[55404,null,null,null,null,null,null,null,null,null,null,null,null,null,null,null,null,null,null,null,null,null,null,null,null,null,null,null,null,null,null,null,null,null,null,null,null,null,null,{"$f":"IFERROR(VLOOKUP(AM55406,Cod_DIVIPOLA!A:C,2,0),\"CODIGO INCORRECTO\")","v":"CODIGO INCORRECTO"}]
[55405,null,null,null,null,null,null,null,null,null,null,null,null,null,null,null,null,null,null,null,null,null,null,null,null,null,null,null,null,null,null,null,null,null,null,null,null,null,null,{"$f":"IFERROR(VLOOKUP(AM55407,Cod_DIVIPOLA!A:C,2,0),\"CODIGO INCORRECTO\")","v":"CODIGO INCORRECTO"}]
[55406,null,null,null,null,null,null,null,null,null,null,null,null,null,null,null,null,null,null,null,null,null,null,null,null,null,null,null,null,null,null,null,null,null,null,null,null,null,null,{"$f":"IFERROR(VLOOKUP(AM55408,Cod_DIVIPOLA!A:C,2,0),\"CODIGO INCORRECTO\")","v":"CODIGO INCORRECTO"}]
[55407,null,null,null,null,null,null,null,null,null,null,null,null,null,null,null,null,null,null,null,null,null,null,null,null,null,null,null,null,null,null,null,null,null,null,null,null,null,null,{"$f":"IFERROR(VLOOKUP(AM55409,Cod_DIVIPOLA!A:C,2,0),\"CODIGO INCORRECTO\")","v":"CODIGO INCORRECTO"}]
[55408,null,null,null,null,null,null,null,null,null,null,null,null,null,null,null,null,null,null,null,null,null,null,null,null,null,null,null,null,null,null,null,null,null,null,null,null,null,null,{"$f":"IFERROR(VLOOKUP(AM55410,Cod_DIVIPOLA!A:C,2,0),\"CODIGO INCORRECTO\")","v":"CODIGO INCORRECTO"}]
[55409,null,null,null,null,null,null,null,null,null,null,null,null,null,null,null,null,null,null,null,null,null,null,null,null,null,null,null,null,null,null,null,null,null,null,null,null,null,null,{"$f":"IFERROR(VLOOKUP(AM55411,Cod_DIVIPOLA!A:C,2,0),\"CODIGO INCORRECTO\")","v":"CODIGO INCORRECTO"}]
[55410,null,null,null,null,null,null,null,null,null,null,null,null,null,null,null,null,null,null,null,null,null,null,null,null,null,null,null,null,null,null,null,null,null,null,null,null,null,null,{"$f":"IFERROR(VLOOKUP(AM55412,Cod_DIVIPOLA!A:C,2,0),\"CODIGO INCORRECTO\")","v":"CODIGO INCORRECTO"}]
[55411,null,null,null,null,null,null,null,null,null,null,null,null,null,null,null,null,null,null,null,null,null,null,null,null,null,null,null,null,null,null,null,null,null,null,null,null,null,null,{"$f":"IFERROR(VLOOKUP(AM55413,Cod_DIVIPOLA!A:C,2,0),\"CODIGO INCORRECTO\")","v":"CODIGO INCORRECTO"}]
[55412,null,null,null,null,null,null,null,null,null,null,null,null,null,null,null,null,null,null,null,null,null,null,null,null,null,null,null,null,null,null,null,null,null,null,null,null,null,null,{"$f":"IFERROR(VLOOKUP(AM55414,Cod_DIVIPOLA!A:C,2,0),\"CODIGO INCORRECTO\")","v":"CODIGO INCORRECTO"}]
[55413,null,null,null,null,null,null,null,null,null,null,null,null,null,null,null,null,null,null,null,null,null,null,null,null,null,null,null,null,null,null,null,null,null,null,null,null,null,null,{"$f":"IFERROR(VLOOKUP(AM55415,Cod_DIVIPOLA!A:C,2,0),\"CODIGO INCORRECTO\")","v":"CODIGO INCORRECTO"}]
[55414,null,null,null,null,null,null,null,null,null,null,null,null,null,null,null,null,null,null,null,null,null,null,null,null,null,null,null,null,null,null,null,null,null,null,null,null,null,null,{"$f":"IFERROR(VLOOKUP(AM55416,Cod_DIVIPOLA!A:C,2,0),\"CODIGO INCORRECTO\")","v":"CODIGO INCORRECTO"}]
[55415,null,null,null,null,null,null,null,null,null,null,null,null,null,null,null,null,null,null,null,null,null,null,null,null,null,null,null,null,null,null,null,null,null,null,null,null,null,null,{"$f":"IFERROR(VLOOKUP(AM55417,Cod_DIVIPOLA!A:C,2,0),\"CODIGO INCORRECTO\")","v":"CODIGO INCORRECTO"}]
[55416,null,null,null,null,null,null,null,null,null,null,null,null,null,null,null,null,null,null,null,null,null,null,null,null,null,null,null,null,null,null,null,null,null,null,null,null,null,null,{"$f":"IFERROR(VLOOKUP(AM55418,Cod_DIVIPOLA!A:C,2,0),\"CODIGO INCORRECTO\")","v":"CODIGO INCORRECTO"}]
[55417,null,null,null,null,null,null,null,null,null,null,null,null,null,null,null,null,null,null,null,null,null,null,null,null,null,null,null,null,null,null,null,null,null,null,null,null,null,null,{"$f":"IFERROR(VLOOKUP(AM55419,Cod_DIVIPOLA!A:C,2,0),\"CODIGO INCORRECTO\")","v":"CODIGO INCORRECTO"}]
[55418,null,null,null,null,null,null,null,null,null,null,null,null,null,null,null,null,null,null,null,null,null,null,null,null,null,null,null,null,null,null,null,null,null,null,null,null,null,null,{"$f":"IFERROR(VLOOKUP(AM55420,Cod_DIVIPOLA!A:C,2,0),\"CODIGO INCORRECTO\")","v":"CODIGO INCORRECTO"}]
[55419,null,null,null,null,null,null,null,null,null,null,null,null,null,null,null,null,null,null,null,null,null,null,null,null,null,null,null,null,null,null,null,null,null,null,null,null,null,null,{"$f":"IFERROR(VLOOKUP(AM55421,Cod_DIVIPOLA!A:C,2,0),\"CODIGO INCORRECTO\")","v":"CODIGO INCORRECTO"}]
[55420,null,null,null,null,null,null,null,null,null,null,null,null,null,null,null,null,null,null,null,null,null,null,null,null,null,null,null,null,null,null,null,null,null,null,null,null,null,null,{"$f":"IFERROR(VLOOKUP(AM55422,Cod_DIVIPOLA!A:C,2,0),\"CODIGO INCORRECTO\")","v":"CODIGO INCORRECTO"}]
[55421,null,null,null,null,null,null,null,null,null,null,null,null,null,null,null,null,null,null,null,null,null,null,null,null,null,null,null,null,null,null,null,null,null,null,null,null,null,null,{"$f":"IFERROR(VLOOKUP(AM55423,Cod_DIVIPOLA!A:C,2,0),\"CODIGO INCORRECTO\")","v":"CODIGO INCORRECTO"}]
[55422,null,null,null,null,null,null,null,null,null,null,null,null,null,null,null,null,null,null,null,null,null,null,null,null,null,null,null,null,null,null,null,null,null,null,null,null,null,null,{"$f":"IFERROR(VLOOKUP(AM55424,Cod_DIVIPOLA!A:C,2,0),\"CODIGO INCORRECTO\")","v":"CODIGO INCORRECTO"}]
[55423,null,null,null,null,null,null,null,null,null,null,null,null,null,null,null,null,null,null,null,null,null,null,null,null,null,null,null,null,null,null,null,null,null,null,null,null,null,null,{"$f":"IFERROR(VLOOKUP(AM55425,Cod_DIVIPOLA!A:C,2,0),\"CODIGO INCORRECTO\")","v":"CODIGO INCORRECTO"}]
[55424,null,null,null,null,null,null,null,null,null,null,null,null,null,null,null,null,null,null,null,null,null,null,null,null,null,null,null,null,null,null,null,null,null,null,null,null,null,null,{"$f":"IFERROR(VLOOKUP(AM55426,Cod_DIVIPOLA!A:C,2,0),\"CODIGO INCORRECTO\")","v":"CODIGO INCORRECTO"}]
[55425,null,null,null,null,null,null,null,null,null,null,null,null,null,null,null,null,null,null,null,null,null,null,null,null,null,null,null,null,null,null,null,null,null,null,null,null,null,null,{"$f":"IFERROR(VLOOKUP(AM55427,Cod_DIVIPOLA!A:C,2,0),\"CODIGO INCORRECTO\")","v":"CODIGO INCORRECTO"}]
[55426,null,null,null,null,null,null,null,null,null,null,null,null,null,null,null,null,null,null,null,null,null,null,null,null,null,null,null,null,null,null,null,null,null,null,null,null,null,null,{"$f":"IFERROR(VLOOKUP(AM55428,Cod_DIVIPOLA!A:C,2,0),\"CODIGO INCORRECTO\")","v":"CODIGO INCORRECTO"}]
[55427,null,null,null,null,null,null,null,null,null,null,null,null,null,null,null,null,null,null,null,null,null,null,null,null,null,null,null,null,null,null,null,null,null,null,null,null,null,null,{"$f":"IFERROR(VLOOKUP(AM55429,Cod_DIVIPOLA!A:C,2,0),\"CODIGO INCORRECTO\")","v":"CODIGO INCORRECTO"}]
[55428,null,null,null,null,null,null,null,null,null,null,null,null,null,null,null,null,null,null,null,null,null,null,null,null,null,null,null,null,null,null,null,null,null,null,null,null,null,null,{"$f":"IFERROR(VLOOKUP(AM55430,Cod_DIVIPOLA!A:C,2,0),\"CODIGO INCORRECTO\")","v":"CODIGO INCORRECTO"}]
[55429,null,null,null,null,null,null,null,null,null,null,null,null,null,null,null,null,null,null,null,null,null,null,null,null,null,null,null,null,null,null,null,null,null,null,null,null,null,null,{"$f":"IFERROR(VLOOKUP(AM55431,Cod_DIVIPOLA!A:C,2,0),\"CODIGO INCORRECTO\")","v":"CODIGO INCORRECTO"}]
[55430,null,null,null,null,null,null,null,null,null,null,null,null,null,null,null,null,null,null,null,null,null,null,null,null,null,null,null,null,null,null,null,null,null,null,null,null,null,null,{"$f":"IFERROR(VLOOKUP(AM55432,Cod_DIVIPOLA!A:C,2,0),\"CODIGO INCORRECTO\")","v":"CODIGO INCORRECTO"}]
[55431,null,null,null,null,null,null,null,null,null,null,null,null,null,null,null,null,null,null,null,null,null,null,null,null,null,null,null,null,null,null,null,null,null,null,null,null,null,null,{"$f":"IFERROR(VLOOKUP(AM55433,Cod_DIVIPOLA!A:C,2,0),\"CODIGO INCORRECTO\")","v":"CODIGO INCORRECTO"}]
[55432,null,null,null,null,null,null,null,null,null,null,null,null,null,null,null,null,null,null,null,null,null,null,null,null,null,null,null,null,null,null,null,null,null,null,null,null,null,null,{"$f":"IFERROR(VLOOKUP(AM55434,Cod_DIVIPOLA!A:C,2,0),\"CODIGO INCORRECTO\")","v":"CODIGO INCORRECTO"}]
[55433,null,null,null,null,null,null,null,null,null,null,null,null,null,null,null,null,null,null,null,null,null,null,null,null,null,null,null,null,null,null,null,null,null,null,null,null,null,null,{"$f":"IFERROR(VLOOKUP(AM55435,Cod_DIVIPOLA!A:C,2,0),\"CODIGO INCORRECTO\")","v":"CODIGO INCORRECTO"}]
[55434,null,null,null,null,null,null,null,null,null,null,null,null,null,null,null,null,null,null,null,null,null,null,null,null,null,null,null,null,null,null,null,null,null,null,null,null,null,null,{"$f":"IFERROR(VLOOKUP(AM55436,Cod_DIVIPOLA!A:C,2,0),\"CODIGO INCORRECTO\")","v":"CODIGO INCORRECTO"}]
[55435,null,null,null,null,null,null,null,null,null,null,null,null,null,null,null,null,null,null,null,null,null,null,null,null,null,null,null,null,null,null,null,null,null,null,null,null,null,null,{"$f":"IFERROR(VLOOKUP(AM55437,Cod_DIVIPOLA!A:C,2,0),\"CODIGO INCORRECTO\")","v":"CODIGO INCORRECTO"}]
[55436,null,null,null,null,null,null,null,null,null,null,null,null,null,null,null,null,null,null,null,null,null,null,null,null,null,null,null,null,null,null,null,null,null,null,null,null,null,null,{"$f":"IFERROR(VLOOKUP(AM55438,Cod_DIVIPOLA!A:C,2,0),\"CODIGO INCORRECTO\")","v":"CODIGO INCORRECTO"}]
[55437,null,null,null,null,null,null,null,null,null,null,null,null,null,null,null,null,null,null,null,null,null,null,null,null,null,null,null,null,null,null,null,null,null,null,null,null,null,null,{"$f":"IFERROR(VLOOKUP(AM55439,Cod_DIVIPOLA!A:C,2,0),\"CODIGO INCORRECTO\")","v":"CODIGO INCORRECTO"}]
[55438,null,null,null,null,null,null,null,null,null,null,null,null,null,null,null,null,null,null,null,null,null,null,null,null,null,null,null,null,null,null,null,null,null,null,null,null,null,null,{"$f":"IFERROR(VLOOKUP(AM55440,Cod_DIVIPOLA!A:C,2,0),\"CODIGO INCORRECTO\")","v":"CODIGO INCORRECTO"}]
[55439,null,null,null,null,null,null,null,null,null,null,null,null,null,null,null,null,null,null,null,null,null,null,null,null,null,null,null,null,null,null,null,null,null,null,null,null,null,null,{"$f":"IFERROR(VLOOKUP(AM55441,Cod_DIVIPOLA!A:C,2,0),\"CODIGO INCORRECTO\")","v":"CODIGO INCORRECTO"}]
[55440,null,null,null,null,null,null,null,null,null,null,null,null,null,null,null,null,null,null,null,null,null,null,null,null,null,null,null,null,null,null,null,null,null,null,null,null,null,null,{"$f":"IFERROR(VLOOKUP(AM55442,Cod_DIVIPOLA!A:C,2,0),\"CODIGO INCORRECTO\")","v":"CODIGO INCORRECTO"}]
[55441,null,null,null,null,null,null,null,null,null,null,null,null,null,null,null,null,null,null,null,null,null,null,null,null,null,null,null,null,null,null,null,null,null,null,null,null,null,null,{"$f":"IFERROR(VLOOKUP(AM55443,Cod_DIVIPOLA!A:C,2,0),\"CODIGO INCORRECTO\")","v":"CODIGO INCORRECTO"}]
[55442,null,null,null,null,null,null,null,null,null,null,null,null,null,null,null,null,null,null,null,null,null,null,null,null,null,null,null,null,null,null,null,null,null,null,null,null,null,null,{"$f":"IFERROR(VLOOKUP(AM55444,Cod_DIVIPOLA!A:C,2,0),\"CODIGO INCORRECTO\")","v":"CODIGO INCORRECTO"}]
[55443,null,null,null,null,null,null,null,null,null,null,null,null,null,null,null,null,null,null,null,null,null,null,null,null,null,null,null,null,null,null,null,null,null,null,null,null,null,null,{"$f":"IFERROR(VLOOKUP(AM55445,Cod_DIVIPOLA!A:C,2,0),\"CODIGO INCORRECTO\")","v":"CODIGO INCORRECTO"}]
[55444,null,null,null,null,null,null,null,null,null,null,null,null,null,null,null,null,null,null,null,null,null,null,null,null,null,null,null,null,null,null,null,null,null,null,null,null,null,null,{"$f":"IFERROR(VLOOKUP(AM55446,Cod_DIVIPOLA!A:C,2,0),\"CODIGO INCORRECTO\")","v":"CODIGO INCORRECTO"}]
[55445,null,null,null,null,null,null,null,null,null,null,null,null,null,null,null,null,null,null,null,null,null,null,null,null,null,null,null,null,null,null,null,null,null,null,null,null,null,null,{"$f":"IFERROR(VLOOKUP(AM55447,Cod_DIVIPOLA!A:C,2,0),\"CODIGO INCORRECTO\")","v":"CODIGO INCORRECTO"}]
[55446,null,null,null,null,null,null,null,null,null,null,null,null,null,null,null,null,null,null,null,null,null,null,null,null,null,null,null,null,null,null,null,null,null,null,null,null,null,null,{"$f":"IFERROR(VLOOKUP(AM55448,Cod_DIVIPOLA!A:C,2,0),\"CODIGO INCORRECTO\")","v":"CODIGO INCORRECTO"}]
[55447,null,null,null,null,null,null,null,null,null,null,null,null,null,null,null,null,null,null,null,null,null,null,null,null,null,null,null,null,null,null,null,null,null,null,null,null,null,null,{"$f":"IFERROR(VLOOKUP(AM55449,Cod_DIVIPOLA!A:C,2,0),\"CODIGO INCORRECTO\")","v":"CODIGO INCORRECTO"}]
[55448,null,null,null,null,null,null,null,null,null,null,null,null,null,null,null,null,null,null,null,null,null,null,null,null,null,null,null,null,null,null,null,null,null,null,null,null,null,null,{"$f":"IFERROR(VLOOKUP(AM55450,Cod_DIVIPOLA!A:C,2,0),\"CODIGO INCORRECTO\")","v":"CODIGO INCORRECTO"}]
[55449,null,null,null,null,null,null,null,null,null,null,null,null,null,null,null,null,null,null,null,null,null,null,null,null,null,null,null,null,null,null,null,null,null,null,null,null,null,null,{"$f":"IFERROR(VLOOKUP(AM55451,Cod_DIVIPOLA!A:C,2,0),\"CODIGO INCORRECTO\")","v":"CODIGO INCORRECTO"}]
[55450,null,null,null,null,null,null,null,null,null,null,null,null,null,null,null,null,null,null,null,null,null,null,null,null,null,null,null,null,null,null,null,null,null,null,null,null,null,null,{"$f":"IFERROR(VLOOKUP(AM55452,Cod_DIVIPOLA!A:C,2,0),\"CODIGO INCORRECTO\")","v":"CODIGO INCORRECTO"}]
[55451,null,null,null,null,null,null,null,null,null,null,null,null,null,null,null,null,null,null,null,null,null,null,null,null,null,null,null,null,null,null,null,null,null,null,null,null,null,null,{"$f":"IFERROR(VLOOKUP(AM55453,Cod_DIVIPOLA!A:C,2,0),\"CODIGO INCORRECTO\")","v":"CODIGO INCORRECTO"}]
[55452,null,null,null,null,null,null,null,null,null,null,null,null,null,null,null,null,null,null,null,null,null,null,null,null,null,null,null,null,null,null,null,null,null,null,null,null,null,null,{"$f":"IFERROR(VLOOKUP(AM55454,Cod_DIVIPOLA!A:C,2,0),\"CODIGO INCORRECTO\")","v":"CODIGO INCORRECTO"}]
[55453,null,null,null,null,null,null,null,null,null,null,null,null,null,null,null,null,null,null,null,null,null,null,null,null,null,null,null,null,null,null,null,null,null,null,null,null,null,null,{"$f":"IFERROR(VLOOKUP(AM55455,Cod_DIVIPOLA!A:C,2,0),\"CODIGO INCORRECTO\")","v":"CODIGO INCORRECTO"}]
[55454,null,null,null,null,null,null,null,null,null,null,null,null,null,null,null,null,null,null,null,null,null,null,null,null,null,null,null,null,null,null,null,null,null,null,null,null,null,null,{"$f":"IFERROR(VLOOKUP(AM55456,Cod_DIVIPOLA!A:C,2,0),\"CODIGO INCORRECTO\")","v":"CODIGO INCORRECTO"}]
[55455,null,null,null,null,null,null,null,null,null,null,null,null,null,null,null,null,null,null,null,null,null,null,null,null,null,null,null,null,null,null,null,null,null,null,null,null,null,null,{"$f":"IFERROR(VLOOKUP(AM55457,Cod_DIVIPOLA!A:C,2,0),\"CODIGO INCORRECTO\")","v":"CODIGO INCORRECTO"}]
[55456,null,null,null,null,null,null,null,null,null,null,null,null,null,null,null,null,null,null,null,null,null,null,null,null,null,null,null,null,null,null,null,null,null,null,null,null,null,null,{"$f":"IFERROR(VLOOKUP(AM55458,Cod_DIVIPOLA!A:C,2,0),\"CODIGO INCORRECTO\")","v":"CODIGO INCORRECTO"}]
[55457,null,null,null,null,null,null,null,null,null,null,null,null,null,null,null,null,null,null,null,null,null,null,null,null,null,null,null,null,null,null,null,null,null,null,null,null,null,null,{"$f":"IFERROR(VLOOKUP(AM55459,Cod_DIVIPOLA!A:C,2,0),\"CODIGO INCORRECTO\")","v":"CODIGO INCORRECTO"}]
[55458,null,null,null,null,null,null,null,null,null,null,null,null,null,null,null,null,null,null,null,null,null,null,null,null,null,null,null,null,null,null,null,null,null,null,null,null,null,null,{"$f":"IFERROR(VLOOKUP(AM55460,Cod_DIVIPOLA!A:C,2,0),\"CODIGO INCORRECTO\")","v":"CODIGO INCORRECTO"}]
[55459,null,null,null,null,null,null,null,null,null,null,null,null,null,null,null,null,null,null,null,null,null,null,null,null,null,null,null,null,null,null,null,null,null,null,null,null,null,null,{"$f":"IFERROR(VLOOKUP(AM55461,Cod_DIVIPOLA!A:C,2,0),\"CODIGO INCORRECTO\")","v":"CODIGO INCORRECTO"}]
[55460,null,null,null,null,null,null,null,null,null,null,null,null,null,null,null,null,null,null,null,null,null,null,null,null,null,null,null,null,null,null,null,null,null,null,null,null,null,null,{"$f":"IFERROR(VLOOKUP(AM55462,Cod_DIVIPOLA!A:C,2,0),\"CODIGO INCORRECTO\")","v":"CODIGO INCORRECTO"}]
[55461,null,null,null,null,null,null,null,null,null,null,null,null,null,null,null,null,null,null,null,null,null,null,null,null,null,null,null,null,null,null,null,null,null,null,null,null,null,null,{"$f":"IFERROR(VLOOKUP(AM55463,Cod_DIVIPOLA!A:C,2,0),\"CODIGO INCORRECTO\")","v":"CODIGO INCORRECTO"}]
[55462,null,null,null,null,null,null,null,null,null,null,null,null,null,null,null,null,null,null,null,null,null,null,null,null,null,null,null,null,null,null,null,null,null,null,null,null,null,null,{"$f":"IFERROR(VLOOKUP(AM55464,Cod_DIVIPOLA!A:C,2,0),\"CODIGO INCORRECTO\")","v":"CODIGO INCORRECTO"}]
[55463,null,null,null,null,null,null,null,null,null,null,null,null,null,null,null,null,null,null,null,null,null,null,null,null,null,null,null,null,null,null,null,null,null,null,null,null,null,null,{"$f":"IFERROR(VLOOKUP(AM55465,Cod_DIVIPOLA!A:C,2,0),\"CODIGO INCORRECTO\")","v":"CODIGO INCORRECTO"}]
[55464,null,null,null,null,null,null,null,null,null,null,null,null,null,null,null,null,null,null,null,null,null,null,null,null,null,null,null,null,null,null,null,null,null,null,null,null,null,null,{"$f":"IFERROR(VLOOKUP(AM55466,Cod_DIVIPOLA!A:C,2,0),\"CODIGO INCORRECTO\")","v":"CODIGO INCORRECTO"}]
[55465,null,null,null,null,null,null,null,null,null,null,null,null,null,null,null,null,null,null,null,null,null,null,null,null,null,null,null,null,null,null,null,null,null,null,null,null,null,null,{"$f":"IFERROR(VLOOKUP(AM55467,Cod_DIVIPOLA!A:C,2,0),\"CODIGO INCORRECTO\")","v":"CODIGO INCORRECTO"}]
[55466,null,null,null,null,null,null,null,null,null,null,null,null,null,null,null,null,null,null,null,null,null,null,null,null,null,null,null,null,null,null,null,null,null,null,null,null,null,null,{"$f":"IFERROR(VLOOKUP(AM55468,Cod_DIVIPOLA!A:C,2,0),\"CODIGO INCORRECTO\")","v":"CODIGO INCORRECTO"}]
[55467,null,null,null,null,null,null,null,null,null,null,null,null,null,null,null,null,null,null,null,null,null,null,null,null,null,null,null,null,null,null,null,null,null,null,null,null,null,null,{"$f":"IFERROR(VLOOKUP(AM55469,Cod_DIVIPOLA!A:C,2,0),\"CODIGO INCORRECTO\")","v":"CODIGO INCORRECTO"}]
[55468,null,null,null,null,null,null,null,null,null,null,null,null,null,null,null,null,null,null,null,null,null,null,null,null,null,null,null,null,null,null,null,null,null,null,null,null,null,null,{"$f":"IFERROR(VLOOKUP(AM55470,Cod_DIVIPOLA!A:C,2,0),\"CODIGO INCORRECTO\")","v":"CODIGO INCORRECTO"}]
[55469,null,null,null,null,null,null,null,null,null,null,null,null,null,null,null,null,null,null,null,null,null,null,null,null,null,null,null,null,null,null,null,null,null,null,null,null,null,null,{"$f":"IFERROR(VLOOKUP(AM55471,Cod_DIVIPOLA!A:C,2,0),\"CODIGO INCORRECTO\")","v":"CODIGO INCORRECTO"}]
[55470,null,null,null,null,null,null,null,null,null,null,null,null,null,null,null,null,null,null,null,null,null,null,null,null,null,null,null,null,null,null,null,null,null,null,null,null,null,null,{"$f":"IFERROR(VLOOKUP(AM55472,Cod_DIVIPOLA!A:C,2,0),\"CODIGO INCORRECTO\")","v":"CODIGO INCORRECTO"}]
[55471,null,null,null,null,null,null,null,null,null,null,null,null,null,null,null,null,null,null,null,null,null,null,null,null,null,null,null,null,null,null,null,null,null,null,null,null,null,null,{"$f":"IFERROR(VLOOKUP(AM55473,Cod_DIVIPOLA!A:C,2,0),\"CODIGO INCORRECTO\")","v":"CODIGO INCORRECTO"}]
[55472,null,null,null,null,null,null,null,null,null,null,null,null,null,null,null,null,null,null,null,null,null,null,null,null,null,null,null,null,null,null,null,null,null,null,null,null,null,null,{"$f":"IFERROR(VLOOKUP(AM55474,Cod_DIVIPOLA!A:C,2,0),\"CODIGO INCORRECTO\")","v":"CODIGO INCORRECTO"}]
[55473,null,null,null,null,null,null,null,null,null,null,null,null,null,null,null,null,null,null,null,null,null,null,null,null,null,null,null,null,null,null,null,null,null,null,null,null,null,null,{"$f":"IFERROR(VLOOKUP(AM55475,Cod_DIVIPOLA!A:C,2,0),\"CODIGO INCORRECTO\")","v":"CODIGO INCORRECTO"}]
[55474,null,null,null,null,null,null,null,null,null,null,null,null,null,null,null,null,null,null,null,null,null,null,null,null,null,null,null,null,null,null,null,null,null,null,null,null,null,null,{"$f":"IFERROR(VLOOKUP(AM55476,Cod_DIVIPOLA!A:C,2,0),\"CODIGO INCORRECTO\")","v":"CODIGO INCORRECTO"}]
[55475,null,null,null,null,null,null,null,null,null,null,null,null,null,null,null,null,null,null,null,null,null,null,null,null,null,null,null,null,null,null,null,null,null,null,null,null,null,null,{"$f":"IFERROR(VLOOKUP(AM55477,Cod_DIVIPOLA!A:C,2,0),\"CODIGO INCORRECTO\")","v":"CODIGO INCORRECTO"}]
[55476,null,null,null,null,null,null,null,null,null,null,null,null,null,null,null,null,null,null,null,null,null,null,null,null,null,null,null,null,null,null,null,null,null,null,null,null,null,null,{"$f":"IFERROR(VLOOKUP(AM55478,Cod_DIVIPOLA!A:C,2,0),\"CODIGO INCORRECTO\")","v":"CODIGO INCORRECTO"}]
[55477,null,null,null,null,null,null,null,null,null,null,null,null,null,null,null,null,null,null,null,null,null,null,null,null,null,null,null,null,null,null,null,null,null,null,null,null,null,null,{"$f":"IFERROR(VLOOKUP(AM55479,Cod_DIVIPOLA!A:C,2,0),\"CODIGO INCORRECTO\")","v":"CODIGO INCORRECTO"}]
[55478,null,null,null,null,null,null,null,null,null,null,null,null,null,null,null,null,null,null,null,null,null,null,null,null,null,null,null,null,null,null,null,null,null,null,null,null,null,null,{"$f":"IFERROR(VLOOKUP(AM55480,Cod_DIVIPOLA!A:C,2,0),\"CODIGO INCORRECTO\")","v":"CODIGO INCORRECTO"}]
[55479,null,null,null,null,null,null,null,null,null,null,null,null,null,null,null,null,null,null,null,null,null,null,null,null,null,null,null,null,null,null,null,null,null,null,null,null,null,null,{"$f":"IFERROR(VLOOKUP(AM55481,Cod_DIVIPOLA!A:C,2,0),\"CODIGO INCORRECTO\")","v":"CODIGO INCORRECTO"}]
[55480,null,null,null,null,null,null,null,null,null,null,null,null,null,null,null,null,null,null,null,null,null,null,null,null,null,null,null,null,null,null,null,null,null,null,null,null,null,null,{"$f":"IFERROR(VLOOKUP(AM55482,Cod_DIVIPOLA!A:C,2,0),\"CODIGO INCORRECTO\")","v":"CODIGO INCORRECTO"}]
[55481,null,null,null,null,null,null,null,null,null,null,null,null,null,null,null,null,null,null,null,null,null,null,null,null,null,null,null,null,null,null,null,null,null,null,null,null,null,null,{"$f":"IFERROR(VLOOKUP(AM55483,Cod_DIVIPOLA!A:C,2,0),\"CODIGO INCORRECTO\")","v":"CODIGO INCORRECTO"}]
[55482,null,null,null,null,null,null,null,null,null,null,null,null,null,null,null,null,null,null,null,null,null,null,null,null,null,null,null,null,null,null,null,null,null,null,null,null,null,null,{"$f":"IFERROR(VLOOKUP(AM55484,Cod_DIVIPOLA!A:C,2,0),\"CODIGO INCORRECTO\")","v":"CODIGO INCORRECTO"}]
[55483,null,null,null,null,null,null,null,null,null,null,null,null,null,null,null,null,null,null,null,null,null,null,null,null,null,null,null,null,null,null,null,null,null,null,null,null,null,null,{"$f":"IFERROR(VLOOKUP(AM55485,Cod_DIVIPOLA!A:C,2,0),\"CODIGO INCORRECTO\")","v":"CODIGO INCORRECTO"}]
[55484,null,null,null,null,null,null,null,null,null,null,null,null,null,null,null,null,null,null,null,null,null,null,null,null,null,null,null,null,null,null,null,null,null,null,null,null,null,null,{"$f":"IFERROR(VLOOKUP(AM55486,Cod_DIVIPOLA!A:C,2,0),\"CODIGO INCORRECTO\")","v":"CODIGO INCORRECTO"}]
[55485,null,null,null,null,null,null,null,null,null,null,null,null,null,null,null,null,null,null,null,null,null,null,null,null,null,null,null,null,null,null,null,null,null,null,null,null,null,null,{"$f":"IFERROR(VLOOKUP(AM55487,Cod_DIVIPOLA!A:C,2,0),\"CODIGO INCORRECTO\")","v":"CODIGO INCORRECTO"}]
[55486,null,null,null,null,null,null,null,null,null,null,null,null,null,null,null,null,null,null,null,null,null,null,null,null,null,null,null,null,null,null,null,null,null,null,null,null,null,null,{"$f":"IFERROR(VLOOKUP(AM55488,Cod_DIVIPOLA!A:C,2,0),\"CODIGO INCORRECTO\")","v":"CODIGO INCORRECTO"}]
[55487,null,null,null,null,null,null,null,null,null,null,null,null,null,null,null,null,null,null,null,null,null,null,null,null,null,null,null,null,null,null,null,null,null,null,null,null,null,null,{"$f":"IFERROR(VLOOKUP(AM55489,Cod_DIVIPOLA!A:C,2,0),\"CODIGO INCORRECTO\")","v":"CODIGO INCORRECTO"}]
[55488,null,null,null,null,null,null,null,null,null,null,null,null,null,null,null,null,null,null,null,null,null,null,null,null,null,null,null,null,null,null,null,null,null,null,null,null,null,null,{"$f":"IFERROR(VLOOKUP(AM55490,Cod_DIVIPOLA!A:C,2,0),\"CODIGO INCORRECTO\")","v":"CODIGO INCORRECTO"}]
[55489,null,null,null,null,null,null,null,null,null,null,null,null,null,null,null,null,null,null,null,null,null,null,null,null,null,null,null,null,null,null,null,null,null,null,null,null,null,null,{"$f":"IFERROR(VLOOKUP(AM55491,Cod_DIVIPOLA!A:C,2,0),\"CODIGO INCORRECTO\")","v":"CODIGO INCORRECTO"}]
[55490,null,null,null,null,null,null,null,null,null,null,null,null,null,null,null,null,null,null,null,null,null,null,null,null,null,null,null,null,null,null,null,null,null,null,null,null,null,null,{"$f":"IFERROR(VLOOKUP(AM55492,Cod_DIVIPOLA!A:C,2,0),\"CODIGO INCORRECTO\")","v":"CODIGO INCORRECTO"}]
[55491,null,null,null,null,null,null,null,null,null,null,null,null,null,null,null,null,null,null,null,null,null,null,null,null,null,null,null,null,null,null,null,null,null,null,null,null,null,null,{"$f":"IFERROR(VLOOKUP(AM55493,Cod_DIVIPOLA!A:C,2,0),\"CODIGO INCORRECTO\")","v":"CODIGO INCORRECTO"}]
[55492,null,null,null,null,null,null,null,null,null,null,null,null,null,null,null,null,null,null,null,null,null,null,null,null,null,null,null,null,null,null,null,null,null,null,null,null,null,null,{"$f":"IFERROR(VLOOKUP(AM55494,Cod_DIVIPOLA!A:C,2,0),\"CODIGO INCORRECTO\")","v":"CODIGO INCORRECTO"}]
[55493,null,null,null,null,null,null,null,null,null,null,null,null,null,null,null,null,null,null,null,null,null,null,null,null,null,null,null,null,null,null,null,null,null,null,null,null,null,null,{"$f":"IFERROR(VLOOKUP(AM55495,Cod_DIVIPOLA!A:C,2,0),\"CODIGO INCORRECTO\")","v":"CODIGO INCORRECTO"}]
[55494,null,null,null,null,null,null,null,null,null,null,null,null,null,null,null,null,null,null,null,null,null,null,null,null,null,null,null,null,null,null,null,null,null,null,null,null,null,null,{"$f":"IFERROR(VLOOKUP(AM55496,Cod_DIVIPOLA!A:C,2,0),\"CODIGO INCORRECTO\")","v":"CODIGO INCORRECTO"}]
[55495,null,null,null,null,null,null,null,null,null,null,null,null,null,null,null,null,null,null,null,null,null,null,null,null,null,null,null,null,null,null,null,null,null,null,null,null,null,null,{"$f":"IFERROR(VLOOKUP(AM55497,Cod_DIVIPOLA!A:C,2,0),\"CODIGO INCORRECTO\")","v":"CODIGO INCORRECTO"}]
[55496,null,null,null,null,null,null,null,null,null,null,null,null,null,null,null,null,null,null,null,null,null,null,null,null,null,null,null,null,null,null,null,null,null,null,null,null,null,null,{"$f":"IFERROR(VLOOKUP(AM55498,Cod_DIVIPOLA!A:C,2,0),\"CODIGO INCORRECTO\")","v":"CODIGO INCORRECTO"}]
[55497,null,null,null,null,null,null,null,null,null,null,null,null,null,null,null,null,null,null,null,null,null,null,null,null,null,null,null,null,null,null,null,null,null,null,null,null,null,null,{"$f":"IFERROR(VLOOKUP(AM55499,Cod_DIVIPOLA!A:C,2,0),\"CODIGO INCORRECTO\")","v":"CODIGO INCORRECTO"}]
[55498,null,null,null,null,null,null,null,null,null,null,null,null,null,null,null,null,null,null,null,null,null,null,null,null,null,null,null,null,null,null,null,null,null,null,null,null,null,null,{"$f":"IFERROR(VLOOKUP(AM55500,Cod_DIVIPOLA!A:C,2,0),\"CODIGO INCORRECTO\")","v":"CODIGO INCORRECTO"}]
[55499,null,null,null,null,null,null,null,null,null,null,null,null,null,null,null,null,null,null,null,null,null,null,null,null,null,null,null,null,null,null,null,null,null,null,null,null,null,null,{"$f":"IFERROR(VLOOKUP(AM55501,Cod_DIVIPOLA!A:C,2,0),\"CODIGO INCORRECTO\")","v":"CODIGO INCORRECTO"}]
[55500,null,null,null,null,null,null,null,null,null,null,null,null,null,null,null,null,null,null,null,null,null,null,null,null,null,null,null,null,null,null,null,null,null,null,null,null,null,null,{"$f":"IFERROR(VLOOKUP(AM55502,Cod_DIVIPOLA!A:C,2,0),\"CODIGO INCORRECTO\")","v":"CODIGO INCORRECTO"}]
[55501,null,null,null,null,null,null,null,null,null,null,null,null,null,null,null,null,null,null,null,null,null,null,null,null,null,null,null,null,null,null,null,null,null,null,null,null,null,null,{"$f":"IFERROR(VLOOKUP(AM55503,Cod_DIVIPOLA!A:C,2,0),\"CODIGO INCORRECTO\")","v":"CODIGO INCORRECTO"}]
[55502,null,null,null,null,null,null,null,null,null,null,null,null,null,null,null,null,null,null,null,null,null,null,null,null,null,null,null,null,null,null,null,null,null,null,null,null,null,null,{"$f":"IFERROR(VLOOKUP(AM55504,Cod_DIVIPOLA!A:C,2,0),\"CODIGO INCORRECTO\")","v":"CODIGO INCORRECTO"}]
[55503,null,null,null,null,null,null,null,null,null,null,null,null,null,null,null,null,null,null,null,null,null,null,null,null,null,null,null,null,null,null,null,null,null,null,null,null,null,null,{"$f":"IFERROR(VLOOKUP(AM55505,Cod_DIVIPOLA!A:C,2,0),\"CODIGO INCORRECTO\")","v":"CODIGO INCORRECTO"}]
[55504,null,null,null,null,null,null,null,null,null,null,null,null,null,null,null,null,null,null,null,null,null,null,null,null,null,null,null,null,null,null,null,null,null,null,null,null,null,null,{"$f":"IFERROR(VLOOKUP(AM55506,Cod_DIVIPOLA!A:C,2,0),\"CODIGO INCORRECTO\")","v":"CODIGO INCORRECTO"}]
[55505,null,null,null,null,null,null,null,null,null,null,null,null,null,null,null,null,null,null,null,null,null,null,null,null,null,null,null,null,null,null,null,null,null,null,null,null,null,null,{"$f":"IFERROR(VLOOKUP(AM55507,Cod_DIVIPOLA!A:C,2,0),\"CODIGO INCORRECTO\")","v":"CODIGO INCORRECTO"}]
[55506,null,null,null,null,null,null,null,null,null,null,null,null,null,null,null,null,null,null,null,null,null,null,null,null,null,null,null,null,null,null,null,null,null,null,null,null,null,null,{"$f":"IFERROR(VLOOKUP(AM55508,Cod_DIVIPOLA!A:C,2,0),\"CODIGO INCORRECTO\")","v":"CODIGO INCORRECTO"}]
[55507,null,null,null,null,null,null,null,null,null,null,null,null,null,null,null,null,null,null,null,null,null,null,null,null,null,null,null,null,null,null,null,null,null,null,null,null,null,null,{"$f":"IFERROR(VLOOKUP(AM55509,Cod_DIVIPOLA!A:C,2,0),\"CODIGO INCORRECTO\")","v":"CODIGO INCORRECTO"}]
[55508,null,null,null,null,null,null,null,null,null,null,null,null,null,null,null,null,null,null,null,null,null,null,null,null,null,null,null,null,null,null,null,null,null,null,null,null,null,null,{"$f":"IFERROR(VLOOKUP(AM55510,Cod_DIVIPOLA!A:C,2,0),\"CODIGO INCORRECTO\")","v":"CODIGO INCORRECTO"}]
[55509,null,null,null,null,null,null,null,null,null,null,null,null,null,null,null,null,null,null,null,null,null,null,null,null,null,null,null,null,null,null,null,null,null,null,null,null,null,null,{"$f":"IFERROR(VLOOKUP(AM55511,Cod_DIVIPOLA!A:C,2,0),\"CODIGO INCORRECTO\")","v":"CODIGO INCORRECTO"}]
[55510,null,null,null,null,null,null,null,null,null,null,null,null,null,null,null,null,null,null,null,null,null,null,null,null,null,null,null,null,null,null,null,null,null,null,null,null,null,null,{"$f":"IFERROR(VLOOKUP(AM55512,Cod_DIVIPOLA!A:C,2,0),\"CODIGO INCORRECTO\")","v":"CODIGO INCORRECTO"}]
[55511,null,null,null,null,null,null,null,null,null,null,null,null,null,null,null,null,null,null,null,null,null,null,null,null,null,null,null,null,null,null,null,null,null,null,null,null,null,null,{"$f":"IFERROR(VLOOKUP(AM55513,Cod_DIVIPOLA!A:C,2,0),\"CODIGO INCORRECTO\")","v":"CODIGO INCORRECTO"}]
[55512,null,null,null,null,null,null,null,null,null,null,null,null,null,null,null,null,null,null,null,null,null,null,null,null,null,null,null,null,null,null,null,null,null,null,null,null,null,null,{"$f":"IFERROR(VLOOKUP(AM55514,Cod_DIVIPOLA!A:C,2,0),\"CODIGO INCORRECTO\")","v":"CODIGO INCORRECTO"}]
[55513,null,null,null,null,null,null,null,null,null,null,null,null,null,null,null,null,null,null,null,null,null,null,null,null,null,null,null,null,null,null,null,null,null,null,null,null,null,null,{"$f":"IFERROR(VLOOKUP(AM55515,Cod_DIVIPOLA!A:C,2,0),\"CODIGO INCORRECTO\")","v":"CODIGO INCORRECTO"}]
[55514,null,null,null,null,null,null,null,null,null,null,null,null,null,null,null,null,null,null,null,null,null,null,null,null,null,null,null,null,null,null,null,null,null,null,null,null,null,null,{"$f":"IFERROR(VLOOKUP(AM55516,Cod_DIVIPOLA!A:C,2,0),\"CODIGO INCORRECTO\")","v":"CODIGO INCORRECTO"}]
[55515,null,null,null,null,null,null,null,null,null,null,null,null,null,null,null,null,null,null,null,null,null,null,null,null,null,null,null,null,null,null,null,null,null,null,null,null,null,null,{"$f":"IFERROR(VLOOKUP(AM55517,Cod_DIVIPOLA!A:C,2,0),\"CODIGO INCORRECTO\")","v":"CODIGO INCORRECTO"}]
[55516,null,null,null,null,null,null,null,null,null,null,null,null,null,null,null,null,null,null,null,null,null,null,null,null,null,null,null,null,null,null,null,null,null,null,null,null,null,null,{"$f":"IFERROR(VLOOKUP(AM55518,Cod_DIVIPOLA!A:C,2,0),\"CODIGO INCORRECTO\")","v":"CODIGO INCORRECTO"}]
[55517,null,null,null,null,null,null,null,null,null,null,null,null,null,null,null,null,null,null,null,null,null,null,null,null,null,null,null,null,null,null,null,null,null,null,null,null,null,null,{"$f":"IFERROR(VLOOKUP(AM55519,Cod_DIVIPOLA!A:C,2,0),\"CODIGO INCORRECTO\")","v":"CODIGO INCORRECTO"}]
[55518,null,null,null,null,null,null,null,null,null,null,null,null,null,null,null,null,null,null,null,null,null,null,null,null,null,null,null,null,null,null,null,null,null,null,null,null,null,null,{"$f":"IFERROR(VLOOKUP(AM55520,Cod_DIVIPOLA!A:C,2,0),\"CODIGO INCORRECTO\")","v":"CODIGO INCORRECTO"}]
[55519,null,null,null,null,null,null,null,null,null,null,null,null,null,null,null,null,null,null,null,null,null,null,null,null,null,null,null,null,null,null,null,null,null,null,null,null,null,null,{"$f":"IFERROR(VLOOKUP(AM55521,Cod_DIVIPOLA!A:C,2,0),\"CODIGO INCORRECTO\")","v":"CODIGO INCORRECTO"}]
[55520,null,null,null,null,null,null,null,null,null,null,null,null,null,null,null,null,null,null,null,null,null,null,null,null,null,null,null,null,null,null,null,null,null,null,null,null,null,null,{"$f":"IFERROR(VLOOKUP(AM55522,Cod_DIVIPOLA!A:C,2,0),\"CODIGO INCORRECTO\")","v":"CODIGO INCORRECTO"}]
[55521,null,null,null,null,null,null,null,null,null,null,null,null,null,null,null,null,null,null,null,null,null,null,null,null,null,null,null,null,null,null,null,null,null,null,null,null,null,null,{"$f":"IFERROR(VLOOKUP(AM55523,Cod_DIVIPOLA!A:C,2,0),\"CODIGO INCORRECTO\")","v":"CODIGO INCORRECTO"}]
[55522,null,null,null,null,null,null,null,null,null,null,null,null,null,null,null,null,null,null,null,null,null,null,null,null,null,null,null,null,null,null,null,null,null,null,null,null,null,null,{"$f":"IFERROR(VLOOKUP(AM55524,Cod_DIVIPOLA!A:C,2,0),\"CODIGO INCORRECTO\")","v":"CODIGO INCORRECTO"}]
[55523,null,null,null,null,null,null,null,null,null,null,null,null,null,null,null,null,null,null,null,null,null,null,null,null,null,null,null,null,null,null,null,null,null,null,null,null,null,null,{"$f":"IFERROR(VLOOKUP(AM55525,Cod_DIVIPOLA!A:C,2,0),\"CODIGO INCORRECTO\")","v":"CODIGO INCORRECTO"}]
[55524,null,null,null,null,null,null,null,null,null,null,null,null,null,null,null,null,null,null,null,null,null,null,null,null,null,null,null,null,null,null,null,null,null,null,null,null,null,null,{"$f":"IFERROR(VLOOKUP(AM55526,Cod_DIVIPOLA!A:C,2,0),\"CODIGO INCORRECTO\")","v":"CODIGO INCORRECTO"}]
[55525,null,null,null,null,null,null,null,null,null,null,null,null,null,null,null,null,null,null,null,null,null,null,null,null,null,null,null,null,null,null,null,null,null,null,null,null,null,null,{"$f":"IFERROR(VLOOKUP(AM55527,Cod_DIVIPOLA!A:C,2,0),\"CODIGO INCORRECTO\")","v":"CODIGO INCORRECTO"}]
[55526,null,null,null,null,null,null,null,null,null,null,null,null,null,null,null,null,null,null,null,null,null,null,null,null,null,null,null,null,null,null,null,null,null,null,null,null,null,null,{"$f":"IFERROR(VLOOKUP(AM55528,Cod_DIVIPOLA!A:C,2,0),\"CODIGO INCORRECTO\")","v":"CODIGO INCORRECTO"}]
[55527,null,null,null,null,null,null,null,null,null,null,null,null,null,null,null,null,null,null,null,null,null,null,null,null,null,null,null,null,null,null,null,null,null,null,null,null,null,null,{"$f":"IFERROR(VLOOKUP(AM55529,Cod_DIVIPOLA!A:C,2,0),\"CODIGO INCORRECTO\")","v":"CODIGO INCORRECTO"}]
[55528,null,null,null,null,null,null,null,null,null,null,null,null,null,null,null,null,null,null,null,null,null,null,null,null,null,null,null,null,null,null,null,null,null,null,null,null,null,null,{"$f":"IFERROR(VLOOKUP(AM55530,Cod_DIVIPOLA!A:C,2,0),\"CODIGO INCORRECTO\")","v":"CODIGO INCORRECTO"}]
[55529,null,null,null,null,null,null,null,null,null,null,null,null,null,null,null,null,null,null,null,null,null,null,null,null,null,null,null,null,null,null,null,null,null,null,null,null,null,null,{"$f":"IFERROR(VLOOKUP(AM55531,Cod_DIVIPOLA!A:C,2,0),\"CODIGO INCORRECTO\")","v":"CODIGO INCORRECTO"}]
[55530,null,null,null,null,null,null,null,null,null,null,null,null,null,null,null,null,null,null,null,null,null,null,null,null,null,null,null,null,null,null,null,null,null,null,null,null,null,null,{"$f":"IFERROR(VLOOKUP(AM55532,Cod_DIVIPOLA!A:C,2,0),\"CODIGO INCORRECTO\")","v":"CODIGO INCORRECTO"}]
[55531,null,null,null,null,null,null,null,null,null,null,null,null,null,null,null,null,null,null,null,null,null,null,null,null,null,null,null,null,null,null,null,null,null,null,null,null,null,null,{"$f":"IFERROR(VLOOKUP(AM55533,Cod_DIVIPOLA!A:C,2,0),\"CODIGO INCORRECTO\")","v":"CODIGO INCORRECTO"}]
[55532,null,null,null,null,null,null,null,null,null,null,null,null,null,null,null,null,null,null,null,null,null,null,null,null,null,null,null,null,null,null,null,null,null,null,null,null,null,null,{"$f":"IFERROR(VLOOKUP(AM55534,Cod_DIVIPOLA!A:C,2,0),\"CODIGO INCORRECTO\")","v":"CODIGO INCORRECTO"}]
[55533,null,null,null,null,null,null,null,null,null,null,null,null,null,null,null,null,null,null,null,null,null,null,null,null,null,null,null,null,null,null,null,null,null,null,null,null,null,null,{"$f":"IFERROR(VLOOKUP(AM55535,Cod_DIVIPOLA!A:C,2,0),\"CODIGO INCORRECTO\")","v":"CODIGO INCORRECTO"}]
[55534,null,null,null,null,null,null,null,null,null,null,null,null,null,null,null,null,null,null,null,null,null,null,null,null,null,null,null,null,null,null,null,null,null,null,null,null,null,null,{"$f":"IFERROR(VLOOKUP(AM55536,Cod_DIVIPOLA!A:C,2,0),\"CODIGO INCORRECTO\")","v":"CODIGO INCORRECTO"}]
[55535,null,null,null,null,null,null,null,null,null,null,null,null,null,null,null,null,null,null,null,null,null,null,null,null,null,null,null,null,null,null,null,null,null,null,null,null,null,null,{"$f":"IFERROR(VLOOKUP(AM55537,Cod_DIVIPOLA!A:C,2,0),\"CODIGO INCORRECTO\")","v":"CODIGO INCORRECTO"}]
[55536,null,null,null,null,null,null,null,null,null,null,null,null,null,null,null,null,null,null,null,null,null,null,null,null,null,null,null,null,null,null,null,null,null,null,null,null,null,null,{"$f":"IFERROR(VLOOKUP(AM55538,Cod_DIVIPOLA!A:C,2,0),\"CODIGO INCORRECTO\")","v":"CODIGO INCORRECTO"}]
[55537,null,null,null,null,null,null,null,null,null,null,null,null,null,null,null,null,null,null,null,null,null,null,null,null,null,null,null,null,null,null,null,null,null,null,null,null,null,null,{"$f":"IFERROR(VLOOKUP(AM55539,Cod_DIVIPOLA!A:C,2,0),\"CODIGO INCORRECTO\")","v":"CODIGO INCORRECTO"}]
[55538,null,null,null,null,null,null,null,null,null,null,null,null,null,null,null,null,null,null,null,null,null,null,null,null,null,null,null,null,null,null,null,null,null,null,null,null,null,null,{"$f":"IFERROR(VLOOKUP(AM55540,Cod_DIVIPOLA!A:C,2,0),\"CODIGO INCORRECTO\")","v":"CODIGO INCORRECTO"}]
[55539,null,null,null,null,null,null,null,null,null,null,null,null,null,null,null,null,null,null,null,null,null,null,null,null,null,null,null,null,null,null,null,null,null,null,null,null,null,null,{"$f":"IFERROR(VLOOKUP(AM55541,Cod_DIVIPOLA!A:C,2,0),\"CODIGO INCORRECTO\")","v":"CODIGO INCORRECTO"}]
[55540,null,null,null,null,null,null,null,null,null,null,null,null,null,null,null,null,null,null,null,null,null,null,null,null,null,null,null,null,null,null,null,null,null,null,null,null,null,null,{"$f":"IFERROR(VLOOKUP(AM55542,Cod_DIVIPOLA!A:C,2,0),\"CODIGO INCORRECTO\")","v":"CODIGO INCORRECTO"}]
[55541,null,null,null,null,null,null,null,null,null,null,null,null,null,null,null,null,null,null,null,null,null,null,null,null,null,null,null,null,null,null,null,null,null,null,null,null,null,null,{"$f":"IFERROR(VLOOKUP(AM55543,Cod_DIVIPOLA!A:C,2,0),\"CODIGO INCORRECTO\")","v":"CODIGO INCORRECTO"}]
[55542,null,null,null,null,null,null,null,null,null,null,null,null,null,null,null,null,null,null,null,null,null,null,null,null,null,null,null,null,null,null,null,null,null,null,null,null,null,null,{"$f":"IFERROR(VLOOKUP(AM55544,Cod_DIVIPOLA!A:C,2,0),\"CODIGO INCORRECTO\")","v":"CODIGO INCORRECTO"}]
[55543,null,null,null,null,null,null,null,null,null,null,null,null,null,null,null,null,null,null,null,null,null,null,null,null,null,null,null,null,null,null,null,null,null,null,null,null,null,null,{"$f":"IFERROR(VLOOKUP(AM55545,Cod_DIVIPOLA!A:C,2,0),\"CODIGO INCORRECTO\")","v":"CODIGO INCORRECTO"}]
[55544,null,null,null,null,null,null,null,null,null,null,null,null,null,null,null,null,null,null,null,null,null,null,null,null,null,null,null,null,null,null,null,null,null,null,null,null,null,null,{"$f":"IFERROR(VLOOKUP(AM55546,Cod_DIVIPOLA!A:C,2,0),\"CODIGO INCORRECTO\")","v":"CODIGO INCORRECTO"}]
[55545,null,null,null,null,null,null,null,null,null,null,null,null,null,null,null,null,null,null,null,null,null,null,null,null,null,null,null,null,null,null,null,null,null,null,null,null,null,null,{"$f":"IFERROR(VLOOKUP(AM55547,Cod_DIVIPOLA!A:C,2,0),\"CODIGO INCORRECTO\")","v":"CODIGO INCORRECTO"}]
[55546,null,null,null,null,null,null,null,null,null,null,null,null,null,null,null,null,null,null,null,null,null,null,null,null,null,null,null,null,null,null,null,null,null,null,null,null,null,null,{"$f":"IFERROR(VLOOKUP(AM55548,Cod_DIVIPOLA!A:C,2,0),\"CODIGO INCORRECTO\")","v":"CODIGO INCORRECTO"}]
[55547,null,null,null,null,null,null,null,null,null,null,null,null,null,null,null,null,null,null,null,null,null,null,null,null,null,null,null,null,null,null,null,null,null,null,null,null,null,null,{"$f":"IFERROR(VLOOKUP(AM55549,Cod_DIVIPOLA!A:C,2,0),\"CODIGO INCORRECTO\")","v":"CODIGO INCORRECTO"}]
[55548,null,null,null,null,null,null,null,null,null,null,null,null,null,null,null,null,null,null,null,null,null,null,null,null,null,null,null,null,null,null,null,null,null,null,null,null,null,null,{"$f":"IFERROR(VLOOKUP(AM55550,Cod_DIVIPOLA!A:C,2,0),\"CODIGO INCORRECTO\")","v":"CODIGO INCORRECTO"}]
[55549,null,null,null,null,null,null,null,null,null,null,null,null,null,null,null,null,null,null,null,null,null,null,null,null,null,null,null,null,null,null,null,null,null,null,null,null,null,null,{"$f":"IFERROR(VLOOKUP(AM55551,Cod_DIVIPOLA!A:C,2,0),\"CODIGO INCORRECTO\")","v":"CODIGO INCORRECTO"}]
[55550,null,null,null,null,null,null,null,null,null,null,null,null,null,null,null,null,null,null,null,null,null,null,null,null,null,null,null,null,null,null,null,null,null,null,null,null,null,null,{"$f":"IFERROR(VLOOKUP(AM55552,Cod_DIVIPOLA!A:C,2,0),\"CODIGO INCORRECTO\")","v":"CODIGO INCORRECTO"}]
[55551,null,null,null,null,null,null,null,null,null,null,null,null,null,null,null,null,null,null,null,null,null,null,null,null,null,null,null,null,null,null,null,null,null,null,null,null,null,null,{"$f":"IFERROR(VLOOKUP(AM55553,Cod_DIVIPOLA!A:C,2,0),\"CODIGO INCORRECTO\")","v":"CODIGO INCORRECTO"}]
[55552,null,null,null,null,null,null,null,null,null,null,null,null,null,null,null,null,null,null,null,null,null,null,null,null,null,null,null,null,null,null,null,null,null,null,null,null,null,null,{"$f":"IFERROR(VLOOKUP(AM55554,Cod_DIVIPOLA!A:C,2,0),\"CODIGO INCORRECTO\")","v":"CODIGO INCORRECTO"}]
[55553,null,null,null,null,null,null,null,null,null,null,null,null,null,null,null,null,null,null,null,null,null,null,null,null,null,null,null,null,null,null,null,null,null,null,null,null,null,null,{"$f":"IFERROR(VLOOKUP(AM55555,Cod_DIVIPOLA!A:C,2,0),\"CODIGO INCORRECTO\")","v":"CODIGO INCORRECTO"}]
[55554,null,null,null,null,null,null,null,null,null,null,null,null,null,null,null,null,null,null,null,null,null,null,null,null,null,null,null,null,null,null,null,null,null,null,null,null,null,null,{"$f":"IFERROR(VLOOKUP(AM55556,Cod_DIVIPOLA!A:C,2,0),\"CODIGO INCORRECTO\")","v":"CODIGO INCORRECTO"}]
[55555,null,null,null,null,null,null,null,null,null,null,null,null,null,null,null,null,null,null,null,null,null,null,null,null,null,null,null,null,null,null,null,null,null,null,null,null,null,null,{"$f":"IFERROR(VLOOKUP(AM55557,Cod_DIVIPOLA!A:C,2,0),\"CODIGO INCORRECTO\")","v":"CODIGO INCORRECTO"}]
[55556,null,null,null,null,null,null,null,null,null,null,null,null,null,null,null,null,null,null,null,null,null,null,null,null,null,null,null,null,null,null,null,null,null,null,null,null,null,null,{"$f":"IFERROR(VLOOKUP(AM55558,Cod_DIVIPOLA!A:C,2,0),\"CODIGO INCORRECTO\")","v":"CODIGO INCORRECTO"}]
[55557,null,null,null,null,null,null,null,null,null,null,null,null,null,null,null,null,null,null,null,null,null,null,null,null,null,null,null,null,null,null,null,null,null,null,null,null,null,null,{"$f":"IFERROR(VLOOKUP(AM55559,Cod_DIVIPOLA!A:C,2,0),\"CODIGO INCORRECTO\")","v":"CODIGO INCORRECTO"}]
[55558,null,null,null,null,null,null,null,null,null,null,null,null,null,null,null,null,null,null,null,null,null,null,null,null,null,null,null,null,null,null,null,null,null,null,null,null,null,null,{"$f":"IFERROR(VLOOKUP(AM55560,Cod_DIVIPOLA!A:C,2,0),\"CODIGO INCORRECTO\")","v":"CODIGO INCORRECTO"}]
[55559,null,null,null,null,null,null,null,null,null,null,null,null,null,null,null,null,null,null,null,null,null,null,null,null,null,null,null,null,null,null,null,null,null,null,null,null,null,null,{"$f":"IFERROR(VLOOKUP(AM55561,Cod_DIVIPOLA!A:C,2,0),\"CODIGO INCORRECTO\")","v":"CODIGO INCORRECTO"}]
[55560,null,null,null,null,null,null,null,null,null,null,null,null,null,null,null,null,null,null,null,null,null,null,null,null,null,null,null,null,null,null,null,null,null,null,null,null,null,null,{"$f":"IFERROR(VLOOKUP(AM55562,Cod_DIVIPOLA!A:C,2,0),\"CODIGO INCORRECTO\")","v":"CODIGO INCORRECTO"}]
[55561,null,null,null,null,null,null,null,null,null,null,null,null,null,null,null,null,null,null,null,null,null,null,null,null,null,null,null,null,null,null,null,null,null,null,null,null,null,null,{"$f":"IFERROR(VLOOKUP(AM55563,Cod_DIVIPOLA!A:C,2,0),\"CODIGO INCORRECTO\")","v":"CODIGO INCORRECTO"}]
[55562,null,null,null,null,null,null,null,null,null,null,null,null,null,null,null,null,null,null,null,null,null,null,null,null,null,null,null,null,null,null,null,null,null,null,null,null,null,null,{"$f":"IFERROR(VLOOKUP(AM55564,Cod_DIVIPOLA!A:C,2,0),\"CODIGO INCORRECTO\")","v":"CODIGO INCORRECTO"}]
[55563,null,null,null,null,null,null,null,null,null,null,null,null,null,null,null,null,null,null,null,null,null,null,null,null,null,null,null,null,null,null,null,null,null,null,null,null,null,null,{"$f":"IFERROR(VLOOKUP(AM55565,Cod_DIVIPOLA!A:C,2,0),\"CODIGO INCORRECTO\")","v":"CODIGO INCORRECTO"}]
[55564,null,null,null,null,null,null,null,null,null,null,null,null,null,null,null,null,null,null,null,null,null,null,null,null,null,null,null,null,null,null,null,null,null,null,null,null,null,null,{"$f":"IFERROR(VLOOKUP(AM55566,Cod_DIVIPOLA!A:C,2,0),\"CODIGO INCORRECTO\")","v":"CODIGO INCORRECTO"}]
[55565,null,null,null,null,null,null,null,null,null,null,null,null,null,null,null,null,null,null,null,null,null,null,null,null,null,null,null,null,null,null,null,null,null,null,null,null,null,null,{"$f":"IFERROR(VLOOKUP(AM55567,Cod_DIVIPOLA!A:C,2,0),\"CODIGO INCORRECTO\")","v":"CODIGO INCORRECTO"}]
[55566,null,null,null,null,null,null,null,null,null,null,null,null,null,null,null,null,null,null,null,null,null,null,null,null,null,null,null,null,null,null,null,null,null,null,null,null,null,null,{"$f":"IFERROR(VLOOKUP(AM55568,Cod_DIVIPOLA!A:C,2,0),\"CODIGO INCORRECTO\")","v":"CODIGO INCORRECTO"}]
[55567,null,null,null,null,null,null,null,null,null,null,null,null,null,null,null,null,null,null,null,null,null,null,null,null,null,null,null,null,null,null,null,null,null,null,null,null,null,null,{"$f":"IFERROR(VLOOKUP(AM55569,Cod_DIVIPOLA!A:C,2,0),\"CODIGO INCORRECTO\")","v":"CODIGO INCORRECTO"}]
[55568,null,null,null,null,null,null,null,null,null,null,null,null,null,null,null,null,null,null,null,null,null,null,null,null,null,null,null,null,null,null,null,null,null,null,null,null,null,null,{"$f":"IFERROR(VLOOKUP(AM55570,Cod_DIVIPOLA!A:C,2,0),\"CODIGO INCORRECTO\")","v":"CODIGO INCORRECTO"}]
[55569,null,null,null,null,null,null,null,null,null,null,null,null,null,null,null,null,null,null,null,null,null,null,null,null,null,null,null,null,null,null,null,null,null,null,null,null,null,null,{"$f":"IFERROR(VLOOKUP(AM55571,Cod_DIVIPOLA!A:C,2,0),\"CODIGO INCORRECTO\")","v":"CODIGO INCORRECTO"}]
[55570,null,null,null,null,null,null,null,null,null,null,null,null,null,null,null,null,null,null,null,null,null,null,null,null,null,null,null,null,null,null,null,null,null,null,null,null,null,null,{"$f":"IFERROR(VLOOKUP(AM55572,Cod_DIVIPOLA!A:C,2,0),\"CODIGO INCORRECTO\")","v":"CODIGO INCORRECTO"}]
[55571,null,null,null,null,null,null,null,null,null,null,null,null,null,null,null,null,null,null,null,null,null,null,null,null,null,null,null,null,null,null,null,null,null,null,null,null,null,null,{"$f":"IFERROR(VLOOKUP(AM55573,Cod_DIVIPOLA!A:C,2,0),\"CODIGO INCORRECTO\")","v":"CODIGO INCORRECTO"}]
[55572,null,null,null,null,null,null,null,null,null,null,null,null,null,null,null,null,null,null,null,null,null,null,null,null,null,null,null,null,null,null,null,null,null,null,null,null,null,null,{"$f":"IFERROR(VLOOKUP(AM55574,Cod_DIVIPOLA!A:C,2,0),\"CODIGO INCORRECTO\")","v":"CODIGO INCORRECTO"}]
[55573,null,null,null,null,null,null,null,null,null,null,null,null,null,null,null,null,null,null,null,null,null,null,null,null,null,null,null,null,null,null,null,null,null,null,null,null,null,null,{"$f":"IFERROR(VLOOKUP(AM55575,Cod_DIVIPOLA!A:C,2,0),\"CODIGO INCORRECTO\")","v":"CODIGO INCORRECTO"}]
[55574,null,null,null,null,null,null,null,null,null,null,null,null,null,null,null,null,null,null,null,null,null,null,null,null,null,null,null,null,null,null,null,null,null,null,null,null,null,null,{"$f":"IFERROR(VLOOKUP(AM55576,Cod_DIVIPOLA!A:C,2,0),\"CODIGO INCORRECTO\")","v":"CODIGO INCORRECTO"}]
[55575,null,null,null,null,null,null,null,null,null,null,null,null,null,null,null,null,null,null,null,null,null,null,null,null,null,null,null,null,null,null,null,null,null,null,null,null,null,null,{"$f":"IFERROR(VLOOKUP(AM55577,Cod_DIVIPOLA!A:C,2,0),\"CODIGO INCORRECTO\")","v":"CODIGO INCORRECTO"}]
[55576,null,null,null,null,null,null,null,null,null,null,null,null,null,null,null,null,null,null,null,null,null,null,null,null,null,null,null,null,null,null,null,null,null,null,null,null,null,null,{"$f":"IFERROR(VLOOKUP(AM55578,Cod_DIVIPOLA!A:C,2,0),\"CODIGO INCORRECTO\")","v":"CODIGO INCORRECTO"}]
[55577,null,null,null,null,null,null,null,null,null,null,null,null,null,null,null,null,null,null,null,null,null,null,null,null,null,null,null,null,null,null,null,null,null,null,null,null,null,null,{"$f":"IFERROR(VLOOKUP(AM55579,Cod_DIVIPOLA!A:C,2,0),\"CODIGO INCORRECTO\")","v":"CODIGO INCORRECTO"}]
[55578,null,null,null,null,null,null,null,null,null,null,null,null,null,null,null,null,null,null,null,null,null,null,null,null,null,null,null,null,null,null,null,null,null,null,null,null,null,null,{"$f":"IFERROR(VLOOKUP(AM55580,Cod_DIVIPOLA!A:C,2,0),\"CODIGO INCORRECTO\")","v":"CODIGO INCORRECTO"}]
[55579,null,null,null,null,null,null,null,null,null,null,null,null,null,null,null,null,null,null,null,null,null,null,null,null,null,null,null,null,null,null,null,null,null,null,null,null,null,null,{"$f":"IFERROR(VLOOKUP(AM55581,Cod_DIVIPOLA!A:C,2,0),\"CODIGO INCORRECTO\")","v":"CODIGO INCORRECTO"}]
[55580,null,null,null,null,null,null,null,null,null,null,null,null,null,null,null,null,null,null,null,null,null,null,null,null,null,null,null,null,null,null,null,null,null,null,null,null,null,null,{"$f":"IFERROR(VLOOKUP(AM55582,Cod_DIVIPOLA!A:C,2,0),\"CODIGO INCORRECTO\")","v":"CODIGO INCORRECTO"}]
[55581,null,null,null,null,null,null,null,null,null,null,null,null,null,null,null,null,null,null,null,null,null,null,null,null,null,null,null,null,null,null,null,null,null,null,null,null,null,null,{"$f":"IFERROR(VLOOKUP(AM55583,Cod_DIVIPOLA!A:C,2,0),\"CODIGO INCORRECTO\")","v":"CODIGO INCORRECTO"}]
[55582,null,null,null,null,null,null,null,null,null,null,null,null,null,null,null,null,null,null,null,null,null,null,null,null,null,null,null,null,null,null,null,null,null,null,null,null,null,null,{"$f":"IFERROR(VLOOKUP(AM55584,Cod_DIVIPOLA!A:C,2,0),\"CODIGO INCORRECTO\")","v":"CODIGO INCORRECTO"}]
[55583,null,null,null,null,null,null,null,null,null,null,null,null,null,null,null,null,null,null,null,null,null,null,null,null,null,null,null,null,null,null,null,null,null,null,null,null,null,null,{"$f":"IFERROR(VLOOKUP(AM55585,Cod_DIVIPOLA!A:C,2,0),\"CODIGO INCORRECTO\")","v":"CODIGO INCORRECTO"}]
[55584,null,null,null,null,null,null,null,null,null,null,null,null,null,null,null,null,null,null,null,null,null,null,null,null,null,null,null,null,null,null,null,null,null,null,null,null,null,null,{"$f":"IFERROR(VLOOKUP(AM55586,Cod_DIVIPOLA!A:C,2,0),\"CODIGO INCORRECTO\")","v":"CODIGO INCORRECTO"}]
[55585,null,null,null,null,null,null,null,null,null,null,null,null,null,null,null,null,null,null,null,null,null,null,null,null,null,null,null,null,null,null,null,null,null,null,null,null,null,null,{"$f":"IFERROR(VLOOKUP(AM55587,Cod_DIVIPOLA!A:C,2,0),\"CODIGO INCORRECTO\")","v":"CODIGO INCORRECTO"}]
[55586,null,null,null,null,null,null,null,null,null,null,null,null,null,null,null,null,null,null,null,null,null,null,null,null,null,null,null,null,null,null,null,null,null,null,null,null,null,null,{"$f":"IFERROR(VLOOKUP(AM55588,Cod_DIVIPOLA!A:C,2,0),\"CODIGO INCORRECTO\")","v":"CODIGO INCORRECTO"}]
[55587,null,null,null,null,null,null,null,null,null,null,null,null,null,null,null,null,null,null,null,null,null,null,null,null,null,null,null,null,null,null,null,null,null,null,null,null,null,null,{"$f":"IFERROR(VLOOKUP(AM55589,Cod_DIVIPOLA!A:C,2,0),\"CODIGO INCORRECTO\")","v":"CODIGO INCORRECTO"}]
[55588,null,null,null,null,null,null,null,null,null,null,null,null,null,null,null,null,null,null,null,null,null,null,null,null,null,null,null,null,null,null,null,null,null,null,null,null,null,null,{"$f":"IFERROR(VLOOKUP(AM55590,Cod_DIVIPOLA!A:C,2,0),\"CODIGO INCORRECTO\")","v":"CODIGO INCORRECTO"}]
[55589,null,null,null,null,null,null,null,null,null,null,null,null,null,null,null,null,null,null,null,null,null,null,null,null,null,null,null,null,null,null,null,null,null,null,null,null,null,null,{"$f":"IFERROR(VLOOKUP(AM55591,Cod_DIVIPOLA!A:C,2,0),\"CODIGO INCORRECTO\")","v":"CODIGO INCORRECTO"}]
[55590,null,null,null,null,null,null,null,null,null,null,null,null,null,null,null,null,null,null,null,null,null,null,null,null,null,null,null,null,null,null,null,null,null,null,null,null,null,null,{"$f":"IFERROR(VLOOKUP(AM55592,Cod_DIVIPOLA!A:C,2,0),\"CODIGO INCORRECTO\")","v":"CODIGO INCORRECTO"}]
[55591,null,null,null,null,null,null,null,null,null,null,null,null,null,null,null,null,null,null,null,null,null,null,null,null,null,null,null,null,null,null,null,null,null,null,null,null,null,null,{"$f":"IFERROR(VLOOKUP(AM55593,Cod_DIVIPOLA!A:C,2,0),\"CODIGO INCORRECTO\")","v":"CODIGO INCORRECTO"}]
[55592,null,null,null,null,null,null,null,null,null,null,null,null,null,null,null,null,null,null,null,null,null,null,null,null,null,null,null,null,null,null,null,null,null,null,null,null,null,null,{"$f":"IFERROR(VLOOKUP(AM55594,Cod_DIVIPOLA!A:C,2,0),\"CODIGO INCORRECTO\")","v":"CODIGO INCORRECTO"}]
[55593,null,null,null,null,null,null,null,null,null,null,null,null,null,null,null,null,null,null,null,null,null,null,null,null,null,null,null,null,null,null,null,null,null,null,null,null,null,null,{"$f":"IFERROR(VLOOKUP(AM55595,Cod_DIVIPOLA!A:C,2,0),\"CODIGO INCORRECTO\")","v":"CODIGO INCORRECTO"}]
[55594,null,null,null,null,null,null,null,null,null,null,null,null,null,null,null,null,null,null,null,null,null,null,null,null,null,null,null,null,null,null,null,null,null,null,null,null,null,null,{"$f":"IFERROR(VLOOKUP(AM55596,Cod_DIVIPOLA!A:C,2,0),\"CODIGO INCORRECTO\")","v":"CODIGO INCORRECTO"}]
[55595,null,null,null,null,null,null,null,null,null,null,null,null,null,null,null,null,null,null,null,null,null,null,null,null,null,null,null,null,null,null,null,null,null,null,null,null,null,null,{"$f":"IFERROR(VLOOKUP(AM55597,Cod_DIVIPOLA!A:C,2,0),\"CODIGO INCORRECTO\")","v":"CODIGO INCORRECTO"}]
[55596,null,null,null,null,null,null,null,null,null,null,null,null,null,null,null,null,null,null,null,null,null,null,null,null,null,null,null,null,null,null,null,null,null,null,null,null,null,null,{"$f":"IFERROR(VLOOKUP(AM55598,Cod_DIVIPOLA!A:C,2,0),\"CODIGO INCORRECTO\")","v":"CODIGO INCORRECTO"}]
[55597,null,null,null,null,null,null,null,null,null,null,null,null,null,null,null,null,null,null,null,null,null,null,null,null,null,null,null,null,null,null,null,null,null,null,null,null,null,null,{"$f":"IFERROR(VLOOKUP(AM55599,Cod_DIVIPOLA!A:C,2,0),\"CODIGO INCORRECTO\")","v":"CODIGO INCORRECTO"}]
[55598,null,null,null,null,null,null,null,null,null,null,null,null,null,null,null,null,null,null,null,null,null,null,null,null,null,null,null,null,null,null,null,null,null,null,null,null,null,null,{"$f":"IFERROR(VLOOKUP(AM55600,Cod_DIVIPOLA!A:C,2,0),\"CODIGO INCORRECTO\")","v":"CODIGO INCORRECTO"}]
[55599,null,null,null,null,null,null,null,null,null,null,null,null,null,null,null,null,null,null,null,null,null,null,null,null,null,null,null,null,null,null,null,null,null,null,null,null,null,null,{"$f":"IFERROR(VLOOKUP(AM55601,Cod_DIVIPOLA!A:C,2,0),\"CODIGO INCORRECTO\")","v":"CODIGO INCORRECTO"}]
[55600,null,null,null,null,null,null,null,null,null,null,null,null,null,null,null,null,null,null,null,null,null,null,null,null,null,null,null,null,null,null,null,null,null,null,null,null,null,null,{"$f":"IFERROR(VLOOKUP(AM55602,Cod_DIVIPOLA!A:C,2,0),\"CODIGO INCORRECTO\")","v":"CODIGO INCORRECTO"}]
[55601,null,null,null,null,null,null,null,null,null,null,null,null,null,null,null,null,null,null,null,null,null,null,null,null,null,null,null,null,null,null,null,null,null,null,null,null,null,null,{"$f":"IFERROR(VLOOKUP(AM55603,Cod_DIVIPOLA!A:C,2,0),\"CODIGO INCORRECTO\")","v":"CODIGO INCORRECTO"}]
[55602,null,null,null,null,null,null,null,null,null,null,null,null,null,null,null,null,null,null,null,null,null,null,null,null,null,null,null,null,null,null,null,null,null,null,null,null,null,null,{"$f":"IFERROR(VLOOKUP(AM55604,Cod_DIVIPOLA!A:C,2,0),\"CODIGO INCORRECTO\")","v":"CODIGO INCORRECTO"}]
[55603,null,null,null,null,null,null,null,null,null,null,null,null,null,null,null,null,null,null,null,null,null,null,null,null,null,null,null,null,null,null,null,null,null,null,null,null,null,null,{"$f":"IFERROR(VLOOKUP(AM55605,Cod_DIVIPOLA!A:C,2,0),\"CODIGO INCORRECTO\")","v":"CODIGO INCORRECTO"}]
[55604,null,null,null,null,null,null,null,null,null,null,null,null,null,null,null,null,null,null,null,null,null,null,null,null,null,null,null,null,null,null,null,null,null,null,null,null,null,null,{"$f":"IFERROR(VLOOKUP(AM55606,Cod_DIVIPOLA!A:C,2,0),\"CODIGO INCORRECTO\")","v":"CODIGO INCORRECTO"}]
[55605,null,null,null,null,null,null,null,null,null,null,null,null,null,null,null,null,null,null,null,null,null,null,null,null,null,null,null,null,null,null,null,null,null,null,null,null,null,null,{"$f":"IFERROR(VLOOKUP(AM55607,Cod_DIVIPOLA!A:C,2,0),\"CODIGO INCORRECTO\")","v":"CODIGO INCORRECTO"}]
[55606,null,null,null,null,null,null,null,null,null,null,null,null,null,null,null,null,null,null,null,null,null,null,null,null,null,null,null,null,null,null,null,null,null,null,null,null,null,null,{"$f":"IFERROR(VLOOKUP(AM55608,Cod_DIVIPOLA!A:C,2,0),\"CODIGO INCORRECTO\")","v":"CODIGO INCORRECTO"}]
[55607,null,null,null,null,null,null,null,null,null,null,null,null,null,null,null,null,null,null,null,null,null,null,null,null,null,null,null,null,null,null,null,null,null,null,null,null,null,null,{"$f":"IFERROR(VLOOKUP(AM55609,Cod_DIVIPOLA!A:C,2,0),\"CODIGO INCORRECTO\")","v":"CODIGO INCORRECTO"}]
[55608,null,null,null,null,null,null,null,null,null,null,null,null,null,null,null,null,null,null,null,null,null,null,null,null,null,null,null,null,null,null,null,null,null,null,null,null,null,null,{"$f":"IFERROR(VLOOKUP(AM55610,Cod_DIVIPOLA!A:C,2,0),\"CODIGO INCORRECTO\")","v":"CODIGO INCORRECTO"}]
[55609,null,null,null,null,null,null,null,null,null,null,null,null,null,null,null,null,null,null,null,null,null,null,null,null,null,null,null,null,null,null,null,null,null,null,null,null,null,null,{"$f":"IFERROR(VLOOKUP(AM55611,Cod_DIVIPOLA!A:C,2,0),\"CODIGO INCORRECTO\")","v":"CODIGO INCORRECTO"}]
[55610,null,null,null,null,null,null,null,null,null,null,null,null,null,null,null,null,null,null,null,null,null,null,null,null,null,null,null,null,null,null,null,null,null,null,null,null,null,null,{"$f":"IFERROR(VLOOKUP(AM55612,Cod_DIVIPOLA!A:C,2,0),\"CODIGO INCORRECTO\")","v":"CODIGO INCORRECTO"}]
[55611,null,null,null,null,null,null,null,null,null,null,null,null,null,null,null,null,null,null,null,null,null,null,null,null,null,null,null,null,null,null,null,null,null,null,null,null,null,null,{"$f":"IFERROR(VLOOKUP(AM55613,Cod_DIVIPOLA!A:C,2,0),\"CODIGO INCORRECTO\")","v":"CODIGO INCORRECTO"}]
[55612,null,null,null,null,null,null,null,null,null,null,null,null,null,null,null,null,null,null,null,null,null,null,null,null,null,null,null,null,null,null,null,null,null,null,null,null,null,null,{"$f":"IFERROR(VLOOKUP(AM55614,Cod_DIVIPOLA!A:C,2,0),\"CODIGO INCORRECTO\")","v":"CODIGO INCORRECTO"}]
[55613,null,null,null,null,null,null,null,null,null,null,null,null,null,null,null,null,null,null,null,null,null,null,null,null,null,null,null,null,null,null,null,null,null,null,null,null,null,null,{"$f":"IFERROR(VLOOKUP(AM55615,Cod_DIVIPOLA!A:C,2,0),\"CODIGO INCORRECTO\")","v":"CODIGO INCORRECTO"}]
[55614,null,null,null,null,null,null,null,null,null,null,null,null,null,null,null,null,null,null,null,null,null,null,null,null,null,null,null,null,null,null,null,null,null,null,null,null,null,null,{"$f":"IFERROR(VLOOKUP(AM55616,Cod_DIVIPOLA!A:C,2,0),\"CODIGO INCORRECTO\")","v":"CODIGO INCORRECTO"}]
[55615,null,null,null,null,null,null,null,null,null,null,null,null,null,null,null,null,null,null,null,null,null,null,null,null,null,null,null,null,null,null,null,null,null,null,null,null,null,null,{"$f":"IFERROR(VLOOKUP(AM55617,Cod_DIVIPOLA!A:C,2,0),\"CODIGO INCORRECTO\")","v":"CODIGO INCORRECTO"}]
[55616,null,null,null,null,null,null,null,null,null,null,null,null,null,null,null,null,null,null,null,null,null,null,null,null,null,null,null,null,null,null,null,null,null,null,null,null,null,null,{"$f":"IFERROR(VLOOKUP(AM55618,Cod_DIVIPOLA!A:C,2,0),\"CODIGO INCORRECTO\")","v":"CODIGO INCORRECTO"}]
[55617,null,null,null,null,null,null,null,null,null,null,null,null,null,null,null,null,null,null,null,null,null,null,null,null,null,null,null,null,null,null,null,null,null,null,null,null,null,null,{"$f":"IFERROR(VLOOKUP(AM55619,Cod_DIVIPOLA!A:C,2,0),\"CODIGO INCORRECTO\")","v":"CODIGO INCORRECTO"}]
[55618,null,null,null,null,null,null,null,null,null,null,null,null,null,null,null,null,null,null,null,null,null,null,null,null,null,null,null,null,null,null,null,null,null,null,null,null,null,null,{"$f":"IFERROR(VLOOKUP(AM55620,Cod_DIVIPOLA!A:C,2,0),\"CODIGO INCORRECTO\")","v":"CODIGO INCORRECTO"}]
[55619,null,null,null,null,null,null,null,null,null,null,null,null,null,null,null,null,null,null,null,null,null,null,null,null,null,null,null,null,null,null,null,null,null,null,null,null,null,null,{"$f":"IFERROR(VLOOKUP(AM55621,Cod_DIVIPOLA!A:C,2,0),\"CODIGO INCORRECTO\")","v":"CODIGO INCORRECTO"}]
[55620,null,null,null,null,null,null,null,null,null,null,null,null,null,null,null,null,null,null,null,null,null,null,null,null,null,null,null,null,null,null,null,null,null,null,null,null,null,null,{"$f":"IFERROR(VLOOKUP(AM55622,Cod_DIVIPOLA!A:C,2,0),\"CODIGO INCORRECTO\")","v":"CODIGO INCORRECTO"}]
[55621,null,null,null,null,null,null,null,null,null,null,null,null,null,null,null,null,null,null,null,null,null,null,null,null,null,null,null,null,null,null,null,null,null,null,null,null,null,null,{"$f":"IFERROR(VLOOKUP(AM55623,Cod_DIVIPOLA!A:C,2,0),\"CODIGO INCORRECTO\")","v":"CODIGO INCORRECTO"}]
[55622,null,null,null,null,null,null,null,null,null,null,null,null,null,null,null,null,null,null,null,null,null,null,null,null,null,null,null,null,null,null,null,null,null,null,null,null,null,null,{"$f":"IFERROR(VLOOKUP(AM55624,Cod_DIVIPOLA!A:C,2,0),\"CODIGO INCORRECTO\")","v":"CODIGO INCORRECTO"}]
[55623,null,null,null,null,null,null,null,null,null,null,null,null,null,null,null,null,null,null,null,null,null,null,null,null,null,null,null,null,null,null,null,null,null,null,null,null,null,null,{"$f":"IFERROR(VLOOKUP(AM55625,Cod_DIVIPOLA!A:C,2,0),\"CODIGO INCORRECTO\")","v":"CODIGO INCORRECTO"}]
[55624,null,null,null,null,null,null,null,null,null,null,null,null,null,null,null,null,null,null,null,null,null,null,null,null,null,null,null,null,null,null,null,null,null,null,null,null,null,null,{"$f":"IFERROR(VLOOKUP(AM55626,Cod_DIVIPOLA!A:C,2,0),\"CODIGO INCORRECTO\")","v":"CODIGO INCORRECTO"}]
[55625,null,null,null,null,null,null,null,null,null,null,null,null,null,null,null,null,null,null,null,null,null,null,null,null,null,null,null,null,null,null,null,null,null,null,null,null,null,null,{"$f":"IFERROR(VLOOKUP(AM55627,Cod_DIVIPOLA!A:C,2,0),\"CODIGO INCORRECTO\")","v":"CODIGO INCORRECTO"}]
[55626,null,null,null,null,null,null,null,null,null,null,null,null,null,null,null,null,null,null,null,null,null,null,null,null,null,null,null,null,null,null,null,null,null,null,null,null,null,null,{"$f":"IFERROR(VLOOKUP(AM55628,Cod_DIVIPOLA!A:C,2,0),\"CODIGO INCORRECTO\")","v":"CODIGO INCORRECTO"}]
[55627,null,null,null,null,null,null,null,null,null,null,null,null,null,null,null,null,null,null,null,null,null,null,null,null,null,null,null,null,null,null,null,null,null,null,null,null,null,null,{"$f":"IFERROR(VLOOKUP(AM55629,Cod_DIVIPOLA!A:C,2,0),\"CODIGO INCORRECTO\")","v":"CODIGO INCORRECTO"}]
[55628,null,null,null,null,null,null,null,null,null,null,null,null,null,null,null,null,null,null,null,null,null,null,null,null,null,null,null,null,null,null,null,null,null,null,null,null,null,null,{"$f":"IFERROR(VLOOKUP(AM55630,Cod_DIVIPOLA!A:C,2,0),\"CODIGO INCORRECTO\")","v":"CODIGO INCORRECTO"}]
[55629,null,null,null,null,null,null,null,null,null,null,null,null,null,null,null,null,null,null,null,null,null,null,null,null,null,null,null,null,null,null,null,null,null,null,null,null,null,null,{"$f":"IFERROR(VLOOKUP(AM55631,Cod_DIVIPOLA!A:C,2,0),\"CODIGO INCORRECTO\")","v":"CODIGO INCORRECTO"}]
[55630,null,null,null,null,null,null,null,null,null,null,null,null,null,null,null,null,null,null,null,null,null,null,null,null,null,null,null,null,null,null,null,null,null,null,null,null,null,null,{"$f":"IFERROR(VLOOKUP(AM55632,Cod_DIVIPOLA!A:C,2,0),\"CODIGO INCORRECTO\")","v":"CODIGO INCORRECTO"}]
[55631,null,null,null,null,null,null,null,null,null,null,null,null,null,null,null,null,null,null,null,null,null,null,null,null,null,null,null,null,null,null,null,null,null,null,null,null,null,null,{"$f":"IFERROR(VLOOKUP(AM55633,Cod_DIVIPOLA!A:C,2,0),\"CODIGO INCORRECTO\")","v":"CODIGO INCORRECTO"}]
[55632,null,null,null,null,null,null,null,null,null,null,null,null,null,null,null,null,null,null,null,null,null,null,null,null,null,null,null,null,null,null,null,null,null,null,null,null,null,null,{"$f":"IFERROR(VLOOKUP(AM55634,Cod_DIVIPOLA!A:C,2,0),\"CODIGO INCORRECTO\")","v":"CODIGO INCORRECTO"}]
[55633,null,null,null,null,null,null,null,null,null,null,null,null,null,null,null,null,null,null,null,null,null,null,null,null,null,null,null,null,null,null,null,null,null,null,null,null,null,null,{"$f":"IFERROR(VLOOKUP(AM55635,Cod_DIVIPOLA!A:C,2,0),\"CODIGO INCORRECTO\")","v":"CODIGO INCORRECTO"}]
[55634,null,null,null,null,null,null,null,null,null,null,null,null,null,null,null,null,null,null,null,null,null,null,null,null,null,null,null,null,null,null,null,null,null,null,null,null,null,null,{"$f":"IFERROR(VLOOKUP(AM55636,Cod_DIVIPOLA!A:C,2,0),\"CODIGO INCORRECTO\")","v":"CODIGO INCORRECTO"}]
[55635,null,null,null,null,null,null,null,null,null,null,null,null,null,null,null,null,null,null,null,null,null,null,null,null,null,null,null,null,null,null,null,null,null,null,null,null,null,null,{"$f":"IFERROR(VLOOKUP(AM55637,Cod_DIVIPOLA!A:C,2,0),\"CODIGO INCORRECTO\")","v":"CODIGO INCORRECTO"}]
[55636,null,null,null,null,null,null,null,null,null,null,null,null,null,null,null,null,null,null,null,null,null,null,null,null,null,null,null,null,null,null,null,null,null,null,null,null,null,null,{"$f":"IFERROR(VLOOKUP(AM55638,Cod_DIVIPOLA!A:C,2,0),\"CODIGO INCORRECTO\")","v":"CODIGO INCORRECTO"}]
[55637,null,null,null,null,null,null,null,null,null,null,null,null,null,null,null,null,null,null,null,null,null,null,null,null,null,null,null,null,null,null,null,null,null,null,null,null,null,null,{"$f":"IFERROR(VLOOKUP(AM55639,Cod_DIVIPOLA!A:C,2,0),\"CODIGO INCORRECTO\")","v":"CODIGO INCORRECTO"}]

{"sheet":"Cod_DIVIPOLA","index":1,"n_rows":1123,"n_cols":3,"rows_kept":1123,"cut":false,"hidden":false,"merged":[]}
[" Código ","DEPARTAMENTO","MUNICIPIO"]
["05001","ANTIOQUIA","MEDELLIN"]
["05002","ANTIOQUIA","ABEJORRAL"]
["05004","ANTIOQUIA","ABRIAQUI"]
["05021","ANTIOQUIA","ALEJANDRIA"]
["05030","ANTIOQUIA","AMAGA"]
["05031","ANTIOQUIA","AMALFI"]
["05034","ANTIOQUIA","ANDES"]
["05036","ANTIOQUIA","ANGELOPOLIS"]
["05038","ANTIOQUIA","ANGOSTURA"]
["05040","ANTIOQUIA","ANORI"]
["05042","ANTIOQUIA","SANTA FE DE ANTIOQUIA"]
["05044","ANTIOQUIA","ANZA"]
["05045","ANTIOQUIA","APARTADO"]
["05051","ANTIOQUIA","ARBOLETES"]
["05055","ANTIOQUIA","ARGELIA"]
["05059","ANTIOQUIA","ARMENIA"]
["05079","ANTIOQUIA","BARBOSA"]
["05086","ANTIOQUIA","BELMIRA"]
["05088","ANTIOQUIA","BELLO"]
["05091","ANTIOQUIA","BETANIA"]
["05093","ANTIOQUIA","BETULIA"]
["05101","ANTIOQUIA","CIUDAD BOLIVAR"]
["05107","ANTIOQUIA","BRICEÑO"]
["05113","ANTIOQUIA","BURITICA"]
["05120","ANTIOQUIA","CACERES"]
["05125","ANTIOQUIA","CAICEDO"]
["05129","ANTIOQUIA","CALDAS"]
["05134","ANTIOQUIA","CAMPAMENTO"]
["05138","ANTIOQUIA","CAÑASGORDAS"]
["05142","ANTIOQUIA","CARACOLI"]
["05145","ANTIOQUIA","CARAMANTA"]
["05147","ANTIOQUIA","CAREPA"]
["05148","ANTIOQUIA","EL CARMEN DE VIBORAL"]
["05150","ANTIOQUIA","CAROLINA"]
["05154","ANTIOQUIA","CAUCASIA"]
["05172","ANTIOQUIA","CHIGORODO"]
["05190","ANTIOQUIA","CISNEROS"]
["05197","ANTIOQUIA","COCORNA"]
["05206","ANTIOQUIA","CONCEPCION"]
["05209","ANTIOQUIA","CONCORDIA"]
["05212","ANTIOQUIA","COPACABANA"]
["05234","ANTIOQUIA","DABEIBA"]
["05237","ANTIOQUIA","DONMATIAS"]
["05240","ANTIOQUIA","EBEJICO"]
["05250","ANTIOQUIA","EL BAGRE"]
["05264","ANTIOQUIA","ENTRERRIOS"]
["05266","ANTIOQUIA","ENVIGADO"]
["05282","ANTIOQUIA","FREDONIA"]
["05284","ANTIOQUIA","FRONTINO"]
["05306","ANTIOQUIA","GIRALDO"]
["05308","ANTIOQUIA","GIRARDOTA"]
["05310","ANTIOQUIA","GOMEZ PLATA"]
["05313","ANTIOQUIA","GRANADA"]
["05315","ANTIOQUIA","GUADALUPE"]
["05318","ANTIOQUIA","GUARNE"]
["05321","ANTIOQUIA","GUATAPE"]
["05347","ANTIOQUIA","HELICONIA"]
["05353","ANTIOQUIA","HISPANIA"]
["05360","ANTIOQUIA","ITAGUI"]
["05361","ANTIOQUIA","ITUANGO"]
["05364","ANTIOQUIA","JARDIN"]
["05368","ANTIOQUIA","JERICO"]
["05376","ANTIOQUIA","LA CEJA"]
["05380","ANTIOQUIA","LA ESTRELLA"]
["05390","ANTIOQUIA","LA PINTADA"]
["05400","ANTIOQUIA","LA UNION"]
["05411","ANTIOQUIA","LIBORINA"]
["05425","ANTIOQUIA","MACEO"]
["05440","ANTIOQUIA","MARINILLA"]
["05467","ANTIOQUIA","MONTEBELLO"]
["05475","ANTIOQUIA","MURINDO"]
["05480","ANTIOQUIA","MUTATA"]
["05483","ANTIOQUIA","NARIÑO"]
["05490","ANTIOQUIA","NECOCLI"]
["05495","ANTIOQUIA","NECHI"]
["05501","ANTIOQUIA","OLAYA"]
["05541","ANTIOQUIA","PEÑOL"]
["05543","ANTIOQUIA","PEQUE"]
["05576","ANTIOQUIA","PUEBLORRICO"]
["05579","ANTIOQUIA","PUERTO BERRIO"]
["05585","ANTIOQUIA","PUERTO NARE"]
["05591","ANTIOQUIA","PUERTO TRIUNFO"]
["05604","ANTIOQUIA","REMEDIOS"]
["05607","ANTIOQUIA","RETIRO"]
["05615","ANTIOQUIA","RIONEGRO"]
["05628","ANTIOQUIA","SABANALARGA"]
["05631","ANTIOQUIA","SABANETA"]
["05642","ANTIOQUIA","SALGAR"]
["05647","ANTIOQUIA","SAN ANDRES DE CUERQUIA"]
["05649","ANTIOQUIA","SAN CARLOS"]
["05652","ANTIOQUIA","SAN FRANCISCO"]
["05656","ANTIOQUIA","SAN JERONIMO"]
["05658","ANTIOQUIA","SAN JOSE DE LA MONTAÑA"]
["05659","ANTIOQUIA","SAN JUAN DE URABA"]
["05660","ANTIOQUIA","SAN LUIS"]
["05664","ANTIOQUIA","SAN PEDRO DE LOS MILAGROS"]
["05665","ANTIOQUIA","SAN PEDRO DE URABA"]
["05667","ANTIOQUIA","SAN RAFAEL"]
["05670","ANTIOQUIA","SAN ROQUE"]
["05674","ANTIOQUIA","SAN VICENTE FERRER"]
["05679","ANTIOQUIA","SANTA BARBARA"]
["05686","ANTIOQUIA","SANTA ROSA DE OSOS"]
["05690","ANTIOQUIA","SANTO DOMINGO"]
["05697","ANTIOQUIA","EL SANTUARIO"]
["05736","ANTIOQUIA","SEGOVIA"]
["05756","ANTIOQUIA","SONSON"]
["05761","ANTIOQUIA","SOPETRAN"]
["05789","ANTIOQUIA","TAMESIS"]
["05790","ANTIOQUIA","TARAZA"]
["05792","ANTIOQUIA","TARSO"]
["05809","ANTIOQUIA","TITIRIBI"]
["05819","ANTIOQUIA","TOLEDO"]
["05837","ANTIOQUIA","TURBO"]
["05842","ANTIOQUIA","URAMITA"]
["05847","ANTIOQUIA","URRAO"]
["05854","ANTIOQUIA","VALDIVIA"]
["05856","ANTIOQUIA","VALPARAISO"]
["05858","ANTIOQUIA","VEGACHI"]
["05861","ANTIOQUIA","VENECIA"]
["05873","ANTIOQUIA","VIGIA DEL FUERTE"]
["05885","ANTIOQUIA","YALI"]
["05887","ANTIOQUIA","YARUMAL"]
["05890","ANTIOQUIA","YOLOMBO"]
["05893","ANTIOQUIA","YONDO"]
["05895","ANTIOQUIA","ZARAGOZA"]
["08001","ATLANTICO","BARRANQUILLA"]
["08078","ATLANTICO","BARANOA"]
["08137","ATLANTICO","CAMPO DE LA CRUZ"]
["08141","ATLANTICO","CANDELARIA"]
["08296","ATLANTICO","GALAPA"]
["08372","ATLANTICO","JUAN DE ACOSTA"]
["08421","ATLANTICO","LURUACO"]
["08433","ATLANTICO","MALAMBO"]
["08436","ATLANTICO","MANATI"]
["08520","ATLANTICO","PALMAR DE VARELA"]
["08549","ATLANTICO","PIOJO"]
["08558","ATLANTICO","POLONUEVO"]
["08560","ATLANTICO","PONEDERA"]
["08573","ATLANTICO","PUERTO COLOMBIA"]
["08606","ATLANTICO","REPELON"]
["08634","ATLANTICO","SABANAGRANDE"]
["08638","ATLANTICO","SABANALARGA"]
["08675","ATLANTICO","SANTA LUCIA"]
["08685","ATLANTICO","SANTO TOMAS"]
["08758","ATLANTICO","SOLEDAD"]
["08770","ATLANTICO","SUAN"]
["08832","ATLANTICO","TUBARA"]
["08849","ATLANTICO","USIACURI"]
["11001","BOGOTA D.C.","BOGOTA D.C."]
["13001","BOLIVAR","CARTAGENA DE INDIAS"]
["13006","BOLIVAR","ACHI"]
["13030","BOLIVAR","ALTOS DEL ROSARIO"]
["13042","BOLIVAR","ARENAL"]
["13052","BOLIVAR","ARJONA"]
["13062","BOLIVAR","ARROYOHONDO"]
["13074","BOLIVAR","BARRANCO DE LOBA"]
["13140","BOLIVAR","CALAMAR"]
["13160","BOLIVAR","CANTAGALLO"]
["13188","BOLIVAR","CICUCO"]
["13212","BOLIVAR","CORDOBA"]
["13222","BOLIVAR","CLEMENCIA"]
[13244,"BOLIVAR","EL CARMEN DE BOLIVAR"]
["13248","BOLIVAR","EL GUAMO"]
["13268","BOLIVAR","EL PEÑON"]
["13300","BOLIVAR","HATILLO DE LOBA"]
["13430","BOLIVAR","MAGANGUE"]
["13433","BOLIVAR","MAHATES"]
["13440","BOLIVAR","MARGARITA"]
["13442","BOLIVAR","MARIA LA BAJA"]
["13458","BOLIVAR","MONTECRISTO"]
["13468","BOLIVAR","SANTA CRUZ DE MOMPOX"]
["13473","BOLIVAR","MORALES"]
["13490","BOLIVAR","NOROSI"]
["13549","BOLIVAR","PINILLOS"]
["13580","BOLIVAR","REGIDOR"]
["13600","BOLIVAR","RIO VIEJO"]
["13620","BOLIVAR","SAN CRISTOBAL"]
["13647","BOLIVAR","SAN ESTANISLAO"]
["13650","BOLIVAR","SAN FERNANDO"]
["13654","BOLIVAR","SAN JACINTO"]
["13655","BOLIVAR","SAN JACINTO DEL CAUCA"]
["13657","BOLIVAR","SAN JUAN NEPOMUCENO"]
["13667","BOLIVAR","SAN MARTIN DE LOBA"]
["13670","BOLIVAR","SAN PABLO"]
["13673","BOLIVAR","SANTA CATALINA"]
["13683","BOLIVAR","SANTA ROSA"]
["13688","BOLIVAR","SANTA ROSA DEL SUR"]
["13744","BOLIVAR","SIMITI"]
["13760","BOLIVAR","SOPLAVIENTO"]
["13780","BOLIVAR","TALAIGUA NUEVO"]
["13810","BOLIVAR","TIQUISIO"]
["13836","BOLIVAR","TURBACO"]
["13838","BOLIVAR","TURBANA"]
["13873","BOLIVAR","VILLANUEVA"]
["13894","BOLIVAR","ZAMBRANO"]
["15001","BOYACA","TUNJA"]
["15022","BOYACA","ALMEIDA"]
["15047","BOYACA","AQUITANIA"]
["15051","BOYACA","ARCABUCO"]
["15087","BOYACA","BELEN"]
["15090","BOYACA","BERBEO"]
["15092","BOYACA","BETEITIVA"]
["15097","BOYACA","BOAVITA"]
["15104","BOYACA","BOYACA"]
["15106","BOYACA","BRICEÑO"]
["15109","BOYACA","BUENAVISTA"]
["15114","BOYACA","BUSBANZA"]
["15131","BOYACA","CALDAS"]
["15135","BOYACA","CAMPOHERMOSO"]
["15162","BOYACA","CERINZA"]
["15172","BOYACA","CHINAVITA"]
["15176","BOYACA","CHIQUINQUIRA"]
["15180","BOYACA","CHISCAS"]
["15183","BOYACA","CHITA"]
["15185","BOYACA","CHITARAQUE"]
["15187","BOYACA","CHIVATA"]
["15189","BOYACA","CIENEGA"]
["15204","BOYACA","COMBITA"]
["15212","BOYACA","COPER"]
["15215","BOYACA","CORRALES"]
["15218","BOYACA","COVARACHIA"]
["15223","BOYACA","CUBARA"]
["15224","BOYACA","CUCAITA"]
["15226","BOYACA","CUITIVA"]
["15232","BOYACA","CHIQUIZA"]
["15236","BOYACA","CHIVOR"]
["15238","BOYACA","DUITAMA"]
["15244","BOYACA","EL COCUY"]
["15248","BOYACA","EL ESPINO"]
["15272","BOYACA","FIRAVITOBA"]
["15276","BOYACA","FLORESTA"]
["15293","BOYACA","GACHANTIVA"]
["15296","BOYACA","GAMEZA"]
["15299","BOYACA","GARAGOA"]
["15317","BOYACA","GUACAMAYAS"]
["15322","BOYACA","GUATEQUE"]
["15325","BOYACA","GUAYATA"]
["15332","BOYACA","GUICAN DE LA SIERRA"]
["15362","BOYACA","IZA"]
["15367","BOYACA","JENESANO"]
["15368","BOYACA","JERICO"]
["15377","BOYACA","LABRANZAGRANDE"]
["15380","BOYACA","LA CAPILLA"]
["15401","BOYACA","LA VICTORIA"]
["15403","BOYACA","LA UVITA"]
["15407","BOYACA","VILLA DE LEYVA"]
["15425","BOYACA","MACANAL"]
["15442","BOYACA","MARIPI"]
["15455","BOYACA","MIRAFLORES"]
["15464","BOYACA","MONGUA"]
["15466","BOYACA","MONGUI"]
["15469","BOYACA","MONIQUIRA"]
["15476","BOYACA","MOTAVITA"]
["15480","BOYACA","MUZO"]
["15491","BOYACA","NOBSA"]
["15494","BOYACA","NUEVO COLON"]
["15500","BOYACA","OICATA"]
["15507","BOYACA","OTANCHE"]
["15511","BOYACA","PACHAVITA"]
["15514","BOYACA","PAEZ"]
["15516","BOYACA","PAIPA"]
["15518","BOYACA","PAJARITO"]
["15522","BOYACA","PANQUEBA"]
["15531","BOYACA","PAUNA"]
["15533","BOYACA","PAYA"]
["15537","BOYACA","PAZ DE RIO"]
["15542","BOYACA","PESCA"]
["15550","BOYACA","PISBA"]
["15572","BOYACA","PUERTO BOYACA"]
["15580","BOYACA","QUIPAMA"]
["15599","BOYACA","RAMIRIQUI"]
["15600","BOYACA","RAQUIRA"]
["15621","BOYACA","RONDON"]
["15632","BOYACA","SABOYA"]
["15638","BOYACA","SACHICA"]
["15646","BOYACA","SAMACA"]
["15660","BOYACA","SAN EDUARDO"]
["15664","BOYACA","SAN JOSE DE PARE"]
["15667","BOYACA","SAN LUIS DE GACENO"]
["15673","BOYACA","SAN MATEO"]
["15676","BOYACA","SAN MIGUEL DE SEMA"]
["15681","BOYACA","SAN PABLO DE BORBUR"]
["15686","BOYACA","SANTANA"]
["15690","BOYACA","SANTA MARIA"]
["15693","BOYACA","SANTA ROSA DE VITERBO"]
["15696","BOYACA","SANTA SOFIA"]
["15720","BOYACA","SATIVANORTE"]
["15723","BOYACA","SATIVASUR"]
["15740","BOYACA","SIACHOQUE"]
["15753","BOYACA","SOATA"]
["15755","BOYACA","SOCOTA"]
["15757","BOYACA","SOCHA"]
["15759","BOYACA","SOGAMOSO"]
["15761","BOYACA","SOMONDOCO"]
["15762","BOYACA","SORA"]
["15763","BOYACA","SOTAQUIRA"]
["15764","BOYACA","SORACA"]
["15774","BOYACA","SUSACON"]
["15776","BOYACA","SUTAMARCHAN"]
["15778","BOYACA","SUTATENZA"]
["15790","BOYACA","TASCO"]
["15798","BOYACA","TENZA"]
["15804","BOYACA","TIBANA"]
["15806","BOYACA","TIBASOSA"]
["15808","BOYACA","TINJACA"]
["15810","BOYACA","TIPACOQUE"]
["15814","BOYACA","TOCA"]
["15816","BOYACA","TOGUI"]
["15820","BOYACA","TOPAGA"]
["15822","BOYACA","TOTA"]
["15832","BOYACA","TUNUNGUA"]
["15835","BOYACA","TURMEQUE"]
["15837","BOYACA","TUTA"]
["15839","BOYACA","TUTAZA"]
["15842","BOYACA","UMBITA"]
["15861","BOYACA","VENTAQUEMADA"]
["15879","BOYACA","VIRACACHA"]
["15897","BOYACA","ZETAQUIRA"]
["17001","CALDAS","MANIZALES"]
["17013","CALDAS","AGUADAS"]
["17042","CALDAS","ANSERMA"]
["17050","CALDAS","ARANZAZU"]
["17088","CALDAS","BELALCAZAR"]
["17174","CALDAS","CHINCHINA"]
["17272","CALDAS","FILADELFIA"]
["17380","CALDAS","LA DORADA"]
["17388","CALDAS","LA MERCED"]
["17433","CALDAS","MANZANARES"]
["17442","CALDAS","MARMATO"]
["17444","CALDAS","MARQUETALIA"]
["17446","CALDAS","MARULANDA"]
["17486","CALDAS","NEIRA"]
["17495","CALDAS","NORCASIA"]
["17513","CALDAS","PACORA"]
["17524","CALDAS","PALESTINA"]
["17541","CALDAS","PENSILVANIA"]
["17614","CALDAS","RIOSUCIO"]
["17616","CALDAS","RISARALDA"]
["17653","CALDAS","SALAMINA"]
["17662","CALDAS","SAMANA"]
["17665","CALDAS","SAN JOSE"]
["17777","CALDAS","SUPIA"]
["17867","CALDAS","VICTORIA"]
["17873","CALDAS","VILLAMARIA"]
["17877","CALDAS","VITERBO"]
["18001","CAQUETA","FLORENCIA"]
["18029","CAQUETA","ALBANIA"]
["18094","CAQUETA","BELEN DE LOS ANDAQUIES"]
["18150","CAQUETA","CARTAGENA DEL CHAIRA"]
["18205","CAQUETA","CURILLO"]
["18247","CAQUETA","EL DONCELLO"]
["18256","CAQUETA","EL PAUJIL"]
["18410","CAQUETA","LA MONTAÑITA"]
["18460","CAQUETA","MILAN"]
["18479","CAQUETA","MORELIA"]
["18592","CAQUETA","PUERTO RICO"]
["18610","CAQUETA","SAN JOSE DEL FRAGUA"]
["18753","CAQUETA","SAN VICENTE DEL CAGUAN"]
["18756","CAQUETA","SOLANO"]
["18785","CAQUETA","SOLITA"]
["18860","CAQUETA","VALPARAISO"]
["19001","CAUCA","POPAYAN"]
["19022","CAUCA","ALMAGUER"]
["19050","CAUCA","ARGELIA"]
["19075","CAUCA","BALBOA"]
["19100","CAUCA","BOLIVAR"]
["19110","CAUCA","BUENOS AIRES"]
["19130","CAUCA","CAJIBIO"]
["19137","CAUCA","CALDONO"]
["19142","CAUCA","CALOTO"]
["19212","CAUCA","CORINTO"]
["19256","CAUCA","EL TAMBO"]
["19290","CAUCA","FLORENCIA"]
["19300","CAUCA","GUACHENE"]
["19318","CAUCA","GUAPI"]
["19355","CAUCA","INZA"]
["19364","CAUCA","JAMBALO"]
["19392","CAUCA","LA SIERRA"]
["19397","CAUCA","LA VEGA"]
["19418","CAUCA","LOPEZ DE MICAY"]
["19450","CAUCA","MERCADERES"]
["19455","CAUCA","MIRANDA"]
["19473","CAUCA","MORALES"]
["19513","CAUCA","PADILLA"]
["19517","CAUCA","PAEZ"]
["19532","CAUCA","PATIA"]
["19533","CAUCA","PIAMONTE"]
["19548","CAUCA","PIENDAMO - TUNIA"]
["19573","CAUCA","PUERTO TEJADA"]
["19585","CAUCA","PURACE"]
["19622","CAUCA","ROSAS"]
["19693","CAUCA","SAN SEBASTIAN"]
["19698","CAUCA","SANTANDER DE QUILICHAO"]
["19701","CAUCA","SANTA ROSA"]
["19743","CAUCA","SILVIA"]
["19760","CAUCA","SOTARA PAISPAMBA"]
["19780","CAUCA","SUAREZ"]
["19785","CAUCA","SUCRE"]
["19807","CAUCA","TIMBIO"]
["19809","CAUCA","TIMBIQUI"]
["19821","CAUCA","TORIBIO"]
["19824","CAUCA","TOTORO"]
["19845","CAUCA","VILLA RICA"]
["20001","CESAR","VALLEDUPAR"]
["20011","CESAR","AGUACHICA"]
["20013","CESAR","AGUSTIN CODAZZI"]
["20032","CESAR","ASTREA"]
["20045","CESAR","BECERRIL"]
["20060","CESAR","BOSCONIA"]
["20175","CESAR","CHIMICHAGUA"]
["20178","CESAR","CHIRIGUANA"]
["20228","CESAR","CURUMANI"]
["20238","CESAR","EL COPEY"]
["20250","CESAR","EL PASO"]
["20295","CESAR","GAMARRA"]
["20310","CESAR","GONZALEZ"]
["20383","CESAR","LA GLORIA"]
["20400","CESAR","LA JAGUA DE IBIRICO"]
["20443","CESAR","MANAURE BALCON DEL CESAR"]
["20517","CESAR","PAILITAS"]
["20550","CESAR","PELAYA"]
["20570","CESAR","PUEBLO BELLO"]
["20614","CESAR","RIO DE ORO"]
["20621","CESAR","LA PAZ"]
["20710","CESAR","SAN ALBERTO"]
["20750","CESAR","SAN DIEGO"]
["20770","CESAR","SAN MARTIN"]
["20787","CESAR","TAMALAMEQUE"]
["23001","CORDOBA","MONTERIA"]
["23068","CORDOBA","AYAPEL"]
["23079","CORDOBA","BUENAVISTA"]
["23090","CORDOBA","CANALETE"]
["23162","CORDOBA","CERETE"]
["23168","CORDOBA","CHIMA"]
["23182","CORDOBA","CHINU"]
["23189","CORDOBA","CIENAGA DE ORO"]
["23300","CORDOBA","COTORRA"]
["23350","CORDOBA","LA APARTADA"]
["23417","CORDOBA","LORICA"]
["23419","CORDOBA","LOS CORDOBAS"]
["23464","CORDOBA","MOMIL"]
["23466","CORDOBA","MONTELIBANO"]
["23500","CORDOBA","MOÑITOS"]
["23555","CORDOBA","PLANETA RICA"]
["23570","CORDOBA","PUEBLO NUEVO"]
["23574","CORDOBA","PUERTO ESCONDIDO"]
["23580","CORDOBA","PUERTO LIBERTADOR"]
["23586","CORDOBA","PURISIMA DE LA CONCEPCION"]
["23660","CORDOBA","SAHAGUN"]
["23670","CORDOBA","SAN ANDRES DE SOTAVENTO"]
["23672","CORDOBA","SAN ANTERO"]
["23675","CORDOBA","SAN BERNARDO DEL VIENTO"]
["23678","CORDOBA","SAN CARLOS"]
["23682","CORDOBA","SAN JOSE DE URE"]
["23686","CORDOBA","SAN PELAYO"]
["23807","CORDOBA","TIERRALTA"]
["23815","CORDOBA","TUCHIN"]
["23855","CORDOBA","VALENCIA"]
["25001","CUNDINAMARCA","AGUA DE DIOS"]
["25019","CUNDINAMARCA","ALBAN"]
["25035","CUNDINAMARCA","ANAPOIMA"]
["25040","CUNDINAMARCA","ANOLAIMA"]
["25053","CUNDINAMARCA","ARBELAEZ"]
["25086","CUNDINAMARCA","BELTRAN"]
["25095","CUNDINAMARCA","BITUIMA"]
["25099","CUNDINAMARCA","BOJACA"]
["25120","CUNDINAMARCA","CABRERA"]
["25123","CUNDINAMARCA","CACHIPAY"]
["25126","CUNDINAMARCA","CAJICA"]
["25148","CUNDINAMARCA","CAPARRAPI"]
["25151","CUNDINAMARCA","CAQUEZA"]
["25154","CUNDINAMARCA","CARMEN DE CARUPA"]
["25168","CUNDINAMARCA","CHAGUANI"]
["25175","CUNDINAMARCA","CHIA"]
["25178","CUNDINAMARCA","CHIPAQUE"]
["25181","CUNDINAMARCA","CHOACHI"]
["25183","CUNDINAMARCA","CHOCONTA"]
["25200","CUNDINAMARCA","COGUA"]
["25214","CUNDINAMARCA","COTA"]
["25224","CUNDINAMARCA","CUCUNUBA"]
["25245","CUNDINAMARCA","EL COLEGIO"]
["25258","CUNDINAMARCA","EL PEÑON"]
["25260","CUNDINAMARCA","EL ROSAL"]
["25269","CUNDINAMARCA","FACATATIVA"]
["25279","CUNDINAMARCA","FOMEQUE"]
["25281","CUNDINAMARCA","FOSCA"]
["25286","CUNDINAMARCA","FUNZA"]
["25288","CUNDINAMARCA","FUQUENE"]
["25290","CUNDINAMARCA","FUSAGASUGA"]
["25293","CUNDINAMARCA","GACHALA"]
["25295","CUNDINAMARCA","GACHANCIPA"]
["25297","CUNDINAMARCA","GACHETA"]
["25299","CUNDINAMARCA","GAMA"]
["25307","CUNDINAMARCA","GIRARDOT"]
["25312","CUNDINAMARCA","GRANADA"]
["25317","CUNDINAMARCA","GUACHETA"]
["25320","CUNDINAMARCA","GUADUAS"]
["25322","CUNDINAMARCA","GUASCA"]
["25324","CUNDINAMARCA","GUATAQUI"]
["25326","CUNDINAMARCA","GUATAVITA"]
["25328","CUNDINAMARCA","GUAYABAL DE SIQUIMA"]
["25335","CUNDINAMARCA","GUAYABETAL"]
["25339","CUNDINAMARCA","GUTIERREZ"]
["25368","CUNDINAMARCA","JERUSALEN"]
["25372","CUNDINAMARCA","JUNIN"]
["25377","CUNDINAMARCA","LA CALERA"]
["25386","CUNDINAMARCA","LA MESA"]
["25394","CUNDINAMARCA","LA PALMA"]
["25398","CUNDINAMARCA","LA PEÑA"]
["25402","CUNDINAMARCA","LA VEGA"]
["25407","CUNDINAMARCA","LENGUAZAQUE"]
["25426","CUNDINAMARCA","MACHETA"]
["25430","CUNDINAMARCA","MADRID"]
["25436","CUNDINAMARCA","MANTA"]
["25438","CUNDINAMARCA","MEDINA"]
["25473","CUNDINAMARCA","MOSQUERA"]
["25483","CUNDINAMARCA","NARIÑO"]
["25486","CUNDINAMARCA","NEMOCON"]
["25488","CUNDINAMARCA","NILO"]
["25489","CUNDINAMARCA","NIMAIMA"]
["25491","CUNDINAMARCA","NOCAIMA"]
["25506","CUNDINAMARCA","VENECIA"]
["25513","CUNDINAMARCA","PACHO"]
["25518","CUNDINAMARCA","PAIME"]
["25524","CUNDINAMARCA","PANDI"]
["25530","CUNDINAMARCA","PARATEBUENO"]
["25535","CUNDINAMARCA","PASCA"]
["25572","CUNDINAMARCA","PUERTO SALGAR"]
["25580","CUNDINAMARCA","PULI"]
["25592","CUNDINAMARCA","QUEBRADANEGRA"]
["25594","CUNDINAMARCA","QUETAME"]
["25596","CUNDINAMARCA","QUIPILE"]
["25599","CUNDINAMARCA","APULO"]
["25612","CUNDINAMARCA","RICAURTE"]
["25645","CUNDINAMARCA","SAN ANTONIO DEL TEQUENDAMA"]
["25649","CUNDINAMARCA","SAN BERNARDO"]
["25653","CUNDINAMARCA","SAN CAYETANO"]
["25658","CUNDINAMARCA","SAN FRANCISCO"]
["25662","CUNDINAMARCA","SAN JUAN DE RIOSECO"]
["25718","CUNDINAMARCA","SASAIMA"]
["25736","CUNDINAMARCA","SESQUILE"]
["25740","CUNDINAMARCA","SIBATE"]
["25743","CUNDINAMARCA","SILVANIA"]
["25745","CUNDINAMARCA","SIMIJACA"]
["25754","CUNDINAMARCA","SOACHA"]
["25758","CUNDINAMARCA","SOPO"]
["25769","CUNDINAMARCA","SUBACHOQUE"]
["25772","CUNDINAMARCA","SUESCA"]
["25777","CUNDINAMARCA","SUPATA"]
["25779","CUNDINAMARCA","SUSA"]
["25781","CUNDINAMARCA","SUTATAUSA"]
["25785","CUNDINAMARCA","TABIO"]
["25793","CUNDINAMARCA","TAUSA"]
["25797","CUNDINAMARCA","TENA"]
["25799","CUNDINAMARCA","TENJO"]
["25805","CUNDINAMARCA","TIBACUY"]
["25807","CUNDINAMARCA","TIBIRITA"]
["25815","CUNDINAMARCA","TOCAIMA"]
["25817","CUNDINAMARCA","TOCANCIPA"]
["25823","CUNDINAMARCA","TOPAIPI"]
["25839","CUNDINAMARCA","UBALA"]
["25841","CUNDINAMARCA","UBAQUE"]
["25843","CUNDINAMARCA","VILLA DE SAN DIEGO DE UBATE"]
["25845","CUNDINAMARCA","UNE"]
["25851","CUNDINAMARCA","UTICA"]
["25862","CUNDINAMARCA","VERGARA"]
["25867","CUNDINAMARCA","VIANI"]
["25871","CUNDINAMARCA","VILLAGOMEZ"]
["25873","CUNDINAMARCA","VILLAPINZON"]
["25875","CUNDINAMARCA","VILLETA"]
["25878","CUNDINAMARCA","VIOTA"]
["25885","CUNDINAMARCA","YACOPI"]
["25898","CUNDINAMARCA","ZIPACON"]
["25899","CUNDINAMARCA","ZIPAQUIRA"]
["27001","CHOCO","QUIBDO"]
["27006","CHOCO","ACANDI"]
["27025","CHOCO","ALTO BAUDO"]
["27050","CHOCO","ATRATO"]
["27073","CHOCO","BAGADO"]
["27075","CHOCO","BAHIA SOLANO"]
["27077","CHOCO","BAJO BAUDO"]
["27099","CHOCO","BOJAYA"]
["27135","CHOCO","EL CANTON DEL SAN PABLO"]
["27150","CHOCO","CARMEN DEL DARIEN"]
["27160","CHOCO","CERTEGUI"]
["27205","CHOCO","CONDOTO"]
["27245","CHOCO","EL CARMEN DE ATRATO"]
["27250","CHOCO","EL LITORAL DEL SAN JUAN"]
["27361","CHOCO","ISTMINA"]
["27372","CHOCO","JURADO"]
["27413","CHOCO","LLORO"]
["27425","CHOCO","MEDIO ATRATO"]
["27430","CHOCO","MEDIO BAUDO"]
["27450","CHOCO","MEDIO SAN JUAN"]
["27491","CHOCO","NOVITA"]
[27493,"CHOCO","NUEVO BELEN DE BAJIRA"]
["27495","CHOCO","NUQUI"]
["27580","CHOCO","RIO IRO"]
["27600","CHOCO","RIO QUITO"]
["27615","CHOCO","RIOSUCIO"]
["27660","CHOCO","SAN JOSE DEL PALMAR"]
["27745","CHOCO","SIPI"]
["27787","CHOCO","TADO"]
["27800","CHOCO","UNGUIA"]
["27810","CHOCO","UNION PANAMERICANA"]
["41001","HUILA","NEIVA"]
["41006","HUILA","ACEVEDO"]
["41013","HUILA","AGRADO"]
["41016","HUILA","AIPE"]
["41020","HUILA","ALGECIRAS"]
["41026","HUILA","ALTAMIRA"]
["41078","HUILA","BARAYA"]
["41132","HUILA","CAMPOALEGRE"]
["41206","HUILA","COLOMBIA"]
["41244","HUILA","ELIAS"]
["41298","HUILA","GARZON"]
["41306","HUILA","GIGANTE"]
["41319","HUILA","GUADALUPE"]
["41349","HUILA","HOBO"]
["41357","HUILA","IQUIRA"]
["41359","HUILA","ISNOS"]
["41378","HUILA","LA ARGENTINA"]
["41396","HUILA","LA PLATA"]
["41483","HUILA","NATAGA"]
["41503","HUILA","OPORAPA"]
["41518","HUILA","PAICOL"]
["41524","HUILA","PALERMO"]
["41530","HUILA","PALESTINA"]
["41548","HUILA","PITAL"]
["41551","HUILA","PITALITO"]
["41615","HUILA","RIVERA"]
["41660","HUILA","SALADOBLANCO"]
["41668","HUILA","SAN AGUSTIN"]
["41676","HUILA","SANTA MARIA"]
["41770","HUILA","SUAZA"]
["41791","HUILA","TARQUI"]
["41797","HUILA","TESALIA"]
["41799","HUILA","TELLO"]
["41801","HUILA","TERUEL"]
["41807","HUILA","TIMANA"]
["41872","HUILA","VILLAVIEJA"]
["41885","HUILA","YAGUARA"]
["44001","LA GUAJIRA","RIOHACHA"]
["44035","LA GUAJIRA","ALBANIA"]
["44078","LA GUAJIRA","BARRANCAS"]
["44090","LA GUAJIRA","DIBULLA"]
["44098","LA GUAJIRA","DISTRACCION"]
["44110","LA GUAJIRA","EL MOLINO"]
["44279","LA GUAJIRA","FONSECA"]
["44378","LA GUAJIRA","HATONUEVO"]
["44420","LA GUAJIRA","LA JAGUA DEL PILAR"]
["44430","LA GUAJIRA","MAICAO"]
["44560","LA GUAJIRA","MANAURE"]
["44650","LA GUAJIRA","SAN JUAN DEL CESAR"]
["44847","LA GUAJIRA","URIBIA"]
["44855","LA GUAJIRA","URUMITA"]
["44874","LA GUAJIRA","VILLANUEVA"]
["47001","MAGDALENA","SANTA MARTA"]
["47030","MAGDALENA","ALGARROBO"]
["47053","MAGDALENA","ARACATACA"]
["47058","MAGDALENA","ARIGUANI"]
["47161","MAGDALENA","CERRO DE SAN ANTONIO"]
["47170","MAGDALENA","CHIVOLO"]
["47189","MAGDALENA","CIENAGA"]
["47205","MAGDALENA","CONCORDIA"]
["47245","MAGDALENA","EL BANCO"]
["47258","MAGDALENA","EL PIÑON"]
["47268","MAGDALENA","EL RETEN"]
["47288","MAGDALENA","FUNDACION"]
["47318","MAGDALENA","GUAMAL"]
["47460","MAGDALENA","NUEVA GRANADA"]
["47541","MAGDALENA","PEDRAZA"]
["47545","MAGDALENA","PIJIÑO DEL CARMEN"]
["47551","MAGDALENA","PIVIJAY"]
["47555","MAGDALENA","PLATO"]
["47570","MAGDALENA","PUEBLOVIEJO"]
["47605","MAGDALENA","REMOLINO"]
["47660","MAGDALENA","SABANAS DE SAN ANGEL"]
["47675","MAGDALENA","SALAMINA"]
["47692","MAGDALENA","SAN SEBASTIAN DE BUENAVISTA"]
["47703","MAGDALENA","SAN ZENON"]
["47707","MAGDALENA","SANTA ANA"]
["47720","MAGDALENA","SANTA BARBARA DE PINTO"]
["47745","MAGDALENA","SITIONUEVO"]
["47798","MAGDALENA","TENERIFE"]
["47960","MAGDALENA","ZAPAYAN"]
["47980","MAGDALENA","ZONA BANANERA"]
["50001","META","VILLAVICENCIO"]
["50006","META","ACACIAS"]
["50110","META","BARRANCA DE UPIA"]
["50124","META","CABUYARO"]
["50150","META","CASTILLA LA NUEVA"]
["50223","META","CUBARRAL"]
["50226","META","CUMARAL"]
["50245","META","EL CALVARIO"]
["50251","META","EL CASTILLO"]
["50270","META","EL DORADO"]
["50287","META","FUENTE DE ORO"]
["50313","META","GRANADA"]
["50318","META","GUAMAL"]
["50325","META","MAPIRIPAN"]
["50330","META","MESETAS"]
["50350","META","LA MACARENA"]
["50370","META","URIBE"]
["50400","META","LEJANIAS"]
["50450","META","PUERTO CONCORDIA"]
["50568","META","PUERTO GAITAN"]
["50573","META","PUERTO LOPEZ"]
["50577","META","PUERTO LLERAS"]
["50590","META","PUERTO RICO"]
["50606","META","RESTREPO"]
["50680","META","SAN CARLOS DE GUAROA"]
["50683","META","SAN JUAN DE ARAMA"]
["50686","META","SAN JUANITO"]
["50689","META","SAN MARTIN"]
["50711","META","VISTAHERMOSA"]
["52001","NARIÑO","PASTO"]
["52019","NARIÑO","ALBAN"]
["52022","NARIÑO","ALDANA"]
["52036","NARIÑO","ANCUYA"]
["52051","NARIÑO","ARBOLEDA"]
["52079","NARIÑO","BARBACOAS"]
["52083","NARIÑO","BELEN"]
["52110","NARIÑO","BUESACO"]
["52203","NARIÑO","COLON"]
["52207","NARIÑO","CONSACA"]
["52210","NARIÑO","CONTADERO"]
["52215","NARIÑO","CORDOBA"]
["52224","NARIÑO","CUASPUD CARLOSAMA"]
["52227","NARIÑO","CUMBAL"]
["52233","NARIÑO","CUMBITARA"]
["52240","NARIÑO","CHACHAGUI"]
["52250","NARIÑO","EL CHARCO"]
["52254","NARIÑO","EL PEÑOL"]
["52256","NARIÑO","EL ROSARIO"]
["52258","NARIÑO","EL TABLON DE GOMEZ"]
["52260","NARIÑO","EL TAMBO"]
["52287","NARIÑO","FUNES"]
["52317","NARIÑO","GUACHUCAL"]
["52320","NARIÑO","GUAITARILLA"]
["52323","NARIÑO","GUALMATAN"]
["52352","NARIÑO","ILES"]
["52354","NARIÑO","IMUES"]
["52356","NARIÑO","IPIALES"]
["52378","NARIÑO","LA CRUZ"]
["52381","NARIÑO","LA FLORIDA"]
["52385","NARIÑO","LA LLANADA"]
["52390","NARIÑO","LA TOLA"]
["52399","NARIÑO","LA UNION"]
["52405","NARIÑO","LEIVA"]
["52411","NARIÑO","LINARES"]
["52418","NARIÑO","LOS ANDES"]
["52427","NARIÑO","MAGUI"]
["52435","NARIÑO","MALLAMA"]
["52473","NARIÑO","MOSQUERA"]
["52480","NARIÑO","NARIÑO"]
["52490","NARIÑO","OLAYA HERRERA"]
["52506","NARIÑO","OSPINA"]
["52520","NARIÑO","FRANCISCO PIZARRO"]
["52540","NARIÑO","POLICARPA"]
["52560","NARIÑO","POTOSI"]
["52565","NARIÑO","PROVIDENCIA"]
["52573","NARIÑO","PUERRES"]
["52585","NARIÑO","PUPIALES"]
["52612","NARIÑO","RICAURTE"]
["52621","NARIÑO","ROBERTO PAYAN"]
["52678","NARIÑO","SAMANIEGO"]
["52683","NARIÑO","SANDONA"]
["52685","NARIÑO","SAN BERNARDO"]
["52687","NARIÑO","SAN LORENZO"]
["52693","NARIÑO","SAN PABLO"]
["52694","NARIÑO","SAN PEDRO DE CARTAGO"]
["52696","NARIÑO","SANTA BARBARA"]
["52699","NARIÑO","SANTACRUZ"]
["52720","NARIÑO","SAPUYES"]
["52786","NARIÑO","TAMINANGO"]
["52788","NARIÑO","TANGUA"]
["52835","NARIÑO","SAN ANDRES DE TUMACO"]
["52838","NARIÑO","TUQUERRES"]
["52885","NARIÑO","YACUANQUER"]
["54001","NORTE DE SANTANDER","SAN JOSE DE CUCUTA"]
["54003","NORTE DE SANTANDER","ABREGO"]
["54051","NORTE DE SANTANDER","ARBOLEDAS"]
["54099","NORTE DE SANTANDER","BOCHALEMA"]
["54109","NORTE DE SANTANDER","BUCARASICA"]
["54125","NORTE DE SANTANDER","CACOTA"]
["54128","NORTE DE SANTANDER","CACHIRA"]
["54172","NORTE DE SANTANDER","CHINACOTA"]
["54174","NORTE DE SANTANDER","CHITAGA"]
["54206","NORTE DE SANTANDER","CONVENCION"]
["54223","NORTE DE SANTANDER","CUCUTILLA"]
["54239","NORTE DE SANTANDER","DURANIA"]
["54245","NORTE DE SANTANDER","EL CARMEN"]
["54250","NORTE DE SANTANDER","EL TARRA"]
["54261","NORTE DE SANTANDER","EL ZULIA"]
["54313","NORTE DE SANTANDER","GRAMALOTE"]
["54344","NORTE DE SANTANDER","HACARI"]
["54347","NORTE DE SANTANDER","HERRAN"]
["54377","NORTE DE SANTANDER","LABATECA"]
["54385","NORTE DE SANTANDER","LA ESPERANZA"]
["54398","NORTE DE SANTANDER","LA PLAYA"]
["54405","NORTE DE SANTANDER","LOS PATIOS"]
["54418","NORTE DE SANTANDER","LOURDES"]
["54480","NORTE DE SANTANDER","MUTISCUA"]
["54498","NORTE DE SANTANDER","OCAÑA"]
["54518","NORTE DE SANTANDER","PAMPLONA"]
["54520","NORTE DE SANTANDER","PAMPLONITA"]
["54553","NORTE DE SANTANDER","PUERTO SANTANDER"]
["54599","NORTE DE SANTANDER","RAGONVALIA"]
["54660","NORTE DE SANTANDER","SALAZAR"]
["54670","NORTE DE SANTANDER","SAN CALIXTO"]
["54673","NORTE DE SANTANDER","SAN CAYETANO"]
["54680","NORTE DE SANTANDER","SANTIAGO"]
["54720","NORTE DE SANTANDER","SARDINATA"]
["54743","NORTE DE SANTANDER","SILOS"]
["54800","NORTE DE SANTANDER","TEORAMA"]
["54810","NORTE DE SANTANDER","TIBU"]
["54820","NORTE DE SANTANDER","TOLEDO"]
["54871","NORTE DE SANTANDER","VILLA CARO"]
["54874","NORTE DE SANTANDER","VILLA DEL ROSARIO"]
["63001","QUINDIO","ARMENIA"]
["63111","QUINDIO","BUENAVISTA"]
["63130","QUINDIO","CALARCA"]
["63190","QUINDIO","CIRCASIA"]
["63212","QUINDIO","CORDOBA"]
["63272","QUINDIO","FILANDIA"]
["63302","QUINDIO","GENOVA"]
["63401","QUINDIO","LA TEBAIDA"]
["63470","QUINDIO","MONTENEGRO"]
["63548","QUINDIO","PIJAO"]
["63594","QUINDIO","QUIMBAYA"]
["63690","QUINDIO","SALENTO"]
["66001","RISARALDA","PEREIRA"]
["66045","RISARALDA","APIA"]
["66075","RISARALDA","BALBOA"]
["66088","RISARALDA","BELEN DE UMBRIA"]
["66170","RISARALDA","DOSQUEBRADAS"]
["66318","RISARALDA","GUATICA"]
["66383","RISARALDA","LA CELIA"]
["66400","RISARALDA","LA VIRGINIA"]
["66440","RISARALDA","MARSELLA"]
["66456","RISARALDA","MISTRATO"]
["66572","RISARALDA","PUEBLO RICO"]
["66594","RISARALDA","QUINCHIA"]
["66682","RISARALDA","SANTA ROSA DE CABAL"]
["66687","RISARALDA","SANTUARIO"]
["68001","SANTANDER","BUCARAMANGA"]
["68013","SANTANDER","AGUADA"]
["68020","SANTANDER","ALBANIA"]
["68051","SANTANDER","ARATOCA"]
["68077","SANTANDER","BARBOSA"]
["68079","SANTANDER","BARICHARA"]
["68081","SANTANDER","BARRANCABERMEJA"]
["68092","SANTANDER","BETULIA"]
["68101","SANTANDER","BOLIVAR"]
["68121","SANTANDER","CABRERA"]
["68132","SANTANDER","CALIFORNIA"]
["68147","SANTANDER","CAPITANEJO"]
["68152","SANTANDER","CARCASI"]
["68160","SANTANDER","CEPITA"]
["68162","SANTANDER","CERRITO"]
["68167","SANTANDER","CHARALA"]
["68169","SANTANDER","CHARTA"]
["68176","SANTANDER","CHIMA"]
["68179","SANTANDER","CHIPATA"]
["68190","SANTANDER","CIMITARRA"]
["68207","SANTANDER","CONCEPCION"]
["68209","SANTANDER","CONFINES"]
["68211","SANTANDER","CONTRATACION"]
["68217","SANTANDER","COROMORO"]
["68229","SANTANDER","CURITI"]
["68235","SANTANDER","EL CARMEN DE CHUCURI"]
["68245","SANTANDER","EL GUACAMAYO"]
["68250","SANTANDER","EL PEÑON"]
["68255","SANTANDER","EL PLAYON"]
["68264","SANTANDER","ENCINO"]
["68266","SANTANDER","ENCISO"]
["68271","SANTANDER","FLORIAN"]
["68276","SANTANDER","FLORIDABLANCA"]
["68296","SANTANDER","GALAN"]
["68298","SANTANDER","GAMBITA"]
["68307","SANTANDER","GIRON"]
["68318","SANTANDER","GUACA"]
["68320","SANTANDER","GUADALUPE"]
["68322","SANTANDER","GUAPOTA"]
["68324","SANTANDER","GUAVATA"]
["68327","SANTANDER","GUEPSA"]
["68344","SANTANDER","HATO"]
["68368","SANTANDER","JESUS MARIA"]
["68370","SANTANDER","JORDAN"]
["68377","SANTANDER","LA BELLEZA"]
["68385","SANTANDER","LANDAZURI"]
["68397","SANTANDER","LA PAZ"]
["68406","SANTANDER","LEBRIJA"]
["68418","SANTANDER","LOS SANTOS"]
["68425","SANTANDER","MACARAVITA"]
["68432","SANTANDER","MALAGA"]
["68444","SANTANDER","MATANZA"]
["68464","SANTANDER","MOGOTES"]
["68468","SANTANDER","MOLAGAVITA"]
["68498","SANTANDER","OCAMONTE"]
["68500","SANTANDER","OIBA"]
["68502","SANTANDER","ONZAGA"]
["68522","SANTANDER","PALMAR"]
["68524","SANTANDER","PALMAS DEL SOCORRO"]
["68533","SANTANDER","PARAMO"]
["68547","SANTANDER","PIEDECUESTA"]
["68549","SANTANDER","PINCHOTE"]
["68572","SANTANDER","PUENTE NACIONAL"]
["68573","SANTANDER","PUERTO PARRA"]
["68575","SANTANDER","PUERTO WILCHES"]
["68615","SANTANDER","RIONEGRO"]
["68655","SANTANDER","SABANA DE TORRES"]
["68669","SANTANDER","SAN ANDRES"]
["68673","SANTANDER","SAN BENITO"]
["68679","SANTANDER","SAN GIL"]
["68682","SANTANDER","SAN JOAQUIN"]
["68684","SANTANDER","SAN JOSE DE MIRANDA"]
["68686","SANTANDER","SAN MIGUEL"]
["68689","SANTANDER","SAN VICENTE DE CHUCURI"]
["68705","SANTANDER","SANTA BARBARA"]
["68720","SANTANDER","SANTA HELENA DEL OPON"]
["68745","SANTANDER","SIMACOTA"]
["68755","SANTANDER","SOCORRO"]
["68770","SANTANDER","SUAITA"]
["68773","SANTANDER","SUCRE"]
["68780","SANTANDER","SURATA"]
["68820","SANTANDER","TONA"]
["68855","SANTANDER","VALLE DE SAN JOSE"]
["68861","SANTANDER","VELEZ"]
["68867","SANTANDER","VETAS"]
["68872","SANTANDER","VILLANUEVA"]
["68895","SANTANDER","ZAPATOCA"]
["70001","SUCRE","SINCELEJO"]
["70110","SUCRE","BUENAVISTA"]
["70124","SUCRE","CAIMITO"]
["70204","SUCRE","COLOSO"]
["70215","SUCRE","COROZAL"]
["70221","SUCRE","COVEÑAS"]
["70230","SUCRE","CHALAN"]
["70233","SUCRE","EL ROBLE"]
["70235","SUCRE","GALERAS"]
["70265","SUCRE","GUARANDA"]
["70400","SUCRE","LA UNION"]
["70418","SUCRE","LOS PALMITOS"]
["70429","SUCRE","MAJAGUAL"]
["70473","SUCRE","MORROA"]
["70508","SUCRE","OVEJAS"]
["70523","SUCRE","PALMITO"]
["70670","SUCRE","SAMPUES"]
["70678","SUCRE","SAN BENITO ABAD"]
["70702","SUCRE","SAN JUAN DE BETULIA"]
["70708","SUCRE","SAN MARCOS"]
["70713","SUCRE","SAN ONOFRE"]
["70717","SUCRE","SAN PEDRO"]
[70742,"SUCRE","SAN LUIS DE SINCE"]
["70771","SUCRE","SUCRE"]
["70820","SUCRE","SANTIAGO DE TOLU"]
["70823","SUCRE","SAN JOSE DE TOLUVIEJO"]
["73001","TOLIMA","IBAGUE"]
["73024","TOLIMA","ALPUJARRA"]
["73026","TOLIMA","ALVARADO"]
["73030","TOLIMA","AMBALEMA"]
["73043","TOLIMA","ANZOATEGUI"]
["73055","TOLIMA","ARMERO"]
["73067","TOLIMA","ATACO"]
["73124","TOLIMA","CAJAMARCA"]
["73148","TOLIMA","CARMEN DE APICALA"]
["73152","TOLIMA","CASABIANCA"]
["73168","TOLIMA","CHAPARRAL"]
["73200","TOLIMA","COELLO"]
["73217","TOLIMA","COYAIMA"]
["73226","TOLIMA","CUNDAY"]
["73236","TOLIMA","DOLORES"]
["73268","TOLIMA","ESPINAL"]
["73270","TOLIMA","FALAN"]
["73275","TOLIMA","FLANDES"]
["73283","TOLIMA","FRESNO"]
["73319","TOLIMA","GUAMO"]
["73347","TOLIMA","HERVEO"]
["73349","TOLIMA","HONDA"]
["73352","TOLIMA","ICONONZO"]
["73408","TOLIMA","LERIDA"]
["73411","TOLIMA","LIBANO"]
[73443,"TOLIMA","SAN SEBASTIAN DE MARIQUITA"]
["73449","TOLIMA","MELGAR"]
["73461","TOLIMA","MURILLO"]
["73483","TOLIMA","NATAGAIMA"]
["73504","TOLIMA","ORTEGA"]
["73520","TOLIMA","PALOCABILDO"]
["73547","TOLIMA","PIEDRAS"]
["73555","TOLIMA","PLANADAS"]
["73563","TOLIMA","PRADO"]
["73585","TOLIMA","PURIFICACION"]
["73616","TOLIMA","RIOBLANCO"]
["73622","TOLIMA","RONCESVALLES"]
["73624","TOLIMA","ROVIRA"]
["73671","TOLIMA","SALDAÑA"]
["73675","TOLIMA","SAN ANTONIO"]
["73678","TOLIMA","SAN LUIS"]
["73686","TOLIMA","SANTA ISABEL"]
["73770","TOLIMA","SUAREZ"]
["73854","TOLIMA","VALLE DE SAN JUAN"]
["73861","TOLIMA","VENADILLO"]
["73870","TOLIMA","VILLAHERMOSA"]
["73873","TOLIMA","VILLARRICA"]
["76001","VALLE DEL CAUCA","SANTIAGO DE CALI"]
["76020","VALLE DEL CAUCA","ALCALA"]
["76036","VALLE DEL CAUCA","ANDALUCIA"]
["76041","VALLE DEL CAUCA","ANSERMANUEVO"]
["76054","VALLE DEL CAUCA","ARGELIA"]
["76100","VALLE DEL CAUCA","BOLIVAR"]
["76109","VALLE DEL CAUCA","BUENAVENTURA"]
["76111","VALLE DEL CAUCA","GUADALAJARA DE BUGA"]
["76113","VALLE DEL CAUCA","BUGALAGRANDE"]
["76122","VALLE DEL CAUCA","CAICEDONIA"]
[76126,"VALLE DEL CAUCA","CALIMA"]
["76130","VALLE DEL CAUCA","CANDELARIA"]
["76147","VALLE DEL CAUCA","CARTAGO"]
["76233","VALLE DEL CAUCA","DAGUA"]
["76243","VALLE DEL CAUCA","EL AGUILA"]
["76246","VALLE DEL CAUCA","EL CAIRO"]
["76248","VALLE DEL CAUCA","EL CERRITO"]
["76250","VALLE DEL CAUCA","EL DOVIO"]
["76275","VALLE DEL CAUCA","FLORIDA"]
["76306","VALLE DEL CAUCA","GINEBRA"]
["76318","VALLE DEL CAUCA","GUACARI"]
["76364","VALLE DEL CAUCA","JAMUNDI"]
["76377","VALLE DEL CAUCA","LA CUMBRE"]
["76400","VALLE DEL CAUCA","LA UNION"]
["76403","VALLE DEL CAUCA","LA VICTORIA"]
["76497","VALLE DEL CAUCA","OBANDO"]
["76520","VALLE DEL CAUCA","PALMIRA"]
["76563","VALLE DEL CAUCA","PRADERA"]
["76606","VALLE DEL CAUCA","RESTREPO"]
["76616","VALLE DEL CAUCA","RIOFRIO"]
["76622","VALLE DEL CAUCA","ROLDANILLO"]
["76670","VALLE DEL CAUCA","SAN PEDRO"]
["76736","VALLE DEL CAUCA","SEVILLA"]
["76823","VALLE DEL CAUCA","TORO"]
["76828","VALLE DEL CAUCA","TRUJILLO"]
["76834","VALLE DEL CAUCA","TULUA"]
["76845","VALLE DEL CAUCA","ULLOA"]
["76863","VALLE DEL CAUCA","VERSALLES"]
["76869","VALLE DEL CAUCA","VIJES"]
["76890","VALLE DEL CAUCA","YOTOCO"]
["76892","VALLE DEL CAUCA","YUMBO"]
["76895","VALLE DEL CAUCA","ZARZAL"]
["81001","ARAUCA","ARAUCA"]
["81065","ARAUCA","ARAUQUITA"]
["81220","ARAUCA","CRAVO NORTE"]
["81300","ARAUCA","FORTUL"]
["81591","ARAUCA","PUERTO RONDON"]
["81736","ARAUCA","SARAVENA"]
["81794","ARAUCA","TAME"]
["85001","CASANARE","YOPAL"]
["85010","CASANARE","AGUAZUL"]
["85015","CASANARE","CHAMEZA"]
["85125","CASANARE","HATO COROZAL"]
["85136","CASANARE","LA SALINA"]
["85139","CASANARE","MANI"]
["85162","CASANARE","MONTERREY"]
["85225","CASANARE","NUNCHIA"]
["85230","CASANARE","OROCUE"]
["85250","CASANARE","PAZ DE ARIPORO"]
["85263","CASANARE","PORE"]
["85279","CASANARE","RECETOR"]
["85300","CASANARE","SABANALARGA"]
["85315","CASANARE","SACAMA"]
["85325","CASANARE","SAN LUIS DE PALENQUE"]
["85400","CASANARE","TAMARA"]
["85410","CASANARE","TAURAMENA"]
["85430","CASANARE","TRINIDAD"]
["85440","CASANARE","VILLANUEVA"]
["86001","PUTUMAYO","MOCOA"]
["86219","PUTUMAYO","COLON"]
["86320","PUTUMAYO","ORITO"]
["86568","PUTUMAYO","PUERTO ASIS"]
["86569","PUTUMAYO","PUERTO CAICEDO"]
["86571","PUTUMAYO","PUERTO GUZMAN"]
["86573","PUTUMAYO","PUERTO LEGUIZAMO"]
["86749","PUTUMAYO","SIBUNDOY"]
["86755","PUTUMAYO","SAN FRANCISCO"]
["86757","PUTUMAYO","SAN MIGUEL"]
["86760","PUTUMAYO","SANTIAGO"]
["86865","PUTUMAYO","VALLE DEL GUAMUEZ"]
["86885","PUTUMAYO","VILLAGARZON"]
["88001","ARCHIPIELAGO DE SAN ANDRES, PROVIDENCIA Y SANTA CATALINA","SAN ANDRES"]
["88564","ARCHIPIELAGO DE SAN ANDRES, PROVIDENCIA Y SANTA CATALINA","PROVIDENCIA"]
["91001","AMAZONAS","LETICIA"]
[91263,"AMAZONAS","EL ENCANTO"]
[91405,"AMAZONAS","LA CHORRERA"]
[91407,"AMAZONAS","LA PEDRERA"]
[91430,"AMAZONAS","LA VICTORIA"]
[91460,"AMAZONAS","MIRITI - PARANA"]
[91530,"AMAZONAS","PUERTO ALEGRIA"]
[91536,"AMAZONAS","PUERTO ARICA"]
["91540","AMAZONAS","PUERTO NARIÑO"]
[91669,"AMAZONAS","PUERTO SANTANDER"]
[91798,"AMAZONAS","TARAPACA"]
[94001,"GUAINIA","INIRIDA"]
["94343","GUAINIA","BARRANCOMINAS"]
[94883,"GUAINIA","SAN FELIPE"]
[94884,"GUAINIA","PUERTO COLOMBIA"]
[94885,"GUAINIA","LA GUADALUPE"]
[94886,"GUAINIA","CACAHUAL"]
[94887,"GUAINIA","PANA PANA"]
[94888,"GUAINIA","MORICHAL"]
[95001,"GUAVIARE","SAN JOSE DEL GUAVIARE"]
["95015","GUAVIARE","CALAMAR"]
["95025","GUAVIARE","EL RETORNO"]
["95200","GUAVIARE","MIRAFLORES"]
["97001","VAUPES","MITU"]
["97161","VAUPES","CARURU"]
[97511,"VAUPES","PACOA"]
["97666","VAUPES","TARAIRA"]
[97777,"VAUPES","PAPUNAHUA"]
[97889,"VAUPES","YAVARATE"]
["99001","VICHADA","PUERTO CARREÑO"]
["99524","VICHADA","LA PRIMAVERA"]
["99624","VICHADA","SANTA ROSALIA"]
["99773","VICHADA","CUMARIBO"]