{"text_format":"1","workbook":"xlsx","n_sheets":12,"sheets":["General","Tablas","InfoPro","IT-TA","EC-RE","EC-RP","EC-Per","EC-Mar","EC-Mar2","BT-Flex","BT-Confi","Resumen"],"not_rendered":{"charts":0,"images":0,"macros":1,"external_links":0,"defined_names":3,"comments":4,"pivot_tables":0},"unopened":[],"bounds":{"document_bytes":16777216,"sheet_cells":100000,"rows_first":2000,"rows_last":500,"rows_between":2000,"halvings":0,"cell_chars":16384,"cell_head_chars":4096},"cells_cut":0,"cells_raw":0,"read":"whole","date_system":"1900"}

{"sheet":"General","index":0,"n_rows":17,"n_cols":6,"rows_kept":17,"cut":false,"hidden":false,"merged":[[2,1,2,2],[0,1,1,5]]}
[null,"Módulo de Ingreso de Información"]
[]
[]
[]
[null,"Código",3]
[null,"Nombre","Prueba 1",null,"Permisos Ambiental obtenida","NO"]
[null,"Fecha Radicación","2022-02-08"]
[null,"Hora Radicación","12:35:00"]
[null,"Capacidad (MW)",50]
[null,"Tecnología","Eólico Onshore",null,"Costo Activos de Uso ($COP)",0]
[null,"Barra 1","Chinú",null,"Delta pérdidas (GWh)",100]
[null,"Código Asociado",null,null,"Reducción Marginal VPN ($COP)",1000000]
[null,"FPO","2025-12-31"]
[null,"FPO 2","2026-12-31"]
[null,"Obligaciones","NO"]
[null,"Requiere Expansión","NO"]
[null,"Área Eléctrica","Antioquia"]

{"sheet":"Tablas","index":1,"n_rows":19,"n_cols":23,"rows_kept":19,"cut":false,"hidden":false,"merged":[]}
[null,"Tecnologia","Factor de planta","Iflex","IE-RP","Factor ENFICC","Factor emisiones","Oferta promedio","Comentarios","Area Eléctrica",null,null,null,"FPO",null,"Fecha Radicacion","Hora Radicacion",null,"Gestion Ambiental",null,"Consulta Previa",null,"Permiso Arquelogico"]
[null,"Solar FV",0.26,0,0.31905022790180565,0.15,0,83577.200000000012,"Los parámetros fueron calculados conforme a la metodología presentada en la Circular UPME 057 de 2022.","Altántico",null,"SI",null,"2023-01-01",null,"2022-01-01","00:00:00",null,"No hay avances",null,"No hay avances",null,"No hay avances"]
[null,"Eólico Onshore",0.56999999999999995,0,0.31905022790180565,0.06,0,83577.200000000012,"Los parámetros fueron calculados conforme a la metodología presentada en la Circular UPME 057 de 2022.","Bolívar",null,"NO",null,"2037-12-31",null,"2022-03-31","23:59:59",null,"EIA",null,"Resolución. No Procede",null,"Aprobado"]
[null,"Eólico Offshore",0.56999999999999995,0,0.31905022790180565,0.06,0,83577.200000000012,"Los parámetros fueron calculados conforme a la metodología presentada en la Circular UPME 057 de 2022.","Córdoba - Sucre, Chinú",null,null,null,null,null,null,null,null,"LA",null,"Resolución. Si Procede",null,"No Aplica"]
[null,"Biomasa y Residuos",0.7,0.25,0.31905022790180565,0.83,0.37,83577.200000000012,"Los parámetros fueron calculados conforme a la metodología presentada en la Circular UPME 057 de 2022.","Córdoba - Sucre, Cerromatoso",null,null,null,null,null,null,null,null,"PA",null,"Finalizada"]
[null,"Geotérmica",0.8,0.25,0.31905022790180565,0.7,0,83577.200000000012,"Los parámetros fueron calculados conforme a la metodología presentada en la Circular UPME 057 de 2022.","Guajira - Cesar - Madgalena",null,null,null,null,null,null,null,null,"No Aplica"]
[null,"PCH",0.54,0.61,0.15509303371404598,0.15,0,158280.5,"Los parámetros fueron calculados conforme a la metodología presentada en la Circular UPME 057 de 2022.","Santander"]
[null,"Termica - Ciclo abierto",0.85,0.4,-0.57617415807300276,0.83,0.95,267152.5,"Los parámetros fueron calculados conforme a la metodología presentada en la Circular UPME 057 de 2022.","Norte de Santander"]
[null,"Termica - Ciclo combinado",0.85,0.27,-0.57617415807300276,0.83,0.95,267152.5,"Los parámetros fueron calculados conforme a la metodología presentada en la Circular UPME 057 de 2022.","Boyacá - Casanare"]
[null,"Termica a vapor",0.85,0.25,-0.57617415807300276,0.83,0.37,267152.5,"Los parámetros fueron calculados conforme a la metodología presentada en la Circular UPME 057 de 2022.","Arauca"]
[null,"Termica - diesel",0.85,0.6,-4.2828265705485453,0.83,0.77,709472.9,"Los parámetros fueron calculados conforme a la metodología presentada en la Circular UPME 057 de 2022.","Antioquia"]
[null,"Hidraulica",0.6,0.61,0.15509303371404598,0.31,0,158280.5,"Los parámetros fueron calculados conforme a la metodología presentada en la Circular UPME 057 de 2022.","Chocó"]
[null,"Cogeneracion",0.85,0.1,0.31905022790180565,0.83,0.37,83577.200000000012,"Los parámetros fueron calculados conforme a la metodología presentada en la Circular UPME 057 de 2022.","Bogotá"]
[null,null,null,null,null,null,null,null,null,"Meta - Guaviare"]
[null,null,null,null,null,null,null,null,null,"Caldas - Quidio - Risaralda"]
[null,null,null,null,null,null,null,null,null,"Valle"]
[null,null,null,null,null,null,null,null,null,"Cauca - Nariño"]
[null,null,null,null,null,null,null,null,null,"Tolima - Huila Caquetá"]
[null,null,null,null,null,null,null,null,null,"Putumayo"]

{"sheet":"InfoPro","index":2,"n_rows":4,"n_cols":16,"rows_kept":4,"cut":false,"hidden":false,"merged":[]}
["Código","Nombre","Fecha Radicación","Hora Radicación","Capacidad","Tipo","Barra 1","Código Asociado","FPO","FPO 2","Obligaciones","Requiere Expansión","Area Eléctrica","Permisos Ambiental obtenida","Costo Activos de Uso","Pérdidas STN"]
["SC_1323_A1","GEN ARAUCA","2022-07-16","12:45:00",30,"Termica - Ciclo Abierto","Banadia 34,5 kV","SC_1323","2023-08-31","2023-08-31","NO","NO","Arauca","NO",0,5.6319999999999997]
["SC_1323_A2","GEN ARAUCA","2022-07-16","12:45:00",30,"Termica - Ciclo Abierto","Banadia 115","SC_1323","2023-08-31","2023-08-31","NO","NO","Arauca","NO",0,15.032999999999999]
["SC_1323_A3","GEN ARAUCA","2022-07-16","12:45:00",30,"Termica - Ciclo Abierto","Banadia 220","SC_1323","2023-08-31","2023-08-31","NO","NO","Arauca","NO",0,16.452999999999999]

{"sheet":"IT-TA","index":3,"n_rows":187,"n_cols":10,"rows_kept":187,"cut":false,"hidden":false,"merged":[]}
[null,"Codigo","Nombre","Capacidad","Licencia Ambiental obtenida","Año de entrada","P","Total",null,"Año de Referencia"]
[null,{"$f":"IF(ISBLANK(InfoPro!A2),\"\",InfoPro!A2)","v":"SC_1323_A1"},{"$f":"IF(ISBLANK(InfoPro!B2),\"\",InfoPro!B2)","v":"GEN ARAUCA"},{"$f":"IF(ISBLANK(InfoPro!E2),\"\",InfoPro!E2)","v":30},{"$f":"IF(ISBLANK(InfoPro!N2),\"\",InfoPro!N2)","v":"NO"},{"$f":"IF(ISBLANK(InfoPro!I2),\"\",YEAR(InfoPro!I2)-$J$2)","v":0},{"$f":"IF(E2=\"SI\",100,IF(E2=\"NO\",0,\"\"))","v":0},{"$f":"IF(G2=\"\",\"\",(G2))","v":0},null,2023]
[null,{"$f":"IF(ISBLANK(InfoPro!A3),\"\",InfoPro!A3)","v":"SC_1323_A2"},{"$f":"IF(ISBLANK(InfoPro!B3),\"\",InfoPro!B3)","v":"GEN ARAUCA"},{"$f":"IF(ISBLANK(InfoPro!E3),\"\",InfoPro!E3)","v":30},{"$f":"IF(ISBLANK(InfoPro!N3),\"\",InfoPro!N3)","v":"NO"},{"$f":"IF(ISBLANK(InfoPro!I3),\"\",YEAR(InfoPro!I3)-$J$2)","v":0},{"$f":"IF(E3=\"SI\",100,IF(E3=\"NO\",0,\"\"))","v":0},{"$f":"IF(G3=\"\",\"\",(G3))","v":0}]
[null,{"$f":"IF(ISBLANK(InfoPro!A4),\"\",InfoPro!A4)","v":"SC_1323_A3"},{"$f":"IF(ISBLANK(InfoPro!B4),\"\",InfoPro!B4)","v":"GEN ARAUCA"},{"$f":"IF(ISBLANK(InfoPro!E4),\"\",InfoPro!E4)","v":30},{"$f":"IF(ISBLANK(InfoPro!N4),\"\",InfoPro!N4)","v":"NO"},{"$f":"IF(ISBLANK(InfoPro!I4),\"\",YEAR(InfoPro!I4)-$J$2)","v":0},0,0]
[null,{"$f":"IF(ISBLANK(InfoPro!A5),\"\",InfoPro!A5)","v":""},{"$f":"IF(ISBLANK(InfoPro!B5),\"\",InfoPro!B5)","v":""},{"$f":"IF(ISBLANK(InfoPro!E5),\"\",InfoPro!E5)","v":""},{"$f":"IF(ISBLANK(InfoPro!N5),\"\",InfoPro!N5)","v":""},{"$f":"IF(ISBLANK(InfoPro!I5),\"\",YEAR(InfoPro!I5)-$J$2)","v":""},"",""]
[null,{"$f":"IF(ISBLANK(InfoPro!A6),\"\",InfoPro!A6)","v":""},{"$f":"IF(ISBLANK(InfoPro!B6),\"\",InfoPro!B6)","v":""},{"$f":"IF(ISBLANK(InfoPro!E6),\"\",InfoPro!E6)","v":""},{"$f":"IF(ISBLANK(InfoPro!N6),\"\",InfoPro!N6)","v":""},{"$f":"IF(ISBLANK(InfoPro!I6),\"\",YEAR(InfoPro!I6)-$J$2)","v":""},"",""]
[null,{"$f":"IF(ISBLANK(InfoPro!A7),\"\",InfoPro!A7)","v":""},{"$f":"IF(ISBLANK(InfoPro!B7),\"\",InfoPro!B7)","v":""},{"$f":"IF(ISBLANK(InfoPro!E7),\"\",InfoPro!E7)","v":""},{"$f":"IF(ISBLANK(InfoPro!N7),\"\",InfoPro!N7)","v":""},{"$f":"IF(ISBLANK(InfoPro!I7),\"\",YEAR(InfoPro!I7)-$J$2)","v":""},"",""]
[null,{"$f":"IF(ISBLANK(InfoPro!A8),\"\",InfoPro!A8)","v":""},{"$f":"IF(ISBLANK(InfoPro!B8),\"\",InfoPro!B8)","v":""},{"$f":"IF(ISBLANK(InfoPro!E8),\"\",InfoPro!E8)","v":""},{"$f":"IF(ISBLANK(InfoPro!N8),\"\",InfoPro!N8)","v":""},{"$f":"IF(ISBLANK(InfoPro!I8),\"\",YEAR(InfoPro!I8)-$J$2)","v":""},"",""]
[null,{"$f":"IF(ISBLANK(InfoPro!A9),\"\",InfoPro!A9)","v":""},{"$f":"IF(ISBLANK(InfoPro!B9),\"\",InfoPro!B9)","v":""},{"$f":"IF(ISBLANK(InfoPro!E9),\"\",InfoPro!E9)","v":""},{"$f":"IF(ISBLANK(InfoPro!N9),\"\",InfoPro!N9)","v":""},{"$f":"IF(ISBLANK(InfoPro!I9),\"\",YEAR(InfoPro!I9)-$J$2)","v":""},"",""]
[null,{"$f":"IF(ISBLANK(InfoPro!A10),\"\",InfoPro!A10)","v":""},{"$f":"IF(ISBLANK(InfoPro!B10),\"\",InfoPro!B10)","v":""},{"$f":"IF(ISBLANK(InfoPro!E10),\"\",InfoPro!E10)","v":""},{"$f":"IF(ISBLANK(InfoPro!N10),\"\",InfoPro!N10)","v":""},{"$f":"IF(ISBLANK(InfoPro!I10),\"\",YEAR(InfoPro!I10)-$J$2)","v":""},"",""]
[null,{"$f":"IF(ISBLANK(InfoPro!A11),\"\",InfoPro!A11)","v":""},{"$f":"IF(ISBLANK(InfoPro!B11),\"\",InfoPro!B11)","v":""},{"$f":"IF(ISBLANK(InfoPro!E11),\"\",InfoPro!E11)","v":""},{"$f":"IF(ISBLANK(InfoPro!N11),\"\",InfoPro!N11)","v":""},{"$f":"IF(ISBLANK(InfoPro!I11),\"\",YEAR(InfoPro!I11)-$J$2)","v":""},"",""]
[null,{"$f":"IF(ISBLANK(InfoPro!A12),\"\",InfoPro!A12)","v":""},{"$f":"IF(ISBLANK(InfoPro!B12),\"\",InfoPro!B12)","v":""},{"$f":"IF(ISBLANK(InfoPro!E12),\"\",InfoPro!E12)","v":""},{"$f":"IF(ISBLANK(InfoPro!N12),\"\",InfoPro!N12)","v":""},{"$f":"IF(ISBLANK(InfoPro!I12),\"\",YEAR(InfoPro!I12)-$J$2)","v":""},"",""]
[null,{"$f":"IF(ISBLANK(InfoPro!A13),\"\",InfoPro!A13)","v":""},{"$f":"IF(ISBLANK(InfoPro!B13),\"\",InfoPro!B13)","v":""},{"$f":"IF(ISBLANK(InfoPro!E13),\"\",InfoPro!E13)","v":""},{"$f":"IF(ISBLANK(InfoPro!N13),\"\",InfoPro!N13)","v":""},{"$f":"IF(ISBLANK(InfoPro!I13),\"\",YEAR(InfoPro!I13)-$J$2)","v":""},"",""]
[null,{"$f":"IF(ISBLANK(InfoPro!A14),\"\",InfoPro!A14)","v":""},{"$f":"IF(ISBLANK(InfoPro!B14),\"\",InfoPro!B14)","v":""},{"$f":"IF(ISBLANK(InfoPro!E14),\"\",InfoPro!E14)","v":""},{"$f":"IF(ISBLANK(InfoPro!N14),\"\",InfoPro!N14)","v":""},{"$f":"IF(ISBLANK(InfoPro!I14),\"\",YEAR(InfoPro!I14)-$J$2)","v":""},"",""]
[null,{"$f":"IF(ISBLANK(InfoPro!A15),\"\",InfoPro!A15)","v":""},{"$f":"IF(ISBLANK(InfoPro!B15),\"\",InfoPro!B15)","v":""},{"$f":"IF(ISBLANK(InfoPro!E15),\"\",InfoPro!E15)","v":""},{"$f":"IF(ISBLANK(InfoPro!N15),\"\",InfoPro!N15)","v":""},{"$f":"IF(ISBLANK(InfoPro!I15),\"\",YEAR(InfoPro!I15)-$J$2)","v":""},"",""]
[null,{"$f":"IF(ISBLANK(InfoPro!A16),\"\",InfoPro!A16)","v":""},{"$f":"IF(ISBLANK(InfoPro!B16),\"\",InfoPro!B16)","v":""},{"$f":"IF(ISBLANK(InfoPro!E16),\"\",InfoPro!E16)","v":""},{"$f":"IF(ISBLANK(InfoPro!N16),\"\",InfoPro!N16)","v":""},{"$f":"IF(ISBLANK(InfoPro!I16),\"\",YEAR(InfoPro!I16)-$J$2)","v":""},"",""]
[null,{"$f":"IF(ISBLANK(InfoPro!A17),\"\",InfoPro!A17)","v":""},{"$f":"IF(ISBLANK(InfoPro!B17),\"\",InfoPro!B17)","v":""},{"$f":"IF(ISBLANK(InfoPro!E17),\"\",InfoPro!E17)","v":""},{"$f":"IF(ISBLANK(InfoPro!N17),\"\",InfoPro!N17)","v":""},{"$f":"IF(ISBLANK(InfoPro!I17),\"\",YEAR(InfoPro!I17)-$J$2)","v":""},"",""]
[null,{"$f":"IF(ISBLANK(InfoPro!A18),\"\",InfoPro!A18)","v":""},{"$f":"IF(ISBLANK(InfoPro!B18),\"\",InfoPro!B18)","v":""},{"$f":"IF(ISBLANK(InfoPro!E18),\"\",InfoPro!E18)","v":""},{"$f":"IF(ISBLANK(InfoPro!N18),\"\",InfoPro!N18)","v":""},{"$f":"IF(ISBLANK(InfoPro!I18),\"\",YEAR(InfoPro!I18)-$J$2)","v":""},"",""]
[null,{"$f":"IF(ISBLANK(InfoPro!A19),\"\",InfoPro!A19)","v":""},{"$f":"IF(ISBLANK(InfoPro!B19),\"\",InfoPro!B19)","v":""},{"$f":"IF(ISBLANK(InfoPro!E19),\"\",InfoPro!E19)","v":""},{"$f":"IF(ISBLANK(InfoPro!N19),\"\",InfoPro!N19)","v":""},{"$f":"IF(ISBLANK(InfoPro!I19),\"\",YEAR(InfoPro!I19)-$J$2)","v":""},"",""]
[null,{"$f":"IF(ISBLANK(InfoPro!A20),\"\",InfoPro!A20)","v":""},{"$f":"IF(ISBLANK(InfoPro!B20),\"\",InfoPro!B20)","v":""},{"$f":"IF(ISBLANK(InfoPro!E20),\"\",InfoPro!E20)","v":""},{"$f":"IF(ISBLANK(InfoPro!N20),\"\",InfoPro!N20)","v":""},{"$f":"IF(ISBLANK(InfoPro!I20),\"\",YEAR(InfoPro!I20)-$J$2)","v":""},"",""]
[null,{"$f":"IF(ISBLANK(InfoPro!A21),\"\",InfoPro!A21)","v":""},{"$f":"IF(ISBLANK(InfoPro!B21),\"\",InfoPro!B21)","v":""},{"$f":"IF(ISBLANK(InfoPro!E21),\"\",InfoPro!E21)","v":""},{"$f":"IF(ISBLANK(InfoPro!N21),\"\",InfoPro!N21)","v":""},{"$f":"IF(ISBLANK(InfoPro!I21),\"\",YEAR(InfoPro!I21)-$J$2)","v":""},"",""]
[null,{"$f":"IF(ISBLANK(InfoPro!A22),\"\",InfoPro!A22)","v":""},{"$f":"IF(ISBLANK(InfoPro!B22),\"\",InfoPro!B22)","v":""},{"$f":"IF(ISBLANK(InfoPro!E22),\"\",InfoPro!E22)","v":""},{"$f":"IF(ISBLANK(InfoPro!N22),\"\",InfoPro!N22)","v":""},{"$f":"IF(ISBLANK(InfoPro!I22),\"\",YEAR(InfoPro!I22)-$J$2)","v":""},"",""]
[null,{"$f":"IF(ISBLANK(InfoPro!A23),\"\",InfoPro!A23)","v":""},{"$f":"IF(ISBLANK(InfoPro!B23),\"\",InfoPro!B23)","v":""},{"$f":"IF(ISBLANK(InfoPro!E23),\"\",InfoPro!E23)","v":""},{"$f":"IF(ISBLANK(InfoPro!N23),\"\",InfoPro!N23)","v":""},{"$f":"IF(ISBLANK(InfoPro!I23),\"\",YEAR(InfoPro!I23)-$J$2)","v":""},"",""]
[null,{"$f":"IF(ISBLANK(InfoPro!A24),\"\",InfoPro!A24)","v":""},{"$f":"IF(ISBLANK(InfoPro!B24),\"\",InfoPro!B24)","v":""},{"$f":"IF(ISBLANK(InfoPro!E24),\"\",InfoPro!E24)","v":""},{"$f":"IF(ISBLANK(InfoPro!N24),\"\",InfoPro!N24)","v":""},{"$f":"IF(ISBLANK(InfoPro!I24),\"\",YEAR(InfoPro!I24)-$J$2)","v":""},"",""]
[null,{"$f":"IF(ISBLANK(InfoPro!A25),\"\",InfoPro!A25)","v":""},{"$f":"IF(ISBLANK(InfoPro!B25),\"\",InfoPro!B25)","v":""},{"$f":"IF(ISBLANK(InfoPro!E25),\"\",InfoPro!E25)","v":""},{"$f":"IF(ISBLANK(InfoPro!N25),\"\",InfoPro!N25)","v":""},{"$f":"IF(ISBLANK(InfoPro!I25),\"\",YEAR(InfoPro!I25)-$J$2)","v":""},"",""]
[null,{"$f":"IF(ISBLANK(InfoPro!A26),\"\",InfoPro!A26)","v":""},{"$f":"IF(ISBLANK(InfoPro!B26),\"\",InfoPro!B26)","v":""},{"$f":"IF(ISBLANK(InfoPro!E26),\"\",InfoPro!E26)","v":""},{"$f":"IF(ISBLANK(InfoPro!N26),\"\",InfoPro!N26)","v":""},{"$f":"IF(ISBLANK(InfoPro!I26),\"\",YEAR(InfoPro!I26)-$J$2)","v":""},"",""]
[null,{"$f":"IF(ISBLANK(InfoPro!A27),\"\",InfoPro!A27)","v":""},{"$f":"IF(ISBLANK(InfoPro!B27),\"\",InfoPro!B27)","v":""},{"$f":"IF(ISBLANK(InfoPro!E27),\"\",InfoPro!E27)","v":""},{"$f":"IF(ISBLANK(InfoPro!N27),\"\",InfoPro!N27)","v":""},{"$f":"IF(ISBLANK(InfoPro!I27),\"\",YEAR(InfoPro!I27)-$J$2)","v":""},"",""]
[null,{"$f":"IF(ISBLANK(InfoPro!A28),\"\",InfoPro!A28)","v":""},{"$f":"IF(ISBLANK(InfoPro!B28),\"\",InfoPro!B28)","v":""},{"$f":"IF(ISBLANK(InfoPro!E28),\"\",InfoPro!E28)","v":""},{"$f":"IF(ISBLANK(InfoPro!N28),\"\",InfoPro!N28)","v":""},{"$f":"IF(ISBLANK(InfoPro!I28),\"\",YEAR(InfoPro!I28)-$J$2)","v":""},"",""]
[null,{"$f":"IF(ISBLANK(InfoPro!A29),\"\",InfoPro!A29)","v":""},{"$f":"IF(ISBLANK(InfoPro!B29),\"\",InfoPro!B29)","v":""},{"$f":"IF(ISBLANK(InfoPro!E29),\"\",InfoPro!E29)","v":""},{"$f":"IF(ISBLANK(InfoPro!N29),\"\",InfoPro!N29)","v":""},{"$f":"IF(ISBLANK(InfoPro!I29),\"\",YEAR(InfoPro!I29)-$J$2)","v":""},"",""]
[null,{"$f":"IF(ISBLANK(InfoPro!A30),\"\",InfoPro!A30)","v":""},{"$f":"IF(ISBLANK(InfoPro!B30),\"\",InfoPro!B30)","v":""},{"$f":"IF(ISBLANK(InfoPro!E30),\"\",InfoPro!E30)","v":""},{"$f":"IF(ISBLANK(InfoPro!N30),\"\",InfoPro!N30)","v":""},{"$f":"IF(ISBLANK(InfoPro!I30),\"\",YEAR(InfoPro!I30)-$J$2)","v":""},"",""]
[null,{"$f":"IF(ISBLANK(InfoPro!A31),\"\",InfoPro!A31)","v":""},{"$f":"IF(ISBLANK(InfoPro!B31),\"\",InfoPro!B31)","v":""},{"$f":"IF(ISBLANK(InfoPro!E31),\"\",InfoPro!E31)","v":""},{"$f":"IF(ISBLANK(InfoPro!N31),\"\",InfoPro!N31)","v":""},{"$f":"IF(ISBLANK(InfoPro!I31),\"\",YEAR(InfoPro!I31)-$J$2)","v":""},"",""]
[null,{"$f":"IF(ISBLANK(InfoPro!A32),\"\",InfoPro!A32)","v":""},{"$f":"IF(ISBLANK(InfoPro!B32),\"\",InfoPro!B32)","v":""},{"$f":"IF(ISBLANK(InfoPro!E32),\"\",InfoPro!E32)","v":""},{"$f":"IF(ISBLANK(InfoPro!N32),\"\",InfoPro!N32)","v":""},{"$f":"IF(ISBLANK(InfoPro!I32),\"\",YEAR(InfoPro!I32)-$J$2)","v":""},"",""]
[null,{"$f":"IF(ISBLANK(InfoPro!A33),\"\",InfoPro!A33)","v":""},{"$f":"IF(ISBLANK(InfoPro!B33),\"\",InfoPro!B33)","v":""},{"$f":"IF(ISBLANK(InfoPro!E33),\"\",InfoPro!E33)","v":""},{"$f":"IF(ISBLANK(InfoPro!N33),\"\",InfoPro!N33)","v":""},{"$f":"IF(ISBLANK(InfoPro!I33),\"\",YEAR(InfoPro!I33)-$J$2)","v":""},"",""]
[null,{"$f":"IF(ISBLANK(InfoPro!A34),\"\",InfoPro!A34)","v":""},{"$f":"IF(ISBLANK(InfoPro!B34),\"\",InfoPro!B34)","v":""},{"$f":"IF(ISBLANK(InfoPro!E34),\"\",InfoPro!E34)","v":""},{"$f":"IF(ISBLANK(InfoPro!N34),\"\",InfoPro!N34)","v":""},{"$f":"IF(ISBLANK(InfoPro!I34),\"\",YEAR(InfoPro!I34)-$J$2)","v":""},"",""]
[null,{"$f":"IF(ISBLANK(InfoPro!A35),\"\",InfoPro!A35)","v":""},{"$f":"IF(ISBLANK(InfoPro!B35),\"\",InfoPro!B35)","v":""},{"$f":"IF(ISBLANK(InfoPro!E35),\"\",InfoPro!E35)","v":""},{"$f":"IF(ISBLANK(InfoPro!N35),\"\",InfoPro!N35)","v":""},{"$f":"IF(ISBLANK(InfoPro!I35),\"\",YEAR(InfoPro!I35)-$J$2)","v":""},"",""]
[null,{"$f":"IF(ISBLANK(InfoPro!A36),\"\",InfoPro!A36)","v":""},{"$f":"IF(ISBLANK(InfoPro!B36),\"\",InfoPro!B36)","v":""},{"$f":"IF(ISBLANK(InfoPro!E36),\"\",InfoPro!E36)","v":""},{"$f":"IF(ISBLANK(InfoPro!N36),\"\",InfoPro!N36)","v":""},{"$f":"IF(ISBLANK(InfoPro!I36),\"\",YEAR(InfoPro!I36)-$J$2)","v":""},"",""]
[null,{"$f":"IF(ISBLANK(InfoPro!A37),\"\",InfoPro!A37)","v":""},{"$f":"IF(ISBLANK(InfoPro!B37),\"\",InfoPro!B37)","v":""},{"$f":"IF(ISBLANK(InfoPro!E37),\"\",InfoPro!E37)","v":""},{"$f":"IF(ISBLANK(InfoPro!N37),\"\",InfoPro!N37)","v":""},{"$f":"IF(ISBLANK(InfoPro!I37),\"\",YEAR(InfoPro!I37)-$J$2)","v":""},"",""]
[null,{"$f":"IF(ISBLANK(InfoPro!A38),\"\",InfoPro!A38)","v":""},{"$f":"IF(ISBLANK(InfoPro!B38),\"\",InfoPro!B38)","v":""},{"$f":"IF(ISBLANK(InfoPro!E38),\"\",InfoPro!E38)","v":""},{"$f":"IF(ISBLANK(InfoPro!N38),\"\",InfoPro!N38)","v":""},{"$f":"IF(ISBLANK(InfoPro!I38),\"\",YEAR(InfoPro!I38)-$J$2)","v":""},"",""]
[null,{"$f":"IF(ISBLANK(InfoPro!A39),\"\",InfoPro!A39)","v":""},{"$f":"IF(ISBLANK(InfoPro!B39),\"\",InfoPro!B39)","v":""},{"$f":"IF(ISBLANK(InfoPro!E39),\"\",InfoPro!E39)","v":""},{"$f":"IF(ISBLANK(InfoPro!N39),\"\",InfoPro!N39)","v":""},{"$f":"IF(ISBLANK(InfoPro!I39),\"\",YEAR(InfoPro!I39)-$J$2)","v":""},"",""]
[null,{"$f":"IF(ISBLANK(InfoPro!A40),\"\",InfoPro!A40)","v":""},{"$f":"IF(ISBLANK(InfoPro!B40),\"\",InfoPro!B40)","v":""},{"$f":"IF(ISBLANK(InfoPro!E40),\"\",InfoPro!E40)","v":""},{"$f":"IF(ISBLANK(InfoPro!N40),\"\",InfoPro!N40)","v":""},{"$f":"IF(ISBLANK(InfoPro!I40),\"\",YEAR(InfoPro!I40)-$J$2)","v":""},"",""]
[null,{"$f":"IF(ISBLANK(InfoPro!A41),\"\",InfoPro!A41)","v":""},{"$f":"IF(ISBLANK(InfoPro!B41),\"\",InfoPro!B41)","v":""},{"$f":"IF(ISBLANK(InfoPro!E41),\"\",InfoPro!E41)","v":""},{"$f":"IF(ISBLANK(InfoPro!N41),\"\",InfoPro!N41)","v":""},{"$f":"IF(ISBLANK(InfoPro!I41),\"\",YEAR(InfoPro!I41)-$J$2)","v":""},"",""]
[null,{"$f":"IF(ISBLANK(InfoPro!A42),\"\",InfoPro!A42)","v":""},{"$f":"IF(ISBLANK(InfoPro!B42),\"\",InfoPro!B42)","v":""},{"$f":"IF(ISBLANK(InfoPro!E42),\"\",InfoPro!E42)","v":""},{"$f":"IF(ISBLANK(InfoPro!N42),\"\",InfoPro!N42)","v":""},{"$f":"IF(ISBLANK(InfoPro!I42),\"\",YEAR(InfoPro!I42)-$J$2)","v":""},"",""]
[null,{"$f":"IF(ISBLANK(InfoPro!A43),\"\",InfoPro!A43)","v":""},{"$f":"IF(ISBLANK(InfoPro!B43),\"\",InfoPro!B43)","v":""},{"$f":"IF(ISBLANK(InfoPro!E43),\"\",InfoPro!E43)","v":""},{"$f":"IF(ISBLANK(InfoPro!N43),\"\",InfoPro!N43)","v":""},{"$f":"IF(ISBLANK(InfoPro!I43),\"\",YEAR(InfoPro!I43)-$J$2)","v":""},"",""]
[null,{"$f":"IF(ISBLANK(InfoPro!A44),\"\",InfoPro!A44)","v":""},{"$f":"IF(ISBLANK(InfoPro!B44),\"\",InfoPro!B44)","v":""},{"$f":"IF(ISBLANK(InfoPro!E44),\"\",InfoPro!E44)","v":""},{"$f":"IF(ISBLANK(InfoPro!N44),\"\",InfoPro!N44)","v":""},{"$f":"IF(ISBLANK(InfoPro!I44),\"\",YEAR(InfoPro!I44)-$J$2)","v":""},"",""]
[null,{"$f":"IF(ISBLANK(InfoPro!A45),\"\",InfoPro!A45)","v":""},{"$f":"IF(ISBLANK(InfoPro!B45),\"\",InfoPro!B45)","v":""},{"$f":"IF(ISBLANK(InfoPro!E45),\"\",InfoPro!E45)","v":""},{"$f":"IF(ISBLANK(InfoPro!N45),\"\",InfoPro!N45)","v":""},{"$f":"IF(ISBLANK(InfoPro!I45),\"\",YEAR(InfoPro!I45)-$J$2)","v":""},"",""]
[null,{"$f":"IF(ISBLANK(InfoPro!A46),\"\",InfoPro!A46)","v":""},{"$f":"IF(ISBLANK(InfoPro!B46),\"\",InfoPro!B46)","v":""},{"$f":"IF(ISBLANK(InfoPro!E46),\"\",InfoPro!E46)","v":""},{"$f":"IF(ISBLANK(InfoPro!N46),\"\",InfoPro!N46)","v":""},{"$f":"IF(ISBLANK(InfoPro!I46),\"\",YEAR(InfoPro!I46)-$J$2)","v":""},"",""]
[null,{"$f":"IF(ISBLANK(InfoPro!A47),\"\",InfoPro!A47)","v":""},{"$f":"IF(ISBLANK(InfoPro!B47),\"\",InfoPro!B47)","v":""},{"$f":"IF(ISBLANK(InfoPro!E47),\"\",InfoPro!E47)","v":""},{"$f":"IF(ISBLANK(InfoPro!N47),\"\",InfoPro!N47)","v":""},{"$f":"IF(ISBLANK(InfoPro!I47),\"\",YEAR(InfoPro!I47)-$J$2)","v":""},"",""]
[null,{"$f":"IF(ISBLANK(InfoPro!A48),\"\",InfoPro!A48)","v":""},{"$f":"IF(ISBLANK(InfoPro!B48),\"\",InfoPro!B48)","v":""},{"$f":"IF(ISBLANK(InfoPro!E48),\"\",InfoPro!E48)","v":""},{"$f":"IF(ISBLANK(InfoPro!N48),\"\",InfoPro!N48)","v":""},{"$f":"IF(ISBLANK(InfoPro!I48),\"\",YEAR(InfoPro!I48)-$J$2)","v":""},"",""]
[null,{"$f":"IF(ISBLANK(InfoPro!A49),\"\",InfoPro!A49)","v":""},{"$f":"IF(ISBLANK(InfoPro!B49),\"\",InfoPro!B49)","v":""},{"$f":"IF(ISBLANK(InfoPro!E49),\"\",InfoPro!E49)","v":""},{"$f":"IF(ISBLANK(InfoPro!N49),\"\",InfoPro!N49)","v":""},{"$f":"IF(ISBLANK(InfoPro!I49),\"\",YEAR(InfoPro!I49)-$J$2)","v":""},"",""]
[null,{"$f":"IF(ISBLANK(InfoPro!A50),\"\",InfoPro!A50)","v":""},{"$f":"IF(ISBLANK(InfoPro!B50),\"\",InfoPro!B50)","v":""},{"$f":"IF(ISBLANK(InfoPro!E50),\"\",InfoPro!E50)","v":""},{"$f":"IF(ISBLANK(InfoPro!N50),\"\",InfoPro!N50)","v":""},{"$f":"IF(ISBLANK(InfoPro!I50),\"\",YEAR(InfoPro!I50)-$J$2)","v":""},"",""]
[null,{"$f":"IF(ISBLANK(InfoPro!A51),\"\",InfoPro!A51)","v":""},{"$f":"IF(ISBLANK(InfoPro!B51),\"\",InfoPro!B51)","v":""},{"$f":"IF(ISBLANK(InfoPro!E51),\"\",InfoPro!E51)","v":""},{"$f":"IF(ISBLANK(InfoPro!N51),\"\",InfoPro!N51)","v":""},{"$f":"IF(ISBLANK(InfoPro!I51),\"\",YEAR(InfoPro!I51)-$J$2)","v":""},"",""]
[null,{"$f":"IF(ISBLANK(InfoPro!A52),\"\",InfoPro!A52)","v":""},{"$f":"IF(ISBLANK(InfoPro!B52),\"\",InfoPro!B52)","v":""},{"$f":"IF(ISBLANK(InfoPro!E52),\"\",InfoPro!E52)","v":""},{"$f":"IF(ISBLANK(InfoPro!N52),\"\",InfoPro!N52)","v":""},{"$f":"IF(ISBLANK(InfoPro!I52),\"\",YEAR(InfoPro!I52)-$J$2)","v":""},"",""]
[null,{"$f":"IF(ISBLANK(InfoPro!A53),\"\",InfoPro!A53)","v":""},{"$f":"IF(ISBLANK(InfoPro!B53),\"\",InfoPro!B53)","v":""},{"$f":"IF(ISBLANK(InfoPro!E53),\"\",InfoPro!E53)","v":""},{"$f":"IF(ISBLANK(InfoPro!N53),\"\",InfoPro!N53)","v":""},{"$f":"IF(ISBLANK(InfoPro!I53),\"\",YEAR(InfoPro!I53)-$J$2)","v":""},"",""]
[null,{"$f":"IF(ISBLANK(InfoPro!A54),\"\",InfoPro!A54)","v":""},{"$f":"IF(ISBLANK(InfoPro!B54),\"\",InfoPro!B54)","v":""},{"$f":"IF(ISBLANK(InfoPro!E54),\"\",InfoPro!E54)","v":""},{"$f":"IF(ISBLANK(InfoPro!N54),\"\",InfoPro!N54)","v":""},{"$f":"IF(ISBLANK(InfoPro!I54),\"\",YEAR(InfoPro!I54)-$J$2)","v":""},"",""]
[null,{"$f":"IF(ISBLANK(InfoPro!A55),\"\",InfoPro!A55)","v":""},{"$f":"IF(ISBLANK(InfoPro!B55),\"\",InfoPro!B55)","v":""},{"$f":"IF(ISBLANK(InfoPro!E55),\"\",InfoPro!E55)","v":""},{"$f":"IF(ISBLANK(InfoPro!N55),\"\",InfoPro!N55)","v":""},{"$f":"IF(ISBLANK(InfoPro!I55),\"\",YEAR(InfoPro!I55)-$J$2)","v":""},"",""]
[null,{"$f":"IF(ISBLANK(InfoPro!A56),\"\",InfoPro!A56)","v":""},{"$f":"IF(ISBLANK(InfoPro!B56),\"\",InfoPro!B56)","v":""},{"$f":"IF(ISBLANK(InfoPro!E56),\"\",InfoPro!E56)","v":""},{"$f":"IF(ISBLANK(InfoPro!N56),\"\",InfoPro!N56)","v":""},{"$f":"IF(ISBLANK(InfoPro!I56),\"\",YEAR(InfoPro!I56)-$J$2)","v":""},"",""]
[null,{"$f":"IF(ISBLANK(InfoPro!A57),\"\",InfoPro!A57)","v":""},{"$f":"IF(ISBLANK(InfoPro!B57),\"\",InfoPro!B57)","v":""},{"$f":"IF(ISBLANK(InfoPro!E57),\"\",InfoPro!E57)","v":""},{"$f":"IF(ISBLANK(InfoPro!N57),\"\",InfoPro!N57)","v":""},{"$f":"IF(ISBLANK(InfoPro!I57),\"\",YEAR(InfoPro!I57)-$J$2)","v":""},"",""]
[null,{"$f":"IF(ISBLANK(InfoPro!A58),\"\",InfoPro!A58)","v":""},{"$f":"IF(ISBLANK(InfoPro!B58),\"\",InfoPro!B58)","v":""},{"$f":"IF(ISBLANK(InfoPro!E58),\"\",InfoPro!E58)","v":""},{"$f":"IF(ISBLANK(InfoPro!N58),\"\",InfoPro!N58)","v":""},{"$f":"IF(ISBLANK(InfoPro!I58),\"\",YEAR(InfoPro!I58)-$J$2)","v":""},"",""]
[null,{"$f":"IF(ISBLANK(InfoPro!A59),\"\",InfoPro!A59)","v":""},{"$f":"IF(ISBLANK(InfoPro!B59),\"\",InfoPro!B59)","v":""},{"$f":"IF(ISBLANK(InfoPro!E59),\"\",InfoPro!E59)","v":""},{"$f":"IF(ISBLANK(InfoPro!N59),\"\",InfoPro!N59)","v":""},{"$f":"IF(ISBLANK(InfoPro!I59),\"\",YEAR(InfoPro!I59)-$J$2)","v":""},"",""]
[null,{"$f":"IF(ISBLANK(InfoPro!A60),\"\",InfoPro!A60)","v":""},{"$f":"IF(ISBLANK(InfoPro!B60),\"\",InfoPro!B60)","v":""},{"$f":"IF(ISBLANK(InfoPro!E60),\"\",InfoPro!E60)","v":""},{"$f":"IF(ISBLANK(InfoPro!N60),\"\",InfoPro!N60)","v":""},{"$f":"IF(ISBLANK(InfoPro!I60),\"\",YEAR(InfoPro!I60)-$J$2)","v":""},"",""]
[null,{"$f":"IF(ISBLANK(InfoPro!A61),\"\",InfoPro!A61)","v":""},{"$f":"IF(ISBLANK(InfoPro!B61),\"\",InfoPro!B61)","v":""},{"$f":"IF(ISBLANK(InfoPro!E61),\"\",InfoPro!E61)","v":""},{"$f":"IF(ISBLANK(InfoPro!N61),\"\",InfoPro!N61)","v":""},{"$f":"IF(ISBLANK(InfoPro!I61),\"\",YEAR(InfoPro!I61)-$J$2)","v":""},"",""]
[null,{"$f":"IF(ISBLANK(InfoPro!A62),\"\",InfoPro!A62)","v":""},{"$f":"IF(ISBLANK(InfoPro!B62),\"\",InfoPro!B62)","v":""},{"$f":"IF(ISBLANK(InfoPro!E62),\"\",InfoPro!E62)","v":""},{"$f":"IF(ISBLANK(InfoPro!N62),\"\",InfoPro!N62)","v":""},{"$f":"IF(ISBLANK(InfoPro!I62),\"\",YEAR(InfoPro!I62)-$J$2)","v":""},"",""]
[null,{"$f":"IF(ISBLANK(InfoPro!A63),\"\",InfoPro!A63)","v":""},{"$f":"IF(ISBLANK(InfoPro!B63),\"\",InfoPro!B63)","v":""},{"$f":"IF(ISBLANK(InfoPro!E63),\"\",InfoPro!E63)","v":""},{"$f":"IF(ISBLANK(InfoPro!N63),\"\",InfoPro!N63)","v":""},{"$f":"IF(ISBLANK(InfoPro!I63),\"\",YEAR(InfoPro!I63)-$J$2)","v":""},"",""]
[null,{"$f":"IF(ISBLANK(InfoPro!A64),\"\",InfoPro!A64)","v":""},{"$f":"IF(ISBLANK(InfoPro!B64),\"\",InfoPro!B64)","v":""},{"$f":"IF(ISBLANK(InfoPro!E64),\"\",InfoPro!E64)","v":""},{"$f":"IF(ISBLANK(InfoPro!N64),\"\",InfoPro!N64)","v":""},{"$f":"IF(ISBLANK(InfoPro!I64),\"\",YEAR(InfoPro!I64)-$J$2)","v":""},"",""]
[null,{"$f":"IF(ISBLANK(InfoPro!A65),\"\",InfoPro!A65)","v":""},{"$f":"IF(ISBLANK(InfoPro!B65),\"\",InfoPro!B65)","v":""},{"$f":"IF(ISBLANK(InfoPro!E65),\"\",InfoPro!E65)","v":""},{"$f":"IF(ISBLANK(InfoPro!N65),\"\",InfoPro!N65)","v":""},{"$f":"IF(ISBLANK(InfoPro!I65),\"\",YEAR(InfoPro!I65)-$J$2)","v":""},"",""]
[null,{"$f":"IF(ISBLANK(InfoPro!A66),\"\",InfoPro!A66)","v":""},{"$f":"IF(ISBLANK(InfoPro!B66),\"\",InfoPro!B66)","v":""},{"$f":"IF(ISBLANK(InfoPro!E66),\"\",InfoPro!E66)","v":""},{"$f":"IF(ISBLANK(InfoPro!N66),\"\",InfoPro!N66)","v":""},{"$f":"IF(ISBLANK(InfoPro!I66),\"\",YEAR(InfoPro!I66)-$J$2)","v":""},"",""]
[null,{"$f":"IF(ISBLANK(InfoPro!A67),\"\",InfoPro!A67)","v":""},{"$f":"IF(ISBLANK(InfoPro!B67),\"\",InfoPro!B67)","v":""},{"$f":"IF(ISBLANK(InfoPro!E67),\"\",InfoPro!E67)","v":""},{"$f":"IF(ISBLANK(InfoPro!N67),\"\",InfoPro!N67)","v":""},{"$f":"IF(ISBLANK(InfoPro!I67),\"\",YEAR(InfoPro!I67)-$J$2)","v":""},{"$f":"IF(E67=\"SI\",100,IF(E67=\"NO\",0,\"\"))","v":""},{"$f":"IF(G67=\"\",\"\",(G67))","v":""}]
[null,{"$f":"IF(ISBLANK(InfoPro!A68),\"\",InfoPro!A68)","v":""},{"$f":"IF(ISBLANK(InfoPro!B68),\"\",InfoPro!B68)","v":""},{"$f":"IF(ISBLANK(InfoPro!E68),\"\",InfoPro!E68)","v":""},{"$f":"IF(ISBLANK(InfoPro!N68),\"\",InfoPro!N68)","v":""},{"$f":"IF(ISBLANK(InfoPro!I68),\"\",YEAR(InfoPro!I68)-$J$2)","v":""},"",""]
[null,{"$f":"IF(ISBLANK(InfoPro!A69),\"\",InfoPro!A69)","v":""},{"$f":"IF(ISBLANK(InfoPro!B69),\"\",InfoPro!B69)","v":""},{"$f":"IF(ISBLANK(InfoPro!E69),\"\",InfoPro!E69)","v":""},{"$f":"IF(ISBLANK(InfoPro!N69),\"\",InfoPro!N69)","v":""},{"$f":"IF(ISBLANK(InfoPro!I69),\"\",YEAR(InfoPro!I69)-$J$2)","v":""},"",""]
[null,{"$f":"IF(ISBLANK(InfoPro!A70),\"\",InfoPro!A70)","v":""},{"$f":"IF(ISBLANK(InfoPro!B70),\"\",InfoPro!B70)","v":""},{"$f":"IF(ISBLANK(InfoPro!E70),\"\",InfoPro!E70)","v":""},{"$f":"IF(ISBLANK(InfoPro!N70),\"\",InfoPro!N70)","v":""},{"$f":"IF(ISBLANK(InfoPro!I70),\"\",YEAR(InfoPro!I70)-$J$2)","v":""},"",""]
[null,{"$f":"IF(ISBLANK(InfoPro!A71),\"\",InfoPro!A71)","v":""},{"$f":"IF(ISBLANK(InfoPro!B71),\"\",InfoPro!B71)","v":""},{"$f":"IF(ISBLANK(InfoPro!E71),\"\",InfoPro!E71)","v":""},{"$f":"IF(ISBLANK(InfoPro!N71),\"\",InfoPro!N71)","v":""},{"$f":"IF(ISBLANK(InfoPro!I71),\"\",YEAR(InfoPro!I71)-$J$2)","v":""},"",""]
[null,{"$f":"IF(ISBLANK(InfoPro!A72),\"\",InfoPro!A72)","v":""},{"$f":"IF(ISBLANK(InfoPro!B72),\"\",InfoPro!B72)","v":""},{"$f":"IF(ISBLANK(InfoPro!E72),\"\",InfoPro!E72)","v":""},{"$f":"IF(ISBLANK(InfoPro!N72),\"\",InfoPro!N72)","v":""},{"$f":"IF(ISBLANK(InfoPro!I72),\"\",YEAR(InfoPro!I72)-$J$2)","v":""},"",""]
[null,{"$f":"IF(ISBLANK(InfoPro!A73),\"\",InfoPro!A73)","v":""},{"$f":"IF(ISBLANK(InfoPro!B73),\"\",InfoPro!B73)","v":""},{"$f":"IF(ISBLANK(InfoPro!E73),\"\",InfoPro!E73)","v":""},{"$f":"IF(ISBLANK(InfoPro!N73),\"\",InfoPro!N73)","v":""},{"$f":"IF(ISBLANK(InfoPro!I73),\"\",YEAR(InfoPro!I73)-$J$2)","v":""},"",""]
[null,{"$f":"IF(ISBLANK(InfoPro!A74),\"\",InfoPro!A74)","v":""},{"$f":"IF(ISBLANK(InfoPro!B74),\"\",InfoPro!B74)","v":""},{"$f":"IF(ISBLANK(InfoPro!E74),\"\",InfoPro!E74)","v":""},{"$f":"IF(ISBLANK(InfoPro!N74),\"\",InfoPro!N74)","v":""},{"$f":"IF(ISBLANK(InfoPro!I74),\"\",YEAR(InfoPro!I74)-$J$2)","v":""},"",""]
[null,{"$f":"IF(ISBLANK(InfoPro!A75),\"\",InfoPro!A75)","v":""},{"$f":"IF(ISBLANK(InfoPro!B75),\"\",InfoPro!B75)","v":""},{"$f":"IF(ISBLANK(InfoPro!E75),\"\",InfoPro!E75)","v":""},{"$f":"IF(ISBLANK(InfoPro!N75),\"\",InfoPro!N75)","v":""},{"$f":"IF(ISBLANK(InfoPro!I75),\"\",YEAR(InfoPro!I75)-$J$2)","v":""},"",""]
[null,{"$f":"IF(ISBLANK(InfoPro!A76),\"\",InfoPro!A76)","v":""},{"$f":"IF(ISBLANK(InfoPro!B76),\"\",InfoPro!B76)","v":""},{"$f":"IF(ISBLANK(InfoPro!E76),\"\",InfoPro!E76)","v":""},{"$f":"IF(ISBLANK(InfoPro!N76),\"\",InfoPro!N76)","v":""},{"$f":"IF(ISBLANK(InfoPro!I76),\"\",YEAR(InfoPro!I76)-$J$2)","v":""},"",""]
[null,{"$f":"IF(ISBLANK(InfoPro!A77),\"\",InfoPro!A77)","v":""},{"$f":"IF(ISBLANK(InfoPro!B77),\"\",InfoPro!B77)","v":""},{"$f":"IF(ISBLANK(InfoPro!E77),\"\",InfoPro!E77)","v":""},{"$f":"IF(ISBLANK(InfoPro!N77),\"\",InfoPro!N77)","v":""},{"$f":"IF(ISBLANK(InfoPro!I77),\"\",YEAR(InfoPro!I77)-$J$2)","v":""},"",""]
[null,{"$f":"IF(ISBLANK(InfoPro!A78),\"\",InfoPro!A78)","v":""},{"$f":"IF(ISBLANK(InfoPro!B78),\"\",InfoPro!B78)","v":""},{"$f":"IF(ISBLANK(InfoPro!E78),\"\",InfoPro!E78)","v":""},{"$f":"IF(ISBLANK(InfoPro!N78),\"\",InfoPro!N78)","v":""},{"$f":"IF(ISBLANK(InfoPro!I78),\"\",YEAR(InfoPro!I78)-$J$2)","v":""},"",""]
[null,{"$f":"IF(ISBLANK(InfoPro!A79),\"\",InfoPro!A79)","v":""},{"$f":"IF(ISBLANK(InfoPro!B79),\"\",InfoPro!B79)","v":""},{"$f":"IF(ISBLANK(InfoPro!E79),\"\",InfoPro!E79)","v":""},{"$f":"IF(ISBLANK(InfoPro!N79),\"\",InfoPro!N79)","v":""},{"$f":"IF(ISBLANK(InfoPro!I79),\"\",YEAR(InfoPro!I79)-$J$2)","v":""},"",""]
[null,{"$f":"IF(ISBLANK(InfoPro!A80),\"\",InfoPro!A80)","v":""},{"$f":"IF(ISBLANK(InfoPro!B80),\"\",InfoPro!B80)","v":""},{"$f":"IF(ISBLANK(InfoPro!E80),\"\",InfoPro!E80)","v":""},{"$f":"IF(ISBLANK(InfoPro!N80),\"\",InfoPro!N80)","v":""},{"$f":"IF(ISBLANK(InfoPro!I80),\"\",YEAR(InfoPro!I80)-$J$2)","v":""},"",""]
[null,{"$f":"IF(ISBLANK(InfoPro!A81),\"\",InfoPro!A81)","v":""},{"$f":"IF(ISBLANK(InfoPro!B81),\"\",InfoPro!B81)","v":""},{"$f":"IF(ISBLANK(InfoPro!E81),\"\",InfoPro!E81)","v":""},{"$f":"IF(ISBLANK(InfoPro!N81),\"\",InfoPro!N81)","v":""},{"$f":"IF(ISBLANK(InfoPro!I81),\"\",YEAR(InfoPro!I81)-$J$2)","v":""},"",""]
[null,{"$f":"IF(ISBLANK(InfoPro!A82),\"\",InfoPro!A82)","v":""},{"$f":"IF(ISBLANK(InfoPro!B82),\"\",InfoPro!B82)","v":""},{"$f":"IF(ISBLANK(InfoPro!E82),\"\",InfoPro!E82)","v":""},{"$f":"IF(ISBLANK(InfoPro!N82),\"\",InfoPro!N82)","v":""},{"$f":"IF(ISBLANK(InfoPro!I82),\"\",YEAR(InfoPro!I82)-$J$2)","v":""},"",""]
[null,{"$f":"IF(ISBLANK(InfoPro!A83),\"\",InfoPro!A83)","v":""},{"$f":"IF(ISBLANK(InfoPro!B83),\"\",InfoPro!B83)","v":""},{"$f":"IF(ISBLANK(InfoPro!E83),\"\",InfoPro!E83)","v":""},{"$f":"IF(ISBLANK(InfoPro!N83),\"\",InfoPro!N83)","v":""},{"$f":"IF(ISBLANK(InfoPro!I83),\"\",YEAR(InfoPro!I83)-$J$2)","v":""},"",""]
[null,{"$f":"IF(ISBLANK(InfoPro!A84),\"\",InfoPro!A84)","v":""},{"$f":"IF(ISBLANK(InfoPro!B84),\"\",InfoPro!B84)","v":""},{"$f":"IF(ISBLANK(InfoPro!E84),\"\",InfoPro!E84)","v":""},{"$f":"IF(ISBLANK(InfoPro!N84),\"\",InfoPro!N84)","v":""},{"$f":"IF(ISBLANK(InfoPro!I84),\"\",YEAR(InfoPro!I84)-$J$2)","v":""},"",""]
[null,{"$f":"IF(ISBLANK(InfoPro!A85),\"\",InfoPro!A85)","v":""},{"$f":"IF(ISBLANK(InfoPro!B85),\"\",InfoPro!B85)","v":""},{"$f":"IF(ISBLANK(InfoPro!E85),\"\",InfoPro!E85)","v":""},{"$f":"IF(ISBLANK(InfoPro!N85),\"\",InfoPro!N85)","v":""},{"$f":"IF(ISBLANK(InfoPro!I85),\"\",YEAR(InfoPro!I85)-$J$2)","v":""},"",""]
[null,{"$f":"IF(ISBLANK(InfoPro!A86),\"\",InfoPro!A86)","v":""},{"$f":"IF(ISBLANK(InfoPro!B86),\"\",InfoPro!B86)","v":""},{"$f":"IF(ISBLANK(InfoPro!E86),\"\",InfoPro!E86)","v":""},{"$f":"IF(ISBLANK(InfoPro!N86),\"\",InfoPro!N86)","v":""},{"$f":"IF(ISBLANK(InfoPro!I86),\"\",YEAR(InfoPro!I86)-$J$2)","v":""},"",""]
[null,{"$f":"IF(ISBLANK(InfoPro!A87),\"\",InfoPro!A87)","v":""},{"$f":"IF(ISBLANK(InfoPro!B87),\"\",InfoPro!B87)","v":""},{"$f":"IF(ISBLANK(InfoPro!E87),\"\",InfoPro!E87)","v":""},{"$f":"IF(ISBLANK(InfoPro!N87),\"\",InfoPro!N87)","v":""},{"$f":"IF(ISBLANK(InfoPro!I87),\"\",YEAR(InfoPro!I87)-$J$2)","v":""},"",""]
[null,{"$f":"IF(ISBLANK(InfoPro!A88),\"\",InfoPro!A88)","v":""},{"$f":"IF(ISBLANK(InfoPro!B88),\"\",InfoPro!B88)","v":""},{"$f":"IF(ISBLANK(InfoPro!E88),\"\",InfoPro!E88)","v":""},{"$f":"IF(ISBLANK(InfoPro!N88),\"\",InfoPro!N88)","v":""},{"$f":"IF(ISBLANK(InfoPro!I88),\"\",YEAR(InfoPro!I88)-$J$2)","v":""},"",""]
[null,{"$f":"IF(ISBLANK(InfoPro!A89),\"\",InfoPro!A89)","v":""},{"$f":"IF(ISBLANK(InfoPro!B89),\"\",InfoPro!B89)","v":""},{"$f":"IF(ISBLANK(InfoPro!E89),\"\",InfoPro!E89)","v":""},{"$f":"IF(ISBLANK(InfoPro!N89),\"\",InfoPro!N89)","v":""},{"$f":"IF(ISBLANK(InfoPro!I89),\"\",YEAR(InfoPro!I89)-$J$2)","v":""},"",""]
[null,{"$f":"IF(ISBLANK(InfoPro!A90),\"\",InfoPro!A90)","v":""},{"$f":"IF(ISBLANK(InfoPro!B90),\"\",InfoPro!B90)","v":""},{"$f":"IF(ISBLANK(InfoPro!E90),\"\",InfoPro!E90)","v":""},{"$f":"IF(ISBLANK(InfoPro!N90),\"\",InfoPro!N90)","v":""},{"$f":"IF(ISBLANK(InfoPro!I90),\"\",YEAR(InfoPro!I90)-$J$2)","v":""},"",""]
[null,{"$f":"IF(ISBLANK(InfoPro!A91),\"\",InfoPro!A91)","v":""},{"$f":"IF(ISBLANK(InfoPro!B91),\"\",InfoPro!B91)","v":""},{"$f":"IF(ISBLANK(InfoPro!E91),\"\",InfoPro!E91)","v":""},{"$f":"IF(ISBLANK(InfoPro!N91),\"\",InfoPro!N91)","v":""},{"$f":"IF(ISBLANK(InfoPro!I91),\"\",YEAR(InfoPro!I91)-$J$2)","v":""},"",""]
[null,{"$f":"IF(ISBLANK(InfoPro!A92),\"\",InfoPro!A92)","v":""},{"$f":"IF(ISBLANK(InfoPro!B92),\"\",InfoPro!B92)","v":""},{"$f":"IF(ISBLANK(InfoPro!E92),\"\",InfoPro!E92)","v":""},{"$f":"IF(ISBLANK(InfoPro!N92),\"\",InfoPro!N92)","v":""},{"$f":"IF(ISBLANK(InfoPro!I92),\"\",YEAR(InfoPro!I92)-$J$2)","v":""},"",""]
[null,{"$f":"IF(ISBLANK(InfoPro!A93),\"\",InfoPro!A93)","v":""},{"$f":"IF(ISBLANK(InfoPro!B93),\"\",InfoPro!B93)","v":""},{"$f":"IF(ISBLANK(InfoPro!E93),\"\",InfoPro!E93)","v":""},{"$f":"IF(ISBLANK(InfoPro!N93),\"\",InfoPro!N93)","v":""},{"$f":"IF(ISBLANK(InfoPro!I93),\"\",YEAR(InfoPro!I93)-$J$2)","v":""},"",""]
[null,{"$f":"IF(ISBLANK(InfoPro!A94),\"\",InfoPro!A94)","v":""},{"$f":"IF(ISBLANK(InfoPro!B94),\"\",InfoPro!B94)","v":""},{"$f":"IF(ISBLANK(InfoPro!E94),\"\",InfoPro!E94)","v":""},{"$f":"IF(ISBLANK(InfoPro!N94),\"\",InfoPro!N94)","v":""},{"$f":"IF(ISBLANK(InfoPro!I94),\"\",YEAR(InfoPro!I94)-$J$2)","v":""},"",""]
[null,{"$f":"IF(ISBLANK(InfoPro!A95),\"\",InfoPro!A95)","v":""},{"$f":"IF(ISBLANK(InfoPro!B95),\"\",InfoPro!B95)","v":""},{"$f":"IF(ISBLANK(InfoPro!E95),\"\",InfoPro!E95)","v":""},{"$f":"IF(ISBLANK(InfoPro!N95),\"\",InfoPro!N95)","v":""},{"$f":"IF(ISBLANK(InfoPro!I95),\"\",YEAR(InfoPro!I95)-$J$2)","v":""},"",""]
[null,{"$f":"IF(ISBLANK(InfoPro!A96),\"\",InfoPro!A96)","v":""},{"$f":"IF(ISBLANK(InfoPro!B96),\"\",InfoPro!B96)","v":""},{"$f":"IF(ISBLANK(InfoPro!E96),\"\",InfoPro!E96)","v":""},{"$f":"IF(ISBLANK(InfoPro!N96),\"\",InfoPro!N96)","v":""},{"$f":"IF(ISBLANK(InfoPro!I96),\"\",YEAR(InfoPro!I96)-$J$2)","v":""},"",""]
[null,{"$f":"IF(ISBLANK(InfoPro!A97),\"\",InfoPro!A97)","v":""},{"$f":"IF(ISBLANK(InfoPro!B97),\"\",InfoPro!B97)","v":""},{"$f":"IF(ISBLANK(InfoPro!E97),\"\",InfoPro!E97)","v":""},{"$f":"IF(ISBLANK(InfoPro!N97),\"\",InfoPro!N97)","v":""},{"$f":"IF(ISBLANK(InfoPro!I97),\"\",YEAR(InfoPro!I97)-$J$2)","v":""},"",""]
[null,{"$f":"IF(ISBLANK(InfoPro!A98),\"\",InfoPro!A98)","v":""},{"$f":"IF(ISBLANK(InfoPro!B98),\"\",InfoPro!B98)","v":""},{"$f":"IF(ISBLANK(InfoPro!E98),\"\",InfoPro!E98)","v":""},{"$f":"IF(ISBLANK(InfoPro!N98),\"\",InfoPro!N98)","v":""},{"$f":"IF(ISBLANK(InfoPro!I98),\"\",YEAR(InfoPro!I98)-$J$2)","v":""},"",""]
[null,{"$f":"IF(ISBLANK(InfoPro!A99),\"\",InfoPro!A99)","v":""},{"$f":"IF(ISBLANK(InfoPro!B99),\"\",InfoPro!B99)","v":""},{"$f":"IF(ISBLANK(InfoPro!E99),\"\",InfoPro!E99)","v":""},{"$f":"IF(ISBLANK(InfoPro!N99),\"\",InfoPro!N99)","v":""},{"$f":"IF(ISBLANK(InfoPro!I99),\"\",YEAR(InfoPro!I99)-$J$2)","v":""},"",""]
[null,{"$f":"IF(ISBLANK(InfoPro!A100),\"\",InfoPro!A100)","v":""},{"$f":"IF(ISBLANK(InfoPro!B100),\"\",InfoPro!B100)","v":""},{"$f":"IF(ISBLANK(InfoPro!E100),\"\",InfoPro!E100)","v":""},{"$f":"IF(ISBLANK(InfoPro!N100),\"\",InfoPro!N100)","v":""},{"$f":"IF(ISBLANK(InfoPro!I100),\"\",YEAR(InfoPro!I100)-$J$2)","v":""},"",""]
[null,{"$f":"IF(ISBLANK(InfoPro!A101),\"\",InfoPro!A101)","v":""},{"$f":"IF(ISBLANK(InfoPro!B101),\"\",InfoPro!B101)","v":""},{"$f":"IF(ISBLANK(InfoPro!E101),\"\",InfoPro!E101)","v":""},{"$f":"IF(ISBLANK(InfoPro!N101),\"\",InfoPro!N101)","v":""},{"$f":"IF(ISBLANK(InfoPro!I101),\"\",YEAR(InfoPro!I101)-$J$2)","v":""},"",""]
[null,{"$f":"IF(ISBLANK(InfoPro!A102),\"\",InfoPro!A102)","v":""},{"$f":"IF(ISBLANK(InfoPro!B102),\"\",InfoPro!B102)","v":""},{"$f":"IF(ISBLANK(InfoPro!E102),\"\",InfoPro!E102)","v":""},{"$f":"IF(ISBLANK(InfoPro!N102),\"\",InfoPro!N102)","v":""},{"$f":"IF(ISBLANK(InfoPro!I102),\"\",YEAR(InfoPro!I102)-$J$2)","v":""},"",""]
[null,{"$f":"IF(ISBLANK(InfoPro!A103),\"\",InfoPro!A103)","v":""},{"$f":"IF(ISBLANK(InfoPro!B103),\"\",InfoPro!B103)","v":""},{"$f":"IF(ISBLANK(InfoPro!E103),\"\",InfoPro!E103)","v":""},{"$f":"IF(ISBLANK(InfoPro!N103),\"\",InfoPro!N103)","v":""},{"$f":"IF(ISBLANK(InfoPro!I103),\"\",YEAR(InfoPro!I103)-$J$2)","v":""},"",""]
[null,{"$f":"IF(ISBLANK(InfoPro!A104),\"\",InfoPro!A104)","v":""},{"$f":"IF(ISBLANK(InfoPro!B104),\"\",InfoPro!B104)","v":""},{"$f":"IF(ISBLANK(InfoPro!E104),\"\",InfoPro!E104)","v":""},{"$f":"IF(ISBLANK(InfoPro!N104),\"\",InfoPro!N104)","v":""},{"$f":"IF(ISBLANK(InfoPro!I104),\"\",YEAR(InfoPro!I104)-$J$2)","v":""},"",""]
[null,{"$f":"IF(ISBLANK(InfoPro!A105),\"\",InfoPro!A105)","v":""},{"$f":"IF(ISBLANK(InfoPro!B105),\"\",InfoPro!B105)","v":""},{"$f":"IF(ISBLANK(InfoPro!E105),\"\",InfoPro!E105)","v":""},{"$f":"IF(ISBLANK(InfoPro!N105),\"\",InfoPro!N105)","v":""},{"$f":"IF(ISBLANK(InfoPro!I105),\"\",YEAR(InfoPro!I105)-$J$2)","v":""},"",""]
[null,{"$f":"IF(ISBLANK(InfoPro!A106),\"\",InfoPro!A106)","v":""},{"$f":"IF(ISBLANK(InfoPro!B106),\"\",InfoPro!B106)","v":""},{"$f":"IF(ISBLANK(InfoPro!E106),\"\",InfoPro!E106)","v":""},{"$f":"IF(ISBLANK(InfoPro!N106),\"\",InfoPro!N106)","v":""},{"$f":"IF(ISBLANK(InfoPro!I106),\"\",YEAR(InfoPro!I106)-$J$2)","v":""},"",""]
[null,{"$f":"IF(ISBLANK(InfoPro!A107),\"\",InfoPro!A107)","v":""},{"$f":"IF(ISBLANK(InfoPro!B107),\"\",InfoPro!B107)","v":""},{"$f":"IF(ISBLANK(InfoPro!E107),\"\",InfoPro!E107)","v":""},{"$f":"IF(ISBLANK(InfoPro!N107),\"\",InfoPro!N107)","v":""},{"$f":"IF(ISBLANK(InfoPro!I107),\"\",YEAR(InfoPro!I107)-$J$2)","v":""},"",""]
[null,{"$f":"IF(ISBLANK(InfoPro!A108),\"\",InfoPro!A108)","v":""},{"$f":"IF(ISBLANK(InfoPro!B108),\"\",InfoPro!B108)","v":""},{"$f":"IF(ISBLANK(InfoPro!E108),\"\",InfoPro!E108)","v":""},{"$f":"IF(ISBLANK(InfoPro!N108),\"\",InfoPro!N108)","v":""},{"$f":"IF(ISBLANK(InfoPro!I108),\"\",YEAR(InfoPro!I108)-$J$2)","v":""},"",""]
[null,{"$f":"IF(ISBLANK(InfoPro!A109),\"\",InfoPro!A109)","v":""},{"$f":"IF(ISBLANK(InfoPro!B109),\"\",InfoPro!B109)","v":""},{"$f":"IF(ISBLANK(InfoPro!E109),\"\",InfoPro!E109)","v":""},{"$f":"IF(ISBLANK(InfoPro!N109),\"\",InfoPro!N109)","v":""},{"$f":"IF(ISBLANK(InfoPro!I109),\"\",YEAR(InfoPro!I109)-$J$2)","v":""},"",""]
[null,{"$f":"IF(ISBLANK(InfoPro!A110),\"\",InfoPro!A110)","v":""},{"$f":"IF(ISBLANK(InfoPro!B110),\"\",InfoPro!B110)","v":""},{"$f":"IF(ISBLANK(InfoPro!E110),\"\",InfoPro!E110)","v":""},{"$f":"IF(ISBLANK(InfoPro!N110),\"\",InfoPro!N110)","v":""},{"$f":"IF(ISBLANK(InfoPro!I110),\"\",YEAR(InfoPro!I110)-$J$2)","v":""},"",""]
[null,{"$f":"IF(ISBLANK(InfoPro!A111),\"\",InfoPro!A111)","v":""},{"$f":"IF(ISBLANK(InfoPro!B111),\"\",InfoPro!B111)","v":""},{"$f":"IF(ISBLANK(InfoPro!E111),\"\",InfoPro!E111)","v":""},{"$f":"IF(ISBLANK(InfoPro!N111),\"\",InfoPro!N111)","v":""},{"$f":"IF(ISBLANK(InfoPro!I111),\"\",YEAR(InfoPro!I111)-$J$2)","v":""},"",""]
[null,{"$f":"IF(ISBLANK(InfoPro!A112),\"\",InfoPro!A112)","v":""},{"$f":"IF(ISBLANK(InfoPro!B112),\"\",InfoPro!B112)","v":""},{"$f":"IF(ISBLANK(InfoPro!E112),\"\",InfoPro!E112)","v":""},{"$f":"IF(ISBLANK(InfoPro!N112),\"\",InfoPro!N112)","v":""},{"$f":"IF(ISBLANK(InfoPro!I112),\"\",YEAR(InfoPro!I112)-$J$2)","v":""},"",""]
[null,{"$f":"IF(ISBLANK(InfoPro!A113),\"\",InfoPro!A113)","v":""},{"$f":"IF(ISBLANK(InfoPro!B113),\"\",InfoPro!B113)","v":""},{"$f":"IF(ISBLANK(InfoPro!E113),\"\",InfoPro!E113)","v":""},{"$f":"IF(ISBLANK(InfoPro!N113),\"\",InfoPro!N113)","v":""},{"$f":"IF(ISBLANK(InfoPro!I113),\"\",YEAR(InfoPro!I113)-$J$2)","v":""},"",""]
[null,{"$f":"IF(ISBLANK(InfoPro!A114),\"\",InfoPro!A114)","v":""},{"$f":"IF(ISBLANK(InfoPro!B114),\"\",InfoPro!B114)","v":""},{"$f":"IF(ISBLANK(InfoPro!E114),\"\",InfoPro!E114)","v":""},{"$f":"IF(ISBLANK(InfoPro!N114),\"\",InfoPro!N114)","v":""},{"$f":"IF(ISBLANK(InfoPro!I114),\"\",YEAR(InfoPro!I114)-$J$2)","v":""},"",""]
[null,{"$f":"IF(ISBLANK(InfoPro!A115),\"\",InfoPro!A115)","v":""},{"$f":"IF(ISBLANK(InfoPro!B115),\"\",InfoPro!B115)","v":""},{"$f":"IF(ISBLANK(InfoPro!E115),\"\",InfoPro!E115)","v":""},{"$f":"IF(ISBLANK(InfoPro!N115),\"\",InfoPro!N115)","v":""},{"$f":"IF(ISBLANK(InfoPro!I115),\"\",YEAR(InfoPro!I115)-$J$2)","v":""},"",""]
[null,{"$f":"IF(ISBLANK(InfoPro!A116),\"\",InfoPro!A116)","v":""},{"$f":"IF(ISBLANK(InfoPro!B116),\"\",InfoPro!B116)","v":""},{"$f":"IF(ISBLANK(InfoPro!E116),\"\",InfoPro!E116)","v":""},{"$f":"IF(ISBLANK(InfoPro!N116),\"\",InfoPro!N116)","v":""},{"$f":"IF(ISBLANK(InfoPro!I116),\"\",YEAR(InfoPro!I116)-$J$2)","v":""},"",""]
[null,{"$f":"IF(ISBLANK(InfoPro!A117),\"\",InfoPro!A117)","v":""},{"$f":"IF(ISBLANK(InfoPro!B117),\"\",InfoPro!B117)","v":""},{"$f":"IF(ISBLANK(InfoPro!E117),\"\",InfoPro!E117)","v":""},{"$f":"IF(ISBLANK(InfoPro!N117),\"\",InfoPro!N117)","v":""},{"$f":"IF(ISBLANK(InfoPro!I117),\"\",YEAR(InfoPro!I117)-$J$2)","v":""},"",""]
[null,{"$f":"IF(ISBLANK(InfoPro!A118),\"\",InfoPro!A118)","v":""},{"$f":"IF(ISBLANK(InfoPro!B118),\"\",InfoPro!B118)","v":""},{"$f":"IF(ISBLANK(InfoPro!E118),\"\",InfoPro!E118)","v":""},{"$f":"IF(ISBLANK(InfoPro!N118),\"\",InfoPro!N118)","v":""},{"$f":"IF(ISBLANK(InfoPro!I118),\"\",YEAR(InfoPro!I118)-$J$2)","v":""},"",""]
[null,{"$f":"IF(ISBLANK(InfoPro!A119),\"\",InfoPro!A119)","v":""},{"$f":"IF(ISBLANK(InfoPro!B119),\"\",InfoPro!B119)","v":""},{"$f":"IF(ISBLANK(InfoPro!E119),\"\",InfoPro!E119)","v":""},{"$f":"IF(ISBLANK(InfoPro!N119),\"\",InfoPro!N119)","v":""},{"$f":"IF(ISBLANK(InfoPro!I119),\"\",YEAR(InfoPro!I119)-$J$2)","v":""},"",""]
[null,{"$f":"IF(ISBLANK(InfoPro!A120),\"\",InfoPro!A120)","v":""},{"$f":"IF(ISBLANK(InfoPro!B120),\"\",InfoPro!B120)","v":""},{"$f":"IF(ISBLANK(InfoPro!E120),\"\",InfoPro!E120)","v":""},{"$f":"IF(ISBLANK(InfoPro!N120),\"\",InfoPro!N120)","v":""},{"$f":"IF(ISBLANK(InfoPro!I120),\"\",YEAR(InfoPro!I120)-$J$2)","v":""},"",""]
[null,{"$f":"IF(ISBLANK(InfoPro!A121),\"\",InfoPro!A121)","v":""},{"$f":"IF(ISBLANK(InfoPro!B121),\"\",InfoPro!B121)","v":""},{"$f":"IF(ISBLANK(InfoPro!E121),\"\",InfoPro!E121)","v":""},{"$f":"IF(ISBLANK(InfoPro!N121),\"\",InfoPro!N121)","v":""},{"$f":"IF(ISBLANK(InfoPro!I121),\"\",YEAR(InfoPro!I121)-$J$2)","v":""},"",""]
[null,{"$f":"IF(ISBLANK(InfoPro!A122),\"\",InfoPro!A122)","v":""},{"$f":"IF(ISBLANK(InfoPro!B122),\"\",InfoPro!B122)","v":""},{"$f":"IF(ISBLANK(InfoPro!E122),\"\",InfoPro!E122)","v":""},{"$f":"IF(ISBLANK(InfoPro!N122),\"\",InfoPro!N122)","v":""},{"$f":"IF(ISBLANK(InfoPro!I122),\"\",YEAR(InfoPro!I122)-$J$2)","v":""},"",""]
[null,{"$f":"IF(ISBLANK(InfoPro!A123),\"\",InfoPro!A123)","v":""},{"$f":"IF(ISBLANK(InfoPro!B123),\"\",InfoPro!B123)","v":""},{"$f":"IF(ISBLANK(InfoPro!E123),\"\",InfoPro!E123)","v":""},{"$f":"IF(ISBLANK(InfoPro!N123),\"\",InfoPro!N123)","v":""},{"$f":"IF(ISBLANK(InfoPro!I123),\"\",YEAR(InfoPro!I123)-$J$2)","v":""},"",""]
[null,{"$f":"IF(ISBLANK(InfoPro!A124),\"\",InfoPro!A124)","v":""},{"$f":"IF(ISBLANK(InfoPro!B124),\"\",InfoPro!B124)","v":""},{"$f":"IF(ISBLANK(InfoPro!E124),\"\",InfoPro!E124)","v":""},{"$f":"IF(ISBLANK(InfoPro!N124),\"\",InfoPro!N124)","v":""},{"$f":"IF(ISBLANK(InfoPro!I124),\"\",YEAR(InfoPro!I124)-$J$2)","v":""},"",""]
[null,{"$f":"IF(ISBLANK(InfoPro!A125),\"\",InfoPro!A125)","v":""},{"$f":"IF(ISBLANK(InfoPro!B125),\"\",InfoPro!B125)","v":""},{"$f":"IF(ISBLANK(InfoPro!E125),\"\",InfoPro!E125)","v":""},{"$f":"IF(ISBLANK(InfoPro!N125),\"\",InfoPro!N125)","v":""},{"$f":"IF(ISBLANK(InfoPro!I125),\"\",YEAR(InfoPro!I125)-$J$2)","v":""},"",""]
[null,{"$f":"IF(ISBLANK(InfoPro!A126),\"\",InfoPro!A126)","v":""},{"$f":"IF(ISBLANK(InfoPro!B126),\"\",InfoPro!B126)","v":""},{"$f":"IF(ISBLANK(InfoPro!E126),\"\",InfoPro!E126)","v":""},{"$f":"IF(ISBLANK(InfoPro!N126),\"\",InfoPro!N126)","v":""},{"$f":"IF(ISBLANK(InfoPro!I126),\"\",YEAR(InfoPro!I126)-$J$2)","v":""},"",""]
[null,{"$f":"IF(ISBLANK(InfoPro!A127),\"\",InfoPro!A127)","v":""},{"$f":"IF(ISBLANK(InfoPro!B127),\"\",InfoPro!B127)","v":""},{"$f":"IF(ISBLANK(InfoPro!E127),\"\",InfoPro!E127)","v":""},{"$f":"IF(ISBLANK(InfoPro!N127),\"\",InfoPro!N127)","v":""},{"$f":"IF(ISBLANK(InfoPro!I127),\"\",YEAR(InfoPro!I127)-$J$2)","v":""},"",""]
[null,{"$f":"IF(ISBLANK(InfoPro!A128),\"\",InfoPro!A128)","v":""},{"$f":"IF(ISBLANK(InfoPro!B128),\"\",InfoPro!B128)","v":""},{"$f":"IF(ISBLANK(InfoPro!E128),\"\",InfoPro!E128)","v":""},{"$f":"IF(ISBLANK(InfoPro!N128),\"\",InfoPro!N128)","v":""},{"$f":"IF(ISBLANK(InfoPro!I128),\"\",YEAR(InfoPro!I128)-$J$2)","v":""},"",""]
[null,{"$f":"IF(ISBLANK(InfoPro!A129),\"\",InfoPro!A129)","v":""},{"$f":"IF(ISBLANK(InfoPro!B129),\"\",InfoPro!B129)","v":""},{"$f":"IF(ISBLANK(InfoPro!E129),\"\",InfoPro!E129)","v":""},{"$f":"IF(ISBLANK(InfoPro!N129),\"\",InfoPro!N129)","v":""},{"$f":"IF(ISBLANK(InfoPro!I129),\"\",YEAR(InfoPro!I129)-$J$2)","v":""},"",""]
[null,{"$f":"IF(ISBLANK(InfoPro!A130),\"\",InfoPro!A130)","v":""},{"$f":"IF(ISBLANK(InfoPro!B130),\"\",InfoPro!B130)","v":""},{"$f":"IF(ISBLANK(InfoPro!E130),\"\",InfoPro!E130)","v":""},{"$f":"IF(ISBLANK(InfoPro!N130),\"\",InfoPro!N130)","v":""},{"$f":"IF(ISBLANK(InfoPro!I130),\"\",YEAR(InfoPro!I130)-$J$2)","v":""},"",""]
[null,{"$f":"IF(ISBLANK(InfoPro!A131),\"\",InfoPro!A131)","v":""},{"$f":"IF(ISBLANK(InfoPro!B131),\"\",InfoPro!B131)","v":""},{"$f":"IF(ISBLANK(InfoPro!E131),\"\",InfoPro!E131)","v":""},{"$f":"IF(ISBLANK(InfoPro!N131),\"\",InfoPro!N131)","v":""},{"$f":"IF(ISBLANK(InfoPro!I131),\"\",YEAR(InfoPro!I131)-$J$2)","v":""},{"$f":"IF(E131=\"SI\",100,IF(E131=\"NO\",0,\"\"))","v":""},{"$f":"IF(G131=\"\",\"\",(G131))","v":""}]
[null,{"$f":"IF(ISBLANK(InfoPro!A132),\"\",InfoPro!A132)","v":""},{"$f":"IF(ISBLANK(InfoPro!B132),\"\",InfoPro!B132)","v":""},{"$f":"IF(ISBLANK(InfoPro!E132),\"\",InfoPro!E132)","v":""},{"$f":"IF(ISBLANK(InfoPro!N132),\"\",InfoPro!N132)","v":""},{"$f":"IF(ISBLANK(InfoPro!I132),\"\",YEAR(InfoPro!I132)-$J$2)","v":""},"",""]
[null,{"$f":"IF(ISBLANK(InfoPro!A133),\"\",InfoPro!A133)","v":""},{"$f":"IF(ISBLANK(InfoPro!B133),\"\",InfoPro!B133)","v":""},{"$f":"IF(ISBLANK(InfoPro!E133),\"\",InfoPro!E133)","v":""},{"$f":"IF(ISBLANK(InfoPro!N133),\"\",InfoPro!N133)","v":""},{"$f":"IF(ISBLANK(InfoPro!I133),\"\",YEAR(InfoPro!I133)-$J$2)","v":""},"",""]
[null,{"$f":"IF(ISBLANK(InfoPro!A134),\"\",InfoPro!A134)","v":""},{"$f":"IF(ISBLANK(InfoPro!B134),\"\",InfoPro!B134)","v":""},{"$f":"IF(ISBLANK(InfoPro!E134),\"\",InfoPro!E134)","v":""},{"$f":"IF(ISBLANK(InfoPro!N134),\"\",InfoPro!N134)","v":""},{"$f":"IF(ISBLANK(InfoPro!I134),\"\",YEAR(InfoPro!I134)-$J$2)","v":""},"",""]
[null,{"$f":"IF(ISBLANK(InfoPro!A135),\"\",InfoPro!A135)","v":""},{"$f":"IF(ISBLANK(InfoPro!B135),\"\",InfoPro!B135)","v":""},{"$f":"IF(ISBLANK(InfoPro!E135),\"\",InfoPro!E135)","v":""},{"$f":"IF(ISBLANK(InfoPro!N135),\"\",InfoPro!N135)","v":""},{"$f":"IF(ISBLANK(InfoPro!I135),\"\",YEAR(InfoPro!I135)-$J$2)","v":""},"",""]
[null,{"$f":"IF(ISBLANK(InfoPro!A136),\"\",InfoPro!A136)","v":""},{"$f":"IF(ISBLANK(InfoPro!B136),\"\",InfoPro!B136)","v":""},{"$f":"IF(ISBLANK(InfoPro!E136),\"\",InfoPro!E136)","v":""},{"$f":"IF(ISBLANK(InfoPro!N136),\"\",InfoPro!N136)","v":""},{"$f":"IF(ISBLANK(InfoPro!I136),\"\",YEAR(InfoPro!I136)-$J$2)","v":""},"",""]
[null,{"$f":"IF(ISBLANK(InfoPro!A137),\"\",InfoPro!A137)","v":""},{"$f":"IF(ISBLANK(InfoPro!B137),\"\",InfoPro!B137)","v":""},{"$f":"IF(ISBLANK(InfoPro!E137),\"\",InfoPro!E137)","v":""},{"$f":"IF(ISBLANK(InfoPro!N137),\"\",InfoPro!N137)","v":""},{"$f":"IF(ISBLANK(InfoPro!I137),\"\",YEAR(InfoPro!I137)-$J$2)","v":""},"",""]
[null,{"$f":"IF(ISBLANK(InfoPro!A138),\"\",InfoPro!A138)","v":""},{"$f":"IF(ISBLANK(InfoPro!B138),\"\",InfoPro!B138)","v":""},{"$f":"IF(ISBLANK(InfoPro!E138),\"\",InfoPro!E138)","v":""},{"$f":"IF(ISBLANK(InfoPro!N138),\"\",InfoPro!N138)","v":""},{"$f":"IF(ISBLANK(InfoPro!I138),\"\",YEAR(InfoPro!I138)-$J$2)","v":""},"",""]
[null,{"$f":"IF(ISBLANK(InfoPro!A139),\"\",InfoPro!A139)","v":""},{"$f":"IF(ISBLANK(InfoPro!B139),\"\",InfoPro!B139)","v":""},{"$f":"IF(ISBLANK(InfoPro!E139),\"\",InfoPro!E139)","v":""},{"$f":"IF(ISBLANK(InfoPro!N139),\"\",InfoPro!N139)","v":""},{"$f":"IF(ISBLANK(InfoPro!I139),\"\",YEAR(InfoPro!I139)-$J$2)","v":""},"",""]
[null,{"$f":"IF(ISBLANK(InfoPro!A140),\"\",InfoPro!A140)","v":""},{"$f":"IF(ISBLANK(InfoPro!B140),\"\",InfoPro!B140)","v":""},{"$f":"IF(ISBLANK(InfoPro!E140),\"\",InfoPro!E140)","v":""},{"$f":"IF(ISBLANK(InfoPro!N140),\"\",InfoPro!N140)","v":""},{"$f":"IF(ISBLANK(InfoPro!I140),\"\",YEAR(InfoPro!I140)-$J$2)","v":""},"",""]
[null,{"$f":"IF(ISBLANK(InfoPro!A141),\"\",InfoPro!A141)","v":""},{"$f":"IF(ISBLANK(InfoPro!B141),\"\",InfoPro!B141)","v":""},{"$f":"IF(ISBLANK(InfoPro!E141),\"\",InfoPro!E141)","v":""},{"$f":"IF(ISBLANK(InfoPro!N141),\"\",InfoPro!N141)","v":""},{"$f":"IF(ISBLANK(InfoPro!I141),\"\",YEAR(InfoPro!I141)-$J$2)","v":""},"",""]
[null,{"$f":"IF(ISBLANK(InfoPro!A142),\"\",InfoPro!A142)","v":""},{"$f":"IF(ISBLANK(InfoPro!B142),\"\",InfoPro!B142)","v":""},{"$f":"IF(ISBLANK(InfoPro!E142),\"\",InfoPro!E142)","v":""},{"$f":"IF(ISBLANK(InfoPro!N142),\"\",InfoPro!N142)","v":""},{"$f":"IF(ISBLANK(InfoPro!I142),\"\",YEAR(InfoPro!I142)-$J$2)","v":""},"",""]
[null,{"$f":"IF(ISBLANK(InfoPro!A143),\"\",InfoPro!A143)","v":""},{"$f":"IF(ISBLANK(InfoPro!B143),\"\",InfoPro!B143)","v":""},{"$f":"IF(ISBLANK(InfoPro!E143),\"\",InfoPro!E143)","v":""},{"$f":"IF(ISBLANK(InfoPro!N143),\"\",InfoPro!N143)","v":""},{"$f":"IF(ISBLANK(InfoPro!I143),\"\",YEAR(InfoPro!I143)-$J$2)","v":""},"",""]
[null,{"$f":"IF(ISBLANK(InfoPro!A144),\"\",InfoPro!A144)","v":""},{"$f":"IF(ISBLANK(InfoPro!B144),\"\",InfoPro!B144)","v":""},{"$f":"IF(ISBLANK(InfoPro!E144),\"\",InfoPro!E144)","v":""},{"$f":"IF(ISBLANK(InfoPro!N144),\"\",InfoPro!N144)","v":""},{"$f":"IF(ISBLANK(InfoPro!I144),\"\",YEAR(InfoPro!I144)-$J$2)","v":""},"",""]
[null,{"$f":"IF(ISBLANK(InfoPro!A145),\"\",InfoPro!A145)","v":""},{"$f":"IF(ISBLANK(InfoPro!B145),\"\",InfoPro!B145)","v":""},{"$f":"IF(ISBLANK(InfoPro!E145),\"\",InfoPro!E145)","v":""},{"$f":"IF(ISBLANK(InfoPro!N145),\"\",InfoPro!N145)","v":""},{"$f":"IF(ISBLANK(InfoPro!I145),\"\",YEAR(InfoPro!I145)-$J$2)","v":""},"",""]
[null,{"$f":"IF(ISBLANK(InfoPro!A146),\"\",InfoPro!A146)","v":""},{"$f":"IF(ISBLANK(InfoPro!B146),\"\",InfoPro!B146)","v":""},{"$f":"IF(ISBLANK(InfoPro!E146),\"\",InfoPro!E146)","v":""},{"$f":"IF(ISBLANK(InfoPro!N146),\"\",InfoPro!N146)","v":""},{"$f":"IF(ISBLANK(InfoPro!I146),\"\",YEAR(InfoPro!I146)-$J$2)","v":""},"",""]
[null,{"$f":"IF(ISBLANK(InfoPro!A147),\"\",InfoPro!A147)","v":""},{"$f":"IF(ISBLANK(InfoPro!B147),\"\",InfoPro!B147)","v":""},{"$f":"IF(ISBLANK(InfoPro!E147),\"\",InfoPro!E147)","v":""},{"$f":"IF(ISBLANK(InfoPro!N147),\"\",InfoPro!N147)","v":""},{"$f":"IF(ISBLANK(InfoPro!I147),\"\",YEAR(InfoPro!I147)-$J$2)","v":""},"",""]
[null,{"$f":"IF(ISBLANK(InfoPro!A148),\"\",InfoPro!A148)","v":""},{"$f":"IF(ISBLANK(InfoPro!B148),\"\",InfoPro!B148)","v":""},{"$f":"IF(ISBLANK(InfoPro!E148),\"\",InfoPro!E148)","v":""},{"$f":"IF(ISBLANK(InfoPro!N148),\"\",InfoPro!N148)","v":""},{"$f":"IF(ISBLANK(InfoPro!I148),\"\",YEAR(InfoPro!I148)-$J$2)","v":""},"",""]
[null,{"$f":"IF(ISBLANK(InfoPro!A149),\"\",InfoPro!A149)","v":""},{"$f":"IF(ISBLANK(InfoPro!B149),\"\",InfoPro!B149)","v":""},{"$f":"IF(ISBLANK(InfoPro!E149),\"\",InfoPro!E149)","v":""},{"$f":"IF(ISBLANK(InfoPro!N149),\"\",InfoPro!N149)","v":""},{"$f":"IF(ISBLANK(InfoPro!I149),\"\",YEAR(InfoPro!I149)-$J$2)","v":""},"",""]
[null,{"$f":"IF(ISBLANK(InfoPro!A150),\"\",InfoPro!A150)","v":""},{"$f":"IF(ISBLANK(InfoPro!B150),\"\",InfoPro!B150)","v":""},{"$f":"IF(ISBLANK(InfoPro!E150),\"\",InfoPro!E150)","v":""},{"$f":"IF(ISBLANK(InfoPro!N150),\"\",InfoPro!N150)","v":""},{"$f":"IF(ISBLANK(InfoPro!I150),\"\",YEAR(InfoPro!I150)-$J$2)","v":""},"",""]
[null,{"$f":"IF(ISBLANK(InfoPro!A151),\"\",InfoPro!A151)","v":""},{"$f":"IF(ISBLANK(InfoPro!B151),\"\",InfoPro!B151)","v":""},{"$f":"IF(ISBLANK(InfoPro!E151),\"\",InfoPro!E151)","v":""},{"$f":"IF(ISBLANK(InfoPro!N151),\"\",InfoPro!N151)","v":""},{"$f":"IF(ISBLANK(InfoPro!I151),\"\",YEAR(InfoPro!I151)-$J$2)","v":""},"",""]
[null,{"$f":"IF(ISBLANK(InfoPro!A152),\"\",InfoPro!A152)","v":""},{"$f":"IF(ISBLANK(InfoPro!B152),\"\",InfoPro!B152)","v":""},{"$f":"IF(ISBLANK(InfoPro!E152),\"\",InfoPro!E152)","v":""},{"$f":"IF(ISBLANK(InfoPro!N152),\"\",InfoPro!N152)","v":""},{"$f":"IF(ISBLANK(InfoPro!I152),\"\",YEAR(InfoPro!I152)-$J$2)","v":""},"",""]
[null,{"$f":"IF(ISBLANK(InfoPro!A153),\"\",InfoPro!A153)","v":""},{"$f":"IF(ISBLANK(InfoPro!B153),\"\",InfoPro!B153)","v":""},{"$f":"IF(ISBLANK(InfoPro!E153),\"\",InfoPro!E153)","v":""},{"$f":"IF(ISBLANK(InfoPro!N153),\"\",InfoPro!N153)","v":""},{"$f":"IF(ISBLANK(InfoPro!I153),\"\",YEAR(InfoPro!I153)-$J$2)","v":""},"",""]
[null,{"$f":"IF(ISBLANK(InfoPro!A154),\"\",InfoPro!A154)","v":""},{"$f":"IF(ISBLANK(InfoPro!B154),\"\",InfoPro!B154)","v":""},{"$f":"IF(ISBLANK(InfoPro!E154),\"\",InfoPro!E154)","v":""},{"$f":"IF(ISBLANK(InfoPro!N154),\"\",InfoPro!N154)","v":""},{"$f":"IF(ISBLANK(InfoPro!I154),\"\",YEAR(InfoPro!I154)-$J$2)","v":""},"",""]
[null,{"$f":"IF(ISBLANK(InfoPro!A155),\"\",InfoPro!A155)","v":""},{"$f":"IF(ISBLANK(InfoPro!B155),\"\",InfoPro!B155)","v":""},{"$f":"IF(ISBLANK(InfoPro!E155),\"\",InfoPro!E155)","v":""},{"$f":"IF(ISBLANK(InfoPro!N155),\"\",InfoPro!N155)","v":""},{"$f":"IF(ISBLANK(InfoPro!I155),\"\",YEAR(InfoPro!I155)-$J$2)","v":""},"",""]
[null,{"$f":"IF(ISBLANK(InfoPro!A156),\"\",InfoPro!A156)","v":""},{"$f":"IF(ISBLANK(InfoPro!B156),\"\",InfoPro!B156)","v":""},{"$f":"IF(ISBLANK(InfoPro!E156),\"\",InfoPro!E156)","v":""},{"$f":"IF(ISBLANK(InfoPro!N156),\"\",InfoPro!N156)","v":""},{"$f":"IF(ISBLANK(InfoPro!I156),\"\",YEAR(InfoPro!I156)-$J$2)","v":""},"",""]
[null,{"$f":"IF(ISBLANK(InfoPro!A157),\"\",InfoPro!A157)","v":""},{"$f":"IF(ISBLANK(InfoPro!B157),\"\",InfoPro!B157)","v":""},{"$f":"IF(ISBLANK(InfoPro!E157),\"\",InfoPro!E157)","v":""},{"$f":"IF(ISBLANK(InfoPro!N157),\"\",InfoPro!N157)","v":""},{"$f":"IF(ISBLANK(InfoPro!I157),\"\",YEAR(InfoPro!I157)-$J$2)","v":""},"",""]
[null,{"$f":"IF(ISBLANK(InfoPro!A158),\"\",InfoPro!A158)","v":""},{"$f":"IF(ISBLANK(InfoPro!B158),\"\",InfoPro!B158)","v":""},{"$f":"IF(ISBLANK(InfoPro!E158),\"\",InfoPro!E158)","v":""},{"$f":"IF(ISBLANK(InfoPro!N158),\"\",InfoPro!N158)","v":""},{"$f":"IF(ISBLANK(InfoPro!I158),\"\",YEAR(InfoPro!I158)-$J$2)","v":""},"",""]
[null,{"$f":"IF(ISBLANK(InfoPro!A159),\"\",InfoPro!A159)","v":""},{"$f":"IF(ISBLANK(InfoPro!B159),\"\",InfoPro!B159)","v":""},{"$f":"IF(ISBLANK(InfoPro!E159),\"\",InfoPro!E159)","v":""},{"$f":"IF(ISBLANK(InfoPro!N159),\"\",InfoPro!N159)","v":""},{"$f":"IF(ISBLANK(InfoPro!I159),\"\",YEAR(InfoPro!I159)-$J$2)","v":""},"",""]
[null,{"$f":"IF(ISBLANK(InfoPro!A160),\"\",InfoPro!A160)","v":""},{"$f":"IF(ISBLANK(InfoPro!B160),\"\",InfoPro!B160)","v":""},{"$f":"IF(ISBLANK(InfoPro!E160),\"\",InfoPro!E160)","v":""},{"$f":"IF(ISBLANK(InfoPro!N160),\"\",InfoPro!N160)","v":""},{"$f":"IF(ISBLANK(InfoPro!I160),\"\",YEAR(InfoPro!I160)-$J$2)","v":""},"",""]
[null,{"$f":"IF(ISBLANK(InfoPro!A161),\"\",InfoPro!A161)","v":""},{"$f":"IF(ISBLANK(InfoPro!B161),\"\",InfoPro!B161)","v":""},{"$f":"IF(ISBLANK(InfoPro!E161),\"\",InfoPro!E161)","v":""},{"$f":"IF(ISBLANK(InfoPro!N161),\"\",InfoPro!N161)","v":""},{"$f":"IF(ISBLANK(InfoPro!I161),\"\",YEAR(InfoPro!I161)-$J$2)","v":""},"",""]
[null,{"$f":"IF(ISBLANK(InfoPro!A162),\"\",InfoPro!A162)","v":""},{"$f":"IF(ISBLANK(InfoPro!B162),\"\",InfoPro!B162)","v":""},{"$f":"IF(ISBLANK(InfoPro!E162),\"\",InfoPro!E162)","v":""},{"$f":"IF(ISBLANK(InfoPro!N162),\"\",InfoPro!N162)","v":""},{"$f":"IF(ISBLANK(InfoPro!I162),\"\",YEAR(InfoPro!I162)-$J$2)","v":""},"",""]
[null,{"$f":"IF(ISBLANK(InfoPro!A163),\"\",InfoPro!A163)","v":""},{"$f":"IF(ISBLANK(InfoPro!B163),\"\",InfoPro!B163)","v":""},{"$f":"IF(ISBLANK(InfoPro!E163),\"\",InfoPro!E163)","v":""},{"$f":"IF(ISBLANK(InfoPro!N163),\"\",InfoPro!N163)","v":""},{"$f":"IF(ISBLANK(InfoPro!I163),\"\",YEAR(InfoPro!I163)-$J$2)","v":""},"",""]
[null,{"$f":"IF(ISBLANK(InfoPro!A164),\"\",InfoPro!A164)","v":""},{"$f":"IF(ISBLANK(InfoPro!B164),\"\",InfoPro!B164)","v":""},{"$f":"IF(ISBLANK(InfoPro!E164),\"\",InfoPro!E164)","v":""},{"$f":"IF(ISBLANK(InfoPro!N164),\"\",InfoPro!N164)","v":""},{"$f":"IF(ISBLANK(InfoPro!I164),\"\",YEAR(InfoPro!I164)-$J$2)","v":""},"",""]
[null,{"$f":"IF(ISBLANK(InfoPro!A165),\"\",InfoPro!A165)","v":""},{"$f":"IF(ISBLANK(InfoPro!B165),\"\",InfoPro!B165)","v":""},{"$f":"IF(ISBLANK(InfoPro!E165),\"\",InfoPro!E165)","v":""},{"$f":"IF(ISBLANK(InfoPro!N165),\"\",InfoPro!N165)","v":""},{"$f":"IF(ISBLANK(InfoPro!I165),\"\",YEAR(InfoPro!I165)-$J$2)","v":""},"",""]
[null,{"$f":"IF(ISBLANK(InfoPro!A166),\"\",InfoPro!A166)","v":""},{"$f":"IF(ISBLANK(InfoPro!B166),\"\",InfoPro!B166)","v":""},{"$f":"IF(ISBLANK(InfoPro!E166),\"\",InfoPro!E166)","v":""},{"$f":"IF(ISBLANK(InfoPro!N166),\"\",InfoPro!N166)","v":""},{"$f":"IF(ISBLANK(InfoPro!I166),\"\",YEAR(InfoPro!I166)-$J$2)","v":""},"",""]
[null,{"$f":"IF(ISBLANK(InfoPro!A167),\"\",InfoPro!A167)","v":""},{"$f":"IF(ISBLANK(InfoPro!B167),\"\",InfoPro!B167)","v":""},{"$f":"IF(ISBLANK(InfoPro!E167),\"\",InfoPro!E167)","v":""},{"$f":"IF(ISBLANK(InfoPro!N167),\"\",InfoPro!N167)","v":""},{"$f":"IF(ISBLANK(InfoPro!I167),\"\",YEAR(InfoPro!I167)-$J$2)","v":""},"",""]
[null,{"$f":"IF(ISBLANK(InfoPro!A168),\"\",InfoPro!A168)","v":""},{"$f":"IF(ISBLANK(InfoPro!B168),\"\",InfoPro!B168)","v":""},{"$f":"IF(ISBLANK(InfoPro!E168),\"\",InfoPro!E168)","v":""},{"$f":"IF(ISBLANK(InfoPro!N168),\"\",InfoPro!N168)","v":""},{"$f":"IF(ISBLANK(InfoPro!I168),\"\",YEAR(InfoPro!I168)-$J$2)","v":""},"",""]
[null,{"$f":"IF(ISBLANK(InfoPro!A169),\"\",InfoPro!A169)","v":""},{"$f":"IF(ISBLANK(InfoPro!B169),\"\",InfoPro!B169)","v":""},{"$f":"IF(ISBLANK(InfoPro!E169),\"\",InfoPro!E169)","v":""},{"$f":"IF(ISBLANK(InfoPro!N169),\"\",InfoPro!N169)","v":""},{"$f":"IF(ISBLANK(InfoPro!I169),\"\",YEAR(InfoPro!I169)-$J$2)","v":""},"",""]
[null,{"$f":"IF(ISBLANK(InfoPro!A170),\"\",InfoPro!A170)","v":""},{"$f":"IF(ISBLANK(InfoPro!B170),\"\",InfoPro!B170)","v":""},{"$f":"IF(ISBLANK(InfoPro!E170),\"\",InfoPro!E170)","v":""},{"$f":"IF(ISBLANK(InfoPro!N170),\"\",InfoPro!N170)","v":""},{"$f":"IF(ISBLANK(InfoPro!I170),\"\",YEAR(InfoPro!I170)-$J$2)","v":""},"",""]
[null,{"$f":"IF(ISBLANK(InfoPro!A171),\"\",InfoPro!A171)","v":""},{"$f":"IF(ISBLANK(InfoPro!B171),\"\",InfoPro!B171)","v":""},{"$f":"IF(ISBLANK(InfoPro!E171),\"\",InfoPro!E171)","v":""},{"$f":"IF(ISBLANK(InfoPro!N171),\"\",InfoPro!N171)","v":""},{"$f":"IF(ISBLANK(InfoPro!I171),\"\",YEAR(InfoPro!I171)-$J$2)","v":""},"",""]
[null,{"$f":"IF(ISBLANK(InfoPro!A172),\"\",InfoPro!A172)","v":""},{"$f":"IF(ISBLANK(InfoPro!B172),\"\",InfoPro!B172)","v":""},{"$f":"IF(ISBLANK(InfoPro!E172),\"\",InfoPro!E172)","v":""},{"$f":"IF(ISBLANK(InfoPro!N172),\"\",InfoPro!N172)","v":""},{"$f":"IF(ISBLANK(InfoPro!I172),\"\",YEAR(InfoPro!I172)-$J$2)","v":""},"",""]
[null,{"$f":"IF(ISBLANK(InfoPro!A173),\"\",InfoPro!A173)","v":""},{"$f":"IF(ISBLANK(InfoPro!B173),\"\",InfoPro!B173)","v":""},{"$f":"IF(ISBLANK(InfoPro!E173),\"\",InfoPro!E173)","v":""},{"$f":"IF(ISBLANK(InfoPro!N173),\"\",InfoPro!N173)","v":""},{"$f":"IF(ISBLANK(InfoPro!I173),\"\",YEAR(InfoPro!I173)-$J$2)","v":""},"",""]
[null,{"$f":"IF(ISBLANK(InfoPro!A174),\"\",InfoPro!A174)","v":""},{"$f":"IF(ISBLANK(InfoPro!B174),\"\",InfoPro!B174)","v":""},{"$f":"IF(ISBLANK(InfoPro!E174),\"\",InfoPro!E174)","v":""},{"$f":"IF(ISBLANK(InfoPro!N174),\"\",InfoPro!N174)","v":""},{"$f":"IF(ISBLANK(InfoPro!I174),\"\",YEAR(InfoPro!I174)-$J$2)","v":""},"",""]
[null,{"$f":"IF(ISBLANK(InfoPro!A175),\"\",InfoPro!A175)","v":""},{"$f":"IF(ISBLANK(InfoPro!B175),\"\",InfoPro!B175)","v":""},{"$f":"IF(ISBLANK(InfoPro!E175),\"\",InfoPro!E175)","v":""},{"$f":"IF(ISBLANK(InfoPro!N175),\"\",InfoPro!N175)","v":""},{"$f":"IF(ISBLANK(InfoPro!I175),\"\",YEAR(InfoPro!I175)-$J$2)","v":""},"",""]
[null,{"$f":"IF(ISBLANK(InfoPro!A176),\"\",InfoPro!A176)","v":""},{"$f":"IF(ISBLANK(InfoPro!B176),\"\",InfoPro!B176)","v":""},{"$f":"IF(ISBLANK(InfoPro!E176),\"\",InfoPro!E176)","v":""},{"$f":"IF(ISBLANK(InfoPro!N176),\"\",InfoPro!N176)","v":""},{"$f":"IF(ISBLANK(InfoPro!I176),\"\",YEAR(InfoPro!I176)-$J$2)","v":""},"",""]
[null,{"$f":"IF(ISBLANK(InfoPro!A177),\"\",InfoPro!A177)","v":""},{"$f":"IF(ISBLANK(InfoPro!B177),\"\",InfoPro!B177)","v":""},{"$f":"IF(ISBLANK(InfoPro!E177),\"\",InfoPro!E177)","v":""},{"$f":"IF(ISBLANK(InfoPro!N177),\"\",InfoPro!N177)","v":""},{"$f":"IF(ISBLANK(InfoPro!I177),\"\",YEAR(InfoPro!I177)-$J$2)","v":""},"",""]
[null,{"$f":"IF(ISBLANK(InfoPro!A178),\"\",InfoPro!A178)","v":""},{"$f":"IF(ISBLANK(InfoPro!B178),\"\",InfoPro!B178)","v":""},{"$f":"IF(ISBLANK(InfoPro!E178),\"\",InfoPro!E178)","v":""},{"$f":"IF(ISBLANK(InfoPro!N178),\"\",InfoPro!N178)","v":""},{"$f":"IF(ISBLANK(InfoPro!I178),\"\",YEAR(InfoPro!I178)-$J$2)","v":""},"",""]
[null,{"$f":"IF(ISBLANK(InfoPro!A179),\"\",InfoPro!A179)","v":""},{"$f":"IF(ISBLANK(InfoPro!B179),\"\",InfoPro!B179)","v":""},{"$f":"IF(ISBLANK(InfoPro!E179),\"\",InfoPro!E179)","v":""},{"$f":"IF(ISBLANK(InfoPro!N179),\"\",InfoPro!N179)","v":""},{"$f":"IF(ISBLANK(InfoPro!I179),\"\",YEAR(InfoPro!I179)-$J$2)","v":""},"",""]
[null,{"$f":"IF(ISBLANK(InfoPro!A180),\"\",InfoPro!A180)","v":""},{"$f":"IF(ISBLANK(InfoPro!B180),\"\",InfoPro!B180)","v":""},{"$f":"IF(ISBLANK(InfoPro!E180),\"\",InfoPro!E180)","v":""},{"$f":"IF(ISBLANK(InfoPro!N180),\"\",InfoPro!N180)","v":""},{"$f":"IF(ISBLANK(InfoPro!I180),\"\",YEAR(InfoPro!I180)-$J$2)","v":""},"",""]
[null,{"$f":"IF(ISBLANK(InfoPro!A181),\"\",InfoPro!A181)","v":""},{"$f":"IF(ISBLANK(InfoPro!B181),\"\",InfoPro!B181)","v":""},{"$f":"IF(ISBLANK(InfoPro!E181),\"\",InfoPro!E181)","v":""},{"$f":"IF(ISBLANK(InfoPro!N181),\"\",InfoPro!N181)","v":""},{"$f":"IF(ISBLANK(InfoPro!I181),\"\",YEAR(InfoPro!I181)-$J$2)","v":""},"",""]
[null,{"$f":"IF(ISBLANK(InfoPro!A182),\"\",InfoPro!A182)","v":""},{"$f":"IF(ISBLANK(InfoPro!B182),\"\",InfoPro!B182)","v":""},{"$f":"IF(ISBLANK(InfoPro!E182),\"\",InfoPro!E182)","v":""},{"$f":"IF(ISBLANK(InfoPro!N182),\"\",InfoPro!N182)","v":""},{"$f":"IF(ISBLANK(InfoPro!I182),\"\",YEAR(InfoPro!I182)-$J$2)","v":""},"",""]
[null,{"$f":"IF(ISBLANK(InfoPro!A183),\"\",InfoPro!A183)","v":""},{"$f":"IF(ISBLANK(InfoPro!B183),\"\",InfoPro!B183)","v":""},{"$f":"IF(ISBLANK(InfoPro!E183),\"\",InfoPro!E183)","v":""},{"$f":"IF(ISBLANK(InfoPro!N183),\"\",InfoPro!N183)","v":""},{"$f":"IF(ISBLANK(InfoPro!I183),\"\",YEAR(InfoPro!I183)-$J$2)","v":""},"",""]
[null,{"$f":"IF(ISBLANK(InfoPro!A184),\"\",InfoPro!A184)","v":""},{"$f":"IF(ISBLANK(InfoPro!B184),\"\",InfoPro!B184)","v":""},{"$f":"IF(ISBLANK(InfoPro!E184),\"\",InfoPro!E184)","v":""},{"$f":"IF(ISBLANK(InfoPro!N184),\"\",InfoPro!N184)","v":""},{"$f":"IF(ISBLANK(InfoPro!I184),\"\",YEAR(InfoPro!I184)-$J$2)","v":""},"",""]
[null,{"$f":"IF(ISBLANK(InfoPro!A185),\"\",InfoPro!A185)","v":""},{"$f":"IF(ISBLANK(InfoPro!B185),\"\",InfoPro!B185)","v":""},{"$f":"IF(ISBLANK(InfoPro!E185),\"\",InfoPro!E185)","v":""},{"$f":"IF(ISBLANK(InfoPro!N185),\"\",InfoPro!N185)","v":""},{"$f":"IF(ISBLANK(InfoPro!I185),\"\",YEAR(InfoPro!I185)-$J$2)","v":""},"",""]
[null,{"$f":"IF(ISBLANK(InfoPro!A186),\"\",InfoPro!A186)","v":""},{"$f":"IF(ISBLANK(InfoPro!B186),\"\",InfoPro!B186)","v":""},{"$f":"IF(ISBLANK(InfoPro!E186),\"\",InfoPro!E186)","v":""},{"$f":"IF(ISBLANK(InfoPro!N186),\"\",InfoPro!N186)","v":""},{"$f":"IF(ISBLANK(InfoPro!I186),\"\",YEAR(InfoPro!I186)-$J$2)","v":""},"",""]
[null,{"$f":"IF(ISBLANK(InfoPro!A187),\"\",InfoPro!A187)","v":""},{"$f":"IF(ISBLANK(InfoPro!B187),\"\",InfoPro!B187)","v":""},{"$f":"IF(ISBLANK(InfoPro!E187),\"\",InfoPro!E187)","v":""},{"$f":"IF(ISBLANK(InfoPro!N187),\"\",InfoPro!N187)","v":""},{"$f":"IF(ISBLANK(InfoPro!I187),\"\",YEAR(InfoPro!I187)-$J$2)","v":""},"",""]

{"sheet":"EC-RE","index":4,"n_rows":202,"n_cols":26,"rows_kept":202,"cut":false,"hidden":false,"merged":[]}
[]
[]
[null,"Factor emisiones sistema",0.12728300000000001,"Ton/MWh",null,"Año de Referencia",2023]
[null,"Tasa de descuento",0.11799999999999999,null,null,"Mínimo",{"$f":"MIN(Z9:Z400)","v":-17642891.425462402}]
[null,"Costo emisiones Ton",91.94,"USD/Ton"]
[null,"TRM",4070,"COP/USD"]
[null,null,null,null,null,null,null,null,null,0,1,2,3,4,5,6,7,8,9,10,11,12,13,14]
["Codigo","Nombre","capacidad","tipo","Año de entrada","FP","Factor emisiones","Produccion media/a MWh/a","Emisiones evitadas Ton/a","Flujo Descontado 0","Flujo Descontado 1","Flujo Descontado 2","Flujo Descontado 3","Flujo Descontado 4","Flujo Descontado 5","Flujo Descontado 6","Flujo Descontado 7","Flujo Descontado 8","Flujo Descontado 9","Flujo Descontado 10","Flujo Descontado 11","Flujo Descontado 12","Flujo Descontado 13","Flujo Descontado 14","VPN","(Beneficio)/kW"]
[{"$f":"IF(ISBLANK(InfoPro!A2),\"\",InfoPro!A2)","v":"SC_1323_A1"},{"$f":"IF(ISBLANK(InfoPro!B2),\"\",InfoPro!B2)","v":"GEN ARAUCA"},{"$f":"IF(ISBLANK(InfoPro!E2),\"\",InfoPro!E2)","v":30},{"$f":"IF(ISBLANK(InfoPro!F2),\"\",InfoPro!F2)","v":"Termica - Ciclo Abierto"},{"$f":"IF(ISBLANK(InfoPro!I2),\"\",YEAR(InfoPro!I2)-$G$3)","v":0},{"$f":"IF(B9=\"\",\"\",VLOOKUP(D9,Tablas!$B$2:$E$13,2,FALSE))","v":0.85},{"$f":"IF(B9=\"\",\"\",VLOOKUP(D9,Tablas!$B$2:$G$13,6,FALSE))","v":0.95},{"$f":"IF(C9=\"\",\"\",+C9*F9*24*365)","v":223380},{"$f":"IF(H9=\"\",\"\",+H9*($C$3-G9))","v":-183778.52346},{"$f":"IF($I9=\"\",\"\",(1/(1+$C$4)^(J$7+$E9))*$I9*$C$5)","v":-16896597.4469124},{"$f":"IF($I9=\"\",\"\",(1/(1+$C$4)^(K$7+$E9))*$I9*$C$5)","v":-15113235.641245438},-13518099.858001286,-12091323.665475216,-10815137.446757795,-9673647.0901232529,-8652636.037677329,-7739388.2269027987,-6922529.7199488357,-6191887.048254773,-5538360.5082779722,-4953810.8303023018,-4430957.8088571578,-3963289.6322514834,-3544981.7819780712,{"$f":"IF(X9=\"\",\"\",SUM(J9:X9)*$C$6)","v":-529286742763.87207},{"$f":"IF(C9=0,0,IF(Y9=\"\",\"\",Y9/(C9*1000)))","v":-17642891.425462402}]
[{"$f":"IF(ISBLANK(InfoPro!A3),\"\",InfoPro!A3)","v":"SC_1323_A2"},{"$f":"IF(ISBLANK(InfoPro!B3),\"\",InfoPro!B3)","v":"GEN ARAUCA"},{"$f":"IF(ISBLANK(InfoPro!E3),\"\",InfoPro!E3)","v":30},{"$f":"IF(ISBLANK(InfoPro!F3),\"\",InfoPro!F3)","v":"Termica - Ciclo Abierto"},{"$f":"IF(ISBLANK(InfoPro!I3),\"\",YEAR(InfoPro!I3)-$G$3)","v":0},{"$f":"IF(B10=\"\",\"\",VLOOKUP(D10,Tablas!$B$2:$E$13,2,FALSE))","v":0.85},{"$f":"IF(B10=\"\",\"\",VLOOKUP(D10,Tablas!$B$2:$G$13,6,FALSE))","v":0.95},{"$f":"IF(C10=\"\",\"\",+C10*F10*24*365)","v":223380},{"$f":"IF(H10=\"\",\"\",+H10*($C$3-G10))","v":-183778.52346},-16896597.4469124,-15113235.641245438,-13518099.858001286,-12091323.665475216,-10815137.446757795,-9673647.0901232529,-8652636.037677329,-7739388.2269027987,-6922529.7199488357,-6191887.048254773,-5538360.5082779722,-4953810.8303023018,-4430957.8088571578,-3963289.6322514834,-3544981.7819780712,{"$f":"IF(X10=\"\",\"\",SUM(J10:X10)*$C$6)","v":-529286742763.87207},{"$f":"IF(C10=0,0,IF(Y10=\"\",\"\",Y10/(C10*1000)))","v":-17642891.425462402}]
[{"$f":"IF(ISBLANK(InfoPro!A4),\"\",InfoPro!A4)","v":"SC_1323_A3"},{"$f":"IF(ISBLANK(InfoPro!B4),\"\",InfoPro!B4)","v":"GEN ARAUCA"},{"$f":"IF(ISBLANK(InfoPro!E4),\"\",InfoPro!E4)","v":30},{"$f":"IF(ISBLANK(InfoPro!F4),\"\",InfoPro!F4)","v":"Termica - Ciclo Abierto"},{"$f":"IF(ISBLANK(InfoPro!I4),\"\",YEAR(InfoPro!I4)-$G$3)","v":0},{"$f":"IF(B11=\"\",\"\",VLOOKUP(D11,Tablas!$B$2:$E$13,2,FALSE))","v":0.85},{"$f":"IF(B11=\"\",\"\",VLOOKUP(D11,Tablas!$B$2:$G$13,6,FALSE))","v":0.95},{"$f":"IF(C11=\"\",\"\",+C11*F11*24*365)","v":223380},-183778.52346,-16896597.4469124,-15113235.641245438,-13518099.858001286,-12091323.665475216,-10815137.446757795,-9673647.0901232529,-8652636.037677329,-7739388.2269027987,-6922529.7199488357,-6191887.048254773,-5538360.5082779722,-4953810.8303023018,-4430957.8088571578,-3963289.6322514834,-3544981.7819780712,-529286742763.87207,-17642891.425462402]
[{"$f":"IF(ISBLANK(InfoPro!A5),\"\",InfoPro!A5)","v":""},{"$f":"IF(ISBLANK(InfoPro!B5),\"\",InfoPro!B5)","v":""},{"$f":"IF(ISBLANK(InfoPro!E5),\"\",InfoPro!E5)","v":""},{"$f":"IF(ISBLANK(InfoPro!F5),\"\",InfoPro!F5)","v":""},{"$f":"IF(ISBLANK(InfoPro!I5),\"\",YEAR(InfoPro!I5)-$G$3)","v":""},{"$f":"IF(B12=\"\",\"\",VLOOKUP(D12,Tablas!$B$2:$E$13,2,FALSE))","v":""},{"$f":"IF(B12=\"\",\"\",VLOOKUP(D12,Tablas!$B$2:$G$13,6,FALSE))","v":""},"","","","","","","","","","","","","","","","","","",""]
[{"$f":"IF(ISBLANK(InfoPro!A6),\"\",InfoPro!A6)","v":""},{"$f":"IF(ISBLANK(InfoPro!B6),\"\",InfoPro!B6)","v":""},{"$f":"IF(ISBLANK(InfoPro!E6),\"\",InfoPro!E6)","v":""},{"$f":"IF(ISBLANK(InfoPro!F6),\"\",InfoPro!F6)","v":""},{"$f":"IF(ISBLANK(InfoPro!I6),\"\",YEAR(InfoPro!I6)-$G$3)","v":""},{"$f":"IF(B13=\"\",\"\",VLOOKUP(D13,Tablas!$B$2:$E$13,2,FALSE))","v":""},{"$f":"IF(B13=\"\",\"\",VLOOKUP(D13,Tablas!$B$2:$G$13,6,FALSE))","v":""},"","","","","","","","","","","","","","","","","","",""]
[{"$f":"IF(ISBLANK(InfoPro!A7),\"\",InfoPro!A7)","v":""},{"$f":"IF(ISBLANK(InfoPro!B7),\"\",InfoPro!B7)","v":""},{"$f":"IF(ISBLANK(InfoPro!E7),\"\",InfoPro!E7)","v":""},{"$f":"IF(ISBLANK(InfoPro!F7),\"\",InfoPro!F7)","v":""},{"$f":"IF(ISBLANK(InfoPro!I7),\"\",YEAR(InfoPro!I7)-$G$3)","v":""},{"$f":"IF(B14=\"\",\"\",VLOOKUP(D14,Tablas!$B$2:$E$13,2,FALSE))","v":""},{"$f":"IF(B14=\"\",\"\",VLOOKUP(D14,Tablas!$B$2:$G$13,6,FALSE))","v":""},"","","","","","","","","","","","","","","","","","",""]
[{"$f":"IF(ISBLANK(InfoPro!A8),\"\",InfoPro!A8)","v":""},{"$f":"IF(ISBLANK(InfoPro!B8),\"\",InfoPro!B8)","v":""},{"$f":"IF(ISBLANK(InfoPro!E8),\"\",InfoPro!E8)","v":""},{"$f":"IF(ISBLANK(InfoPro!F8),\"\",InfoPro!F8)","v":""},{"$f":"IF(ISBLANK(InfoPro!I8),\"\",YEAR(InfoPro!I8)-$G$3)","v":""},{"$f":"IF(B15=\"\",\"\",VLOOKUP(D15,Tablas!$B$2:$E$13,2,FALSE))","v":""},{"$f":"IF(B15=\"\",\"\",VLOOKUP(D15,Tablas!$B$2:$G$13,6,FALSE))","v":""},"","","","","","","","","","","","","","","","","","",""]
[{"$f":"IF(ISBLANK(InfoPro!A9),\"\",InfoPro!A9)","v":""},{"$f":"IF(ISBLANK(InfoPro!B9),\"\",InfoPro!B9)","v":""},{"$f":"IF(ISBLANK(InfoPro!E9),\"\",InfoPro!E9)","v":""},{"$f":"IF(ISBLANK(InfoPro!F9),\"\",InfoPro!F9)","v":""},{"$f":"IF(ISBLANK(InfoPro!I9),\"\",YEAR(InfoPro!I9)-$G$3)","v":""},{"$f":"IF(B16=\"\",\"\",VLOOKUP(D16,Tablas!$B$2:$E$13,2,FALSE))","v":""},{"$f":"IF(B16=\"\",\"\",VLOOKUP(D16,Tablas!$B$2:$G$13,6,FALSE))","v":""},"","","","","","","","","","","","","","","","","","",""]
[{"$f":"IF(ISBLANK(InfoPro!A10),\"\",InfoPro!A10)","v":""},{"$f":"IF(ISBLANK(InfoPro!B10),\"\",InfoPro!B10)","v":""},{"$f":"IF(ISBLANK(InfoPro!E10),\"\",InfoPro!E10)","v":""},{"$f":"IF(ISBLANK(InfoPro!F10),\"\",InfoPro!F10)","v":""},{"$f":"IF(ISBLANK(InfoPro!I10),\"\",YEAR(InfoPro!I10)-$G$3)","v":""},{"$f":"IF(B17=\"\",\"\",VLOOKUP(D17,Tablas!$B$2:$E$13,2,FALSE))","v":""},{"$f":"IF(B17=\"\",\"\",VLOOKUP(D17,Tablas!$B$2:$G$13,6,FALSE))","v":""},"","","","","","","","","","","","","","","","","","",""]
[{"$f":"IF(ISBLANK(InfoPro!A11),\"\",InfoPro!A11)","v":""},{"$f":"IF(ISBLANK(InfoPro!B11),\"\",InfoPro!B11)","v":""},{"$f":"IF(ISBLANK(InfoPro!E11),\"\",InfoPro!E11)","v":""},{"$f":"IF(ISBLANK(InfoPro!F11),\"\",InfoPro!F11)","v":""},{"$f":"IF(ISBLANK(InfoPro!I11),\"\",YEAR(InfoPro!I11)-$G$3)","v":""},{"$f":"IF(B18=\"\",\"\",VLOOKUP(D18,Tablas!$B$2:$E$13,2,FALSE))","v":""},{"$f":"IF(B18=\"\",\"\",VLOOKUP(D18,Tablas!$B$2:$G$13,6,FALSE))","v":""},"","","","","","","","","","","","","","","","","","",""]
[{"$f":"IF(ISBLANK(InfoPro!A12),\"\",InfoPro!A12)","v":""},{"$f":"IF(ISBLANK(InfoPro!B12),\"\",InfoPro!B12)","v":""},{"$f":"IF(ISBLANK(InfoPro!E12),\"\",InfoPro!E12)","v":""},{"$f":"IF(ISBLANK(InfoPro!F12),\"\",InfoPro!F12)","v":""},{"$f":"IF(ISBLANK(InfoPro!I12),\"\",YEAR(InfoPro!I12)-$G$3)","v":""},{"$f":"IF(B19=\"\",\"\",VLOOKUP(D19,Tablas!$B$2:$E$13,2,FALSE))","v":""},{"$f":"IF(B19=\"\",\"\",VLOOKUP(D19,Tablas!$B$2:$G$13,6,FALSE))","v":""},"","",{"$f":"IF($I19=\"\",\"\",(1/(1+$C$4)^(J$7+$E19))*$I19*$C$5)","v":""},"","","","","","","","","","","","","","","",""]
[{"$f":"IF(ISBLANK(InfoPro!A13),\"\",InfoPro!A13)","v":""},{"$f":"IF(ISBLANK(InfoPro!B13),\"\",InfoPro!B13)","v":""},{"$f":"IF(ISBLANK(InfoPro!E13),\"\",InfoPro!E13)","v":""},{"$f":"IF(ISBLANK(InfoPro!F13),\"\",InfoPro!F13)","v":""},{"$f":"IF(ISBLANK(InfoPro!I13),\"\",YEAR(InfoPro!I13)-$G$3)","v":""},{"$f":"IF(B20=\"\",\"\",VLOOKUP(D20,Tablas!$B$2:$E$13,2,FALSE))","v":""},{"$f":"IF(B20=\"\",\"\",VLOOKUP(D20,Tablas!$B$2:$G$13,6,FALSE))","v":""},"","","","","","","","","","","","","","","","","","",""]
[{"$f":"IF(ISBLANK(InfoPro!A14),\"\",InfoPro!A14)","v":""},{"$f":"IF(ISBLANK(InfoPro!B14),\"\",InfoPro!B14)","v":""},{"$f":"IF(ISBLANK(InfoPro!E14),\"\",InfoPro!E14)","v":""},{"$f":"IF(ISBLANK(InfoPro!F14),\"\",InfoPro!F14)","v":""},{"$f":"IF(ISBLANK(InfoPro!I14),\"\",YEAR(InfoPro!I14)-$G$3)","v":""},{"$f":"IF(B21=\"\",\"\",VLOOKUP(D21,Tablas!$B$2:$E$13,2,FALSE))","v":""},{"$f":"IF(B21=\"\",\"\",VLOOKUP(D21,Tablas!$B$2:$G$13,6,FALSE))","v":""},"","","","","","","","","","","","","","","","","","",""]
[{"$f":"IF(ISBLANK(InfoPro!A15),\"\",InfoPro!A15)","v":""},{"$f":"IF(ISBLANK(InfoPro!B15),\"\",InfoPro!B15)","v":""},{"$f":"IF(ISBLANK(InfoPro!E15),\"\",InfoPro!E15)","v":""},{"$f":"IF(ISBLANK(InfoPro!F15),\"\",InfoPro!F15)","v":""},{"$f":"IF(ISBLANK(InfoPro!I15),\"\",YEAR(InfoPro!I15)-$G$3)","v":""},{"$f":"IF(B22=\"\",\"\",VLOOKUP(D22,Tablas!$B$2:$E$13,2,FALSE))","v":""},{"$f":"IF(B22=\"\",\"\",VLOOKUP(D22,Tablas!$B$2:$G$13,6,FALSE))","v":""},"","","","","","","","","","","","","","","","","","",""]
[{"$f":"IF(ISBLANK(InfoPro!A16),\"\",InfoPro!A16)","v":""},{"$f":"IF(ISBLANK(InfoPro!B16),\"\",InfoPro!B16)","v":""},{"$f":"IF(ISBLANK(InfoPro!E16),\"\",InfoPro!E16)","v":""},{"$f":"IF(ISBLANK(InfoPro!F16),\"\",InfoPro!F16)","v":""},{"$f":"IF(ISBLANK(InfoPro!I16),\"\",YEAR(InfoPro!I16)-$G$3)","v":""},{"$f":"IF(B23=\"\",\"\",VLOOKUP(D23,Tablas!$B$2:$E$13,2,FALSE))","v":""},{"$f":"IF(B23=\"\",\"\",VLOOKUP(D23,Tablas!$B$2:$G$13,6,FALSE))","v":""},"","","","","","","","","","","","","","","","","","",""]
[{"$f":"IF(ISBLANK(InfoPro!A17),\"\",InfoPro!A17)","v":""},{"$f":"IF(ISBLANK(InfoPro!B17),\"\",InfoPro!B17)","v":""},{"$f":"IF(ISBLANK(InfoPro!E17),\"\",InfoPro!E17)","v":""},{"$f":"IF(ISBLANK(InfoPro!F17),\"\",InfoPro!F17)","v":""},{"$f":"IF(ISBLANK(InfoPro!I17),\"\",YEAR(InfoPro!I17)-$G$3)","v":""},{"$f":"IF(B24=\"\",\"\",VLOOKUP(D24,Tablas!$B$2:$E$13,2,FALSE))","v":""},{"$f":"IF(B24=\"\",\"\",VLOOKUP(D24,Tablas!$B$2:$G$13,6,FALSE))","v":""},"","","","","","","","","","","","","","","","","","",""]
[{"$f":"IF(ISBLANK(InfoPro!A18),\"\",InfoPro!A18)","v":""},{"$f":"IF(ISBLANK(InfoPro!B18),\"\",InfoPro!B18)","v":""},{"$f":"IF(ISBLANK(InfoPro!E18),\"\",InfoPro!E18)","v":""},{"$f":"IF(ISBLANK(InfoPro!F18),\"\",InfoPro!F18)","v":""},{"$f":"IF(ISBLANK(InfoPro!I18),\"\",YEAR(InfoPro!I18)-$G$3)","v":""},{"$f":"IF(B25=\"\",\"\",VLOOKUP(D25,Tablas!$B$2:$E$13,2,FALSE))","v":""},{"$f":"IF(B25=\"\",\"\",VLOOKUP(D25,Tablas!$B$2:$G$13,6,FALSE))","v":""},"","","","","","","","","","","","","","","","","","",""]
[{"$f":"IF(ISBLANK(InfoPro!A19),\"\",InfoPro!A19)","v":""},{"$f":"IF(ISBLANK(InfoPro!B19),\"\",InfoPro!B19)","v":""},{"$f":"IF(ISBLANK(InfoPro!E19),\"\",InfoPro!E19)","v":""},{"$f":"IF(ISBLANK(InfoPro!F19),\"\",InfoPro!F19)","v":""},{"$f":"IF(ISBLANK(InfoPro!I19),\"\",YEAR(InfoPro!I19)-$G$3)","v":""},{"$f":"IF(B26=\"\",\"\",VLOOKUP(D26,Tablas!$B$2:$E$13,2,FALSE))","v":""},{"$f":"IF(B26=\"\",\"\",VLOOKUP(D26,Tablas!$B$2:$G$13,6,FALSE))","v":""},"","","","","","","","","","","","","","","","","","",""]
[{"$f":"IF(ISBLANK(InfoPro!A20),\"\",InfoPro!A20)","v":""},{"$f":"IF(ISBLANK(InfoPro!B20),\"\",InfoPro!B20)","v":""},{"$f":"IF(ISBLANK(InfoPro!E20),\"\",InfoPro!E20)","v":""},{"$f":"IF(ISBLANK(InfoPro!F20),\"\",InfoPro!F20)","v":""},{"$f":"IF(ISBLANK(InfoPro!I20),\"\",YEAR(InfoPro!I20)-$G$3)","v":""},{"$f":"IF(B27=\"\",\"\",VLOOKUP(D27,Tablas!$B$2:$E$13,2,FALSE))","v":""},{"$f":"IF(B27=\"\",\"\",VLOOKUP(D27,Tablas!$B$2:$G$13,6,FALSE))","v":""},"","","","","","","","","","","","","","","","","","",""]
[{"$f":"IF(ISBLANK(InfoPro!A21),\"\",InfoPro!A21)","v":""},{"$f":"IF(ISBLANK(InfoPro!B21),\"\",InfoPro!B21)","v":""},{"$f":"IF(ISBLANK(InfoPro!E21),\"\",InfoPro!E21)","v":""},{"$f":"IF(ISBLANK(InfoPro!F21),\"\",InfoPro!F21)","v":""},{"$f":"IF(ISBLANK(InfoPro!I21),\"\",YEAR(InfoPro!I21)-$G$3)","v":""},{"$f":"IF(B28=\"\",\"\",VLOOKUP(D28,Tablas!$B$2:$E$13,2,FALSE))","v":""},{"$f":"IF(B28=\"\",\"\",VLOOKUP(D28,Tablas!$B$2:$G$13,6,FALSE))","v":""},"","","","","","","","","","","","","","","","","","",""]
[{"$f":"IF(ISBLANK(InfoPro!A22),\"\",InfoPro!A22)","v":""},{"$f":"IF(ISBLANK(InfoPro!B22),\"\",InfoPro!B22)","v":""},{"$f":"IF(ISBLANK(InfoPro!E22),\"\",InfoPro!E22)","v":""},{"$f":"IF(ISBLANK(InfoPro!F22),\"\",InfoPro!F22)","v":""},{"$f":"IF(ISBLANK(InfoPro!I22),\"\",YEAR(InfoPro!I22)-$G$3)","v":""},{"$f":"IF(B29=\"\",\"\",VLOOKUP(D29,Tablas!$B$2:$E$13,2,FALSE))","v":""},{"$f":"IF(B29=\"\",\"\",VLOOKUP(D29,Tablas!$B$2:$G$13,6,FALSE))","v":""},"","",{"$f":"IF($I29=\"\",\"\",(1/(1+$C$4)^(J$7+$E29))*$I29*$C$5)","v":""},"","","","","","","","","","","","","","","",""]
[{"$f":"IF(ISBLANK(InfoPro!A23),\"\",InfoPro!A23)","v":""},{"$f":"IF(ISBLANK(InfoPro!B23),\"\",InfoPro!B23)","v":""},{"$f":"IF(ISBLANK(InfoPro!E23),\"\",InfoPro!E23)","v":""},{"$f":"IF(ISBLANK(InfoPro!F23),\"\",InfoPro!F23)","v":""},{"$f":"IF(ISBLANK(InfoPro!I23),\"\",YEAR(InfoPro!I23)-$G$3)","v":""},{"$f":"IF(B30=\"\",\"\",VLOOKUP(D30,Tablas!$B$2:$E$13,2,FALSE))","v":""},{"$f":"IF(B30=\"\",\"\",VLOOKUP(D30,Tablas!$B$2:$G$13,6,FALSE))","v":""},"","","","","","","","","","","","","","","","","","",""]
[{"$f":"IF(ISBLANK(InfoPro!A24),\"\",InfoPro!A24)","v":""},{"$f":"IF(ISBLANK(InfoPro!B24),\"\",InfoPro!B24)","v":""},{"$f":"IF(ISBLANK(InfoPro!E24),\"\",InfoPro!E24)","v":""},{"$f":"IF(ISBLANK(InfoPro!F24),\"\",InfoPro!F24)","v":""},{"$f":"IF(ISBLANK(InfoPro!I24),\"\",YEAR(InfoPro!I24)-$G$3)","v":""},{"$f":"IF(B31=\"\",\"\",VLOOKUP(D31,Tablas!$B$2:$E$13,2,FALSE))","v":""},{"$f":"IF(B31=\"\",\"\",VLOOKUP(D31,Tablas!$B$2:$G$13,6,FALSE))","v":""},"","","","","","","","","","","","","","","","","","",""]
[{"$f":"IF(ISBLANK(InfoPro!A25),\"\",InfoPro!A25)","v":""},{"$f":"IF(ISBLANK(InfoPro!B25),\"\",InfoPro!B25)","v":""},{"$f":"IF(ISBLANK(InfoPro!E25),\"\",InfoPro!E25)","v":""},{"$f":"IF(ISBLANK(InfoPro!F25),\"\",InfoPro!F25)","v":""},{"$f":"IF(ISBLANK(InfoPro!I25),\"\",YEAR(InfoPro!I25)-$G$3)","v":""},{"$f":"IF(B32=\"\",\"\",VLOOKUP(D32,Tablas!$B$2:$E$13,2,FALSE))","v":""},{"$f":"IF(B32=\"\",\"\",VLOOKUP(D32,Tablas!$B$2:$G$13,6,FALSE))","v":""},"","","","","","","","","","","","","","","","","","",""]
[{"$f":"IF(ISBLANK(InfoPro!A26),\"\",InfoPro!A26)","v":""},{"$f":"IF(ISBLANK(InfoPro!B26),\"\",InfoPro!B26)","v":""},{"$f":"IF(ISBLANK(InfoPro!E26),\"\",InfoPro!E26)","v":""},{"$f":"IF(ISBLANK(InfoPro!F26),\"\",InfoPro!F26)","v":""},{"$f":"IF(ISBLANK(InfoPro!I26),\"\",YEAR(InfoPro!I26)-$G$3)","v":""},{"$f":"IF(B33=\"\",\"\",VLOOKUP(D33,Tablas!$B$2:$E$13,2,FALSE))","v":""},{"$f":"IF(B33=\"\",\"\",VLOOKUP(D33,Tablas!$B$2:$G$13,6,FALSE))","v":""},"","","","","","","","","","","","","","","","","","",""]
[{"$f":"IF(ISBLANK(InfoPro!A27),\"\",InfoPro!A27)","v":""},{"$f":"IF(ISBLANK(InfoPro!B27),\"\",InfoPro!B27)","v":""},{"$f":"IF(ISBLANK(InfoPro!E27),\"\",InfoPro!E27)","v":""},{"$f":"IF(ISBLANK(InfoPro!F27),\"\",InfoPro!F27)","v":""},{"$f":"IF(ISBLANK(InfoPro!I27),\"\",YEAR(InfoPro!I27)-$G$3)","v":""},{"$f":"IF(B34=\"\",\"\",VLOOKUP(D34,Tablas!$B$2:$E$13,2,FALSE))","v":""},{"$f":"IF(B34=\"\",\"\",VLOOKUP(D34,Tablas!$B$2:$G$13,6,FALSE))","v":""},"","","","","","","","","","","","","","","","","","",""]
[{"$f":"IF(ISBLANK(InfoPro!A28),\"\",InfoPro!A28)","v":""},{"$f":"IF(ISBLANK(InfoPro!B28),\"\",InfoPro!B28)","v":""},{"$f":"IF(ISBLANK(InfoPro!E28),\"\",InfoPro!E28)","v":""},{"$f":"IF(ISBLANK(InfoPro!F28),\"\",InfoPro!F28)","v":""},{"$f":"IF(ISBLANK(InfoPro!I28),\"\",YEAR(InfoPro!I28)-$G$3)","v":""},{"$f":"IF(B35=\"\",\"\",VLOOKUP(D35,Tablas!$B$2:$E$13,2,FALSE))","v":""},{"$f":"IF(B35=\"\",\"\",VLOOKUP(D35,Tablas!$B$2:$G$13,6,FALSE))","v":""},"","","","","","","","","","","","","","","","","","",""]
[{"$f":"IF(ISBLANK(InfoPro!A29),\"\",InfoPro!A29)","v":""},{"$f":"IF(ISBLANK(InfoPro!B29),\"\",InfoPro!B29)","v":""},{"$f":"IF(ISBLANK(InfoPro!E29),\"\",InfoPro!E29)","v":""},{"$f":"IF(ISBLANK(InfoPro!F29),\"\",InfoPro!F29)","v":""},{"$f":"IF(ISBLANK(InfoPro!I29),\"\",YEAR(InfoPro!I29)-$G$3)","v":""},{"$f":"IF(B36=\"\",\"\",VLOOKUP(D36,Tablas!$B$2:$E$13,2,FALSE))","v":""},{"$f":"IF(B36=\"\",\"\",VLOOKUP(D36,Tablas!$B$2:$G$13,6,FALSE))","v":""},"","","","","","","","","","","","","","","","","","",""]
[{"$f":"IF(ISBLANK(InfoPro!A30),\"\",InfoPro!A30)","v":""},{"$f":"IF(ISBLANK(InfoPro!B30),\"\",InfoPro!B30)","v":""},{"$f":"IF(ISBLANK(InfoPro!E30),\"\",InfoPro!E30)","v":""},{"$f":"IF(ISBLANK(InfoPro!F30),\"\",InfoPro!F30)","v":""},{"$f":"IF(ISBLANK(InfoPro!I30),\"\",YEAR(InfoPro!I30)-$G$3)","v":""},{"$f":"IF(B37=\"\",\"\",VLOOKUP(D37,Tablas!$B$2:$E$13,2,FALSE))","v":""},{"$f":"IF(B37=\"\",\"\",VLOOKUP(D37,Tablas!$B$2:$G$13,6,FALSE))","v":""},"","","","","","","","","","","","","","","","","","",""]
[{"$f":"IF(ISBLANK(InfoPro!A31),\"\",InfoPro!A31)","v":""},{"$f":"IF(ISBLANK(InfoPro!B31),\"\",InfoPro!B31)","v":""},{"$f":"IF(ISBLANK(InfoPro!E31),\"\",InfoPro!E31)","v":""},{"$f":"IF(ISBLANK(InfoPro!F31),\"\",InfoPro!F31)","v":""},{"$f":"IF(ISBLANK(InfoPro!I31),\"\",YEAR(InfoPro!I31)-$G$3)","v":""},{"$f":"IF(B38=\"\",\"\",VLOOKUP(D38,Tablas!$B$2:$E$13,2,FALSE))","v":""},{"$f":"IF(B38=\"\",\"\",VLOOKUP(D38,Tablas!$B$2:$G$13,6,FALSE))","v":""},"","","","","","","","","","","","","","","","","","",""]
[{"$f":"IF(ISBLANK(InfoPro!A32),\"\",InfoPro!A32)","v":""},{"$f":"IF(ISBLANK(InfoPro!B32),\"\",InfoPro!B32)","v":""},{"$f":"IF(ISBLANK(InfoPro!E32),\"\",InfoPro!E32)","v":""},{"$f":"IF(ISBLANK(InfoPro!F32),\"\",InfoPro!F32)","v":""},{"$f":"IF(ISBLANK(InfoPro!I32),\"\",YEAR(InfoPro!I32)-$G$3)","v":""},{"$f":"IF(B39=\"\",\"\",VLOOKUP(D39,Tablas!$B$2:$E$13,2,FALSE))","v":""},{"$f":"IF(B39=\"\",\"\",VLOOKUP(D39,Tablas!$B$2:$G$13,6,FALSE))","v":""},"","",{"$f":"IF($I39=\"\",\"\",(1/(1+$C$4)^(J$7+$E39))*$I39*$C$5)","v":""},"","","","","","","","","","","","","","","",""]
[{"$f":"IF(ISBLANK(InfoPro!A33),\"\",InfoPro!A33)","v":""},{"$f":"IF(ISBLANK(InfoPro!B33),\"\",InfoPro!B33)","v":""},{"$f":"IF(ISBLANK(InfoPro!E33),\"\",InfoPro!E33)","v":""},{"$f":"IF(ISBLANK(InfoPro!F33),\"\",InfoPro!F33)","v":""},{"$f":"IF(ISBLANK(InfoPro!I33),\"\",YEAR(InfoPro!I33)-$G$3)","v":""},{"$f":"IF(B40=\"\",\"\",VLOOKUP(D40,Tablas!$B$2:$E$13,2,FALSE))","v":""},{"$f":"IF(B40=\"\",\"\",VLOOKUP(D40,Tablas!$B$2:$G$13,6,FALSE))","v":""},"","","","","","","","","","","","","","","","","","",""]
[{"$f":"IF(ISBLANK(InfoPro!A34),\"\",InfoPro!A34)","v":""},{"$f":"IF(ISBLANK(InfoPro!B34),\"\",InfoPro!B34)","v":""},{"$f":"IF(ISBLANK(InfoPro!E34),\"\",InfoPro!E34)","v":""},{"$f":"IF(ISBLANK(InfoPro!F34),\"\",InfoPro!F34)","v":""},{"$f":"IF(ISBLANK(InfoPro!I34),\"\",YEAR(InfoPro!I34)-$G$3)","v":""},{"$f":"IF(B41=\"\",\"\",VLOOKUP(D41,Tablas!$B$2:$E$13,2,FALSE))","v":""},{"$f":"IF(B41=\"\",\"\",VLOOKUP(D41,Tablas!$B$2:$G$13,6,FALSE))","v":""},{"$f":"IF(C41=\"\",\"\",+C41*F41*24*365)","v":""},{"$f":"IF(H41=\"\",\"\",+H41*($C$3-G41))","v":""},"","","","","","","","","","","","","","","","",""]
[{"$f":"IF(ISBLANK(InfoPro!A35),\"\",InfoPro!A35)","v":""},{"$f":"IF(ISBLANK(InfoPro!B35),\"\",InfoPro!B35)","v":""},{"$f":"IF(ISBLANK(InfoPro!E35),\"\",InfoPro!E35)","v":""},{"$f":"IF(ISBLANK(InfoPro!F35),\"\",InfoPro!F35)","v":""},{"$f":"IF(ISBLANK(InfoPro!I35),\"\",YEAR(InfoPro!I35)-$G$3)","v":""},{"$f":"IF(B42=\"\",\"\",VLOOKUP(D42,Tablas!$B$2:$E$13,2,FALSE))","v":""},{"$f":"IF(B42=\"\",\"\",VLOOKUP(D42,Tablas!$B$2:$G$13,6,FALSE))","v":""},"","","","","","","","","","","","","","","","","","",""]
[{"$f":"IF(ISBLANK(InfoPro!A36),\"\",InfoPro!A36)","v":""},{"$f":"IF(ISBLANK(InfoPro!B36),\"\",InfoPro!B36)","v":""},{"$f":"IF(ISBLANK(InfoPro!E36),\"\",InfoPro!E36)","v":""},{"$f":"IF(ISBLANK(InfoPro!F36),\"\",InfoPro!F36)","v":""},{"$f":"IF(ISBLANK(InfoPro!I36),\"\",YEAR(InfoPro!I36)-$G$3)","v":""},{"$f":"IF(B43=\"\",\"\",VLOOKUP(D43,Tablas!$B$2:$E$13,2,FALSE))","v":""},{"$f":"IF(B43=\"\",\"\",VLOOKUP(D43,Tablas!$B$2:$G$13,6,FALSE))","v":""},"","","","","","","","","","","","","","","","","","",""]
[{"$f":"IF(ISBLANK(InfoPro!A37),\"\",InfoPro!A37)","v":""},{"$f":"IF(ISBLANK(InfoPro!B37),\"\",InfoPro!B37)","v":""},{"$f":"IF(ISBLANK(InfoPro!E37),\"\",InfoPro!E37)","v":""},{"$f":"IF(ISBLANK(InfoPro!F37),\"\",InfoPro!F37)","v":""},{"$f":"IF(ISBLANK(InfoPro!I37),\"\",YEAR(InfoPro!I37)-$G$3)","v":""},{"$f":"IF(B44=\"\",\"\",VLOOKUP(D44,Tablas!$B$2:$E$13,2,FALSE))","v":""},{"$f":"IF(B44=\"\",\"\",VLOOKUP(D44,Tablas!$B$2:$G$13,6,FALSE))","v":""},"","","","","","","","","","","","","","","","","","",""]
[{"$f":"IF(ISBLANK(InfoPro!A38),\"\",InfoPro!A38)","v":""},{"$f":"IF(ISBLANK(InfoPro!B38),\"\",InfoPro!B38)","v":""},{"$f":"IF(ISBLANK(InfoPro!E38),\"\",InfoPro!E38)","v":""},{"$f":"IF(ISBLANK(InfoPro!F38),\"\",InfoPro!F38)","v":""},{"$f":"IF(ISBLANK(InfoPro!I38),\"\",YEAR(InfoPro!I38)-$G$3)","v":""},{"$f":"IF(B45=\"\",\"\",VLOOKUP(D45,Tablas!$B$2:$E$13,2,FALSE))","v":""},{"$f":"IF(B45=\"\",\"\",VLOOKUP(D45,Tablas!$B$2:$G$13,6,FALSE))","v":""},"","","","","","","","","","","","","","","","","","",""]
[{"$f":"IF(ISBLANK(InfoPro!A39),\"\",InfoPro!A39)","v":""},{"$f":"IF(ISBLANK(InfoPro!B39),\"\",InfoPro!B39)","v":""},{"$f":"IF(ISBLANK(InfoPro!E39),\"\",InfoPro!E39)","v":""},{"$f":"IF(ISBLANK(InfoPro!F39),\"\",InfoPro!F39)","v":""},{"$f":"IF(ISBLANK(InfoPro!I39),\"\",YEAR(InfoPro!I39)-$G$3)","v":""},{"$f":"IF(B46=\"\",\"\",VLOOKUP(D46,Tablas!$B$2:$E$13,2,FALSE))","v":""},{"$f":"IF(B46=\"\",\"\",VLOOKUP(D46,Tablas!$B$2:$G$13,6,FALSE))","v":""},"","","","","","","","","","","","","","","","","","",""]
[{"$f":"IF(ISBLANK(InfoPro!A40),\"\",InfoPro!A40)","v":""},{"$f":"IF(ISBLANK(InfoPro!B40),\"\",InfoPro!B40)","v":""},{"$f":"IF(ISBLANK(InfoPro!E40),\"\",InfoPro!E40)","v":""},{"$f":"IF(ISBLANK(InfoPro!F40),\"\",InfoPro!F40)","v":""},{"$f":"IF(ISBLANK(InfoPro!I40),\"\",YEAR(InfoPro!I40)-$G$3)","v":""},{"$f":"IF(B47=\"\",\"\",VLOOKUP(D47,Tablas!$B$2:$E$13,2,FALSE))","v":""},{"$f":"IF(B47=\"\",\"\",VLOOKUP(D47,Tablas!$B$2:$G$13,6,FALSE))","v":""},"","","","","","","","","","","","","","","","","","",""]
[{"$f":"IF(ISBLANK(InfoPro!A41),\"\",InfoPro!A41)","v":""},{"$f":"IF(ISBLANK(InfoPro!B41),\"\",InfoPro!B41)","v":""},{"$f":"IF(ISBLANK(InfoPro!E41),\"\",InfoPro!E41)","v":""},{"$f":"IF(ISBLANK(InfoPro!F41),\"\",InfoPro!F41)","v":""},{"$f":"IF(ISBLANK(InfoPro!I41),\"\",YEAR(InfoPro!I41)-$G$3)","v":""},{"$f":"IF(B48=\"\",\"\",VLOOKUP(D48,Tablas!$B$2:$E$13,2,FALSE))","v":""},{"$f":"IF(B48=\"\",\"\",VLOOKUP(D48,Tablas!$B$2:$G$13,6,FALSE))","v":""},"","","","","","","","","","","","","","","","","","",""]
[{"$f":"IF(ISBLANK(InfoPro!A42),\"\",InfoPro!A42)","v":""},{"$f":"IF(ISBLANK(InfoPro!B42),\"\",InfoPro!B42)","v":""},{"$f":"IF(ISBLANK(InfoPro!E42),\"\",InfoPro!E42)","v":""},{"$f":"IF(ISBLANK(InfoPro!F42),\"\",InfoPro!F42)","v":""},{"$f":"IF(ISBLANK(InfoPro!I42),\"\",YEAR(InfoPro!I42)-$G$3)","v":""},{"$f":"IF(B49=\"\",\"\",VLOOKUP(D49,Tablas!$B$2:$E$13,2,FALSE))","v":""},{"$f":"IF(B49=\"\",\"\",VLOOKUP(D49,Tablas!$B$2:$G$13,6,FALSE))","v":""},"","",{"$f":"IF($I49=\"\",\"\",(1/(1+$C$4)^(J$7+$E49))*$I49*$C$5)","v":""},"","","","","","","","","","","","","","","",""]
[{"$f":"IF(ISBLANK(InfoPro!A43),\"\",InfoPro!A43)","v":""},{"$f":"IF(ISBLANK(InfoPro!B43),\"\",InfoPro!B43)","v":""},{"$f":"IF(ISBLANK(InfoPro!E43),\"\",InfoPro!E43)","v":""},{"$f":"IF(ISBLANK(InfoPro!F43),\"\",InfoPro!F43)","v":""},{"$f":"IF(ISBLANK(InfoPro!I43),\"\",YEAR(InfoPro!I43)-$G$3)","v":""},{"$f":"IF(B50=\"\",\"\",VLOOKUP(D50,Tablas!$B$2:$E$13,2,FALSE))","v":""},{"$f":"IF(B50=\"\",\"\",VLOOKUP(D50,Tablas!$B$2:$G$13,6,FALSE))","v":""},"","","","","","","","","","","","","","","","","","",""]
[{"$f":"IF(ISBLANK(InfoPro!A44),\"\",InfoPro!A44)","v":""},{"$f":"IF(ISBLANK(InfoPro!B44),\"\",InfoPro!B44)","v":""},{"$f":"IF(ISBLANK(InfoPro!E44),\"\",InfoPro!E44)","v":""},{"$f":"IF(ISBLANK(InfoPro!F44),\"\",InfoPro!F44)","v":""},{"$f":"IF(ISBLANK(InfoPro!I44),\"\",YEAR(InfoPro!I44)-$G$3)","v":""},{"$f":"IF(B51=\"\",\"\",VLOOKUP(D51,Tablas!$B$2:$E$13,2,FALSE))","v":""},{"$f":"IF(B51=\"\",\"\",VLOOKUP(D51,Tablas!$B$2:$G$13,6,FALSE))","v":""},"","","","","","","","","","","","","","","","","","",""]
[{"$f":"IF(ISBLANK(InfoPro!A45),\"\",InfoPro!A45)","v":""},{"$f":"IF(ISBLANK(InfoPro!B45),\"\",InfoPro!B45)","v":""},{"$f":"IF(ISBLANK(InfoPro!E45),\"\",InfoPro!E45)","v":""},{"$f":"IF(ISBLANK(InfoPro!F45),\"\",InfoPro!F45)","v":""},{"$f":"IF(ISBLANK(InfoPro!I45),\"\",YEAR(InfoPro!I45)-$G$3)","v":""},{"$f":"IF(B52=\"\",\"\",VLOOKUP(D52,Tablas!$B$2:$E$13,2,FALSE))","v":""},{"$f":"IF(B52=\"\",\"\",VLOOKUP(D52,Tablas!$B$2:$G$13,6,FALSE))","v":""},"","","","","","","","","","","","","","","","","","",""]
[{"$f":"IF(ISBLANK(InfoPro!A46),\"\",InfoPro!A46)","v":""},{"$f":"IF(ISBLANK(InfoPro!B46),\"\",InfoPro!B46)","v":""},{"$f":"IF(ISBLANK(InfoPro!E46),\"\",InfoPro!E46)","v":""},{"$f":"IF(ISBLANK(InfoPro!F46),\"\",InfoPro!F46)","v":""},{"$f":"IF(ISBLANK(InfoPro!I46),\"\",YEAR(InfoPro!I46)-$G$3)","v":""},{"$f":"IF(B53=\"\",\"\",VLOOKUP(D53,Tablas!$B$2:$E$13,2,FALSE))","v":""},{"$f":"IF(B53=\"\",\"\",VLOOKUP(D53,Tablas!$B$2:$G$13,6,FALSE))","v":""},"","","","","","","","","","","","","","","","","","",""]
[{"$f":"IF(ISBLANK(InfoPro!A47),\"\",InfoPro!A47)","v":""},{"$f":"IF(ISBLANK(InfoPro!B47),\"\",InfoPro!B47)","v":""},{"$f":"IF(ISBLANK(InfoPro!E47),\"\",InfoPro!E47)","v":""},{"$f":"IF(ISBLANK(InfoPro!F47),\"\",InfoPro!F47)","v":""},{"$f":"IF(ISBLANK(InfoPro!I47),\"\",YEAR(InfoPro!I47)-$G$3)","v":""},{"$f":"IF(B54=\"\",\"\",VLOOKUP(D54,Tablas!$B$2:$E$13,2,FALSE))","v":""},{"$f":"IF(B54=\"\",\"\",VLOOKUP(D54,Tablas!$B$2:$G$13,6,FALSE))","v":""},"","","","","","","","","","","","","","","","","","",""]
[{"$f":"IF(ISBLANK(InfoPro!A48),\"\",InfoPro!A48)","v":""},{"$f":"IF(ISBLANK(InfoPro!B48),\"\",InfoPro!B48)","v":""},{"$f":"IF(ISBLANK(InfoPro!E48),\"\",InfoPro!E48)","v":""},{"$f":"IF(ISBLANK(InfoPro!F48),\"\",InfoPro!F48)","v":""},{"$f":"IF(ISBLANK(InfoPro!I48),\"\",YEAR(InfoPro!I48)-$G$3)","v":""},{"$f":"IF(B55=\"\",\"\",VLOOKUP(D55,Tablas!$B$2:$E$13,2,FALSE))","v":""},{"$f":"IF(B55=\"\",\"\",VLOOKUP(D55,Tablas!$B$2:$G$13,6,FALSE))","v":""},"","","","","","","","","","","","","","","","","","",""]
[{"$f":"IF(ISBLANK(InfoPro!A49),\"\",InfoPro!A49)","v":""},{"$f":"IF(ISBLANK(InfoPro!B49),\"\",InfoPro!B49)","v":""},{"$f":"IF(ISBLANK(InfoPro!E49),\"\",InfoPro!E49)","v":""},{"$f":"IF(ISBLANK(InfoPro!F49),\"\",InfoPro!F49)","v":""},{"$f":"IF(ISBLANK(InfoPro!I49),\"\",YEAR(InfoPro!I49)-$G$3)","v":""},{"$f":"IF(B56=\"\",\"\",VLOOKUP(D56,Tablas!$B$2:$E$13,2,FALSE))","v":""},{"$f":"IF(B56=\"\",\"\",VLOOKUP(D56,Tablas!$B$2:$G$13,6,FALSE))","v":""},"","","","","","","","","","","","","","","","","","",""]
[{"$f":"IF(ISBLANK(InfoPro!A50),\"\",InfoPro!A50)","v":""},{"$f":"IF(ISBLANK(InfoPro!B50),\"\",InfoPro!B50)","v":""},{"$f":"IF(ISBLANK(InfoPro!E50),\"\",InfoPro!E50)","v":""},{"$f":"IF(ISBLANK(InfoPro!F50),\"\",InfoPro!F50)","v":""},{"$f":"IF(ISBLANK(InfoPro!I50),\"\",YEAR(InfoPro!I50)-$G$3)","v":""},{"$f":"IF(B57=\"\",\"\",VLOOKUP(D57,Tablas!$B$2:$E$13,2,FALSE))","v":""},{"$f":"IF(B57=\"\",\"\",VLOOKUP(D57,Tablas!$B$2:$G$13,6,FALSE))","v":""},"","","","","","","","","","","","","","","","","","",""]
[{"$f":"IF(ISBLANK(InfoPro!A51),\"\",InfoPro!A51)","v":""},{"$f":"IF(ISBLANK(InfoPro!B51),\"\",InfoPro!B51)","v":""},{"$f":"IF(ISBLANK(InfoPro!E51),\"\",InfoPro!E51)","v":""},{"$f":"IF(ISBLANK(InfoPro!F51),\"\",InfoPro!F51)","v":""},{"$f":"IF(ISBLANK(InfoPro!I51),\"\",YEAR(InfoPro!I51)-$G$3)","v":""},{"$f":"IF(B58=\"\",\"\",VLOOKUP(D58,Tablas!$B$2:$E$13,2,FALSE))","v":""},{"$f":"IF(B58=\"\",\"\",VLOOKUP(D58,Tablas!$B$2:$G$13,6,FALSE))","v":""},"","","","","","","","","","","","","","","","","","",""]
[{"$f":"IF(ISBLANK(InfoPro!A52),\"\",InfoPro!A52)","v":""},{"$f":"IF(ISBLANK(InfoPro!B52),\"\",InfoPro!B52)","v":""},{"$f":"IF(ISBLANK(InfoPro!E52),\"\",InfoPro!E52)","v":""},{"$f":"IF(ISBLANK(InfoPro!F52),\"\",InfoPro!F52)","v":""},{"$f":"IF(ISBLANK(InfoPro!I52),\"\",YEAR(InfoPro!I52)-$G$3)","v":""},{"$f":"IF(B59=\"\",\"\",VLOOKUP(D59,Tablas!$B$2:$E$13,2,FALSE))","v":""},{"$f":"IF(B59=\"\",\"\",VLOOKUP(D59,Tablas!$B$2:$G$13,6,FALSE))","v":""},"","",{"$f":"IF($I59=\"\",\"\",(1/(1+$C$4)^(J$7+$E59))*$I59*$C$5)","v":""},"","","","","","","","","","","","","","","",""]
[{"$f":"IF(ISBLANK(InfoPro!A53),\"\",InfoPro!A53)","v":""},{"$f":"IF(ISBLANK(InfoPro!B53),\"\",InfoPro!B53)","v":""},{"$f":"IF(ISBLANK(InfoPro!E53),\"\",InfoPro!E53)","v":""},{"$f":"IF(ISBLANK(InfoPro!F53),\"\",InfoPro!F53)","v":""},{"$f":"IF(ISBLANK(InfoPro!I53),\"\",YEAR(InfoPro!I53)-$G$3)","v":""},{"$f":"IF(B60=\"\",\"\",VLOOKUP(D60,Tablas!$B$2:$E$13,2,FALSE))","v":""},{"$f":"IF(B60=\"\",\"\",VLOOKUP(D60,Tablas!$B$2:$G$13,6,FALSE))","v":""},"","","","","","","","","","","","","","","","","","",""]
[{"$f":"IF(ISBLANK(InfoPro!A54),\"\",InfoPro!A54)","v":""},{"$f":"IF(ISBLANK(InfoPro!B54),\"\",InfoPro!B54)","v":""},{"$f":"IF(ISBLANK(InfoPro!E54),\"\",InfoPro!E54)","v":""},{"$f":"IF(ISBLANK(InfoPro!F54),\"\",InfoPro!F54)","v":""},{"$f":"IF(ISBLANK(InfoPro!I54),\"\",YEAR(InfoPro!I54)-$G$3)","v":""},{"$f":"IF(B61=\"\",\"\",VLOOKUP(D61,Tablas!$B$2:$E$13,2,FALSE))","v":""},{"$f":"IF(B61=\"\",\"\",VLOOKUP(D61,Tablas!$B$2:$G$13,6,FALSE))","v":""},"","","","","","","","","","","","","","","","","","",""]
[{"$f":"IF(ISBLANK(InfoPro!A55),\"\",InfoPro!A55)","v":""},{"$f":"IF(ISBLANK(InfoPro!B55),\"\",InfoPro!B55)","v":""},{"$f":"IF(ISBLANK(InfoPro!E55),\"\",InfoPro!E55)","v":""},{"$f":"IF(ISBLANK(InfoPro!F55),\"\",InfoPro!F55)","v":""},{"$f":"IF(ISBLANK(InfoPro!I55),\"\",YEAR(InfoPro!I55)-$G$3)","v":""},{"$f":"IF(B62=\"\",\"\",VLOOKUP(D62,Tablas!$B$2:$E$13,2,FALSE))","v":""},{"$f":"IF(B62=\"\",\"\",VLOOKUP(D62,Tablas!$B$2:$G$13,6,FALSE))","v":""},"","","","","","","","","","","","","","","","","","",""]
[{"$f":"IF(ISBLANK(InfoPro!A56),\"\",InfoPro!A56)","v":""},{"$f":"IF(ISBLANK(InfoPro!B56),\"\",InfoPro!B56)","v":""},{"$f":"IF(ISBLANK(InfoPro!E56),\"\",InfoPro!E56)","v":""},{"$f":"IF(ISBLANK(InfoPro!F56),\"\",InfoPro!F56)","v":""},{"$f":"IF(ISBLANK(InfoPro!I56),\"\",YEAR(InfoPro!I56)-$G$3)","v":""},{"$f":"IF(B63=\"\",\"\",VLOOKUP(D63,Tablas!$B$2:$E$13,2,FALSE))","v":""},{"$f":"IF(B63=\"\",\"\",VLOOKUP(D63,Tablas!$B$2:$G$13,6,FALSE))","v":""},"","","","","","","","","","","","","","","","","","",""]
[{"$f":"IF(ISBLANK(InfoPro!A57),\"\",InfoPro!A57)","v":""},{"$f":"IF(ISBLANK(InfoPro!B57),\"\",InfoPro!B57)","v":""},{"$f":"IF(ISBLANK(InfoPro!E57),\"\",InfoPro!E57)","v":""},{"$f":"IF(ISBLANK(InfoPro!F57),\"\",InfoPro!F57)","v":""},{"$f":"IF(ISBLANK(InfoPro!I57),\"\",YEAR(InfoPro!I57)-$G$3)","v":""},{"$f":"IF(B64=\"\",\"\",VLOOKUP(D64,Tablas!$B$2:$E$13,2,FALSE))","v":""},{"$f":"IF(B64=\"\",\"\",VLOOKUP(D64,Tablas!$B$2:$G$13,6,FALSE))","v":""},"","","","","","","","","","","","","","","","","","",""]
[{"$f":"IF(ISBLANK(InfoPro!A58),\"\",InfoPro!A58)","v":""},{"$f":"IF(ISBLANK(InfoPro!B58),\"\",InfoPro!B58)","v":""},{"$f":"IF(ISBLANK(InfoPro!E58),\"\",InfoPro!E58)","v":""},{"$f":"IF(ISBLANK(InfoPro!F58),\"\",InfoPro!F58)","v":""},{"$f":"IF(ISBLANK(InfoPro!I58),\"\",YEAR(InfoPro!I58)-$G$3)","v":""},{"$f":"IF(B65=\"\",\"\",VLOOKUP(D65,Tablas!$B$2:$E$13,2,FALSE))","v":""},{"$f":"IF(B65=\"\",\"\",VLOOKUP(D65,Tablas!$B$2:$G$13,6,FALSE))","v":""},"","","","","","","","","","","","","","","","","","",""]
[{"$f":"IF(ISBLANK(InfoPro!A59),\"\",InfoPro!A59)","v":""},{"$f":"IF(ISBLANK(InfoPro!B59),\"\",InfoPro!B59)","v":""},{"$f":"IF(ISBLANK(InfoPro!E59),\"\",InfoPro!E59)","v":""},{"$f":"IF(ISBLANK(InfoPro!F59),\"\",InfoPro!F59)","v":""},{"$f":"IF(ISBLANK(InfoPro!I59),\"\",YEAR(InfoPro!I59)-$G$3)","v":""},{"$f":"IF(B66=\"\",\"\",VLOOKUP(D66,Tablas!$B$2:$E$13,2,FALSE))","v":""},{"$f":"IF(B66=\"\",\"\",VLOOKUP(D66,Tablas!$B$2:$G$13,6,FALSE))","v":""},"","","","","","","","","","","","","","","","","","",""]
[{"$f":"IF(ISBLANK(InfoPro!A60),\"\",InfoPro!A60)","v":""},{"$f":"IF(ISBLANK(InfoPro!B60),\"\",InfoPro!B60)","v":""},{"$f":"IF(ISBLANK(InfoPro!E60),\"\",InfoPro!E60)","v":""},{"$f":"IF(ISBLANK(InfoPro!F60),\"\",InfoPro!F60)","v":""},{"$f":"IF(ISBLANK(InfoPro!I60),\"\",YEAR(InfoPro!I60)-$G$3)","v":""},{"$f":"IF(B67=\"\",\"\",VLOOKUP(D67,Tablas!$B$2:$E$13,2,FALSE))","v":""},{"$f":"IF(B67=\"\",\"\",VLOOKUP(D67,Tablas!$B$2:$G$13,6,FALSE))","v":""},"","","","","","","","","","","","","","","","","","",""]
[{"$f":"IF(ISBLANK(InfoPro!A61),\"\",InfoPro!A61)","v":""},{"$f":"IF(ISBLANK(InfoPro!B61),\"\",InfoPro!B61)","v":""},{"$f":"IF(ISBLANK(InfoPro!E61),\"\",InfoPro!E61)","v":""},{"$f":"IF(ISBLANK(InfoPro!F61),\"\",InfoPro!F61)","v":""},{"$f":"IF(ISBLANK(InfoPro!I61),\"\",YEAR(InfoPro!I61)-$G$3)","v":""},{"$f":"IF(B68=\"\",\"\",VLOOKUP(D68,Tablas!$B$2:$E$13,2,FALSE))","v":""},{"$f":"IF(B68=\"\",\"\",VLOOKUP(D68,Tablas!$B$2:$G$13,6,FALSE))","v":""},"","","","","","","","","","","","","","","","","","",""]
[{"$f":"IF(ISBLANK(InfoPro!A62),\"\",InfoPro!A62)","v":""},{"$f":"IF(ISBLANK(InfoPro!B62),\"\",InfoPro!B62)","v":""},{"$f":"IF(ISBLANK(InfoPro!E62),\"\",InfoPro!E62)","v":""},{"$f":"IF(ISBLANK(InfoPro!F62),\"\",InfoPro!F62)","v":""},{"$f":"IF(ISBLANK(InfoPro!I62),\"\",YEAR(InfoPro!I62)-$G$3)","v":""},{"$f":"IF(B69=\"\",\"\",VLOOKUP(D69,Tablas!$B$2:$E$13,2,FALSE))","v":""},{"$f":"IF(B69=\"\",\"\",VLOOKUP(D69,Tablas!$B$2:$G$13,6,FALSE))","v":""},"","",{"$f":"IF($I69=\"\",\"\",(1/(1+$C$4)^(J$7+$E69))*$I69*$C$5)","v":""},"","","","","","","","","","","","","","","",""]
[{"$f":"IF(ISBLANK(InfoPro!A63),\"\",InfoPro!A63)","v":""},{"$f":"IF(ISBLANK(InfoPro!B63),\"\",InfoPro!B63)","v":""},{"$f":"IF(ISBLANK(InfoPro!E63),\"\",InfoPro!E63)","v":""},{"$f":"IF(ISBLANK(InfoPro!F63),\"\",InfoPro!F63)","v":""},{"$f":"IF(ISBLANK(InfoPro!I63),\"\",YEAR(InfoPro!I63)-$G$3)","v":""},{"$f":"IF(B70=\"\",\"\",VLOOKUP(D70,Tablas!$B$2:$E$13,2,FALSE))","v":""},{"$f":"IF(B70=\"\",\"\",VLOOKUP(D70,Tablas!$B$2:$G$13,6,FALSE))","v":""},"","","","","","","","","","","","","","","","","","",""]
[{"$f":"IF(ISBLANK(InfoPro!A64),\"\",InfoPro!A64)","v":""},{"$f":"IF(ISBLANK(InfoPro!B64),\"\",InfoPro!B64)","v":""},{"$f":"IF(ISBLANK(InfoPro!E64),\"\",InfoPro!E64)","v":""},{"$f":"IF(ISBLANK(InfoPro!F64),\"\",InfoPro!F64)","v":""},{"$f":"IF(ISBLANK(InfoPro!I64),\"\",YEAR(InfoPro!I64)-$G$3)","v":""},{"$f":"IF(B71=\"\",\"\",VLOOKUP(D71,Tablas!$B$2:$E$13,2,FALSE))","v":""},{"$f":"IF(B71=\"\",\"\",VLOOKUP(D71,Tablas!$B$2:$G$13,6,FALSE))","v":""},"","","","","","","","","","","","","","","","","","",""]
[{"$f":"IF(ISBLANK(InfoPro!A65),\"\",InfoPro!A65)","v":""},{"$f":"IF(ISBLANK(InfoPro!B65),\"\",InfoPro!B65)","v":""},{"$f":"IF(ISBLANK(InfoPro!E65),\"\",InfoPro!E65)","v":""},{"$f":"IF(ISBLANK(InfoPro!F65),\"\",InfoPro!F65)","v":""},{"$f":"IF(ISBLANK(InfoPro!I65),\"\",YEAR(InfoPro!I65)-$G$3)","v":""},{"$f":"IF(B72=\"\",\"\",VLOOKUP(D72,Tablas!$B$2:$E$13,2,FALSE))","v":""},{"$f":"IF(B72=\"\",\"\",VLOOKUP(D72,Tablas!$B$2:$G$13,6,FALSE))","v":""},"","","","","","","","","","","","","","","","","","",""]
[{"$f":"IF(ISBLANK(InfoPro!A66),\"\",InfoPro!A66)","v":""},{"$f":"IF(ISBLANK(InfoPro!B66),\"\",InfoPro!B66)","v":""},{"$f":"IF(ISBLANK(InfoPro!E66),\"\",InfoPro!E66)","v":""},{"$f":"IF(ISBLANK(InfoPro!F66),\"\",InfoPro!F66)","v":""},{"$f":"IF(ISBLANK(InfoPro!I66),\"\",YEAR(InfoPro!I66)-$G$3)","v":""},{"$f":"IF(B73=\"\",\"\",VLOOKUP(D73,Tablas!$B$2:$E$13,2,FALSE))","v":""},{"$f":"IF(B73=\"\",\"\",VLOOKUP(D73,Tablas!$B$2:$G$13,6,FALSE))","v":""},{"$f":"IF(C73=\"\",\"\",+C73*F73*24*365)","v":""},{"$f":"IF(H73=\"\",\"\",+H73*($C$3-G73))","v":""},"","","","","","","","","","","","","","","","",""]
[{"$f":"IF(ISBLANK(InfoPro!A67),\"\",InfoPro!A67)","v":""},{"$f":"IF(ISBLANK(InfoPro!B67),\"\",InfoPro!B67)","v":""},{"$f":"IF(ISBLANK(InfoPro!E67),\"\",InfoPro!E67)","v":""},{"$f":"IF(ISBLANK(InfoPro!F67),\"\",InfoPro!F67)","v":""},{"$f":"IF(ISBLANK(InfoPro!I67),\"\",YEAR(InfoPro!I67)-$G$3)","v":""},{"$f":"IF(B74=\"\",\"\",VLOOKUP(D74,Tablas!$B$2:$E$13,2,FALSE))","v":""},{"$f":"IF(B74=\"\",\"\",VLOOKUP(D74,Tablas!$B$2:$G$13,6,FALSE))","v":""},"","","","","","","","","","","","","","","","","",{"$f":"IF(X74=\"\",\"\",SUM(J74:X74)*$C$6)","v":""},{"$f":"IF(C74=0,0,IF(Y74=\"\",\"\",Y74/(C74*1000)))","v":""}]
[{"$f":"IF(ISBLANK(InfoPro!A68),\"\",InfoPro!A68)","v":""},{"$f":"IF(ISBLANK(InfoPro!B68),\"\",InfoPro!B68)","v":""},{"$f":"IF(ISBLANK(InfoPro!E68),\"\",InfoPro!E68)","v":""},{"$f":"IF(ISBLANK(InfoPro!F68),\"\",InfoPro!F68)","v":""},{"$f":"IF(ISBLANK(InfoPro!I68),\"\",YEAR(InfoPro!I68)-$G$3)","v":""},{"$f":"IF(B75=\"\",\"\",VLOOKUP(D75,Tablas!$B$2:$E$13,2,FALSE))","v":""},{"$f":"IF(B75=\"\",\"\",VLOOKUP(D75,Tablas!$B$2:$G$13,6,FALSE))","v":""},"","","","","","","","","","","","","","","","","","",""]
[{"$f":"IF(ISBLANK(InfoPro!A69),\"\",InfoPro!A69)","v":""},{"$f":"IF(ISBLANK(InfoPro!B69),\"\",InfoPro!B69)","v":""},{"$f":"IF(ISBLANK(InfoPro!E69),\"\",InfoPro!E69)","v":""},{"$f":"IF(ISBLANK(InfoPro!F69),\"\",InfoPro!F69)","v":""},{"$f":"IF(ISBLANK(InfoPro!I69),\"\",YEAR(InfoPro!I69)-$G$3)","v":""},{"$f":"IF(B76=\"\",\"\",VLOOKUP(D76,Tablas!$B$2:$E$13,2,FALSE))","v":""},{"$f":"IF(B76=\"\",\"\",VLOOKUP(D76,Tablas!$B$2:$G$13,6,FALSE))","v":""},"","","","","","","","","","","","","","","","","","",""]
[{"$f":"IF(ISBLANK(InfoPro!A70),\"\",InfoPro!A70)","v":""},{"$f":"IF(ISBLANK(InfoPro!B70),\"\",InfoPro!B70)","v":""},{"$f":"IF(ISBLANK(InfoPro!E70),\"\",InfoPro!E70)","v":""},{"$f":"IF(ISBLANK(InfoPro!F70),\"\",InfoPro!F70)","v":""},{"$f":"IF(ISBLANK(InfoPro!I70),\"\",YEAR(InfoPro!I70)-$G$3)","v":""},{"$f":"IF(B77=\"\",\"\",VLOOKUP(D77,Tablas!$B$2:$E$13,2,FALSE))","v":""},{"$f":"IF(B77=\"\",\"\",VLOOKUP(D77,Tablas!$B$2:$G$13,6,FALSE))","v":""},"","","","","","","","","","","","","","","","","","",""]
[{"$f":"IF(ISBLANK(InfoPro!A71),\"\",InfoPro!A71)","v":""},{"$f":"IF(ISBLANK(InfoPro!B71),\"\",InfoPro!B71)","v":""},{"$f":"IF(ISBLANK(InfoPro!E71),\"\",InfoPro!E71)","v":""},{"$f":"IF(ISBLANK(InfoPro!F71),\"\",InfoPro!F71)","v":""},{"$f":"IF(ISBLANK(InfoPro!I71),\"\",YEAR(InfoPro!I71)-$G$3)","v":""},{"$f":"IF(B78=\"\",\"\",VLOOKUP(D78,Tablas!$B$2:$E$13,2,FALSE))","v":""},{"$f":"IF(B78=\"\",\"\",VLOOKUP(D78,Tablas!$B$2:$G$13,6,FALSE))","v":""},"","","","","","","","","","","","","","","","","","",""]
[{"$f":"IF(ISBLANK(InfoPro!A72),\"\",InfoPro!A72)","v":""},{"$f":"IF(ISBLANK(InfoPro!B72),\"\",InfoPro!B72)","v":""},{"$f":"IF(ISBLANK(InfoPro!E72),\"\",InfoPro!E72)","v":""},{"$f":"IF(ISBLANK(InfoPro!F72),\"\",InfoPro!F72)","v":""},{"$f":"IF(ISBLANK(InfoPro!I72),\"\",YEAR(InfoPro!I72)-$G$3)","v":""},{"$f":"IF(B79=\"\",\"\",VLOOKUP(D79,Tablas!$B$2:$E$13,2,FALSE))","v":""},{"$f":"IF(B79=\"\",\"\",VLOOKUP(D79,Tablas!$B$2:$G$13,6,FALSE))","v":""},"","",{"$f":"IF($I79=\"\",\"\",(1/(1+$C$4)^(J$7+$E79))*$I79*$C$5)","v":""},"","","","","","","","","","","","","","","",""]
[{"$f":"IF(ISBLANK(InfoPro!A73),\"\",InfoPro!A73)","v":""},{"$f":"IF(ISBLANK(InfoPro!B73),\"\",InfoPro!B73)","v":""},{"$f":"IF(ISBLANK(InfoPro!E73),\"\",InfoPro!E73)","v":""},{"$f":"IF(ISBLANK(InfoPro!F73),\"\",InfoPro!F73)","v":""},{"$f":"IF(ISBLANK(InfoPro!I73),\"\",YEAR(InfoPro!I73)-$G$3)","v":""},{"$f":"IF(B80=\"\",\"\",VLOOKUP(D80,Tablas!$B$2:$E$13,2,FALSE))","v":""},{"$f":"IF(B80=\"\",\"\",VLOOKUP(D80,Tablas!$B$2:$G$13,6,FALSE))","v":""},"","","","","","","","","","","","","","","","","","",""]
[{"$f":"IF(ISBLANK(InfoPro!A74),\"\",InfoPro!A74)","v":""},{"$f":"IF(ISBLANK(InfoPro!B74),\"\",InfoPro!B74)","v":""},{"$f":"IF(ISBLANK(InfoPro!E74),\"\",InfoPro!E74)","v":""},{"$f":"IF(ISBLANK(InfoPro!F74),\"\",InfoPro!F74)","v":""},{"$f":"IF(ISBLANK(InfoPro!I74),\"\",YEAR(InfoPro!I74)-$G$3)","v":""},{"$f":"IF(B81=\"\",\"\",VLOOKUP(D81,Tablas!$B$2:$E$13,2,FALSE))","v":""},{"$f":"IF(B81=\"\",\"\",VLOOKUP(D81,Tablas!$B$2:$G$13,6,FALSE))","v":""},"","","","","","","","","","","","","","","","","","",""]
[{"$f":"IF(ISBLANK(InfoPro!A75),\"\",InfoPro!A75)","v":""},{"$f":"IF(ISBLANK(InfoPro!B75),\"\",InfoPro!B75)","v":""},{"$f":"IF(ISBLANK(InfoPro!E75),\"\",InfoPro!E75)","v":""},{"$f":"IF(ISBLANK(InfoPro!F75),\"\",InfoPro!F75)","v":""},{"$f":"IF(ISBLANK(InfoPro!I75),\"\",YEAR(InfoPro!I75)-$G$3)","v":""},{"$f":"IF(B82=\"\",\"\",VLOOKUP(D82,Tablas!$B$2:$E$13,2,FALSE))","v":""},{"$f":"IF(B82=\"\",\"\",VLOOKUP(D82,Tablas!$B$2:$G$13,6,FALSE))","v":""},"","","","","","","","","","","","","","","","","","",""]
[{"$f":"IF(ISBLANK(InfoPro!A76),\"\",InfoPro!A76)","v":""},{"$f":"IF(ISBLANK(InfoPro!B76),\"\",InfoPro!B76)","v":""},{"$f":"IF(ISBLANK(InfoPro!E76),\"\",InfoPro!E76)","v":""},{"$f":"IF(ISBLANK(InfoPro!F76),\"\",InfoPro!F76)","v":""},{"$f":"IF(ISBLANK(InfoPro!I76),\"\",YEAR(InfoPro!I76)-$G$3)","v":""},{"$f":"IF(B83=\"\",\"\",VLOOKUP(D83,Tablas!$B$2:$E$13,2,FALSE))","v":""},{"$f":"IF(B83=\"\",\"\",VLOOKUP(D83,Tablas!$B$2:$G$13,6,FALSE))","v":""},"","","","","","","","","","","","","","","","","","",""]
[{"$f":"IF(ISBLANK(InfoPro!A77),\"\",InfoPro!A77)","v":""},{"$f":"IF(ISBLANK(InfoPro!B77),\"\",InfoPro!B77)","v":""},{"$f":"IF(ISBLANK(InfoPro!E77),\"\",InfoPro!E77)","v":""},{"$f":"IF(ISBLANK(InfoPro!F77),\"\",InfoPro!F77)","v":""},{"$f":"IF(ISBLANK(InfoPro!I77),\"\",YEAR(InfoPro!I77)-$G$3)","v":""},{"$f":"IF(B84=\"\",\"\",VLOOKUP(D84,Tablas!$B$2:$E$13,2,FALSE))","v":""},{"$f":"IF(B84=\"\",\"\",VLOOKUP(D84,Tablas!$B$2:$G$13,6,FALSE))","v":""},"","","","","","","","","","","","","","","","","","",""]
[{"$f":"IF(ISBLANK(InfoPro!A78),\"\",InfoPro!A78)","v":""},{"$f":"IF(ISBLANK(InfoPro!B78),\"\",InfoPro!B78)","v":""},{"$f":"IF(ISBLANK(InfoPro!E78),\"\",InfoPro!E78)","v":""},{"$f":"IF(ISBLANK(InfoPro!F78),\"\",InfoPro!F78)","v":""},{"$f":"IF(ISBLANK(InfoPro!I78),\"\",YEAR(InfoPro!I78)-$G$3)","v":""},{"$f":"IF(B85=\"\",\"\",VLOOKUP(D85,Tablas!$B$2:$E$13,2,FALSE))","v":""},{"$f":"IF(B85=\"\",\"\",VLOOKUP(D85,Tablas!$B$2:$G$13,6,FALSE))","v":""},"","","","","","","","","","","","","","","","","","",""]
[{"$f":"IF(ISBLANK(InfoPro!A79),\"\",InfoPro!A79)","v":""},{"$f":"IF(ISBLANK(InfoPro!B79),\"\",InfoPro!B79)","v":""},{"$f":"IF(ISBLANK(InfoPro!E79),\"\",InfoPro!E79)","v":""},{"$f":"IF(ISBLANK(InfoPro!F79),\"\",InfoPro!F79)","v":""},{"$f":"IF(ISBLANK(InfoPro!I79),\"\",YEAR(InfoPro!I79)-$G$3)","v":""},{"$f":"IF(B86=\"\",\"\",VLOOKUP(D86,Tablas!$B$2:$E$13,2,FALSE))","v":""},{"$f":"IF(B86=\"\",\"\",VLOOKUP(D86,Tablas!$B$2:$G$13,6,FALSE))","v":""},"","","","","","","","","","","","","","","","","","",""]
[{"$f":"IF(ISBLANK(InfoPro!A80),\"\",InfoPro!A80)","v":""},{"$f":"IF(ISBLANK(InfoPro!B80),\"\",InfoPro!B80)","v":""},{"$f":"IF(ISBLANK(InfoPro!E80),\"\",InfoPro!E80)","v":""},{"$f":"IF(ISBLANK(InfoPro!F80),\"\",InfoPro!F80)","v":""},{"$f":"IF(ISBLANK(InfoPro!I80),\"\",YEAR(InfoPro!I80)-$G$3)","v":""},{"$f":"IF(B87=\"\",\"\",VLOOKUP(D87,Tablas!$B$2:$E$13,2,FALSE))","v":""},{"$f":"IF(B87=\"\",\"\",VLOOKUP(D87,Tablas!$B$2:$G$13,6,FALSE))","v":""},"","","","","","","","","","","","","","","","","","",""]
[{"$f":"IF(ISBLANK(InfoPro!A81),\"\",InfoPro!A81)","v":""},{"$f":"IF(ISBLANK(InfoPro!B81),\"\",InfoPro!B81)","v":""},{"$f":"IF(ISBLANK(InfoPro!E81),\"\",InfoPro!E81)","v":""},{"$f":"IF(ISBLANK(InfoPro!F81),\"\",InfoPro!F81)","v":""},{"$f":"IF(ISBLANK(InfoPro!I81),\"\",YEAR(InfoPro!I81)-$G$3)","v":""},{"$f":"IF(B88=\"\",\"\",VLOOKUP(D88,Tablas!$B$2:$E$13,2,FALSE))","v":""},{"$f":"IF(B88=\"\",\"\",VLOOKUP(D88,Tablas!$B$2:$G$13,6,FALSE))","v":""},"","","","","","","","","","","","","","","","","","",""]
[{"$f":"IF(ISBLANK(InfoPro!A82),\"\",InfoPro!A82)","v":""},{"$f":"IF(ISBLANK(InfoPro!B82),\"\",InfoPro!B82)","v":""},{"$f":"IF(ISBLANK(InfoPro!E82),\"\",InfoPro!E82)","v":""},{"$f":"IF(ISBLANK(InfoPro!F82),\"\",InfoPro!F82)","v":""},{"$f":"IF(ISBLANK(InfoPro!I82),\"\",YEAR(InfoPro!I82)-$G$3)","v":""},{"$f":"IF(B89=\"\",\"\",VLOOKUP(D89,Tablas!$B$2:$E$13,2,FALSE))","v":""},{"$f":"IF(B89=\"\",\"\",VLOOKUP(D89,Tablas!$B$2:$G$13,6,FALSE))","v":""},"","",{"$f":"IF($I89=\"\",\"\",(1/(1+$C$4)^(J$7+$E89))*$I89*$C$5)","v":""},"","","","","","","","","","","","","","","",""]
[{"$f":"IF(ISBLANK(InfoPro!A83),\"\",InfoPro!A83)","v":""},{"$f":"IF(ISBLANK(InfoPro!B83),\"\",InfoPro!B83)","v":""},{"$f":"IF(ISBLANK(InfoPro!E83),\"\",InfoPro!E83)","v":""},{"$f":"IF(ISBLANK(InfoPro!F83),\"\",InfoPro!F83)","v":""},{"$f":"IF(ISBLANK(InfoPro!I83),\"\",YEAR(InfoPro!I83)-$G$3)","v":""},{"$f":"IF(B90=\"\",\"\",VLOOKUP(D90,Tablas!$B$2:$E$13,2,FALSE))","v":""},{"$f":"IF(B90=\"\",\"\",VLOOKUP(D90,Tablas!$B$2:$G$13,6,FALSE))","v":""},"","","","","","","","","","","","","","","","","","",""]
[{"$f":"IF(ISBLANK(InfoPro!A84),\"\",InfoPro!A84)","v":""},{"$f":"IF(ISBLANK(InfoPro!B84),\"\",InfoPro!B84)","v":""},{"$f":"IF(ISBLANK(InfoPro!E84),\"\",InfoPro!E84)","v":""},{"$f":"IF(ISBLANK(InfoPro!F84),\"\",InfoPro!F84)","v":""},{"$f":"IF(ISBLANK(InfoPro!I84),\"\",YEAR(InfoPro!I84)-$G$3)","v":""},{"$f":"IF(B91=\"\",\"\",VLOOKUP(D91,Tablas!$B$2:$E$13,2,FALSE))","v":""},{"$f":"IF(B91=\"\",\"\",VLOOKUP(D91,Tablas!$B$2:$G$13,6,FALSE))","v":""},"","","","","","","","","","","","","","","","","","",""]
[{"$f":"IF(ISBLANK(InfoPro!A85),\"\",InfoPro!A85)","v":""},{"$f":"IF(ISBLANK(InfoPro!B85),\"\",InfoPro!B85)","v":""},{"$f":"IF(ISBLANK(InfoPro!E85),\"\",InfoPro!E85)","v":""},{"$f":"IF(ISBLANK(InfoPro!F85),\"\",InfoPro!F85)","v":""},{"$f":"IF(ISBLANK(InfoPro!I85),\"\",YEAR(InfoPro!I85)-$G$3)","v":""},{"$f":"IF(B92=\"\",\"\",VLOOKUP(D92,Tablas!$B$2:$E$13,2,FALSE))","v":""},{"$f":"IF(B92=\"\",\"\",VLOOKUP(D92,Tablas!$B$2:$G$13,6,FALSE))","v":""},"","","","","","","","","","","","","","","","","","",""]
[{"$f":"IF(ISBLANK(InfoPro!A86),\"\",InfoPro!A86)","v":""},{"$f":"IF(ISBLANK(InfoPro!B86),\"\",InfoPro!B86)","v":""},{"$f":"IF(ISBLANK(InfoPro!E86),\"\",InfoPro!E86)","v":""},{"$f":"IF(ISBLANK(InfoPro!F86),\"\",InfoPro!F86)","v":""},{"$f":"IF(ISBLANK(InfoPro!I86),\"\",YEAR(InfoPro!I86)-$G$3)","v":""},{"$f":"IF(B93=\"\",\"\",VLOOKUP(D93,Tablas!$B$2:$E$13,2,FALSE))","v":""},{"$f":"IF(B93=\"\",\"\",VLOOKUP(D93,Tablas!$B$2:$G$13,6,FALSE))","v":""},"","","","","","","","","","","","","","","","","","",""]
[{"$f":"IF(ISBLANK(InfoPro!A87),\"\",InfoPro!A87)","v":""},{"$f":"IF(ISBLANK(InfoPro!B87),\"\",InfoPro!B87)","v":""},{"$f":"IF(ISBLANK(InfoPro!E87),\"\",InfoPro!E87)","v":""},{"$f":"IF(ISBLANK(InfoPro!F87),\"\",InfoPro!F87)","v":""},{"$f":"IF(ISBLANK(InfoPro!I87),\"\",YEAR(InfoPro!I87)-$G$3)","v":""},{"$f":"IF(B94=\"\",\"\",VLOOKUP(D94,Tablas!$B$2:$E$13,2,FALSE))","v":""},{"$f":"IF(B94=\"\",\"\",VLOOKUP(D94,Tablas!$B$2:$G$13,6,FALSE))","v":""},"","","","","","","","","","","","","","","","","","",""]
[{"$f":"IF(ISBLANK(InfoPro!A88),\"\",InfoPro!A88)","v":""},{"$f":"IF(ISBLANK(InfoPro!B88),\"\",InfoPro!B88)","v":""},{"$f":"IF(ISBLANK(InfoPro!E88),\"\",InfoPro!E88)","v":""},{"$f":"IF(ISBLANK(InfoPro!F88),\"\",InfoPro!F88)","v":""},{"$f":"IF(ISBLANK(InfoPro!I88),\"\",YEAR(InfoPro!I88)-$G$3)","v":""},{"$f":"IF(B95=\"\",\"\",VLOOKUP(D95,Tablas!$B$2:$E$13,2,FALSE))","v":""},{"$f":"IF(B95=\"\",\"\",VLOOKUP(D95,Tablas!$B$2:$G$13,6,FALSE))","v":""},{"$f":"IF(C95=\"\",\"\",+C95*F95*24*365)","v":""},"","","","","","","","","","","","","","","","","",""]
[{"$f":"IF(ISBLANK(InfoPro!A89),\"\",InfoPro!A89)","v":""},{"$f":"IF(ISBLANK(InfoPro!B89),\"\",InfoPro!B89)","v":""},{"$f":"IF(ISBLANK(InfoPro!E89),\"\",InfoPro!E89)","v":""},{"$f":"IF(ISBLANK(InfoPro!F89),\"\",InfoPro!F89)","v":""},{"$f":"IF(ISBLANK(InfoPro!I89),\"\",YEAR(InfoPro!I89)-$G$3)","v":""},{"$f":"IF(B96=\"\",\"\",VLOOKUP(D96,Tablas!$B$2:$E$13,2,FALSE))","v":""},{"$f":"IF(B96=\"\",\"\",VLOOKUP(D96,Tablas!$B$2:$G$13,6,FALSE))","v":""},"","","","","","","","","","","","","","","","","","",""]
[{"$f":"IF(ISBLANK(InfoPro!A90),\"\",InfoPro!A90)","v":""},{"$f":"IF(ISBLANK(InfoPro!B90),\"\",InfoPro!B90)","v":""},{"$f":"IF(ISBLANK(InfoPro!E90),\"\",InfoPro!E90)","v":""},{"$f":"IF(ISBLANK(InfoPro!F90),\"\",InfoPro!F90)","v":""},{"$f":"IF(ISBLANK(InfoPro!I90),\"\",YEAR(InfoPro!I90)-$G$3)","v":""},{"$f":"IF(B97=\"\",\"\",VLOOKUP(D97,Tablas!$B$2:$E$13,2,FALSE))","v":""},{"$f":"IF(B97=\"\",\"\",VLOOKUP(D97,Tablas!$B$2:$G$13,6,FALSE))","v":""},"","","","","","","","","","","","","","","","","","",""]
[{"$f":"IF(ISBLANK(InfoPro!A91),\"\",InfoPro!A91)","v":""},{"$f":"IF(ISBLANK(InfoPro!B91),\"\",InfoPro!B91)","v":""},{"$f":"IF(ISBLANK(InfoPro!E91),\"\",InfoPro!E91)","v":""},{"$f":"IF(ISBLANK(InfoPro!F91),\"\",InfoPro!F91)","v":""},{"$f":"IF(ISBLANK(InfoPro!I91),\"\",YEAR(InfoPro!I91)-$G$3)","v":""},{"$f":"IF(B98=\"\",\"\",VLOOKUP(D98,Tablas!$B$2:$E$13,2,FALSE))","v":""},{"$f":"IF(B98=\"\",\"\",VLOOKUP(D98,Tablas!$B$2:$G$13,6,FALSE))","v":""},"","","","","","","","","","","","","","","","","","",""]
[{"$f":"IF(ISBLANK(InfoPro!A92),\"\",InfoPro!A92)","v":""},{"$f":"IF(ISBLANK(InfoPro!B92),\"\",InfoPro!B92)","v":""},{"$f":"IF(ISBLANK(InfoPro!E92),\"\",InfoPro!E92)","v":""},{"$f":"IF(ISBLANK(InfoPro!F92),\"\",InfoPro!F92)","v":""},{"$f":"IF(ISBLANK(InfoPro!I92),\"\",YEAR(InfoPro!I92)-$G$3)","v":""},{"$f":"IF(B99=\"\",\"\",VLOOKUP(D99,Tablas!$B$2:$E$13,2,FALSE))","v":""},{"$f":"IF(B99=\"\",\"\",VLOOKUP(D99,Tablas!$B$2:$G$13,6,FALSE))","v":""},"","",{"$f":"IF($I99=\"\",\"\",(1/(1+$C$4)^(J$7+$E99))*$I99*$C$5)","v":""},"","","","","","","","","","","","","","","",""]
[{"$f":"IF(ISBLANK(InfoPro!A93),\"\",InfoPro!A93)","v":""},{"$f":"IF(ISBLANK(InfoPro!B93),\"\",InfoPro!B93)","v":""},{"$f":"IF(ISBLANK(InfoPro!E93),\"\",InfoPro!E93)","v":""},{"$f":"IF(ISBLANK(InfoPro!F93),\"\",InfoPro!F93)","v":""},{"$f":"IF(ISBLANK(InfoPro!I93),\"\",YEAR(InfoPro!I93)-$G$3)","v":""},{"$f":"IF(B100=\"\",\"\",VLOOKUP(D100,Tablas!$B$2:$E$13,2,FALSE))","v":""},{"$f":"IF(B100=\"\",\"\",VLOOKUP(D100,Tablas!$B$2:$G$13,6,FALSE))","v":""},"","","","","","","","","","","","","","","","","","",""]
[{"$f":"IF(ISBLANK(InfoPro!A94),\"\",InfoPro!A94)","v":""},{"$f":"IF(ISBLANK(InfoPro!B94),\"\",InfoPro!B94)","v":""},{"$f":"IF(ISBLANK(InfoPro!E94),\"\",InfoPro!E94)","v":""},{"$f":"IF(ISBLANK(InfoPro!F94),\"\",InfoPro!F94)","v":""},{"$f":"IF(ISBLANK(InfoPro!I94),\"\",YEAR(InfoPro!I94)-$G$3)","v":""},{"$f":"IF(B101=\"\",\"\",VLOOKUP(D101,Tablas!$B$2:$E$13,2,FALSE))","v":""},{"$f":"IF(B101=\"\",\"\",VLOOKUP(D101,Tablas!$B$2:$G$13,6,FALSE))","v":""},"","","","","","","","","","","","","","","","","","",""]
[{"$f":"IF(ISBLANK(InfoPro!A95),\"\",InfoPro!A95)","v":""},{"$f":"IF(ISBLANK(InfoPro!B95),\"\",InfoPro!B95)","v":""},{"$f":"IF(ISBLANK(InfoPro!E95),\"\",InfoPro!E95)","v":""},{"$f":"IF(ISBLANK(InfoPro!F95),\"\",InfoPro!F95)","v":""},{"$f":"IF(ISBLANK(InfoPro!I95),\"\",YEAR(InfoPro!I95)-$G$3)","v":""},{"$f":"IF(B102=\"\",\"\",VLOOKUP(D102,Tablas!$B$2:$E$13,2,FALSE))","v":""},{"$f":"IF(B102=\"\",\"\",VLOOKUP(D102,Tablas!$B$2:$G$13,6,FALSE))","v":""},"","","","","","","","","","","","","","","","","","",""]
[{"$f":"IF(ISBLANK(InfoPro!A96),\"\",InfoPro!A96)","v":""},{"$f":"IF(ISBLANK(InfoPro!B96),\"\",InfoPro!B96)","v":""},{"$f":"IF(ISBLANK(InfoPro!E96),\"\",InfoPro!E96)","v":""},{"$f":"IF(ISBLANK(InfoPro!F96),\"\",InfoPro!F96)","v":""},{"$f":"IF(ISBLANK(InfoPro!I96),\"\",YEAR(InfoPro!I96)-$G$3)","v":""},{"$f":"IF(B103=\"\",\"\",VLOOKUP(D103,Tablas!$B$2:$E$13,2,FALSE))","v":""},{"$f":"IF(B103=\"\",\"\",VLOOKUP(D103,Tablas!$B$2:$G$13,6,FALSE))","v":""},"","","","","","","","","","","","","","","","","","",""]
[{"$f":"IF(ISBLANK(InfoPro!A97),\"\",InfoPro!A97)","v":""},{"$f":"IF(ISBLANK(InfoPro!B97),\"\",InfoPro!B97)","v":""},{"$f":"IF(ISBLANK(InfoPro!E97),\"\",InfoPro!E97)","v":""},{"$f":"IF(ISBLANK(InfoPro!F97),\"\",InfoPro!F97)","v":""},{"$f":"IF(ISBLANK(InfoPro!I97),\"\",YEAR(InfoPro!I97)-$G$3)","v":""},{"$f":"IF(B104=\"\",\"\",VLOOKUP(D104,Tablas!$B$2:$E$13,2,FALSE))","v":""},{"$f":"IF(B104=\"\",\"\",VLOOKUP(D104,Tablas!$B$2:$G$13,6,FALSE))","v":""},"","","","","","","","","","","","","","","","","","",""]
[{"$f":"IF(ISBLANK(InfoPro!A98),\"\",InfoPro!A98)","v":""},{"$f":"IF(ISBLANK(InfoPro!B98),\"\",InfoPro!B98)","v":""},{"$f":"IF(ISBLANK(InfoPro!E98),\"\",InfoPro!E98)","v":""},{"$f":"IF(ISBLANK(InfoPro!F98),\"\",InfoPro!F98)","v":""},{"$f":"IF(ISBLANK(InfoPro!I98),\"\",YEAR(InfoPro!I98)-$G$3)","v":""},{"$f":"IF(B105=\"\",\"\",VLOOKUP(D105,Tablas!$B$2:$E$13,2,FALSE))","v":""},{"$f":"IF(B105=\"\",\"\",VLOOKUP(D105,Tablas!$B$2:$G$13,6,FALSE))","v":""},"",{"$f":"IF(H105=\"\",\"\",+H105*($C$3-G105))","v":""},"","","","","","","","","","","","","","","","",""]
[{"$f":"IF(ISBLANK(InfoPro!A99),\"\",InfoPro!A99)","v":""},{"$f":"IF(ISBLANK(InfoPro!B99),\"\",InfoPro!B99)","v":""},{"$f":"IF(ISBLANK(InfoPro!E99),\"\",InfoPro!E99)","v":""},{"$f":"IF(ISBLANK(InfoPro!F99),\"\",InfoPro!F99)","v":""},{"$f":"IF(ISBLANK(InfoPro!I99),\"\",YEAR(InfoPro!I99)-$G$3)","v":""},{"$f":"IF(B106=\"\",\"\",VLOOKUP(D106,Tablas!$B$2:$E$13,2,FALSE))","v":""},{"$f":"IF(B106=\"\",\"\",VLOOKUP(D106,Tablas!$B$2:$G$13,6,FALSE))","v":""},"","","","","","","","","","","","","","","","","","",""]
[{"$f":"IF(ISBLANK(InfoPro!A100),\"\",InfoPro!A100)","v":""},{"$f":"IF(ISBLANK(InfoPro!B100),\"\",InfoPro!B100)","v":""},{"$f":"IF(ISBLANK(InfoPro!E100),\"\",InfoPro!E100)","v":""},{"$f":"IF(ISBLANK(InfoPro!F100),\"\",InfoPro!F100)","v":""},{"$f":"IF(ISBLANK(InfoPro!I100),\"\",YEAR(InfoPro!I100)-$G$3)","v":""},{"$f":"IF(B107=\"\",\"\",VLOOKUP(D107,Tablas!$B$2:$E$13,2,FALSE))","v":""},{"$f":"IF(B107=\"\",\"\",VLOOKUP(D107,Tablas!$B$2:$G$13,6,FALSE))","v":""},"","","","","","","","","","","","","","","","","","",""]
[{"$f":"IF(ISBLANK(InfoPro!A101),\"\",InfoPro!A101)","v":""},{"$f":"IF(ISBLANK(InfoPro!B101),\"\",InfoPro!B101)","v":""},{"$f":"IF(ISBLANK(InfoPro!E101),\"\",InfoPro!E101)","v":""},{"$f":"IF(ISBLANK(InfoPro!F101),\"\",InfoPro!F101)","v":""},{"$f":"IF(ISBLANK(InfoPro!I101),\"\",YEAR(InfoPro!I101)-$G$3)","v":""},{"$f":"IF(B108=\"\",\"\",VLOOKUP(D108,Tablas!$B$2:$E$13,2,FALSE))","v":""},{"$f":"IF(B108=\"\",\"\",VLOOKUP(D108,Tablas!$B$2:$G$13,6,FALSE))","v":""},"","","","","","","","","","","","","","","","","","",""]
[{"$f":"IF(ISBLANK(InfoPro!A102),\"\",InfoPro!A102)","v":""},{"$f":"IF(ISBLANK(InfoPro!B102),\"\",InfoPro!B102)","v":""},{"$f":"IF(ISBLANK(InfoPro!E102),\"\",InfoPro!E102)","v":""},{"$f":"IF(ISBLANK(InfoPro!F102),\"\",InfoPro!F102)","v":""},{"$f":"IF(ISBLANK(InfoPro!I102),\"\",YEAR(InfoPro!I102)-$G$3)","v":""},{"$f":"IF(B109=\"\",\"\",VLOOKUP(D109,Tablas!$B$2:$E$13,2,FALSE))","v":""},{"$f":"IF(B109=\"\",\"\",VLOOKUP(D109,Tablas!$B$2:$G$13,6,FALSE))","v":""},{"$f":"IF(C109=\"\",\"\",+C109*F109*24*365)","v":""},{"$f":"IF(H109=\"\",\"\",+H109*($C$3-G109))","v":""},"","","","","","","","","","","","","","","",{"$f":"IF(X109=\"\",\"\",SUM(J109:X109)*$C$6)","v":""},{"$f":"IF(C109=0,0,IF(Y109=\"\",\"\",Y109/(C109*1000)))","v":""}]
[{"$f":"IF(ISBLANK(InfoPro!A103),\"\",InfoPro!A103)","v":""},{"$f":"IF(ISBLANK(InfoPro!B103),\"\",InfoPro!B103)","v":""},{"$f":"IF(ISBLANK(InfoPro!E103),\"\",InfoPro!E103)","v":""},{"$f":"IF(ISBLANK(InfoPro!F103),\"\",InfoPro!F103)","v":""},{"$f":"IF(ISBLANK(InfoPro!I103),\"\",YEAR(InfoPro!I103)-$G$3)","v":""},{"$f":"IF(B110=\"\",\"\",VLOOKUP(D110,Tablas!$B$2:$E$13,2,FALSE))","v":""},{"$f":"IF(B110=\"\",\"\",VLOOKUP(D110,Tablas!$B$2:$G$13,6,FALSE))","v":""},"","","","","","","","","","","","","","","","","","",""]
[{"$f":"IF(ISBLANK(InfoPro!A104),\"\",InfoPro!A104)","v":""},{"$f":"IF(ISBLANK(InfoPro!B104),\"\",InfoPro!B104)","v":""},{"$f":"IF(ISBLANK(InfoPro!E104),\"\",InfoPro!E104)","v":""},{"$f":"IF(ISBLANK(InfoPro!F104),\"\",InfoPro!F104)","v":""},{"$f":"IF(ISBLANK(InfoPro!I104),\"\",YEAR(InfoPro!I104)-$G$3)","v":""},{"$f":"IF(B111=\"\",\"\",VLOOKUP(D111,Tablas!$B$2:$E$13,2,FALSE))","v":""},{"$f":"IF(B111=\"\",\"\",VLOOKUP(D111,Tablas!$B$2:$G$13,6,FALSE))","v":""},{"$f":"IF(C111=\"\",\"\",+C111*F111*24*365)","v":""},{"$f":"IF(H111=\"\",\"\",+H111*($C$3-G111))","v":""},"","","","","","","","","","","","","","","",{"$f":"IF(X111=\"\",\"\",SUM(J111:X111)*$C$6)","v":""},{"$f":"IF(C111=0,0,IF(Y111=\"\",\"\",Y111/(C111*1000)))","v":""}]
[{"$f":"IF(ISBLANK(InfoPro!A105),\"\",InfoPro!A105)","v":""},{"$f":"IF(ISBLANK(InfoPro!B105),\"\",InfoPro!B105)","v":""},{"$f":"IF(ISBLANK(InfoPro!E105),\"\",InfoPro!E105)","v":""},{"$f":"IF(ISBLANK(InfoPro!F105),\"\",InfoPro!F105)","v":""},{"$f":"IF(ISBLANK(InfoPro!I105),\"\",YEAR(InfoPro!I105)-$G$3)","v":""},{"$f":"IF(B112=\"\",\"\",VLOOKUP(D112,Tablas!$B$2:$E$13,2,FALSE))","v":""},{"$f":"IF(B112=\"\",\"\",VLOOKUP(D112,Tablas!$B$2:$G$13,6,FALSE))","v":""},"","","","","","","","","","","","","","","","","","",""]
[{"$f":"IF(ISBLANK(InfoPro!A106),\"\",InfoPro!A106)","v":""},{"$f":"IF(ISBLANK(InfoPro!B106),\"\",InfoPro!B106)","v":""},{"$f":"IF(ISBLANK(InfoPro!E106),\"\",InfoPro!E106)","v":""},{"$f":"IF(ISBLANK(InfoPro!F106),\"\",InfoPro!F106)","v":""},{"$f":"IF(ISBLANK(InfoPro!I106),\"\",YEAR(InfoPro!I106)-$G$3)","v":""},{"$f":"IF(B113=\"\",\"\",VLOOKUP(D113,Tablas!$B$2:$E$13,2,FALSE))","v":""},{"$f":"IF(B113=\"\",\"\",VLOOKUP(D113,Tablas!$B$2:$G$13,6,FALSE))","v":""},"","","","","","","","","","","","","","","","","","",""]
[{"$f":"IF(ISBLANK(InfoPro!A107),\"\",InfoPro!A107)","v":""},{"$f":"IF(ISBLANK(InfoPro!B107),\"\",InfoPro!B107)","v":""},{"$f":"IF(ISBLANK(InfoPro!E107),\"\",InfoPro!E107)","v":""},{"$f":"IF(ISBLANK(InfoPro!F107),\"\",InfoPro!F107)","v":""},{"$f":"IF(ISBLANK(InfoPro!I107),\"\",YEAR(InfoPro!I107)-$G$3)","v":""},{"$f":"IF(B114=\"\",\"\",VLOOKUP(D114,Tablas!$B$2:$E$13,2,FALSE))","v":""},{"$f":"IF(B114=\"\",\"\",VLOOKUP(D114,Tablas!$B$2:$G$13,6,FALSE))","v":""},"","","","","","","","","","","","","","","","","","",""]
[{"$f":"IF(ISBLANK(InfoPro!A108),\"\",InfoPro!A108)","v":""},{"$f":"IF(ISBLANK(InfoPro!B108),\"\",InfoPro!B108)","v":""},{"$f":"IF(ISBLANK(InfoPro!E108),\"\",InfoPro!E108)","v":""},{"$f":"IF(ISBLANK(InfoPro!F108),\"\",InfoPro!F108)","v":""},{"$f":"IF(ISBLANK(InfoPro!I108),\"\",YEAR(InfoPro!I108)-$G$3)","v":""},{"$f":"IF(B115=\"\",\"\",VLOOKUP(D115,Tablas!$B$2:$E$13,2,FALSE))","v":""},{"$f":"IF(B115=\"\",\"\",VLOOKUP(D115,Tablas!$B$2:$G$13,6,FALSE))","v":""},"","",{"$f":"IF($I115=\"\",\"\",(1/(1+$C$4)^(J$7+$E115))*$I115*$C$5)","v":""},"","","","","","","","","","","","","","","",""]
[{"$f":"IF(ISBLANK(InfoPro!A109),\"\",InfoPro!A109)","v":""},{"$f":"IF(ISBLANK(InfoPro!B109),\"\",InfoPro!B109)","v":""},{"$f":"IF(ISBLANK(InfoPro!E109),\"\",InfoPro!E109)","v":""},{"$f":"IF(ISBLANK(InfoPro!F109),\"\",InfoPro!F109)","v":""},{"$f":"IF(ISBLANK(InfoPro!I109),\"\",YEAR(InfoPro!I109)-$G$3)","v":""},{"$f":"IF(B116=\"\",\"\",VLOOKUP(D116,Tablas!$B$2:$E$13,2,FALSE))","v":""},{"$f":"IF(B116=\"\",\"\",VLOOKUP(D116,Tablas!$B$2:$G$13,6,FALSE))","v":""},"","","","","","","","","","","","","","","","","","",""]
[{"$f":"IF(ISBLANK(InfoPro!A110),\"\",InfoPro!A110)","v":""},{"$f":"IF(ISBLANK(InfoPro!B110),\"\",InfoPro!B110)","v":""},{"$f":"IF(ISBLANK(InfoPro!E110),\"\",InfoPro!E110)","v":""},{"$f":"IF(ISBLANK(InfoPro!F110),\"\",InfoPro!F110)","v":""},{"$f":"IF(ISBLANK(InfoPro!I110),\"\",YEAR(InfoPro!I110)-$G$3)","v":""},{"$f":"IF(B117=\"\",\"\",VLOOKUP(D117,Tablas!$B$2:$E$13,2,FALSE))","v":""},{"$f":"IF(B117=\"\",\"\",VLOOKUP(D117,Tablas!$B$2:$G$13,6,FALSE))","v":""},"","","","","","","","","","","","","","","","","","",""]
[{"$f":"IF(ISBLANK(InfoPro!A111),\"\",InfoPro!A111)","v":""},{"$f":"IF(ISBLANK(InfoPro!B111),\"\",InfoPro!B111)","v":""},{"$f":"IF(ISBLANK(InfoPro!E111),\"\",InfoPro!E111)","v":""},{"$f":"IF(ISBLANK(InfoPro!F111),\"\",InfoPro!F111)","v":""},{"$f":"IF(ISBLANK(InfoPro!I111),\"\",YEAR(InfoPro!I111)-$G$3)","v":""},{"$f":"IF(B118=\"\",\"\",VLOOKUP(D118,Tablas!$B$2:$E$13,2,FALSE))","v":""},{"$f":"IF(B118=\"\",\"\",VLOOKUP(D118,Tablas!$B$2:$G$13,6,FALSE))","v":""},"","","","","","","","","","","","","","","","","","",""]
[{"$f":"IF(ISBLANK(InfoPro!A112),\"\",InfoPro!A112)","v":""},{"$f":"IF(ISBLANK(InfoPro!B112),\"\",InfoPro!B112)","v":""},{"$f":"IF(ISBLANK(InfoPro!E112),\"\",InfoPro!E112)","v":""},{"$f":"IF(ISBLANK(InfoPro!F112),\"\",InfoPro!F112)","v":""},{"$f":"IF(ISBLANK(InfoPro!I112),\"\",YEAR(InfoPro!I112)-$G$3)","v":""},{"$f":"IF(B119=\"\",\"\",VLOOKUP(D119,Tablas!$B$2:$E$13,2,FALSE))","v":""},{"$f":"IF(B119=\"\",\"\",VLOOKUP(D119,Tablas!$B$2:$G$13,6,FALSE))","v":""},"","","","","","","","","","","","","","","","","","",""]
[{"$f":"IF(ISBLANK(InfoPro!A113),\"\",InfoPro!A113)","v":""},{"$f":"IF(ISBLANK(InfoPro!B113),\"\",InfoPro!B113)","v":""},{"$f":"IF(ISBLANK(InfoPro!E113),\"\",InfoPro!E113)","v":""},{"$f":"IF(ISBLANK(InfoPro!F113),\"\",InfoPro!F113)","v":""},{"$f":"IF(ISBLANK(InfoPro!I113),\"\",YEAR(InfoPro!I113)-$G$3)","v":""},{"$f":"IF(B120=\"\",\"\",VLOOKUP(D120,Tablas!$B$2:$E$13,2,FALSE))","v":""},{"$f":"IF(B120=\"\",\"\",VLOOKUP(D120,Tablas!$B$2:$G$13,6,FALSE))","v":""},"","","","","","","","","","","","","","","","","","",""]
[{"$f":"IF(ISBLANK(InfoPro!A114),\"\",InfoPro!A114)","v":""},{"$f":"IF(ISBLANK(InfoPro!B114),\"\",InfoPro!B114)","v":""},{"$f":"IF(ISBLANK(InfoPro!E114),\"\",InfoPro!E114)","v":""},{"$f":"IF(ISBLANK(InfoPro!F114),\"\",InfoPro!F114)","v":""},{"$f":"IF(ISBLANK(InfoPro!I114),\"\",YEAR(InfoPro!I114)-$G$3)","v":""},{"$f":"IF(B121=\"\",\"\",VLOOKUP(D121,Tablas!$B$2:$E$13,2,FALSE))","v":""},{"$f":"IF(B121=\"\",\"\",VLOOKUP(D121,Tablas!$B$2:$G$13,6,FALSE))","v":""},"","","","","","","","","","","","","","","","","","",""]
[{"$f":"IF(ISBLANK(InfoPro!A115),\"\",InfoPro!A115)","v":""},{"$f":"IF(ISBLANK(InfoPro!B115),\"\",InfoPro!B115)","v":""},{"$f":"IF(ISBLANK(InfoPro!E115),\"\",InfoPro!E115)","v":""},{"$f":"IF(ISBLANK(InfoPro!F115),\"\",InfoPro!F115)","v":""},{"$f":"IF(ISBLANK(InfoPro!I115),\"\",YEAR(InfoPro!I115)-$G$3)","v":""},{"$f":"IF(B122=\"\",\"\",VLOOKUP(D122,Tablas!$B$2:$E$13,2,FALSE))","v":""},{"$f":"IF(B122=\"\",\"\",VLOOKUP(D122,Tablas!$B$2:$G$13,6,FALSE))","v":""},"","","","","","","","","","","","","","","","","","",""]
[{"$f":"IF(ISBLANK(InfoPro!A116),\"\",InfoPro!A116)","v":""},{"$f":"IF(ISBLANK(InfoPro!B116),\"\",InfoPro!B116)","v":""},{"$f":"IF(ISBLANK(InfoPro!E116),\"\",InfoPro!E116)","v":""},{"$f":"IF(ISBLANK(InfoPro!F116),\"\",InfoPro!F116)","v":""},{"$f":"IF(ISBLANK(InfoPro!I116),\"\",YEAR(InfoPro!I116)-$G$3)","v":""},{"$f":"IF(B123=\"\",\"\",VLOOKUP(D123,Tablas!$B$2:$E$13,2,FALSE))","v":""},{"$f":"IF(B123=\"\",\"\",VLOOKUP(D123,Tablas!$B$2:$G$13,6,FALSE))","v":""},"","","","","","","","","","","","","","","","","","",""]
[{"$f":"IF(ISBLANK(InfoPro!A117),\"\",InfoPro!A117)","v":""},{"$f":"IF(ISBLANK(InfoPro!B117),\"\",InfoPro!B117)","v":""},{"$f":"IF(ISBLANK(InfoPro!E117),\"\",InfoPro!E117)","v":""},{"$f":"IF(ISBLANK(InfoPro!F117),\"\",InfoPro!F117)","v":""},{"$f":"IF(ISBLANK(InfoPro!I117),\"\",YEAR(InfoPro!I117)-$G$3)","v":""},{"$f":"IF(B124=\"\",\"\",VLOOKUP(D124,Tablas!$B$2:$E$13,2,FALSE))","v":""},{"$f":"IF(B124=\"\",\"\",VLOOKUP(D124,Tablas!$B$2:$G$13,6,FALSE))","v":""},"","","","","","","","","","","","","","","","","","",""]
[{"$f":"IF(ISBLANK(InfoPro!A118),\"\",InfoPro!A118)","v":""},{"$f":"IF(ISBLANK(InfoPro!B118),\"\",InfoPro!B118)","v":""},{"$f":"IF(ISBLANK(InfoPro!E118),\"\",InfoPro!E118)","v":""},{"$f":"IF(ISBLANK(InfoPro!F118),\"\",InfoPro!F118)","v":""},{"$f":"IF(ISBLANK(InfoPro!I118),\"\",YEAR(InfoPro!I118)-$G$3)","v":""},{"$f":"IF(B125=\"\",\"\",VLOOKUP(D125,Tablas!$B$2:$E$13,2,FALSE))","v":""},{"$f":"IF(B125=\"\",\"\",VLOOKUP(D125,Tablas!$B$2:$G$13,6,FALSE))","v":""},"","","","","","","","","","","","","","","","","","",""]
[{"$f":"IF(ISBLANK(InfoPro!A119),\"\",InfoPro!A119)","v":""},{"$f":"IF(ISBLANK(InfoPro!B119),\"\",InfoPro!B119)","v":""},{"$f":"IF(ISBLANK(InfoPro!E119),\"\",InfoPro!E119)","v":""},{"$f":"IF(ISBLANK(InfoPro!F119),\"\",InfoPro!F119)","v":""},{"$f":"IF(ISBLANK(InfoPro!I119),\"\",YEAR(InfoPro!I119)-$G$3)","v":""},{"$f":"IF(B126=\"\",\"\",VLOOKUP(D126,Tablas!$B$2:$E$13,2,FALSE))","v":""},{"$f":"IF(B126=\"\",\"\",VLOOKUP(D126,Tablas!$B$2:$G$13,6,FALSE))","v":""},"","","","","","","","","","","","","","","","","","",""]
[{"$f":"IF(ISBLANK(InfoPro!A120),\"\",InfoPro!A120)","v":""},{"$f":"IF(ISBLANK(InfoPro!B120),\"\",InfoPro!B120)","v":""},{"$f":"IF(ISBLANK(InfoPro!E120),\"\",InfoPro!E120)","v":""},{"$f":"IF(ISBLANK(InfoPro!F120),\"\",InfoPro!F120)","v":""},{"$f":"IF(ISBLANK(InfoPro!I120),\"\",YEAR(InfoPro!I120)-$G$3)","v":""},{"$f":"IF(B127=\"\",\"\",VLOOKUP(D127,Tablas!$B$2:$E$13,2,FALSE))","v":""},{"$f":"IF(B127=\"\",\"\",VLOOKUP(D127,Tablas!$B$2:$G$13,6,FALSE))","v":""},"","","","","","","","","","","","","","","","","","",""]
[{"$f":"IF(ISBLANK(InfoPro!A121),\"\",InfoPro!A121)","v":""},{"$f":"IF(ISBLANK(InfoPro!B121),\"\",InfoPro!B121)","v":""},{"$f":"IF(ISBLANK(InfoPro!E121),\"\",InfoPro!E121)","v":""},{"$f":"IF(ISBLANK(InfoPro!F121),\"\",InfoPro!F121)","v":""},{"$f":"IF(ISBLANK(InfoPro!I121),\"\",YEAR(InfoPro!I121)-$G$3)","v":""},{"$f":"IF(B128=\"\",\"\",VLOOKUP(D128,Tablas!$B$2:$E$13,2,FALSE))","v":""},{"$f":"IF(B128=\"\",\"\",VLOOKUP(D128,Tablas!$B$2:$G$13,6,FALSE))","v":""},"","","","","","","","","","","","","","","","","","",""]
[{"$f":"IF(ISBLANK(InfoPro!A122),\"\",InfoPro!A122)","v":""},{"$f":"IF(ISBLANK(InfoPro!B122),\"\",InfoPro!B122)","v":""},{"$f":"IF(ISBLANK(InfoPro!E122),\"\",InfoPro!E122)","v":""},{"$f":"IF(ISBLANK(InfoPro!F122),\"\",InfoPro!F122)","v":""},{"$f":"IF(ISBLANK(InfoPro!I122),\"\",YEAR(InfoPro!I122)-$G$3)","v":""},{"$f":"IF(B129=\"\",\"\",VLOOKUP(D129,Tablas!$B$2:$E$13,2,FALSE))","v":""},{"$f":"IF(B129=\"\",\"\",VLOOKUP(D129,Tablas!$B$2:$G$13,6,FALSE))","v":""},"","","","","","","","","","","","","","","","","","",""]
[{"$f":"IF(ISBLANK(InfoPro!A123),\"\",InfoPro!A123)","v":""},{"$f":"IF(ISBLANK(InfoPro!B123),\"\",InfoPro!B123)","v":""},{"$f":"IF(ISBLANK(InfoPro!E123),\"\",InfoPro!E123)","v":""},{"$f":"IF(ISBLANK(InfoPro!F123),\"\",InfoPro!F123)","v":""},{"$f":"IF(ISBLANK(InfoPro!I123),\"\",YEAR(InfoPro!I123)-$G$3)","v":""},{"$f":"IF(B130=\"\",\"\",VLOOKUP(D130,Tablas!$B$2:$E$13,2,FALSE))","v":""},{"$f":"IF(B130=\"\",\"\",VLOOKUP(D130,Tablas!$B$2:$G$13,6,FALSE))","v":""},"","","","","","","","","","","","","","","","","","",""]
[{"$f":"IF(ISBLANK(InfoPro!A124),\"\",InfoPro!A124)","v":""},{"$f":"IF(ISBLANK(InfoPro!B124),\"\",InfoPro!B124)","v":""},{"$f":"IF(ISBLANK(InfoPro!E124),\"\",InfoPro!E124)","v":""},{"$f":"IF(ISBLANK(InfoPro!F124),\"\",InfoPro!F124)","v":""},{"$f":"IF(ISBLANK(InfoPro!I124),\"\",YEAR(InfoPro!I124)-$G$3)","v":""},{"$f":"IF(B131=\"\",\"\",VLOOKUP(D131,Tablas!$B$2:$E$13,2,FALSE))","v":""},{"$f":"IF(B131=\"\",\"\",VLOOKUP(D131,Tablas!$B$2:$G$13,6,FALSE))","v":""},"","","","","","","","","","","","","","","","","","",""]
[{"$f":"IF(ISBLANK(InfoPro!A125),\"\",InfoPro!A125)","v":""},{"$f":"IF(ISBLANK(InfoPro!B125),\"\",InfoPro!B125)","v":""},{"$f":"IF(ISBLANK(InfoPro!E125),\"\",InfoPro!E125)","v":""},{"$f":"IF(ISBLANK(InfoPro!F125),\"\",InfoPro!F125)","v":""},{"$f":"IF(ISBLANK(InfoPro!I125),\"\",YEAR(InfoPro!I125)-$G$3)","v":""},{"$f":"IF(B132=\"\",\"\",VLOOKUP(D132,Tablas!$B$2:$E$13,2,FALSE))","v":""},{"$f":"IF(B132=\"\",\"\",VLOOKUP(D132,Tablas!$B$2:$G$13,6,FALSE))","v":""},"","",{"$f":"IF($I132=\"\",\"\",(1/(1+$C$4)^(J$7+$E132))*$I132*$C$5)","v":""},"","","","","","","","","","","","","","","",""]
[{"$f":"IF(ISBLANK(InfoPro!A126),\"\",InfoPro!A126)","v":""},{"$f":"IF(ISBLANK(InfoPro!B126),\"\",InfoPro!B126)","v":""},{"$f":"IF(ISBLANK(InfoPro!E126),\"\",InfoPro!E126)","v":""},{"$f":"IF(ISBLANK(InfoPro!F126),\"\",InfoPro!F126)","v":""},{"$f":"IF(ISBLANK(InfoPro!I126),\"\",YEAR(InfoPro!I126)-$G$3)","v":""},{"$f":"IF(B133=\"\",\"\",VLOOKUP(D133,Tablas!$B$2:$E$13,2,FALSE))","v":""},{"$f":"IF(B133=\"\",\"\",VLOOKUP(D133,Tablas!$B$2:$G$13,6,FALSE))","v":""},"","","","","","","","","","","","","","","","","","",""]
[{"$f":"IF(ISBLANK(InfoPro!A127),\"\",InfoPro!A127)","v":""},{"$f":"IF(ISBLANK(InfoPro!B127),\"\",InfoPro!B127)","v":""},{"$f":"IF(ISBLANK(InfoPro!E127),\"\",InfoPro!E127)","v":""},{"$f":"IF(ISBLANK(InfoPro!F127),\"\",InfoPro!F127)","v":""},{"$f":"IF(ISBLANK(InfoPro!I127),\"\",YEAR(InfoPro!I127)-$G$3)","v":""},{"$f":"IF(B134=\"\",\"\",VLOOKUP(D134,Tablas!$B$2:$E$13,2,FALSE))","v":""},{"$f":"IF(B134=\"\",\"\",VLOOKUP(D134,Tablas!$B$2:$G$13,6,FALSE))","v":""},"","","","","","","","","","","","","","","","","","",""]
[{"$f":"IF(ISBLANK(InfoPro!A128),\"\",InfoPro!A128)","v":""},{"$f":"IF(ISBLANK(InfoPro!B128),\"\",InfoPro!B128)","v":""},{"$f":"IF(ISBLANK(InfoPro!E128),\"\",InfoPro!E128)","v":""},{"$f":"IF(ISBLANK(InfoPro!F128),\"\",InfoPro!F128)","v":""},{"$f":"IF(ISBLANK(InfoPro!I128),\"\",YEAR(InfoPro!I128)-$G$3)","v":""},{"$f":"IF(B135=\"\",\"\",VLOOKUP(D135,Tablas!$B$2:$E$13,2,FALSE))","v":""},{"$f":"IF(B135=\"\",\"\",VLOOKUP(D135,Tablas!$B$2:$G$13,6,FALSE))","v":""},"","","","","","","","","","","","","","","","","","",""]
[{"$f":"IF(ISBLANK(InfoPro!A129),\"\",InfoPro!A129)","v":""},{"$f":"IF(ISBLANK(InfoPro!B129),\"\",InfoPro!B129)","v":""},{"$f":"IF(ISBLANK(InfoPro!E129),\"\",InfoPro!E129)","v":""},{"$f":"IF(ISBLANK(InfoPro!F129),\"\",InfoPro!F129)","v":""},{"$f":"IF(ISBLANK(InfoPro!I129),\"\",YEAR(InfoPro!I129)-$G$3)","v":""},{"$f":"IF(B136=\"\",\"\",VLOOKUP(D136,Tablas!$B$2:$E$13,2,FALSE))","v":""},{"$f":"IF(B136=\"\",\"\",VLOOKUP(D136,Tablas!$B$2:$G$13,6,FALSE))","v":""},"","","","","","","","","","","","","","","","","","",""]
[{"$f":"IF(ISBLANK(InfoPro!A130),\"\",InfoPro!A130)","v":""},{"$f":"IF(ISBLANK(InfoPro!B130),\"\",InfoPro!B130)","v":""},{"$f":"IF(ISBLANK(InfoPro!E130),\"\",InfoPro!E130)","v":""},{"$f":"IF(ISBLANK(InfoPro!F130),\"\",InfoPro!F130)","v":""},{"$f":"IF(ISBLANK(InfoPro!I130),\"\",YEAR(InfoPro!I130)-$G$3)","v":""},{"$f":"IF(B137=\"\",\"\",VLOOKUP(D137,Tablas!$B$2:$E$13,2,FALSE))","v":""},{"$f":"IF(B137=\"\",\"\",VLOOKUP(D137,Tablas!$B$2:$G$13,6,FALSE))","v":""},"","","","","","","","","","","","","","","","","","",""]
[{"$f":"IF(ISBLANK(InfoPro!A131),\"\",InfoPro!A131)","v":""},{"$f":"IF(ISBLANK(InfoPro!B131),\"\",InfoPro!B131)","v":""},{"$f":"IF(ISBLANK(InfoPro!E131),\"\",InfoPro!E131)","v":""},{"$f":"IF(ISBLANK(InfoPro!F131),\"\",InfoPro!F131)","v":""},{"$f":"IF(ISBLANK(InfoPro!I131),\"\",YEAR(InfoPro!I131)-$G$3)","v":""},{"$f":"IF(B138=\"\",\"\",VLOOKUP(D138,Tablas!$B$2:$E$13,2,FALSE))","v":""},{"$f":"IF(B138=\"\",\"\",VLOOKUP(D138,Tablas!$B$2:$G$13,6,FALSE))","v":""},"","","","","","","","","","","","","","","","","","",""]
[{"$f":"IF(ISBLANK(InfoPro!A132),\"\",InfoPro!A132)","v":""},{"$f":"IF(ISBLANK(InfoPro!B132),\"\",InfoPro!B132)","v":""},{"$f":"IF(ISBLANK(InfoPro!E132),\"\",InfoPro!E132)","v":""},{"$f":"IF(ISBLANK(InfoPro!F132),\"\",InfoPro!F132)","v":""},{"$f":"IF(ISBLANK(InfoPro!I132),\"\",YEAR(InfoPro!I132)-$G$3)","v":""},{"$f":"IF(B139=\"\",\"\",VLOOKUP(D139,Tablas!$B$2:$E$13,2,FALSE))","v":""},{"$f":"IF(B139=\"\",\"\",VLOOKUP(D139,Tablas!$B$2:$G$13,6,FALSE))","v":""},"","","","","","","","","","","","","","","","","","",""]
[{"$f":"IF(ISBLANK(InfoPro!A133),\"\",InfoPro!A133)","v":""},{"$f":"IF(ISBLANK(InfoPro!B133),\"\",InfoPro!B133)","v":""},{"$f":"IF(ISBLANK(InfoPro!E133),\"\",InfoPro!E133)","v":""},{"$f":"IF(ISBLANK(InfoPro!F133),\"\",InfoPro!F133)","v":""},{"$f":"IF(ISBLANK(InfoPro!I133),\"\",YEAR(InfoPro!I133)-$G$3)","v":""},{"$f":"IF(B140=\"\",\"\",VLOOKUP(D140,Tablas!$B$2:$E$13,2,FALSE))","v":""},{"$f":"IF(B140=\"\",\"\",VLOOKUP(D140,Tablas!$B$2:$G$13,6,FALSE))","v":""},"","","","","","","","","","","","","","","","","","",""]
[{"$f":"IF(ISBLANK(InfoPro!A134),\"\",InfoPro!A134)","v":""},{"$f":"IF(ISBLANK(InfoPro!B134),\"\",InfoPro!B134)","v":""},{"$f":"IF(ISBLANK(InfoPro!E134),\"\",InfoPro!E134)","v":""},{"$f":"IF(ISBLANK(InfoPro!F134),\"\",InfoPro!F134)","v":""},{"$f":"IF(ISBLANK(InfoPro!I134),\"\",YEAR(InfoPro!I134)-$G$3)","v":""},{"$f":"IF(B141=\"\",\"\",VLOOKUP(D141,Tablas!$B$2:$E$13,2,FALSE))","v":""},{"$f":"IF(B141=\"\",\"\",VLOOKUP(D141,Tablas!$B$2:$G$13,6,FALSE))","v":""},"","","","","","","","","","","","","","","","","","",""]
[{"$f":"IF(ISBLANK(InfoPro!A135),\"\",InfoPro!A135)","v":""},{"$f":"IF(ISBLANK(InfoPro!B135),\"\",InfoPro!B135)","v":""},{"$f":"IF(ISBLANK(InfoPro!E135),\"\",InfoPro!E135)","v":""},{"$f":"IF(ISBLANK(InfoPro!F135),\"\",InfoPro!F135)","v":""},{"$f":"IF(ISBLANK(InfoPro!I135),\"\",YEAR(InfoPro!I135)-$G$3)","v":""},{"$f":"IF(B142=\"\",\"\",VLOOKUP(D142,Tablas!$B$2:$E$13,2,FALSE))","v":""},{"$f":"IF(B142=\"\",\"\",VLOOKUP(D142,Tablas!$B$2:$G$13,6,FALSE))","v":""},"","","","","","","","","","","","","","","","","","",""]
[{"$f":"IF(ISBLANK(InfoPro!A136),\"\",InfoPro!A136)","v":""},{"$f":"IF(ISBLANK(InfoPro!B136),\"\",InfoPro!B136)","v":""},{"$f":"IF(ISBLANK(InfoPro!E136),\"\",InfoPro!E136)","v":""},{"$f":"IF(ISBLANK(InfoPro!F136),\"\",InfoPro!F136)","v":""},{"$f":"IF(ISBLANK(InfoPro!I136),\"\",YEAR(InfoPro!I136)-$G$3)","v":""},{"$f":"IF(B143=\"\",\"\",VLOOKUP(D143,Tablas!$B$2:$E$13,2,FALSE))","v":""},{"$f":"IF(B143=\"\",\"\",VLOOKUP(D143,Tablas!$B$2:$G$13,6,FALSE))","v":""},"","","","","","","","","","","","","","","","","","",""]
[{"$f":"IF(ISBLANK(InfoPro!A137),\"\",InfoPro!A137)","v":""},{"$f":"IF(ISBLANK(InfoPro!B137),\"\",InfoPro!B137)","v":""},{"$f":"IF(ISBLANK(InfoPro!E137),\"\",InfoPro!E137)","v":""},{"$f":"IF(ISBLANK(InfoPro!F137),\"\",InfoPro!F137)","v":""},{"$f":"IF(ISBLANK(InfoPro!I137),\"\",YEAR(InfoPro!I137)-$G$3)","v":""},{"$f":"IF(B144=\"\",\"\",VLOOKUP(D144,Tablas!$B$2:$E$13,2,FALSE))","v":""},{"$f":"IF(B144=\"\",\"\",VLOOKUP(D144,Tablas!$B$2:$G$13,6,FALSE))","v":""},"","","","","","","","","","","","","","","","","","",""]
[{"$f":"IF(ISBLANK(InfoPro!A138),\"\",InfoPro!A138)","v":""},{"$f":"IF(ISBLANK(InfoPro!B138),\"\",InfoPro!B138)","v":""},{"$f":"IF(ISBLANK(InfoPro!E138),\"\",InfoPro!E138)","v":""},{"$f":"IF(ISBLANK(InfoPro!F138),\"\",InfoPro!F138)","v":""},{"$f":"IF(ISBLANK(InfoPro!I138),\"\",YEAR(InfoPro!I138)-$G$3)","v":""},{"$f":"IF(B145=\"\",\"\",VLOOKUP(D145,Tablas!$B$2:$E$13,2,FALSE))","v":""},{"$f":"IF(B145=\"\",\"\",VLOOKUP(D145,Tablas!$B$2:$G$13,6,FALSE))","v":""},"","","","","","","","","","","","","","","","","","",""]
[{"$f":"IF(ISBLANK(InfoPro!A139),\"\",InfoPro!A139)","v":""},{"$f":"IF(ISBLANK(InfoPro!B139),\"\",InfoPro!B139)","v":""},{"$f":"IF(ISBLANK(InfoPro!E139),\"\",InfoPro!E139)","v":""},{"$f":"IF(ISBLANK(InfoPro!F139),\"\",InfoPro!F139)","v":""},{"$f":"IF(ISBLANK(InfoPro!I139),\"\",YEAR(InfoPro!I139)-$G$3)","v":""},{"$f":"IF(B146=\"\",\"\",VLOOKUP(D146,Tablas!$B$2:$E$13,2,FALSE))","v":""},{"$f":"IF(B146=\"\",\"\",VLOOKUP(D146,Tablas!$B$2:$G$13,6,FALSE))","v":""},"","","","","","","","","","","","","","","","","","",""]
[{"$f":"IF(ISBLANK(InfoPro!A140),\"\",InfoPro!A140)","v":""},{"$f":"IF(ISBLANK(InfoPro!B140),\"\",InfoPro!B140)","v":""},{"$f":"IF(ISBLANK(InfoPro!E140),\"\",InfoPro!E140)","v":""},{"$f":"IF(ISBLANK(InfoPro!F140),\"\",InfoPro!F140)","v":""},{"$f":"IF(ISBLANK(InfoPro!I140),\"\",YEAR(InfoPro!I140)-$G$3)","v":""},{"$f":"IF(B147=\"\",\"\",VLOOKUP(D147,Tablas!$B$2:$E$13,2,FALSE))","v":""},{"$f":"IF(B147=\"\",\"\",VLOOKUP(D147,Tablas!$B$2:$G$13,6,FALSE))","v":""},"","","","","","","","","","","","","","","","","","",""]
[{"$f":"IF(ISBLANK(InfoPro!A141),\"\",InfoPro!A141)","v":""},{"$f":"IF(ISBLANK(InfoPro!B141),\"\",InfoPro!B141)","v":""},{"$f":"IF(ISBLANK(InfoPro!E141),\"\",InfoPro!E141)","v":""},{"$f":"IF(ISBLANK(InfoPro!F141),\"\",InfoPro!F141)","v":""},{"$f":"IF(ISBLANK(InfoPro!I141),\"\",YEAR(InfoPro!I141)-$G$3)","v":""},{"$f":"IF(B148=\"\",\"\",VLOOKUP(D148,Tablas!$B$2:$E$13,2,FALSE))","v":""},{"$f":"IF(B148=\"\",\"\",VLOOKUP(D148,Tablas!$B$2:$G$13,6,FALSE))","v":""},"","","","","","","","","","","","","","","","","","",""]
[{"$f":"IF(ISBLANK(InfoPro!A142),\"\",InfoPro!A142)","v":""},{"$f":"IF(ISBLANK(InfoPro!B142),\"\",InfoPro!B142)","v":""},{"$f":"IF(ISBLANK(InfoPro!E142),\"\",InfoPro!E142)","v":""},{"$f":"IF(ISBLANK(InfoPro!F142),\"\",InfoPro!F142)","v":""},{"$f":"IF(ISBLANK(InfoPro!I142),\"\",YEAR(InfoPro!I142)-$G$3)","v":""},{"$f":"IF(B149=\"\",\"\",VLOOKUP(D149,Tablas!$B$2:$E$13,2,FALSE))","v":""},{"$f":"IF(B149=\"\",\"\",VLOOKUP(D149,Tablas!$B$2:$G$13,6,FALSE))","v":""},"","",{"$f":"IF($I149=\"\",\"\",(1/(1+$C$4)^(J$7+$E149))*$I149*$C$5)","v":""},"","","","","","","","","","","","","","","",""]
[{"$f":"IF(ISBLANK(InfoPro!A143),\"\",InfoPro!A143)","v":""},{"$f":"IF(ISBLANK(InfoPro!B143),\"\",InfoPro!B143)","v":""},{"$f":"IF(ISBLANK(InfoPro!E143),\"\",InfoPro!E143)","v":""},{"$f":"IF(ISBLANK(InfoPro!F143),\"\",InfoPro!F143)","v":""},{"$f":"IF(ISBLANK(InfoPro!I143),\"\",YEAR(InfoPro!I143)-$G$3)","v":""},{"$f":"IF(B150=\"\",\"\",VLOOKUP(D150,Tablas!$B$2:$E$13,2,FALSE))","v":""},{"$f":"IF(B150=\"\",\"\",VLOOKUP(D150,Tablas!$B$2:$G$13,6,FALSE))","v":""},"","","","","","","","","","","","","","","","","","",""]
[{"$f":"IF(ISBLANK(InfoPro!A144),\"\",InfoPro!A144)","v":""},{"$f":"IF(ISBLANK(InfoPro!B144),\"\",InfoPro!B144)","v":""},{"$f":"IF(ISBLANK(InfoPro!E144),\"\",InfoPro!E144)","v":""},{"$f":"IF(ISBLANK(InfoPro!F144),\"\",InfoPro!F144)","v":""},{"$f":"IF(ISBLANK(InfoPro!I144),\"\",YEAR(InfoPro!I144)-$G$3)","v":""},{"$f":"IF(B151=\"\",\"\",VLOOKUP(D151,Tablas!$B$2:$E$13,2,FALSE))","v":""},{"$f":"IF(B151=\"\",\"\",VLOOKUP(D151,Tablas!$B$2:$G$13,6,FALSE))","v":""},"","","","","","","","","","","","","","","","","","",""]
[{"$f":"IF(ISBLANK(InfoPro!A145),\"\",InfoPro!A145)","v":""},{"$f":"IF(ISBLANK(InfoPro!B145),\"\",InfoPro!B145)","v":""},{"$f":"IF(ISBLANK(InfoPro!E145),\"\",InfoPro!E145)","v":""},{"$f":"IF(ISBLANK(InfoPro!F145),\"\",InfoPro!F145)","v":""},{"$f":"IF(ISBLANK(InfoPro!I145),\"\",YEAR(InfoPro!I145)-$G$3)","v":""},{"$f":"IF(B152=\"\",\"\",VLOOKUP(D152,Tablas!$B$2:$E$13,2,FALSE))","v":""},{"$f":"IF(B152=\"\",\"\",VLOOKUP(D152,Tablas!$B$2:$G$13,6,FALSE))","v":""},"","","","","","","","","","","","","","","","","","",""]
[{"$f":"IF(ISBLANK(InfoPro!A146),\"\",InfoPro!A146)","v":""},{"$f":"IF(ISBLANK(InfoPro!B146),\"\",InfoPro!B146)","v":""},{"$f":"IF(ISBLANK(InfoPro!E146),\"\",InfoPro!E146)","v":""},{"$f":"IF(ISBLANK(InfoPro!F146),\"\",InfoPro!F146)","v":""},{"$f":"IF(ISBLANK(InfoPro!I146),\"\",YEAR(InfoPro!I146)-$G$3)","v":""},{"$f":"IF(B153=\"\",\"\",VLOOKUP(D153,Tablas!$B$2:$E$13,2,FALSE))","v":""},{"$f":"IF(B153=\"\",\"\",VLOOKUP(D153,Tablas!$B$2:$G$13,6,FALSE))","v":""},"","","","","","","","","","","","","","","","","","",""]
[{"$f":"IF(ISBLANK(InfoPro!A147),\"\",InfoPro!A147)","v":""},{"$f":"IF(ISBLANK(InfoPro!B147),\"\",InfoPro!B147)","v":""},{"$f":"IF(ISBLANK(InfoPro!E147),\"\",InfoPro!E147)","v":""},{"$f":"IF(ISBLANK(InfoPro!F147),\"\",InfoPro!F147)","v":""},{"$f":"IF(ISBLANK(InfoPro!I147),\"\",YEAR(InfoPro!I147)-$G$3)","v":""},{"$f":"IF(B154=\"\",\"\",VLOOKUP(D154,Tablas!$B$2:$E$13,2,FALSE))","v":""},{"$f":"IF(B154=\"\",\"\",VLOOKUP(D154,Tablas!$B$2:$G$13,6,FALSE))","v":""},"","","","","","","","","","","","","","","","","","",""]
[{"$f":"IF(ISBLANK(InfoPro!A148),\"\",InfoPro!A148)","v":""},{"$f":"IF(ISBLANK(InfoPro!B148),\"\",InfoPro!B148)","v":""},{"$f":"IF(ISBLANK(InfoPro!E148),\"\",InfoPro!E148)","v":""},{"$f":"IF(ISBLANK(InfoPro!F148),\"\",InfoPro!F148)","v":""},{"$f":"IF(ISBLANK(InfoPro!I148),\"\",YEAR(InfoPro!I148)-$G$3)","v":""},{"$f":"IF(B155=\"\",\"\",VLOOKUP(D155,Tablas!$B$2:$E$13,2,FALSE))","v":""},{"$f":"IF(B155=\"\",\"\",VLOOKUP(D155,Tablas!$B$2:$G$13,6,FALSE))","v":""},"","","","","","","","","","","","","","","","","","",""]
[{"$f":"IF(ISBLANK(InfoPro!A149),\"\",InfoPro!A149)","v":""},{"$f":"IF(ISBLANK(InfoPro!B149),\"\",InfoPro!B149)","v":""},{"$f":"IF(ISBLANK(InfoPro!E149),\"\",InfoPro!E149)","v":""},{"$f":"IF(ISBLANK(InfoPro!F149),\"\",InfoPro!F149)","v":""},{"$f":"IF(ISBLANK(InfoPro!I149),\"\",YEAR(InfoPro!I149)-$G$3)","v":""},{"$f":"IF(B156=\"\",\"\",VLOOKUP(D156,Tablas!$B$2:$E$13,2,FALSE))","v":""},{"$f":"IF(B156=\"\",\"\",VLOOKUP(D156,Tablas!$B$2:$G$13,6,FALSE))","v":""},"","","","","","","","","","","","","","","","","","",""]
[{"$f":"IF(ISBLANK(InfoPro!A150),\"\",InfoPro!A150)","v":""},{"$f":"IF(ISBLANK(InfoPro!B150),\"\",InfoPro!B150)","v":""},{"$f":"IF(ISBLANK(InfoPro!E150),\"\",InfoPro!E150)","v":""},{"$f":"IF(ISBLANK(InfoPro!F150),\"\",InfoPro!F150)","v":""},{"$f":"IF(ISBLANK(InfoPro!I150),\"\",YEAR(InfoPro!I150)-$G$3)","v":""},{"$f":"IF(B157=\"\",\"\",VLOOKUP(D157,Tablas!$B$2:$E$13,2,FALSE))","v":""},{"$f":"IF(B157=\"\",\"\",VLOOKUP(D157,Tablas!$B$2:$G$13,6,FALSE))","v":""},"","","","","","","","","","","","","","","","","","",""]
[{"$f":"IF(ISBLANK(InfoPro!A151),\"\",InfoPro!A151)","v":""},{"$f":"IF(ISBLANK(InfoPro!B151),\"\",InfoPro!B151)","v":""},{"$f":"IF(ISBLANK(InfoPro!E151),\"\",InfoPro!E151)","v":""},{"$f":"IF(ISBLANK(InfoPro!F151),\"\",InfoPro!F151)","v":""},{"$f":"IF(ISBLANK(InfoPro!I151),\"\",YEAR(InfoPro!I151)-$G$3)","v":""},{"$f":"IF(B158=\"\",\"\",VLOOKUP(D158,Tablas!$B$2:$E$13,2,FALSE))","v":""},{"$f":"IF(B158=\"\",\"\",VLOOKUP(D158,Tablas!$B$2:$G$13,6,FALSE))","v":""},"","","","","","","","","","","","","","","","","","",""]
[{"$f":"IF(ISBLANK(InfoPro!A152),\"\",InfoPro!A152)","v":""},{"$f":"IF(ISBLANK(InfoPro!B152),\"\",InfoPro!B152)","v":""},{"$f":"IF(ISBLANK(InfoPro!E152),\"\",InfoPro!E152)","v":""},{"$f":"IF(ISBLANK(InfoPro!F152),\"\",InfoPro!F152)","v":""},{"$f":"IF(ISBLANK(InfoPro!I152),\"\",YEAR(InfoPro!I152)-$G$3)","v":""},{"$f":"IF(B159=\"\",\"\",VLOOKUP(D159,Tablas!$B$2:$E$13,2,FALSE))","v":""},{"$f":"IF(B159=\"\",\"\",VLOOKUP(D159,Tablas!$B$2:$G$13,6,FALSE))","v":""},"","","","","","","","","","","","","","","","","","",""]
[{"$f":"IF(ISBLANK(InfoPro!A153),\"\",InfoPro!A153)","v":""},{"$f":"IF(ISBLANK(InfoPro!B153),\"\",InfoPro!B153)","v":""},{"$f":"IF(ISBLANK(InfoPro!E153),\"\",InfoPro!E153)","v":""},{"$f":"IF(ISBLANK(InfoPro!F153),\"\",InfoPro!F153)","v":""},{"$f":"IF(ISBLANK(InfoPro!I153),\"\",YEAR(InfoPro!I153)-$G$3)","v":""},{"$f":"IF(B160=\"\",\"\",VLOOKUP(D160,Tablas!$B$2:$E$13,2,FALSE))","v":""},{"$f":"IF(B160=\"\",\"\",VLOOKUP(D160,Tablas!$B$2:$G$13,6,FALSE))","v":""},"","","","","","","","","","","","","","","","","","",""]
[{"$f":"IF(ISBLANK(InfoPro!A154),\"\",InfoPro!A154)","v":""},{"$f":"IF(ISBLANK(InfoPro!B154),\"\",InfoPro!B154)","v":""},{"$f":"IF(ISBLANK(InfoPro!E154),\"\",InfoPro!E154)","v":""},{"$f":"IF(ISBLANK(InfoPro!F154),\"\",InfoPro!F154)","v":""},{"$f":"IF(ISBLANK(InfoPro!I154),\"\",YEAR(InfoPro!I154)-$G$3)","v":""},{"$f":"IF(B161=\"\",\"\",VLOOKUP(D161,Tablas!$B$2:$E$13,2,FALSE))","v":""},{"$f":"IF(B161=\"\",\"\",VLOOKUP(D161,Tablas!$B$2:$G$13,6,FALSE))","v":""},"","","","","","","","","","","","","","","","","","",""]
[{"$f":"IF(ISBLANK(InfoPro!A155),\"\",InfoPro!A155)","v":""},{"$f":"IF(ISBLANK(InfoPro!B155),\"\",InfoPro!B155)","v":""},{"$f":"IF(ISBLANK(InfoPro!E155),\"\",InfoPro!E155)","v":""},{"$f":"IF(ISBLANK(InfoPro!F155),\"\",InfoPro!F155)","v":""},{"$f":"IF(ISBLANK(InfoPro!I155),\"\",YEAR(InfoPro!I155)-$G$3)","v":""},{"$f":"IF(B162=\"\",\"\",VLOOKUP(D162,Tablas!$B$2:$E$13,2,FALSE))","v":""},{"$f":"IF(B162=\"\",\"\",VLOOKUP(D162,Tablas!$B$2:$G$13,6,FALSE))","v":""},"","","","","","","","","","","","","","","","","","",""]
[{"$f":"IF(ISBLANK(InfoPro!A156),\"\",InfoPro!A156)","v":""},{"$f":"IF(ISBLANK(InfoPro!B156),\"\",InfoPro!B156)","v":""},{"$f":"IF(ISBLANK(InfoPro!E156),\"\",InfoPro!E156)","v":""},{"$f":"IF(ISBLANK(InfoPro!F156),\"\",InfoPro!F156)","v":""},{"$f":"IF(ISBLANK(InfoPro!I156),\"\",YEAR(InfoPro!I156)-$G$3)","v":""},{"$f":"IF(B163=\"\",\"\",VLOOKUP(D163,Tablas!$B$2:$E$13,2,FALSE))","v":""},{"$f":"IF(B163=\"\",\"\",VLOOKUP(D163,Tablas!$B$2:$G$13,6,FALSE))","v":""},"","","","","","","","","","","","","","","","","","",""]
[{"$f":"IF(ISBLANK(InfoPro!A157),\"\",InfoPro!A157)","v":""},{"$f":"IF(ISBLANK(InfoPro!B157),\"\",InfoPro!B157)","v":""},{"$f":"IF(ISBLANK(InfoPro!E157),\"\",InfoPro!E157)","v":""},{"$f":"IF(ISBLANK(InfoPro!F157),\"\",InfoPro!F157)","v":""},{"$f":"IF(ISBLANK(InfoPro!I157),\"\",YEAR(InfoPro!I157)-$G$3)","v":""},{"$f":"IF(B164=\"\",\"\",VLOOKUP(D164,Tablas!$B$2:$E$13,2,FALSE))","v":""},{"$f":"IF(B164=\"\",\"\",VLOOKUP(D164,Tablas!$B$2:$G$13,6,FALSE))","v":""},"","","","","","","","","","","","","","","","","","",""]
[{"$f":"IF(ISBLANK(InfoPro!A158),\"\",InfoPro!A158)","v":""},{"$f":"IF(ISBLANK(InfoPro!B158),\"\",InfoPro!B158)","v":""},{"$f":"IF(ISBLANK(InfoPro!E158),\"\",InfoPro!E158)","v":""},{"$f":"IF(ISBLANK(InfoPro!F158),\"\",InfoPro!F158)","v":""},{"$f":"IF(ISBLANK(InfoPro!I158),\"\",YEAR(InfoPro!I158)-$G$3)","v":""},{"$f":"IF(B165=\"\",\"\",VLOOKUP(D165,Tablas!$B$2:$E$13,2,FALSE))","v":""},{"$f":"IF(B165=\"\",\"\",VLOOKUP(D165,Tablas!$B$2:$G$13,6,FALSE))","v":""},"","","","","","","","","","","","","","","","","","",""]
[{"$f":"IF(ISBLANK(InfoPro!A159),\"\",InfoPro!A159)","v":""},{"$f":"IF(ISBLANK(InfoPro!B159),\"\",InfoPro!B159)","v":""},{"$f":"IF(ISBLANK(InfoPro!E159),\"\",InfoPro!E159)","v":""},{"$f":"IF(ISBLANK(InfoPro!F159),\"\",InfoPro!F159)","v":""},{"$f":"IF(ISBLANK(InfoPro!I159),\"\",YEAR(InfoPro!I159)-$G$3)","v":""},{"$f":"IF(B166=\"\",\"\",VLOOKUP(D166,Tablas!$B$2:$E$13,2,FALSE))","v":""},{"$f":"IF(B166=\"\",\"\",VLOOKUP(D166,Tablas!$B$2:$G$13,6,FALSE))","v":""},"","",{"$f":"IF($I166=\"\",\"\",(1/(1+$C$4)^(J$7+$E166))*$I166*$C$5)","v":""},"","","","","","","","","","","","","","","",""]
[{"$f":"IF(ISBLANK(InfoPro!A160),\"\",InfoPro!A160)","v":""},{"$f":"IF(ISBLANK(InfoPro!B160),\"\",InfoPro!B160)","v":""},{"$f":"IF(ISBLANK(InfoPro!E160),\"\",InfoPro!E160)","v":""},{"$f":"IF(ISBLANK(InfoPro!F160),\"\",InfoPro!F160)","v":""},{"$f":"IF(ISBLANK(InfoPro!I160),\"\",YEAR(InfoPro!I160)-$G$3)","v":""},{"$f":"IF(B167=\"\",\"\",VLOOKUP(D167,Tablas!$B$2:$E$13,2,FALSE))","v":""},{"$f":"IF(B167=\"\",\"\",VLOOKUP(D167,Tablas!$B$2:$G$13,6,FALSE))","v":""},"","","","","","","","","","","","","","","","","","",""]
[{"$f":"IF(ISBLANK(InfoPro!A161),\"\",InfoPro!A161)","v":""},{"$f":"IF(ISBLANK(InfoPro!B161),\"\",InfoPro!B161)","v":""},{"$f":"IF(ISBLANK(InfoPro!E161),\"\",InfoPro!E161)","v":""},{"$f":"IF(ISBLANK(InfoPro!F161),\"\",InfoPro!F161)","v":""},{"$f":"IF(ISBLANK(InfoPro!I161),\"\",YEAR(InfoPro!I161)-$G$3)","v":""},{"$f":"IF(B168=\"\",\"\",VLOOKUP(D168,Tablas!$B$2:$E$13,2,FALSE))","v":""},{"$f":"IF(B168=\"\",\"\",VLOOKUP(D168,Tablas!$B$2:$G$13,6,FALSE))","v":""},"","","","","","","","","","","","","","","","","","",""]
[{"$f":"IF(ISBLANK(InfoPro!A162),\"\",InfoPro!A162)","v":""},{"$f":"IF(ISBLANK(InfoPro!B162),\"\",InfoPro!B162)","v":""},{"$f":"IF(ISBLANK(InfoPro!E162),\"\",InfoPro!E162)","v":""},{"$f":"IF(ISBLANK(InfoPro!F162),\"\",InfoPro!F162)","v":""},{"$f":"IF(ISBLANK(InfoPro!I162),\"\",YEAR(InfoPro!I162)-$G$3)","v":""},{"$f":"IF(B169=\"\",\"\",VLOOKUP(D169,Tablas!$B$2:$E$13,2,FALSE))","v":""},{"$f":"IF(B169=\"\",\"\",VLOOKUP(D169,Tablas!$B$2:$G$13,6,FALSE))","v":""},"","","","","","","","","","","","","","","","","","",""]
[{"$f":"IF(ISBLANK(InfoPro!A163),\"\",InfoPro!A163)","v":""},{"$f":"IF(ISBLANK(InfoPro!B163),\"\",InfoPro!B163)","v":""},{"$f":"IF(ISBLANK(InfoPro!E163),\"\",InfoPro!E163)","v":""},{"$f":"IF(ISBLANK(InfoPro!F163),\"\",InfoPro!F163)","v":""},{"$f":"IF(ISBLANK(InfoPro!I163),\"\",YEAR(InfoPro!I163)-$G$3)","v":""},{"$f":"IF(B170=\"\",\"\",VLOOKUP(D170,Tablas!$B$2:$E$13,2,FALSE))","v":""},{"$f":"IF(B170=\"\",\"\",VLOOKUP(D170,Tablas!$B$2:$G$13,6,FALSE))","v":""},"","","","","","","","","","","","","","","","","","",""]
[{"$f":"IF(ISBLANK(InfoPro!A164),\"\",InfoPro!A164)","v":""},{"$f":"IF(ISBLANK(InfoPro!B164),\"\",InfoPro!B164)","v":""},{"$f":"IF(ISBLANK(InfoPro!E164),\"\",InfoPro!E164)","v":""},{"$f":"IF(ISBLANK(InfoPro!F164),\"\",InfoPro!F164)","v":""},{"$f":"IF(ISBLANK(InfoPro!I164),\"\",YEAR(InfoPro!I164)-$G$3)","v":""},{"$f":"IF(B171=\"\",\"\",VLOOKUP(D171,Tablas!$B$2:$E$13,2,FALSE))","v":""},{"$f":"IF(B171=\"\",\"\",VLOOKUP(D171,Tablas!$B$2:$G$13,6,FALSE))","v":""},"","","","","","","","","","","","","","","","","","",""]
[{"$f":"IF(ISBLANK(InfoPro!A165),\"\",InfoPro!A165)","v":""},{"$f":"IF(ISBLANK(InfoPro!B165),\"\",InfoPro!B165)","v":""},{"$f":"IF(ISBLANK(InfoPro!E165),\"\",InfoPro!E165)","v":""},{"$f":"IF(ISBLANK(InfoPro!F165),\"\",InfoPro!F165)","v":""},{"$f":"IF(ISBLANK(InfoPro!I165),\"\",YEAR(InfoPro!I165)-$G$3)","v":""},{"$f":"IF(B172=\"\",\"\",VLOOKUP(D172,Tablas!$B$2:$E$13,2,FALSE))","v":""},{"$f":"IF(B172=\"\",\"\",VLOOKUP(D172,Tablas!$B$2:$G$13,6,FALSE))","v":""},"","","","","","","","","","","","","","","","","","",""]
[{"$f":"IF(ISBLANK(InfoPro!A166),\"\",InfoPro!A166)","v":""},{"$f":"IF(ISBLANK(InfoPro!B166),\"\",InfoPro!B166)","v":""},{"$f":"IF(ISBLANK(InfoPro!E166),\"\",InfoPro!E166)","v":""},{"$f":"IF(ISBLANK(InfoPro!F166),\"\",InfoPro!F166)","v":""},{"$f":"IF(ISBLANK(InfoPro!I166),\"\",YEAR(InfoPro!I166)-$G$3)","v":""},{"$f":"IF(B173=\"\",\"\",VLOOKUP(D173,Tablas!$B$2:$E$13,2,FALSE))","v":""},{"$f":"IF(B173=\"\",\"\",VLOOKUP(D173,Tablas!$B$2:$G$13,6,FALSE))","v":""},"","","","","","","","","","","","","","","","","","",""]
[{"$f":"IF(ISBLANK(InfoPro!A167),\"\",InfoPro!A167)","v":""},{"$f":"IF(ISBLANK(InfoPro!B167),\"\",InfoPro!B167)","v":""},{"$f":"IF(ISBLANK(InfoPro!E167),\"\",InfoPro!E167)","v":""},{"$f":"IF(ISBLANK(InfoPro!F167),\"\",InfoPro!F167)","v":""},{"$f":"IF(ISBLANK(InfoPro!I167),\"\",YEAR(InfoPro!I167)-$G$3)","v":""},{"$f":"IF(B174=\"\",\"\",VLOOKUP(D174,Tablas!$B$2:$E$13,2,FALSE))","v":""},{"$f":"IF(B174=\"\",\"\",VLOOKUP(D174,Tablas!$B$2:$G$13,6,FALSE))","v":""},"","","","","","","","","","","","","","","","","","",""]
[{"$f":"IF(ISBLANK(InfoPro!A168),\"\",InfoPro!A168)","v":""},{"$f":"IF(ISBLANK(InfoPro!B168),\"\",InfoPro!B168)","v":""},{"$f":"IF(ISBLANK(InfoPro!E168),\"\",InfoPro!E168)","v":""},{"$f":"IF(ISBLANK(InfoPro!F168),\"\",InfoPro!F168)","v":""},{"$f":"IF(ISBLANK(InfoPro!I168),\"\",YEAR(InfoPro!I168)-$G$3)","v":""},{"$f":"IF(B175=\"\",\"\",VLOOKUP(D175,Tablas!$B$2:$E$13,2,FALSE))","v":""},{"$f":"IF(B175=\"\",\"\",VLOOKUP(D175,Tablas!$B$2:$G$13,6,FALSE))","v":""},{"$f":"IF(C175=\"\",\"\",+C175*F175*24*365)","v":""},{"$f":"IF(H175=\"\",\"\",+H175*($C$3-G175))","v":""},"","","","","","","","","","","","","","","",{"$f":"IF(X175=\"\",\"\",SUM(J175:X175)*$C$6)","v":""},{"$f":"IF(C175=0,0,IF(Y175=\"\",\"\",Y175/(C175*1000)))","v":""}]
[{"$f":"IF(ISBLANK(InfoPro!A169),\"\",InfoPro!A169)","v":""},{"$f":"IF(ISBLANK(InfoPro!B169),\"\",InfoPro!B169)","v":""},{"$f":"IF(ISBLANK(InfoPro!E169),\"\",InfoPro!E169)","v":""},{"$f":"IF(ISBLANK(InfoPro!F169),\"\",InfoPro!F169)","v":""},{"$f":"IF(ISBLANK(InfoPro!I169),\"\",YEAR(InfoPro!I169)-$G$3)","v":""},{"$f":"IF(B176=\"\",\"\",VLOOKUP(D176,Tablas!$B$2:$E$13,2,FALSE))","v":""},{"$f":"IF(B176=\"\",\"\",VLOOKUP(D176,Tablas!$B$2:$G$13,6,FALSE))","v":""},"","","","","","","","","","","","","","","","","","",""]
[{"$f":"IF(ISBLANK(InfoPro!A170),\"\",InfoPro!A170)","v":""},{"$f":"IF(ISBLANK(InfoPro!B170),\"\",InfoPro!B170)","v":""},{"$f":"IF(ISBLANK(InfoPro!E170),\"\",InfoPro!E170)","v":""},{"$f":"IF(ISBLANK(InfoPro!F170),\"\",InfoPro!F170)","v":""},{"$f":"IF(ISBLANK(InfoPro!I170),\"\",YEAR(InfoPro!I170)-$G$3)","v":""},{"$f":"IF(B177=\"\",\"\",VLOOKUP(D177,Tablas!$B$2:$E$13,2,FALSE))","v":""},{"$f":"IF(B177=\"\",\"\",VLOOKUP(D177,Tablas!$B$2:$G$13,6,FALSE))","v":""},"","","","","","","","","","","","","","","","","","",""]
[{"$f":"IF(ISBLANK(InfoPro!A171),\"\",InfoPro!A171)","v":""},{"$f":"IF(ISBLANK(InfoPro!B171),\"\",InfoPro!B171)","v":""},{"$f":"IF(ISBLANK(InfoPro!E171),\"\",InfoPro!E171)","v":""},{"$f":"IF(ISBLANK(InfoPro!F171),\"\",InfoPro!F171)","v":""},{"$f":"IF(ISBLANK(InfoPro!I171),\"\",YEAR(InfoPro!I171)-$G$3)","v":""},{"$f":"IF(B178=\"\",\"\",VLOOKUP(D178,Tablas!$B$2:$E$13,2,FALSE))","v":""},{"$f":"IF(B178=\"\",\"\",VLOOKUP(D178,Tablas!$B$2:$G$13,6,FALSE))","v":""},"","","","","","","","","","","","","","","","","","",""]
[{"$f":"IF(ISBLANK(InfoPro!A172),\"\",InfoPro!A172)","v":""},{"$f":"IF(ISBLANK(InfoPro!B172),\"\",InfoPro!B172)","v":""},{"$f":"IF(ISBLANK(InfoPro!E172),\"\",InfoPro!E172)","v":""},{"$f":"IF(ISBLANK(InfoPro!F172),\"\",InfoPro!F172)","v":""},{"$f":"IF(ISBLANK(InfoPro!I172),\"\",YEAR(InfoPro!I172)-$G$3)","v":""},{"$f":"IF(B179=\"\",\"\",VLOOKUP(D179,Tablas!$B$2:$E$13,2,FALSE))","v":""},{"$f":"IF(B179=\"\",\"\",VLOOKUP(D179,Tablas!$B$2:$G$13,6,FALSE))","v":""},"","","","","","","","","","","","","","","","","","",""]
[{"$f":"IF(ISBLANK(InfoPro!A173),\"\",InfoPro!A173)","v":""},{"$f":"IF(ISBLANK(InfoPro!B173),\"\",InfoPro!B173)","v":""},{"$f":"IF(ISBLANK(InfoPro!E173),\"\",InfoPro!E173)","v":""},{"$f":"IF(ISBLANK(InfoPro!F173),\"\",InfoPro!F173)","v":""},{"$f":"IF(ISBLANK(InfoPro!I173),\"\",YEAR(InfoPro!I173)-$G$3)","v":""},{"$f":"IF(B180=\"\",\"\",VLOOKUP(D180,Tablas!$B$2:$E$13,2,FALSE))","v":""},{"$f":"IF(B180=\"\",\"\",VLOOKUP(D180,Tablas!$B$2:$G$13,6,FALSE))","v":""},"","","","","","","","","","","","","","","","","","",""]
[{"$f":"IF(ISBLANK(InfoPro!A174),\"\",InfoPro!A174)","v":""},{"$f":"IF(ISBLANK(InfoPro!B174),\"\",InfoPro!B174)","v":""},{"$f":"IF(ISBLANK(InfoPro!E174),\"\",InfoPro!E174)","v":""},{"$f":"IF(ISBLANK(InfoPro!F174),\"\",InfoPro!F174)","v":""},{"$f":"IF(ISBLANK(InfoPro!I174),\"\",YEAR(InfoPro!I174)-$G$3)","v":""},{"$f":"IF(B181=\"\",\"\",VLOOKUP(D181,Tablas!$B$2:$E$13,2,FALSE))","v":""},{"$f":"IF(B181=\"\",\"\",VLOOKUP(D181,Tablas!$B$2:$G$13,6,FALSE))","v":""},"","","","","","","","","","","","","","","","","","",""]
[{"$f":"IF(ISBLANK(InfoPro!A175),\"\",InfoPro!A175)","v":""},{"$f":"IF(ISBLANK(InfoPro!B175),\"\",InfoPro!B175)","v":""},{"$f":"IF(ISBLANK(InfoPro!E175),\"\",InfoPro!E175)","v":""},{"$f":"IF(ISBLANK(InfoPro!F175),\"\",InfoPro!F175)","v":""},{"$f":"IF(ISBLANK(InfoPro!I175),\"\",YEAR(InfoPro!I175)-$G$3)","v":""},{"$f":"IF(B182=\"\",\"\",VLOOKUP(D182,Tablas!$B$2:$E$13,2,FALSE))","v":""},{"$f":"IF(B182=\"\",\"\",VLOOKUP(D182,Tablas!$B$2:$G$13,6,FALSE))","v":""},"","","","","","","","","","","","","","","","","","",""]
[{"$f":"IF(ISBLANK(InfoPro!A176),\"\",InfoPro!A176)","v":""},{"$f":"IF(ISBLANK(InfoPro!B176),\"\",InfoPro!B176)","v":""},{"$f":"IF(ISBLANK(InfoPro!E176),\"\",InfoPro!E176)","v":""},{"$f":"IF(ISBLANK(InfoPro!F176),\"\",InfoPro!F176)","v":""},{"$f":"IF(ISBLANK(InfoPro!I176),\"\",YEAR(InfoPro!I176)-$G$3)","v":""},{"$f":"IF(B183=\"\",\"\",VLOOKUP(D183,Tablas!$B$2:$E$13,2,FALSE))","v":""},{"$f":"IF(B183=\"\",\"\",VLOOKUP(D183,Tablas!$B$2:$G$13,6,FALSE))","v":""},"","",{"$f":"IF($I183=\"\",\"\",(1/(1+$C$4)^(J$7+$E183))*$I183*$C$5)","v":""},"","","","","","","","","","","","","","","",""]
[{"$f":"IF(ISBLANK(InfoPro!A177),\"\",InfoPro!A177)","v":""},{"$f":"IF(ISBLANK(InfoPro!B177),\"\",InfoPro!B177)","v":""},{"$f":"IF(ISBLANK(InfoPro!E177),\"\",InfoPro!E177)","v":""},{"$f":"IF(ISBLANK(InfoPro!F177),\"\",InfoPro!F177)","v":""},{"$f":"IF(ISBLANK(InfoPro!I177),\"\",YEAR(InfoPro!I177)-$G$3)","v":""},{"$f":"IF(B184=\"\",\"\",VLOOKUP(D184,Tablas!$B$2:$E$13,2,FALSE))","v":""},{"$f":"IF(B184=\"\",\"\",VLOOKUP(D184,Tablas!$B$2:$G$13,6,FALSE))","v":""},"","","","","","","","","","","","","","","","","","",""]
[{"$f":"IF(ISBLANK(InfoPro!A178),\"\",InfoPro!A178)","v":""},{"$f":"IF(ISBLANK(InfoPro!B178),\"\",InfoPro!B178)","v":""},{"$f":"IF(ISBLANK(InfoPro!E178),\"\",InfoPro!E178)","v":""},{"$f":"IF(ISBLANK(InfoPro!F178),\"\",InfoPro!F178)","v":""},{"$f":"IF(ISBLANK(InfoPro!I178),\"\",YEAR(InfoPro!I178)-$G$3)","v":""},{"$f":"IF(B185=\"\",\"\",VLOOKUP(D185,Tablas!$B$2:$E$13,2,FALSE))","v":""},{"$f":"IF(B185=\"\",\"\",VLOOKUP(D185,Tablas!$B$2:$G$13,6,FALSE))","v":""},"","","","","","","","","","","","","","","","","","",""]
[{"$f":"IF(ISBLANK(InfoPro!A179),\"\",InfoPro!A179)","v":""},{"$f":"IF(ISBLANK(InfoPro!B179),\"\",InfoPro!B179)","v":""},{"$f":"IF(ISBLANK(InfoPro!E179),\"\",InfoPro!E179)","v":""},{"$f":"IF(ISBLANK(InfoPro!F179),\"\",InfoPro!F179)","v":""},{"$f":"IF(ISBLANK(InfoPro!I179),\"\",YEAR(InfoPro!I179)-$G$3)","v":""},{"$f":"IF(B186=\"\",\"\",VLOOKUP(D186,Tablas!$B$2:$E$13,2,FALSE))","v":""},{"$f":"IF(B186=\"\",\"\",VLOOKUP(D186,Tablas!$B$2:$G$13,6,FALSE))","v":""},"","","","","","","","","","","","","","","","","","",""]
[{"$f":"IF(ISBLANK(InfoPro!A180),\"\",InfoPro!A180)","v":""},{"$f":"IF(ISBLANK(InfoPro!B180),\"\",InfoPro!B180)","v":""},{"$f":"IF(ISBLANK(InfoPro!E180),\"\",InfoPro!E180)","v":""},{"$f":"IF(ISBLANK(InfoPro!F180),\"\",InfoPro!F180)","v":""},{"$f":"IF(ISBLANK(InfoPro!I180),\"\",YEAR(InfoPro!I180)-$G$3)","v":""},{"$f":"IF(B187=\"\",\"\",VLOOKUP(D187,Tablas!$B$2:$E$13,2,FALSE))","v":""},{"$f":"IF(B187=\"\",\"\",VLOOKUP(D187,Tablas!$B$2:$G$13,6,FALSE))","v":""},"","","","","","","","","","","","","","","","","","",""]
[{"$f":"IF(ISBLANK(InfoPro!A181),\"\",InfoPro!A181)","v":""},{"$f":"IF(ISBLANK(InfoPro!B181),\"\",InfoPro!B181)","v":""},{"$f":"IF(ISBLANK(InfoPro!E181),\"\",InfoPro!E181)","v":""},{"$f":"IF(ISBLANK(InfoPro!F181),\"\",InfoPro!F181)","v":""},{"$f":"IF(ISBLANK(InfoPro!I181),\"\",YEAR(InfoPro!I181)-$G$3)","v":""},{"$f":"IF(B188=\"\",\"\",VLOOKUP(D188,Tablas!$B$2:$E$13,2,FALSE))","v":""},{"$f":"IF(B188=\"\",\"\",VLOOKUP(D188,Tablas!$B$2:$G$13,6,FALSE))","v":""},"","","","","","","","","","","","","","","","","","",""]
[{"$f":"IF(ISBLANK(InfoPro!A182),\"\",InfoPro!A182)","v":""},{"$f":"IF(ISBLANK(InfoPro!B182),\"\",InfoPro!B182)","v":""},{"$f":"IF(ISBLANK(InfoPro!E182),\"\",InfoPro!E182)","v":""},{"$f":"IF(ISBLANK(InfoPro!F182),\"\",InfoPro!F182)","v":""},{"$f":"IF(ISBLANK(InfoPro!I182),\"\",YEAR(InfoPro!I182)-$G$3)","v":""},{"$f":"IF(B189=\"\",\"\",VLOOKUP(D189,Tablas!$B$2:$E$13,2,FALSE))","v":""},{"$f":"IF(B189=\"\",\"\",VLOOKUP(D189,Tablas!$B$2:$G$13,6,FALSE))","v":""},"","","","","","","","","","","","","","","","","","",""]
[{"$f":"IF(ISBLANK(InfoPro!A183),\"\",InfoPro!A183)","v":""},{"$f":"IF(ISBLANK(InfoPro!B183),\"\",InfoPro!B183)","v":""},{"$f":"IF(ISBLANK(InfoPro!E183),\"\",InfoPro!E183)","v":""},{"$f":"IF(ISBLANK(InfoPro!F183),\"\",InfoPro!F183)","v":""},{"$f":"IF(ISBLANK(InfoPro!I183),\"\",YEAR(InfoPro!I183)-$G$3)","v":""},{"$f":"IF(B190=\"\",\"\",VLOOKUP(D190,Tablas!$B$2:$E$13,2,FALSE))","v":""},{"$f":"IF(B190=\"\",\"\",VLOOKUP(D190,Tablas!$B$2:$G$13,6,FALSE))","v":""},"","","","","","","","","","","","","","","","","","",""]
[{"$f":"IF(ISBLANK(InfoPro!A184),\"\",InfoPro!A184)","v":""},{"$f":"IF(ISBLANK(InfoPro!B184),\"\",InfoPro!B184)","v":""},{"$f":"IF(ISBLANK(InfoPro!E184),\"\",InfoPro!E184)","v":""},{"$f":"IF(ISBLANK(InfoPro!F184),\"\",InfoPro!F184)","v":""},{"$f":"IF(ISBLANK(InfoPro!I184),\"\",YEAR(InfoPro!I184)-$G$3)","v":""},{"$f":"IF(B191=\"\",\"\",VLOOKUP(D191,Tablas!$B$2:$E$13,2,FALSE))","v":""},{"$f":"IF(B191=\"\",\"\",VLOOKUP(D191,Tablas!$B$2:$G$13,6,FALSE))","v":""},{"$f":"IF(C191=\"\",\"\",+C191*F191*24*365)","v":""},{"$f":"IF(H191=\"\",\"\",+H191*($C$3-G191))","v":""},"","","","","","","","","","","","","","","",{"$f":"IF(X191=\"\",\"\",SUM(J191:X191)*$C$6)","v":""},{"$f":"IF(C191=0,0,IF(Y191=\"\",\"\",Y191/(C191*1000)))","v":""}]
[{"$f":"IF(ISBLANK(InfoPro!A185),\"\",InfoPro!A185)","v":""},{"$f":"IF(ISBLANK(InfoPro!B185),\"\",InfoPro!B185)","v":""},{"$f":"IF(ISBLANK(InfoPro!E185),\"\",InfoPro!E185)","v":""},{"$f":"IF(ISBLANK(InfoPro!F185),\"\",InfoPro!F185)","v":""},{"$f":"IF(ISBLANK(InfoPro!I185),\"\",YEAR(InfoPro!I185)-$G$3)","v":""},{"$f":"IF(B192=\"\",\"\",VLOOKUP(D192,Tablas!$B$2:$E$13,2,FALSE))","v":""},{"$f":"IF(B192=\"\",\"\",VLOOKUP(D192,Tablas!$B$2:$G$13,6,FALSE))","v":""},"","","","","","","","","","","","","","","","","","",""]
[{"$f":"IF(ISBLANK(InfoPro!A186),\"\",InfoPro!A186)","v":""},{"$f":"IF(ISBLANK(InfoPro!B186),\"\",InfoPro!B186)","v":""},{"$f":"IF(ISBLANK(InfoPro!E186),\"\",InfoPro!E186)","v":""},{"$f":"IF(ISBLANK(InfoPro!F186),\"\",InfoPro!F186)","v":""},{"$f":"IF(ISBLANK(InfoPro!I186),\"\",YEAR(InfoPro!I186)-$G$3)","v":""},{"$f":"IF(B193=\"\",\"\",VLOOKUP(D193,Tablas!$B$2:$E$13,2,FALSE))","v":""},{"$f":"IF(B193=\"\",\"\",VLOOKUP(D193,Tablas!$B$2:$G$13,6,FALSE))","v":""},"","","","","","","","","","","","","","","","","","",""]
[{"$f":"IF(ISBLANK(InfoPro!A187),\"\",InfoPro!A187)","v":""},{"$f":"IF(ISBLANK(InfoPro!B187),\"\",InfoPro!B187)","v":""},{"$f":"IF(ISBLANK(InfoPro!E187),\"\",InfoPro!E187)","v":""},{"$f":"IF(ISBLANK(InfoPro!F187),\"\",InfoPro!F187)","v":""},{"$f":"IF(ISBLANK(InfoPro!I187),\"\",YEAR(InfoPro!I187)-$G$3)","v":""},{"$f":"IF(B194=\"\",\"\",VLOOKUP(D194,Tablas!$B$2:$E$13,2,FALSE))","v":""},{"$f":"IF(B194=\"\",\"\",VLOOKUP(D194,Tablas!$B$2:$G$13,6,FALSE))","v":""},"","","","","","","","","","","","","","","","","","",""]
[{"$f":"IF(ISBLANK(InfoPro!A188),\"\",InfoPro!A188)","v":""},{"$f":"IF(ISBLANK(InfoPro!B188),\"\",InfoPro!B188)","v":""},{"$f":"IF(ISBLANK(InfoPro!E188),\"\",InfoPro!E188)","v":""},{"$f":"IF(ISBLANK(InfoPro!F188),\"\",InfoPro!F188)","v":""},{"$f":"IF(ISBLANK(InfoPro!I188),\"\",YEAR(InfoPro!I188)-$G$3)","v":""},{"$f":"IF(B195=\"\",\"\",VLOOKUP(D195,Tablas!$B$2:$E$13,2,FALSE))","v":""},{"$f":"IF(B195=\"\",\"\",VLOOKUP(D195,Tablas!$B$2:$G$13,6,FALSE))","v":""},"","","","","","","","","","","","","","","","","","",""]
[{"$f":"IF(ISBLANK(InfoPro!A189),\"\",InfoPro!A189)","v":""},{"$f":"IF(ISBLANK(InfoPro!B189),\"\",InfoPro!B189)","v":""},{"$f":"IF(ISBLANK(InfoPro!E189),\"\",InfoPro!E189)","v":""},{"$f":"IF(ISBLANK(InfoPro!F189),\"\",InfoPro!F189)","v":""},{"$f":"IF(ISBLANK(InfoPro!I189),\"\",YEAR(InfoPro!I189)-$G$3)","v":""},{"$f":"IF(B196=\"\",\"\",VLOOKUP(D196,Tablas!$B$2:$E$13,2,FALSE))","v":""},{"$f":"IF(B196=\"\",\"\",VLOOKUP(D196,Tablas!$B$2:$G$13,6,FALSE))","v":""},"","","","","","","","","","","","","","","","","","",""]
[{"$f":"IF(ISBLANK(InfoPro!A190),\"\",InfoPro!A190)","v":""},{"$f":"IF(ISBLANK(InfoPro!B190),\"\",InfoPro!B190)","v":""},{"$f":"IF(ISBLANK(InfoPro!E190),\"\",InfoPro!E190)","v":""},{"$f":"IF(ISBLANK(InfoPro!F190),\"\",InfoPro!F190)","v":""},{"$f":"IF(ISBLANK(InfoPro!I190),\"\",YEAR(InfoPro!I190)-$G$3)","v":""},{"$f":"IF(B197=\"\",\"\",VLOOKUP(D197,Tablas!$B$2:$E$13,2,FALSE))","v":""},{"$f":"IF(B197=\"\",\"\",VLOOKUP(D197,Tablas!$B$2:$G$13,6,FALSE))","v":""},"","","","","","","","","","","","","","","","","","",""]
[{"$f":"IF(ISBLANK(InfoPro!A191),\"\",InfoPro!A191)","v":""},{"$f":"IF(ISBLANK(InfoPro!B191),\"\",InfoPro!B191)","v":""},{"$f":"IF(ISBLANK(InfoPro!E191),\"\",InfoPro!E191)","v":""},{"$f":"IF(ISBLANK(InfoPro!F191),\"\",InfoPro!F191)","v":""},{"$f":"IF(ISBLANK(InfoPro!I191),\"\",YEAR(InfoPro!I191)-$G$3)","v":""},{"$f":"IF(B198=\"\",\"\",VLOOKUP(D198,Tablas!$B$2:$E$13,2,FALSE))","v":""},{"$f":"IF(B198=\"\",\"\",VLOOKUP(D198,Tablas!$B$2:$G$13,6,FALSE))","v":""},"","","","","","","","","","","","","","","","","","",""]
[{"$f":"IF(ISBLANK(InfoPro!A192),\"\",InfoPro!A192)","v":""},{"$f":"IF(ISBLANK(InfoPro!B192),\"\",InfoPro!B192)","v":""},{"$f":"IF(ISBLANK(InfoPro!E192),\"\",InfoPro!E192)","v":""},{"$f":"IF(ISBLANK(InfoPro!F192),\"\",InfoPro!F192)","v":""},{"$f":"IF(ISBLANK(InfoPro!I192),\"\",YEAR(InfoPro!I192)-$G$3)","v":""},{"$f":"IF(B199=\"\",\"\",VLOOKUP(D199,Tablas!$B$2:$E$13,2,FALSE))","v":""},{"$f":"IF(B199=\"\",\"\",VLOOKUP(D199,Tablas!$B$2:$G$13,6,FALSE))","v":""},"","",{"$f":"IF($I199=\"\",\"\",(1/(1+$C$4)^(J$7+$E199))*$I199*$C$5)","v":""},"","","","","","","","","","","","","","","",""]
[{"$f":"IF(ISBLANK(InfoPro!A193),\"\",InfoPro!A193)","v":""},{"$f":"IF(ISBLANK(InfoPro!B193),\"\",InfoPro!B193)","v":""},{"$f":"IF(ISBLANK(InfoPro!E193),\"\",InfoPro!E193)","v":""},{"$f":"IF(ISBLANK(InfoPro!F193),\"\",InfoPro!F193)","v":""},{"$f":"IF(ISBLANK(InfoPro!I193),\"\",YEAR(InfoPro!I193)-$G$3)","v":""},{"$f":"IF(B200=\"\",\"\",VLOOKUP(D200,Tablas!$B$2:$E$13,2,FALSE))","v":""},{"$f":"IF(B200=\"\",\"\",VLOOKUP(D200,Tablas!$B$2:$G$13,6,FALSE))","v":""},"","","","","","","","","","","","","","","","","","",""]
[{"$f":"IF(ISBLANK(InfoPro!A194),\"\",InfoPro!A194)","v":""},{"$f":"IF(ISBLANK(InfoPro!B194),\"\",InfoPro!B194)","v":""},{"$f":"IF(ISBLANK(InfoPro!E194),\"\",InfoPro!E194)","v":""},{"$f":"IF(ISBLANK(InfoPro!F194),\"\",InfoPro!F194)","v":""},{"$f":"IF(ISBLANK(InfoPro!I194),\"\",YEAR(InfoPro!I194)-$G$3)","v":""},{"$f":"IF(B201=\"\",\"\",VLOOKUP(D201,Tablas!$B$2:$E$13,2,FALSE))","v":""},{"$f":"IF(B201=\"\",\"\",VLOOKUP(D201,Tablas!$B$2:$G$13,6,FALSE))","v":""},"","","","","","","","","","","","","","","","","","",""]
[{"$f":"IF(ISBLANK(InfoPro!A195),\"\",InfoPro!A195)","v":""},{"$f":"IF(ISBLANK(InfoPro!B195),\"\",InfoPro!B195)","v":""},{"$f":"IF(ISBLANK(InfoPro!E195),\"\",InfoPro!E195)","v":""},{"$f":"IF(ISBLANK(InfoPro!F195),\"\",InfoPro!F195)","v":""},{"$f":"IF(ISBLANK(InfoPro!I195),\"\",YEAR(InfoPro!I195)-$G$3)","v":""},{"$f":"IF(B202=\"\",\"\",VLOOKUP(D202,Tablas!$B$2:$E$13,2,FALSE))","v":""},{"$f":"IF(B202=\"\",\"\",VLOOKUP(D202,Tablas!$B$2:$G$13,6,FALSE))","v":""},"","","","","","","","","","","","","","","","","","",""]

{"sheet":"EC-RP","index":5,"n_rows":195,"n_cols":26,"rows_kept":195,"cut":false,"hidden":false,"merged":[]}
[]
[null,"Precio promedio de bolsa",192057,"COP/MWh"]
[null,"Tasa de descuento",0.11799999999999999,null,null,"Año de Referencia",null,2023]
[null,null,null,null,null,"Mínimo",null,{"$f":"MIN(Z8:Z400)","v":-4303623.7421869002}]
[]
[null,null,null,null,null,null,null,null,null,0,1,2,3,4,5,6,7,8,9,10,11,12,13,14]
["Codigo","Nombre","capacidad","Tecnologia","Año de entrada","FP","Precio de oferta","Desviacion","Produccion media/a MWh/a","Flujo Descontado 0","Flujo Descontado 1","Flujo Descontado 2","Flujo Descontado 3","Flujo Descontado 4","Flujo Descontado 5","Flujo Descontado 6","Flujo Descontado 7","Flujo Descontado 8","Flujo Descontado 9","Flujo Descontado 10","Flujo Descontado 11","Flujo Descontado 12","Flujo Descontado 13","Flujo Descontado 14","VPN","Beneficio/kW"]
[{"$f":"IF(ISBLANK(InfoPro!A2),\"\",InfoPro!A2)","v":"SC_1323_A1"},{"$f":"IF(ISBLANK(InfoPro!B2),\"\",InfoPro!B2)","v":"GEN ARAUCA"},{"$f":"IF(ISBLANK(InfoPro!E2),\"\",InfoPro!E2)","v":30},{"$f":"IF(ISBLANK(InfoPro!F2),\"\",InfoPro!F2)","v":"Termica - Ciclo Abierto"},{"$f":"IF(ISBLANK(InfoPro!I2),\"\",YEAR(InfoPro!I2)-$H$3)","v":0},{"$f":"IF(B8=\"\",\"\",VLOOKUP(D8,Tablas!$B$2:$E$13,2,FALSE))","v":0.85},{"$f":"IF(B8=\"\",\"\",VLOOKUP(D8,Tablas!$B$2:$H$13,7,FALSE))","v":267152.5},{"$f":"IF(B8=\"\",\"\",($C$2-(G8))/$C$2)","v":-0.39100631583332029},{"$f":"IF(C8=\"\",\"\",+C8*F8*24*365)","v":223380},{"$f":"IF($I8=\"\",\"\",(1/(1+$C$3)^(J$6+$E8))*$I8*$C$2*$H8)","v":-16774832790},{"$f":"IF($I8=\"\",\"\",(1/(1+$C$3)^(K$6+$E8))*$I8*$C$2*$H8)","v":-15004322710.196781},-13420682209.478336,-12004188022.789213,-10737198589.256899,-9603934337.4390888,-8590281160.5000782,-7683614633.7210016,-6872642785.0813971,-6147265460.7168131,-5498448533.7359686,-4918111389.7459478,-4399026287.7870731,-3934728343.2800303,{"$f":"IF($I8=\"\",\"\",(1/(1+$C$3)^(X$6+$E8))*$I8*$C$2*$H8)","v":-3519435011.8783813},{"$f":"IF(X8=\"\",\"\",SUM(J8:X8))","v":-129108712265.60701},{"$f":"IF(C8=0,0,IF(Y8=\"\",\"\",Y8/(C8*1000)))","v":-4303623.7421869002}]
[{"$f":"IF(ISBLANK(InfoPro!A3),\"\",InfoPro!A3)","v":"SC_1323_A2"},{"$f":"IF(ISBLANK(InfoPro!B3),\"\",InfoPro!B3)","v":"GEN ARAUCA"},{"$f":"IF(ISBLANK(InfoPro!E3),\"\",InfoPro!E3)","v":30},{"$f":"IF(ISBLANK(InfoPro!F3),\"\",InfoPro!F3)","v":"Termica - Ciclo Abierto"},{"$f":"IF(ISBLANK(InfoPro!I3),\"\",YEAR(InfoPro!I3)-$H$3)","v":0},{"$f":"IF(B9=\"\",\"\",VLOOKUP(D9,Tablas!$B$2:$E$13,2,FALSE))","v":0.85},{"$f":"IF(B9=\"\",\"\",VLOOKUP(D9,Tablas!$B$2:$H$13,7,FALSE))","v":267152.5},{"$f":"IF(B9=\"\",\"\",($C$2-(G9))/$C$2)","v":-0.39100631583332029},{"$f":"IF(C9=\"\",\"\",+C9*F9*24*365)","v":223380},-16774832790,-15004322710.196781,-13420682209.478336,-12004188022.789213,-10737198589.256899,-9603934337.4390888,-8590281160.5000782,-7683614633.7210016,-6872642785.0813971,-6147265460.7168131,-5498448533.7359686,-4918111389.7459478,-4399026287.7870731,-3934728343.2800303,-3519435011.8783813,{"$f":"IF(X9=\"\",\"\",SUM(J9:X9))","v":-129108712265.60701},{"$f":"IF(C9=0,0,IF(Y9=\"\",\"\",Y9/(C9*1000)))","v":-4303623.7421869002}]
[{"$f":"IF(ISBLANK(InfoPro!A4),\"\",InfoPro!A4)","v":"SC_1323_A3"},{"$f":"IF(ISBLANK(InfoPro!B4),\"\",InfoPro!B4)","v":"GEN ARAUCA"},{"$f":"IF(ISBLANK(InfoPro!E4),\"\",InfoPro!E4)","v":30},{"$f":"IF(ISBLANK(InfoPro!F4),\"\",InfoPro!F4)","v":"Termica - Ciclo Abierto"},{"$f":"IF(ISBLANK(InfoPro!I4),\"\",YEAR(InfoPro!I4)-$H$3)","v":0},{"$f":"IF(B10=\"\",\"\",VLOOKUP(D10,Tablas!$B$2:$E$13,2,FALSE))","v":0.85},{"$f":"IF(B10=\"\",\"\",VLOOKUP(D10,Tablas!$B$2:$H$13,7,FALSE))","v":267152.5},-0.39100631583332029,223380,-16774832790,-15004322710.196781,-13420682209.478336,-12004188022.789213,-10737198589.256899,-9603934337.4390888,-8590281160.5000782,-7683614633.7210016,-6872642785.0813971,-6147265460.7168131,-5498448533.7359686,-4918111389.7459478,-4399026287.7870731,-3934728343.2800303,-3519435011.8783813,-129108712265.60701,{"$f":"IF(C10=0,0,IF(Y10=\"\",\"\",Y10/(C10*1000)))","v":-4303623.7421869002}]
[{"$f":"IF(ISBLANK(InfoPro!A5),\"\",InfoPro!A5)","v":""},{"$f":"IF(ISBLANK(InfoPro!B5),\"\",InfoPro!B5)","v":""},{"$f":"IF(ISBLANK(InfoPro!E5),\"\",InfoPro!E5)","v":""},{"$f":"IF(ISBLANK(InfoPro!F5),\"\",InfoPro!F5)","v":""},{"$f":"IF(ISBLANK(InfoPro!I5),\"\",YEAR(InfoPro!I5)-$H$3)","v":""},{"$f":"IF(B11=\"\",\"\",VLOOKUP(D11,Tablas!$B$2:$E$13,2,FALSE))","v":""},{"$f":"IF(B11=\"\",\"\",VLOOKUP(D11,Tablas!$B$2:$H$13,7,FALSE))","v":""},"","","","","","","","","","","","","","","","","","",""]
[{"$f":"IF(ISBLANK(InfoPro!A6),\"\",InfoPro!A6)","v":""},{"$f":"IF(ISBLANK(InfoPro!B6),\"\",InfoPro!B6)","v":""},{"$f":"IF(ISBLANK(InfoPro!E6),\"\",InfoPro!E6)","v":""},{"$f":"IF(ISBLANK(InfoPro!F6),\"\",InfoPro!F6)","v":""},{"$f":"IF(ISBLANK(InfoPro!I6),\"\",YEAR(InfoPro!I6)-$H$3)","v":""},{"$f":"IF(B12=\"\",\"\",VLOOKUP(D12,Tablas!$B$2:$E$13,2,FALSE))","v":""},{"$f":"IF(B12=\"\",\"\",VLOOKUP(D12,Tablas!$B$2:$H$13,7,FALSE))","v":""},"","","","","","","","","","","","","","","","","","",""]
[{"$f":"IF(ISBLANK(InfoPro!A7),\"\",InfoPro!A7)","v":""},{"$f":"IF(ISBLANK(InfoPro!B7),\"\",InfoPro!B7)","v":""},{"$f":"IF(ISBLANK(InfoPro!E7),\"\",InfoPro!E7)","v":""},{"$f":"IF(ISBLANK(InfoPro!F7),\"\",InfoPro!F7)","v":""},{"$f":"IF(ISBLANK(InfoPro!I7),\"\",YEAR(InfoPro!I7)-$H$3)","v":""},{"$f":"IF(B13=\"\",\"\",VLOOKUP(D13,Tablas!$B$2:$E$13,2,FALSE))","v":""},{"$f":"IF(B13=\"\",\"\",VLOOKUP(D13,Tablas!$B$2:$H$13,7,FALSE))","v":""},"","","","","","","","","","","","","","","","","","",""]
[{"$f":"IF(ISBLANK(InfoPro!A8),\"\",InfoPro!A8)","v":""},{"$f":"IF(ISBLANK(InfoPro!B8),\"\",InfoPro!B8)","v":""},{"$f":"IF(ISBLANK(InfoPro!E8),\"\",InfoPro!E8)","v":""},{"$f":"IF(ISBLANK(InfoPro!F8),\"\",InfoPro!F8)","v":""},{"$f":"IF(ISBLANK(InfoPro!I8),\"\",YEAR(InfoPro!I8)-$H$3)","v":""},{"$f":"IF(B14=\"\",\"\",VLOOKUP(D14,Tablas!$B$2:$E$13,2,FALSE))","v":""},{"$f":"IF(B14=\"\",\"\",VLOOKUP(D14,Tablas!$B$2:$H$13,7,FALSE))","v":""},"","","","","","","","","","","","","","","","","","",""]
[{"$f":"IF(ISBLANK(InfoPro!A9),\"\",InfoPro!A9)","v":""},{"$f":"IF(ISBLANK(InfoPro!B9),\"\",InfoPro!B9)","v":""},{"$f":"IF(ISBLANK(InfoPro!E9),\"\",InfoPro!E9)","v":""},{"$f":"IF(ISBLANK(InfoPro!F9),\"\",InfoPro!F9)","v":""},{"$f":"IF(ISBLANK(InfoPro!I9),\"\",YEAR(InfoPro!I9)-$H$3)","v":""},{"$f":"IF(B15=\"\",\"\",VLOOKUP(D15,Tablas!$B$2:$E$13,2,FALSE))","v":""},{"$f":"IF(B15=\"\",\"\",VLOOKUP(D15,Tablas!$B$2:$H$13,7,FALSE))","v":""},"","","","","","","","","","","","","","","","","","",""]
[{"$f":"IF(ISBLANK(InfoPro!A10),\"\",InfoPro!A10)","v":""},{"$f":"IF(ISBLANK(InfoPro!B10),\"\",InfoPro!B10)","v":""},{"$f":"IF(ISBLANK(InfoPro!E10),\"\",InfoPro!E10)","v":""},{"$f":"IF(ISBLANK(InfoPro!F10),\"\",InfoPro!F10)","v":""},{"$f":"IF(ISBLANK(InfoPro!I10),\"\",YEAR(InfoPro!I10)-$H$3)","v":""},{"$f":"IF(B16=\"\",\"\",VLOOKUP(D16,Tablas!$B$2:$E$13,2,FALSE))","v":""},{"$f":"IF(B16=\"\",\"\",VLOOKUP(D16,Tablas!$B$2:$H$13,7,FALSE))","v":""},"","","","","","","","","","","","","","","","","","",""]
[{"$f":"IF(ISBLANK(InfoPro!A11),\"\",InfoPro!A11)","v":""},{"$f":"IF(ISBLANK(InfoPro!B11),\"\",InfoPro!B11)","v":""},{"$f":"IF(ISBLANK(InfoPro!E11),\"\",InfoPro!E11)","v":""},{"$f":"IF(ISBLANK(InfoPro!F11),\"\",InfoPro!F11)","v":""},{"$f":"IF(ISBLANK(InfoPro!I11),\"\",YEAR(InfoPro!I11)-$H$3)","v":""},{"$f":"IF(B17=\"\",\"\",VLOOKUP(D17,Tablas!$B$2:$E$13,2,FALSE))","v":""},{"$f":"IF(B17=\"\",\"\",VLOOKUP(D17,Tablas!$B$2:$H$13,7,FALSE))","v":""},"","","","","","","","","","","","","","","","","","",""]
[{"$f":"IF(ISBLANK(InfoPro!A12),\"\",InfoPro!A12)","v":""},{"$f":"IF(ISBLANK(InfoPro!B12),\"\",InfoPro!B12)","v":""},{"$f":"IF(ISBLANK(InfoPro!E12),\"\",InfoPro!E12)","v":""},{"$f":"IF(ISBLANK(InfoPro!F12),\"\",InfoPro!F12)","v":""},{"$f":"IF(ISBLANK(InfoPro!I12),\"\",YEAR(InfoPro!I12)-$H$3)","v":""},{"$f":"IF(B18=\"\",\"\",VLOOKUP(D18,Tablas!$B$2:$E$13,2,FALSE))","v":""},{"$f":"IF(B18=\"\",\"\",VLOOKUP(D18,Tablas!$B$2:$H$13,7,FALSE))","v":""},"","",{"$f":"IF($I18=\"\",\"\",(1/(1+$C$3)^(J$6+$E18))*$I18*$C$2*$H18)","v":""},"","","","","","","","","","","","","","","",""]
[{"$f":"IF(ISBLANK(InfoPro!A13),\"\",InfoPro!A13)","v":""},{"$f":"IF(ISBLANK(InfoPro!B13),\"\",InfoPro!B13)","v":""},{"$f":"IF(ISBLANK(InfoPro!E13),\"\",InfoPro!E13)","v":""},{"$f":"IF(ISBLANK(InfoPro!F13),\"\",InfoPro!F13)","v":""},{"$f":"IF(ISBLANK(InfoPro!I13),\"\",YEAR(InfoPro!I13)-$H$3)","v":""},{"$f":"IF(B19=\"\",\"\",VLOOKUP(D19,Tablas!$B$2:$E$13,2,FALSE))","v":""},{"$f":"IF(B19=\"\",\"\",VLOOKUP(D19,Tablas!$B$2:$H$13,7,FALSE))","v":""},"","","","","","","","","","","","","","","","","","",""]
[{"$f":"IF(ISBLANK(InfoPro!A14),\"\",InfoPro!A14)","v":""},{"$f":"IF(ISBLANK(InfoPro!B14),\"\",InfoPro!B14)","v":""},{"$f":"IF(ISBLANK(InfoPro!E14),\"\",InfoPro!E14)","v":""},{"$f":"IF(ISBLANK(InfoPro!F14),\"\",InfoPro!F14)","v":""},{"$f":"IF(ISBLANK(InfoPro!I14),\"\",YEAR(InfoPro!I14)-$H$3)","v":""},{"$f":"IF(B20=\"\",\"\",VLOOKUP(D20,Tablas!$B$2:$E$13,2,FALSE))","v":""},{"$f":"IF(B20=\"\",\"\",VLOOKUP(D20,Tablas!$B$2:$H$13,7,FALSE))","v":""},"","","","","","","","","","","","","","","","","","",""]
[{"$f":"IF(ISBLANK(InfoPro!A15),\"\",InfoPro!A15)","v":""},{"$f":"IF(ISBLANK(InfoPro!B15),\"\",InfoPro!B15)","v":""},{"$f":"IF(ISBLANK(InfoPro!E15),\"\",InfoPro!E15)","v":""},{"$f":"IF(ISBLANK(InfoPro!F15),\"\",InfoPro!F15)","v":""},{"$f":"IF(ISBLANK(InfoPro!I15),\"\",YEAR(InfoPro!I15)-$H$3)","v":""},{"$f":"IF(B21=\"\",\"\",VLOOKUP(D21,Tablas!$B$2:$E$13,2,FALSE))","v":""},{"$f":"IF(B21=\"\",\"\",VLOOKUP(D21,Tablas!$B$2:$H$13,7,FALSE))","v":""},"","","","","","","","","","","","","","","","","","",""]
[{"$f":"IF(ISBLANK(InfoPro!A16),\"\",InfoPro!A16)","v":""},{"$f":"IF(ISBLANK(InfoPro!B16),\"\",InfoPro!B16)","v":""},{"$f":"IF(ISBLANK(InfoPro!E16),\"\",InfoPro!E16)","v":""},{"$f":"IF(ISBLANK(InfoPro!F16),\"\",InfoPro!F16)","v":""},{"$f":"IF(ISBLANK(InfoPro!I16),\"\",YEAR(InfoPro!I16)-$H$3)","v":""},{"$f":"IF(B22=\"\",\"\",VLOOKUP(D22,Tablas!$B$2:$E$13,2,FALSE))","v":""},{"$f":"IF(B22=\"\",\"\",VLOOKUP(D22,Tablas!$B$2:$H$13,7,FALSE))","v":""},"","","","","","","","","","","","","","","","","","",""]
[{"$f":"IF(ISBLANK(InfoPro!A17),\"\",InfoPro!A17)","v":""},{"$f":"IF(ISBLANK(InfoPro!B17),\"\",InfoPro!B17)","v":""},{"$f":"IF(ISBLANK(InfoPro!E17),\"\",InfoPro!E17)","v":""},{"$f":"IF(ISBLANK(InfoPro!F17),\"\",InfoPro!F17)","v":""},{"$f":"IF(ISBLANK(InfoPro!I17),\"\",YEAR(InfoPro!I17)-$H$3)","v":""},{"$f":"IF(B23=\"\",\"\",VLOOKUP(D23,Tablas!$B$2:$E$13,2,FALSE))","v":""},{"$f":"IF(B23=\"\",\"\",VLOOKUP(D23,Tablas!$B$2:$H$13,7,FALSE))","v":""},"","","","","","","","","","","","","","","","","","",""]
[{"$f":"IF(ISBLANK(InfoPro!A18),\"\",InfoPro!A18)","v":""},{"$f":"IF(ISBLANK(InfoPro!B18),\"\",InfoPro!B18)","v":""},{"$f":"IF(ISBLANK(InfoPro!E18),\"\",InfoPro!E18)","v":""},{"$f":"IF(ISBLANK(InfoPro!F18),\"\",InfoPro!F18)","v":""},{"$f":"IF(ISBLANK(InfoPro!I18),\"\",YEAR(InfoPro!I18)-$H$3)","v":""},{"$f":"IF(B24=\"\",\"\",VLOOKUP(D24,Tablas!$B$2:$E$13,2,FALSE))","v":""},{"$f":"IF(B24=\"\",\"\",VLOOKUP(D24,Tablas!$B$2:$H$13,7,FALSE))","v":""},"","","","","","","","","","","","","","","","","","",""]
[{"$f":"IF(ISBLANK(InfoPro!A19),\"\",InfoPro!A19)","v":""},{"$f":"IF(ISBLANK(InfoPro!B19),\"\",InfoPro!B19)","v":""},{"$f":"IF(ISBLANK(InfoPro!E19),\"\",InfoPro!E19)","v":""},{"$f":"IF(ISBLANK(InfoPro!F19),\"\",InfoPro!F19)","v":""},{"$f":"IF(ISBLANK(InfoPro!I19),\"\",YEAR(InfoPro!I19)-$H$3)","v":""},{"$f":"IF(B25=\"\",\"\",VLOOKUP(D25,Tablas!$B$2:$E$13,2,FALSE))","v":""},{"$f":"IF(B25=\"\",\"\",VLOOKUP(D25,Tablas!$B$2:$H$13,7,FALSE))","v":""},"","","","","","","","","","","","","","","","","","",""]
[{"$f":"IF(ISBLANK(InfoPro!A20),\"\",InfoPro!A20)","v":""},{"$f":"IF(ISBLANK(InfoPro!B20),\"\",InfoPro!B20)","v":""},{"$f":"IF(ISBLANK(InfoPro!E20),\"\",InfoPro!E20)","v":""},{"$f":"IF(ISBLANK(InfoPro!F20),\"\",InfoPro!F20)","v":""},{"$f":"IF(ISBLANK(InfoPro!I20),\"\",YEAR(InfoPro!I20)-$H$3)","v":""},{"$f":"IF(B26=\"\",\"\",VLOOKUP(D26,Tablas!$B$2:$E$13,2,FALSE))","v":""},{"$f":"IF(B26=\"\",\"\",VLOOKUP(D26,Tablas!$B$2:$H$13,7,FALSE))","v":""},"","","","","","","","","","","","","","","","","","",""]
[{"$f":"IF(ISBLANK(InfoPro!A21),\"\",InfoPro!A21)","v":""},{"$f":"IF(ISBLANK(InfoPro!B21),\"\",InfoPro!B21)","v":""},{"$f":"IF(ISBLANK(InfoPro!E21),\"\",InfoPro!E21)","v":""},{"$f":"IF(ISBLANK(InfoPro!F21),\"\",InfoPro!F21)","v":""},{"$f":"IF(ISBLANK(InfoPro!I21),\"\",YEAR(InfoPro!I21)-$H$3)","v":""},{"$f":"IF(B27=\"\",\"\",VLOOKUP(D27,Tablas!$B$2:$E$13,2,FALSE))","v":""},{"$f":"IF(B27=\"\",\"\",VLOOKUP(D27,Tablas!$B$2:$H$13,7,FALSE))","v":""},"","","","","","","","","","","","","","","","","","",""]
[{"$f":"IF(ISBLANK(InfoPro!A22),\"\",InfoPro!A22)","v":""},{"$f":"IF(ISBLANK(InfoPro!B22),\"\",InfoPro!B22)","v":""},{"$f":"IF(ISBLANK(InfoPro!E22),\"\",InfoPro!E22)","v":""},{"$f":"IF(ISBLANK(InfoPro!F22),\"\",InfoPro!F22)","v":""},{"$f":"IF(ISBLANK(InfoPro!I22),\"\",YEAR(InfoPro!I22)-$H$3)","v":""},{"$f":"IF(B28=\"\",\"\",VLOOKUP(D28,Tablas!$B$2:$E$13,2,FALSE))","v":""},{"$f":"IF(B28=\"\",\"\",VLOOKUP(D28,Tablas!$B$2:$H$13,7,FALSE))","v":""},"","",{"$f":"IF($I28=\"\",\"\",(1/(1+$C$3)^(J$6+$E28))*$I28*$C$2*$H28)","v":""},"","","","","","","","","","","","","","","",""]
[{"$f":"IF(ISBLANK(InfoPro!A23),\"\",InfoPro!A23)","v":""},{"$f":"IF(ISBLANK(InfoPro!B23),\"\",InfoPro!B23)","v":""},{"$f":"IF(ISBLANK(InfoPro!E23),\"\",InfoPro!E23)","v":""},{"$f":"IF(ISBLANK(InfoPro!F23),\"\",InfoPro!F23)","v":""},{"$f":"IF(ISBLANK(InfoPro!I23),\"\",YEAR(InfoPro!I23)-$H$3)","v":""},{"$f":"IF(B29=\"\",\"\",VLOOKUP(D29,Tablas!$B$2:$E$13,2,FALSE))","v":""},{"$f":"IF(B29=\"\",\"\",VLOOKUP(D29,Tablas!$B$2:$H$13,7,FALSE))","v":""},"","","","","","","","","","","","","","","","","","",""]
[{"$f":"IF(ISBLANK(InfoPro!A24),\"\",InfoPro!A24)","v":""},{"$f":"IF(ISBLANK(InfoPro!B24),\"\",InfoPro!B24)","v":""},{"$f":"IF(ISBLANK(InfoPro!E24),\"\",InfoPro!E24)","v":""},{"$f":"IF(ISBLANK(InfoPro!F24),\"\",InfoPro!F24)","v":""},{"$f":"IF(ISBLANK(InfoPro!I24),\"\",YEAR(InfoPro!I24)-$H$3)","v":""},{"$f":"IF(B30=\"\",\"\",VLOOKUP(D30,Tablas!$B$2:$E$13,2,FALSE))","v":""},{"$f":"IF(B30=\"\",\"\",VLOOKUP(D30,Tablas!$B$2:$H$13,7,FALSE))","v":""},"","","","","","","","","","","","","","","","","","",""]
[{"$f":"IF(ISBLANK(InfoPro!A25),\"\",InfoPro!A25)","v":""},{"$f":"IF(ISBLANK(InfoPro!B25),\"\",InfoPro!B25)","v":""},{"$f":"IF(ISBLANK(InfoPro!E25),\"\",InfoPro!E25)","v":""},{"$f":"IF(ISBLANK(InfoPro!F25),\"\",InfoPro!F25)","v":""},{"$f":"IF(ISBLANK(InfoPro!I25),\"\",YEAR(InfoPro!I25)-$H$3)","v":""},{"$f":"IF(B31=\"\",\"\",VLOOKUP(D31,Tablas!$B$2:$E$13,2,FALSE))","v":""},{"$f":"IF(B31=\"\",\"\",VLOOKUP(D31,Tablas!$B$2:$H$13,7,FALSE))","v":""},"","","","","","","","","","","","","","","","","","",""]
[{"$f":"IF(ISBLANK(InfoPro!A26),\"\",InfoPro!A26)","v":""},{"$f":"IF(ISBLANK(InfoPro!B26),\"\",InfoPro!B26)","v":""},{"$f":"IF(ISBLANK(InfoPro!E26),\"\",InfoPro!E26)","v":""},{"$f":"IF(ISBLANK(InfoPro!F26),\"\",InfoPro!F26)","v":""},{"$f":"IF(ISBLANK(InfoPro!I26),\"\",YEAR(InfoPro!I26)-$H$3)","v":""},{"$f":"IF(B32=\"\",\"\",VLOOKUP(D32,Tablas!$B$2:$E$13,2,FALSE))","v":""},{"$f":"IF(B32=\"\",\"\",VLOOKUP(D32,Tablas!$B$2:$H$13,7,FALSE))","v":""},"","","","","","","","","","","","","","","","","","",""]
[{"$f":"IF(ISBLANK(InfoPro!A27),\"\",InfoPro!A27)","v":""},{"$f":"IF(ISBLANK(InfoPro!B27),\"\",InfoPro!B27)","v":""},{"$f":"IF(ISBLANK(InfoPro!E27),\"\",InfoPro!E27)","v":""},{"$f":"IF(ISBLANK(InfoPro!F27),\"\",InfoPro!F27)","v":""},{"$f":"IF(ISBLANK(InfoPro!I27),\"\",YEAR(InfoPro!I27)-$H$3)","v":""},{"$f":"IF(B33=\"\",\"\",VLOOKUP(D33,Tablas!$B$2:$E$13,2,FALSE))","v":""},{"$f":"IF(B33=\"\",\"\",VLOOKUP(D33,Tablas!$B$2:$H$13,7,FALSE))","v":""},"","","","","","","","","","","","","","","","","","",""]
[{"$f":"IF(ISBLANK(InfoPro!A28),\"\",InfoPro!A28)","v":""},{"$f":"IF(ISBLANK(InfoPro!B28),\"\",InfoPro!B28)","v":""},{"$f":"IF(ISBLANK(InfoPro!E28),\"\",InfoPro!E28)","v":""},{"$f":"IF(ISBLANK(InfoPro!F28),\"\",InfoPro!F28)","v":""},{"$f":"IF(ISBLANK(InfoPro!I28),\"\",YEAR(InfoPro!I28)-$H$3)","v":""},{"$f":"IF(B34=\"\",\"\",VLOOKUP(D34,Tablas!$B$2:$E$13,2,FALSE))","v":""},{"$f":"IF(B34=\"\",\"\",VLOOKUP(D34,Tablas!$B$2:$H$13,7,FALSE))","v":""},"","","","","","","","","","","","","","","","","","",""]
[{"$f":"IF(ISBLANK(InfoPro!A29),\"\",InfoPro!A29)","v":""},{"$f":"IF(ISBLANK(InfoPro!B29),\"\",InfoPro!B29)","v":""},{"$f":"IF(ISBLANK(InfoPro!E29),\"\",InfoPro!E29)","v":""},{"$f":"IF(ISBLANK(InfoPro!F29),\"\",InfoPro!F29)","v":""},{"$f":"IF(ISBLANK(InfoPro!I29),\"\",YEAR(InfoPro!I29)-$H$3)","v":""},{"$f":"IF(B35=\"\",\"\",VLOOKUP(D35,Tablas!$B$2:$E$13,2,FALSE))","v":""},{"$f":"IF(B35=\"\",\"\",VLOOKUP(D35,Tablas!$B$2:$H$13,7,FALSE))","v":""},"","","","","","","","","","","","","","","","","","",""]
[{"$f":"IF(ISBLANK(InfoPro!A30),\"\",InfoPro!A30)","v":""},{"$f":"IF(ISBLANK(InfoPro!B30),\"\",InfoPro!B30)","v":""},{"$f":"IF(ISBLANK(InfoPro!E30),\"\",InfoPro!E30)","v":""},{"$f":"IF(ISBLANK(InfoPro!F30),\"\",InfoPro!F30)","v":""},{"$f":"IF(ISBLANK(InfoPro!I30),\"\",YEAR(InfoPro!I30)-$H$3)","v":""},{"$f":"IF(B36=\"\",\"\",VLOOKUP(D36,Tablas!$B$2:$E$13,2,FALSE))","v":""},{"$f":"IF(B36=\"\",\"\",VLOOKUP(D36,Tablas!$B$2:$H$13,7,FALSE))","v":""},"","","","","","","","","","","","","","","","","","",""]
[{"$f":"IF(ISBLANK(InfoPro!A31),\"\",InfoPro!A31)","v":""},{"$f":"IF(ISBLANK(InfoPro!B31),\"\",InfoPro!B31)","v":""},{"$f":"IF(ISBLANK(InfoPro!E31),\"\",InfoPro!E31)","v":""},{"$f":"IF(ISBLANK(InfoPro!F31),\"\",InfoPro!F31)","v":""},{"$f":"IF(ISBLANK(InfoPro!I31),\"\",YEAR(InfoPro!I31)-$H$3)","v":""},{"$f":"IF(B37=\"\",\"\",VLOOKUP(D37,Tablas!$B$2:$E$13,2,FALSE))","v":""},{"$f":"IF(B37=\"\",\"\",VLOOKUP(D37,Tablas!$B$2:$H$13,7,FALSE))","v":""},"","","","","","","","","","","","","","","","","","",""]
[{"$f":"IF(ISBLANK(InfoPro!A32),\"\",InfoPro!A32)","v":""},{"$f":"IF(ISBLANK(InfoPro!B32),\"\",InfoPro!B32)","v":""},{"$f":"IF(ISBLANK(InfoPro!E32),\"\",InfoPro!E32)","v":""},{"$f":"IF(ISBLANK(InfoPro!F32),\"\",InfoPro!F32)","v":""},{"$f":"IF(ISBLANK(InfoPro!I32),\"\",YEAR(InfoPro!I32)-$H$3)","v":""},{"$f":"IF(B38=\"\",\"\",VLOOKUP(D38,Tablas!$B$2:$E$13,2,FALSE))","v":""},{"$f":"IF(B38=\"\",\"\",VLOOKUP(D38,Tablas!$B$2:$H$13,7,FALSE))","v":""},"","",{"$f":"IF($I38=\"\",\"\",(1/(1+$C$3)^(J$6+$E38))*$I38*$C$2*$H38)","v":""},"","","","","","","","","","","","","","","",""]
[{"$f":"IF(ISBLANK(InfoPro!A33),\"\",InfoPro!A33)","v":""},{"$f":"IF(ISBLANK(InfoPro!B33),\"\",InfoPro!B33)","v":""},{"$f":"IF(ISBLANK(InfoPro!E33),\"\",InfoPro!E33)","v":""},{"$f":"IF(ISBLANK(InfoPro!F33),\"\",InfoPro!F33)","v":""},{"$f":"IF(ISBLANK(InfoPro!I33),\"\",YEAR(InfoPro!I33)-$H$3)","v":""},{"$f":"IF(B39=\"\",\"\",VLOOKUP(D39,Tablas!$B$2:$E$13,2,FALSE))","v":""},{"$f":"IF(B39=\"\",\"\",VLOOKUP(D39,Tablas!$B$2:$H$13,7,FALSE))","v":""},"","","","","","","","","","","","","","","","","","",""]
[{"$f":"IF(ISBLANK(InfoPro!A34),\"\",InfoPro!A34)","v":""},{"$f":"IF(ISBLANK(InfoPro!B34),\"\",InfoPro!B34)","v":""},{"$f":"IF(ISBLANK(InfoPro!E34),\"\",InfoPro!E34)","v":""},{"$f":"IF(ISBLANK(InfoPro!F34),\"\",InfoPro!F34)","v":""},{"$f":"IF(ISBLANK(InfoPro!I34),\"\",YEAR(InfoPro!I34)-$H$3)","v":""},{"$f":"IF(B40=\"\",\"\",VLOOKUP(D40,Tablas!$B$2:$E$13,2,FALSE))","v":""},{"$f":"IF(B40=\"\",\"\",VLOOKUP(D40,Tablas!$B$2:$H$13,7,FALSE))","v":""},"",{"$f":"IF(C40=\"\",\"\",+C40*F40*24*365)","v":""},"","","","","","","","","","","","","","","","",""]
[{"$f":"IF(ISBLANK(InfoPro!A35),\"\",InfoPro!A35)","v":""},{"$f":"IF(ISBLANK(InfoPro!B35),\"\",InfoPro!B35)","v":""},{"$f":"IF(ISBLANK(InfoPro!E35),\"\",InfoPro!E35)","v":""},{"$f":"IF(ISBLANK(InfoPro!F35),\"\",InfoPro!F35)","v":""},{"$f":"IF(ISBLANK(InfoPro!I35),\"\",YEAR(InfoPro!I35)-$H$3)","v":""},{"$f":"IF(B41=\"\",\"\",VLOOKUP(D41,Tablas!$B$2:$E$13,2,FALSE))","v":""},{"$f":"IF(B41=\"\",\"\",VLOOKUP(D41,Tablas!$B$2:$H$13,7,FALSE))","v":""},"","","","","","","","","","","","","","","","","","",""]
[{"$f":"IF(ISBLANK(InfoPro!A36),\"\",InfoPro!A36)","v":""},{"$f":"IF(ISBLANK(InfoPro!B36),\"\",InfoPro!B36)","v":""},{"$f":"IF(ISBLANK(InfoPro!E36),\"\",InfoPro!E36)","v":""},{"$f":"IF(ISBLANK(InfoPro!F36),\"\",InfoPro!F36)","v":""},{"$f":"IF(ISBLANK(InfoPro!I36),\"\",YEAR(InfoPro!I36)-$H$3)","v":""},{"$f":"IF(B42=\"\",\"\",VLOOKUP(D42,Tablas!$B$2:$E$13,2,FALSE))","v":""},{"$f":"IF(B42=\"\",\"\",VLOOKUP(D42,Tablas!$B$2:$H$13,7,FALSE))","v":""},"","","","","","","","","","","","","","","","","","",""]
[{"$f":"IF(ISBLANK(InfoPro!A37),\"\",InfoPro!A37)","v":""},{"$f":"IF(ISBLANK(InfoPro!B37),\"\",InfoPro!B37)","v":""},{"$f":"IF(ISBLANK(InfoPro!E37),\"\",InfoPro!E37)","v":""},{"$f":"IF(ISBLANK(InfoPro!F37),\"\",InfoPro!F37)","v":""},{"$f":"IF(ISBLANK(InfoPro!I37),\"\",YEAR(InfoPro!I37)-$H$3)","v":""},{"$f":"IF(B43=\"\",\"\",VLOOKUP(D43,Tablas!$B$2:$E$13,2,FALSE))","v":""},{"$f":"IF(B43=\"\",\"\",VLOOKUP(D43,Tablas!$B$2:$H$13,7,FALSE))","v":""},"","","","","","","","","","","","","","","","","","",""]
[{"$f":"IF(ISBLANK(InfoPro!A38),\"\",InfoPro!A38)","v":""},{"$f":"IF(ISBLANK(InfoPro!B38),\"\",InfoPro!B38)","v":""},{"$f":"IF(ISBLANK(InfoPro!E38),\"\",InfoPro!E38)","v":""},{"$f":"IF(ISBLANK(InfoPro!F38),\"\",InfoPro!F38)","v":""},{"$f":"IF(ISBLANK(InfoPro!I38),\"\",YEAR(InfoPro!I38)-$H$3)","v":""},{"$f":"IF(B44=\"\",\"\",VLOOKUP(D44,Tablas!$B$2:$E$13,2,FALSE))","v":""},{"$f":"IF(B44=\"\",\"\",VLOOKUP(D44,Tablas!$B$2:$H$13,7,FALSE))","v":""},"","","","","","","","","","","","","","","","","","",""]
[{"$f":"IF(ISBLANK(InfoPro!A39),\"\",InfoPro!A39)","v":""},{"$f":"IF(ISBLANK(InfoPro!B39),\"\",InfoPro!B39)","v":""},{"$f":"IF(ISBLANK(InfoPro!E39),\"\",InfoPro!E39)","v":""},{"$f":"IF(ISBLANK(InfoPro!F39),\"\",InfoPro!F39)","v":""},{"$f":"IF(ISBLANK(InfoPro!I39),\"\",YEAR(InfoPro!I39)-$H$3)","v":""},{"$f":"IF(B45=\"\",\"\",VLOOKUP(D45,Tablas!$B$2:$E$13,2,FALSE))","v":""},{"$f":"IF(B45=\"\",\"\",VLOOKUP(D45,Tablas!$B$2:$H$13,7,FALSE))","v":""},"","","","","","","","","","","","","","","","","","",""]
[{"$f":"IF(ISBLANK(InfoPro!A40),\"\",InfoPro!A40)","v":""},{"$f":"IF(ISBLANK(InfoPro!B40),\"\",InfoPro!B40)","v":""},{"$f":"IF(ISBLANK(InfoPro!E40),\"\",InfoPro!E40)","v":""},{"$f":"IF(ISBLANK(InfoPro!F40),\"\",InfoPro!F40)","v":""},{"$f":"IF(ISBLANK(InfoPro!I40),\"\",YEAR(InfoPro!I40)-$H$3)","v":""},{"$f":"IF(B46=\"\",\"\",VLOOKUP(D46,Tablas!$B$2:$E$13,2,FALSE))","v":""},{"$f":"IF(B46=\"\",\"\",VLOOKUP(D46,Tablas!$B$2:$H$13,7,FALSE))","v":""},"","","","","","","","","","","","","","","","","","",""]
[{"$f":"IF(ISBLANK(InfoPro!A41),\"\",InfoPro!A41)","v":""},{"$f":"IF(ISBLANK(InfoPro!B41),\"\",InfoPro!B41)","v":""},{"$f":"IF(ISBLANK(InfoPro!E41),\"\",InfoPro!E41)","v":""},{"$f":"IF(ISBLANK(InfoPro!F41),\"\",InfoPro!F41)","v":""},{"$f":"IF(ISBLANK(InfoPro!I41),\"\",YEAR(InfoPro!I41)-$H$3)","v":""},{"$f":"IF(B47=\"\",\"\",VLOOKUP(D47,Tablas!$B$2:$E$13,2,FALSE))","v":""},{"$f":"IF(B47=\"\",\"\",VLOOKUP(D47,Tablas!$B$2:$H$13,7,FALSE))","v":""},"","","","","","","","","","","","","","","","","","",""]
[{"$f":"IF(ISBLANK(InfoPro!A42),\"\",InfoPro!A42)","v":""},{"$f":"IF(ISBLANK(InfoPro!B42),\"\",InfoPro!B42)","v":""},{"$f":"IF(ISBLANK(InfoPro!E42),\"\",InfoPro!E42)","v":""},{"$f":"IF(ISBLANK(InfoPro!F42),\"\",InfoPro!F42)","v":""},{"$f":"IF(ISBLANK(InfoPro!I42),\"\",YEAR(InfoPro!I42)-$H$3)","v":""},{"$f":"IF(B48=\"\",\"\",VLOOKUP(D48,Tablas!$B$2:$E$13,2,FALSE))","v":""},{"$f":"IF(B48=\"\",\"\",VLOOKUP(D48,Tablas!$B$2:$H$13,7,FALSE))","v":""},"","",{"$f":"IF($I48=\"\",\"\",(1/(1+$C$3)^(J$6+$E48))*$I48*$C$2*$H48)","v":""},"","","","","","","","","","","","","","","",""]
[{"$f":"IF(ISBLANK(InfoPro!A43),\"\",InfoPro!A43)","v":""},{"$f":"IF(ISBLANK(InfoPro!B43),\"\",InfoPro!B43)","v":""},{"$f":"IF(ISBLANK(InfoPro!E43),\"\",InfoPro!E43)","v":""},{"$f":"IF(ISBLANK(InfoPro!F43),\"\",InfoPro!F43)","v":""},{"$f":"IF(ISBLANK(InfoPro!I43),\"\",YEAR(InfoPro!I43)-$H$3)","v":""},{"$f":"IF(B49=\"\",\"\",VLOOKUP(D49,Tablas!$B$2:$E$13,2,FALSE))","v":""},{"$f":"IF(B49=\"\",\"\",VLOOKUP(D49,Tablas!$B$2:$H$13,7,FALSE))","v":""},"","","","","","","","","","","","","","","","","","",""]
[{"$f":"IF(ISBLANK(InfoPro!A44),\"\",InfoPro!A44)","v":""},{"$f":"IF(ISBLANK(InfoPro!B44),\"\",InfoPro!B44)","v":""},{"$f":"IF(ISBLANK(InfoPro!E44),\"\",InfoPro!E44)","v":""},{"$f":"IF(ISBLANK(InfoPro!F44),\"\",InfoPro!F44)","v":""},{"$f":"IF(ISBLANK(InfoPro!I44),\"\",YEAR(InfoPro!I44)-$H$3)","v":""},{"$f":"IF(B50=\"\",\"\",VLOOKUP(D50,Tablas!$B$2:$E$13,2,FALSE))","v":""},{"$f":"IF(B50=\"\",\"\",VLOOKUP(D50,Tablas!$B$2:$H$13,7,FALSE))","v":""},"","","","","","","","","","","","","","","","","","",""]
[{"$f":"IF(ISBLANK(InfoPro!A45),\"\",InfoPro!A45)","v":""},{"$f":"IF(ISBLANK(InfoPro!B45),\"\",InfoPro!B45)","v":""},{"$f":"IF(ISBLANK(InfoPro!E45),\"\",InfoPro!E45)","v":""},{"$f":"IF(ISBLANK(InfoPro!F45),\"\",InfoPro!F45)","v":""},{"$f":"IF(ISBLANK(InfoPro!I45),\"\",YEAR(InfoPro!I45)-$H$3)","v":""},{"$f":"IF(B51=\"\",\"\",VLOOKUP(D51,Tablas!$B$2:$E$13,2,FALSE))","v":""},{"$f":"IF(B51=\"\",\"\",VLOOKUP(D51,Tablas!$B$2:$H$13,7,FALSE))","v":""},"","","","","","","","","","","","","","","","","","",""]
[{"$f":"IF(ISBLANK(InfoPro!A46),\"\",InfoPro!A46)","v":""},{"$f":"IF(ISBLANK(InfoPro!B46),\"\",InfoPro!B46)","v":""},{"$f":"IF(ISBLANK(InfoPro!E46),\"\",InfoPro!E46)","v":""},{"$f":"IF(ISBLANK(InfoPro!F46),\"\",InfoPro!F46)","v":""},{"$f":"IF(ISBLANK(InfoPro!I46),\"\",YEAR(InfoPro!I46)-$H$3)","v":""},{"$f":"IF(B52=\"\",\"\",VLOOKUP(D52,Tablas!$B$2:$E$13,2,FALSE))","v":""},{"$f":"IF(B52=\"\",\"\",VLOOKUP(D52,Tablas!$B$2:$H$13,7,FALSE))","v":""},"","","","","","","","","","","","","","","","","","",""]
[{"$f":"IF(ISBLANK(InfoPro!A47),\"\",InfoPro!A47)","v":""},{"$f":"IF(ISBLANK(InfoPro!B47),\"\",InfoPro!B47)","v":""},{"$f":"IF(ISBLANK(InfoPro!E47),\"\",InfoPro!E47)","v":""},{"$f":"IF(ISBLANK(InfoPro!F47),\"\",InfoPro!F47)","v":""},{"$f":"IF(ISBLANK(InfoPro!I47),\"\",YEAR(InfoPro!I47)-$H$3)","v":""},{"$f":"IF(B53=\"\",\"\",VLOOKUP(D53,Tablas!$B$2:$E$13,2,FALSE))","v":""},{"$f":"IF(B53=\"\",\"\",VLOOKUP(D53,Tablas!$B$2:$H$13,7,FALSE))","v":""},"","","","","","","","","","","","","","","","","","",""]
[{"$f":"IF(ISBLANK(InfoPro!A48),\"\",InfoPro!A48)","v":""},{"$f":"IF(ISBLANK(InfoPro!B48),\"\",InfoPro!B48)","v":""},{"$f":"IF(ISBLANK(InfoPro!E48),\"\",InfoPro!E48)","v":""},{"$f":"IF(ISBLANK(InfoPro!F48),\"\",InfoPro!F48)","v":""},{"$f":"IF(ISBLANK(InfoPro!I48),\"\",YEAR(InfoPro!I48)-$H$3)","v":""},{"$f":"IF(B54=\"\",\"\",VLOOKUP(D54,Tablas!$B$2:$E$13,2,FALSE))","v":""},{"$f":"IF(B54=\"\",\"\",VLOOKUP(D54,Tablas!$B$2:$H$13,7,FALSE))","v":""},"","","","","","","","","","","","","","","","","","",""]
[{"$f":"IF(ISBLANK(InfoPro!A49),\"\",InfoPro!A49)","v":""},{"$f":"IF(ISBLANK(InfoPro!B49),\"\",InfoPro!B49)","v":""},{"$f":"IF(ISBLANK(InfoPro!E49),\"\",InfoPro!E49)","v":""},{"$f":"IF(ISBLANK(InfoPro!F49),\"\",InfoPro!F49)","v":""},{"$f":"IF(ISBLANK(InfoPro!I49),\"\",YEAR(InfoPro!I49)-$H$3)","v":""},{"$f":"IF(B55=\"\",\"\",VLOOKUP(D55,Tablas!$B$2:$E$13,2,FALSE))","v":""},{"$f":"IF(B55=\"\",\"\",VLOOKUP(D55,Tablas!$B$2:$H$13,7,FALSE))","v":""},"","","","","","","","","","","","","","","","","","",""]
[{"$f":"IF(ISBLANK(InfoPro!A50),\"\",InfoPro!A50)","v":""},{"$f":"IF(ISBLANK(InfoPro!B50),\"\",InfoPro!B50)","v":""},{"$f":"IF(ISBLANK(InfoPro!E50),\"\",InfoPro!E50)","v":""},{"$f":"IF(ISBLANK(InfoPro!F50),\"\",InfoPro!F50)","v":""},{"$f":"IF(ISBLANK(InfoPro!I50),\"\",YEAR(InfoPro!I50)-$H$3)","v":""},{"$f":"IF(B56=\"\",\"\",VLOOKUP(D56,Tablas!$B$2:$E$13,2,FALSE))","v":""},{"$f":"IF(B56=\"\",\"\",VLOOKUP(D56,Tablas!$B$2:$H$13,7,FALSE))","v":""},"","","","","","","","","","","","","","","","","","",""]
[{"$f":"IF(ISBLANK(InfoPro!A51),\"\",InfoPro!A51)","v":""},{"$f":"IF(ISBLANK(InfoPro!B51),\"\",InfoPro!B51)","v":""},{"$f":"IF(ISBLANK(InfoPro!E51),\"\",InfoPro!E51)","v":""},{"$f":"IF(ISBLANK(InfoPro!F51),\"\",InfoPro!F51)","v":""},{"$f":"IF(ISBLANK(InfoPro!I51),\"\",YEAR(InfoPro!I51)-$H$3)","v":""},{"$f":"IF(B57=\"\",\"\",VLOOKUP(D57,Tablas!$B$2:$E$13,2,FALSE))","v":""},{"$f":"IF(B57=\"\",\"\",VLOOKUP(D57,Tablas!$B$2:$H$13,7,FALSE))","v":""},"","","","","","","","","","","","","","","","","","",""]
[{"$f":"IF(ISBLANK(InfoPro!A52),\"\",InfoPro!A52)","v":""},{"$f":"IF(ISBLANK(InfoPro!B52),\"\",InfoPro!B52)","v":""},{"$f":"IF(ISBLANK(InfoPro!E52),\"\",InfoPro!E52)","v":""},{"$f":"IF(ISBLANK(InfoPro!F52),\"\",InfoPro!F52)","v":""},{"$f":"IF(ISBLANK(InfoPro!I52),\"\",YEAR(InfoPro!I52)-$H$3)","v":""},{"$f":"IF(B58=\"\",\"\",VLOOKUP(D58,Tablas!$B$2:$E$13,2,FALSE))","v":""},{"$f":"IF(B58=\"\",\"\",VLOOKUP(D58,Tablas!$B$2:$H$13,7,FALSE))","v":""},"","",{"$f":"IF($I58=\"\",\"\",(1/(1+$C$3)^(J$6+$E58))*$I58*$C$2*$H58)","v":""},"","","","","","","","","","","","","","","",""]
[{"$f":"IF(ISBLANK(InfoPro!A53),\"\",InfoPro!A53)","v":""},{"$f":"IF(ISBLANK(InfoPro!B53),\"\",InfoPro!B53)","v":""},{"$f":"IF(ISBLANK(InfoPro!E53),\"\",InfoPro!E53)","v":""},{"$f":"IF(ISBLANK(InfoPro!F53),\"\",InfoPro!F53)","v":""},{"$f":"IF(ISBLANK(InfoPro!I53),\"\",YEAR(InfoPro!I53)-$H$3)","v":""},{"$f":"IF(B59=\"\",\"\",VLOOKUP(D59,Tablas!$B$2:$E$13,2,FALSE))","v":""},{"$f":"IF(B59=\"\",\"\",VLOOKUP(D59,Tablas!$B$2:$H$13,7,FALSE))","v":""},"","","","","","","","","","","","","","","","","","",""]
[{"$f":"IF(ISBLANK(InfoPro!A54),\"\",InfoPro!A54)","v":""},{"$f":"IF(ISBLANK(InfoPro!B54),\"\",InfoPro!B54)","v":""},{"$f":"IF(ISBLANK(InfoPro!E54),\"\",InfoPro!E54)","v":""},{"$f":"IF(ISBLANK(InfoPro!F54),\"\",InfoPro!F54)","v":""},{"$f":"IF(ISBLANK(InfoPro!I54),\"\",YEAR(InfoPro!I54)-$H$3)","v":""},{"$f":"IF(B60=\"\",\"\",VLOOKUP(D60,Tablas!$B$2:$E$13,2,FALSE))","v":""},{"$f":"IF(B60=\"\",\"\",VLOOKUP(D60,Tablas!$B$2:$H$13,7,FALSE))","v":""},"","","","","","","","","","","","","","","","","","",""]
[{"$f":"IF(ISBLANK(InfoPro!A55),\"\",InfoPro!A55)","v":""},{"$f":"IF(ISBLANK(InfoPro!B55),\"\",InfoPro!B55)","v":""},{"$f":"IF(ISBLANK(InfoPro!E55),\"\",InfoPro!E55)","v":""},{"$f":"IF(ISBLANK(InfoPro!F55),\"\",InfoPro!F55)","v":""},{"$f":"IF(ISBLANK(InfoPro!I55),\"\",YEAR(InfoPro!I55)-$H$3)","v":""},{"$f":"IF(B61=\"\",\"\",VLOOKUP(D61,Tablas!$B$2:$E$13,2,FALSE))","v":""},{"$f":"IF(B61=\"\",\"\",VLOOKUP(D61,Tablas!$B$2:$H$13,7,FALSE))","v":""},"","","","","","","","","","","","","","","","","","",""]
[{"$f":"IF(ISBLANK(InfoPro!A56),\"\",InfoPro!A56)","v":""},{"$f":"IF(ISBLANK(InfoPro!B56),\"\",InfoPro!B56)","v":""},{"$f":"IF(ISBLANK(InfoPro!E56),\"\",InfoPro!E56)","v":""},{"$f":"IF(ISBLANK(InfoPro!F56),\"\",InfoPro!F56)","v":""},{"$f":"IF(ISBLANK(InfoPro!I56),\"\",YEAR(InfoPro!I56)-$H$3)","v":""},{"$f":"IF(B62=\"\",\"\",VLOOKUP(D62,Tablas!$B$2:$E$13,2,FALSE))","v":""},{"$f":"IF(B62=\"\",\"\",VLOOKUP(D62,Tablas!$B$2:$H$13,7,FALSE))","v":""},"","","","","","","","","","","","","","","","","","",""]
[{"$f":"IF(ISBLANK(InfoPro!A57),\"\",InfoPro!A57)","v":""},{"$f":"IF(ISBLANK(InfoPro!B57),\"\",InfoPro!B57)","v":""},{"$f":"IF(ISBLANK(InfoPro!E57),\"\",InfoPro!E57)","v":""},{"$f":"IF(ISBLANK(InfoPro!F57),\"\",InfoPro!F57)","v":""},{"$f":"IF(ISBLANK(InfoPro!I57),\"\",YEAR(InfoPro!I57)-$H$3)","v":""},{"$f":"IF(B63=\"\",\"\",VLOOKUP(D63,Tablas!$B$2:$E$13,2,FALSE))","v":""},{"$f":"IF(B63=\"\",\"\",VLOOKUP(D63,Tablas!$B$2:$H$13,7,FALSE))","v":""},"","","","","","","","","","","","","","","","","","",""]
[{"$f":"IF(ISBLANK(InfoPro!A58),\"\",InfoPro!A58)","v":""},{"$f":"IF(ISBLANK(InfoPro!B58),\"\",InfoPro!B58)","v":""},{"$f":"IF(ISBLANK(InfoPro!E58),\"\",InfoPro!E58)","v":""},{"$f":"IF(ISBLANK(InfoPro!F58),\"\",InfoPro!F58)","v":""},{"$f":"IF(ISBLANK(InfoPro!I58),\"\",YEAR(InfoPro!I58)-$H$3)","v":""},{"$f":"IF(B64=\"\",\"\",VLOOKUP(D64,Tablas!$B$2:$E$13,2,FALSE))","v":""},{"$f":"IF(B64=\"\",\"\",VLOOKUP(D64,Tablas!$B$2:$H$13,7,FALSE))","v":""},"","","","","","","","","","","","","","","","","","",""]
[{"$f":"IF(ISBLANK(InfoPro!A59),\"\",InfoPro!A59)","v":""},{"$f":"IF(ISBLANK(InfoPro!B59),\"\",InfoPro!B59)","v":""},{"$f":"IF(ISBLANK(InfoPro!E59),\"\",InfoPro!E59)","v":""},{"$f":"IF(ISBLANK(InfoPro!F59),\"\",InfoPro!F59)","v":""},{"$f":"IF(ISBLANK(InfoPro!I59),\"\",YEAR(InfoPro!I59)-$H$3)","v":""},{"$f":"IF(B65=\"\",\"\",VLOOKUP(D65,Tablas!$B$2:$E$13,2,FALSE))","v":""},{"$f":"IF(B65=\"\",\"\",VLOOKUP(D65,Tablas!$B$2:$H$13,7,FALSE))","v":""},"","","","","","","","","","","","","","","","","","",""]
[{"$f":"IF(ISBLANK(InfoPro!A60),\"\",InfoPro!A60)","v":""},{"$f":"IF(ISBLANK(InfoPro!B60),\"\",InfoPro!B60)","v":""},{"$f":"IF(ISBLANK(InfoPro!E60),\"\",InfoPro!E60)","v":""},{"$f":"IF(ISBLANK(InfoPro!F60),\"\",InfoPro!F60)","v":""},{"$f":"IF(ISBLANK(InfoPro!I60),\"\",YEAR(InfoPro!I60)-$H$3)","v":""},{"$f":"IF(B66=\"\",\"\",VLOOKUP(D66,Tablas!$B$2:$E$13,2,FALSE))","v":""},{"$f":"IF(B66=\"\",\"\",VLOOKUP(D66,Tablas!$B$2:$H$13,7,FALSE))","v":""},"","","","","","","","","","","","","","","","","","",""]
[{"$f":"IF(ISBLANK(InfoPro!A61),\"\",InfoPro!A61)","v":""},{"$f":"IF(ISBLANK(InfoPro!B61),\"\",InfoPro!B61)","v":""},{"$f":"IF(ISBLANK(InfoPro!E61),\"\",InfoPro!E61)","v":""},{"$f":"IF(ISBLANK(InfoPro!F61),\"\",InfoPro!F61)","v":""},{"$f":"IF(ISBLANK(InfoPro!I61),\"\",YEAR(InfoPro!I61)-$H$3)","v":""},{"$f":"IF(B67=\"\",\"\",VLOOKUP(D67,Tablas!$B$2:$E$13,2,FALSE))","v":""},{"$f":"IF(B67=\"\",\"\",VLOOKUP(D67,Tablas!$B$2:$H$13,7,FALSE))","v":""},"","","","","","","","","","","","","","","","","","",""]
[{"$f":"IF(ISBLANK(InfoPro!A62),\"\",InfoPro!A62)","v":""},{"$f":"IF(ISBLANK(InfoPro!B62),\"\",InfoPro!B62)","v":""},{"$f":"IF(ISBLANK(InfoPro!E62),\"\",InfoPro!E62)","v":""},{"$f":"IF(ISBLANK(InfoPro!F62),\"\",InfoPro!F62)","v":""},{"$f":"IF(ISBLANK(InfoPro!I62),\"\",YEAR(InfoPro!I62)-$H$3)","v":""},{"$f":"IF(B68=\"\",\"\",VLOOKUP(D68,Tablas!$B$2:$E$13,2,FALSE))","v":""},{"$f":"IF(B68=\"\",\"\",VLOOKUP(D68,Tablas!$B$2:$H$13,7,FALSE))","v":""},"","",{"$f":"IF($I68=\"\",\"\",(1/(1+$C$3)^(J$6+$E68))*$I68*$C$2*$H68)","v":""},"","","","","","","","","","","","","","","",""]
[{"$f":"IF(ISBLANK(InfoPro!A63),\"\",InfoPro!A63)","v":""},{"$f":"IF(ISBLANK(InfoPro!B63),\"\",InfoPro!B63)","v":""},{"$f":"IF(ISBLANK(InfoPro!E63),\"\",InfoPro!E63)","v":""},{"$f":"IF(ISBLANK(InfoPro!F63),\"\",InfoPro!F63)","v":""},{"$f":"IF(ISBLANK(InfoPro!I63),\"\",YEAR(InfoPro!I63)-$H$3)","v":""},{"$f":"IF(B69=\"\",\"\",VLOOKUP(D69,Tablas!$B$2:$E$13,2,FALSE))","v":""},{"$f":"IF(B69=\"\",\"\",VLOOKUP(D69,Tablas!$B$2:$H$13,7,FALSE))","v":""},"","","","","","","","","","","","","","","","","","",""]
[{"$f":"IF(ISBLANK(InfoPro!A64),\"\",InfoPro!A64)","v":""},{"$f":"IF(ISBLANK(InfoPro!B64),\"\",InfoPro!B64)","v":""},{"$f":"IF(ISBLANK(InfoPro!E64),\"\",InfoPro!E64)","v":""},{"$f":"IF(ISBLANK(InfoPro!F64),\"\",InfoPro!F64)","v":""},{"$f":"IF(ISBLANK(InfoPro!I64),\"\",YEAR(InfoPro!I64)-$H$3)","v":""},{"$f":"IF(B70=\"\",\"\",VLOOKUP(D70,Tablas!$B$2:$E$13,2,FALSE))","v":""},{"$f":"IF(B70=\"\",\"\",VLOOKUP(D70,Tablas!$B$2:$H$13,7,FALSE))","v":""},"","","","","","","","","","","","","","","","","","",""]
[{"$f":"IF(ISBLANK(InfoPro!A65),\"\",InfoPro!A65)","v":""},{"$f":"IF(ISBLANK(InfoPro!B65),\"\",InfoPro!B65)","v":""},{"$f":"IF(ISBLANK(InfoPro!E65),\"\",InfoPro!E65)","v":""},{"$f":"IF(ISBLANK(InfoPro!F65),\"\",InfoPro!F65)","v":""},{"$f":"IF(ISBLANK(InfoPro!I65),\"\",YEAR(InfoPro!I65)-$H$3)","v":""},{"$f":"IF(B71=\"\",\"\",VLOOKUP(D71,Tablas!$B$2:$E$13,2,FALSE))","v":""},{"$f":"IF(B71=\"\",\"\",VLOOKUP(D71,Tablas!$B$2:$H$13,7,FALSE))","v":""},"","","","","","","","","","","","","","","","","","",""]
[{"$f":"IF(ISBLANK(InfoPro!A66),\"\",InfoPro!A66)","v":""},{"$f":"IF(ISBLANK(InfoPro!B66),\"\",InfoPro!B66)","v":""},{"$f":"IF(ISBLANK(InfoPro!E66),\"\",InfoPro!E66)","v":""},{"$f":"IF(ISBLANK(InfoPro!F66),\"\",InfoPro!F66)","v":""},{"$f":"IF(ISBLANK(InfoPro!I66),\"\",YEAR(InfoPro!I66)-$H$3)","v":""},{"$f":"IF(B72=\"\",\"\",VLOOKUP(D72,Tablas!$B$2:$E$13,2,FALSE))","v":""},{"$f":"IF(B72=\"\",\"\",VLOOKUP(D72,Tablas!$B$2:$H$13,7,FALSE))","v":""},"",{"$f":"IF(C72=\"\",\"\",+C72*F72*24*365)","v":""},"","","","","","","","","","","","","","","","",""]
[{"$f":"IF(ISBLANK(InfoPro!A67),\"\",InfoPro!A67)","v":""},{"$f":"IF(ISBLANK(InfoPro!B67),\"\",InfoPro!B67)","v":""},{"$f":"IF(ISBLANK(InfoPro!E67),\"\",InfoPro!E67)","v":""},{"$f":"IF(ISBLANK(InfoPro!F67),\"\",InfoPro!F67)","v":""},{"$f":"IF(ISBLANK(InfoPro!I67),\"\",YEAR(InfoPro!I67)-$H$3)","v":""},{"$f":"IF(B73=\"\",\"\",VLOOKUP(D73,Tablas!$B$2:$E$13,2,FALSE))","v":""},{"$f":"IF(B73=\"\",\"\",VLOOKUP(D73,Tablas!$B$2:$H$13,7,FALSE))","v":""},{"$f":"IF(B73=\"\",\"\",($C$2-(G73))/$C$2)","v":""},"","","","","","","","","","","","","","","","",{"$f":"IF(X73=\"\",\"\",SUM(J73:X73))","v":""},{"$f":"IF(C73=0,0,IF(Y73=\"\",\"\",Y73/(C73*1000)))","v":""}]
[{"$f":"IF(ISBLANK(InfoPro!A68),\"\",InfoPro!A68)","v":""},{"$f":"IF(ISBLANK(InfoPro!B68),\"\",InfoPro!B68)","v":""},{"$f":"IF(ISBLANK(InfoPro!E68),\"\",InfoPro!E68)","v":""},{"$f":"IF(ISBLANK(InfoPro!F68),\"\",InfoPro!F68)","v":""},{"$f":"IF(ISBLANK(InfoPro!I68),\"\",YEAR(InfoPro!I68)-$H$3)","v":""},{"$f":"IF(B74=\"\",\"\",VLOOKUP(D74,Tablas!$B$2:$E$13,2,FALSE))","v":""},{"$f":"IF(B74=\"\",\"\",VLOOKUP(D74,Tablas!$B$2:$H$13,7,FALSE))","v":""},"","","","","","","","","","","","","","","","","","",""]
[{"$f":"IF(ISBLANK(InfoPro!A69),\"\",InfoPro!A69)","v":""},{"$f":"IF(ISBLANK(InfoPro!B69),\"\",InfoPro!B69)","v":""},{"$f":"IF(ISBLANK(InfoPro!E69),\"\",InfoPro!E69)","v":""},{"$f":"IF(ISBLANK(InfoPro!F69),\"\",InfoPro!F69)","v":""},{"$f":"IF(ISBLANK(InfoPro!I69),\"\",YEAR(InfoPro!I69)-$H$3)","v":""},{"$f":"IF(B75=\"\",\"\",VLOOKUP(D75,Tablas!$B$2:$E$13,2,FALSE))","v":""},{"$f":"IF(B75=\"\",\"\",VLOOKUP(D75,Tablas!$B$2:$H$13,7,FALSE))","v":""},"","","","","","","","","","","","","","","","","","",""]
[{"$f":"IF(ISBLANK(InfoPro!A70),\"\",InfoPro!A70)","v":""},{"$f":"IF(ISBLANK(InfoPro!B70),\"\",InfoPro!B70)","v":""},{"$f":"IF(ISBLANK(InfoPro!E70),\"\",InfoPro!E70)","v":""},{"$f":"IF(ISBLANK(InfoPro!F70),\"\",InfoPro!F70)","v":""},{"$f":"IF(ISBLANK(InfoPro!I70),\"\",YEAR(InfoPro!I70)-$H$3)","v":""},{"$f":"IF(B76=\"\",\"\",VLOOKUP(D76,Tablas!$B$2:$E$13,2,FALSE))","v":""},{"$f":"IF(B76=\"\",\"\",VLOOKUP(D76,Tablas!$B$2:$H$13,7,FALSE))","v":""},"","","","","","","","","","","","","","","","","","",""]
[{"$f":"IF(ISBLANK(InfoPro!A71),\"\",InfoPro!A71)","v":""},{"$f":"IF(ISBLANK(InfoPro!B71),\"\",InfoPro!B71)","v":""},{"$f":"IF(ISBLANK(InfoPro!E71),\"\",InfoPro!E71)","v":""},{"$f":"IF(ISBLANK(InfoPro!F71),\"\",InfoPro!F71)","v":""},{"$f":"IF(ISBLANK(InfoPro!I71),\"\",YEAR(InfoPro!I71)-$H$3)","v":""},{"$f":"IF(B77=\"\",\"\",VLOOKUP(D77,Tablas!$B$2:$E$13,2,FALSE))","v":""},{"$f":"IF(B77=\"\",\"\",VLOOKUP(D77,Tablas!$B$2:$H$13,7,FALSE))","v":""},"","","","","","","","","","","","","","","","","","",""]
[{"$f":"IF(ISBLANK(InfoPro!A72),\"\",InfoPro!A72)","v":""},{"$f":"IF(ISBLANK(InfoPro!B72),\"\",InfoPro!B72)","v":""},{"$f":"IF(ISBLANK(InfoPro!E72),\"\",InfoPro!E72)","v":""},{"$f":"IF(ISBLANK(InfoPro!F72),\"\",InfoPro!F72)","v":""},{"$f":"IF(ISBLANK(InfoPro!I72),\"\",YEAR(InfoPro!I72)-$H$3)","v":""},{"$f":"IF(B78=\"\",\"\",VLOOKUP(D78,Tablas!$B$2:$E$13,2,FALSE))","v":""},{"$f":"IF(B78=\"\",\"\",VLOOKUP(D78,Tablas!$B$2:$H$13,7,FALSE))","v":""},"","",{"$f":"IF($I78=\"\",\"\",(1/(1+$C$3)^(J$6+$E78))*$I78*$C$2*$H78)","v":""},"","","","","","","","","","","","","","","",""]
[{"$f":"IF(ISBLANK(InfoPro!A73),\"\",InfoPro!A73)","v":""},{"$f":"IF(ISBLANK(InfoPro!B73),\"\",InfoPro!B73)","v":""},{"$f":"IF(ISBLANK(InfoPro!E73),\"\",InfoPro!E73)","v":""},{"$f":"IF(ISBLANK(InfoPro!F73),\"\",InfoPro!F73)","v":""},{"$f":"IF(ISBLANK(InfoPro!I73),\"\",YEAR(InfoPro!I73)-$H$3)","v":""},{"$f":"IF(B79=\"\",\"\",VLOOKUP(D79,Tablas!$B$2:$E$13,2,FALSE))","v":""},{"$f":"IF(B79=\"\",\"\",VLOOKUP(D79,Tablas!$B$2:$H$13,7,FALSE))","v":""},"","","","","","","","","","","","","","","","","","",""]
[{"$f":"IF(ISBLANK(InfoPro!A74),\"\",InfoPro!A74)","v":""},{"$f":"IF(ISBLANK(InfoPro!B74),\"\",InfoPro!B74)","v":""},{"$f":"IF(ISBLANK(InfoPro!E74),\"\",InfoPro!E74)","v":""},{"$f":"IF(ISBLANK(InfoPro!F74),\"\",InfoPro!F74)","v":""},{"$f":"IF(ISBLANK(InfoPro!I74),\"\",YEAR(InfoPro!I74)-$H$3)","v":""},{"$f":"IF(B80=\"\",\"\",VLOOKUP(D80,Tablas!$B$2:$E$13,2,FALSE))","v":""},{"$f":"IF(B80=\"\",\"\",VLOOKUP(D80,Tablas!$B$2:$H$13,7,FALSE))","v":""},"","","","","","","","","","","","","","","","","","",""]
[{"$f":"IF(ISBLANK(InfoPro!A75),\"\",InfoPro!A75)","v":""},{"$f":"IF(ISBLANK(InfoPro!B75),\"\",InfoPro!B75)","v":""},{"$f":"IF(ISBLANK(InfoPro!E75),\"\",InfoPro!E75)","v":""},{"$f":"IF(ISBLANK(InfoPro!F75),\"\",InfoPro!F75)","v":""},{"$f":"IF(ISBLANK(InfoPro!I75),\"\",YEAR(InfoPro!I75)-$H$3)","v":""},{"$f":"IF(B81=\"\",\"\",VLOOKUP(D81,Tablas!$B$2:$E$13,2,FALSE))","v":""},{"$f":"IF(B81=\"\",\"\",VLOOKUP(D81,Tablas!$B$2:$H$13,7,FALSE))","v":""},"","","","","","","","","","","","","","","","","","",""]
[{"$f":"IF(ISBLANK(InfoPro!A76),\"\",InfoPro!A76)","v":""},{"$f":"IF(ISBLANK(InfoPro!B76),\"\",InfoPro!B76)","v":""},{"$f":"IF(ISBLANK(InfoPro!E76),\"\",InfoPro!E76)","v":""},{"$f":"IF(ISBLANK(InfoPro!F76),\"\",InfoPro!F76)","v":""},{"$f":"IF(ISBLANK(InfoPro!I76),\"\",YEAR(InfoPro!I76)-$H$3)","v":""},{"$f":"IF(B82=\"\",\"\",VLOOKUP(D82,Tablas!$B$2:$E$13,2,FALSE))","v":""},{"$f":"IF(B82=\"\",\"\",VLOOKUP(D82,Tablas!$B$2:$H$13,7,FALSE))","v":""},"","","","","","","","","","","","","","","","","","",""]
[{"$f":"IF(ISBLANK(InfoPro!A77),\"\",InfoPro!A77)","v":""},{"$f":"IF(ISBLANK(InfoPro!B77),\"\",InfoPro!B77)","v":""},{"$f":"IF(ISBLANK(InfoPro!E77),\"\",InfoPro!E77)","v":""},{"$f":"IF(ISBLANK(InfoPro!F77),\"\",InfoPro!F77)","v":""},{"$f":"IF(ISBLANK(InfoPro!I77),\"\",YEAR(InfoPro!I77)-$H$3)","v":""},{"$f":"IF(B83=\"\",\"\",VLOOKUP(D83,Tablas!$B$2:$E$13,2,FALSE))","v":""},{"$f":"IF(B83=\"\",\"\",VLOOKUP(D83,Tablas!$B$2:$H$13,7,FALSE))","v":""},"","","","","","","","","","","","","","","","","","",""]
[{"$f":"IF(ISBLANK(InfoPro!A78),\"\",InfoPro!A78)","v":""},{"$f":"IF(ISBLANK(InfoPro!B78),\"\",InfoPro!B78)","v":""},{"$f":"IF(ISBLANK(InfoPro!E78),\"\",InfoPro!E78)","v":""},{"$f":"IF(ISBLANK(InfoPro!F78),\"\",InfoPro!F78)","v":""},{"$f":"IF(ISBLANK(InfoPro!I78),\"\",YEAR(InfoPro!I78)-$H$3)","v":""},{"$f":"IF(B84=\"\",\"\",VLOOKUP(D84,Tablas!$B$2:$E$13,2,FALSE))","v":""},{"$f":"IF(B84=\"\",\"\",VLOOKUP(D84,Tablas!$B$2:$H$13,7,FALSE))","v":""},"","","","","","","","","","","","","","","","","","",""]
[{"$f":"IF(ISBLANK(InfoPro!A79),\"\",InfoPro!A79)","v":""},{"$f":"IF(ISBLANK(InfoPro!B79),\"\",InfoPro!B79)","v":""},{"$f":"IF(ISBLANK(InfoPro!E79),\"\",InfoPro!E79)","v":""},{"$f":"IF(ISBLANK(InfoPro!F79),\"\",InfoPro!F79)","v":""},{"$f":"IF(ISBLANK(InfoPro!I79),\"\",YEAR(InfoPro!I79)-$H$3)","v":""},{"$f":"IF(B85=\"\",\"\",VLOOKUP(D85,Tablas!$B$2:$E$13,2,FALSE))","v":""},{"$f":"IF(B85=\"\",\"\",VLOOKUP(D85,Tablas!$B$2:$H$13,7,FALSE))","v":""},"","","","","","","","","","","","","","","","","","",""]
[{"$f":"IF(ISBLANK(InfoPro!A80),\"\",InfoPro!A80)","v":""},{"$f":"IF(ISBLANK(InfoPro!B80),\"\",InfoPro!B80)","v":""},{"$f":"IF(ISBLANK(InfoPro!E80),\"\",InfoPro!E80)","v":""},{"$f":"IF(ISBLANK(InfoPro!F80),\"\",InfoPro!F80)","v":""},{"$f":"IF(ISBLANK(InfoPro!I80),\"\",YEAR(InfoPro!I80)-$H$3)","v":""},{"$f":"IF(B86=\"\",\"\",VLOOKUP(D86,Tablas!$B$2:$E$13,2,FALSE))","v":""},{"$f":"IF(B86=\"\",\"\",VLOOKUP(D86,Tablas!$B$2:$H$13,7,FALSE))","v":""},"","","","","","","","","","","","","","","","","","",""]
[{"$f":"IF(ISBLANK(InfoPro!A81),\"\",InfoPro!A81)","v":""},{"$f":"IF(ISBLANK(InfoPro!B81),\"\",InfoPro!B81)","v":""},{"$f":"IF(ISBLANK(InfoPro!E81),\"\",InfoPro!E81)","v":""},{"$f":"IF(ISBLANK(InfoPro!F81),\"\",InfoPro!F81)","v":""},{"$f":"IF(ISBLANK(InfoPro!I81),\"\",YEAR(InfoPro!I81)-$H$3)","v":""},{"$f":"IF(B87=\"\",\"\",VLOOKUP(D87,Tablas!$B$2:$E$13,2,FALSE))","v":""},{"$f":"IF(B87=\"\",\"\",VLOOKUP(D87,Tablas!$B$2:$H$13,7,FALSE))","v":""},"","","","","","","","","","","","","","","","","","",""]
[{"$f":"IF(ISBLANK(InfoPro!A82),\"\",InfoPro!A82)","v":""},{"$f":"IF(ISBLANK(InfoPro!B82),\"\",InfoPro!B82)","v":""},{"$f":"IF(ISBLANK(InfoPro!E82),\"\",InfoPro!E82)","v":""},{"$f":"IF(ISBLANK(InfoPro!F82),\"\",InfoPro!F82)","v":""},{"$f":"IF(ISBLANK(InfoPro!I82),\"\",YEAR(InfoPro!I82)-$H$3)","v":""},{"$f":"IF(B88=\"\",\"\",VLOOKUP(D88,Tablas!$B$2:$E$13,2,FALSE))","v":""},{"$f":"IF(B88=\"\",\"\",VLOOKUP(D88,Tablas!$B$2:$H$13,7,FALSE))","v":""},"","",{"$f":"IF($I88=\"\",\"\",(1/(1+$C$3)^(J$6+$E88))*$I88*$C$2*$H88)","v":""},"","","","","","","","","","","","","","","",""]
[{"$f":"IF(ISBLANK(InfoPro!A83),\"\",InfoPro!A83)","v":""},{"$f":"IF(ISBLANK(InfoPro!B83),\"\",InfoPro!B83)","v":""},{"$f":"IF(ISBLANK(InfoPro!E83),\"\",InfoPro!E83)","v":""},{"$f":"IF(ISBLANK(InfoPro!F83),\"\",InfoPro!F83)","v":""},{"$f":"IF(ISBLANK(InfoPro!I83),\"\",YEAR(InfoPro!I83)-$H$3)","v":""},{"$f":"IF(B89=\"\",\"\",VLOOKUP(D89,Tablas!$B$2:$E$13,2,FALSE))","v":""},{"$f":"IF(B89=\"\",\"\",VLOOKUP(D89,Tablas!$B$2:$H$13,7,FALSE))","v":""},"","","","","","","","","","","","","","","","","","",""]
[{"$f":"IF(ISBLANK(InfoPro!A84),\"\",InfoPro!A84)","v":""},{"$f":"IF(ISBLANK(InfoPro!B84),\"\",InfoPro!B84)","v":""},{"$f":"IF(ISBLANK(InfoPro!E84),\"\",InfoPro!E84)","v":""},{"$f":"IF(ISBLANK(InfoPro!F84),\"\",InfoPro!F84)","v":""},{"$f":"IF(ISBLANK(InfoPro!I84),\"\",YEAR(InfoPro!I84)-$H$3)","v":""},{"$f":"IF(B90=\"\",\"\",VLOOKUP(D90,Tablas!$B$2:$E$13,2,FALSE))","v":""},{"$f":"IF(B90=\"\",\"\",VLOOKUP(D90,Tablas!$B$2:$H$13,7,FALSE))","v":""},"","","","","","","","","","","","","","","","","","",""]
[{"$f":"IF(ISBLANK(InfoPro!A85),\"\",InfoPro!A85)","v":""},{"$f":"IF(ISBLANK(InfoPro!B85),\"\",InfoPro!B85)","v":""},{"$f":"IF(ISBLANK(InfoPro!E85),\"\",InfoPro!E85)","v":""},{"$f":"IF(ISBLANK(InfoPro!F85),\"\",InfoPro!F85)","v":""},{"$f":"IF(ISBLANK(InfoPro!I85),\"\",YEAR(InfoPro!I85)-$H$3)","v":""},{"$f":"IF(B91=\"\",\"\",VLOOKUP(D91,Tablas!$B$2:$E$13,2,FALSE))","v":""},{"$f":"IF(B91=\"\",\"\",VLOOKUP(D91,Tablas!$B$2:$H$13,7,FALSE))","v":""},"","","","","","","","","","","","","","","","","","",""]
[{"$f":"IF(ISBLANK(InfoPro!A86),\"\",InfoPro!A86)","v":""},{"$f":"IF(ISBLANK(InfoPro!B86),\"\",InfoPro!B86)","v":""},{"$f":"IF(ISBLANK(InfoPro!E86),\"\",InfoPro!E86)","v":""},{"$f":"IF(ISBLANK(InfoPro!F86),\"\",InfoPro!F86)","v":""},{"$f":"IF(ISBLANK(InfoPro!I86),\"\",YEAR(InfoPro!I86)-$H$3)","v":""},{"$f":"IF(B92=\"\",\"\",VLOOKUP(D92,Tablas!$B$2:$E$13,2,FALSE))","v":""},{"$f":"IF(B92=\"\",\"\",VLOOKUP(D92,Tablas!$B$2:$H$13,7,FALSE))","v":""},"","","","","","","","","","","","","","","","","","",""]
[{"$f":"IF(ISBLANK(InfoPro!A87),\"\",InfoPro!A87)","v":""},{"$f":"IF(ISBLANK(InfoPro!B87),\"\",InfoPro!B87)","v":""},{"$f":"IF(ISBLANK(InfoPro!E87),\"\",InfoPro!E87)","v":""},{"$f":"IF(ISBLANK(InfoPro!F87),\"\",InfoPro!F87)","v":""},{"$f":"IF(ISBLANK(InfoPro!I87),\"\",YEAR(InfoPro!I87)-$H$3)","v":""},{"$f":"IF(B93=\"\",\"\",VLOOKUP(D93,Tablas!$B$2:$E$13,2,FALSE))","v":""},{"$f":"IF(B93=\"\",\"\",VLOOKUP(D93,Tablas!$B$2:$H$13,7,FALSE))","v":""},"","","","","","","","","","","","","","","","","","",""]
[{"$f":"IF(ISBLANK(InfoPro!A88),\"\",InfoPro!A88)","v":""},{"$f":"IF(ISBLANK(InfoPro!B88),\"\",InfoPro!B88)","v":""},{"$f":"IF(ISBLANK(InfoPro!E88),\"\",InfoPro!E88)","v":""},{"$f":"IF(ISBLANK(InfoPro!F88),\"\",InfoPro!F88)","v":""},{"$f":"IF(ISBLANK(InfoPro!I88),\"\",YEAR(InfoPro!I88)-$H$3)","v":""},{"$f":"IF(B94=\"\",\"\",VLOOKUP(D94,Tablas!$B$2:$E$13,2,FALSE))","v":""},{"$f":"IF(B94=\"\",\"\",VLOOKUP(D94,Tablas!$B$2:$H$13,7,FALSE))","v":""},"","","","","","","","","","","","","","","","","","",""]
[{"$f":"IF(ISBLANK(InfoPro!A89),\"\",InfoPro!A89)","v":""},{"$f":"IF(ISBLANK(InfoPro!B89),\"\",InfoPro!B89)","v":""},{"$f":"IF(ISBLANK(InfoPro!E89),\"\",InfoPro!E89)","v":""},{"$f":"IF(ISBLANK(InfoPro!F89),\"\",InfoPro!F89)","v":""},{"$f":"IF(ISBLANK(InfoPro!I89),\"\",YEAR(InfoPro!I89)-$H$3)","v":""},{"$f":"IF(B95=\"\",\"\",VLOOKUP(D95,Tablas!$B$2:$E$13,2,FALSE))","v":""},{"$f":"IF(B95=\"\",\"\",VLOOKUP(D95,Tablas!$B$2:$H$13,7,FALSE))","v":""},"","","","","","","","","","","","","","","","","","",""]
[{"$f":"IF(ISBLANK(InfoPro!A90),\"\",InfoPro!A90)","v":""},{"$f":"IF(ISBLANK(InfoPro!B90),\"\",InfoPro!B90)","v":""},{"$f":"IF(ISBLANK(InfoPro!E90),\"\",InfoPro!E90)","v":""},{"$f":"IF(ISBLANK(InfoPro!F90),\"\",InfoPro!F90)","v":""},{"$f":"IF(ISBLANK(InfoPro!I90),\"\",YEAR(InfoPro!I90)-$H$3)","v":""},{"$f":"IF(B96=\"\",\"\",VLOOKUP(D96,Tablas!$B$2:$E$13,2,FALSE))","v":""},{"$f":"IF(B96=\"\",\"\",VLOOKUP(D96,Tablas!$B$2:$H$13,7,FALSE))","v":""},"","","","","","","","","","","","","","","","","","",""]
[{"$f":"IF(ISBLANK(InfoPro!A91),\"\",InfoPro!A91)","v":""},{"$f":"IF(ISBLANK(InfoPro!B91),\"\",InfoPro!B91)","v":""},{"$f":"IF(ISBLANK(InfoPro!E91),\"\",InfoPro!E91)","v":""},{"$f":"IF(ISBLANK(InfoPro!F91),\"\",InfoPro!F91)","v":""},{"$f":"IF(ISBLANK(InfoPro!I91),\"\",YEAR(InfoPro!I91)-$H$3)","v":""},{"$f":"IF(B97=\"\",\"\",VLOOKUP(D97,Tablas!$B$2:$E$13,2,FALSE))","v":""},{"$f":"IF(B97=\"\",\"\",VLOOKUP(D97,Tablas!$B$2:$H$13,7,FALSE))","v":""},"","","","","","","","","","","","","","","","","","",""]
[{"$f":"IF(ISBLANK(InfoPro!A92),\"\",InfoPro!A92)","v":""},{"$f":"IF(ISBLANK(InfoPro!B92),\"\",InfoPro!B92)","v":""},{"$f":"IF(ISBLANK(InfoPro!E92),\"\",InfoPro!E92)","v":""},{"$f":"IF(ISBLANK(InfoPro!F92),\"\",InfoPro!F92)","v":""},{"$f":"IF(ISBLANK(InfoPro!I92),\"\",YEAR(InfoPro!I92)-$H$3)","v":""},{"$f":"IF(B98=\"\",\"\",VLOOKUP(D98,Tablas!$B$2:$E$13,2,FALSE))","v":""},{"$f":"IF(B98=\"\",\"\",VLOOKUP(D98,Tablas!$B$2:$H$13,7,FALSE))","v":""},"","",{"$f":"IF($I98=\"\",\"\",(1/(1+$C$3)^(J$6+$E98))*$I98*$C$2*$H98)","v":""},"","","","","","","","","","","","","","","",""]
[{"$f":"IF(ISBLANK(InfoPro!A93),\"\",InfoPro!A93)","v":""},{"$f":"IF(ISBLANK(InfoPro!B93),\"\",InfoPro!B93)","v":""},{"$f":"IF(ISBLANK(InfoPro!E93),\"\",InfoPro!E93)","v":""},{"$f":"IF(ISBLANK(InfoPro!F93),\"\",InfoPro!F93)","v":""},{"$f":"IF(ISBLANK(InfoPro!I93),\"\",YEAR(InfoPro!I93)-$H$3)","v":""},{"$f":"IF(B99=\"\",\"\",VLOOKUP(D99,Tablas!$B$2:$E$13,2,FALSE))","v":""},{"$f":"IF(B99=\"\",\"\",VLOOKUP(D99,Tablas!$B$2:$H$13,7,FALSE))","v":""},"","","","","","","","","","","","","","","","","","",""]
[{"$f":"IF(ISBLANK(InfoPro!A94),\"\",InfoPro!A94)","v":""},{"$f":"IF(ISBLANK(InfoPro!B94),\"\",InfoPro!B94)","v":""},{"$f":"IF(ISBLANK(InfoPro!E94),\"\",InfoPro!E94)","v":""},{"$f":"IF(ISBLANK(InfoPro!F94),\"\",InfoPro!F94)","v":""},{"$f":"IF(ISBLANK(InfoPro!I94),\"\",YEAR(InfoPro!I94)-$H$3)","v":""},{"$f":"IF(B100=\"\",\"\",VLOOKUP(D100,Tablas!$B$2:$E$13,2,FALSE))","v":""},{"$f":"IF(B100=\"\",\"\",VLOOKUP(D100,Tablas!$B$2:$H$13,7,FALSE))","v":""},"","","","","","","","","","","","","","","","","","",""]
[{"$f":"IF(ISBLANK(InfoPro!A95),\"\",InfoPro!A95)","v":""},{"$f":"IF(ISBLANK(InfoPro!B95),\"\",InfoPro!B95)","v":""},{"$f":"IF(ISBLANK(InfoPro!E95),\"\",InfoPro!E95)","v":""},{"$f":"IF(ISBLANK(InfoPro!F95),\"\",InfoPro!F95)","v":""},{"$f":"IF(ISBLANK(InfoPro!I95),\"\",YEAR(InfoPro!I95)-$H$3)","v":""},{"$f":"IF(B101=\"\",\"\",VLOOKUP(D101,Tablas!$B$2:$E$13,2,FALSE))","v":""},{"$f":"IF(B101=\"\",\"\",VLOOKUP(D101,Tablas!$B$2:$H$13,7,FALSE))","v":""},"","","","","","","","","","","","","","","","","","",""]
[{"$f":"IF(ISBLANK(InfoPro!A96),\"\",InfoPro!A96)","v":""},{"$f":"IF(ISBLANK(InfoPro!B96),\"\",InfoPro!B96)","v":""},{"$f":"IF(ISBLANK(InfoPro!E96),\"\",InfoPro!E96)","v":""},{"$f":"IF(ISBLANK(InfoPro!F96),\"\",InfoPro!F96)","v":""},{"$f":"IF(ISBLANK(InfoPro!I96),\"\",YEAR(InfoPro!I96)-$H$3)","v":""},{"$f":"IF(B102=\"\",\"\",VLOOKUP(D102,Tablas!$B$2:$E$13,2,FALSE))","v":""},{"$f":"IF(B102=\"\",\"\",VLOOKUP(D102,Tablas!$B$2:$H$13,7,FALSE))","v":""},"","","","","","","","","","","","","","","","","","",""]
[{"$f":"IF(ISBLANK(InfoPro!A97),\"\",InfoPro!A97)","v":""},{"$f":"IF(ISBLANK(InfoPro!B97),\"\",InfoPro!B97)","v":""},{"$f":"IF(ISBLANK(InfoPro!E97),\"\",InfoPro!E97)","v":""},{"$f":"IF(ISBLANK(InfoPro!F97),\"\",InfoPro!F97)","v":""},{"$f":"IF(ISBLANK(InfoPro!I97),\"\",YEAR(InfoPro!I97)-$H$3)","v":""},{"$f":"IF(B103=\"\",\"\",VLOOKUP(D103,Tablas!$B$2:$E$13,2,FALSE))","v":""},{"$f":"IF(B103=\"\",\"\",VLOOKUP(D103,Tablas!$B$2:$H$13,7,FALSE))","v":""},"","","","","","","","","","","","","","","","","","",""]
[{"$f":"IF(ISBLANK(InfoPro!A98),\"\",InfoPro!A98)","v":""},{"$f":"IF(ISBLANK(InfoPro!B98),\"\",InfoPro!B98)","v":""},{"$f":"IF(ISBLANK(InfoPro!E98),\"\",InfoPro!E98)","v":""},{"$f":"IF(ISBLANK(InfoPro!F98),\"\",InfoPro!F98)","v":""},{"$f":"IF(ISBLANK(InfoPro!I98),\"\",YEAR(InfoPro!I98)-$H$3)","v":""},{"$f":"IF(B104=\"\",\"\",VLOOKUP(D104,Tablas!$B$2:$E$13,2,FALSE))","v":""},{"$f":"IF(B104=\"\",\"\",VLOOKUP(D104,Tablas!$B$2:$H$13,7,FALSE))","v":""},"","","","","","","","","","","","","","","","","","",""]
[{"$f":"IF(ISBLANK(InfoPro!A99),\"\",InfoPro!A99)","v":""},{"$f":"IF(ISBLANK(InfoPro!B99),\"\",InfoPro!B99)","v":""},{"$f":"IF(ISBLANK(InfoPro!E99),\"\",InfoPro!E99)","v":""},{"$f":"IF(ISBLANK(InfoPro!F99),\"\",InfoPro!F99)","v":""},{"$f":"IF(ISBLANK(InfoPro!I99),\"\",YEAR(InfoPro!I99)-$H$3)","v":""},{"$f":"IF(B105=\"\",\"\",VLOOKUP(D105,Tablas!$B$2:$E$13,2,FALSE))","v":""},{"$f":"IF(B105=\"\",\"\",VLOOKUP(D105,Tablas!$B$2:$H$13,7,FALSE))","v":""},"","","","","","","","","","","","","","","","","","",""]
[{"$f":"IF(ISBLANK(InfoPro!A100),\"\",InfoPro!A100)","v":""},{"$f":"IF(ISBLANK(InfoPro!B100),\"\",InfoPro!B100)","v":""},{"$f":"IF(ISBLANK(InfoPro!E100),\"\",InfoPro!E100)","v":""},{"$f":"IF(ISBLANK(InfoPro!F100),\"\",InfoPro!F100)","v":""},{"$f":"IF(ISBLANK(InfoPro!I100),\"\",YEAR(InfoPro!I100)-$H$3)","v":""},{"$f":"IF(B106=\"\",\"\",VLOOKUP(D106,Tablas!$B$2:$E$13,2,FALSE))","v":""},{"$f":"IF(B106=\"\",\"\",VLOOKUP(D106,Tablas!$B$2:$H$13,7,FALSE))","v":""},"","","","","","","","","","","","","","","","","","",""]
[{"$f":"IF(ISBLANK(InfoPro!A101),\"\",InfoPro!A101)","v":""},{"$f":"IF(ISBLANK(InfoPro!B101),\"\",InfoPro!B101)","v":""},{"$f":"IF(ISBLANK(InfoPro!E101),\"\",InfoPro!E101)","v":""},{"$f":"IF(ISBLANK(InfoPro!F101),\"\",InfoPro!F101)","v":""},{"$f":"IF(ISBLANK(InfoPro!I101),\"\",YEAR(InfoPro!I101)-$H$3)","v":""},{"$f":"IF(B107=\"\",\"\",VLOOKUP(D107,Tablas!$B$2:$E$13,2,FALSE))","v":""},{"$f":"IF(B107=\"\",\"\",VLOOKUP(D107,Tablas!$B$2:$H$13,7,FALSE))","v":""},"","","","","","","","","","","","","","","","","","",""]
[{"$f":"IF(ISBLANK(InfoPro!A102),\"\",InfoPro!A102)","v":""},{"$f":"IF(ISBLANK(InfoPro!B102),\"\",InfoPro!B102)","v":""},{"$f":"IF(ISBLANK(InfoPro!E102),\"\",InfoPro!E102)","v":""},{"$f":"IF(ISBLANK(InfoPro!F102),\"\",InfoPro!F102)","v":""},{"$f":"IF(ISBLANK(InfoPro!I102),\"\",YEAR(InfoPro!I102)-$H$3)","v":""},{"$f":"IF(B108=\"\",\"\",VLOOKUP(D108,Tablas!$B$2:$E$13,2,FALSE))","v":""},{"$f":"IF(B108=\"\",\"\",VLOOKUP(D108,Tablas!$B$2:$H$13,7,FALSE))","v":""},{"$f":"IF(B108=\"\",\"\",($C$2-(G108))/$C$2)","v":""},{"$f":"IF(C108=\"\",\"\",+C108*F108*24*365)","v":""},"","","","","","","","","","","","","","","",{"$f":"IF(X108=\"\",\"\",SUM(J108:X108))","v":""},{"$f":"IF(C108=0,0,IF(Y108=\"\",\"\",Y108/(C108*1000)))","v":""}]
[{"$f":"IF(ISBLANK(InfoPro!A103),\"\",InfoPro!A103)","v":""},{"$f":"IF(ISBLANK(InfoPro!B103),\"\",InfoPro!B103)","v":""},{"$f":"IF(ISBLANK(InfoPro!E103),\"\",InfoPro!E103)","v":""},{"$f":"IF(ISBLANK(InfoPro!F103),\"\",InfoPro!F103)","v":""},{"$f":"IF(ISBLANK(InfoPro!I103),\"\",YEAR(InfoPro!I103)-$H$3)","v":""},{"$f":"IF(B109=\"\",\"\",VLOOKUP(D109,Tablas!$B$2:$E$13,2,FALSE))","v":""},{"$f":"IF(B109=\"\",\"\",VLOOKUP(D109,Tablas!$B$2:$H$13,7,FALSE))","v":""},"","","","","","","","","","","","","","","","","","",""]
[{"$f":"IF(ISBLANK(InfoPro!A104),\"\",InfoPro!A104)","v":""},{"$f":"IF(ISBLANK(InfoPro!B104),\"\",InfoPro!B104)","v":""},{"$f":"IF(ISBLANK(InfoPro!E104),\"\",InfoPro!E104)","v":""},{"$f":"IF(ISBLANK(InfoPro!F104),\"\",InfoPro!F104)","v":""},{"$f":"IF(ISBLANK(InfoPro!I104),\"\",YEAR(InfoPro!I104)-$H$3)","v":""},{"$f":"IF(B110=\"\",\"\",VLOOKUP(D110,Tablas!$B$2:$E$13,2,FALSE))","v":""},{"$f":"IF(B110=\"\",\"\",VLOOKUP(D110,Tablas!$B$2:$H$13,7,FALSE))","v":""},"","","","","","","","","","","","","","","","","","",""]
[{"$f":"IF(ISBLANK(InfoPro!A105),\"\",InfoPro!A105)","v":""},{"$f":"IF(ISBLANK(InfoPro!B105),\"\",InfoPro!B105)","v":""},{"$f":"IF(ISBLANK(InfoPro!E105),\"\",InfoPro!E105)","v":""},{"$f":"IF(ISBLANK(InfoPro!F105),\"\",InfoPro!F105)","v":""},{"$f":"IF(ISBLANK(InfoPro!I105),\"\",YEAR(InfoPro!I105)-$H$3)","v":""},{"$f":"IF(B111=\"\",\"\",VLOOKUP(D111,Tablas!$B$2:$E$13,2,FALSE))","v":""},{"$f":"IF(B111=\"\",\"\",VLOOKUP(D111,Tablas!$B$2:$H$13,7,FALSE))","v":""},"","","","","","","","","","","","","","","","","","",""]
[{"$f":"IF(ISBLANK(InfoPro!A106),\"\",InfoPro!A106)","v":""},{"$f":"IF(ISBLANK(InfoPro!B106),\"\",InfoPro!B106)","v":""},{"$f":"IF(ISBLANK(InfoPro!E106),\"\",InfoPro!E106)","v":""},{"$f":"IF(ISBLANK(InfoPro!F106),\"\",InfoPro!F106)","v":""},{"$f":"IF(ISBLANK(InfoPro!I106),\"\",YEAR(InfoPro!I106)-$H$3)","v":""},{"$f":"IF(B112=\"\",\"\",VLOOKUP(D112,Tablas!$B$2:$E$13,2,FALSE))","v":""},{"$f":"IF(B112=\"\",\"\",VLOOKUP(D112,Tablas!$B$2:$H$13,7,FALSE))","v":""},"","","","","","","","","","","","","","","","","","",""]
[{"$f":"IF(ISBLANK(InfoPro!A107),\"\",InfoPro!A107)","v":""},{"$f":"IF(ISBLANK(InfoPro!B107),\"\",InfoPro!B107)","v":""},{"$f":"IF(ISBLANK(InfoPro!E107),\"\",InfoPro!E107)","v":""},{"$f":"IF(ISBLANK(InfoPro!F107),\"\",InfoPro!F107)","v":""},{"$f":"IF(ISBLANK(InfoPro!I107),\"\",YEAR(InfoPro!I107)-$H$3)","v":""},{"$f":"IF(B113=\"\",\"\",VLOOKUP(D113,Tablas!$B$2:$E$13,2,FALSE))","v":""},{"$f":"IF(B113=\"\",\"\",VLOOKUP(D113,Tablas!$B$2:$H$13,7,FALSE))","v":""},"","","","","","","","","","","","","","","","","","",""]
[{"$f":"IF(ISBLANK(InfoPro!A108),\"\",InfoPro!A108)","v":""},{"$f":"IF(ISBLANK(InfoPro!B108),\"\",InfoPro!B108)","v":""},{"$f":"IF(ISBLANK(InfoPro!E108),\"\",InfoPro!E108)","v":""},{"$f":"IF(ISBLANK(InfoPro!F108),\"\",InfoPro!F108)","v":""},{"$f":"IF(ISBLANK(InfoPro!I108),\"\",YEAR(InfoPro!I108)-$H$3)","v":""},{"$f":"IF(B114=\"\",\"\",VLOOKUP(D114,Tablas!$B$2:$E$13,2,FALSE))","v":""},{"$f":"IF(B114=\"\",\"\",VLOOKUP(D114,Tablas!$B$2:$H$13,7,FALSE))","v":""},"","",{"$f":"IF($I114=\"\",\"\",(1/(1+$C$3)^(J$6+$E114))*$I114*$C$2*$H114)","v":""},"","","","","","","","","","","","","","","",""]
[{"$f":"IF(ISBLANK(InfoPro!A109),\"\",InfoPro!A109)","v":""},{"$f":"IF(ISBLANK(InfoPro!B109),\"\",InfoPro!B109)","v":""},{"$f":"IF(ISBLANK(InfoPro!E109),\"\",InfoPro!E109)","v":""},{"$f":"IF(ISBLANK(InfoPro!F109),\"\",InfoPro!F109)","v":""},{"$f":"IF(ISBLANK(InfoPro!I109),\"\",YEAR(InfoPro!I109)-$H$3)","v":""},{"$f":"IF(B115=\"\",\"\",VLOOKUP(D115,Tablas!$B$2:$E$13,2,FALSE))","v":""},{"$f":"IF(B115=\"\",\"\",VLOOKUP(D115,Tablas!$B$2:$H$13,7,FALSE))","v":""},"","","","","","","","","","","","","","","","","","",""]
[{"$f":"IF(ISBLANK(InfoPro!A110),\"\",InfoPro!A110)","v":""},{"$f":"IF(ISBLANK(InfoPro!B110),\"\",InfoPro!B110)","v":""},{"$f":"IF(ISBLANK(InfoPro!E110),\"\",InfoPro!E110)","v":""},{"$f":"IF(ISBLANK(InfoPro!F110),\"\",InfoPro!F110)","v":""},{"$f":"IF(ISBLANK(InfoPro!I110),\"\",YEAR(InfoPro!I110)-$H$3)","v":""},{"$f":"IF(B116=\"\",\"\",VLOOKUP(D116,Tablas!$B$2:$E$13,2,FALSE))","v":""},{"$f":"IF(B116=\"\",\"\",VLOOKUP(D116,Tablas!$B$2:$H$13,7,FALSE))","v":""},"","","","","","","","","","","","","","","","","","",""]
[{"$f":"IF(ISBLANK(InfoPro!A111),\"\",InfoPro!A111)","v":""},{"$f":"IF(ISBLANK(InfoPro!B111),\"\",InfoPro!B111)","v":""},{"$f":"IF(ISBLANK(InfoPro!E111),\"\",InfoPro!E111)","v":""},{"$f":"IF(ISBLANK(InfoPro!F111),\"\",InfoPro!F111)","v":""},{"$f":"IF(ISBLANK(InfoPro!I111),\"\",YEAR(InfoPro!I111)-$H$3)","v":""},{"$f":"IF(B117=\"\",\"\",VLOOKUP(D117,Tablas!$B$2:$E$13,2,FALSE))","v":""},{"$f":"IF(B117=\"\",\"\",VLOOKUP(D117,Tablas!$B$2:$H$13,7,FALSE))","v":""},"","","","","","","","","","","","","","","","","","",""]
[{"$f":"IF(ISBLANK(InfoPro!A112),\"\",InfoPro!A112)","v":""},{"$f":"IF(ISBLANK(InfoPro!B112),\"\",InfoPro!B112)","v":""},{"$f":"IF(ISBLANK(InfoPro!E112),\"\",InfoPro!E112)","v":""},{"$f":"IF(ISBLANK(InfoPro!F112),\"\",InfoPro!F112)","v":""},{"$f":"IF(ISBLANK(InfoPro!I112),\"\",YEAR(InfoPro!I112)-$H$3)","v":""},{"$f":"IF(B118=\"\",\"\",VLOOKUP(D118,Tablas!$B$2:$E$13,2,FALSE))","v":""},{"$f":"IF(B118=\"\",\"\",VLOOKUP(D118,Tablas!$B$2:$H$13,7,FALSE))","v":""},"","","","","","","","","","","","","","","","","","",""]
[{"$f":"IF(ISBLANK(InfoPro!A113),\"\",InfoPro!A113)","v":""},{"$f":"IF(ISBLANK(InfoPro!B113),\"\",InfoPro!B113)","v":""},{"$f":"IF(ISBLANK(InfoPro!E113),\"\",InfoPro!E113)","v":""},{"$f":"IF(ISBLANK(InfoPro!F113),\"\",InfoPro!F113)","v":""},{"$f":"IF(ISBLANK(InfoPro!I113),\"\",YEAR(InfoPro!I113)-$H$3)","v":""},{"$f":"IF(B119=\"\",\"\",VLOOKUP(D119,Tablas!$B$2:$E$13,2,FALSE))","v":""},{"$f":"IF(B119=\"\",\"\",VLOOKUP(D119,Tablas!$B$2:$H$13,7,FALSE))","v":""},"","","","","","","","","","","","","","","","","","",""]
[{"$f":"IF(ISBLANK(InfoPro!A114),\"\",InfoPro!A114)","v":""},{"$f":"IF(ISBLANK(InfoPro!B114),\"\",InfoPro!B114)","v":""},{"$f":"IF(ISBLANK(InfoPro!E114),\"\",InfoPro!E114)","v":""},{"$f":"IF(ISBLANK(InfoPro!F114),\"\",InfoPro!F114)","v":""},{"$f":"IF(ISBLANK(InfoPro!I114),\"\",YEAR(InfoPro!I114)-$H$3)","v":""},{"$f":"IF(B120=\"\",\"\",VLOOKUP(D120,Tablas!$B$2:$E$13,2,FALSE))","v":""},{"$f":"IF(B120=\"\",\"\",VLOOKUP(D120,Tablas!$B$2:$H$13,7,FALSE))","v":""},"","","","","","","","","","","","","","","","","","",""]
[{"$f":"IF(ISBLANK(InfoPro!A115),\"\",InfoPro!A115)","v":""},{"$f":"IF(ISBLANK(InfoPro!B115),\"\",InfoPro!B115)","v":""},{"$f":"IF(ISBLANK(InfoPro!E115),\"\",InfoPro!E115)","v":""},{"$f":"IF(ISBLANK(InfoPro!F115),\"\",InfoPro!F115)","v":""},{"$f":"IF(ISBLANK(InfoPro!I115),\"\",YEAR(InfoPro!I115)-$H$3)","v":""},{"$f":"IF(B121=\"\",\"\",VLOOKUP(D121,Tablas!$B$2:$E$13,2,FALSE))","v":""},{"$f":"IF(B121=\"\",\"\",VLOOKUP(D121,Tablas!$B$2:$H$13,7,FALSE))","v":""},"","","","","","","","","","","","","","","","","","",""]
[{"$f":"IF(ISBLANK(InfoPro!A116),\"\",InfoPro!A116)","v":""},{"$f":"IF(ISBLANK(InfoPro!B116),\"\",InfoPro!B116)","v":""},{"$f":"IF(ISBLANK(InfoPro!E116),\"\",InfoPro!E116)","v":""},{"$f":"IF(ISBLANK(InfoPro!F116),\"\",InfoPro!F116)","v":""},{"$f":"IF(ISBLANK(InfoPro!I116),\"\",YEAR(InfoPro!I116)-$H$3)","v":""},{"$f":"IF(B122=\"\",\"\",VLOOKUP(D122,Tablas!$B$2:$E$13,2,FALSE))","v":""},{"$f":"IF(B122=\"\",\"\",VLOOKUP(D122,Tablas!$B$2:$H$13,7,FALSE))","v":""},"","","","","","","","","","","","","","","","","","",""]
[{"$f":"IF(ISBLANK(InfoPro!A117),\"\",InfoPro!A117)","v":""},{"$f":"IF(ISBLANK(InfoPro!B117),\"\",InfoPro!B117)","v":""},{"$f":"IF(ISBLANK(InfoPro!E117),\"\",InfoPro!E117)","v":""},{"$f":"IF(ISBLANK(InfoPro!F117),\"\",InfoPro!F117)","v":""},{"$f":"IF(ISBLANK(InfoPro!I117),\"\",YEAR(InfoPro!I117)-$H$3)","v":""},{"$f":"IF(B123=\"\",\"\",VLOOKUP(D123,Tablas!$B$2:$E$13,2,FALSE))","v":""},{"$f":"IF(B123=\"\",\"\",VLOOKUP(D123,Tablas!$B$2:$H$13,7,FALSE))","v":""},"","","","","","","","","","","","","","","","","","",""]
[{"$f":"IF(ISBLANK(InfoPro!A118),\"\",InfoPro!A118)","v":""},{"$f":"IF(ISBLANK(InfoPro!B118),\"\",InfoPro!B118)","v":""},{"$f":"IF(ISBLANK(InfoPro!E118),\"\",InfoPro!E118)","v":""},{"$f":"IF(ISBLANK(InfoPro!F118),\"\",InfoPro!F118)","v":""},{"$f":"IF(ISBLANK(InfoPro!I118),\"\",YEAR(InfoPro!I118)-$H$3)","v":""},{"$f":"IF(B124=\"\",\"\",VLOOKUP(D124,Tablas!$B$2:$E$13,2,FALSE))","v":""},{"$f":"IF(B124=\"\",\"\",VLOOKUP(D124,Tablas!$B$2:$H$13,7,FALSE))","v":""},"","","","","","","","","","","","","","","","","","",""]
[{"$f":"IF(ISBLANK(InfoPro!A119),\"\",InfoPro!A119)","v":""},{"$f":"IF(ISBLANK(InfoPro!B119),\"\",InfoPro!B119)","v":""},{"$f":"IF(ISBLANK(InfoPro!E119),\"\",InfoPro!E119)","v":""},{"$f":"IF(ISBLANK(InfoPro!F119),\"\",InfoPro!F119)","v":""},{"$f":"IF(ISBLANK(InfoPro!I119),\"\",YEAR(InfoPro!I119)-$H$3)","v":""},{"$f":"IF(B125=\"\",\"\",VLOOKUP(D125,Tablas!$B$2:$E$13,2,FALSE))","v":""},{"$f":"IF(B125=\"\",\"\",VLOOKUP(D125,Tablas!$B$2:$H$13,7,FALSE))","v":""},"","","","","","","","","","","","","","","","","","",""]
[{"$f":"IF(ISBLANK(InfoPro!A120),\"\",InfoPro!A120)","v":""},{"$f":"IF(ISBLANK(InfoPro!B120),\"\",InfoPro!B120)","v":""},{"$f":"IF(ISBLANK(InfoPro!E120),\"\",InfoPro!E120)","v":""},{"$f":"IF(ISBLANK(InfoPro!F120),\"\",InfoPro!F120)","v":""},{"$f":"IF(ISBLANK(InfoPro!I120),\"\",YEAR(InfoPro!I120)-$H$3)","v":""},{"$f":"IF(B126=\"\",\"\",VLOOKUP(D126,Tablas!$B$2:$E$13,2,FALSE))","v":""},{"$f":"IF(B126=\"\",\"\",VLOOKUP(D126,Tablas!$B$2:$H$13,7,FALSE))","v":""},"","","","","","","","","","","","","","","","","","",""]
[{"$f":"IF(ISBLANK(InfoPro!A121),\"\",InfoPro!A121)","v":""},{"$f":"IF(ISBLANK(InfoPro!B121),\"\",InfoPro!B121)","v":""},{"$f":"IF(ISBLANK(InfoPro!E121),\"\",InfoPro!E121)","v":""},{"$f":"IF(ISBLANK(InfoPro!F121),\"\",InfoPro!F121)","v":""},{"$f":"IF(ISBLANK(InfoPro!I121),\"\",YEAR(InfoPro!I121)-$H$3)","v":""},{"$f":"IF(B127=\"\",\"\",VLOOKUP(D127,Tablas!$B$2:$E$13,2,FALSE))","v":""},{"$f":"IF(B127=\"\",\"\",VLOOKUP(D127,Tablas!$B$2:$H$13,7,FALSE))","v":""},"","","","","","","","","","","","","","","","","","",""]
[{"$f":"IF(ISBLANK(InfoPro!A122),\"\",InfoPro!A122)","v":""},{"$f":"IF(ISBLANK(InfoPro!B122),\"\",InfoPro!B122)","v":""},{"$f":"IF(ISBLANK(InfoPro!E122),\"\",InfoPro!E122)","v":""},{"$f":"IF(ISBLANK(InfoPro!F122),\"\",InfoPro!F122)","v":""},{"$f":"IF(ISBLANK(InfoPro!I122),\"\",YEAR(InfoPro!I122)-$H$3)","v":""},{"$f":"IF(B128=\"\",\"\",VLOOKUP(D128,Tablas!$B$2:$E$13,2,FALSE))","v":""},{"$f":"IF(B128=\"\",\"\",VLOOKUP(D128,Tablas!$B$2:$H$13,7,FALSE))","v":""},"","","","","","","","","","","","","","","","","","",""]
[{"$f":"IF(ISBLANK(InfoPro!A123),\"\",InfoPro!A123)","v":""},{"$f":"IF(ISBLANK(InfoPro!B123),\"\",InfoPro!B123)","v":""},{"$f":"IF(ISBLANK(InfoPro!E123),\"\",InfoPro!E123)","v":""},{"$f":"IF(ISBLANK(InfoPro!F123),\"\",InfoPro!F123)","v":""},{"$f":"IF(ISBLANK(InfoPro!I123),\"\",YEAR(InfoPro!I123)-$H$3)","v":""},{"$f":"IF(B129=\"\",\"\",VLOOKUP(D129,Tablas!$B$2:$E$13,2,FALSE))","v":""},{"$f":"IF(B129=\"\",\"\",VLOOKUP(D129,Tablas!$B$2:$H$13,7,FALSE))","v":""},"","","","","","","","","","","","","","","","","","",""]
[{"$f":"IF(ISBLANK(InfoPro!A124),\"\",InfoPro!A124)","v":""},{"$f":"IF(ISBLANK(InfoPro!B124),\"\",InfoPro!B124)","v":""},{"$f":"IF(ISBLANK(InfoPro!E124),\"\",InfoPro!E124)","v":""},{"$f":"IF(ISBLANK(InfoPro!F124),\"\",InfoPro!F124)","v":""},{"$f":"IF(ISBLANK(InfoPro!I124),\"\",YEAR(InfoPro!I124)-$H$3)","v":""},{"$f":"IF(B130=\"\",\"\",VLOOKUP(D130,Tablas!$B$2:$E$13,2,FALSE))","v":""},{"$f":"IF(B130=\"\",\"\",VLOOKUP(D130,Tablas!$B$2:$H$13,7,FALSE))","v":""},"","","","","","","","","","","","","","","","","","",""]
[{"$f":"IF(ISBLANK(InfoPro!A125),\"\",InfoPro!A125)","v":""},{"$f":"IF(ISBLANK(InfoPro!B125),\"\",InfoPro!B125)","v":""},{"$f":"IF(ISBLANK(InfoPro!E125),\"\",InfoPro!E125)","v":""},{"$f":"IF(ISBLANK(InfoPro!F125),\"\",InfoPro!F125)","v":""},{"$f":"IF(ISBLANK(InfoPro!I125),\"\",YEAR(InfoPro!I125)-$H$3)","v":""},{"$f":"IF(B131=\"\",\"\",VLOOKUP(D131,Tablas!$B$2:$E$13,2,FALSE))","v":""},{"$f":"IF(B131=\"\",\"\",VLOOKUP(D131,Tablas!$B$2:$H$13,7,FALSE))","v":""},"","",{"$f":"IF($I131=\"\",\"\",(1/(1+$C$3)^(J$6+$E131))*$I131*$C$2*$H131)","v":""},"","","","","","","","","","","","","","","",""]
[{"$f":"IF(ISBLANK(InfoPro!A126),\"\",InfoPro!A126)","v":""},{"$f":"IF(ISBLANK(InfoPro!B126),\"\",InfoPro!B126)","v":""},{"$f":"IF(ISBLANK(InfoPro!E126),\"\",InfoPro!E126)","v":""},{"$f":"IF(ISBLANK(InfoPro!F126),\"\",InfoPro!F126)","v":""},{"$f":"IF(ISBLANK(InfoPro!I126),\"\",YEAR(InfoPro!I126)-$H$3)","v":""},{"$f":"IF(B132=\"\",\"\",VLOOKUP(D132,Tablas!$B$2:$E$13,2,FALSE))","v":""},{"$f":"IF(B132=\"\",\"\",VLOOKUP(D132,Tablas!$B$2:$H$13,7,FALSE))","v":""},"","","","","","","","","","","","","","","","","","",""]
[{"$f":"IF(ISBLANK(InfoPro!A127),\"\",InfoPro!A127)","v":""},{"$f":"IF(ISBLANK(InfoPro!B127),\"\",InfoPro!B127)","v":""},{"$f":"IF(ISBLANK(InfoPro!E127),\"\",InfoPro!E127)","v":""},{"$f":"IF(ISBLANK(InfoPro!F127),\"\",InfoPro!F127)","v":""},{"$f":"IF(ISBLANK(InfoPro!I127),\"\",YEAR(InfoPro!I127)-$H$3)","v":""},{"$f":"IF(B133=\"\",\"\",VLOOKUP(D133,Tablas!$B$2:$E$13,2,FALSE))","v":""},{"$f":"IF(B133=\"\",\"\",VLOOKUP(D133,Tablas!$B$2:$H$13,7,FALSE))","v":""},"","","","","","","","","","","","","","","","","","",""]
[{"$f":"IF(ISBLANK(InfoPro!A128),\"\",InfoPro!A128)","v":""},{"$f":"IF(ISBLANK(InfoPro!B128),\"\",InfoPro!B128)","v":""},{"$f":"IF(ISBLANK(InfoPro!E128),\"\",InfoPro!E128)","v":""},{"$f":"IF(ISBLANK(InfoPro!F128),\"\",InfoPro!F128)","v":""},{"$f":"IF(ISBLANK(InfoPro!I128),\"\",YEAR(InfoPro!I128)-$H$3)","v":""},{"$f":"IF(B134=\"\",\"\",VLOOKUP(D134,Tablas!$B$2:$E$13,2,FALSE))","v":""},{"$f":"IF(B134=\"\",\"\",VLOOKUP(D134,Tablas!$B$2:$H$13,7,FALSE))","v":""},"","","","","","","","","","","","","","","","","","",""]
[{"$f":"IF(ISBLANK(InfoPro!A129),\"\",InfoPro!A129)","v":""},{"$f":"IF(ISBLANK(InfoPro!B129),\"\",InfoPro!B129)","v":""},{"$f":"IF(ISBLANK(InfoPro!E129),\"\",InfoPro!E129)","v":""},{"$f":"IF(ISBLANK(InfoPro!F129),\"\",InfoPro!F129)","v":""},{"$f":"IF(ISBLANK(InfoPro!I129),\"\",YEAR(InfoPro!I129)-$H$3)","v":""},{"$f":"IF(B135=\"\",\"\",VLOOKUP(D135,Tablas!$B$2:$E$13,2,FALSE))","v":""},{"$f":"IF(B135=\"\",\"\",VLOOKUP(D135,Tablas!$B$2:$H$13,7,FALSE))","v":""},"","","","","","","","","","","","","","","","","","",""]
[{"$f":"IF(ISBLANK(InfoPro!A130),\"\",InfoPro!A130)","v":""},{"$f":"IF(ISBLANK(InfoPro!B130),\"\",InfoPro!B130)","v":""},{"$f":"IF(ISBLANK(InfoPro!E130),\"\",InfoPro!E130)","v":""},{"$f":"IF(ISBLANK(InfoPro!F130),\"\",InfoPro!F130)","v":""},{"$f":"IF(ISBLANK(InfoPro!I130),\"\",YEAR(InfoPro!I130)-$H$3)","v":""},{"$f":"IF(B136=\"\",\"\",VLOOKUP(D136,Tablas!$B$2:$E$13,2,FALSE))","v":""},{"$f":"IF(B136=\"\",\"\",VLOOKUP(D136,Tablas!$B$2:$H$13,7,FALSE))","v":""},"","","","","","","","","","","","","","","","","","",""]
[{"$f":"IF(ISBLANK(InfoPro!A131),\"\",InfoPro!A131)","v":""},{"$f":"IF(ISBLANK(InfoPro!B131),\"\",InfoPro!B131)","v":""},{"$f":"IF(ISBLANK(InfoPro!E131),\"\",InfoPro!E131)","v":""},{"$f":"IF(ISBLANK(InfoPro!F131),\"\",InfoPro!F131)","v":""},{"$f":"IF(ISBLANK(InfoPro!I131),\"\",YEAR(InfoPro!I131)-$H$3)","v":""},{"$f":"IF(B137=\"\",\"\",VLOOKUP(D137,Tablas!$B$2:$E$13,2,FALSE))","v":""},{"$f":"IF(B137=\"\",\"\",VLOOKUP(D137,Tablas!$B$2:$H$13,7,FALSE))","v":""},"","","","","","","","","","","","","","","","","","",""]
[{"$f":"IF(ISBLANK(InfoPro!A132),\"\",InfoPro!A132)","v":""},{"$f":"IF(ISBLANK(InfoPro!B132),\"\",InfoPro!B132)","v":""},{"$f":"IF(ISBLANK(InfoPro!E132),\"\",InfoPro!E132)","v":""},{"$f":"IF(ISBLANK(InfoPro!F132),\"\",InfoPro!F132)","v":""},{"$f":"IF(ISBLANK(InfoPro!I132),\"\",YEAR(InfoPro!I132)-$H$3)","v":""},{"$f":"IF(B138=\"\",\"\",VLOOKUP(D138,Tablas!$B$2:$E$13,2,FALSE))","v":""},{"$f":"IF(B138=\"\",\"\",VLOOKUP(D138,Tablas!$B$2:$H$13,7,FALSE))","v":""},"","","","","","","","","","","","","","","","","","",""]
[{"$f":"IF(ISBLANK(InfoPro!A133),\"\",InfoPro!A133)","v":""},{"$f":"IF(ISBLANK(InfoPro!B133),\"\",InfoPro!B133)","v":""},{"$f":"IF(ISBLANK(InfoPro!E133),\"\",InfoPro!E133)","v":""},{"$f":"IF(ISBLANK(InfoPro!F133),\"\",InfoPro!F133)","v":""},{"$f":"IF(ISBLANK(InfoPro!I133),\"\",YEAR(InfoPro!I133)-$H$3)","v":""},{"$f":"IF(B139=\"\",\"\",VLOOKUP(D139,Tablas!$B$2:$E$13,2,FALSE))","v":""},{"$f":"IF(B139=\"\",\"\",VLOOKUP(D139,Tablas!$B$2:$H$13,7,FALSE))","v":""},"","","","","","","","","","","","","","","","","","",""]
[{"$f":"IF(ISBLANK(InfoPro!A134),\"\",InfoPro!A134)","v":""},{"$f":"IF(ISBLANK(InfoPro!B134),\"\",InfoPro!B134)","v":""},{"$f":"IF(ISBLANK(InfoPro!E134),\"\",InfoPro!E134)","v":""},{"$f":"IF(ISBLANK(InfoPro!F134),\"\",InfoPro!F134)","v":""},{"$f":"IF(ISBLANK(InfoPro!I134),\"\",YEAR(InfoPro!I134)-$H$3)","v":""},{"$f":"IF(B140=\"\",\"\",VLOOKUP(D140,Tablas!$B$2:$E$13,2,FALSE))","v":""},{"$f":"IF(B140=\"\",\"\",VLOOKUP(D140,Tablas!$B$2:$H$13,7,FALSE))","v":""},"","","","","","","","","","","","","","","","","","",""]
[{"$f":"IF(ISBLANK(InfoPro!A135),\"\",InfoPro!A135)","v":""},{"$f":"IF(ISBLANK(InfoPro!B135),\"\",InfoPro!B135)","v":""},{"$f":"IF(ISBLANK(InfoPro!E135),\"\",InfoPro!E135)","v":""},{"$f":"IF(ISBLANK(InfoPro!F135),\"\",InfoPro!F135)","v":""},{"$f":"IF(ISBLANK(InfoPro!I135),\"\",YEAR(InfoPro!I135)-$H$3)","v":""},{"$f":"IF(B141=\"\",\"\",VLOOKUP(D141,Tablas!$B$2:$E$13,2,FALSE))","v":""},{"$f":"IF(B141=\"\",\"\",VLOOKUP(D141,Tablas!$B$2:$H$13,7,FALSE))","v":""},"","","","","","","","","","","","","","","","","","",""]
[{"$f":"IF(ISBLANK(InfoPro!A136),\"\",InfoPro!A136)","v":""},{"$f":"IF(ISBLANK(InfoPro!B136),\"\",InfoPro!B136)","v":""},{"$f":"IF(ISBLANK(InfoPro!E136),\"\",InfoPro!E136)","v":""},{"$f":"IF(ISBLANK(InfoPro!F136),\"\",InfoPro!F136)","v":""},{"$f":"IF(ISBLANK(InfoPro!I136),\"\",YEAR(InfoPro!I136)-$H$3)","v":""},{"$f":"IF(B142=\"\",\"\",VLOOKUP(D142,Tablas!$B$2:$E$13,2,FALSE))","v":""},{"$f":"IF(B142=\"\",\"\",VLOOKUP(D142,Tablas!$B$2:$H$13,7,FALSE))","v":""},"","","","","","","","","","","","","","","","","","",""]
[{"$f":"IF(ISBLANK(InfoPro!A137),\"\",InfoPro!A137)","v":""},{"$f":"IF(ISBLANK(InfoPro!B137),\"\",InfoPro!B137)","v":""},{"$f":"IF(ISBLANK(InfoPro!E137),\"\",InfoPro!E137)","v":""},{"$f":"IF(ISBLANK(InfoPro!F137),\"\",InfoPro!F137)","v":""},{"$f":"IF(ISBLANK(InfoPro!I137),\"\",YEAR(InfoPro!I137)-$H$3)","v":""},{"$f":"IF(B143=\"\",\"\",VLOOKUP(D143,Tablas!$B$2:$E$13,2,FALSE))","v":""},{"$f":"IF(B143=\"\",\"\",VLOOKUP(D143,Tablas!$B$2:$H$13,7,FALSE))","v":""},"","","","","","","","","","","","","","","","","","",""]
[{"$f":"IF(ISBLANK(InfoPro!A138),\"\",InfoPro!A138)","v":""},{"$f":"IF(ISBLANK(InfoPro!B138),\"\",InfoPro!B138)","v":""},{"$f":"IF(ISBLANK(InfoPro!E138),\"\",InfoPro!E138)","v":""},{"$f":"IF(ISBLANK(InfoPro!F138),\"\",InfoPro!F138)","v":""},{"$f":"IF(ISBLANK(InfoPro!I138),\"\",YEAR(InfoPro!I138)-$H$3)","v":""},{"$f":"IF(B144=\"\",\"\",VLOOKUP(D144,Tablas!$B$2:$E$13,2,FALSE))","v":""},{"$f":"IF(B144=\"\",\"\",VLOOKUP(D144,Tablas!$B$2:$H$13,7,FALSE))","v":""},"","","","","","","","","","","","","","","","","","",""]
[{"$f":"IF(ISBLANK(InfoPro!A139),\"\",InfoPro!A139)","v":""},{"$f":"IF(ISBLANK(InfoPro!B139),\"\",InfoPro!B139)","v":""},{"$f":"IF(ISBLANK(InfoPro!E139),\"\",InfoPro!E139)","v":""},{"$f":"IF(ISBLANK(InfoPro!F139),\"\",InfoPro!F139)","v":""},{"$f":"IF(ISBLANK(InfoPro!I139),\"\",YEAR(InfoPro!I139)-$H$3)","v":""},{"$f":"IF(B145=\"\",\"\",VLOOKUP(D145,Tablas!$B$2:$E$13,2,FALSE))","v":""},{"$f":"IF(B145=\"\",\"\",VLOOKUP(D145,Tablas!$B$2:$H$13,7,FALSE))","v":""},"","","","","","","","","","","","","","","","","","",""]
[{"$f":"IF(ISBLANK(InfoPro!A140),\"\",InfoPro!A140)","v":""},{"$f":"IF(ISBLANK(InfoPro!B140),\"\",InfoPro!B140)","v":""},{"$f":"IF(ISBLANK(InfoPro!E140),\"\",InfoPro!E140)","v":""},{"$f":"IF(ISBLANK(InfoPro!F140),\"\",InfoPro!F140)","v":""},{"$f":"IF(ISBLANK(InfoPro!I140),\"\",YEAR(InfoPro!I140)-$H$3)","v":""},{"$f":"IF(B146=\"\",\"\",VLOOKUP(D146,Tablas!$B$2:$E$13,2,FALSE))","v":""},{"$f":"IF(B146=\"\",\"\",VLOOKUP(D146,Tablas!$B$2:$H$13,7,FALSE))","v":""},"","","","","","","","","","","","","","","","","","",""]
[{"$f":"IF(ISBLANK(InfoPro!A141),\"\",InfoPro!A141)","v":""},{"$f":"IF(ISBLANK(InfoPro!B141),\"\",InfoPro!B141)","v":""},{"$f":"IF(ISBLANK(InfoPro!E141),\"\",InfoPro!E141)","v":""},{"$f":"IF(ISBLANK(InfoPro!F141),\"\",InfoPro!F141)","v":""},{"$f":"IF(ISBLANK(InfoPro!I141),\"\",YEAR(InfoPro!I141)-$H$3)","v":""},{"$f":"IF(B147=\"\",\"\",VLOOKUP(D147,Tablas!$B$2:$E$13,2,FALSE))","v":""},{"$f":"IF(B147=\"\",\"\",VLOOKUP(D147,Tablas!$B$2:$H$13,7,FALSE))","v":""},"","","","","","","","","","","","","","","","","","",""]
[{"$f":"IF(ISBLANK(InfoPro!A142),\"\",InfoPro!A142)","v":""},{"$f":"IF(ISBLANK(InfoPro!B142),\"\",InfoPro!B142)","v":""},{"$f":"IF(ISBLANK(InfoPro!E142),\"\",InfoPro!E142)","v":""},{"$f":"IF(ISBLANK(InfoPro!F142),\"\",InfoPro!F142)","v":""},{"$f":"IF(ISBLANK(InfoPro!I142),\"\",YEAR(InfoPro!I142)-$H$3)","v":""},{"$f":"IF(B148=\"\",\"\",VLOOKUP(D148,Tablas!$B$2:$E$13,2,FALSE))","v":""},{"$f":"IF(B148=\"\",\"\",VLOOKUP(D148,Tablas!$B$2:$H$13,7,FALSE))","v":""},"","",{"$f":"IF($I148=\"\",\"\",(1/(1+$C$3)^(J$6+$E148))*$I148*$C$2*$H148)","v":""},"","","","","","","","","","","","","","","",""]
[{"$f":"IF(ISBLANK(InfoPro!A143),\"\",InfoPro!A143)","v":""},{"$f":"IF(ISBLANK(InfoPro!B143),\"\",InfoPro!B143)","v":""},{"$f":"IF(ISBLANK(InfoPro!E143),\"\",InfoPro!E143)","v":""},{"$f":"IF(ISBLANK(InfoPro!F143),\"\",InfoPro!F143)","v":""},{"$f":"IF(ISBLANK(InfoPro!I143),\"\",YEAR(InfoPro!I143)-$H$3)","v":""},{"$f":"IF(B149=\"\",\"\",VLOOKUP(D149,Tablas!$B$2:$E$13,2,FALSE))","v":""},{"$f":"IF(B149=\"\",\"\",VLOOKUP(D149,Tablas!$B$2:$H$13,7,FALSE))","v":""},"","","","","","","","","","","","","","","","","","",""]
[{"$f":"IF(ISBLANK(InfoPro!A144),\"\",InfoPro!A144)","v":""},{"$f":"IF(ISBLANK(InfoPro!B144),\"\",InfoPro!B144)","v":""},{"$f":"IF(ISBLANK(InfoPro!E144),\"\",InfoPro!E144)","v":""},{"$f":"IF(ISBLANK(InfoPro!F144),\"\",InfoPro!F144)","v":""},{"$f":"IF(ISBLANK(InfoPro!I144),\"\",YEAR(InfoPro!I144)-$H$3)","v":""},{"$f":"IF(B150=\"\",\"\",VLOOKUP(D150,Tablas!$B$2:$E$13,2,FALSE))","v":""},{"$f":"IF(B150=\"\",\"\",VLOOKUP(D150,Tablas!$B$2:$H$13,7,FALSE))","v":""},"","","","","","","","","","","","","","","","","","",""]
[{"$f":"IF(ISBLANK(InfoPro!A145),\"\",InfoPro!A145)","v":""},{"$f":"IF(ISBLANK(InfoPro!B145),\"\",InfoPro!B145)","v":""},{"$f":"IF(ISBLANK(InfoPro!E145),\"\",InfoPro!E145)","v":""},{"$f":"IF(ISBLANK(InfoPro!F145),\"\",InfoPro!F145)","v":""},{"$f":"IF(ISBLANK(InfoPro!I145),\"\",YEAR(InfoPro!I145)-$H$3)","v":""},{"$f":"IF(B151=\"\",\"\",VLOOKUP(D151,Tablas!$B$2:$E$13,2,FALSE))","v":""},{"$f":"IF(B151=\"\",\"\",VLOOKUP(D151,Tablas!$B$2:$H$13,7,FALSE))","v":""},"","","","","","","","","","","","","","","","","","",""]
[{"$f":"IF(ISBLANK(InfoPro!A146),\"\",InfoPro!A146)","v":""},{"$f":"IF(ISBLANK(InfoPro!B146),\"\",InfoPro!B146)","v":""},{"$f":"IF(ISBLANK(InfoPro!E146),\"\",InfoPro!E146)","v":""},{"$f":"IF(ISBLANK(InfoPro!F146),\"\",InfoPro!F146)","v":""},{"$f":"IF(ISBLANK(InfoPro!I146),\"\",YEAR(InfoPro!I146)-$H$3)","v":""},{"$f":"IF(B152=\"\",\"\",VLOOKUP(D152,Tablas!$B$2:$E$13,2,FALSE))","v":""},{"$f":"IF(B152=\"\",\"\",VLOOKUP(D152,Tablas!$B$2:$H$13,7,FALSE))","v":""},"","","","","","","","","","","","","","","","","","",""]
[{"$f":"IF(ISBLANK(InfoPro!A147),\"\",InfoPro!A147)","v":""},{"$f":"IF(ISBLANK(InfoPro!B147),\"\",InfoPro!B147)","v":""},{"$f":"IF(ISBLANK(InfoPro!E147),\"\",InfoPro!E147)","v":""},{"$f":"IF(ISBLANK(InfoPro!F147),\"\",InfoPro!F147)","v":""},{"$f":"IF(ISBLANK(InfoPro!I147),\"\",YEAR(InfoPro!I147)-$H$3)","v":""},{"$f":"IF(B153=\"\",\"\",VLOOKUP(D153,Tablas!$B$2:$E$13,2,FALSE))","v":""},{"$f":"IF(B153=\"\",\"\",VLOOKUP(D153,Tablas!$B$2:$H$13,7,FALSE))","v":""},"","","","","","","","","","","","","","","","","","",""]
[{"$f":"IF(ISBLANK(InfoPro!A148),\"\",InfoPro!A148)","v":""},{"$f":"IF(ISBLANK(InfoPro!B148),\"\",InfoPro!B148)","v":""},{"$f":"IF(ISBLANK(InfoPro!E148),\"\",InfoPro!E148)","v":""},{"$f":"IF(ISBLANK(InfoPro!F148),\"\",InfoPro!F148)","v":""},{"$f":"IF(ISBLANK(InfoPro!I148),\"\",YEAR(InfoPro!I148)-$H$3)","v":""},{"$f":"IF(B154=\"\",\"\",VLOOKUP(D154,Tablas!$B$2:$E$13,2,FALSE))","v":""},{"$f":"IF(B154=\"\",\"\",VLOOKUP(D154,Tablas!$B$2:$H$13,7,FALSE))","v":""},"","","","","","","","","","","","","","","","","","",""]
[{"$f":"IF(ISBLANK(InfoPro!A149),\"\",InfoPro!A149)","v":""},{"$f":"IF(ISBLANK(InfoPro!B149),\"\",InfoPro!B149)","v":""},{"$f":"IF(ISBLANK(InfoPro!E149),\"\",InfoPro!E149)","v":""},{"$f":"IF(ISBLANK(InfoPro!F149),\"\",InfoPro!F149)","v":""},{"$f":"IF(ISBLANK(InfoPro!I149),\"\",YEAR(InfoPro!I149)-$H$3)","v":""},{"$f":"IF(B155=\"\",\"\",VLOOKUP(D155,Tablas!$B$2:$E$13,2,FALSE))","v":""},{"$f":"IF(B155=\"\",\"\",VLOOKUP(D155,Tablas!$B$2:$H$13,7,FALSE))","v":""},"","","","","","","","","","","","","","","","","","",""]
[{"$f":"IF(ISBLANK(InfoPro!A150),\"\",InfoPro!A150)","v":""},{"$f":"IF(ISBLANK(InfoPro!B150),\"\",InfoPro!B150)","v":""},{"$f":"IF(ISBLANK(InfoPro!E150),\"\",InfoPro!E150)","v":""},{"$f":"IF(ISBLANK(InfoPro!F150),\"\",InfoPro!F150)","v":""},{"$f":"IF(ISBLANK(InfoPro!I150),\"\",YEAR(InfoPro!I150)-$H$3)","v":""},{"$f":"IF(B156=\"\",\"\",VLOOKUP(D156,Tablas!$B$2:$E$13,2,FALSE))","v":""},{"$f":"IF(B156=\"\",\"\",VLOOKUP(D156,Tablas!$B$2:$H$13,7,FALSE))","v":""},"","","","","","","","","","","","","","","","","","",""]
[{"$f":"IF(ISBLANK(InfoPro!A151),\"\",InfoPro!A151)","v":""},{"$f":"IF(ISBLANK(InfoPro!B151),\"\",InfoPro!B151)","v":""},{"$f":"IF(ISBLANK(InfoPro!E151),\"\",InfoPro!E151)","v":""},{"$f":"IF(ISBLANK(InfoPro!F151),\"\",InfoPro!F151)","v":""},{"$f":"IF(ISBLANK(InfoPro!I151),\"\",YEAR(InfoPro!I151)-$H$3)","v":""},{"$f":"IF(B157=\"\",\"\",VLOOKUP(D157,Tablas!$B$2:$E$13,2,FALSE))","v":""},{"$f":"IF(B157=\"\",\"\",VLOOKUP(D157,Tablas!$B$2:$H$13,7,FALSE))","v":""},"","","","","","","","","","","","","","","","","","",""]
[{"$f":"IF(ISBLANK(InfoPro!A152),\"\",InfoPro!A152)","v":""},{"$f":"IF(ISBLANK(InfoPro!B152),\"\",InfoPro!B152)","v":""},{"$f":"IF(ISBLANK(InfoPro!E152),\"\",InfoPro!E152)","v":""},{"$f":"IF(ISBLANK(InfoPro!F152),\"\",InfoPro!F152)","v":""},{"$f":"IF(ISBLANK(InfoPro!I152),\"\",YEAR(InfoPro!I152)-$H$3)","v":""},{"$f":"IF(B158=\"\",\"\",VLOOKUP(D158,Tablas!$B$2:$E$13,2,FALSE))","v":""},{"$f":"IF(B158=\"\",\"\",VLOOKUP(D158,Tablas!$B$2:$H$13,7,FALSE))","v":""},"","","","","","","","","","","","","","","","","","",""]
[{"$f":"IF(ISBLANK(InfoPro!A153),\"\",InfoPro!A153)","v":""},{"$f":"IF(ISBLANK(InfoPro!B153),\"\",InfoPro!B153)","v":""},{"$f":"IF(ISBLANK(InfoPro!E153),\"\",InfoPro!E153)","v":""},{"$f":"IF(ISBLANK(InfoPro!F153),\"\",InfoPro!F153)","v":""},{"$f":"IF(ISBLANK(InfoPro!I153),\"\",YEAR(InfoPro!I153)-$H$3)","v":""},{"$f":"IF(B159=\"\",\"\",VLOOKUP(D159,Tablas!$B$2:$E$13,2,FALSE))","v":""},{"$f":"IF(B159=\"\",\"\",VLOOKUP(D159,Tablas!$B$2:$H$13,7,FALSE))","v":""},"","","","","","","","","","","","","","","","","","",""]
[{"$f":"IF(ISBLANK(InfoPro!A154),\"\",InfoPro!A154)","v":""},{"$f":"IF(ISBLANK(InfoPro!B154),\"\",InfoPro!B154)","v":""},{"$f":"IF(ISBLANK(InfoPro!E154),\"\",InfoPro!E154)","v":""},{"$f":"IF(ISBLANK(InfoPro!F154),\"\",InfoPro!F154)","v":""},{"$f":"IF(ISBLANK(InfoPro!I154),\"\",YEAR(InfoPro!I154)-$H$3)","v":""},{"$f":"IF(B160=\"\",\"\",VLOOKUP(D160,Tablas!$B$2:$E$13,2,FALSE))","v":""},{"$f":"IF(B160=\"\",\"\",VLOOKUP(D160,Tablas!$B$2:$H$13,7,FALSE))","v":""},"","","","","","","","","","","","","","","","","","",""]
[{"$f":"IF(ISBLANK(InfoPro!A155),\"\",InfoPro!A155)","v":""},{"$f":"IF(ISBLANK(InfoPro!B155),\"\",InfoPro!B155)","v":""},{"$f":"IF(ISBLANK(InfoPro!E155),\"\",InfoPro!E155)","v":""},{"$f":"IF(ISBLANK(InfoPro!F155),\"\",InfoPro!F155)","v":""},{"$f":"IF(ISBLANK(InfoPro!I155),\"\",YEAR(InfoPro!I155)-$H$3)","v":""},{"$f":"IF(B161=\"\",\"\",VLOOKUP(D161,Tablas!$B$2:$E$13,2,FALSE))","v":""},{"$f":"IF(B161=\"\",\"\",VLOOKUP(D161,Tablas!$B$2:$H$13,7,FALSE))","v":""},"","","","","","","","","","","","","","","","","","",""]
[{"$f":"IF(ISBLANK(InfoPro!A156),\"\",InfoPro!A156)","v":""},{"$f":"IF(ISBLANK(InfoPro!B156),\"\",InfoPro!B156)","v":""},{"$f":"IF(ISBLANK(InfoPro!E156),\"\",InfoPro!E156)","v":""},{"$f":"IF(ISBLANK(InfoPro!F156),\"\",InfoPro!F156)","v":""},{"$f":"IF(ISBLANK(InfoPro!I156),\"\",YEAR(InfoPro!I156)-$H$3)","v":""},{"$f":"IF(B162=\"\",\"\",VLOOKUP(D162,Tablas!$B$2:$E$13,2,FALSE))","v":""},{"$f":"IF(B162=\"\",\"\",VLOOKUP(D162,Tablas!$B$2:$H$13,7,FALSE))","v":""},"","","","","","","","","","","","","","","","","","",""]
[{"$f":"IF(ISBLANK(InfoPro!A157),\"\",InfoPro!A157)","v":""},{"$f":"IF(ISBLANK(InfoPro!B157),\"\",InfoPro!B157)","v":""},{"$f":"IF(ISBLANK(InfoPro!E157),\"\",InfoPro!E157)","v":""},{"$f":"IF(ISBLANK(InfoPro!F157),\"\",InfoPro!F157)","v":""},{"$f":"IF(ISBLANK(InfoPro!I157),\"\",YEAR(InfoPro!I157)-$H$3)","v":""},{"$f":"IF(B163=\"\",\"\",VLOOKUP(D163,Tablas!$B$2:$E$13,2,FALSE))","v":""},{"$f":"IF(B163=\"\",\"\",VLOOKUP(D163,Tablas!$B$2:$H$13,7,FALSE))","v":""},"","","","","","","","","","","","","","","","","","",""]
[{"$f":"IF(ISBLANK(InfoPro!A158),\"\",InfoPro!A158)","v":""},{"$f":"IF(ISBLANK(InfoPro!B158),\"\",InfoPro!B158)","v":""},{"$f":"IF(ISBLANK(InfoPro!E158),\"\",InfoPro!E158)","v":""},{"$f":"IF(ISBLANK(InfoPro!F158),\"\",InfoPro!F158)","v":""},{"$f":"IF(ISBLANK(InfoPro!I158),\"\",YEAR(InfoPro!I158)-$H$3)","v":""},{"$f":"IF(B164=\"\",\"\",VLOOKUP(D164,Tablas!$B$2:$E$13,2,FALSE))","v":""},{"$f":"IF(B164=\"\",\"\",VLOOKUP(D164,Tablas!$B$2:$H$13,7,FALSE))","v":""},"","","","","","","","","","","","","","","","","","",""]
[{"$f":"IF(ISBLANK(InfoPro!A159),\"\",InfoPro!A159)","v":""},{"$f":"IF(ISBLANK(InfoPro!B159),\"\",InfoPro!B159)","v":""},{"$f":"IF(ISBLANK(InfoPro!E159),\"\",InfoPro!E159)","v":""},{"$f":"IF(ISBLANK(InfoPro!F159),\"\",InfoPro!F159)","v":""},{"$f":"IF(ISBLANK(InfoPro!I159),\"\",YEAR(InfoPro!I159)-$H$3)","v":""},{"$f":"IF(B165=\"\",\"\",VLOOKUP(D165,Tablas!$B$2:$E$13,2,FALSE))","v":""},{"$f":"IF(B165=\"\",\"\",VLOOKUP(D165,Tablas!$B$2:$H$13,7,FALSE))","v":""},"","",{"$f":"IF($I165=\"\",\"\",(1/(1+$C$3)^(J$6+$E165))*$I165*$C$2*$H165)","v":""},"","","","","","","","","","","","","","","",""]
[{"$f":"IF(ISBLANK(InfoPro!A160),\"\",InfoPro!A160)","v":""},{"$f":"IF(ISBLANK(InfoPro!B160),\"\",InfoPro!B160)","v":""},{"$f":"IF(ISBLANK(InfoPro!E160),\"\",InfoPro!E160)","v":""},{"$f":"IF(ISBLANK(InfoPro!F160),\"\",InfoPro!F160)","v":""},{"$f":"IF(ISBLANK(InfoPro!I160),\"\",YEAR(InfoPro!I160)-$H$3)","v":""},{"$f":"IF(B166=\"\",\"\",VLOOKUP(D166,Tablas!$B$2:$E$13,2,FALSE))","v":""},{"$f":"IF(B166=\"\",\"\",VLOOKUP(D166,Tablas!$B$2:$H$13,7,FALSE))","v":""},"","","","","","","","","","","","","","","","","","",""]
[{"$f":"IF(ISBLANK(InfoPro!A161),\"\",InfoPro!A161)","v":""},{"$f":"IF(ISBLANK(InfoPro!B161),\"\",InfoPro!B161)","v":""},{"$f":"IF(ISBLANK(InfoPro!E161),\"\",InfoPro!E161)","v":""},{"$f":"IF(ISBLANK(InfoPro!F161),\"\",InfoPro!F161)","v":""},{"$f":"IF(ISBLANK(InfoPro!I161),\"\",YEAR(InfoPro!I161)-$H$3)","v":""},{"$f":"IF(B167=\"\",\"\",VLOOKUP(D167,Tablas!$B$2:$E$13,2,FALSE))","v":""},{"$f":"IF(B167=\"\",\"\",VLOOKUP(D167,Tablas!$B$2:$H$13,7,FALSE))","v":""},"","","","","","","","","","","","","","","","","","",""]
[{"$f":"IF(ISBLANK(InfoPro!A162),\"\",InfoPro!A162)","v":""},{"$f":"IF(ISBLANK(InfoPro!B162),\"\",InfoPro!B162)","v":""},{"$f":"IF(ISBLANK(InfoPro!E162),\"\",InfoPro!E162)","v":""},{"$f":"IF(ISBLANK(InfoPro!F162),\"\",InfoPro!F162)","v":""},{"$f":"IF(ISBLANK(InfoPro!I162),\"\",YEAR(InfoPro!I162)-$H$3)","v":""},{"$f":"IF(B168=\"\",\"\",VLOOKUP(D168,Tablas!$B$2:$E$13,2,FALSE))","v":""},{"$f":"IF(B168=\"\",\"\",VLOOKUP(D168,Tablas!$B$2:$H$13,7,FALSE))","v":""},"","","","","","","","","","","","","","","","","","",""]
[{"$f":"IF(ISBLANK(InfoPro!A163),\"\",InfoPro!A163)","v":""},{"$f":"IF(ISBLANK(InfoPro!B163),\"\",InfoPro!B163)","v":""},{"$f":"IF(ISBLANK(InfoPro!E163),\"\",InfoPro!E163)","v":""},{"$f":"IF(ISBLANK(InfoPro!F163),\"\",InfoPro!F163)","v":""},{"$f":"IF(ISBLANK(InfoPro!I163),\"\",YEAR(InfoPro!I163)-$H$3)","v":""},{"$f":"IF(B169=\"\",\"\",VLOOKUP(D169,Tablas!$B$2:$E$13,2,FALSE))","v":""},{"$f":"IF(B169=\"\",\"\",VLOOKUP(D169,Tablas!$B$2:$H$13,7,FALSE))","v":""},"","","","","","","","","","","","","","","","","","",""]
[{"$f":"IF(ISBLANK(InfoPro!A164),\"\",InfoPro!A164)","v":""},{"$f":"IF(ISBLANK(InfoPro!B164),\"\",InfoPro!B164)","v":""},{"$f":"IF(ISBLANK(InfoPro!E164),\"\",InfoPro!E164)","v":""},{"$f":"IF(ISBLANK(InfoPro!F164),\"\",InfoPro!F164)","v":""},{"$f":"IF(ISBLANK(InfoPro!I164),\"\",YEAR(InfoPro!I164)-$H$3)","v":""},{"$f":"IF(B170=\"\",\"\",VLOOKUP(D170,Tablas!$B$2:$E$13,2,FALSE))","v":""},{"$f":"IF(B170=\"\",\"\",VLOOKUP(D170,Tablas!$B$2:$H$13,7,FALSE))","v":""},"","","","","","","","","","","","","","","","","","",""]
[{"$f":"IF(ISBLANK(InfoPro!A165),\"\",InfoPro!A165)","v":""},{"$f":"IF(ISBLANK(InfoPro!B165),\"\",InfoPro!B165)","v":""},{"$f":"IF(ISBLANK(InfoPro!E165),\"\",InfoPro!E165)","v":""},{"$f":"IF(ISBLANK(InfoPro!F165),\"\",InfoPro!F165)","v":""},{"$f":"IF(ISBLANK(InfoPro!I165),\"\",YEAR(InfoPro!I165)-$H$3)","v":""},{"$f":"IF(B171=\"\",\"\",VLOOKUP(D171,Tablas!$B$2:$E$13,2,FALSE))","v":""},{"$f":"IF(B171=\"\",\"\",VLOOKUP(D171,Tablas!$B$2:$H$13,7,FALSE))","v":""},"","","","","","","","","","","","","","","","","","",""]
[{"$f":"IF(ISBLANK(InfoPro!A166),\"\",InfoPro!A166)","v":""},{"$f":"IF(ISBLANK(InfoPro!B166),\"\",InfoPro!B166)","v":""},{"$f":"IF(ISBLANK(InfoPro!E166),\"\",InfoPro!E166)","v":""},{"$f":"IF(ISBLANK(InfoPro!F166),\"\",InfoPro!F166)","v":""},{"$f":"IF(ISBLANK(InfoPro!I166),\"\",YEAR(InfoPro!I166)-$H$3)","v":""},{"$f":"IF(B172=\"\",\"\",VLOOKUP(D172,Tablas!$B$2:$E$13,2,FALSE))","v":""},{"$f":"IF(B172=\"\",\"\",VLOOKUP(D172,Tablas!$B$2:$H$13,7,FALSE))","v":""},{"$f":"IF(B172=\"\",\"\",($C$2-(G172))/$C$2)","v":""},{"$f":"IF(C172=\"\",\"\",+C172*F172*24*365)","v":""},"","","","","","","","","","","","","","","",{"$f":"IF(X172=\"\",\"\",SUM(J172:X172))","v":""},{"$f":"IF(C172=0,0,IF(Y172=\"\",\"\",Y172/(C172*1000)))","v":""}]
[{"$f":"IF(ISBLANK(InfoPro!A167),\"\",InfoPro!A167)","v":""},{"$f":"IF(ISBLANK(InfoPro!B167),\"\",InfoPro!B167)","v":""},{"$f":"IF(ISBLANK(InfoPro!E167),\"\",InfoPro!E167)","v":""},{"$f":"IF(ISBLANK(InfoPro!F167),\"\",InfoPro!F167)","v":""},{"$f":"IF(ISBLANK(InfoPro!I167),\"\",YEAR(InfoPro!I167)-$H$3)","v":""},{"$f":"IF(B173=\"\",\"\",VLOOKUP(D173,Tablas!$B$2:$E$13,2,FALSE))","v":""},{"$f":"IF(B173=\"\",\"\",VLOOKUP(D173,Tablas!$B$2:$H$13,7,FALSE))","v":""},"","","","","","","","","","","","","","","","","","",""]
[{"$f":"IF(ISBLANK(InfoPro!A168),\"\",InfoPro!A168)","v":""},{"$f":"IF(ISBLANK(InfoPro!B168),\"\",InfoPro!B168)","v":""},{"$f":"IF(ISBLANK(InfoPro!E168),\"\",InfoPro!E168)","v":""},{"$f":"IF(ISBLANK(InfoPro!F168),\"\",InfoPro!F168)","v":""},{"$f":"IF(ISBLANK(InfoPro!I168),\"\",YEAR(InfoPro!I168)-$H$3)","v":""},{"$f":"IF(B174=\"\",\"\",VLOOKUP(D174,Tablas!$B$2:$E$13,2,FALSE))","v":""},{"$f":"IF(B174=\"\",\"\",VLOOKUP(D174,Tablas!$B$2:$H$13,7,FALSE))","v":""},"","","","","","","","","","","","","","","","","","",""]
[{"$f":"IF(ISBLANK(InfoPro!A169),\"\",InfoPro!A169)","v":""},{"$f":"IF(ISBLANK(InfoPro!B169),\"\",InfoPro!B169)","v":""},{"$f":"IF(ISBLANK(InfoPro!E169),\"\",InfoPro!E169)","v":""},{"$f":"IF(ISBLANK(InfoPro!F169),\"\",InfoPro!F169)","v":""},{"$f":"IF(ISBLANK(InfoPro!I169),\"\",YEAR(InfoPro!I169)-$H$3)","v":""},{"$f":"IF(B175=\"\",\"\",VLOOKUP(D175,Tablas!$B$2:$E$13,2,FALSE))","v":""},{"$f":"IF(B175=\"\",\"\",VLOOKUP(D175,Tablas!$B$2:$H$13,7,FALSE))","v":""},"","","","","","","","","","","","","","","","","","",""]
[{"$f":"IF(ISBLANK(InfoPro!A170),\"\",InfoPro!A170)","v":""},{"$f":"IF(ISBLANK(InfoPro!B170),\"\",InfoPro!B170)","v":""},{"$f":"IF(ISBLANK(InfoPro!E170),\"\",InfoPro!E170)","v":""},{"$f":"IF(ISBLANK(InfoPro!F170),\"\",InfoPro!F170)","v":""},{"$f":"IF(ISBLANK(InfoPro!I170),\"\",YEAR(InfoPro!I170)-$H$3)","v":""},{"$f":"IF(B176=\"\",\"\",VLOOKUP(D176,Tablas!$B$2:$E$13,2,FALSE))","v":""},{"$f":"IF(B176=\"\",\"\",VLOOKUP(D176,Tablas!$B$2:$H$13,7,FALSE))","v":""},"","","","","","","","","","","","","","","","","","",""]
[{"$f":"IF(ISBLANK(InfoPro!A171),\"\",InfoPro!A171)","v":""},{"$f":"IF(ISBLANK(InfoPro!B171),\"\",InfoPro!B171)","v":""},{"$f":"IF(ISBLANK(InfoPro!E171),\"\",InfoPro!E171)","v":""},{"$f":"IF(ISBLANK(InfoPro!F171),\"\",InfoPro!F171)","v":""},{"$f":"IF(ISBLANK(InfoPro!I171),\"\",YEAR(InfoPro!I171)-$H$3)","v":""},{"$f":"IF(B177=\"\",\"\",VLOOKUP(D177,Tablas!$B$2:$E$13,2,FALSE))","v":""},{"$f":"IF(B177=\"\",\"\",VLOOKUP(D177,Tablas!$B$2:$H$13,7,FALSE))","v":""},"","","","","","","","","","","","","","","","","","",""]
[{"$f":"IF(ISBLANK(InfoPro!A172),\"\",InfoPro!A172)","v":""},{"$f":"IF(ISBLANK(InfoPro!B172),\"\",InfoPro!B172)","v":""},{"$f":"IF(ISBLANK(InfoPro!E172),\"\",InfoPro!E172)","v":""},{"$f":"IF(ISBLANK(InfoPro!F172),\"\",InfoPro!F172)","v":""},{"$f":"IF(ISBLANK(InfoPro!I172),\"\",YEAR(InfoPro!I172)-$H$3)","v":""},{"$f":"IF(B178=\"\",\"\",VLOOKUP(D178,Tablas!$B$2:$E$13,2,FALSE))","v":""},{"$f":"IF(B178=\"\",\"\",VLOOKUP(D178,Tablas!$B$2:$H$13,7,FALSE))","v":""},"","","","","","","","","","","","","","","","","","",""]
[{"$f":"IF(ISBLANK(InfoPro!A173),\"\",InfoPro!A173)","v":""},{"$f":"IF(ISBLANK(InfoPro!B173),\"\",InfoPro!B173)","v":""},{"$f":"IF(ISBLANK(InfoPro!E173),\"\",InfoPro!E173)","v":""},{"$f":"IF(ISBLANK(InfoPro!F173),\"\",InfoPro!F173)","v":""},{"$f":"IF(ISBLANK(InfoPro!I173),\"\",YEAR(InfoPro!I173)-$H$3)","v":""},{"$f":"IF(B179=\"\",\"\",VLOOKUP(D179,Tablas!$B$2:$E$13,2,FALSE))","v":""},{"$f":"IF(B179=\"\",\"\",VLOOKUP(D179,Tablas!$B$2:$H$13,7,FALSE))","v":""},"","","","","","","","","","","","","","","","","","",""]
[{"$f":"IF(ISBLANK(InfoPro!A174),\"\",InfoPro!A174)","v":""},{"$f":"IF(ISBLANK(InfoPro!B174),\"\",InfoPro!B174)","v":""},{"$f":"IF(ISBLANK(InfoPro!E174),\"\",InfoPro!E174)","v":""},{"$f":"IF(ISBLANK(InfoPro!F174),\"\",InfoPro!F174)","v":""},{"$f":"IF(ISBLANK(InfoPro!I174),\"\",YEAR(InfoPro!I174)-$H$3)","v":""},{"$f":"IF(B180=\"\",\"\",VLOOKUP(D180,Tablas!$B$2:$E$13,2,FALSE))","v":""},{"$f":"IF(B180=\"\",\"\",VLOOKUP(D180,Tablas!$B$2:$H$13,7,FALSE))","v":""},"","","","","","","","","","","","","","","","","","",""]
[{"$f":"IF(ISBLANK(InfoPro!A175),\"\",InfoPro!A175)","v":""},{"$f":"IF(ISBLANK(InfoPro!B175),\"\",InfoPro!B175)","v":""},{"$f":"IF(ISBLANK(InfoPro!E175),\"\",InfoPro!E175)","v":""},{"$f":"IF(ISBLANK(InfoPro!F175),\"\",InfoPro!F175)","v":""},{"$f":"IF(ISBLANK(InfoPro!I175),\"\",YEAR(InfoPro!I175)-$H$3)","v":""},{"$f":"IF(B181=\"\",\"\",VLOOKUP(D181,Tablas!$B$2:$E$13,2,FALSE))","v":""},{"$f":"IF(B181=\"\",\"\",VLOOKUP(D181,Tablas!$B$2:$H$13,7,FALSE))","v":""},"","","","","","","","","","","","","","","","","","",""]
[{"$f":"IF(ISBLANK(InfoPro!A176),\"\",InfoPro!A176)","v":""},{"$f":"IF(ISBLANK(InfoPro!B176),\"\",InfoPro!B176)","v":""},{"$f":"IF(ISBLANK(InfoPro!E176),\"\",InfoPro!E176)","v":""},{"$f":"IF(ISBLANK(InfoPro!F176),\"\",InfoPro!F176)","v":""},{"$f":"IF(ISBLANK(InfoPro!I176),\"\",YEAR(InfoPro!I176)-$H$3)","v":""},{"$f":"IF(B182=\"\",\"\",VLOOKUP(D182,Tablas!$B$2:$E$13,2,FALSE))","v":""},{"$f":"IF(B182=\"\",\"\",VLOOKUP(D182,Tablas!$B$2:$H$13,7,FALSE))","v":""},"","",{"$f":"IF($I182=\"\",\"\",(1/(1+$C$3)^(J$6+$E182))*$I182*$C$2*$H182)","v":""},"","","","","","","","","","","","","","","",""]
[{"$f":"IF(ISBLANK(InfoPro!A177),\"\",InfoPro!A177)","v":""},{"$f":"IF(ISBLANK(InfoPro!B177),\"\",InfoPro!B177)","v":""},{"$f":"IF(ISBLANK(InfoPro!E177),\"\",InfoPro!E177)","v":""},{"$f":"IF(ISBLANK(InfoPro!F177),\"\",InfoPro!F177)","v":""},{"$f":"IF(ISBLANK(InfoPro!I177),\"\",YEAR(InfoPro!I177)-$H$3)","v":""},{"$f":"IF(B183=\"\",\"\",VLOOKUP(D183,Tablas!$B$2:$E$13,2,FALSE))","v":""},{"$f":"IF(B183=\"\",\"\",VLOOKUP(D183,Tablas!$B$2:$H$13,7,FALSE))","v":""},"","","","","","","","","","","","","","","","","","",""]
[{"$f":"IF(ISBLANK(InfoPro!A178),\"\",InfoPro!A178)","v":""},{"$f":"IF(ISBLANK(InfoPro!B178),\"\",InfoPro!B178)","v":""},{"$f":"IF(ISBLANK(InfoPro!E178),\"\",InfoPro!E178)","v":""},{"$f":"IF(ISBLANK(InfoPro!F178),\"\",InfoPro!F178)","v":""},{"$f":"IF(ISBLANK(InfoPro!I178),\"\",YEAR(InfoPro!I178)-$H$3)","v":""},{"$f":"IF(B184=\"\",\"\",VLOOKUP(D184,Tablas!$B$2:$E$13,2,FALSE))","v":""},{"$f":"IF(B184=\"\",\"\",VLOOKUP(D184,Tablas!$B$2:$H$13,7,FALSE))","v":""},"","","","","","","","","","","","","","","","","","",""]
[{"$f":"IF(ISBLANK(InfoPro!A179),\"\",InfoPro!A179)","v":""},{"$f":"IF(ISBLANK(InfoPro!B179),\"\",InfoPro!B179)","v":""},{"$f":"IF(ISBLANK(InfoPro!E179),\"\",InfoPro!E179)","v":""},{"$f":"IF(ISBLANK(InfoPro!F179),\"\",InfoPro!F179)","v":""},{"$f":"IF(ISBLANK(InfoPro!I179),\"\",YEAR(InfoPro!I179)-$H$3)","v":""},{"$f":"IF(B185=\"\",\"\",VLOOKUP(D185,Tablas!$B$2:$E$13,2,FALSE))","v":""},{"$f":"IF(B185=\"\",\"\",VLOOKUP(D185,Tablas!$B$2:$H$13,7,FALSE))","v":""},"","","","","","","","","","","","","","","","","","",""]
[{"$f":"IF(ISBLANK(InfoPro!A180),\"\",InfoPro!A180)","v":""},{"$f":"IF(ISBLANK(InfoPro!B180),\"\",InfoPro!B180)","v":""},{"$f":"IF(ISBLANK(InfoPro!E180),\"\",InfoPro!E180)","v":""},{"$f":"IF(ISBLANK(InfoPro!F180),\"\",InfoPro!F180)","v":""},{"$f":"IF(ISBLANK(InfoPro!I180),\"\",YEAR(InfoPro!I180)-$H$3)","v":""},{"$f":"IF(B186=\"\",\"\",VLOOKUP(D186,Tablas!$B$2:$E$13,2,FALSE))","v":""},{"$f":"IF(B186=\"\",\"\",VLOOKUP(D186,Tablas!$B$2:$H$13,7,FALSE))","v":""},"","","","","","","","","","","","","","","","","","",""]
[{"$f":"IF(ISBLANK(InfoPro!A181),\"\",InfoPro!A181)","v":""},{"$f":"IF(ISBLANK(InfoPro!B181),\"\",InfoPro!B181)","v":""},{"$f":"IF(ISBLANK(InfoPro!E181),\"\",InfoPro!E181)","v":""},{"$f":"IF(ISBLANK(InfoPro!F181),\"\",InfoPro!F181)","v":""},{"$f":"IF(ISBLANK(InfoPro!I181),\"\",YEAR(InfoPro!I181)-$H$3)","v":""},{"$f":"IF(B187=\"\",\"\",VLOOKUP(D187,Tablas!$B$2:$E$13,2,FALSE))","v":""},{"$f":"IF(B187=\"\",\"\",VLOOKUP(D187,Tablas!$B$2:$H$13,7,FALSE))","v":""},"","","","","","","","","","","","","","","","","","",""]
[{"$f":"IF(ISBLANK(InfoPro!A182),\"\",InfoPro!A182)","v":""},{"$f":"IF(ISBLANK(InfoPro!B182),\"\",InfoPro!B182)","v":""},{"$f":"IF(ISBLANK(InfoPro!E182),\"\",InfoPro!E182)","v":""},{"$f":"IF(ISBLANK(InfoPro!F182),\"\",InfoPro!F182)","v":""},{"$f":"IF(ISBLANK(InfoPro!I182),\"\",YEAR(InfoPro!I182)-$H$3)","v":""},{"$f":"IF(B188=\"\",\"\",VLOOKUP(D188,Tablas!$B$2:$E$13,2,FALSE))","v":""},{"$f":"IF(B188=\"\",\"\",VLOOKUP(D188,Tablas!$B$2:$H$13,7,FALSE))","v":""},"","","","","","","","","","","","","","","","","","",""]
[{"$f":"IF(ISBLANK(InfoPro!A183),\"\",InfoPro!A183)","v":""},{"$f":"IF(ISBLANK(InfoPro!B183),\"\",InfoPro!B183)","v":""},{"$f":"IF(ISBLANK(InfoPro!E183),\"\",InfoPro!E183)","v":""},{"$f":"IF(ISBLANK(InfoPro!F183),\"\",InfoPro!F183)","v":""},{"$f":"IF(ISBLANK(InfoPro!I183),\"\",YEAR(InfoPro!I183)-$H$3)","v":""},{"$f":"IF(B189=\"\",\"\",VLOOKUP(D189,Tablas!$B$2:$E$13,2,FALSE))","v":""},{"$f":"IF(B189=\"\",\"\",VLOOKUP(D189,Tablas!$B$2:$H$13,7,FALSE))","v":""},"","","","","","","","","","","","","","","","","","",""]
[{"$f":"IF(ISBLANK(InfoPro!A184),\"\",InfoPro!A184)","v":""},{"$f":"IF(ISBLANK(InfoPro!B184),\"\",InfoPro!B184)","v":""},{"$f":"IF(ISBLANK(InfoPro!E184),\"\",InfoPro!E184)","v":""},{"$f":"IF(ISBLANK(InfoPro!F184),\"\",InfoPro!F184)","v":""},{"$f":"IF(ISBLANK(InfoPro!I184),\"\",YEAR(InfoPro!I184)-$H$3)","v":""},{"$f":"IF(B190=\"\",\"\",VLOOKUP(D190,Tablas!$B$2:$E$13,2,FALSE))","v":""},{"$f":"IF(B190=\"\",\"\",VLOOKUP(D190,Tablas!$B$2:$H$13,7,FALSE))","v":""},"","","","","","","","","","","","","","","","","","",""]
[{"$f":"IF(ISBLANK(InfoPro!A185),\"\",InfoPro!A185)","v":""},{"$f":"IF(ISBLANK(InfoPro!B185),\"\",InfoPro!B185)","v":""},{"$f":"IF(ISBLANK(InfoPro!E185),\"\",InfoPro!E185)","v":""},{"$f":"IF(ISBLANK(InfoPro!F185),\"\",InfoPro!F185)","v":""},{"$f":"IF(ISBLANK(InfoPro!I185),\"\",YEAR(InfoPro!I185)-$H$3)","v":""},{"$f":"IF(B191=\"\",\"\",VLOOKUP(D191,Tablas!$B$2:$E$13,2,FALSE))","v":""},{"$f":"IF(B191=\"\",\"\",VLOOKUP(D191,Tablas!$B$2:$H$13,7,FALSE))","v":""},"","","","","","","","","","","","","","","","","","",""]
[{"$f":"IF(ISBLANK(InfoPro!A186),\"\",InfoPro!A186)","v":""},{"$f":"IF(ISBLANK(InfoPro!B186),\"\",InfoPro!B186)","v":""},{"$f":"IF(ISBLANK(InfoPro!E186),\"\",InfoPro!E186)","v":""},{"$f":"IF(ISBLANK(InfoPro!F186),\"\",InfoPro!F186)","v":""},{"$f":"IF(ISBLANK(InfoPro!I186),\"\",YEAR(InfoPro!I186)-$H$3)","v":""},{"$f":"IF(B192=\"\",\"\",VLOOKUP(D192,Tablas!$B$2:$E$13,2,FALSE))","v":""},{"$f":"IF(B192=\"\",\"\",VLOOKUP(D192,Tablas!$B$2:$H$13,7,FALSE))","v":""},"","","","","","","","","","","","","","","","","","",""]
[{"$f":"IF(ISBLANK(InfoPro!A187),\"\",InfoPro!A187)","v":""},{"$f":"IF(ISBLANK(InfoPro!B187),\"\",InfoPro!B187)","v":""},{"$f":"IF(ISBLANK(InfoPro!E187),\"\",InfoPro!E187)","v":""},{"$f":"IF(ISBLANK(InfoPro!F187),\"\",InfoPro!F187)","v":""},{"$f":"IF(ISBLANK(InfoPro!I187),\"\",YEAR(InfoPro!I187)-$H$3)","v":""},{"$f":"IF(B193=\"\",\"\",VLOOKUP(D193,Tablas!$B$2:$E$13,2,FALSE))","v":""},{"$f":"IF(B193=\"\",\"\",VLOOKUP(D193,Tablas!$B$2:$H$13,7,FALSE))","v":""},"","","","","","","","","","","","","","","","","","",""]
[{"$f":"IF(ISBLANK(InfoPro!A188),\"\",InfoPro!A188)","v":""},{"$f":"IF(ISBLANK(InfoPro!B188),\"\",InfoPro!B188)","v":""},{"$f":"IF(ISBLANK(InfoPro!E188),\"\",InfoPro!E188)","v":""},{"$f":"IF(ISBLANK(InfoPro!F188),\"\",InfoPro!F188)","v":""},{"$f":"IF(ISBLANK(InfoPro!I188),\"\",YEAR(InfoPro!I188)-$H$3)","v":""},{"$f":"IF(B194=\"\",\"\",VLOOKUP(D194,Tablas!$B$2:$E$13,2,FALSE))","v":""},{"$f":"IF(B194=\"\",\"\",VLOOKUP(D194,Tablas!$B$2:$H$13,7,FALSE))","v":""},"","","","","","","","","","","","","","","","","","",""]
[{"$f":"IF(ISBLANK(InfoPro!A189),\"\",InfoPro!A189)","v":""},{"$f":"IF(ISBLANK(InfoPro!B189),\"\",InfoPro!B189)","v":""},{"$f":"IF(ISBLANK(InfoPro!E189),\"\",InfoPro!E189)","v":""},{"$f":"IF(ISBLANK(InfoPro!F189),\"\",InfoPro!F189)","v":""},{"$f":"IF(ISBLANK(InfoPro!I189),\"\",YEAR(InfoPro!I189)-$H$3)","v":""},{"$f":"IF(B195=\"\",\"\",VLOOKUP(D195,Tablas!$B$2:$E$13,2,FALSE))","v":""},{"$f":"IF(B195=\"\",\"\",VLOOKUP(D195,Tablas!$B$2:$H$13,7,FALSE))","v":""},"","","","","","","","","","","","","","","","","","",""]

{"sheet":"EC-Per","index":6,"n_rows":195,"n_cols":23,"rows_kept":195,"cut":false,"hidden":false,"merged":[]}
[]
[null,"Precio promedio de bolsa",{"$f":"'EC-RP'!C2*1000","v":192057000},"COP/GWh"]
[null,"Tasa de descuento",0.11799999999999999,null,"Año de Referencia",2023]
[null,null,null,null,"Mínimo",{"$f":"MIN(W8:W400)","v":277503.76630607015}]
[]
[null,null,null,null,null,null,0,1,2,3,4,5,6,7,8,9,10,11,12,13,14]
["Codigo","Nombre","capacidad","Tipo","Año de entrada","Pérdidas STN","Flujo Descontado 0","Flujo Descontado 1","Flujo Descontado 2","Flujo Descontado 3","Flujo Descontado 4","Flujo Descontado 5","Flujo Descontado 6","Flujo Descontado 7","Flujo Descontado 8","Flujo Descontado 9","Flujo Descontado 10","Flujo Descontado 11","Flujo Descontado 12","Flujo Descontado 13","Flujo Descontado 14","VPN","Beneficio/kW"]
[{"$f":"IF(ISBLANK(InfoPro!A2),\"\",InfoPro!A2)","v":"SC_1323_A1"},{"$f":"IF(ISBLANK(InfoPro!B2),\"\",InfoPro!B2)","v":"GEN ARAUCA"},{"$f":"IF(ISBLANK(InfoPro!E2),\"\",InfoPro!E2)","v":30},{"$f":"IF(ISBLANK(InfoPro!F2),\"\",InfoPro!F2)","v":"Termica - Ciclo Abierto"},{"$f":"IF(ISBLANK(InfoPro!I2),\"\",YEAR(InfoPro!I2)-$F$3)","v":0},{"$f":"IF(ISBLANK(InfoPro!P2),\"\",InfoPro!P2)","v":5.6319999999999997},{"$f":"IF($F8=\"\",\"\",(1/(1+$C$3)^(G$6+$E8))*$F8*$C$2)","v":1081665024},{"$f":"IF($F8=\"\",\"\",(1/(1+$C$3)^(H$6+$E8))*$F8*$C$2)","v":967500021.46690524},{"$f":"IF($F8=\"\",\"\",(1/(1+$C$3)^(I$6+$E8))*$F8*$C$2)","v":865384634.58578289},774047079.23594189,692349802.53662062,619275315.32792556,553913519.97131085,495450375.64517969,443157759.96885484,396384400.68770564,354547764.47916424,317126801.85971761,283655457.83516783,253716867.47331652,226938164.10851213,{"$f":"IF(U8=\"\",\"\",SUM(G8:U8))","v":8325112989.1821051},{"$f":"IF(C8=0,0,IF(V8=\"\",\"\",V8/(C8*1000)))","v":277503.76630607015}]
[{"$f":"IF(ISBLANK(InfoPro!A3),\"\",InfoPro!A3)","v":"SC_1323_A2"},{"$f":"IF(ISBLANK(InfoPro!B3),\"\",InfoPro!B3)","v":"GEN ARAUCA"},{"$f":"IF(ISBLANK(InfoPro!E3),\"\",InfoPro!E3)","v":30},{"$f":"IF(ISBLANK(InfoPro!F3),\"\",InfoPro!F3)","v":"Termica - Ciclo Abierto"},{"$f":"IF(ISBLANK(InfoPro!I3),\"\",YEAR(InfoPro!I3)-$F$3)","v":0},{"$f":"IF(ISBLANK(InfoPro!P3),\"\",InfoPro!P3)","v":15.032999999999999},2887192881,2582462326.4758496,2309894746.4005814,2066095479.7858515,1848028157.232425,1652976884.8232784,1478512419.3410361,1322461913.5429664,1182881854.6895943,1058033859.2930182,946363022.62345099,846478553.33045721,757136451.99504232,677224017.88465321,605745990.95228386,{"$f":"IF(U9=\"\",\"\",SUM(G9:U9))","v":22221488559.370483},{"$f":"IF(C9=0,0,IF(V9=\"\",\"\",V9/(C9*1000)))","v":740716.28531234944}]
[{"$f":"IF(ISBLANK(InfoPro!A4),\"\",InfoPro!A4)","v":"SC_1323_A3"},{"$f":"IF(ISBLANK(InfoPro!B4),\"\",InfoPro!B4)","v":"GEN ARAUCA"},{"$f":"IF(ISBLANK(InfoPro!E4),\"\",InfoPro!E4)","v":30},{"$f":"IF(ISBLANK(InfoPro!F4),\"\",InfoPro!F4)","v":"Termica - Ciclo Abierto"},{"$f":"IF(ISBLANK(InfoPro!I4),\"\",YEAR(InfoPro!I4)-$F$3)","v":0},{"$f":"IF(ISBLANK(InfoPro!P4),\"\",InfoPro!P4)","v":16.452999999999999},3159913821,2826398766.5474062,2528084764.353673,2261256497.6329818,2022590785.0026667,1809115192.3100777,1618171012.7997117,1447380154.5614598,1294615522.86356,1157974528.5005007,1035755392.2186948,926435950.1061672,828654695.98047161,741193824.66947389,662964064.99952936,24320504973.546379,810683.49911821261]
[{"$f":"IF(ISBLANK(InfoPro!A5),\"\",InfoPro!A5)","v":""},{"$f":"IF(ISBLANK(InfoPro!B5),\"\",InfoPro!B5)","v":""},{"$f":"IF(ISBLANK(InfoPro!E5),\"\",InfoPro!E5)","v":""},{"$f":"IF(ISBLANK(InfoPro!F5),\"\",InfoPro!F5)","v":""},{"$f":"IF(ISBLANK(InfoPro!I5),\"\",YEAR(InfoPro!I5)-$F$3)","v":""},{"$f":"IF(ISBLANK(InfoPro!P5),\"\",InfoPro!P5)","v":""},"","","","","","","","","","","","","","","","",""]
[{"$f":"IF(ISBLANK(InfoPro!A6),\"\",InfoPro!A6)","v":""},{"$f":"IF(ISBLANK(InfoPro!B6),\"\",InfoPro!B6)","v":""},{"$f":"IF(ISBLANK(InfoPro!E6),\"\",InfoPro!E6)","v":""},{"$f":"IF(ISBLANK(InfoPro!F6),\"\",InfoPro!F6)","v":""},{"$f":"IF(ISBLANK(InfoPro!I6),\"\",YEAR(InfoPro!I6)-$F$3)","v":""},{"$f":"IF(ISBLANK(InfoPro!P6),\"\",InfoPro!P6)","v":""},"","","","","","","","","","","","","","","","",""]
[{"$f":"IF(ISBLANK(InfoPro!A7),\"\",InfoPro!A7)","v":""},{"$f":"IF(ISBLANK(InfoPro!B7),\"\",InfoPro!B7)","v":""},{"$f":"IF(ISBLANK(InfoPro!E7),\"\",InfoPro!E7)","v":""},{"$f":"IF(ISBLANK(InfoPro!F7),\"\",InfoPro!F7)","v":""},{"$f":"IF(ISBLANK(InfoPro!I7),\"\",YEAR(InfoPro!I7)-$F$3)","v":""},{"$f":"IF(ISBLANK(InfoPro!P7),\"\",InfoPro!P7)","v":""},"","","","","","","","","","","","","","","","",""]
[{"$f":"IF(ISBLANK(InfoPro!A8),\"\",InfoPro!A8)","v":""},{"$f":"IF(ISBLANK(InfoPro!B8),\"\",InfoPro!B8)","v":""},{"$f":"IF(ISBLANK(InfoPro!E8),\"\",InfoPro!E8)","v":""},{"$f":"IF(ISBLANK(InfoPro!F8),\"\",InfoPro!F8)","v":""},{"$f":"IF(ISBLANK(InfoPro!I8),\"\",YEAR(InfoPro!I8)-$F$3)","v":""},{"$f":"IF(ISBLANK(InfoPro!P8),\"\",InfoPro!P8)","v":""},"","","","","","","","","","","","","","","","",""]
[{"$f":"IF(ISBLANK(InfoPro!A9),\"\",InfoPro!A9)","v":""},{"$f":"IF(ISBLANK(InfoPro!B9),\"\",InfoPro!B9)","v":""},{"$f":"IF(ISBLANK(InfoPro!E9),\"\",InfoPro!E9)","v":""},{"$f":"IF(ISBLANK(InfoPro!F9),\"\",InfoPro!F9)","v":""},{"$f":"IF(ISBLANK(InfoPro!I9),\"\",YEAR(InfoPro!I9)-$F$3)","v":""},{"$f":"IF(ISBLANK(InfoPro!P9),\"\",InfoPro!P9)","v":""},"","","","","","","","","","","","","","","","",""]
[{"$f":"IF(ISBLANK(InfoPro!A10),\"\",InfoPro!A10)","v":""},{"$f":"IF(ISBLANK(InfoPro!B10),\"\",InfoPro!B10)","v":""},{"$f":"IF(ISBLANK(InfoPro!E10),\"\",InfoPro!E10)","v":""},{"$f":"IF(ISBLANK(InfoPro!F10),\"\",InfoPro!F10)","v":""},{"$f":"IF(ISBLANK(InfoPro!I10),\"\",YEAR(InfoPro!I10)-$F$3)","v":""},{"$f":"IF(ISBLANK(InfoPro!P10),\"\",InfoPro!P10)","v":""},"","","","","","","","","","","","","","","","",""]
[{"$f":"IF(ISBLANK(InfoPro!A11),\"\",InfoPro!A11)","v":""},{"$f":"IF(ISBLANK(InfoPro!B11),\"\",InfoPro!B11)","v":""},{"$f":"IF(ISBLANK(InfoPro!E11),\"\",InfoPro!E11)","v":""},{"$f":"IF(ISBLANK(InfoPro!F11),\"\",InfoPro!F11)","v":""},{"$f":"IF(ISBLANK(InfoPro!I11),\"\",YEAR(InfoPro!I11)-$F$3)","v":""},{"$f":"IF(ISBLANK(InfoPro!P11),\"\",InfoPro!P11)","v":""},"","","","","","","","","","","","","","","","",""]
[{"$f":"IF(ISBLANK(InfoPro!A12),\"\",InfoPro!A12)","v":""},{"$f":"IF(ISBLANK(InfoPro!B12),\"\",InfoPro!B12)","v":""},{"$f":"IF(ISBLANK(InfoPro!E12),\"\",InfoPro!E12)","v":""},{"$f":"IF(ISBLANK(InfoPro!F12),\"\",InfoPro!F12)","v":""},{"$f":"IF(ISBLANK(InfoPro!I12),\"\",YEAR(InfoPro!I12)-$F$3)","v":""},{"$f":"IF(ISBLANK(InfoPro!P12),\"\",InfoPro!P12)","v":""},{"$f":"IF($F18=\"\",\"\",(1/(1+$C$3)^(G$6+$E18))*$F18*$C$2)","v":""},"","","","","","","","","","","","","","","",""]
[{"$f":"IF(ISBLANK(InfoPro!A13),\"\",InfoPro!A13)","v":""},{"$f":"IF(ISBLANK(InfoPro!B13),\"\",InfoPro!B13)","v":""},{"$f":"IF(ISBLANK(InfoPro!E13),\"\",InfoPro!E13)","v":""},{"$f":"IF(ISBLANK(InfoPro!F13),\"\",InfoPro!F13)","v":""},{"$f":"IF(ISBLANK(InfoPro!I13),\"\",YEAR(InfoPro!I13)-$F$3)","v":""},{"$f":"IF(ISBLANK(InfoPro!P13),\"\",InfoPro!P13)","v":""},"","","","","","","","","","","","","","","","",""]
[{"$f":"IF(ISBLANK(InfoPro!A14),\"\",InfoPro!A14)","v":""},{"$f":"IF(ISBLANK(InfoPro!B14),\"\",InfoPro!B14)","v":""},{"$f":"IF(ISBLANK(InfoPro!E14),\"\",InfoPro!E14)","v":""},{"$f":"IF(ISBLANK(InfoPro!F14),\"\",InfoPro!F14)","v":""},{"$f":"IF(ISBLANK(InfoPro!I14),\"\",YEAR(InfoPro!I14)-$F$3)","v":""},{"$f":"IF(ISBLANK(InfoPro!P14),\"\",InfoPro!P14)","v":""},"","","","","","","","","","","","","","","","",""]
[{"$f":"IF(ISBLANK(InfoPro!A15),\"\",InfoPro!A15)","v":""},{"$f":"IF(ISBLANK(InfoPro!B15),\"\",InfoPro!B15)","v":""},{"$f":"IF(ISBLANK(InfoPro!E15),\"\",InfoPro!E15)","v":""},{"$f":"IF(ISBLANK(InfoPro!F15),\"\",InfoPro!F15)","v":""},{"$f":"IF(ISBLANK(InfoPro!I15),\"\",YEAR(InfoPro!I15)-$F$3)","v":""},{"$f":"IF(ISBLANK(InfoPro!P15),\"\",InfoPro!P15)","v":""},"","","","","","","","","","","","","","","","",""]
[{"$f":"IF(ISBLANK(InfoPro!A16),\"\",InfoPro!A16)","v":""},{"$f":"IF(ISBLANK(InfoPro!B16),\"\",InfoPro!B16)","v":""},{"$f":"IF(ISBLANK(InfoPro!E16),\"\",InfoPro!E16)","v":""},{"$f":"IF(ISBLANK(InfoPro!F16),\"\",InfoPro!F16)","v":""},{"$f":"IF(ISBLANK(InfoPro!I16),\"\",YEAR(InfoPro!I16)-$F$3)","v":""},{"$f":"IF(ISBLANK(InfoPro!P16),\"\",InfoPro!P16)","v":""},"","","","","","","","","","","","","","","","",""]
[{"$f":"IF(ISBLANK(InfoPro!A17),\"\",InfoPro!A17)","v":""},{"$f":"IF(ISBLANK(InfoPro!B17),\"\",InfoPro!B17)","v":""},{"$f":"IF(ISBLANK(InfoPro!E17),\"\",InfoPro!E17)","v":""},{"$f":"IF(ISBLANK(InfoPro!F17),\"\",InfoPro!F17)","v":""},{"$f":"IF(ISBLANK(InfoPro!I17),\"\",YEAR(InfoPro!I17)-$F$3)","v":""},{"$f":"IF(ISBLANK(InfoPro!P17),\"\",InfoPro!P17)","v":""},"","","","","","","","","","","","","","","","",""]
[{"$f":"IF(ISBLANK(InfoPro!A18),\"\",InfoPro!A18)","v":""},{"$f":"IF(ISBLANK(InfoPro!B18),\"\",InfoPro!B18)","v":""},{"$f":"IF(ISBLANK(InfoPro!E18),\"\",InfoPro!E18)","v":""},{"$f":"IF(ISBLANK(InfoPro!F18),\"\",InfoPro!F18)","v":""},{"$f":"IF(ISBLANK(InfoPro!I18),\"\",YEAR(InfoPro!I18)-$F$3)","v":""},{"$f":"IF(ISBLANK(InfoPro!P18),\"\",InfoPro!P18)","v":""},"","","","","","","","","","","","","","","","",""]
[{"$f":"IF(ISBLANK(InfoPro!A19),\"\",InfoPro!A19)","v":""},{"$f":"IF(ISBLANK(InfoPro!B19),\"\",InfoPro!B19)","v":""},{"$f":"IF(ISBLANK(InfoPro!E19),\"\",InfoPro!E19)","v":""},{"$f":"IF(ISBLANK(InfoPro!F19),\"\",InfoPro!F19)","v":""},{"$f":"IF(ISBLANK(InfoPro!I19),\"\",YEAR(InfoPro!I19)-$F$3)","v":""},{"$f":"IF(ISBLANK(InfoPro!P19),\"\",InfoPro!P19)","v":""},"","","","","","","","","","","","","","","","",""]
[{"$f":"IF(ISBLANK(InfoPro!A20),\"\",InfoPro!A20)","v":""},{"$f":"IF(ISBLANK(InfoPro!B20),\"\",InfoPro!B20)","v":""},{"$f":"IF(ISBLANK(InfoPro!E20),\"\",InfoPro!E20)","v":""},{"$f":"IF(ISBLANK(InfoPro!F20),\"\",InfoPro!F20)","v":""},{"$f":"IF(ISBLANK(InfoPro!I20),\"\",YEAR(InfoPro!I20)-$F$3)","v":""},{"$f":"IF(ISBLANK(InfoPro!P20),\"\",InfoPro!P20)","v":""},"","","","","","","","","","","","","","","","",""]
[{"$f":"IF(ISBLANK(InfoPro!A21),\"\",InfoPro!A21)","v":""},{"$f":"IF(ISBLANK(InfoPro!B21),\"\",InfoPro!B21)","v":""},{"$f":"IF(ISBLANK(InfoPro!E21),\"\",InfoPro!E21)","v":""},{"$f":"IF(ISBLANK(InfoPro!F21),\"\",InfoPro!F21)","v":""},{"$f":"IF(ISBLANK(InfoPro!I21),\"\",YEAR(InfoPro!I21)-$F$3)","v":""},{"$f":"IF(ISBLANK(InfoPro!P21),\"\",InfoPro!P21)","v":""},"","","","","","","","","","","","","","","","",""]
[{"$f":"IF(ISBLANK(InfoPro!A22),\"\",InfoPro!A22)","v":""},{"$f":"IF(ISBLANK(InfoPro!B22),\"\",InfoPro!B22)","v":""},{"$f":"IF(ISBLANK(InfoPro!E22),\"\",InfoPro!E22)","v":""},{"$f":"IF(ISBLANK(InfoPro!F22),\"\",InfoPro!F22)","v":""},{"$f":"IF(ISBLANK(InfoPro!I22),\"\",YEAR(InfoPro!I22)-$F$3)","v":""},{"$f":"IF(ISBLANK(InfoPro!P22),\"\",InfoPro!P22)","v":""},{"$f":"IF($F28=\"\",\"\",(1/(1+$C$3)^(G$6+$E28))*$F28*$C$2)","v":""},"","","","","","","","","","","","","","","",""]
[{"$f":"IF(ISBLANK(InfoPro!A23),\"\",InfoPro!A23)","v":""},{"$f":"IF(ISBLANK(InfoPro!B23),\"\",InfoPro!B23)","v":""},{"$f":"IF(ISBLANK(InfoPro!E23),\"\",InfoPro!E23)","v":""},{"$f":"IF(ISBLANK(InfoPro!F23),\"\",InfoPro!F23)","v":""},{"$f":"IF(ISBLANK(InfoPro!I23),\"\",YEAR(InfoPro!I23)-$F$3)","v":""},{"$f":"IF(ISBLANK(InfoPro!P23),\"\",InfoPro!P23)","v":""},"","","","","","","","","","","","","","","","",""]
[{"$f":"IF(ISBLANK(InfoPro!A24),\"\",InfoPro!A24)","v":""},{"$f":"IF(ISBLANK(InfoPro!B24),\"\",InfoPro!B24)","v":""},{"$f":"IF(ISBLANK(InfoPro!E24),\"\",InfoPro!E24)","v":""},{"$f":"IF(ISBLANK(InfoPro!F24),\"\",InfoPro!F24)","v":""},{"$f":"IF(ISBLANK(InfoPro!I24),\"\",YEAR(InfoPro!I24)-$F$3)","v":""},{"$f":"IF(ISBLANK(InfoPro!P24),\"\",InfoPro!P24)","v":""},"","","","","","","","","","","","","","","","",""]
[{"$f":"IF(ISBLANK(InfoPro!A25),\"\",InfoPro!A25)","v":""},{"$f":"IF(ISBLANK(InfoPro!B25),\"\",InfoPro!B25)","v":""},{"$f":"IF(ISBLANK(InfoPro!E25),\"\",InfoPro!E25)","v":""},{"$f":"IF(ISBLANK(InfoPro!F25),\"\",InfoPro!F25)","v":""},{"$f":"IF(ISBLANK(InfoPro!I25),\"\",YEAR(InfoPro!I25)-$F$3)","v":""},{"$f":"IF(ISBLANK(InfoPro!P25),\"\",InfoPro!P25)","v":""},"","","","","","","","","","","","","","","","",""]
[{"$f":"IF(ISBLANK(InfoPro!A26),\"\",InfoPro!A26)","v":""},{"$f":"IF(ISBLANK(InfoPro!B26),\"\",InfoPro!B26)","v":""},{"$f":"IF(ISBLANK(InfoPro!E26),\"\",InfoPro!E26)","v":""},{"$f":"IF(ISBLANK(InfoPro!F26),\"\",InfoPro!F26)","v":""},{"$f":"IF(ISBLANK(InfoPro!I26),\"\",YEAR(InfoPro!I26)-$F$3)","v":""},{"$f":"IF(ISBLANK(InfoPro!P26),\"\",InfoPro!P26)","v":""},"","","","","","","","","","","","","","","","",""]
[{"$f":"IF(ISBLANK(InfoPro!A27),\"\",InfoPro!A27)","v":""},{"$f":"IF(ISBLANK(InfoPro!B27),\"\",InfoPro!B27)","v":""},{"$f":"IF(ISBLANK(InfoPro!E27),\"\",InfoPro!E27)","v":""},{"$f":"IF(ISBLANK(InfoPro!F27),\"\",InfoPro!F27)","v":""},{"$f":"IF(ISBLANK(InfoPro!I27),\"\",YEAR(InfoPro!I27)-$F$3)","v":""},{"$f":"IF(ISBLANK(InfoPro!P27),\"\",InfoPro!P27)","v":""},"","","","","","","","","","","","","","","","",""]
[{"$f":"IF(ISBLANK(InfoPro!A28),\"\",InfoPro!A28)","v":""},{"$f":"IF(ISBLANK(InfoPro!B28),\"\",InfoPro!B28)","v":""},{"$f":"IF(ISBLANK(InfoPro!E28),\"\",InfoPro!E28)","v":""},{"$f":"IF(ISBLANK(InfoPro!F28),\"\",InfoPro!F28)","v":""},{"$f":"IF(ISBLANK(InfoPro!I28),\"\",YEAR(InfoPro!I28)-$F$3)","v":""},{"$f":"IF(ISBLANK(InfoPro!P28),\"\",InfoPro!P28)","v":""},"","","","","","","","","","","","","","","","",""]
[{"$f":"IF(ISBLANK(InfoPro!A29),\"\",InfoPro!A29)","v":""},{"$f":"IF(ISBLANK(InfoPro!B29),\"\",InfoPro!B29)","v":""},{"$f":"IF(ISBLANK(InfoPro!E29),\"\",InfoPro!E29)","v":""},{"$f":"IF(ISBLANK(InfoPro!F29),\"\",InfoPro!F29)","v":""},{"$f":"IF(ISBLANK(InfoPro!I29),\"\",YEAR(InfoPro!I29)-$F$3)","v":""},{"$f":"IF(ISBLANK(InfoPro!P29),\"\",InfoPro!P29)","v":""},"","","","","","","","","","","","","","","","",""]
[{"$f":"IF(ISBLANK(InfoPro!A30),\"\",InfoPro!A30)","v":""},{"$f":"IF(ISBLANK(InfoPro!B30),\"\",InfoPro!B30)","v":""},{"$f":"IF(ISBLANK(InfoPro!E30),\"\",InfoPro!E30)","v":""},{"$f":"IF(ISBLANK(InfoPro!F30),\"\",InfoPro!F30)","v":""},{"$f":"IF(ISBLANK(InfoPro!I30),\"\",YEAR(InfoPro!I30)-$F$3)","v":""},{"$f":"IF(ISBLANK(InfoPro!P30),\"\",InfoPro!P30)","v":""},"","","","","","","","","","","","","","","","",""]
[{"$f":"IF(ISBLANK(InfoPro!A31),\"\",InfoPro!A31)","v":""},{"$f":"IF(ISBLANK(InfoPro!B31),\"\",InfoPro!B31)","v":""},{"$f":"IF(ISBLANK(InfoPro!E31),\"\",InfoPro!E31)","v":""},{"$f":"IF(ISBLANK(InfoPro!F31),\"\",InfoPro!F31)","v":""},{"$f":"IF(ISBLANK(InfoPro!I31),\"\",YEAR(InfoPro!I31)-$F$3)","v":""},{"$f":"IF(ISBLANK(InfoPro!P31),\"\",InfoPro!P31)","v":""},"","","","","","","","","","","","","","","","",""]
[{"$f":"IF(ISBLANK(InfoPro!A32),\"\",InfoPro!A32)","v":""},{"$f":"IF(ISBLANK(InfoPro!B32),\"\",InfoPro!B32)","v":""},{"$f":"IF(ISBLANK(InfoPro!E32),\"\",InfoPro!E32)","v":""},{"$f":"IF(ISBLANK(InfoPro!F32),\"\",InfoPro!F32)","v":""},{"$f":"IF(ISBLANK(InfoPro!I32),\"\",YEAR(InfoPro!I32)-$F$3)","v":""},{"$f":"IF(ISBLANK(InfoPro!P32),\"\",InfoPro!P32)","v":""},{"$f":"IF($F38=\"\",\"\",(1/(1+$C$3)^(G$6+$E38))*$F38*$C$2)","v":""},"","","","","","","","","","","","","","","",""]
[{"$f":"IF(ISBLANK(InfoPro!A33),\"\",InfoPro!A33)","v":""},{"$f":"IF(ISBLANK(InfoPro!B33),\"\",InfoPro!B33)","v":""},{"$f":"IF(ISBLANK(InfoPro!E33),\"\",InfoPro!E33)","v":""},{"$f":"IF(ISBLANK(InfoPro!F33),\"\",InfoPro!F33)","v":""},{"$f":"IF(ISBLANK(InfoPro!I33),\"\",YEAR(InfoPro!I33)-$F$3)","v":""},{"$f":"IF(ISBLANK(InfoPro!P33),\"\",InfoPro!P33)","v":""},"","","","","","","","","","","","","","","","",""]
[{"$f":"IF(ISBLANK(InfoPro!A34),\"\",InfoPro!A34)","v":""},{"$f":"IF(ISBLANK(InfoPro!B34),\"\",InfoPro!B34)","v":""},{"$f":"IF(ISBLANK(InfoPro!E34),\"\",InfoPro!E34)","v":""},{"$f":"IF(ISBLANK(InfoPro!F34),\"\",InfoPro!F34)","v":""},{"$f":"IF(ISBLANK(InfoPro!I34),\"\",YEAR(InfoPro!I34)-$F$3)","v":""},{"$f":"IF(ISBLANK(InfoPro!P34),\"\",InfoPro!P34)","v":""},"","","","","","","","","","","","","","","","",""]
[{"$f":"IF(ISBLANK(InfoPro!A35),\"\",InfoPro!A35)","v":""},{"$f":"IF(ISBLANK(InfoPro!B35),\"\",InfoPro!B35)","v":""},{"$f":"IF(ISBLANK(InfoPro!E35),\"\",InfoPro!E35)","v":""},{"$f":"IF(ISBLANK(InfoPro!F35),\"\",InfoPro!F35)","v":""},{"$f":"IF(ISBLANK(InfoPro!I35),\"\",YEAR(InfoPro!I35)-$F$3)","v":""},{"$f":"IF(ISBLANK(InfoPro!P35),\"\",InfoPro!P35)","v":""},"","","","","","","","","","","","","","","","",""]
[{"$f":"IF(ISBLANK(InfoPro!A36),\"\",InfoPro!A36)","v":""},{"$f":"IF(ISBLANK(InfoPro!B36),\"\",InfoPro!B36)","v":""},{"$f":"IF(ISBLANK(InfoPro!E36),\"\",InfoPro!E36)","v":""},{"$f":"IF(ISBLANK(InfoPro!F36),\"\",InfoPro!F36)","v":""},{"$f":"IF(ISBLANK(InfoPro!I36),\"\",YEAR(InfoPro!I36)-$F$3)","v":""},{"$f":"IF(ISBLANK(InfoPro!P36),\"\",InfoPro!P36)","v":""},"","","","","","","","","","","","","","","","",""]
[{"$f":"IF(ISBLANK(InfoPro!A37),\"\",InfoPro!A37)","v":""},{"$f":"IF(ISBLANK(InfoPro!B37),\"\",InfoPro!B37)","v":""},{"$f":"IF(ISBLANK(InfoPro!E37),\"\",InfoPro!E37)","v":""},{"$f":"IF(ISBLANK(InfoPro!F37),\"\",InfoPro!F37)","v":""},{"$f":"IF(ISBLANK(InfoPro!I37),\"\",YEAR(InfoPro!I37)-$F$3)","v":""},{"$f":"IF(ISBLANK(InfoPro!P37),\"\",InfoPro!P37)","v":""},"","","","","","","","","","","","","","","","",""]
[{"$f":"IF(ISBLANK(InfoPro!A38),\"\",InfoPro!A38)","v":""},{"$f":"IF(ISBLANK(InfoPro!B38),\"\",InfoPro!B38)","v":""},{"$f":"IF(ISBLANK(InfoPro!E38),\"\",InfoPro!E38)","v":""},{"$f":"IF(ISBLANK(InfoPro!F38),\"\",InfoPro!F38)","v":""},{"$f":"IF(ISBLANK(InfoPro!I38),\"\",YEAR(InfoPro!I38)-$F$3)","v":""},{"$f":"IF(ISBLANK(InfoPro!P38),\"\",InfoPro!P38)","v":""},"","","","","","","","","","","","","","","","",""]
[{"$f":"IF(ISBLANK(InfoPro!A39),\"\",InfoPro!A39)","v":""},{"$f":"IF(ISBLANK(InfoPro!B39),\"\",InfoPro!B39)","v":""},{"$f":"IF(ISBLANK(InfoPro!E39),\"\",InfoPro!E39)","v":""},{"$f":"IF(ISBLANK(InfoPro!F39),\"\",InfoPro!F39)","v":""},{"$f":"IF(ISBLANK(InfoPro!I39),\"\",YEAR(InfoPro!I39)-$F$3)","v":""},{"$f":"IF(ISBLANK(InfoPro!P39),\"\",InfoPro!P39)","v":""},"","","","","","","","","","","","","","","","",""]
[{"$f":"IF(ISBLANK(InfoPro!A40),\"\",InfoPro!A40)","v":""},{"$f":"IF(ISBLANK(InfoPro!B40),\"\",InfoPro!B40)","v":""},{"$f":"IF(ISBLANK(InfoPro!E40),\"\",InfoPro!E40)","v":""},{"$f":"IF(ISBLANK(InfoPro!F40),\"\",InfoPro!F40)","v":""},{"$f":"IF(ISBLANK(InfoPro!I40),\"\",YEAR(InfoPro!I40)-$F$3)","v":""},{"$f":"IF(ISBLANK(InfoPro!P40),\"\",InfoPro!P40)","v":""},"","","","","","","","","","","","","","","","",""]
[{"$f":"IF(ISBLANK(InfoPro!A41),\"\",InfoPro!A41)","v":""},{"$f":"IF(ISBLANK(InfoPro!B41),\"\",InfoPro!B41)","v":""},{"$f":"IF(ISBLANK(InfoPro!E41),\"\",InfoPro!E41)","v":""},{"$f":"IF(ISBLANK(InfoPro!F41),\"\",InfoPro!F41)","v":""},{"$f":"IF(ISBLANK(InfoPro!I41),\"\",YEAR(InfoPro!I41)-$F$3)","v":""},{"$f":"IF(ISBLANK(InfoPro!P41),\"\",InfoPro!P41)","v":""},"","","","","","","","","","","","","","","","",""]
[{"$f":"IF(ISBLANK(InfoPro!A42),\"\",InfoPro!A42)","v":""},{"$f":"IF(ISBLANK(InfoPro!B42),\"\",InfoPro!B42)","v":""},{"$f":"IF(ISBLANK(InfoPro!E42),\"\",InfoPro!E42)","v":""},{"$f":"IF(ISBLANK(InfoPro!F42),\"\",InfoPro!F42)","v":""},{"$f":"IF(ISBLANK(InfoPro!I42),\"\",YEAR(InfoPro!I42)-$F$3)","v":""},{"$f":"IF(ISBLANK(InfoPro!P42),\"\",InfoPro!P42)","v":""},{"$f":"IF($F48=\"\",\"\",(1/(1+$C$3)^(G$6+$E48))*$F48*$C$2)","v":""},"","","","","","","","","","","","","","","",""]
[{"$f":"IF(ISBLANK(InfoPro!A43),\"\",InfoPro!A43)","v":""},{"$f":"IF(ISBLANK(InfoPro!B43),\"\",InfoPro!B43)","v":""},{"$f":"IF(ISBLANK(InfoPro!E43),\"\",InfoPro!E43)","v":""},{"$f":"IF(ISBLANK(InfoPro!F43),\"\",InfoPro!F43)","v":""},{"$f":"IF(ISBLANK(InfoPro!I43),\"\",YEAR(InfoPro!I43)-$F$3)","v":""},{"$f":"IF(ISBLANK(InfoPro!P43),\"\",InfoPro!P43)","v":""},"","","","","","","","","","","","","","","","",""]
[{"$f":"IF(ISBLANK(InfoPro!A44),\"\",InfoPro!A44)","v":""},{"$f":"IF(ISBLANK(InfoPro!B44),\"\",InfoPro!B44)","v":""},{"$f":"IF(ISBLANK(InfoPro!E44),\"\",InfoPro!E44)","v":""},{"$f":"IF(ISBLANK(InfoPro!F44),\"\",InfoPro!F44)","v":""},{"$f":"IF(ISBLANK(InfoPro!I44),\"\",YEAR(InfoPro!I44)-$F$3)","v":""},{"$f":"IF(ISBLANK(InfoPro!P44),\"\",InfoPro!P44)","v":""},"","","","","","","","","","","","","","","","",""]
[{"$f":"IF(ISBLANK(InfoPro!A45),\"\",InfoPro!A45)","v":""},{"$f":"IF(ISBLANK(InfoPro!B45),\"\",InfoPro!B45)","v":""},{"$f":"IF(ISBLANK(InfoPro!E45),\"\",InfoPro!E45)","v":""},{"$f":"IF(ISBLANK(InfoPro!F45),\"\",InfoPro!F45)","v":""},{"$f":"IF(ISBLANK(InfoPro!I45),\"\",YEAR(InfoPro!I45)-$F$3)","v":""},{"$f":"IF(ISBLANK(InfoPro!P45),\"\",InfoPro!P45)","v":""},"","","","","","","","","","","","","","","","",""]
[{"$f":"IF(ISBLANK(InfoPro!A46),\"\",InfoPro!A46)","v":""},{"$f":"IF(ISBLANK(InfoPro!B46),\"\",InfoPro!B46)","v":""},{"$f":"IF(ISBLANK(InfoPro!E46),\"\",InfoPro!E46)","v":""},{"$f":"IF(ISBLANK(InfoPro!F46),\"\",InfoPro!F46)","v":""},{"$f":"IF(ISBLANK(InfoPro!I46),\"\",YEAR(InfoPro!I46)-$F$3)","v":""},{"$f":"IF(ISBLANK(InfoPro!P46),\"\",InfoPro!P46)","v":""},"","","","","","","","","","","","","","","","",""]
[{"$f":"IF(ISBLANK(InfoPro!A47),\"\",InfoPro!A47)","v":""},{"$f":"IF(ISBLANK(InfoPro!B47),\"\",InfoPro!B47)","v":""},{"$f":"IF(ISBLANK(InfoPro!E47),\"\",InfoPro!E47)","v":""},{"$f":"IF(ISBLANK(InfoPro!F47),\"\",InfoPro!F47)","v":""},{"$f":"IF(ISBLANK(InfoPro!I47),\"\",YEAR(InfoPro!I47)-$F$3)","v":""},{"$f":"IF(ISBLANK(InfoPro!P47),\"\",InfoPro!P47)","v":""},"","","","","","","","","","","","","","","","",""]
[{"$f":"IF(ISBLANK(InfoPro!A48),\"\",InfoPro!A48)","v":""},{"$f":"IF(ISBLANK(InfoPro!B48),\"\",InfoPro!B48)","v":""},{"$f":"IF(ISBLANK(InfoPro!E48),\"\",InfoPro!E48)","v":""},{"$f":"IF(ISBLANK(InfoPro!F48),\"\",InfoPro!F48)","v":""},{"$f":"IF(ISBLANK(InfoPro!I48),\"\",YEAR(InfoPro!I48)-$F$3)","v":""},{"$f":"IF(ISBLANK(InfoPro!P48),\"\",InfoPro!P48)","v":""},"","","","","","","","","","","","","","","","",""]
[{"$f":"IF(ISBLANK(InfoPro!A49),\"\",InfoPro!A49)","v":""},{"$f":"IF(ISBLANK(InfoPro!B49),\"\",InfoPro!B49)","v":""},{"$f":"IF(ISBLANK(InfoPro!E49),\"\",InfoPro!E49)","v":""},{"$f":"IF(ISBLANK(InfoPro!F49),\"\",InfoPro!F49)","v":""},{"$f":"IF(ISBLANK(InfoPro!I49),\"\",YEAR(InfoPro!I49)-$F$3)","v":""},{"$f":"IF(ISBLANK(InfoPro!P49),\"\",InfoPro!P49)","v":""},"","","","","","","","","","","","","","","","",""]
[{"$f":"IF(ISBLANK(InfoPro!A50),\"\",InfoPro!A50)","v":""},{"$f":"IF(ISBLANK(InfoPro!B50),\"\",InfoPro!B50)","v":""},{"$f":"IF(ISBLANK(InfoPro!E50),\"\",InfoPro!E50)","v":""},{"$f":"IF(ISBLANK(InfoPro!F50),\"\",InfoPro!F50)","v":""},{"$f":"IF(ISBLANK(InfoPro!I50),\"\",YEAR(InfoPro!I50)-$F$3)","v":""},{"$f":"IF(ISBLANK(InfoPro!P50),\"\",InfoPro!P50)","v":""},"","","","","","","","","","","","","","","","",""]
[{"$f":"IF(ISBLANK(InfoPro!A51),\"\",InfoPro!A51)","v":""},{"$f":"IF(ISBLANK(InfoPro!B51),\"\",InfoPro!B51)","v":""},{"$f":"IF(ISBLANK(InfoPro!E51),\"\",InfoPro!E51)","v":""},{"$f":"IF(ISBLANK(InfoPro!F51),\"\",InfoPro!F51)","v":""},{"$f":"IF(ISBLANK(InfoPro!I51),\"\",YEAR(InfoPro!I51)-$F$3)","v":""},{"$f":"IF(ISBLANK(InfoPro!P51),\"\",InfoPro!P51)","v":""},"","","","","","","","","","","","","","","","",""]
[{"$f":"IF(ISBLANK(InfoPro!A52),\"\",InfoPro!A52)","v":""},{"$f":"IF(ISBLANK(InfoPro!B52),\"\",InfoPro!B52)","v":""},{"$f":"IF(ISBLANK(InfoPro!E52),\"\",InfoPro!E52)","v":""},{"$f":"IF(ISBLANK(InfoPro!F52),\"\",InfoPro!F52)","v":""},{"$f":"IF(ISBLANK(InfoPro!I52),\"\",YEAR(InfoPro!I52)-$F$3)","v":""},{"$f":"IF(ISBLANK(InfoPro!P52),\"\",InfoPro!P52)","v":""},{"$f":"IF($F58=\"\",\"\",(1/(1+$C$3)^(G$6+$E58))*$F58*$C$2)","v":""},"","","","","","","","","","","","","","","",""]
[{"$f":"IF(ISBLANK(InfoPro!A53),\"\",InfoPro!A53)","v":""},{"$f":"IF(ISBLANK(InfoPro!B53),\"\",InfoPro!B53)","v":""},{"$f":"IF(ISBLANK(InfoPro!E53),\"\",InfoPro!E53)","v":""},{"$f":"IF(ISBLANK(InfoPro!F53),\"\",InfoPro!F53)","v":""},{"$f":"IF(ISBLANK(InfoPro!I53),\"\",YEAR(InfoPro!I53)-$F$3)","v":""},{"$f":"IF(ISBLANK(InfoPro!P53),\"\",InfoPro!P53)","v":""},"","","","","","","","","","","","","","","","",""]
[{"$f":"IF(ISBLANK(InfoPro!A54),\"\",InfoPro!A54)","v":""},{"$f":"IF(ISBLANK(InfoPro!B54),\"\",InfoPro!B54)","v":""},{"$f":"IF(ISBLANK(InfoPro!E54),\"\",InfoPro!E54)","v":""},{"$f":"IF(ISBLANK(InfoPro!F54),\"\",InfoPro!F54)","v":""},{"$f":"IF(ISBLANK(InfoPro!I54),\"\",YEAR(InfoPro!I54)-$F$3)","v":""},{"$f":"IF(ISBLANK(InfoPro!P54),\"\",InfoPro!P54)","v":""},"","","","","","","","","","","","","","","","",""]
[{"$f":"IF(ISBLANK(InfoPro!A55),\"\",InfoPro!A55)","v":""},{"$f":"IF(ISBLANK(InfoPro!B55),\"\",InfoPro!B55)","v":""},{"$f":"IF(ISBLANK(InfoPro!E55),\"\",InfoPro!E55)","v":""},{"$f":"IF(ISBLANK(InfoPro!F55),\"\",InfoPro!F55)","v":""},{"$f":"IF(ISBLANK(InfoPro!I55),\"\",YEAR(InfoPro!I55)-$F$3)","v":""},{"$f":"IF(ISBLANK(InfoPro!P55),\"\",InfoPro!P55)","v":""},"","","","","","","","","","","","","","","","",""]
[{"$f":"IF(ISBLANK(InfoPro!A56),\"\",InfoPro!A56)","v":""},{"$f":"IF(ISBLANK(InfoPro!B56),\"\",InfoPro!B56)","v":""},{"$f":"IF(ISBLANK(InfoPro!E56),\"\",InfoPro!E56)","v":""},{"$f":"IF(ISBLANK(InfoPro!F56),\"\",InfoPro!F56)","v":""},{"$f":"IF(ISBLANK(InfoPro!I56),\"\",YEAR(InfoPro!I56)-$F$3)","v":""},{"$f":"IF(ISBLANK(InfoPro!P56),\"\",InfoPro!P56)","v":""},"","","","","","","","","","","","","","","","",""]
[{"$f":"IF(ISBLANK(InfoPro!A57),\"\",InfoPro!A57)","v":""},{"$f":"IF(ISBLANK(InfoPro!B57),\"\",InfoPro!B57)","v":""},{"$f":"IF(ISBLANK(InfoPro!E57),\"\",InfoPro!E57)","v":""},{"$f":"IF(ISBLANK(InfoPro!F57),\"\",InfoPro!F57)","v":""},{"$f":"IF(ISBLANK(InfoPro!I57),\"\",YEAR(InfoPro!I57)-$F$3)","v":""},{"$f":"IF(ISBLANK(InfoPro!P57),\"\",InfoPro!P57)","v":""},"","","","","","","","","","","","","","","","",""]
[{"$f":"IF(ISBLANK(InfoPro!A58),\"\",InfoPro!A58)","v":""},{"$f":"IF(ISBLANK(InfoPro!B58),\"\",InfoPro!B58)","v":""},{"$f":"IF(ISBLANK(InfoPro!E58),\"\",InfoPro!E58)","v":""},{"$f":"IF(ISBLANK(InfoPro!F58),\"\",InfoPro!F58)","v":""},{"$f":"IF(ISBLANK(InfoPro!I58),\"\",YEAR(InfoPro!I58)-$F$3)","v":""},{"$f":"IF(ISBLANK(InfoPro!P58),\"\",InfoPro!P58)","v":""},"","","","","","","","","","","","","","","","",""]
[{"$f":"IF(ISBLANK(InfoPro!A59),\"\",InfoPro!A59)","v":""},{"$f":"IF(ISBLANK(InfoPro!B59),\"\",InfoPro!B59)","v":""},{"$f":"IF(ISBLANK(InfoPro!E59),\"\",InfoPro!E59)","v":""},{"$f":"IF(ISBLANK(InfoPro!F59),\"\",InfoPro!F59)","v":""},{"$f":"IF(ISBLANK(InfoPro!I59),\"\",YEAR(InfoPro!I59)-$F$3)","v":""},{"$f":"IF(ISBLANK(InfoPro!P59),\"\",InfoPro!P59)","v":""},"","","","","","","","","","","","","","","","",""]
[{"$f":"IF(ISBLANK(InfoPro!A60),\"\",InfoPro!A60)","v":""},{"$f":"IF(ISBLANK(InfoPro!B60),\"\",InfoPro!B60)","v":""},{"$f":"IF(ISBLANK(InfoPro!E60),\"\",InfoPro!E60)","v":""},{"$f":"IF(ISBLANK(InfoPro!F60),\"\",InfoPro!F60)","v":""},{"$f":"IF(ISBLANK(InfoPro!I60),\"\",YEAR(InfoPro!I60)-$F$3)","v":""},{"$f":"IF(ISBLANK(InfoPro!P60),\"\",InfoPro!P60)","v":""},"","","","","","","","","","","","","","","","",""]
[{"$f":"IF(ISBLANK(InfoPro!A61),\"\",InfoPro!A61)","v":""},{"$f":"IF(ISBLANK(InfoPro!B61),\"\",InfoPro!B61)","v":""},{"$f":"IF(ISBLANK(InfoPro!E61),\"\",InfoPro!E61)","v":""},{"$f":"IF(ISBLANK(InfoPro!F61),\"\",InfoPro!F61)","v":""},{"$f":"IF(ISBLANK(InfoPro!I61),\"\",YEAR(InfoPro!I61)-$F$3)","v":""},{"$f":"IF(ISBLANK(InfoPro!P61),\"\",InfoPro!P61)","v":""},"","","","","","","","","","","","","","","","",""]
[{"$f":"IF(ISBLANK(InfoPro!A62),\"\",InfoPro!A62)","v":""},{"$f":"IF(ISBLANK(InfoPro!B62),\"\",InfoPro!B62)","v":""},{"$f":"IF(ISBLANK(InfoPro!E62),\"\",InfoPro!E62)","v":""},{"$f":"IF(ISBLANK(InfoPro!F62),\"\",InfoPro!F62)","v":""},{"$f":"IF(ISBLANK(InfoPro!I62),\"\",YEAR(InfoPro!I62)-$F$3)","v":""},{"$f":"IF(ISBLANK(InfoPro!P62),\"\",InfoPro!P62)","v":""},{"$f":"IF($F68=\"\",\"\",(1/(1+$C$3)^(G$6+$E68))*$F68*$C$2)","v":""},"","","","","","","","","","","","","","","",""]
[{"$f":"IF(ISBLANK(InfoPro!A63),\"\",InfoPro!A63)","v":""},{"$f":"IF(ISBLANK(InfoPro!B63),\"\",InfoPro!B63)","v":""},{"$f":"IF(ISBLANK(InfoPro!E63),\"\",InfoPro!E63)","v":""},{"$f":"IF(ISBLANK(InfoPro!F63),\"\",InfoPro!F63)","v":""},{"$f":"IF(ISBLANK(InfoPro!I63),\"\",YEAR(InfoPro!I63)-$F$3)","v":""},{"$f":"IF(ISBLANK(InfoPro!P63),\"\",InfoPro!P63)","v":""},"","","","","","","","","","","","","","","","",""]
[{"$f":"IF(ISBLANK(InfoPro!A64),\"\",InfoPro!A64)","v":""},{"$f":"IF(ISBLANK(InfoPro!B64),\"\",InfoPro!B64)","v":""},{"$f":"IF(ISBLANK(InfoPro!E64),\"\",InfoPro!E64)","v":""},{"$f":"IF(ISBLANK(InfoPro!F64),\"\",InfoPro!F64)","v":""},{"$f":"IF(ISBLANK(InfoPro!I64),\"\",YEAR(InfoPro!I64)-$F$3)","v":""},{"$f":"IF(ISBLANK(InfoPro!P64),\"\",InfoPro!P64)","v":""},"","","","","","","","","","","","","","","","",""]
[{"$f":"IF(ISBLANK(InfoPro!A65),\"\",InfoPro!A65)","v":""},{"$f":"IF(ISBLANK(InfoPro!B65),\"\",InfoPro!B65)","v":""},{"$f":"IF(ISBLANK(InfoPro!E65),\"\",InfoPro!E65)","v":""},{"$f":"IF(ISBLANK(InfoPro!F65),\"\",InfoPro!F65)","v":""},{"$f":"IF(ISBLANK(InfoPro!I65),\"\",YEAR(InfoPro!I65)-$F$3)","v":""},{"$f":"IF(ISBLANK(InfoPro!P65),\"\",InfoPro!P65)","v":""},"","","","","","","","","","","","","","","","",""]
[{"$f":"IF(ISBLANK(InfoPro!A66),\"\",InfoPro!A66)","v":""},{"$f":"IF(ISBLANK(InfoPro!B66),\"\",InfoPro!B66)","v":""},{"$f":"IF(ISBLANK(InfoPro!E66),\"\",InfoPro!E66)","v":""},{"$f":"IF(ISBLANK(InfoPro!F66),\"\",InfoPro!F66)","v":""},{"$f":"IF(ISBLANK(InfoPro!I66),\"\",YEAR(InfoPro!I66)-$F$3)","v":""},{"$f":"IF(ISBLANK(InfoPro!P66),\"\",InfoPro!P66)","v":""},"","","","","","","","","","","","","","","","",""]
[{"$f":"IF(ISBLANK(InfoPro!A67),\"\",InfoPro!A67)","v":""},{"$f":"IF(ISBLANK(InfoPro!B67),\"\",InfoPro!B67)","v":""},{"$f":"IF(ISBLANK(InfoPro!E67),\"\",InfoPro!E67)","v":""},{"$f":"IF(ISBLANK(InfoPro!F67),\"\",InfoPro!F67)","v":""},{"$f":"IF(ISBLANK(InfoPro!I67),\"\",YEAR(InfoPro!I67)-$F$3)","v":""},{"$f":"IF(ISBLANK(InfoPro!P67),\"\",InfoPro!P67)","v":""},"","","","","","","","","","","","","","","",{"$f":"IF(U73=\"\",\"\",SUM(G73:U73))","v":""},{"$f":"IF(C73=0,0,IF(V73=\"\",\"\",V73/(C73*1000)))","v":""}]
[{"$f":"IF(ISBLANK(InfoPro!A68),\"\",InfoPro!A68)","v":""},{"$f":"IF(ISBLANK(InfoPro!B68),\"\",InfoPro!B68)","v":""},{"$f":"IF(ISBLANK(InfoPro!E68),\"\",InfoPro!E68)","v":""},{"$f":"IF(ISBLANK(InfoPro!F68),\"\",InfoPro!F68)","v":""},{"$f":"IF(ISBLANK(InfoPro!I68),\"\",YEAR(InfoPro!I68)-$F$3)","v":""},{"$f":"IF(ISBLANK(InfoPro!P68),\"\",InfoPro!P68)","v":""},"","","","","","","","","","","","","","","","",""]
[{"$f":"IF(ISBLANK(InfoPro!A69),\"\",InfoPro!A69)","v":""},{"$f":"IF(ISBLANK(InfoPro!B69),\"\",InfoPro!B69)","v":""},{"$f":"IF(ISBLANK(InfoPro!E69),\"\",InfoPro!E69)","v":""},{"$f":"IF(ISBLANK(InfoPro!F69),\"\",InfoPro!F69)","v":""},{"$f":"IF(ISBLANK(InfoPro!I69),\"\",YEAR(InfoPro!I69)-$F$3)","v":""},{"$f":"IF(ISBLANK(InfoPro!P69),\"\",InfoPro!P69)","v":""},"","","","","","","","","","","","","","","","",""]
[{"$f":"IF(ISBLANK(InfoPro!A70),\"\",InfoPro!A70)","v":""},{"$f":"IF(ISBLANK(InfoPro!B70),\"\",InfoPro!B70)","v":""},{"$f":"IF(ISBLANK(InfoPro!E70),\"\",InfoPro!E70)","v":""},{"$f":"IF(ISBLANK(InfoPro!F70),\"\",InfoPro!F70)","v":""},{"$f":"IF(ISBLANK(InfoPro!I70),\"\",YEAR(InfoPro!I70)-$F$3)","v":""},{"$f":"IF(ISBLANK(InfoPro!P70),\"\",InfoPro!P70)","v":""},"","","","","","","","","","","","","","","","",""]
[{"$f":"IF(ISBLANK(InfoPro!A71),\"\",InfoPro!A71)","v":""},{"$f":"IF(ISBLANK(InfoPro!B71),\"\",InfoPro!B71)","v":""},{"$f":"IF(ISBLANK(InfoPro!E71),\"\",InfoPro!E71)","v":""},{"$f":"IF(ISBLANK(InfoPro!F71),\"\",InfoPro!F71)","v":""},{"$f":"IF(ISBLANK(InfoPro!I71),\"\",YEAR(InfoPro!I71)-$F$3)","v":""},{"$f":"IF(ISBLANK(InfoPro!P71),\"\",InfoPro!P71)","v":""},"","","","","","","","","","","","","","","","",""]
[{"$f":"IF(ISBLANK(InfoPro!A72),\"\",InfoPro!A72)","v":""},{"$f":"IF(ISBLANK(InfoPro!B72),\"\",InfoPro!B72)","v":""},{"$f":"IF(ISBLANK(InfoPro!E72),\"\",InfoPro!E72)","v":""},{"$f":"IF(ISBLANK(InfoPro!F72),\"\",InfoPro!F72)","v":""},{"$f":"IF(ISBLANK(InfoPro!I72),\"\",YEAR(InfoPro!I72)-$F$3)","v":""},{"$f":"IF(ISBLANK(InfoPro!P72),\"\",InfoPro!P72)","v":""},{"$f":"IF($F78=\"\",\"\",(1/(1+$C$3)^(G$6+$E78))*$F78*$C$2)","v":""},"","","","","","","","","","","","","","","",""]
[{"$f":"IF(ISBLANK(InfoPro!A73),\"\",InfoPro!A73)","v":""},{"$f":"IF(ISBLANK(InfoPro!B73),\"\",InfoPro!B73)","v":""},{"$f":"IF(ISBLANK(InfoPro!E73),\"\",InfoPro!E73)","v":""},{"$f":"IF(ISBLANK(InfoPro!F73),\"\",InfoPro!F73)","v":""},{"$f":"IF(ISBLANK(InfoPro!I73),\"\",YEAR(InfoPro!I73)-$F$3)","v":""},{"$f":"IF(ISBLANK(InfoPro!P73),\"\",InfoPro!P73)","v":""},"","","","","","","","","","","","","","","","",""]
[{"$f":"IF(ISBLANK(InfoPro!A74),\"\",InfoPro!A74)","v":""},{"$f":"IF(ISBLANK(InfoPro!B74),\"\",InfoPro!B74)","v":""},{"$f":"IF(ISBLANK(InfoPro!E74),\"\",InfoPro!E74)","v":""},{"$f":"IF(ISBLANK(InfoPro!F74),\"\",InfoPro!F74)","v":""},{"$f":"IF(ISBLANK(InfoPro!I74),\"\",YEAR(InfoPro!I74)-$F$3)","v":""},{"$f":"IF(ISBLANK(InfoPro!P74),\"\",InfoPro!P74)","v":""},"","","","","","","","","","","","","","","","",""]
[{"$f":"IF(ISBLANK(InfoPro!A75),\"\",InfoPro!A75)","v":""},{"$f":"IF(ISBLANK(InfoPro!B75),\"\",InfoPro!B75)","v":""},{"$f":"IF(ISBLANK(InfoPro!E75),\"\",InfoPro!E75)","v":""},{"$f":"IF(ISBLANK(InfoPro!F75),\"\",InfoPro!F75)","v":""},{"$f":"IF(ISBLANK(InfoPro!I75),\"\",YEAR(InfoPro!I75)-$F$3)","v":""},{"$f":"IF(ISBLANK(InfoPro!P75),\"\",InfoPro!P75)","v":""},"","","","","","","","","","","","","","","","",""]
[{"$f":"IF(ISBLANK(InfoPro!A76),\"\",InfoPro!A76)","v":""},{"$f":"IF(ISBLANK(InfoPro!B76),\"\",InfoPro!B76)","v":""},{"$f":"IF(ISBLANK(InfoPro!E76),\"\",InfoPro!E76)","v":""},{"$f":"IF(ISBLANK(InfoPro!F76),\"\",InfoPro!F76)","v":""},{"$f":"IF(ISBLANK(InfoPro!I76),\"\",YEAR(InfoPro!I76)-$F$3)","v":""},{"$f":"IF(ISBLANK(InfoPro!P76),\"\",InfoPro!P76)","v":""},"","","","","","","","","","","","","","","","",""]
[{"$f":"IF(ISBLANK(InfoPro!A77),\"\",InfoPro!A77)","v":""},{"$f":"IF(ISBLANK(InfoPro!B77),\"\",InfoPro!B77)","v":""},{"$f":"IF(ISBLANK(InfoPro!E77),\"\",InfoPro!E77)","v":""},{"$f":"IF(ISBLANK(InfoPro!F77),\"\",InfoPro!F77)","v":""},{"$f":"IF(ISBLANK(InfoPro!I77),\"\",YEAR(InfoPro!I77)-$F$3)","v":""},{"$f":"IF(ISBLANK(InfoPro!P77),\"\",InfoPro!P77)","v":""},"","","","","","","","","","","","","","","","",""]
[{"$f":"IF(ISBLANK(InfoPro!A78),\"\",InfoPro!A78)","v":""},{"$f":"IF(ISBLANK(InfoPro!B78),\"\",InfoPro!B78)","v":""},{"$f":"IF(ISBLANK(InfoPro!E78),\"\",InfoPro!E78)","v":""},{"$f":"IF(ISBLANK(InfoPro!F78),\"\",InfoPro!F78)","v":""},{"$f":"IF(ISBLANK(InfoPro!I78),\"\",YEAR(InfoPro!I78)-$F$3)","v":""},{"$f":"IF(ISBLANK(InfoPro!P78),\"\",InfoPro!P78)","v":""},"","","","","","","","","","","","","","","","",""]
[{"$f":"IF(ISBLANK(InfoPro!A79),\"\",InfoPro!A79)","v":""},{"$f":"IF(ISBLANK(InfoPro!B79),\"\",InfoPro!B79)","v":""},{"$f":"IF(ISBLANK(InfoPro!E79),\"\",InfoPro!E79)","v":""},{"$f":"IF(ISBLANK(InfoPro!F79),\"\",InfoPro!F79)","v":""},{"$f":"IF(ISBLANK(InfoPro!I79),\"\",YEAR(InfoPro!I79)-$F$3)","v":""},{"$f":"IF(ISBLANK(InfoPro!P79),\"\",InfoPro!P79)","v":""},"","","","","","","","","","","","","","","","",""]
[{"$f":"IF(ISBLANK(InfoPro!A80),\"\",InfoPro!A80)","v":""},{"$f":"IF(ISBLANK(InfoPro!B80),\"\",InfoPro!B80)","v":""},{"$f":"IF(ISBLANK(InfoPro!E80),\"\",InfoPro!E80)","v":""},{"$f":"IF(ISBLANK(InfoPro!F80),\"\",InfoPro!F80)","v":""},{"$f":"IF(ISBLANK(InfoPro!I80),\"\",YEAR(InfoPro!I80)-$F$3)","v":""},{"$f":"IF(ISBLANK(InfoPro!P80),\"\",InfoPro!P80)","v":""},"","","","","","","","","","","","","","","","",""]
[{"$f":"IF(ISBLANK(InfoPro!A81),\"\",InfoPro!A81)","v":""},{"$f":"IF(ISBLANK(InfoPro!B81),\"\",InfoPro!B81)","v":""},{"$f":"IF(ISBLANK(InfoPro!E81),\"\",InfoPro!E81)","v":""},{"$f":"IF(ISBLANK(InfoPro!F81),\"\",InfoPro!F81)","v":""},{"$f":"IF(ISBLANK(InfoPro!I81),\"\",YEAR(InfoPro!I81)-$F$3)","v":""},{"$f":"IF(ISBLANK(InfoPro!P81),\"\",InfoPro!P81)","v":""},"","","","","","","","","","","","","","","","",""]
[{"$f":"IF(ISBLANK(InfoPro!A82),\"\",InfoPro!A82)","v":""},{"$f":"IF(ISBLANK(InfoPro!B82),\"\",InfoPro!B82)","v":""},{"$f":"IF(ISBLANK(InfoPro!E82),\"\",InfoPro!E82)","v":""},{"$f":"IF(ISBLANK(InfoPro!F82),\"\",InfoPro!F82)","v":""},{"$f":"IF(ISBLANK(InfoPro!I82),\"\",YEAR(InfoPro!I82)-$F$3)","v":""},{"$f":"IF(ISBLANK(InfoPro!P82),\"\",InfoPro!P82)","v":""},{"$f":"IF($F88=\"\",\"\",(1/(1+$C$3)^(G$6+$E88))*$F88*$C$2)","v":""},"","","","","","","","","","","","","","","",""]
[{"$f":"IF(ISBLANK(InfoPro!A83),\"\",InfoPro!A83)","v":""},{"$f":"IF(ISBLANK(InfoPro!B83),\"\",InfoPro!B83)","v":""},{"$f":"IF(ISBLANK(InfoPro!E83),\"\",InfoPro!E83)","v":""},{"$f":"IF(ISBLANK(InfoPro!F83),\"\",InfoPro!F83)","v":""},{"$f":"IF(ISBLANK(InfoPro!I83),\"\",YEAR(InfoPro!I83)-$F$3)","v":""},{"$f":"IF(ISBLANK(InfoPro!P83),\"\",InfoPro!P83)","v":""},"","","","","","","","","","","","","","","","",""]
[{"$f":"IF(ISBLANK(InfoPro!A84),\"\",InfoPro!A84)","v":""},{"$f":"IF(ISBLANK(InfoPro!B84),\"\",InfoPro!B84)","v":""},{"$f":"IF(ISBLANK(InfoPro!E84),\"\",InfoPro!E84)","v":""},{"$f":"IF(ISBLANK(InfoPro!F84),\"\",InfoPro!F84)","v":""},{"$f":"IF(ISBLANK(InfoPro!I84),\"\",YEAR(InfoPro!I84)-$F$3)","v":""},{"$f":"IF(ISBLANK(InfoPro!P84),\"\",InfoPro!P84)","v":""},"","","","","","","","","","","","","","","","",""]
[{"$f":"IF(ISBLANK(InfoPro!A85),\"\",InfoPro!A85)","v":""},{"$f":"IF(ISBLANK(InfoPro!B85),\"\",InfoPro!B85)","v":""},{"$f":"IF(ISBLANK(InfoPro!E85),\"\",InfoPro!E85)","v":""},{"$f":"IF(ISBLANK(InfoPro!F85),\"\",InfoPro!F85)","v":""},{"$f":"IF(ISBLANK(InfoPro!I85),\"\",YEAR(InfoPro!I85)-$F$3)","v":""},{"$f":"IF(ISBLANK(InfoPro!P85),\"\",InfoPro!P85)","v":""},"","","","","","","","","","","","","","","","",""]
[{"$f":"IF(ISBLANK(InfoPro!A86),\"\",InfoPro!A86)","v":""},{"$f":"IF(ISBLANK(InfoPro!B86),\"\",InfoPro!B86)","v":""},{"$f":"IF(ISBLANK(InfoPro!E86),\"\",InfoPro!E86)","v":""},{"$f":"IF(ISBLANK(InfoPro!F86),\"\",InfoPro!F86)","v":""},{"$f":"IF(ISBLANK(InfoPro!I86),\"\",YEAR(InfoPro!I86)-$F$3)","v":""},{"$f":"IF(ISBLANK(InfoPro!P86),\"\",InfoPro!P86)","v":""},"","","","","","","","","","","","","","","","",""]
[{"$f":"IF(ISBLANK(InfoPro!A87),\"\",InfoPro!A87)","v":""},{"$f":"IF(ISBLANK(InfoPro!B87),\"\",InfoPro!B87)","v":""},{"$f":"IF(ISBLANK(InfoPro!E87),\"\",InfoPro!E87)","v":""},{"$f":"IF(ISBLANK(InfoPro!F87),\"\",InfoPro!F87)","v":""},{"$f":"IF(ISBLANK(InfoPro!I87),\"\",YEAR(InfoPro!I87)-$F$3)","v":""},{"$f":"IF(ISBLANK(InfoPro!P87),\"\",InfoPro!P87)","v":""},"","","","","","","","","","","","","","","","",""]
[{"$f":"IF(ISBLANK(InfoPro!A88),\"\",InfoPro!A88)","v":""},{"$f":"IF(ISBLANK(InfoPro!B88),\"\",InfoPro!B88)","v":""},{"$f":"IF(ISBLANK(InfoPro!E88),\"\",InfoPro!E88)","v":""},{"$f":"IF(ISBLANK(InfoPro!F88),\"\",InfoPro!F88)","v":""},{"$f":"IF(ISBLANK(InfoPro!I88),\"\",YEAR(InfoPro!I88)-$F$3)","v":""},{"$f":"IF(ISBLANK(InfoPro!P88),\"\",InfoPro!P88)","v":""},"","","","","","","","","","","","","","","","",""]
[{"$f":"IF(ISBLANK(InfoPro!A89),\"\",InfoPro!A89)","v":""},{"$f":"IF(ISBLANK(InfoPro!B89),\"\",InfoPro!B89)","v":""},{"$f":"IF(ISBLANK(InfoPro!E89),\"\",InfoPro!E89)","v":""},{"$f":"IF(ISBLANK(InfoPro!F89),\"\",InfoPro!F89)","v":""},{"$f":"IF(ISBLANK(InfoPro!I89),\"\",YEAR(InfoPro!I89)-$F$3)","v":""},{"$f":"IF(ISBLANK(InfoPro!P89),\"\",InfoPro!P89)","v":""},"","","","","","","","","","","","","","","","",""]
[{"$f":"IF(ISBLANK(InfoPro!A90),\"\",InfoPro!A90)","v":""},{"$f":"IF(ISBLANK(InfoPro!B90),\"\",InfoPro!B90)","v":""},{"$f":"IF(ISBLANK(InfoPro!E90),\"\",InfoPro!E90)","v":""},{"$f":"IF(ISBLANK(InfoPro!F90),\"\",InfoPro!F90)","v":""},{"$f":"IF(ISBLANK(InfoPro!I90),\"\",YEAR(InfoPro!I90)-$F$3)","v":""},{"$f":"IF(ISBLANK(InfoPro!P90),\"\",InfoPro!P90)","v":""},"","","","","","","","","","","","","","","","",""]
[{"$f":"IF(ISBLANK(InfoPro!A91),\"\",InfoPro!A91)","v":""},{"$f":"IF(ISBLANK(InfoPro!B91),\"\",InfoPro!B91)","v":""},{"$f":"IF(ISBLANK(InfoPro!E91),\"\",InfoPro!E91)","v":""},{"$f":"IF(ISBLANK(InfoPro!F91),\"\",InfoPro!F91)","v":""},{"$f":"IF(ISBLANK(InfoPro!I91),\"\",YEAR(InfoPro!I91)-$F$3)","v":""},{"$f":"IF(ISBLANK(InfoPro!P91),\"\",InfoPro!P91)","v":""},"","","","","","","","","","","","","","","","",""]
[{"$f":"IF(ISBLANK(InfoPro!A92),\"\",InfoPro!A92)","v":""},{"$f":"IF(ISBLANK(InfoPro!B92),\"\",InfoPro!B92)","v":""},{"$f":"IF(ISBLANK(InfoPro!E92),\"\",InfoPro!E92)","v":""},{"$f":"IF(ISBLANK(InfoPro!F92),\"\",InfoPro!F92)","v":""},{"$f":"IF(ISBLANK(InfoPro!I92),\"\",YEAR(InfoPro!I92)-$F$3)","v":""},{"$f":"IF(ISBLANK(InfoPro!P92),\"\",InfoPro!P92)","v":""},{"$f":"IF($F98=\"\",\"\",(1/(1+$C$3)^(G$6+$E98))*$F98*$C$2)","v":""},"","","","","","","","","","","","","","","",""]
[{"$f":"IF(ISBLANK(InfoPro!A93),\"\",InfoPro!A93)","v":""},{"$f":"IF(ISBLANK(InfoPro!B93),\"\",InfoPro!B93)","v":""},{"$f":"IF(ISBLANK(InfoPro!E93),\"\",InfoPro!E93)","v":""},{"$f":"IF(ISBLANK(InfoPro!F93),\"\",InfoPro!F93)","v":""},{"$f":"IF(ISBLANK(InfoPro!I93),\"\",YEAR(InfoPro!I93)-$F$3)","v":""},{"$f":"IF(ISBLANK(InfoPro!P93),\"\",InfoPro!P93)","v":""},"","","","","","","","","","","","","","","","",""]
[{"$f":"IF(ISBLANK(InfoPro!A94),\"\",InfoPro!A94)","v":""},{"$f":"IF(ISBLANK(InfoPro!B94),\"\",InfoPro!B94)","v":""},{"$f":"IF(ISBLANK(InfoPro!E94),\"\",InfoPro!E94)","v":""},{"$f":"IF(ISBLANK(InfoPro!F94),\"\",InfoPro!F94)","v":""},{"$f":"IF(ISBLANK(InfoPro!I94),\"\",YEAR(InfoPro!I94)-$F$3)","v":""},{"$f":"IF(ISBLANK(InfoPro!P94),\"\",InfoPro!P94)","v":""},"","","","","","","","","","","","","","","","",""]
[{"$f":"IF(ISBLANK(InfoPro!A95),\"\",InfoPro!A95)","v":""},{"$f":"IF(ISBLANK(InfoPro!B95),\"\",InfoPro!B95)","v":""},{"$f":"IF(ISBLANK(InfoPro!E95),\"\",InfoPro!E95)","v":""},{"$f":"IF(ISBLANK(InfoPro!F95),\"\",InfoPro!F95)","v":""},{"$f":"IF(ISBLANK(InfoPro!I95),\"\",YEAR(InfoPro!I95)-$F$3)","v":""},{"$f":"IF(ISBLANK(InfoPro!P95),\"\",InfoPro!P95)","v":""},"","","","","","","","","","","","","","","","",""]
[{"$f":"IF(ISBLANK(InfoPro!A96),\"\",InfoPro!A96)","v":""},{"$f":"IF(ISBLANK(InfoPro!B96),\"\",InfoPro!B96)","v":""},{"$f":"IF(ISBLANK(InfoPro!E96),\"\",InfoPro!E96)","v":""},{"$f":"IF(ISBLANK(InfoPro!F96),\"\",InfoPro!F96)","v":""},{"$f":"IF(ISBLANK(InfoPro!I96),\"\",YEAR(InfoPro!I96)-$F$3)","v":""},{"$f":"IF(ISBLANK(InfoPro!P96),\"\",InfoPro!P96)","v":""},"","","","","","","","","","","","","","","","",""]
[{"$f":"IF(ISBLANK(InfoPro!A97),\"\",InfoPro!A97)","v":""},{"$f":"IF(ISBLANK(InfoPro!B97),\"\",InfoPro!B97)","v":""},{"$f":"IF(ISBLANK(InfoPro!E97),\"\",InfoPro!E97)","v":""},{"$f":"IF(ISBLANK(InfoPro!F97),\"\",InfoPro!F97)","v":""},{"$f":"IF(ISBLANK(InfoPro!I97),\"\",YEAR(InfoPro!I97)-$F$3)","v":""},{"$f":"IF(ISBLANK(InfoPro!P97),\"\",InfoPro!P97)","v":""},"","","","","","","","","","","","","","","","",""]
[{"$f":"IF(ISBLANK(InfoPro!A98),\"\",InfoPro!A98)","v":""},{"$f":"IF(ISBLANK(InfoPro!B98),\"\",InfoPro!B98)","v":""},{"$f":"IF(ISBLANK(InfoPro!E98),\"\",InfoPro!E98)","v":""},{"$f":"IF(ISBLANK(InfoPro!F98),\"\",InfoPro!F98)","v":""},{"$f":"IF(ISBLANK(InfoPro!I98),\"\",YEAR(InfoPro!I98)-$F$3)","v":""},{"$f":"IF(ISBLANK(InfoPro!P98),\"\",InfoPro!P98)","v":""},"","","","","","","","","","","","","","","","",""]
[{"$f":"IF(ISBLANK(InfoPro!A99),\"\",InfoPro!A99)","v":""},{"$f":"IF(ISBLANK(InfoPro!B99),\"\",InfoPro!B99)","v":""},{"$f":"IF(ISBLANK(InfoPro!E99),\"\",InfoPro!E99)","v":""},{"$f":"IF(ISBLANK(InfoPro!F99),\"\",InfoPro!F99)","v":""},{"$f":"IF(ISBLANK(InfoPro!I99),\"\",YEAR(InfoPro!I99)-$F$3)","v":""},{"$f":"IF(ISBLANK(InfoPro!P99),\"\",InfoPro!P99)","v":""},"","","","","","","","","","","","","","","","",""]
[{"$f":"IF(ISBLANK(InfoPro!A100),\"\",InfoPro!A100)","v":""},{"$f":"IF(ISBLANK(InfoPro!B100),\"\",InfoPro!B100)","v":""},{"$f":"IF(ISBLANK(InfoPro!E100),\"\",InfoPro!E100)","v":""},{"$f":"IF(ISBLANK(InfoPro!F100),\"\",InfoPro!F100)","v":""},{"$f":"IF(ISBLANK(InfoPro!I100),\"\",YEAR(InfoPro!I100)-$F$3)","v":""},{"$f":"IF(ISBLANK(InfoPro!P100),\"\",InfoPro!P100)","v":""},"","","","","","","","","","","","","","","","",""]
[{"$f":"IF(ISBLANK(InfoPro!A101),\"\",InfoPro!A101)","v":""},{"$f":"IF(ISBLANK(InfoPro!B101),\"\",InfoPro!B101)","v":""},{"$f":"IF(ISBLANK(InfoPro!E101),\"\",InfoPro!E101)","v":""},{"$f":"IF(ISBLANK(InfoPro!F101),\"\",InfoPro!F101)","v":""},{"$f":"IF(ISBLANK(InfoPro!I101),\"\",YEAR(InfoPro!I101)-$F$3)","v":""},{"$f":"IF(ISBLANK(InfoPro!P101),\"\",InfoPro!P101)","v":""},"","","","","","","","","","","","","","","","",""]
[{"$f":"IF(ISBLANK(InfoPro!A102),\"\",InfoPro!A102)","v":""},{"$f":"IF(ISBLANK(InfoPro!B102),\"\",InfoPro!B102)","v":""},{"$f":"IF(ISBLANK(InfoPro!E102),\"\",InfoPro!E102)","v":""},{"$f":"IF(ISBLANK(InfoPro!F102),\"\",InfoPro!F102)","v":""},{"$f":"IF(ISBLANK(InfoPro!I102),\"\",YEAR(InfoPro!I102)-$F$3)","v":""},{"$f":"IF(ISBLANK(InfoPro!P102),\"\",InfoPro!P102)","v":""},"","","","","","","","","","","","","","","","",""]
[{"$f":"IF(ISBLANK(InfoPro!A103),\"\",InfoPro!A103)","v":""},{"$f":"IF(ISBLANK(InfoPro!B103),\"\",InfoPro!B103)","v":""},{"$f":"IF(ISBLANK(InfoPro!E103),\"\",InfoPro!E103)","v":""},{"$f":"IF(ISBLANK(InfoPro!F103),\"\",InfoPro!F103)","v":""},{"$f":"IF(ISBLANK(InfoPro!I103),\"\",YEAR(InfoPro!I103)-$F$3)","v":""},{"$f":"IF(ISBLANK(InfoPro!P103),\"\",InfoPro!P103)","v":""},"","","","","","","","","","","","","","","","",""]
[{"$f":"IF(ISBLANK(InfoPro!A104),\"\",InfoPro!A104)","v":""},{"$f":"IF(ISBLANK(InfoPro!B104),\"\",InfoPro!B104)","v":""},{"$f":"IF(ISBLANK(InfoPro!E104),\"\",InfoPro!E104)","v":""},{"$f":"IF(ISBLANK(InfoPro!F104),\"\",InfoPro!F104)","v":""},{"$f":"IF(ISBLANK(InfoPro!I104),\"\",YEAR(InfoPro!I104)-$F$3)","v":""},{"$f":"IF(ISBLANK(InfoPro!P104),\"\",InfoPro!P104)","v":""},"","","","","","","","","","","","","","","","",""]
[{"$f":"IF(ISBLANK(InfoPro!A105),\"\",InfoPro!A105)","v":""},{"$f":"IF(ISBLANK(InfoPro!B105),\"\",InfoPro!B105)","v":""},{"$f":"IF(ISBLANK(InfoPro!E105),\"\",InfoPro!E105)","v":""},{"$f":"IF(ISBLANK(InfoPro!F105),\"\",InfoPro!F105)","v":""},{"$f":"IF(ISBLANK(InfoPro!I105),\"\",YEAR(InfoPro!I105)-$F$3)","v":""},{"$f":"IF(ISBLANK(InfoPro!P105),\"\",InfoPro!P105)","v":""},"","","","","","","","","","","","","","","","",""]
[{"$f":"IF(ISBLANK(InfoPro!A106),\"\",InfoPro!A106)","v":""},{"$f":"IF(ISBLANK(InfoPro!B106),\"\",InfoPro!B106)","v":""},{"$f":"IF(ISBLANK(InfoPro!E106),\"\",InfoPro!E106)","v":""},{"$f":"IF(ISBLANK(InfoPro!F106),\"\",InfoPro!F106)","v":""},{"$f":"IF(ISBLANK(InfoPro!I106),\"\",YEAR(InfoPro!I106)-$F$3)","v":""},{"$f":"IF(ISBLANK(InfoPro!P106),\"\",InfoPro!P106)","v":""},"","","","","","","","","","","","","","","",{"$f":"IF(U112=\"\",\"\",SUM(G112:U112))","v":""},{"$f":"IF(C112=0,0,IF(V112=\"\",\"\",V112/(C112*1000)))","v":""}]
[{"$f":"IF(ISBLANK(InfoPro!A107),\"\",InfoPro!A107)","v":""},{"$f":"IF(ISBLANK(InfoPro!B107),\"\",InfoPro!B107)","v":""},{"$f":"IF(ISBLANK(InfoPro!E107),\"\",InfoPro!E107)","v":""},{"$f":"IF(ISBLANK(InfoPro!F107),\"\",InfoPro!F107)","v":""},{"$f":"IF(ISBLANK(InfoPro!I107),\"\",YEAR(InfoPro!I107)-$F$3)","v":""},{"$f":"IF(ISBLANK(InfoPro!P107),\"\",InfoPro!P107)","v":""},"","","","","","","","","","","","","","","","",""]
[{"$f":"IF(ISBLANK(InfoPro!A108),\"\",InfoPro!A108)","v":""},{"$f":"IF(ISBLANK(InfoPro!B108),\"\",InfoPro!B108)","v":""},{"$f":"IF(ISBLANK(InfoPro!E108),\"\",InfoPro!E108)","v":""},{"$f":"IF(ISBLANK(InfoPro!F108),\"\",InfoPro!F108)","v":""},{"$f":"IF(ISBLANK(InfoPro!I108),\"\",YEAR(InfoPro!I108)-$F$3)","v":""},{"$f":"IF(ISBLANK(InfoPro!P108),\"\",InfoPro!P108)","v":""},{"$f":"IF($F114=\"\",\"\",(1/(1+$C$3)^(G$6+$E114))*$F114*$C$2)","v":""},"","","","","","","","","","","","","","","",""]
[{"$f":"IF(ISBLANK(InfoPro!A109),\"\",InfoPro!A109)","v":""},{"$f":"IF(ISBLANK(InfoPro!B109),\"\",InfoPro!B109)","v":""},{"$f":"IF(ISBLANK(InfoPro!E109),\"\",InfoPro!E109)","v":""},{"$f":"IF(ISBLANK(InfoPro!F109),\"\",InfoPro!F109)","v":""},{"$f":"IF(ISBLANK(InfoPro!I109),\"\",YEAR(InfoPro!I109)-$F$3)","v":""},{"$f":"IF(ISBLANK(InfoPro!P109),\"\",InfoPro!P109)","v":""},"","","","","","","","","","","","","","","","",""]
[{"$f":"IF(ISBLANK(InfoPro!A110),\"\",InfoPro!A110)","v":""},{"$f":"IF(ISBLANK(InfoPro!B110),\"\",InfoPro!B110)","v":""},{"$f":"IF(ISBLANK(InfoPro!E110),\"\",InfoPro!E110)","v":""},{"$f":"IF(ISBLANK(InfoPro!F110),\"\",InfoPro!F110)","v":""},{"$f":"IF(ISBLANK(InfoPro!I110),\"\",YEAR(InfoPro!I110)-$F$3)","v":""},{"$f":"IF(ISBLANK(InfoPro!P110),\"\",InfoPro!P110)","v":""},"","","","","","","","","","","","","","","","",""]
[{"$f":"IF(ISBLANK(InfoPro!A111),\"\",InfoPro!A111)","v":""},{"$f":"IF(ISBLANK(InfoPro!B111),\"\",InfoPro!B111)","v":""},{"$f":"IF(ISBLANK(InfoPro!E111),\"\",InfoPro!E111)","v":""},{"$f":"IF(ISBLANK(InfoPro!F111),\"\",InfoPro!F111)","v":""},{"$f":"IF(ISBLANK(InfoPro!I111),\"\",YEAR(InfoPro!I111)-$F$3)","v":""},{"$f":"IF(ISBLANK(InfoPro!P111),\"\",InfoPro!P111)","v":""},"","","","","","","","","","","","","","","","",""]
[{"$f":"IF(ISBLANK(InfoPro!A112),\"\",InfoPro!A112)","v":""},{"$f":"IF(ISBLANK(InfoPro!B112),\"\",InfoPro!B112)","v":""},{"$f":"IF(ISBLANK(InfoPro!E112),\"\",InfoPro!E112)","v":""},{"$f":"IF(ISBLANK(InfoPro!F112),\"\",InfoPro!F112)","v":""},{"$f":"IF(ISBLANK(InfoPro!I112),\"\",YEAR(InfoPro!I112)-$F$3)","v":""},{"$f":"IF(ISBLANK(InfoPro!P112),\"\",InfoPro!P112)","v":""},"","","","","","","","","","","","","","","","",""]
[{"$f":"IF(ISBLANK(InfoPro!A113),\"\",InfoPro!A113)","v":""},{"$f":"IF(ISBLANK(InfoPro!B113),\"\",InfoPro!B113)","v":""},{"$f":"IF(ISBLANK(InfoPro!E113),\"\",InfoPro!E113)","v":""},{"$f":"IF(ISBLANK(InfoPro!F113),\"\",InfoPro!F113)","v":""},{"$f":"IF(ISBLANK(InfoPro!I113),\"\",YEAR(InfoPro!I113)-$F$3)","v":""},{"$f":"IF(ISBLANK(InfoPro!P113),\"\",InfoPro!P113)","v":""},"","","","","","","","","","","","","","","","",""]
[{"$f":"IF(ISBLANK(InfoPro!A114),\"\",InfoPro!A114)","v":""},{"$f":"IF(ISBLANK(InfoPro!B114),\"\",InfoPro!B114)","v":""},{"$f":"IF(ISBLANK(InfoPro!E114),\"\",InfoPro!E114)","v":""},{"$f":"IF(ISBLANK(InfoPro!F114),\"\",InfoPro!F114)","v":""},{"$f":"IF(ISBLANK(InfoPro!I114),\"\",YEAR(InfoPro!I114)-$F$3)","v":""},{"$f":"IF(ISBLANK(InfoPro!P114),\"\",InfoPro!P114)","v":""},"","","","","","","","","","","","","","","","",""]
[{"$f":"IF(ISBLANK(InfoPro!A115),\"\",InfoPro!A115)","v":""},{"$f":"IF(ISBLANK(InfoPro!B115),\"\",InfoPro!B115)","v":""},{"$f":"IF(ISBLANK(InfoPro!E115),\"\",InfoPro!E115)","v":""},{"$f":"IF(ISBLANK(InfoPro!F115),\"\",InfoPro!F115)","v":""},{"$f":"IF(ISBLANK(InfoPro!I115),\"\",YEAR(InfoPro!I115)-$F$3)","v":""},{"$f":"IF(ISBLANK(InfoPro!P115),\"\",InfoPro!P115)","v":""},"","","","","","","","","","","","","","","","",""]
[{"$f":"IF(ISBLANK(InfoPro!A116),\"\",InfoPro!A116)","v":""},{"$f":"IF(ISBLANK(InfoPro!B116),\"\",InfoPro!B116)","v":""},{"$f":"IF(ISBLANK(InfoPro!E116),\"\",InfoPro!E116)","v":""},{"$f":"IF(ISBLANK(InfoPro!F116),\"\",InfoPro!F116)","v":""},{"$f":"IF(ISBLANK(InfoPro!I116),\"\",YEAR(InfoPro!I116)-$F$3)","v":""},{"$f":"IF(ISBLANK(InfoPro!P116),\"\",InfoPro!P116)","v":""},"","","","","","","","","","","","","","","","",""]
[{"$f":"IF(ISBLANK(InfoPro!A117),\"\",InfoPro!A117)","v":""},{"$f":"IF(ISBLANK(InfoPro!B117),\"\",InfoPro!B117)","v":""},{"$f":"IF(ISBLANK(InfoPro!E117),\"\",InfoPro!E117)","v":""},{"$f":"IF(ISBLANK(InfoPro!F117),\"\",InfoPro!F117)","v":""},{"$f":"IF(ISBLANK(InfoPro!I117),\"\",YEAR(InfoPro!I117)-$F$3)","v":""},{"$f":"IF(ISBLANK(InfoPro!P117),\"\",InfoPro!P117)","v":""},"","","","","","","","","","","","","","","","",""]
[{"$f":"IF(ISBLANK(InfoPro!A118),\"\",InfoPro!A118)","v":""},{"$f":"IF(ISBLANK(InfoPro!B118),\"\",InfoPro!B118)","v":""},{"$f":"IF(ISBLANK(InfoPro!E118),\"\",InfoPro!E118)","v":""},{"$f":"IF(ISBLANK(InfoPro!F118),\"\",InfoPro!F118)","v":""},{"$f":"IF(ISBLANK(InfoPro!I118),\"\",YEAR(InfoPro!I118)-$F$3)","v":""},{"$f":"IF(ISBLANK(InfoPro!P118),\"\",InfoPro!P118)","v":""},"","","","","","","","","","","","","","","","",""]
[{"$f":"IF(ISBLANK(InfoPro!A119),\"\",InfoPro!A119)","v":""},{"$f":"IF(ISBLANK(InfoPro!B119),\"\",InfoPro!B119)","v":""},{"$f":"IF(ISBLANK(InfoPro!E119),\"\",InfoPro!E119)","v":""},{"$f":"IF(ISBLANK(InfoPro!F119),\"\",InfoPro!F119)","v":""},{"$f":"IF(ISBLANK(InfoPro!I119),\"\",YEAR(InfoPro!I119)-$F$3)","v":""},{"$f":"IF(ISBLANK(InfoPro!P119),\"\",InfoPro!P119)","v":""},"","","","","","","","","","","","","","","","",""]
[{"$f":"IF(ISBLANK(InfoPro!A120),\"\",InfoPro!A120)","v":""},{"$f":"IF(ISBLANK(InfoPro!B120),\"\",InfoPro!B120)","v":""},{"$f":"IF(ISBLANK(InfoPro!E120),\"\",InfoPro!E120)","v":""},{"$f":"IF(ISBLANK(InfoPro!F120),\"\",InfoPro!F120)","v":""},{"$f":"IF(ISBLANK(InfoPro!I120),\"\",YEAR(InfoPro!I120)-$F$3)","v":""},{"$f":"IF(ISBLANK(InfoPro!P120),\"\",InfoPro!P120)","v":""},"","","","","","","","","","","","","","","","",""]
[{"$f":"IF(ISBLANK(InfoPro!A121),\"\",InfoPro!A121)","v":""},{"$f":"IF(ISBLANK(InfoPro!B121),\"\",InfoPro!B121)","v":""},{"$f":"IF(ISBLANK(InfoPro!E121),\"\",InfoPro!E121)","v":""},{"$f":"IF(ISBLANK(InfoPro!F121),\"\",InfoPro!F121)","v":""},{"$f":"IF(ISBLANK(InfoPro!I121),\"\",YEAR(InfoPro!I121)-$F$3)","v":""},{"$f":"IF(ISBLANK(InfoPro!P121),\"\",InfoPro!P121)","v":""},"","","","","","","","","","","","","","","","",""]
[{"$f":"IF(ISBLANK(InfoPro!A122),\"\",InfoPro!A122)","v":""},{"$f":"IF(ISBLANK(InfoPro!B122),\"\",InfoPro!B122)","v":""},{"$f":"IF(ISBLANK(InfoPro!E122),\"\",InfoPro!E122)","v":""},{"$f":"IF(ISBLANK(InfoPro!F122),\"\",InfoPro!F122)","v":""},{"$f":"IF(ISBLANK(InfoPro!I122),\"\",YEAR(InfoPro!I122)-$F$3)","v":""},{"$f":"IF(ISBLANK(InfoPro!P122),\"\",InfoPro!P122)","v":""},"","","","","","","","","","","","","","","","",""]
[{"$f":"IF(ISBLANK(InfoPro!A123),\"\",InfoPro!A123)","v":""},{"$f":"IF(ISBLANK(InfoPro!B123),\"\",InfoPro!B123)","v":""},{"$f":"IF(ISBLANK(InfoPro!E123),\"\",InfoPro!E123)","v":""},{"$f":"IF(ISBLANK(InfoPro!F123),\"\",InfoPro!F123)","v":""},{"$f":"IF(ISBLANK(InfoPro!I123),\"\",YEAR(InfoPro!I123)-$F$3)","v":""},{"$f":"IF(ISBLANK(InfoPro!P123),\"\",InfoPro!P123)","v":""},"","","","","","","","","","","","","","","","",""]
[{"$f":"IF(ISBLANK(InfoPro!A124),\"\",InfoPro!A124)","v":""},{"$f":"IF(ISBLANK(InfoPro!B124),\"\",InfoPro!B124)","v":""},{"$f":"IF(ISBLANK(InfoPro!E124),\"\",InfoPro!E124)","v":""},{"$f":"IF(ISBLANK(InfoPro!F124),\"\",InfoPro!F124)","v":""},{"$f":"IF(ISBLANK(InfoPro!I124),\"\",YEAR(InfoPro!I124)-$F$3)","v":""},{"$f":"IF(ISBLANK(InfoPro!P124),\"\",InfoPro!P124)","v":""},"","","","","","","","","","","","","","","","",""]
[{"$f":"IF(ISBLANK(InfoPro!A125),\"\",InfoPro!A125)","v":""},{"$f":"IF(ISBLANK(InfoPro!B125),\"\",InfoPro!B125)","v":""},{"$f":"IF(ISBLANK(InfoPro!E125),\"\",InfoPro!E125)","v":""},{"$f":"IF(ISBLANK(InfoPro!F125),\"\",InfoPro!F125)","v":""},{"$f":"IF(ISBLANK(InfoPro!I125),\"\",YEAR(InfoPro!I125)-$F$3)","v":""},{"$f":"IF(ISBLANK(InfoPro!P125),\"\",InfoPro!P125)","v":""},{"$f":"IF($F131=\"\",\"\",(1/(1+$C$3)^(G$6+$E131))*$F131*$C$2)","v":""},"","","","","","","","","","","","","","","",""]
[{"$f":"IF(ISBLANK(InfoPro!A126),\"\",InfoPro!A126)","v":""},{"$f":"IF(ISBLANK(InfoPro!B126),\"\",InfoPro!B126)","v":""},{"$f":"IF(ISBLANK(InfoPro!E126),\"\",InfoPro!E126)","v":""},{"$f":"IF(ISBLANK(InfoPro!F126),\"\",InfoPro!F126)","v":""},{"$f":"IF(ISBLANK(InfoPro!I126),\"\",YEAR(InfoPro!I126)-$F$3)","v":""},{"$f":"IF(ISBLANK(InfoPro!P126),\"\",InfoPro!P126)","v":""},"","","","","","","","","","","","","","","","",""]
[{"$f":"IF(ISBLANK(InfoPro!A127),\"\",InfoPro!A127)","v":""},{"$f":"IF(ISBLANK(InfoPro!B127),\"\",InfoPro!B127)","v":""},{"$f":"IF(ISBLANK(InfoPro!E127),\"\",InfoPro!E127)","v":""},{"$f":"IF(ISBLANK(InfoPro!F127),\"\",InfoPro!F127)","v":""},{"$f":"IF(ISBLANK(InfoPro!I127),\"\",YEAR(InfoPro!I127)-$F$3)","v":""},{"$f":"IF(ISBLANK(InfoPro!P127),\"\",InfoPro!P127)","v":""},"","","","","","","","","","","","","","","","",""]
[{"$f":"IF(ISBLANK(InfoPro!A128),\"\",InfoPro!A128)","v":""},{"$f":"IF(ISBLANK(InfoPro!B128),\"\",InfoPro!B128)","v":""},{"$f":"IF(ISBLANK(InfoPro!E128),\"\",InfoPro!E128)","v":""},{"$f":"IF(ISBLANK(InfoPro!F128),\"\",InfoPro!F128)","v":""},{"$f":"IF(ISBLANK(InfoPro!I128),\"\",YEAR(InfoPro!I128)-$F$3)","v":""},{"$f":"IF(ISBLANK(InfoPro!P128),\"\",InfoPro!P128)","v":""},"","","","","","","","","","","","","","","","",""]
[{"$f":"IF(ISBLANK(InfoPro!A129),\"\",InfoPro!A129)","v":""},{"$f":"IF(ISBLANK(InfoPro!B129),\"\",InfoPro!B129)","v":""},{"$f":"IF(ISBLANK(InfoPro!E129),\"\",InfoPro!E129)","v":""},{"$f":"IF(ISBLANK(InfoPro!F129),\"\",InfoPro!F129)","v":""},{"$f":"IF(ISBLANK(InfoPro!I129),\"\",YEAR(InfoPro!I129)-$F$3)","v":""},{"$f":"IF(ISBLANK(InfoPro!P129),\"\",InfoPro!P129)","v":""},"","","","","","","","","","","","","","","","",""]
[{"$f":"IF(ISBLANK(InfoPro!A130),\"\",InfoPro!A130)","v":""},{"$f":"IF(ISBLANK(InfoPro!B130),\"\",InfoPro!B130)","v":""},{"$f":"IF(ISBLANK(InfoPro!E130),\"\",InfoPro!E130)","v":""},{"$f":"IF(ISBLANK(InfoPro!F130),\"\",InfoPro!F130)","v":""},{"$f":"IF(ISBLANK(InfoPro!I130),\"\",YEAR(InfoPro!I130)-$F$3)","v":""},{"$f":"IF(ISBLANK(InfoPro!P130),\"\",InfoPro!P130)","v":""},"","","","","","","","","","","","","","","","",""]
[{"$f":"IF(ISBLANK(InfoPro!A131),\"\",InfoPro!A131)","v":""},{"$f":"IF(ISBLANK(InfoPro!B131),\"\",InfoPro!B131)","v":""},{"$f":"IF(ISBLANK(InfoPro!E131),\"\",InfoPro!E131)","v":""},{"$f":"IF(ISBLANK(InfoPro!F131),\"\",InfoPro!F131)","v":""},{"$f":"IF(ISBLANK(InfoPro!I131),\"\",YEAR(InfoPro!I131)-$F$3)","v":""},{"$f":"IF(ISBLANK(InfoPro!P131),\"\",InfoPro!P131)","v":""},"","","","","","","","","","","","","","","","",""]
[{"$f":"IF(ISBLANK(InfoPro!A132),\"\",InfoPro!A132)","v":""},{"$f":"IF(ISBLANK(InfoPro!B132),\"\",InfoPro!B132)","v":""},{"$f":"IF(ISBLANK(InfoPro!E132),\"\",InfoPro!E132)","v":""},{"$f":"IF(ISBLANK(InfoPro!F132),\"\",InfoPro!F132)","v":""},{"$f":"IF(ISBLANK(InfoPro!I132),\"\",YEAR(InfoPro!I132)-$F$3)","v":""},{"$f":"IF(ISBLANK(InfoPro!P132),\"\",InfoPro!P132)","v":""},"","","","","","","","","","","","","","","","",""]
[{"$f":"IF(ISBLANK(InfoPro!A133),\"\",InfoPro!A133)","v":""},{"$f":"IF(ISBLANK(InfoPro!B133),\"\",InfoPro!B133)","v":""},{"$f":"IF(ISBLANK(InfoPro!E133),\"\",InfoPro!E133)","v":""},{"$f":"IF(ISBLANK(InfoPro!F133),\"\",InfoPro!F133)","v":""},{"$f":"IF(ISBLANK(InfoPro!I133),\"\",YEAR(InfoPro!I133)-$F$3)","v":""},{"$f":"IF(ISBLANK(InfoPro!P133),\"\",InfoPro!P133)","v":""},"","","","","","","","","","","","","","","","",""]
[{"$f":"IF(ISBLANK(InfoPro!A134),\"\",InfoPro!A134)","v":""},{"$f":"IF(ISBLANK(InfoPro!B134),\"\",InfoPro!B134)","v":""},{"$f":"IF(ISBLANK(InfoPro!E134),\"\",InfoPro!E134)","v":""},{"$f":"IF(ISBLANK(InfoPro!F134),\"\",InfoPro!F134)","v":""},{"$f":"IF(ISBLANK(InfoPro!I134),\"\",YEAR(InfoPro!I134)-$F$3)","v":""},{"$f":"IF(ISBLANK(InfoPro!P134),\"\",InfoPro!P134)","v":""},"","","","","","","","","","","","","","","","",""]
[{"$f":"IF(ISBLANK(InfoPro!A135),\"\",InfoPro!A135)","v":""},{"$f":"IF(ISBLANK(InfoPro!B135),\"\",InfoPro!B135)","v":""},{"$f":"IF(ISBLANK(InfoPro!E135),\"\",InfoPro!E135)","v":""},{"$f":"IF(ISBLANK(InfoPro!F135),\"\",InfoPro!F135)","v":""},{"$f":"IF(ISBLANK(InfoPro!I135),\"\",YEAR(InfoPro!I135)-$F$3)","v":""},{"$f":"IF(ISBLANK(InfoPro!P135),\"\",InfoPro!P135)","v":""},"","","","","","","","","","","","","","","","",""]
[{"$f":"IF(ISBLANK(InfoPro!A136),\"\",InfoPro!A136)","v":""},{"$f":"IF(ISBLANK(InfoPro!B136),\"\",InfoPro!B136)","v":""},{"$f":"IF(ISBLANK(InfoPro!E136),\"\",InfoPro!E136)","v":""},{"$f":"IF(ISBLANK(InfoPro!F136),\"\",InfoPro!F136)","v":""},{"$f":"IF(ISBLANK(InfoPro!I136),\"\",YEAR(InfoPro!I136)-$F$3)","v":""},{"$f":"IF(ISBLANK(InfoPro!P136),\"\",InfoPro!P136)","v":""},"","","","","","","","","","","","","","","","",""]
[{"$f":"IF(ISBLANK(InfoPro!A137),\"\",InfoPro!A137)","v":""},{"$f":"IF(ISBLANK(InfoPro!B137),\"\",InfoPro!B137)","v":""},{"$f":"IF(ISBLANK(InfoPro!E137),\"\",InfoPro!E137)","v":""},{"$f":"IF(ISBLANK(InfoPro!F137),\"\",InfoPro!F137)","v":""},{"$f":"IF(ISBLANK(InfoPro!I137),\"\",YEAR(InfoPro!I137)-$F$3)","v":""},{"$f":"IF(ISBLANK(InfoPro!P137),\"\",InfoPro!P137)","v":""},"","","","","","","","","","","","","","","","",""]
[{"$f":"IF(ISBLANK(InfoPro!A138),\"\",InfoPro!A138)","v":""},{"$f":"IF(ISBLANK(InfoPro!B138),\"\",InfoPro!B138)","v":""},{"$f":"IF(ISBLANK(InfoPro!E138),\"\",InfoPro!E138)","v":""},{"$f":"IF(ISBLANK(InfoPro!F138),\"\",InfoPro!F138)","v":""},{"$f":"IF(ISBLANK(InfoPro!I138),\"\",YEAR(InfoPro!I138)-$F$3)","v":""},{"$f":"IF(ISBLANK(InfoPro!P138),\"\",InfoPro!P138)","v":""},"","","","","","","","","","","","","","","","",""]
[{"$f":"IF(ISBLANK(InfoPro!A139),\"\",InfoPro!A139)","v":""},{"$f":"IF(ISBLANK(InfoPro!B139),\"\",InfoPro!B139)","v":""},{"$f":"IF(ISBLANK(InfoPro!E139),\"\",InfoPro!E139)","v":""},{"$f":"IF(ISBLANK(InfoPro!F139),\"\",InfoPro!F139)","v":""},{"$f":"IF(ISBLANK(InfoPro!I139),\"\",YEAR(InfoPro!I139)-$F$3)","v":""},{"$f":"IF(ISBLANK(InfoPro!P139),\"\",InfoPro!P139)","v":""},"","","","","","","","","","","","","","","","",""]
[{"$f":"IF(ISBLANK(InfoPro!A140),\"\",InfoPro!A140)","v":""},{"$f":"IF(ISBLANK(InfoPro!B140),\"\",InfoPro!B140)","v":""},{"$f":"IF(ISBLANK(InfoPro!E140),\"\",InfoPro!E140)","v":""},{"$f":"IF(ISBLANK(InfoPro!F140),\"\",InfoPro!F140)","v":""},{"$f":"IF(ISBLANK(InfoPro!I140),\"\",YEAR(InfoPro!I140)-$F$3)","v":""},{"$f":"IF(ISBLANK(InfoPro!P140),\"\",InfoPro!P140)","v":""},"","","","","","","","","","","","","","","","",""]
[{"$f":"IF(ISBLANK(InfoPro!A141),\"\",InfoPro!A141)","v":""},{"$f":"IF(ISBLANK(InfoPro!B141),\"\",InfoPro!B141)","v":""},{"$f":"IF(ISBLANK(InfoPro!E141),\"\",InfoPro!E141)","v":""},{"$f":"IF(ISBLANK(InfoPro!F141),\"\",InfoPro!F141)","v":""},{"$f":"IF(ISBLANK(InfoPro!I141),\"\",YEAR(InfoPro!I141)-$F$3)","v":""},{"$f":"IF(ISBLANK(InfoPro!P141),\"\",InfoPro!P141)","v":""},"","","","","","","","","","","","","","","","",""]
[{"$f":"IF(ISBLANK(InfoPro!A142),\"\",InfoPro!A142)","v":""},{"$f":"IF(ISBLANK(InfoPro!B142),\"\",InfoPro!B142)","v":""},{"$f":"IF(ISBLANK(InfoPro!E142),\"\",InfoPro!E142)","v":""},{"$f":"IF(ISBLANK(InfoPro!F142),\"\",InfoPro!F142)","v":""},{"$f":"IF(ISBLANK(InfoPro!I142),\"\",YEAR(InfoPro!I142)-$F$3)","v":""},{"$f":"IF(ISBLANK(InfoPro!P142),\"\",InfoPro!P142)","v":""},{"$f":"IF($F148=\"\",\"\",(1/(1+$C$3)^(G$6+$E148))*$F148*$C$2)","v":""},"","","","","","","","","","","","","","","",""]
[{"$f":"IF(ISBLANK(InfoPro!A143),\"\",InfoPro!A143)","v":""},{"$f":"IF(ISBLANK(InfoPro!B143),\"\",InfoPro!B143)","v":""},{"$f":"IF(ISBLANK(InfoPro!E143),\"\",InfoPro!E143)","v":""},{"$f":"IF(ISBLANK(InfoPro!F143),\"\",InfoPro!F143)","v":""},{"$f":"IF(ISBLANK(InfoPro!I143),\"\",YEAR(InfoPro!I143)-$F$3)","v":""},{"$f":"IF(ISBLANK(InfoPro!P143),\"\",InfoPro!P143)","v":""},"","","","","","","","","","","","","","","","",""]
[{"$f":"IF(ISBLANK(InfoPro!A144),\"\",InfoPro!A144)","v":""},{"$f":"IF(ISBLANK(InfoPro!B144),\"\",InfoPro!B144)","v":""},{"$f":"IF(ISBLANK(InfoPro!E144),\"\",InfoPro!E144)","v":""},{"$f":"IF(ISBLANK(InfoPro!F144),\"\",InfoPro!F144)","v":""},{"$f":"IF(ISBLANK(InfoPro!I144),\"\",YEAR(InfoPro!I144)-$F$3)","v":""},{"$f":"IF(ISBLANK(InfoPro!P144),\"\",InfoPro!P144)","v":""},"","","","","","","","","","","","","","","","",""]
[{"$f":"IF(ISBLANK(InfoPro!A145),\"\",InfoPro!A145)","v":""},{"$f":"IF(ISBLANK(InfoPro!B145),\"\",InfoPro!B145)","v":""},{"$f":"IF(ISBLANK(InfoPro!E145),\"\",InfoPro!E145)","v":""},{"$f":"IF(ISBLANK(InfoPro!F145),\"\",InfoPro!F145)","v":""},{"$f":"IF(ISBLANK(InfoPro!I145),\"\",YEAR(InfoPro!I145)-$F$3)","v":""},{"$f":"IF(ISBLANK(InfoPro!P145),\"\",InfoPro!P145)","v":""},"","","","","","","","","","","","","","","","",""]
[{"$f":"IF(ISBLANK(InfoPro!A146),\"\",InfoPro!A146)","v":""},{"$f":"IF(ISBLANK(InfoPro!B146),\"\",InfoPro!B146)","v":""},{"$f":"IF(ISBLANK(InfoPro!E146),\"\",InfoPro!E146)","v":""},{"$f":"IF(ISBLANK(InfoPro!F146),\"\",InfoPro!F146)","v":""},{"$f":"IF(ISBLANK(InfoPro!I146),\"\",YEAR(InfoPro!I146)-$F$3)","v":""},{"$f":"IF(ISBLANK(InfoPro!P146),\"\",InfoPro!P146)","v":""},"","","","","","","","","","","","","","","","",""]
[{"$f":"IF(ISBLANK(InfoPro!A147),\"\",InfoPro!A147)","v":""},{"$f":"IF(ISBLANK(InfoPro!B147),\"\",InfoPro!B147)","v":""},{"$f":"IF(ISBLANK(InfoPro!E147),\"\",InfoPro!E147)","v":""},{"$f":"IF(ISBLANK(InfoPro!F147),\"\",InfoPro!F147)","v":""},{"$f":"IF(ISBLANK(InfoPro!I147),\"\",YEAR(InfoPro!I147)-$F$3)","v":""},{"$f":"IF(ISBLANK(InfoPro!P147),\"\",InfoPro!P147)","v":""},"","","","","","","","","","","","","","","","",""]
[{"$f":"IF(ISBLANK(InfoPro!A148),\"\",InfoPro!A148)","v":""},{"$f":"IF(ISBLANK(InfoPro!B148),\"\",InfoPro!B148)","v":""},{"$f":"IF(ISBLANK(InfoPro!E148),\"\",InfoPro!E148)","v":""},{"$f":"IF(ISBLANK(InfoPro!F148),\"\",InfoPro!F148)","v":""},{"$f":"IF(ISBLANK(InfoPro!I148),\"\",YEAR(InfoPro!I148)-$F$3)","v":""},{"$f":"IF(ISBLANK(InfoPro!P148),\"\",InfoPro!P148)","v":""},"","","","","","","","","","","","","","","","",""]
[{"$f":"IF(ISBLANK(InfoPro!A149),\"\",InfoPro!A149)","v":""},{"$f":"IF(ISBLANK(InfoPro!B149),\"\",InfoPro!B149)","v":""},{"$f":"IF(ISBLANK(InfoPro!E149),\"\",InfoPro!E149)","v":""},{"$f":"IF(ISBLANK(InfoPro!F149),\"\",InfoPro!F149)","v":""},{"$f":"IF(ISBLANK(InfoPro!I149),\"\",YEAR(InfoPro!I149)-$F$3)","v":""},{"$f":"IF(ISBLANK(InfoPro!P149),\"\",InfoPro!P149)","v":""},"","","","","","","","","","","","","","","","",""]
[{"$f":"IF(ISBLANK(InfoPro!A150),\"\",InfoPro!A150)","v":""},{"$f":"IF(ISBLANK(InfoPro!B150),\"\",InfoPro!B150)","v":""},{"$f":"IF(ISBLANK(InfoPro!E150),\"\",InfoPro!E150)","v":""},{"$f":"IF(ISBLANK(InfoPro!F150),\"\",InfoPro!F150)","v":""},{"$f":"IF(ISBLANK(InfoPro!I150),\"\",YEAR(InfoPro!I150)-$F$3)","v":""},{"$f":"IF(ISBLANK(InfoPro!P150),\"\",InfoPro!P150)","v":""},"","","","","","","","","","","","","","","","",""]
[{"$f":"IF(ISBLANK(InfoPro!A151),\"\",InfoPro!A151)","v":""},{"$f":"IF(ISBLANK(InfoPro!B151),\"\",InfoPro!B151)","v":""},{"$f":"IF(ISBLANK(InfoPro!E151),\"\",InfoPro!E151)","v":""},{"$f":"IF(ISBLANK(InfoPro!F151),\"\",InfoPro!F151)","v":""},{"$f":"IF(ISBLANK(InfoPro!I151),\"\",YEAR(InfoPro!I151)-$F$3)","v":""},{"$f":"IF(ISBLANK(InfoPro!P151),\"\",InfoPro!P151)","v":""},"","","","","","","","","","","","","","","","",""]
[{"$f":"IF(ISBLANK(InfoPro!A152),\"\",InfoPro!A152)","v":""},{"$f":"IF(ISBLANK(InfoPro!B152),\"\",InfoPro!B152)","v":""},{"$f":"IF(ISBLANK(InfoPro!E152),\"\",InfoPro!E152)","v":""},{"$f":"IF(ISBLANK(InfoPro!F152),\"\",InfoPro!F152)","v":""},{"$f":"IF(ISBLANK(InfoPro!I152),\"\",YEAR(InfoPro!I152)-$F$3)","v":""},{"$f":"IF(ISBLANK(InfoPro!P152),\"\",InfoPro!P152)","v":""},"","","","","","","","","","","","","","","","",""]
[{"$f":"IF(ISBLANK(InfoPro!A153),\"\",InfoPro!A153)","v":""},{"$f":"IF(ISBLANK(InfoPro!B153),\"\",InfoPro!B153)","v":""},{"$f":"IF(ISBLANK(InfoPro!E153),\"\",InfoPro!E153)","v":""},{"$f":"IF(ISBLANK(InfoPro!F153),\"\",InfoPro!F153)","v":""},{"$f":"IF(ISBLANK(InfoPro!I153),\"\",YEAR(InfoPro!I153)-$F$3)","v":""},{"$f":"IF(ISBLANK(InfoPro!P153),\"\",InfoPro!P153)","v":""},"","","","","","","","","","","","","","","","",""]
[{"$f":"IF(ISBLANK(InfoPro!A154),\"\",InfoPro!A154)","v":""},{"$f":"IF(ISBLANK(InfoPro!B154),\"\",InfoPro!B154)","v":""},{"$f":"IF(ISBLANK(InfoPro!E154),\"\",InfoPro!E154)","v":""},{"$f":"IF(ISBLANK(InfoPro!F154),\"\",InfoPro!F154)","v":""},{"$f":"IF(ISBLANK(InfoPro!I154),\"\",YEAR(InfoPro!I154)-$F$3)","v":""},{"$f":"IF(ISBLANK(InfoPro!P154),\"\",InfoPro!P154)","v":""},"","","","","","","","","","","","","","","","",""]
[{"$f":"IF(ISBLANK(InfoPro!A155),\"\",InfoPro!A155)","v":""},{"$f":"IF(ISBLANK(InfoPro!B155),\"\",InfoPro!B155)","v":""},{"$f":"IF(ISBLANK(InfoPro!E155),\"\",InfoPro!E155)","v":""},{"$f":"IF(ISBLANK(InfoPro!F155),\"\",InfoPro!F155)","v":""},{"$f":"IF(ISBLANK(InfoPro!I155),\"\",YEAR(InfoPro!I155)-$F$3)","v":""},{"$f":"IF(ISBLANK(InfoPro!P155),\"\",InfoPro!P155)","v":""},"","","","","","","","","","","","","","","","",""]
[{"$f":"IF(ISBLANK(InfoPro!A156),\"\",InfoPro!A156)","v":""},{"$f":"IF(ISBLANK(InfoPro!B156),\"\",InfoPro!B156)","v":""},{"$f":"IF(ISBLANK(InfoPro!E156),\"\",InfoPro!E156)","v":""},{"$f":"IF(ISBLANK(InfoPro!F156),\"\",InfoPro!F156)","v":""},{"$f":"IF(ISBLANK(InfoPro!I156),\"\",YEAR(InfoPro!I156)-$F$3)","v":""},{"$f":"IF(ISBLANK(InfoPro!P156),\"\",InfoPro!P156)","v":""},"","","","","","","","","","","","","","","","",""]
[{"$f":"IF(ISBLANK(InfoPro!A157),\"\",InfoPro!A157)","v":""},{"$f":"IF(ISBLANK(InfoPro!B157),\"\",InfoPro!B157)","v":""},{"$f":"IF(ISBLANK(InfoPro!E157),\"\",InfoPro!E157)","v":""},{"$f":"IF(ISBLANK(InfoPro!F157),\"\",InfoPro!F157)","v":""},{"$f":"IF(ISBLANK(InfoPro!I157),\"\",YEAR(InfoPro!I157)-$F$3)","v":""},{"$f":"IF(ISBLANK(InfoPro!P157),\"\",InfoPro!P157)","v":""},"","","","","","","","","","","","","","","","",""]
[{"$f":"IF(ISBLANK(InfoPro!A158),\"\",InfoPro!A158)","v":""},{"$f":"IF(ISBLANK(InfoPro!B158),\"\",InfoPro!B158)","v":""},{"$f":"IF(ISBLANK(InfoPro!E158),\"\",InfoPro!E158)","v":""},{"$f":"IF(ISBLANK(InfoPro!F158),\"\",InfoPro!F158)","v":""},{"$f":"IF(ISBLANK(InfoPro!I158),\"\",YEAR(InfoPro!I158)-$F$3)","v":""},{"$f":"IF(ISBLANK(InfoPro!P158),\"\",InfoPro!P158)","v":""},"","","","","","","","","","","","","","","","",""]
[{"$f":"IF(ISBLANK(InfoPro!A159),\"\",InfoPro!A159)","v":""},{"$f":"IF(ISBLANK(InfoPro!B159),\"\",InfoPro!B159)","v":""},{"$f":"IF(ISBLANK(InfoPro!E159),\"\",InfoPro!E159)","v":""},{"$f":"IF(ISBLANK(InfoPro!F159),\"\",InfoPro!F159)","v":""},{"$f":"IF(ISBLANK(InfoPro!I159),\"\",YEAR(InfoPro!I159)-$F$3)","v":""},{"$f":"IF(ISBLANK(InfoPro!P159),\"\",InfoPro!P159)","v":""},{"$f":"IF($F165=\"\",\"\",(1/(1+$C$3)^(G$6+$E165))*$F165*$C$2)","v":""},"","","","","","","","","","","","","","","",""]
[{"$f":"IF(ISBLANK(InfoPro!A160),\"\",InfoPro!A160)","v":""},{"$f":"IF(ISBLANK(InfoPro!B160),\"\",InfoPro!B160)","v":""},{"$f":"IF(ISBLANK(InfoPro!E160),\"\",InfoPro!E160)","v":""},{"$f":"IF(ISBLANK(InfoPro!F160),\"\",InfoPro!F160)","v":""},{"$f":"IF(ISBLANK(InfoPro!I160),\"\",YEAR(InfoPro!I160)-$F$3)","v":""},{"$f":"IF(ISBLANK(InfoPro!P160),\"\",InfoPro!P160)","v":""},"","","","","","","","","","","","","","","","",""]
[{"$f":"IF(ISBLANK(InfoPro!A161),\"\",InfoPro!A161)","v":""},{"$f":"IF(ISBLANK(InfoPro!B161),\"\",InfoPro!B161)","v":""},{"$f":"IF(ISBLANK(InfoPro!E161),\"\",InfoPro!E161)","v":""},{"$f":"IF(ISBLANK(InfoPro!F161),\"\",InfoPro!F161)","v":""},{"$f":"IF(ISBLANK(InfoPro!I161),\"\",YEAR(InfoPro!I161)-$F$3)","v":""},{"$f":"IF(ISBLANK(InfoPro!P161),\"\",InfoPro!P161)","v":""},"","","","","","","","","","","","","","","","",""]
[{"$f":"IF(ISBLANK(InfoPro!A162),\"\",InfoPro!A162)","v":""},{"$f":"IF(ISBLANK(InfoPro!B162),\"\",InfoPro!B162)","v":""},{"$f":"IF(ISBLANK(InfoPro!E162),\"\",InfoPro!E162)","v":""},{"$f":"IF(ISBLANK(InfoPro!F162),\"\",InfoPro!F162)","v":""},{"$f":"IF(ISBLANK(InfoPro!I162),\"\",YEAR(InfoPro!I162)-$F$3)","v":""},{"$f":"IF(ISBLANK(InfoPro!P162),\"\",InfoPro!P162)","v":""},"","","","","","","","","","","","","","","","",""]
[{"$f":"IF(ISBLANK(InfoPro!A163),\"\",InfoPro!A163)","v":""},{"$f":"IF(ISBLANK(InfoPro!B163),\"\",InfoPro!B163)","v":""},{"$f":"IF(ISBLANK(InfoPro!E163),\"\",InfoPro!E163)","v":""},{"$f":"IF(ISBLANK(InfoPro!F163),\"\",InfoPro!F163)","v":""},{"$f":"IF(ISBLANK(InfoPro!I163),\"\",YEAR(InfoPro!I163)-$F$3)","v":""},{"$f":"IF(ISBLANK(InfoPro!P163),\"\",InfoPro!P163)","v":""},"","","","","","","","","","","","","","","","",""]
[{"$f":"IF(ISBLANK(InfoPro!A164),\"\",InfoPro!A164)","v":""},{"$f":"IF(ISBLANK(InfoPro!B164),\"\",InfoPro!B164)","v":""},{"$f":"IF(ISBLANK(InfoPro!E164),\"\",InfoPro!E164)","v":""},{"$f":"IF(ISBLANK(InfoPro!F164),\"\",InfoPro!F164)","v":""},{"$f":"IF(ISBLANK(InfoPro!I164),\"\",YEAR(InfoPro!I164)-$F$3)","v":""},{"$f":"IF(ISBLANK(InfoPro!P164),\"\",InfoPro!P164)","v":""},"","","","","","","","","","","","","","","","",""]
[{"$f":"IF(ISBLANK(InfoPro!A165),\"\",InfoPro!A165)","v":""},{"$f":"IF(ISBLANK(InfoPro!B165),\"\",InfoPro!B165)","v":""},{"$f":"IF(ISBLANK(InfoPro!E165),\"\",InfoPro!E165)","v":""},{"$f":"IF(ISBLANK(InfoPro!F165),\"\",InfoPro!F165)","v":""},{"$f":"IF(ISBLANK(InfoPro!I165),\"\",YEAR(InfoPro!I165)-$F$3)","v":""},{"$f":"IF(ISBLANK(InfoPro!P165),\"\",InfoPro!P165)","v":""},"","","","","","","","","","","","","","","","",""]
[{"$f":"IF(ISBLANK(InfoPro!A166),\"\",InfoPro!A166)","v":""},{"$f":"IF(ISBLANK(InfoPro!B166),\"\",InfoPro!B166)","v":""},{"$f":"IF(ISBLANK(InfoPro!E166),\"\",InfoPro!E166)","v":""},{"$f":"IF(ISBLANK(InfoPro!F166),\"\",InfoPro!F166)","v":""},{"$f":"IF(ISBLANK(InfoPro!I166),\"\",YEAR(InfoPro!I166)-$F$3)","v":""},{"$f":"IF(ISBLANK(InfoPro!P166),\"\",InfoPro!P166)","v":""},"","","","","","","","","","","","","","","","",""]
[{"$f":"IF(ISBLANK(InfoPro!A167),\"\",InfoPro!A167)","v":""},{"$f":"IF(ISBLANK(InfoPro!B167),\"\",InfoPro!B167)","v":""},{"$f":"IF(ISBLANK(InfoPro!E167),\"\",InfoPro!E167)","v":""},{"$f":"IF(ISBLANK(InfoPro!F167),\"\",InfoPro!F167)","v":""},{"$f":"IF(ISBLANK(InfoPro!I167),\"\",YEAR(InfoPro!I167)-$F$3)","v":""},{"$f":"IF(ISBLANK(InfoPro!P167),\"\",InfoPro!P167)","v":""},"","","","","","","","","","","","","","","","",""]
[{"$f":"IF(ISBLANK(InfoPro!A168),\"\",InfoPro!A168)","v":""},{"$f":"IF(ISBLANK(InfoPro!B168),\"\",InfoPro!B168)","v":""},{"$f":"IF(ISBLANK(InfoPro!E168),\"\",InfoPro!E168)","v":""},{"$f":"IF(ISBLANK(InfoPro!F168),\"\",InfoPro!F168)","v":""},{"$f":"IF(ISBLANK(InfoPro!I168),\"\",YEAR(InfoPro!I168)-$F$3)","v":""},{"$f":"IF(ISBLANK(InfoPro!P168),\"\",InfoPro!P168)","v":""},"","","","","","","","","","","","","","","","",""]
[{"$f":"IF(ISBLANK(InfoPro!A169),\"\",InfoPro!A169)","v":""},{"$f":"IF(ISBLANK(InfoPro!B169),\"\",InfoPro!B169)","v":""},{"$f":"IF(ISBLANK(InfoPro!E169),\"\",InfoPro!E169)","v":""},{"$f":"IF(ISBLANK(InfoPro!F169),\"\",InfoPro!F169)","v":""},{"$f":"IF(ISBLANK(InfoPro!I169),\"\",YEAR(InfoPro!I169)-$F$3)","v":""},{"$f":"IF(ISBLANK(InfoPro!P169),\"\",InfoPro!P169)","v":""},"","","","","","","","","","","","","","","","",""]
[{"$f":"IF(ISBLANK(InfoPro!A170),\"\",InfoPro!A170)","v":""},{"$f":"IF(ISBLANK(InfoPro!B170),\"\",InfoPro!B170)","v":""},{"$f":"IF(ISBLANK(InfoPro!E170),\"\",InfoPro!E170)","v":""},{"$f":"IF(ISBLANK(InfoPro!F170),\"\",InfoPro!F170)","v":""},{"$f":"IF(ISBLANK(InfoPro!I170),\"\",YEAR(InfoPro!I170)-$F$3)","v":""},{"$f":"IF(ISBLANK(InfoPro!P170),\"\",InfoPro!P170)","v":""},"","","","","","","","","","","","","","","",{"$f":"IF(U176=\"\",\"\",SUM(G176:U176))","v":""},{"$f":"IF(C176=0,0,IF(V176=\"\",\"\",V176/(C176*1000)))","v":""}]
[{"$f":"IF(ISBLANK(InfoPro!A171),\"\",InfoPro!A171)","v":""},{"$f":"IF(ISBLANK(InfoPro!B171),\"\",InfoPro!B171)","v":""},{"$f":"IF(ISBLANK(InfoPro!E171),\"\",InfoPro!E171)","v":""},{"$f":"IF(ISBLANK(InfoPro!F171),\"\",InfoPro!F171)","v":""},{"$f":"IF(ISBLANK(InfoPro!I171),\"\",YEAR(InfoPro!I171)-$F$3)","v":""},{"$f":"IF(ISBLANK(InfoPro!P171),\"\",InfoPro!P171)","v":""},"","","","","","","","","","","","","","","","",""]
[{"$f":"IF(ISBLANK(InfoPro!A172),\"\",InfoPro!A172)","v":""},{"$f":"IF(ISBLANK(InfoPro!B172),\"\",InfoPro!B172)","v":""},{"$f":"IF(ISBLANK(InfoPro!E172),\"\",InfoPro!E172)","v":""},{"$f":"IF(ISBLANK(InfoPro!F172),\"\",InfoPro!F172)","v":""},{"$f":"IF(ISBLANK(InfoPro!I172),\"\",YEAR(InfoPro!I172)-$F$3)","v":""},{"$f":"IF(ISBLANK(InfoPro!P172),\"\",InfoPro!P172)","v":""},"","","","","","","","","","","","","","","","",""]
[{"$f":"IF(ISBLANK(InfoPro!A173),\"\",InfoPro!A173)","v":""},{"$f":"IF(ISBLANK(InfoPro!B173),\"\",InfoPro!B173)","v":""},{"$f":"IF(ISBLANK(InfoPro!E173),\"\",InfoPro!E173)","v":""},{"$f":"IF(ISBLANK(InfoPro!F173),\"\",InfoPro!F173)","v":""},{"$f":"IF(ISBLANK(InfoPro!I173),\"\",YEAR(InfoPro!I173)-$F$3)","v":""},{"$f":"IF(ISBLANK(InfoPro!P173),\"\",InfoPro!P173)","v":""},"","","","","","","","","","","","","","","","",""]
[{"$f":"IF(ISBLANK(InfoPro!A174),\"\",InfoPro!A174)","v":""},{"$f":"IF(ISBLANK(InfoPro!B174),\"\",InfoPro!B174)","v":""},{"$f":"IF(ISBLANK(InfoPro!E174),\"\",InfoPro!E174)","v":""},{"$f":"IF(ISBLANK(InfoPro!F174),\"\",InfoPro!F174)","v":""},{"$f":"IF(ISBLANK(InfoPro!I174),\"\",YEAR(InfoPro!I174)-$F$3)","v":""},{"$f":"IF(ISBLANK(InfoPro!P174),\"\",InfoPro!P174)","v":""},"","","","","","","","","","","","","","","","",""]
[{"$f":"IF(ISBLANK(InfoPro!A175),\"\",InfoPro!A175)","v":""},{"$f":"IF(ISBLANK(InfoPro!B175),\"\",InfoPro!B175)","v":""},{"$f":"IF(ISBLANK(InfoPro!E175),\"\",InfoPro!E175)","v":""},{"$f":"IF(ISBLANK(InfoPro!F175),\"\",InfoPro!F175)","v":""},{"$f":"IF(ISBLANK(InfoPro!I175),\"\",YEAR(InfoPro!I175)-$F$3)","v":""},{"$f":"IF(ISBLANK(InfoPro!P175),\"\",InfoPro!P175)","v":""},"","","","","","","","","","","","","","","","",""]
[{"$f":"IF(ISBLANK(InfoPro!A176),\"\",InfoPro!A176)","v":""},{"$f":"IF(ISBLANK(InfoPro!B176),\"\",InfoPro!B176)","v":""},{"$f":"IF(ISBLANK(InfoPro!E176),\"\",InfoPro!E176)","v":""},{"$f":"IF(ISBLANK(InfoPro!F176),\"\",InfoPro!F176)","v":""},{"$f":"IF(ISBLANK(InfoPro!I176),\"\",YEAR(InfoPro!I176)-$F$3)","v":""},{"$f":"IF(ISBLANK(InfoPro!P176),\"\",InfoPro!P176)","v":""},{"$f":"IF($F182=\"\",\"\",(1/(1+$C$3)^(G$6+$E182))*$F182*$C$2)","v":""},"","","","","","","","","","","","","","","",""]
[{"$f":"IF(ISBLANK(InfoPro!A177),\"\",InfoPro!A177)","v":""},{"$f":"IF(ISBLANK(InfoPro!B177),\"\",InfoPro!B177)","v":""},{"$f":"IF(ISBLANK(InfoPro!E177),\"\",InfoPro!E177)","v":""},{"$f":"IF(ISBLANK(InfoPro!F177),\"\",InfoPro!F177)","v":""},{"$f":"IF(ISBLANK(InfoPro!I177),\"\",YEAR(InfoPro!I177)-$F$3)","v":""},{"$f":"IF(ISBLANK(InfoPro!P177),\"\",InfoPro!P177)","v":""},"","","","","","","","","","","","","","","","",""]
[{"$f":"IF(ISBLANK(InfoPro!A178),\"\",InfoPro!A178)","v":""},{"$f":"IF(ISBLANK(InfoPro!B178),\"\",InfoPro!B178)","v":""},{"$f":"IF(ISBLANK(InfoPro!E178),\"\",InfoPro!E178)","v":""},{"$f":"IF(ISBLANK(InfoPro!F178),\"\",InfoPro!F178)","v":""},{"$f":"IF(ISBLANK(InfoPro!I178),\"\",YEAR(InfoPro!I178)-$F$3)","v":""},{"$f":"IF(ISBLANK(InfoPro!P178),\"\",InfoPro!P178)","v":""},"","","","","","","","","","","","","","","","",""]
[{"$f":"IF(ISBLANK(InfoPro!A179),\"\",InfoPro!A179)","v":""},{"$f":"IF(ISBLANK(InfoPro!B179),\"\",InfoPro!B179)","v":""},{"$f":"IF(ISBLANK(InfoPro!E179),\"\",InfoPro!E179)","v":""},{"$f":"IF(ISBLANK(InfoPro!F179),\"\",InfoPro!F179)","v":""},{"$f":"IF(ISBLANK(InfoPro!I179),\"\",YEAR(InfoPro!I179)-$F$3)","v":""},{"$f":"IF(ISBLANK(InfoPro!P179),\"\",InfoPro!P179)","v":""},"","","","","","","","","","","","","","","","",""]
[{"$f":"IF(ISBLANK(InfoPro!A180),\"\",InfoPro!A180)","v":""},{"$f":"IF(ISBLANK(InfoPro!B180),\"\",InfoPro!B180)","v":""},{"$f":"IF(ISBLANK(InfoPro!E180),\"\",InfoPro!E180)","v":""},{"$f":"IF(ISBLANK(InfoPro!F180),\"\",InfoPro!F180)","v":""},{"$f":"IF(ISBLANK(InfoPro!I180),\"\",YEAR(InfoPro!I180)-$F$3)","v":""},{"$f":"IF(ISBLANK(InfoPro!P180),\"\",InfoPro!P180)","v":""},"","","","","","","","","","","","","","","","",""]
[{"$f":"IF(ISBLANK(InfoPro!A181),\"\",InfoPro!A181)","v":""},{"$f":"IF(ISBLANK(InfoPro!B181),\"\",InfoPro!B181)","v":""},{"$f":"IF(ISBLANK(InfoPro!E181),\"\",InfoPro!E181)","v":""},{"$f":"IF(ISBLANK(InfoPro!F181),\"\",InfoPro!F181)","v":""},{"$f":"IF(ISBLANK(InfoPro!I181),\"\",YEAR(InfoPro!I181)-$F$3)","v":""},{"$f":"IF(ISBLANK(InfoPro!P181),\"\",InfoPro!P181)","v":""},"","","","","","","","","","","","","","","","",""]
[{"$f":"IF(ISBLANK(InfoPro!A182),\"\",InfoPro!A182)","v":""},{"$f":"IF(ISBLANK(InfoPro!B182),\"\",InfoPro!B182)","v":""},{"$f":"IF(ISBLANK(InfoPro!E182),\"\",InfoPro!E182)","v":""},{"$f":"IF(ISBLANK(InfoPro!F182),\"\",InfoPro!F182)","v":""},{"$f":"IF(ISBLANK(InfoPro!I182),\"\",YEAR(InfoPro!I182)-$F$3)","v":""},{"$f":"IF(ISBLANK(InfoPro!P182),\"\",InfoPro!P182)","v":""},"","","","","","","","","","","","","","","","",""]
[{"$f":"IF(ISBLANK(InfoPro!A183),\"\",InfoPro!A183)","v":""},{"$f":"IF(ISBLANK(InfoPro!B183),\"\",InfoPro!B183)","v":""},{"$f":"IF(ISBLANK(InfoPro!E183),\"\",InfoPro!E183)","v":""},{"$f":"IF(ISBLANK(InfoPro!F183),\"\",InfoPro!F183)","v":""},{"$f":"IF(ISBLANK(InfoPro!I183),\"\",YEAR(InfoPro!I183)-$F$3)","v":""},{"$f":"IF(ISBLANK(InfoPro!P183),\"\",InfoPro!P183)","v":""},"","","","","","","","","","","","","","","","",""]
[{"$f":"IF(ISBLANK(InfoPro!A184),\"\",InfoPro!A184)","v":""},{"$f":"IF(ISBLANK(InfoPro!B184),\"\",InfoPro!B184)","v":""},{"$f":"IF(ISBLANK(InfoPro!E184),\"\",InfoPro!E184)","v":""},{"$f":"IF(ISBLANK(InfoPro!F184),\"\",InfoPro!F184)","v":""},{"$f":"IF(ISBLANK(InfoPro!I184),\"\",YEAR(InfoPro!I184)-$F$3)","v":""},{"$f":"IF(ISBLANK(InfoPro!P184),\"\",InfoPro!P184)","v":""},"","","","","","","","","","","","","","","","",""]
[{"$f":"IF(ISBLANK(InfoPro!A185),\"\",InfoPro!A185)","v":""},{"$f":"IF(ISBLANK(InfoPro!B185),\"\",InfoPro!B185)","v":""},{"$f":"IF(ISBLANK(InfoPro!E185),\"\",InfoPro!E185)","v":""},{"$f":"IF(ISBLANK(InfoPro!F185),\"\",InfoPro!F185)","v":""},{"$f":"IF(ISBLANK(InfoPro!I185),\"\",YEAR(InfoPro!I185)-$F$3)","v":""},{"$f":"IF(ISBLANK(InfoPro!P185),\"\",InfoPro!P185)","v":""},"","","","","","","","","","","","","","","","",""]
[{"$f":"IF(ISBLANK(InfoPro!A186),\"\",InfoPro!A186)","v":""},{"$f":"IF(ISBLANK(InfoPro!B186),\"\",InfoPro!B186)","v":""},{"$f":"IF(ISBLANK(InfoPro!E186),\"\",InfoPro!E186)","v":""},{"$f":"IF(ISBLANK(InfoPro!F186),\"\",InfoPro!F186)","v":""},{"$f":"IF(ISBLANK(InfoPro!I186),\"\",YEAR(InfoPro!I186)-$F$3)","v":""},{"$f":"IF(ISBLANK(InfoPro!P186),\"\",InfoPro!P186)","v":""},"","","","","","","","","","","","","","","","",""]
[{"$f":"IF(ISBLANK(InfoPro!A187),\"\",InfoPro!A187)","v":""},{"$f":"IF(ISBLANK(InfoPro!B187),\"\",InfoPro!B187)","v":""},{"$f":"IF(ISBLANK(InfoPro!E187),\"\",InfoPro!E187)","v":""},{"$f":"IF(ISBLANK(InfoPro!F187),\"\",InfoPro!F187)","v":""},{"$f":"IF(ISBLANK(InfoPro!I187),\"\",YEAR(InfoPro!I187)-$F$3)","v":""},{"$f":"IF(ISBLANK(InfoPro!P187),\"\",InfoPro!P187)","v":""},"","","","","","","","","","","","","","","","",""]
[{"$f":"IF(ISBLANK(InfoPro!A188),\"\",InfoPro!A188)","v":""},{"$f":"IF(ISBLANK(InfoPro!B188),\"\",InfoPro!B188)","v":""},{"$f":"IF(ISBLANK(InfoPro!E188),\"\",InfoPro!E188)","v":""},{"$f":"IF(ISBLANK(InfoPro!F188),\"\",InfoPro!F188)","v":""},{"$f":"IF(ISBLANK(InfoPro!I188),\"\",YEAR(InfoPro!I188)-$F$3)","v":""},{"$f":"IF(ISBLANK(InfoPro!P188),\"\",InfoPro!P188)","v":""},"","","","","","","","","","","","","","","","",""]
[{"$f":"IF(ISBLANK(InfoPro!A189),\"\",InfoPro!A189)","v":""},{"$f":"IF(ISBLANK(InfoPro!B189),\"\",InfoPro!B189)","v":""},{"$f":"IF(ISBLANK(InfoPro!E189),\"\",InfoPro!E189)","v":""},{"$f":"IF(ISBLANK(InfoPro!F189),\"\",InfoPro!F189)","v":""},{"$f":"IF(ISBLANK(InfoPro!I189),\"\",YEAR(InfoPro!I189)-$F$3)","v":""},{"$f":"IF(ISBLANK(InfoPro!P189),\"\",InfoPro!P189)","v":""},"","","","","","","","","","","","","","","","",""]

{"sheet":"EC-Mar","index":7,"n_rows":199,"n_cols":25,"rows_kept":199,"cut":false,"hidden":false,"merged":[]}
[]
[null,"Precio promedio de bolsa",{"$f":"'EC-RP'!C2","v":192057},"COP/MWh"]
[null,"Tasa de descuento",0.11799999999999999,null,null,"Año de Referencia",2023]
[null,null,null,null,null,"Mínimo",{"$f":"MIN(Y8:Y400)","v":-4303623.7421869012}]
[]
[null,null,null,null,null,null,null,null,0,1,2,3,4,5,6,7,8,9,10,11,12,13,14]
["Codigo","Nombre","capacidad","Tecnologia","Año de entrada","FP","Precio de oferta promedio","Produccion media/a MWh/a","Flujo Descontado 0","Flujo Descontado 1","Flujo Descontado 2","Flujo Descontado 3","Flujo Descontado 4","Flujo Descontado 5","Flujo Descontado 6","Flujo Descontado 7","Flujo Descontado 8","Flujo Descontado 9","Flujo Descontado 10","Flujo Descontado 11","Flujo Descontado 12","Flujo Descontado 13","Flujo Descontado 14","VPN","Beneficio/kW"]
[{"$f":"IF(ISBLANK(InfoPro!A2),\"\",InfoPro!A2)","v":"SC_1323_A1"},{"$f":"IF(ISBLANK(InfoPro!B2),\"\",InfoPro!B2)","v":"GEN ARAUCA"},{"$f":"IF(ISBLANK(InfoPro!E2),\"\",InfoPro!E2)","v":30},{"$f":"IF(ISBLANK(InfoPro!F2),\"\",InfoPro!F2)","v":"Termica - Ciclo Abierto"},{"$f":"IF(ISBLANK(InfoPro!I2),\"\",YEAR(InfoPro!I2)-$G$3)","v":0},{"$f":"IF(B8=\"\",\"\",VLOOKUP(D8,Tablas!$B$2:$E$13,2,FALSE))","v":0.85},{"$f":"IF(B8=\"\",\"\",VLOOKUP(D8,Tablas!$B$2:$H$13,7,FALSE))","v":267152.5},{"$f":"IF(C8=\"\",\"\",+C8*F8*24*365)","v":223380},{"$f":"IF($H8=\"\",\"\",(1/(1+$C$3)^(I$6+$E8))*$H8*($C$2 - $G8))","v":-16774832790},{"$f":"IF($H8=\"\",\"\",(1/(1+$C$3)^(J$6+$E8))*$H8*($C$2 - $G8))","v":-15004322710.196781},-13420682209.478338,-12004188022.789213,-10737198589.256899,-9603934337.4390888,-8590281160.5000782,-7683614633.7210016,-6872642785.0813971,-6147265460.7168131,-5498448533.7359686,-4918111389.7459488,-4399026287.7870741,-3934728343.2800307,-3519435011.8783817,{"$f":"IF(W8=\"\",\"\",SUM(I8:W8))","v":-129108712265.60703},{"$f":"IF(C8=0,0,IF(X8=\"\",\"\",X8/(C8*1000)))","v":-4303623.7421869012}]
[{"$f":"IF(ISBLANK(InfoPro!A3),\"\",InfoPro!A3)","v":"SC_1323_A2"},{"$f":"IF(ISBLANK(InfoPro!B3),\"\",InfoPro!B3)","v":"GEN ARAUCA"},{"$f":"IF(ISBLANK(InfoPro!E3),\"\",InfoPro!E3)","v":30},{"$f":"IF(ISBLANK(InfoPro!F3),\"\",InfoPro!F3)","v":"Termica - Ciclo Abierto"},{"$f":"IF(ISBLANK(InfoPro!I3),\"\",YEAR(InfoPro!I3)-$G$3)","v":0},{"$f":"IF(B9=\"\",\"\",VLOOKUP(D9,Tablas!$B$2:$E$13,2,FALSE))","v":0.85},{"$f":"IF(B9=\"\",\"\",VLOOKUP(D9,Tablas!$B$2:$H$13,7,FALSE))","v":267152.5},{"$f":"IF(C9=\"\",\"\",+C9*F9*24*365)","v":223380},-16774832790,-15004322710.196781,-13420682209.478338,-12004188022.789213,-10737198589.256899,-9603934337.4390888,-8590281160.5000782,-7683614633.7210016,-6872642785.0813971,-6147265460.7168131,-5498448533.7359686,-4918111389.7459488,-4399026287.7870741,-3934728343.2800307,-3519435011.8783817,{"$f":"IF(W9=\"\",\"\",SUM(I9:W9))","v":-129108712265.60703},{"$f":"IF(C9=0,0,IF(X9=\"\",\"\",X9/(C9*1000)))","v":-4303623.7421869012}]
[{"$f":"IF(ISBLANK(InfoPro!A4),\"\",InfoPro!A4)","v":"SC_1323_A3"},{"$f":"IF(ISBLANK(InfoPro!B4),\"\",InfoPro!B4)","v":"GEN ARAUCA"},{"$f":"IF(ISBLANK(InfoPro!E4),\"\",InfoPro!E4)","v":30},{"$f":"IF(ISBLANK(InfoPro!F4),\"\",InfoPro!F4)","v":"Termica - Ciclo Abierto"},{"$f":"IF(ISBLANK(InfoPro!I4),\"\",YEAR(InfoPro!I4)-$G$3)","v":0},{"$f":"IF(B10=\"\",\"\",VLOOKUP(D10,Tablas!$B$2:$E$13,2,FALSE))","v":0.85},{"$f":"IF(B10=\"\",\"\",VLOOKUP(D10,Tablas!$B$2:$H$13,7,FALSE))","v":267152.5},223380,-16774832790,-15004322710.196781,-13420682209.478338,-12004188022.789213,-10737198589.256899,-9603934337.4390888,-8590281160.5000782,-7683614633.7210016,-6872642785.0813971,-6147265460.7168131,-5498448533.7359686,-4918111389.7459488,-4399026287.7870741,-3934728343.2800307,-3519435011.8783817,-129108712265.60703,-4303623.7421869012]
[{"$f":"IF(ISBLANK(InfoPro!A5),\"\",InfoPro!A5)","v":""},{"$f":"IF(ISBLANK(InfoPro!B5),\"\",InfoPro!B5)","v":""},{"$f":"IF(ISBLANK(InfoPro!E5),\"\",InfoPro!E5)","v":""},{"$f":"IF(ISBLANK(InfoPro!F5),\"\",InfoPro!F5)","v":""},{"$f":"IF(ISBLANK(InfoPro!I5),\"\",YEAR(InfoPro!I5)-$G$3)","v":""},{"$f":"IF(B11=\"\",\"\",VLOOKUP(D11,Tablas!$B$2:$E$13,2,FALSE))","v":""},{"$f":"IF(B11=\"\",\"\",VLOOKUP(D11,Tablas!$B$2:$H$13,7,FALSE))","v":""},"","","","","","","","","","","","","","","","","",""]
[{"$f":"IF(ISBLANK(InfoPro!A6),\"\",InfoPro!A6)","v":""},{"$f":"IF(ISBLANK(InfoPro!B6),\"\",InfoPro!B6)","v":""},{"$f":"IF(ISBLANK(InfoPro!E6),\"\",InfoPro!E6)","v":""},{"$f":"IF(ISBLANK(InfoPro!F6),\"\",InfoPro!F6)","v":""},{"$f":"IF(ISBLANK(InfoPro!I6),\"\",YEAR(InfoPro!I6)-$G$3)","v":""},{"$f":"IF(B12=\"\",\"\",VLOOKUP(D12,Tablas!$B$2:$E$13,2,FALSE))","v":""},{"$f":"IF(B12=\"\",\"\",VLOOKUP(D12,Tablas!$B$2:$H$13,7,FALSE))","v":""},"","","","","","","","","","","","","","","","","",""]
[{"$f":"IF(ISBLANK(InfoPro!A7),\"\",InfoPro!A7)","v":""},{"$f":"IF(ISBLANK(InfoPro!B7),\"\",InfoPro!B7)","v":""},{"$f":"IF(ISBLANK(InfoPro!E7),\"\",InfoPro!E7)","v":""},{"$f":"IF(ISBLANK(InfoPro!F7),\"\",InfoPro!F7)","v":""},{"$f":"IF(ISBLANK(InfoPro!I7),\"\",YEAR(InfoPro!I7)-$G$3)","v":""},{"$f":"IF(B13=\"\",\"\",VLOOKUP(D13,Tablas!$B$2:$E$13,2,FALSE))","v":""},{"$f":"IF(B13=\"\",\"\",VLOOKUP(D13,Tablas!$B$2:$H$13,7,FALSE))","v":""},"","","","","","","","","","","","","","","","","",""]
[{"$f":"IF(ISBLANK(InfoPro!A8),\"\",InfoPro!A8)","v":""},{"$f":"IF(ISBLANK(InfoPro!B8),\"\",InfoPro!B8)","v":""},{"$f":"IF(ISBLANK(InfoPro!E8),\"\",InfoPro!E8)","v":""},{"$f":"IF(ISBLANK(InfoPro!F8),\"\",InfoPro!F8)","v":""},{"$f":"IF(ISBLANK(InfoPro!I8),\"\",YEAR(InfoPro!I8)-$G$3)","v":""},{"$f":"IF(B14=\"\",\"\",VLOOKUP(D14,Tablas!$B$2:$E$13,2,FALSE))","v":""},{"$f":"IF(B14=\"\",\"\",VLOOKUP(D14,Tablas!$B$2:$H$13,7,FALSE))","v":""},"","","","","","","","","","","","","","","","","",""]
[{"$f":"IF(ISBLANK(InfoPro!A9),\"\",InfoPro!A9)","v":""},{"$f":"IF(ISBLANK(InfoPro!B9),\"\",InfoPro!B9)","v":""},{"$f":"IF(ISBLANK(InfoPro!E9),\"\",InfoPro!E9)","v":""},{"$f":"IF(ISBLANK(InfoPro!F9),\"\",InfoPro!F9)","v":""},{"$f":"IF(ISBLANK(InfoPro!I9),\"\",YEAR(InfoPro!I9)-$G$3)","v":""},{"$f":"IF(B15=\"\",\"\",VLOOKUP(D15,Tablas!$B$2:$E$13,2,FALSE))","v":""},{"$f":"IF(B15=\"\",\"\",VLOOKUP(D15,Tablas!$B$2:$H$13,7,FALSE))","v":""},"","","","","","","","","","","","","","","","","",""]
[{"$f":"IF(ISBLANK(InfoPro!A10),\"\",InfoPro!A10)","v":""},{"$f":"IF(ISBLANK(InfoPro!B10),\"\",InfoPro!B10)","v":""},{"$f":"IF(ISBLANK(InfoPro!E10),\"\",InfoPro!E10)","v":""},{"$f":"IF(ISBLANK(InfoPro!F10),\"\",InfoPro!F10)","v":""},{"$f":"IF(ISBLANK(InfoPro!I10),\"\",YEAR(InfoPro!I10)-$G$3)","v":""},{"$f":"IF(B16=\"\",\"\",VLOOKUP(D16,Tablas!$B$2:$E$13,2,FALSE))","v":""},{"$f":"IF(B16=\"\",\"\",VLOOKUP(D16,Tablas!$B$2:$H$13,7,FALSE))","v":""},"","","","","","","","","","","","","","","","","",""]
[{"$f":"IF(ISBLANK(InfoPro!A11),\"\",InfoPro!A11)","v":""},{"$f":"IF(ISBLANK(InfoPro!B11),\"\",InfoPro!B11)","v":""},{"$f":"IF(ISBLANK(InfoPro!E11),\"\",InfoPro!E11)","v":""},{"$f":"IF(ISBLANK(InfoPro!F11),\"\",InfoPro!F11)","v":""},{"$f":"IF(ISBLANK(InfoPro!I11),\"\",YEAR(InfoPro!I11)-$G$3)","v":""},{"$f":"IF(B17=\"\",\"\",VLOOKUP(D17,Tablas!$B$2:$E$13,2,FALSE))","v":""},{"$f":"IF(B17=\"\",\"\",VLOOKUP(D17,Tablas!$B$2:$H$13,7,FALSE))","v":""},"","","","","","","","","","","","","","","","","",""]
[{"$f":"IF(ISBLANK(InfoPro!A12),\"\",InfoPro!A12)","v":""},{"$f":"IF(ISBLANK(InfoPro!B12),\"\",InfoPro!B12)","v":""},{"$f":"IF(ISBLANK(InfoPro!E12),\"\",InfoPro!E12)","v":""},{"$f":"IF(ISBLANK(InfoPro!F12),\"\",InfoPro!F12)","v":""},{"$f":"IF(ISBLANK(InfoPro!I12),\"\",YEAR(InfoPro!I12)-$G$3)","v":""},{"$f":"IF(B18=\"\",\"\",VLOOKUP(D18,Tablas!$B$2:$E$13,2,FALSE))","v":""},{"$f":"IF(B18=\"\",\"\",VLOOKUP(D18,Tablas!$B$2:$H$13,7,FALSE))","v":""},"",{"$f":"IF($H18=\"\",\"\",(1/(1+$C$3)^(I$6+$E18))*$H18*($C$2 - $G18))","v":""},"","","","","","","","","","","","","","","",""]
[{"$f":"IF(ISBLANK(InfoPro!A13),\"\",InfoPro!A13)","v":""},{"$f":"IF(ISBLANK(InfoPro!B13),\"\",InfoPro!B13)","v":""},{"$f":"IF(ISBLANK(InfoPro!E13),\"\",InfoPro!E13)","v":""},{"$f":"IF(ISBLANK(InfoPro!F13),\"\",InfoPro!F13)","v":""},{"$f":"IF(ISBLANK(InfoPro!I13),\"\",YEAR(InfoPro!I13)-$G$3)","v":""},{"$f":"IF(B19=\"\",\"\",VLOOKUP(D19,Tablas!$B$2:$E$13,2,FALSE))","v":""},{"$f":"IF(B19=\"\",\"\",VLOOKUP(D19,Tablas!$B$2:$H$13,7,FALSE))","v":""},"","","","","","","","","","","","","","","","","",""]
[{"$f":"IF(ISBLANK(InfoPro!A14),\"\",InfoPro!A14)","v":""},{"$f":"IF(ISBLANK(InfoPro!B14),\"\",InfoPro!B14)","v":""},{"$f":"IF(ISBLANK(InfoPro!E14),\"\",InfoPro!E14)","v":""},{"$f":"IF(ISBLANK(InfoPro!F14),\"\",InfoPro!F14)","v":""},{"$f":"IF(ISBLANK(InfoPro!I14),\"\",YEAR(InfoPro!I14)-$G$3)","v":""},{"$f":"IF(B20=\"\",\"\",VLOOKUP(D20,Tablas!$B$2:$E$13,2,FALSE))","v":""},{"$f":"IF(B20=\"\",\"\",VLOOKUP(D20,Tablas!$B$2:$H$13,7,FALSE))","v":""},"","","","","","","","","","","","","","","","","",""]
[{"$f":"IF(ISBLANK(InfoPro!A15),\"\",InfoPro!A15)","v":""},{"$f":"IF(ISBLANK(InfoPro!B15),\"\",InfoPro!B15)","v":""},{"$f":"IF(ISBLANK(InfoPro!E15),\"\",InfoPro!E15)","v":""},{"$f":"IF(ISBLANK(InfoPro!F15),\"\",InfoPro!F15)","v":""},{"$f":"IF(ISBLANK(InfoPro!I15),\"\",YEAR(InfoPro!I15)-$G$3)","v":""},{"$f":"IF(B21=\"\",\"\",VLOOKUP(D21,Tablas!$B$2:$E$13,2,FALSE))","v":""},{"$f":"IF(B21=\"\",\"\",VLOOKUP(D21,Tablas!$B$2:$H$13,7,FALSE))","v":""},"","","","","","","","","","","","","","","","","",""]
[{"$f":"IF(ISBLANK(InfoPro!A16),\"\",InfoPro!A16)","v":""},{"$f":"IF(ISBLANK(InfoPro!B16),\"\",InfoPro!B16)","v":""},{"$f":"IF(ISBLANK(InfoPro!E16),\"\",InfoPro!E16)","v":""},{"$f":"IF(ISBLANK(InfoPro!F16),\"\",InfoPro!F16)","v":""},{"$f":"IF(ISBLANK(InfoPro!I16),\"\",YEAR(InfoPro!I16)-$G$3)","v":""},{"$f":"IF(B22=\"\",\"\",VLOOKUP(D22,Tablas!$B$2:$E$13,2,FALSE))","v":""},{"$f":"IF(B22=\"\",\"\",VLOOKUP(D22,Tablas!$B$2:$H$13,7,FALSE))","v":""},"","","","","","","","","","","","","","","","","",""]
[{"$f":"IF(ISBLANK(InfoPro!A17),\"\",InfoPro!A17)","v":""},{"$f":"IF(ISBLANK(InfoPro!B17),\"\",InfoPro!B17)","v":""},{"$f":"IF(ISBLANK(InfoPro!E17),\"\",InfoPro!E17)","v":""},{"$f":"IF(ISBLANK(InfoPro!F17),\"\",InfoPro!F17)","v":""},{"$f":"IF(ISBLANK(InfoPro!I17),\"\",YEAR(InfoPro!I17)-$G$3)","v":""},{"$f":"IF(B23=\"\",\"\",VLOOKUP(D23,Tablas!$B$2:$E$13,2,FALSE))","v":""},{"$f":"IF(B23=\"\",\"\",VLOOKUP(D23,Tablas!$B$2:$H$13,7,FALSE))","v":""},"","","","","","","","","","","","","","","","","",""]
[{"$f":"IF(ISBLANK(InfoPro!A18),\"\",InfoPro!A18)","v":""},{"$f":"IF(ISBLANK(InfoPro!B18),\"\",InfoPro!B18)","v":""},{"$f":"IF(ISBLANK(InfoPro!E18),\"\",InfoPro!E18)","v":""},{"$f":"IF(ISBLANK(InfoPro!F18),\"\",InfoPro!F18)","v":""},{"$f":"IF(ISBLANK(InfoPro!I18),\"\",YEAR(InfoPro!I18)-$G$3)","v":""},{"$f":"IF(B24=\"\",\"\",VLOOKUP(D24,Tablas!$B$2:$E$13,2,FALSE))","v":""},{"$f":"IF(B24=\"\",\"\",VLOOKUP(D24,Tablas!$B$2:$H$13,7,FALSE))","v":""},"","","","","","","","","","","","","","","","","",""]
[{"$f":"IF(ISBLANK(InfoPro!A19),\"\",InfoPro!A19)","v":""},{"$f":"IF(ISBLANK(InfoPro!B19),\"\",InfoPro!B19)","v":""},{"$f":"IF(ISBLANK(InfoPro!E19),\"\",InfoPro!E19)","v":""},{"$f":"IF(ISBLANK(InfoPro!F19),\"\",InfoPro!F19)","v":""},{"$f":"IF(ISBLANK(InfoPro!I19),\"\",YEAR(InfoPro!I19)-$G$3)","v":""},{"$f":"IF(B25=\"\",\"\",VLOOKUP(D25,Tablas!$B$2:$E$13,2,FALSE))","v":""},{"$f":"IF(B25=\"\",\"\",VLOOKUP(D25,Tablas!$B$2:$H$13,7,FALSE))","v":""},"","","","","","","","","","","","","","","","","",""]
[{"$f":"IF(ISBLANK(InfoPro!A20),\"\",InfoPro!A20)","v":""},{"$f":"IF(ISBLANK(InfoPro!B20),\"\",InfoPro!B20)","v":""},{"$f":"IF(ISBLANK(InfoPro!E20),\"\",InfoPro!E20)","v":""},{"$f":"IF(ISBLANK(InfoPro!F20),\"\",InfoPro!F20)","v":""},{"$f":"IF(ISBLANK(InfoPro!I20),\"\",YEAR(InfoPro!I20)-$G$3)","v":""},{"$f":"IF(B26=\"\",\"\",VLOOKUP(D26,Tablas!$B$2:$E$13,2,FALSE))","v":""},{"$f":"IF(B26=\"\",\"\",VLOOKUP(D26,Tablas!$B$2:$H$13,7,FALSE))","v":""},"","","","","","","","","","","","","","","","","",""]
[{"$f":"IF(ISBLANK(InfoPro!A21),\"\",InfoPro!A21)","v":""},{"$f":"IF(ISBLANK(InfoPro!B21),\"\",InfoPro!B21)","v":""},{"$f":"IF(ISBLANK(InfoPro!E21),\"\",InfoPro!E21)","v":""},{"$f":"IF(ISBLANK(InfoPro!F21),\"\",InfoPro!F21)","v":""},{"$f":"IF(ISBLANK(InfoPro!I21),\"\",YEAR(InfoPro!I21)-$G$3)","v":""},{"$f":"IF(B27=\"\",\"\",VLOOKUP(D27,Tablas!$B$2:$E$13,2,FALSE))","v":""},{"$f":"IF(B27=\"\",\"\",VLOOKUP(D27,Tablas!$B$2:$H$13,7,FALSE))","v":""},"","","","","","","","","","","","","","","","","",""]
[{"$f":"IF(ISBLANK(InfoPro!A22),\"\",InfoPro!A22)","v":""},{"$f":"IF(ISBLANK(InfoPro!B22),\"\",InfoPro!B22)","v":""},{"$f":"IF(ISBLANK(InfoPro!E22),\"\",InfoPro!E22)","v":""},{"$f":"IF(ISBLANK(InfoPro!F22),\"\",InfoPro!F22)","v":""},{"$f":"IF(ISBLANK(InfoPro!I22),\"\",YEAR(InfoPro!I22)-$G$3)","v":""},{"$f":"IF(B28=\"\",\"\",VLOOKUP(D28,Tablas!$B$2:$E$13,2,FALSE))","v":""},{"$f":"IF(B28=\"\",\"\",VLOOKUP(D28,Tablas!$B$2:$H$13,7,FALSE))","v":""},"",{"$f":"IF($H28=\"\",\"\",(1/(1+$C$3)^(I$6+$E28))*$H28*($C$2 - $G28))","v":""},"","","","","","","","","","","","","","","",""]
[{"$f":"IF(ISBLANK(InfoPro!A23),\"\",InfoPro!A23)","v":""},{"$f":"IF(ISBLANK(InfoPro!B23),\"\",InfoPro!B23)","v":""},{"$f":"IF(ISBLANK(InfoPro!E23),\"\",InfoPro!E23)","v":""},{"$f":"IF(ISBLANK(InfoPro!F23),\"\",InfoPro!F23)","v":""},{"$f":"IF(ISBLANK(InfoPro!I23),\"\",YEAR(InfoPro!I23)-$G$3)","v":""},{"$f":"IF(B29=\"\",\"\",VLOOKUP(D29,Tablas!$B$2:$E$13,2,FALSE))","v":""},{"$f":"IF(B29=\"\",\"\",VLOOKUP(D29,Tablas!$B$2:$H$13,7,FALSE))","v":""},"","","","","","","","","","","","","","","","","",""]
[{"$f":"IF(ISBLANK(InfoPro!A24),\"\",InfoPro!A24)","v":""},{"$f":"IF(ISBLANK(InfoPro!B24),\"\",InfoPro!B24)","v":""},{"$f":"IF(ISBLANK(InfoPro!E24),\"\",InfoPro!E24)","v":""},{"$f":"IF(ISBLANK(InfoPro!F24),\"\",InfoPro!F24)","v":""},{"$f":"IF(ISBLANK(InfoPro!I24),\"\",YEAR(InfoPro!I24)-$G$3)","v":""},{"$f":"IF(B30=\"\",\"\",VLOOKUP(D30,Tablas!$B$2:$E$13,2,FALSE))","v":""},{"$f":"IF(B30=\"\",\"\",VLOOKUP(D30,Tablas!$B$2:$H$13,7,FALSE))","v":""},"","","","","","","","","","","","","","","","","",""]
[{"$f":"IF(ISBLANK(InfoPro!A25),\"\",InfoPro!A25)","v":""},{"$f":"IF(ISBLANK(InfoPro!B25),\"\",InfoPro!B25)","v":""},{"$f":"IF(ISBLANK(InfoPro!E25),\"\",InfoPro!E25)","v":""},{"$f":"IF(ISBLANK(InfoPro!F25),\"\",InfoPro!F25)","v":""},{"$f":"IF(ISBLANK(InfoPro!I25),\"\",YEAR(InfoPro!I25)-$G$3)","v":""},{"$f":"IF(B31=\"\",\"\",VLOOKUP(D31,Tablas!$B$2:$E$13,2,FALSE))","v":""},{"$f":"IF(B31=\"\",\"\",VLOOKUP(D31,Tablas!$B$2:$H$13,7,FALSE))","v":""},"","","","","","","","","","","","","","","","","",""]
[{"$f":"IF(ISBLANK(InfoPro!A26),\"\",InfoPro!A26)","v":""},{"$f":"IF(ISBLANK(InfoPro!B26),\"\",InfoPro!B26)","v":""},{"$f":"IF(ISBLANK(InfoPro!E26),\"\",InfoPro!E26)","v":""},{"$f":"IF(ISBLANK(InfoPro!F26),\"\",InfoPro!F26)","v":""},{"$f":"IF(ISBLANK(InfoPro!I26),\"\",YEAR(InfoPro!I26)-$G$3)","v":""},{"$f":"IF(B32=\"\",\"\",VLOOKUP(D32,Tablas!$B$2:$E$13,2,FALSE))","v":""},{"$f":"IF(B32=\"\",\"\",VLOOKUP(D32,Tablas!$B$2:$H$13,7,FALSE))","v":""},"","","","","","","","","","","","","","","","","",""]
[{"$f":"IF(ISBLANK(InfoPro!A27),\"\",InfoPro!A27)","v":""},{"$f":"IF(ISBLANK(InfoPro!B27),\"\",InfoPro!B27)","v":""},{"$f":"IF(ISBLANK(InfoPro!E27),\"\",InfoPro!E27)","v":""},{"$f":"IF(ISBLANK(InfoPro!F27),\"\",InfoPro!F27)","v":""},{"$f":"IF(ISBLANK(InfoPro!I27),\"\",YEAR(InfoPro!I27)-$G$3)","v":""},{"$f":"IF(B33=\"\",\"\",VLOOKUP(D33,Tablas!$B$2:$E$13,2,FALSE))","v":""},{"$f":"IF(B33=\"\",\"\",VLOOKUP(D33,Tablas!$B$2:$H$13,7,FALSE))","v":""},"","","","","","","","","","","","","","","","","",""]
[{"$f":"IF(ISBLANK(InfoPro!A28),\"\",InfoPro!A28)","v":""},{"$f":"IF(ISBLANK(InfoPro!B28),\"\",InfoPro!B28)","v":""},{"$f":"IF(ISBLANK(InfoPro!E28),\"\",InfoPro!E28)","v":""},{"$f":"IF(ISBLANK(InfoPro!F28),\"\",InfoPro!F28)","v":""},{"$f":"IF(ISBLANK(InfoPro!I28),\"\",YEAR(InfoPro!I28)-$G$3)","v":""},{"$f":"IF(B34=\"\",\"\",VLOOKUP(D34,Tablas!$B$2:$E$13,2,FALSE))","v":""},{"$f":"IF(B34=\"\",\"\",VLOOKUP(D34,Tablas!$B$2:$H$13,7,FALSE))","v":""},"","","","","","","","","","","","","","","","","",""]
[{"$f":"IF(ISBLANK(InfoPro!A29),\"\",InfoPro!A29)","v":""},{"$f":"IF(ISBLANK(InfoPro!B29),\"\",InfoPro!B29)","v":""},{"$f":"IF(ISBLANK(InfoPro!E29),\"\",InfoPro!E29)","v":""},{"$f":"IF(ISBLANK(InfoPro!F29),\"\",InfoPro!F29)","v":""},{"$f":"IF(ISBLANK(InfoPro!I29),\"\",YEAR(InfoPro!I29)-$G$3)","v":""},{"$f":"IF(B35=\"\",\"\",VLOOKUP(D35,Tablas!$B$2:$E$13,2,FALSE))","v":""},{"$f":"IF(B35=\"\",\"\",VLOOKUP(D35,Tablas!$B$2:$H$13,7,FALSE))","v":""},"","","","","","","","","","","","","","","","","",""]
[{"$f":"IF(ISBLANK(InfoPro!A30),\"\",InfoPro!A30)","v":""},{"$f":"IF(ISBLANK(InfoPro!B30),\"\",InfoPro!B30)","v":""},{"$f":"IF(ISBLANK(InfoPro!E30),\"\",InfoPro!E30)","v":""},{"$f":"IF(ISBLANK(InfoPro!F30),\"\",InfoPro!F30)","v":""},{"$f":"IF(ISBLANK(InfoPro!I30),\"\",YEAR(InfoPro!I30)-$G$3)","v":""},{"$f":"IF(B36=\"\",\"\",VLOOKUP(D36,Tablas!$B$2:$E$13,2,FALSE))","v":""},{"$f":"IF(B36=\"\",\"\",VLOOKUP(D36,Tablas!$B$2:$H$13,7,FALSE))","v":""},"","","","","","","","","","","","","","","","","",""]
[{"$f":"IF(ISBLANK(InfoPro!A31),\"\",InfoPro!A31)","v":""},{"$f":"IF(ISBLANK(InfoPro!B31),\"\",InfoPro!B31)","v":""},{"$f":"IF(ISBLANK(InfoPro!E31),\"\",InfoPro!E31)","v":""},{"$f":"IF(ISBLANK(InfoPro!F31),\"\",InfoPro!F31)","v":""},{"$f":"IF(ISBLANK(InfoPro!I31),\"\",YEAR(InfoPro!I31)-$G$3)","v":""},{"$f":"IF(B37=\"\",\"\",VLOOKUP(D37,Tablas!$B$2:$E$13,2,FALSE))","v":""},{"$f":"IF(B37=\"\",\"\",VLOOKUP(D37,Tablas!$B$2:$H$13,7,FALSE))","v":""},"","","","","","","","","","","","","","","","","",""]
[{"$f":"IF(ISBLANK(InfoPro!A32),\"\",InfoPro!A32)","v":""},{"$f":"IF(ISBLANK(InfoPro!B32),\"\",InfoPro!B32)","v":""},{"$f":"IF(ISBLANK(InfoPro!E32),\"\",InfoPro!E32)","v":""},{"$f":"IF(ISBLANK(InfoPro!F32),\"\",InfoPro!F32)","v":""},{"$f":"IF(ISBLANK(InfoPro!I32),\"\",YEAR(InfoPro!I32)-$G$3)","v":""},{"$f":"IF(B38=\"\",\"\",VLOOKUP(D38,Tablas!$B$2:$E$13,2,FALSE))","v":""},{"$f":"IF(B38=\"\",\"\",VLOOKUP(D38,Tablas!$B$2:$H$13,7,FALSE))","v":""},"",{"$f":"IF($H38=\"\",\"\",(1/(1+$C$3)^(I$6+$E38))*$H38*($C$2 - $G38))","v":""},"","","","","","","","","","","","","","","",""]
[{"$f":"IF(ISBLANK(InfoPro!A33),\"\",InfoPro!A33)","v":""},{"$f":"IF(ISBLANK(InfoPro!B33),\"\",InfoPro!B33)","v":""},{"$f":"IF(ISBLANK(InfoPro!E33),\"\",InfoPro!E33)","v":""},{"$f":"IF(ISBLANK(InfoPro!F33),\"\",InfoPro!F33)","v":""},{"$f":"IF(ISBLANK(InfoPro!I33),\"\",YEAR(InfoPro!I33)-$G$3)","v":""},{"$f":"IF(B39=\"\",\"\",VLOOKUP(D39,Tablas!$B$2:$E$13,2,FALSE))","v":""},{"$f":"IF(B39=\"\",\"\",VLOOKUP(D39,Tablas!$B$2:$H$13,7,FALSE))","v":""},"","","","","","","","","","","","","","","","","",""]
[{"$f":"IF(ISBLANK(InfoPro!A34),\"\",InfoPro!A34)","v":""},{"$f":"IF(ISBLANK(InfoPro!B34),\"\",InfoPro!B34)","v":""},{"$f":"IF(ISBLANK(InfoPro!E34),\"\",InfoPro!E34)","v":""},{"$f":"IF(ISBLANK(InfoPro!F34),\"\",InfoPro!F34)","v":""},{"$f":"IF(ISBLANK(InfoPro!I34),\"\",YEAR(InfoPro!I34)-$G$3)","v":""},{"$f":"IF(B40=\"\",\"\",VLOOKUP(D40,Tablas!$B$2:$E$13,2,FALSE))","v":""},{"$f":"IF(B40=\"\",\"\",VLOOKUP(D40,Tablas!$B$2:$H$13,7,FALSE))","v":""},{"$f":"IF(C40=\"\",\"\",+C40*F40*24*365)","v":""},"","","","","","","","","","","","","","","","",""]
[{"$f":"IF(ISBLANK(InfoPro!A35),\"\",InfoPro!A35)","v":""},{"$f":"IF(ISBLANK(InfoPro!B35),\"\",InfoPro!B35)","v":""},{"$f":"IF(ISBLANK(InfoPro!E35),\"\",InfoPro!E35)","v":""},{"$f":"IF(ISBLANK(InfoPro!F35),\"\",InfoPro!F35)","v":""},{"$f":"IF(ISBLANK(InfoPro!I35),\"\",YEAR(InfoPro!I35)-$G$3)","v":""},{"$f":"IF(B41=\"\",\"\",VLOOKUP(D41,Tablas!$B$2:$E$13,2,FALSE))","v":""},{"$f":"IF(B41=\"\",\"\",VLOOKUP(D41,Tablas!$B$2:$H$13,7,FALSE))","v":""},"","","","","","","","","","","","","","","","","",""]
[{"$f":"IF(ISBLANK(InfoPro!A36),\"\",InfoPro!A36)","v":""},{"$f":"IF(ISBLANK(InfoPro!B36),\"\",InfoPro!B36)","v":""},{"$f":"IF(ISBLANK(InfoPro!E36),\"\",InfoPro!E36)","v":""},{"$f":"IF(ISBLANK(InfoPro!F36),\"\",InfoPro!F36)","v":""},{"$f":"IF(ISBLANK(InfoPro!I36),\"\",YEAR(InfoPro!I36)-$G$3)","v":""},{"$f":"IF(B42=\"\",\"\",VLOOKUP(D42,Tablas!$B$2:$E$13,2,FALSE))","v":""},{"$f":"IF(B42=\"\",\"\",VLOOKUP(D42,Tablas!$B$2:$H$13,7,FALSE))","v":""},"","","","","","","","","","","","","","","","","",""]
[{"$f":"IF(ISBLANK(InfoPro!A37),\"\",InfoPro!A37)","v":""},{"$f":"IF(ISBLANK(InfoPro!B37),\"\",InfoPro!B37)","v":""},{"$f":"IF(ISBLANK(InfoPro!E37),\"\",InfoPro!E37)","v":""},{"$f":"IF(ISBLANK(InfoPro!F37),\"\",InfoPro!F37)","v":""},{"$f":"IF(ISBLANK(InfoPro!I37),\"\",YEAR(InfoPro!I37)-$G$3)","v":""},{"$f":"IF(B43=\"\",\"\",VLOOKUP(D43,Tablas!$B$2:$E$13,2,FALSE))","v":""},{"$f":"IF(B43=\"\",\"\",VLOOKUP(D43,Tablas!$B$2:$H$13,7,FALSE))","v":""},"","","","","","","","","","","","","","","","","",""]
[{"$f":"IF(ISBLANK(InfoPro!A38),\"\",InfoPro!A38)","v":""},{"$f":"IF(ISBLANK(InfoPro!B38),\"\",InfoPro!B38)","v":""},{"$f":"IF(ISBLANK(InfoPro!E38),\"\",InfoPro!E38)","v":""},{"$f":"IF(ISBLANK(InfoPro!F38),\"\",InfoPro!F38)","v":""},{"$f":"IF(ISBLANK(InfoPro!I38),\"\",YEAR(InfoPro!I38)-$G$3)","v":""},{"$f":"IF(B44=\"\",\"\",VLOOKUP(D44,Tablas!$B$2:$E$13,2,FALSE))","v":""},{"$f":"IF(B44=\"\",\"\",VLOOKUP(D44,Tablas!$B$2:$H$13,7,FALSE))","v":""},"","","","","","","","","","","","","","","","","",""]
[{"$f":"IF(ISBLANK(InfoPro!A39),\"\",InfoPro!A39)","v":""},{"$f":"IF(ISBLANK(InfoPro!B39),\"\",InfoPro!B39)","v":""},{"$f":"IF(ISBLANK(InfoPro!E39),\"\",InfoPro!E39)","v":""},{"$f":"IF(ISBLANK(InfoPro!F39),\"\",InfoPro!F39)","v":""},{"$f":"IF(ISBLANK(InfoPro!I39),\"\",YEAR(InfoPro!I39)-$G$3)","v":""},{"$f":"IF(B45=\"\",\"\",VLOOKUP(D45,Tablas!$B$2:$E$13,2,FALSE))","v":""},{"$f":"IF(B45=\"\",\"\",VLOOKUP(D45,Tablas!$B$2:$H$13,7,FALSE))","v":""},"","","","","","","","","","","","","","","","","",""]
[{"$f":"IF(ISBLANK(InfoPro!A40),\"\",InfoPro!A40)","v":""},{"$f":"IF(ISBLANK(InfoPro!B40),\"\",InfoPro!B40)","v":""},{"$f":"IF(ISBLANK(InfoPro!E40),\"\",InfoPro!E40)","v":""},{"$f":"IF(ISBLANK(InfoPro!F40),\"\",InfoPro!F40)","v":""},{"$f":"IF(ISBLANK(InfoPro!I40),\"\",YEAR(InfoPro!I40)-$G$3)","v":""},{"$f":"IF(B46=\"\",\"\",VLOOKUP(D46,Tablas!$B$2:$E$13,2,FALSE))","v":""},{"$f":"IF(B46=\"\",\"\",VLOOKUP(D46,Tablas!$B$2:$H$13,7,FALSE))","v":""},"","","","","","","","","","","","","","","","","",""]
[{"$f":"IF(ISBLANK(InfoPro!A41),\"\",InfoPro!A41)","v":""},{"$f":"IF(ISBLANK(InfoPro!B41),\"\",InfoPro!B41)","v":""},{"$f":"IF(ISBLANK(InfoPro!E41),\"\",InfoPro!E41)","v":""},{"$f":"IF(ISBLANK(InfoPro!F41),\"\",InfoPro!F41)","v":""},{"$f":"IF(ISBLANK(InfoPro!I41),\"\",YEAR(InfoPro!I41)-$G$3)","v":""},{"$f":"IF(B47=\"\",\"\",VLOOKUP(D47,Tablas!$B$2:$E$13,2,FALSE))","v":""},{"$f":"IF(B47=\"\",\"\",VLOOKUP(D47,Tablas!$B$2:$H$13,7,FALSE))","v":""},"","","","","","","","","","","","","","","","","",""]
[{"$f":"IF(ISBLANK(InfoPro!A42),\"\",InfoPro!A42)","v":""},{"$f":"IF(ISBLANK(InfoPro!B42),\"\",InfoPro!B42)","v":""},{"$f":"IF(ISBLANK(InfoPro!E42),\"\",InfoPro!E42)","v":""},{"$f":"IF(ISBLANK(InfoPro!F42),\"\",InfoPro!F42)","v":""},{"$f":"IF(ISBLANK(InfoPro!I42),\"\",YEAR(InfoPro!I42)-$G$3)","v":""},{"$f":"IF(B48=\"\",\"\",VLOOKUP(D48,Tablas!$B$2:$E$13,2,FALSE))","v":""},{"$f":"IF(B48=\"\",\"\",VLOOKUP(D48,Tablas!$B$2:$H$13,7,FALSE))","v":""},"",{"$f":"IF($H48=\"\",\"\",(1/(1+$C$3)^(I$6+$E48))*$H48*($C$2 - $G48))","v":""},"","","","","","","","","","","","","","","",""]
[{"$f":"IF(ISBLANK(InfoPro!A43),\"\",InfoPro!A43)","v":""},{"$f":"IF(ISBLANK(InfoPro!B43),\"\",InfoPro!B43)","v":""},{"$f":"IF(ISBLANK(InfoPro!E43),\"\",InfoPro!E43)","v":""},{"$f":"IF(ISBLANK(InfoPro!F43),\"\",InfoPro!F43)","v":""},{"$f":"IF(ISBLANK(InfoPro!I43),\"\",YEAR(InfoPro!I43)-$G$3)","v":""},{"$f":"IF(B49=\"\",\"\",VLOOKUP(D49,Tablas!$B$2:$E$13,2,FALSE))","v":""},{"$f":"IF(B49=\"\",\"\",VLOOKUP(D49,Tablas!$B$2:$H$13,7,FALSE))","v":""},"","","","","","","","","","","","","","","","","",""]
[{"$f":"IF(ISBLANK(InfoPro!A44),\"\",InfoPro!A44)","v":""},{"$f":"IF(ISBLANK(InfoPro!B44),\"\",InfoPro!B44)","v":""},{"$f":"IF(ISBLANK(InfoPro!E44),\"\",InfoPro!E44)","v":""},{"$f":"IF(ISBLANK(InfoPro!F44),\"\",InfoPro!F44)","v":""},{"$f":"IF(ISBLANK(InfoPro!I44),\"\",YEAR(InfoPro!I44)-$G$3)","v":""},{"$f":"IF(B50=\"\",\"\",VLOOKUP(D50,Tablas!$B$2:$E$13,2,FALSE))","v":""},{"$f":"IF(B50=\"\",\"\",VLOOKUP(D50,Tablas!$B$2:$H$13,7,FALSE))","v":""},"","","","","","","","","","","","","","","","","",""]
[{"$f":"IF(ISBLANK(InfoPro!A45),\"\",InfoPro!A45)","v":""},{"$f":"IF(ISBLANK(InfoPro!B45),\"\",InfoPro!B45)","v":""},{"$f":"IF(ISBLANK(InfoPro!E45),\"\",InfoPro!E45)","v":""},{"$f":"IF(ISBLANK(InfoPro!F45),\"\",InfoPro!F45)","v":""},{"$f":"IF(ISBLANK(InfoPro!I45),\"\",YEAR(InfoPro!I45)-$G$3)","v":""},{"$f":"IF(B51=\"\",\"\",VLOOKUP(D51,Tablas!$B$2:$E$13,2,FALSE))","v":""},{"$f":"IF(B51=\"\",\"\",VLOOKUP(D51,Tablas!$B$2:$H$13,7,FALSE))","v":""},"","","","","","","","","","","","","","","","","",""]
[{"$f":"IF(ISBLANK(InfoPro!A46),\"\",InfoPro!A46)","v":""},{"$f":"IF(ISBLANK(InfoPro!B46),\"\",InfoPro!B46)","v":""},{"$f":"IF(ISBLANK(InfoPro!E46),\"\",InfoPro!E46)","v":""},{"$f":"IF(ISBLANK(InfoPro!F46),\"\",InfoPro!F46)","v":""},{"$f":"IF(ISBLANK(InfoPro!I46),\"\",YEAR(InfoPro!I46)-$G$3)","v":""},{"$f":"IF(B52=\"\",\"\",VLOOKUP(D52,Tablas!$B$2:$E$13,2,FALSE))","v":""},{"$f":"IF(B52=\"\",\"\",VLOOKUP(D52,Tablas!$B$2:$H$13,7,FALSE))","v":""},"","","","","","","","","","","","","","","","","",""]
[{"$f":"IF(ISBLANK(InfoPro!A47),\"\",InfoPro!A47)","v":""},{"$f":"IF(ISBLANK(InfoPro!B47),\"\",InfoPro!B47)","v":""},{"$f":"IF(ISBLANK(InfoPro!E47),\"\",InfoPro!E47)","v":""},{"$f":"IF(ISBLANK(InfoPro!F47),\"\",InfoPro!F47)","v":""},{"$f":"IF(ISBLANK(InfoPro!I47),\"\",YEAR(InfoPro!I47)-$G$3)","v":""},{"$f":"IF(B53=\"\",\"\",VLOOKUP(D53,Tablas!$B$2:$E$13,2,FALSE))","v":""},{"$f":"IF(B53=\"\",\"\",VLOOKUP(D53,Tablas!$B$2:$H$13,7,FALSE))","v":""},"","","","","","","","","","","","","","","","","",""]
[{"$f":"IF(ISBLANK(InfoPro!A48),\"\",InfoPro!A48)","v":""},{"$f":"IF(ISBLANK(InfoPro!B48),\"\",InfoPro!B48)","v":""},{"$f":"IF(ISBLANK(InfoPro!E48),\"\",InfoPro!E48)","v":""},{"$f":"IF(ISBLANK(InfoPro!F48),\"\",InfoPro!F48)","v":""},{"$f":"IF(ISBLANK(InfoPro!I48),\"\",YEAR(InfoPro!I48)-$G$3)","v":""},{"$f":"IF(B54=\"\",\"\",VLOOKUP(D54,Tablas!$B$2:$E$13,2,FALSE))","v":""},{"$f":"IF(B54=\"\",\"\",VLOOKUP(D54,Tablas!$B$2:$H$13,7,FALSE))","v":""},"","","","","","","","","","","","","","","","","",""]
[{"$f":"IF(ISBLANK(InfoPro!A49),\"\",InfoPro!A49)","v":""},{"$f":"IF(ISBLANK(InfoPro!B49),\"\",InfoPro!B49)","v":""},{"$f":"IF(ISBLANK(InfoPro!E49),\"\",InfoPro!E49)","v":""},{"$f":"IF(ISBLANK(InfoPro!F49),\"\",InfoPro!F49)","v":""},{"$f":"IF(ISBLANK(InfoPro!I49),\"\",YEAR(InfoPro!I49)-$G$3)","v":""},{"$f":"IF(B55=\"\",\"\",VLOOKUP(D55,Tablas!$B$2:$E$13,2,FALSE))","v":""},{"$f":"IF(B55=\"\",\"\",VLOOKUP(D55,Tablas!$B$2:$H$13,7,FALSE))","v":""},"","","","","","","","","","","","","","","","","",""]
[{"$f":"IF(ISBLANK(InfoPro!A50),\"\",InfoPro!A50)","v":""},{"$f":"IF(ISBLANK(InfoPro!B50),\"\",InfoPro!B50)","v":""},{"$f":"IF(ISBLANK(InfoPro!E50),\"\",InfoPro!E50)","v":""},{"$f":"IF(ISBLANK(InfoPro!F50),\"\",InfoPro!F50)","v":""},{"$f":"IF(ISBLANK(InfoPro!I50),\"\",YEAR(InfoPro!I50)-$G$3)","v":""},{"$f":"IF(B56=\"\",\"\",VLOOKUP(D56,Tablas!$B$2:$E$13,2,FALSE))","v":""},{"$f":"IF(B56=\"\",\"\",VLOOKUP(D56,Tablas!$B$2:$H$13,7,FALSE))","v":""},"","","","","","","","","","","","","","","","","",""]
[{"$f":"IF(ISBLANK(InfoPro!A51),\"\",InfoPro!A51)","v":""},{"$f":"IF(ISBLANK(InfoPro!B51),\"\",InfoPro!B51)","v":""},{"$f":"IF(ISBLANK(InfoPro!E51),\"\",InfoPro!E51)","v":""},{"$f":"IF(ISBLANK(InfoPro!F51),\"\",InfoPro!F51)","v":""},{"$f":"IF(ISBLANK(InfoPro!I51),\"\",YEAR(InfoPro!I51)-$G$3)","v":""},{"$f":"IF(B57=\"\",\"\",VLOOKUP(D57,Tablas!$B$2:$E$13,2,FALSE))","v":""},{"$f":"IF(B57=\"\",\"\",VLOOKUP(D57,Tablas!$B$2:$H$13,7,FALSE))","v":""},"","","","","","","","","","","","","","","","","",""]
[{"$f":"IF(ISBLANK(InfoPro!A52),\"\",InfoPro!A52)","v":""},{"$f":"IF(ISBLANK(InfoPro!B52),\"\",InfoPro!B52)","v":""},{"$f":"IF(ISBLANK(InfoPro!E52),\"\",InfoPro!E52)","v":""},{"$f":"IF(ISBLANK(InfoPro!F52),\"\",InfoPro!F52)","v":""},{"$f":"IF(ISBLANK(InfoPro!I52),\"\",YEAR(InfoPro!I52)-$G$3)","v":""},{"$f":"IF(B58=\"\",\"\",VLOOKUP(D58,Tablas!$B$2:$E$13,2,FALSE))","v":""},{"$f":"IF(B58=\"\",\"\",VLOOKUP(D58,Tablas!$B$2:$H$13,7,FALSE))","v":""},"",{"$f":"IF($H58=\"\",\"\",(1/(1+$C$3)^(I$6+$E58))*$H58*($C$2 - $G58))","v":""},"","","","","","","","","","","","","","","",""]
[{"$f":"IF(ISBLANK(InfoPro!A53),\"\",InfoPro!A53)","v":""},{"$f":"IF(ISBLANK(InfoPro!B53),\"\",InfoPro!B53)","v":""},{"$f":"IF(ISBLANK(InfoPro!E53),\"\",InfoPro!E53)","v":""},{"$f":"IF(ISBLANK(InfoPro!F53),\"\",InfoPro!F53)","v":""},{"$f":"IF(ISBLANK(InfoPro!I53),\"\",YEAR(InfoPro!I53)-$G$3)","v":""},{"$f":"IF(B59=\"\",\"\",VLOOKUP(D59,Tablas!$B$2:$E$13,2,FALSE))","v":""},{"$f":"IF(B59=\"\",\"\",VLOOKUP(D59,Tablas!$B$2:$H$13,7,FALSE))","v":""},"","","","","","","","","","","","","","","","","",""]
[{"$f":"IF(ISBLANK(InfoPro!A54),\"\",InfoPro!A54)","v":""},{"$f":"IF(ISBLANK(InfoPro!B54),\"\",InfoPro!B54)","v":""},{"$f":"IF(ISBLANK(InfoPro!E54),\"\",InfoPro!E54)","v":""},{"$f":"IF(ISBLANK(InfoPro!F54),\"\",InfoPro!F54)","v":""},{"$f":"IF(ISBLANK(InfoPro!I54),\"\",YEAR(InfoPro!I54)-$G$3)","v":""},{"$f":"IF(B60=\"\",\"\",VLOOKUP(D60,Tablas!$B$2:$E$13,2,FALSE))","v":""},{"$f":"IF(B60=\"\",\"\",VLOOKUP(D60,Tablas!$B$2:$H$13,7,FALSE))","v":""},"","","","","","","","","","","","","","","","","",""]
[{"$f":"IF(ISBLANK(InfoPro!A55),\"\",InfoPro!A55)","v":""},{"$f":"IF(ISBLANK(InfoPro!B55),\"\",InfoPro!B55)","v":""},{"$f":"IF(ISBLANK(InfoPro!E55),\"\",InfoPro!E55)","v":""},{"$f":"IF(ISBLANK(InfoPro!F55),\"\",InfoPro!F55)","v":""},{"$f":"IF(ISBLANK(InfoPro!I55),\"\",YEAR(InfoPro!I55)-$G$3)","v":""},{"$f":"IF(B61=\"\",\"\",VLOOKUP(D61,Tablas!$B$2:$E$13,2,FALSE))","v":""},{"$f":"IF(B61=\"\",\"\",VLOOKUP(D61,Tablas!$B$2:$H$13,7,FALSE))","v":""},"","","","","","","","","","","","","","","","","",""]
[{"$f":"IF(ISBLANK(InfoPro!A56),\"\",InfoPro!A56)","v":""},{"$f":"IF(ISBLANK(InfoPro!B56),\"\",InfoPro!B56)","v":""},{"$f":"IF(ISBLANK(InfoPro!E56),\"\",InfoPro!E56)","v":""},{"$f":"IF(ISBLANK(InfoPro!F56),\"\",InfoPro!F56)","v":""},{"$f":"IF(ISBLANK(InfoPro!I56),\"\",YEAR(InfoPro!I56)-$G$3)","v":""},{"$f":"IF(B62=\"\",\"\",VLOOKUP(D62,Tablas!$B$2:$E$13,2,FALSE))","v":""},{"$f":"IF(B62=\"\",\"\",VLOOKUP(D62,Tablas!$B$2:$H$13,7,FALSE))","v":""},"","","","","","","","","","","","","","","","","",""]
[{"$f":"IF(ISBLANK(InfoPro!A57),\"\",InfoPro!A57)","v":""},{"$f":"IF(ISBLANK(InfoPro!B57),\"\",InfoPro!B57)","v":""},{"$f":"IF(ISBLANK(InfoPro!E57),\"\",InfoPro!E57)","v":""},{"$f":"IF(ISBLANK(InfoPro!F57),\"\",InfoPro!F57)","v":""},{"$f":"IF(ISBLANK(InfoPro!I57),\"\",YEAR(InfoPro!I57)-$G$3)","v":""},{"$f":"IF(B63=\"\",\"\",VLOOKUP(D63,Tablas!$B$2:$E$13,2,FALSE))","v":""},{"$f":"IF(B63=\"\",\"\",VLOOKUP(D63,Tablas!$B$2:$H$13,7,FALSE))","v":""},"","","","","","","","","","","","","","","","","",""]
[{"$f":"IF(ISBLANK(InfoPro!A58),\"\",InfoPro!A58)","v":""},{"$f":"IF(ISBLANK(InfoPro!B58),\"\",InfoPro!B58)","v":""},{"$f":"IF(ISBLANK(InfoPro!E58),\"\",InfoPro!E58)","v":""},{"$f":"IF(ISBLANK(InfoPro!F58),\"\",InfoPro!F58)","v":""},{"$f":"IF(ISBLANK(InfoPro!I58),\"\",YEAR(InfoPro!I58)-$G$3)","v":""},{"$f":"IF(B64=\"\",\"\",VLOOKUP(D64,Tablas!$B$2:$E$13,2,FALSE))","v":""},{"$f":"IF(B64=\"\",\"\",VLOOKUP(D64,Tablas!$B$2:$H$13,7,FALSE))","v":""},"","","","","","","","","","","","","","","","","",""]
[{"$f":"IF(ISBLANK(InfoPro!A59),\"\",InfoPro!A59)","v":""},{"$f":"IF(ISBLANK(InfoPro!B59),\"\",InfoPro!B59)","v":""},{"$f":"IF(ISBLANK(InfoPro!E59),\"\",InfoPro!E59)","v":""},{"$f":"IF(ISBLANK(InfoPro!F59),\"\",InfoPro!F59)","v":""},{"$f":"IF(ISBLANK(InfoPro!I59),\"\",YEAR(InfoPro!I59)-$G$3)","v":""},{"$f":"IF(B65=\"\",\"\",VLOOKUP(D65,Tablas!$B$2:$E$13,2,FALSE))","v":""},{"$f":"IF(B65=\"\",\"\",VLOOKUP(D65,Tablas!$B$2:$H$13,7,FALSE))","v":""},"","","","","","","","","","","","","","","","","",""]
[{"$f":"IF(ISBLANK(InfoPro!A60),\"\",InfoPro!A60)","v":""},{"$f":"IF(ISBLANK(InfoPro!B60),\"\",InfoPro!B60)","v":""},{"$f":"IF(ISBLANK(InfoPro!E60),\"\",InfoPro!E60)","v":""},{"$f":"IF(ISBLANK(InfoPro!F60),\"\",InfoPro!F60)","v":""},{"$f":"IF(ISBLANK(InfoPro!I60),\"\",YEAR(InfoPro!I60)-$G$3)","v":""},{"$f":"IF(B66=\"\",\"\",VLOOKUP(D66,Tablas!$B$2:$E$13,2,FALSE))","v":""},{"$f":"IF(B66=\"\",\"\",VLOOKUP(D66,Tablas!$B$2:$H$13,7,FALSE))","v":""},"","","","","","","","","","","","","","","","","",""]
[{"$f":"IF(ISBLANK(InfoPro!A61),\"\",InfoPro!A61)","v":""},{"$f":"IF(ISBLANK(InfoPro!B61),\"\",InfoPro!B61)","v":""},{"$f":"IF(ISBLANK(InfoPro!E61),\"\",InfoPro!E61)","v":""},{"$f":"IF(ISBLANK(InfoPro!F61),\"\",InfoPro!F61)","v":""},{"$f":"IF(ISBLANK(InfoPro!I61),\"\",YEAR(InfoPro!I61)-$G$3)","v":""},{"$f":"IF(B67=\"\",\"\",VLOOKUP(D67,Tablas!$B$2:$E$13,2,FALSE))","v":""},{"$f":"IF(B67=\"\",\"\",VLOOKUP(D67,Tablas!$B$2:$H$13,7,FALSE))","v":""},"","","","","","","","","","","","","","","","","",""]
[{"$f":"IF(ISBLANK(InfoPro!A62),\"\",InfoPro!A62)","v":""},{"$f":"IF(ISBLANK(InfoPro!B62),\"\",InfoPro!B62)","v":""},{"$f":"IF(ISBLANK(InfoPro!E62),\"\",InfoPro!E62)","v":""},{"$f":"IF(ISBLANK(InfoPro!F62),\"\",InfoPro!F62)","v":""},{"$f":"IF(ISBLANK(InfoPro!I62),\"\",YEAR(InfoPro!I62)-$G$3)","v":""},{"$f":"IF(B68=\"\",\"\",VLOOKUP(D68,Tablas!$B$2:$E$13,2,FALSE))","v":""},{"$f":"IF(B68=\"\",\"\",VLOOKUP(D68,Tablas!$B$2:$H$13,7,FALSE))","v":""},"",{"$f":"IF($H68=\"\",\"\",(1/(1+$C$3)^(I$6+$E68))*$H68*($C$2 - $G68))","v":""},"","","","","","","","","","","","","","","",""]
[{"$f":"IF(ISBLANK(InfoPro!A63),\"\",InfoPro!A63)","v":""},{"$f":"IF(ISBLANK(InfoPro!B63),\"\",InfoPro!B63)","v":""},{"$f":"IF(ISBLANK(InfoPro!E63),\"\",InfoPro!E63)","v":""},{"$f":"IF(ISBLANK(InfoPro!F63),\"\",InfoPro!F63)","v":""},{"$f":"IF(ISBLANK(InfoPro!I63),\"\",YEAR(InfoPro!I63)-$G$3)","v":""},{"$f":"IF(B69=\"\",\"\",VLOOKUP(D69,Tablas!$B$2:$E$13,2,FALSE))","v":""},{"$f":"IF(B69=\"\",\"\",VLOOKUP(D69,Tablas!$B$2:$H$13,7,FALSE))","v":""},"","","","","","","","","","","","","","","","","",""]
[{"$f":"IF(ISBLANK(InfoPro!A64),\"\",InfoPro!A64)","v":""},{"$f":"IF(ISBLANK(InfoPro!B64),\"\",InfoPro!B64)","v":""},{"$f":"IF(ISBLANK(InfoPro!E64),\"\",InfoPro!E64)","v":""},{"$f":"IF(ISBLANK(InfoPro!F64),\"\",InfoPro!F64)","v":""},{"$f":"IF(ISBLANK(InfoPro!I64),\"\",YEAR(InfoPro!I64)-$G$3)","v":""},{"$f":"IF(B70=\"\",\"\",VLOOKUP(D70,Tablas!$B$2:$E$13,2,FALSE))","v":""},{"$f":"IF(B70=\"\",\"\",VLOOKUP(D70,Tablas!$B$2:$H$13,7,FALSE))","v":""},"","","","","","","","","","","","","","","","","",""]
[{"$f":"IF(ISBLANK(InfoPro!A65),\"\",InfoPro!A65)","v":""},{"$f":"IF(ISBLANK(InfoPro!B65),\"\",InfoPro!B65)","v":""},{"$f":"IF(ISBLANK(InfoPro!E65),\"\",InfoPro!E65)","v":""},{"$f":"IF(ISBLANK(InfoPro!F65),\"\",InfoPro!F65)","v":""},{"$f":"IF(ISBLANK(InfoPro!I65),\"\",YEAR(InfoPro!I65)-$G$3)","v":""},{"$f":"IF(B71=\"\",\"\",VLOOKUP(D71,Tablas!$B$2:$E$13,2,FALSE))","v":""},{"$f":"IF(B71=\"\",\"\",VLOOKUP(D71,Tablas!$B$2:$H$13,7,FALSE))","v":""},"","","","","","","","","","","","","","","","","",""]
[{"$f":"IF(ISBLANK(InfoPro!A66),\"\",InfoPro!A66)","v":""},{"$f":"IF(ISBLANK(InfoPro!B66),\"\",InfoPro!B66)","v":""},{"$f":"IF(ISBLANK(InfoPro!E66),\"\",InfoPro!E66)","v":""},{"$f":"IF(ISBLANK(InfoPro!F66),\"\",InfoPro!F66)","v":""},{"$f":"IF(ISBLANK(InfoPro!I66),\"\",YEAR(InfoPro!I66)-$G$3)","v":""},{"$f":"IF(B72=\"\",\"\",VLOOKUP(D72,Tablas!$B$2:$E$13,2,FALSE))","v":""},{"$f":"IF(B72=\"\",\"\",VLOOKUP(D72,Tablas!$B$2:$H$13,7,FALSE))","v":""},{"$f":"IF(C72=\"\",\"\",+C72*F72*24*365)","v":""},"","","","","","","","","","","","","","","","",""]
[{"$f":"IF(ISBLANK(InfoPro!A67),\"\",InfoPro!A67)","v":""},{"$f":"IF(ISBLANK(InfoPro!B67),\"\",InfoPro!B67)","v":""},{"$f":"IF(ISBLANK(InfoPro!E67),\"\",InfoPro!E67)","v":""},{"$f":"IF(ISBLANK(InfoPro!F67),\"\",InfoPro!F67)","v":""},{"$f":"IF(ISBLANK(InfoPro!I67),\"\",YEAR(InfoPro!I67)-$G$3)","v":""},{"$f":"IF(B73=\"\",\"\",VLOOKUP(D73,Tablas!$B$2:$E$13,2,FALSE))","v":""},{"$f":"IF(B73=\"\",\"\",VLOOKUP(D73,Tablas!$B$2:$H$13,7,FALSE))","v":""},"","","","","","","","","","","","","","","","",{"$f":"IF(W73=\"\",\"\",SUM(I73:W73))","v":""},{"$f":"IF(C73=0,0,IF(X73=\"\",\"\",X73/(C73*1000)))","v":""}]
[{"$f":"IF(ISBLANK(InfoPro!A68),\"\",InfoPro!A68)","v":""},{"$f":"IF(ISBLANK(InfoPro!B68),\"\",InfoPro!B68)","v":""},{"$f":"IF(ISBLANK(InfoPro!E68),\"\",InfoPro!E68)","v":""},{"$f":"IF(ISBLANK(InfoPro!F68),\"\",InfoPro!F68)","v":""},{"$f":"IF(ISBLANK(InfoPro!I68),\"\",YEAR(InfoPro!I68)-$G$3)","v":""},{"$f":"IF(B74=\"\",\"\",VLOOKUP(D74,Tablas!$B$2:$E$13,2,FALSE))","v":""},{"$f":"IF(B74=\"\",\"\",VLOOKUP(D74,Tablas!$B$2:$H$13,7,FALSE))","v":""},"","","","","","","","","","","","","","","","","",""]
[{"$f":"IF(ISBLANK(InfoPro!A69),\"\",InfoPro!A69)","v":""},{"$f":"IF(ISBLANK(InfoPro!B69),\"\",InfoPro!B69)","v":""},{"$f":"IF(ISBLANK(InfoPro!E69),\"\",InfoPro!E69)","v":""},{"$f":"IF(ISBLANK(InfoPro!F69),\"\",InfoPro!F69)","v":""},{"$f":"IF(ISBLANK(InfoPro!I69),\"\",YEAR(InfoPro!I69)-$G$3)","v":""},{"$f":"IF(B75=\"\",\"\",VLOOKUP(D75,Tablas!$B$2:$E$13,2,FALSE))","v":""},{"$f":"IF(B75=\"\",\"\",VLOOKUP(D75,Tablas!$B$2:$H$13,7,FALSE))","v":""},"","","","","","","","","","","","","","","","","",""]
[{"$f":"IF(ISBLANK(InfoPro!A70),\"\",InfoPro!A70)","v":""},{"$f":"IF(ISBLANK(InfoPro!B70),\"\",InfoPro!B70)","v":""},{"$f":"IF(ISBLANK(InfoPro!E70),\"\",InfoPro!E70)","v":""},{"$f":"IF(ISBLANK(InfoPro!F70),\"\",InfoPro!F70)","v":""},{"$f":"IF(ISBLANK(InfoPro!I70),\"\",YEAR(InfoPro!I70)-$G$3)","v":""},{"$f":"IF(B76=\"\",\"\",VLOOKUP(D76,Tablas!$B$2:$E$13,2,FALSE))","v":""},{"$f":"IF(B76=\"\",\"\",VLOOKUP(D76,Tablas!$B$2:$H$13,7,FALSE))","v":""},"","","","","","","","","","","","","","","","","",""]
[{"$f":"IF(ISBLANK(InfoPro!A71),\"\",InfoPro!A71)","v":""},{"$f":"IF(ISBLANK(InfoPro!B71),\"\",InfoPro!B71)","v":""},{"$f":"IF(ISBLANK(InfoPro!E71),\"\",InfoPro!E71)","v":""},{"$f":"IF(ISBLANK(InfoPro!F71),\"\",InfoPro!F71)","v":""},{"$f":"IF(ISBLANK(InfoPro!I71),\"\",YEAR(InfoPro!I71)-$G$3)","v":""},{"$f":"IF(B77=\"\",\"\",VLOOKUP(D77,Tablas!$B$2:$E$13,2,FALSE))","v":""},{"$f":"IF(B77=\"\",\"\",VLOOKUP(D77,Tablas!$B$2:$H$13,7,FALSE))","v":""},"","","","","","","","","","","","","","","","","",""]
[{"$f":"IF(ISBLANK(InfoPro!A72),\"\",InfoPro!A72)","v":""},{"$f":"IF(ISBLANK(InfoPro!B72),\"\",InfoPro!B72)","v":""},{"$f":"IF(ISBLANK(InfoPro!E72),\"\",InfoPro!E72)","v":""},{"$f":"IF(ISBLANK(InfoPro!F72),\"\",InfoPro!F72)","v":""},{"$f":"IF(ISBLANK(InfoPro!I72),\"\",YEAR(InfoPro!I72)-$G$3)","v":""},{"$f":"IF(B78=\"\",\"\",VLOOKUP(D78,Tablas!$B$2:$E$13,2,FALSE))","v":""},{"$f":"IF(B78=\"\",\"\",VLOOKUP(D78,Tablas!$B$2:$H$13,7,FALSE))","v":""},"",{"$f":"IF($H78=\"\",\"\",(1/(1+$C$3)^(I$6+$E78))*$H78*($C$2 - $G78))","v":""},"","","","","","","","","","","","","","","",""]
[{"$f":"IF(ISBLANK(InfoPro!A73),\"\",InfoPro!A73)","v":""},{"$f":"IF(ISBLANK(InfoPro!B73),\"\",InfoPro!B73)","v":""},{"$f":"IF(ISBLANK(InfoPro!E73),\"\",InfoPro!E73)","v":""},{"$f":"IF(ISBLANK(InfoPro!F73),\"\",InfoPro!F73)","v":""},{"$f":"IF(ISBLANK(InfoPro!I73),\"\",YEAR(InfoPro!I73)-$G$3)","v":""},{"$f":"IF(B79=\"\",\"\",VLOOKUP(D79,Tablas!$B$2:$E$13,2,FALSE))","v":""},{"$f":"IF(B79=\"\",\"\",VLOOKUP(D79,Tablas!$B$2:$H$13,7,FALSE))","v":""},"","","","","","","","","","","","","","","","","",""]
[{"$f":"IF(ISBLANK(InfoPro!A74),\"\",InfoPro!A74)","v":""},{"$f":"IF(ISBLANK(InfoPro!B74),\"\",InfoPro!B74)","v":""},{"$f":"IF(ISBLANK(InfoPro!E74),\"\",InfoPro!E74)","v":""},{"$f":"IF(ISBLANK(InfoPro!F74),\"\",InfoPro!F74)","v":""},{"$f":"IF(ISBLANK(InfoPro!I74),\"\",YEAR(InfoPro!I74)-$G$3)","v":""},{"$f":"IF(B80=\"\",\"\",VLOOKUP(D80,Tablas!$B$2:$E$13,2,FALSE))","v":""},{"$f":"IF(B80=\"\",\"\",VLOOKUP(D80,Tablas!$B$2:$H$13,7,FALSE))","v":""},"","","","","","","","","","","","","","","","","",""]
[{"$f":"IF(ISBLANK(InfoPro!A75),\"\",InfoPro!A75)","v":""},{"$f":"IF(ISBLANK(InfoPro!B75),\"\",InfoPro!B75)","v":""},{"$f":"IF(ISBLANK(InfoPro!E75),\"\",InfoPro!E75)","v":""},{"$f":"IF(ISBLANK(InfoPro!F75),\"\",InfoPro!F75)","v":""},{"$f":"IF(ISBLANK(InfoPro!I75),\"\",YEAR(InfoPro!I75)-$G$3)","v":""},{"$f":"IF(B81=\"\",\"\",VLOOKUP(D81,Tablas!$B$2:$E$13,2,FALSE))","v":""},{"$f":"IF(B81=\"\",\"\",VLOOKUP(D81,Tablas!$B$2:$H$13,7,FALSE))","v":""},"","","","","","","","","","","","","","","","","",""]
[{"$f":"IF(ISBLANK(InfoPro!A76),\"\",InfoPro!A76)","v":""},{"$f":"IF(ISBLANK(InfoPro!B76),\"\",InfoPro!B76)","v":""},{"$f":"IF(ISBLANK(InfoPro!E76),\"\",InfoPro!E76)","v":""},{"$f":"IF(ISBLANK(InfoPro!F76),\"\",InfoPro!F76)","v":""},{"$f":"IF(ISBLANK(InfoPro!I76),\"\",YEAR(InfoPro!I76)-$G$3)","v":""},{"$f":"IF(B82=\"\",\"\",VLOOKUP(D82,Tablas!$B$2:$E$13,2,FALSE))","v":""},{"$f":"IF(B82=\"\",\"\",VLOOKUP(D82,Tablas!$B$2:$H$13,7,FALSE))","v":""},"","","","","","","","","","","","","","","","","",""]
[{"$f":"IF(ISBLANK(InfoPro!A77),\"\",InfoPro!A77)","v":""},{"$f":"IF(ISBLANK(InfoPro!B77),\"\",InfoPro!B77)","v":""},{"$f":"IF(ISBLANK(InfoPro!E77),\"\",InfoPro!E77)","v":""},{"$f":"IF(ISBLANK(InfoPro!F77),\"\",InfoPro!F77)","v":""},{"$f":"IF(ISBLANK(InfoPro!I77),\"\",YEAR(InfoPro!I77)-$G$3)","v":""},{"$f":"IF(B83=\"\",\"\",VLOOKUP(D83,Tablas!$B$2:$E$13,2,FALSE))","v":""},{"$f":"IF(B83=\"\",\"\",VLOOKUP(D83,Tablas!$B$2:$H$13,7,FALSE))","v":""},"","","","","","","","","","","","","","","","","",""]
[{"$f":"IF(ISBLANK(InfoPro!A78),\"\",InfoPro!A78)","v":""},{"$f":"IF(ISBLANK(InfoPro!B78),\"\",InfoPro!B78)","v":""},{"$f":"IF(ISBLANK(InfoPro!E78),\"\",InfoPro!E78)","v":""},{"$f":"IF(ISBLANK(InfoPro!F78),\"\",InfoPro!F78)","v":""},{"$f":"IF(ISBLANK(InfoPro!I78),\"\",YEAR(InfoPro!I78)-$G$3)","v":""},{"$f":"IF(B84=\"\",\"\",VLOOKUP(D84,Tablas!$B$2:$E$13,2,FALSE))","v":""},{"$f":"IF(B84=\"\",\"\",VLOOKUP(D84,Tablas!$B$2:$H$13,7,FALSE))","v":""},"","","","","","","","","","","","","","","","","",""]
[{"$f":"IF(ISBLANK(InfoPro!A79),\"\",InfoPro!A79)","v":""},{"$f":"IF(ISBLANK(InfoPro!B79),\"\",InfoPro!B79)","v":""},{"$f":"IF(ISBLANK(InfoPro!E79),\"\",InfoPro!E79)","v":""},{"$f":"IF(ISBLANK(InfoPro!F79),\"\",InfoPro!F79)","v":""},{"$f":"IF(ISBLANK(InfoPro!I79),\"\",YEAR(InfoPro!I79)-$G$3)","v":""},{"$f":"IF(B85=\"\",\"\",VLOOKUP(D85,Tablas!$B$2:$E$13,2,FALSE))","v":""},{"$f":"IF(B85=\"\",\"\",VLOOKUP(D85,Tablas!$B$2:$H$13,7,FALSE))","v":""},"","","","","","","","","","","","","","","","","",""]
[{"$f":"IF(ISBLANK(InfoPro!A80),\"\",InfoPro!A80)","v":""},{"$f":"IF(ISBLANK(InfoPro!B80),\"\",InfoPro!B80)","v":""},{"$f":"IF(ISBLANK(InfoPro!E80),\"\",InfoPro!E80)","v":""},{"$f":"IF(ISBLANK(InfoPro!F80),\"\",InfoPro!F80)","v":""},{"$f":"IF(ISBLANK(InfoPro!I80),\"\",YEAR(InfoPro!I80)-$G$3)","v":""},{"$f":"IF(B86=\"\",\"\",VLOOKUP(D86,Tablas!$B$2:$E$13,2,FALSE))","v":""},{"$f":"IF(B86=\"\",\"\",VLOOKUP(D86,Tablas!$B$2:$H$13,7,FALSE))","v":""},"","","","","","","","","","","","","","","","","",""]
[{"$f":"IF(ISBLANK(InfoPro!A81),\"\",InfoPro!A81)","v":""},{"$f":"IF(ISBLANK(InfoPro!B81),\"\",InfoPro!B81)","v":""},{"$f":"IF(ISBLANK(InfoPro!E81),\"\",InfoPro!E81)","v":""},{"$f":"IF(ISBLANK(InfoPro!F81),\"\",InfoPro!F81)","v":""},{"$f":"IF(ISBLANK(InfoPro!I81),\"\",YEAR(InfoPro!I81)-$G$3)","v":""},{"$f":"IF(B87=\"\",\"\",VLOOKUP(D87,Tablas!$B$2:$E$13,2,FALSE))","v":""},{"$f":"IF(B87=\"\",\"\",VLOOKUP(D87,Tablas!$B$2:$H$13,7,FALSE))","v":""},"","","","","","","","","","","","","","","","","",""]
[{"$f":"IF(ISBLANK(InfoPro!A82),\"\",InfoPro!A82)","v":""},{"$f":"IF(ISBLANK(InfoPro!B82),\"\",InfoPro!B82)","v":""},{"$f":"IF(ISBLANK(InfoPro!E82),\"\",InfoPro!E82)","v":""},{"$f":"IF(ISBLANK(InfoPro!F82),\"\",InfoPro!F82)","v":""},{"$f":"IF(ISBLANK(InfoPro!I82),\"\",YEAR(InfoPro!I82)-$G$3)","v":""},{"$f":"IF(B88=\"\",\"\",VLOOKUP(D88,Tablas!$B$2:$E$13,2,FALSE))","v":""},{"$f":"IF(B88=\"\",\"\",VLOOKUP(D88,Tablas!$B$2:$H$13,7,FALSE))","v":""},"",{"$f":"IF($H88=\"\",\"\",(1/(1+$C$3)^(I$6+$E88))*$H88*($C$2 - $G88))","v":""},"","","","","","","","","","","","","","","",""]
[{"$f":"IF(ISBLANK(InfoPro!A83),\"\",InfoPro!A83)","v":""},{"$f":"IF(ISBLANK(InfoPro!B83),\"\",InfoPro!B83)","v":""},{"$f":"IF(ISBLANK(InfoPro!E83),\"\",InfoPro!E83)","v":""},{"$f":"IF(ISBLANK(InfoPro!F83),\"\",InfoPro!F83)","v":""},{"$f":"IF(ISBLANK(InfoPro!I83),\"\",YEAR(InfoPro!I83)-$G$3)","v":""},{"$f":"IF(B89=\"\",\"\",VLOOKUP(D89,Tablas!$B$2:$E$13,2,FALSE))","v":""},{"$f":"IF(B89=\"\",\"\",VLOOKUP(D89,Tablas!$B$2:$H$13,7,FALSE))","v":""},"","","","","","","","","","","","","","","","","",""]
[{"$f":"IF(ISBLANK(InfoPro!A84),\"\",InfoPro!A84)","v":""},{"$f":"IF(ISBLANK(InfoPro!B84),\"\",InfoPro!B84)","v":""},{"$f":"IF(ISBLANK(InfoPro!E84),\"\",InfoPro!E84)","v":""},{"$f":"IF(ISBLANK(InfoPro!F84),\"\",InfoPro!F84)","v":""},{"$f":"IF(ISBLANK(InfoPro!I84),\"\",YEAR(InfoPro!I84)-$G$3)","v":""},{"$f":"IF(B90=\"\",\"\",VLOOKUP(D90,Tablas!$B$2:$E$13,2,FALSE))","v":""},{"$f":"IF(B90=\"\",\"\",VLOOKUP(D90,Tablas!$B$2:$H$13,7,FALSE))","v":""},"","","","","","","","","","","","","","","","","",""]
[{"$f":"IF(ISBLANK(InfoPro!A85),\"\",InfoPro!A85)","v":""},{"$f":"IF(ISBLANK(InfoPro!B85),\"\",InfoPro!B85)","v":""},{"$f":"IF(ISBLANK(InfoPro!E85),\"\",InfoPro!E85)","v":""},{"$f":"IF(ISBLANK(InfoPro!F85),\"\",InfoPro!F85)","v":""},{"$f":"IF(ISBLANK(InfoPro!I85),\"\",YEAR(InfoPro!I85)-$G$3)","v":""},{"$f":"IF(B91=\"\",\"\",VLOOKUP(D91,Tablas!$B$2:$E$13,2,FALSE))","v":""},{"$f":"IF(B91=\"\",\"\",VLOOKUP(D91,Tablas!$B$2:$H$13,7,FALSE))","v":""},"","","","","","","","","","","","","","","","","",""]
[{"$f":"IF(ISBLANK(InfoPro!A86),\"\",InfoPro!A86)","v":""},{"$f":"IF(ISBLANK(InfoPro!B86),\"\",InfoPro!B86)","v":""},{"$f":"IF(ISBLANK(InfoPro!E86),\"\",InfoPro!E86)","v":""},{"$f":"IF(ISBLANK(InfoPro!F86),\"\",InfoPro!F86)","v":""},{"$f":"IF(ISBLANK(InfoPro!I86),\"\",YEAR(InfoPro!I86)-$G$3)","v":""},{"$f":"IF(B92=\"\",\"\",VLOOKUP(D92,Tablas!$B$2:$E$13,2,FALSE))","v":""},{"$f":"IF(B92=\"\",\"\",VLOOKUP(D92,Tablas!$B$2:$H$13,7,FALSE))","v":""},"","","","","","","","","","","","","","","","","",""]
[{"$f":"IF(ISBLANK(InfoPro!A87),\"\",InfoPro!A87)","v":""},{"$f":"IF(ISBLANK(InfoPro!B87),\"\",InfoPro!B87)","v":""},{"$f":"IF(ISBLANK(InfoPro!E87),\"\",InfoPro!E87)","v":""},{"$f":"IF(ISBLANK(InfoPro!F87),\"\",InfoPro!F87)","v":""},{"$f":"IF(ISBLANK(InfoPro!I87),\"\",YEAR(InfoPro!I87)-$G$3)","v":""},{"$f":"IF(B93=\"\",\"\",VLOOKUP(D93,Tablas!$B$2:$E$13,2,FALSE))","v":""},{"$f":"IF(B93=\"\",\"\",VLOOKUP(D93,Tablas!$B$2:$H$13,7,FALSE))","v":""},"","","","","","","","","","","","","","","","","",""]
[{"$f":"IF(ISBLANK(InfoPro!A88),\"\",InfoPro!A88)","v":""},{"$f":"IF(ISBLANK(InfoPro!B88),\"\",InfoPro!B88)","v":""},{"$f":"IF(ISBLANK(InfoPro!E88),\"\",InfoPro!E88)","v":""},{"$f":"IF(ISBLANK(InfoPro!F88),\"\",InfoPro!F88)","v":""},{"$f":"IF(ISBLANK(InfoPro!I88),\"\",YEAR(InfoPro!I88)-$G$3)","v":""},{"$f":"IF(B94=\"\",\"\",VLOOKUP(D94,Tablas!$B$2:$E$13,2,FALSE))","v":""},{"$f":"IF(B94=\"\",\"\",VLOOKUP(D94,Tablas!$B$2:$H$13,7,FALSE))","v":""},"","","","","","","","","","","","","","","","","",""]
[{"$f":"IF(ISBLANK(InfoPro!A89),\"\",InfoPro!A89)","v":""},{"$f":"IF(ISBLANK(InfoPro!B89),\"\",InfoPro!B89)","v":""},{"$f":"IF(ISBLANK(InfoPro!E89),\"\",InfoPro!E89)","v":""},{"$f":"IF(ISBLANK(InfoPro!F89),\"\",InfoPro!F89)","v":""},{"$f":"IF(ISBLANK(InfoPro!I89),\"\",YEAR(InfoPro!I89)-$G$3)","v":""},{"$f":"IF(B95=\"\",\"\",VLOOKUP(D95,Tablas!$B$2:$E$13,2,FALSE))","v":""},{"$f":"IF(B95=\"\",\"\",VLOOKUP(D95,Tablas!$B$2:$H$13,7,FALSE))","v":""},"","","","","","","","","","","","","","","","","",""]
[{"$f":"IF(ISBLANK(InfoPro!A90),\"\",InfoPro!A90)","v":""},{"$f":"IF(ISBLANK(InfoPro!B90),\"\",InfoPro!B90)","v":""},{"$f":"IF(ISBLANK(InfoPro!E90),\"\",InfoPro!E90)","v":""},{"$f":"IF(ISBLANK(InfoPro!F90),\"\",InfoPro!F90)","v":""},{"$f":"IF(ISBLANK(InfoPro!I90),\"\",YEAR(InfoPro!I90)-$G$3)","v":""},{"$f":"IF(B96=\"\",\"\",VLOOKUP(D96,Tablas!$B$2:$E$13,2,FALSE))","v":""},{"$f":"IF(B96=\"\",\"\",VLOOKUP(D96,Tablas!$B$2:$H$13,7,FALSE))","v":""},"","","","","","","","","","","","","","","","","",""]
[{"$f":"IF(ISBLANK(InfoPro!A91),\"\",InfoPro!A91)","v":""},{"$f":"IF(ISBLANK(InfoPro!B91),\"\",InfoPro!B91)","v":""},{"$f":"IF(ISBLANK(InfoPro!E91),\"\",InfoPro!E91)","v":""},{"$f":"IF(ISBLANK(InfoPro!F91),\"\",InfoPro!F91)","v":""},{"$f":"IF(ISBLANK(InfoPro!I91),\"\",YEAR(InfoPro!I91)-$G$3)","v":""},{"$f":"IF(B97=\"\",\"\",VLOOKUP(D97,Tablas!$B$2:$E$13,2,FALSE))","v":""},{"$f":"IF(B97=\"\",\"\",VLOOKUP(D97,Tablas!$B$2:$H$13,7,FALSE))","v":""},"","","","","","","","","","","","","","","","","",""]
[{"$f":"IF(ISBLANK(InfoPro!A92),\"\",InfoPro!A92)","v":""},{"$f":"IF(ISBLANK(InfoPro!B92),\"\",InfoPro!B92)","v":""},{"$f":"IF(ISBLANK(InfoPro!E92),\"\",InfoPro!E92)","v":""},{"$f":"IF(ISBLANK(InfoPro!F92),\"\",InfoPro!F92)","v":""},{"$f":"IF(ISBLANK(InfoPro!I92),\"\",YEAR(InfoPro!I92)-$G$3)","v":""},{"$f":"IF(B98=\"\",\"\",VLOOKUP(D98,Tablas!$B$2:$E$13,2,FALSE))","v":""},{"$f":"IF(B98=\"\",\"\",VLOOKUP(D98,Tablas!$B$2:$H$13,7,FALSE))","v":""},"",{"$f":"IF($H98=\"\",\"\",(1/(1+$C$3)^(I$6+$E98))*$H98*($C$2 - $G98))","v":""},"","","","","","","","","","","","","","","",""]
[{"$f":"IF(ISBLANK(InfoPro!A93),\"\",InfoPro!A93)","v":""},{"$f":"IF(ISBLANK(InfoPro!B93),\"\",InfoPro!B93)","v":""},{"$f":"IF(ISBLANK(InfoPro!E93),\"\",InfoPro!E93)","v":""},{"$f":"IF(ISBLANK(InfoPro!F93),\"\",InfoPro!F93)","v":""},{"$f":"IF(ISBLANK(InfoPro!I93),\"\",YEAR(InfoPro!I93)-$G$3)","v":""},{"$f":"IF(B99=\"\",\"\",VLOOKUP(D99,Tablas!$B$2:$E$13,2,FALSE))","v":""},{"$f":"IF(B99=\"\",\"\",VLOOKUP(D99,Tablas!$B$2:$H$13,7,FALSE))","v":""},"","","","","","","","","","","","","","","","","",""]
[{"$f":"IF(ISBLANK(InfoPro!A94),\"\",InfoPro!A94)","v":""},{"$f":"IF(ISBLANK(InfoPro!B94),\"\",InfoPro!B94)","v":""},{"$f":"IF(ISBLANK(InfoPro!E94),\"\",InfoPro!E94)","v":""},{"$f":"IF(ISBLANK(InfoPro!F94),\"\",InfoPro!F94)","v":""},{"$f":"IF(ISBLANK(InfoPro!I94),\"\",YEAR(InfoPro!I94)-$G$3)","v":""},{"$f":"IF(B100=\"\",\"\",VLOOKUP(D100,Tablas!$B$2:$E$13,2,FALSE))","v":""},{"$f":"IF(B100=\"\",\"\",VLOOKUP(D100,Tablas!$B$2:$H$13,7,FALSE))","v":""},"","","","","","","","","","","","","","","","","",""]
[{"$f":"IF(ISBLANK(InfoPro!A95),\"\",InfoPro!A95)","v":""},{"$f":"IF(ISBLANK(InfoPro!B95),\"\",InfoPro!B95)","v":""},{"$f":"IF(ISBLANK(InfoPro!E95),\"\",InfoPro!E95)","v":""},{"$f":"IF(ISBLANK(InfoPro!F95),\"\",InfoPro!F95)","v":""},{"$f":"IF(ISBLANK(InfoPro!I95),\"\",YEAR(InfoPro!I95)-$G$3)","v":""},{"$f":"IF(B101=\"\",\"\",VLOOKUP(D101,Tablas!$B$2:$E$13,2,FALSE))","v":""},{"$f":"IF(B101=\"\",\"\",VLOOKUP(D101,Tablas!$B$2:$H$13,7,FALSE))","v":""},"","","","","","","","","","","","","","","","","",""]
[{"$f":"IF(ISBLANK(InfoPro!A96),\"\",InfoPro!A96)","v":""},{"$f":"IF(ISBLANK(InfoPro!B96),\"\",InfoPro!B96)","v":""},{"$f":"IF(ISBLANK(InfoPro!E96),\"\",InfoPro!E96)","v":""},{"$f":"IF(ISBLANK(InfoPro!F96),\"\",InfoPro!F96)","v":""},{"$f":"IF(ISBLANK(InfoPro!I96),\"\",YEAR(InfoPro!I96)-$G$3)","v":""},{"$f":"IF(B102=\"\",\"\",VLOOKUP(D102,Tablas!$B$2:$E$13,2,FALSE))","v":""},{"$f":"IF(B102=\"\",\"\",VLOOKUP(D102,Tablas!$B$2:$H$13,7,FALSE))","v":""},"","","","","","","","","","","","","","","","","",""]
[{"$f":"IF(ISBLANK(InfoPro!A97),\"\",InfoPro!A97)","v":""},{"$f":"IF(ISBLANK(InfoPro!B97),\"\",InfoPro!B97)","v":""},{"$f":"IF(ISBLANK(InfoPro!E97),\"\",InfoPro!E97)","v":""},{"$f":"IF(ISBLANK(InfoPro!F97),\"\",InfoPro!F97)","v":""},{"$f":"IF(ISBLANK(InfoPro!I97),\"\",YEAR(InfoPro!I97)-$G$3)","v":""},{"$f":"IF(B103=\"\",\"\",VLOOKUP(D103,Tablas!$B$2:$E$13,2,FALSE))","v":""},{"$f":"IF(B103=\"\",\"\",VLOOKUP(D103,Tablas!$B$2:$H$13,7,FALSE))","v":""},"","","","","","","","","","","","","","","","","",""]
[{"$f":"IF(ISBLANK(InfoPro!A98),\"\",InfoPro!A98)","v":""},{"$f":"IF(ISBLANK(InfoPro!B98),\"\",InfoPro!B98)","v":""},{"$f":"IF(ISBLANK(InfoPro!E98),\"\",InfoPro!E98)","v":""},{"$f":"IF(ISBLANK(InfoPro!F98),\"\",InfoPro!F98)","v":""},{"$f":"IF(ISBLANK(InfoPro!I98),\"\",YEAR(InfoPro!I98)-$G$3)","v":""},{"$f":"IF(B104=\"\",\"\",VLOOKUP(D104,Tablas!$B$2:$E$13,2,FALSE))","v":""},{"$f":"IF(B104=\"\",\"\",VLOOKUP(D104,Tablas!$B$2:$H$13,7,FALSE))","v":""},"","","","","","","","","","","","","","","","","",""]
[{"$f":"IF(ISBLANK(InfoPro!A99),\"\",InfoPro!A99)","v":""},{"$f":"IF(ISBLANK(InfoPro!B99),\"\",InfoPro!B99)","v":""},{"$f":"IF(ISBLANK(InfoPro!E99),\"\",InfoPro!E99)","v":""},{"$f":"IF(ISBLANK(InfoPro!F99),\"\",InfoPro!F99)","v":""},{"$f":"IF(ISBLANK(InfoPro!I99),\"\",YEAR(InfoPro!I99)-$G$3)","v":""},{"$f":"IF(B105=\"\",\"\",VLOOKUP(D105,Tablas!$B$2:$E$13,2,FALSE))","v":""},{"$f":"IF(B105=\"\",\"\",VLOOKUP(D105,Tablas!$B$2:$H$13,7,FALSE))","v":""},"","","","","","","","","","","","","","","","","",""]
[{"$f":"IF(ISBLANK(InfoPro!A100),\"\",InfoPro!A100)","v":""},{"$f":"IF(ISBLANK(InfoPro!B100),\"\",InfoPro!B100)","v":""},{"$f":"IF(ISBLANK(InfoPro!E100),\"\",InfoPro!E100)","v":""},{"$f":"IF(ISBLANK(InfoPro!F100),\"\",InfoPro!F100)","v":""},{"$f":"IF(ISBLANK(InfoPro!I100),\"\",YEAR(InfoPro!I100)-$G$3)","v":""},{"$f":"IF(B106=\"\",\"\",VLOOKUP(D106,Tablas!$B$2:$E$13,2,FALSE))","v":""},{"$f":"IF(B106=\"\",\"\",VLOOKUP(D106,Tablas!$B$2:$H$13,7,FALSE))","v":""},"","","","","","","","","","","","","","","","","",""]
[{"$f":"IF(ISBLANK(InfoPro!A101),\"\",InfoPro!A101)","v":""},{"$f":"IF(ISBLANK(InfoPro!B101),\"\",InfoPro!B101)","v":""},{"$f":"IF(ISBLANK(InfoPro!E101),\"\",InfoPro!E101)","v":""},{"$f":"IF(ISBLANK(InfoPro!F101),\"\",InfoPro!F101)","v":""},{"$f":"IF(ISBLANK(InfoPro!I101),\"\",YEAR(InfoPro!I101)-$G$3)","v":""},{"$f":"IF(B107=\"\",\"\",VLOOKUP(D107,Tablas!$B$2:$E$13,2,FALSE))","v":""},{"$f":"IF(B107=\"\",\"\",VLOOKUP(D107,Tablas!$B$2:$H$13,7,FALSE))","v":""},"","","","","","","","","","","","","","","","","",""]
[{"$f":"IF(ISBLANK(InfoPro!A102),\"\",InfoPro!A102)","v":""},{"$f":"IF(ISBLANK(InfoPro!B102),\"\",InfoPro!B102)","v":""},{"$f":"IF(ISBLANK(InfoPro!E102),\"\",InfoPro!E102)","v":""},{"$f":"IF(ISBLANK(InfoPro!F102),\"\",InfoPro!F102)","v":""},{"$f":"IF(ISBLANK(InfoPro!I102),\"\",YEAR(InfoPro!I102)-$G$3)","v":""},{"$f":"IF(B108=\"\",\"\",VLOOKUP(D108,Tablas!$B$2:$E$13,2,FALSE))","v":""},{"$f":"IF(B108=\"\",\"\",VLOOKUP(D108,Tablas!$B$2:$H$13,7,FALSE))","v":""},{"$f":"IF(C108=\"\",\"\",+C108*F108*24*365)","v":""},"","","","","","","","","","","","","","","",{"$f":"IF(W108=\"\",\"\",SUM(I108:W108))","v":""},{"$f":"IF(C108=0,0,IF(X108=\"\",\"\",X108/(C108*1000)))","v":""}]
[{"$f":"IF(ISBLANK(InfoPro!A103),\"\",InfoPro!A103)","v":""},{"$f":"IF(ISBLANK(InfoPro!B103),\"\",InfoPro!B103)","v":""},{"$f":"IF(ISBLANK(InfoPro!E103),\"\",InfoPro!E103)","v":""},{"$f":"IF(ISBLANK(InfoPro!F103),\"\",InfoPro!F103)","v":""},{"$f":"IF(ISBLANK(InfoPro!I103),\"\",YEAR(InfoPro!I103)-$G$3)","v":""},{"$f":"IF(B109=\"\",\"\",VLOOKUP(D109,Tablas!$B$2:$E$13,2,FALSE))","v":""},{"$f":"IF(B109=\"\",\"\",VLOOKUP(D109,Tablas!$B$2:$H$13,7,FALSE))","v":""},"","","","","","","","","","","","","","","","","",""]
[{"$f":"IF(ISBLANK(InfoPro!A104),\"\",InfoPro!A104)","v":""},{"$f":"IF(ISBLANK(InfoPro!B104),\"\",InfoPro!B104)","v":""},{"$f":"IF(ISBLANK(InfoPro!E104),\"\",InfoPro!E104)","v":""},{"$f":"IF(ISBLANK(InfoPro!F104),\"\",InfoPro!F104)","v":""},{"$f":"IF(ISBLANK(InfoPro!I104),\"\",YEAR(InfoPro!I104)-$G$3)","v":""},{"$f":"IF(B110=\"\",\"\",VLOOKUP(D110,Tablas!$B$2:$E$13,2,FALSE))","v":""},{"$f":"IF(B110=\"\",\"\",VLOOKUP(D110,Tablas!$B$2:$H$13,7,FALSE))","v":""},"","","","","","","","","","","","","","","","","",""]
[{"$f":"IF(ISBLANK(InfoPro!A105),\"\",InfoPro!A105)","v":""},{"$f":"IF(ISBLANK(InfoPro!B105),\"\",InfoPro!B105)","v":""},{"$f":"IF(ISBLANK(InfoPro!E105),\"\",InfoPro!E105)","v":""},{"$f":"IF(ISBLANK(InfoPro!F105),\"\",InfoPro!F105)","v":""},{"$f":"IF(ISBLANK(InfoPro!I105),\"\",YEAR(InfoPro!I105)-$G$3)","v":""},{"$f":"IF(B111=\"\",\"\",VLOOKUP(D111,Tablas!$B$2:$E$13,2,FALSE))","v":""},{"$f":"IF(B111=\"\",\"\",VLOOKUP(D111,Tablas!$B$2:$H$13,7,FALSE))","v":""},"","","","","","","","","","","","","","","","","",""]
[{"$f":"IF(ISBLANK(InfoPro!A106),\"\",InfoPro!A106)","v":""},{"$f":"IF(ISBLANK(InfoPro!B106),\"\",InfoPro!B106)","v":""},{"$f":"IF(ISBLANK(InfoPro!E106),\"\",InfoPro!E106)","v":""},{"$f":"IF(ISBLANK(InfoPro!F106),\"\",InfoPro!F106)","v":""},{"$f":"IF(ISBLANK(InfoPro!I106),\"\",YEAR(InfoPro!I106)-$G$3)","v":""},{"$f":"IF(B112=\"\",\"\",VLOOKUP(D112,Tablas!$B$2:$E$13,2,FALSE))","v":""},{"$f":"IF(B112=\"\",\"\",VLOOKUP(D112,Tablas!$B$2:$H$13,7,FALSE))","v":""},"","","","","","","","","","","","","","","","","",""]
[{"$f":"IF(ISBLANK(InfoPro!A107),\"\",InfoPro!A107)","v":""},{"$f":"IF(ISBLANK(InfoPro!B107),\"\",InfoPro!B107)","v":""},{"$f":"IF(ISBLANK(InfoPro!E107),\"\",InfoPro!E107)","v":""},{"$f":"IF(ISBLANK(InfoPro!F107),\"\",InfoPro!F107)","v":""},{"$f":"IF(ISBLANK(InfoPro!I107),\"\",YEAR(InfoPro!I107)-$G$3)","v":""},{"$f":"IF(B113=\"\",\"\",VLOOKUP(D113,Tablas!$B$2:$E$13,2,FALSE))","v":""},{"$f":"IF(B113=\"\",\"\",VLOOKUP(D113,Tablas!$B$2:$H$13,7,FALSE))","v":""},"","","","","","","","","","","","","","","","","",""]
[{"$f":"IF(ISBLANK(InfoPro!A108),\"\",InfoPro!A108)","v":""},{"$f":"IF(ISBLANK(InfoPro!B108),\"\",InfoPro!B108)","v":""},{"$f":"IF(ISBLANK(InfoPro!E108),\"\",InfoPro!E108)","v":""},{"$f":"IF(ISBLANK(InfoPro!F108),\"\",InfoPro!F108)","v":""},{"$f":"IF(ISBLANK(InfoPro!I108),\"\",YEAR(InfoPro!I108)-$G$3)","v":""},{"$f":"IF(B114=\"\",\"\",VLOOKUP(D114,Tablas!$B$2:$E$13,2,FALSE))","v":""},{"$f":"IF(B114=\"\",\"\",VLOOKUP(D114,Tablas!$B$2:$H$13,7,FALSE))","v":""},"",{"$f":"IF($H114=\"\",\"\",(1/(1+$C$3)^(I$6+$E114))*$H114*($C$2 - $G114))","v":""},"","","","","","","","","","","","","","","",""]
[{"$f":"IF(ISBLANK(InfoPro!A109),\"\",InfoPro!A109)","v":""},{"$f":"IF(ISBLANK(InfoPro!B109),\"\",InfoPro!B109)","v":""},{"$f":"IF(ISBLANK(InfoPro!E109),\"\",InfoPro!E109)","v":""},{"$f":"IF(ISBLANK(InfoPro!F109),\"\",InfoPro!F109)","v":""},{"$f":"IF(ISBLANK(InfoPro!I109),\"\",YEAR(InfoPro!I109)-$G$3)","v":""},{"$f":"IF(B115=\"\",\"\",VLOOKUP(D115,Tablas!$B$2:$E$13,2,FALSE))","v":""},{"$f":"IF(B115=\"\",\"\",VLOOKUP(D115,Tablas!$B$2:$H$13,7,FALSE))","v":""},"","","","","","","","","","","","","","","","","",""]
[{"$f":"IF(ISBLANK(InfoPro!A110),\"\",InfoPro!A110)","v":""},{"$f":"IF(ISBLANK(InfoPro!B110),\"\",InfoPro!B110)","v":""},{"$f":"IF(ISBLANK(InfoPro!E110),\"\",InfoPro!E110)","v":""},{"$f":"IF(ISBLANK(InfoPro!F110),\"\",InfoPro!F110)","v":""},{"$f":"IF(ISBLANK(InfoPro!I110),\"\",YEAR(InfoPro!I110)-$G$3)","v":""},{"$f":"IF(B116=\"\",\"\",VLOOKUP(D116,Tablas!$B$2:$E$13,2,FALSE))","v":""},{"$f":"IF(B116=\"\",\"\",VLOOKUP(D116,Tablas!$B$2:$H$13,7,FALSE))","v":""},"","","","","","","","","","","","","","","","","",""]
[{"$f":"IF(ISBLANK(InfoPro!A111),\"\",InfoPro!A111)","v":""},{"$f":"IF(ISBLANK(InfoPro!B111),\"\",InfoPro!B111)","v":""},{"$f":"IF(ISBLANK(InfoPro!E111),\"\",InfoPro!E111)","v":""},{"$f":"IF(ISBLANK(InfoPro!F111),\"\",InfoPro!F111)","v":""},{"$f":"IF(ISBLANK(InfoPro!I111),\"\",YEAR(InfoPro!I111)-$G$3)","v":""},{"$f":"IF(B117=\"\",\"\",VLOOKUP(D117,Tablas!$B$2:$E$13,2,FALSE))","v":""},{"$f":"IF(B117=\"\",\"\",VLOOKUP(D117,Tablas!$B$2:$H$13,7,FALSE))","v":""},"","","","","","","","","","","","","","","","","",""]
[{"$f":"IF(ISBLANK(InfoPro!A112),\"\",InfoPro!A112)","v":""},{"$f":"IF(ISBLANK(InfoPro!B112),\"\",InfoPro!B112)","v":""},{"$f":"IF(ISBLANK(InfoPro!E112),\"\",InfoPro!E112)","v":""},{"$f":"IF(ISBLANK(InfoPro!F112),\"\",InfoPro!F112)","v":""},{"$f":"IF(ISBLANK(InfoPro!I112),\"\",YEAR(InfoPro!I112)-$G$3)","v":""},{"$f":"IF(B118=\"\",\"\",VLOOKUP(D118,Tablas!$B$2:$E$13,2,FALSE))","v":""},{"$f":"IF(B118=\"\",\"\",VLOOKUP(D118,Tablas!$B$2:$H$13,7,FALSE))","v":""},"","","","","","","","","","","","","","","","","",""]
[{"$f":"IF(ISBLANK(InfoPro!A113),\"\",InfoPro!A113)","v":""},{"$f":"IF(ISBLANK(InfoPro!B113),\"\",InfoPro!B113)","v":""},{"$f":"IF(ISBLANK(InfoPro!E113),\"\",InfoPro!E113)","v":""},{"$f":"IF(ISBLANK(InfoPro!F113),\"\",InfoPro!F113)","v":""},{"$f":"IF(ISBLANK(InfoPro!I113),\"\",YEAR(InfoPro!I113)-$G$3)","v":""},{"$f":"IF(B119=\"\",\"\",VLOOKUP(D119,Tablas!$B$2:$E$13,2,FALSE))","v":""},{"$f":"IF(B119=\"\",\"\",VLOOKUP(D119,Tablas!$B$2:$H$13,7,FALSE))","v":""},"","","","","","","","","","","","","","","","","",""]
[{"$f":"IF(ISBLANK(InfoPro!A114),\"\",InfoPro!A114)","v":""},{"$f":"IF(ISBLANK(InfoPro!B114),\"\",InfoPro!B114)","v":""},{"$f":"IF(ISBLANK(InfoPro!E114),\"\",InfoPro!E114)","v":""},{"$f":"IF(ISBLANK(InfoPro!F114),\"\",InfoPro!F114)","v":""},{"$f":"IF(ISBLANK(InfoPro!I114),\"\",YEAR(InfoPro!I114)-$G$3)","v":""},{"$f":"IF(B120=\"\",\"\",VLOOKUP(D120,Tablas!$B$2:$E$13,2,FALSE))","v":""},{"$f":"IF(B120=\"\",\"\",VLOOKUP(D120,Tablas!$B$2:$H$13,7,FALSE))","v":""},"","","","","","","","","","","","","","","","","",""]
[{"$f":"IF(ISBLANK(InfoPro!A115),\"\",InfoPro!A115)","v":""},{"$f":"IF(ISBLANK(InfoPro!B115),\"\",InfoPro!B115)","v":""},{"$f":"IF(ISBLANK(InfoPro!E115),\"\",InfoPro!E115)","v":""},{"$f":"IF(ISBLANK(InfoPro!F115),\"\",InfoPro!F115)","v":""},{"$f":"IF(ISBLANK(InfoPro!I115),\"\",YEAR(InfoPro!I115)-$G$3)","v":""},{"$f":"IF(B121=\"\",\"\",VLOOKUP(D121,Tablas!$B$2:$E$13,2,FALSE))","v":""},{"$f":"IF(B121=\"\",\"\",VLOOKUP(D121,Tablas!$B$2:$H$13,7,FALSE))","v":""},"","","","","","","","","","","","","","","","","",""]
[{"$f":"IF(ISBLANK(InfoPro!A116),\"\",InfoPro!A116)","v":""},{"$f":"IF(ISBLANK(InfoPro!B116),\"\",InfoPro!B116)","v":""},{"$f":"IF(ISBLANK(InfoPro!E116),\"\",InfoPro!E116)","v":""},{"$f":"IF(ISBLANK(InfoPro!F116),\"\",InfoPro!F116)","v":""},{"$f":"IF(ISBLANK(InfoPro!I116),\"\",YEAR(InfoPro!I116)-$G$3)","v":""},{"$f":"IF(B122=\"\",\"\",VLOOKUP(D122,Tablas!$B$2:$E$13,2,FALSE))","v":""},{"$f":"IF(B122=\"\",\"\",VLOOKUP(D122,Tablas!$B$2:$H$13,7,FALSE))","v":""},"","","","","","","","","","","","","","","","","",""]
[{"$f":"IF(ISBLANK(InfoPro!A117),\"\",InfoPro!A117)","v":""},{"$f":"IF(ISBLANK(InfoPro!B117),\"\",InfoPro!B117)","v":""},{"$f":"IF(ISBLANK(InfoPro!E117),\"\",InfoPro!E117)","v":""},{"$f":"IF(ISBLANK(InfoPro!F117),\"\",InfoPro!F117)","v":""},{"$f":"IF(ISBLANK(InfoPro!I117),\"\",YEAR(InfoPro!I117)-$G$3)","v":""},{"$f":"IF(B123=\"\",\"\",VLOOKUP(D123,Tablas!$B$2:$E$13,2,FALSE))","v":""},{"$f":"IF(B123=\"\",\"\",VLOOKUP(D123,Tablas!$B$2:$H$13,7,FALSE))","v":""},"","","","","","","","","","","","","","","","","",""]
[{"$f":"IF(ISBLANK(InfoPro!A118),\"\",InfoPro!A118)","v":""},{"$f":"IF(ISBLANK(InfoPro!B118),\"\",InfoPro!B118)","v":""},{"$f":"IF(ISBLANK(InfoPro!E118),\"\",InfoPro!E118)","v":""},{"$f":"IF(ISBLANK(InfoPro!F118),\"\",InfoPro!F118)","v":""},{"$f":"IF(ISBLANK(InfoPro!I118),\"\",YEAR(InfoPro!I118)-$G$3)","v":""},{"$f":"IF(B124=\"\",\"\",VLOOKUP(D124,Tablas!$B$2:$E$13,2,FALSE))","v":""},{"$f":"IF(B124=\"\",\"\",VLOOKUP(D124,Tablas!$B$2:$H$13,7,FALSE))","v":""},"","","","","","","","","","","","","","","","","",""]
[{"$f":"IF(ISBLANK(InfoPro!A119),\"\",InfoPro!A119)","v":""},{"$f":"IF(ISBLANK(InfoPro!B119),\"\",InfoPro!B119)","v":""},{"$f":"IF(ISBLANK(InfoPro!E119),\"\",InfoPro!E119)","v":""},{"$f":"IF(ISBLANK(InfoPro!F119),\"\",InfoPro!F119)","v":""},{"$f":"IF(ISBLANK(InfoPro!I119),\"\",YEAR(InfoPro!I119)-$G$3)","v":""},{"$f":"IF(B125=\"\",\"\",VLOOKUP(D125,Tablas!$B$2:$E$13,2,FALSE))","v":""},{"$f":"IF(B125=\"\",\"\",VLOOKUP(D125,Tablas!$B$2:$H$13,7,FALSE))","v":""},"","","","","","","","","","","","","","","","","",""]
[{"$f":"IF(ISBLANK(InfoPro!A120),\"\",InfoPro!A120)","v":""},{"$f":"IF(ISBLANK(InfoPro!B120),\"\",InfoPro!B120)","v":""},{"$f":"IF(ISBLANK(InfoPro!E120),\"\",InfoPro!E120)","v":""},{"$f":"IF(ISBLANK(InfoPro!F120),\"\",InfoPro!F120)","v":""},{"$f":"IF(ISBLANK(InfoPro!I120),\"\",YEAR(InfoPro!I120)-$G$3)","v":""},{"$f":"IF(B126=\"\",\"\",VLOOKUP(D126,Tablas!$B$2:$E$13,2,FALSE))","v":""},{"$f":"IF(B126=\"\",\"\",VLOOKUP(D126,Tablas!$B$2:$H$13,7,FALSE))","v":""},"","","","","","","","","","","","","","","","","",""]
[{"$f":"IF(ISBLANK(InfoPro!A121),\"\",InfoPro!A121)","v":""},{"$f":"IF(ISBLANK(InfoPro!B121),\"\",InfoPro!B121)","v":""},{"$f":"IF(ISBLANK(InfoPro!E121),\"\",InfoPro!E121)","v":""},{"$f":"IF(ISBLANK(InfoPro!F121),\"\",InfoPro!F121)","v":""},{"$f":"IF(ISBLANK(InfoPro!I121),\"\",YEAR(InfoPro!I121)-$G$3)","v":""},{"$f":"IF(B127=\"\",\"\",VLOOKUP(D127,Tablas!$B$2:$E$13,2,FALSE))","v":""},{"$f":"IF(B127=\"\",\"\",VLOOKUP(D127,Tablas!$B$2:$H$13,7,FALSE))","v":""},"","","","","","","","","","","","","","","","","",""]
[{"$f":"IF(ISBLANK(InfoPro!A122),\"\",InfoPro!A122)","v":""},{"$f":"IF(ISBLANK(InfoPro!B122),\"\",InfoPro!B122)","v":""},{"$f":"IF(ISBLANK(InfoPro!E122),\"\",InfoPro!E122)","v":""},{"$f":"IF(ISBLANK(InfoPro!F122),\"\",InfoPro!F122)","v":""},{"$f":"IF(ISBLANK(InfoPro!I122),\"\",YEAR(InfoPro!I122)-$G$3)","v":""},{"$f":"IF(B128=\"\",\"\",VLOOKUP(D128,Tablas!$B$2:$E$13,2,FALSE))","v":""},{"$f":"IF(B128=\"\",\"\",VLOOKUP(D128,Tablas!$B$2:$H$13,7,FALSE))","v":""},"","","","","","","","","","","","","","","","","",""]
[{"$f":"IF(ISBLANK(InfoPro!A123),\"\",InfoPro!A123)","v":""},{"$f":"IF(ISBLANK(InfoPro!B123),\"\",InfoPro!B123)","v":""},{"$f":"IF(ISBLANK(InfoPro!E123),\"\",InfoPro!E123)","v":""},{"$f":"IF(ISBLANK(InfoPro!F123),\"\",InfoPro!F123)","v":""},{"$f":"IF(ISBLANK(InfoPro!I123),\"\",YEAR(InfoPro!I123)-$G$3)","v":""},{"$f":"IF(B129=\"\",\"\",VLOOKUP(D129,Tablas!$B$2:$E$13,2,FALSE))","v":""},{"$f":"IF(B129=\"\",\"\",VLOOKUP(D129,Tablas!$B$2:$H$13,7,FALSE))","v":""},"","","","","","","","","","","","","","","","","",""]
[{"$f":"IF(ISBLANK(InfoPro!A124),\"\",InfoPro!A124)","v":""},{"$f":"IF(ISBLANK(InfoPro!B124),\"\",InfoPro!B124)","v":""},{"$f":"IF(ISBLANK(InfoPro!E124),\"\",InfoPro!E124)","v":""},{"$f":"IF(ISBLANK(InfoPro!F124),\"\",InfoPro!F124)","v":""},{"$f":"IF(ISBLANK(InfoPro!I124),\"\",YEAR(InfoPro!I124)-$G$3)","v":""},{"$f":"IF(B130=\"\",\"\",VLOOKUP(D130,Tablas!$B$2:$E$13,2,FALSE))","v":""},{"$f":"IF(B130=\"\",\"\",VLOOKUP(D130,Tablas!$B$2:$H$13,7,FALSE))","v":""},"","","","","","","","","","","","","","","","","",""]
[{"$f":"IF(ISBLANK(InfoPro!A125),\"\",InfoPro!A125)","v":""},{"$f":"IF(ISBLANK(InfoPro!B125),\"\",InfoPro!B125)","v":""},{"$f":"IF(ISBLANK(InfoPro!E125),\"\",InfoPro!E125)","v":""},{"$f":"IF(ISBLANK(InfoPro!F125),\"\",InfoPro!F125)","v":""},{"$f":"IF(ISBLANK(InfoPro!I125),\"\",YEAR(InfoPro!I125)-$G$3)","v":""},{"$f":"IF(B131=\"\",\"\",VLOOKUP(D131,Tablas!$B$2:$E$13,2,FALSE))","v":""},{"$f":"IF(B131=\"\",\"\",VLOOKUP(D131,Tablas!$B$2:$H$13,7,FALSE))","v":""},"",{"$f":"IF($H131=\"\",\"\",(1/(1+$C$3)^(I$6+$E131))*$H131*($C$2 - $G131))","v":""},"","","","","","","","","","","","","","","",""]
[{"$f":"IF(ISBLANK(InfoPro!A126),\"\",InfoPro!A126)","v":""},{"$f":"IF(ISBLANK(InfoPro!B126),\"\",InfoPro!B126)","v":""},{"$f":"IF(ISBLANK(InfoPro!E126),\"\",InfoPro!E126)","v":""},{"$f":"IF(ISBLANK(InfoPro!F126),\"\",InfoPro!F126)","v":""},{"$f":"IF(ISBLANK(InfoPro!I126),\"\",YEAR(InfoPro!I126)-$G$3)","v":""},{"$f":"IF(B132=\"\",\"\",VLOOKUP(D132,Tablas!$B$2:$E$13,2,FALSE))","v":""},{"$f":"IF(B132=\"\",\"\",VLOOKUP(D132,Tablas!$B$2:$H$13,7,FALSE))","v":""},"","","","","","","","","","","","","","","","","",""]
[{"$f":"IF(ISBLANK(InfoPro!A127),\"\",InfoPro!A127)","v":""},{"$f":"IF(ISBLANK(InfoPro!B127),\"\",InfoPro!B127)","v":""},{"$f":"IF(ISBLANK(InfoPro!E127),\"\",InfoPro!E127)","v":""},{"$f":"IF(ISBLANK(InfoPro!F127),\"\",InfoPro!F127)","v":""},{"$f":"IF(ISBLANK(InfoPro!I127),\"\",YEAR(InfoPro!I127)-$G$3)","v":""},{"$f":"IF(B133=\"\",\"\",VLOOKUP(D133,Tablas!$B$2:$E$13,2,FALSE))","v":""},{"$f":"IF(B133=\"\",\"\",VLOOKUP(D133,Tablas!$B$2:$H$13,7,FALSE))","v":""},"","","","","","","","","","","","","","","","","",""]
[{"$f":"IF(ISBLANK(InfoPro!A128),\"\",InfoPro!A128)","v":""},{"$f":"IF(ISBLANK(InfoPro!B128),\"\",InfoPro!B128)","v":""},{"$f":"IF(ISBLANK(InfoPro!E128),\"\",InfoPro!E128)","v":""},{"$f":"IF(ISBLANK(InfoPro!F128),\"\",InfoPro!F128)","v":""},{"$f":"IF(ISBLANK(InfoPro!I128),\"\",YEAR(InfoPro!I128)-$G$3)","v":""},{"$f":"IF(B134=\"\",\"\",VLOOKUP(D134,Tablas!$B$2:$E$13,2,FALSE))","v":""},{"$f":"IF(B134=\"\",\"\",VLOOKUP(D134,Tablas!$B$2:$H$13,7,FALSE))","v":""},"","","","","","","","","","","","","","","","","",""]
[{"$f":"IF(ISBLANK(InfoPro!A129),\"\",InfoPro!A129)","v":""},{"$f":"IF(ISBLANK(InfoPro!B129),\"\",InfoPro!B129)","v":""},{"$f":"IF(ISBLANK(InfoPro!E129),\"\",InfoPro!E129)","v":""},{"$f":"IF(ISBLANK(InfoPro!F129),\"\",InfoPro!F129)","v":""},{"$f":"IF(ISBLANK(InfoPro!I129),\"\",YEAR(InfoPro!I129)-$G$3)","v":""},{"$f":"IF(B135=\"\",\"\",VLOOKUP(D135,Tablas!$B$2:$E$13,2,FALSE))","v":""},{"$f":"IF(B135=\"\",\"\",VLOOKUP(D135,Tablas!$B$2:$H$13,7,FALSE))","v":""},"","","","","","","","","","","","","","","","","",""]
[{"$f":"IF(ISBLANK(InfoPro!A130),\"\",InfoPro!A130)","v":""},{"$f":"IF(ISBLANK(InfoPro!B130),\"\",InfoPro!B130)","v":""},{"$f":"IF(ISBLANK(InfoPro!E130),\"\",InfoPro!E130)","v":""},{"$f":"IF(ISBLANK(InfoPro!F130),\"\",InfoPro!F130)","v":""},{"$f":"IF(ISBLANK(InfoPro!I130),\"\",YEAR(InfoPro!I130)-$G$3)","v":""},{"$f":"IF(B136=\"\",\"\",VLOOKUP(D136,Tablas!$B$2:$E$13,2,FALSE))","v":""},{"$f":"IF(B136=\"\",\"\",VLOOKUP(D136,Tablas!$B$2:$H$13,7,FALSE))","v":""},"","","","","","","","","","","","","","","","","",""]
[{"$f":"IF(ISBLANK(InfoPro!A131),\"\",InfoPro!A131)","v":""},{"$f":"IF(ISBLANK(InfoPro!B131),\"\",InfoPro!B131)","v":""},{"$f":"IF(ISBLANK(InfoPro!E131),\"\",InfoPro!E131)","v":""},{"$f":"IF(ISBLANK(InfoPro!F131),\"\",InfoPro!F131)","v":""},{"$f":"IF(ISBLANK(InfoPro!I131),\"\",YEAR(InfoPro!I131)-$G$3)","v":""},{"$f":"IF(B137=\"\",\"\",VLOOKUP(D137,Tablas!$B$2:$E$13,2,FALSE))","v":""},{"$f":"IF(B137=\"\",\"\",VLOOKUP(D137,Tablas!$B$2:$H$13,7,FALSE))","v":""},"","","","","","","","","","","","","","","","","",""]
[{"$f":"IF(ISBLANK(InfoPro!A132),\"\",InfoPro!A132)","v":""},{"$f":"IF(ISBLANK(InfoPro!B132),\"\",InfoPro!B132)","v":""},{"$f":"IF(ISBLANK(InfoPro!E132),\"\",InfoPro!E132)","v":""},{"$f":"IF(ISBLANK(InfoPro!F132),\"\",InfoPro!F132)","v":""},{"$f":"IF(ISBLANK(InfoPro!I132),\"\",YEAR(InfoPro!I132)-$G$3)","v":""},{"$f":"IF(B138=\"\",\"\",VLOOKUP(D138,Tablas!$B$2:$E$13,2,FALSE))","v":""},{"$f":"IF(B138=\"\",\"\",VLOOKUP(D138,Tablas!$B$2:$H$13,7,FALSE))","v":""},"","","","","","","","","","","","","","","","","",""]
[{"$f":"IF(ISBLANK(InfoPro!A133),\"\",InfoPro!A133)","v":""},{"$f":"IF(ISBLANK(InfoPro!B133),\"\",InfoPro!B133)","v":""},{"$f":"IF(ISBLANK(InfoPro!E133),\"\",InfoPro!E133)","v":""},{"$f":"IF(ISBLANK(InfoPro!F133),\"\",InfoPro!F133)","v":""},{"$f":"IF(ISBLANK(InfoPro!I133),\"\",YEAR(InfoPro!I133)-$G$3)","v":""},{"$f":"IF(B139=\"\",\"\",VLOOKUP(D139,Tablas!$B$2:$E$13,2,FALSE))","v":""},{"$f":"IF(B139=\"\",\"\",VLOOKUP(D139,Tablas!$B$2:$H$13,7,FALSE))","v":""},"","","","","","","","","","","","","","","","","",""]
[{"$f":"IF(ISBLANK(InfoPro!A134),\"\",InfoPro!A134)","v":""},{"$f":"IF(ISBLANK(InfoPro!B134),\"\",InfoPro!B134)","v":""},{"$f":"IF(ISBLANK(InfoPro!E134),\"\",InfoPro!E134)","v":""},{"$f":"IF(ISBLANK(InfoPro!F134),\"\",InfoPro!F134)","v":""},{"$f":"IF(ISBLANK(InfoPro!I134),\"\",YEAR(InfoPro!I134)-$G$3)","v":""},{"$f":"IF(B140=\"\",\"\",VLOOKUP(D140,Tablas!$B$2:$E$13,2,FALSE))","v":""},{"$f":"IF(B140=\"\",\"\",VLOOKUP(D140,Tablas!$B$2:$H$13,7,FALSE))","v":""},"","","","","","","","","","","","","","","","","",""]
[{"$f":"IF(ISBLANK(InfoPro!A135),\"\",InfoPro!A135)","v":""},{"$f":"IF(ISBLANK(InfoPro!B135),\"\",InfoPro!B135)","v":""},{"$f":"IF(ISBLANK(InfoPro!E135),\"\",InfoPro!E135)","v":""},{"$f":"IF(ISBLANK(InfoPro!F135),\"\",InfoPro!F135)","v":""},{"$f":"IF(ISBLANK(InfoPro!I135),\"\",YEAR(InfoPro!I135)-$G$3)","v":""},{"$f":"IF(B141=\"\",\"\",VLOOKUP(D141,Tablas!$B$2:$E$13,2,FALSE))","v":""},{"$f":"IF(B141=\"\",\"\",VLOOKUP(D141,Tablas!$B$2:$H$13,7,FALSE))","v":""},"","","","","","","","","","","","","","","","","",""]
[{"$f":"IF(ISBLANK(InfoPro!A136),\"\",InfoPro!A136)","v":""},{"$f":"IF(ISBLANK(InfoPro!B136),\"\",InfoPro!B136)","v":""},{"$f":"IF(ISBLANK(InfoPro!E136),\"\",InfoPro!E136)","v":""},{"$f":"IF(ISBLANK(InfoPro!F136),\"\",InfoPro!F136)","v":""},{"$f":"IF(ISBLANK(InfoPro!I136),\"\",YEAR(InfoPro!I136)-$G$3)","v":""},{"$f":"IF(B142=\"\",\"\",VLOOKUP(D142,Tablas!$B$2:$E$13,2,FALSE))","v":""},{"$f":"IF(B142=\"\",\"\",VLOOKUP(D142,Tablas!$B$2:$H$13,7,FALSE))","v":""},"","","","","","","","","","","","","","","","","",""]
[{"$f":"IF(ISBLANK(InfoPro!A137),\"\",InfoPro!A137)","v":""},{"$f":"IF(ISBLANK(InfoPro!B137),\"\",InfoPro!B137)","v":""},{"$f":"IF(ISBLANK(InfoPro!E137),\"\",InfoPro!E137)","v":""},{"$f":"IF(ISBLANK(InfoPro!F137),\"\",InfoPro!F137)","v":""},{"$f":"IF(ISBLANK(InfoPro!I137),\"\",YEAR(InfoPro!I137)-$G$3)","v":""},{"$f":"IF(B143=\"\",\"\",VLOOKUP(D143,Tablas!$B$2:$E$13,2,FALSE))","v":""},{"$f":"IF(B143=\"\",\"\",VLOOKUP(D143,Tablas!$B$2:$H$13,7,FALSE))","v":""},"","","","","","","","","","","","","","","","","",""]
[{"$f":"IF(ISBLANK(InfoPro!A138),\"\",InfoPro!A138)","v":""},{"$f":"IF(ISBLANK(InfoPro!B138),\"\",InfoPro!B138)","v":""},{"$f":"IF(ISBLANK(InfoPro!E138),\"\",InfoPro!E138)","v":""},{"$f":"IF(ISBLANK(InfoPro!F138),\"\",InfoPro!F138)","v":""},{"$f":"IF(ISBLANK(InfoPro!I138),\"\",YEAR(InfoPro!I138)-$G$3)","v":""},{"$f":"IF(B144=\"\",\"\",VLOOKUP(D144,Tablas!$B$2:$E$13,2,FALSE))","v":""},{"$f":"IF(B144=\"\",\"\",VLOOKUP(D144,Tablas!$B$2:$H$13,7,FALSE))","v":""},"","","","","","","","","","","","","","","","","",""]
[{"$f":"IF(ISBLANK(InfoPro!A139),\"\",InfoPro!A139)","v":""},{"$f":"IF(ISBLANK(InfoPro!B139),\"\",InfoPro!B139)","v":""},{"$f":"IF(ISBLANK(InfoPro!E139),\"\",InfoPro!E139)","v":""},{"$f":"IF(ISBLANK(InfoPro!F139),\"\",InfoPro!F139)","v":""},{"$f":"IF(ISBLANK(InfoPro!I139),\"\",YEAR(InfoPro!I139)-$G$3)","v":""},{"$f":"IF(B145=\"\",\"\",VLOOKUP(D145,Tablas!$B$2:$E$13,2,FALSE))","v":""},{"$f":"IF(B145=\"\",\"\",VLOOKUP(D145,Tablas!$B$2:$H$13,7,FALSE))","v":""},"","","","","","","","","","","","","","","","","",""]
[{"$f":"IF(ISBLANK(InfoPro!A140),\"\",InfoPro!A140)","v":""},{"$f":"IF(ISBLANK(InfoPro!B140),\"\",InfoPro!B140)","v":""},{"$f":"IF(ISBLANK(InfoPro!E140),\"\",InfoPro!E140)","v":""},{"$f":"IF(ISBLANK(InfoPro!F140),\"\",InfoPro!F140)","v":""},{"$f":"IF(ISBLANK(InfoPro!I140),\"\",YEAR(InfoPro!I140)-$G$3)","v":""},{"$f":"IF(B146=\"\",\"\",VLOOKUP(D146,Tablas!$B$2:$E$13,2,FALSE))","v":""},{"$f":"IF(B146=\"\",\"\",VLOOKUP(D146,Tablas!$B$2:$H$13,7,FALSE))","v":""},"","","","","","","","","","","","","","","","","",""]
[{"$f":"IF(ISBLANK(InfoPro!A141),\"\",InfoPro!A141)","v":""},{"$f":"IF(ISBLANK(InfoPro!B141),\"\",InfoPro!B141)","v":""},{"$f":"IF(ISBLANK(InfoPro!E141),\"\",InfoPro!E141)","v":""},{"$f":"IF(ISBLANK(InfoPro!F141),\"\",InfoPro!F141)","v":""},{"$f":"IF(ISBLANK(InfoPro!I141),\"\",YEAR(InfoPro!I141)-$G$3)","v":""},{"$f":"IF(B147=\"\",\"\",VLOOKUP(D147,Tablas!$B$2:$E$13,2,FALSE))","v":""},{"$f":"IF(B147=\"\",\"\",VLOOKUP(D147,Tablas!$B$2:$H$13,7,FALSE))","v":""},"","","","","","","","","","","","","","","","","",""]
[{"$f":"IF(ISBLANK(InfoPro!A142),\"\",InfoPro!A142)","v":""},{"$f":"IF(ISBLANK(InfoPro!B142),\"\",InfoPro!B142)","v":""},{"$f":"IF(ISBLANK(InfoPro!E142),\"\",InfoPro!E142)","v":""},{"$f":"IF(ISBLANK(InfoPro!F142),\"\",InfoPro!F142)","v":""},{"$f":"IF(ISBLANK(InfoPro!I142),\"\",YEAR(InfoPro!I142)-$G$3)","v":""},{"$f":"IF(B148=\"\",\"\",VLOOKUP(D148,Tablas!$B$2:$E$13,2,FALSE))","v":""},{"$f":"IF(B148=\"\",\"\",VLOOKUP(D148,Tablas!$B$2:$H$13,7,FALSE))","v":""},"",{"$f":"IF($H148=\"\",\"\",(1/(1+$C$3)^(I$6+$E148))*$H148*($C$2 - $G148))","v":""},"","","","","","","","","","","","","","","",""]
[{"$f":"IF(ISBLANK(InfoPro!A143),\"\",InfoPro!A143)","v":""},{"$f":"IF(ISBLANK(InfoPro!B143),\"\",InfoPro!B143)","v":""},{"$f":"IF(ISBLANK(InfoPro!E143),\"\",InfoPro!E143)","v":""},{"$f":"IF(ISBLANK(InfoPro!F143),\"\",InfoPro!F143)","v":""},{"$f":"IF(ISBLANK(InfoPro!I143),\"\",YEAR(InfoPro!I143)-$G$3)","v":""},{"$f":"IF(B149=\"\",\"\",VLOOKUP(D149,Tablas!$B$2:$E$13,2,FALSE))","v":""},{"$f":"IF(B149=\"\",\"\",VLOOKUP(D149,Tablas!$B$2:$H$13,7,FALSE))","v":""},"","","","","","","","","","","","","","","","","",""]
[{"$f":"IF(ISBLANK(InfoPro!A144),\"\",InfoPro!A144)","v":""},{"$f":"IF(ISBLANK(InfoPro!B144),\"\",InfoPro!B144)","v":""},{"$f":"IF(ISBLANK(InfoPro!E144),\"\",InfoPro!E144)","v":""},{"$f":"IF(ISBLANK(InfoPro!F144),\"\",InfoPro!F144)","v":""},{"$f":"IF(ISBLANK(InfoPro!I144),\"\",YEAR(InfoPro!I144)-$G$3)","v":""},{"$f":"IF(B150=\"\",\"\",VLOOKUP(D150,Tablas!$B$2:$E$13,2,FALSE))","v":""},{"$f":"IF(B150=\"\",\"\",VLOOKUP(D150,Tablas!$B$2:$H$13,7,FALSE))","v":""},"","","","","","","","","","","","","","","","","",""]
[{"$f":"IF(ISBLANK(InfoPro!A145),\"\",InfoPro!A145)","v":""},{"$f":"IF(ISBLANK(InfoPro!B145),\"\",InfoPro!B145)","v":""},{"$f":"IF(ISBLANK(InfoPro!E145),\"\",InfoPro!E145)","v":""},{"$f":"IF(ISBLANK(InfoPro!F145),\"\",InfoPro!F145)","v":""},{"$f":"IF(ISBLANK(InfoPro!I145),\"\",YEAR(InfoPro!I145)-$G$3)","v":""},{"$f":"IF(B151=\"\",\"\",VLOOKUP(D151,Tablas!$B$2:$E$13,2,FALSE))","v":""},{"$f":"IF(B151=\"\",\"\",VLOOKUP(D151,Tablas!$B$2:$H$13,7,FALSE))","v":""},"","","","","","","","","","","","","","","","","",""]
[{"$f":"IF(ISBLANK(InfoPro!A146),\"\",InfoPro!A146)","v":""},{"$f":"IF(ISBLANK(InfoPro!B146),\"\",InfoPro!B146)","v":""},{"$f":"IF(ISBLANK(InfoPro!E146),\"\",InfoPro!E146)","v":""},{"$f":"IF(ISBLANK(InfoPro!F146),\"\",InfoPro!F146)","v":""},{"$f":"IF(ISBLANK(InfoPro!I146),\"\",YEAR(InfoPro!I146)-$G$3)","v":""},{"$f":"IF(B152=\"\",\"\",VLOOKUP(D152,Tablas!$B$2:$E$13,2,FALSE))","v":""},{"$f":"IF(B152=\"\",\"\",VLOOKUP(D152,Tablas!$B$2:$H$13,7,FALSE))","v":""},"","","","","","","","","","","","","","","","","",""]
[{"$f":"IF(ISBLANK(InfoPro!A147),\"\",InfoPro!A147)","v":""},{"$f":"IF(ISBLANK(InfoPro!B147),\"\",InfoPro!B147)","v":""},{"$f":"IF(ISBLANK(InfoPro!E147),\"\",InfoPro!E147)","v":""},{"$f":"IF(ISBLANK(InfoPro!F147),\"\",InfoPro!F147)","v":""},{"$f":"IF(ISBLANK(InfoPro!I147),\"\",YEAR(InfoPro!I147)-$G$3)","v":""},{"$f":"IF(B153=\"\",\"\",VLOOKUP(D153,Tablas!$B$2:$E$13,2,FALSE))","v":""},{"$f":"IF(B153=\"\",\"\",VLOOKUP(D153,Tablas!$B$2:$H$13,7,FALSE))","v":""},"","","","","","","","","","","","","","","","","",""]
[{"$f":"IF(ISBLANK(InfoPro!A148),\"\",InfoPro!A148)","v":""},{"$f":"IF(ISBLANK(InfoPro!B148),\"\",InfoPro!B148)","v":""},{"$f":"IF(ISBLANK(InfoPro!E148),\"\",InfoPro!E148)","v":""},{"$f":"IF(ISBLANK(InfoPro!F148),\"\",InfoPro!F148)","v":""},{"$f":"IF(ISBLANK(InfoPro!I148),\"\",YEAR(InfoPro!I148)-$G$3)","v":""},{"$f":"IF(B154=\"\",\"\",VLOOKUP(D154,Tablas!$B$2:$E$13,2,FALSE))","v":""},{"$f":"IF(B154=\"\",\"\",VLOOKUP(D154,Tablas!$B$2:$H$13,7,FALSE))","v":""},"","","","","","","","","","","","","","","","","",""]
[{"$f":"IF(ISBLANK(InfoPro!A149),\"\",InfoPro!A149)","v":""},{"$f":"IF(ISBLANK(InfoPro!B149),\"\",InfoPro!B149)","v":""},{"$f":"IF(ISBLANK(InfoPro!E149),\"\",InfoPro!E149)","v":""},{"$f":"IF(ISBLANK(InfoPro!F149),\"\",InfoPro!F149)","v":""},{"$f":"IF(ISBLANK(InfoPro!I149),\"\",YEAR(InfoPro!I149)-$G$3)","v":""},{"$f":"IF(B155=\"\",\"\",VLOOKUP(D155,Tablas!$B$2:$E$13,2,FALSE))","v":""},{"$f":"IF(B155=\"\",\"\",VLOOKUP(D155,Tablas!$B$2:$H$13,7,FALSE))","v":""},"","","","","","","","","","","","","","","","","",""]
[{"$f":"IF(ISBLANK(InfoPro!A150),\"\",InfoPro!A150)","v":""},{"$f":"IF(ISBLANK(InfoPro!B150),\"\",InfoPro!B150)","v":""},{"$f":"IF(ISBLANK(InfoPro!E150),\"\",InfoPro!E150)","v":""},{"$f":"IF(ISBLANK(InfoPro!F150),\"\",InfoPro!F150)","v":""},{"$f":"IF(ISBLANK(InfoPro!I150),\"\",YEAR(InfoPro!I150)-$G$3)","v":""},{"$f":"IF(B156=\"\",\"\",VLOOKUP(D156,Tablas!$B$2:$E$13,2,FALSE))","v":""},{"$f":"IF(B156=\"\",\"\",VLOOKUP(D156,Tablas!$B$2:$H$13,7,FALSE))","v":""},"","","","","","","","","","","","","","","","","",""]
[{"$f":"IF(ISBLANK(InfoPro!A151),\"\",InfoPro!A151)","v":""},{"$f":"IF(ISBLANK(InfoPro!B151),\"\",InfoPro!B151)","v":""},{"$f":"IF(ISBLANK(InfoPro!E151),\"\",InfoPro!E151)","v":""},{"$f":"IF(ISBLANK(InfoPro!F151),\"\",InfoPro!F151)","v":""},{"$f":"IF(ISBLANK(InfoPro!I151),\"\",YEAR(InfoPro!I151)-$G$3)","v":""},{"$f":"IF(B157=\"\",\"\",VLOOKUP(D157,Tablas!$B$2:$E$13,2,FALSE))","v":""},{"$f":"IF(B157=\"\",\"\",VLOOKUP(D157,Tablas!$B$2:$H$13,7,FALSE))","v":""},"","","","","","","","","","","","","","","","","",""]
[{"$f":"IF(ISBLANK(InfoPro!A152),\"\",InfoPro!A152)","v":""},{"$f":"IF(ISBLANK(InfoPro!B152),\"\",InfoPro!B152)","v":""},{"$f":"IF(ISBLANK(InfoPro!E152),\"\",InfoPro!E152)","v":""},{"$f":"IF(ISBLANK(InfoPro!F152),\"\",InfoPro!F152)","v":""},{"$f":"IF(ISBLANK(InfoPro!I152),\"\",YEAR(InfoPro!I152)-$G$3)","v":""},{"$f":"IF(B158=\"\",\"\",VLOOKUP(D158,Tablas!$B$2:$E$13,2,FALSE))","v":""},{"$f":"IF(B158=\"\",\"\",VLOOKUP(D158,Tablas!$B$2:$H$13,7,FALSE))","v":""},"","","","","","","","","","","","","","","","","",""]
[{"$f":"IF(ISBLANK(InfoPro!A153),\"\",InfoPro!A153)","v":""},{"$f":"IF(ISBLANK(InfoPro!B153),\"\",InfoPro!B153)","v":""},{"$f":"IF(ISBLANK(InfoPro!E153),\"\",InfoPro!E153)","v":""},{"$f":"IF(ISBLANK(InfoPro!F153),\"\",InfoPro!F153)","v":""},{"$f":"IF(ISBLANK(InfoPro!I153),\"\",YEAR(InfoPro!I153)-$G$3)","v":""},{"$f":"IF(B159=\"\",\"\",VLOOKUP(D159,Tablas!$B$2:$E$13,2,FALSE))","v":""},{"$f":"IF(B159=\"\",\"\",VLOOKUP(D159,Tablas!$B$2:$H$13,7,FALSE))","v":""},"","","","","","","","","","","","","","","","","",""]
[{"$f":"IF(ISBLANK(InfoPro!A154),\"\",InfoPro!A154)","v":""},{"$f":"IF(ISBLANK(InfoPro!B154),\"\",InfoPro!B154)","v":""},{"$f":"IF(ISBLANK(InfoPro!E154),\"\",InfoPro!E154)","v":""},{"$f":"IF(ISBLANK(InfoPro!F154),\"\",InfoPro!F154)","v":""},{"$f":"IF(ISBLANK(InfoPro!I154),\"\",YEAR(InfoPro!I154)-$G$3)","v":""},{"$f":"IF(B160=\"\",\"\",VLOOKUP(D160,Tablas!$B$2:$E$13,2,FALSE))","v":""},{"$f":"IF(B160=\"\",\"\",VLOOKUP(D160,Tablas!$B$2:$H$13,7,FALSE))","v":""},"","","","","","","","","","","","","","","","","",""]
[{"$f":"IF(ISBLANK(InfoPro!A155),\"\",InfoPro!A155)","v":""},{"$f":"IF(ISBLANK(InfoPro!B155),\"\",InfoPro!B155)","v":""},{"$f":"IF(ISBLANK(InfoPro!E155),\"\",InfoPro!E155)","v":""},{"$f":"IF(ISBLANK(InfoPro!F155),\"\",InfoPro!F155)","v":""},{"$f":"IF(ISBLANK(InfoPro!I155),\"\",YEAR(InfoPro!I155)-$G$3)","v":""},{"$f":"IF(B161=\"\",\"\",VLOOKUP(D161,Tablas!$B$2:$E$13,2,FALSE))","v":""},{"$f":"IF(B161=\"\",\"\",VLOOKUP(D161,Tablas!$B$2:$H$13,7,FALSE))","v":""},"","","","","","","","","","","","","","","","","",""]
[{"$f":"IF(ISBLANK(InfoPro!A156),\"\",InfoPro!A156)","v":""},{"$f":"IF(ISBLANK(InfoPro!B156),\"\",InfoPro!B156)","v":""},{"$f":"IF(ISBLANK(InfoPro!E156),\"\",InfoPro!E156)","v":""},{"$f":"IF(ISBLANK(InfoPro!F156),\"\",InfoPro!F156)","v":""},{"$f":"IF(ISBLANK(InfoPro!I156),\"\",YEAR(InfoPro!I156)-$G$3)","v":""},{"$f":"IF(B162=\"\",\"\",VLOOKUP(D162,Tablas!$B$2:$E$13,2,FALSE))","v":""},{"$f":"IF(B162=\"\",\"\",VLOOKUP(D162,Tablas!$B$2:$H$13,7,FALSE))","v":""},"","","","","","","","","","","","","","","","","",""]
[{"$f":"IF(ISBLANK(InfoPro!A157),\"\",InfoPro!A157)","v":""},{"$f":"IF(ISBLANK(InfoPro!B157),\"\",InfoPro!B157)","v":""},{"$f":"IF(ISBLANK(InfoPro!E157),\"\",InfoPro!E157)","v":""},{"$f":"IF(ISBLANK(InfoPro!F157),\"\",InfoPro!F157)","v":""},{"$f":"IF(ISBLANK(InfoPro!I157),\"\",YEAR(InfoPro!I157)-$G$3)","v":""},{"$f":"IF(B163=\"\",\"\",VLOOKUP(D163,Tablas!$B$2:$E$13,2,FALSE))","v":""},{"$f":"IF(B163=\"\",\"\",VLOOKUP(D163,Tablas!$B$2:$H$13,7,FALSE))","v":""},"","","","","","","","","","","","","","","","","",""]
[{"$f":"IF(ISBLANK(InfoPro!A158),\"\",InfoPro!A158)","v":""},{"$f":"IF(ISBLANK(InfoPro!B158),\"\",InfoPro!B158)","v":""},{"$f":"IF(ISBLANK(InfoPro!E158),\"\",InfoPro!E158)","v":""},{"$f":"IF(ISBLANK(InfoPro!F158),\"\",InfoPro!F158)","v":""},{"$f":"IF(ISBLANK(InfoPro!I158),\"\",YEAR(InfoPro!I158)-$G$3)","v":""},{"$f":"IF(B164=\"\",\"\",VLOOKUP(D164,Tablas!$B$2:$E$13,2,FALSE))","v":""},{"$f":"IF(B164=\"\",\"\",VLOOKUP(D164,Tablas!$B$2:$H$13,7,FALSE))","v":""},"","","","","","","","","","","","","","","","","",""]
[{"$f":"IF(ISBLANK(InfoPro!A159),\"\",InfoPro!A159)","v":""},{"$f":"IF(ISBLANK(InfoPro!B159),\"\",InfoPro!B159)","v":""},{"$f":"IF(ISBLANK(InfoPro!E159),\"\",InfoPro!E159)","v":""},{"$f":"IF(ISBLANK(InfoPro!F159),\"\",InfoPro!F159)","v":""},{"$f":"IF(ISBLANK(InfoPro!I159),\"\",YEAR(InfoPro!I159)-$G$3)","v":""},{"$f":"IF(B165=\"\",\"\",VLOOKUP(D165,Tablas!$B$2:$E$13,2,FALSE))","v":""},{"$f":"IF(B165=\"\",\"\",VLOOKUP(D165,Tablas!$B$2:$H$13,7,FALSE))","v":""},"",{"$f":"IF($H165=\"\",\"\",(1/(1+$C$3)^(I$6+$E165))*$H165*($C$2 - $G165))","v":""},"","","","","","","","","","","","","","","",""]
[{"$f":"IF(ISBLANK(InfoPro!A160),\"\",InfoPro!A160)","v":""},{"$f":"IF(ISBLANK(InfoPro!B160),\"\",InfoPro!B160)","v":""},{"$f":"IF(ISBLANK(InfoPro!E160),\"\",InfoPro!E160)","v":""},{"$f":"IF(ISBLANK(InfoPro!F160),\"\",InfoPro!F160)","v":""},{"$f":"IF(ISBLANK(InfoPro!I160),\"\",YEAR(InfoPro!I160)-$G$3)","v":""},{"$f":"IF(B166=\"\",\"\",VLOOKUP(D166,Tablas!$B$2:$E$13,2,FALSE))","v":""},{"$f":"IF(B166=\"\",\"\",VLOOKUP(D166,Tablas!$B$2:$H$13,7,FALSE))","v":""},"","","","","","","","","","","","","","","","","",""]
[{"$f":"IF(ISBLANK(InfoPro!A161),\"\",InfoPro!A161)","v":""},{"$f":"IF(ISBLANK(InfoPro!B161),\"\",InfoPro!B161)","v":""},{"$f":"IF(ISBLANK(InfoPro!E161),\"\",InfoPro!E161)","v":""},{"$f":"IF(ISBLANK(InfoPro!F161),\"\",InfoPro!F161)","v":""},{"$f":"IF(ISBLANK(InfoPro!I161),\"\",YEAR(InfoPro!I161)-$G$3)","v":""},{"$f":"IF(B167=\"\",\"\",VLOOKUP(D167,Tablas!$B$2:$E$13,2,FALSE))","v":""},{"$f":"IF(B167=\"\",\"\",VLOOKUP(D167,Tablas!$B$2:$H$13,7,FALSE))","v":""},"","","","","","","","","","","","","","","","","",""]
[{"$f":"IF(ISBLANK(InfoPro!A162),\"\",InfoPro!A162)","v":""},{"$f":"IF(ISBLANK(InfoPro!B162),\"\",InfoPro!B162)","v":""},{"$f":"IF(ISBLANK(InfoPro!E162),\"\",InfoPro!E162)","v":""},{"$f":"IF(ISBLANK(InfoPro!F162),\"\",InfoPro!F162)","v":""},{"$f":"IF(ISBLANK(InfoPro!I162),\"\",YEAR(InfoPro!I162)-$G$3)","v":""},{"$f":"IF(B168=\"\",\"\",VLOOKUP(D168,Tablas!$B$2:$E$13,2,FALSE))","v":""},{"$f":"IF(B168=\"\",\"\",VLOOKUP(D168,Tablas!$B$2:$H$13,7,FALSE))","v":""},"","","","","","","","","","","","","","","","","",""]
[{"$f":"IF(ISBLANK(InfoPro!A163),\"\",InfoPro!A163)","v":""},{"$f":"IF(ISBLANK(InfoPro!B163),\"\",InfoPro!B163)","v":""},{"$f":"IF(ISBLANK(InfoPro!E163),\"\",InfoPro!E163)","v":""},{"$f":"IF(ISBLANK(InfoPro!F163),\"\",InfoPro!F163)","v":""},{"$f":"IF(ISBLANK(InfoPro!I163),\"\",YEAR(InfoPro!I163)-$G$3)","v":""},{"$f":"IF(B169=\"\",\"\",VLOOKUP(D169,Tablas!$B$2:$E$13,2,FALSE))","v":""},{"$f":"IF(B169=\"\",\"\",VLOOKUP(D169,Tablas!$B$2:$H$13,7,FALSE))","v":""},"","","","","","","","","","","","","","","","","",""]
[{"$f":"IF(ISBLANK(InfoPro!A164),\"\",InfoPro!A164)","v":""},{"$f":"IF(ISBLANK(InfoPro!B164),\"\",InfoPro!B164)","v":""},{"$f":"IF(ISBLANK(InfoPro!E164),\"\",InfoPro!E164)","v":""},{"$f":"IF(ISBLANK(InfoPro!F164),\"\",InfoPro!F164)","v":""},{"$f":"IF(ISBLANK(InfoPro!I164),\"\",YEAR(InfoPro!I164)-$G$3)","v":""},{"$f":"IF(B170=\"\",\"\",VLOOKUP(D170,Tablas!$B$2:$E$13,2,FALSE))","v":""},{"$f":"IF(B170=\"\",\"\",VLOOKUP(D170,Tablas!$B$2:$H$13,7,FALSE))","v":""},"","","","","","","","","","","","","","","","","",""]
[{"$f":"IF(ISBLANK(InfoPro!A165),\"\",InfoPro!A165)","v":""},{"$f":"IF(ISBLANK(InfoPro!B165),\"\",InfoPro!B165)","v":""},{"$f":"IF(ISBLANK(InfoPro!E165),\"\",InfoPro!E165)","v":""},{"$f":"IF(ISBLANK(InfoPro!F165),\"\",InfoPro!F165)","v":""},{"$f":"IF(ISBLANK(InfoPro!I165),\"\",YEAR(InfoPro!I165)-$G$3)","v":""},{"$f":"IF(B171=\"\",\"\",VLOOKUP(D171,Tablas!$B$2:$E$13,2,FALSE))","v":""},{"$f":"IF(B171=\"\",\"\",VLOOKUP(D171,Tablas!$B$2:$H$13,7,FALSE))","v":""},"","","","","","","","","","","","","","","","","",""]
[{"$f":"IF(ISBLANK(InfoPro!A166),\"\",InfoPro!A166)","v":""},{"$f":"IF(ISBLANK(InfoPro!B166),\"\",InfoPro!B166)","v":""},{"$f":"IF(ISBLANK(InfoPro!E166),\"\",InfoPro!E166)","v":""},{"$f":"IF(ISBLANK(InfoPro!F166),\"\",InfoPro!F166)","v":""},{"$f":"IF(ISBLANK(InfoPro!I166),\"\",YEAR(InfoPro!I166)-$G$3)","v":""},{"$f":"IF(B172=\"\",\"\",VLOOKUP(D172,Tablas!$B$2:$E$13,2,FALSE))","v":""},{"$f":"IF(B172=\"\",\"\",VLOOKUP(D172,Tablas!$B$2:$H$13,7,FALSE))","v":""},{"$f":"IF(C172=\"\",\"\",+C172*F172*24*365)","v":""},"","","","","","","","","","","","","","","",{"$f":"IF(W172=\"\",\"\",SUM(I172:W172))","v":""},{"$f":"IF(C172=0,0,IF(X172=\"\",\"\",X172/(C172*1000)))","v":""}]
[{"$f":"IF(ISBLANK(InfoPro!A167),\"\",InfoPro!A167)","v":""},{"$f":"IF(ISBLANK(InfoPro!B167),\"\",InfoPro!B167)","v":""},{"$f":"IF(ISBLANK(InfoPro!E167),\"\",InfoPro!E167)","v":""},{"$f":"IF(ISBLANK(InfoPro!F167),\"\",InfoPro!F167)","v":""},{"$f":"IF(ISBLANK(InfoPro!I167),\"\",YEAR(InfoPro!I167)-$G$3)","v":""},{"$f":"IF(B173=\"\",\"\",VLOOKUP(D173,Tablas!$B$2:$E$13,2,FALSE))","v":""},{"$f":"IF(B173=\"\",\"\",VLOOKUP(D173,Tablas!$B$2:$H$13,7,FALSE))","v":""},"","","","","","","","","","","","","","","","","",""]
[{"$f":"IF(ISBLANK(InfoPro!A168),\"\",InfoPro!A168)","v":""},{"$f":"IF(ISBLANK(InfoPro!B168),\"\",InfoPro!B168)","v":""},{"$f":"IF(ISBLANK(InfoPro!E168),\"\",InfoPro!E168)","v":""},{"$f":"IF(ISBLANK(InfoPro!F168),\"\",InfoPro!F168)","v":""},{"$f":"IF(ISBLANK(InfoPro!I168),\"\",YEAR(InfoPro!I168)-$G$3)","v":""},{"$f":"IF(B174=\"\",\"\",VLOOKUP(D174,Tablas!$B$2:$E$13,2,FALSE))","v":""},{"$f":"IF(B174=\"\",\"\",VLOOKUP(D174,Tablas!$B$2:$H$13,7,FALSE))","v":""},"","","","","","","","","","","","","","","","","",""]
[{"$f":"IF(ISBLANK(InfoPro!A169),\"\",InfoPro!A169)","v":""},{"$f":"IF(ISBLANK(InfoPro!B169),\"\",InfoPro!B169)","v":""},{"$f":"IF(ISBLANK(InfoPro!E169),\"\",InfoPro!E169)","v":""},{"$f":"IF(ISBLANK(InfoPro!F169),\"\",InfoPro!F169)","v":""},{"$f":"IF(ISBLANK(InfoPro!I169),\"\",YEAR(InfoPro!I169)-$G$3)","v":""},{"$f":"IF(B175=\"\",\"\",VLOOKUP(D175,Tablas!$B$2:$E$13,2,FALSE))","v":""},{"$f":"IF(B175=\"\",\"\",VLOOKUP(D175,Tablas!$B$2:$H$13,7,FALSE))","v":""},"","","","","","","","","","","","","","","","","",""]
[{"$f":"IF(ISBLANK(InfoPro!A170),\"\",InfoPro!A170)","v":""},{"$f":"IF(ISBLANK(InfoPro!B170),\"\",InfoPro!B170)","v":""},{"$f":"IF(ISBLANK(InfoPro!E170),\"\",InfoPro!E170)","v":""},{"$f":"IF(ISBLANK(InfoPro!F170),\"\",InfoPro!F170)","v":""},{"$f":"IF(ISBLANK(InfoPro!I170),\"\",YEAR(InfoPro!I170)-$G$3)","v":""},{"$f":"IF(B176=\"\",\"\",VLOOKUP(D176,Tablas!$B$2:$E$13,2,FALSE))","v":""},{"$f":"IF(B176=\"\",\"\",VLOOKUP(D176,Tablas!$B$2:$H$13,7,FALSE))","v":""},"","","","","","","","","","","","","","","","","",""]
[{"$f":"IF(ISBLANK(InfoPro!A171),\"\",InfoPro!A171)","v":""},{"$f":"IF(ISBLANK(InfoPro!B171),\"\",InfoPro!B171)","v":""},{"$f":"IF(ISBLANK(InfoPro!E171),\"\",InfoPro!E171)","v":""},{"$f":"IF(ISBLANK(InfoPro!F171),\"\",InfoPro!F171)","v":""},{"$f":"IF(ISBLANK(InfoPro!I171),\"\",YEAR(InfoPro!I171)-$G$3)","v":""},{"$f":"IF(B177=\"\",\"\",VLOOKUP(D177,Tablas!$B$2:$E$13,2,FALSE))","v":""},{"$f":"IF(B177=\"\",\"\",VLOOKUP(D177,Tablas!$B$2:$H$13,7,FALSE))","v":""},"","","","","","","","","","","","","","","","","",""]
[{"$f":"IF(ISBLANK(InfoPro!A172),\"\",InfoPro!A172)","v":""},{"$f":"IF(ISBLANK(InfoPro!B172),\"\",InfoPro!B172)","v":""},{"$f":"IF(ISBLANK(InfoPro!E172),\"\",InfoPro!E172)","v":""},{"$f":"IF(ISBLANK(InfoPro!F172),\"\",InfoPro!F172)","v":""},{"$f":"IF(ISBLANK(InfoPro!I172),\"\",YEAR(InfoPro!I172)-$G$3)","v":""},{"$f":"IF(B178=\"\",\"\",VLOOKUP(D178,Tablas!$B$2:$E$13,2,FALSE))","v":""},{"$f":"IF(B178=\"\",\"\",VLOOKUP(D178,Tablas!$B$2:$H$13,7,FALSE))","v":""},"","","","","","","","","","","","","","","","","",""]
[{"$f":"IF(ISBLANK(InfoPro!A173),\"\",InfoPro!A173)","v":""},{"$f":"IF(ISBLANK(InfoPro!B173),\"\",InfoPro!B173)","v":""},{"$f":"IF(ISBLANK(InfoPro!E173),\"\",InfoPro!E173)","v":""},{"$f":"IF(ISBLANK(InfoPro!F173),\"\",InfoPro!F173)","v":""},{"$f":"IF(ISBLANK(InfoPro!I173),\"\",YEAR(InfoPro!I173)-$G$3)","v":""},{"$f":"IF(B179=\"\",\"\",VLOOKUP(D179,Tablas!$B$2:$E$13,2,FALSE))","v":""},{"$f":"IF(B179=\"\",\"\",VLOOKUP(D179,Tablas!$B$2:$H$13,7,FALSE))","v":""},"","","","","","","","","","","","","","","","","",""]
[{"$f":"IF(ISBLANK(InfoPro!A174),\"\",InfoPro!A174)","v":""},{"$f":"IF(ISBLANK(InfoPro!B174),\"\",InfoPro!B174)","v":""},{"$f":"IF(ISBLANK(InfoPro!E174),\"\",InfoPro!E174)","v":""},{"$f":"IF(ISBLANK(InfoPro!F174),\"\",InfoPro!F174)","v":""},{"$f":"IF(ISBLANK(InfoPro!I174),\"\",YEAR(InfoPro!I174)-$G$3)","v":""},{"$f":"IF(B180=\"\",\"\",VLOOKUP(D180,Tablas!$B$2:$E$13,2,FALSE))","v":""},{"$f":"IF(B180=\"\",\"\",VLOOKUP(D180,Tablas!$B$2:$H$13,7,FALSE))","v":""},"","","","","","","","","","","","","","","","","",""]
[{"$f":"IF(ISBLANK(InfoPro!A175),\"\",InfoPro!A175)","v":""},{"$f":"IF(ISBLANK(InfoPro!B175),\"\",InfoPro!B175)","v":""},{"$f":"IF(ISBLANK(InfoPro!E175),\"\",InfoPro!E175)","v":""},{"$f":"IF(ISBLANK(InfoPro!F175),\"\",InfoPro!F175)","v":""},{"$f":"IF(ISBLANK(InfoPro!I175),\"\",YEAR(InfoPro!I175)-$G$3)","v":""},{"$f":"IF(B181=\"\",\"\",VLOOKUP(D181,Tablas!$B$2:$E$13,2,FALSE))","v":""},{"$f":"IF(B181=\"\",\"\",VLOOKUP(D181,Tablas!$B$2:$H$13,7,FALSE))","v":""},"","","","","","","","","","","","","","","","","",""]
[{"$f":"IF(ISBLANK(InfoPro!A176),\"\",InfoPro!A176)","v":""},{"$f":"IF(ISBLANK(InfoPro!B176),\"\",InfoPro!B176)","v":""},{"$f":"IF(ISBLANK(InfoPro!E176),\"\",InfoPro!E176)","v":""},{"$f":"IF(ISBLANK(InfoPro!F176),\"\",InfoPro!F176)","v":""},{"$f":"IF(ISBLANK(InfoPro!I176),\"\",YEAR(InfoPro!I176)-$G$3)","v":""},{"$f":"IF(B182=\"\",\"\",VLOOKUP(D182,Tablas!$B$2:$E$13,2,FALSE))","v":""},{"$f":"IF(B182=\"\",\"\",VLOOKUP(D182,Tablas!$B$2:$H$13,7,FALSE))","v":""},"",{"$f":"IF($H182=\"\",\"\",(1/(1+$C$3)^(I$6+$E182))*$H182*($C$2 - $G182))","v":""},"","","","","","","","","","","","","","","",""]
[{"$f":"IF(ISBLANK(InfoPro!A177),\"\",InfoPro!A177)","v":""},{"$f":"IF(ISBLANK(InfoPro!B177),\"\",InfoPro!B177)","v":""},{"$f":"IF(ISBLANK(InfoPro!E177),\"\",InfoPro!E177)","v":""},{"$f":"IF(ISBLANK(InfoPro!F177),\"\",InfoPro!F177)","v":""},{"$f":"IF(ISBLANK(InfoPro!I177),\"\",YEAR(InfoPro!I177)-$G$3)","v":""},{"$f":"IF(B183=\"\",\"\",VLOOKUP(D183,Tablas!$B$2:$E$13,2,FALSE))","v":""},{"$f":"IF(B183=\"\",\"\",VLOOKUP(D183,Tablas!$B$2:$H$13,7,FALSE))","v":""},"","","","","","","","","","","","","","","","","",""]
[{"$f":"IF(ISBLANK(InfoPro!A178),\"\",InfoPro!A178)","v":""},{"$f":"IF(ISBLANK(InfoPro!B178),\"\",InfoPro!B178)","v":""},{"$f":"IF(ISBLANK(InfoPro!E178),\"\",InfoPro!E178)","v":""},{"$f":"IF(ISBLANK(InfoPro!F178),\"\",InfoPro!F178)","v":""},{"$f":"IF(ISBLANK(InfoPro!I178),\"\",YEAR(InfoPro!I178)-$G$3)","v":""},{"$f":"IF(B184=\"\",\"\",VLOOKUP(D184,Tablas!$B$2:$E$13,2,FALSE))","v":""},{"$f":"IF(B184=\"\",\"\",VLOOKUP(D184,Tablas!$B$2:$H$13,7,FALSE))","v":""},"","","","","","","","","","","","","","","","","",""]
[{"$f":"IF(ISBLANK(InfoPro!A179),\"\",InfoPro!A179)","v":""},{"$f":"IF(ISBLANK(InfoPro!B179),\"\",InfoPro!B179)","v":""},{"$f":"IF(ISBLANK(InfoPro!E179),\"\",InfoPro!E179)","v":""},{"$f":"IF(ISBLANK(InfoPro!F179),\"\",InfoPro!F179)","v":""},{"$f":"IF(ISBLANK(InfoPro!I179),\"\",YEAR(InfoPro!I179)-$G$3)","v":""},{"$f":"IF(B185=\"\",\"\",VLOOKUP(D185,Tablas!$B$2:$E$13,2,FALSE))","v":""},{"$f":"IF(B185=\"\",\"\",VLOOKUP(D185,Tablas!$B$2:$H$13,7,FALSE))","v":""},"","","","","","","","","","","","","","","","","",""]
[{"$f":"IF(ISBLANK(InfoPro!A180),\"\",InfoPro!A180)","v":""},{"$f":"IF(ISBLANK(InfoPro!B180),\"\",InfoPro!B180)","v":""},{"$f":"IF(ISBLANK(InfoPro!E180),\"\",InfoPro!E180)","v":""},{"$f":"IF(ISBLANK(InfoPro!F180),\"\",InfoPro!F180)","v":""},{"$f":"IF(ISBLANK(InfoPro!I180),\"\",YEAR(InfoPro!I180)-$G$3)","v":""},{"$f":"IF(B186=\"\",\"\",VLOOKUP(D186,Tablas!$B$2:$E$13,2,FALSE))","v":""},{"$f":"IF(B186=\"\",\"\",VLOOKUP(D186,Tablas!$B$2:$H$13,7,FALSE))","v":""},"","","","","","","","","","","","","","","","","",""]
[{"$f":"IF(ISBLANK(InfoPro!A181),\"\",InfoPro!A181)","v":""},{"$f":"IF(ISBLANK(InfoPro!B181),\"\",InfoPro!B181)","v":""},{"$f":"IF(ISBLANK(InfoPro!E181),\"\",InfoPro!E181)","v":""},{"$f":"IF(ISBLANK(InfoPro!F181),\"\",InfoPro!F181)","v":""},{"$f":"IF(ISBLANK(InfoPro!I181),\"\",YEAR(InfoPro!I181)-$G$3)","v":""},{"$f":"IF(B187=\"\",\"\",VLOOKUP(D187,Tablas!$B$2:$E$13,2,FALSE))","v":""},{"$f":"IF(B187=\"\",\"\",VLOOKUP(D187,Tablas!$B$2:$H$13,7,FALSE))","v":""},"","","","","","","","","","","","","","","","","",""]
[{"$f":"IF(ISBLANK(InfoPro!A182),\"\",InfoPro!A182)","v":""},{"$f":"IF(ISBLANK(InfoPro!B182),\"\",InfoPro!B182)","v":""},{"$f":"IF(ISBLANK(InfoPro!E182),\"\",InfoPro!E182)","v":""},{"$f":"IF(ISBLANK(InfoPro!F182),\"\",InfoPro!F182)","v":""},{"$f":"IF(ISBLANK(InfoPro!I182),\"\",YEAR(InfoPro!I182)-$G$3)","v":""},{"$f":"IF(B188=\"\",\"\",VLOOKUP(D188,Tablas!$B$2:$E$13,2,FALSE))","v":""},{"$f":"IF(B188=\"\",\"\",VLOOKUP(D188,Tablas!$B$2:$H$13,7,FALSE))","v":""},"","","","","","","","","","","","","","","","","",""]
[{"$f":"IF(ISBLANK(InfoPro!A183),\"\",InfoPro!A183)","v":""},{"$f":"IF(ISBLANK(InfoPro!B183),\"\",InfoPro!B183)","v":""},{"$f":"IF(ISBLANK(InfoPro!E183),\"\",InfoPro!E183)","v":""},{"$f":"IF(ISBLANK(InfoPro!F183),\"\",InfoPro!F183)","v":""},{"$f":"IF(ISBLANK(InfoPro!I183),\"\",YEAR(InfoPro!I183)-$G$3)","v":""},{"$f":"IF(B189=\"\",\"\",VLOOKUP(D189,Tablas!$B$2:$E$13,2,FALSE))","v":""},{"$f":"IF(B189=\"\",\"\",VLOOKUP(D189,Tablas!$B$2:$H$13,7,FALSE))","v":""},"","","","","","","","","","","","","","","","","",""]
[{"$f":"IF(ISBLANK(InfoPro!A184),\"\",InfoPro!A184)","v":""},{"$f":"IF(ISBLANK(InfoPro!B184),\"\",InfoPro!B184)","v":""},{"$f":"IF(ISBLANK(InfoPro!E184),\"\",InfoPro!E184)","v":""},{"$f":"IF(ISBLANK(InfoPro!F184),\"\",InfoPro!F184)","v":""},{"$f":"IF(ISBLANK(InfoPro!I184),\"\",YEAR(InfoPro!I184)-$G$3)","v":""},{"$f":"IF(B190=\"\",\"\",VLOOKUP(D190,Tablas!$B$2:$E$13,2,FALSE))","v":""},{"$f":"IF(B190=\"\",\"\",VLOOKUP(D190,Tablas!$B$2:$H$13,7,FALSE))","v":""},"","","","","","","","","","","","","","","","","",""]
[{"$f":"IF(ISBLANK(InfoPro!A185),\"\",InfoPro!A185)","v":""},{"$f":"IF(ISBLANK(InfoPro!B185),\"\",InfoPro!B185)","v":""},{"$f":"IF(ISBLANK(InfoPro!E185),\"\",InfoPro!E185)","v":""},{"$f":"IF(ISBLANK(InfoPro!F185),\"\",InfoPro!F185)","v":""},{"$f":"IF(ISBLANK(InfoPro!I185),\"\",YEAR(InfoPro!I185)-$G$3)","v":""},{"$f":"IF(B191=\"\",\"\",VLOOKUP(D191,Tablas!$B$2:$E$13,2,FALSE))","v":""},{"$f":"IF(B191=\"\",\"\",VLOOKUP(D191,Tablas!$B$2:$H$13,7,FALSE))","v":""},"","","","","","","","","","","","","","","","","",""]
[{"$f":"IF(ISBLANK(InfoPro!A186),\"\",InfoPro!A186)","v":""},{"$f":"IF(ISBLANK(InfoPro!B186),\"\",InfoPro!B186)","v":""},{"$f":"IF(ISBLANK(InfoPro!E186),\"\",InfoPro!E186)","v":""},{"$f":"IF(ISBLANK(InfoPro!F186),\"\",InfoPro!F186)","v":""},{"$f":"IF(ISBLANK(InfoPro!I186),\"\",YEAR(InfoPro!I186)-$G$3)","v":""},{"$f":"IF(B192=\"\",\"\",VLOOKUP(D192,Tablas!$B$2:$E$13,2,FALSE))","v":""},{"$f":"IF(B192=\"\",\"\",VLOOKUP(D192,Tablas!$B$2:$H$13,7,FALSE))","v":""},"","","","","","","","","","","","","","","","","",""]
[{"$f":"IF(ISBLANK(InfoPro!A187),\"\",InfoPro!A187)","v":""},{"$f":"IF(ISBLANK(InfoPro!B187),\"\",InfoPro!B187)","v":""},{"$f":"IF(ISBLANK(InfoPro!E187),\"\",InfoPro!E187)","v":""},{"$f":"IF(ISBLANK(InfoPro!F187),\"\",InfoPro!F187)","v":""},{"$f":"IF(ISBLANK(InfoPro!I187),\"\",YEAR(InfoPro!I187)-$G$3)","v":""},{"$f":"IF(B193=\"\",\"\",VLOOKUP(D193,Tablas!$B$2:$E$13,2,FALSE))","v":""},{"$f":"IF(B193=\"\",\"\",VLOOKUP(D193,Tablas!$B$2:$H$13,7,FALSE))","v":""},"","","","","","","","","","","","","","","","","",""]
[{"$f":"IF(ISBLANK(InfoPro!A188),\"\",InfoPro!A188)","v":""},{"$f":"IF(ISBLANK(InfoPro!B188),\"\",InfoPro!B188)","v":""},{"$f":"IF(ISBLANK(InfoPro!E188),\"\",InfoPro!E188)","v":""},{"$f":"IF(ISBLANK(InfoPro!F188),\"\",InfoPro!F188)","v":""},{"$f":"IF(ISBLANK(InfoPro!I188),\"\",YEAR(InfoPro!I188)-$G$3)","v":""},{"$f":"IF(B194=\"\",\"\",VLOOKUP(D194,Tablas!$B$2:$E$13,2,FALSE))","v":""},{"$f":"IF(B194=\"\",\"\",VLOOKUP(D194,Tablas!$B$2:$H$13,7,FALSE))","v":""},"","","","","","","","","","","","","","","","","",""]
[{"$f":"IF(ISBLANK(InfoPro!A189),\"\",InfoPro!A189)","v":""},{"$f":"IF(ISBLANK(InfoPro!B189),\"\",InfoPro!B189)","v":""},{"$f":"IF(ISBLANK(InfoPro!E189),\"\",InfoPro!E189)","v":""},{"$f":"IF(ISBLANK(InfoPro!F189),\"\",InfoPro!F189)","v":""},{"$f":"IF(ISBLANK(InfoPro!I189),\"\",YEAR(InfoPro!I189)-$G$3)","v":""},{"$f":"IF(B195=\"\",\"\",VLOOKUP(D195,Tablas!$B$2:$E$13,2,FALSE))","v":""},{"$f":"IF(B195=\"\",\"\",VLOOKUP(D195,Tablas!$B$2:$H$13,7,FALSE))","v":""},"","","","","","","","","","","","","","","","","",""]
[{"$f":"IF(ISBLANK(InfoPro!A190),\"\",InfoPro!A190)","v":""},{"$f":"IF(ISBLANK(InfoPro!B190),\"\",InfoPro!B190)","v":""},{"$f":"IF(ISBLANK(InfoPro!E190),\"\",InfoPro!E190)","v":""},{"$f":"IF(ISBLANK(InfoPro!F190),\"\",InfoPro!F190)","v":""},{"$f":"IF(ISBLANK(InfoPro!I190),\"\",YEAR(InfoPro!I190)-$G$3)","v":""},{"$f":"IF(B196=\"\",\"\",VLOOKUP(D196,Tablas!$B$2:$E$13,2,FALSE))","v":""},{"$f":"IF(B196=\"\",\"\",VLOOKUP(D196,Tablas!$B$2:$H$13,7,FALSE))","v":""},"","","","","","","","","","","","","","","","","",""]
[{"$f":"IF(ISBLANK(InfoPro!A191),\"\",InfoPro!A191)","v":""},{"$f":"IF(ISBLANK(InfoPro!B191),\"\",InfoPro!B191)","v":""},{"$f":"IF(ISBLANK(InfoPro!E191),\"\",InfoPro!E191)","v":""},{"$f":"IF(ISBLANK(InfoPro!F191),\"\",InfoPro!F191)","v":""},{"$f":"IF(ISBLANK(InfoPro!I191),\"\",YEAR(InfoPro!I191)-$G$3)","v":""},{"$f":"IF(B197=\"\",\"\",VLOOKUP(D197,Tablas!$B$2:$E$13,2,FALSE))","v":""},{"$f":"IF(B197=\"\",\"\",VLOOKUP(D197,Tablas!$B$2:$H$13,7,FALSE))","v":""},"","","","","","","","","","","","","","","","","",""]
[{"$f":"IF(ISBLANK(InfoPro!A192),\"\",InfoPro!A192)","v":""},{"$f":"IF(ISBLANK(InfoPro!B192),\"\",InfoPro!B192)","v":""},{"$f":"IF(ISBLANK(InfoPro!E192),\"\",InfoPro!E192)","v":""},{"$f":"IF(ISBLANK(InfoPro!F192),\"\",InfoPro!F192)","v":""},{"$f":"IF(ISBLANK(InfoPro!I192),\"\",YEAR(InfoPro!I192)-$G$3)","v":""},{"$f":"IF(B198=\"\",\"\",VLOOKUP(D198,Tablas!$B$2:$E$13,2,FALSE))","v":""},{"$f":"IF(B198=\"\",\"\",VLOOKUP(D198,Tablas!$B$2:$H$13,7,FALSE))","v":""},"","","","","","","","","","","","","","","","","",""]
[{"$f":"IF(ISBLANK(InfoPro!A193),\"\",InfoPro!A193)","v":""},{"$f":"IF(ISBLANK(InfoPro!B193),\"\",InfoPro!B193)","v":""},{"$f":"IF(ISBLANK(InfoPro!E193),\"\",InfoPro!E193)","v":""},{"$f":"IF(ISBLANK(InfoPro!F193),\"\",InfoPro!F193)","v":""},{"$f":"IF(ISBLANK(InfoPro!I193),\"\",YEAR(InfoPro!I193)-$G$3)","v":""},{"$f":"IF(B199=\"\",\"\",VLOOKUP(D199,Tablas!$B$2:$E$13,2,FALSE))","v":""},{"$f":"IF(B199=\"\",\"\",VLOOKUP(D199,Tablas!$B$2:$H$13,7,FALSE))","v":""},"",{"$f":"IF($H199=\"\",\"\",(1/(1+$C$3)^(I$6+$E199))*$H199*($C$2 - $G199))","v":""},"","","","","","","","","","","","","","","",""]

{"sheet":"EC-Mar2","index":8,"n_rows":118,"n_cols":8,"rows_kept":118,"cut":false,"hidden":true,"merged":[]}
[]
[null,"Precio promedio de bolsa",162532,"$/MWh"]
[null,"Tasa de descuento",0.11799999999999999]
[null,"Costo emisiones Ton",80.2,"USD/Ton"]
[null,"TRM",3600]
[]
["Codigo","Nombre","capacidad","Tipo","Costos de conexión/activos de uso - SIN","VPN","Beneficio - Costo","(Beneficio - Costo)/kW"]
[{"$f":"IF(ISBLANK(InfoPro!A2),\"\",InfoPro!A2)","v":"SC_1323_A1"},{"$f":"IF(ISBLANK(InfoPro!B2),\"\",InfoPro!B2)","v":"GEN ARAUCA"},{"$f":"IF(ISBLANK(InfoPro!E2),\"\",InfoPro!E2)","v":30},{"$f":"IF(ISBLANK(InfoPro!F2),\"\",InfoPro!F2)","v":"Termica - Ciclo Abierto"},{"$f":"IF(ISBLANK(InfoPro!#REF!),\"\",InfoPro!#REF!)","v":{"$error":"#REF!"}},{"$f":"IF(ISBLANK(InfoPro!O2),\"\",InfoPro!O2)","v":0},{"$f":"IF(F8=\"\",\"\",F8-E8)","v":{"$error":"#REF!"}},{"$f":"IF(G8=\"\",\"\",G8/(C8*1000))","v":{"$error":"#REF!"}}]
[{"$f":"IF(ISBLANK(InfoPro!#REF!),\"\",InfoPro!#REF!)","v":{"$error":"#REF!"}},{"$f":"IF(ISBLANK(InfoPro!#REF!),\"\",InfoPro!#REF!)","v":{"$error":"#REF!"}},{"$f":"IF(ISBLANK(InfoPro!#REF!),\"\",InfoPro!#REF!)","v":{"$error":"#REF!"}},{"$f":"IF(ISBLANK(InfoPro!#REF!),\"\",InfoPro!#REF!)","v":{"$error":"#REF!"}},{"$f":"IF(ISBLANK(InfoPro!#REF!),\"\",InfoPro!#REF!)","v":{"$error":"#REF!"}},{"$f":"IF(ISBLANK(InfoPro!#REF!),\"\",InfoPro!#REF!)","v":{"$error":"#REF!"}},{"$f":"IF(F9=\"\",\"\",F9-E9)","v":{"$error":"#REF!"}},{"$f":"IF(G9=\"\",\"\",G9/(C9*1000))","v":{"$error":"#REF!"}}]
[{"$f":"IF(ISBLANK(InfoPro!#REF!),\"\",InfoPro!#REF!)","v":{"$error":"#REF!"}},{"$f":"IF(ISBLANK(InfoPro!#REF!),\"\",InfoPro!#REF!)","v":{"$error":"#REF!"}},{"$f":"IF(ISBLANK(InfoPro!#REF!),\"\",InfoPro!#REF!)","v":{"$error":"#REF!"}},{"$f":"IF(ISBLANK(InfoPro!#REF!),\"\",InfoPro!#REF!)","v":{"$error":"#REF!"}},{"$f":"IF(ISBLANK(InfoPro!#REF!),\"\",InfoPro!#REF!)","v":{"$error":"#REF!"}},{"$f":"IF(ISBLANK(InfoPro!#REF!),\"\",InfoPro!#REF!)","v":{"$error":"#REF!"}},{"$error":"#REF!"},{"$error":"#REF!"}]
[{"$f":"IF(ISBLANK(InfoPro!A3),\"\",InfoPro!A3)","v":"SC_1323_A2"},{"$f":"IF(ISBLANK(InfoPro!B3),\"\",InfoPro!B3)","v":"GEN ARAUCA"},{"$f":"IF(ISBLANK(InfoPro!E3),\"\",InfoPro!E3)","v":30},{"$f":"IF(ISBLANK(InfoPro!F3),\"\",InfoPro!F3)","v":"Termica - Ciclo Abierto"},{"$f":"IF(ISBLANK(InfoPro!#REF!),\"\",InfoPro!#REF!)","v":{"$error":"#REF!"}},{"$f":"IF(ISBLANK(InfoPro!O3),\"\",InfoPro!O3)","v":0},{"$error":"#REF!"},{"$error":"#REF!"}]
[{"$f":"IF(ISBLANK(InfoPro!A4),\"\",InfoPro!A4)","v":"SC_1323_A3"},{"$f":"IF(ISBLANK(InfoPro!B4),\"\",InfoPro!B4)","v":"GEN ARAUCA"},{"$f":"IF(ISBLANK(InfoPro!E4),\"\",InfoPro!E4)","v":30},{"$f":"IF(ISBLANK(InfoPro!F4),\"\",InfoPro!F4)","v":"Termica - Ciclo Abierto"},{"$f":"IF(ISBLANK(InfoPro!#REF!),\"\",InfoPro!#REF!)","v":{"$error":"#REF!"}},{"$f":"IF(ISBLANK(InfoPro!O4),\"\",InfoPro!O4)","v":0},{"$error":"#REF!"},{"$error":"#REF!"}]
[{"$f":"IF(ISBLANK(InfoPro!A5),\"\",InfoPro!A5)","v":""},{"$f":"IF(ISBLANK(InfoPro!B5),\"\",InfoPro!B5)","v":""},{"$f":"IF(ISBLANK(InfoPro!E5),\"\",InfoPro!E5)","v":""},{"$f":"IF(ISBLANK(InfoPro!F5),\"\",InfoPro!F5)","v":""},{"$f":"IF(ISBLANK(InfoPro!#REF!),\"\",InfoPro!#REF!)","v":{"$error":"#REF!"}},{"$f":"IF(ISBLANK(InfoPro!O5),\"\",InfoPro!O5)","v":""},"",""]
[{"$f":"IF(ISBLANK(InfoPro!A6),\"\",InfoPro!A6)","v":""},{"$f":"IF(ISBLANK(InfoPro!B6),\"\",InfoPro!B6)","v":""},{"$f":"IF(ISBLANK(InfoPro!E6),\"\",InfoPro!E6)","v":""},{"$f":"IF(ISBLANK(InfoPro!F6),\"\",InfoPro!F6)","v":""},{"$f":"IF(ISBLANK(InfoPro!#REF!),\"\",InfoPro!#REF!)","v":{"$error":"#REF!"}},{"$f":"IF(ISBLANK(InfoPro!O6),\"\",InfoPro!O6)","v":""},"",""]
[{"$f":"IF(ISBLANK(InfoPro!A7),\"\",InfoPro!A7)","v":""},{"$f":"IF(ISBLANK(InfoPro!B7),\"\",InfoPro!B7)","v":""},{"$f":"IF(ISBLANK(InfoPro!E7),\"\",InfoPro!E7)","v":""},{"$f":"IF(ISBLANK(InfoPro!F7),\"\",InfoPro!F7)","v":""},{"$f":"IF(ISBLANK(InfoPro!#REF!),\"\",InfoPro!#REF!)","v":{"$error":"#REF!"}},{"$f":"IF(ISBLANK(InfoPro!O7),\"\",InfoPro!O7)","v":""},"",""]
[{"$f":"IF(ISBLANK(InfoPro!A8),\"\",InfoPro!A8)","v":""},{"$f":"IF(ISBLANK(InfoPro!B8),\"\",InfoPro!B8)","v":""},{"$f":"IF(ISBLANK(InfoPro!E8),\"\",InfoPro!E8)","v":""},{"$f":"IF(ISBLANK(InfoPro!F8),\"\",InfoPro!F8)","v":""},{"$f":"IF(ISBLANK(InfoPro!#REF!),\"\",InfoPro!#REF!)","v":{"$error":"#REF!"}},{"$f":"IF(ISBLANK(InfoPro!O8),\"\",InfoPro!O8)","v":""},"",""]
[{"$f":"IF(ISBLANK(InfoPro!A9),\"\",InfoPro!A9)","v":""},{"$f":"IF(ISBLANK(InfoPro!B9),\"\",InfoPro!B9)","v":""},{"$f":"IF(ISBLANK(InfoPro!E9),\"\",InfoPro!E9)","v":""},{"$f":"IF(ISBLANK(InfoPro!F9),\"\",InfoPro!F9)","v":""},{"$f":"IF(ISBLANK(InfoPro!#REF!),\"\",InfoPro!#REF!)","v":{"$error":"#REF!"}},{"$f":"IF(ISBLANK(InfoPro!O9),\"\",InfoPro!O9)","v":""},"",""]
[{"$f":"IF(ISBLANK(InfoPro!A10),\"\",InfoPro!A10)","v":""},{"$f":"IF(ISBLANK(InfoPro!B10),\"\",InfoPro!B10)","v":""},{"$f":"IF(ISBLANK(InfoPro!E10),\"\",InfoPro!E10)","v":""},{"$f":"IF(ISBLANK(InfoPro!F10),\"\",InfoPro!F10)","v":""},{"$f":"IF(ISBLANK(InfoPro!#REF!),\"\",InfoPro!#REF!)","v":{"$error":"#REF!"}},{"$f":"IF(ISBLANK(InfoPro!O10),\"\",InfoPro!O10)","v":""},"",""]
[{"$f":"IF(ISBLANK(InfoPro!A11),\"\",InfoPro!A11)","v":""},{"$f":"IF(ISBLANK(InfoPro!B11),\"\",InfoPro!B11)","v":""},{"$f":"IF(ISBLANK(InfoPro!E11),\"\",InfoPro!E11)","v":""},{"$f":"IF(ISBLANK(InfoPro!F11),\"\",InfoPro!F11)","v":""},{"$f":"IF(ISBLANK(InfoPro!#REF!),\"\",InfoPro!#REF!)","v":{"$error":"#REF!"}},{"$f":"IF(ISBLANK(InfoPro!O11),\"\",InfoPro!O11)","v":""},"",""]
[{"$f":"IF(ISBLANK(InfoPro!A12),\"\",InfoPro!A12)","v":""},{"$f":"IF(ISBLANK(InfoPro!B12),\"\",InfoPro!B12)","v":""},{"$f":"IF(ISBLANK(InfoPro!E12),\"\",InfoPro!E12)","v":""},{"$f":"IF(ISBLANK(InfoPro!F12),\"\",InfoPro!F12)","v":""},{"$f":"IF(ISBLANK(InfoPro!#REF!),\"\",InfoPro!#REF!)","v":{"$error":"#REF!"}},{"$f":"IF(ISBLANK(InfoPro!O12),\"\",InfoPro!O12)","v":""},"",""]
[{"$f":"IF(ISBLANK(InfoPro!A13),\"\",InfoPro!A13)","v":""},{"$f":"IF(ISBLANK(InfoPro!B13),\"\",InfoPro!B13)","v":""},{"$f":"IF(ISBLANK(InfoPro!E13),\"\",InfoPro!E13)","v":""},{"$f":"IF(ISBLANK(InfoPro!F13),\"\",InfoPro!F13)","v":""},{"$f":"IF(ISBLANK(InfoPro!#REF!),\"\",InfoPro!#REF!)","v":{"$error":"#REF!"}},{"$f":"IF(ISBLANK(InfoPro!O13),\"\",InfoPro!O13)","v":""},"",""]
[{"$f":"IF(ISBLANK(InfoPro!A14),\"\",InfoPro!A14)","v":""},{"$f":"IF(ISBLANK(InfoPro!B14),\"\",InfoPro!B14)","v":""},{"$f":"IF(ISBLANK(InfoPro!E14),\"\",InfoPro!E14)","v":""},{"$f":"IF(ISBLANK(InfoPro!F14),\"\",InfoPro!F14)","v":""},{"$f":"IF(ISBLANK(InfoPro!O14),\"\",InfoPro!O14)","v":""},{"$f":"IF(ISBLANK(InfoPro!Q14),\"\",InfoPro!Q14)","v":""},"",""]
[{"$f":"IF(ISBLANK(InfoPro!A15),\"\",InfoPro!A15)","v":""},{"$f":"IF(ISBLANK(InfoPro!B15),\"\",InfoPro!B15)","v":""},{"$f":"IF(ISBLANK(InfoPro!E15),\"\",InfoPro!E15)","v":""},{"$f":"IF(ISBLANK(InfoPro!F15),\"\",InfoPro!F15)","v":""},{"$f":"IF(ISBLANK(InfoPro!O15),\"\",InfoPro!O15)","v":""},{"$f":"IF(ISBLANK(InfoPro!Q15),\"\",InfoPro!Q15)","v":""},"",""]
[{"$f":"IF(ISBLANK(InfoPro!A16),\"\",InfoPro!A16)","v":""},{"$f":"IF(ISBLANK(InfoPro!B16),\"\",InfoPro!B16)","v":""},{"$f":"IF(ISBLANK(InfoPro!E16),\"\",InfoPro!E16)","v":""},{"$f":"IF(ISBLANK(InfoPro!F16),\"\",InfoPro!F16)","v":""},{"$f":"IF(ISBLANK(InfoPro!O16),\"\",InfoPro!O16)","v":""},{"$f":"IF(ISBLANK(InfoPro!Q16),\"\",InfoPro!Q16)","v":""},"",""]
[{"$f":"IF(ISBLANK(InfoPro!A17),\"\",InfoPro!A17)","v":""},{"$f":"IF(ISBLANK(InfoPro!B17),\"\",InfoPro!B17)","v":""},{"$f":"IF(ISBLANK(InfoPro!E17),\"\",InfoPro!E17)","v":""},{"$f":"IF(ISBLANK(InfoPro!F17),\"\",InfoPro!F17)","v":""},{"$f":"IF(ISBLANK(InfoPro!O17),\"\",InfoPro!O17)","v":""},{"$f":"IF(ISBLANK(InfoPro!Q17),\"\",InfoPro!Q17)","v":""},"",""]
[{"$f":"IF(ISBLANK(InfoPro!A18),\"\",InfoPro!A18)","v":""},{"$f":"IF(ISBLANK(InfoPro!B18),\"\",InfoPro!B18)","v":""},{"$f":"IF(ISBLANK(InfoPro!E18),\"\",InfoPro!E18)","v":""},{"$f":"IF(ISBLANK(InfoPro!F18),\"\",InfoPro!F18)","v":""},{"$f":"IF(ISBLANK(InfoPro!O18),\"\",InfoPro!O18)","v":""},{"$f":"IF(ISBLANK(InfoPro!Q18),\"\",InfoPro!Q18)","v":""},"",""]
[{"$f":"IF(ISBLANK(InfoPro!A19),\"\",InfoPro!A19)","v":""},{"$f":"IF(ISBLANK(InfoPro!B19),\"\",InfoPro!B19)","v":""},{"$f":"IF(ISBLANK(InfoPro!E19),\"\",InfoPro!E19)","v":""},{"$f":"IF(ISBLANK(InfoPro!F19),\"\",InfoPro!F19)","v":""},{"$f":"IF(ISBLANK(InfoPro!O19),\"\",InfoPro!O19)","v":""},{"$f":"IF(ISBLANK(InfoPro!Q19),\"\",InfoPro!Q19)","v":""},"",""]
[{"$f":"IF(ISBLANK(InfoPro!A20),\"\",InfoPro!A20)","v":""},{"$f":"IF(ISBLANK(InfoPro!B20),\"\",InfoPro!B20)","v":""},{"$f":"IF(ISBLANK(InfoPro!E20),\"\",InfoPro!E20)","v":""},{"$f":"IF(ISBLANK(InfoPro!F20),\"\",InfoPro!F20)","v":""},{"$f":"IF(ISBLANK(InfoPro!O20),\"\",InfoPro!O20)","v":""},{"$f":"IF(ISBLANK(InfoPro!Q20),\"\",InfoPro!Q20)","v":""},"",""]
[{"$f":"IF(ISBLANK(InfoPro!A21),\"\",InfoPro!A21)","v":""},{"$f":"IF(ISBLANK(InfoPro!B21),\"\",InfoPro!B21)","v":""},{"$f":"IF(ISBLANK(InfoPro!E21),\"\",InfoPro!E21)","v":""},{"$f":"IF(ISBLANK(InfoPro!F21),\"\",InfoPro!F21)","v":""},{"$f":"IF(ISBLANK(InfoPro!O21),\"\",InfoPro!O21)","v":""},{"$f":"IF(ISBLANK(InfoPro!Q21),\"\",InfoPro!Q21)","v":""},"",""]
[{"$f":"IF(ISBLANK(InfoPro!A22),\"\",InfoPro!A22)","v":""},{"$f":"IF(ISBLANK(InfoPro!B22),\"\",InfoPro!B22)","v":""},{"$f":"IF(ISBLANK(InfoPro!E22),\"\",InfoPro!E22)","v":""},{"$f":"IF(ISBLANK(InfoPro!F22),\"\",InfoPro!F22)","v":""},{"$f":"IF(ISBLANK(InfoPro!O22),\"\",InfoPro!O22)","v":""},{"$f":"IF(ISBLANK(InfoPro!Q22),\"\",InfoPro!Q22)","v":""},"",""]
[{"$f":"IF(ISBLANK(InfoPro!A23),\"\",InfoPro!A23)","v":""},{"$f":"IF(ISBLANK(InfoPro!B23),\"\",InfoPro!B23)","v":""},{"$f":"IF(ISBLANK(InfoPro!E23),\"\",InfoPro!E23)","v":""},{"$f":"IF(ISBLANK(InfoPro!F23),\"\",InfoPro!F23)","v":""},{"$f":"IF(ISBLANK(InfoPro!O23),\"\",InfoPro!O23)","v":""},{"$f":"IF(ISBLANK(InfoPro!Q23),\"\",InfoPro!Q23)","v":""},"",""]
[{"$f":"IF(ISBLANK(InfoPro!A24),\"\",InfoPro!A24)","v":""},{"$f":"IF(ISBLANK(InfoPro!B24),\"\",InfoPro!B24)","v":""},{"$f":"IF(ISBLANK(InfoPro!E24),\"\",InfoPro!E24)","v":""},{"$f":"IF(ISBLANK(InfoPro!F24),\"\",InfoPro!F24)","v":""},{"$f":"IF(ISBLANK(InfoPro!O24),\"\",InfoPro!O24)","v":""},{"$f":"IF(ISBLANK(InfoPro!Q24),\"\",InfoPro!Q24)","v":""},"",""]
[{"$f":"IF(ISBLANK(InfoPro!A25),\"\",InfoPro!A25)","v":""},{"$f":"IF(ISBLANK(InfoPro!B25),\"\",InfoPro!B25)","v":""},{"$f":"IF(ISBLANK(InfoPro!E25),\"\",InfoPro!E25)","v":""},{"$f":"IF(ISBLANK(InfoPro!F25),\"\",InfoPro!F25)","v":""},{"$f":"IF(ISBLANK(InfoPro!O25),\"\",InfoPro!O25)","v":""},{"$f":"IF(ISBLANK(InfoPro!Q25),\"\",InfoPro!Q25)","v":""},"",""]
[{"$f":"IF(ISBLANK(InfoPro!A26),\"\",InfoPro!A26)","v":""},{"$f":"IF(ISBLANK(InfoPro!B26),\"\",InfoPro!B26)","v":""},{"$f":"IF(ISBLANK(InfoPro!E26),\"\",InfoPro!E26)","v":""},{"$f":"IF(ISBLANK(InfoPro!F26),\"\",InfoPro!F26)","v":""},{"$f":"IF(ISBLANK(InfoPro!O26),\"\",InfoPro!O26)","v":""},{"$f":"IF(ISBLANK(InfoPro!Q26),\"\",InfoPro!Q26)","v":""},"",""]
[{"$f":"IF(ISBLANK(InfoPro!A27),\"\",InfoPro!A27)","v":""},{"$f":"IF(ISBLANK(InfoPro!B27),\"\",InfoPro!B27)","v":""},{"$f":"IF(ISBLANK(InfoPro!E27),\"\",InfoPro!E27)","v":""},{"$f":"IF(ISBLANK(InfoPro!F27),\"\",InfoPro!F27)","v":""},{"$f":"IF(ISBLANK(InfoPro!O27),\"\",InfoPro!O27)","v":""},{"$f":"IF(ISBLANK(InfoPro!Q27),\"\",InfoPro!Q27)","v":""},"",""]
[{"$f":"IF(ISBLANK(InfoPro!A28),\"\",InfoPro!A28)","v":""},{"$f":"IF(ISBLANK(InfoPro!B28),\"\",InfoPro!B28)","v":""},{"$f":"IF(ISBLANK(InfoPro!E28),\"\",InfoPro!E28)","v":""},{"$f":"IF(ISBLANK(InfoPro!F28),\"\",InfoPro!F28)","v":""},{"$f":"IF(ISBLANK(InfoPro!O28),\"\",InfoPro!O28)","v":""},{"$f":"IF(ISBLANK(InfoPro!Q28),\"\",InfoPro!Q28)","v":""},"",""]
[{"$f":"IF(ISBLANK(InfoPro!A29),\"\",InfoPro!A29)","v":""},{"$f":"IF(ISBLANK(InfoPro!B29),\"\",InfoPro!B29)","v":""},{"$f":"IF(ISBLANK(InfoPro!E29),\"\",InfoPro!E29)","v":""},{"$f":"IF(ISBLANK(InfoPro!F29),\"\",InfoPro!F29)","v":""},{"$f":"IF(ISBLANK(InfoPro!O29),\"\",InfoPro!O29)","v":""},{"$f":"IF(ISBLANK(InfoPro!Q29),\"\",InfoPro!Q29)","v":""},"",""]
[{"$f":"IF(ISBLANK(InfoPro!A30),\"\",InfoPro!A30)","v":""},{"$f":"IF(ISBLANK(InfoPro!B30),\"\",InfoPro!B30)","v":""},{"$f":"IF(ISBLANK(InfoPro!E30),\"\",InfoPro!E30)","v":""},{"$f":"IF(ISBLANK(InfoPro!F30),\"\",InfoPro!F30)","v":""},{"$f":"IF(ISBLANK(InfoPro!O30),\"\",InfoPro!O30)","v":""},{"$f":"IF(ISBLANK(InfoPro!Q30),\"\",InfoPro!Q30)","v":""},"",""]
[{"$f":"IF(ISBLANK(InfoPro!A31),\"\",InfoPro!A31)","v":""},{"$f":"IF(ISBLANK(InfoPro!B31),\"\",InfoPro!B31)","v":""},{"$f":"IF(ISBLANK(InfoPro!E31),\"\",InfoPro!E31)","v":""},{"$f":"IF(ISBLANK(InfoPro!F31),\"\",InfoPro!F31)","v":""},{"$f":"IF(ISBLANK(InfoPro!O31),\"\",InfoPro!O31)","v":""},{"$f":"IF(ISBLANK(InfoPro!Q31),\"\",InfoPro!Q31)","v":""},"",""]
[{"$f":"IF(ISBLANK(InfoPro!A32),\"\",InfoPro!A32)","v":""},{"$f":"IF(ISBLANK(InfoPro!B32),\"\",InfoPro!B32)","v":""},{"$f":"IF(ISBLANK(InfoPro!E32),\"\",InfoPro!E32)","v":""},{"$f":"IF(ISBLANK(InfoPro!F32),\"\",InfoPro!F32)","v":""},{"$f":"IF(ISBLANK(InfoPro!O32),\"\",InfoPro!O32)","v":""},{"$f":"IF(ISBLANK(InfoPro!Q32),\"\",InfoPro!Q32)","v":""},"",""]
[{"$f":"IF(ISBLANK(InfoPro!A33),\"\",InfoPro!A33)","v":""},{"$f":"IF(ISBLANK(InfoPro!B33),\"\",InfoPro!B33)","v":""},{"$f":"IF(ISBLANK(InfoPro!E33),\"\",InfoPro!E33)","v":""},{"$f":"IF(ISBLANK(InfoPro!F33),\"\",InfoPro!F33)","v":""},{"$f":"IF(ISBLANK(InfoPro!O33),\"\",InfoPro!O33)","v":""},{"$f":"IF(ISBLANK(InfoPro!Q33),\"\",InfoPro!Q33)","v":""},"",""]
[{"$f":"IF(ISBLANK(InfoPro!A34),\"\",InfoPro!A34)","v":""},{"$f":"IF(ISBLANK(InfoPro!B34),\"\",InfoPro!B34)","v":""},{"$f":"IF(ISBLANK(InfoPro!E34),\"\",InfoPro!E34)","v":""},{"$f":"IF(ISBLANK(InfoPro!F34),\"\",InfoPro!F34)","v":""},{"$f":"IF(ISBLANK(InfoPro!O34),\"\",InfoPro!O34)","v":""},{"$f":"IF(ISBLANK(InfoPro!Q34),\"\",InfoPro!Q34)","v":""},"",""]
[{"$f":"IF(ISBLANK(InfoPro!A35),\"\",InfoPro!A35)","v":""},{"$f":"IF(ISBLANK(InfoPro!B35),\"\",InfoPro!B35)","v":""},{"$f":"IF(ISBLANK(InfoPro!E35),\"\",InfoPro!E35)","v":""},{"$f":"IF(ISBLANK(InfoPro!F35),\"\",InfoPro!F35)","v":""},{"$f":"IF(ISBLANK(InfoPro!O35),\"\",InfoPro!O35)","v":""},{"$f":"IF(ISBLANK(InfoPro!Q35),\"\",InfoPro!Q35)","v":""},"",""]
[{"$f":"IF(ISBLANK(InfoPro!A36),\"\",InfoPro!A36)","v":""},{"$f":"IF(ISBLANK(InfoPro!B36),\"\",InfoPro!B36)","v":""},{"$f":"IF(ISBLANK(InfoPro!E36),\"\",InfoPro!E36)","v":""},{"$f":"IF(ISBLANK(InfoPro!F36),\"\",InfoPro!F36)","v":""},{"$f":"IF(ISBLANK(InfoPro!O36),\"\",InfoPro!O36)","v":""},{"$f":"IF(ISBLANK(InfoPro!Q36),\"\",InfoPro!Q36)","v":""},"",""]
[{"$f":"IF(ISBLANK(InfoPro!A37),\"\",InfoPro!A37)","v":""},{"$f":"IF(ISBLANK(InfoPro!B37),\"\",InfoPro!B37)","v":""},{"$f":"IF(ISBLANK(InfoPro!E37),\"\",InfoPro!E37)","v":""},{"$f":"IF(ISBLANK(InfoPro!F37),\"\",InfoPro!F37)","v":""},{"$f":"IF(ISBLANK(InfoPro!O37),\"\",InfoPro!O37)","v":""},{"$f":"IF(ISBLANK(InfoPro!Q37),\"\",InfoPro!Q37)","v":""},"",""]
[{"$f":"IF(ISBLANK(InfoPro!A38),\"\",InfoPro!A38)","v":""},{"$f":"IF(ISBLANK(InfoPro!B38),\"\",InfoPro!B38)","v":""},{"$f":"IF(ISBLANK(InfoPro!E38),\"\",InfoPro!E38)","v":""},{"$f":"IF(ISBLANK(InfoPro!F38),\"\",InfoPro!F38)","v":""},{"$f":"IF(ISBLANK(InfoPro!O38),\"\",InfoPro!O38)","v":""},{"$f":"IF(ISBLANK(InfoPro!Q38),\"\",InfoPro!Q38)","v":""},"",""]
[{"$f":"IF(ISBLANK(InfoPro!A39),\"\",InfoPro!A39)","v":""},{"$f":"IF(ISBLANK(InfoPro!B39),\"\",InfoPro!B39)","v":""},{"$f":"IF(ISBLANK(InfoPro!E39),\"\",InfoPro!E39)","v":""},{"$f":"IF(ISBLANK(InfoPro!F39),\"\",InfoPro!F39)","v":""},{"$f":"IF(ISBLANK(InfoPro!O39),\"\",InfoPro!O39)","v":""},{"$f":"IF(ISBLANK(InfoPro!Q39),\"\",InfoPro!Q39)","v":""},"",""]
[{"$f":"IF(ISBLANK(InfoPro!A40),\"\",InfoPro!A40)","v":""},{"$f":"IF(ISBLANK(InfoPro!B40),\"\",InfoPro!B40)","v":""},{"$f":"IF(ISBLANK(InfoPro!E40),\"\",InfoPro!E40)","v":""},{"$f":"IF(ISBLANK(InfoPro!F40),\"\",InfoPro!F40)","v":""},{"$f":"IF(ISBLANK(InfoPro!O40),\"\",InfoPro!O40)","v":""},{"$f":"IF(ISBLANK(InfoPro!Q40),\"\",InfoPro!Q40)","v":""},"",""]
[{"$f":"IF(ISBLANK(InfoPro!A41),\"\",InfoPro!A41)","v":""},{"$f":"IF(ISBLANK(InfoPro!B41),\"\",InfoPro!B41)","v":""},{"$f":"IF(ISBLANK(InfoPro!E41),\"\",InfoPro!E41)","v":""},{"$f":"IF(ISBLANK(InfoPro!F41),\"\",InfoPro!F41)","v":""},{"$f":"IF(ISBLANK(InfoPro!O41),\"\",InfoPro!O41)","v":""},{"$f":"IF(ISBLANK(InfoPro!Q41),\"\",InfoPro!Q41)","v":""},"",""]
[{"$f":"IF(ISBLANK(InfoPro!A42),\"\",InfoPro!A42)","v":""},{"$f":"IF(ISBLANK(InfoPro!B42),\"\",InfoPro!B42)","v":""},{"$f":"IF(ISBLANK(InfoPro!E42),\"\",InfoPro!E42)","v":""},{"$f":"IF(ISBLANK(InfoPro!F42),\"\",InfoPro!F42)","v":""},{"$f":"IF(ISBLANK(InfoPro!O42),\"\",InfoPro!O42)","v":""},{"$f":"IF(ISBLANK(InfoPro!Q42),\"\",InfoPro!Q42)","v":""},"",""]
[{"$f":"IF(ISBLANK(InfoPro!A43),\"\",InfoPro!A43)","v":""},{"$f":"IF(ISBLANK(InfoPro!B43),\"\",InfoPro!B43)","v":""},{"$f":"IF(ISBLANK(InfoPro!E43),\"\",InfoPro!E43)","v":""},{"$f":"IF(ISBLANK(InfoPro!F43),\"\",InfoPro!F43)","v":""},{"$f":"IF(ISBLANK(InfoPro!O43),\"\",InfoPro!O43)","v":""},{"$f":"IF(ISBLANK(InfoPro!Q43),\"\",InfoPro!Q43)","v":""},"",""]
[{"$f":"IF(ISBLANK(InfoPro!A44),\"\",InfoPro!A44)","v":""},{"$f":"IF(ISBLANK(InfoPro!B44),\"\",InfoPro!B44)","v":""},{"$f":"IF(ISBLANK(InfoPro!E44),\"\",InfoPro!E44)","v":""},{"$f":"IF(ISBLANK(InfoPro!F44),\"\",InfoPro!F44)","v":""},{"$f":"IF(ISBLANK(InfoPro!O44),\"\",InfoPro!O44)","v":""},{"$f":"IF(ISBLANK(InfoPro!Q44),\"\",InfoPro!Q44)","v":""},"",""]
[{"$f":"IF(ISBLANK(InfoPro!A45),\"\",InfoPro!A45)","v":""},{"$f":"IF(ISBLANK(InfoPro!B45),\"\",InfoPro!B45)","v":""},{"$f":"IF(ISBLANK(InfoPro!E45),\"\",InfoPro!E45)","v":""},{"$f":"IF(ISBLANK(InfoPro!F45),\"\",InfoPro!F45)","v":""},{"$f":"IF(ISBLANK(InfoPro!O45),\"\",InfoPro!O45)","v":""},{"$f":"IF(ISBLANK(InfoPro!Q45),\"\",InfoPro!Q45)","v":""},"",""]
[{"$f":"IF(ISBLANK(InfoPro!A46),\"\",InfoPro!A46)","v":""},{"$f":"IF(ISBLANK(InfoPro!B46),\"\",InfoPro!B46)","v":""},{"$f":"IF(ISBLANK(InfoPro!E46),\"\",InfoPro!E46)","v":""},{"$f":"IF(ISBLANK(InfoPro!F46),\"\",InfoPro!F46)","v":""},{"$f":"IF(ISBLANK(InfoPro!O46),\"\",InfoPro!O46)","v":""},{"$f":"IF(ISBLANK(InfoPro!Q46),\"\",InfoPro!Q46)","v":""},"",""]
[{"$f":"IF(ISBLANK(InfoPro!A47),\"\",InfoPro!A47)","v":""},{"$f":"IF(ISBLANK(InfoPro!B47),\"\",InfoPro!B47)","v":""},{"$f":"IF(ISBLANK(InfoPro!E47),\"\",InfoPro!E47)","v":""},{"$f":"IF(ISBLANK(InfoPro!F47),\"\",InfoPro!F47)","v":""},{"$f":"IF(ISBLANK(InfoPro!O47),\"\",InfoPro!O47)","v":""},{"$f":"IF(ISBLANK(InfoPro!Q47),\"\",InfoPro!Q47)","v":""},"",""]
[{"$f":"IF(ISBLANK(InfoPro!A48),\"\",InfoPro!A48)","v":""},{"$f":"IF(ISBLANK(InfoPro!B48),\"\",InfoPro!B48)","v":""},{"$f":"IF(ISBLANK(InfoPro!E48),\"\",InfoPro!E48)","v":""},{"$f":"IF(ISBLANK(InfoPro!F48),\"\",InfoPro!F48)","v":""},{"$f":"IF(ISBLANK(InfoPro!O48),\"\",InfoPro!O48)","v":""},{"$f":"IF(ISBLANK(InfoPro!Q48),\"\",InfoPro!Q48)","v":""},"",""]
[{"$f":"IF(ISBLANK(InfoPro!A49),\"\",InfoPro!A49)","v":""},{"$f":"IF(ISBLANK(InfoPro!B49),\"\",InfoPro!B49)","v":""},{"$f":"IF(ISBLANK(InfoPro!E49),\"\",InfoPro!E49)","v":""},{"$f":"IF(ISBLANK(InfoPro!F49),\"\",InfoPro!F49)","v":""},{"$f":"IF(ISBLANK(InfoPro!O49),\"\",InfoPro!O49)","v":""},{"$f":"IF(ISBLANK(InfoPro!Q49),\"\",InfoPro!Q49)","v":""},"",""]
[{"$f":"IF(ISBLANK(InfoPro!A50),\"\",InfoPro!A50)","v":""},{"$f":"IF(ISBLANK(InfoPro!B50),\"\",InfoPro!B50)","v":""},{"$f":"IF(ISBLANK(InfoPro!E50),\"\",InfoPro!E50)","v":""},{"$f":"IF(ISBLANK(InfoPro!F50),\"\",InfoPro!F50)","v":""},{"$f":"IF(ISBLANK(InfoPro!O50),\"\",InfoPro!O50)","v":""},{"$f":"IF(ISBLANK(InfoPro!Q50),\"\",InfoPro!Q50)","v":""},"",""]
[{"$f":"IF(ISBLANK(InfoPro!A51),\"\",InfoPro!A51)","v":""},{"$f":"IF(ISBLANK(InfoPro!B51),\"\",InfoPro!B51)","v":""},{"$f":"IF(ISBLANK(InfoPro!E51),\"\",InfoPro!E51)","v":""},{"$f":"IF(ISBLANK(InfoPro!F51),\"\",InfoPro!F51)","v":""},{"$f":"IF(ISBLANK(InfoPro!O51),\"\",InfoPro!O51)","v":""},{"$f":"IF(ISBLANK(InfoPro!Q51),\"\",InfoPro!Q51)","v":""},"",""]
[{"$f":"IF(ISBLANK(InfoPro!A52),\"\",InfoPro!A52)","v":""},{"$f":"IF(ISBLANK(InfoPro!B52),\"\",InfoPro!B52)","v":""},{"$f":"IF(ISBLANK(InfoPro!E52),\"\",InfoPro!E52)","v":""},{"$f":"IF(ISBLANK(InfoPro!F52),\"\",InfoPro!F52)","v":""},{"$f":"IF(ISBLANK(InfoPro!O52),\"\",InfoPro!O52)","v":""},{"$f":"IF(ISBLANK(InfoPro!Q52),\"\",InfoPro!Q52)","v":""},"",""]
[{"$f":"IF(ISBLANK(InfoPro!A53),\"\",InfoPro!A53)","v":""},{"$f":"IF(ISBLANK(InfoPro!B53),\"\",InfoPro!B53)","v":""},{"$f":"IF(ISBLANK(InfoPro!E53),\"\",InfoPro!E53)","v":""},{"$f":"IF(ISBLANK(InfoPro!F53),\"\",InfoPro!F53)","v":""},{"$f":"IF(ISBLANK(InfoPro!O53),\"\",InfoPro!O53)","v":""},{"$f":"IF(ISBLANK(InfoPro!Q53),\"\",InfoPro!Q53)","v":""},"",""]
[{"$f":"IF(ISBLANK(InfoPro!A54),\"\",InfoPro!A54)","v":""},{"$f":"IF(ISBLANK(InfoPro!B54),\"\",InfoPro!B54)","v":""},{"$f":"IF(ISBLANK(InfoPro!E54),\"\",InfoPro!E54)","v":""},{"$f":"IF(ISBLANK(InfoPro!F54),\"\",InfoPro!F54)","v":""},{"$f":"IF(ISBLANK(InfoPro!O54),\"\",InfoPro!O54)","v":""},{"$f":"IF(ISBLANK(InfoPro!Q54),\"\",InfoPro!Q54)","v":""},"",""]
[{"$f":"IF(ISBLANK(InfoPro!A55),\"\",InfoPro!A55)","v":""},{"$f":"IF(ISBLANK(InfoPro!B55),\"\",InfoPro!B55)","v":""},{"$f":"IF(ISBLANK(InfoPro!E55),\"\",InfoPro!E55)","v":""},{"$f":"IF(ISBLANK(InfoPro!F55),\"\",InfoPro!F55)","v":""},{"$f":"IF(ISBLANK(InfoPro!O55),\"\",InfoPro!O55)","v":""},{"$f":"IF(ISBLANK(InfoPro!Q55),\"\",InfoPro!Q55)","v":""},"",""]
[{"$f":"IF(ISBLANK(InfoPro!A56),\"\",InfoPro!A56)","v":""},{"$f":"IF(ISBLANK(InfoPro!B56),\"\",InfoPro!B56)","v":""},{"$f":"IF(ISBLANK(InfoPro!E56),\"\",InfoPro!E56)","v":""},{"$f":"IF(ISBLANK(InfoPro!F56),\"\",InfoPro!F56)","v":""},{"$f":"IF(ISBLANK(InfoPro!O56),\"\",InfoPro!O56)","v":""},{"$f":"IF(ISBLANK(InfoPro!Q56),\"\",InfoPro!Q56)","v":""},"",""]
[{"$f":"IF(ISBLANK(InfoPro!A57),\"\",InfoPro!A57)","v":""},{"$f":"IF(ISBLANK(InfoPro!B57),\"\",InfoPro!B57)","v":""},{"$f":"IF(ISBLANK(InfoPro!E57),\"\",InfoPro!E57)","v":""},{"$f":"IF(ISBLANK(InfoPro!F57),\"\",InfoPro!F57)","v":""},{"$f":"IF(ISBLANK(InfoPro!O57),\"\",InfoPro!O57)","v":""},{"$f":"IF(ISBLANK(InfoPro!Q57),\"\",InfoPro!Q57)","v":""},"",""]
[{"$f":"IF(ISBLANK(InfoPro!A58),\"\",InfoPro!A58)","v":""},{"$f":"IF(ISBLANK(InfoPro!B58),\"\",InfoPro!B58)","v":""},{"$f":"IF(ISBLANK(InfoPro!E58),\"\",InfoPro!E58)","v":""},{"$f":"IF(ISBLANK(InfoPro!F58),\"\",InfoPro!F58)","v":""},{"$f":"IF(ISBLANK(InfoPro!O58),\"\",InfoPro!O58)","v":""},{"$f":"IF(ISBLANK(InfoPro!Q58),\"\",InfoPro!Q58)","v":""},"",""]
[{"$f":"IF(ISBLANK(InfoPro!A59),\"\",InfoPro!A59)","v":""},{"$f":"IF(ISBLANK(InfoPro!B59),\"\",InfoPro!B59)","v":""},{"$f":"IF(ISBLANK(InfoPro!E59),\"\",InfoPro!E59)","v":""},{"$f":"IF(ISBLANK(InfoPro!F59),\"\",InfoPro!F59)","v":""},{"$f":"IF(ISBLANK(InfoPro!O59),\"\",InfoPro!O59)","v":""},{"$f":"IF(ISBLANK(InfoPro!Q59),\"\",InfoPro!Q59)","v":""},"",""]
[{"$f":"IF(ISBLANK(InfoPro!A60),\"\",InfoPro!A60)","v":""},{"$f":"IF(ISBLANK(InfoPro!B60),\"\",InfoPro!B60)","v":""},{"$f":"IF(ISBLANK(InfoPro!E60),\"\",InfoPro!E60)","v":""},{"$f":"IF(ISBLANK(InfoPro!F60),\"\",InfoPro!F60)","v":""},{"$f":"IF(ISBLANK(InfoPro!O60),\"\",InfoPro!O60)","v":""},{"$f":"IF(ISBLANK(InfoPro!Q60),\"\",InfoPro!Q60)","v":""},"",""]
[{"$f":"IF(ISBLANK(InfoPro!A61),\"\",InfoPro!A61)","v":""},{"$f":"IF(ISBLANK(InfoPro!B61),\"\",InfoPro!B61)","v":""},{"$f":"IF(ISBLANK(InfoPro!E61),\"\",InfoPro!E61)","v":""},{"$f":"IF(ISBLANK(InfoPro!F61),\"\",InfoPro!F61)","v":""},{"$f":"IF(ISBLANK(InfoPro!O61),\"\",InfoPro!O61)","v":""},{"$f":"IF(ISBLANK(InfoPro!Q61),\"\",InfoPro!Q61)","v":""},"",""]
[{"$f":"IF(ISBLANK(InfoPro!A62),\"\",InfoPro!A62)","v":""},{"$f":"IF(ISBLANK(InfoPro!B62),\"\",InfoPro!B62)","v":""},{"$f":"IF(ISBLANK(InfoPro!E62),\"\",InfoPro!E62)","v":""},{"$f":"IF(ISBLANK(InfoPro!F62),\"\",InfoPro!F62)","v":""},{"$f":"IF(ISBLANK(InfoPro!O62),\"\",InfoPro!O62)","v":""},{"$f":"IF(ISBLANK(InfoPro!Q62),\"\",InfoPro!Q62)","v":""},"",""]
[{"$f":"IF(ISBLANK(InfoPro!A63),\"\",InfoPro!A63)","v":""},{"$f":"IF(ISBLANK(InfoPro!B63),\"\",InfoPro!B63)","v":""},{"$f":"IF(ISBLANK(InfoPro!E63),\"\",InfoPro!E63)","v":""},{"$f":"IF(ISBLANK(InfoPro!F63),\"\",InfoPro!F63)","v":""},{"$f":"IF(ISBLANK(InfoPro!O63),\"\",InfoPro!O63)","v":""},{"$f":"IF(ISBLANK(InfoPro!Q63),\"\",InfoPro!Q63)","v":""},"",""]
[{"$f":"IF(ISBLANK(InfoPro!A64),\"\",InfoPro!A64)","v":""},{"$f":"IF(ISBLANK(InfoPro!B64),\"\",InfoPro!B64)","v":""},{"$f":"IF(ISBLANK(InfoPro!E64),\"\",InfoPro!E64)","v":""},{"$f":"IF(ISBLANK(InfoPro!F64),\"\",InfoPro!F64)","v":""},{"$f":"IF(ISBLANK(InfoPro!O64),\"\",InfoPro!O64)","v":""},{"$f":"IF(ISBLANK(InfoPro!Q64),\"\",InfoPro!Q64)","v":""},"",""]
[{"$f":"IF(ISBLANK(InfoPro!A65),\"\",InfoPro!A65)","v":""},{"$f":"IF(ISBLANK(InfoPro!B65),\"\",InfoPro!B65)","v":""},{"$f":"IF(ISBLANK(InfoPro!E65),\"\",InfoPro!E65)","v":""},{"$f":"IF(ISBLANK(InfoPro!F65),\"\",InfoPro!F65)","v":""},{"$f":"IF(ISBLANK(InfoPro!O65),\"\",InfoPro!O65)","v":""},{"$f":"IF(ISBLANK(InfoPro!Q65),\"\",InfoPro!Q65)","v":""},{"$f":"IF(F73=\"\",\"\",F73-E73)","v":""},{"$f":"IF(G73=\"\",\"\",G73/(C73*1000))","v":""}]
[{"$f":"IF(ISBLANK(InfoPro!A66),\"\",InfoPro!A66)","v":""},{"$f":"IF(ISBLANK(InfoPro!B66),\"\",InfoPro!B66)","v":""},{"$f":"IF(ISBLANK(InfoPro!E66),\"\",InfoPro!E66)","v":""},{"$f":"IF(ISBLANK(InfoPro!F66),\"\",InfoPro!F66)","v":""},{"$f":"IF(ISBLANK(InfoPro!O66),\"\",InfoPro!O66)","v":""},{"$f":"IF(ISBLANK(InfoPro!Q66),\"\",InfoPro!Q66)","v":""},"",""]
[{"$f":"IF(ISBLANK(InfoPro!A67),\"\",InfoPro!A67)","v":""},{"$f":"IF(ISBLANK(InfoPro!B67),\"\",InfoPro!B67)","v":""},{"$f":"IF(ISBLANK(InfoPro!E67),\"\",InfoPro!E67)","v":""},{"$f":"IF(ISBLANK(InfoPro!F67),\"\",InfoPro!F67)","v":""},{"$f":"IF(ISBLANK(InfoPro!O67),\"\",InfoPro!O67)","v":""},{"$f":"IF(ISBLANK(InfoPro!Q67),\"\",InfoPro!Q67)","v":""},"",""]
[{"$f":"IF(ISBLANK(InfoPro!A68),\"\",InfoPro!A68)","v":""},{"$f":"IF(ISBLANK(InfoPro!B68),\"\",InfoPro!B68)","v":""},{"$f":"IF(ISBLANK(InfoPro!E68),\"\",InfoPro!E68)","v":""},{"$f":"IF(ISBLANK(InfoPro!F68),\"\",InfoPro!F68)","v":""},{"$f":"IF(ISBLANK(InfoPro!O68),\"\",InfoPro!O68)","v":""},{"$f":"IF(ISBLANK(InfoPro!Q68),\"\",InfoPro!Q68)","v":""},"",""]
[{"$f":"IF(ISBLANK(InfoPro!A69),\"\",InfoPro!A69)","v":""},{"$f":"IF(ISBLANK(InfoPro!B69),\"\",InfoPro!B69)","v":""},{"$f":"IF(ISBLANK(InfoPro!E69),\"\",InfoPro!E69)","v":""},{"$f":"IF(ISBLANK(InfoPro!F69),\"\",InfoPro!F69)","v":""},{"$f":"IF(ISBLANK(InfoPro!O69),\"\",InfoPro!O69)","v":""},{"$f":"IF(ISBLANK(InfoPro!Q69),\"\",InfoPro!Q69)","v":""},"",""]
[{"$f":"IF(ISBLANK(InfoPro!A70),\"\",InfoPro!A70)","v":""},{"$f":"IF(ISBLANK(InfoPro!B70),\"\",InfoPro!B70)","v":""},{"$f":"IF(ISBLANK(InfoPro!E70),\"\",InfoPro!E70)","v":""},{"$f":"IF(ISBLANK(InfoPro!F70),\"\",InfoPro!F70)","v":""},{"$f":"IF(ISBLANK(InfoPro!O70),\"\",InfoPro!O70)","v":""},{"$f":"IF(ISBLANK(InfoPro!Q70),\"\",InfoPro!Q70)","v":""},"",""]
[{"$f":"IF(ISBLANK(InfoPro!A71),\"\",InfoPro!A71)","v":""},{"$f":"IF(ISBLANK(InfoPro!B71),\"\",InfoPro!B71)","v":""},{"$f":"IF(ISBLANK(InfoPro!E71),\"\",InfoPro!E71)","v":""},{"$f":"IF(ISBLANK(InfoPro!F71),\"\",InfoPro!F71)","v":""},{"$f":"IF(ISBLANK(InfoPro!O71),\"\",InfoPro!O71)","v":""},{"$f":"IF(ISBLANK(InfoPro!Q71),\"\",InfoPro!Q71)","v":""},"",""]
[{"$f":"IF(ISBLANK(InfoPro!A72),\"\",InfoPro!A72)","v":""},{"$f":"IF(ISBLANK(InfoPro!B72),\"\",InfoPro!B72)","v":""},{"$f":"IF(ISBLANK(InfoPro!E72),\"\",InfoPro!E72)","v":""},{"$f":"IF(ISBLANK(InfoPro!F72),\"\",InfoPro!F72)","v":""},{"$f":"IF(ISBLANK(InfoPro!O72),\"\",InfoPro!O72)","v":""},{"$f":"IF(ISBLANK(InfoPro!Q72),\"\",InfoPro!Q72)","v":""},"",""]
[{"$f":"IF(ISBLANK(InfoPro!A73),\"\",InfoPro!A73)","v":""},{"$f":"IF(ISBLANK(InfoPro!B73),\"\",InfoPro!B73)","v":""},{"$f":"IF(ISBLANK(InfoPro!E73),\"\",InfoPro!E73)","v":""},{"$f":"IF(ISBLANK(InfoPro!F73),\"\",InfoPro!F73)","v":""},{"$f":"IF(ISBLANK(InfoPro!O73),\"\",InfoPro!O73)","v":""},{"$f":"IF(ISBLANK(InfoPro!Q73),\"\",InfoPro!Q73)","v":""},"",""]
[{"$f":"IF(ISBLANK(InfoPro!A74),\"\",InfoPro!A74)","v":""},{"$f":"IF(ISBLANK(InfoPro!B74),\"\",InfoPro!B74)","v":""},{"$f":"IF(ISBLANK(InfoPro!E74),\"\",InfoPro!E74)","v":""},{"$f":"IF(ISBLANK(InfoPro!F74),\"\",InfoPro!F74)","v":""},{"$f":"IF(ISBLANK(InfoPro!O74),\"\",InfoPro!O74)","v":""},{"$f":"IF(ISBLANK(InfoPro!Q74),\"\",InfoPro!Q74)","v":""},"",""]
[{"$f":"IF(ISBLANK(InfoPro!A75),\"\",InfoPro!A75)","v":""},{"$f":"IF(ISBLANK(InfoPro!B75),\"\",InfoPro!B75)","v":""},{"$f":"IF(ISBLANK(InfoPro!E75),\"\",InfoPro!E75)","v":""},{"$f":"IF(ISBLANK(InfoPro!F75),\"\",InfoPro!F75)","v":""},{"$f":"IF(ISBLANK(InfoPro!O75),\"\",InfoPro!O75)","v":""},{"$f":"IF(ISBLANK(InfoPro!Q75),\"\",InfoPro!Q75)","v":""},"",""]
[{"$f":"IF(ISBLANK(InfoPro!A76),\"\",InfoPro!A76)","v":""},{"$f":"IF(ISBLANK(InfoPro!B76),\"\",InfoPro!B76)","v":""},{"$f":"IF(ISBLANK(InfoPro!E76),\"\",InfoPro!E76)","v":""},{"$f":"IF(ISBLANK(InfoPro!F76),\"\",InfoPro!F76)","v":""},{"$f":"IF(ISBLANK(InfoPro!O76),\"\",InfoPro!O76)","v":""},{"$f":"IF(ISBLANK(InfoPro!Q76),\"\",InfoPro!Q76)","v":""},"",""]
[{"$f":"IF(ISBLANK(InfoPro!A77),\"\",InfoPro!A77)","v":""},{"$f":"IF(ISBLANK(InfoPro!B77),\"\",InfoPro!B77)","v":""},{"$f":"IF(ISBLANK(InfoPro!E77),\"\",InfoPro!E77)","v":""},{"$f":"IF(ISBLANK(InfoPro!F77),\"\",InfoPro!F77)","v":""},{"$f":"IF(ISBLANK(InfoPro!O77),\"\",InfoPro!O77)","v":""},{"$f":"IF(ISBLANK(InfoPro!Q77),\"\",InfoPro!Q77)","v":""},"",""]
[{"$f":"IF(ISBLANK(InfoPro!A78),\"\",InfoPro!A78)","v":""},{"$f":"IF(ISBLANK(InfoPro!B78),\"\",InfoPro!B78)","v":""},{"$f":"IF(ISBLANK(InfoPro!E78),\"\",InfoPro!E78)","v":""},{"$f":"IF(ISBLANK(InfoPro!F78),\"\",InfoPro!F78)","v":""},{"$f":"IF(ISBLANK(InfoPro!O78),\"\",InfoPro!O78)","v":""},{"$f":"IF(ISBLANK(InfoPro!Q78),\"\",InfoPro!Q78)","v":""},"",""]
[{"$f":"IF(ISBLANK(InfoPro!A79),\"\",InfoPro!A79)","v":""},{"$f":"IF(ISBLANK(InfoPro!B79),\"\",InfoPro!B79)","v":""},{"$f":"IF(ISBLANK(InfoPro!E79),\"\",InfoPro!E79)","v":""},{"$f":"IF(ISBLANK(InfoPro!F79),\"\",InfoPro!F79)","v":""},{"$f":"IF(ISBLANK(InfoPro!O79),\"\",InfoPro!O79)","v":""},{"$f":"IF(ISBLANK(InfoPro!Q79),\"\",InfoPro!Q79)","v":""},"",""]
[{"$f":"IF(ISBLANK(InfoPro!A80),\"\",InfoPro!A80)","v":""},{"$f":"IF(ISBLANK(InfoPro!B80),\"\",InfoPro!B80)","v":""},{"$f":"IF(ISBLANK(InfoPro!E80),\"\",InfoPro!E80)","v":""},{"$f":"IF(ISBLANK(InfoPro!F80),\"\",InfoPro!F80)","v":""},{"$f":"IF(ISBLANK(InfoPro!O80),\"\",InfoPro!O80)","v":""},{"$f":"IF(ISBLANK(InfoPro!Q80),\"\",InfoPro!Q80)","v":""},"",""]
[{"$f":"IF(ISBLANK(InfoPro!A81),\"\",InfoPro!A81)","v":""},{"$f":"IF(ISBLANK(InfoPro!B81),\"\",InfoPro!B81)","v":""},{"$f":"IF(ISBLANK(InfoPro!E81),\"\",InfoPro!E81)","v":""},{"$f":"IF(ISBLANK(InfoPro!F81),\"\",InfoPro!F81)","v":""},{"$f":"IF(ISBLANK(InfoPro!O81),\"\",InfoPro!O81)","v":""},{"$f":"IF(ISBLANK(InfoPro!Q81),\"\",InfoPro!Q81)","v":""},"",""]
[{"$f":"IF(ISBLANK(InfoPro!A82),\"\",InfoPro!A82)","v":""},{"$f":"IF(ISBLANK(InfoPro!B82),\"\",InfoPro!B82)","v":""},{"$f":"IF(ISBLANK(InfoPro!E82),\"\",InfoPro!E82)","v":""},{"$f":"IF(ISBLANK(InfoPro!F82),\"\",InfoPro!F82)","v":""},{"$f":"IF(ISBLANK(InfoPro!O82),\"\",InfoPro!O82)","v":""},{"$f":"IF(ISBLANK(InfoPro!Q82),\"\",InfoPro!Q82)","v":""},"",""]
[{"$f":"IF(ISBLANK(InfoPro!A83),\"\",InfoPro!A83)","v":""},{"$f":"IF(ISBLANK(InfoPro!B83),\"\",InfoPro!B83)","v":""},{"$f":"IF(ISBLANK(InfoPro!E83),\"\",InfoPro!E83)","v":""},{"$f":"IF(ISBLANK(InfoPro!F83),\"\",InfoPro!F83)","v":""},{"$f":"IF(ISBLANK(InfoPro!O83),\"\",InfoPro!O83)","v":""},{"$f":"IF(ISBLANK(InfoPro!Q83),\"\",InfoPro!Q83)","v":""},"",""]
[{"$f":"IF(ISBLANK(InfoPro!A84),\"\",InfoPro!A84)","v":""},{"$f":"IF(ISBLANK(InfoPro!B84),\"\",InfoPro!B84)","v":""},{"$f":"IF(ISBLANK(InfoPro!E84),\"\",InfoPro!E84)","v":""},{"$f":"IF(ISBLANK(InfoPro!F84),\"\",InfoPro!F84)","v":""},{"$f":"IF(ISBLANK(InfoPro!O84),\"\",InfoPro!O84)","v":""},{"$f":"IF(ISBLANK(InfoPro!Q84),\"\",InfoPro!Q84)","v":""},"",""]
[{"$f":"IF(ISBLANK(InfoPro!A85),\"\",InfoPro!A85)","v":""},{"$f":"IF(ISBLANK(InfoPro!B85),\"\",InfoPro!B85)","v":""},{"$f":"IF(ISBLANK(InfoPro!E85),\"\",InfoPro!E85)","v":""},{"$f":"IF(ISBLANK(InfoPro!F85),\"\",InfoPro!F85)","v":""},{"$f":"IF(ISBLANK(InfoPro!O85),\"\",InfoPro!O85)","v":""},{"$f":"IF(ISBLANK(InfoPro!Q85),\"\",InfoPro!Q85)","v":""},"",""]
[]
[null,null,null,null,null,{"$f":"AVERAGE(F8:F87)","v":{"$error":"#REF!"}}]
[null,null,null,null,null,{"$f":"_xlfn.STDEV.S(F8:F87)","v":{"$error":"#REF!"}}]
[]
[]
[]
[]
[]
[null,null,null,null,null,3734000000]
[null,null,null,null,null,3734000000]
[null,null,null,null,null,5633917333.333333]
[null,null,null,null,null,5633917333.333333]
[null,null,null,null,null,1637200000]
[null,null,null,null,null,1637200000]
[null,null,null,null,null,58886066.666666672]
[null,null,null,null,null,58886066.666666672]
[null,null,null,null,null,48829000000]
[null,null,null,null,null,48829000000]
[null,null,null,null,null,43241330000]
[null,null,null,null,null,43241330000]
[]
[null,null,null,null,"PROM",{"$f":"AVERAGE(F102:F113)","v":17189055566.666668}]
[null,null,null,null,"DESVI",{"$f":"_xlfn.STDEV.S(F102:F113)","v":21446210707.69149}]
[]
[null,null,null,null,null,{"$f":"F116+F115","v":38635266274.358154}]

{"sheet":"BT-Flex","index":9,"n_rows":196,"n_cols":25,"rows_kept":196,"cut":false,"hidden":false,"merged":[]}
[]
[]
[null,"CEE",67453,"COP/MWh"]
[null,"Tasa de descuento",0.11799999999999999,null,null,"Año de Referencia",2023]
[null,null,null,null,null,"Mínimo",{"$f":"MIN(Y9:Y400)","v":1546256.8717525448}]
[]
[null,null,null,null,null,null,null,null,0,1,2,3,4,5,6,7,8,9,10,11,12,13,14]
["Codigo","Nombre","capacidad","Tecnologia","Año de entrada","FP","Factor de Flexibilidad","Produccion media/a MWh/a","Flujo Descontado 0","Flujo Descontado 1","Flujo Descontado 2","Flujo Descontado 3","Flujo Descontado 4","Flujo Descontado 5","Flujo Descontado 6","Flujo Descontado 7","Flujo Descontado 8","Flujo Descontado 9","Flujo Descontado 10","Flujo Descontado 11","Flujo Descontado 12","Flujo Descontado 13","Flujo Descontado 14","VPN","Beneficio/kW"]
[{"$f":"IF(ISBLANK(InfoPro!A2),\"\",InfoPro!A2)","v":"SC_1323_A1"},{"$f":"IF(ISBLANK(InfoPro!B2),\"\",InfoPro!B2)","v":"GEN ARAUCA"},{"$f":"IF(ISBLANK(InfoPro!E2),\"\",InfoPro!E2)","v":30},{"$f":"IF(ISBLANK(InfoPro!F2),\"\",InfoPro!F2)","v":"Termica - Ciclo Abierto"},{"$f":"IF(ISBLANK(InfoPro!I2),\"\",YEAR(InfoPro!I2)-$G$4)","v":0},{"$f":"IF(B9=\"\",\"\",VLOOKUP(D9,Tablas!$B$2:$E$13,2,FALSE))","v":0.85},{"$f":"IF(B9=\"\",\"\",VLOOKUP(D9,Tablas!$B$2:$F$13,3,FALSE))","v":0.4},{"$f":"IF(C9=\"\",\"\",+C9*F9*24*365)","v":223380},{"$f":"IF($H9=\"\",\"\",(1/(1+$C$4)^(I$7+$E9))*$H9*$G9*$C$3)","v":6027060456},{"$f":"IF($H9=\"\",\"\",(1/(1+$C$4)^(J$7+$E9))*$H9*$G9*$C$3)","v":5390930640.4293394},4821941538.8455629,4313006743.1534557,3857787784.5737529,3450615191.926434,3086417881.86622,2760660001.6692491,2469284437.9868059,2208662288.0025101,1975547663.687397,1767037266.2677975,1580534227.4309461,1413715766.9328678,1264504263.8039961,{"$f":"IF(W9=\"\",\"\",SUM(I9:W9))","v":46387706152.57634},{"$f":"IF(C9=0,0,IF(X9=\"\",\"\",X9/(C9*1000)))","v":1546256.8717525448}]
[{"$f":"IF(ISBLANK(InfoPro!A3),\"\",InfoPro!A3)","v":"SC_1323_A2"},{"$f":"IF(ISBLANK(InfoPro!B3),\"\",InfoPro!B3)","v":"GEN ARAUCA"},{"$f":"IF(ISBLANK(InfoPro!E3),\"\",InfoPro!E3)","v":30},{"$f":"IF(ISBLANK(InfoPro!F3),\"\",InfoPro!F3)","v":"Termica - Ciclo Abierto"},{"$f":"IF(ISBLANK(InfoPro!I3),\"\",YEAR(InfoPro!I3)-$G$4)","v":0},{"$f":"IF(B10=\"\",\"\",VLOOKUP(D10,Tablas!$B$2:$E$13,2,FALSE))","v":0.85},{"$f":"IF(B10=\"\",\"\",VLOOKUP(D10,Tablas!$B$2:$F$13,3,FALSE))","v":0.4},{"$f":"IF(C10=\"\",\"\",+C10*F10*24*365)","v":223380},6027060456,5390930640.4293394,4821941538.8455629,4313006743.1534557,3857787784.5737529,3450615191.926434,3086417881.86622,2760660001.6692491,2469284437.9868059,2208662288.0025101,1975547663.687397,1767037266.2677975,1580534227.4309461,1413715766.9328678,1264504263.8039961,{"$f":"IF(W10=\"\",\"\",SUM(I10:W10))","v":46387706152.57634},{"$f":"IF(C10=0,0,IF(X10=\"\",\"\",X10/(C10*1000)))","v":1546256.8717525448}]
[{"$f":"IF(ISBLANK(InfoPro!A4),\"\",InfoPro!A4)","v":"SC_1323_A3"},{"$f":"IF(ISBLANK(InfoPro!B4),\"\",InfoPro!B4)","v":"GEN ARAUCA"},{"$f":"IF(ISBLANK(InfoPro!E4),\"\",InfoPro!E4)","v":30},{"$f":"IF(ISBLANK(InfoPro!F4),\"\",InfoPro!F4)","v":"Termica - Ciclo Abierto"},{"$f":"IF(ISBLANK(InfoPro!I4),\"\",YEAR(InfoPro!I4)-$G$4)","v":0},{"$f":"IF(B11=\"\",\"\",VLOOKUP(D11,Tablas!$B$2:$E$13,2,FALSE))","v":0.85},{"$f":"IF(B11=\"\",\"\",VLOOKUP(D11,Tablas!$B$2:$F$13,3,FALSE))","v":0.4},223380,6027060456,5390930640.4293394,4821941538.8455629,4313006743.1534557,3857787784.5737529,3450615191.926434,3086417881.86622,2760660001.6692491,2469284437.9868059,2208662288.0025101,1975547663.687397,1767037266.2677975,1580534227.4309461,1413715766.9328678,1264504263.8039961,46387706152.57634,1546256.8717525448]
[{"$f":"IF(ISBLANK(InfoPro!A5),\"\",InfoPro!A5)","v":""},{"$f":"IF(ISBLANK(InfoPro!B5),\"\",InfoPro!B5)","v":""},{"$f":"IF(ISBLANK(InfoPro!E5),\"\",InfoPro!E5)","v":""},{"$f":"IF(ISBLANK(InfoPro!F5),\"\",InfoPro!F5)","v":""},{"$f":"IF(ISBLANK(InfoPro!I5),\"\",YEAR(InfoPro!I5)-$G$4)","v":""},{"$f":"IF(B12=\"\",\"\",VLOOKUP(D12,Tablas!$B$2:$E$13,2,FALSE))","v":""},{"$f":"IF(B12=\"\",\"\",VLOOKUP(D12,Tablas!$B$2:$F$13,3,FALSE))","v":""},"","","","","","","","","","","","","","","","","",""]
[{"$f":"IF(ISBLANK(InfoPro!A6),\"\",InfoPro!A6)","v":""},{"$f":"IF(ISBLANK(InfoPro!B6),\"\",InfoPro!B6)","v":""},{"$f":"IF(ISBLANK(InfoPro!E6),\"\",InfoPro!E6)","v":""},{"$f":"IF(ISBLANK(InfoPro!F6),\"\",InfoPro!F6)","v":""},{"$f":"IF(ISBLANK(InfoPro!I6),\"\",YEAR(InfoPro!I6)-$G$4)","v":""},{"$f":"IF(B13=\"\",\"\",VLOOKUP(D13,Tablas!$B$2:$E$13,2,FALSE))","v":""},{"$f":"IF(B13=\"\",\"\",VLOOKUP(D13,Tablas!$B$2:$F$13,3,FALSE))","v":""},"","","","","","","","","","","","","","","","","",""]
[{"$f":"IF(ISBLANK(InfoPro!A7),\"\",InfoPro!A7)","v":""},{"$f":"IF(ISBLANK(InfoPro!B7),\"\",InfoPro!B7)","v":""},{"$f":"IF(ISBLANK(InfoPro!E7),\"\",InfoPro!E7)","v":""},{"$f":"IF(ISBLANK(InfoPro!F7),\"\",InfoPro!F7)","v":""},{"$f":"IF(ISBLANK(InfoPro!I7),\"\",YEAR(InfoPro!I7)-$G$4)","v":""},{"$f":"IF(B14=\"\",\"\",VLOOKUP(D14,Tablas!$B$2:$E$13,2,FALSE))","v":""},{"$f":"IF(B14=\"\",\"\",VLOOKUP(D14,Tablas!$B$2:$F$13,3,FALSE))","v":""},"","","","","","","","","","","","","","","","","",""]
[{"$f":"IF(ISBLANK(InfoPro!A8),\"\",InfoPro!A8)","v":""},{"$f":"IF(ISBLANK(InfoPro!B8),\"\",InfoPro!B8)","v":""},{"$f":"IF(ISBLANK(InfoPro!E8),\"\",InfoPro!E8)","v":""},{"$f":"IF(ISBLANK(InfoPro!F8),\"\",InfoPro!F8)","v":""},{"$f":"IF(ISBLANK(InfoPro!I8),\"\",YEAR(InfoPro!I8)-$G$4)","v":""},{"$f":"IF(B15=\"\",\"\",VLOOKUP(D15,Tablas!$B$2:$E$13,2,FALSE))","v":""},{"$f":"IF(B15=\"\",\"\",VLOOKUP(D15,Tablas!$B$2:$F$13,3,FALSE))","v":""},"","","","","","","","","","","","","","","","","",""]
[{"$f":"IF(ISBLANK(InfoPro!A9),\"\",InfoPro!A9)","v":""},{"$f":"IF(ISBLANK(InfoPro!B9),\"\",InfoPro!B9)","v":""},{"$f":"IF(ISBLANK(InfoPro!E9),\"\",InfoPro!E9)","v":""},{"$f":"IF(ISBLANK(InfoPro!F9),\"\",InfoPro!F9)","v":""},{"$f":"IF(ISBLANK(InfoPro!I9),\"\",YEAR(InfoPro!I9)-$G$4)","v":""},{"$f":"IF(B16=\"\",\"\",VLOOKUP(D16,Tablas!$B$2:$E$13,2,FALSE))","v":""},{"$f":"IF(B16=\"\",\"\",VLOOKUP(D16,Tablas!$B$2:$F$13,3,FALSE))","v":""},"","","","","","","","","","","","","","","","","",""]
[{"$f":"IF(ISBLANK(InfoPro!A10),\"\",InfoPro!A10)","v":""},{"$f":"IF(ISBLANK(InfoPro!B10),\"\",InfoPro!B10)","v":""},{"$f":"IF(ISBLANK(InfoPro!E10),\"\",InfoPro!E10)","v":""},{"$f":"IF(ISBLANK(InfoPro!F10),\"\",InfoPro!F10)","v":""},{"$f":"IF(ISBLANK(InfoPro!I10),\"\",YEAR(InfoPro!I10)-$G$4)","v":""},{"$f":"IF(B17=\"\",\"\",VLOOKUP(D17,Tablas!$B$2:$E$13,2,FALSE))","v":""},{"$f":"IF(B17=\"\",\"\",VLOOKUP(D17,Tablas!$B$2:$F$13,3,FALSE))","v":""},"","","","","","","","","","","","","","","","","",""]
[{"$f":"IF(ISBLANK(InfoPro!A11),\"\",InfoPro!A11)","v":""},{"$f":"IF(ISBLANK(InfoPro!B11),\"\",InfoPro!B11)","v":""},{"$f":"IF(ISBLANK(InfoPro!E11),\"\",InfoPro!E11)","v":""},{"$f":"IF(ISBLANK(InfoPro!F11),\"\",InfoPro!F11)","v":""},{"$f":"IF(ISBLANK(InfoPro!I11),\"\",YEAR(InfoPro!I11)-$G$4)","v":""},{"$f":"IF(B18=\"\",\"\",VLOOKUP(D18,Tablas!$B$2:$E$13,2,FALSE))","v":""},{"$f":"IF(B18=\"\",\"\",VLOOKUP(D18,Tablas!$B$2:$F$13,3,FALSE))","v":""},"","","","","","","","","","","","","","","","","",""]
[{"$f":"IF(ISBLANK(InfoPro!A12),\"\",InfoPro!A12)","v":""},{"$f":"IF(ISBLANK(InfoPro!B12),\"\",InfoPro!B12)","v":""},{"$f":"IF(ISBLANK(InfoPro!E12),\"\",InfoPro!E12)","v":""},{"$f":"IF(ISBLANK(InfoPro!F12),\"\",InfoPro!F12)","v":""},{"$f":"IF(ISBLANK(InfoPro!I12),\"\",YEAR(InfoPro!I12)-$G$4)","v":""},{"$f":"IF(B19=\"\",\"\",VLOOKUP(D19,Tablas!$B$2:$E$13,2,FALSE))","v":""},{"$f":"IF(B19=\"\",\"\",VLOOKUP(D19,Tablas!$B$2:$F$13,3,FALSE))","v":""},"",{"$f":"IF($H19=\"\",\"\",(1/(1+$C$4)^(I$7+$E19))*$H19*$G19*$C$3)","v":""},"","","","","","","","","","","","","","","",""]
[{"$f":"IF(ISBLANK(InfoPro!A13),\"\",InfoPro!A13)","v":""},{"$f":"IF(ISBLANK(InfoPro!B13),\"\",InfoPro!B13)","v":""},{"$f":"IF(ISBLANK(InfoPro!E13),\"\",InfoPro!E13)","v":""},{"$f":"IF(ISBLANK(InfoPro!F13),\"\",InfoPro!F13)","v":""},{"$f":"IF(ISBLANK(InfoPro!I13),\"\",YEAR(InfoPro!I13)-$G$4)","v":""},{"$f":"IF(B20=\"\",\"\",VLOOKUP(D20,Tablas!$B$2:$E$13,2,FALSE))","v":""},{"$f":"IF(B20=\"\",\"\",VLOOKUP(D20,Tablas!$B$2:$F$13,3,FALSE))","v":""},"","","","","","","","","","","","","","","","","",""]
[{"$f":"IF(ISBLANK(InfoPro!A14),\"\",InfoPro!A14)","v":""},{"$f":"IF(ISBLANK(InfoPro!B14),\"\",InfoPro!B14)","v":""},{"$f":"IF(ISBLANK(InfoPro!E14),\"\",InfoPro!E14)","v":""},{"$f":"IF(ISBLANK(InfoPro!F14),\"\",InfoPro!F14)","v":""},{"$f":"IF(ISBLANK(InfoPro!I14),\"\",YEAR(InfoPro!I14)-$G$4)","v":""},{"$f":"IF(B21=\"\",\"\",VLOOKUP(D21,Tablas!$B$2:$E$13,2,FALSE))","v":""},{"$f":"IF(B21=\"\",\"\",VLOOKUP(D21,Tablas!$B$2:$F$13,3,FALSE))","v":""},"","","","","","","","","","","","","","","","","",""]
[{"$f":"IF(ISBLANK(InfoPro!A15),\"\",InfoPro!A15)","v":""},{"$f":"IF(ISBLANK(InfoPro!B15),\"\",InfoPro!B15)","v":""},{"$f":"IF(ISBLANK(InfoPro!E15),\"\",InfoPro!E15)","v":""},{"$f":"IF(ISBLANK(InfoPro!F15),\"\",InfoPro!F15)","v":""},{"$f":"IF(ISBLANK(InfoPro!I15),\"\",YEAR(InfoPro!I15)-$G$4)","v":""},{"$f":"IF(B22=\"\",\"\",VLOOKUP(D22,Tablas!$B$2:$E$13,2,FALSE))","v":""},{"$f":"IF(B22=\"\",\"\",VLOOKUP(D22,Tablas!$B$2:$F$13,3,FALSE))","v":""},"","","","","","","","","","","","","","","","","",""]
[{"$f":"IF(ISBLANK(InfoPro!A16),\"\",InfoPro!A16)","v":""},{"$f":"IF(ISBLANK(InfoPro!B16),\"\",InfoPro!B16)","v":""},{"$f":"IF(ISBLANK(InfoPro!E16),\"\",InfoPro!E16)","v":""},{"$f":"IF(ISBLANK(InfoPro!F16),\"\",InfoPro!F16)","v":""},{"$f":"IF(ISBLANK(InfoPro!I16),\"\",YEAR(InfoPro!I16)-$G$4)","v":""},{"$f":"IF(B23=\"\",\"\",VLOOKUP(D23,Tablas!$B$2:$E$13,2,FALSE))","v":""},{"$f":"IF(B23=\"\",\"\",VLOOKUP(D23,Tablas!$B$2:$F$13,3,FALSE))","v":""},"","","","","","","","","","","","","","","","","",""]
[{"$f":"IF(ISBLANK(InfoPro!A17),\"\",InfoPro!A17)","v":""},{"$f":"IF(ISBLANK(InfoPro!B17),\"\",InfoPro!B17)","v":""},{"$f":"IF(ISBLANK(InfoPro!E17),\"\",InfoPro!E17)","v":""},{"$f":"IF(ISBLANK(InfoPro!F17),\"\",InfoPro!F17)","v":""},{"$f":"IF(ISBLANK(InfoPro!I17),\"\",YEAR(InfoPro!I17)-$G$4)","v":""},{"$f":"IF(B24=\"\",\"\",VLOOKUP(D24,Tablas!$B$2:$E$13,2,FALSE))","v":""},{"$f":"IF(B24=\"\",\"\",VLOOKUP(D24,Tablas!$B$2:$F$13,3,FALSE))","v":""},"","","","","","","","","","","","","","","","","",""]
[{"$f":"IF(ISBLANK(InfoPro!A18),\"\",InfoPro!A18)","v":""},{"$f":"IF(ISBLANK(InfoPro!B18),\"\",InfoPro!B18)","v":""},{"$f":"IF(ISBLANK(InfoPro!E18),\"\",InfoPro!E18)","v":""},{"$f":"IF(ISBLANK(InfoPro!F18),\"\",InfoPro!F18)","v":""},{"$f":"IF(ISBLANK(InfoPro!I18),\"\",YEAR(InfoPro!I18)-$G$4)","v":""},{"$f":"IF(B25=\"\",\"\",VLOOKUP(D25,Tablas!$B$2:$E$13,2,FALSE))","v":""},{"$f":"IF(B25=\"\",\"\",VLOOKUP(D25,Tablas!$B$2:$F$13,3,FALSE))","v":""},"","","","","","","","","","","","","","","","","",""]
[{"$f":"IF(ISBLANK(InfoPro!A19),\"\",InfoPro!A19)","v":""},{"$f":"IF(ISBLANK(InfoPro!B19),\"\",InfoPro!B19)","v":""},{"$f":"IF(ISBLANK(InfoPro!E19),\"\",InfoPro!E19)","v":""},{"$f":"IF(ISBLANK(InfoPro!F19),\"\",InfoPro!F19)","v":""},{"$f":"IF(ISBLANK(InfoPro!I19),\"\",YEAR(InfoPro!I19)-$G$4)","v":""},{"$f":"IF(B26=\"\",\"\",VLOOKUP(D26,Tablas!$B$2:$E$13,2,FALSE))","v":""},{"$f":"IF(B26=\"\",\"\",VLOOKUP(D26,Tablas!$B$2:$F$13,3,FALSE))","v":""},"","","","","","","","","","","","","","","","","",""]
[{"$f":"IF(ISBLANK(InfoPro!A20),\"\",InfoPro!A20)","v":""},{"$f":"IF(ISBLANK(InfoPro!B20),\"\",InfoPro!B20)","v":""},{"$f":"IF(ISBLANK(InfoPro!E20),\"\",InfoPro!E20)","v":""},{"$f":"IF(ISBLANK(InfoPro!F20),\"\",InfoPro!F20)","v":""},{"$f":"IF(ISBLANK(InfoPro!I20),\"\",YEAR(InfoPro!I20)-$G$4)","v":""},{"$f":"IF(B27=\"\",\"\",VLOOKUP(D27,Tablas!$B$2:$E$13,2,FALSE))","v":""},{"$f":"IF(B27=\"\",\"\",VLOOKUP(D27,Tablas!$B$2:$F$13,3,FALSE))","v":""},"","","","","","","","","","","","","","","","","",""]
[{"$f":"IF(ISBLANK(InfoPro!A21),\"\",InfoPro!A21)","v":""},{"$f":"IF(ISBLANK(InfoPro!B21),\"\",InfoPro!B21)","v":""},{"$f":"IF(ISBLANK(InfoPro!E21),\"\",InfoPro!E21)","v":""},{"$f":"IF(ISBLANK(InfoPro!F21),\"\",InfoPro!F21)","v":""},{"$f":"IF(ISBLANK(InfoPro!I21),\"\",YEAR(InfoPro!I21)-$G$4)","v":""},{"$f":"IF(B28=\"\",\"\",VLOOKUP(D28,Tablas!$B$2:$E$13,2,FALSE))","v":""},{"$f":"IF(B28=\"\",\"\",VLOOKUP(D28,Tablas!$B$2:$F$13,3,FALSE))","v":""},"","","","","","","","","","","","","","","","","",""]
[{"$f":"IF(ISBLANK(InfoPro!A22),\"\",InfoPro!A22)","v":""},{"$f":"IF(ISBLANK(InfoPro!B22),\"\",InfoPro!B22)","v":""},{"$f":"IF(ISBLANK(InfoPro!E22),\"\",InfoPro!E22)","v":""},{"$f":"IF(ISBLANK(InfoPro!F22),\"\",InfoPro!F22)","v":""},{"$f":"IF(ISBLANK(InfoPro!I22),\"\",YEAR(InfoPro!I22)-$G$4)","v":""},{"$f":"IF(B29=\"\",\"\",VLOOKUP(D29,Tablas!$B$2:$E$13,2,FALSE))","v":""},{"$f":"IF(B29=\"\",\"\",VLOOKUP(D29,Tablas!$B$2:$F$13,3,FALSE))","v":""},"",{"$f":"IF($H29=\"\",\"\",(1/(1+$C$4)^(I$7+$E29))*$H29*$G29*$C$3)","v":""},"","","","","","","","","","","","","","","",""]
[{"$f":"IF(ISBLANK(InfoPro!A23),\"\",InfoPro!A23)","v":""},{"$f":"IF(ISBLANK(InfoPro!B23),\"\",InfoPro!B23)","v":""},{"$f":"IF(ISBLANK(InfoPro!E23),\"\",InfoPro!E23)","v":""},{"$f":"IF(ISBLANK(InfoPro!F23),\"\",InfoPro!F23)","v":""},{"$f":"IF(ISBLANK(InfoPro!I23),\"\",YEAR(InfoPro!I23)-$G$4)","v":""},{"$f":"IF(B30=\"\",\"\",VLOOKUP(D30,Tablas!$B$2:$E$13,2,FALSE))","v":""},{"$f":"IF(B30=\"\",\"\",VLOOKUP(D30,Tablas!$B$2:$F$13,3,FALSE))","v":""},"","","","","","","","","","","","","","","","","",""]
[{"$f":"IF(ISBLANK(InfoPro!A24),\"\",InfoPro!A24)","v":""},{"$f":"IF(ISBLANK(InfoPro!B24),\"\",InfoPro!B24)","v":""},{"$f":"IF(ISBLANK(InfoPro!E24),\"\",InfoPro!E24)","v":""},{"$f":"IF(ISBLANK(InfoPro!F24),\"\",InfoPro!F24)","v":""},{"$f":"IF(ISBLANK(InfoPro!I24),\"\",YEAR(InfoPro!I24)-$G$4)","v":""},{"$f":"IF(B31=\"\",\"\",VLOOKUP(D31,Tablas!$B$2:$E$13,2,FALSE))","v":""},{"$f":"IF(B31=\"\",\"\",VLOOKUP(D31,Tablas!$B$2:$F$13,3,FALSE))","v":""},"","","","","","","","","","","","","","","","","",""]
[{"$f":"IF(ISBLANK(InfoPro!A25),\"\",InfoPro!A25)","v":""},{"$f":"IF(ISBLANK(InfoPro!B25),\"\",InfoPro!B25)","v":""},{"$f":"IF(ISBLANK(InfoPro!E25),\"\",InfoPro!E25)","v":""},{"$f":"IF(ISBLANK(InfoPro!F25),\"\",InfoPro!F25)","v":""},{"$f":"IF(ISBLANK(InfoPro!I25),\"\",YEAR(InfoPro!I25)-$G$4)","v":""},{"$f":"IF(B32=\"\",\"\",VLOOKUP(D32,Tablas!$B$2:$E$13,2,FALSE))","v":""},{"$f":"IF(B32=\"\",\"\",VLOOKUP(D32,Tablas!$B$2:$F$13,3,FALSE))","v":""},"","","","","","","","","","","","","","","","","",""]
[{"$f":"IF(ISBLANK(InfoPro!A26),\"\",InfoPro!A26)","v":""},{"$f":"IF(ISBLANK(InfoPro!B26),\"\",InfoPro!B26)","v":""},{"$f":"IF(ISBLANK(InfoPro!E26),\"\",InfoPro!E26)","v":""},{"$f":"IF(ISBLANK(InfoPro!F26),\"\",InfoPro!F26)","v":""},{"$f":"IF(ISBLANK(InfoPro!I26),\"\",YEAR(InfoPro!I26)-$G$4)","v":""},{"$f":"IF(B33=\"\",\"\",VLOOKUP(D33,Tablas!$B$2:$E$13,2,FALSE))","v":""},{"$f":"IF(B33=\"\",\"\",VLOOKUP(D33,Tablas!$B$2:$F$13,3,FALSE))","v":""},"",{"$f":"IF($H33=\"\",\"\",(1/(1+$C$4)^(I$7+$E33))*$H33*$G33*$C$3)","v":""},"","","","","","","","","","","","","","","",""]
[{"$f":"IF(ISBLANK(InfoPro!A27),\"\",InfoPro!A27)","v":""},{"$f":"IF(ISBLANK(InfoPro!B27),\"\",InfoPro!B27)","v":""},{"$f":"IF(ISBLANK(InfoPro!E27),\"\",InfoPro!E27)","v":""},{"$f":"IF(ISBLANK(InfoPro!F27),\"\",InfoPro!F27)","v":""},{"$f":"IF(ISBLANK(InfoPro!I27),\"\",YEAR(InfoPro!I27)-$G$4)","v":""},{"$f":"IF(B34=\"\",\"\",VLOOKUP(D34,Tablas!$B$2:$E$13,2,FALSE))","v":""},{"$f":"IF(B34=\"\",\"\",VLOOKUP(D34,Tablas!$B$2:$F$13,3,FALSE))","v":""},"","","","","","","","","","","","","","","","","",""]
[{"$f":"IF(ISBLANK(InfoPro!A28),\"\",InfoPro!A28)","v":""},{"$f":"IF(ISBLANK(InfoPro!B28),\"\",InfoPro!B28)","v":""},{"$f":"IF(ISBLANK(InfoPro!E28),\"\",InfoPro!E28)","v":""},{"$f":"IF(ISBLANK(InfoPro!F28),\"\",InfoPro!F28)","v":""},{"$f":"IF(ISBLANK(InfoPro!I28),\"\",YEAR(InfoPro!I28)-$G$4)","v":""},{"$f":"IF(B35=\"\",\"\",VLOOKUP(D35,Tablas!$B$2:$E$13,2,FALSE))","v":""},{"$f":"IF(B35=\"\",\"\",VLOOKUP(D35,Tablas!$B$2:$F$13,3,FALSE))","v":""},"","","","","","","","","","","","","","","","","",""]
[{"$f":"IF(ISBLANK(InfoPro!A29),\"\",InfoPro!A29)","v":""},{"$f":"IF(ISBLANK(InfoPro!B29),\"\",InfoPro!B29)","v":""},{"$f":"IF(ISBLANK(InfoPro!E29),\"\",InfoPro!E29)","v":""},{"$f":"IF(ISBLANK(InfoPro!F29),\"\",InfoPro!F29)","v":""},{"$f":"IF(ISBLANK(InfoPro!I29),\"\",YEAR(InfoPro!I29)-$G$4)","v":""},{"$f":"IF(B36=\"\",\"\",VLOOKUP(D36,Tablas!$B$2:$E$13,2,FALSE))","v":""},{"$f":"IF(B36=\"\",\"\",VLOOKUP(D36,Tablas!$B$2:$F$13,3,FALSE))","v":""},"","","","","","","","","","","","","","","","","",""]
[{"$f":"IF(ISBLANK(InfoPro!A30),\"\",InfoPro!A30)","v":""},{"$f":"IF(ISBLANK(InfoPro!B30),\"\",InfoPro!B30)","v":""},{"$f":"IF(ISBLANK(InfoPro!E30),\"\",InfoPro!E30)","v":""},{"$f":"IF(ISBLANK(InfoPro!F30),\"\",InfoPro!F30)","v":""},{"$f":"IF(ISBLANK(InfoPro!I30),\"\",YEAR(InfoPro!I30)-$G$4)","v":""},{"$f":"IF(B37=\"\",\"\",VLOOKUP(D37,Tablas!$B$2:$E$13,2,FALSE))","v":""},{"$f":"IF(B37=\"\",\"\",VLOOKUP(D37,Tablas!$B$2:$F$13,3,FALSE))","v":""},"","","","","","","","","","","","","","","","","",""]
[{"$f":"IF(ISBLANK(InfoPro!A31),\"\",InfoPro!A31)","v":""},{"$f":"IF(ISBLANK(InfoPro!B31),\"\",InfoPro!B31)","v":""},{"$f":"IF(ISBLANK(InfoPro!E31),\"\",InfoPro!E31)","v":""},{"$f":"IF(ISBLANK(InfoPro!F31),\"\",InfoPro!F31)","v":""},{"$f":"IF(ISBLANK(InfoPro!I31),\"\",YEAR(InfoPro!I31)-$G$4)","v":""},{"$f":"IF(B38=\"\",\"\",VLOOKUP(D38,Tablas!$B$2:$E$13,2,FALSE))","v":""},{"$f":"IF(B38=\"\",\"\",VLOOKUP(D38,Tablas!$B$2:$F$13,3,FALSE))","v":""},"","","","","","","","","","","","","","","","","",""]
[{"$f":"IF(ISBLANK(InfoPro!A32),\"\",InfoPro!A32)","v":""},{"$f":"IF(ISBLANK(InfoPro!B32),\"\",InfoPro!B32)","v":""},{"$f":"IF(ISBLANK(InfoPro!E32),\"\",InfoPro!E32)","v":""},{"$f":"IF(ISBLANK(InfoPro!F32),\"\",InfoPro!F32)","v":""},{"$f":"IF(ISBLANK(InfoPro!I32),\"\",YEAR(InfoPro!I32)-$G$4)","v":""},{"$f":"IF(B39=\"\",\"\",VLOOKUP(D39,Tablas!$B$2:$E$13,2,FALSE))","v":""},{"$f":"IF(B39=\"\",\"\",VLOOKUP(D39,Tablas!$B$2:$F$13,3,FALSE))","v":""},"",{"$f":"IF($H39=\"\",\"\",(1/(1+$C$4)^(I$7+$E39))*$H39*$G39*$C$3)","v":""},"","","","","","","","","","","","","","","",""]
[{"$f":"IF(ISBLANK(InfoPro!A33),\"\",InfoPro!A33)","v":""},{"$f":"IF(ISBLANK(InfoPro!B33),\"\",InfoPro!B33)","v":""},{"$f":"IF(ISBLANK(InfoPro!E33),\"\",InfoPro!E33)","v":""},{"$f":"IF(ISBLANK(InfoPro!F33),\"\",InfoPro!F33)","v":""},{"$f":"IF(ISBLANK(InfoPro!I33),\"\",YEAR(InfoPro!I33)-$G$4)","v":""},{"$f":"IF(B40=\"\",\"\",VLOOKUP(D40,Tablas!$B$2:$E$13,2,FALSE))","v":""},{"$f":"IF(B40=\"\",\"\",VLOOKUP(D40,Tablas!$B$2:$F$13,3,FALSE))","v":""},"","","","","","","","","","","","","","","","","",""]
[{"$f":"IF(ISBLANK(InfoPro!A34),\"\",InfoPro!A34)","v":""},{"$f":"IF(ISBLANK(InfoPro!B34),\"\",InfoPro!B34)","v":""},{"$f":"IF(ISBLANK(InfoPro!E34),\"\",InfoPro!E34)","v":""},{"$f":"IF(ISBLANK(InfoPro!F34),\"\",InfoPro!F34)","v":""},{"$f":"IF(ISBLANK(InfoPro!I34),\"\",YEAR(InfoPro!I34)-$G$4)","v":""},{"$f":"IF(B41=\"\",\"\",VLOOKUP(D41,Tablas!$B$2:$E$13,2,FALSE))","v":""},{"$f":"IF(B41=\"\",\"\",VLOOKUP(D41,Tablas!$B$2:$F$13,3,FALSE))","v":""},{"$f":"IF(C41=\"\",\"\",+C41*F41*24*365)","v":""},"","","","","","","","","","","","","","","","",""]
[{"$f":"IF(ISBLANK(InfoPro!A35),\"\",InfoPro!A35)","v":""},{"$f":"IF(ISBLANK(InfoPro!B35),\"\",InfoPro!B35)","v":""},{"$f":"IF(ISBLANK(InfoPro!E35),\"\",InfoPro!E35)","v":""},{"$f":"IF(ISBLANK(InfoPro!F35),\"\",InfoPro!F35)","v":""},{"$f":"IF(ISBLANK(InfoPro!I35),\"\",YEAR(InfoPro!I35)-$G$4)","v":""},{"$f":"IF(B42=\"\",\"\",VLOOKUP(D42,Tablas!$B$2:$E$13,2,FALSE))","v":""},{"$f":"IF(B42=\"\",\"\",VLOOKUP(D42,Tablas!$B$2:$F$13,3,FALSE))","v":""},"","","","","","","","","","","","","","","","","",""]
[{"$f":"IF(ISBLANK(InfoPro!A36),\"\",InfoPro!A36)","v":""},{"$f":"IF(ISBLANK(InfoPro!B36),\"\",InfoPro!B36)","v":""},{"$f":"IF(ISBLANK(InfoPro!E36),\"\",InfoPro!E36)","v":""},{"$f":"IF(ISBLANK(InfoPro!F36),\"\",InfoPro!F36)","v":""},{"$f":"IF(ISBLANK(InfoPro!I36),\"\",YEAR(InfoPro!I36)-$G$4)","v":""},{"$f":"IF(B43=\"\",\"\",VLOOKUP(D43,Tablas!$B$2:$E$13,2,FALSE))","v":""},{"$f":"IF(B43=\"\",\"\",VLOOKUP(D43,Tablas!$B$2:$F$13,3,FALSE))","v":""},"","","","","","","","","","","","","","","","","",""]
[{"$f":"IF(ISBLANK(InfoPro!A37),\"\",InfoPro!A37)","v":""},{"$f":"IF(ISBLANK(InfoPro!B37),\"\",InfoPro!B37)","v":""},{"$f":"IF(ISBLANK(InfoPro!E37),\"\",InfoPro!E37)","v":""},{"$f":"IF(ISBLANK(InfoPro!F37),\"\",InfoPro!F37)","v":""},{"$f":"IF(ISBLANK(InfoPro!I37),\"\",YEAR(InfoPro!I37)-$G$4)","v":""},{"$f":"IF(B44=\"\",\"\",VLOOKUP(D44,Tablas!$B$2:$E$13,2,FALSE))","v":""},{"$f":"IF(B44=\"\",\"\",VLOOKUP(D44,Tablas!$B$2:$F$13,3,FALSE))","v":""},"","","","","","","","","","","","","","","","","",""]
[{"$f":"IF(ISBLANK(InfoPro!A38),\"\",InfoPro!A38)","v":""},{"$f":"IF(ISBLANK(InfoPro!B38),\"\",InfoPro!B38)","v":""},{"$f":"IF(ISBLANK(InfoPro!E38),\"\",InfoPro!E38)","v":""},{"$f":"IF(ISBLANK(InfoPro!F38),\"\",InfoPro!F38)","v":""},{"$f":"IF(ISBLANK(InfoPro!I38),\"\",YEAR(InfoPro!I38)-$G$4)","v":""},{"$f":"IF(B45=\"\",\"\",VLOOKUP(D45,Tablas!$B$2:$E$13,2,FALSE))","v":""},{"$f":"IF(B45=\"\",\"\",VLOOKUP(D45,Tablas!$B$2:$F$13,3,FALSE))","v":""},"","","","","","","","","","","","","","","","","",""]
[{"$f":"IF(ISBLANK(InfoPro!A39),\"\",InfoPro!A39)","v":""},{"$f":"IF(ISBLANK(InfoPro!B39),\"\",InfoPro!B39)","v":""},{"$f":"IF(ISBLANK(InfoPro!E39),\"\",InfoPro!E39)","v":""},{"$f":"IF(ISBLANK(InfoPro!F39),\"\",InfoPro!F39)","v":""},{"$f":"IF(ISBLANK(InfoPro!I39),\"\",YEAR(InfoPro!I39)-$G$4)","v":""},{"$f":"IF(B46=\"\",\"\",VLOOKUP(D46,Tablas!$B$2:$E$13,2,FALSE))","v":""},{"$f":"IF(B46=\"\",\"\",VLOOKUP(D46,Tablas!$B$2:$F$13,3,FALSE))","v":""},"","","","","","","","","","","","","","","","","",""]
[{"$f":"IF(ISBLANK(InfoPro!A40),\"\",InfoPro!A40)","v":""},{"$f":"IF(ISBLANK(InfoPro!B40),\"\",InfoPro!B40)","v":""},{"$f":"IF(ISBLANK(InfoPro!E40),\"\",InfoPro!E40)","v":""},{"$f":"IF(ISBLANK(InfoPro!F40),\"\",InfoPro!F40)","v":""},{"$f":"IF(ISBLANK(InfoPro!I40),\"\",YEAR(InfoPro!I40)-$G$4)","v":""},{"$f":"IF(B47=\"\",\"\",VLOOKUP(D47,Tablas!$B$2:$E$13,2,FALSE))","v":""},{"$f":"IF(B47=\"\",\"\",VLOOKUP(D47,Tablas!$B$2:$F$13,3,FALSE))","v":""},"","","","","","","","","","","","","","","","","",""]
[{"$f":"IF(ISBLANK(InfoPro!A41),\"\",InfoPro!A41)","v":""},{"$f":"IF(ISBLANK(InfoPro!B41),\"\",InfoPro!B41)","v":""},{"$f":"IF(ISBLANK(InfoPro!E41),\"\",InfoPro!E41)","v":""},{"$f":"IF(ISBLANK(InfoPro!F41),\"\",InfoPro!F41)","v":""},{"$f":"IF(ISBLANK(InfoPro!I41),\"\",YEAR(InfoPro!I41)-$G$4)","v":""},{"$f":"IF(B48=\"\",\"\",VLOOKUP(D48,Tablas!$B$2:$E$13,2,FALSE))","v":""},{"$f":"IF(B48=\"\",\"\",VLOOKUP(D48,Tablas!$B$2:$F$13,3,FALSE))","v":""},"","","","","","","","","","","","","","","","","",""]
[{"$f":"IF(ISBLANK(InfoPro!A42),\"\",InfoPro!A42)","v":""},{"$f":"IF(ISBLANK(InfoPro!B42),\"\",InfoPro!B42)","v":""},{"$f":"IF(ISBLANK(InfoPro!E42),\"\",InfoPro!E42)","v":""},{"$f":"IF(ISBLANK(InfoPro!F42),\"\",InfoPro!F42)","v":""},{"$f":"IF(ISBLANK(InfoPro!I42),\"\",YEAR(InfoPro!I42)-$G$4)","v":""},{"$f":"IF(B49=\"\",\"\",VLOOKUP(D49,Tablas!$B$2:$E$13,2,FALSE))","v":""},{"$f":"IF(B49=\"\",\"\",VLOOKUP(D49,Tablas!$B$2:$F$13,3,FALSE))","v":""},"",{"$f":"IF($H49=\"\",\"\",(1/(1+$C$4)^(I$7+$E49))*$H49*$G49*$C$3)","v":""},"","","","","","","","","","","","","","","",""]
[{"$f":"IF(ISBLANK(InfoPro!A43),\"\",InfoPro!A43)","v":""},{"$f":"IF(ISBLANK(InfoPro!B43),\"\",InfoPro!B43)","v":""},{"$f":"IF(ISBLANK(InfoPro!E43),\"\",InfoPro!E43)","v":""},{"$f":"IF(ISBLANK(InfoPro!F43),\"\",InfoPro!F43)","v":""},{"$f":"IF(ISBLANK(InfoPro!I43),\"\",YEAR(InfoPro!I43)-$G$4)","v":""},{"$f":"IF(B50=\"\",\"\",VLOOKUP(D50,Tablas!$B$2:$E$13,2,FALSE))","v":""},{"$f":"IF(B50=\"\",\"\",VLOOKUP(D50,Tablas!$B$2:$F$13,3,FALSE))","v":""},"","","","","","","","","","","","","","","","","",""]
[{"$f":"IF(ISBLANK(InfoPro!A44),\"\",InfoPro!A44)","v":""},{"$f":"IF(ISBLANK(InfoPro!B44),\"\",InfoPro!B44)","v":""},{"$f":"IF(ISBLANK(InfoPro!E44),\"\",InfoPro!E44)","v":""},{"$f":"IF(ISBLANK(InfoPro!F44),\"\",InfoPro!F44)","v":""},{"$f":"IF(ISBLANK(InfoPro!I44),\"\",YEAR(InfoPro!I44)-$G$4)","v":""},{"$f":"IF(B51=\"\",\"\",VLOOKUP(D51,Tablas!$B$2:$E$13,2,FALSE))","v":""},{"$f":"IF(B51=\"\",\"\",VLOOKUP(D51,Tablas!$B$2:$F$13,3,FALSE))","v":""},"","","","","","","","","","","","","","","","","",""]
[{"$f":"IF(ISBLANK(InfoPro!A45),\"\",InfoPro!A45)","v":""},{"$f":"IF(ISBLANK(InfoPro!B45),\"\",InfoPro!B45)","v":""},{"$f":"IF(ISBLANK(InfoPro!E45),\"\",InfoPro!E45)","v":""},{"$f":"IF(ISBLANK(InfoPro!F45),\"\",InfoPro!F45)","v":""},{"$f":"IF(ISBLANK(InfoPro!I45),\"\",YEAR(InfoPro!I45)-$G$4)","v":""},{"$f":"IF(B52=\"\",\"\",VLOOKUP(D52,Tablas!$B$2:$E$13,2,FALSE))","v":""},{"$f":"IF(B52=\"\",\"\",VLOOKUP(D52,Tablas!$B$2:$F$13,3,FALSE))","v":""},"","","","","","","","","","","","","","","","","",""]
[{"$f":"IF(ISBLANK(InfoPro!A46),\"\",InfoPro!A46)","v":""},{"$f":"IF(ISBLANK(InfoPro!B46),\"\",InfoPro!B46)","v":""},{"$f":"IF(ISBLANK(InfoPro!E46),\"\",InfoPro!E46)","v":""},{"$f":"IF(ISBLANK(InfoPro!F46),\"\",InfoPro!F46)","v":""},{"$f":"IF(ISBLANK(InfoPro!I46),\"\",YEAR(InfoPro!I46)-$G$4)","v":""},{"$f":"IF(B53=\"\",\"\",VLOOKUP(D53,Tablas!$B$2:$E$13,2,FALSE))","v":""},{"$f":"IF(B53=\"\",\"\",VLOOKUP(D53,Tablas!$B$2:$F$13,3,FALSE))","v":""},"","","","","","","","","","","","","","","","","",""]
[{"$f":"IF(ISBLANK(InfoPro!A47),\"\",InfoPro!A47)","v":""},{"$f":"IF(ISBLANK(InfoPro!B47),\"\",InfoPro!B47)","v":""},{"$f":"IF(ISBLANK(InfoPro!E47),\"\",InfoPro!E47)","v":""},{"$f":"IF(ISBLANK(InfoPro!F47),\"\",InfoPro!F47)","v":""},{"$f":"IF(ISBLANK(InfoPro!I47),\"\",YEAR(InfoPro!I47)-$G$4)","v":""},{"$f":"IF(B54=\"\",\"\",VLOOKUP(D54,Tablas!$B$2:$E$13,2,FALSE))","v":""},{"$f":"IF(B54=\"\",\"\",VLOOKUP(D54,Tablas!$B$2:$F$13,3,FALSE))","v":""},"","","","","","","","","","","","","","","","","",""]
[{"$f":"IF(ISBLANK(InfoPro!A48),\"\",InfoPro!A48)","v":""},{"$f":"IF(ISBLANK(InfoPro!B48),\"\",InfoPro!B48)","v":""},{"$f":"IF(ISBLANK(InfoPro!E48),\"\",InfoPro!E48)","v":""},{"$f":"IF(ISBLANK(InfoPro!F48),\"\",InfoPro!F48)","v":""},{"$f":"IF(ISBLANK(InfoPro!I48),\"\",YEAR(InfoPro!I48)-$G$4)","v":""},{"$f":"IF(B55=\"\",\"\",VLOOKUP(D55,Tablas!$B$2:$E$13,2,FALSE))","v":""},{"$f":"IF(B55=\"\",\"\",VLOOKUP(D55,Tablas!$B$2:$F$13,3,FALSE))","v":""},"","","","","","","","","","","","","","","","","",""]
[{"$f":"IF(ISBLANK(InfoPro!A49),\"\",InfoPro!A49)","v":""},{"$f":"IF(ISBLANK(InfoPro!B49),\"\",InfoPro!B49)","v":""},{"$f":"IF(ISBLANK(InfoPro!E49),\"\",InfoPro!E49)","v":""},{"$f":"IF(ISBLANK(InfoPro!F49),\"\",InfoPro!F49)","v":""},{"$f":"IF(ISBLANK(InfoPro!I49),\"\",YEAR(InfoPro!I49)-$G$4)","v":""},{"$f":"IF(B56=\"\",\"\",VLOOKUP(D56,Tablas!$B$2:$E$13,2,FALSE))","v":""},{"$f":"IF(B56=\"\",\"\",VLOOKUP(D56,Tablas!$B$2:$F$13,3,FALSE))","v":""},"","","","","","","","","","","","","","","","","",""]
[{"$f":"IF(ISBLANK(InfoPro!A50),\"\",InfoPro!A50)","v":""},{"$f":"IF(ISBLANK(InfoPro!B50),\"\",InfoPro!B50)","v":""},{"$f":"IF(ISBLANK(InfoPro!E50),\"\",InfoPro!E50)","v":""},{"$f":"IF(ISBLANK(InfoPro!F50),\"\",InfoPro!F50)","v":""},{"$f":"IF(ISBLANK(InfoPro!I50),\"\",YEAR(InfoPro!I50)-$G$4)","v":""},{"$f":"IF(B57=\"\",\"\",VLOOKUP(D57,Tablas!$B$2:$E$13,2,FALSE))","v":""},{"$f":"IF(B57=\"\",\"\",VLOOKUP(D57,Tablas!$B$2:$F$13,3,FALSE))","v":""},"","","","","","","","","","","","","","","","","",""]
[{"$f":"IF(ISBLANK(InfoPro!A51),\"\",InfoPro!A51)","v":""},{"$f":"IF(ISBLANK(InfoPro!B51),\"\",InfoPro!B51)","v":""},{"$f":"IF(ISBLANK(InfoPro!E51),\"\",InfoPro!E51)","v":""},{"$f":"IF(ISBLANK(InfoPro!F51),\"\",InfoPro!F51)","v":""},{"$f":"IF(ISBLANK(InfoPro!I51),\"\",YEAR(InfoPro!I51)-$G$4)","v":""},{"$f":"IF(B58=\"\",\"\",VLOOKUP(D58,Tablas!$B$2:$E$13,2,FALSE))","v":""},{"$f":"IF(B58=\"\",\"\",VLOOKUP(D58,Tablas!$B$2:$F$13,3,FALSE))","v":""},"","","","","","","","","","","","","","","","","",""]
[{"$f":"IF(ISBLANK(InfoPro!A52),\"\",InfoPro!A52)","v":""},{"$f":"IF(ISBLANK(InfoPro!B52),\"\",InfoPro!B52)","v":""},{"$f":"IF(ISBLANK(InfoPro!E52),\"\",InfoPro!E52)","v":""},{"$f":"IF(ISBLANK(InfoPro!F52),\"\",InfoPro!F52)","v":""},{"$f":"IF(ISBLANK(InfoPro!I52),\"\",YEAR(InfoPro!I52)-$G$4)","v":""},{"$f":"IF(B59=\"\",\"\",VLOOKUP(D59,Tablas!$B$2:$E$13,2,FALSE))","v":""},{"$f":"IF(B59=\"\",\"\",VLOOKUP(D59,Tablas!$B$2:$F$13,3,FALSE))","v":""},"",{"$f":"IF($H59=\"\",\"\",(1/(1+$C$4)^(I$7+$E59))*$H59*$G59*$C$3)","v":""},"","","","","","","","","","","","","","","",""]
[{"$f":"IF(ISBLANK(InfoPro!A53),\"\",InfoPro!A53)","v":""},{"$f":"IF(ISBLANK(InfoPro!B53),\"\",InfoPro!B53)","v":""},{"$f":"IF(ISBLANK(InfoPro!E53),\"\",InfoPro!E53)","v":""},{"$f":"IF(ISBLANK(InfoPro!F53),\"\",InfoPro!F53)","v":""},{"$f":"IF(ISBLANK(InfoPro!I53),\"\",YEAR(InfoPro!I53)-$G$4)","v":""},{"$f":"IF(B60=\"\",\"\",VLOOKUP(D60,Tablas!$B$2:$E$13,2,FALSE))","v":""},{"$f":"IF(B60=\"\",\"\",VLOOKUP(D60,Tablas!$B$2:$F$13,3,FALSE))","v":""},"","","","","","","","","","","","","","","","","",""]
[{"$f":"IF(ISBLANK(InfoPro!A54),\"\",InfoPro!A54)","v":""},{"$f":"IF(ISBLANK(InfoPro!B54),\"\",InfoPro!B54)","v":""},{"$f":"IF(ISBLANK(InfoPro!E54),\"\",InfoPro!E54)","v":""},{"$f":"IF(ISBLANK(InfoPro!F54),\"\",InfoPro!F54)","v":""},{"$f":"IF(ISBLANK(InfoPro!I54),\"\",YEAR(InfoPro!I54)-$G$4)","v":""},{"$f":"IF(B61=\"\",\"\",VLOOKUP(D61,Tablas!$B$2:$E$13,2,FALSE))","v":""},{"$f":"IF(B61=\"\",\"\",VLOOKUP(D61,Tablas!$B$2:$F$13,3,FALSE))","v":""},"","","","","","","","","","","","","","","","","",""]
[{"$f":"IF(ISBLANK(InfoPro!A55),\"\",InfoPro!A55)","v":""},{"$f":"IF(ISBLANK(InfoPro!B55),\"\",InfoPro!B55)","v":""},{"$f":"IF(ISBLANK(InfoPro!E55),\"\",InfoPro!E55)","v":""},{"$f":"IF(ISBLANK(InfoPro!F55),\"\",InfoPro!F55)","v":""},{"$f":"IF(ISBLANK(InfoPro!I55),\"\",YEAR(InfoPro!I55)-$G$4)","v":""},{"$f":"IF(B62=\"\",\"\",VLOOKUP(D62,Tablas!$B$2:$E$13,2,FALSE))","v":""},{"$f":"IF(B62=\"\",\"\",VLOOKUP(D62,Tablas!$B$2:$F$13,3,FALSE))","v":""},"","","","","","","","","","","","","","","","","",""]
[{"$f":"IF(ISBLANK(InfoPro!A56),\"\",InfoPro!A56)","v":""},{"$f":"IF(ISBLANK(InfoPro!B56),\"\",InfoPro!B56)","v":""},{"$f":"IF(ISBLANK(InfoPro!E56),\"\",InfoPro!E56)","v":""},{"$f":"IF(ISBLANK(InfoPro!F56),\"\",InfoPro!F56)","v":""},{"$f":"IF(ISBLANK(InfoPro!I56),\"\",YEAR(InfoPro!I56)-$G$4)","v":""},{"$f":"IF(B63=\"\",\"\",VLOOKUP(D63,Tablas!$B$2:$E$13,2,FALSE))","v":""},{"$f":"IF(B63=\"\",\"\",VLOOKUP(D63,Tablas!$B$2:$F$13,3,FALSE))","v":""},"","","","","","","","","","","","","","","","","",""]
[{"$f":"IF(ISBLANK(InfoPro!A57),\"\",InfoPro!A57)","v":""},{"$f":"IF(ISBLANK(InfoPro!B57),\"\",InfoPro!B57)","v":""},{"$f":"IF(ISBLANK(InfoPro!E57),\"\",InfoPro!E57)","v":""},{"$f":"IF(ISBLANK(InfoPro!F57),\"\",InfoPro!F57)","v":""},{"$f":"IF(ISBLANK(InfoPro!I57),\"\",YEAR(InfoPro!I57)-$G$4)","v":""},{"$f":"IF(B64=\"\",\"\",VLOOKUP(D64,Tablas!$B$2:$E$13,2,FALSE))","v":""},{"$f":"IF(B64=\"\",\"\",VLOOKUP(D64,Tablas!$B$2:$F$13,3,FALSE))","v":""},"","","","","","","","","","","","","","","","","",""]
[{"$f":"IF(ISBLANK(InfoPro!A58),\"\",InfoPro!A58)","v":""},{"$f":"IF(ISBLANK(InfoPro!B58),\"\",InfoPro!B58)","v":""},{"$f":"IF(ISBLANK(InfoPro!E58),\"\",InfoPro!E58)","v":""},{"$f":"IF(ISBLANK(InfoPro!F58),\"\",InfoPro!F58)","v":""},{"$f":"IF(ISBLANK(InfoPro!I58),\"\",YEAR(InfoPro!I58)-$G$4)","v":""},{"$f":"IF(B65=\"\",\"\",VLOOKUP(D65,Tablas!$B$2:$E$13,2,FALSE))","v":""},{"$f":"IF(B65=\"\",\"\",VLOOKUP(D65,Tablas!$B$2:$F$13,3,FALSE))","v":""},"","","","","","","","","","","","","","","","","",""]
[{"$f":"IF(ISBLANK(InfoPro!A59),\"\",InfoPro!A59)","v":""},{"$f":"IF(ISBLANK(InfoPro!B59),\"\",InfoPro!B59)","v":""},{"$f":"IF(ISBLANK(InfoPro!E59),\"\",InfoPro!E59)","v":""},{"$f":"IF(ISBLANK(InfoPro!F59),\"\",InfoPro!F59)","v":""},{"$f":"IF(ISBLANK(InfoPro!I59),\"\",YEAR(InfoPro!I59)-$G$4)","v":""},{"$f":"IF(B66=\"\",\"\",VLOOKUP(D66,Tablas!$B$2:$E$13,2,FALSE))","v":""},{"$f":"IF(B66=\"\",\"\",VLOOKUP(D66,Tablas!$B$2:$F$13,3,FALSE))","v":""},"","","","","","","","","","","","","","","","","",""]
[{"$f":"IF(ISBLANK(InfoPro!A60),\"\",InfoPro!A60)","v":""},{"$f":"IF(ISBLANK(InfoPro!B60),\"\",InfoPro!B60)","v":""},{"$f":"IF(ISBLANK(InfoPro!E60),\"\",InfoPro!E60)","v":""},{"$f":"IF(ISBLANK(InfoPro!F60),\"\",InfoPro!F60)","v":""},{"$f":"IF(ISBLANK(InfoPro!I60),\"\",YEAR(InfoPro!I60)-$G$4)","v":""},{"$f":"IF(B67=\"\",\"\",VLOOKUP(D67,Tablas!$B$2:$E$13,2,FALSE))","v":""},{"$f":"IF(B67=\"\",\"\",VLOOKUP(D67,Tablas!$B$2:$F$13,3,FALSE))","v":""},"","","","","","","","","","","","","","","","","",""]
[{"$f":"IF(ISBLANK(InfoPro!A61),\"\",InfoPro!A61)","v":""},{"$f":"IF(ISBLANK(InfoPro!B61),\"\",InfoPro!B61)","v":""},{"$f":"IF(ISBLANK(InfoPro!E61),\"\",InfoPro!E61)","v":""},{"$f":"IF(ISBLANK(InfoPro!F61),\"\",InfoPro!F61)","v":""},{"$f":"IF(ISBLANK(InfoPro!I61),\"\",YEAR(InfoPro!I61)-$G$4)","v":""},{"$f":"IF(B68=\"\",\"\",VLOOKUP(D68,Tablas!$B$2:$E$13,2,FALSE))","v":""},{"$f":"IF(B68=\"\",\"\",VLOOKUP(D68,Tablas!$B$2:$F$13,3,FALSE))","v":""},"","","","","","","","","","","","","","","","","",""]
[{"$f":"IF(ISBLANK(InfoPro!A62),\"\",InfoPro!A62)","v":""},{"$f":"IF(ISBLANK(InfoPro!B62),\"\",InfoPro!B62)","v":""},{"$f":"IF(ISBLANK(InfoPro!E62),\"\",InfoPro!E62)","v":""},{"$f":"IF(ISBLANK(InfoPro!F62),\"\",InfoPro!F62)","v":""},{"$f":"IF(ISBLANK(InfoPro!I62),\"\",YEAR(InfoPro!I62)-$G$4)","v":""},{"$f":"IF(B69=\"\",\"\",VLOOKUP(D69,Tablas!$B$2:$E$13,2,FALSE))","v":""},{"$f":"IF(B69=\"\",\"\",VLOOKUP(D69,Tablas!$B$2:$F$13,3,FALSE))","v":""},"",{"$f":"IF($H69=\"\",\"\",(1/(1+$C$4)^(I$7+$E69))*$H69*$G69*$C$3)","v":""},"","","","","","","","","","","","","","","",""]
[{"$f":"IF(ISBLANK(InfoPro!A63),\"\",InfoPro!A63)","v":""},{"$f":"IF(ISBLANK(InfoPro!B63),\"\",InfoPro!B63)","v":""},{"$f":"IF(ISBLANK(InfoPro!E63),\"\",InfoPro!E63)","v":""},{"$f":"IF(ISBLANK(InfoPro!F63),\"\",InfoPro!F63)","v":""},{"$f":"IF(ISBLANK(InfoPro!I63),\"\",YEAR(InfoPro!I63)-$G$4)","v":""},{"$f":"IF(B70=\"\",\"\",VLOOKUP(D70,Tablas!$B$2:$E$13,2,FALSE))","v":""},{"$f":"IF(B70=\"\",\"\",VLOOKUP(D70,Tablas!$B$2:$F$13,3,FALSE))","v":""},"","","","","","","","","","","","","","","","","",""]
[{"$f":"IF(ISBLANK(InfoPro!A64),\"\",InfoPro!A64)","v":""},{"$f":"IF(ISBLANK(InfoPro!B64),\"\",InfoPro!B64)","v":""},{"$f":"IF(ISBLANK(InfoPro!E64),\"\",InfoPro!E64)","v":""},{"$f":"IF(ISBLANK(InfoPro!F64),\"\",InfoPro!F64)","v":""},{"$f":"IF(ISBLANK(InfoPro!I64),\"\",YEAR(InfoPro!I64)-$G$4)","v":""},{"$f":"IF(B71=\"\",\"\",VLOOKUP(D71,Tablas!$B$2:$E$13,2,FALSE))","v":""},{"$f":"IF(B71=\"\",\"\",VLOOKUP(D71,Tablas!$B$2:$F$13,3,FALSE))","v":""},"","","","","","","","","","","","","","","","","",""]
[{"$f":"IF(ISBLANK(InfoPro!A65),\"\",InfoPro!A65)","v":""},{"$f":"IF(ISBLANK(InfoPro!B65),\"\",InfoPro!B65)","v":""},{"$f":"IF(ISBLANK(InfoPro!E65),\"\",InfoPro!E65)","v":""},{"$f":"IF(ISBLANK(InfoPro!F65),\"\",InfoPro!F65)","v":""},{"$f":"IF(ISBLANK(InfoPro!I65),\"\",YEAR(InfoPro!I65)-$G$4)","v":""},{"$f":"IF(B72=\"\",\"\",VLOOKUP(D72,Tablas!$B$2:$E$13,2,FALSE))","v":""},{"$f":"IF(B72=\"\",\"\",VLOOKUP(D72,Tablas!$B$2:$F$13,3,FALSE))","v":""},"","","","","","","","","","","","","","","","","",""]
[{"$f":"IF(ISBLANK(InfoPro!A66),\"\",InfoPro!A66)","v":""},{"$f":"IF(ISBLANK(InfoPro!B66),\"\",InfoPro!B66)","v":""},{"$f":"IF(ISBLANK(InfoPro!E66),\"\",InfoPro!E66)","v":""},{"$f":"IF(ISBLANK(InfoPro!F66),\"\",InfoPro!F66)","v":""},{"$f":"IF(ISBLANK(InfoPro!I66),\"\",YEAR(InfoPro!I66)-$G$4)","v":""},{"$f":"IF(B73=\"\",\"\",VLOOKUP(D73,Tablas!$B$2:$E$13,2,FALSE))","v":""},{"$f":"IF(B73=\"\",\"\",VLOOKUP(D73,Tablas!$B$2:$F$13,3,FALSE))","v":""},{"$f":"IF(C73=\"\",\"\",+C73*F73*24*365)","v":""},"","","","","","","","","","","","","","","","",""]
[{"$f":"IF(ISBLANK(InfoPro!A67),\"\",InfoPro!A67)","v":""},{"$f":"IF(ISBLANK(InfoPro!B67),\"\",InfoPro!B67)","v":""},{"$f":"IF(ISBLANK(InfoPro!E67),\"\",InfoPro!E67)","v":""},{"$f":"IF(ISBLANK(InfoPro!F67),\"\",InfoPro!F67)","v":""},{"$f":"IF(ISBLANK(InfoPro!I67),\"\",YEAR(InfoPro!I67)-$G$4)","v":""},{"$f":"IF(B74=\"\",\"\",VLOOKUP(D74,Tablas!$B$2:$E$13,2,FALSE))","v":""},{"$f":"IF(B74=\"\",\"\",VLOOKUP(D74,Tablas!$B$2:$F$13,3,FALSE))","v":""},"","","","","","","","","","","","","","","","",{"$f":"IF(W74=\"\",\"\",SUM(I74:W74))","v":""},{"$f":"IF(C74=0,0,IF(X74=\"\",\"\",X74/(C74*1000)))","v":""}]
[{"$f":"IF(ISBLANK(InfoPro!A68),\"\",InfoPro!A68)","v":""},{"$f":"IF(ISBLANK(InfoPro!B68),\"\",InfoPro!B68)","v":""},{"$f":"IF(ISBLANK(InfoPro!E68),\"\",InfoPro!E68)","v":""},{"$f":"IF(ISBLANK(InfoPro!F68),\"\",InfoPro!F68)","v":""},{"$f":"IF(ISBLANK(InfoPro!I68),\"\",YEAR(InfoPro!I68)-$G$4)","v":""},{"$f":"IF(B75=\"\",\"\",VLOOKUP(D75,Tablas!$B$2:$E$13,2,FALSE))","v":""},{"$f":"IF(B75=\"\",\"\",VLOOKUP(D75,Tablas!$B$2:$F$13,3,FALSE))","v":""},"","","","","","","","","","","","","","","","","",""]
[{"$f":"IF(ISBLANK(InfoPro!A69),\"\",InfoPro!A69)","v":""},{"$f":"IF(ISBLANK(InfoPro!B69),\"\",InfoPro!B69)","v":""},{"$f":"IF(ISBLANK(InfoPro!E69),\"\",InfoPro!E69)","v":""},{"$f":"IF(ISBLANK(InfoPro!F69),\"\",InfoPro!F69)","v":""},{"$f":"IF(ISBLANK(InfoPro!I69),\"\",YEAR(InfoPro!I69)-$G$4)","v":""},{"$f":"IF(B76=\"\",\"\",VLOOKUP(D76,Tablas!$B$2:$E$13,2,FALSE))","v":""},{"$f":"IF(B76=\"\",\"\",VLOOKUP(D76,Tablas!$B$2:$F$13,3,FALSE))","v":""},"","","","","","","","","","","","","","","","","",""]
[{"$f":"IF(ISBLANK(InfoPro!A70),\"\",InfoPro!A70)","v":""},{"$f":"IF(ISBLANK(InfoPro!B70),\"\",InfoPro!B70)","v":""},{"$f":"IF(ISBLANK(InfoPro!E70),\"\",InfoPro!E70)","v":""},{"$f":"IF(ISBLANK(InfoPro!F70),\"\",InfoPro!F70)","v":""},{"$f":"IF(ISBLANK(InfoPro!I70),\"\",YEAR(InfoPro!I70)-$G$4)","v":""},{"$f":"IF(B77=\"\",\"\",VLOOKUP(D77,Tablas!$B$2:$E$13,2,FALSE))","v":""},{"$f":"IF(B77=\"\",\"\",VLOOKUP(D77,Tablas!$B$2:$F$13,3,FALSE))","v":""},"","","","","","","","","","","","","","","","","",""]
[{"$f":"IF(ISBLANK(InfoPro!A71),\"\",InfoPro!A71)","v":""},{"$f":"IF(ISBLANK(InfoPro!B71),\"\",InfoPro!B71)","v":""},{"$f":"IF(ISBLANK(InfoPro!E71),\"\",InfoPro!E71)","v":""},{"$f":"IF(ISBLANK(InfoPro!F71),\"\",InfoPro!F71)","v":""},{"$f":"IF(ISBLANK(InfoPro!I71),\"\",YEAR(InfoPro!I71)-$G$4)","v":""},{"$f":"IF(B78=\"\",\"\",VLOOKUP(D78,Tablas!$B$2:$E$13,2,FALSE))","v":""},{"$f":"IF(B78=\"\",\"\",VLOOKUP(D78,Tablas!$B$2:$F$13,3,FALSE))","v":""},"","","","","","","","","","","","","","","","","",""]
[{"$f":"IF(ISBLANK(InfoPro!A72),\"\",InfoPro!A72)","v":""},{"$f":"IF(ISBLANK(InfoPro!B72),\"\",InfoPro!B72)","v":""},{"$f":"IF(ISBLANK(InfoPro!E72),\"\",InfoPro!E72)","v":""},{"$f":"IF(ISBLANK(InfoPro!F72),\"\",InfoPro!F72)","v":""},{"$f":"IF(ISBLANK(InfoPro!I72),\"\",YEAR(InfoPro!I72)-$G$4)","v":""},{"$f":"IF(B79=\"\",\"\",VLOOKUP(D79,Tablas!$B$2:$E$13,2,FALSE))","v":""},{"$f":"IF(B79=\"\",\"\",VLOOKUP(D79,Tablas!$B$2:$F$13,3,FALSE))","v":""},"",{"$f":"IF($H79=\"\",\"\",(1/(1+$C$4)^(I$7+$E79))*$H79*$G79*$C$3)","v":""},"","","","","","","","","","","","","","","",""]
[{"$f":"IF(ISBLANK(InfoPro!A73),\"\",InfoPro!A73)","v":""},{"$f":"IF(ISBLANK(InfoPro!B73),\"\",InfoPro!B73)","v":""},{"$f":"IF(ISBLANK(InfoPro!E73),\"\",InfoPro!E73)","v":""},{"$f":"IF(ISBLANK(InfoPro!F73),\"\",InfoPro!F73)","v":""},{"$f":"IF(ISBLANK(InfoPro!I73),\"\",YEAR(InfoPro!I73)-$G$4)","v":""},{"$f":"IF(B80=\"\",\"\",VLOOKUP(D80,Tablas!$B$2:$E$13,2,FALSE))","v":""},{"$f":"IF(B80=\"\",\"\",VLOOKUP(D80,Tablas!$B$2:$F$13,3,FALSE))","v":""},"","","","","","","","","","","","","","","","","",""]
[{"$f":"IF(ISBLANK(InfoPro!A74),\"\",InfoPro!A74)","v":""},{"$f":"IF(ISBLANK(InfoPro!B74),\"\",InfoPro!B74)","v":""},{"$f":"IF(ISBLANK(InfoPro!E74),\"\",InfoPro!E74)","v":""},{"$f":"IF(ISBLANK(InfoPro!F74),\"\",InfoPro!F74)","v":""},{"$f":"IF(ISBLANK(InfoPro!I74),\"\",YEAR(InfoPro!I74)-$G$4)","v":""},{"$f":"IF(B81=\"\",\"\",VLOOKUP(D81,Tablas!$B$2:$E$13,2,FALSE))","v":""},{"$f":"IF(B81=\"\",\"\",VLOOKUP(D81,Tablas!$B$2:$F$13,3,FALSE))","v":""},"","","","","","","","","","","","","","","","","",""]
[{"$f":"IF(ISBLANK(InfoPro!A75),\"\",InfoPro!A75)","v":""},{"$f":"IF(ISBLANK(InfoPro!B75),\"\",InfoPro!B75)","v":""},{"$f":"IF(ISBLANK(InfoPro!E75),\"\",InfoPro!E75)","v":""},{"$f":"IF(ISBLANK(InfoPro!F75),\"\",InfoPro!F75)","v":""},{"$f":"IF(ISBLANK(InfoPro!I75),\"\",YEAR(InfoPro!I75)-$G$4)","v":""},{"$f":"IF(B82=\"\",\"\",VLOOKUP(D82,Tablas!$B$2:$E$13,2,FALSE))","v":""},{"$f":"IF(B82=\"\",\"\",VLOOKUP(D82,Tablas!$B$2:$F$13,3,FALSE))","v":""},"","","","","","","","","","","","","","","","","",""]
[{"$f":"IF(ISBLANK(InfoPro!A76),\"\",InfoPro!A76)","v":""},{"$f":"IF(ISBLANK(InfoPro!B76),\"\",InfoPro!B76)","v":""},{"$f":"IF(ISBLANK(InfoPro!E76),\"\",InfoPro!E76)","v":""},{"$f":"IF(ISBLANK(InfoPro!F76),\"\",InfoPro!F76)","v":""},{"$f":"IF(ISBLANK(InfoPro!I76),\"\",YEAR(InfoPro!I76)-$G$4)","v":""},{"$f":"IF(B83=\"\",\"\",VLOOKUP(D83,Tablas!$B$2:$E$13,2,FALSE))","v":""},{"$f":"IF(B83=\"\",\"\",VLOOKUP(D83,Tablas!$B$2:$F$13,3,FALSE))","v":""},"","","","","","","","","","","","","","","","","",""]
[{"$f":"IF(ISBLANK(InfoPro!A77),\"\",InfoPro!A77)","v":""},{"$f":"IF(ISBLANK(InfoPro!B77),\"\",InfoPro!B77)","v":""},{"$f":"IF(ISBLANK(InfoPro!E77),\"\",InfoPro!E77)","v":""},{"$f":"IF(ISBLANK(InfoPro!F77),\"\",InfoPro!F77)","v":""},{"$f":"IF(ISBLANK(InfoPro!I77),\"\",YEAR(InfoPro!I77)-$G$4)","v":""},{"$f":"IF(B84=\"\",\"\",VLOOKUP(D84,Tablas!$B$2:$E$13,2,FALSE))","v":""},{"$f":"IF(B84=\"\",\"\",VLOOKUP(D84,Tablas!$B$2:$F$13,3,FALSE))","v":""},"","","","","","","","","","","","","","","","","",""]
[{"$f":"IF(ISBLANK(InfoPro!A78),\"\",InfoPro!A78)","v":""},{"$f":"IF(ISBLANK(InfoPro!B78),\"\",InfoPro!B78)","v":""},{"$f":"IF(ISBLANK(InfoPro!E78),\"\",InfoPro!E78)","v":""},{"$f":"IF(ISBLANK(InfoPro!F78),\"\",InfoPro!F78)","v":""},{"$f":"IF(ISBLANK(InfoPro!I78),\"\",YEAR(InfoPro!I78)-$G$4)","v":""},{"$f":"IF(B85=\"\",\"\",VLOOKUP(D85,Tablas!$B$2:$E$13,2,FALSE))","v":""},{"$f":"IF(B85=\"\",\"\",VLOOKUP(D85,Tablas!$B$2:$F$13,3,FALSE))","v":""},"","","","","","","","","","","","","","","","","",""]
[{"$f":"IF(ISBLANK(InfoPro!A79),\"\",InfoPro!A79)","v":""},{"$f":"IF(ISBLANK(InfoPro!B79),\"\",InfoPro!B79)","v":""},{"$f":"IF(ISBLANK(InfoPro!E79),\"\",InfoPro!E79)","v":""},{"$f":"IF(ISBLANK(InfoPro!F79),\"\",InfoPro!F79)","v":""},{"$f":"IF(ISBLANK(InfoPro!I79),\"\",YEAR(InfoPro!I79)-$G$4)","v":""},{"$f":"IF(B86=\"\",\"\",VLOOKUP(D86,Tablas!$B$2:$E$13,2,FALSE))","v":""},{"$f":"IF(B86=\"\",\"\",VLOOKUP(D86,Tablas!$B$2:$F$13,3,FALSE))","v":""},"","","","","","","","","","","","","","","","","",""]
[{"$f":"IF(ISBLANK(InfoPro!A80),\"\",InfoPro!A80)","v":""},{"$f":"IF(ISBLANK(InfoPro!B80),\"\",InfoPro!B80)","v":""},{"$f":"IF(ISBLANK(InfoPro!E80),\"\",InfoPro!E80)","v":""},{"$f":"IF(ISBLANK(InfoPro!F80),\"\",InfoPro!F80)","v":""},{"$f":"IF(ISBLANK(InfoPro!I80),\"\",YEAR(InfoPro!I80)-$G$4)","v":""},{"$f":"IF(B87=\"\",\"\",VLOOKUP(D87,Tablas!$B$2:$E$13,2,FALSE))","v":""},{"$f":"IF(B87=\"\",\"\",VLOOKUP(D87,Tablas!$B$2:$F$13,3,FALSE))","v":""},"","","","","","","","","","","","","","","","","",""]
[{"$f":"IF(ISBLANK(InfoPro!A81),\"\",InfoPro!A81)","v":""},{"$f":"IF(ISBLANK(InfoPro!B81),\"\",InfoPro!B81)","v":""},{"$f":"IF(ISBLANK(InfoPro!E81),\"\",InfoPro!E81)","v":""},{"$f":"IF(ISBLANK(InfoPro!F81),\"\",InfoPro!F81)","v":""},{"$f":"IF(ISBLANK(InfoPro!I81),\"\",YEAR(InfoPro!I81)-$G$4)","v":""},{"$f":"IF(B88=\"\",\"\",VLOOKUP(D88,Tablas!$B$2:$E$13,2,FALSE))","v":""},{"$f":"IF(B88=\"\",\"\",VLOOKUP(D88,Tablas!$B$2:$F$13,3,FALSE))","v":""},"","","","","","","","","","","","","","","","","",""]
[{"$f":"IF(ISBLANK(InfoPro!A82),\"\",InfoPro!A82)","v":""},{"$f":"IF(ISBLANK(InfoPro!B82),\"\",InfoPro!B82)","v":""},{"$f":"IF(ISBLANK(InfoPro!E82),\"\",InfoPro!E82)","v":""},{"$f":"IF(ISBLANK(InfoPro!F82),\"\",InfoPro!F82)","v":""},{"$f":"IF(ISBLANK(InfoPro!I82),\"\",YEAR(InfoPro!I82)-$G$4)","v":""},{"$f":"IF(B89=\"\",\"\",VLOOKUP(D89,Tablas!$B$2:$E$13,2,FALSE))","v":""},{"$f":"IF(B89=\"\",\"\",VLOOKUP(D89,Tablas!$B$2:$F$13,3,FALSE))","v":""},"","","","","","","","","","","","","","","","","",""]
[{"$f":"IF(ISBLANK(InfoPro!A83),\"\",InfoPro!A83)","v":""},{"$f":"IF(ISBLANK(InfoPro!B83),\"\",InfoPro!B83)","v":""},{"$f":"IF(ISBLANK(InfoPro!E83),\"\",InfoPro!E83)","v":""},{"$f":"IF(ISBLANK(InfoPro!F83),\"\",InfoPro!F83)","v":""},{"$f":"IF(ISBLANK(InfoPro!I83),\"\",YEAR(InfoPro!I83)-$G$4)","v":""},{"$f":"IF(B90=\"\",\"\",VLOOKUP(D90,Tablas!$B$2:$E$13,2,FALSE))","v":""},{"$f":"IF(B90=\"\",\"\",VLOOKUP(D90,Tablas!$B$2:$F$13,3,FALSE))","v":""},"","","","","","","","","","","","","","","","","",""]
[{"$f":"IF(ISBLANK(InfoPro!A84),\"\",InfoPro!A84)","v":""},{"$f":"IF(ISBLANK(InfoPro!B84),\"\",InfoPro!B84)","v":""},{"$f":"IF(ISBLANK(InfoPro!E84),\"\",InfoPro!E84)","v":""},{"$f":"IF(ISBLANK(InfoPro!F84),\"\",InfoPro!F84)","v":""},{"$f":"IF(ISBLANK(InfoPro!I84),\"\",YEAR(InfoPro!I84)-$G$4)","v":""},{"$f":"IF(B91=\"\",\"\",VLOOKUP(D91,Tablas!$B$2:$E$13,2,FALSE))","v":""},{"$f":"IF(B91=\"\",\"\",VLOOKUP(D91,Tablas!$B$2:$F$13,3,FALSE))","v":""},"","","","","","","","","","","","","","","","","",""]
[{"$f":"IF(ISBLANK(InfoPro!A85),\"\",InfoPro!A85)","v":""},{"$f":"IF(ISBLANK(InfoPro!B85),\"\",InfoPro!B85)","v":""},{"$f":"IF(ISBLANK(InfoPro!E85),\"\",InfoPro!E85)","v":""},{"$f":"IF(ISBLANK(InfoPro!F85),\"\",InfoPro!F85)","v":""},{"$f":"IF(ISBLANK(InfoPro!I85),\"\",YEAR(InfoPro!I85)-$G$4)","v":""},{"$f":"IF(B92=\"\",\"\",VLOOKUP(D92,Tablas!$B$2:$E$13,2,FALSE))","v":""},{"$f":"IF(B92=\"\",\"\",VLOOKUP(D92,Tablas!$B$2:$F$13,3,FALSE))","v":""},"","","","","","","","","","","","","","","","","",""]
[{"$f":"IF(ISBLANK(InfoPro!A86),\"\",InfoPro!A86)","v":""},{"$f":"IF(ISBLANK(InfoPro!B86),\"\",InfoPro!B86)","v":""},{"$f":"IF(ISBLANK(InfoPro!E86),\"\",InfoPro!E86)","v":""},{"$f":"IF(ISBLANK(InfoPro!F86),\"\",InfoPro!F86)","v":""},{"$f":"IF(ISBLANK(InfoPro!I86),\"\",YEAR(InfoPro!I86)-$G$4)","v":""},{"$f":"IF(B93=\"\",\"\",VLOOKUP(D93,Tablas!$B$2:$E$13,2,FALSE))","v":""},{"$f":"IF(B93=\"\",\"\",VLOOKUP(D93,Tablas!$B$2:$F$13,3,FALSE))","v":""},{"$f":"IF(C93=\"\",\"\",+C93*F93*24*365)","v":""},"","","","","","","","","","","","","","","",{"$f":"IF(W93=\"\",\"\",SUM(I93:W93))","v":""},{"$f":"IF(C93=0,0,IF(X93=\"\",\"\",X93/(C93*1000)))","v":""}]
[{"$f":"IF(ISBLANK(InfoPro!A87),\"\",InfoPro!A87)","v":""},{"$f":"IF(ISBLANK(InfoPro!B87),\"\",InfoPro!B87)","v":""},{"$f":"IF(ISBLANK(InfoPro!E87),\"\",InfoPro!E87)","v":""},{"$f":"IF(ISBLANK(InfoPro!F87),\"\",InfoPro!F87)","v":""},{"$f":"IF(ISBLANK(InfoPro!I87),\"\",YEAR(InfoPro!I87)-$G$4)","v":""},{"$f":"IF(B94=\"\",\"\",VLOOKUP(D94,Tablas!$B$2:$E$13,2,FALSE))","v":""},{"$f":"IF(B94=\"\",\"\",VLOOKUP(D94,Tablas!$B$2:$F$13,3,FALSE))","v":""},"","","","","","","","","","","","","","","","","",""]
[{"$f":"IF(ISBLANK(InfoPro!A88),\"\",InfoPro!A88)","v":""},{"$f":"IF(ISBLANK(InfoPro!B88),\"\",InfoPro!B88)","v":""},{"$f":"IF(ISBLANK(InfoPro!E88),\"\",InfoPro!E88)","v":""},{"$f":"IF(ISBLANK(InfoPro!F88),\"\",InfoPro!F88)","v":""},{"$f":"IF(ISBLANK(InfoPro!I88),\"\",YEAR(InfoPro!I88)-$G$4)","v":""},{"$f":"IF(B95=\"\",\"\",VLOOKUP(D95,Tablas!$B$2:$E$13,2,FALSE))","v":""},{"$f":"IF(B95=\"\",\"\",VLOOKUP(D95,Tablas!$B$2:$F$13,3,FALSE))","v":""},"",{"$f":"IF($H95=\"\",\"\",(1/(1+$C$4)^(I$7+$E95))*$H95*$G95*$C$3)","v":""},"","","","","","","","","","","","","","","",""]
[{"$f":"IF(ISBLANK(InfoPro!A89),\"\",InfoPro!A89)","v":""},{"$f":"IF(ISBLANK(InfoPro!B89),\"\",InfoPro!B89)","v":""},{"$f":"IF(ISBLANK(InfoPro!E89),\"\",InfoPro!E89)","v":""},{"$f":"IF(ISBLANK(InfoPro!F89),\"\",InfoPro!F89)","v":""},{"$f":"IF(ISBLANK(InfoPro!I89),\"\",YEAR(InfoPro!I89)-$G$4)","v":""},{"$f":"IF(B96=\"\",\"\",VLOOKUP(D96,Tablas!$B$2:$E$13,2,FALSE))","v":""},{"$f":"IF(B96=\"\",\"\",VLOOKUP(D96,Tablas!$B$2:$F$13,3,FALSE))","v":""},"","","","","","","","","","","","","","","","","",""]
[{"$f":"IF(ISBLANK(InfoPro!A90),\"\",InfoPro!A90)","v":""},{"$f":"IF(ISBLANK(InfoPro!B90),\"\",InfoPro!B90)","v":""},{"$f":"IF(ISBLANK(InfoPro!E90),\"\",InfoPro!E90)","v":""},{"$f":"IF(ISBLANK(InfoPro!F90),\"\",InfoPro!F90)","v":""},{"$f":"IF(ISBLANK(InfoPro!I90),\"\",YEAR(InfoPro!I90)-$G$4)","v":""},{"$f":"IF(B97=\"\",\"\",VLOOKUP(D97,Tablas!$B$2:$E$13,2,FALSE))","v":""},{"$f":"IF(B97=\"\",\"\",VLOOKUP(D97,Tablas!$B$2:$F$13,3,FALSE))","v":""},"","","","","","","","","","","","","","","","","",""]
[{"$f":"IF(ISBLANK(InfoPro!A91),\"\",InfoPro!A91)","v":""},{"$f":"IF(ISBLANK(InfoPro!B91),\"\",InfoPro!B91)","v":""},{"$f":"IF(ISBLANK(InfoPro!E91),\"\",InfoPro!E91)","v":""},{"$f":"IF(ISBLANK(InfoPro!F91),\"\",InfoPro!F91)","v":""},{"$f":"IF(ISBLANK(InfoPro!I91),\"\",YEAR(InfoPro!I91)-$G$4)","v":""},{"$f":"IF(B98=\"\",\"\",VLOOKUP(D98,Tablas!$B$2:$E$13,2,FALSE))","v":""},{"$f":"IF(B98=\"\",\"\",VLOOKUP(D98,Tablas!$B$2:$F$13,3,FALSE))","v":""},"","","","","","","","","","","","","","","","","",""]
[{"$f":"IF(ISBLANK(InfoPro!A92),\"\",InfoPro!A92)","v":""},{"$f":"IF(ISBLANK(InfoPro!B92),\"\",InfoPro!B92)","v":""},{"$f":"IF(ISBLANK(InfoPro!E92),\"\",InfoPro!E92)","v":""},{"$f":"IF(ISBLANK(InfoPro!F92),\"\",InfoPro!F92)","v":""},{"$f":"IF(ISBLANK(InfoPro!I92),\"\",YEAR(InfoPro!I92)-$G$4)","v":""},{"$f":"IF(B99=\"\",\"\",VLOOKUP(D99,Tablas!$B$2:$E$13,2,FALSE))","v":""},{"$f":"IF(B99=\"\",\"\",VLOOKUP(D99,Tablas!$B$2:$F$13,3,FALSE))","v":""},"","","","","","","","","","","","","","","","","",""]
[{"$f":"IF(ISBLANK(InfoPro!A93),\"\",InfoPro!A93)","v":""},{"$f":"IF(ISBLANK(InfoPro!B93),\"\",InfoPro!B93)","v":""},{"$f":"IF(ISBLANK(InfoPro!E93),\"\",InfoPro!E93)","v":""},{"$f":"IF(ISBLANK(InfoPro!F93),\"\",InfoPro!F93)","v":""},{"$f":"IF(ISBLANK(InfoPro!I93),\"\",YEAR(InfoPro!I93)-$G$4)","v":""},{"$f":"IF(B100=\"\",\"\",VLOOKUP(D100,Tablas!$B$2:$E$13,2,FALSE))","v":""},{"$f":"IF(B100=\"\",\"\",VLOOKUP(D100,Tablas!$B$2:$F$13,3,FALSE))","v":""},"","","","","","","","","","","","","","","","","",""]
[{"$f":"IF(ISBLANK(InfoPro!A94),\"\",InfoPro!A94)","v":""},{"$f":"IF(ISBLANK(InfoPro!B94),\"\",InfoPro!B94)","v":""},{"$f":"IF(ISBLANK(InfoPro!E94),\"\",InfoPro!E94)","v":""},{"$f":"IF(ISBLANK(InfoPro!F94),\"\",InfoPro!F94)","v":""},{"$f":"IF(ISBLANK(InfoPro!I94),\"\",YEAR(InfoPro!I94)-$G$4)","v":""},{"$f":"IF(B101=\"\",\"\",VLOOKUP(D101,Tablas!$B$2:$E$13,2,FALSE))","v":""},{"$f":"IF(B101=\"\",\"\",VLOOKUP(D101,Tablas!$B$2:$F$13,3,FALSE))","v":""},"","","","","","","","","","","","","","","","","",""]
[{"$f":"IF(ISBLANK(InfoPro!A95),\"\",InfoPro!A95)","v":""},{"$f":"IF(ISBLANK(InfoPro!B95),\"\",InfoPro!B95)","v":""},{"$f":"IF(ISBLANK(InfoPro!E95),\"\",InfoPro!E95)","v":""},{"$f":"IF(ISBLANK(InfoPro!F95),\"\",InfoPro!F95)","v":""},{"$f":"IF(ISBLANK(InfoPro!I95),\"\",YEAR(InfoPro!I95)-$G$4)","v":""},{"$f":"IF(B102=\"\",\"\",VLOOKUP(D102,Tablas!$B$2:$E$13,2,FALSE))","v":""},{"$f":"IF(B102=\"\",\"\",VLOOKUP(D102,Tablas!$B$2:$F$13,3,FALSE))","v":""},"","","","","","","","","","","","","","","","","",""]
[{"$f":"IF(ISBLANK(InfoPro!A96),\"\",InfoPro!A96)","v":""},{"$f":"IF(ISBLANK(InfoPro!B96),\"\",InfoPro!B96)","v":""},{"$f":"IF(ISBLANK(InfoPro!E96),\"\",InfoPro!E96)","v":""},{"$f":"IF(ISBLANK(InfoPro!F96),\"\",InfoPro!F96)","v":""},{"$f":"IF(ISBLANK(InfoPro!I96),\"\",YEAR(InfoPro!I96)-$G$4)","v":""},{"$f":"IF(B103=\"\",\"\",VLOOKUP(D103,Tablas!$B$2:$E$13,2,FALSE))","v":""},{"$f":"IF(B103=\"\",\"\",VLOOKUP(D103,Tablas!$B$2:$F$13,3,FALSE))","v":""},"","","","","","","","","","","","","","","","","",""]
[{"$f":"IF(ISBLANK(InfoPro!A97),\"\",InfoPro!A97)","v":""},{"$f":"IF(ISBLANK(InfoPro!B97),\"\",InfoPro!B97)","v":""},{"$f":"IF(ISBLANK(InfoPro!E97),\"\",InfoPro!E97)","v":""},{"$f":"IF(ISBLANK(InfoPro!F97),\"\",InfoPro!F97)","v":""},{"$f":"IF(ISBLANK(InfoPro!I97),\"\",YEAR(InfoPro!I97)-$G$4)","v":""},{"$f":"IF(B104=\"\",\"\",VLOOKUP(D104,Tablas!$B$2:$E$13,2,FALSE))","v":""},{"$f":"IF(B104=\"\",\"\",VLOOKUP(D104,Tablas!$B$2:$F$13,3,FALSE))","v":""},"","","","","","","","","","","","","","","","","",""]
[{"$f":"IF(ISBLANK(InfoPro!A98),\"\",InfoPro!A98)","v":""},{"$f":"IF(ISBLANK(InfoPro!B98),\"\",InfoPro!B98)","v":""},{"$f":"IF(ISBLANK(InfoPro!E98),\"\",InfoPro!E98)","v":""},{"$f":"IF(ISBLANK(InfoPro!F98),\"\",InfoPro!F98)","v":""},{"$f":"IF(ISBLANK(InfoPro!I98),\"\",YEAR(InfoPro!I98)-$G$4)","v":""},{"$f":"IF(B105=\"\",\"\",VLOOKUP(D105,Tablas!$B$2:$E$13,2,FALSE))","v":""},{"$f":"IF(B105=\"\",\"\",VLOOKUP(D105,Tablas!$B$2:$F$13,3,FALSE))","v":""},"","","","","","","","","","","","","","","","","",""]
[{"$f":"IF(ISBLANK(InfoPro!A99),\"\",InfoPro!A99)","v":""},{"$f":"IF(ISBLANK(InfoPro!B99),\"\",InfoPro!B99)","v":""},{"$f":"IF(ISBLANK(InfoPro!E99),\"\",InfoPro!E99)","v":""},{"$f":"IF(ISBLANK(InfoPro!F99),\"\",InfoPro!F99)","v":""},{"$f":"IF(ISBLANK(InfoPro!I99),\"\",YEAR(InfoPro!I99)-$G$4)","v":""},{"$f":"IF(B106=\"\",\"\",VLOOKUP(D106,Tablas!$B$2:$E$13,2,FALSE))","v":""},{"$f":"IF(B106=\"\",\"\",VLOOKUP(D106,Tablas!$B$2:$F$13,3,FALSE))","v":""},"","","","","","","","","","","","","","","","","",""]
[{"$f":"IF(ISBLANK(InfoPro!A100),\"\",InfoPro!A100)","v":""},{"$f":"IF(ISBLANK(InfoPro!B100),\"\",InfoPro!B100)","v":""},{"$f":"IF(ISBLANK(InfoPro!E100),\"\",InfoPro!E100)","v":""},{"$f":"IF(ISBLANK(InfoPro!F100),\"\",InfoPro!F100)","v":""},{"$f":"IF(ISBLANK(InfoPro!I100),\"\",YEAR(InfoPro!I100)-$G$4)","v":""},{"$f":"IF(B107=\"\",\"\",VLOOKUP(D107,Tablas!$B$2:$E$13,2,FALSE))","v":""},{"$f":"IF(B107=\"\",\"\",VLOOKUP(D107,Tablas!$B$2:$F$13,3,FALSE))","v":""},"","","","","","","","","","","","","","","","","",""]
[{"$f":"IF(ISBLANK(InfoPro!A101),\"\",InfoPro!A101)","v":""},{"$f":"IF(ISBLANK(InfoPro!B101),\"\",InfoPro!B101)","v":""},{"$f":"IF(ISBLANK(InfoPro!E101),\"\",InfoPro!E101)","v":""},{"$f":"IF(ISBLANK(InfoPro!F101),\"\",InfoPro!F101)","v":""},{"$f":"IF(ISBLANK(InfoPro!I101),\"\",YEAR(InfoPro!I101)-$G$4)","v":""},{"$f":"IF(B108=\"\",\"\",VLOOKUP(D108,Tablas!$B$2:$E$13,2,FALSE))","v":""},{"$f":"IF(B108=\"\",\"\",VLOOKUP(D108,Tablas!$B$2:$F$13,3,FALSE))","v":""},"","","","","","","","","","","","","","","","","",""]
[{"$f":"IF(ISBLANK(InfoPro!A102),\"\",InfoPro!A102)","v":""},{"$f":"IF(ISBLANK(InfoPro!B102),\"\",InfoPro!B102)","v":""},{"$f":"IF(ISBLANK(InfoPro!E102),\"\",InfoPro!E102)","v":""},{"$f":"IF(ISBLANK(InfoPro!F102),\"\",InfoPro!F102)","v":""},{"$f":"IF(ISBLANK(InfoPro!I102),\"\",YEAR(InfoPro!I102)-$G$4)","v":""},{"$f":"IF(B109=\"\",\"\",VLOOKUP(D109,Tablas!$B$2:$E$13,2,FALSE))","v":""},{"$f":"IF(B109=\"\",\"\",VLOOKUP(D109,Tablas!$B$2:$F$13,3,FALSE))","v":""},"","","","","","","","","","","","","","","","","",""]
[{"$f":"IF(ISBLANK(InfoPro!A103),\"\",InfoPro!A103)","v":""},{"$f":"IF(ISBLANK(InfoPro!B103),\"\",InfoPro!B103)","v":""},{"$f":"IF(ISBLANK(InfoPro!E103),\"\",InfoPro!E103)","v":""},{"$f":"IF(ISBLANK(InfoPro!F103),\"\",InfoPro!F103)","v":""},{"$f":"IF(ISBLANK(InfoPro!I103),\"\",YEAR(InfoPro!I103)-$G$4)","v":""},{"$f":"IF(B110=\"\",\"\",VLOOKUP(D110,Tablas!$B$2:$E$13,2,FALSE))","v":""},{"$f":"IF(B110=\"\",\"\",VLOOKUP(D110,Tablas!$B$2:$F$13,3,FALSE))","v":""},"","","","","","","","","","","","","","","","","",""]
[{"$f":"IF(ISBLANK(InfoPro!A104),\"\",InfoPro!A104)","v":""},{"$f":"IF(ISBLANK(InfoPro!B104),\"\",InfoPro!B104)","v":""},{"$f":"IF(ISBLANK(InfoPro!E104),\"\",InfoPro!E104)","v":""},{"$f":"IF(ISBLANK(InfoPro!F104),\"\",InfoPro!F104)","v":""},{"$f":"IF(ISBLANK(InfoPro!I104),\"\",YEAR(InfoPro!I104)-$G$4)","v":""},{"$f":"IF(B111=\"\",\"\",VLOOKUP(D111,Tablas!$B$2:$E$13,2,FALSE))","v":""},{"$f":"IF(B111=\"\",\"\",VLOOKUP(D111,Tablas!$B$2:$F$13,3,FALSE))","v":""},"","","","","","","","","","","","","","","","","",""]
[{"$f":"IF(ISBLANK(InfoPro!A105),\"\",InfoPro!A105)","v":""},{"$f":"IF(ISBLANK(InfoPro!B105),\"\",InfoPro!B105)","v":""},{"$f":"IF(ISBLANK(InfoPro!E105),\"\",InfoPro!E105)","v":""},{"$f":"IF(ISBLANK(InfoPro!F105),\"\",InfoPro!F105)","v":""},{"$f":"IF(ISBLANK(InfoPro!I105),\"\",YEAR(InfoPro!I105)-$G$4)","v":""},{"$f":"IF(B112=\"\",\"\",VLOOKUP(D112,Tablas!$B$2:$E$13,2,FALSE))","v":""},{"$f":"IF(B112=\"\",\"\",VLOOKUP(D112,Tablas!$B$2:$F$13,3,FALSE))","v":""},"",{"$f":"IF($H112=\"\",\"\",(1/(1+$C$4)^(I$7+$E112))*$H112*$G112*$C$3)","v":""},"","","","","","","","","","","","","","","",""]
[{"$f":"IF(ISBLANK(InfoPro!A106),\"\",InfoPro!A106)","v":""},{"$f":"IF(ISBLANK(InfoPro!B106),\"\",InfoPro!B106)","v":""},{"$f":"IF(ISBLANK(InfoPro!E106),\"\",InfoPro!E106)","v":""},{"$f":"IF(ISBLANK(InfoPro!F106),\"\",InfoPro!F106)","v":""},{"$f":"IF(ISBLANK(InfoPro!I106),\"\",YEAR(InfoPro!I106)-$G$4)","v":""},{"$f":"IF(B113=\"\",\"\",VLOOKUP(D113,Tablas!$B$2:$E$13,2,FALSE))","v":""},{"$f":"IF(B113=\"\",\"\",VLOOKUP(D113,Tablas!$B$2:$F$13,3,FALSE))","v":""},"","","","","","","","","","","","","","","","","",""]
[{"$f":"IF(ISBLANK(InfoPro!A107),\"\",InfoPro!A107)","v":""},{"$f":"IF(ISBLANK(InfoPro!B107),\"\",InfoPro!B107)","v":""},{"$f":"IF(ISBLANK(InfoPro!E107),\"\",InfoPro!E107)","v":""},{"$f":"IF(ISBLANK(InfoPro!F107),\"\",InfoPro!F107)","v":""},{"$f":"IF(ISBLANK(InfoPro!I107),\"\",YEAR(InfoPro!I107)-$G$4)","v":""},{"$f":"IF(B114=\"\",\"\",VLOOKUP(D114,Tablas!$B$2:$E$13,2,FALSE))","v":""},{"$f":"IF(B114=\"\",\"\",VLOOKUP(D114,Tablas!$B$2:$F$13,3,FALSE))","v":""},"","","","","","","","","","","","","","","","","",""]
[{"$f":"IF(ISBLANK(InfoPro!A108),\"\",InfoPro!A108)","v":""},{"$f":"IF(ISBLANK(InfoPro!B108),\"\",InfoPro!B108)","v":""},{"$f":"IF(ISBLANK(InfoPro!E108),\"\",InfoPro!E108)","v":""},{"$f":"IF(ISBLANK(InfoPro!F108),\"\",InfoPro!F108)","v":""},{"$f":"IF(ISBLANK(InfoPro!I108),\"\",YEAR(InfoPro!I108)-$G$4)","v":""},{"$f":"IF(B115=\"\",\"\",VLOOKUP(D115,Tablas!$B$2:$E$13,2,FALSE))","v":""},{"$f":"IF(B115=\"\",\"\",VLOOKUP(D115,Tablas!$B$2:$F$13,3,FALSE))","v":""},"","","","","","","","","","","","","","","","","",""]
[{"$f":"IF(ISBLANK(InfoPro!A109),\"\",InfoPro!A109)","v":""},{"$f":"IF(ISBLANK(InfoPro!B109),\"\",InfoPro!B109)","v":""},{"$f":"IF(ISBLANK(InfoPro!E109),\"\",InfoPro!E109)","v":""},{"$f":"IF(ISBLANK(InfoPro!F109),\"\",InfoPro!F109)","v":""},{"$f":"IF(ISBLANK(InfoPro!I109),\"\",YEAR(InfoPro!I109)-$G$4)","v":""},{"$f":"IF(B116=\"\",\"\",VLOOKUP(D116,Tablas!$B$2:$E$13,2,FALSE))","v":""},{"$f":"IF(B116=\"\",\"\",VLOOKUP(D116,Tablas!$B$2:$F$13,3,FALSE))","v":""},"","","","","","","","","","","","","","","","","",""]
[{"$f":"IF(ISBLANK(InfoPro!A110),\"\",InfoPro!A110)","v":""},{"$f":"IF(ISBLANK(InfoPro!B110),\"\",InfoPro!B110)","v":""},{"$f":"IF(ISBLANK(InfoPro!E110),\"\",InfoPro!E110)","v":""},{"$f":"IF(ISBLANK(InfoPro!F110),\"\",InfoPro!F110)","v":""},{"$f":"IF(ISBLANK(InfoPro!I110),\"\",YEAR(InfoPro!I110)-$G$4)","v":""},{"$f":"IF(B117=\"\",\"\",VLOOKUP(D117,Tablas!$B$2:$E$13,2,FALSE))","v":""},{"$f":"IF(B117=\"\",\"\",VLOOKUP(D117,Tablas!$B$2:$F$13,3,FALSE))","v":""},"","","","","","","","","","","","","","","","","",""]
[{"$f":"IF(ISBLANK(InfoPro!A111),\"\",InfoPro!A111)","v":""},{"$f":"IF(ISBLANK(InfoPro!B111),\"\",InfoPro!B111)","v":""},{"$f":"IF(ISBLANK(InfoPro!E111),\"\",InfoPro!E111)","v":""},{"$f":"IF(ISBLANK(InfoPro!F111),\"\",InfoPro!F111)","v":""},{"$f":"IF(ISBLANK(InfoPro!I111),\"\",YEAR(InfoPro!I111)-$G$4)","v":""},{"$f":"IF(B118=\"\",\"\",VLOOKUP(D118,Tablas!$B$2:$E$13,2,FALSE))","v":""},{"$f":"IF(B118=\"\",\"\",VLOOKUP(D118,Tablas!$B$2:$F$13,3,FALSE))","v":""},"","","","","","","","","","","","","","","","","",""]
[{"$f":"IF(ISBLANK(InfoPro!A112),\"\",InfoPro!A112)","v":""},{"$f":"IF(ISBLANK(InfoPro!B112),\"\",InfoPro!B112)","v":""},{"$f":"IF(ISBLANK(InfoPro!E112),\"\",InfoPro!E112)","v":""},{"$f":"IF(ISBLANK(InfoPro!F112),\"\",InfoPro!F112)","v":""},{"$f":"IF(ISBLANK(InfoPro!I112),\"\",YEAR(InfoPro!I112)-$G$4)","v":""},{"$f":"IF(B119=\"\",\"\",VLOOKUP(D119,Tablas!$B$2:$E$13,2,FALSE))","v":""},{"$f":"IF(B119=\"\",\"\",VLOOKUP(D119,Tablas!$B$2:$F$13,3,FALSE))","v":""},"","","","","","","","","","","","","","","","","",""]
[{"$f":"IF(ISBLANK(InfoPro!A113),\"\",InfoPro!A113)","v":""},{"$f":"IF(ISBLANK(InfoPro!B113),\"\",InfoPro!B113)","v":""},{"$f":"IF(ISBLANK(InfoPro!E113),\"\",InfoPro!E113)","v":""},{"$f":"IF(ISBLANK(InfoPro!F113),\"\",InfoPro!F113)","v":""},{"$f":"IF(ISBLANK(InfoPro!I113),\"\",YEAR(InfoPro!I113)-$G$4)","v":""},{"$f":"IF(B120=\"\",\"\",VLOOKUP(D120,Tablas!$B$2:$E$13,2,FALSE))","v":""},{"$f":"IF(B120=\"\",\"\",VLOOKUP(D120,Tablas!$B$2:$F$13,3,FALSE))","v":""},"","","","","","","","","","","","","","","","","",""]
[{"$f":"IF(ISBLANK(InfoPro!A114),\"\",InfoPro!A114)","v":""},{"$f":"IF(ISBLANK(InfoPro!B114),\"\",InfoPro!B114)","v":""},{"$f":"IF(ISBLANK(InfoPro!E114),\"\",InfoPro!E114)","v":""},{"$f":"IF(ISBLANK(InfoPro!F114),\"\",InfoPro!F114)","v":""},{"$f":"IF(ISBLANK(InfoPro!I114),\"\",YEAR(InfoPro!I114)-$G$4)","v":""},{"$f":"IF(B121=\"\",\"\",VLOOKUP(D121,Tablas!$B$2:$E$13,2,FALSE))","v":""},{"$f":"IF(B121=\"\",\"\",VLOOKUP(D121,Tablas!$B$2:$F$13,3,FALSE))","v":""},"","","","","","","","","","","","","","","","","",""]
[{"$f":"IF(ISBLANK(InfoPro!A115),\"\",InfoPro!A115)","v":""},{"$f":"IF(ISBLANK(InfoPro!B115),\"\",InfoPro!B115)","v":""},{"$f":"IF(ISBLANK(InfoPro!E115),\"\",InfoPro!E115)","v":""},{"$f":"IF(ISBLANK(InfoPro!F115),\"\",InfoPro!F115)","v":""},{"$f":"IF(ISBLANK(InfoPro!I115),\"\",YEAR(InfoPro!I115)-$G$4)","v":""},{"$f":"IF(B122=\"\",\"\",VLOOKUP(D122,Tablas!$B$2:$E$13,2,FALSE))","v":""},{"$f":"IF(B122=\"\",\"\",VLOOKUP(D122,Tablas!$B$2:$F$13,3,FALSE))","v":""},"","","","","","","","","","","","","","","","","",""]
[{"$f":"IF(ISBLANK(InfoPro!A116),\"\",InfoPro!A116)","v":""},{"$f":"IF(ISBLANK(InfoPro!B116),\"\",InfoPro!B116)","v":""},{"$f":"IF(ISBLANK(InfoPro!E116),\"\",InfoPro!E116)","v":""},{"$f":"IF(ISBLANK(InfoPro!F116),\"\",InfoPro!F116)","v":""},{"$f":"IF(ISBLANK(InfoPro!I116),\"\",YEAR(InfoPro!I116)-$G$4)","v":""},{"$f":"IF(B123=\"\",\"\",VLOOKUP(D123,Tablas!$B$2:$E$13,2,FALSE))","v":""},{"$f":"IF(B123=\"\",\"\",VLOOKUP(D123,Tablas!$B$2:$F$13,3,FALSE))","v":""},"","","","","","","","","","","","","","","","","",""]
[{"$f":"IF(ISBLANK(InfoPro!A117),\"\",InfoPro!A117)","v":""},{"$f":"IF(ISBLANK(InfoPro!B117),\"\",InfoPro!B117)","v":""},{"$f":"IF(ISBLANK(InfoPro!E117),\"\",InfoPro!E117)","v":""},{"$f":"IF(ISBLANK(InfoPro!F117),\"\",InfoPro!F117)","v":""},{"$f":"IF(ISBLANK(InfoPro!I117),\"\",YEAR(InfoPro!I117)-$G$4)","v":""},{"$f":"IF(B124=\"\",\"\",VLOOKUP(D124,Tablas!$B$2:$E$13,2,FALSE))","v":""},{"$f":"IF(B124=\"\",\"\",VLOOKUP(D124,Tablas!$B$2:$F$13,3,FALSE))","v":""},"","","","","","","","","","","","","","","","","",""]
[{"$f":"IF(ISBLANK(InfoPro!A118),\"\",InfoPro!A118)","v":""},{"$f":"IF(ISBLANK(InfoPro!B118),\"\",InfoPro!B118)","v":""},{"$f":"IF(ISBLANK(InfoPro!E118),\"\",InfoPro!E118)","v":""},{"$f":"IF(ISBLANK(InfoPro!F118),\"\",InfoPro!F118)","v":""},{"$f":"IF(ISBLANK(InfoPro!I118),\"\",YEAR(InfoPro!I118)-$G$4)","v":""},{"$f":"IF(B125=\"\",\"\",VLOOKUP(D125,Tablas!$B$2:$E$13,2,FALSE))","v":""},{"$f":"IF(B125=\"\",\"\",VLOOKUP(D125,Tablas!$B$2:$F$13,3,FALSE))","v":""},"","","","","","","","","","","","","","","","","",""]
[{"$f":"IF(ISBLANK(InfoPro!A119),\"\",InfoPro!A119)","v":""},{"$f":"IF(ISBLANK(InfoPro!B119),\"\",InfoPro!B119)","v":""},{"$f":"IF(ISBLANK(InfoPro!E119),\"\",InfoPro!E119)","v":""},{"$f":"IF(ISBLANK(InfoPro!F119),\"\",InfoPro!F119)","v":""},{"$f":"IF(ISBLANK(InfoPro!I119),\"\",YEAR(InfoPro!I119)-$G$4)","v":""},{"$f":"IF(B126=\"\",\"\",VLOOKUP(D126,Tablas!$B$2:$E$13,2,FALSE))","v":""},{"$f":"IF(B126=\"\",\"\",VLOOKUP(D126,Tablas!$B$2:$F$13,3,FALSE))","v":""},"","","","","","","","","","","","","","","","","",""]
[{"$f":"IF(ISBLANK(InfoPro!A120),\"\",InfoPro!A120)","v":""},{"$f":"IF(ISBLANK(InfoPro!B120),\"\",InfoPro!B120)","v":""},{"$f":"IF(ISBLANK(InfoPro!E120),\"\",InfoPro!E120)","v":""},{"$f":"IF(ISBLANK(InfoPro!F120),\"\",InfoPro!F120)","v":""},{"$f":"IF(ISBLANK(InfoPro!I120),\"\",YEAR(InfoPro!I120)-$G$4)","v":""},{"$f":"IF(B127=\"\",\"\",VLOOKUP(D127,Tablas!$B$2:$E$13,2,FALSE))","v":""},{"$f":"IF(B127=\"\",\"\",VLOOKUP(D127,Tablas!$B$2:$F$13,3,FALSE))","v":""},"","","","","","","","","","","","","","","","","",""]
[{"$f":"IF(ISBLANK(InfoPro!A121),\"\",InfoPro!A121)","v":""},{"$f":"IF(ISBLANK(InfoPro!B121),\"\",InfoPro!B121)","v":""},{"$f":"IF(ISBLANK(InfoPro!E121),\"\",InfoPro!E121)","v":""},{"$f":"IF(ISBLANK(InfoPro!F121),\"\",InfoPro!F121)","v":""},{"$f":"IF(ISBLANK(InfoPro!I121),\"\",YEAR(InfoPro!I121)-$G$4)","v":""},{"$f":"IF(B128=\"\",\"\",VLOOKUP(D128,Tablas!$B$2:$E$13,2,FALSE))","v":""},{"$f":"IF(B128=\"\",\"\",VLOOKUP(D128,Tablas!$B$2:$F$13,3,FALSE))","v":""},"","","","","","","","","","","","","","","","","",""]
[{"$f":"IF(ISBLANK(InfoPro!A122),\"\",InfoPro!A122)","v":""},{"$f":"IF(ISBLANK(InfoPro!B122),\"\",InfoPro!B122)","v":""},{"$f":"IF(ISBLANK(InfoPro!E122),\"\",InfoPro!E122)","v":""},{"$f":"IF(ISBLANK(InfoPro!F122),\"\",InfoPro!F122)","v":""},{"$f":"IF(ISBLANK(InfoPro!I122),\"\",YEAR(InfoPro!I122)-$G$4)","v":""},{"$f":"IF(B129=\"\",\"\",VLOOKUP(D129,Tablas!$B$2:$E$13,2,FALSE))","v":""},{"$f":"IF(B129=\"\",\"\",VLOOKUP(D129,Tablas!$B$2:$F$13,3,FALSE))","v":""},"",{"$f":"IF($H129=\"\",\"\",(1/(1+$C$4)^(I$7+$E129))*$H129*$G129*$C$3)","v":""},"","","","","","","","","","","","","","","",""]
[{"$f":"IF(ISBLANK(InfoPro!A123),\"\",InfoPro!A123)","v":""},{"$f":"IF(ISBLANK(InfoPro!B123),\"\",InfoPro!B123)","v":""},{"$f":"IF(ISBLANK(InfoPro!E123),\"\",InfoPro!E123)","v":""},{"$f":"IF(ISBLANK(InfoPro!F123),\"\",InfoPro!F123)","v":""},{"$f":"IF(ISBLANK(InfoPro!I123),\"\",YEAR(InfoPro!I123)-$G$4)","v":""},{"$f":"IF(B130=\"\",\"\",VLOOKUP(D130,Tablas!$B$2:$E$13,2,FALSE))","v":""},{"$f":"IF(B130=\"\",\"\",VLOOKUP(D130,Tablas!$B$2:$F$13,3,FALSE))","v":""},"","","","","","","","","","","","","","","","","",""]
[{"$f":"IF(ISBLANK(InfoPro!A124),\"\",InfoPro!A124)","v":""},{"$f":"IF(ISBLANK(InfoPro!B124),\"\",InfoPro!B124)","v":""},{"$f":"IF(ISBLANK(InfoPro!E124),\"\",InfoPro!E124)","v":""},{"$f":"IF(ISBLANK(InfoPro!F124),\"\",InfoPro!F124)","v":""},{"$f":"IF(ISBLANK(InfoPro!I124),\"\",YEAR(InfoPro!I124)-$G$4)","v":""},{"$f":"IF(B131=\"\",\"\",VLOOKUP(D131,Tablas!$B$2:$E$13,2,FALSE))","v":""},{"$f":"IF(B131=\"\",\"\",VLOOKUP(D131,Tablas!$B$2:$F$13,3,FALSE))","v":""},"","","","","","","","","","","","","","","","","",""]
[{"$f":"IF(ISBLANK(InfoPro!A125),\"\",InfoPro!A125)","v":""},{"$f":"IF(ISBLANK(InfoPro!B125),\"\",InfoPro!B125)","v":""},{"$f":"IF(ISBLANK(InfoPro!E125),\"\",InfoPro!E125)","v":""},{"$f":"IF(ISBLANK(InfoPro!F125),\"\",InfoPro!F125)","v":""},{"$f":"IF(ISBLANK(InfoPro!I125),\"\",YEAR(InfoPro!I125)-$G$4)","v":""},{"$f":"IF(B132=\"\",\"\",VLOOKUP(D132,Tablas!$B$2:$E$13,2,FALSE))","v":""},{"$f":"IF(B132=\"\",\"\",VLOOKUP(D132,Tablas!$B$2:$F$13,3,FALSE))","v":""},"","","","","","","","","","","","","","","","","",""]
[{"$f":"IF(ISBLANK(InfoPro!A126),\"\",InfoPro!A126)","v":""},{"$f":"IF(ISBLANK(InfoPro!B126),\"\",InfoPro!B126)","v":""},{"$f":"IF(ISBLANK(InfoPro!E126),\"\",InfoPro!E126)","v":""},{"$f":"IF(ISBLANK(InfoPro!F126),\"\",InfoPro!F126)","v":""},{"$f":"IF(ISBLANK(InfoPro!I126),\"\",YEAR(InfoPro!I126)-$G$4)","v":""},{"$f":"IF(B133=\"\",\"\",VLOOKUP(D133,Tablas!$B$2:$E$13,2,FALSE))","v":""},{"$f":"IF(B133=\"\",\"\",VLOOKUP(D133,Tablas!$B$2:$F$13,3,FALSE))","v":""},"","","","","","","","","","","","","","","","","",""]
[{"$f":"IF(ISBLANK(InfoPro!A127),\"\",InfoPro!A127)","v":""},{"$f":"IF(ISBLANK(InfoPro!B127),\"\",InfoPro!B127)","v":""},{"$f":"IF(ISBLANK(InfoPro!E127),\"\",InfoPro!E127)","v":""},{"$f":"IF(ISBLANK(InfoPro!F127),\"\",InfoPro!F127)","v":""},{"$f":"IF(ISBLANK(InfoPro!I127),\"\",YEAR(InfoPro!I127)-$G$4)","v":""},{"$f":"IF(B134=\"\",\"\",VLOOKUP(D134,Tablas!$B$2:$E$13,2,FALSE))","v":""},{"$f":"IF(B134=\"\",\"\",VLOOKUP(D134,Tablas!$B$2:$F$13,3,FALSE))","v":""},"","","","","","","","","","","","","","","","","",""]
[{"$f":"IF(ISBLANK(InfoPro!A128),\"\",InfoPro!A128)","v":""},{"$f":"IF(ISBLANK(InfoPro!B128),\"\",InfoPro!B128)","v":""},{"$f":"IF(ISBLANK(InfoPro!E128),\"\",InfoPro!E128)","v":""},{"$f":"IF(ISBLANK(InfoPro!F128),\"\",InfoPro!F128)","v":""},{"$f":"IF(ISBLANK(InfoPro!I128),\"\",YEAR(InfoPro!I128)-$G$4)","v":""},{"$f":"IF(B135=\"\",\"\",VLOOKUP(D135,Tablas!$B$2:$E$13,2,FALSE))","v":""},{"$f":"IF(B135=\"\",\"\",VLOOKUP(D135,Tablas!$B$2:$F$13,3,FALSE))","v":""},"","","","","","","","","","","","","","","","","",""]
[{"$f":"IF(ISBLANK(InfoPro!A129),\"\",InfoPro!A129)","v":""},{"$f":"IF(ISBLANK(InfoPro!B129),\"\",InfoPro!B129)","v":""},{"$f":"IF(ISBLANK(InfoPro!E129),\"\",InfoPro!E129)","v":""},{"$f":"IF(ISBLANK(InfoPro!F129),\"\",InfoPro!F129)","v":""},{"$f":"IF(ISBLANK(InfoPro!I129),\"\",YEAR(InfoPro!I129)-$G$4)","v":""},{"$f":"IF(B136=\"\",\"\",VLOOKUP(D136,Tablas!$B$2:$E$13,2,FALSE))","v":""},{"$f":"IF(B136=\"\",\"\",VLOOKUP(D136,Tablas!$B$2:$F$13,3,FALSE))","v":""},"","","","","","","","","","","","","","","","","",""]
[{"$f":"IF(ISBLANK(InfoPro!A130),\"\",InfoPro!A130)","v":""},{"$f":"IF(ISBLANK(InfoPro!B130),\"\",InfoPro!B130)","v":""},{"$f":"IF(ISBLANK(InfoPro!E130),\"\",InfoPro!E130)","v":""},{"$f":"IF(ISBLANK(InfoPro!F130),\"\",InfoPro!F130)","v":""},{"$f":"IF(ISBLANK(InfoPro!I130),\"\",YEAR(InfoPro!I130)-$G$4)","v":""},{"$f":"IF(B137=\"\",\"\",VLOOKUP(D137,Tablas!$B$2:$E$13,2,FALSE))","v":""},{"$f":"IF(B137=\"\",\"\",VLOOKUP(D137,Tablas!$B$2:$F$13,3,FALSE))","v":""},"","","","","","","","","","","","","","","","","",""]
[{"$f":"IF(ISBLANK(InfoPro!A131),\"\",InfoPro!A131)","v":""},{"$f":"IF(ISBLANK(InfoPro!B131),\"\",InfoPro!B131)","v":""},{"$f":"IF(ISBLANK(InfoPro!E131),\"\",InfoPro!E131)","v":""},{"$f":"IF(ISBLANK(InfoPro!F131),\"\",InfoPro!F131)","v":""},{"$f":"IF(ISBLANK(InfoPro!I131),\"\",YEAR(InfoPro!I131)-$G$4)","v":""},{"$f":"IF(B138=\"\",\"\",VLOOKUP(D138,Tablas!$B$2:$E$13,2,FALSE))","v":""},{"$f":"IF(B138=\"\",\"\",VLOOKUP(D138,Tablas!$B$2:$F$13,3,FALSE))","v":""},"","","","","","","","","","","","","","","","","",""]
[{"$f":"IF(ISBLANK(InfoPro!A132),\"\",InfoPro!A132)","v":""},{"$f":"IF(ISBLANK(InfoPro!B132),\"\",InfoPro!B132)","v":""},{"$f":"IF(ISBLANK(InfoPro!E132),\"\",InfoPro!E132)","v":""},{"$f":"IF(ISBLANK(InfoPro!F132),\"\",InfoPro!F132)","v":""},{"$f":"IF(ISBLANK(InfoPro!I132),\"\",YEAR(InfoPro!I132)-$G$4)","v":""},{"$f":"IF(B139=\"\",\"\",VLOOKUP(D139,Tablas!$B$2:$E$13,2,FALSE))","v":""},{"$f":"IF(B139=\"\",\"\",VLOOKUP(D139,Tablas!$B$2:$F$13,3,FALSE))","v":""},"","","","","","","","","","","","","","","","","",""]
[{"$f":"IF(ISBLANK(InfoPro!A133),\"\",InfoPro!A133)","v":""},{"$f":"IF(ISBLANK(InfoPro!B133),\"\",InfoPro!B133)","v":""},{"$f":"IF(ISBLANK(InfoPro!E133),\"\",InfoPro!E133)","v":""},{"$f":"IF(ISBLANK(InfoPro!F133),\"\",InfoPro!F133)","v":""},{"$f":"IF(ISBLANK(InfoPro!I133),\"\",YEAR(InfoPro!I133)-$G$4)","v":""},{"$f":"IF(B140=\"\",\"\",VLOOKUP(D140,Tablas!$B$2:$E$13,2,FALSE))","v":""},{"$f":"IF(B140=\"\",\"\",VLOOKUP(D140,Tablas!$B$2:$F$13,3,FALSE))","v":""},"","","","","","","","","","","","","","","","","",""]
[{"$f":"IF(ISBLANK(InfoPro!A134),\"\",InfoPro!A134)","v":""},{"$f":"IF(ISBLANK(InfoPro!B134),\"\",InfoPro!B134)","v":""},{"$f":"IF(ISBLANK(InfoPro!E134),\"\",InfoPro!E134)","v":""},{"$f":"IF(ISBLANK(InfoPro!F134),\"\",InfoPro!F134)","v":""},{"$f":"IF(ISBLANK(InfoPro!I134),\"\",YEAR(InfoPro!I134)-$G$4)","v":""},{"$f":"IF(B141=\"\",\"\",VLOOKUP(D141,Tablas!$B$2:$E$13,2,FALSE))","v":""},{"$f":"IF(B141=\"\",\"\",VLOOKUP(D141,Tablas!$B$2:$F$13,3,FALSE))","v":""},"","","","","","","","","","","","","","","","","",""]
[{"$f":"IF(ISBLANK(InfoPro!A135),\"\",InfoPro!A135)","v":""},{"$f":"IF(ISBLANK(InfoPro!B135),\"\",InfoPro!B135)","v":""},{"$f":"IF(ISBLANK(InfoPro!E135),\"\",InfoPro!E135)","v":""},{"$f":"IF(ISBLANK(InfoPro!F135),\"\",InfoPro!F135)","v":""},{"$f":"IF(ISBLANK(InfoPro!I135),\"\",YEAR(InfoPro!I135)-$G$4)","v":""},{"$f":"IF(B142=\"\",\"\",VLOOKUP(D142,Tablas!$B$2:$E$13,2,FALSE))","v":""},{"$f":"IF(B142=\"\",\"\",VLOOKUP(D142,Tablas!$B$2:$F$13,3,FALSE))","v":""},"","","","","","","","","","","","","","","","","",""]
[{"$f":"IF(ISBLANK(InfoPro!A136),\"\",InfoPro!A136)","v":""},{"$f":"IF(ISBLANK(InfoPro!B136),\"\",InfoPro!B136)","v":""},{"$f":"IF(ISBLANK(InfoPro!E136),\"\",InfoPro!E136)","v":""},{"$f":"IF(ISBLANK(InfoPro!F136),\"\",InfoPro!F136)","v":""},{"$f":"IF(ISBLANK(InfoPro!I136),\"\",YEAR(InfoPro!I136)-$G$4)","v":""},{"$f":"IF(B143=\"\",\"\",VLOOKUP(D143,Tablas!$B$2:$E$13,2,FALSE))","v":""},{"$f":"IF(B143=\"\",\"\",VLOOKUP(D143,Tablas!$B$2:$F$13,3,FALSE))","v":""},"","","","","","","","","","","","","","","","","",""]
[{"$f":"IF(ISBLANK(InfoPro!A137),\"\",InfoPro!A137)","v":""},{"$f":"IF(ISBLANK(InfoPro!B137),\"\",InfoPro!B137)","v":""},{"$f":"IF(ISBLANK(InfoPro!E137),\"\",InfoPro!E137)","v":""},{"$f":"IF(ISBLANK(InfoPro!F137),\"\",InfoPro!F137)","v":""},{"$f":"IF(ISBLANK(InfoPro!I137),\"\",YEAR(InfoPro!I137)-$G$4)","v":""},{"$f":"IF(B144=\"\",\"\",VLOOKUP(D144,Tablas!$B$2:$E$13,2,FALSE))","v":""},{"$f":"IF(B144=\"\",\"\",VLOOKUP(D144,Tablas!$B$2:$F$13,3,FALSE))","v":""},"","","","","","","","","","","","","","","","","",""]
[{"$f":"IF(ISBLANK(InfoPro!A138),\"\",InfoPro!A138)","v":""},{"$f":"IF(ISBLANK(InfoPro!B138),\"\",InfoPro!B138)","v":""},{"$f":"IF(ISBLANK(InfoPro!E138),\"\",InfoPro!E138)","v":""},{"$f":"IF(ISBLANK(InfoPro!F138),\"\",InfoPro!F138)","v":""},{"$f":"IF(ISBLANK(InfoPro!I138),\"\",YEAR(InfoPro!I138)-$G$4)","v":""},{"$f":"IF(B145=\"\",\"\",VLOOKUP(D145,Tablas!$B$2:$E$13,2,FALSE))","v":""},{"$f":"IF(B145=\"\",\"\",VLOOKUP(D145,Tablas!$B$2:$F$13,3,FALSE))","v":""},"","","","","","","","","","","","","","","","","",""]
[{"$f":"IF(ISBLANK(InfoPro!A139),\"\",InfoPro!A139)","v":""},{"$f":"IF(ISBLANK(InfoPro!B139),\"\",InfoPro!B139)","v":""},{"$f":"IF(ISBLANK(InfoPro!E139),\"\",InfoPro!E139)","v":""},{"$f":"IF(ISBLANK(InfoPro!F139),\"\",InfoPro!F139)","v":""},{"$f":"IF(ISBLANK(InfoPro!I139),\"\",YEAR(InfoPro!I139)-$G$4)","v":""},{"$f":"IF(B146=\"\",\"\",VLOOKUP(D146,Tablas!$B$2:$E$13,2,FALSE))","v":""},{"$f":"IF(B146=\"\",\"\",VLOOKUP(D146,Tablas!$B$2:$F$13,3,FALSE))","v":""},"",{"$f":"IF($H146=\"\",\"\",(1/(1+$C$4)^(I$7+$E146))*$H146*$G146*$C$3)","v":""},"","","","","","","","","","","","","","","",""]
[{"$f":"IF(ISBLANK(InfoPro!A140),\"\",InfoPro!A140)","v":""},{"$f":"IF(ISBLANK(InfoPro!B140),\"\",InfoPro!B140)","v":""},{"$f":"IF(ISBLANK(InfoPro!E140),\"\",InfoPro!E140)","v":""},{"$f":"IF(ISBLANK(InfoPro!F140),\"\",InfoPro!F140)","v":""},{"$f":"IF(ISBLANK(InfoPro!I140),\"\",YEAR(InfoPro!I140)-$G$4)","v":""},{"$f":"IF(B147=\"\",\"\",VLOOKUP(D147,Tablas!$B$2:$E$13,2,FALSE))","v":""},{"$f":"IF(B147=\"\",\"\",VLOOKUP(D147,Tablas!$B$2:$F$13,3,FALSE))","v":""},"","","","","","","","","","","","","","","","","",""]
[{"$f":"IF(ISBLANK(InfoPro!A141),\"\",InfoPro!A141)","v":""},{"$f":"IF(ISBLANK(InfoPro!B141),\"\",InfoPro!B141)","v":""},{"$f":"IF(ISBLANK(InfoPro!E141),\"\",InfoPro!E141)","v":""},{"$f":"IF(ISBLANK(InfoPro!F141),\"\",InfoPro!F141)","v":""},{"$f":"IF(ISBLANK(InfoPro!I141),\"\",YEAR(InfoPro!I141)-$G$4)","v":""},{"$f":"IF(B148=\"\",\"\",VLOOKUP(D148,Tablas!$B$2:$E$13,2,FALSE))","v":""},{"$f":"IF(B148=\"\",\"\",VLOOKUP(D148,Tablas!$B$2:$F$13,3,FALSE))","v":""},"","","","","","","","","","","","","","","","","",""]
[{"$f":"IF(ISBLANK(InfoPro!A142),\"\",InfoPro!A142)","v":""},{"$f":"IF(ISBLANK(InfoPro!B142),\"\",InfoPro!B142)","v":""},{"$f":"IF(ISBLANK(InfoPro!E142),\"\",InfoPro!E142)","v":""},{"$f":"IF(ISBLANK(InfoPro!F142),\"\",InfoPro!F142)","v":""},{"$f":"IF(ISBLANK(InfoPro!I142),\"\",YEAR(InfoPro!I142)-$G$4)","v":""},{"$f":"IF(B149=\"\",\"\",VLOOKUP(D149,Tablas!$B$2:$E$13,2,FALSE))","v":""},{"$f":"IF(B149=\"\",\"\",VLOOKUP(D149,Tablas!$B$2:$F$13,3,FALSE))","v":""},"","","","","","","","","","","","","","","","","",""]
[{"$f":"IF(ISBLANK(InfoPro!A143),\"\",InfoPro!A143)","v":""},{"$f":"IF(ISBLANK(InfoPro!B143),\"\",InfoPro!B143)","v":""},{"$f":"IF(ISBLANK(InfoPro!E143),\"\",InfoPro!E143)","v":""},{"$f":"IF(ISBLANK(InfoPro!F143),\"\",InfoPro!F143)","v":""},{"$f":"IF(ISBLANK(InfoPro!I143),\"\",YEAR(InfoPro!I143)-$G$4)","v":""},{"$f":"IF(B150=\"\",\"\",VLOOKUP(D150,Tablas!$B$2:$E$13,2,FALSE))","v":""},{"$f":"IF(B150=\"\",\"\",VLOOKUP(D150,Tablas!$B$2:$F$13,3,FALSE))","v":""},"","","","","","","","","","","","","","","","","",""]
[{"$f":"IF(ISBLANK(InfoPro!A144),\"\",InfoPro!A144)","v":""},{"$f":"IF(ISBLANK(InfoPro!B144),\"\",InfoPro!B144)","v":""},{"$f":"IF(ISBLANK(InfoPro!E144),\"\",InfoPro!E144)","v":""},{"$f":"IF(ISBLANK(InfoPro!F144),\"\",InfoPro!F144)","v":""},{"$f":"IF(ISBLANK(InfoPro!I144),\"\",YEAR(InfoPro!I144)-$G$4)","v":""},{"$f":"IF(B151=\"\",\"\",VLOOKUP(D151,Tablas!$B$2:$E$13,2,FALSE))","v":""},{"$f":"IF(B151=\"\",\"\",VLOOKUP(D151,Tablas!$B$2:$F$13,3,FALSE))","v":""},"","","","","","","","","","","","","","","","","",""]
[{"$f":"IF(ISBLANK(InfoPro!A145),\"\",InfoPro!A145)","v":""},{"$f":"IF(ISBLANK(InfoPro!B145),\"\",InfoPro!B145)","v":""},{"$f":"IF(ISBLANK(InfoPro!E145),\"\",InfoPro!E145)","v":""},{"$f":"IF(ISBLANK(InfoPro!F145),\"\",InfoPro!F145)","v":""},{"$f":"IF(ISBLANK(InfoPro!I145),\"\",YEAR(InfoPro!I145)-$G$4)","v":""},{"$f":"IF(B152=\"\",\"\",VLOOKUP(D152,Tablas!$B$2:$E$13,2,FALSE))","v":""},{"$f":"IF(B152=\"\",\"\",VLOOKUP(D152,Tablas!$B$2:$F$13,3,FALSE))","v":""},"","","","","","","","","","","","","","","","","",""]
[{"$f":"IF(ISBLANK(InfoPro!A146),\"\",InfoPro!A146)","v":""},{"$f":"IF(ISBLANK(InfoPro!B146),\"\",InfoPro!B146)","v":""},{"$f":"IF(ISBLANK(InfoPro!E146),\"\",InfoPro!E146)","v":""},{"$f":"IF(ISBLANK(InfoPro!F146),\"\",InfoPro!F146)","v":""},{"$f":"IF(ISBLANK(InfoPro!I146),\"\",YEAR(InfoPro!I146)-$G$4)","v":""},{"$f":"IF(B153=\"\",\"\",VLOOKUP(D153,Tablas!$B$2:$E$13,2,FALSE))","v":""},{"$f":"IF(B153=\"\",\"\",VLOOKUP(D153,Tablas!$B$2:$F$13,3,FALSE))","v":""},"","","","","","","","","","","","","","","","","",""]
[{"$f":"IF(ISBLANK(InfoPro!A147),\"\",InfoPro!A147)","v":""},{"$f":"IF(ISBLANK(InfoPro!B147),\"\",InfoPro!B147)","v":""},{"$f":"IF(ISBLANK(InfoPro!E147),\"\",InfoPro!E147)","v":""},{"$f":"IF(ISBLANK(InfoPro!F147),\"\",InfoPro!F147)","v":""},{"$f":"IF(ISBLANK(InfoPro!I147),\"\",YEAR(InfoPro!I147)-$G$4)","v":""},{"$f":"IF(B154=\"\",\"\",VLOOKUP(D154,Tablas!$B$2:$E$13,2,FALSE))","v":""},{"$f":"IF(B154=\"\",\"\",VLOOKUP(D154,Tablas!$B$2:$F$13,3,FALSE))","v":""},"","","","","","","","","","","","","","","","","",""]
[{"$f":"IF(ISBLANK(InfoPro!A148),\"\",InfoPro!A148)","v":""},{"$f":"IF(ISBLANK(InfoPro!B148),\"\",InfoPro!B148)","v":""},{"$f":"IF(ISBLANK(InfoPro!E148),\"\",InfoPro!E148)","v":""},{"$f":"IF(ISBLANK(InfoPro!F148),\"\",InfoPro!F148)","v":""},{"$f":"IF(ISBLANK(InfoPro!I148),\"\",YEAR(InfoPro!I148)-$G$4)","v":""},{"$f":"IF(B155=\"\",\"\",VLOOKUP(D155,Tablas!$B$2:$E$13,2,FALSE))","v":""},{"$f":"IF(B155=\"\",\"\",VLOOKUP(D155,Tablas!$B$2:$F$13,3,FALSE))","v":""},"","","","","","","","","","","","","","","","","",""]
[{"$f":"IF(ISBLANK(InfoPro!A149),\"\",InfoPro!A149)","v":""},{"$f":"IF(ISBLANK(InfoPro!B149),\"\",InfoPro!B149)","v":""},{"$f":"IF(ISBLANK(InfoPro!E149),\"\",InfoPro!E149)","v":""},{"$f":"IF(ISBLANK(InfoPro!F149),\"\",InfoPro!F149)","v":""},{"$f":"IF(ISBLANK(InfoPro!I149),\"\",YEAR(InfoPro!I149)-$G$4)","v":""},{"$f":"IF(B156=\"\",\"\",VLOOKUP(D156,Tablas!$B$2:$E$13,2,FALSE))","v":""},{"$f":"IF(B156=\"\",\"\",VLOOKUP(D156,Tablas!$B$2:$F$13,3,FALSE))","v":""},"","","","","","","","","","","","","","","","","",""]
[{"$f":"IF(ISBLANK(InfoPro!A150),\"\",InfoPro!A150)","v":""},{"$f":"IF(ISBLANK(InfoPro!B150),\"\",InfoPro!B150)","v":""},{"$f":"IF(ISBLANK(InfoPro!E150),\"\",InfoPro!E150)","v":""},{"$f":"IF(ISBLANK(InfoPro!F150),\"\",InfoPro!F150)","v":""},{"$f":"IF(ISBLANK(InfoPro!I150),\"\",YEAR(InfoPro!I150)-$G$4)","v":""},{"$f":"IF(B157=\"\",\"\",VLOOKUP(D157,Tablas!$B$2:$E$13,2,FALSE))","v":""},{"$f":"IF(B157=\"\",\"\",VLOOKUP(D157,Tablas!$B$2:$F$13,3,FALSE))","v":""},{"$f":"IF(C157=\"\",\"\",+C157*F157*24*365)","v":""},"","","","","","","","","","","","","","","",{"$f":"IF(W157=\"\",\"\",SUM(I157:W157))","v":""},{"$f":"IF(C157=0,0,IF(X157=\"\",\"\",X157/(C157*1000)))","v":""}]
[{"$f":"IF(ISBLANK(InfoPro!A151),\"\",InfoPro!A151)","v":""},{"$f":"IF(ISBLANK(InfoPro!B151),\"\",InfoPro!B151)","v":""},{"$f":"IF(ISBLANK(InfoPro!E151),\"\",InfoPro!E151)","v":""},{"$f":"IF(ISBLANK(InfoPro!F151),\"\",InfoPro!F151)","v":""},{"$f":"IF(ISBLANK(InfoPro!I151),\"\",YEAR(InfoPro!I151)-$G$4)","v":""},{"$f":"IF(B158=\"\",\"\",VLOOKUP(D158,Tablas!$B$2:$E$13,2,FALSE))","v":""},{"$f":"IF(B158=\"\",\"\",VLOOKUP(D158,Tablas!$B$2:$F$13,3,FALSE))","v":""},"","","","","","","","","","","","","","","","","",""]
[{"$f":"IF(ISBLANK(InfoPro!A152),\"\",InfoPro!A152)","v":""},{"$f":"IF(ISBLANK(InfoPro!B152),\"\",InfoPro!B152)","v":""},{"$f":"IF(ISBLANK(InfoPro!E152),\"\",InfoPro!E152)","v":""},{"$f":"IF(ISBLANK(InfoPro!F152),\"\",InfoPro!F152)","v":""},{"$f":"IF(ISBLANK(InfoPro!I152),\"\",YEAR(InfoPro!I152)-$G$4)","v":""},{"$f":"IF(B159=\"\",\"\",VLOOKUP(D159,Tablas!$B$2:$E$13,2,FALSE))","v":""},{"$f":"IF(B159=\"\",\"\",VLOOKUP(D159,Tablas!$B$2:$F$13,3,FALSE))","v":""},"","","","","","","","","","","","","","","","","",""]
[{"$f":"IF(ISBLANK(InfoPro!A153),\"\",InfoPro!A153)","v":""},{"$f":"IF(ISBLANK(InfoPro!B153),\"\",InfoPro!B153)","v":""},{"$f":"IF(ISBLANK(InfoPro!E153),\"\",InfoPro!E153)","v":""},{"$f":"IF(ISBLANK(InfoPro!F153),\"\",InfoPro!F153)","v":""},{"$f":"IF(ISBLANK(InfoPro!I153),\"\",YEAR(InfoPro!I153)-$G$4)","v":""},{"$f":"IF(B160=\"\",\"\",VLOOKUP(D160,Tablas!$B$2:$E$13,2,FALSE))","v":""},{"$f":"IF(B160=\"\",\"\",VLOOKUP(D160,Tablas!$B$2:$F$13,3,FALSE))","v":""},"","","","","","","","","","","","","","","","","",""]
[{"$f":"IF(ISBLANK(InfoPro!A154),\"\",InfoPro!A154)","v":""},{"$f":"IF(ISBLANK(InfoPro!B154),\"\",InfoPro!B154)","v":""},{"$f":"IF(ISBLANK(InfoPro!E154),\"\",InfoPro!E154)","v":""},{"$f":"IF(ISBLANK(InfoPro!F154),\"\",InfoPro!F154)","v":""},{"$f":"IF(ISBLANK(InfoPro!I154),\"\",YEAR(InfoPro!I154)-$G$4)","v":""},{"$f":"IF(B161=\"\",\"\",VLOOKUP(D161,Tablas!$B$2:$E$13,2,FALSE))","v":""},{"$f":"IF(B161=\"\",\"\",VLOOKUP(D161,Tablas!$B$2:$F$13,3,FALSE))","v":""},"","","","","","","","","","","","","","","","","",""]
[{"$f":"IF(ISBLANK(InfoPro!A155),\"\",InfoPro!A155)","v":""},{"$f":"IF(ISBLANK(InfoPro!B155),\"\",InfoPro!B155)","v":""},{"$f":"IF(ISBLANK(InfoPro!E155),\"\",InfoPro!E155)","v":""},{"$f":"IF(ISBLANK(InfoPro!F155),\"\",InfoPro!F155)","v":""},{"$f":"IF(ISBLANK(InfoPro!I155),\"\",YEAR(InfoPro!I155)-$G$4)","v":""},{"$f":"IF(B162=\"\",\"\",VLOOKUP(D162,Tablas!$B$2:$E$13,2,FALSE))","v":""},{"$f":"IF(B162=\"\",\"\",VLOOKUP(D162,Tablas!$B$2:$F$13,3,FALSE))","v":""},"","","","","","","","","","","","","","","","","",""]
[{"$f":"IF(ISBLANK(InfoPro!A156),\"\",InfoPro!A156)","v":""},{"$f":"IF(ISBLANK(InfoPro!B156),\"\",InfoPro!B156)","v":""},{"$f":"IF(ISBLANK(InfoPro!E156),\"\",InfoPro!E156)","v":""},{"$f":"IF(ISBLANK(InfoPro!F156),\"\",InfoPro!F156)","v":""},{"$f":"IF(ISBLANK(InfoPro!I156),\"\",YEAR(InfoPro!I156)-$G$4)","v":""},{"$f":"IF(B163=\"\",\"\",VLOOKUP(D163,Tablas!$B$2:$E$13,2,FALSE))","v":""},{"$f":"IF(B163=\"\",\"\",VLOOKUP(D163,Tablas!$B$2:$F$13,3,FALSE))","v":""},"",{"$f":"IF($H163=\"\",\"\",(1/(1+$C$4)^(I$7+$E163))*$H163*$G163*$C$3)","v":""},"","","","","","","","","","","","","","","",""]
[{"$f":"IF(ISBLANK(InfoPro!A157),\"\",InfoPro!A157)","v":""},{"$f":"IF(ISBLANK(InfoPro!B157),\"\",InfoPro!B157)","v":""},{"$f":"IF(ISBLANK(InfoPro!E157),\"\",InfoPro!E157)","v":""},{"$f":"IF(ISBLANK(InfoPro!F157),\"\",InfoPro!F157)","v":""},{"$f":"IF(ISBLANK(InfoPro!I157),\"\",YEAR(InfoPro!I157)-$G$4)","v":""},{"$f":"IF(B164=\"\",\"\",VLOOKUP(D164,Tablas!$B$2:$E$13,2,FALSE))","v":""},{"$f":"IF(B164=\"\",\"\",VLOOKUP(D164,Tablas!$B$2:$F$13,3,FALSE))","v":""},"","","","","","","","","","","","","","","","","",""]
[{"$f":"IF(ISBLANK(InfoPro!A158),\"\",InfoPro!A158)","v":""},{"$f":"IF(ISBLANK(InfoPro!B158),\"\",InfoPro!B158)","v":""},{"$f":"IF(ISBLANK(InfoPro!E158),\"\",InfoPro!E158)","v":""},{"$f":"IF(ISBLANK(InfoPro!F158),\"\",InfoPro!F158)","v":""},{"$f":"IF(ISBLANK(InfoPro!I158),\"\",YEAR(InfoPro!I158)-$G$4)","v":""},{"$f":"IF(B165=\"\",\"\",VLOOKUP(D165,Tablas!$B$2:$E$13,2,FALSE))","v":""},{"$f":"IF(B165=\"\",\"\",VLOOKUP(D165,Tablas!$B$2:$F$13,3,FALSE))","v":""},"","","","","","","","","","","","","","","","","",""]
[{"$f":"IF(ISBLANK(InfoPro!A159),\"\",InfoPro!A159)","v":""},{"$f":"IF(ISBLANK(InfoPro!B159),\"\",InfoPro!B159)","v":""},{"$f":"IF(ISBLANK(InfoPro!E159),\"\",InfoPro!E159)","v":""},{"$f":"IF(ISBLANK(InfoPro!F159),\"\",InfoPro!F159)","v":""},{"$f":"IF(ISBLANK(InfoPro!I159),\"\",YEAR(InfoPro!I159)-$G$4)","v":""},{"$f":"IF(B166=\"\",\"\",VLOOKUP(D166,Tablas!$B$2:$E$13,2,FALSE))","v":""},{"$f":"IF(B166=\"\",\"\",VLOOKUP(D166,Tablas!$B$2:$F$13,3,FALSE))","v":""},"","","","","","","","","","","","","","","","","",""]
[{"$f":"IF(ISBLANK(InfoPro!A160),\"\",InfoPro!A160)","v":""},{"$f":"IF(ISBLANK(InfoPro!B160),\"\",InfoPro!B160)","v":""},{"$f":"IF(ISBLANK(InfoPro!E160),\"\",InfoPro!E160)","v":""},{"$f":"IF(ISBLANK(InfoPro!F160),\"\",InfoPro!F160)","v":""},{"$f":"IF(ISBLANK(InfoPro!I160),\"\",YEAR(InfoPro!I160)-$G$4)","v":""},{"$f":"IF(B167=\"\",\"\",VLOOKUP(D167,Tablas!$B$2:$E$13,2,FALSE))","v":""},{"$f":"IF(B167=\"\",\"\",VLOOKUP(D167,Tablas!$B$2:$F$13,3,FALSE))","v":""},"","","","","","","","","","","","","","","","","",""]
[{"$f":"IF(ISBLANK(InfoPro!A161),\"\",InfoPro!A161)","v":""},{"$f":"IF(ISBLANK(InfoPro!B161),\"\",InfoPro!B161)","v":""},{"$f":"IF(ISBLANK(InfoPro!E161),\"\",InfoPro!E161)","v":""},{"$f":"IF(ISBLANK(InfoPro!F161),\"\",InfoPro!F161)","v":""},{"$f":"IF(ISBLANK(InfoPro!I161),\"\",YEAR(InfoPro!I161)-$G$4)","v":""},{"$f":"IF(B168=\"\",\"\",VLOOKUP(D168,Tablas!$B$2:$E$13,2,FALSE))","v":""},{"$f":"IF(B168=\"\",\"\",VLOOKUP(D168,Tablas!$B$2:$F$13,3,FALSE))","v":""},"","","","","","","","","","","","","","","","","",""]
[{"$f":"IF(ISBLANK(InfoPro!A162),\"\",InfoPro!A162)","v":""},{"$f":"IF(ISBLANK(InfoPro!B162),\"\",InfoPro!B162)","v":""},{"$f":"IF(ISBLANK(InfoPro!E162),\"\",InfoPro!E162)","v":""},{"$f":"IF(ISBLANK(InfoPro!F162),\"\",InfoPro!F162)","v":""},{"$f":"IF(ISBLANK(InfoPro!I162),\"\",YEAR(InfoPro!I162)-$G$4)","v":""},{"$f":"IF(B169=\"\",\"\",VLOOKUP(D169,Tablas!$B$2:$E$13,2,FALSE))","v":""},{"$f":"IF(B169=\"\",\"\",VLOOKUP(D169,Tablas!$B$2:$F$13,3,FALSE))","v":""},"","","","","","","","","","","","","","","","","",""]
[{"$f":"IF(ISBLANK(InfoPro!A163),\"\",InfoPro!A163)","v":""},{"$f":"IF(ISBLANK(InfoPro!B163),\"\",InfoPro!B163)","v":""},{"$f":"IF(ISBLANK(InfoPro!E163),\"\",InfoPro!E163)","v":""},{"$f":"IF(ISBLANK(InfoPro!F163),\"\",InfoPro!F163)","v":""},{"$f":"IF(ISBLANK(InfoPro!I163),\"\",YEAR(InfoPro!I163)-$G$4)","v":""},{"$f":"IF(B170=\"\",\"\",VLOOKUP(D170,Tablas!$B$2:$E$13,2,FALSE))","v":""},{"$f":"IF(B170=\"\",\"\",VLOOKUP(D170,Tablas!$B$2:$F$13,3,FALSE))","v":""},"","","","","","","","","","","","","","","","","",""]
[{"$f":"IF(ISBLANK(InfoPro!A164),\"\",InfoPro!A164)","v":""},{"$f":"IF(ISBLANK(InfoPro!B164),\"\",InfoPro!B164)","v":""},{"$f":"IF(ISBLANK(InfoPro!E164),\"\",InfoPro!E164)","v":""},{"$f":"IF(ISBLANK(InfoPro!F164),\"\",InfoPro!F164)","v":""},{"$f":"IF(ISBLANK(InfoPro!I164),\"\",YEAR(InfoPro!I164)-$G$4)","v":""},{"$f":"IF(B171=\"\",\"\",VLOOKUP(D171,Tablas!$B$2:$E$13,2,FALSE))","v":""},{"$f":"IF(B171=\"\",\"\",VLOOKUP(D171,Tablas!$B$2:$F$13,3,FALSE))","v":""},"","","","","","","","","","","","","","","","","",""]
[{"$f":"IF(ISBLANK(InfoPro!A165),\"\",InfoPro!A165)","v":""},{"$f":"IF(ISBLANK(InfoPro!B165),\"\",InfoPro!B165)","v":""},{"$f":"IF(ISBLANK(InfoPro!E165),\"\",InfoPro!E165)","v":""},{"$f":"IF(ISBLANK(InfoPro!F165),\"\",InfoPro!F165)","v":""},{"$f":"IF(ISBLANK(InfoPro!I165),\"\",YEAR(InfoPro!I165)-$G$4)","v":""},{"$f":"IF(B172=\"\",\"\",VLOOKUP(D172,Tablas!$B$2:$E$13,2,FALSE))","v":""},{"$f":"IF(B172=\"\",\"\",VLOOKUP(D172,Tablas!$B$2:$F$13,3,FALSE))","v":""},"","","","","","","","","","","","","","","","","",""]
[{"$f":"IF(ISBLANK(InfoPro!A166),\"\",InfoPro!A166)","v":""},{"$f":"IF(ISBLANK(InfoPro!B166),\"\",InfoPro!B166)","v":""},{"$f":"IF(ISBLANK(InfoPro!E166),\"\",InfoPro!E166)","v":""},{"$f":"IF(ISBLANK(InfoPro!F166),\"\",InfoPro!F166)","v":""},{"$f":"IF(ISBLANK(InfoPro!I166),\"\",YEAR(InfoPro!I166)-$G$4)","v":""},{"$f":"IF(B173=\"\",\"\",VLOOKUP(D173,Tablas!$B$2:$E$13,2,FALSE))","v":""},{"$f":"IF(B173=\"\",\"\",VLOOKUP(D173,Tablas!$B$2:$F$13,3,FALSE))","v":""},"","","","","","","","","","","","","","","","","",""]
[{"$f":"IF(ISBLANK(InfoPro!A167),\"\",InfoPro!A167)","v":""},{"$f":"IF(ISBLANK(InfoPro!B167),\"\",InfoPro!B167)","v":""},{"$f":"IF(ISBLANK(InfoPro!E167),\"\",InfoPro!E167)","v":""},{"$f":"IF(ISBLANK(InfoPro!F167),\"\",InfoPro!F167)","v":""},{"$f":"IF(ISBLANK(InfoPro!I167),\"\",YEAR(InfoPro!I167)-$G$4)","v":""},{"$f":"IF(B174=\"\",\"\",VLOOKUP(D174,Tablas!$B$2:$E$13,2,FALSE))","v":""},{"$f":"IF(B174=\"\",\"\",VLOOKUP(D174,Tablas!$B$2:$F$13,3,FALSE))","v":""},"","","","","","","","","","","","","","","","","",""]
[{"$f":"IF(ISBLANK(InfoPro!A168),\"\",InfoPro!A168)","v":""},{"$f":"IF(ISBLANK(InfoPro!B168),\"\",InfoPro!B168)","v":""},{"$f":"IF(ISBLANK(InfoPro!E168),\"\",InfoPro!E168)","v":""},{"$f":"IF(ISBLANK(InfoPro!F168),\"\",InfoPro!F168)","v":""},{"$f":"IF(ISBLANK(InfoPro!I168),\"\",YEAR(InfoPro!I168)-$G$4)","v":""},{"$f":"IF(B175=\"\",\"\",VLOOKUP(D175,Tablas!$B$2:$E$13,2,FALSE))","v":""},{"$f":"IF(B175=\"\",\"\",VLOOKUP(D175,Tablas!$B$2:$F$13,3,FALSE))","v":""},"","","","","","","","","","","","","","","","","",""]
[{"$f":"IF(ISBLANK(InfoPro!A169),\"\",InfoPro!A169)","v":""},{"$f":"IF(ISBLANK(InfoPro!B169),\"\",InfoPro!B169)","v":""},{"$f":"IF(ISBLANK(InfoPro!E169),\"\",InfoPro!E169)","v":""},{"$f":"IF(ISBLANK(InfoPro!F169),\"\",InfoPro!F169)","v":""},{"$f":"IF(ISBLANK(InfoPro!I169),\"\",YEAR(InfoPro!I169)-$G$4)","v":""},{"$f":"IF(B176=\"\",\"\",VLOOKUP(D176,Tablas!$B$2:$E$13,2,FALSE))","v":""},{"$f":"IF(B176=\"\",\"\",VLOOKUP(D176,Tablas!$B$2:$F$13,3,FALSE))","v":""},"","","","","","","","","","","","","","","","","",""]
[{"$f":"IF(ISBLANK(InfoPro!A170),\"\",InfoPro!A170)","v":""},{"$f":"IF(ISBLANK(InfoPro!B170),\"\",InfoPro!B170)","v":""},{"$f":"IF(ISBLANK(InfoPro!E170),\"\",InfoPro!E170)","v":""},{"$f":"IF(ISBLANK(InfoPro!F170),\"\",InfoPro!F170)","v":""},{"$f":"IF(ISBLANK(InfoPro!I170),\"\",YEAR(InfoPro!I170)-$G$4)","v":""},{"$f":"IF(B177=\"\",\"\",VLOOKUP(D177,Tablas!$B$2:$E$13,2,FALSE))","v":""},{"$f":"IF(B177=\"\",\"\",VLOOKUP(D177,Tablas!$B$2:$F$13,3,FALSE))","v":""},"","","","","","","","","","","","","","","","","",""]
[{"$f":"IF(ISBLANK(InfoPro!A171),\"\",InfoPro!A171)","v":""},{"$f":"IF(ISBLANK(InfoPro!B171),\"\",InfoPro!B171)","v":""},{"$f":"IF(ISBLANK(InfoPro!E171),\"\",InfoPro!E171)","v":""},{"$f":"IF(ISBLANK(InfoPro!F171),\"\",InfoPro!F171)","v":""},{"$f":"IF(ISBLANK(InfoPro!I171),\"\",YEAR(InfoPro!I171)-$G$4)","v":""},{"$f":"IF(B178=\"\",\"\",VLOOKUP(D178,Tablas!$B$2:$E$13,2,FALSE))","v":""},{"$f":"IF(B178=\"\",\"\",VLOOKUP(D178,Tablas!$B$2:$F$13,3,FALSE))","v":""},"","","","","","","","","","","","","","","","","",""]
[{"$f":"IF(ISBLANK(InfoPro!A172),\"\",InfoPro!A172)","v":""},{"$f":"IF(ISBLANK(InfoPro!B172),\"\",InfoPro!B172)","v":""},{"$f":"IF(ISBLANK(InfoPro!E172),\"\",InfoPro!E172)","v":""},{"$f":"IF(ISBLANK(InfoPro!F172),\"\",InfoPro!F172)","v":""},{"$f":"IF(ISBLANK(InfoPro!I172),\"\",YEAR(InfoPro!I172)-$G$4)","v":""},{"$f":"IF(B179=\"\",\"\",VLOOKUP(D179,Tablas!$B$2:$E$13,2,FALSE))","v":""},{"$f":"IF(B179=\"\",\"\",VLOOKUP(D179,Tablas!$B$2:$F$13,3,FALSE))","v":""},"","","","","","","","","","","","","","","","","",""]
[{"$f":"IF(ISBLANK(InfoPro!A173),\"\",InfoPro!A173)","v":""},{"$f":"IF(ISBLANK(InfoPro!B173),\"\",InfoPro!B173)","v":""},{"$f":"IF(ISBLANK(InfoPro!E173),\"\",InfoPro!E173)","v":""},{"$f":"IF(ISBLANK(InfoPro!F173),\"\",InfoPro!F173)","v":""},{"$f":"IF(ISBLANK(InfoPro!I173),\"\",YEAR(InfoPro!I173)-$G$4)","v":""},{"$f":"IF(B180=\"\",\"\",VLOOKUP(D180,Tablas!$B$2:$E$13,2,FALSE))","v":""},{"$f":"IF(B180=\"\",\"\",VLOOKUP(D180,Tablas!$B$2:$F$13,3,FALSE))","v":""},"",{"$f":"IF($H180=\"\",\"\",(1/(1+$C$4)^(I$7+$E180))*$H180*$G180*$C$3)","v":""},"","","","","","","","","","","","","","","",""]
[{"$f":"IF(ISBLANK(InfoPro!A174),\"\",InfoPro!A174)","v":""},{"$f":"IF(ISBLANK(InfoPro!B174),\"\",InfoPro!B174)","v":""},{"$f":"IF(ISBLANK(InfoPro!E174),\"\",InfoPro!E174)","v":""},{"$f":"IF(ISBLANK(InfoPro!F174),\"\",InfoPro!F174)","v":""},{"$f":"IF(ISBLANK(InfoPro!I174),\"\",YEAR(InfoPro!I174)-$G$4)","v":""},{"$f":"IF(B181=\"\",\"\",VLOOKUP(D181,Tablas!$B$2:$E$13,2,FALSE))","v":""},{"$f":"IF(B181=\"\",\"\",VLOOKUP(D181,Tablas!$B$2:$F$13,3,FALSE))","v":""},"","","","","","","","","","","","","","","","","",""]
[{"$f":"IF(ISBLANK(InfoPro!A175),\"\",InfoPro!A175)","v":""},{"$f":"IF(ISBLANK(InfoPro!B175),\"\",InfoPro!B175)","v":""},{"$f":"IF(ISBLANK(InfoPro!E175),\"\",InfoPro!E175)","v":""},{"$f":"IF(ISBLANK(InfoPro!F175),\"\",InfoPro!F175)","v":""},{"$f":"IF(ISBLANK(InfoPro!I175),\"\",YEAR(InfoPro!I175)-$G$4)","v":""},{"$f":"IF(B182=\"\",\"\",VLOOKUP(D182,Tablas!$B$2:$E$13,2,FALSE))","v":""},{"$f":"IF(B182=\"\",\"\",VLOOKUP(D182,Tablas!$B$2:$F$13,3,FALSE))","v":""},"","","","","","","","","","","","","","","","","",""]
[{"$f":"IF(ISBLANK(InfoPro!A176),\"\",InfoPro!A176)","v":""},{"$f":"IF(ISBLANK(InfoPro!B176),\"\",InfoPro!B176)","v":""},{"$f":"IF(ISBLANK(InfoPro!E176),\"\",InfoPro!E176)","v":""},{"$f":"IF(ISBLANK(InfoPro!F176),\"\",InfoPro!F176)","v":""},{"$f":"IF(ISBLANK(InfoPro!I176),\"\",YEAR(InfoPro!I176)-$G$4)","v":""},{"$f":"IF(B183=\"\",\"\",VLOOKUP(D183,Tablas!$B$2:$E$13,2,FALSE))","v":""},{"$f":"IF(B183=\"\",\"\",VLOOKUP(D183,Tablas!$B$2:$F$13,3,FALSE))","v":""},"","","","","","","","","","","","","","","","","",""]
[{"$f":"IF(ISBLANK(InfoPro!A177),\"\",InfoPro!A177)","v":""},{"$f":"IF(ISBLANK(InfoPro!B177),\"\",InfoPro!B177)","v":""},{"$f":"IF(ISBLANK(InfoPro!E177),\"\",InfoPro!E177)","v":""},{"$f":"IF(ISBLANK(InfoPro!F177),\"\",InfoPro!F177)","v":""},{"$f":"IF(ISBLANK(InfoPro!I177),\"\",YEAR(InfoPro!I177)-$G$4)","v":""},{"$f":"IF(B184=\"\",\"\",VLOOKUP(D184,Tablas!$B$2:$E$13,2,FALSE))","v":""},{"$f":"IF(B184=\"\",\"\",VLOOKUP(D184,Tablas!$B$2:$F$13,3,FALSE))","v":""},"","","","","","","","","","","","","","","","","",""]
[{"$f":"IF(ISBLANK(InfoPro!A178),\"\",InfoPro!A178)","v":""},{"$f":"IF(ISBLANK(InfoPro!B178),\"\",InfoPro!B178)","v":""},{"$f":"IF(ISBLANK(InfoPro!E178),\"\",InfoPro!E178)","v":""},{"$f":"IF(ISBLANK(InfoPro!F178),\"\",InfoPro!F178)","v":""},{"$f":"IF(ISBLANK(InfoPro!I178),\"\",YEAR(InfoPro!I178)-$G$4)","v":""},{"$f":"IF(B185=\"\",\"\",VLOOKUP(D185,Tablas!$B$2:$E$13,2,FALSE))","v":""},{"$f":"IF(B185=\"\",\"\",VLOOKUP(D185,Tablas!$B$2:$F$13,3,FALSE))","v":""},"","","","","","","","","","","","","","","","","",""]
[{"$f":"IF(ISBLANK(InfoPro!A179),\"\",InfoPro!A179)","v":""},{"$f":"IF(ISBLANK(InfoPro!B179),\"\",InfoPro!B179)","v":""},{"$f":"IF(ISBLANK(InfoPro!E179),\"\",InfoPro!E179)","v":""},{"$f":"IF(ISBLANK(InfoPro!F179),\"\",InfoPro!F179)","v":""},{"$f":"IF(ISBLANK(InfoPro!I179),\"\",YEAR(InfoPro!I179)-$G$4)","v":""},{"$f":"IF(B186=\"\",\"\",VLOOKUP(D186,Tablas!$B$2:$E$13,2,FALSE))","v":""},{"$f":"IF(B186=\"\",\"\",VLOOKUP(D186,Tablas!$B$2:$F$13,3,FALSE))","v":""},"","","","","","","","","","","","","","","","","",""]
[{"$f":"IF(ISBLANK(InfoPro!A180),\"\",InfoPro!A180)","v":""},{"$f":"IF(ISBLANK(InfoPro!B180),\"\",InfoPro!B180)","v":""},{"$f":"IF(ISBLANK(InfoPro!E180),\"\",InfoPro!E180)","v":""},{"$f":"IF(ISBLANK(InfoPro!F180),\"\",InfoPro!F180)","v":""},{"$f":"IF(ISBLANK(InfoPro!I180),\"\",YEAR(InfoPro!I180)-$G$4)","v":""},{"$f":"IF(B187=\"\",\"\",VLOOKUP(D187,Tablas!$B$2:$E$13,2,FALSE))","v":""},{"$f":"IF(B187=\"\",\"\",VLOOKUP(D187,Tablas!$B$2:$F$13,3,FALSE))","v":""},"","","","","","","","","","","","","","","","","",""]
[{"$f":"IF(ISBLANK(InfoPro!A181),\"\",InfoPro!A181)","v":""},{"$f":"IF(ISBLANK(InfoPro!B181),\"\",InfoPro!B181)","v":""},{"$f":"IF(ISBLANK(InfoPro!E181),\"\",InfoPro!E181)","v":""},{"$f":"IF(ISBLANK(InfoPro!F181),\"\",InfoPro!F181)","v":""},{"$f":"IF(ISBLANK(InfoPro!I181),\"\",YEAR(InfoPro!I181)-$G$4)","v":""},{"$f":"IF(B188=\"\",\"\",VLOOKUP(D188,Tablas!$B$2:$E$13,2,FALSE))","v":""},{"$f":"IF(B188=\"\",\"\",VLOOKUP(D188,Tablas!$B$2:$F$13,3,FALSE))","v":""},"","","","","","","","","","","","","","","","","",""]
[{"$f":"IF(ISBLANK(InfoPro!A182),\"\",InfoPro!A182)","v":""},{"$f":"IF(ISBLANK(InfoPro!B182),\"\",InfoPro!B182)","v":""},{"$f":"IF(ISBLANK(InfoPro!E182),\"\",InfoPro!E182)","v":""},{"$f":"IF(ISBLANK(InfoPro!F182),\"\",InfoPro!F182)","v":""},{"$f":"IF(ISBLANK(InfoPro!I182),\"\",YEAR(InfoPro!I182)-$G$4)","v":""},{"$f":"IF(B189=\"\",\"\",VLOOKUP(D189,Tablas!$B$2:$E$13,2,FALSE))","v":""},{"$f":"IF(B189=\"\",\"\",VLOOKUP(D189,Tablas!$B$2:$F$13,3,FALSE))","v":""},"","","","","","","","","","","","","","","","","",""]
[{"$f":"IF(ISBLANK(InfoPro!A183),\"\",InfoPro!A183)","v":""},{"$f":"IF(ISBLANK(InfoPro!B183),\"\",InfoPro!B183)","v":""},{"$f":"IF(ISBLANK(InfoPro!E183),\"\",InfoPro!E183)","v":""},{"$f":"IF(ISBLANK(InfoPro!F183),\"\",InfoPro!F183)","v":""},{"$f":"IF(ISBLANK(InfoPro!I183),\"\",YEAR(InfoPro!I183)-$G$4)","v":""},{"$f":"IF(B190=\"\",\"\",VLOOKUP(D190,Tablas!$B$2:$E$13,2,FALSE))","v":""},{"$f":"IF(B190=\"\",\"\",VLOOKUP(D190,Tablas!$B$2:$F$13,3,FALSE))","v":""},"","","","","","","","","","","","","","","","","",""]
[{"$f":"IF(ISBLANK(InfoPro!A184),\"\",InfoPro!A184)","v":""},{"$f":"IF(ISBLANK(InfoPro!B184),\"\",InfoPro!B184)","v":""},{"$f":"IF(ISBLANK(InfoPro!E184),\"\",InfoPro!E184)","v":""},{"$f":"IF(ISBLANK(InfoPro!F184),\"\",InfoPro!F184)","v":""},{"$f":"IF(ISBLANK(InfoPro!I184),\"\",YEAR(InfoPro!I184)-$G$4)","v":""},{"$f":"IF(B191=\"\",\"\",VLOOKUP(D191,Tablas!$B$2:$E$13,2,FALSE))","v":""},{"$f":"IF(B191=\"\",\"\",VLOOKUP(D191,Tablas!$B$2:$F$13,3,FALSE))","v":""},"","","","","","","","","","","","","","","","","",""]
[{"$f":"IF(ISBLANK(InfoPro!A185),\"\",InfoPro!A185)","v":""},{"$f":"IF(ISBLANK(InfoPro!B185),\"\",InfoPro!B185)","v":""},{"$f":"IF(ISBLANK(InfoPro!E185),\"\",InfoPro!E185)","v":""},{"$f":"IF(ISBLANK(InfoPro!F185),\"\",InfoPro!F185)","v":""},{"$f":"IF(ISBLANK(InfoPro!I185),\"\",YEAR(InfoPro!I185)-$G$4)","v":""},{"$f":"IF(B192=\"\",\"\",VLOOKUP(D192,Tablas!$B$2:$E$13,2,FALSE))","v":""},{"$f":"IF(B192=\"\",\"\",VLOOKUP(D192,Tablas!$B$2:$F$13,3,FALSE))","v":""},"","","","","","","","","","","","","","","","","",""]
[{"$f":"IF(ISBLANK(InfoPro!A186),\"\",InfoPro!A186)","v":""},{"$f":"IF(ISBLANK(InfoPro!B186),\"\",InfoPro!B186)","v":""},{"$f":"IF(ISBLANK(InfoPro!E186),\"\",InfoPro!E186)","v":""},{"$f":"IF(ISBLANK(InfoPro!F186),\"\",InfoPro!F186)","v":""},{"$f":"IF(ISBLANK(InfoPro!I186),\"\",YEAR(InfoPro!I186)-$G$4)","v":""},{"$f":"IF(B193=\"\",\"\",VLOOKUP(D193,Tablas!$B$2:$E$13,2,FALSE))","v":""},{"$f":"IF(B193=\"\",\"\",VLOOKUP(D193,Tablas!$B$2:$F$13,3,FALSE))","v":""},"","","","","","","","","","","","","","","","","",""]
[{"$f":"IF(ISBLANK(InfoPro!A187),\"\",InfoPro!A187)","v":""},{"$f":"IF(ISBLANK(InfoPro!B187),\"\",InfoPro!B187)","v":""},{"$f":"IF(ISBLANK(InfoPro!E187),\"\",InfoPro!E187)","v":""},{"$f":"IF(ISBLANK(InfoPro!F187),\"\",InfoPro!F187)","v":""},{"$f":"IF(ISBLANK(InfoPro!I187),\"\",YEAR(InfoPro!I187)-$G$4)","v":""},{"$f":"IF(B194=\"\",\"\",VLOOKUP(D194,Tablas!$B$2:$E$13,2,FALSE))","v":""},{"$f":"IF(B194=\"\",\"\",VLOOKUP(D194,Tablas!$B$2:$F$13,3,FALSE))","v":""},"","","","","","","","","","","","","","","","","",""]
[{"$f":"IF(ISBLANK(InfoPro!A188),\"\",InfoPro!A188)","v":""},{"$f":"IF(ISBLANK(InfoPro!B188),\"\",InfoPro!B188)","v":""},{"$f":"IF(ISBLANK(InfoPro!E188),\"\",InfoPro!E188)","v":""},{"$f":"IF(ISBLANK(InfoPro!F188),\"\",InfoPro!F188)","v":""},{"$f":"IF(ISBLANK(InfoPro!I188),\"\",YEAR(InfoPro!I188)-$G$4)","v":""},{"$f":"IF(B195=\"\",\"\",VLOOKUP(D195,Tablas!$B$2:$E$13,2,FALSE))","v":""},{"$f":"IF(B195=\"\",\"\",VLOOKUP(D195,Tablas!$B$2:$F$13,3,FALSE))","v":""},"","","","","","","","","","","","","","","","","",""]
[{"$f":"IF(ISBLANK(InfoPro!A189),\"\",InfoPro!A189)","v":""},{"$f":"IF(ISBLANK(InfoPro!B189),\"\",InfoPro!B189)","v":""},{"$f":"IF(ISBLANK(InfoPro!E189),\"\",InfoPro!E189)","v":""},{"$f":"IF(ISBLANK(InfoPro!F189),\"\",InfoPro!F189)","v":""},{"$f":"IF(ISBLANK(InfoPro!I189),\"\",YEAR(InfoPro!I189)-$G$4)","v":""},{"$f":"IF(B196=\"\",\"\",VLOOKUP(D196,Tablas!$B$2:$E$13,2,FALSE))","v":""},{"$f":"IF(B196=\"\",\"\",VLOOKUP(D196,Tablas!$B$2:$F$13,3,FALSE))","v":""},"","","","","","","","","","","","","","","","","",""]

{"sheet":"BT-Confi","index":10,"n_rows":196,"n_cols":25,"rows_kept":196,"cut":false,"hidden":false,"merged":[]}
[]
[null,null,null,null,null,null,null,"CR1",2033920,"COP/MWh"]
[null,"Precio promedio de bolsa",{"$f":"'EC-RP'!C2","v":192057},"COP/MWh",null,null,null,"PE",884380,"COP/MWh"]
[null,"Tasa de descuento",0.11799999999999999,null,null,"Año de Referencia",2023,"Proba",0.19,"UPME Plan de expansion"]
[null,null,null,null,null,"Mínimo",{"$f":"MIN(Y9:Y400)","v":10389057.803607402},"CR1-PE",{"$f":"((I2-I3))","v":1149540},"COP/MWh"]
[]
[null,null,null,null,null,null,null,null,0,1,2,3,4,5,6,7,8,9,10,11,12,13,14]
["Codigo","Nombre","capacidad","Tecnologia","Año de entrada","FP","Factor ENFICC","ENFICC/a MWh/a","Flujo Descontado 0","Flujo Descontado 1","Flujo Descontado 2","Flujo Descontado 3","Flujo Descontado 4","Flujo Descontado 5","Flujo Descontado 6","Flujo Descontado 7","Flujo Descontado 8","Flujo Descontado 9","Flujo Descontado 10","Flujo Descontado 11","Flujo Descontado 12","Flujo Descontado 13","Flujo Descontado 14","VPN","Beneficio/kW"]
[{"$f":"IF(ISBLANK(InfoPro!A2),\"\",InfoPro!A2)","v":"SC_1323_A1"},{"$f":"IF(ISBLANK(InfoPro!B2),\"\",InfoPro!B2)","v":"GEN ARAUCA"},{"$f":"IF(ISBLANK(InfoPro!E2),\"\",InfoPro!E2)","v":30},{"$f":"IF(ISBLANK(InfoPro!F2),\"\",InfoPro!F2)","v":"Termica - Ciclo Abierto"},{"$f":"IF(ISBLANK(InfoPro!I2),\"\",YEAR(InfoPro!I2)-$G$4)","v":0},{"$f":"IF(B9=\"\",\"\",VLOOKUP(D9,Tablas!$B$2:$E$13,2,FALSE))","v":0.85},{"$f":"IF(B9=\"\",\"\",VLOOKUP(D9,Tablas!$B$2:$F$13,5,FALSE))","v":0.83},{"$f":"IF(C9=\"\",\"\",+C9*G9*F9*24*365)","v":185405.4},{"$f":"IF($H9=\"\",\"\",(1/(1+$C$4)^(I$7+$E9))*$H9*$I$5*$I$4)","v":40494875468.040001},{"$f":"IF($H9=\"\",\"\",(1/(1+$C$4)^(J$7+$E9))*$H9*$I$5*$I$4)","v":36220818844.400719},32397870164.938026,28978416963.271946,25919872060.171688,23184143166.522083,20737158467.372166,18548442278.508202,16590735490.615568,14839656073.895859,13273395414.933681,11872446703.876286,10619361989.15589,{"$f":"IF($H9=\"\",\"\",(1/(1+$C$4)^(V$7+$E9))*$H9*$I$5*$I$4)","v":9498534874.0213699},8496006148.4985418,{"$f":"IF(W9=\"\",\"\",SUM(I9:W9))","v":311671734108.22205},{"$f":"IF(C9=0,0,IF(X9=\"\",\"\",X9/(C9*1000)))","v":10389057.803607402}]
[{"$f":"IF(ISBLANK(InfoPro!A3),\"\",InfoPro!A3)","v":"SC_1323_A2"},{"$f":"IF(ISBLANK(InfoPro!B3),\"\",InfoPro!B3)","v":"GEN ARAUCA"},{"$f":"IF(ISBLANK(InfoPro!E3),\"\",InfoPro!E3)","v":30},{"$f":"IF(ISBLANK(InfoPro!F3),\"\",InfoPro!F3)","v":"Termica - Ciclo Abierto"},{"$f":"IF(ISBLANK(InfoPro!I3),\"\",YEAR(InfoPro!I3)-$G$4)","v":0},{"$f":"IF(B10=\"\",\"\",VLOOKUP(D10,Tablas!$B$2:$E$13,2,FALSE))","v":0.85},{"$f":"IF(B10=\"\",\"\",VLOOKUP(D10,Tablas!$B$2:$F$13,5,FALSE))","v":0.83},{"$f":"IF(C10=\"\",\"\",+C10*G10*F10*24*365)","v":185405.4},40494875468.040001,36220818844.400719,32397870164.938026,28978416963.271946,25919872060.171688,23184143166.522083,20737158467.372166,18548442278.508202,16590735490.615568,14839656073.895859,13273395414.933681,11872446703.876286,10619361989.15589,9498534874.0213699,8496006148.4985418,{"$f":"IF(W10=\"\",\"\",SUM(I10:W10))","v":311671734108.22205},{"$f":"IF(C10=0,0,IF(X10=\"\",\"\",X10/(C10*1000)))","v":10389057.803607402}]
[{"$f":"IF(ISBLANK(InfoPro!A4),\"\",InfoPro!A4)","v":"SC_1323_A3"},{"$f":"IF(ISBLANK(InfoPro!B4),\"\",InfoPro!B4)","v":"GEN ARAUCA"},{"$f":"IF(ISBLANK(InfoPro!E4),\"\",InfoPro!E4)","v":30},{"$f":"IF(ISBLANK(InfoPro!F4),\"\",InfoPro!F4)","v":"Termica - Ciclo Abierto"},{"$f":"IF(ISBLANK(InfoPro!I4),\"\",YEAR(InfoPro!I4)-$G$4)","v":0},{"$f":"IF(B11=\"\",\"\",VLOOKUP(D11,Tablas!$B$2:$E$13,2,FALSE))","v":0.85},{"$f":"IF(B11=\"\",\"\",VLOOKUP(D11,Tablas!$B$2:$F$13,5,FALSE))","v":0.83},185405.4,40494875468.040001,36220818844.400719,32397870164.938026,28978416963.271946,25919872060.171688,23184143166.522083,20737158467.372166,18548442278.508202,16590735490.615568,14839656073.895859,13273395414.933681,11872446703.876286,10619361989.15589,9498534874.0213699,8496006148.4985418,311671734108.22205,10389057.803607402]
[{"$f":"IF(ISBLANK(InfoPro!A5),\"\",InfoPro!A5)","v":""},{"$f":"IF(ISBLANK(InfoPro!B5),\"\",InfoPro!B5)","v":""},{"$f":"IF(ISBLANK(InfoPro!E5),\"\",InfoPro!E5)","v":""},{"$f":"IF(ISBLANK(InfoPro!F5),\"\",InfoPro!F5)","v":""},{"$f":"IF(ISBLANK(InfoPro!I5),\"\",YEAR(InfoPro!I5)-$G$4)","v":""},{"$f":"IF(B12=\"\",\"\",VLOOKUP(D12,Tablas!$B$2:$E$13,2,FALSE))","v":""},{"$f":"IF(B12=\"\",\"\",VLOOKUP(D12,Tablas!$B$2:$F$13,5,FALSE))","v":""},"","","","","","","","","","","","","","","","","",""]
[{"$f":"IF(ISBLANK(InfoPro!A6),\"\",InfoPro!A6)","v":""},{"$f":"IF(ISBLANK(InfoPro!B6),\"\",InfoPro!B6)","v":""},{"$f":"IF(ISBLANK(InfoPro!E6),\"\",InfoPro!E6)","v":""},{"$f":"IF(ISBLANK(InfoPro!F6),\"\",InfoPro!F6)","v":""},{"$f":"IF(ISBLANK(InfoPro!I6),\"\",YEAR(InfoPro!I6)-$G$4)","v":""},{"$f":"IF(B13=\"\",\"\",VLOOKUP(D13,Tablas!$B$2:$E$13,2,FALSE))","v":""},{"$f":"IF(B13=\"\",\"\",VLOOKUP(D13,Tablas!$B$2:$F$13,5,FALSE))","v":""},"","","","","","","","","","","","","","","","","",""]
[{"$f":"IF(ISBLANK(InfoPro!A7),\"\",InfoPro!A7)","v":""},{"$f":"IF(ISBLANK(InfoPro!B7),\"\",InfoPro!B7)","v":""},{"$f":"IF(ISBLANK(InfoPro!E7),\"\",InfoPro!E7)","v":""},{"$f":"IF(ISBLANK(InfoPro!F7),\"\",InfoPro!F7)","v":""},{"$f":"IF(ISBLANK(InfoPro!I7),\"\",YEAR(InfoPro!I7)-$G$4)","v":""},{"$f":"IF(B14=\"\",\"\",VLOOKUP(D14,Tablas!$B$2:$E$13,2,FALSE))","v":""},{"$f":"IF(B14=\"\",\"\",VLOOKUP(D14,Tablas!$B$2:$F$13,5,FALSE))","v":""},"","","","","","","","","","","","","","","","","",""]
[{"$f":"IF(ISBLANK(InfoPro!A8),\"\",InfoPro!A8)","v":""},{"$f":"IF(ISBLANK(InfoPro!B8),\"\",InfoPro!B8)","v":""},{"$f":"IF(ISBLANK(InfoPro!E8),\"\",InfoPro!E8)","v":""},{"$f":"IF(ISBLANK(InfoPro!F8),\"\",InfoPro!F8)","v":""},{"$f":"IF(ISBLANK(InfoPro!I8),\"\",YEAR(InfoPro!I8)-$G$4)","v":""},{"$f":"IF(B15=\"\",\"\",VLOOKUP(D15,Tablas!$B$2:$E$13,2,FALSE))","v":""},{"$f":"IF(B15=\"\",\"\",VLOOKUP(D15,Tablas!$B$2:$F$13,5,FALSE))","v":""},"","","","","","","","","","","","","","","","","",""]
[{"$f":"IF(ISBLANK(InfoPro!A9),\"\",InfoPro!A9)","v":""},{"$f":"IF(ISBLANK(InfoPro!B9),\"\",InfoPro!B9)","v":""},{"$f":"IF(ISBLANK(InfoPro!E9),\"\",InfoPro!E9)","v":""},{"$f":"IF(ISBLANK(InfoPro!F9),\"\",InfoPro!F9)","v":""},{"$f":"IF(ISBLANK(InfoPro!I9),\"\",YEAR(InfoPro!I9)-$G$4)","v":""},{"$f":"IF(B16=\"\",\"\",VLOOKUP(D16,Tablas!$B$2:$E$13,2,FALSE))","v":""},{"$f":"IF(B16=\"\",\"\",VLOOKUP(D16,Tablas!$B$2:$F$13,5,FALSE))","v":""},"","","","","","","","","","","","","","","","","",""]
[{"$f":"IF(ISBLANK(InfoPro!A10),\"\",InfoPro!A10)","v":""},{"$f":"IF(ISBLANK(InfoPro!B10),\"\",InfoPro!B10)","v":""},{"$f":"IF(ISBLANK(InfoPro!E10),\"\",InfoPro!E10)","v":""},{"$f":"IF(ISBLANK(InfoPro!F10),\"\",InfoPro!F10)","v":""},{"$f":"IF(ISBLANK(InfoPro!I10),\"\",YEAR(InfoPro!I10)-$G$4)","v":""},{"$f":"IF(B17=\"\",\"\",VLOOKUP(D17,Tablas!$B$2:$E$13,2,FALSE))","v":""},{"$f":"IF(B17=\"\",\"\",VLOOKUP(D17,Tablas!$B$2:$F$13,5,FALSE))","v":""},"","","","","","","","","","","","","","","","","",""]
[{"$f":"IF(ISBLANK(InfoPro!A11),\"\",InfoPro!A11)","v":""},{"$f":"IF(ISBLANK(InfoPro!B11),\"\",InfoPro!B11)","v":""},{"$f":"IF(ISBLANK(InfoPro!E11),\"\",InfoPro!E11)","v":""},{"$f":"IF(ISBLANK(InfoPro!F11),\"\",InfoPro!F11)","v":""},{"$f":"IF(ISBLANK(InfoPro!I11),\"\",YEAR(InfoPro!I11)-$G$4)","v":""},{"$f":"IF(B18=\"\",\"\",VLOOKUP(D18,Tablas!$B$2:$E$13,2,FALSE))","v":""},{"$f":"IF(B18=\"\",\"\",VLOOKUP(D18,Tablas!$B$2:$F$13,5,FALSE))","v":""},"","","","","","","","","","","","","","","","","",""]
[{"$f":"IF(ISBLANK(InfoPro!A12),\"\",InfoPro!A12)","v":""},{"$f":"IF(ISBLANK(InfoPro!B12),\"\",InfoPro!B12)","v":""},{"$f":"IF(ISBLANK(InfoPro!E12),\"\",InfoPro!E12)","v":""},{"$f":"IF(ISBLANK(InfoPro!F12),\"\",InfoPro!F12)","v":""},{"$f":"IF(ISBLANK(InfoPro!I12),\"\",YEAR(InfoPro!I12)-$G$4)","v":""},{"$f":"IF(B19=\"\",\"\",VLOOKUP(D19,Tablas!$B$2:$E$13,2,FALSE))","v":""},{"$f":"IF(B19=\"\",\"\",VLOOKUP(D19,Tablas!$B$2:$F$13,5,FALSE))","v":""},"",{"$f":"IF($H19=\"\",\"\",(1/(1+$C$4)^(I$7+$E19))*$H19*$I$5*$I$4)","v":""},"","","","","","","","","","","","","","","",""]
[{"$f":"IF(ISBLANK(InfoPro!A13),\"\",InfoPro!A13)","v":""},{"$f":"IF(ISBLANK(InfoPro!B13),\"\",InfoPro!B13)","v":""},{"$f":"IF(ISBLANK(InfoPro!E13),\"\",InfoPro!E13)","v":""},{"$f":"IF(ISBLANK(InfoPro!F13),\"\",InfoPro!F13)","v":""},{"$f":"IF(ISBLANK(InfoPro!I13),\"\",YEAR(InfoPro!I13)-$G$4)","v":""},{"$f":"IF(B20=\"\",\"\",VLOOKUP(D20,Tablas!$B$2:$E$13,2,FALSE))","v":""},{"$f":"IF(B20=\"\",\"\",VLOOKUP(D20,Tablas!$B$2:$F$13,5,FALSE))","v":""},"","","","","","","","","","","","","","","","","",""]
[{"$f":"IF(ISBLANK(InfoPro!A14),\"\",InfoPro!A14)","v":""},{"$f":"IF(ISBLANK(InfoPro!B14),\"\",InfoPro!B14)","v":""},{"$f":"IF(ISBLANK(InfoPro!E14),\"\",InfoPro!E14)","v":""},{"$f":"IF(ISBLANK(InfoPro!F14),\"\",InfoPro!F14)","v":""},{"$f":"IF(ISBLANK(InfoPro!I14),\"\",YEAR(InfoPro!I14)-$G$4)","v":""},{"$f":"IF(B21=\"\",\"\",VLOOKUP(D21,Tablas!$B$2:$E$13,2,FALSE))","v":""},{"$f":"IF(B21=\"\",\"\",VLOOKUP(D21,Tablas!$B$2:$F$13,5,FALSE))","v":""},"","","","","","","","","","","","","","","","","",""]
[{"$f":"IF(ISBLANK(InfoPro!A15),\"\",InfoPro!A15)","v":""},{"$f":"IF(ISBLANK(InfoPro!B15),\"\",InfoPro!B15)","v":""},{"$f":"IF(ISBLANK(InfoPro!E15),\"\",InfoPro!E15)","v":""},{"$f":"IF(ISBLANK(InfoPro!F15),\"\",InfoPro!F15)","v":""},{"$f":"IF(ISBLANK(InfoPro!I15),\"\",YEAR(InfoPro!I15)-$G$4)","v":""},{"$f":"IF(B22=\"\",\"\",VLOOKUP(D22,Tablas!$B$2:$E$13,2,FALSE))","v":""},{"$f":"IF(B22=\"\",\"\",VLOOKUP(D22,Tablas!$B$2:$F$13,5,FALSE))","v":""},"","","","","","","","","","","","","","","","","",""]
[{"$f":"IF(ISBLANK(InfoPro!A16),\"\",InfoPro!A16)","v":""},{"$f":"IF(ISBLANK(InfoPro!B16),\"\",InfoPro!B16)","v":""},{"$f":"IF(ISBLANK(InfoPro!E16),\"\",InfoPro!E16)","v":""},{"$f":"IF(ISBLANK(InfoPro!F16),\"\",InfoPro!F16)","v":""},{"$f":"IF(ISBLANK(InfoPro!I16),\"\",YEAR(InfoPro!I16)-$G$4)","v":""},{"$f":"IF(B23=\"\",\"\",VLOOKUP(D23,Tablas!$B$2:$E$13,2,FALSE))","v":""},{"$f":"IF(B23=\"\",\"\",VLOOKUP(D23,Tablas!$B$2:$F$13,5,FALSE))","v":""},"","","","","","","","","","","","","","","","","",""]
[{"$f":"IF(ISBLANK(InfoPro!A17),\"\",InfoPro!A17)","v":""},{"$f":"IF(ISBLANK(InfoPro!B17),\"\",InfoPro!B17)","v":""},{"$f":"IF(ISBLANK(InfoPro!E17),\"\",InfoPro!E17)","v":""},{"$f":"IF(ISBLANK(InfoPro!F17),\"\",InfoPro!F17)","v":""},{"$f":"IF(ISBLANK(InfoPro!I17),\"\",YEAR(InfoPro!I17)-$G$4)","v":""},{"$f":"IF(B24=\"\",\"\",VLOOKUP(D24,Tablas!$B$2:$E$13,2,FALSE))","v":""},{"$f":"IF(B24=\"\",\"\",VLOOKUP(D24,Tablas!$B$2:$F$13,5,FALSE))","v":""},"","","","","","","","","","","","","","","","","",""]
[{"$f":"IF(ISBLANK(InfoPro!A18),\"\",InfoPro!A18)","v":""},{"$f":"IF(ISBLANK(InfoPro!B18),\"\",InfoPro!B18)","v":""},{"$f":"IF(ISBLANK(InfoPro!E18),\"\",InfoPro!E18)","v":""},{"$f":"IF(ISBLANK(InfoPro!F18),\"\",InfoPro!F18)","v":""},{"$f":"IF(ISBLANK(InfoPro!I18),\"\",YEAR(InfoPro!I18)-$G$4)","v":""},{"$f":"IF(B25=\"\",\"\",VLOOKUP(D25,Tablas!$B$2:$E$13,2,FALSE))","v":""},{"$f":"IF(B25=\"\",\"\",VLOOKUP(D25,Tablas!$B$2:$F$13,5,FALSE))","v":""},"","","","","","","","","","","","","","","","","",""]
[{"$f":"IF(ISBLANK(InfoPro!A19),\"\",InfoPro!A19)","v":""},{"$f":"IF(ISBLANK(InfoPro!B19),\"\",InfoPro!B19)","v":""},{"$f":"IF(ISBLANK(InfoPro!E19),\"\",InfoPro!E19)","v":""},{"$f":"IF(ISBLANK(InfoPro!F19),\"\",InfoPro!F19)","v":""},{"$f":"IF(ISBLANK(InfoPro!I19),\"\",YEAR(InfoPro!I19)-$G$4)","v":""},{"$f":"IF(B26=\"\",\"\",VLOOKUP(D26,Tablas!$B$2:$E$13,2,FALSE))","v":""},{"$f":"IF(B26=\"\",\"\",VLOOKUP(D26,Tablas!$B$2:$F$13,5,FALSE))","v":""},"","","","","","","","","","","","","","","","","",""]
[{"$f":"IF(ISBLANK(InfoPro!A20),\"\",InfoPro!A20)","v":""},{"$f":"IF(ISBLANK(InfoPro!B20),\"\",InfoPro!B20)","v":""},{"$f":"IF(ISBLANK(InfoPro!E20),\"\",InfoPro!E20)","v":""},{"$f":"IF(ISBLANK(InfoPro!F20),\"\",InfoPro!F20)","v":""},{"$f":"IF(ISBLANK(InfoPro!I20),\"\",YEAR(InfoPro!I20)-$G$4)","v":""},{"$f":"IF(B27=\"\",\"\",VLOOKUP(D27,Tablas!$B$2:$E$13,2,FALSE))","v":""},{"$f":"IF(B27=\"\",\"\",VLOOKUP(D27,Tablas!$B$2:$F$13,5,FALSE))","v":""},"","","","","","","","","","","","","","","","","",""]
[{"$f":"IF(ISBLANK(InfoPro!A21),\"\",InfoPro!A21)","v":""},{"$f":"IF(ISBLANK(InfoPro!B21),\"\",InfoPro!B21)","v":""},{"$f":"IF(ISBLANK(InfoPro!E21),\"\",InfoPro!E21)","v":""},{"$f":"IF(ISBLANK(InfoPro!F21),\"\",InfoPro!F21)","v":""},{"$f":"IF(ISBLANK(InfoPro!I21),\"\",YEAR(InfoPro!I21)-$G$4)","v":""},{"$f":"IF(B28=\"\",\"\",VLOOKUP(D28,Tablas!$B$2:$E$13,2,FALSE))","v":""},{"$f":"IF(B28=\"\",\"\",VLOOKUP(D28,Tablas!$B$2:$F$13,5,FALSE))","v":""},"","","","","","","","","","","","","","","","","",""]
[{"$f":"IF(ISBLANK(InfoPro!A22),\"\",InfoPro!A22)","v":""},{"$f":"IF(ISBLANK(InfoPro!B22),\"\",InfoPro!B22)","v":""},{"$f":"IF(ISBLANK(InfoPro!E22),\"\",InfoPro!E22)","v":""},{"$f":"IF(ISBLANK(InfoPro!F22),\"\",InfoPro!F22)","v":""},{"$f":"IF(ISBLANK(InfoPro!I22),\"\",YEAR(InfoPro!I22)-$G$4)","v":""},{"$f":"IF(B29=\"\",\"\",VLOOKUP(D29,Tablas!$B$2:$E$13,2,FALSE))","v":""},{"$f":"IF(B29=\"\",\"\",VLOOKUP(D29,Tablas!$B$2:$F$13,5,FALSE))","v":""},"",{"$f":"IF($H29=\"\",\"\",(1/(1+$C$4)^(I$7+$E29))*$H29*$I$5*$I$4)","v":""},"","","","","","","","","","","","","","","",""]
[{"$f":"IF(ISBLANK(InfoPro!A23),\"\",InfoPro!A23)","v":""},{"$f":"IF(ISBLANK(InfoPro!B23),\"\",InfoPro!B23)","v":""},{"$f":"IF(ISBLANK(InfoPro!E23),\"\",InfoPro!E23)","v":""},{"$f":"IF(ISBLANK(InfoPro!F23),\"\",InfoPro!F23)","v":""},{"$f":"IF(ISBLANK(InfoPro!I23),\"\",YEAR(InfoPro!I23)-$G$4)","v":""},{"$f":"IF(B30=\"\",\"\",VLOOKUP(D30,Tablas!$B$2:$E$13,2,FALSE))","v":""},{"$f":"IF(B30=\"\",\"\",VLOOKUP(D30,Tablas!$B$2:$F$13,5,FALSE))","v":""},"","","","","","","","","","","","","","","","","",""]
[{"$f":"IF(ISBLANK(InfoPro!A24),\"\",InfoPro!A24)","v":""},{"$f":"IF(ISBLANK(InfoPro!B24),\"\",InfoPro!B24)","v":""},{"$f":"IF(ISBLANK(InfoPro!E24),\"\",InfoPro!E24)","v":""},{"$f":"IF(ISBLANK(InfoPro!F24),\"\",InfoPro!F24)","v":""},{"$f":"IF(ISBLANK(InfoPro!I24),\"\",YEAR(InfoPro!I24)-$G$4)","v":""},{"$f":"IF(B31=\"\",\"\",VLOOKUP(D31,Tablas!$B$2:$E$13,2,FALSE))","v":""},{"$f":"IF(B31=\"\",\"\",VLOOKUP(D31,Tablas!$B$2:$F$13,5,FALSE))","v":""},"","","","","","","","","","","","","","","","","",""]
[{"$f":"IF(ISBLANK(InfoPro!A25),\"\",InfoPro!A25)","v":""},{"$f":"IF(ISBLANK(InfoPro!B25),\"\",InfoPro!B25)","v":""},{"$f":"IF(ISBLANK(InfoPro!E25),\"\",InfoPro!E25)","v":""},{"$f":"IF(ISBLANK(InfoPro!F25),\"\",InfoPro!F25)","v":""},{"$f":"IF(ISBLANK(InfoPro!I25),\"\",YEAR(InfoPro!I25)-$G$4)","v":""},{"$f":"IF(B32=\"\",\"\",VLOOKUP(D32,Tablas!$B$2:$E$13,2,FALSE))","v":""},{"$f":"IF(B32=\"\",\"\",VLOOKUP(D32,Tablas!$B$2:$F$13,5,FALSE))","v":""},"","","","","","","","","","","","","","","","","",""]
[{"$f":"IF(ISBLANK(InfoPro!A26),\"\",InfoPro!A26)","v":""},{"$f":"IF(ISBLANK(InfoPro!B26),\"\",InfoPro!B26)","v":""},{"$f":"IF(ISBLANK(InfoPro!E26),\"\",InfoPro!E26)","v":""},{"$f":"IF(ISBLANK(InfoPro!F26),\"\",InfoPro!F26)","v":""},{"$f":"IF(ISBLANK(InfoPro!I26),\"\",YEAR(InfoPro!I26)-$G$4)","v":""},{"$f":"IF(B33=\"\",\"\",VLOOKUP(D33,Tablas!$B$2:$E$13,2,FALSE))","v":""},{"$f":"IF(B33=\"\",\"\",VLOOKUP(D33,Tablas!$B$2:$F$13,5,FALSE))","v":""},"","","","","","","","","","","","","","","","","",""]
[{"$f":"IF(ISBLANK(InfoPro!A27),\"\",InfoPro!A27)","v":""},{"$f":"IF(ISBLANK(InfoPro!B27),\"\",InfoPro!B27)","v":""},{"$f":"IF(ISBLANK(InfoPro!E27),\"\",InfoPro!E27)","v":""},{"$f":"IF(ISBLANK(InfoPro!F27),\"\",InfoPro!F27)","v":""},{"$f":"IF(ISBLANK(InfoPro!I27),\"\",YEAR(InfoPro!I27)-$G$4)","v":""},{"$f":"IF(B34=\"\",\"\",VLOOKUP(D34,Tablas!$B$2:$E$13,2,FALSE))","v":""},{"$f":"IF(B34=\"\",\"\",VLOOKUP(D34,Tablas!$B$2:$F$13,5,FALSE))","v":""},"","","","","","","","","","","","","","","","","",""]
[{"$f":"IF(ISBLANK(InfoPro!A28),\"\",InfoPro!A28)","v":""},{"$f":"IF(ISBLANK(InfoPro!B28),\"\",InfoPro!B28)","v":""},{"$f":"IF(ISBLANK(InfoPro!E28),\"\",InfoPro!E28)","v":""},{"$f":"IF(ISBLANK(InfoPro!F28),\"\",InfoPro!F28)","v":""},{"$f":"IF(ISBLANK(InfoPro!I28),\"\",YEAR(InfoPro!I28)-$G$4)","v":""},{"$f":"IF(B35=\"\",\"\",VLOOKUP(D35,Tablas!$B$2:$E$13,2,FALSE))","v":""},{"$f":"IF(B35=\"\",\"\",VLOOKUP(D35,Tablas!$B$2:$F$13,5,FALSE))","v":""},"","","","","","","","","","","","","","","","","",""]
[{"$f":"IF(ISBLANK(InfoPro!A29),\"\",InfoPro!A29)","v":""},{"$f":"IF(ISBLANK(InfoPro!B29),\"\",InfoPro!B29)","v":""},{"$f":"IF(ISBLANK(InfoPro!E29),\"\",InfoPro!E29)","v":""},{"$f":"IF(ISBLANK(InfoPro!F29),\"\",InfoPro!F29)","v":""},{"$f":"IF(ISBLANK(InfoPro!I29),\"\",YEAR(InfoPro!I29)-$G$4)","v":""},{"$f":"IF(B36=\"\",\"\",VLOOKUP(D36,Tablas!$B$2:$E$13,2,FALSE))","v":""},{"$f":"IF(B36=\"\",\"\",VLOOKUP(D36,Tablas!$B$2:$F$13,5,FALSE))","v":""},"","","","","","","","","","","","","","","","","",""]
[{"$f":"IF(ISBLANK(InfoPro!A30),\"\",InfoPro!A30)","v":""},{"$f":"IF(ISBLANK(InfoPro!B30),\"\",InfoPro!B30)","v":""},{"$f":"IF(ISBLANK(InfoPro!E30),\"\",InfoPro!E30)","v":""},{"$f":"IF(ISBLANK(InfoPro!F30),\"\",InfoPro!F30)","v":""},{"$f":"IF(ISBLANK(InfoPro!I30),\"\",YEAR(InfoPro!I30)-$G$4)","v":""},{"$f":"IF(B37=\"\",\"\",VLOOKUP(D37,Tablas!$B$2:$E$13,2,FALSE))","v":""},{"$f":"IF(B37=\"\",\"\",VLOOKUP(D37,Tablas!$B$2:$F$13,5,FALSE))","v":""},"","","","","","","","","","","","","","","","","",""]
[{"$f":"IF(ISBLANK(InfoPro!A31),\"\",InfoPro!A31)","v":""},{"$f":"IF(ISBLANK(InfoPro!B31),\"\",InfoPro!B31)","v":""},{"$f":"IF(ISBLANK(InfoPro!E31),\"\",InfoPro!E31)","v":""},{"$f":"IF(ISBLANK(InfoPro!F31),\"\",InfoPro!F31)","v":""},{"$f":"IF(ISBLANK(InfoPro!I31),\"\",YEAR(InfoPro!I31)-$G$4)","v":""},{"$f":"IF(B38=\"\",\"\",VLOOKUP(D38,Tablas!$B$2:$E$13,2,FALSE))","v":""},{"$f":"IF(B38=\"\",\"\",VLOOKUP(D38,Tablas!$B$2:$F$13,5,FALSE))","v":""},"","","","","","","","","","","","","","","","","",""]
[{"$f":"IF(ISBLANK(InfoPro!A32),\"\",InfoPro!A32)","v":""},{"$f":"IF(ISBLANK(InfoPro!B32),\"\",InfoPro!B32)","v":""},{"$f":"IF(ISBLANK(InfoPro!E32),\"\",InfoPro!E32)","v":""},{"$f":"IF(ISBLANK(InfoPro!F32),\"\",InfoPro!F32)","v":""},{"$f":"IF(ISBLANK(InfoPro!I32),\"\",YEAR(InfoPro!I32)-$G$4)","v":""},{"$f":"IF(B39=\"\",\"\",VLOOKUP(D39,Tablas!$B$2:$E$13,2,FALSE))","v":""},{"$f":"IF(B39=\"\",\"\",VLOOKUP(D39,Tablas!$B$2:$F$13,5,FALSE))","v":""},"",{"$f":"IF($H39=\"\",\"\",(1/(1+$C$4)^(I$7+$E39))*$H39*$I$5*$I$4)","v":""},"","","","","","","","","","","","","","","",""]
[{"$f":"IF(ISBLANK(InfoPro!A33),\"\",InfoPro!A33)","v":""},{"$f":"IF(ISBLANK(InfoPro!B33),\"\",InfoPro!B33)","v":""},{"$f":"IF(ISBLANK(InfoPro!E33),\"\",InfoPro!E33)","v":""},{"$f":"IF(ISBLANK(InfoPro!F33),\"\",InfoPro!F33)","v":""},{"$f":"IF(ISBLANK(InfoPro!I33),\"\",YEAR(InfoPro!I33)-$G$4)","v":""},{"$f":"IF(B40=\"\",\"\",VLOOKUP(D40,Tablas!$B$2:$E$13,2,FALSE))","v":""},{"$f":"IF(B40=\"\",\"\",VLOOKUP(D40,Tablas!$B$2:$F$13,5,FALSE))","v":""},"","","","","","","","","","","","","","","","","",""]
[{"$f":"IF(ISBLANK(InfoPro!A34),\"\",InfoPro!A34)","v":""},{"$f":"IF(ISBLANK(InfoPro!B34),\"\",InfoPro!B34)","v":""},{"$f":"IF(ISBLANK(InfoPro!E34),\"\",InfoPro!E34)","v":""},{"$f":"IF(ISBLANK(InfoPro!F34),\"\",InfoPro!F34)","v":""},{"$f":"IF(ISBLANK(InfoPro!I34),\"\",YEAR(InfoPro!I34)-$G$4)","v":""},{"$f":"IF(B41=\"\",\"\",VLOOKUP(D41,Tablas!$B$2:$E$13,2,FALSE))","v":""},{"$f":"IF(B41=\"\",\"\",VLOOKUP(D41,Tablas!$B$2:$F$13,5,FALSE))","v":""},{"$f":"IF(C41=\"\",\"\",+C41*G41*F41*24*365)","v":""},"","","","","","","","","","","","","","","","",""]
[{"$f":"IF(ISBLANK(InfoPro!A35),\"\",InfoPro!A35)","v":""},{"$f":"IF(ISBLANK(InfoPro!B35),\"\",InfoPro!B35)","v":""},{"$f":"IF(ISBLANK(InfoPro!E35),\"\",InfoPro!E35)","v":""},{"$f":"IF(ISBLANK(InfoPro!F35),\"\",InfoPro!F35)","v":""},{"$f":"IF(ISBLANK(InfoPro!I35),\"\",YEAR(InfoPro!I35)-$G$4)","v":""},{"$f":"IF(B42=\"\",\"\",VLOOKUP(D42,Tablas!$B$2:$E$13,2,FALSE))","v":""},{"$f":"IF(B42=\"\",\"\",VLOOKUP(D42,Tablas!$B$2:$F$13,5,FALSE))","v":""},"","","","","","","","","","","","","","","","","",""]
[{"$f":"IF(ISBLANK(InfoPro!A36),\"\",InfoPro!A36)","v":""},{"$f":"IF(ISBLANK(InfoPro!B36),\"\",InfoPro!B36)","v":""},{"$f":"IF(ISBLANK(InfoPro!E36),\"\",InfoPro!E36)","v":""},{"$f":"IF(ISBLANK(InfoPro!F36),\"\",InfoPro!F36)","v":""},{"$f":"IF(ISBLANK(InfoPro!I36),\"\",YEAR(InfoPro!I36)-$G$4)","v":""},{"$f":"IF(B43=\"\",\"\",VLOOKUP(D43,Tablas!$B$2:$E$13,2,FALSE))","v":""},{"$f":"IF(B43=\"\",\"\",VLOOKUP(D43,Tablas!$B$2:$F$13,5,FALSE))","v":""},"","","","","","","","","","","","","","","","","",""]
[{"$f":"IF(ISBLANK(InfoPro!A37),\"\",InfoPro!A37)","v":""},{"$f":"IF(ISBLANK(InfoPro!B37),\"\",InfoPro!B37)","v":""},{"$f":"IF(ISBLANK(InfoPro!E37),\"\",InfoPro!E37)","v":""},{"$f":"IF(ISBLANK(InfoPro!F37),\"\",InfoPro!F37)","v":""},{"$f":"IF(ISBLANK(InfoPro!I37),\"\",YEAR(InfoPro!I37)-$G$4)","v":""},{"$f":"IF(B44=\"\",\"\",VLOOKUP(D44,Tablas!$B$2:$E$13,2,FALSE))","v":""},{"$f":"IF(B44=\"\",\"\",VLOOKUP(D44,Tablas!$B$2:$F$13,5,FALSE))","v":""},"","","","","","","","","","","","","","","","","",""]
[{"$f":"IF(ISBLANK(InfoPro!A38),\"\",InfoPro!A38)","v":""},{"$f":"IF(ISBLANK(InfoPro!B38),\"\",InfoPro!B38)","v":""},{"$f":"IF(ISBLANK(InfoPro!E38),\"\",InfoPro!E38)","v":""},{"$f":"IF(ISBLANK(InfoPro!F38),\"\",InfoPro!F38)","v":""},{"$f":"IF(ISBLANK(InfoPro!I38),\"\",YEAR(InfoPro!I38)-$G$4)","v":""},{"$f":"IF(B45=\"\",\"\",VLOOKUP(D45,Tablas!$B$2:$E$13,2,FALSE))","v":""},{"$f":"IF(B45=\"\",\"\",VLOOKUP(D45,Tablas!$B$2:$F$13,5,FALSE))","v":""},"","","","","","","","","","","","","","","","","",""]
[{"$f":"IF(ISBLANK(InfoPro!A39),\"\",InfoPro!A39)","v":""},{"$f":"IF(ISBLANK(InfoPro!B39),\"\",InfoPro!B39)","v":""},{"$f":"IF(ISBLANK(InfoPro!E39),\"\",InfoPro!E39)","v":""},{"$f":"IF(ISBLANK(InfoPro!F39),\"\",InfoPro!F39)","v":""},{"$f":"IF(ISBLANK(InfoPro!I39),\"\",YEAR(InfoPro!I39)-$G$4)","v":""},{"$f":"IF(B46=\"\",\"\",VLOOKUP(D46,Tablas!$B$2:$E$13,2,FALSE))","v":""},{"$f":"IF(B46=\"\",\"\",VLOOKUP(D46,Tablas!$B$2:$F$13,5,FALSE))","v":""},"","","","","","","","","","","","","","","","","",""]
[{"$f":"IF(ISBLANK(InfoPro!A40),\"\",InfoPro!A40)","v":""},{"$f":"IF(ISBLANK(InfoPro!B40),\"\",InfoPro!B40)","v":""},{"$f":"IF(ISBLANK(InfoPro!E40),\"\",InfoPro!E40)","v":""},{"$f":"IF(ISBLANK(InfoPro!F40),\"\",InfoPro!F40)","v":""},{"$f":"IF(ISBLANK(InfoPro!I40),\"\",YEAR(InfoPro!I40)-$G$4)","v":""},{"$f":"IF(B47=\"\",\"\",VLOOKUP(D47,Tablas!$B$2:$E$13,2,FALSE))","v":""},{"$f":"IF(B47=\"\",\"\",VLOOKUP(D47,Tablas!$B$2:$F$13,5,FALSE))","v":""},"","","","","","","","","","","","","","","","","",""]
[{"$f":"IF(ISBLANK(InfoPro!A41),\"\",InfoPro!A41)","v":""},{"$f":"IF(ISBLANK(InfoPro!B41),\"\",InfoPro!B41)","v":""},{"$f":"IF(ISBLANK(InfoPro!E41),\"\",InfoPro!E41)","v":""},{"$f":"IF(ISBLANK(InfoPro!F41),\"\",InfoPro!F41)","v":""},{"$f":"IF(ISBLANK(InfoPro!I41),\"\",YEAR(InfoPro!I41)-$G$4)","v":""},{"$f":"IF(B48=\"\",\"\",VLOOKUP(D48,Tablas!$B$2:$E$13,2,FALSE))","v":""},{"$f":"IF(B48=\"\",\"\",VLOOKUP(D48,Tablas!$B$2:$F$13,5,FALSE))","v":""},"","","","","","","","","","","","","","","","","",""]
[{"$f":"IF(ISBLANK(InfoPro!A42),\"\",InfoPro!A42)","v":""},{"$f":"IF(ISBLANK(InfoPro!B42),\"\",InfoPro!B42)","v":""},{"$f":"IF(ISBLANK(InfoPro!E42),\"\",InfoPro!E42)","v":""},{"$f":"IF(ISBLANK(InfoPro!F42),\"\",InfoPro!F42)","v":""},{"$f":"IF(ISBLANK(InfoPro!I42),\"\",YEAR(InfoPro!I42)-$G$4)","v":""},{"$f":"IF(B49=\"\",\"\",VLOOKUP(D49,Tablas!$B$2:$E$13,2,FALSE))","v":""},{"$f":"IF(B49=\"\",\"\",VLOOKUP(D49,Tablas!$B$2:$F$13,5,FALSE))","v":""},"",{"$f":"IF($H49=\"\",\"\",(1/(1+$C$4)^(I$7+$E49))*$H49*$I$5*$I$4)","v":""},"","","","","","","","","","","","","","","",""]
[{"$f":"IF(ISBLANK(InfoPro!A43),\"\",InfoPro!A43)","v":""},{"$f":"IF(ISBLANK(InfoPro!B43),\"\",InfoPro!B43)","v":""},{"$f":"IF(ISBLANK(InfoPro!E43),\"\",InfoPro!E43)","v":""},{"$f":"IF(ISBLANK(InfoPro!F43),\"\",InfoPro!F43)","v":""},{"$f":"IF(ISBLANK(InfoPro!I43),\"\",YEAR(InfoPro!I43)-$G$4)","v":""},{"$f":"IF(B50=\"\",\"\",VLOOKUP(D50,Tablas!$B$2:$E$13,2,FALSE))","v":""},{"$f":"IF(B50=\"\",\"\",VLOOKUP(D50,Tablas!$B$2:$F$13,5,FALSE))","v":""},"","","","","","","","","","","","","","","","","",""]
[{"$f":"IF(ISBLANK(InfoPro!A44),\"\",InfoPro!A44)","v":""},{"$f":"IF(ISBLANK(InfoPro!B44),\"\",InfoPro!B44)","v":""},{"$f":"IF(ISBLANK(InfoPro!E44),\"\",InfoPro!E44)","v":""},{"$f":"IF(ISBLANK(InfoPro!F44),\"\",InfoPro!F44)","v":""},{"$f":"IF(ISBLANK(InfoPro!I44),\"\",YEAR(InfoPro!I44)-$G$4)","v":""},{"$f":"IF(B51=\"\",\"\",VLOOKUP(D51,Tablas!$B$2:$E$13,2,FALSE))","v":""},{"$f":"IF(B51=\"\",\"\",VLOOKUP(D51,Tablas!$B$2:$F$13,5,FALSE))","v":""},"","","","","","","","","","","","","","","","","",""]
[{"$f":"IF(ISBLANK(InfoPro!A45),\"\",InfoPro!A45)","v":""},{"$f":"IF(ISBLANK(InfoPro!B45),\"\",InfoPro!B45)","v":""},{"$f":"IF(ISBLANK(InfoPro!E45),\"\",InfoPro!E45)","v":""},{"$f":"IF(ISBLANK(InfoPro!F45),\"\",InfoPro!F45)","v":""},{"$f":"IF(ISBLANK(InfoPro!I45),\"\",YEAR(InfoPro!I45)-$G$4)","v":""},{"$f":"IF(B52=\"\",\"\",VLOOKUP(D52,Tablas!$B$2:$E$13,2,FALSE))","v":""},{"$f":"IF(B52=\"\",\"\",VLOOKUP(D52,Tablas!$B$2:$F$13,5,FALSE))","v":""},"","","","","","","","","","","","","","","","","",""]
[{"$f":"IF(ISBLANK(InfoPro!A46),\"\",InfoPro!A46)","v":""},{"$f":"IF(ISBLANK(InfoPro!B46),\"\",InfoPro!B46)","v":""},{"$f":"IF(ISBLANK(InfoPro!E46),\"\",InfoPro!E46)","v":""},{"$f":"IF(ISBLANK(InfoPro!F46),\"\",InfoPro!F46)","v":""},{"$f":"IF(ISBLANK(InfoPro!I46),\"\",YEAR(InfoPro!I46)-$G$4)","v":""},{"$f":"IF(B53=\"\",\"\",VLOOKUP(D53,Tablas!$B$2:$E$13,2,FALSE))","v":""},{"$f":"IF(B53=\"\",\"\",VLOOKUP(D53,Tablas!$B$2:$F$13,5,FALSE))","v":""},"","","","","","","","","","","","","","","","","",""]
[{"$f":"IF(ISBLANK(InfoPro!A47),\"\",InfoPro!A47)","v":""},{"$f":"IF(ISBLANK(InfoPro!B47),\"\",InfoPro!B47)","v":""},{"$f":"IF(ISBLANK(InfoPro!E47),\"\",InfoPro!E47)","v":""},{"$f":"IF(ISBLANK(InfoPro!F47),\"\",InfoPro!F47)","v":""},{"$f":"IF(ISBLANK(InfoPro!I47),\"\",YEAR(InfoPro!I47)-$G$4)","v":""},{"$f":"IF(B54=\"\",\"\",VLOOKUP(D54,Tablas!$B$2:$E$13,2,FALSE))","v":""},{"$f":"IF(B54=\"\",\"\",VLOOKUP(D54,Tablas!$B$2:$F$13,5,FALSE))","v":""},"","","","","","","","","","","","","","","","","",""]
[{"$f":"IF(ISBLANK(InfoPro!A48),\"\",InfoPro!A48)","v":""},{"$f":"IF(ISBLANK(InfoPro!B48),\"\",InfoPro!B48)","v":""},{"$f":"IF(ISBLANK(InfoPro!E48),\"\",InfoPro!E48)","v":""},{"$f":"IF(ISBLANK(InfoPro!F48),\"\",InfoPro!F48)","v":""},{"$f":"IF(ISBLANK(InfoPro!I48),\"\",YEAR(InfoPro!I48)-$G$4)","v":""},{"$f":"IF(B55=\"\",\"\",VLOOKUP(D55,Tablas!$B$2:$E$13,2,FALSE))","v":""},{"$f":"IF(B55=\"\",\"\",VLOOKUP(D55,Tablas!$B$2:$F$13,5,FALSE))","v":""},"","","","","","","","","","","","","","","","","",""]
[{"$f":"IF(ISBLANK(InfoPro!A49),\"\",InfoPro!A49)","v":""},{"$f":"IF(ISBLANK(InfoPro!B49),\"\",InfoPro!B49)","v":""},{"$f":"IF(ISBLANK(InfoPro!E49),\"\",InfoPro!E49)","v":""},{"$f":"IF(ISBLANK(InfoPro!F49),\"\",InfoPro!F49)","v":""},{"$f":"IF(ISBLANK(InfoPro!I49),\"\",YEAR(InfoPro!I49)-$G$4)","v":""},{"$f":"IF(B56=\"\",\"\",VLOOKUP(D56,Tablas!$B$2:$E$13,2,FALSE))","v":""},{"$f":"IF(B56=\"\",\"\",VLOOKUP(D56,Tablas!$B$2:$F$13,5,FALSE))","v":""},"","","","","","","","","","","","","","","","","",""]
[{"$f":"IF(ISBLANK(InfoPro!A50),\"\",InfoPro!A50)","v":""},{"$f":"IF(ISBLANK(InfoPro!B50),\"\",InfoPro!B50)","v":""},{"$f":"IF(ISBLANK(InfoPro!E50),\"\",InfoPro!E50)","v":""},{"$f":"IF(ISBLANK(InfoPro!F50),\"\",InfoPro!F50)","v":""},{"$f":"IF(ISBLANK(InfoPro!I50),\"\",YEAR(InfoPro!I50)-$G$4)","v":""},{"$f":"IF(B57=\"\",\"\",VLOOKUP(D57,Tablas!$B$2:$E$13,2,FALSE))","v":""},{"$f":"IF(B57=\"\",\"\",VLOOKUP(D57,Tablas!$B$2:$F$13,5,FALSE))","v":""},"","","","","","","","","","","","","","","","","",""]
[{"$f":"IF(ISBLANK(InfoPro!A51),\"\",InfoPro!A51)","v":""},{"$f":"IF(ISBLANK(InfoPro!B51),\"\",InfoPro!B51)","v":""},{"$f":"IF(ISBLANK(InfoPro!E51),\"\",InfoPro!E51)","v":""},{"$f":"IF(ISBLANK(InfoPro!F51),\"\",InfoPro!F51)","v":""},{"$f":"IF(ISBLANK(InfoPro!I51),\"\",YEAR(InfoPro!I51)-$G$4)","v":""},{"$f":"IF(B58=\"\",\"\",VLOOKUP(D58,Tablas!$B$2:$E$13,2,FALSE))","v":""},{"$f":"IF(B58=\"\",\"\",VLOOKUP(D58,Tablas!$B$2:$F$13,5,FALSE))","v":""},"","","","","","","","","","","","","","","","","",""]
[{"$f":"IF(ISBLANK(InfoPro!A52),\"\",InfoPro!A52)","v":""},{"$f":"IF(ISBLANK(InfoPro!B52),\"\",InfoPro!B52)","v":""},{"$f":"IF(ISBLANK(InfoPro!E52),\"\",InfoPro!E52)","v":""},{"$f":"IF(ISBLANK(InfoPro!F52),\"\",InfoPro!F52)","v":""},{"$f":"IF(ISBLANK(InfoPro!I52),\"\",YEAR(InfoPro!I52)-$G$4)","v":""},{"$f":"IF(B59=\"\",\"\",VLOOKUP(D59,Tablas!$B$2:$E$13,2,FALSE))","v":""},{"$f":"IF(B59=\"\",\"\",VLOOKUP(D59,Tablas!$B$2:$F$13,5,FALSE))","v":""},"",{"$f":"IF($H59=\"\",\"\",(1/(1+$C$4)^(I$7+$E59))*$H59*$I$5*$I$4)","v":""},"","","","","","","","","","","","","","","",""]
[{"$f":"IF(ISBLANK(InfoPro!A53),\"\",InfoPro!A53)","v":""},{"$f":"IF(ISBLANK(InfoPro!B53),\"\",InfoPro!B53)","v":""},{"$f":"IF(ISBLANK(InfoPro!E53),\"\",InfoPro!E53)","v":""},{"$f":"IF(ISBLANK(InfoPro!F53),\"\",InfoPro!F53)","v":""},{"$f":"IF(ISBLANK(InfoPro!I53),\"\",YEAR(InfoPro!I53)-$G$4)","v":""},{"$f":"IF(B60=\"\",\"\",VLOOKUP(D60,Tablas!$B$2:$E$13,2,FALSE))","v":""},{"$f":"IF(B60=\"\",\"\",VLOOKUP(D60,Tablas!$B$2:$F$13,5,FALSE))","v":""},"","","","","","","","","","","","","","","","","",""]
[{"$f":"IF(ISBLANK(InfoPro!A54),\"\",InfoPro!A54)","v":""},{"$f":"IF(ISBLANK(InfoPro!B54),\"\",InfoPro!B54)","v":""},{"$f":"IF(ISBLANK(InfoPro!E54),\"\",InfoPro!E54)","v":""},{"$f":"IF(ISBLANK(InfoPro!F54),\"\",InfoPro!F54)","v":""},{"$f":"IF(ISBLANK(InfoPro!I54),\"\",YEAR(InfoPro!I54)-$G$4)","v":""},{"$f":"IF(B61=\"\",\"\",VLOOKUP(D61,Tablas!$B$2:$E$13,2,FALSE))","v":""},{"$f":"IF(B61=\"\",\"\",VLOOKUP(D61,Tablas!$B$2:$F$13,5,FALSE))","v":""},"","","","","","","","","","","","","","","","","",""]
[{"$f":"IF(ISBLANK(InfoPro!A55),\"\",InfoPro!A55)","v":""},{"$f":"IF(ISBLANK(InfoPro!B55),\"\",InfoPro!B55)","v":""},{"$f":"IF(ISBLANK(InfoPro!E55),\"\",InfoPro!E55)","v":""},{"$f":"IF(ISBLANK(InfoPro!F55),\"\",InfoPro!F55)","v":""},{"$f":"IF(ISBLANK(InfoPro!I55),\"\",YEAR(InfoPro!I55)-$G$4)","v":""},{"$f":"IF(B62=\"\",\"\",VLOOKUP(D62,Tablas!$B$2:$E$13,2,FALSE))","v":""},{"$f":"IF(B62=\"\",\"\",VLOOKUP(D62,Tablas!$B$2:$F$13,5,FALSE))","v":""},"","","","","","","","","","","","","","","","","",""]
[{"$f":"IF(ISBLANK(InfoPro!A56),\"\",InfoPro!A56)","v":""},{"$f":"IF(ISBLANK(InfoPro!B56),\"\",InfoPro!B56)","v":""},{"$f":"IF(ISBLANK(InfoPro!E56),\"\",InfoPro!E56)","v":""},{"$f":"IF(ISBLANK(InfoPro!F56),\"\",InfoPro!F56)","v":""},{"$f":"IF(ISBLANK(InfoPro!I56),\"\",YEAR(InfoPro!I56)-$G$4)","v":""},{"$f":"IF(B63=\"\",\"\",VLOOKUP(D63,Tablas!$B$2:$E$13,2,FALSE))","v":""},{"$f":"IF(B63=\"\",\"\",VLOOKUP(D63,Tablas!$B$2:$F$13,5,FALSE))","v":""},{"$f":"IF(C63=\"\",\"\",+C63*G63*F63*24*365)","v":""},"","","","","","","","","","","","","","","","",""]
[{"$f":"IF(ISBLANK(InfoPro!A57),\"\",InfoPro!A57)","v":""},{"$f":"IF(ISBLANK(InfoPro!B57),\"\",InfoPro!B57)","v":""},{"$f":"IF(ISBLANK(InfoPro!E57),\"\",InfoPro!E57)","v":""},{"$f":"IF(ISBLANK(InfoPro!F57),\"\",InfoPro!F57)","v":""},{"$f":"IF(ISBLANK(InfoPro!I57),\"\",YEAR(InfoPro!I57)-$G$4)","v":""},{"$f":"IF(B64=\"\",\"\",VLOOKUP(D64,Tablas!$B$2:$E$13,2,FALSE))","v":""},{"$f":"IF(B64=\"\",\"\",VLOOKUP(D64,Tablas!$B$2:$F$13,5,FALSE))","v":""},{"$f":"IF(C64=\"\",\"\",+C64*G64*F64*24*365)","v":""},"","","","","","","","","","","","","","","","",""]
[{"$f":"IF(ISBLANK(InfoPro!A58),\"\",InfoPro!A58)","v":""},{"$f":"IF(ISBLANK(InfoPro!B58),\"\",InfoPro!B58)","v":""},{"$f":"IF(ISBLANK(InfoPro!E58),\"\",InfoPro!E58)","v":""},{"$f":"IF(ISBLANK(InfoPro!F58),\"\",InfoPro!F58)","v":""},{"$f":"IF(ISBLANK(InfoPro!I58),\"\",YEAR(InfoPro!I58)-$G$4)","v":""},{"$f":"IF(B65=\"\",\"\",VLOOKUP(D65,Tablas!$B$2:$E$13,2,FALSE))","v":""},{"$f":"IF(B65=\"\",\"\",VLOOKUP(D65,Tablas!$B$2:$F$13,5,FALSE))","v":""},"","","","","","","","","","","","","","","","","",""]
[{"$f":"IF(ISBLANK(InfoPro!A59),\"\",InfoPro!A59)","v":""},{"$f":"IF(ISBLANK(InfoPro!B59),\"\",InfoPro!B59)","v":""},{"$f":"IF(ISBLANK(InfoPro!E59),\"\",InfoPro!E59)","v":""},{"$f":"IF(ISBLANK(InfoPro!F59),\"\",InfoPro!F59)","v":""},{"$f":"IF(ISBLANK(InfoPro!I59),\"\",YEAR(InfoPro!I59)-$G$4)","v":""},{"$f":"IF(B66=\"\",\"\",VLOOKUP(D66,Tablas!$B$2:$E$13,2,FALSE))","v":""},{"$f":"IF(B66=\"\",\"\",VLOOKUP(D66,Tablas!$B$2:$F$13,5,FALSE))","v":""},"","","","","","","","","","","","","","","","","",""]
[{"$f":"IF(ISBLANK(InfoPro!A60),\"\",InfoPro!A60)","v":""},{"$f":"IF(ISBLANK(InfoPro!B60),\"\",InfoPro!B60)","v":""},{"$f":"IF(ISBLANK(InfoPro!E60),\"\",InfoPro!E60)","v":""},{"$f":"IF(ISBLANK(InfoPro!F60),\"\",InfoPro!F60)","v":""},{"$f":"IF(ISBLANK(InfoPro!I60),\"\",YEAR(InfoPro!I60)-$G$4)","v":""},{"$f":"IF(B67=\"\",\"\",VLOOKUP(D67,Tablas!$B$2:$E$13,2,FALSE))","v":""},{"$f":"IF(B67=\"\",\"\",VLOOKUP(D67,Tablas!$B$2:$F$13,5,FALSE))","v":""},"","","","","","","","","","","","","","","","","",""]
[{"$f":"IF(ISBLANK(InfoPro!A61),\"\",InfoPro!A61)","v":""},{"$f":"IF(ISBLANK(InfoPro!B61),\"\",InfoPro!B61)","v":""},{"$f":"IF(ISBLANK(InfoPro!E61),\"\",InfoPro!E61)","v":""},{"$f":"IF(ISBLANK(InfoPro!F61),\"\",InfoPro!F61)","v":""},{"$f":"IF(ISBLANK(InfoPro!I61),\"\",YEAR(InfoPro!I61)-$G$4)","v":""},{"$f":"IF(B68=\"\",\"\",VLOOKUP(D68,Tablas!$B$2:$E$13,2,FALSE))","v":""},{"$f":"IF(B68=\"\",\"\",VLOOKUP(D68,Tablas!$B$2:$F$13,5,FALSE))","v":""},"","","","","","","","","","","","","","","","","",""]
[{"$f":"IF(ISBLANK(InfoPro!A62),\"\",InfoPro!A62)","v":""},{"$f":"IF(ISBLANK(InfoPro!B62),\"\",InfoPro!B62)","v":""},{"$f":"IF(ISBLANK(InfoPro!E62),\"\",InfoPro!E62)","v":""},{"$f":"IF(ISBLANK(InfoPro!F62),\"\",InfoPro!F62)","v":""},{"$f":"IF(ISBLANK(InfoPro!I62),\"\",YEAR(InfoPro!I62)-$G$4)","v":""},{"$f":"IF(B69=\"\",\"\",VLOOKUP(D69,Tablas!$B$2:$E$13,2,FALSE))","v":""},{"$f":"IF(B69=\"\",\"\",VLOOKUP(D69,Tablas!$B$2:$F$13,5,FALSE))","v":""},"",{"$f":"IF($H69=\"\",\"\",(1/(1+$C$4)^(I$7+$E69))*$H69*$I$5*$I$4)","v":""},"","","","","","","","","","","","","","","",""]
[{"$f":"IF(ISBLANK(InfoPro!A63),\"\",InfoPro!A63)","v":""},{"$f":"IF(ISBLANK(InfoPro!B63),\"\",InfoPro!B63)","v":""},{"$f":"IF(ISBLANK(InfoPro!E63),\"\",InfoPro!E63)","v":""},{"$f":"IF(ISBLANK(InfoPro!F63),\"\",InfoPro!F63)","v":""},{"$f":"IF(ISBLANK(InfoPro!I63),\"\",YEAR(InfoPro!I63)-$G$4)","v":""},{"$f":"IF(B70=\"\",\"\",VLOOKUP(D70,Tablas!$B$2:$E$13,2,FALSE))","v":""},{"$f":"IF(B70=\"\",\"\",VLOOKUP(D70,Tablas!$B$2:$F$13,5,FALSE))","v":""},"","","","","","","","","","","","","","","","","",""]
[{"$f":"IF(ISBLANK(InfoPro!A64),\"\",InfoPro!A64)","v":""},{"$f":"IF(ISBLANK(InfoPro!B64),\"\",InfoPro!B64)","v":""},{"$f":"IF(ISBLANK(InfoPro!E64),\"\",InfoPro!E64)","v":""},{"$f":"IF(ISBLANK(InfoPro!F64),\"\",InfoPro!F64)","v":""},{"$f":"IF(ISBLANK(InfoPro!I64),\"\",YEAR(InfoPro!I64)-$G$4)","v":""},{"$f":"IF(B71=\"\",\"\",VLOOKUP(D71,Tablas!$B$2:$E$13,2,FALSE))","v":""},{"$f":"IF(B71=\"\",\"\",VLOOKUP(D71,Tablas!$B$2:$F$13,5,FALSE))","v":""},"","","","","","","","","","","","","","","","","",""]
[{"$f":"IF(ISBLANK(InfoPro!A65),\"\",InfoPro!A65)","v":""},{"$f":"IF(ISBLANK(InfoPro!B65),\"\",InfoPro!B65)","v":""},{"$f":"IF(ISBLANK(InfoPro!E65),\"\",InfoPro!E65)","v":""},{"$f":"IF(ISBLANK(InfoPro!F65),\"\",InfoPro!F65)","v":""},{"$f":"IF(ISBLANK(InfoPro!I65),\"\",YEAR(InfoPro!I65)-$G$4)","v":""},{"$f":"IF(B72=\"\",\"\",VLOOKUP(D72,Tablas!$B$2:$E$13,2,FALSE))","v":""},{"$f":"IF(B72=\"\",\"\",VLOOKUP(D72,Tablas!$B$2:$F$13,5,FALSE))","v":""},"","","","","","","","","","","","","","","","","",""]
[{"$f":"IF(ISBLANK(InfoPro!A66),\"\",InfoPro!A66)","v":""},{"$f":"IF(ISBLANK(InfoPro!B66),\"\",InfoPro!B66)","v":""},{"$f":"IF(ISBLANK(InfoPro!E66),\"\",InfoPro!E66)","v":""},{"$f":"IF(ISBLANK(InfoPro!F66),\"\",InfoPro!F66)","v":""},{"$f":"IF(ISBLANK(InfoPro!I66),\"\",YEAR(InfoPro!I66)-$G$4)","v":""},{"$f":"IF(B73=\"\",\"\",VLOOKUP(D73,Tablas!$B$2:$E$13,2,FALSE))","v":""},{"$f":"IF(B73=\"\",\"\",VLOOKUP(D73,Tablas!$B$2:$F$13,5,FALSE))","v":""},{"$f":"IF(C73=\"\",\"\",+C73*G73*F73*24*365)","v":""},"","","","","","","","","","","","","","","","",""]
[{"$f":"IF(ISBLANK(InfoPro!A67),\"\",InfoPro!A67)","v":""},{"$f":"IF(ISBLANK(InfoPro!B67),\"\",InfoPro!B67)","v":""},{"$f":"IF(ISBLANK(InfoPro!E67),\"\",InfoPro!E67)","v":""},{"$f":"IF(ISBLANK(InfoPro!F67),\"\",InfoPro!F67)","v":""},{"$f":"IF(ISBLANK(InfoPro!I67),\"\",YEAR(InfoPro!I67)-$G$4)","v":""},{"$f":"IF(B74=\"\",\"\",VLOOKUP(D74,Tablas!$B$2:$E$13,2,FALSE))","v":""},{"$f":"IF(B74=\"\",\"\",VLOOKUP(D74,Tablas!$B$2:$F$13,5,FALSE))","v":""},"","","","","","","","","","","","","","","","",{"$f":"IF(W74=\"\",\"\",SUM(I74:W74))","v":""},{"$f":"IF(C74=0,0,IF(X74=\"\",\"\",X74/(C74*1000)))","v":""}]
[{"$f":"IF(ISBLANK(InfoPro!A68),\"\",InfoPro!A68)","v":""},{"$f":"IF(ISBLANK(InfoPro!B68),\"\",InfoPro!B68)","v":""},{"$f":"IF(ISBLANK(InfoPro!E68),\"\",InfoPro!E68)","v":""},{"$f":"IF(ISBLANK(InfoPro!F68),\"\",InfoPro!F68)","v":""},{"$f":"IF(ISBLANK(InfoPro!I68),\"\",YEAR(InfoPro!I68)-$G$4)","v":""},{"$f":"IF(B75=\"\",\"\",VLOOKUP(D75,Tablas!$B$2:$E$13,2,FALSE))","v":""},{"$f":"IF(B75=\"\",\"\",VLOOKUP(D75,Tablas!$B$2:$F$13,5,FALSE))","v":""},"","","","","","","","","","","","","","","","","",""]
[{"$f":"IF(ISBLANK(InfoPro!A69),\"\",InfoPro!A69)","v":""},{"$f":"IF(ISBLANK(InfoPro!B69),\"\",InfoPro!B69)","v":""},{"$f":"IF(ISBLANK(InfoPro!E69),\"\",InfoPro!E69)","v":""},{"$f":"IF(ISBLANK(InfoPro!F69),\"\",InfoPro!F69)","v":""},{"$f":"IF(ISBLANK(InfoPro!I69),\"\",YEAR(InfoPro!I69)-$G$4)","v":""},{"$f":"IF(B76=\"\",\"\",VLOOKUP(D76,Tablas!$B$2:$E$13,2,FALSE))","v":""},{"$f":"IF(B76=\"\",\"\",VLOOKUP(D76,Tablas!$B$2:$F$13,5,FALSE))","v":""},"","","","","","","","","","","","","","","","","",""]
[{"$f":"IF(ISBLANK(InfoPro!A70),\"\",InfoPro!A70)","v":""},{"$f":"IF(ISBLANK(InfoPro!B70),\"\",InfoPro!B70)","v":""},{"$f":"IF(ISBLANK(InfoPro!E70),\"\",InfoPro!E70)","v":""},{"$f":"IF(ISBLANK(InfoPro!F70),\"\",InfoPro!F70)","v":""},{"$f":"IF(ISBLANK(InfoPro!I70),\"\",YEAR(InfoPro!I70)-$G$4)","v":""},{"$f":"IF(B77=\"\",\"\",VLOOKUP(D77,Tablas!$B$2:$E$13,2,FALSE))","v":""},{"$f":"IF(B77=\"\",\"\",VLOOKUP(D77,Tablas!$B$2:$F$13,5,FALSE))","v":""},"","","","","","","","","","","","","","","","","",""]
[{"$f":"IF(ISBLANK(InfoPro!A71),\"\",InfoPro!A71)","v":""},{"$f":"IF(ISBLANK(InfoPro!B71),\"\",InfoPro!B71)","v":""},{"$f":"IF(ISBLANK(InfoPro!E71),\"\",InfoPro!E71)","v":""},{"$f":"IF(ISBLANK(InfoPro!F71),\"\",InfoPro!F71)","v":""},{"$f":"IF(ISBLANK(InfoPro!I71),\"\",YEAR(InfoPro!I71)-$G$4)","v":""},{"$f":"IF(B78=\"\",\"\",VLOOKUP(D78,Tablas!$B$2:$E$13,2,FALSE))","v":""},{"$f":"IF(B78=\"\",\"\",VLOOKUP(D78,Tablas!$B$2:$F$13,5,FALSE))","v":""},"","","","","","","","","","","","","","","","","",""]
[{"$f":"IF(ISBLANK(InfoPro!A72),\"\",InfoPro!A72)","v":""},{"$f":"IF(ISBLANK(InfoPro!B72),\"\",InfoPro!B72)","v":""},{"$f":"IF(ISBLANK(InfoPro!E72),\"\",InfoPro!E72)","v":""},{"$f":"IF(ISBLANK(InfoPro!F72),\"\",InfoPro!F72)","v":""},{"$f":"IF(ISBLANK(InfoPro!I72),\"\",YEAR(InfoPro!I72)-$G$4)","v":""},{"$f":"IF(B79=\"\",\"\",VLOOKUP(D79,Tablas!$B$2:$E$13,2,FALSE))","v":""},{"$f":"IF(B79=\"\",\"\",VLOOKUP(D79,Tablas!$B$2:$F$13,5,FALSE))","v":""},"",{"$f":"IF($H79=\"\",\"\",(1/(1+$C$4)^(I$7+$E79))*$H79*$I$5*$I$4)","v":""},"","","","","","","","","","","","","","","",""]
[{"$f":"IF(ISBLANK(InfoPro!A73),\"\",InfoPro!A73)","v":""},{"$f":"IF(ISBLANK(InfoPro!B73),\"\",InfoPro!B73)","v":""},{"$f":"IF(ISBLANK(InfoPro!E73),\"\",InfoPro!E73)","v":""},{"$f":"IF(ISBLANK(InfoPro!F73),\"\",InfoPro!F73)","v":""},{"$f":"IF(ISBLANK(InfoPro!I73),\"\",YEAR(InfoPro!I73)-$G$4)","v":""},{"$f":"IF(B80=\"\",\"\",VLOOKUP(D80,Tablas!$B$2:$E$13,2,FALSE))","v":""},{"$f":"IF(B80=\"\",\"\",VLOOKUP(D80,Tablas!$B$2:$F$13,5,FALSE))","v":""},"","","","","","","","","","","","","","","","","",""]
[{"$f":"IF(ISBLANK(InfoPro!A74),\"\",InfoPro!A74)","v":""},{"$f":"IF(ISBLANK(InfoPro!B74),\"\",InfoPro!B74)","v":""},{"$f":"IF(ISBLANK(InfoPro!E74),\"\",InfoPro!E74)","v":""},{"$f":"IF(ISBLANK(InfoPro!F74),\"\",InfoPro!F74)","v":""},{"$f":"IF(ISBLANK(InfoPro!I74),\"\",YEAR(InfoPro!I74)-$G$4)","v":""},{"$f":"IF(B81=\"\",\"\",VLOOKUP(D81,Tablas!$B$2:$E$13,2,FALSE))","v":""},{"$f":"IF(B81=\"\",\"\",VLOOKUP(D81,Tablas!$B$2:$F$13,5,FALSE))","v":""},"","","","","","","","","","","","","","","","","",""]
[{"$f":"IF(ISBLANK(InfoPro!A75),\"\",InfoPro!A75)","v":""},{"$f":"IF(ISBLANK(InfoPro!B75),\"\",InfoPro!B75)","v":""},{"$f":"IF(ISBLANK(InfoPro!E75),\"\",InfoPro!E75)","v":""},{"$f":"IF(ISBLANK(InfoPro!F75),\"\",InfoPro!F75)","v":""},{"$f":"IF(ISBLANK(InfoPro!I75),\"\",YEAR(InfoPro!I75)-$G$4)","v":""},{"$f":"IF(B82=\"\",\"\",VLOOKUP(D82,Tablas!$B$2:$E$13,2,FALSE))","v":""},{"$f":"IF(B82=\"\",\"\",VLOOKUP(D82,Tablas!$B$2:$F$13,5,FALSE))","v":""},"","","","","","","","","","","","","","","","","",""]
[{"$f":"IF(ISBLANK(InfoPro!A76),\"\",InfoPro!A76)","v":""},{"$f":"IF(ISBLANK(InfoPro!B76),\"\",InfoPro!B76)","v":""},{"$f":"IF(ISBLANK(InfoPro!E76),\"\",InfoPro!E76)","v":""},{"$f":"IF(ISBLANK(InfoPro!F76),\"\",InfoPro!F76)","v":""},{"$f":"IF(ISBLANK(InfoPro!I76),\"\",YEAR(InfoPro!I76)-$G$4)","v":""},{"$f":"IF(B83=\"\",\"\",VLOOKUP(D83,Tablas!$B$2:$E$13,2,FALSE))","v":""},{"$f":"IF(B83=\"\",\"\",VLOOKUP(D83,Tablas!$B$2:$F$13,5,FALSE))","v":""},"","","","","","","","","","","","","","","","","",""]
[{"$f":"IF(ISBLANK(InfoPro!A77),\"\",InfoPro!A77)","v":""},{"$f":"IF(ISBLANK(InfoPro!B77),\"\",InfoPro!B77)","v":""},{"$f":"IF(ISBLANK(InfoPro!E77),\"\",InfoPro!E77)","v":""},{"$f":"IF(ISBLANK(InfoPro!F77),\"\",InfoPro!F77)","v":""},{"$f":"IF(ISBLANK(InfoPro!I77),\"\",YEAR(InfoPro!I77)-$G$4)","v":""},{"$f":"IF(B84=\"\",\"\",VLOOKUP(D84,Tablas!$B$2:$E$13,2,FALSE))","v":""},{"$f":"IF(B84=\"\",\"\",VLOOKUP(D84,Tablas!$B$2:$F$13,5,FALSE))","v":""},"","","","","","","","","","","","","","","","","",""]
[{"$f":"IF(ISBLANK(InfoPro!A78),\"\",InfoPro!A78)","v":""},{"$f":"IF(ISBLANK(InfoPro!B78),\"\",InfoPro!B78)","v":""},{"$f":"IF(ISBLANK(InfoPro!E78),\"\",InfoPro!E78)","v":""},{"$f":"IF(ISBLANK(InfoPro!F78),\"\",InfoPro!F78)","v":""},{"$f":"IF(ISBLANK(InfoPro!I78),\"\",YEAR(InfoPro!I78)-$G$4)","v":""},{"$f":"IF(B85=\"\",\"\",VLOOKUP(D85,Tablas!$B$2:$E$13,2,FALSE))","v":""},{"$f":"IF(B85=\"\",\"\",VLOOKUP(D85,Tablas!$B$2:$F$13,5,FALSE))","v":""},"","","","","","","","","","","","","","","","","",""]
[{"$f":"IF(ISBLANK(InfoPro!A79),\"\",InfoPro!A79)","v":""},{"$f":"IF(ISBLANK(InfoPro!B79),\"\",InfoPro!B79)","v":""},{"$f":"IF(ISBLANK(InfoPro!E79),\"\",InfoPro!E79)","v":""},{"$f":"IF(ISBLANK(InfoPro!F79),\"\",InfoPro!F79)","v":""},{"$f":"IF(ISBLANK(InfoPro!I79),\"\",YEAR(InfoPro!I79)-$G$4)","v":""},{"$f":"IF(B86=\"\",\"\",VLOOKUP(D86,Tablas!$B$2:$E$13,2,FALSE))","v":""},{"$f":"IF(B86=\"\",\"\",VLOOKUP(D86,Tablas!$B$2:$F$13,5,FALSE))","v":""},"","","","","","","","","","","","","","","","","",""]
[{"$f":"IF(ISBLANK(InfoPro!A80),\"\",InfoPro!A80)","v":""},{"$f":"IF(ISBLANK(InfoPro!B80),\"\",InfoPro!B80)","v":""},{"$f":"IF(ISBLANK(InfoPro!E80),\"\",InfoPro!E80)","v":""},{"$f":"IF(ISBLANK(InfoPro!F80),\"\",InfoPro!F80)","v":""},{"$f":"IF(ISBLANK(InfoPro!I80),\"\",YEAR(InfoPro!I80)-$G$4)","v":""},{"$f":"IF(B87=\"\",\"\",VLOOKUP(D87,Tablas!$B$2:$E$13,2,FALSE))","v":""},{"$f":"IF(B87=\"\",\"\",VLOOKUP(D87,Tablas!$B$2:$F$13,5,FALSE))","v":""},"","","","","","","","","","","","","","","","","",""]
[{"$f":"IF(ISBLANK(InfoPro!A81),\"\",InfoPro!A81)","v":""},{"$f":"IF(ISBLANK(InfoPro!B81),\"\",InfoPro!B81)","v":""},{"$f":"IF(ISBLANK(InfoPro!E81),\"\",InfoPro!E81)","v":""},{"$f":"IF(ISBLANK(InfoPro!F81),\"\",InfoPro!F81)","v":""},{"$f":"IF(ISBLANK(InfoPro!I81),\"\",YEAR(InfoPro!I81)-$G$4)","v":""},{"$f":"IF(B88=\"\",\"\",VLOOKUP(D88,Tablas!$B$2:$E$13,2,FALSE))","v":""},{"$f":"IF(B88=\"\",\"\",VLOOKUP(D88,Tablas!$B$2:$F$13,5,FALSE))","v":""},"","","","","","","","","","","","","","","","","",""]
[{"$f":"IF(ISBLANK(InfoPro!A82),\"\",InfoPro!A82)","v":""},{"$f":"IF(ISBLANK(InfoPro!B82),\"\",InfoPro!B82)","v":""},{"$f":"IF(ISBLANK(InfoPro!E82),\"\",InfoPro!E82)","v":""},{"$f":"IF(ISBLANK(InfoPro!F82),\"\",InfoPro!F82)","v":""},{"$f":"IF(ISBLANK(InfoPro!I82),\"\",YEAR(InfoPro!I82)-$G$4)","v":""},{"$f":"IF(B89=\"\",\"\",VLOOKUP(D89,Tablas!$B$2:$E$13,2,FALSE))","v":""},{"$f":"IF(B89=\"\",\"\",VLOOKUP(D89,Tablas!$B$2:$F$13,5,FALSE))","v":""},"",{"$f":"IF($H89=\"\",\"\",(1/(1+$C$4)^(I$7+$E89))*$H89*$I$5*$I$4)","v":""},"","","","","","","","","","","","","","","",""]
[{"$f":"IF(ISBLANK(InfoPro!A83),\"\",InfoPro!A83)","v":""},{"$f":"IF(ISBLANK(InfoPro!B83),\"\",InfoPro!B83)","v":""},{"$f":"IF(ISBLANK(InfoPro!E83),\"\",InfoPro!E83)","v":""},{"$f":"IF(ISBLANK(InfoPro!F83),\"\",InfoPro!F83)","v":""},{"$f":"IF(ISBLANK(InfoPro!I83),\"\",YEAR(InfoPro!I83)-$G$4)","v":""},{"$f":"IF(B90=\"\",\"\",VLOOKUP(D90,Tablas!$B$2:$E$13,2,FALSE))","v":""},{"$f":"IF(B90=\"\",\"\",VLOOKUP(D90,Tablas!$B$2:$F$13,5,FALSE))","v":""},"","","","","","","","","","","","","","","","","",""]
[{"$f":"IF(ISBLANK(InfoPro!A84),\"\",InfoPro!A84)","v":""},{"$f":"IF(ISBLANK(InfoPro!B84),\"\",InfoPro!B84)","v":""},{"$f":"IF(ISBLANK(InfoPro!E84),\"\",InfoPro!E84)","v":""},{"$f":"IF(ISBLANK(InfoPro!F84),\"\",InfoPro!F84)","v":""},{"$f":"IF(ISBLANK(InfoPro!I84),\"\",YEAR(InfoPro!I84)-$G$4)","v":""},{"$f":"IF(B91=\"\",\"\",VLOOKUP(D91,Tablas!$B$2:$E$13,2,FALSE))","v":""},{"$f":"IF(B91=\"\",\"\",VLOOKUP(D91,Tablas!$B$2:$F$13,5,FALSE))","v":""},"","","","","","","","","","","","","","","","","",""]
[{"$f":"IF(ISBLANK(InfoPro!A85),\"\",InfoPro!A85)","v":""},{"$f":"IF(ISBLANK(InfoPro!B85),\"\",InfoPro!B85)","v":""},{"$f":"IF(ISBLANK(InfoPro!E85),\"\",InfoPro!E85)","v":""},{"$f":"IF(ISBLANK(InfoPro!F85),\"\",InfoPro!F85)","v":""},{"$f":"IF(ISBLANK(InfoPro!I85),\"\",YEAR(InfoPro!I85)-$G$4)","v":""},{"$f":"IF(B92=\"\",\"\",VLOOKUP(D92,Tablas!$B$2:$E$13,2,FALSE))","v":""},{"$f":"IF(B92=\"\",\"\",VLOOKUP(D92,Tablas!$B$2:$F$13,5,FALSE))","v":""},"","","","","","","","","","","","","","","","","",""]
[{"$f":"IF(ISBLANK(InfoPro!A86),\"\",InfoPro!A86)","v":""},{"$f":"IF(ISBLANK(InfoPro!B86),\"\",InfoPro!B86)","v":""},{"$f":"IF(ISBLANK(InfoPro!E86),\"\",InfoPro!E86)","v":""},{"$f":"IF(ISBLANK(InfoPro!F86),\"\",InfoPro!F86)","v":""},{"$f":"IF(ISBLANK(InfoPro!I86),\"\",YEAR(InfoPro!I86)-$G$4)","v":""},{"$f":"IF(B93=\"\",\"\",VLOOKUP(D93,Tablas!$B$2:$E$13,2,FALSE))","v":""},{"$f":"IF(B93=\"\",\"\",VLOOKUP(D93,Tablas!$B$2:$F$13,5,FALSE))","v":""},"","","","","","","","","","","","","","","","","",""]
[{"$f":"IF(ISBLANK(InfoPro!A87),\"\",InfoPro!A87)","v":""},{"$f":"IF(ISBLANK(InfoPro!B87),\"\",InfoPro!B87)","v":""},{"$f":"IF(ISBLANK(InfoPro!E87),\"\",InfoPro!E87)","v":""},{"$f":"IF(ISBLANK(InfoPro!F87),\"\",InfoPro!F87)","v":""},{"$f":"IF(ISBLANK(InfoPro!I87),\"\",YEAR(InfoPro!I87)-$G$4)","v":""},{"$f":"IF(B94=\"\",\"\",VLOOKUP(D94,Tablas!$B$2:$E$13,2,FALSE))","v":""},{"$f":"IF(B94=\"\",\"\",VLOOKUP(D94,Tablas!$B$2:$F$13,5,FALSE))","v":""},"","","","","","","","","","","","","","","","","",""]
[{"$f":"IF(ISBLANK(InfoPro!A88),\"\",InfoPro!A88)","v":""},{"$f":"IF(ISBLANK(InfoPro!B88),\"\",InfoPro!B88)","v":""},{"$f":"IF(ISBLANK(InfoPro!E88),\"\",InfoPro!E88)","v":""},{"$f":"IF(ISBLANK(InfoPro!F88),\"\",InfoPro!F88)","v":""},{"$f":"IF(ISBLANK(InfoPro!I88),\"\",YEAR(InfoPro!I88)-$G$4)","v":""},{"$f":"IF(B95=\"\",\"\",VLOOKUP(D95,Tablas!$B$2:$E$13,2,FALSE))","v":""},{"$f":"IF(B95=\"\",\"\",VLOOKUP(D95,Tablas!$B$2:$F$13,5,FALSE))","v":""},"","","","","","","","","","","","","","","","","",""]
[{"$f":"IF(ISBLANK(InfoPro!A89),\"\",InfoPro!A89)","v":""},{"$f":"IF(ISBLANK(InfoPro!B89),\"\",InfoPro!B89)","v":""},{"$f":"IF(ISBLANK(InfoPro!E89),\"\",InfoPro!E89)","v":""},{"$f":"IF(ISBLANK(InfoPro!F89),\"\",InfoPro!F89)","v":""},{"$f":"IF(ISBLANK(InfoPro!I89),\"\",YEAR(InfoPro!I89)-$G$4)","v":""},{"$f":"IF(B96=\"\",\"\",VLOOKUP(D96,Tablas!$B$2:$E$13,2,FALSE))","v":""},{"$f":"IF(B96=\"\",\"\",VLOOKUP(D96,Tablas!$B$2:$F$13,5,FALSE))","v":""},"","","","","","","","","","","","","","","","","",""]
[{"$f":"IF(ISBLANK(InfoPro!A90),\"\",InfoPro!A90)","v":""},{"$f":"IF(ISBLANK(InfoPro!B90),\"\",InfoPro!B90)","v":""},{"$f":"IF(ISBLANK(InfoPro!E90),\"\",InfoPro!E90)","v":""},{"$f":"IF(ISBLANK(InfoPro!F90),\"\",InfoPro!F90)","v":""},{"$f":"IF(ISBLANK(InfoPro!I90),\"\",YEAR(InfoPro!I90)-$G$4)","v":""},{"$f":"IF(B97=\"\",\"\",VLOOKUP(D97,Tablas!$B$2:$E$13,2,FALSE))","v":""},{"$f":"IF(B97=\"\",\"\",VLOOKUP(D97,Tablas!$B$2:$F$13,5,FALSE))","v":""},"","","","","","","","","","","","","","","","","",""]
[{"$f":"IF(ISBLANK(InfoPro!A91),\"\",InfoPro!A91)","v":""},{"$f":"IF(ISBLANK(InfoPro!B91),\"\",InfoPro!B91)","v":""},{"$f":"IF(ISBLANK(InfoPro!E91),\"\",InfoPro!E91)","v":""},{"$f":"IF(ISBLANK(InfoPro!F91),\"\",InfoPro!F91)","v":""},{"$f":"IF(ISBLANK(InfoPro!I91),\"\",YEAR(InfoPro!I91)-$G$4)","v":""},{"$f":"IF(B98=\"\",\"\",VLOOKUP(D98,Tablas!$B$2:$E$13,2,FALSE))","v":""},{"$f":"IF(B98=\"\",\"\",VLOOKUP(D98,Tablas!$B$2:$F$13,5,FALSE))","v":""},"","","","","","","","","","","","","","","","","",""]
[{"$f":"IF(ISBLANK(InfoPro!A92),\"\",InfoPro!A92)","v":""},{"$f":"IF(ISBLANK(InfoPro!B92),\"\",InfoPro!B92)","v":""},{"$f":"IF(ISBLANK(InfoPro!E92),\"\",InfoPro!E92)","v":""},{"$f":"IF(ISBLANK(InfoPro!F92),\"\",InfoPro!F92)","v":""},{"$f":"IF(ISBLANK(InfoPro!I92),\"\",YEAR(InfoPro!I92)-$G$4)","v":""},{"$f":"IF(B99=\"\",\"\",VLOOKUP(D99,Tablas!$B$2:$E$13,2,FALSE))","v":""},{"$f":"IF(B99=\"\",\"\",VLOOKUP(D99,Tablas!$B$2:$F$13,5,FALSE))","v":""},"",{"$f":"IF($H99=\"\",\"\",(1/(1+$C$4)^(I$7+$E99))*$H99*$I$5*$I$4)","v":""},"","","","","","","","","","","","","","","",""]
[{"$f":"IF(ISBLANK(InfoPro!A93),\"\",InfoPro!A93)","v":""},{"$f":"IF(ISBLANK(InfoPro!B93),\"\",InfoPro!B93)","v":""},{"$f":"IF(ISBLANK(InfoPro!E93),\"\",InfoPro!E93)","v":""},{"$f":"IF(ISBLANK(InfoPro!F93),\"\",InfoPro!F93)","v":""},{"$f":"IF(ISBLANK(InfoPro!I93),\"\",YEAR(InfoPro!I93)-$G$4)","v":""},{"$f":"IF(B100=\"\",\"\",VLOOKUP(D100,Tablas!$B$2:$E$13,2,FALSE))","v":""},{"$f":"IF(B100=\"\",\"\",VLOOKUP(D100,Tablas!$B$2:$F$13,5,FALSE))","v":""},"","","","","","","","","","","","","","","","","",""]
[{"$f":"IF(ISBLANK(InfoPro!A94),\"\",InfoPro!A94)","v":""},{"$f":"IF(ISBLANK(InfoPro!B94),\"\",InfoPro!B94)","v":""},{"$f":"IF(ISBLANK(InfoPro!E94),\"\",InfoPro!E94)","v":""},{"$f":"IF(ISBLANK(InfoPro!F94),\"\",InfoPro!F94)","v":""},{"$f":"IF(ISBLANK(InfoPro!I94),\"\",YEAR(InfoPro!I94)-$G$4)","v":""},{"$f":"IF(B101=\"\",\"\",VLOOKUP(D101,Tablas!$B$2:$E$13,2,FALSE))","v":""},{"$f":"IF(B101=\"\",\"\",VLOOKUP(D101,Tablas!$B$2:$F$13,5,FALSE))","v":""},"","","","","","","","","","","","","","","","","",""]
[{"$f":"IF(ISBLANK(InfoPro!A95),\"\",InfoPro!A95)","v":""},{"$f":"IF(ISBLANK(InfoPro!B95),\"\",InfoPro!B95)","v":""},{"$f":"IF(ISBLANK(InfoPro!E95),\"\",InfoPro!E95)","v":""},{"$f":"IF(ISBLANK(InfoPro!F95),\"\",InfoPro!F95)","v":""},{"$f":"IF(ISBLANK(InfoPro!I95),\"\",YEAR(InfoPro!I95)-$G$4)","v":""},{"$f":"IF(B102=\"\",\"\",VLOOKUP(D102,Tablas!$B$2:$E$13,2,FALSE))","v":""},{"$f":"IF(B102=\"\",\"\",VLOOKUP(D102,Tablas!$B$2:$F$13,5,FALSE))","v":""},"","","","","","","","","","","","","","","","","",""]
[{"$f":"IF(ISBLANK(InfoPro!A96),\"\",InfoPro!A96)","v":""},{"$f":"IF(ISBLANK(InfoPro!B96),\"\",InfoPro!B96)","v":""},{"$f":"IF(ISBLANK(InfoPro!E96),\"\",InfoPro!E96)","v":""},{"$f":"IF(ISBLANK(InfoPro!F96),\"\",InfoPro!F96)","v":""},{"$f":"IF(ISBLANK(InfoPro!I96),\"\",YEAR(InfoPro!I96)-$G$4)","v":""},{"$f":"IF(B103=\"\",\"\",VLOOKUP(D103,Tablas!$B$2:$E$13,2,FALSE))","v":""},{"$f":"IF(B103=\"\",\"\",VLOOKUP(D103,Tablas!$B$2:$F$13,5,FALSE))","v":""},"","","","","","","","","","","","","","","","","",""]
[{"$f":"IF(ISBLANK(InfoPro!A97),\"\",InfoPro!A97)","v":""},{"$f":"IF(ISBLANK(InfoPro!B97),\"\",InfoPro!B97)","v":""},{"$f":"IF(ISBLANK(InfoPro!E97),\"\",InfoPro!E97)","v":""},{"$f":"IF(ISBLANK(InfoPro!F97),\"\",InfoPro!F97)","v":""},{"$f":"IF(ISBLANK(InfoPro!I97),\"\",YEAR(InfoPro!I97)-$G$4)","v":""},{"$f":"IF(B104=\"\",\"\",VLOOKUP(D104,Tablas!$B$2:$E$13,2,FALSE))","v":""},{"$f":"IF(B104=\"\",\"\",VLOOKUP(D104,Tablas!$B$2:$F$13,5,FALSE))","v":""},"","","","","","","","","","","","","","","","","",""]
[{"$f":"IF(ISBLANK(InfoPro!A98),\"\",InfoPro!A98)","v":""},{"$f":"IF(ISBLANK(InfoPro!B98),\"\",InfoPro!B98)","v":""},{"$f":"IF(ISBLANK(InfoPro!E98),\"\",InfoPro!E98)","v":""},{"$f":"IF(ISBLANK(InfoPro!F98),\"\",InfoPro!F98)","v":""},{"$f":"IF(ISBLANK(InfoPro!I98),\"\",YEAR(InfoPro!I98)-$G$4)","v":""},{"$f":"IF(B105=\"\",\"\",VLOOKUP(D105,Tablas!$B$2:$E$13,2,FALSE))","v":""},{"$f":"IF(B105=\"\",\"\",VLOOKUP(D105,Tablas!$B$2:$F$13,5,FALSE))","v":""},{"$f":"IF(C105=\"\",\"\",+C105*G105*F105*24*365)","v":""},"","","","","","","","","","","","","","","","",""]
[{"$f":"IF(ISBLANK(InfoPro!A99),\"\",InfoPro!A99)","v":""},{"$f":"IF(ISBLANK(InfoPro!B99),\"\",InfoPro!B99)","v":""},{"$f":"IF(ISBLANK(InfoPro!E99),\"\",InfoPro!E99)","v":""},{"$f":"IF(ISBLANK(InfoPro!F99),\"\",InfoPro!F99)","v":""},{"$f":"IF(ISBLANK(InfoPro!I99),\"\",YEAR(InfoPro!I99)-$G$4)","v":""},{"$f":"IF(B106=\"\",\"\",VLOOKUP(D106,Tablas!$B$2:$E$13,2,FALSE))","v":""},{"$f":"IF(B106=\"\",\"\",VLOOKUP(D106,Tablas!$B$2:$F$13,5,FALSE))","v":""},"","","","","","","","","","","","","","","","","",""]
[{"$f":"IF(ISBLANK(InfoPro!A100),\"\",InfoPro!A100)","v":""},{"$f":"IF(ISBLANK(InfoPro!B100),\"\",InfoPro!B100)","v":""},{"$f":"IF(ISBLANK(InfoPro!E100),\"\",InfoPro!E100)","v":""},{"$f":"IF(ISBLANK(InfoPro!F100),\"\",InfoPro!F100)","v":""},{"$f":"IF(ISBLANK(InfoPro!I100),\"\",YEAR(InfoPro!I100)-$G$4)","v":""},{"$f":"IF(B107=\"\",\"\",VLOOKUP(D107,Tablas!$B$2:$E$13,2,FALSE))","v":""},{"$f":"IF(B107=\"\",\"\",VLOOKUP(D107,Tablas!$B$2:$F$13,5,FALSE))","v":""},"","","","","","","","","","","","","","","","","",""]
[{"$f":"IF(ISBLANK(InfoPro!A101),\"\",InfoPro!A101)","v":""},{"$f":"IF(ISBLANK(InfoPro!B101),\"\",InfoPro!B101)","v":""},{"$f":"IF(ISBLANK(InfoPro!E101),\"\",InfoPro!E101)","v":""},{"$f":"IF(ISBLANK(InfoPro!F101),\"\",InfoPro!F101)","v":""},{"$f":"IF(ISBLANK(InfoPro!I101),\"\",YEAR(InfoPro!I101)-$G$4)","v":""},{"$f":"IF(B108=\"\",\"\",VLOOKUP(D108,Tablas!$B$2:$E$13,2,FALSE))","v":""},{"$f":"IF(B108=\"\",\"\",VLOOKUP(D108,Tablas!$B$2:$F$13,5,FALSE))","v":""},"","","","","","","","","","","","","","","","","",""]
[{"$f":"IF(ISBLANK(InfoPro!A102),\"\",InfoPro!A102)","v":""},{"$f":"IF(ISBLANK(InfoPro!B102),\"\",InfoPro!B102)","v":""},{"$f":"IF(ISBLANK(InfoPro!E102),\"\",InfoPro!E102)","v":""},{"$f":"IF(ISBLANK(InfoPro!F102),\"\",InfoPro!F102)","v":""},{"$f":"IF(ISBLANK(InfoPro!I102),\"\",YEAR(InfoPro!I102)-$G$4)","v":""},{"$f":"IF(B109=\"\",\"\",VLOOKUP(D109,Tablas!$B$2:$E$13,2,FALSE))","v":""},{"$f":"IF(B109=\"\",\"\",VLOOKUP(D109,Tablas!$B$2:$F$13,5,FALSE))","v":""},"",{"$f":"IF($H109=\"\",\"\",(1/(1+$C$4)^(I$7+$E109))*$H109*$I$5*$I$4)","v":""},"","","","","","","","","","","","","","","",""]
[{"$f":"IF(ISBLANK(InfoPro!A103),\"\",InfoPro!A103)","v":""},{"$f":"IF(ISBLANK(InfoPro!B103),\"\",InfoPro!B103)","v":""},{"$f":"IF(ISBLANK(InfoPro!E103),\"\",InfoPro!E103)","v":""},{"$f":"IF(ISBLANK(InfoPro!F103),\"\",InfoPro!F103)","v":""},{"$f":"IF(ISBLANK(InfoPro!I103),\"\",YEAR(InfoPro!I103)-$G$4)","v":""},{"$f":"IF(B110=\"\",\"\",VLOOKUP(D110,Tablas!$B$2:$E$13,2,FALSE))","v":""},{"$f":"IF(B110=\"\",\"\",VLOOKUP(D110,Tablas!$B$2:$F$13,5,FALSE))","v":""},"","","","","","","","","","","","","","","","","",""]
[{"$f":"IF(ISBLANK(InfoPro!A104),\"\",InfoPro!A104)","v":""},{"$f":"IF(ISBLANK(InfoPro!B104),\"\",InfoPro!B104)","v":""},{"$f":"IF(ISBLANK(InfoPro!E104),\"\",InfoPro!E104)","v":""},{"$f":"IF(ISBLANK(InfoPro!F104),\"\",InfoPro!F104)","v":""},{"$f":"IF(ISBLANK(InfoPro!I104),\"\",YEAR(InfoPro!I104)-$G$4)","v":""},{"$f":"IF(B111=\"\",\"\",VLOOKUP(D111,Tablas!$B$2:$E$13,2,FALSE))","v":""},{"$f":"IF(B111=\"\",\"\",VLOOKUP(D111,Tablas!$B$2:$F$13,5,FALSE))","v":""},"","","","","","","","","","","","","","","","","",""]
[{"$f":"IF(ISBLANK(InfoPro!A105),\"\",InfoPro!A105)","v":""},{"$f":"IF(ISBLANK(InfoPro!B105),\"\",InfoPro!B105)","v":""},{"$f":"IF(ISBLANK(InfoPro!E105),\"\",InfoPro!E105)","v":""},{"$f":"IF(ISBLANK(InfoPro!F105),\"\",InfoPro!F105)","v":""},{"$f":"IF(ISBLANK(InfoPro!I105),\"\",YEAR(InfoPro!I105)-$G$4)","v":""},{"$f":"IF(B112=\"\",\"\",VLOOKUP(D112,Tablas!$B$2:$E$13,2,FALSE))","v":""},{"$f":"IF(B112=\"\",\"\",VLOOKUP(D112,Tablas!$B$2:$F$13,5,FALSE))","v":""},"","","","","","","","","","","","","","","","","",""]
[{"$f":"IF(ISBLANK(InfoPro!A106),\"\",InfoPro!A106)","v":""},{"$f":"IF(ISBLANK(InfoPro!B106),\"\",InfoPro!B106)","v":""},{"$f":"IF(ISBLANK(InfoPro!E106),\"\",InfoPro!E106)","v":""},{"$f":"IF(ISBLANK(InfoPro!F106),\"\",InfoPro!F106)","v":""},{"$f":"IF(ISBLANK(InfoPro!I106),\"\",YEAR(InfoPro!I106)-$G$4)","v":""},{"$f":"IF(B113=\"\",\"\",VLOOKUP(D113,Tablas!$B$2:$E$13,2,FALSE))","v":""},{"$f":"IF(B113=\"\",\"\",VLOOKUP(D113,Tablas!$B$2:$F$13,5,FALSE))","v":""},"","","","","","","","","","","","","","","","","",""]
[{"$f":"IF(ISBLANK(InfoPro!A107),\"\",InfoPro!A107)","v":""},{"$f":"IF(ISBLANK(InfoPro!B107),\"\",InfoPro!B107)","v":""},{"$f":"IF(ISBLANK(InfoPro!E107),\"\",InfoPro!E107)","v":""},{"$f":"IF(ISBLANK(InfoPro!F107),\"\",InfoPro!F107)","v":""},{"$f":"IF(ISBLANK(InfoPro!I107),\"\",YEAR(InfoPro!I107)-$G$4)","v":""},{"$f":"IF(B114=\"\",\"\",VLOOKUP(D114,Tablas!$B$2:$E$13,2,FALSE))","v":""},{"$f":"IF(B114=\"\",\"\",VLOOKUP(D114,Tablas!$B$2:$F$13,5,FALSE))","v":""},"","","","","","","","","","","","","","","","","",""]
[{"$f":"IF(ISBLANK(InfoPro!A108),\"\",InfoPro!A108)","v":""},{"$f":"IF(ISBLANK(InfoPro!B108),\"\",InfoPro!B108)","v":""},{"$f":"IF(ISBLANK(InfoPro!E108),\"\",InfoPro!E108)","v":""},{"$f":"IF(ISBLANK(InfoPro!F108),\"\",InfoPro!F108)","v":""},{"$f":"IF(ISBLANK(InfoPro!I108),\"\",YEAR(InfoPro!I108)-$G$4)","v":""},{"$f":"IF(B115=\"\",\"\",VLOOKUP(D115,Tablas!$B$2:$E$13,2,FALSE))","v":""},{"$f":"IF(B115=\"\",\"\",VLOOKUP(D115,Tablas!$B$2:$F$13,5,FALSE))","v":""},"","","","","","","","","","","","","","","","","",""]
[{"$f":"IF(ISBLANK(InfoPro!A109),\"\",InfoPro!A109)","v":""},{"$f":"IF(ISBLANK(InfoPro!B109),\"\",InfoPro!B109)","v":""},{"$f":"IF(ISBLANK(InfoPro!E109),\"\",InfoPro!E109)","v":""},{"$f":"IF(ISBLANK(InfoPro!F109),\"\",InfoPro!F109)","v":""},{"$f":"IF(ISBLANK(InfoPro!I109),\"\",YEAR(InfoPro!I109)-$G$4)","v":""},{"$f":"IF(B116=\"\",\"\",VLOOKUP(D116,Tablas!$B$2:$E$13,2,FALSE))","v":""},{"$f":"IF(B116=\"\",\"\",VLOOKUP(D116,Tablas!$B$2:$F$13,5,FALSE))","v":""},{"$f":"IF(C116=\"\",\"\",+C116*G116*F116*24*365)","v":""},"","","","","","","","","","","","","","","",{"$f":"IF(W116=\"\",\"\",SUM(I116:W116))","v":""},{"$f":"IF(C116=0,0,IF(X116=\"\",\"\",X116/(C116*1000)))","v":""}]
[{"$f":"IF(ISBLANK(InfoPro!A110),\"\",InfoPro!A110)","v":""},{"$f":"IF(ISBLANK(InfoPro!B110),\"\",InfoPro!B110)","v":""},{"$f":"IF(ISBLANK(InfoPro!E110),\"\",InfoPro!E110)","v":""},{"$f":"IF(ISBLANK(InfoPro!F110),\"\",InfoPro!F110)","v":""},{"$f":"IF(ISBLANK(InfoPro!I110),\"\",YEAR(InfoPro!I110)-$G$4)","v":""},{"$f":"IF(B117=\"\",\"\",VLOOKUP(D117,Tablas!$B$2:$E$13,2,FALSE))","v":""},{"$f":"IF(B117=\"\",\"\",VLOOKUP(D117,Tablas!$B$2:$F$13,5,FALSE))","v":""},"","","","","","","","","","","","","","","","","",""]
[{"$f":"IF(ISBLANK(InfoPro!A111),\"\",InfoPro!A111)","v":""},{"$f":"IF(ISBLANK(InfoPro!B111),\"\",InfoPro!B111)","v":""},{"$f":"IF(ISBLANK(InfoPro!E111),\"\",InfoPro!E111)","v":""},{"$f":"IF(ISBLANK(InfoPro!F111),\"\",InfoPro!F111)","v":""},{"$f":"IF(ISBLANK(InfoPro!I111),\"\",YEAR(InfoPro!I111)-$G$4)","v":""},{"$f":"IF(B118=\"\",\"\",VLOOKUP(D118,Tablas!$B$2:$E$13,2,FALSE))","v":""},{"$f":"IF(B118=\"\",\"\",VLOOKUP(D118,Tablas!$B$2:$F$13,5,FALSE))","v":""},"","","","","","","","","","","","","","","","","",""]
[{"$f":"IF(ISBLANK(InfoPro!A112),\"\",InfoPro!A112)","v":""},{"$f":"IF(ISBLANK(InfoPro!B112),\"\",InfoPro!B112)","v":""},{"$f":"IF(ISBLANK(InfoPro!E112),\"\",InfoPro!E112)","v":""},{"$f":"IF(ISBLANK(InfoPro!F112),\"\",InfoPro!F112)","v":""},{"$f":"IF(ISBLANK(InfoPro!I112),\"\",YEAR(InfoPro!I112)-$G$4)","v":""},{"$f":"IF(B119=\"\",\"\",VLOOKUP(D119,Tablas!$B$2:$E$13,2,FALSE))","v":""},{"$f":"IF(B119=\"\",\"\",VLOOKUP(D119,Tablas!$B$2:$F$13,5,FALSE))","v":""},"","","","","","","","","","","","","","","","","",""]
[{"$f":"IF(ISBLANK(InfoPro!A113),\"\",InfoPro!A113)","v":""},{"$f":"IF(ISBLANK(InfoPro!B113),\"\",InfoPro!B113)","v":""},{"$f":"IF(ISBLANK(InfoPro!E113),\"\",InfoPro!E113)","v":""},{"$f":"IF(ISBLANK(InfoPro!F113),\"\",InfoPro!F113)","v":""},{"$f":"IF(ISBLANK(InfoPro!I113),\"\",YEAR(InfoPro!I113)-$G$4)","v":""},{"$f":"IF(B120=\"\",\"\",VLOOKUP(D120,Tablas!$B$2:$E$13,2,FALSE))","v":""},{"$f":"IF(B120=\"\",\"\",VLOOKUP(D120,Tablas!$B$2:$F$13,5,FALSE))","v":""},"","","","","","","","","","","","","","","","","",""]
[{"$f":"IF(ISBLANK(InfoPro!A114),\"\",InfoPro!A114)","v":""},{"$f":"IF(ISBLANK(InfoPro!B114),\"\",InfoPro!B114)","v":""},{"$f":"IF(ISBLANK(InfoPro!E114),\"\",InfoPro!E114)","v":""},{"$f":"IF(ISBLANK(InfoPro!F114),\"\",InfoPro!F114)","v":""},{"$f":"IF(ISBLANK(InfoPro!I114),\"\",YEAR(InfoPro!I114)-$G$4)","v":""},{"$f":"IF(B121=\"\",\"\",VLOOKUP(D121,Tablas!$B$2:$E$13,2,FALSE))","v":""},{"$f":"IF(B121=\"\",\"\",VLOOKUP(D121,Tablas!$B$2:$F$13,5,FALSE))","v":""},"","","","","","","","","","","","","","","","","",""]
[{"$f":"IF(ISBLANK(InfoPro!A115),\"\",InfoPro!A115)","v":""},{"$f":"IF(ISBLANK(InfoPro!B115),\"\",InfoPro!B115)","v":""},{"$f":"IF(ISBLANK(InfoPro!E115),\"\",InfoPro!E115)","v":""},{"$f":"IF(ISBLANK(InfoPro!F115),\"\",InfoPro!F115)","v":""},{"$f":"IF(ISBLANK(InfoPro!I115),\"\",YEAR(InfoPro!I115)-$G$4)","v":""},{"$f":"IF(B122=\"\",\"\",VLOOKUP(D122,Tablas!$B$2:$E$13,2,FALSE))","v":""},{"$f":"IF(B122=\"\",\"\",VLOOKUP(D122,Tablas!$B$2:$F$13,5,FALSE))","v":""},"","","","","","","","","","","","","","","","","",""]
[{"$f":"IF(ISBLANK(InfoPro!A116),\"\",InfoPro!A116)","v":""},{"$f":"IF(ISBLANK(InfoPro!B116),\"\",InfoPro!B116)","v":""},{"$f":"IF(ISBLANK(InfoPro!E116),\"\",InfoPro!E116)","v":""},{"$f":"IF(ISBLANK(InfoPro!F116),\"\",InfoPro!F116)","v":""},{"$f":"IF(ISBLANK(InfoPro!I116),\"\",YEAR(InfoPro!I116)-$G$4)","v":""},{"$f":"IF(B123=\"\",\"\",VLOOKUP(D123,Tablas!$B$2:$E$13,2,FALSE))","v":""},{"$f":"IF(B123=\"\",\"\",VLOOKUP(D123,Tablas!$B$2:$F$13,5,FALSE))","v":""},"","","","","","","","","","","","","","","","","",""]
[{"$f":"IF(ISBLANK(InfoPro!A117),\"\",InfoPro!A117)","v":""},{"$f":"IF(ISBLANK(InfoPro!B117),\"\",InfoPro!B117)","v":""},{"$f":"IF(ISBLANK(InfoPro!E117),\"\",InfoPro!E117)","v":""},{"$f":"IF(ISBLANK(InfoPro!F117),\"\",InfoPro!F117)","v":""},{"$f":"IF(ISBLANK(InfoPro!I117),\"\",YEAR(InfoPro!I117)-$G$4)","v":""},{"$f":"IF(B124=\"\",\"\",VLOOKUP(D124,Tablas!$B$2:$E$13,2,FALSE))","v":""},{"$f":"IF(B124=\"\",\"\",VLOOKUP(D124,Tablas!$B$2:$F$13,5,FALSE))","v":""},"","","","","","","","","","","","","","","","","",""]
[{"$f":"IF(ISBLANK(InfoPro!A118),\"\",InfoPro!A118)","v":""},{"$f":"IF(ISBLANK(InfoPro!B118),\"\",InfoPro!B118)","v":""},{"$f":"IF(ISBLANK(InfoPro!E118),\"\",InfoPro!E118)","v":""},{"$f":"IF(ISBLANK(InfoPro!F118),\"\",InfoPro!F118)","v":""},{"$f":"IF(ISBLANK(InfoPro!I118),\"\",YEAR(InfoPro!I118)-$G$4)","v":""},{"$f":"IF(B125=\"\",\"\",VLOOKUP(D125,Tablas!$B$2:$E$13,2,FALSE))","v":""},{"$f":"IF(B125=\"\",\"\",VLOOKUP(D125,Tablas!$B$2:$F$13,5,FALSE))","v":""},"",{"$f":"IF($H125=\"\",\"\",(1/(1+$C$4)^(I$7+$E125))*$H125*$I$5*$I$4)","v":""},"","","","","","","","","","","","","","","",""]
[{"$f":"IF(ISBLANK(InfoPro!A119),\"\",InfoPro!A119)","v":""},{"$f":"IF(ISBLANK(InfoPro!B119),\"\",InfoPro!B119)","v":""},{"$f":"IF(ISBLANK(InfoPro!E119),\"\",InfoPro!E119)","v":""},{"$f":"IF(ISBLANK(InfoPro!F119),\"\",InfoPro!F119)","v":""},{"$f":"IF(ISBLANK(InfoPro!I119),\"\",YEAR(InfoPro!I119)-$G$4)","v":""},{"$f":"IF(B126=\"\",\"\",VLOOKUP(D126,Tablas!$B$2:$E$13,2,FALSE))","v":""},{"$f":"IF(B126=\"\",\"\",VLOOKUP(D126,Tablas!$B$2:$F$13,5,FALSE))","v":""},"","","","","","","","","","","","","","","","","",""]
[{"$f":"IF(ISBLANK(InfoPro!A120),\"\",InfoPro!A120)","v":""},{"$f":"IF(ISBLANK(InfoPro!B120),\"\",InfoPro!B120)","v":""},{"$f":"IF(ISBLANK(InfoPro!E120),\"\",InfoPro!E120)","v":""},{"$f":"IF(ISBLANK(InfoPro!F120),\"\",InfoPro!F120)","v":""},{"$f":"IF(ISBLANK(InfoPro!I120),\"\",YEAR(InfoPro!I120)-$G$4)","v":""},{"$f":"IF(B127=\"\",\"\",VLOOKUP(D127,Tablas!$B$2:$E$13,2,FALSE))","v":""},{"$f":"IF(B127=\"\",\"\",VLOOKUP(D127,Tablas!$B$2:$F$13,5,FALSE))","v":""},"","","","","","","","","","","","","","","","","",""]
[{"$f":"IF(ISBLANK(InfoPro!A121),\"\",InfoPro!A121)","v":""},{"$f":"IF(ISBLANK(InfoPro!B121),\"\",InfoPro!B121)","v":""},{"$f":"IF(ISBLANK(InfoPro!E121),\"\",InfoPro!E121)","v":""},{"$f":"IF(ISBLANK(InfoPro!F121),\"\",InfoPro!F121)","v":""},{"$f":"IF(ISBLANK(InfoPro!I121),\"\",YEAR(InfoPro!I121)-$G$4)","v":""},{"$f":"IF(B128=\"\",\"\",VLOOKUP(D128,Tablas!$B$2:$E$13,2,FALSE))","v":""},{"$f":"IF(B128=\"\",\"\",VLOOKUP(D128,Tablas!$B$2:$F$13,5,FALSE))","v":""},"","","","","","","","","","","","","","","","","",""]
[{"$f":"IF(ISBLANK(InfoPro!A122),\"\",InfoPro!A122)","v":""},{"$f":"IF(ISBLANK(InfoPro!B122),\"\",InfoPro!B122)","v":""},{"$f":"IF(ISBLANK(InfoPro!E122),\"\",InfoPro!E122)","v":""},{"$f":"IF(ISBLANK(InfoPro!F122),\"\",InfoPro!F122)","v":""},{"$f":"IF(ISBLANK(InfoPro!I122),\"\",YEAR(InfoPro!I122)-$G$4)","v":""},{"$f":"IF(B129=\"\",\"\",VLOOKUP(D129,Tablas!$B$2:$E$13,2,FALSE))","v":""},{"$f":"IF(B129=\"\",\"\",VLOOKUP(D129,Tablas!$B$2:$F$13,5,FALSE))","v":""},"","","","","","","","","","","","","","","","","",""]
[{"$f":"IF(ISBLANK(InfoPro!A123),\"\",InfoPro!A123)","v":""},{"$f":"IF(ISBLANK(InfoPro!B123),\"\",InfoPro!B123)","v":""},{"$f":"IF(ISBLANK(InfoPro!E123),\"\",InfoPro!E123)","v":""},{"$f":"IF(ISBLANK(InfoPro!F123),\"\",InfoPro!F123)","v":""},{"$f":"IF(ISBLANK(InfoPro!I123),\"\",YEAR(InfoPro!I123)-$G$4)","v":""},{"$f":"IF(B130=\"\",\"\",VLOOKUP(D130,Tablas!$B$2:$E$13,2,FALSE))","v":""},{"$f":"IF(B130=\"\",\"\",VLOOKUP(D130,Tablas!$B$2:$F$13,5,FALSE))","v":""},"","","","","","","","","","","","","","","","","",""]
[{"$f":"IF(ISBLANK(InfoPro!A124),\"\",InfoPro!A124)","v":""},{"$f":"IF(ISBLANK(InfoPro!B124),\"\",InfoPro!B124)","v":""},{"$f":"IF(ISBLANK(InfoPro!E124),\"\",InfoPro!E124)","v":""},{"$f":"IF(ISBLANK(InfoPro!F124),\"\",InfoPro!F124)","v":""},{"$f":"IF(ISBLANK(InfoPro!I124),\"\",YEAR(InfoPro!I124)-$G$4)","v":""},{"$f":"IF(B131=\"\",\"\",VLOOKUP(D131,Tablas!$B$2:$E$13,2,FALSE))","v":""},{"$f":"IF(B131=\"\",\"\",VLOOKUP(D131,Tablas!$B$2:$F$13,5,FALSE))","v":""},"","","","","","","","","","","","","","","","","",""]
[{"$f":"IF(ISBLANK(InfoPro!A125),\"\",InfoPro!A125)","v":""},{"$f":"IF(ISBLANK(InfoPro!B125),\"\",InfoPro!B125)","v":""},{"$f":"IF(ISBLANK(InfoPro!E125),\"\",InfoPro!E125)","v":""},{"$f":"IF(ISBLANK(InfoPro!F125),\"\",InfoPro!F125)","v":""},{"$f":"IF(ISBLANK(InfoPro!I125),\"\",YEAR(InfoPro!I125)-$G$4)","v":""},{"$f":"IF(B132=\"\",\"\",VLOOKUP(D132,Tablas!$B$2:$E$13,2,FALSE))","v":""},{"$f":"IF(B132=\"\",\"\",VLOOKUP(D132,Tablas!$B$2:$F$13,5,FALSE))","v":""},"","","","","","","","","","","","","","","","","",""]
[{"$f":"IF(ISBLANK(InfoPro!A126),\"\",InfoPro!A126)","v":""},{"$f":"IF(ISBLANK(InfoPro!B126),\"\",InfoPro!B126)","v":""},{"$f":"IF(ISBLANK(InfoPro!E126),\"\",InfoPro!E126)","v":""},{"$f":"IF(ISBLANK(InfoPro!F126),\"\",InfoPro!F126)","v":""},{"$f":"IF(ISBLANK(InfoPro!I126),\"\",YEAR(InfoPro!I126)-$G$4)","v":""},{"$f":"IF(B133=\"\",\"\",VLOOKUP(D133,Tablas!$B$2:$E$13,2,FALSE))","v":""},{"$f":"IF(B133=\"\",\"\",VLOOKUP(D133,Tablas!$B$2:$F$13,5,FALSE))","v":""},"","","","","","","","","","","","","","","","","",""]
[{"$f":"IF(ISBLANK(InfoPro!A127),\"\",InfoPro!A127)","v":""},{"$f":"IF(ISBLANK(InfoPro!B127),\"\",InfoPro!B127)","v":""},{"$f":"IF(ISBLANK(InfoPro!E127),\"\",InfoPro!E127)","v":""},{"$f":"IF(ISBLANK(InfoPro!F127),\"\",InfoPro!F127)","v":""},{"$f":"IF(ISBLANK(InfoPro!I127),\"\",YEAR(InfoPro!I127)-$G$4)","v":""},{"$f":"IF(B134=\"\",\"\",VLOOKUP(D134,Tablas!$B$2:$E$13,2,FALSE))","v":""},{"$f":"IF(B134=\"\",\"\",VLOOKUP(D134,Tablas!$B$2:$F$13,5,FALSE))","v":""},"","","","","","","","","","","","","","","","","",""]
[{"$f":"IF(ISBLANK(InfoPro!A128),\"\",InfoPro!A128)","v":""},{"$f":"IF(ISBLANK(InfoPro!B128),\"\",InfoPro!B128)","v":""},{"$f":"IF(ISBLANK(InfoPro!E128),\"\",InfoPro!E128)","v":""},{"$f":"IF(ISBLANK(InfoPro!F128),\"\",InfoPro!F128)","v":""},{"$f":"IF(ISBLANK(InfoPro!I128),\"\",YEAR(InfoPro!I128)-$G$4)","v":""},{"$f":"IF(B135=\"\",\"\",VLOOKUP(D135,Tablas!$B$2:$E$13,2,FALSE))","v":""},{"$f":"IF(B135=\"\",\"\",VLOOKUP(D135,Tablas!$B$2:$F$13,5,FALSE))","v":""},"","","","","","","","","","","","","","","","","",""]
[{"$f":"IF(ISBLANK(InfoPro!A129),\"\",InfoPro!A129)","v":""},{"$f":"IF(ISBLANK(InfoPro!B129),\"\",InfoPro!B129)","v":""},{"$f":"IF(ISBLANK(InfoPro!E129),\"\",InfoPro!E129)","v":""},{"$f":"IF(ISBLANK(InfoPro!F129),\"\",InfoPro!F129)","v":""},{"$f":"IF(ISBLANK(InfoPro!I129),\"\",YEAR(InfoPro!I129)-$G$4)","v":""},{"$f":"IF(B136=\"\",\"\",VLOOKUP(D136,Tablas!$B$2:$E$13,2,FALSE))","v":""},{"$f":"IF(B136=\"\",\"\",VLOOKUP(D136,Tablas!$B$2:$F$13,5,FALSE))","v":""},"","","","","","","","","","","","","","","","","",""]
[{"$f":"IF(ISBLANK(InfoPro!A130),\"\",InfoPro!A130)","v":""},{"$f":"IF(ISBLANK(InfoPro!B130),\"\",InfoPro!B130)","v":""},{"$f":"IF(ISBLANK(InfoPro!E130),\"\",InfoPro!E130)","v":""},{"$f":"IF(ISBLANK(InfoPro!F130),\"\",InfoPro!F130)","v":""},{"$f":"IF(ISBLANK(InfoPro!I130),\"\",YEAR(InfoPro!I130)-$G$4)","v":""},{"$f":"IF(B137=\"\",\"\",VLOOKUP(D137,Tablas!$B$2:$E$13,2,FALSE))","v":""},{"$f":"IF(B137=\"\",\"\",VLOOKUP(D137,Tablas!$B$2:$F$13,5,FALSE))","v":""},"","","","","","","","","","","","","","","","","",""]
[{"$f":"IF(ISBLANK(InfoPro!A131),\"\",InfoPro!A131)","v":""},{"$f":"IF(ISBLANK(InfoPro!B131),\"\",InfoPro!B131)","v":""},{"$f":"IF(ISBLANK(InfoPro!E131),\"\",InfoPro!E131)","v":""},{"$f":"IF(ISBLANK(InfoPro!F131),\"\",InfoPro!F131)","v":""},{"$f":"IF(ISBLANK(InfoPro!I131),\"\",YEAR(InfoPro!I131)-$G$4)","v":""},{"$f":"IF(B138=\"\",\"\",VLOOKUP(D138,Tablas!$B$2:$E$13,2,FALSE))","v":""},{"$f":"IF(B138=\"\",\"\",VLOOKUP(D138,Tablas!$B$2:$F$13,5,FALSE))","v":""},"","","","","","","","","","","","","","","","","",""]
[{"$f":"IF(ISBLANK(InfoPro!A132),\"\",InfoPro!A132)","v":""},{"$f":"IF(ISBLANK(InfoPro!B132),\"\",InfoPro!B132)","v":""},{"$f":"IF(ISBLANK(InfoPro!E132),\"\",InfoPro!E132)","v":""},{"$f":"IF(ISBLANK(InfoPro!F132),\"\",InfoPro!F132)","v":""},{"$f":"IF(ISBLANK(InfoPro!I132),\"\",YEAR(InfoPro!I132)-$G$4)","v":""},{"$f":"IF(B139=\"\",\"\",VLOOKUP(D139,Tablas!$B$2:$E$13,2,FALSE))","v":""},{"$f":"IF(B139=\"\",\"\",VLOOKUP(D139,Tablas!$B$2:$F$13,5,FALSE))","v":""},"","","","","","","","","","","","","","","","","",""]
[{"$f":"IF(ISBLANK(InfoPro!A133),\"\",InfoPro!A133)","v":""},{"$f":"IF(ISBLANK(InfoPro!B133),\"\",InfoPro!B133)","v":""},{"$f":"IF(ISBLANK(InfoPro!E133),\"\",InfoPro!E133)","v":""},{"$f":"IF(ISBLANK(InfoPro!F133),\"\",InfoPro!F133)","v":""},{"$f":"IF(ISBLANK(InfoPro!I133),\"\",YEAR(InfoPro!I133)-$G$4)","v":""},{"$f":"IF(B140=\"\",\"\",VLOOKUP(D140,Tablas!$B$2:$E$13,2,FALSE))","v":""},{"$f":"IF(B140=\"\",\"\",VLOOKUP(D140,Tablas!$B$2:$F$13,5,FALSE))","v":""},"","","","","","","","","","","","","","","","","",""]
[{"$f":"IF(ISBLANK(InfoPro!A134),\"\",InfoPro!A134)","v":""},{"$f":"IF(ISBLANK(InfoPro!B134),\"\",InfoPro!B134)","v":""},{"$f":"IF(ISBLANK(InfoPro!E134),\"\",InfoPro!E134)","v":""},{"$f":"IF(ISBLANK(InfoPro!F134),\"\",InfoPro!F134)","v":""},{"$f":"IF(ISBLANK(InfoPro!I134),\"\",YEAR(InfoPro!I134)-$G$4)","v":""},{"$f":"IF(B141=\"\",\"\",VLOOKUP(D141,Tablas!$B$2:$E$13,2,FALSE))","v":""},{"$f":"IF(B141=\"\",\"\",VLOOKUP(D141,Tablas!$B$2:$F$13,5,FALSE))","v":""},"","","","","","","","","","","","","","","","","",""]
[{"$f":"IF(ISBLANK(InfoPro!A135),\"\",InfoPro!A135)","v":""},{"$f":"IF(ISBLANK(InfoPro!B135),\"\",InfoPro!B135)","v":""},{"$f":"IF(ISBLANK(InfoPro!E135),\"\",InfoPro!E135)","v":""},{"$f":"IF(ISBLANK(InfoPro!F135),\"\",InfoPro!F135)","v":""},{"$f":"IF(ISBLANK(InfoPro!I135),\"\",YEAR(InfoPro!I135)-$G$4)","v":""},{"$f":"IF(B142=\"\",\"\",VLOOKUP(D142,Tablas!$B$2:$E$13,2,FALSE))","v":""},{"$f":"IF(B142=\"\",\"\",VLOOKUP(D142,Tablas!$B$2:$F$13,5,FALSE))","v":""},"",{"$f":"IF($H142=\"\",\"\",(1/(1+$C$4)^(I$7+$E142))*$H142*$I$5*$I$4)","v":""},"","","","","","","","","","","","","","","",""]
[{"$f":"IF(ISBLANK(InfoPro!A136),\"\",InfoPro!A136)","v":""},{"$f":"IF(ISBLANK(InfoPro!B136),\"\",InfoPro!B136)","v":""},{"$f":"IF(ISBLANK(InfoPro!E136),\"\",InfoPro!E136)","v":""},{"$f":"IF(ISBLANK(InfoPro!F136),\"\",InfoPro!F136)","v":""},{"$f":"IF(ISBLANK(InfoPro!I136),\"\",YEAR(InfoPro!I136)-$G$4)","v":""},{"$f":"IF(B143=\"\",\"\",VLOOKUP(D143,Tablas!$B$2:$E$13,2,FALSE))","v":""},{"$f":"IF(B143=\"\",\"\",VLOOKUP(D143,Tablas!$B$2:$F$13,5,FALSE))","v":""},"","","","","","","","","","","","","","","","","",""]
[{"$f":"IF(ISBLANK(InfoPro!A137),\"\",InfoPro!A137)","v":""},{"$f":"IF(ISBLANK(InfoPro!B137),\"\",InfoPro!B137)","v":""},{"$f":"IF(ISBLANK(InfoPro!E137),\"\",InfoPro!E137)","v":""},{"$f":"IF(ISBLANK(InfoPro!F137),\"\",InfoPro!F137)","v":""},{"$f":"IF(ISBLANK(InfoPro!I137),\"\",YEAR(InfoPro!I137)-$G$4)","v":""},{"$f":"IF(B144=\"\",\"\",VLOOKUP(D144,Tablas!$B$2:$E$13,2,FALSE))","v":""},{"$f":"IF(B144=\"\",\"\",VLOOKUP(D144,Tablas!$B$2:$F$13,5,FALSE))","v":""},"","","","","","","","","","","","","","","","","",""]
[{"$f":"IF(ISBLANK(InfoPro!A138),\"\",InfoPro!A138)","v":""},{"$f":"IF(ISBLANK(InfoPro!B138),\"\",InfoPro!B138)","v":""},{"$f":"IF(ISBLANK(InfoPro!E138),\"\",InfoPro!E138)","v":""},{"$f":"IF(ISBLANK(InfoPro!F138),\"\",InfoPro!F138)","v":""},{"$f":"IF(ISBLANK(InfoPro!I138),\"\",YEAR(InfoPro!I138)-$G$4)","v":""},{"$f":"IF(B145=\"\",\"\",VLOOKUP(D145,Tablas!$B$2:$E$13,2,FALSE))","v":""},{"$f":"IF(B145=\"\",\"\",VLOOKUP(D145,Tablas!$B$2:$F$13,5,FALSE))","v":""},"","","","","","","","","","","","","","","","","",""]
[{"$f":"IF(ISBLANK(InfoPro!A139),\"\",InfoPro!A139)","v":""},{"$f":"IF(ISBLANK(InfoPro!B139),\"\",InfoPro!B139)","v":""},{"$f":"IF(ISBLANK(InfoPro!E139),\"\",InfoPro!E139)","v":""},{"$f":"IF(ISBLANK(InfoPro!F139),\"\",InfoPro!F139)","v":""},{"$f":"IF(ISBLANK(InfoPro!I139),\"\",YEAR(InfoPro!I139)-$G$4)","v":""},{"$f":"IF(B146=\"\",\"\",VLOOKUP(D146,Tablas!$B$2:$E$13,2,FALSE))","v":""},{"$f":"IF(B146=\"\",\"\",VLOOKUP(D146,Tablas!$B$2:$F$13,5,FALSE))","v":""},"","","","","","","","","","","","","","","","","",""]
[{"$f":"IF(ISBLANK(InfoPro!A140),\"\",InfoPro!A140)","v":""},{"$f":"IF(ISBLANK(InfoPro!B140),\"\",InfoPro!B140)","v":""},{"$f":"IF(ISBLANK(InfoPro!E140),\"\",InfoPro!E140)","v":""},{"$f":"IF(ISBLANK(InfoPro!F140),\"\",InfoPro!F140)","v":""},{"$f":"IF(ISBLANK(InfoPro!I140),\"\",YEAR(InfoPro!I140)-$G$4)","v":""},{"$f":"IF(B147=\"\",\"\",VLOOKUP(D147,Tablas!$B$2:$E$13,2,FALSE))","v":""},{"$f":"IF(B147=\"\",\"\",VLOOKUP(D147,Tablas!$B$2:$F$13,5,FALSE))","v":""},"","","","","","","","","","","","","","","","","",""]
[{"$f":"IF(ISBLANK(InfoPro!A141),\"\",InfoPro!A141)","v":""},{"$f":"IF(ISBLANK(InfoPro!B141),\"\",InfoPro!B141)","v":""},{"$f":"IF(ISBLANK(InfoPro!E141),\"\",InfoPro!E141)","v":""},{"$f":"IF(ISBLANK(InfoPro!F141),\"\",InfoPro!F141)","v":""},{"$f":"IF(ISBLANK(InfoPro!I141),\"\",YEAR(InfoPro!I141)-$G$4)","v":""},{"$f":"IF(B148=\"\",\"\",VLOOKUP(D148,Tablas!$B$2:$E$13,2,FALSE))","v":""},{"$f":"IF(B148=\"\",\"\",VLOOKUP(D148,Tablas!$B$2:$F$13,5,FALSE))","v":""},"","","","","","","","","","","","","","","","","",""]
[{"$f":"IF(ISBLANK(InfoPro!A142),\"\",InfoPro!A142)","v":""},{"$f":"IF(ISBLANK(InfoPro!B142),\"\",InfoPro!B142)","v":""},{"$f":"IF(ISBLANK(InfoPro!E142),\"\",InfoPro!E142)","v":""},{"$f":"IF(ISBLANK(InfoPro!F142),\"\",InfoPro!F142)","v":""},{"$f":"IF(ISBLANK(InfoPro!I142),\"\",YEAR(InfoPro!I142)-$G$4)","v":""},{"$f":"IF(B149=\"\",\"\",VLOOKUP(D149,Tablas!$B$2:$E$13,2,FALSE))","v":""},{"$f":"IF(B149=\"\",\"\",VLOOKUP(D149,Tablas!$B$2:$F$13,5,FALSE))","v":""},"","","","","","","","","","","","","","","","","",""]
[{"$f":"IF(ISBLANK(InfoPro!A143),\"\",InfoPro!A143)","v":""},{"$f":"IF(ISBLANK(InfoPro!B143),\"\",InfoPro!B143)","v":""},{"$f":"IF(ISBLANK(InfoPro!E143),\"\",InfoPro!E143)","v":""},{"$f":"IF(ISBLANK(InfoPro!F143),\"\",InfoPro!F143)","v":""},{"$f":"IF(ISBLANK(InfoPro!I143),\"\",YEAR(InfoPro!I143)-$G$4)","v":""},{"$f":"IF(B150=\"\",\"\",VLOOKUP(D150,Tablas!$B$2:$E$13,2,FALSE))","v":""},{"$f":"IF(B150=\"\",\"\",VLOOKUP(D150,Tablas!$B$2:$F$13,5,FALSE))","v":""},"","","","","","","","","","","","","","","","","",""]
[{"$f":"IF(ISBLANK(InfoPro!A144),\"\",InfoPro!A144)","v":""},{"$f":"IF(ISBLANK(InfoPro!B144),\"\",InfoPro!B144)","v":""},{"$f":"IF(ISBLANK(InfoPro!E144),\"\",InfoPro!E144)","v":""},{"$f":"IF(ISBLANK(InfoPro!F144),\"\",InfoPro!F144)","v":""},{"$f":"IF(ISBLANK(InfoPro!I144),\"\",YEAR(InfoPro!I144)-$G$4)","v":""},{"$f":"IF(B151=\"\",\"\",VLOOKUP(D151,Tablas!$B$2:$E$13,2,FALSE))","v":""},{"$f":"IF(B151=\"\",\"\",VLOOKUP(D151,Tablas!$B$2:$F$13,5,FALSE))","v":""},"","","","","","","","","","","","","","","","","",""]
[{"$f":"IF(ISBLANK(InfoPro!A145),\"\",InfoPro!A145)","v":""},{"$f":"IF(ISBLANK(InfoPro!B145),\"\",InfoPro!B145)","v":""},{"$f":"IF(ISBLANK(InfoPro!E145),\"\",InfoPro!E145)","v":""},{"$f":"IF(ISBLANK(InfoPro!F145),\"\",InfoPro!F145)","v":""},{"$f":"IF(ISBLANK(InfoPro!I145),\"\",YEAR(InfoPro!I145)-$G$4)","v":""},{"$f":"IF(B152=\"\",\"\",VLOOKUP(D152,Tablas!$B$2:$E$13,2,FALSE))","v":""},{"$f":"IF(B152=\"\",\"\",VLOOKUP(D152,Tablas!$B$2:$F$13,5,FALSE))","v":""},"","","","","","","","","","","","","","","","","",""]
[{"$f":"IF(ISBLANK(InfoPro!A146),\"\",InfoPro!A146)","v":""},{"$f":"IF(ISBLANK(InfoPro!B146),\"\",InfoPro!B146)","v":""},{"$f":"IF(ISBLANK(InfoPro!E146),\"\",InfoPro!E146)","v":""},{"$f":"IF(ISBLANK(InfoPro!F146),\"\",InfoPro!F146)","v":""},{"$f":"IF(ISBLANK(InfoPro!I146),\"\",YEAR(InfoPro!I146)-$G$4)","v":""},{"$f":"IF(B153=\"\",\"\",VLOOKUP(D153,Tablas!$B$2:$E$13,2,FALSE))","v":""},{"$f":"IF(B153=\"\",\"\",VLOOKUP(D153,Tablas!$B$2:$F$13,5,FALSE))","v":""},"","","","","","","","","","","","","","","","","",""]
[{"$f":"IF(ISBLANK(InfoPro!A147),\"\",InfoPro!A147)","v":""},{"$f":"IF(ISBLANK(InfoPro!B147),\"\",InfoPro!B147)","v":""},{"$f":"IF(ISBLANK(InfoPro!E147),\"\",InfoPro!E147)","v":""},{"$f":"IF(ISBLANK(InfoPro!F147),\"\",InfoPro!F147)","v":""},{"$f":"IF(ISBLANK(InfoPro!I147),\"\",YEAR(InfoPro!I147)-$G$4)","v":""},{"$f":"IF(B154=\"\",\"\",VLOOKUP(D154,Tablas!$B$2:$E$13,2,FALSE))","v":""},{"$f":"IF(B154=\"\",\"\",VLOOKUP(D154,Tablas!$B$2:$F$13,5,FALSE))","v":""},"","","","","","","","","","","","","","","","","",""]
[{"$f":"IF(ISBLANK(InfoPro!A148),\"\",InfoPro!A148)","v":""},{"$f":"IF(ISBLANK(InfoPro!B148),\"\",InfoPro!B148)","v":""},{"$f":"IF(ISBLANK(InfoPro!E148),\"\",InfoPro!E148)","v":""},{"$f":"IF(ISBLANK(InfoPro!F148),\"\",InfoPro!F148)","v":""},{"$f":"IF(ISBLANK(InfoPro!I148),\"\",YEAR(InfoPro!I148)-$G$4)","v":""},{"$f":"IF(B155=\"\",\"\",VLOOKUP(D155,Tablas!$B$2:$E$13,2,FALSE))","v":""},{"$f":"IF(B155=\"\",\"\",VLOOKUP(D155,Tablas!$B$2:$F$13,5,FALSE))","v":""},"","","","","","","","","","","","","","","","","",""]
[{"$f":"IF(ISBLANK(InfoPro!A149),\"\",InfoPro!A149)","v":""},{"$f":"IF(ISBLANK(InfoPro!B149),\"\",InfoPro!B149)","v":""},{"$f":"IF(ISBLANK(InfoPro!E149),\"\",InfoPro!E149)","v":""},{"$f":"IF(ISBLANK(InfoPro!F149),\"\",InfoPro!F149)","v":""},{"$f":"IF(ISBLANK(InfoPro!I149),\"\",YEAR(InfoPro!I149)-$G$4)","v":""},{"$f":"IF(B156=\"\",\"\",VLOOKUP(D156,Tablas!$B$2:$E$13,2,FALSE))","v":""},{"$f":"IF(B156=\"\",\"\",VLOOKUP(D156,Tablas!$B$2:$F$13,5,FALSE))","v":""},"","","","","","","","","","","","","","","","","",""]
[{"$f":"IF(ISBLANK(InfoPro!A150),\"\",InfoPro!A150)","v":""},{"$f":"IF(ISBLANK(InfoPro!B150),\"\",InfoPro!B150)","v":""},{"$f":"IF(ISBLANK(InfoPro!E150),\"\",InfoPro!E150)","v":""},{"$f":"IF(ISBLANK(InfoPro!F150),\"\",InfoPro!F150)","v":""},{"$f":"IF(ISBLANK(InfoPro!I150),\"\",YEAR(InfoPro!I150)-$G$4)","v":""},{"$f":"IF(B157=\"\",\"\",VLOOKUP(D157,Tablas!$B$2:$E$13,2,FALSE))","v":""},{"$f":"IF(B157=\"\",\"\",VLOOKUP(D157,Tablas!$B$2:$F$13,5,FALSE))","v":""},"","","","","","","","","","","","","","","","","",""]
[{"$f":"IF(ISBLANK(InfoPro!A151),\"\",InfoPro!A151)","v":""},{"$f":"IF(ISBLANK(InfoPro!B151),\"\",InfoPro!B151)","v":""},{"$f":"IF(ISBLANK(InfoPro!E151),\"\",InfoPro!E151)","v":""},{"$f":"IF(ISBLANK(InfoPro!F151),\"\",InfoPro!F151)","v":""},{"$f":"IF(ISBLANK(InfoPro!I151),\"\",YEAR(InfoPro!I151)-$G$4)","v":""},{"$f":"IF(B158=\"\",\"\",VLOOKUP(D158,Tablas!$B$2:$E$13,2,FALSE))","v":""},{"$f":"IF(B158=\"\",\"\",VLOOKUP(D158,Tablas!$B$2:$F$13,5,FALSE))","v":""},"","","","","","","","","","","","","","","","","",""]
[{"$f":"IF(ISBLANK(InfoPro!A152),\"\",InfoPro!A152)","v":""},{"$f":"IF(ISBLANK(InfoPro!B152),\"\",InfoPro!B152)","v":""},{"$f":"IF(ISBLANK(InfoPro!E152),\"\",InfoPro!E152)","v":""},{"$f":"IF(ISBLANK(InfoPro!F152),\"\",InfoPro!F152)","v":""},{"$f":"IF(ISBLANK(InfoPro!I152),\"\",YEAR(InfoPro!I152)-$G$4)","v":""},{"$f":"IF(B159=\"\",\"\",VLOOKUP(D159,Tablas!$B$2:$E$13,2,FALSE))","v":""},{"$f":"IF(B159=\"\",\"\",VLOOKUP(D159,Tablas!$B$2:$F$13,5,FALSE))","v":""},"",{"$f":"IF($H159=\"\",\"\",(1/(1+$C$4)^(I$7+$E159))*$H159*$I$5*$I$4)","v":""},"","","","","","","","","","","","","","","",""]
[{"$f":"IF(ISBLANK(InfoPro!A153),\"\",InfoPro!A153)","v":""},{"$f":"IF(ISBLANK(InfoPro!B153),\"\",InfoPro!B153)","v":""},{"$f":"IF(ISBLANK(InfoPro!E153),\"\",InfoPro!E153)","v":""},{"$f":"IF(ISBLANK(InfoPro!F153),\"\",InfoPro!F153)","v":""},{"$f":"IF(ISBLANK(InfoPro!I153),\"\",YEAR(InfoPro!I153)-$G$4)","v":""},{"$f":"IF(B160=\"\",\"\",VLOOKUP(D160,Tablas!$B$2:$E$13,2,FALSE))","v":""},{"$f":"IF(B160=\"\",\"\",VLOOKUP(D160,Tablas!$B$2:$F$13,5,FALSE))","v":""},"","","","","","","","","","","","","","","","","",""]
[{"$f":"IF(ISBLANK(InfoPro!A154),\"\",InfoPro!A154)","v":""},{"$f":"IF(ISBLANK(InfoPro!B154),\"\",InfoPro!B154)","v":""},{"$f":"IF(ISBLANK(InfoPro!E154),\"\",InfoPro!E154)","v":""},{"$f":"IF(ISBLANK(InfoPro!F154),\"\",InfoPro!F154)","v":""},{"$f":"IF(ISBLANK(InfoPro!I154),\"\",YEAR(InfoPro!I154)-$G$4)","v":""},{"$f":"IF(B161=\"\",\"\",VLOOKUP(D161,Tablas!$B$2:$E$13,2,FALSE))","v":""},{"$f":"IF(B161=\"\",\"\",VLOOKUP(D161,Tablas!$B$2:$F$13,5,FALSE))","v":""},"","","","","","","","","","","","","","","","","",""]
[{"$f":"IF(ISBLANK(InfoPro!A155),\"\",InfoPro!A155)","v":""},{"$f":"IF(ISBLANK(InfoPro!B155),\"\",InfoPro!B155)","v":""},{"$f":"IF(ISBLANK(InfoPro!E155),\"\",InfoPro!E155)","v":""},{"$f":"IF(ISBLANK(InfoPro!F155),\"\",InfoPro!F155)","v":""},{"$f":"IF(ISBLANK(InfoPro!I155),\"\",YEAR(InfoPro!I155)-$G$4)","v":""},{"$f":"IF(B162=\"\",\"\",VLOOKUP(D162,Tablas!$B$2:$E$13,2,FALSE))","v":""},{"$f":"IF(B162=\"\",\"\",VLOOKUP(D162,Tablas!$B$2:$F$13,5,FALSE))","v":""},"","","","","","","","","","","","","","","","","",""]
[{"$f":"IF(ISBLANK(InfoPro!A156),\"\",InfoPro!A156)","v":""},{"$f":"IF(ISBLANK(InfoPro!B156),\"\",InfoPro!B156)","v":""},{"$f":"IF(ISBLANK(InfoPro!E156),\"\",InfoPro!E156)","v":""},{"$f":"IF(ISBLANK(InfoPro!F156),\"\",InfoPro!F156)","v":""},{"$f":"IF(ISBLANK(InfoPro!I156),\"\",YEAR(InfoPro!I156)-$G$4)","v":""},{"$f":"IF(B163=\"\",\"\",VLOOKUP(D163,Tablas!$B$2:$E$13,2,FALSE))","v":""},{"$f":"IF(B163=\"\",\"\",VLOOKUP(D163,Tablas!$B$2:$F$13,5,FALSE))","v":""},"","","","","","","","","","","","","","","","","",""]
[{"$f":"IF(ISBLANK(InfoPro!A157),\"\",InfoPro!A157)","v":""},{"$f":"IF(ISBLANK(InfoPro!B157),\"\",InfoPro!B157)","v":""},{"$f":"IF(ISBLANK(InfoPro!E157),\"\",InfoPro!E157)","v":""},{"$f":"IF(ISBLANK(InfoPro!F157),\"\",InfoPro!F157)","v":""},{"$f":"IF(ISBLANK(InfoPro!I157),\"\",YEAR(InfoPro!I157)-$G$4)","v":""},{"$f":"IF(B164=\"\",\"\",VLOOKUP(D164,Tablas!$B$2:$E$13,2,FALSE))","v":""},{"$f":"IF(B164=\"\",\"\",VLOOKUP(D164,Tablas!$B$2:$F$13,5,FALSE))","v":""},"","","","","","","","","","","","","","","","","",""]
[{"$f":"IF(ISBLANK(InfoPro!A158),\"\",InfoPro!A158)","v":""},{"$f":"IF(ISBLANK(InfoPro!B158),\"\",InfoPro!B158)","v":""},{"$f":"IF(ISBLANK(InfoPro!E158),\"\",InfoPro!E158)","v":""},{"$f":"IF(ISBLANK(InfoPro!F158),\"\",InfoPro!F158)","v":""},{"$f":"IF(ISBLANK(InfoPro!I158),\"\",YEAR(InfoPro!I158)-$G$4)","v":""},{"$f":"IF(B165=\"\",\"\",VLOOKUP(D165,Tablas!$B$2:$E$13,2,FALSE))","v":""},{"$f":"IF(B165=\"\",\"\",VLOOKUP(D165,Tablas!$B$2:$F$13,5,FALSE))","v":""},"","","","","","","","","","","","","","","","","",""]
[{"$f":"IF(ISBLANK(InfoPro!A159),\"\",InfoPro!A159)","v":""},{"$f":"IF(ISBLANK(InfoPro!B159),\"\",InfoPro!B159)","v":""},{"$f":"IF(ISBLANK(InfoPro!E159),\"\",InfoPro!E159)","v":""},{"$f":"IF(ISBLANK(InfoPro!F159),\"\",InfoPro!F159)","v":""},{"$f":"IF(ISBLANK(InfoPro!I159),\"\",YEAR(InfoPro!I159)-$G$4)","v":""},{"$f":"IF(B166=\"\",\"\",VLOOKUP(D166,Tablas!$B$2:$E$13,2,FALSE))","v":""},{"$f":"IF(B166=\"\",\"\",VLOOKUP(D166,Tablas!$B$2:$F$13,5,FALSE))","v":""},"","","","","","","","","","","","","","","","","",""]
[{"$f":"IF(ISBLANK(InfoPro!A160),\"\",InfoPro!A160)","v":""},{"$f":"IF(ISBLANK(InfoPro!B160),\"\",InfoPro!B160)","v":""},{"$f":"IF(ISBLANK(InfoPro!E160),\"\",InfoPro!E160)","v":""},{"$f":"IF(ISBLANK(InfoPro!F160),\"\",InfoPro!F160)","v":""},{"$f":"IF(ISBLANK(InfoPro!I160),\"\",YEAR(InfoPro!I160)-$G$4)","v":""},{"$f":"IF(B167=\"\",\"\",VLOOKUP(D167,Tablas!$B$2:$E$13,2,FALSE))","v":""},{"$f":"IF(B167=\"\",\"\",VLOOKUP(D167,Tablas!$B$2:$F$13,5,FALSE))","v":""},"","","","","","","","","","","","","","","","","",""]
[{"$f":"IF(ISBLANK(InfoPro!A161),\"\",InfoPro!A161)","v":""},{"$f":"IF(ISBLANK(InfoPro!B161),\"\",InfoPro!B161)","v":""},{"$f":"IF(ISBLANK(InfoPro!E161),\"\",InfoPro!E161)","v":""},{"$f":"IF(ISBLANK(InfoPro!F161),\"\",InfoPro!F161)","v":""},{"$f":"IF(ISBLANK(InfoPro!I161),\"\",YEAR(InfoPro!I161)-$G$4)","v":""},{"$f":"IF(B168=\"\",\"\",VLOOKUP(D168,Tablas!$B$2:$E$13,2,FALSE))","v":""},{"$f":"IF(B168=\"\",\"\",VLOOKUP(D168,Tablas!$B$2:$F$13,5,FALSE))","v":""},"","","","","","","","","","","","","","","","","",""]
[{"$f":"IF(ISBLANK(InfoPro!A162),\"\",InfoPro!A162)","v":""},{"$f":"IF(ISBLANK(InfoPro!B162),\"\",InfoPro!B162)","v":""},{"$f":"IF(ISBLANK(InfoPro!E162),\"\",InfoPro!E162)","v":""},{"$f":"IF(ISBLANK(InfoPro!F162),\"\",InfoPro!F162)","v":""},{"$f":"IF(ISBLANK(InfoPro!I162),\"\",YEAR(InfoPro!I162)-$G$4)","v":""},{"$f":"IF(B169=\"\",\"\",VLOOKUP(D169,Tablas!$B$2:$E$13,2,FALSE))","v":""},{"$f":"IF(B169=\"\",\"\",VLOOKUP(D169,Tablas!$B$2:$F$13,5,FALSE))","v":""},"","","","","","","","","","","","","","","","","",""]
[{"$f":"IF(ISBLANK(InfoPro!A163),\"\",InfoPro!A163)","v":""},{"$f":"IF(ISBLANK(InfoPro!B163),\"\",InfoPro!B163)","v":""},{"$f":"IF(ISBLANK(InfoPro!E163),\"\",InfoPro!E163)","v":""},{"$f":"IF(ISBLANK(InfoPro!F163),\"\",InfoPro!F163)","v":""},{"$f":"IF(ISBLANK(InfoPro!I163),\"\",YEAR(InfoPro!I163)-$G$4)","v":""},{"$f":"IF(B170=\"\",\"\",VLOOKUP(D170,Tablas!$B$2:$E$13,2,FALSE))","v":""},{"$f":"IF(B170=\"\",\"\",VLOOKUP(D170,Tablas!$B$2:$F$13,5,FALSE))","v":""},"","","","","","","","","","","","","","","","","",""]
[{"$f":"IF(ISBLANK(InfoPro!A164),\"\",InfoPro!A164)","v":""},{"$f":"IF(ISBLANK(InfoPro!B164),\"\",InfoPro!B164)","v":""},{"$f":"IF(ISBLANK(InfoPro!E164),\"\",InfoPro!E164)","v":""},{"$f":"IF(ISBLANK(InfoPro!F164),\"\",InfoPro!F164)","v":""},{"$f":"IF(ISBLANK(InfoPro!I164),\"\",YEAR(InfoPro!I164)-$G$4)","v":""},{"$f":"IF(B171=\"\",\"\",VLOOKUP(D171,Tablas!$B$2:$E$13,2,FALSE))","v":""},{"$f":"IF(B171=\"\",\"\",VLOOKUP(D171,Tablas!$B$2:$F$13,5,FALSE))","v":""},"","","","","","","","","","","","","","","","","",""]
[{"$f":"IF(ISBLANK(InfoPro!A165),\"\",InfoPro!A165)","v":""},{"$f":"IF(ISBLANK(InfoPro!B165),\"\",InfoPro!B165)","v":""},{"$f":"IF(ISBLANK(InfoPro!E165),\"\",InfoPro!E165)","v":""},{"$f":"IF(ISBLANK(InfoPro!F165),\"\",InfoPro!F165)","v":""},{"$f":"IF(ISBLANK(InfoPro!I165),\"\",YEAR(InfoPro!I165)-$G$4)","v":""},{"$f":"IF(B172=\"\",\"\",VLOOKUP(D172,Tablas!$B$2:$E$13,2,FALSE))","v":""},{"$f":"IF(B172=\"\",\"\",VLOOKUP(D172,Tablas!$B$2:$F$13,5,FALSE))","v":""},"","","","","","","","","","","","","","","","","",""]
[{"$f":"IF(ISBLANK(InfoPro!A166),\"\",InfoPro!A166)","v":""},{"$f":"IF(ISBLANK(InfoPro!B166),\"\",InfoPro!B166)","v":""},{"$f":"IF(ISBLANK(InfoPro!E166),\"\",InfoPro!E166)","v":""},{"$f":"IF(ISBLANK(InfoPro!F166),\"\",InfoPro!F166)","v":""},{"$f":"IF(ISBLANK(InfoPro!I166),\"\",YEAR(InfoPro!I166)-$G$4)","v":""},{"$f":"IF(B173=\"\",\"\",VLOOKUP(D173,Tablas!$B$2:$E$13,2,FALSE))","v":""},{"$f":"IF(B173=\"\",\"\",VLOOKUP(D173,Tablas!$B$2:$F$13,5,FALSE))","v":""},"","","","","","","","","","","","","","","","","",""]
[{"$f":"IF(ISBLANK(InfoPro!A167),\"\",InfoPro!A167)","v":""},{"$f":"IF(ISBLANK(InfoPro!B167),\"\",InfoPro!B167)","v":""},{"$f":"IF(ISBLANK(InfoPro!E167),\"\",InfoPro!E167)","v":""},{"$f":"IF(ISBLANK(InfoPro!F167),\"\",InfoPro!F167)","v":""},{"$f":"IF(ISBLANK(InfoPro!I167),\"\",YEAR(InfoPro!I167)-$G$4)","v":""},{"$f":"IF(B174=\"\",\"\",VLOOKUP(D174,Tablas!$B$2:$E$13,2,FALSE))","v":""},{"$f":"IF(B174=\"\",\"\",VLOOKUP(D174,Tablas!$B$2:$F$13,5,FALSE))","v":""},"","","","","","","","","","","","","","","","","",""]
[{"$f":"IF(ISBLANK(InfoPro!A168),\"\",InfoPro!A168)","v":""},{"$f":"IF(ISBLANK(InfoPro!B168),\"\",InfoPro!B168)","v":""},{"$f":"IF(ISBLANK(InfoPro!E168),\"\",InfoPro!E168)","v":""},{"$f":"IF(ISBLANK(InfoPro!F168),\"\",InfoPro!F168)","v":""},{"$f":"IF(ISBLANK(InfoPro!I168),\"\",YEAR(InfoPro!I168)-$G$4)","v":""},{"$f":"IF(B175=\"\",\"\",VLOOKUP(D175,Tablas!$B$2:$E$13,2,FALSE))","v":""},{"$f":"IF(B175=\"\",\"\",VLOOKUP(D175,Tablas!$B$2:$F$13,5,FALSE))","v":""},"","","","","","","","","","","","","","","","","",""]
[{"$f":"IF(ISBLANK(InfoPro!A169),\"\",InfoPro!A169)","v":""},{"$f":"IF(ISBLANK(InfoPro!B169),\"\",InfoPro!B169)","v":""},{"$f":"IF(ISBLANK(InfoPro!E169),\"\",InfoPro!E169)","v":""},{"$f":"IF(ISBLANK(InfoPro!F169),\"\",InfoPro!F169)","v":""},{"$f":"IF(ISBLANK(InfoPro!I169),\"\",YEAR(InfoPro!I169)-$G$4)","v":""},{"$f":"IF(B176=\"\",\"\",VLOOKUP(D176,Tablas!$B$2:$E$13,2,FALSE))","v":""},{"$f":"IF(B176=\"\",\"\",VLOOKUP(D176,Tablas!$B$2:$F$13,5,FALSE))","v":""},"",{"$f":"IF($H176=\"\",\"\",(1/(1+$C$4)^(I$7+$E176))*$H176*$I$5*$I$4)","v":""},"","","","","","","","","","","","","","","",""]
[{"$f":"IF(ISBLANK(InfoPro!A170),\"\",InfoPro!A170)","v":""},{"$f":"IF(ISBLANK(InfoPro!B170),\"\",InfoPro!B170)","v":""},{"$f":"IF(ISBLANK(InfoPro!E170),\"\",InfoPro!E170)","v":""},{"$f":"IF(ISBLANK(InfoPro!F170),\"\",InfoPro!F170)","v":""},{"$f":"IF(ISBLANK(InfoPro!I170),\"\",YEAR(InfoPro!I170)-$G$4)","v":""},{"$f":"IF(B177=\"\",\"\",VLOOKUP(D177,Tablas!$B$2:$E$13,2,FALSE))","v":""},{"$f":"IF(B177=\"\",\"\",VLOOKUP(D177,Tablas!$B$2:$F$13,5,FALSE))","v":""},"","","","","","","","","","","","","","","","","",""]
[{"$f":"IF(ISBLANK(InfoPro!A171),\"\",InfoPro!A171)","v":""},{"$f":"IF(ISBLANK(InfoPro!B171),\"\",InfoPro!B171)","v":""},{"$f":"IF(ISBLANK(InfoPro!E171),\"\",InfoPro!E171)","v":""},{"$f":"IF(ISBLANK(InfoPro!F171),\"\",InfoPro!F171)","v":""},{"$f":"IF(ISBLANK(InfoPro!I171),\"\",YEAR(InfoPro!I171)-$G$4)","v":""},{"$f":"IF(B178=\"\",\"\",VLOOKUP(D178,Tablas!$B$2:$E$13,2,FALSE))","v":""},{"$f":"IF(B178=\"\",\"\",VLOOKUP(D178,Tablas!$B$2:$F$13,5,FALSE))","v":""},"","","","","","","","","","","","","","","","","",""]
[{"$f":"IF(ISBLANK(InfoPro!A172),\"\",InfoPro!A172)","v":""},{"$f":"IF(ISBLANK(InfoPro!B172),\"\",InfoPro!B172)","v":""},{"$f":"IF(ISBLANK(InfoPro!E172),\"\",InfoPro!E172)","v":""},{"$f":"IF(ISBLANK(InfoPro!F172),\"\",InfoPro!F172)","v":""},{"$f":"IF(ISBLANK(InfoPro!I172),\"\",YEAR(InfoPro!I172)-$G$4)","v":""},{"$f":"IF(B179=\"\",\"\",VLOOKUP(D179,Tablas!$B$2:$E$13,2,FALSE))","v":""},{"$f":"IF(B179=\"\",\"\",VLOOKUP(D179,Tablas!$B$2:$F$13,5,FALSE))","v":""},"","","","","","","","","","","","","","","","","",""]
[{"$f":"IF(ISBLANK(InfoPro!A173),\"\",InfoPro!A173)","v":""},{"$f":"IF(ISBLANK(InfoPro!B173),\"\",InfoPro!B173)","v":""},{"$f":"IF(ISBLANK(InfoPro!E173),\"\",InfoPro!E173)","v":""},{"$f":"IF(ISBLANK(InfoPro!F173),\"\",InfoPro!F173)","v":""},{"$f":"IF(ISBLANK(InfoPro!I173),\"\",YEAR(InfoPro!I173)-$G$4)","v":""},{"$f":"IF(B180=\"\",\"\",VLOOKUP(D180,Tablas!$B$2:$E$13,2,FALSE))","v":""},{"$f":"IF(B180=\"\",\"\",VLOOKUP(D180,Tablas!$B$2:$F$13,5,FALSE))","v":""},{"$f":"IF(C180=\"\",\"\",+C180*G180*F180*24*365)","v":""},"","","","","","","","","","","","","","","",{"$f":"IF(W180=\"\",\"\",SUM(I180:W180))","v":""},{"$f":"IF(C180=0,0,IF(X180=\"\",\"\",X180/(C180*1000)))","v":""}]
[{"$f":"IF(ISBLANK(InfoPro!A174),\"\",InfoPro!A174)","v":""},{"$f":"IF(ISBLANK(InfoPro!B174),\"\",InfoPro!B174)","v":""},{"$f":"IF(ISBLANK(InfoPro!E174),\"\",InfoPro!E174)","v":""},{"$f":"IF(ISBLANK(InfoPro!F174),\"\",InfoPro!F174)","v":""},{"$f":"IF(ISBLANK(InfoPro!I174),\"\",YEAR(InfoPro!I174)-$G$4)","v":""},{"$f":"IF(B181=\"\",\"\",VLOOKUP(D181,Tablas!$B$2:$E$13,2,FALSE))","v":""},{"$f":"IF(B181=\"\",\"\",VLOOKUP(D181,Tablas!$B$2:$F$13,5,FALSE))","v":""},"","","","","","","","","","","","","","","","","",""]
[{"$f":"IF(ISBLANK(InfoPro!A175),\"\",InfoPro!A175)","v":""},{"$f":"IF(ISBLANK(InfoPro!B175),\"\",InfoPro!B175)","v":""},{"$f":"IF(ISBLANK(InfoPro!E175),\"\",InfoPro!E175)","v":""},{"$f":"IF(ISBLANK(InfoPro!F175),\"\",InfoPro!F175)","v":""},{"$f":"IF(ISBLANK(InfoPro!I175),\"\",YEAR(InfoPro!I175)-$G$4)","v":""},{"$f":"IF(B182=\"\",\"\",VLOOKUP(D182,Tablas!$B$2:$E$13,2,FALSE))","v":""},{"$f":"IF(B182=\"\",\"\",VLOOKUP(D182,Tablas!$B$2:$F$13,5,FALSE))","v":""},"","","","","","","","","","","","","","","","","",""]
[{"$f":"IF(ISBLANK(InfoPro!A176),\"\",InfoPro!A176)","v":""},{"$f":"IF(ISBLANK(InfoPro!B176),\"\",InfoPro!B176)","v":""},{"$f":"IF(ISBLANK(InfoPro!E176),\"\",InfoPro!E176)","v":""},{"$f":"IF(ISBLANK(InfoPro!F176),\"\",InfoPro!F176)","v":""},{"$f":"IF(ISBLANK(InfoPro!I176),\"\",YEAR(InfoPro!I176)-$G$4)","v":""},{"$f":"IF(B183=\"\",\"\",VLOOKUP(D183,Tablas!$B$2:$E$13,2,FALSE))","v":""},{"$f":"IF(B183=\"\",\"\",VLOOKUP(D183,Tablas!$B$2:$F$13,5,FALSE))","v":""},"","","","","","","","","","","","","","","","","",""]
[{"$f":"IF(ISBLANK(InfoPro!A177),\"\",InfoPro!A177)","v":""},{"$f":"IF(ISBLANK(InfoPro!B177),\"\",InfoPro!B177)","v":""},{"$f":"IF(ISBLANK(InfoPro!E177),\"\",InfoPro!E177)","v":""},{"$f":"IF(ISBLANK(InfoPro!F177),\"\",InfoPro!F177)","v":""},{"$f":"IF(ISBLANK(InfoPro!I177),\"\",YEAR(InfoPro!I177)-$G$4)","v":""},{"$f":"IF(B184=\"\",\"\",VLOOKUP(D184,Tablas!$B$2:$E$13,2,FALSE))","v":""},{"$f":"IF(B184=\"\",\"\",VLOOKUP(D184,Tablas!$B$2:$F$13,5,FALSE))","v":""},"","","","","","","","","","","","","","","","","",""]
[{"$f":"IF(ISBLANK(InfoPro!A178),\"\",InfoPro!A178)","v":""},{"$f":"IF(ISBLANK(InfoPro!B178),\"\",InfoPro!B178)","v":""},{"$f":"IF(ISBLANK(InfoPro!E178),\"\",InfoPro!E178)","v":""},{"$f":"IF(ISBLANK(InfoPro!F178),\"\",InfoPro!F178)","v":""},{"$f":"IF(ISBLANK(InfoPro!I178),\"\",YEAR(InfoPro!I178)-$G$4)","v":""},{"$f":"IF(B185=\"\",\"\",VLOOKUP(D185,Tablas!$B$2:$E$13,2,FALSE))","v":""},{"$f":"IF(B185=\"\",\"\",VLOOKUP(D185,Tablas!$B$2:$F$13,5,FALSE))","v":""},"","","","","","","","","","","","","","","","","",""]
[{"$f":"IF(ISBLANK(InfoPro!A179),\"\",InfoPro!A179)","v":""},{"$f":"IF(ISBLANK(InfoPro!B179),\"\",InfoPro!B179)","v":""},{"$f":"IF(ISBLANK(InfoPro!E179),\"\",InfoPro!E179)","v":""},{"$f":"IF(ISBLANK(InfoPro!F179),\"\",InfoPro!F179)","v":""},{"$f":"IF(ISBLANK(InfoPro!I179),\"\",YEAR(InfoPro!I179)-$G$4)","v":""},{"$f":"IF(B186=\"\",\"\",VLOOKUP(D186,Tablas!$B$2:$E$13,2,FALSE))","v":""},{"$f":"IF(B186=\"\",\"\",VLOOKUP(D186,Tablas!$B$2:$F$13,5,FALSE))","v":""},"","","","","","","","","","","","","","","","","",""]
[{"$f":"IF(ISBLANK(InfoPro!A180),\"\",InfoPro!A180)","v":""},{"$f":"IF(ISBLANK(InfoPro!B180),\"\",InfoPro!B180)","v":""},{"$f":"IF(ISBLANK(InfoPro!E180),\"\",InfoPro!E180)","v":""},{"$f":"IF(ISBLANK(InfoPro!F180),\"\",InfoPro!F180)","v":""},{"$f":"IF(ISBLANK(InfoPro!I180),\"\",YEAR(InfoPro!I180)-$G$4)","v":""},{"$f":"IF(B187=\"\",\"\",VLOOKUP(D187,Tablas!$B$2:$E$13,2,FALSE))","v":""},{"$f":"IF(B187=\"\",\"\",VLOOKUP(D187,Tablas!$B$2:$F$13,5,FALSE))","v":""},"","","","","","","","","","","","","","","","","",""]
[{"$f":"IF(ISBLANK(InfoPro!A181),\"\",InfoPro!A181)","v":""},{"$f":"IF(ISBLANK(InfoPro!B181),\"\",InfoPro!B181)","v":""},{"$f":"IF(ISBLANK(InfoPro!E181),\"\",InfoPro!E181)","v":""},{"$f":"IF(ISBLANK(InfoPro!F181),\"\",InfoPro!F181)","v":""},{"$f":"IF(ISBLANK(InfoPro!I181),\"\",YEAR(InfoPro!I181)-$G$4)","v":""},{"$f":"IF(B188=\"\",\"\",VLOOKUP(D188,Tablas!$B$2:$E$13,2,FALSE))","v":""},{"$f":"IF(B188=\"\",\"\",VLOOKUP(D188,Tablas!$B$2:$F$13,5,FALSE))","v":""},"","","","","","","","","","","","","","","","","",""]
[{"$f":"IF(ISBLANK(InfoPro!A182),\"\",InfoPro!A182)","v":""},{"$f":"IF(ISBLANK(InfoPro!B182),\"\",InfoPro!B182)","v":""},{"$f":"IF(ISBLANK(InfoPro!E182),\"\",InfoPro!E182)","v":""},{"$f":"IF(ISBLANK(InfoPro!F182),\"\",InfoPro!F182)","v":""},{"$f":"IF(ISBLANK(InfoPro!I182),\"\",YEAR(InfoPro!I182)-$G$4)","v":""},{"$f":"IF(B189=\"\",\"\",VLOOKUP(D189,Tablas!$B$2:$E$13,2,FALSE))","v":""},{"$f":"IF(B189=\"\",\"\",VLOOKUP(D189,Tablas!$B$2:$F$13,5,FALSE))","v":""},"","","","","","","","","","","","","","","","","",""]
[{"$f":"IF(ISBLANK(InfoPro!A183),\"\",InfoPro!A183)","v":""},{"$f":"IF(ISBLANK(InfoPro!B183),\"\",InfoPro!B183)","v":""},{"$f":"IF(ISBLANK(InfoPro!E183),\"\",InfoPro!E183)","v":""},{"$f":"IF(ISBLANK(InfoPro!F183),\"\",InfoPro!F183)","v":""},{"$f":"IF(ISBLANK(InfoPro!I183),\"\",YEAR(InfoPro!I183)-$G$4)","v":""},{"$f":"IF(B190=\"\",\"\",VLOOKUP(D190,Tablas!$B$2:$E$13,2,FALSE))","v":""},{"$f":"IF(B190=\"\",\"\",VLOOKUP(D190,Tablas!$B$2:$F$13,5,FALSE))","v":""},"","","","","","","","","","","","","","","","","",""]
[{"$f":"IF(ISBLANK(InfoPro!A184),\"\",InfoPro!A184)","v":""},{"$f":"IF(ISBLANK(InfoPro!B184),\"\",InfoPro!B184)","v":""},{"$f":"IF(ISBLANK(InfoPro!E184),\"\",InfoPro!E184)","v":""},{"$f":"IF(ISBLANK(InfoPro!F184),\"\",InfoPro!F184)","v":""},{"$f":"IF(ISBLANK(InfoPro!I184),\"\",YEAR(InfoPro!I184)-$G$4)","v":""},{"$f":"IF(B191=\"\",\"\",VLOOKUP(D191,Tablas!$B$2:$E$13,2,FALSE))","v":""},{"$f":"IF(B191=\"\",\"\",VLOOKUP(D191,Tablas!$B$2:$F$13,5,FALSE))","v":""},"","","","","","","","","","","","","","","","","",""]
[{"$f":"IF(ISBLANK(InfoPro!A185),\"\",InfoPro!A185)","v":""},{"$f":"IF(ISBLANK(InfoPro!B185),\"\",InfoPro!B185)","v":""},{"$f":"IF(ISBLANK(InfoPro!E185),\"\",InfoPro!E185)","v":""},{"$f":"IF(ISBLANK(InfoPro!F185),\"\",InfoPro!F185)","v":""},{"$f":"IF(ISBLANK(InfoPro!I185),\"\",YEAR(InfoPro!I185)-$G$4)","v":""},{"$f":"IF(B192=\"\",\"\",VLOOKUP(D192,Tablas!$B$2:$E$13,2,FALSE))","v":""},{"$f":"IF(B192=\"\",\"\",VLOOKUP(D192,Tablas!$B$2:$F$13,5,FALSE))","v":""},"","","","","","","","","","","","","","","","","",""]
[{"$f":"IF(ISBLANK(InfoPro!A186),\"\",InfoPro!A186)","v":""},{"$f":"IF(ISBLANK(InfoPro!B186),\"\",InfoPro!B186)","v":""},{"$f":"IF(ISBLANK(InfoPro!E186),\"\",InfoPro!E186)","v":""},{"$f":"IF(ISBLANK(InfoPro!F186),\"\",InfoPro!F186)","v":""},{"$f":"IF(ISBLANK(InfoPro!I186),\"\",YEAR(InfoPro!I186)-$G$4)","v":""},{"$f":"IF(B193=\"\",\"\",VLOOKUP(D193,Tablas!$B$2:$E$13,2,FALSE))","v":""},{"$f":"IF(B193=\"\",\"\",VLOOKUP(D193,Tablas!$B$2:$F$13,5,FALSE))","v":""},"",{"$f":"IF($H193=\"\",\"\",(1/(1+$C$4)^(I$7+$E193))*$H193*$I$5*$I$4)","v":""},"","","","","","","","","","","","","","","",""]
[{"$f":"IF(ISBLANK(InfoPro!A187),\"\",InfoPro!A187)","v":""},{"$f":"IF(ISBLANK(InfoPro!B187),\"\",InfoPro!B187)","v":""},{"$f":"IF(ISBLANK(InfoPro!E187),\"\",InfoPro!E187)","v":""},{"$f":"IF(ISBLANK(InfoPro!F187),\"\",InfoPro!F187)","v":""},{"$f":"IF(ISBLANK(InfoPro!I187),\"\",YEAR(InfoPro!I187)-$G$4)","v":""},{"$f":"IF(B194=\"\",\"\",VLOOKUP(D194,Tablas!$B$2:$E$13,2,FALSE))","v":""},{"$f":"IF(B194=\"\",\"\",VLOOKUP(D194,Tablas!$B$2:$F$13,5,FALSE))","v":""},"","","","","","","","","","","","","","","","","",""]
[{"$f":"IF(ISBLANK(InfoPro!A188),\"\",InfoPro!A188)","v":""},{"$f":"IF(ISBLANK(InfoPro!B188),\"\",InfoPro!B188)","v":""},{"$f":"IF(ISBLANK(InfoPro!E188),\"\",InfoPro!E188)","v":""},{"$f":"IF(ISBLANK(InfoPro!F188),\"\",InfoPro!F188)","v":""},{"$f":"IF(ISBLANK(InfoPro!I188),\"\",YEAR(InfoPro!I188)-$G$4)","v":""},{"$f":"IF(B195=\"\",\"\",VLOOKUP(D195,Tablas!$B$2:$E$13,2,FALSE))","v":""},{"$f":"IF(B195=\"\",\"\",VLOOKUP(D195,Tablas!$B$2:$F$13,5,FALSE))","v":""},"","","","","","","","","","","","","","","","","",""]
[{"$f":"IF(ISBLANK(InfoPro!A189),\"\",InfoPro!A189)","v":""},{"$f":"IF(ISBLANK(InfoPro!B189),\"\",InfoPro!B189)","v":""},{"$f":"IF(ISBLANK(InfoPro!E189),\"\",InfoPro!E189)","v":""},{"$f":"IF(ISBLANK(InfoPro!F189),\"\",InfoPro!F189)","v":""},{"$f":"IF(ISBLANK(InfoPro!I189),\"\",YEAR(InfoPro!I189)-$G$4)","v":""},{"$f":"IF(B196=\"\",\"\",VLOOKUP(D196,Tablas!$B$2:$E$13,2,FALSE))","v":""},{"$f":"IF(B196=\"\",\"\",VLOOKUP(D196,Tablas!$B$2:$F$13,5,FALSE))","v":""},"","","","","","","","","","","","","","","","","",""]

{"sheet":"Resumen","index":11,"n_rows":190,"n_cols":23,"rows_kept":190,"cut":false,"hidden":false,"merged":[[2,8,2,14],[2,15,2,21]]}
["Min",{"$f":"ABS(MIN('EC-RE'!G4,'EC-RP'!H4,'EC-Per'!F4,'EC-Mar'!G4,'BT-Flex'!G5,'BT-Confi'!G5))","v":17642891.425462402},"Año Base",2023,null,null,null,null,null,null,null,null,null,null,"Pesos",1,1,1,0.5,1,1,0.3]
[]
[null,null,null,null,null,null,null,null,"Sin normalizar",null,null,null,null,null,null,"Normalizados"]
["Codigo","Codigo Asociado","Nombre","Capacidad","Fecha Radicación","Hora Radicación","Requiere Expansión","IT_TA","BT_Confi","BT_Flex","EC_RE","EC_RP","EC_Per","EC_Mar","B_Ambiental","BT_Confi","BT_Flex","EC_RE","EC_RP","EC_Per","EC_Mar","B_Ambiental","Valoracion final "]
[{"$f":"IF(ISBLANK(InfoPro!A2),\"\",InfoPro!A2)","v":"SC_1323_A1"},{"$f":"IF(ISBLANK(InfoPro!H2),\"\",InfoPro!H2)","v":"SC_1323"},{"$f":"IF(ISBLANK(InfoPro!B2),\"\",InfoPro!B2)","v":"GEN ARAUCA"},{"$f":"IF(ISBLANK(InfoPro!E2),\"\",InfoPro!E2)","v":30},{"$f":"IF(ISBLANK(InfoPro!C2),\"\",InfoPro!C2)","v":"2022-07-16"},{"$f":"IF(ISBLANK(InfoPro!D2),\"\",InfoPro!D2)","v":"12:45:00"},{"$f":"IF(ISBLANK(InfoPro!L2),\"\",InfoPro!L2)","v":"NO"},{"$f":"'IT-TA'!H2","v":0},{"$f":"IFERROR('BT-Confi'!Y9,\"\")","v":10389057.803607402},{"$f":"IFERROR('BT-Flex'!Y9,\"\")","v":1546256.8717525448},{"$f":"IFERROR('EC-RE'!Z9,\"\")","v":-17642891.425462402},{"$f":"IFERROR('EC-RP'!Z8,\"\")","v":-4303623.7421869002},{"$f":"IFERROR('EC-Per'!W8,\"\")","v":277503.76630607015},{"$f":"IFERROR('EC-Mar'!Y8,\"\")","v":-4303623.7421869012},{"$f":"IF(C5=\"\",\"\",(SUMIF(I5:N5,\">0\"))*(H5/100))","v":0},{"$f":"IF(C5=\"\",\"\",I5+$B$1)","v":28031949.229069807},19189148.297214948,0,13339267.683275502,17920395.191768471,13339267.683275502,{"$f":"IF(I5=\"\",\"\",O5+$B$1)","v":17642891.425462402},{"$f":"IFERROR((+$P$1*P5+$Q$1*Q5+$R$1*R5+$S$1*S5+$T$1*T5+U5*$U$1+$V$1*V5),\"\")","v":90443261.670605212}]
[{"$f":"IF(ISBLANK(InfoPro!A3),\"\",InfoPro!A3)","v":"SC_1323_A2"},{"$f":"IF(ISBLANK(InfoPro!H3),\"\",InfoPro!H3)","v":"SC_1323"},{"$f":"IF(ISBLANK(InfoPro!B3),\"\",InfoPro!B3)","v":"GEN ARAUCA"},{"$f":"IF(ISBLANK(InfoPro!E3),\"\",InfoPro!E3)","v":30},{"$f":"IF(ISBLANK(InfoPro!C3),\"\",InfoPro!C3)","v":"2022-07-16"},{"$f":"IF(ISBLANK(InfoPro!D3),\"\",InfoPro!D3)","v":"12:45:00"},{"$f":"IF(ISBLANK(InfoPro!L3),\"\",InfoPro!L3)","v":"NO"},{"$f":"'IT-TA'!H3","v":0},{"$f":"IFERROR('BT-Confi'!Y10,\"\")","v":10389057.803607402},{"$f":"IFERROR('BT-Flex'!Y10,\"\")","v":1546256.8717525448},{"$f":"IFERROR('EC-RE'!Z10,\"\")","v":-17642891.425462402},{"$f":"IFERROR('EC-RP'!Z9,\"\")","v":-4303623.7421869002},{"$f":"IFERROR('EC-Per'!W9,\"\")","v":740716.28531234944},{"$f":"IFERROR('EC-Mar'!Y9,\"\")","v":-4303623.7421869012},{"$f":"IF(C6=\"\",\"\",(SUMIF(I6:N6,\">0\"))*(H6/100))","v":0},{"$f":"IF(C6=\"\",\"\",I6+$B$1)","v":28031949.229069807},{"$f":"IF(D6=\"\",\"\",J6+$B$1)","v":19189148.297214948},{"$f":"IF(E6=\"\",\"\",K6+$B$1)","v":0},{"$f":"IF(F6=\"\",\"\",L6+$B$1)","v":13339267.683275502},{"$f":"IF(G6=\"\",\"\",M6+$B$1)","v":18383607.710774753},{"$f":"IF(H6=\"\",\"\",N6+$B$1)","v":13339267.683275502},{"$f":"IF(I6=\"\",\"\",O6+$B$1)","v":17642891.425462402},{"$f":"IFERROR((+$P$1*P6+$Q$1*Q6+$R$1*R6+$S$1*S6+$T$1*T6+U6*$U$1+$V$1*V6),\"\")","v":90906474.189611495}]
[{"$f":"IF(ISBLANK(InfoPro!A4),\"\",InfoPro!A4)","v":"SC_1323_A3"},{"$f":"IF(ISBLANK(InfoPro!H4),\"\",InfoPro!H4)","v":"SC_1323"},{"$f":"IF(ISBLANK(InfoPro!B4),\"\",InfoPro!B4)","v":"GEN ARAUCA"},{"$f":"IF(ISBLANK(InfoPro!E4),\"\",InfoPro!E4)","v":30},{"$f":"IF(ISBLANK(InfoPro!C4),\"\",InfoPro!C4)","v":"2022-07-16"},{"$f":"IF(ISBLANK(InfoPro!D4),\"\",InfoPro!D4)","v":"12:45:00"},{"$f":"IF(ISBLANK(InfoPro!L4),\"\",InfoPro!L4)","v":"NO"},{"$f":"'IT-TA'!H4","v":0},{"$f":"IFERROR('BT-Confi'!Y11,\"\")","v":10389057.803607402},{"$f":"IFERROR('BT-Flex'!Y11,\"\")","v":1546256.8717525448},{"$f":"IFERROR('EC-RE'!Z11,\"\")","v":-17642891.425462402},{"$f":"IFERROR('EC-RP'!Z10,\"\")","v":-4303623.7421869002},{"$f":"IFERROR('EC-Per'!W10,\"\")","v":810683.49911821261},{"$f":"IFERROR('EC-Mar'!Y10,\"\")","v":-4303623.7421869012},0,28031949.229069807,19189148.297214948,0,13339267.683275502,18453574.924580615,13339267.683275502,17642891.425462402,90976441.403417349]
[{"$f":"IF(ISBLANK(InfoPro!A5),\"\",InfoPro!A5)","v":""},{"$f":"IF(ISBLANK(InfoPro!H5),\"\",InfoPro!H5)","v":""},{"$f":"IF(ISBLANK(InfoPro!B5),\"\",InfoPro!B5)","v":""},{"$f":"IF(ISBLANK(InfoPro!E5),\"\",InfoPro!E5)","v":""},{"$f":"IF(ISBLANK(InfoPro!C5),\"\",InfoPro!C5)","v":""},{"$f":"IF(ISBLANK(InfoPro!D5),\"\",InfoPro!D5)","v":""},{"$f":"IF(ISBLANK(InfoPro!L5),\"\",InfoPro!L5)","v":""},{"$f":"'IT-TA'!H5","v":""},{"$f":"IFERROR('BT-Confi'!Y12,\"\")","v":""},{"$f":"IFERROR('BT-Flex'!Y12,\"\")","v":""},{"$f":"IFERROR('EC-RE'!Z12,\"\")","v":""},{"$f":"IFERROR('EC-RP'!Z11,\"\")","v":""},{"$f":"IFERROR('EC-Per'!W11,\"\")","v":""},{"$f":"IFERROR('EC-Mar'!Y11,\"\")","v":""},"","","","","","","","",""]
[{"$f":"IF(ISBLANK(InfoPro!A6),\"\",InfoPro!A6)","v":""},{"$f":"IF(ISBLANK(InfoPro!H6),\"\",InfoPro!H6)","v":""},{"$f":"IF(ISBLANK(InfoPro!B6),\"\",InfoPro!B6)","v":""},{"$f":"IF(ISBLANK(InfoPro!E6),\"\",InfoPro!E6)","v":""},{"$f":"IF(ISBLANK(InfoPro!C6),\"\",InfoPro!C6)","v":""},{"$f":"IF(ISBLANK(InfoPro!D6),\"\",InfoPro!D6)","v":""},{"$f":"IF(ISBLANK(InfoPro!L6),\"\",InfoPro!L6)","v":""},{"$f":"'IT-TA'!H6","v":""},{"$f":"IFERROR('BT-Confi'!Y13,\"\")","v":""},{"$f":"IFERROR('BT-Flex'!Y13,\"\")","v":""},{"$f":"IFERROR('EC-RE'!Z13,\"\")","v":""},{"$f":"IFERROR('EC-RP'!Z12,\"\")","v":""},{"$f":"IFERROR('EC-Per'!W12,\"\")","v":""},{"$f":"IFERROR('EC-Mar'!Y12,\"\")","v":""},"","","","","","","","",""]
[{"$f":"IF(ISBLANK(InfoPro!A7),\"\",InfoPro!A7)","v":""},{"$f":"IF(ISBLANK(InfoPro!H7),\"\",InfoPro!H7)","v":""},{"$f":"IF(ISBLANK(InfoPro!B7),\"\",InfoPro!B7)","v":""},{"$f":"IF(ISBLANK(InfoPro!E7),\"\",InfoPro!E7)","v":""},{"$f":"IF(ISBLANK(InfoPro!C7),\"\",InfoPro!C7)","v":""},{"$f":"IF(ISBLANK(InfoPro!D7),\"\",InfoPro!D7)","v":""},{"$f":"IF(ISBLANK(InfoPro!L7),\"\",InfoPro!L7)","v":""},{"$f":"'IT-TA'!H7","v":""},{"$f":"IFERROR('BT-Confi'!Y14,\"\")","v":""},{"$f":"IFERROR('BT-Flex'!Y14,\"\")","v":""},{"$f":"IFERROR('EC-RE'!Z14,\"\")","v":""},{"$f":"IFERROR('EC-RP'!Z13,\"\")","v":""},{"$f":"IFERROR('EC-Per'!W13,\"\")","v":""},{"$f":"IFERROR('EC-Mar'!Y13,\"\")","v":""},"","","","","","","","",""]
[{"$f":"IF(ISBLANK(InfoPro!A8),\"\",InfoPro!A8)","v":""},{"$f":"IF(ISBLANK(InfoPro!H8),\"\",InfoPro!H8)","v":""},{"$f":"IF(ISBLANK(InfoPro!B8),\"\",InfoPro!B8)","v":""},{"$f":"IF(ISBLANK(InfoPro!E8),\"\",InfoPro!E8)","v":""},{"$f":"IF(ISBLANK(InfoPro!C8),\"\",InfoPro!C8)","v":""},{"$f":"IF(ISBLANK(InfoPro!D8),\"\",InfoPro!D8)","v":""},{"$f":"IF(ISBLANK(InfoPro!L8),\"\",InfoPro!L8)","v":""},{"$f":"'IT-TA'!H8","v":""},{"$f":"IFERROR('BT-Confi'!Y15,\"\")","v":""},{"$f":"IFERROR('BT-Flex'!Y15,\"\")","v":""},{"$f":"IFERROR('EC-RE'!Z15,\"\")","v":""},{"$f":"IFERROR('EC-RP'!Z14,\"\")","v":""},{"$f":"IFERROR('EC-Per'!W14,\"\")","v":""},{"$f":"IFERROR('EC-Mar'!Y14,\"\")","v":""},"","","","","","","","",""]
[{"$f":"IF(ISBLANK(InfoPro!A9),\"\",InfoPro!A9)","v":""},{"$f":"IF(ISBLANK(InfoPro!H9),\"\",InfoPro!H9)","v":""},{"$f":"IF(ISBLANK(InfoPro!B9),\"\",InfoPro!B9)","v":""},{"$f":"IF(ISBLANK(InfoPro!E9),\"\",InfoPro!E9)","v":""},{"$f":"IF(ISBLANK(InfoPro!C9),\"\",InfoPro!C9)","v":""},{"$f":"IF(ISBLANK(InfoPro!D9),\"\",InfoPro!D9)","v":""},{"$f":"IF(ISBLANK(InfoPro!L9),\"\",InfoPro!L9)","v":""},{"$f":"'IT-TA'!H9","v":""},{"$f":"IFERROR('BT-Confi'!Y16,\"\")","v":""},{"$f":"IFERROR('BT-Flex'!Y16,\"\")","v":""},{"$f":"IFERROR('EC-RE'!Z16,\"\")","v":""},{"$f":"IFERROR('EC-RP'!Z15,\"\")","v":""},{"$f":"IFERROR('EC-Per'!W15,\"\")","v":""},{"$f":"IFERROR('EC-Mar'!Y15,\"\")","v":""},"","","","","","","","",""]
[{"$f":"IF(ISBLANK(InfoPro!A10),\"\",InfoPro!A10)","v":""},{"$f":"IF(ISBLANK(InfoPro!H10),\"\",InfoPro!H10)","v":""},{"$f":"IF(ISBLANK(InfoPro!B10),\"\",InfoPro!B10)","v":""},{"$f":"IF(ISBLANK(InfoPro!E10),\"\",InfoPro!E10)","v":""},{"$f":"IF(ISBLANK(InfoPro!C10),\"\",InfoPro!C10)","v":""},{"$f":"IF(ISBLANK(InfoPro!D10),\"\",InfoPro!D10)","v":""},{"$f":"IF(ISBLANK(InfoPro!L10),\"\",InfoPro!L10)","v":""},{"$f":"'IT-TA'!H10","v":""},{"$f":"IFERROR('BT-Confi'!Y17,\"\")","v":""},{"$f":"IFERROR('BT-Flex'!Y17,\"\")","v":""},{"$f":"IFERROR('EC-RE'!Z17,\"\")","v":""},{"$f":"IFERROR('EC-RP'!Z16,\"\")","v":""},{"$f":"IFERROR('EC-Per'!W16,\"\")","v":""},{"$f":"IFERROR('EC-Mar'!Y16,\"\")","v":""},"","","","","","","","",""]
[{"$f":"IF(ISBLANK(InfoPro!A11),\"\",InfoPro!A11)","v":""},{"$f":"IF(ISBLANK(InfoPro!H11),\"\",InfoPro!H11)","v":""},{"$f":"IF(ISBLANK(InfoPro!B11),\"\",InfoPro!B11)","v":""},{"$f":"IF(ISBLANK(InfoPro!E11),\"\",InfoPro!E11)","v":""},{"$f":"IF(ISBLANK(InfoPro!C11),\"\",InfoPro!C11)","v":""},{"$f":"IF(ISBLANK(InfoPro!D11),\"\",InfoPro!D11)","v":""},{"$f":"IF(ISBLANK(InfoPro!L11),\"\",InfoPro!L11)","v":""},{"$f":"'IT-TA'!H11","v":""},{"$f":"IFERROR('BT-Confi'!Y18,\"\")","v":""},{"$f":"IFERROR('BT-Flex'!Y18,\"\")","v":""},{"$f":"IFERROR('EC-RE'!Z18,\"\")","v":""},{"$f":"IFERROR('EC-RP'!Z17,\"\")","v":""},{"$f":"IFERROR('EC-Per'!W17,\"\")","v":""},{"$f":"IFERROR('EC-Mar'!Y17,\"\")","v":""},"","","","","","","","",""]
[{"$f":"IF(ISBLANK(InfoPro!A12),\"\",InfoPro!A12)","v":""},{"$f":"IF(ISBLANK(InfoPro!H12),\"\",InfoPro!H12)","v":""},{"$f":"IF(ISBLANK(InfoPro!B12),\"\",InfoPro!B12)","v":""},{"$f":"IF(ISBLANK(InfoPro!E12),\"\",InfoPro!E12)","v":""},{"$f":"IF(ISBLANK(InfoPro!C12),\"\",InfoPro!C12)","v":""},{"$f":"IF(ISBLANK(InfoPro!D12),\"\",InfoPro!D12)","v":""},{"$f":"IF(ISBLANK(InfoPro!L12),\"\",InfoPro!L12)","v":""},{"$f":"'IT-TA'!H12","v":""},{"$f":"IFERROR('BT-Confi'!Y19,\"\")","v":""},{"$f":"IFERROR('BT-Flex'!Y19,\"\")","v":""},{"$f":"IFERROR('EC-RE'!Z19,\"\")","v":""},{"$f":"IFERROR('EC-RP'!Z18,\"\")","v":""},{"$f":"IFERROR('EC-Per'!W18,\"\")","v":""},{"$f":"IFERROR('EC-Mar'!Y18,\"\")","v":""},"","","","","","","","",""]
[{"$f":"IF(ISBLANK(InfoPro!A13),\"\",InfoPro!A13)","v":""},{"$f":"IF(ISBLANK(InfoPro!H13),\"\",InfoPro!H13)","v":""},{"$f":"IF(ISBLANK(InfoPro!B13),\"\",InfoPro!B13)","v":""},{"$f":"IF(ISBLANK(InfoPro!E13),\"\",InfoPro!E13)","v":""},{"$f":"IF(ISBLANK(InfoPro!C13),\"\",InfoPro!C13)","v":""},{"$f":"IF(ISBLANK(InfoPro!D13),\"\",InfoPro!D13)","v":""},{"$f":"IF(ISBLANK(InfoPro!L13),\"\",InfoPro!L13)","v":""},{"$f":"'IT-TA'!H13","v":""},{"$f":"IFERROR('BT-Confi'!Y20,\"\")","v":""},{"$f":"IFERROR('BT-Flex'!Y20,\"\")","v":""},{"$f":"IFERROR('EC-RE'!Z20,\"\")","v":""},{"$f":"IFERROR('EC-RP'!Z19,\"\")","v":""},{"$f":"IFERROR('EC-Per'!W19,\"\")","v":""},{"$f":"IFERROR('EC-Mar'!Y19,\"\")","v":""},"","","","","","","","",""]
[{"$f":"IF(ISBLANK(InfoPro!A14),\"\",InfoPro!A14)","v":""},{"$f":"IF(ISBLANK(InfoPro!H14),\"\",InfoPro!H14)","v":""},{"$f":"IF(ISBLANK(InfoPro!B14),\"\",InfoPro!B14)","v":""},{"$f":"IF(ISBLANK(InfoPro!E14),\"\",InfoPro!E14)","v":""},{"$f":"IF(ISBLANK(InfoPro!C14),\"\",InfoPro!C14)","v":""},{"$f":"IF(ISBLANK(InfoPro!D14),\"\",InfoPro!D14)","v":""},{"$f":"IF(ISBLANK(InfoPro!L14),\"\",InfoPro!L14)","v":""},{"$f":"'IT-TA'!H14","v":""},{"$f":"IFERROR('BT-Confi'!Y21,\"\")","v":""},{"$f":"IFERROR('BT-Flex'!Y21,\"\")","v":""},{"$f":"IFERROR('EC-RE'!Z21,\"\")","v":""},{"$f":"IFERROR('EC-RP'!Z20,\"\")","v":""},{"$f":"IFERROR('EC-Per'!W20,\"\")","v":""},{"$f":"IFERROR('EC-Mar'!Y20,\"\")","v":""},{"$f":"IF(C17=\"\",\"\",(SUMIF(I17:N17,\">0\"))*(H17/100))","v":""},"","","","","","","",{"$f":"IFERROR((+$P$1*P17+$Q$1*Q17+$R$1*R17+$S$1*S17+$T$1*T17+U17*$U$1+$V$1*V17),\"\")","v":""}]
[{"$f":"IF(ISBLANK(InfoPro!A15),\"\",InfoPro!A15)","v":""},{"$f":"IF(ISBLANK(InfoPro!H15),\"\",InfoPro!H15)","v":""},{"$f":"IF(ISBLANK(InfoPro!B15),\"\",InfoPro!B15)","v":""},{"$f":"IF(ISBLANK(InfoPro!E15),\"\",InfoPro!E15)","v":""},{"$f":"IF(ISBLANK(InfoPro!C15),\"\",InfoPro!C15)","v":""},{"$f":"IF(ISBLANK(InfoPro!D15),\"\",InfoPro!D15)","v":""},{"$f":"IF(ISBLANK(InfoPro!L15),\"\",InfoPro!L15)","v":""},{"$f":"'IT-TA'!H15","v":""},{"$f":"IFERROR('BT-Confi'!Y22,\"\")","v":""},{"$f":"IFERROR('BT-Flex'!Y22,\"\")","v":""},{"$f":"IFERROR('EC-RE'!Z22,\"\")","v":""},{"$f":"IFERROR('EC-RP'!Z21,\"\")","v":""},{"$f":"IFERROR('EC-Per'!W21,\"\")","v":""},{"$f":"IFERROR('EC-Mar'!Y21,\"\")","v":""},"","","","","","","","",""]
[{"$f":"IF(ISBLANK(InfoPro!A16),\"\",InfoPro!A16)","v":""},{"$f":"IF(ISBLANK(InfoPro!H16),\"\",InfoPro!H16)","v":""},{"$f":"IF(ISBLANK(InfoPro!B16),\"\",InfoPro!B16)","v":""},{"$f":"IF(ISBLANK(InfoPro!E16),\"\",InfoPro!E16)","v":""},{"$f":"IF(ISBLANK(InfoPro!C16),\"\",InfoPro!C16)","v":""},{"$f":"IF(ISBLANK(InfoPro!D16),\"\",InfoPro!D16)","v":""},{"$f":"IF(ISBLANK(InfoPro!L16),\"\",InfoPro!L16)","v":""},{"$f":"'IT-TA'!H16","v":""},{"$f":"IFERROR('BT-Confi'!Y23,\"\")","v":""},{"$f":"IFERROR('BT-Flex'!Y23,\"\")","v":""},{"$f":"IFERROR('EC-RE'!Z23,\"\")","v":""},{"$f":"IFERROR('EC-RP'!Z22,\"\")","v":""},{"$f":"IFERROR('EC-Per'!W22,\"\")","v":""},{"$f":"IFERROR('EC-Mar'!Y22,\"\")","v":""},"","","","","","","","",""]
[{"$f":"IF(ISBLANK(InfoPro!A17),\"\",InfoPro!A17)","v":""},{"$f":"IF(ISBLANK(InfoPro!H17),\"\",InfoPro!H17)","v":""},{"$f":"IF(ISBLANK(InfoPro!B17),\"\",InfoPro!B17)","v":""},{"$f":"IF(ISBLANK(InfoPro!E17),\"\",InfoPro!E17)","v":""},{"$f":"IF(ISBLANK(InfoPro!C17),\"\",InfoPro!C17)","v":""},{"$f":"IF(ISBLANK(InfoPro!D17),\"\",InfoPro!D17)","v":""},{"$f":"IF(ISBLANK(InfoPro!L17),\"\",InfoPro!L17)","v":""},{"$f":"'IT-TA'!H17","v":""},{"$f":"IFERROR('BT-Confi'!Y24,\"\")","v":""},{"$f":"IFERROR('BT-Flex'!Y24,\"\")","v":""},{"$f":"IFERROR('EC-RE'!Z24,\"\")","v":""},{"$f":"IFERROR('EC-RP'!Z23,\"\")","v":""},{"$f":"IFERROR('EC-Per'!W23,\"\")","v":""},{"$f":"IFERROR('EC-Mar'!Y23,\"\")","v":""},"","","","","","","","",""]
[{"$f":"IF(ISBLANK(InfoPro!A18),\"\",InfoPro!A18)","v":""},{"$f":"IF(ISBLANK(InfoPro!H18),\"\",InfoPro!H18)","v":""},{"$f":"IF(ISBLANK(InfoPro!B18),\"\",InfoPro!B18)","v":""},{"$f":"IF(ISBLANK(InfoPro!E18),\"\",InfoPro!E18)","v":""},{"$f":"IF(ISBLANK(InfoPro!C18),\"\",InfoPro!C18)","v":""},{"$f":"IF(ISBLANK(InfoPro!D18),\"\",InfoPro!D18)","v":""},{"$f":"IF(ISBLANK(InfoPro!L18),\"\",InfoPro!L18)","v":""},{"$f":"'IT-TA'!H18","v":""},{"$f":"IFERROR('BT-Confi'!Y25,\"\")","v":""},{"$f":"IFERROR('BT-Flex'!Y25,\"\")","v":""},{"$f":"IFERROR('EC-RE'!Z25,\"\")","v":""},{"$f":"IFERROR('EC-RP'!Z24,\"\")","v":""},{"$f":"IFERROR('EC-Per'!W24,\"\")","v":""},{"$f":"IFERROR('EC-Mar'!Y24,\"\")","v":""},"","","","","","","","",""]
[{"$f":"IF(ISBLANK(InfoPro!A19),\"\",InfoPro!A19)","v":""},{"$f":"IF(ISBLANK(InfoPro!H19),\"\",InfoPro!H19)","v":""},{"$f":"IF(ISBLANK(InfoPro!B19),\"\",InfoPro!B19)","v":""},{"$f":"IF(ISBLANK(InfoPro!E19),\"\",InfoPro!E19)","v":""},{"$f":"IF(ISBLANK(InfoPro!C19),\"\",InfoPro!C19)","v":""},{"$f":"IF(ISBLANK(InfoPro!D19),\"\",InfoPro!D19)","v":""},{"$f":"IF(ISBLANK(InfoPro!L19),\"\",InfoPro!L19)","v":""},{"$f":"'IT-TA'!H19","v":""},{"$f":"IFERROR('BT-Confi'!Y26,\"\")","v":""},{"$f":"IFERROR('BT-Flex'!Y26,\"\")","v":""},{"$f":"IFERROR('EC-RE'!Z26,\"\")","v":""},{"$f":"IFERROR('EC-RP'!Z25,\"\")","v":""},{"$f":"IFERROR('EC-Per'!W25,\"\")","v":""},{"$f":"IFERROR('EC-Mar'!Y25,\"\")","v":""},"","","","","","","","",""]
[{"$f":"IF(ISBLANK(InfoPro!A20),\"\",InfoPro!A20)","v":""},{"$f":"IF(ISBLANK(InfoPro!H20),\"\",InfoPro!H20)","v":""},{"$f":"IF(ISBLANK(InfoPro!B20),\"\",InfoPro!B20)","v":""},{"$f":"IF(ISBLANK(InfoPro!E20),\"\",InfoPro!E20)","v":""},{"$f":"IF(ISBLANK(InfoPro!C20),\"\",InfoPro!C20)","v":""},{"$f":"IF(ISBLANK(InfoPro!D20),\"\",InfoPro!D20)","v":""},{"$f":"IF(ISBLANK(InfoPro!L20),\"\",InfoPro!L20)","v":""},{"$f":"'IT-TA'!H20","v":""},{"$f":"IFERROR('BT-Confi'!Y27,\"\")","v":""},{"$f":"IFERROR('BT-Flex'!Y27,\"\")","v":""},{"$f":"IFERROR('EC-RE'!Z27,\"\")","v":""},{"$f":"IFERROR('EC-RP'!Z26,\"\")","v":""},{"$f":"IFERROR('EC-Per'!W26,\"\")","v":""},{"$f":"IFERROR('EC-Mar'!Y26,\"\")","v":""},"","","","","","","","",""]
[{"$f":"IF(ISBLANK(InfoPro!A21),\"\",InfoPro!A21)","v":""},{"$f":"IF(ISBLANK(InfoPro!H21),\"\",InfoPro!H21)","v":""},{"$f":"IF(ISBLANK(InfoPro!B21),\"\",InfoPro!B21)","v":""},{"$f":"IF(ISBLANK(InfoPro!E21),\"\",InfoPro!E21)","v":""},{"$f":"IF(ISBLANK(InfoPro!C21),\"\",InfoPro!C21)","v":""},{"$f":"IF(ISBLANK(InfoPro!D21),\"\",InfoPro!D21)","v":""},{"$f":"IF(ISBLANK(InfoPro!L21),\"\",InfoPro!L21)","v":""},{"$f":"'IT-TA'!H21","v":""},{"$f":"IFERROR('BT-Confi'!Y28,\"\")","v":""},{"$f":"IFERROR('BT-Flex'!Y28,\"\")","v":""},{"$f":"IFERROR('EC-RE'!Z28,\"\")","v":""},{"$f":"IFERROR('EC-RP'!Z27,\"\")","v":""},{"$f":"IFERROR('EC-Per'!W27,\"\")","v":""},{"$f":"IFERROR('EC-Mar'!Y27,\"\")","v":""},"","","","","","","","",""]
[{"$f":"IF(ISBLANK(InfoPro!A22),\"\",InfoPro!A22)","v":""},{"$f":"IF(ISBLANK(InfoPro!H22),\"\",InfoPro!H22)","v":""},{"$f":"IF(ISBLANK(InfoPro!B22),\"\",InfoPro!B22)","v":""},{"$f":"IF(ISBLANK(InfoPro!E22),\"\",InfoPro!E22)","v":""},{"$f":"IF(ISBLANK(InfoPro!C22),\"\",InfoPro!C22)","v":""},{"$f":"IF(ISBLANK(InfoPro!D22),\"\",InfoPro!D22)","v":""},{"$f":"IF(ISBLANK(InfoPro!L22),\"\",InfoPro!L22)","v":""},{"$f":"'IT-TA'!H22","v":""},{"$f":"IFERROR('BT-Confi'!Y29,\"\")","v":""},{"$f":"IFERROR('BT-Flex'!Y29,\"\")","v":""},{"$f":"IFERROR('EC-RE'!Z29,\"\")","v":""},{"$f":"IFERROR('EC-RP'!Z28,\"\")","v":""},{"$f":"IFERROR('EC-Per'!W28,\"\")","v":""},{"$f":"IFERROR('EC-Mar'!Y28,\"\")","v":""},"","","","","","","","",""]
[{"$f":"IF(ISBLANK(InfoPro!A23),\"\",InfoPro!A23)","v":""},{"$f":"IF(ISBLANK(InfoPro!H23),\"\",InfoPro!H23)","v":""},{"$f":"IF(ISBLANK(InfoPro!B23),\"\",InfoPro!B23)","v":""},{"$f":"IF(ISBLANK(InfoPro!E23),\"\",InfoPro!E23)","v":""},{"$f":"IF(ISBLANK(InfoPro!C23),\"\",InfoPro!C23)","v":""},{"$f":"IF(ISBLANK(InfoPro!D23),\"\",InfoPro!D23)","v":""},{"$f":"IF(ISBLANK(InfoPro!L23),\"\",InfoPro!L23)","v":""},{"$f":"'IT-TA'!H23","v":""},{"$f":"IFERROR('BT-Confi'!Y30,\"\")","v":""},{"$f":"IFERROR('BT-Flex'!Y30,\"\")","v":""},{"$f":"IFERROR('EC-RE'!Z30,\"\")","v":""},{"$f":"IFERROR('EC-RP'!Z29,\"\")","v":""},{"$f":"IFERROR('EC-Per'!W29,\"\")","v":""},{"$f":"IFERROR('EC-Mar'!Y29,\"\")","v":""},"","","","","","","","",""]
[{"$f":"IF(ISBLANK(InfoPro!A24),\"\",InfoPro!A24)","v":""},{"$f":"IF(ISBLANK(InfoPro!H24),\"\",InfoPro!H24)","v":""},{"$f":"IF(ISBLANK(InfoPro!B24),\"\",InfoPro!B24)","v":""},{"$f":"IF(ISBLANK(InfoPro!E24),\"\",InfoPro!E24)","v":""},{"$f":"IF(ISBLANK(InfoPro!C24),\"\",InfoPro!C24)","v":""},{"$f":"IF(ISBLANK(InfoPro!D24),\"\",InfoPro!D24)","v":""},{"$f":"IF(ISBLANK(InfoPro!L24),\"\",InfoPro!L24)","v":""},{"$f":"'IT-TA'!H24","v":""},{"$f":"IFERROR('BT-Confi'!Y31,\"\")","v":""},{"$f":"IFERROR('BT-Flex'!Y31,\"\")","v":""},{"$f":"IFERROR('EC-RE'!Z31,\"\")","v":""},{"$f":"IFERROR('EC-RP'!Z30,\"\")","v":""},{"$f":"IFERROR('EC-Per'!W30,\"\")","v":""},{"$f":"IFERROR('EC-Mar'!Y30,\"\")","v":""},"","","","","","","","",""]
[{"$f":"IF(ISBLANK(InfoPro!A25),\"\",InfoPro!A25)","v":""},{"$f":"IF(ISBLANK(InfoPro!H25),\"\",InfoPro!H25)","v":""},{"$f":"IF(ISBLANK(InfoPro!B25),\"\",InfoPro!B25)","v":""},{"$f":"IF(ISBLANK(InfoPro!E25),\"\",InfoPro!E25)","v":""},{"$f":"IF(ISBLANK(InfoPro!C25),\"\",InfoPro!C25)","v":""},{"$f":"IF(ISBLANK(InfoPro!D25),\"\",InfoPro!D25)","v":""},{"$f":"IF(ISBLANK(InfoPro!L25),\"\",InfoPro!L25)","v":""},{"$f":"'IT-TA'!H25","v":""},{"$f":"IFERROR('BT-Confi'!Y32,\"\")","v":""},{"$f":"IFERROR('BT-Flex'!Y32,\"\")","v":""},{"$f":"IFERROR('EC-RE'!Z32,\"\")","v":""},{"$f":"IFERROR('EC-RP'!Z31,\"\")","v":""},{"$f":"IFERROR('EC-Per'!W31,\"\")","v":""},{"$f":"IFERROR('EC-Mar'!Y31,\"\")","v":""},"","","","","","","","",""]
[{"$f":"IF(ISBLANK(InfoPro!A26),\"\",InfoPro!A26)","v":""},{"$f":"IF(ISBLANK(InfoPro!H26),\"\",InfoPro!H26)","v":""},{"$f":"IF(ISBLANK(InfoPro!B26),\"\",InfoPro!B26)","v":""},{"$f":"IF(ISBLANK(InfoPro!E26),\"\",InfoPro!E26)","v":""},{"$f":"IF(ISBLANK(InfoPro!C26),\"\",InfoPro!C26)","v":""},{"$f":"IF(ISBLANK(InfoPro!D26),\"\",InfoPro!D26)","v":""},{"$f":"IF(ISBLANK(InfoPro!L26),\"\",InfoPro!L26)","v":""},{"$f":"'IT-TA'!H26","v":""},{"$f":"IFERROR('BT-Confi'!Y33,\"\")","v":""},{"$f":"IFERROR('BT-Flex'!Y33,\"\")","v":""},{"$f":"IFERROR('EC-RE'!Z33,\"\")","v":""},{"$f":"IFERROR('EC-RP'!Z32,\"\")","v":""},{"$f":"IFERROR('EC-Per'!W32,\"\")","v":""},{"$f":"IFERROR('EC-Mar'!Y32,\"\")","v":""},"","","","","","","","",""]
[{"$f":"IF(ISBLANK(InfoPro!A27),\"\",InfoPro!A27)","v":""},{"$f":"IF(ISBLANK(InfoPro!H27),\"\",InfoPro!H27)","v":""},{"$f":"IF(ISBLANK(InfoPro!B27),\"\",InfoPro!B27)","v":""},{"$f":"IF(ISBLANK(InfoPro!E27),\"\",InfoPro!E27)","v":""},{"$f":"IF(ISBLANK(InfoPro!C27),\"\",InfoPro!C27)","v":""},{"$f":"IF(ISBLANK(InfoPro!D27),\"\",InfoPro!D27)","v":""},{"$f":"IF(ISBLANK(InfoPro!L27),\"\",InfoPro!L27)","v":""},{"$f":"'IT-TA'!H27","v":""},{"$f":"IFERROR('BT-Confi'!Y34,\"\")","v":""},{"$f":"IFERROR('BT-Flex'!Y34,\"\")","v":""},{"$f":"IFERROR('EC-RE'!Z34,\"\")","v":""},{"$f":"IFERROR('EC-RP'!Z33,\"\")","v":""},{"$f":"IFERROR('EC-Per'!W33,\"\")","v":""},{"$f":"IFERROR('EC-Mar'!Y33,\"\")","v":""},"","","","","","","","",""]
[{"$f":"IF(ISBLANK(InfoPro!A28),\"\",InfoPro!A28)","v":""},{"$f":"IF(ISBLANK(InfoPro!H28),\"\",InfoPro!H28)","v":""},{"$f":"IF(ISBLANK(InfoPro!B28),\"\",InfoPro!B28)","v":""},{"$f":"IF(ISBLANK(InfoPro!E28),\"\",InfoPro!E28)","v":""},{"$f":"IF(ISBLANK(InfoPro!C28),\"\",InfoPro!C28)","v":""},{"$f":"IF(ISBLANK(InfoPro!D28),\"\",InfoPro!D28)","v":""},{"$f":"IF(ISBLANK(InfoPro!L28),\"\",InfoPro!L28)","v":""},{"$f":"'IT-TA'!H28","v":""},{"$f":"IFERROR('BT-Confi'!Y35,\"\")","v":""},{"$f":"IFERROR('BT-Flex'!Y35,\"\")","v":""},{"$f":"IFERROR('EC-RE'!Z35,\"\")","v":""},{"$f":"IFERROR('EC-RP'!Z34,\"\")","v":""},{"$f":"IFERROR('EC-Per'!W34,\"\")","v":""},{"$f":"IFERROR('EC-Mar'!Y34,\"\")","v":""},"","","","","","","","",""]
[{"$f":"IF(ISBLANK(InfoPro!A29),\"\",InfoPro!A29)","v":""},{"$f":"IF(ISBLANK(InfoPro!H29),\"\",InfoPro!H29)","v":""},{"$f":"IF(ISBLANK(InfoPro!B29),\"\",InfoPro!B29)","v":""},{"$f":"IF(ISBLANK(InfoPro!E29),\"\",InfoPro!E29)","v":""},{"$f":"IF(ISBLANK(InfoPro!C29),\"\",InfoPro!C29)","v":""},{"$f":"IF(ISBLANK(InfoPro!D29),\"\",InfoPro!D29)","v":""},{"$f":"IF(ISBLANK(InfoPro!L29),\"\",InfoPro!L29)","v":""},{"$f":"'IT-TA'!H29","v":""},{"$f":"IFERROR('BT-Confi'!Y36,\"\")","v":""},{"$f":"IFERROR('BT-Flex'!Y36,\"\")","v":""},{"$f":"IFERROR('EC-RE'!Z36,\"\")","v":""},{"$f":"IFERROR('EC-RP'!Z35,\"\")","v":""},{"$f":"IFERROR('EC-Per'!W35,\"\")","v":""},{"$f":"IFERROR('EC-Mar'!Y35,\"\")","v":""},"","","","","","","","",""]
[{"$f":"IF(ISBLANK(InfoPro!A30),\"\",InfoPro!A30)","v":""},{"$f":"IF(ISBLANK(InfoPro!H30),\"\",InfoPro!H30)","v":""},{"$f":"IF(ISBLANK(InfoPro!B30),\"\",InfoPro!B30)","v":""},{"$f":"IF(ISBLANK(InfoPro!E30),\"\",InfoPro!E30)","v":""},{"$f":"IF(ISBLANK(InfoPro!C30),\"\",InfoPro!C30)","v":""},{"$f":"IF(ISBLANK(InfoPro!D30),\"\",InfoPro!D30)","v":""},{"$f":"IF(ISBLANK(InfoPro!L30),\"\",InfoPro!L30)","v":""},{"$f":"'IT-TA'!H30","v":""},{"$f":"IFERROR('BT-Confi'!Y37,\"\")","v":""},{"$f":"IFERROR('BT-Flex'!Y37,\"\")","v":""},{"$f":"IFERROR('EC-RE'!Z37,\"\")","v":""},{"$f":"IFERROR('EC-RP'!Z36,\"\")","v":""},{"$f":"IFERROR('EC-Per'!W36,\"\")","v":""},{"$f":"IFERROR('EC-Mar'!Y36,\"\")","v":""},"","","","","","","","",""]
[{"$f":"IF(ISBLANK(InfoPro!A31),\"\",InfoPro!A31)","v":""},{"$f":"IF(ISBLANK(InfoPro!H31),\"\",InfoPro!H31)","v":""},{"$f":"IF(ISBLANK(InfoPro!B31),\"\",InfoPro!B31)","v":""},{"$f":"IF(ISBLANK(InfoPro!E31),\"\",InfoPro!E31)","v":""},{"$f":"IF(ISBLANK(InfoPro!C31),\"\",InfoPro!C31)","v":""},{"$f":"IF(ISBLANK(InfoPro!D31),\"\",InfoPro!D31)","v":""},{"$f":"IF(ISBLANK(InfoPro!L31),\"\",InfoPro!L31)","v":""},{"$f":"'IT-TA'!H31","v":""},{"$f":"IFERROR('BT-Confi'!Y38,\"\")","v":""},{"$f":"IFERROR('BT-Flex'!Y38,\"\")","v":""},{"$f":"IFERROR('EC-RE'!Z38,\"\")","v":""},{"$f":"IFERROR('EC-RP'!Z37,\"\")","v":""},{"$f":"IFERROR('EC-Per'!W37,\"\")","v":""},{"$f":"IFERROR('EC-Mar'!Y37,\"\")","v":""},"","","","","","","","",""]
[{"$f":"IF(ISBLANK(InfoPro!A32),\"\",InfoPro!A32)","v":""},{"$f":"IF(ISBLANK(InfoPro!H32),\"\",InfoPro!H32)","v":""},{"$f":"IF(ISBLANK(InfoPro!B32),\"\",InfoPro!B32)","v":""},{"$f":"IF(ISBLANK(InfoPro!E32),\"\",InfoPro!E32)","v":""},{"$f":"IF(ISBLANK(InfoPro!C32),\"\",InfoPro!C32)","v":""},{"$f":"IF(ISBLANK(InfoPro!D32),\"\",InfoPro!D32)","v":""},{"$f":"IF(ISBLANK(InfoPro!L32),\"\",InfoPro!L32)","v":""},{"$f":"'IT-TA'!H32","v":""},{"$f":"IFERROR('BT-Confi'!Y39,\"\")","v":""},{"$f":"IFERROR('BT-Flex'!Y39,\"\")","v":""},{"$f":"IFERROR('EC-RE'!Z39,\"\")","v":""},{"$f":"IFERROR('EC-RP'!Z38,\"\")","v":""},{"$f":"IFERROR('EC-Per'!W38,\"\")","v":""},{"$f":"IFERROR('EC-Mar'!Y38,\"\")","v":""},"","","","","","","","",""]
[{"$f":"IF(ISBLANK(InfoPro!A33),\"\",InfoPro!A33)","v":""},{"$f":"IF(ISBLANK(InfoPro!H33),\"\",InfoPro!H33)","v":""},{"$f":"IF(ISBLANK(InfoPro!B33),\"\",InfoPro!B33)","v":""},{"$f":"IF(ISBLANK(InfoPro!E33),\"\",InfoPro!E33)","v":""},{"$f":"IF(ISBLANK(InfoPro!C33),\"\",InfoPro!C33)","v":""},{"$f":"IF(ISBLANK(InfoPro!D33),\"\",InfoPro!D33)","v":""},{"$f":"IF(ISBLANK(InfoPro!L33),\"\",InfoPro!L33)","v":""},{"$f":"'IT-TA'!H33","v":""},{"$f":"IFERROR('BT-Confi'!Y40,\"\")","v":""},{"$f":"IFERROR('BT-Flex'!Y40,\"\")","v":""},{"$f":"IFERROR('EC-RE'!Z40,\"\")","v":""},{"$f":"IFERROR('EC-RP'!Z39,\"\")","v":""},{"$f":"IFERROR('EC-Per'!W39,\"\")","v":""},{"$f":"IFERROR('EC-Mar'!Y39,\"\")","v":""},"","","","","","","","",""]
[{"$f":"IF(ISBLANK(InfoPro!A34),\"\",InfoPro!A34)","v":""},{"$f":"IF(ISBLANK(InfoPro!H34),\"\",InfoPro!H34)","v":""},{"$f":"IF(ISBLANK(InfoPro!B34),\"\",InfoPro!B34)","v":""},{"$f":"IF(ISBLANK(InfoPro!E34),\"\",InfoPro!E34)","v":""},{"$f":"IF(ISBLANK(InfoPro!C34),\"\",InfoPro!C34)","v":""},{"$f":"IF(ISBLANK(InfoPro!D34),\"\",InfoPro!D34)","v":""},{"$f":"IF(ISBLANK(InfoPro!L34),\"\",InfoPro!L34)","v":""},{"$f":"'IT-TA'!H34","v":""},{"$f":"IFERROR('BT-Confi'!Y41,\"\")","v":""},{"$f":"IFERROR('BT-Flex'!Y41,\"\")","v":""},{"$f":"IFERROR('EC-RE'!Z41,\"\")","v":""},{"$f":"IFERROR('EC-RP'!Z40,\"\")","v":""},{"$f":"IFERROR('EC-Per'!W40,\"\")","v":""},{"$f":"IFERROR('EC-Mar'!Y40,\"\")","v":""},"","","","","","","","",""]
[{"$f":"IF(ISBLANK(InfoPro!A35),\"\",InfoPro!A35)","v":""},{"$f":"IF(ISBLANK(InfoPro!H35),\"\",InfoPro!H35)","v":""},{"$f":"IF(ISBLANK(InfoPro!B35),\"\",InfoPro!B35)","v":""},{"$f":"IF(ISBLANK(InfoPro!E35),\"\",InfoPro!E35)","v":""},{"$f":"IF(ISBLANK(InfoPro!C35),\"\",InfoPro!C35)","v":""},{"$f":"IF(ISBLANK(InfoPro!D35),\"\",InfoPro!D35)","v":""},{"$f":"IF(ISBLANK(InfoPro!L35),\"\",InfoPro!L35)","v":""},{"$f":"'IT-TA'!H35","v":""},{"$f":"IFERROR('BT-Confi'!Y42,\"\")","v":""},{"$f":"IFERROR('BT-Flex'!Y42,\"\")","v":""},{"$f":"IFERROR('EC-RE'!Z42,\"\")","v":""},{"$f":"IFERROR('EC-RP'!Z41,\"\")","v":""},{"$f":"IFERROR('EC-Per'!W41,\"\")","v":""},{"$f":"IFERROR('EC-Mar'!Y41,\"\")","v":""},"","","","","","","","",""]
[{"$f":"IF(ISBLANK(InfoPro!A36),\"\",InfoPro!A36)","v":""},{"$f":"IF(ISBLANK(InfoPro!H36),\"\",InfoPro!H36)","v":""},{"$f":"IF(ISBLANK(InfoPro!B36),\"\",InfoPro!B36)","v":""},{"$f":"IF(ISBLANK(InfoPro!E36),\"\",InfoPro!E36)","v":""},{"$f":"IF(ISBLANK(InfoPro!C36),\"\",InfoPro!C36)","v":""},{"$f":"IF(ISBLANK(InfoPro!D36),\"\",InfoPro!D36)","v":""},{"$f":"IF(ISBLANK(InfoPro!L36),\"\",InfoPro!L36)","v":""},{"$f":"'IT-TA'!H36","v":""},{"$f":"IFERROR('BT-Confi'!Y43,\"\")","v":""},{"$f":"IFERROR('BT-Flex'!Y43,\"\")","v":""},{"$f":"IFERROR('EC-RE'!Z43,\"\")","v":""},{"$f":"IFERROR('EC-RP'!Z42,\"\")","v":""},{"$f":"IFERROR('EC-Per'!W42,\"\")","v":""},{"$f":"IFERROR('EC-Mar'!Y42,\"\")","v":""},"","","","","","","","",""]
[{"$f":"IF(ISBLANK(InfoPro!A37),\"\",InfoPro!A37)","v":""},{"$f":"IF(ISBLANK(InfoPro!H37),\"\",InfoPro!H37)","v":""},{"$f":"IF(ISBLANK(InfoPro!B37),\"\",InfoPro!B37)","v":""},{"$f":"IF(ISBLANK(InfoPro!E37),\"\",InfoPro!E37)","v":""},{"$f":"IF(ISBLANK(InfoPro!C37),\"\",InfoPro!C37)","v":""},{"$f":"IF(ISBLANK(InfoPro!D37),\"\",InfoPro!D37)","v":""},{"$f":"IF(ISBLANK(InfoPro!L37),\"\",InfoPro!L37)","v":""},{"$f":"'IT-TA'!H37","v":""},{"$f":"IFERROR('BT-Confi'!Y44,\"\")","v":""},{"$f":"IFERROR('BT-Flex'!Y44,\"\")","v":""},{"$f":"IFERROR('EC-RE'!Z44,\"\")","v":""},{"$f":"IFERROR('EC-RP'!Z43,\"\")","v":""},{"$f":"IFERROR('EC-Per'!W43,\"\")","v":""},{"$f":"IFERROR('EC-Mar'!Y43,\"\")","v":""},"","","","","","","","",""]
[{"$f":"IF(ISBLANK(InfoPro!A38),\"\",InfoPro!A38)","v":""},{"$f":"IF(ISBLANK(InfoPro!H38),\"\",InfoPro!H38)","v":""},{"$f":"IF(ISBLANK(InfoPro!B38),\"\",InfoPro!B38)","v":""},{"$f":"IF(ISBLANK(InfoPro!E38),\"\",InfoPro!E38)","v":""},{"$f":"IF(ISBLANK(InfoPro!C38),\"\",InfoPro!C38)","v":""},{"$f":"IF(ISBLANK(InfoPro!D38),\"\",InfoPro!D38)","v":""},{"$f":"IF(ISBLANK(InfoPro!L38),\"\",InfoPro!L38)","v":""},{"$f":"'IT-TA'!H38","v":""},{"$f":"IFERROR('BT-Confi'!Y45,\"\")","v":""},{"$f":"IFERROR('BT-Flex'!Y45,\"\")","v":""},{"$f":"IFERROR('EC-RE'!Z45,\"\")","v":""},{"$f":"IFERROR('EC-RP'!Z44,\"\")","v":""},{"$f":"IFERROR('EC-Per'!W44,\"\")","v":""},{"$f":"IFERROR('EC-Mar'!Y44,\"\")","v":""},"","","","","","","","",""]
[{"$f":"IF(ISBLANK(InfoPro!A39),\"\",InfoPro!A39)","v":""},{"$f":"IF(ISBLANK(InfoPro!H39),\"\",InfoPro!H39)","v":""},{"$f":"IF(ISBLANK(InfoPro!B39),\"\",InfoPro!B39)","v":""},{"$f":"IF(ISBLANK(InfoPro!E39),\"\",InfoPro!E39)","v":""},{"$f":"IF(ISBLANK(InfoPro!C39),\"\",InfoPro!C39)","v":""},{"$f":"IF(ISBLANK(InfoPro!D39),\"\",InfoPro!D39)","v":""},{"$f":"IF(ISBLANK(InfoPro!L39),\"\",InfoPro!L39)","v":""},{"$f":"'IT-TA'!H39","v":""},{"$f":"IFERROR('BT-Confi'!Y46,\"\")","v":""},{"$f":"IFERROR('BT-Flex'!Y46,\"\")","v":""},{"$f":"IFERROR('EC-RE'!Z46,\"\")","v":""},{"$f":"IFERROR('EC-RP'!Z45,\"\")","v":""},{"$f":"IFERROR('EC-Per'!W45,\"\")","v":""},{"$f":"IFERROR('EC-Mar'!Y45,\"\")","v":""},"","","","","","","","",""]
[{"$f":"IF(ISBLANK(InfoPro!A40),\"\",InfoPro!A40)","v":""},{"$f":"IF(ISBLANK(InfoPro!H40),\"\",InfoPro!H40)","v":""},{"$f":"IF(ISBLANK(InfoPro!B40),\"\",InfoPro!B40)","v":""},{"$f":"IF(ISBLANK(InfoPro!E40),\"\",InfoPro!E40)","v":""},{"$f":"IF(ISBLANK(InfoPro!C40),\"\",InfoPro!C40)","v":""},{"$f":"IF(ISBLANK(InfoPro!D40),\"\",InfoPro!D40)","v":""},{"$f":"IF(ISBLANK(InfoPro!L40),\"\",InfoPro!L40)","v":""},{"$f":"'IT-TA'!H40","v":""},{"$f":"IFERROR('BT-Confi'!Y47,\"\")","v":""},{"$f":"IFERROR('BT-Flex'!Y47,\"\")","v":""},{"$f":"IFERROR('EC-RE'!Z47,\"\")","v":""},{"$f":"IFERROR('EC-RP'!Z46,\"\")","v":""},{"$f":"IFERROR('EC-Per'!W46,\"\")","v":""},{"$f":"IFERROR('EC-Mar'!Y46,\"\")","v":""},"","","","","","","","",""]
[{"$f":"IF(ISBLANK(InfoPro!A41),\"\",InfoPro!A41)","v":""},{"$f":"IF(ISBLANK(InfoPro!H41),\"\",InfoPro!H41)","v":""},{"$f":"IF(ISBLANK(InfoPro!B41),\"\",InfoPro!B41)","v":""},{"$f":"IF(ISBLANK(InfoPro!E41),\"\",InfoPro!E41)","v":""},{"$f":"IF(ISBLANK(InfoPro!C41),\"\",InfoPro!C41)","v":""},{"$f":"IF(ISBLANK(InfoPro!D41),\"\",InfoPro!D41)","v":""},{"$f":"IF(ISBLANK(InfoPro!L41),\"\",InfoPro!L41)","v":""},{"$f":"'IT-TA'!H41","v":""},{"$f":"IFERROR('BT-Confi'!Y48,\"\")","v":""},{"$f":"IFERROR('BT-Flex'!Y48,\"\")","v":""},{"$f":"IFERROR('EC-RE'!Z48,\"\")","v":""},{"$f":"IFERROR('EC-RP'!Z47,\"\")","v":""},{"$f":"IFERROR('EC-Per'!W47,\"\")","v":""},{"$f":"IFERROR('EC-Mar'!Y47,\"\")","v":""},"","","","","","","","",""]
[{"$f":"IF(ISBLANK(InfoPro!A42),\"\",InfoPro!A42)","v":""},{"$f":"IF(ISBLANK(InfoPro!H42),\"\",InfoPro!H42)","v":""},{"$f":"IF(ISBLANK(InfoPro!B42),\"\",InfoPro!B42)","v":""},{"$f":"IF(ISBLANK(InfoPro!E42),\"\",InfoPro!E42)","v":""},{"$f":"IF(ISBLANK(InfoPro!C42),\"\",InfoPro!C42)","v":""},{"$f":"IF(ISBLANK(InfoPro!D42),\"\",InfoPro!D42)","v":""},{"$f":"IF(ISBLANK(InfoPro!L42),\"\",InfoPro!L42)","v":""},{"$f":"'IT-TA'!H42","v":""},{"$f":"IFERROR('BT-Confi'!Y49,\"\")","v":""},{"$f":"IFERROR('BT-Flex'!Y49,\"\")","v":""},{"$f":"IFERROR('EC-RE'!Z49,\"\")","v":""},{"$f":"IFERROR('EC-RP'!Z48,\"\")","v":""},{"$f":"IFERROR('EC-Per'!W48,\"\")","v":""},{"$f":"IFERROR('EC-Mar'!Y48,\"\")","v":""},"","","","","","","","",""]
[{"$f":"IF(ISBLANK(InfoPro!A43),\"\",InfoPro!A43)","v":""},{"$f":"IF(ISBLANK(InfoPro!H43),\"\",InfoPro!H43)","v":""},{"$f":"IF(ISBLANK(InfoPro!B43),\"\",InfoPro!B43)","v":""},{"$f":"IF(ISBLANK(InfoPro!E43),\"\",InfoPro!E43)","v":""},{"$f":"IF(ISBLANK(InfoPro!C43),\"\",InfoPro!C43)","v":""},{"$f":"IF(ISBLANK(InfoPro!D43),\"\",InfoPro!D43)","v":""},{"$f":"IF(ISBLANK(InfoPro!L43),\"\",InfoPro!L43)","v":""},{"$f":"'IT-TA'!H43","v":""},{"$f":"IFERROR('BT-Confi'!Y50,\"\")","v":""},{"$f":"IFERROR('BT-Flex'!Y50,\"\")","v":""},{"$f":"IFERROR('EC-RE'!Z50,\"\")","v":""},{"$f":"IFERROR('EC-RP'!Z49,\"\")","v":""},{"$f":"IFERROR('EC-Per'!W49,\"\")","v":""},{"$f":"IFERROR('EC-Mar'!Y49,\"\")","v":""},"","","","","","","","",""]
[{"$f":"IF(ISBLANK(InfoPro!A44),\"\",InfoPro!A44)","v":""},{"$f":"IF(ISBLANK(InfoPro!H44),\"\",InfoPro!H44)","v":""},{"$f":"IF(ISBLANK(InfoPro!B44),\"\",InfoPro!B44)","v":""},{"$f":"IF(ISBLANK(InfoPro!E44),\"\",InfoPro!E44)","v":""},{"$f":"IF(ISBLANK(InfoPro!C44),\"\",InfoPro!C44)","v":""},{"$f":"IF(ISBLANK(InfoPro!D44),\"\",InfoPro!D44)","v":""},{"$f":"IF(ISBLANK(InfoPro!L44),\"\",InfoPro!L44)","v":""},{"$f":"'IT-TA'!H44","v":""},{"$f":"IFERROR('BT-Confi'!Y51,\"\")","v":""},{"$f":"IFERROR('BT-Flex'!Y51,\"\")","v":""},{"$f":"IFERROR('EC-RE'!Z51,\"\")","v":""},{"$f":"IFERROR('EC-RP'!Z50,\"\")","v":""},{"$f":"IFERROR('EC-Per'!W50,\"\")","v":""},{"$f":"IFERROR('EC-Mar'!Y50,\"\")","v":""},"","","","","","","","",""]
[{"$f":"IF(ISBLANK(InfoPro!A45),\"\",InfoPro!A45)","v":""},{"$f":"IF(ISBLANK(InfoPro!H45),\"\",InfoPro!H45)","v":""},{"$f":"IF(ISBLANK(InfoPro!B45),\"\",InfoPro!B45)","v":""},{"$f":"IF(ISBLANK(InfoPro!E45),\"\",InfoPro!E45)","v":""},{"$f":"IF(ISBLANK(InfoPro!C45),\"\",InfoPro!C45)","v":""},{"$f":"IF(ISBLANK(InfoPro!D45),\"\",InfoPro!D45)","v":""},{"$f":"IF(ISBLANK(InfoPro!L45),\"\",InfoPro!L45)","v":""},{"$f":"'IT-TA'!H45","v":""},{"$f":"IFERROR('BT-Confi'!Y52,\"\")","v":""},{"$f":"IFERROR('BT-Flex'!Y52,\"\")","v":""},{"$f":"IFERROR('EC-RE'!Z52,\"\")","v":""},{"$f":"IFERROR('EC-RP'!Z51,\"\")","v":""},{"$f":"IFERROR('EC-Per'!W51,\"\")","v":""},{"$f":"IFERROR('EC-Mar'!Y51,\"\")","v":""},"","","","","","","","",""]
[{"$f":"IF(ISBLANK(InfoPro!A46),\"\",InfoPro!A46)","v":""},{"$f":"IF(ISBLANK(InfoPro!H46),\"\",InfoPro!H46)","v":""},{"$f":"IF(ISBLANK(InfoPro!B46),\"\",InfoPro!B46)","v":""},{"$f":"IF(ISBLANK(InfoPro!E46),\"\",InfoPro!E46)","v":""},{"$f":"IF(ISBLANK(InfoPro!C46),\"\",InfoPro!C46)","v":""},{"$f":"IF(ISBLANK(InfoPro!D46),\"\",InfoPro!D46)","v":""},{"$f":"IF(ISBLANK(InfoPro!L46),\"\",InfoPro!L46)","v":""},{"$f":"'IT-TA'!H46","v":""},{"$f":"IFERROR('BT-Confi'!Y53,\"\")","v":""},{"$f":"IFERROR('BT-Flex'!Y53,\"\")","v":""},{"$f":"IFERROR('EC-RE'!Z53,\"\")","v":""},{"$f":"IFERROR('EC-RP'!Z52,\"\")","v":""},{"$f":"IFERROR('EC-Per'!W52,\"\")","v":""},{"$f":"IFERROR('EC-Mar'!Y52,\"\")","v":""},"","","","","","","","",""]
[{"$f":"IF(ISBLANK(InfoPro!A47),\"\",InfoPro!A47)","v":""},{"$f":"IF(ISBLANK(InfoPro!H47),\"\",InfoPro!H47)","v":""},{"$f":"IF(ISBLANK(InfoPro!B47),\"\",InfoPro!B47)","v":""},{"$f":"IF(ISBLANK(InfoPro!E47),\"\",InfoPro!E47)","v":""},{"$f":"IF(ISBLANK(InfoPro!C47),\"\",InfoPro!C47)","v":""},{"$f":"IF(ISBLANK(InfoPro!D47),\"\",InfoPro!D47)","v":""},{"$f":"IF(ISBLANK(InfoPro!L47),\"\",InfoPro!L47)","v":""},{"$f":"'IT-TA'!H47","v":""},{"$f":"IFERROR('BT-Confi'!Y54,\"\")","v":""},{"$f":"IFERROR('BT-Flex'!Y54,\"\")","v":""},{"$f":"IFERROR('EC-RE'!Z54,\"\")","v":""},{"$f":"IFERROR('EC-RP'!Z53,\"\")","v":""},{"$f":"IFERROR('EC-Per'!W53,\"\")","v":""},{"$f":"IFERROR('EC-Mar'!Y53,\"\")","v":""},"","","","","","","","",""]
[{"$f":"IF(ISBLANK(InfoPro!A48),\"\",InfoPro!A48)","v":""},{"$f":"IF(ISBLANK(InfoPro!H48),\"\",InfoPro!H48)","v":""},{"$f":"IF(ISBLANK(InfoPro!B48),\"\",InfoPro!B48)","v":""},{"$f":"IF(ISBLANK(InfoPro!E48),\"\",InfoPro!E48)","v":""},{"$f":"IF(ISBLANK(InfoPro!C48),\"\",InfoPro!C48)","v":""},{"$f":"IF(ISBLANK(InfoPro!D48),\"\",InfoPro!D48)","v":""},{"$f":"IF(ISBLANK(InfoPro!L48),\"\",InfoPro!L48)","v":""},{"$f":"'IT-TA'!H48","v":""},{"$f":"IFERROR('BT-Confi'!Y55,\"\")","v":""},{"$f":"IFERROR('BT-Flex'!Y55,\"\")","v":""},{"$f":"IFERROR('EC-RE'!Z55,\"\")","v":""},{"$f":"IFERROR('EC-RP'!Z54,\"\")","v":""},{"$f":"IFERROR('EC-Per'!W54,\"\")","v":""},{"$f":"IFERROR('EC-Mar'!Y54,\"\")","v":""},"","","","","","","","",""]
[{"$f":"IF(ISBLANK(InfoPro!A49),\"\",InfoPro!A49)","v":""},{"$f":"IF(ISBLANK(InfoPro!H49),\"\",InfoPro!H49)","v":""},{"$f":"IF(ISBLANK(InfoPro!B49),\"\",InfoPro!B49)","v":""},{"$f":"IF(ISBLANK(InfoPro!E49),\"\",InfoPro!E49)","v":""},{"$f":"IF(ISBLANK(InfoPro!C49),\"\",InfoPro!C49)","v":""},{"$f":"IF(ISBLANK(InfoPro!D49),\"\",InfoPro!D49)","v":""},{"$f":"IF(ISBLANK(InfoPro!L49),\"\",InfoPro!L49)","v":""},{"$f":"'IT-TA'!H49","v":""},{"$f":"IFERROR('BT-Confi'!Y56,\"\")","v":""},{"$f":"IFERROR('BT-Flex'!Y56,\"\")","v":""},{"$f":"IFERROR('EC-RE'!Z56,\"\")","v":""},{"$f":"IFERROR('EC-RP'!Z55,\"\")","v":""},{"$f":"IFERROR('EC-Per'!W55,\"\")","v":""},{"$f":"IFERROR('EC-Mar'!Y55,\"\")","v":""},"","","","","","","","",""]
[{"$f":"IF(ISBLANK(InfoPro!A50),\"\",InfoPro!A50)","v":""},{"$f":"IF(ISBLANK(InfoPro!H50),\"\",InfoPro!H50)","v":""},{"$f":"IF(ISBLANK(InfoPro!B50),\"\",InfoPro!B50)","v":""},{"$f":"IF(ISBLANK(InfoPro!E50),\"\",InfoPro!E50)","v":""},{"$f":"IF(ISBLANK(InfoPro!C50),\"\",InfoPro!C50)","v":""},{"$f":"IF(ISBLANK(InfoPro!D50),\"\",InfoPro!D50)","v":""},{"$f":"IF(ISBLANK(InfoPro!L50),\"\",InfoPro!L50)","v":""},{"$f":"'IT-TA'!H50","v":""},{"$f":"IFERROR('BT-Confi'!Y57,\"\")","v":""},{"$f":"IFERROR('BT-Flex'!Y57,\"\")","v":""},{"$f":"IFERROR('EC-RE'!Z57,\"\")","v":""},{"$f":"IFERROR('EC-RP'!Z56,\"\")","v":""},{"$f":"IFERROR('EC-Per'!W56,\"\")","v":""},{"$f":"IFERROR('EC-Mar'!Y56,\"\")","v":""},"","","","","","","","",""]
[{"$f":"IF(ISBLANK(InfoPro!A51),\"\",InfoPro!A51)","v":""},{"$f":"IF(ISBLANK(InfoPro!H51),\"\",InfoPro!H51)","v":""},{"$f":"IF(ISBLANK(InfoPro!B51),\"\",InfoPro!B51)","v":""},{"$f":"IF(ISBLANK(InfoPro!E51),\"\",InfoPro!E51)","v":""},{"$f":"IF(ISBLANK(InfoPro!C51),\"\",InfoPro!C51)","v":""},{"$f":"IF(ISBLANK(InfoPro!D51),\"\",InfoPro!D51)","v":""},{"$f":"IF(ISBLANK(InfoPro!L51),\"\",InfoPro!L51)","v":""},{"$f":"'IT-TA'!H51","v":""},{"$f":"IFERROR('BT-Confi'!Y58,\"\")","v":""},{"$f":"IFERROR('BT-Flex'!Y58,\"\")","v":""},{"$f":"IFERROR('EC-RE'!Z58,\"\")","v":""},{"$f":"IFERROR('EC-RP'!Z57,\"\")","v":""},{"$f":"IFERROR('EC-Per'!W57,\"\")","v":""},{"$f":"IFERROR('EC-Mar'!Y57,\"\")","v":""},"","","","","","","","",""]
[{"$f":"IF(ISBLANK(InfoPro!A52),\"\",InfoPro!A52)","v":""},{"$f":"IF(ISBLANK(InfoPro!H52),\"\",InfoPro!H52)","v":""},{"$f":"IF(ISBLANK(InfoPro!B52),\"\",InfoPro!B52)","v":""},{"$f":"IF(ISBLANK(InfoPro!E52),\"\",InfoPro!E52)","v":""},{"$f":"IF(ISBLANK(InfoPro!C52),\"\",InfoPro!C52)","v":""},{"$f":"IF(ISBLANK(InfoPro!D52),\"\",InfoPro!D52)","v":""},{"$f":"IF(ISBLANK(InfoPro!L52),\"\",InfoPro!L52)","v":""},{"$f":"'IT-TA'!H52","v":""},{"$f":"IFERROR('BT-Confi'!Y59,\"\")","v":""},{"$f":"IFERROR('BT-Flex'!Y59,\"\")","v":""},{"$f":"IFERROR('EC-RE'!Z59,\"\")","v":""},{"$f":"IFERROR('EC-RP'!Z58,\"\")","v":""},{"$f":"IFERROR('EC-Per'!W58,\"\")","v":""},{"$f":"IFERROR('EC-Mar'!Y58,\"\")","v":""},"","","","","","","","",""]
[{"$f":"IF(ISBLANK(InfoPro!A53),\"\",InfoPro!A53)","v":""},{"$f":"IF(ISBLANK(InfoPro!H53),\"\",InfoPro!H53)","v":""},{"$f":"IF(ISBLANK(InfoPro!B53),\"\",InfoPro!B53)","v":""},{"$f":"IF(ISBLANK(InfoPro!E53),\"\",InfoPro!E53)","v":""},{"$f":"IF(ISBLANK(InfoPro!C53),\"\",InfoPro!C53)","v":""},{"$f":"IF(ISBLANK(InfoPro!D53),\"\",InfoPro!D53)","v":""},{"$f":"IF(ISBLANK(InfoPro!L53),\"\",InfoPro!L53)","v":""},{"$f":"'IT-TA'!H53","v":""},{"$f":"IFERROR('BT-Confi'!Y60,\"\")","v":""},{"$f":"IFERROR('BT-Flex'!Y60,\"\")","v":""},{"$f":"IFERROR('EC-RE'!Z60,\"\")","v":""},{"$f":"IFERROR('EC-RP'!Z59,\"\")","v":""},{"$f":"IFERROR('EC-Per'!W59,\"\")","v":""},{"$f":"IFERROR('EC-Mar'!Y59,\"\")","v":""},"","","","","","","","",""]
[{"$f":"IF(ISBLANK(InfoPro!A54),\"\",InfoPro!A54)","v":""},{"$f":"IF(ISBLANK(InfoPro!H54),\"\",InfoPro!H54)","v":""},{"$f":"IF(ISBLANK(InfoPro!B54),\"\",InfoPro!B54)","v":""},{"$f":"IF(ISBLANK(InfoPro!E54),\"\",InfoPro!E54)","v":""},{"$f":"IF(ISBLANK(InfoPro!C54),\"\",InfoPro!C54)","v":""},{"$f":"IF(ISBLANK(InfoPro!D54),\"\",InfoPro!D54)","v":""},{"$f":"IF(ISBLANK(InfoPro!L54),\"\",InfoPro!L54)","v":""},{"$f":"'IT-TA'!H54","v":""},{"$f":"IFERROR('BT-Confi'!Y61,\"\")","v":""},{"$f":"IFERROR('BT-Flex'!Y61,\"\")","v":""},{"$f":"IFERROR('EC-RE'!Z61,\"\")","v":""},{"$f":"IFERROR('EC-RP'!Z60,\"\")","v":""},{"$f":"IFERROR('EC-Per'!W60,\"\")","v":""},{"$f":"IFERROR('EC-Mar'!Y60,\"\")","v":""},"","","","","","","","",""]
[{"$f":"IF(ISBLANK(InfoPro!A55),\"\",InfoPro!A55)","v":""},{"$f":"IF(ISBLANK(InfoPro!H55),\"\",InfoPro!H55)","v":""},{"$f":"IF(ISBLANK(InfoPro!B55),\"\",InfoPro!B55)","v":""},{"$f":"IF(ISBLANK(InfoPro!E55),\"\",InfoPro!E55)","v":""},{"$f":"IF(ISBLANK(InfoPro!C55),\"\",InfoPro!C55)","v":""},{"$f":"IF(ISBLANK(InfoPro!D55),\"\",InfoPro!D55)","v":""},{"$f":"IF(ISBLANK(InfoPro!L55),\"\",InfoPro!L55)","v":""},{"$f":"'IT-TA'!H55","v":""},{"$f":"IFERROR('BT-Confi'!Y62,\"\")","v":""},{"$f":"IFERROR('BT-Flex'!Y62,\"\")","v":""},{"$f":"IFERROR('EC-RE'!Z62,\"\")","v":""},{"$f":"IFERROR('EC-RP'!Z61,\"\")","v":""},{"$f":"IFERROR('EC-Per'!W61,\"\")","v":""},{"$f":"IFERROR('EC-Mar'!Y61,\"\")","v":""},"","","","","","","","",""]
[{"$f":"IF(ISBLANK(InfoPro!A56),\"\",InfoPro!A56)","v":""},{"$f":"IF(ISBLANK(InfoPro!H56),\"\",InfoPro!H56)","v":""},{"$f":"IF(ISBLANK(InfoPro!B56),\"\",InfoPro!B56)","v":""},{"$f":"IF(ISBLANK(InfoPro!E56),\"\",InfoPro!E56)","v":""},{"$f":"IF(ISBLANK(InfoPro!C56),\"\",InfoPro!C56)","v":""},{"$f":"IF(ISBLANK(InfoPro!D56),\"\",InfoPro!D56)","v":""},{"$f":"IF(ISBLANK(InfoPro!L56),\"\",InfoPro!L56)","v":""},{"$f":"'IT-TA'!H56","v":""},{"$f":"IFERROR('BT-Confi'!Y63,\"\")","v":""},{"$f":"IFERROR('BT-Flex'!Y63,\"\")","v":""},{"$f":"IFERROR('EC-RE'!Z63,\"\")","v":""},{"$f":"IFERROR('EC-RP'!Z62,\"\")","v":""},{"$f":"IFERROR('EC-Per'!W62,\"\")","v":""},{"$f":"IFERROR('EC-Mar'!Y62,\"\")","v":""},"","","","","","","","",""]
[{"$f":"IF(ISBLANK(InfoPro!A57),\"\",InfoPro!A57)","v":""},{"$f":"IF(ISBLANK(InfoPro!H57),\"\",InfoPro!H57)","v":""},{"$f":"IF(ISBLANK(InfoPro!B57),\"\",InfoPro!B57)","v":""},{"$f":"IF(ISBLANK(InfoPro!E57),\"\",InfoPro!E57)","v":""},{"$f":"IF(ISBLANK(InfoPro!C57),\"\",InfoPro!C57)","v":""},{"$f":"IF(ISBLANK(InfoPro!D57),\"\",InfoPro!D57)","v":""},{"$f":"IF(ISBLANK(InfoPro!L57),\"\",InfoPro!L57)","v":""},{"$f":"'IT-TA'!H57","v":""},{"$f":"IFERROR('BT-Confi'!Y64,\"\")","v":""},{"$f":"IFERROR('BT-Flex'!Y64,\"\")","v":""},{"$f":"IFERROR('EC-RE'!Z64,\"\")","v":""},{"$f":"IFERROR('EC-RP'!Z63,\"\")","v":""},{"$f":"IFERROR('EC-Per'!W63,\"\")","v":""},{"$f":"IFERROR('EC-Mar'!Y63,\"\")","v":""},"","","","","","","","",""]
[{"$f":"IF(ISBLANK(InfoPro!A58),\"\",InfoPro!A58)","v":""},{"$f":"IF(ISBLANK(InfoPro!H58),\"\",InfoPro!H58)","v":""},{"$f":"IF(ISBLANK(InfoPro!B58),\"\",InfoPro!B58)","v":""},{"$f":"IF(ISBLANK(InfoPro!E58),\"\",InfoPro!E58)","v":""},{"$f":"IF(ISBLANK(InfoPro!C58),\"\",InfoPro!C58)","v":""},{"$f":"IF(ISBLANK(InfoPro!D58),\"\",InfoPro!D58)","v":""},{"$f":"IF(ISBLANK(InfoPro!L58),\"\",InfoPro!L58)","v":""},{"$f":"'IT-TA'!H58","v":""},{"$f":"IFERROR('BT-Confi'!Y65,\"\")","v":""},{"$f":"IFERROR('BT-Flex'!Y65,\"\")","v":""},{"$f":"IFERROR('EC-RE'!Z65,\"\")","v":""},{"$f":"IFERROR('EC-RP'!Z64,\"\")","v":""},{"$f":"IFERROR('EC-Per'!W64,\"\")","v":""},{"$f":"IFERROR('EC-Mar'!Y64,\"\")","v":""},"","","","","","","","",""]
[{"$f":"IF(ISBLANK(InfoPro!A59),\"\",InfoPro!A59)","v":""},{"$f":"IF(ISBLANK(InfoPro!H59),\"\",InfoPro!H59)","v":""},{"$f":"IF(ISBLANK(InfoPro!B59),\"\",InfoPro!B59)","v":""},{"$f":"IF(ISBLANK(InfoPro!E59),\"\",InfoPro!E59)","v":""},{"$f":"IF(ISBLANK(InfoPro!C59),\"\",InfoPro!C59)","v":""},{"$f":"IF(ISBLANK(InfoPro!D59),\"\",InfoPro!D59)","v":""},{"$f":"IF(ISBLANK(InfoPro!L59),\"\",InfoPro!L59)","v":""},{"$f":"'IT-TA'!H59","v":""},{"$f":"IFERROR('BT-Confi'!Y66,\"\")","v":""},{"$f":"IFERROR('BT-Flex'!Y66,\"\")","v":""},{"$f":"IFERROR('EC-RE'!Z66,\"\")","v":""},{"$f":"IFERROR('EC-RP'!Z65,\"\")","v":""},{"$f":"IFERROR('EC-Per'!W65,\"\")","v":""},{"$f":"IFERROR('EC-Mar'!Y65,\"\")","v":""},"","","","","","","","",""]
[{"$f":"IF(ISBLANK(InfoPro!A60),\"\",InfoPro!A60)","v":""},{"$f":"IF(ISBLANK(InfoPro!H60),\"\",InfoPro!H60)","v":""},{"$f":"IF(ISBLANK(InfoPro!B60),\"\",InfoPro!B60)","v":""},{"$f":"IF(ISBLANK(InfoPro!E60),\"\",InfoPro!E60)","v":""},{"$f":"IF(ISBLANK(InfoPro!C60),\"\",InfoPro!C60)","v":""},{"$f":"IF(ISBLANK(InfoPro!D60),\"\",InfoPro!D60)","v":""},{"$f":"IF(ISBLANK(InfoPro!L60),\"\",InfoPro!L60)","v":""},{"$f":"'IT-TA'!H60","v":""},{"$f":"IFERROR('BT-Confi'!Y67,\"\")","v":""},{"$f":"IFERROR('BT-Flex'!Y67,\"\")","v":""},{"$f":"IFERROR('EC-RE'!Z67,\"\")","v":""},{"$f":"IFERROR('EC-RP'!Z66,\"\")","v":""},{"$f":"IFERROR('EC-Per'!W66,\"\")","v":""},{"$f":"IFERROR('EC-Mar'!Y66,\"\")","v":""},"","","","","","","","",""]
[{"$f":"IF(ISBLANK(InfoPro!A61),\"\",InfoPro!A61)","v":""},{"$f":"IF(ISBLANK(InfoPro!H61),\"\",InfoPro!H61)","v":""},{"$f":"IF(ISBLANK(InfoPro!B61),\"\",InfoPro!B61)","v":""},{"$f":"IF(ISBLANK(InfoPro!E61),\"\",InfoPro!E61)","v":""},{"$f":"IF(ISBLANK(InfoPro!C61),\"\",InfoPro!C61)","v":""},{"$f":"IF(ISBLANK(InfoPro!D61),\"\",InfoPro!D61)","v":""},{"$f":"IF(ISBLANK(InfoPro!L61),\"\",InfoPro!L61)","v":""},{"$f":"'IT-TA'!H61","v":""},{"$f":"IFERROR('BT-Confi'!Y68,\"\")","v":""},{"$f":"IFERROR('BT-Flex'!Y68,\"\")","v":""},{"$f":"IFERROR('EC-RE'!Z68,\"\")","v":""},{"$f":"IFERROR('EC-RP'!Z67,\"\")","v":""},{"$f":"IFERROR('EC-Per'!W67,\"\")","v":""},{"$f":"IFERROR('EC-Mar'!Y67,\"\")","v":""},"","","","","","","","",""]
[{"$f":"IF(ISBLANK(InfoPro!A62),\"\",InfoPro!A62)","v":""},{"$f":"IF(ISBLANK(InfoPro!H62),\"\",InfoPro!H62)","v":""},{"$f":"IF(ISBLANK(InfoPro!B62),\"\",InfoPro!B62)","v":""},{"$f":"IF(ISBLANK(InfoPro!E62),\"\",InfoPro!E62)","v":""},{"$f":"IF(ISBLANK(InfoPro!C62),\"\",InfoPro!C62)","v":""},{"$f":"IF(ISBLANK(InfoPro!D62),\"\",InfoPro!D62)","v":""},{"$f":"IF(ISBLANK(InfoPro!L62),\"\",InfoPro!L62)","v":""},{"$f":"'IT-TA'!H62","v":""},{"$f":"IFERROR('BT-Confi'!Y69,\"\")","v":""},{"$f":"IFERROR('BT-Flex'!Y69,\"\")","v":""},{"$f":"IFERROR('EC-RE'!Z69,\"\")","v":""},{"$f":"IFERROR('EC-RP'!Z68,\"\")","v":""},{"$f":"IFERROR('EC-Per'!W68,\"\")","v":""},{"$f":"IFERROR('EC-Mar'!Y68,\"\")","v":""},"","","","","","","","",""]
[{"$f":"IF(ISBLANK(InfoPro!A63),\"\",InfoPro!A63)","v":""},{"$f":"IF(ISBLANK(InfoPro!H63),\"\",InfoPro!H63)","v":""},{"$f":"IF(ISBLANK(InfoPro!B63),\"\",InfoPro!B63)","v":""},{"$f":"IF(ISBLANK(InfoPro!E63),\"\",InfoPro!E63)","v":""},{"$f":"IF(ISBLANK(InfoPro!C63),\"\",InfoPro!C63)","v":""},{"$f":"IF(ISBLANK(InfoPro!D63),\"\",InfoPro!D63)","v":""},{"$f":"IF(ISBLANK(InfoPro!L63),\"\",InfoPro!L63)","v":""},{"$f":"'IT-TA'!H63","v":""},{"$f":"IFERROR('BT-Confi'!Y70,\"\")","v":""},{"$f":"IFERROR('BT-Flex'!Y70,\"\")","v":""},{"$f":"IFERROR('EC-RE'!Z70,\"\")","v":""},{"$f":"IFERROR('EC-RP'!Z69,\"\")","v":""},{"$f":"IFERROR('EC-Per'!W69,\"\")","v":""},{"$f":"IFERROR('EC-Mar'!Y69,\"\")","v":""},"","","","","","","","",""]
[{"$f":"IF(ISBLANK(InfoPro!A64),\"\",InfoPro!A64)","v":""},{"$f":"IF(ISBLANK(InfoPro!H64),\"\",InfoPro!H64)","v":""},{"$f":"IF(ISBLANK(InfoPro!B64),\"\",InfoPro!B64)","v":""},{"$f":"IF(ISBLANK(InfoPro!E64),\"\",InfoPro!E64)","v":""},{"$f":"IF(ISBLANK(InfoPro!C64),\"\",InfoPro!C64)","v":""},{"$f":"IF(ISBLANK(InfoPro!D64),\"\",InfoPro!D64)","v":""},{"$f":"IF(ISBLANK(InfoPro!L64),\"\",InfoPro!L64)","v":""},{"$f":"'IT-TA'!H64","v":""},{"$f":"IFERROR('BT-Confi'!Y71,\"\")","v":""},{"$f":"IFERROR('BT-Flex'!Y71,\"\")","v":""},{"$f":"IFERROR('EC-RE'!Z71,\"\")","v":""},{"$f":"IFERROR('EC-RP'!Z70,\"\")","v":""},{"$f":"IFERROR('EC-Per'!W70,\"\")","v":""},{"$f":"IFERROR('EC-Mar'!Y70,\"\")","v":""},"","","","","","","","",""]
[{"$f":"IF(ISBLANK(InfoPro!A65),\"\",InfoPro!A65)","v":""},{"$f":"IF(ISBLANK(InfoPro!H65),\"\",InfoPro!H65)","v":""},{"$f":"IF(ISBLANK(InfoPro!B65),\"\",InfoPro!B65)","v":""},{"$f":"IF(ISBLANK(InfoPro!E65),\"\",InfoPro!E65)","v":""},{"$f":"IF(ISBLANK(InfoPro!C65),\"\",InfoPro!C65)","v":""},{"$f":"IF(ISBLANK(InfoPro!D65),\"\",InfoPro!D65)","v":""},{"$f":"IF(ISBLANK(InfoPro!L65),\"\",InfoPro!L65)","v":""},{"$f":"'IT-TA'!H65","v":""},{"$f":"IFERROR('BT-Confi'!Y72,\"\")","v":""},{"$f":"IFERROR('BT-Flex'!Y72,\"\")","v":""},{"$f":"IFERROR('EC-RE'!Z72,\"\")","v":""},{"$f":"IFERROR('EC-RP'!Z71,\"\")","v":""},{"$f":"IFERROR('EC-Per'!W71,\"\")","v":""},{"$f":"IFERROR('EC-Mar'!Y71,\"\")","v":""},"","","","","","","","",""]
[{"$f":"IF(ISBLANK(InfoPro!A66),\"\",InfoPro!A66)","v":""},{"$f":"IF(ISBLANK(InfoPro!H66),\"\",InfoPro!H66)","v":""},{"$f":"IF(ISBLANK(InfoPro!B66),\"\",InfoPro!B66)","v":""},{"$f":"IF(ISBLANK(InfoPro!E66),\"\",InfoPro!E66)","v":""},{"$f":"IF(ISBLANK(InfoPro!C66),\"\",InfoPro!C66)","v":""},{"$f":"IF(ISBLANK(InfoPro!D66),\"\",InfoPro!D66)","v":""},{"$f":"IF(ISBLANK(InfoPro!L66),\"\",InfoPro!L66)","v":""},{"$f":"'IT-TA'!H66","v":""},{"$f":"IFERROR('BT-Confi'!Y73,\"\")","v":""},{"$f":"IFERROR('BT-Flex'!Y73,\"\")","v":""},{"$f":"IFERROR('EC-RE'!Z73,\"\")","v":""},{"$f":"IFERROR('EC-RP'!Z72,\"\")","v":""},{"$f":"IFERROR('EC-Per'!W72,\"\")","v":""},{"$f":"IFERROR('EC-Mar'!Y72,\"\")","v":""},"","","","","","","","",""]
[{"$f":"IF(ISBLANK(InfoPro!A67),\"\",InfoPro!A67)","v":""},{"$f":"IF(ISBLANK(InfoPro!H67),\"\",InfoPro!H67)","v":""},{"$f":"IF(ISBLANK(InfoPro!B67),\"\",InfoPro!B67)","v":""},{"$f":"IF(ISBLANK(InfoPro!E67),\"\",InfoPro!E67)","v":""},{"$f":"IF(ISBLANK(InfoPro!C67),\"\",InfoPro!C67)","v":""},{"$f":"IF(ISBLANK(InfoPro!D67),\"\",InfoPro!D67)","v":""},{"$f":"IF(ISBLANK(InfoPro!L67),\"\",InfoPro!L67)","v":""},{"$f":"'IT-TA'!H67","v":""},{"$f":"IFERROR('BT-Confi'!Y74,\"\")","v":""},{"$f":"IFERROR('BT-Flex'!Y74,\"\")","v":""},{"$f":"IFERROR('EC-RE'!Z74,\"\")","v":""},{"$f":"IFERROR('EC-RP'!Z73,\"\")","v":""},{"$f":"IFERROR('EC-Per'!W73,\"\")","v":""},{"$f":"IFERROR('EC-Mar'!Y73,\"\")","v":""},{"$f":"IF(C70=\"\",\"\",(SUMIF(I70:N70,\">0\"))*(H70/100))","v":""},{"$f":"IF(C70=\"\",\"\",I70+$B$1)","v":""},{"$f":"IF(D70=\"\",\"\",J70+$B$1)","v":""},{"$f":"IF(E70=\"\",\"\",K70+$B$1)","v":""},{"$f":"IF(F70=\"\",\"\",L70+$B$1)","v":""},{"$f":"IF(G70=\"\",\"\",M70+$B$1)","v":""},{"$f":"IF(H70=\"\",\"\",N70+$B$1)","v":""},{"$f":"IF(I70=\"\",\"\",O70+$B$1)","v":""},{"$f":"IFERROR((+$P$1*P70+$Q$1*Q70+$R$1*R70+$S$1*S70+$T$1*T70+U70*$U$1+$V$1*V70),\"\")","v":""}]
[{"$f":"IF(ISBLANK(InfoPro!A68),\"\",InfoPro!A68)","v":""},{"$f":"IF(ISBLANK(InfoPro!H68),\"\",InfoPro!H68)","v":""},{"$f":"IF(ISBLANK(InfoPro!B68),\"\",InfoPro!B68)","v":""},{"$f":"IF(ISBLANK(InfoPro!E68),\"\",InfoPro!E68)","v":""},{"$f":"IF(ISBLANK(InfoPro!C68),\"\",InfoPro!C68)","v":""},{"$f":"IF(ISBLANK(InfoPro!D68),\"\",InfoPro!D68)","v":""},{"$f":"IF(ISBLANK(InfoPro!L68),\"\",InfoPro!L68)","v":""},{"$f":"'IT-TA'!H68","v":""},{"$f":"IFERROR('BT-Confi'!Y75,\"\")","v":""},{"$f":"IFERROR('BT-Flex'!Y75,\"\")","v":""},{"$f":"IFERROR('EC-RE'!Z75,\"\")","v":""},{"$f":"IFERROR('EC-RP'!Z74,\"\")","v":""},{"$f":"IFERROR('EC-Per'!W74,\"\")","v":""},{"$f":"IFERROR('EC-Mar'!Y74,\"\")","v":""},"","","","","","","","",""]
[{"$f":"IF(ISBLANK(InfoPro!A69),\"\",InfoPro!A69)","v":""},{"$f":"IF(ISBLANK(InfoPro!H69),\"\",InfoPro!H69)","v":""},{"$f":"IF(ISBLANK(InfoPro!B69),\"\",InfoPro!B69)","v":""},{"$f":"IF(ISBLANK(InfoPro!E69),\"\",InfoPro!E69)","v":""},{"$f":"IF(ISBLANK(InfoPro!C69),\"\",InfoPro!C69)","v":""},{"$f":"IF(ISBLANK(InfoPro!D69),\"\",InfoPro!D69)","v":""},{"$f":"IF(ISBLANK(InfoPro!L69),\"\",InfoPro!L69)","v":""},{"$f":"'IT-TA'!H69","v":""},{"$f":"IFERROR('BT-Confi'!Y76,\"\")","v":""},{"$f":"IFERROR('BT-Flex'!Y76,\"\")","v":""},{"$f":"IFERROR('EC-RE'!Z76,\"\")","v":""},{"$f":"IFERROR('EC-RP'!Z75,\"\")","v":""},{"$f":"IFERROR('EC-Per'!W75,\"\")","v":""},{"$f":"IFERROR('EC-Mar'!Y75,\"\")","v":""},"","","","","","","","",""]
[{"$f":"IF(ISBLANK(InfoPro!A70),\"\",InfoPro!A70)","v":""},{"$f":"IF(ISBLANK(InfoPro!H70),\"\",InfoPro!H70)","v":""},{"$f":"IF(ISBLANK(InfoPro!B70),\"\",InfoPro!B70)","v":""},{"$f":"IF(ISBLANK(InfoPro!E70),\"\",InfoPro!E70)","v":""},{"$f":"IF(ISBLANK(InfoPro!C70),\"\",InfoPro!C70)","v":""},{"$f":"IF(ISBLANK(InfoPro!D70),\"\",InfoPro!D70)","v":""},{"$f":"IF(ISBLANK(InfoPro!L70),\"\",InfoPro!L70)","v":""},{"$f":"'IT-TA'!H70","v":""},{"$f":"IFERROR('BT-Confi'!Y77,\"\")","v":""},{"$f":"IFERROR('BT-Flex'!Y77,\"\")","v":""},{"$f":"IFERROR('EC-RE'!Z77,\"\")","v":""},{"$f":"IFERROR('EC-RP'!Z76,\"\")","v":""},{"$f":"IFERROR('EC-Per'!W76,\"\")","v":""},{"$f":"IFERROR('EC-Mar'!Y76,\"\")","v":""},"","","","","","","","",""]
[{"$f":"IF(ISBLANK(InfoPro!A71),\"\",InfoPro!A71)","v":""},{"$f":"IF(ISBLANK(InfoPro!H71),\"\",InfoPro!H71)","v":""},{"$f":"IF(ISBLANK(InfoPro!B71),\"\",InfoPro!B71)","v":""},{"$f":"IF(ISBLANK(InfoPro!E71),\"\",InfoPro!E71)","v":""},{"$f":"IF(ISBLANK(InfoPro!C71),\"\",InfoPro!C71)","v":""},{"$f":"IF(ISBLANK(InfoPro!D71),\"\",InfoPro!D71)","v":""},{"$f":"IF(ISBLANK(InfoPro!L71),\"\",InfoPro!L71)","v":""},{"$f":"'IT-TA'!H71","v":""},{"$f":"IFERROR('BT-Confi'!Y78,\"\")","v":""},{"$f":"IFERROR('BT-Flex'!Y78,\"\")","v":""},{"$f":"IFERROR('EC-RE'!Z78,\"\")","v":""},{"$f":"IFERROR('EC-RP'!Z77,\"\")","v":""},{"$f":"IFERROR('EC-Per'!W77,\"\")","v":""},{"$f":"IFERROR('EC-Mar'!Y77,\"\")","v":""},"","","","","","","","",""]
[{"$f":"IF(ISBLANK(InfoPro!A72),\"\",InfoPro!A72)","v":""},{"$f":"IF(ISBLANK(InfoPro!H72),\"\",InfoPro!H72)","v":""},{"$f":"IF(ISBLANK(InfoPro!B72),\"\",InfoPro!B72)","v":""},{"$f":"IF(ISBLANK(InfoPro!E72),\"\",InfoPro!E72)","v":""},{"$f":"IF(ISBLANK(InfoPro!C72),\"\",InfoPro!C72)","v":""},{"$f":"IF(ISBLANK(InfoPro!D72),\"\",InfoPro!D72)","v":""},{"$f":"IF(ISBLANK(InfoPro!L72),\"\",InfoPro!L72)","v":""},{"$f":"'IT-TA'!H72","v":""},{"$f":"IFERROR('BT-Confi'!Y79,\"\")","v":""},{"$f":"IFERROR('BT-Flex'!Y79,\"\")","v":""},{"$f":"IFERROR('EC-RE'!Z79,\"\")","v":""},{"$f":"IFERROR('EC-RP'!Z78,\"\")","v":""},{"$f":"IFERROR('EC-Per'!W78,\"\")","v":""},{"$f":"IFERROR('EC-Mar'!Y78,\"\")","v":""},"","","","","","","","",""]
[{"$f":"IF(ISBLANK(InfoPro!A73),\"\",InfoPro!A73)","v":""},{"$f":"IF(ISBLANK(InfoPro!H73),\"\",InfoPro!H73)","v":""},{"$f":"IF(ISBLANK(InfoPro!B73),\"\",InfoPro!B73)","v":""},{"$f":"IF(ISBLANK(InfoPro!E73),\"\",InfoPro!E73)","v":""},{"$f":"IF(ISBLANK(InfoPro!C73),\"\",InfoPro!C73)","v":""},{"$f":"IF(ISBLANK(InfoPro!D73),\"\",InfoPro!D73)","v":""},{"$f":"IF(ISBLANK(InfoPro!L73),\"\",InfoPro!L73)","v":""},{"$f":"'IT-TA'!H73","v":""},{"$f":"IFERROR('BT-Confi'!Y80,\"\")","v":""},{"$f":"IFERROR('BT-Flex'!Y80,\"\")","v":""},{"$f":"IFERROR('EC-RE'!Z80,\"\")","v":""},{"$f":"IFERROR('EC-RP'!Z79,\"\")","v":""},{"$f":"IFERROR('EC-Per'!W79,\"\")","v":""},{"$f":"IFERROR('EC-Mar'!Y79,\"\")","v":""},"","","","","","","","",""]
[{"$f":"IF(ISBLANK(InfoPro!A74),\"\",InfoPro!A74)","v":""},{"$f":"IF(ISBLANK(InfoPro!H74),\"\",InfoPro!H74)","v":""},{"$f":"IF(ISBLANK(InfoPro!B74),\"\",InfoPro!B74)","v":""},{"$f":"IF(ISBLANK(InfoPro!E74),\"\",InfoPro!E74)","v":""},{"$f":"IF(ISBLANK(InfoPro!C74),\"\",InfoPro!C74)","v":""},{"$f":"IF(ISBLANK(InfoPro!D74),\"\",InfoPro!D74)","v":""},{"$f":"IF(ISBLANK(InfoPro!L74),\"\",InfoPro!L74)","v":""},{"$f":"'IT-TA'!H74","v":""},{"$f":"IFERROR('BT-Confi'!Y81,\"\")","v":""},{"$f":"IFERROR('BT-Flex'!Y81,\"\")","v":""},{"$f":"IFERROR('EC-RE'!Z81,\"\")","v":""},{"$f":"IFERROR('EC-RP'!Z80,\"\")","v":""},{"$f":"IFERROR('EC-Per'!W80,\"\")","v":""},{"$f":"IFERROR('EC-Mar'!Y80,\"\")","v":""},"","","","","","","","",""]
[{"$f":"IF(ISBLANK(InfoPro!A75),\"\",InfoPro!A75)","v":""},{"$f":"IF(ISBLANK(InfoPro!H75),\"\",InfoPro!H75)","v":""},{"$f":"IF(ISBLANK(InfoPro!B75),\"\",InfoPro!B75)","v":""},{"$f":"IF(ISBLANK(InfoPro!E75),\"\",InfoPro!E75)","v":""},{"$f":"IF(ISBLANK(InfoPro!C75),\"\",InfoPro!C75)","v":""},{"$f":"IF(ISBLANK(InfoPro!D75),\"\",InfoPro!D75)","v":""},{"$f":"IF(ISBLANK(InfoPro!L75),\"\",InfoPro!L75)","v":""},{"$f":"'IT-TA'!H75","v":""},{"$f":"IFERROR('BT-Confi'!Y82,\"\")","v":""},{"$f":"IFERROR('BT-Flex'!Y82,\"\")","v":""},{"$f":"IFERROR('EC-RE'!Z82,\"\")","v":""},{"$f":"IFERROR('EC-RP'!Z81,\"\")","v":""},{"$f":"IFERROR('EC-Per'!W81,\"\")","v":""},{"$f":"IFERROR('EC-Mar'!Y81,\"\")","v":""},"","","","","","","","",""]
[{"$f":"IF(ISBLANK(InfoPro!A76),\"\",InfoPro!A76)","v":""},{"$f":"IF(ISBLANK(InfoPro!H76),\"\",InfoPro!H76)","v":""},{"$f":"IF(ISBLANK(InfoPro!B76),\"\",InfoPro!B76)","v":""},{"$f":"IF(ISBLANK(InfoPro!E76),\"\",InfoPro!E76)","v":""},{"$f":"IF(ISBLANK(InfoPro!C76),\"\",InfoPro!C76)","v":""},{"$f":"IF(ISBLANK(InfoPro!D76),\"\",InfoPro!D76)","v":""},{"$f":"IF(ISBLANK(InfoPro!L76),\"\",InfoPro!L76)","v":""},{"$f":"'IT-TA'!H76","v":""},{"$f":"IFERROR('BT-Confi'!Y83,\"\")","v":""},{"$f":"IFERROR('BT-Flex'!Y83,\"\")","v":""},{"$f":"IFERROR('EC-RE'!Z83,\"\")","v":""},{"$f":"IFERROR('EC-RP'!Z82,\"\")","v":""},{"$f":"IFERROR('EC-Per'!W82,\"\")","v":""},{"$f":"IFERROR('EC-Mar'!Y82,\"\")","v":""},"","","","","","","","",""]
[{"$f":"IF(ISBLANK(InfoPro!A77),\"\",InfoPro!A77)","v":""},{"$f":"IF(ISBLANK(InfoPro!H77),\"\",InfoPro!H77)","v":""},{"$f":"IF(ISBLANK(InfoPro!B77),\"\",InfoPro!B77)","v":""},{"$f":"IF(ISBLANK(InfoPro!E77),\"\",InfoPro!E77)","v":""},{"$f":"IF(ISBLANK(InfoPro!C77),\"\",InfoPro!C77)","v":""},{"$f":"IF(ISBLANK(InfoPro!D77),\"\",InfoPro!D77)","v":""},{"$f":"IF(ISBLANK(InfoPro!L77),\"\",InfoPro!L77)","v":""},{"$f":"'IT-TA'!H77","v":""},{"$f":"IFERROR('BT-Confi'!Y84,\"\")","v":""},{"$f":"IFERROR('BT-Flex'!Y84,\"\")","v":""},{"$f":"IFERROR('EC-RE'!Z84,\"\")","v":""},{"$f":"IFERROR('EC-RP'!Z83,\"\")","v":""},{"$f":"IFERROR('EC-Per'!W83,\"\")","v":""},{"$f":"IFERROR('EC-Mar'!Y83,\"\")","v":""},"","","","","","","","",""]
[{"$f":"IF(ISBLANK(InfoPro!A78),\"\",InfoPro!A78)","v":""},{"$f":"IF(ISBLANK(InfoPro!H78),\"\",InfoPro!H78)","v":""},{"$f":"IF(ISBLANK(InfoPro!B78),\"\",InfoPro!B78)","v":""},{"$f":"IF(ISBLANK(InfoPro!E78),\"\",InfoPro!E78)","v":""},{"$f":"IF(ISBLANK(InfoPro!C78),\"\",InfoPro!C78)","v":""},{"$f":"IF(ISBLANK(InfoPro!D78),\"\",InfoPro!D78)","v":""},{"$f":"IF(ISBLANK(InfoPro!L78),\"\",InfoPro!L78)","v":""},{"$f":"'IT-TA'!H78","v":""},{"$f":"IFERROR('BT-Confi'!Y85,\"\")","v":""},{"$f":"IFERROR('BT-Flex'!Y85,\"\")","v":""},{"$f":"IFERROR('EC-RE'!Z85,\"\")","v":""},{"$f":"IFERROR('EC-RP'!Z84,\"\")","v":""},{"$f":"IFERROR('EC-Per'!W84,\"\")","v":""},{"$f":"IFERROR('EC-Mar'!Y84,\"\")","v":""},"","","","","","","","",""]
[{"$f":"IF(ISBLANK(InfoPro!A79),\"\",InfoPro!A79)","v":""},{"$f":"IF(ISBLANK(InfoPro!H79),\"\",InfoPro!H79)","v":""},{"$f":"IF(ISBLANK(InfoPro!B79),\"\",InfoPro!B79)","v":""},{"$f":"IF(ISBLANK(InfoPro!E79),\"\",InfoPro!E79)","v":""},{"$f":"IF(ISBLANK(InfoPro!C79),\"\",InfoPro!C79)","v":""},{"$f":"IF(ISBLANK(InfoPro!D79),\"\",InfoPro!D79)","v":""},{"$f":"IF(ISBLANK(InfoPro!L79),\"\",InfoPro!L79)","v":""},{"$f":"'IT-TA'!H79","v":""},{"$f":"IFERROR('BT-Confi'!Y86,\"\")","v":""},{"$f":"IFERROR('BT-Flex'!Y86,\"\")","v":""},{"$f":"IFERROR('EC-RE'!Z86,\"\")","v":""},{"$f":"IFERROR('EC-RP'!Z85,\"\")","v":""},{"$f":"IFERROR('EC-Per'!W85,\"\")","v":""},{"$f":"IFERROR('EC-Mar'!Y85,\"\")","v":""},"","","","","","","","",""]
[{"$f":"IF(ISBLANK(InfoPro!A80),\"\",InfoPro!A80)","v":""},{"$f":"IF(ISBLANK(InfoPro!H80),\"\",InfoPro!H80)","v":""},{"$f":"IF(ISBLANK(InfoPro!B80),\"\",InfoPro!B80)","v":""},{"$f":"IF(ISBLANK(InfoPro!E80),\"\",InfoPro!E80)","v":""},{"$f":"IF(ISBLANK(InfoPro!C80),\"\",InfoPro!C80)","v":""},{"$f":"IF(ISBLANK(InfoPro!D80),\"\",InfoPro!D80)","v":""},{"$f":"IF(ISBLANK(InfoPro!L80),\"\",InfoPro!L80)","v":""},{"$f":"'IT-TA'!H80","v":""},{"$f":"IFERROR('BT-Confi'!Y87,\"\")","v":""},{"$f":"IFERROR('BT-Flex'!Y87,\"\")","v":""},{"$f":"IFERROR('EC-RE'!Z87,\"\")","v":""},{"$f":"IFERROR('EC-RP'!Z86,\"\")","v":""},{"$f":"IFERROR('EC-Per'!W86,\"\")","v":""},{"$f":"IFERROR('EC-Mar'!Y86,\"\")","v":""},{"$f":"IF(C83=\"\",\"\",(SUMIF(I83:N83,\">0\"))*(H83/100))","v":""},{"$f":"IF(C83=\"\",\"\",I83+$B$1)","v":""},{"$f":"IF(D83=\"\",\"\",J83+$B$1)","v":""},{"$f":"IF(E83=\"\",\"\",K83+$B$1)","v":""},{"$f":"IF(F83=\"\",\"\",L83+$B$1)","v":""},{"$f":"IF(G83=\"\",\"\",M83+$B$1)","v":""},{"$f":"IF(H83=\"\",\"\",N83+$B$1)","v":""},{"$f":"IF(I83=\"\",\"\",O83+$B$1)","v":""},{"$f":"IFERROR((+$P$1*P83+$Q$1*Q83+$R$1*R83+$S$1*S83+$T$1*T83+U83*$U$1+$V$1*V83),\"\")","v":""}]
[{"$f":"IF(ISBLANK(InfoPro!A81),\"\",InfoPro!A81)","v":""},{"$f":"IF(ISBLANK(InfoPro!H81),\"\",InfoPro!H81)","v":""},{"$f":"IF(ISBLANK(InfoPro!B81),\"\",InfoPro!B81)","v":""},{"$f":"IF(ISBLANK(InfoPro!E81),\"\",InfoPro!E81)","v":""},{"$f":"IF(ISBLANK(InfoPro!C81),\"\",InfoPro!C81)","v":""},{"$f":"IF(ISBLANK(InfoPro!D81),\"\",InfoPro!D81)","v":""},{"$f":"IF(ISBLANK(InfoPro!L81),\"\",InfoPro!L81)","v":""},{"$f":"'IT-TA'!H81","v":""},{"$f":"IFERROR('BT-Confi'!Y88,\"\")","v":""},{"$f":"IFERROR('BT-Flex'!Y88,\"\")","v":""},{"$f":"IFERROR('EC-RE'!Z88,\"\")","v":""},{"$f":"IFERROR('EC-RP'!Z87,\"\")","v":""},{"$f":"IFERROR('EC-Per'!W87,\"\")","v":""},{"$f":"IFERROR('EC-Mar'!Y87,\"\")","v":""},"","","","","","","","",""]
[{"$f":"IF(ISBLANK(InfoPro!A82),\"\",InfoPro!A82)","v":""},{"$f":"IF(ISBLANK(InfoPro!H82),\"\",InfoPro!H82)","v":""},{"$f":"IF(ISBLANK(InfoPro!B82),\"\",InfoPro!B82)","v":""},{"$f":"IF(ISBLANK(InfoPro!E82),\"\",InfoPro!E82)","v":""},{"$f":"IF(ISBLANK(InfoPro!C82),\"\",InfoPro!C82)","v":""},{"$f":"IF(ISBLANK(InfoPro!D82),\"\",InfoPro!D82)","v":""},{"$f":"IF(ISBLANK(InfoPro!L82),\"\",InfoPro!L82)","v":""},{"$f":"'IT-TA'!H82","v":""},{"$f":"IFERROR('BT-Confi'!Y89,\"\")","v":""},{"$f":"IFERROR('BT-Flex'!Y89,\"\")","v":""},{"$f":"IFERROR('EC-RE'!Z89,\"\")","v":""},{"$f":"IFERROR('EC-RP'!Z88,\"\")","v":""},{"$f":"IFERROR('EC-Per'!W88,\"\")","v":""},{"$f":"IFERROR('EC-Mar'!Y88,\"\")","v":""},"","","","","","","","",""]
[{"$f":"IF(ISBLANK(InfoPro!A83),\"\",InfoPro!A83)","v":""},{"$f":"IF(ISBLANK(InfoPro!H83),\"\",InfoPro!H83)","v":""},{"$f":"IF(ISBLANK(InfoPro!B83),\"\",InfoPro!B83)","v":""},{"$f":"IF(ISBLANK(InfoPro!E83),\"\",InfoPro!E83)","v":""},{"$f":"IF(ISBLANK(InfoPro!C83),\"\",InfoPro!C83)","v":""},{"$f":"IF(ISBLANK(InfoPro!D83),\"\",InfoPro!D83)","v":""},{"$f":"IF(ISBLANK(InfoPro!L83),\"\",InfoPro!L83)","v":""},{"$f":"'IT-TA'!H83","v":""},{"$f":"IFERROR('BT-Confi'!Y90,\"\")","v":""},{"$f":"IFERROR('BT-Flex'!Y90,\"\")","v":""},{"$f":"IFERROR('EC-RE'!Z90,\"\")","v":""},{"$f":"IFERROR('EC-RP'!Z89,\"\")","v":""},{"$f":"IFERROR('EC-Per'!W89,\"\")","v":""},{"$f":"IFERROR('EC-Mar'!Y89,\"\")","v":""},"","","","","","","","",""]
[{"$f":"IF(ISBLANK(InfoPro!A84),\"\",InfoPro!A84)","v":""},{"$f":"IF(ISBLANK(InfoPro!H84),\"\",InfoPro!H84)","v":""},{"$f":"IF(ISBLANK(InfoPro!B84),\"\",InfoPro!B84)","v":""},{"$f":"IF(ISBLANK(InfoPro!E84),\"\",InfoPro!E84)","v":""},{"$f":"IF(ISBLANK(InfoPro!C84),\"\",InfoPro!C84)","v":""},{"$f":"IF(ISBLANK(InfoPro!D84),\"\",InfoPro!D84)","v":""},{"$f":"IF(ISBLANK(InfoPro!L84),\"\",InfoPro!L84)","v":""},{"$f":"'IT-TA'!H84","v":""},{"$f":"IFERROR('BT-Confi'!Y91,\"\")","v":""},{"$f":"IFERROR('BT-Flex'!Y91,\"\")","v":""},{"$f":"IFERROR('EC-RE'!Z91,\"\")","v":""},{"$f":"IFERROR('EC-RP'!Z90,\"\")","v":""},{"$f":"IFERROR('EC-Per'!W90,\"\")","v":""},{"$f":"IFERROR('EC-Mar'!Y90,\"\")","v":""},"","","","","","","","",""]
[{"$f":"IF(ISBLANK(InfoPro!A85),\"\",InfoPro!A85)","v":""},{"$f":"IF(ISBLANK(InfoPro!H85),\"\",InfoPro!H85)","v":""},{"$f":"IF(ISBLANK(InfoPro!B85),\"\",InfoPro!B85)","v":""},{"$f":"IF(ISBLANK(InfoPro!E85),\"\",InfoPro!E85)","v":""},{"$f":"IF(ISBLANK(InfoPro!C85),\"\",InfoPro!C85)","v":""},{"$f":"IF(ISBLANK(InfoPro!D85),\"\",InfoPro!D85)","v":""},{"$f":"IF(ISBLANK(InfoPro!L85),\"\",InfoPro!L85)","v":""},{"$f":"'IT-TA'!H85","v":""},{"$f":"IFERROR('BT-Confi'!Y92,\"\")","v":""},{"$f":"IFERROR('BT-Flex'!Y92,\"\")","v":""},{"$f":"IFERROR('EC-RE'!Z92,\"\")","v":""},{"$f":"IFERROR('EC-RP'!Z91,\"\")","v":""},{"$f":"IFERROR('EC-Per'!W91,\"\")","v":""},{"$f":"IFERROR('EC-Mar'!Y91,\"\")","v":""},"","","","","","","","",""]
[{"$f":"IF(ISBLANK(InfoPro!A86),\"\",InfoPro!A86)","v":""},{"$f":"IF(ISBLANK(InfoPro!H86),\"\",InfoPro!H86)","v":""},{"$f":"IF(ISBLANK(InfoPro!B86),\"\",InfoPro!B86)","v":""},{"$f":"IF(ISBLANK(InfoPro!E86),\"\",InfoPro!E86)","v":""},{"$f":"IF(ISBLANK(InfoPro!C86),\"\",InfoPro!C86)","v":""},{"$f":"IF(ISBLANK(InfoPro!D86),\"\",InfoPro!D86)","v":""},{"$f":"IF(ISBLANK(InfoPro!L86),\"\",InfoPro!L86)","v":""},{"$f":"'IT-TA'!H86","v":""},{"$f":"IFERROR('BT-Confi'!Y93,\"\")","v":""},{"$f":"IFERROR('BT-Flex'!Y93,\"\")","v":""},{"$f":"IFERROR('EC-RE'!Z93,\"\")","v":""},{"$f":"IFERROR('EC-RP'!Z92,\"\")","v":""},{"$f":"IFERROR('EC-Per'!W92,\"\")","v":""},{"$f":"IFERROR('EC-Mar'!Y92,\"\")","v":""},"","","","","","","","",""]
[{"$f":"IF(ISBLANK(InfoPro!A87),\"\",InfoPro!A87)","v":""},{"$f":"IF(ISBLANK(InfoPro!H87),\"\",InfoPro!H87)","v":""},{"$f":"IF(ISBLANK(InfoPro!B87),\"\",InfoPro!B87)","v":""},{"$f":"IF(ISBLANK(InfoPro!E87),\"\",InfoPro!E87)","v":""},{"$f":"IF(ISBLANK(InfoPro!C87),\"\",InfoPro!C87)","v":""},{"$f":"IF(ISBLANK(InfoPro!D87),\"\",InfoPro!D87)","v":""},{"$f":"IF(ISBLANK(InfoPro!L87),\"\",InfoPro!L87)","v":""},{"$f":"'IT-TA'!H87","v":""},{"$f":"IFERROR('BT-Confi'!Y94,\"\")","v":""},{"$f":"IFERROR('BT-Flex'!Y94,\"\")","v":""},{"$f":"IFERROR('EC-RE'!Z94,\"\")","v":""},{"$f":"IFERROR('EC-RP'!Z93,\"\")","v":""},{"$f":"IFERROR('EC-Per'!W93,\"\")","v":""},{"$f":"IFERROR('EC-Mar'!Y93,\"\")","v":""},"","","","","","","","",""]
[{"$f":"IF(ISBLANK(InfoPro!A88),\"\",InfoPro!A88)","v":""},{"$f":"IF(ISBLANK(InfoPro!H88),\"\",InfoPro!H88)","v":""},{"$f":"IF(ISBLANK(InfoPro!B88),\"\",InfoPro!B88)","v":""},{"$f":"IF(ISBLANK(InfoPro!E88),\"\",InfoPro!E88)","v":""},{"$f":"IF(ISBLANK(InfoPro!C88),\"\",InfoPro!C88)","v":""},{"$f":"IF(ISBLANK(InfoPro!D88),\"\",InfoPro!D88)","v":""},{"$f":"IF(ISBLANK(InfoPro!L88),\"\",InfoPro!L88)","v":""},{"$f":"'IT-TA'!H88","v":""},{"$f":"IFERROR('BT-Confi'!Y95,\"\")","v":""},{"$f":"IFERROR('BT-Flex'!Y95,\"\")","v":""},{"$f":"IFERROR('EC-RE'!Z95,\"\")","v":""},{"$f":"IFERROR('EC-RP'!Z94,\"\")","v":""},{"$f":"IFERROR('EC-Per'!W94,\"\")","v":""},{"$f":"IFERROR('EC-Mar'!Y94,\"\")","v":""},"","","","","","","","",""]
[{"$f":"IF(ISBLANK(InfoPro!A89),\"\",InfoPro!A89)","v":""},{"$f":"IF(ISBLANK(InfoPro!H89),\"\",InfoPro!H89)","v":""},{"$f":"IF(ISBLANK(InfoPro!B89),\"\",InfoPro!B89)","v":""},{"$f":"IF(ISBLANK(InfoPro!E89),\"\",InfoPro!E89)","v":""},{"$f":"IF(ISBLANK(InfoPro!C89),\"\",InfoPro!C89)","v":""},{"$f":"IF(ISBLANK(InfoPro!D89),\"\",InfoPro!D89)","v":""},{"$f":"IF(ISBLANK(InfoPro!L89),\"\",InfoPro!L89)","v":""},{"$f":"'IT-TA'!H89","v":""},{"$f":"IFERROR('BT-Confi'!Y96,\"\")","v":""},{"$f":"IFERROR('BT-Flex'!Y96,\"\")","v":""},{"$f":"IFERROR('EC-RE'!Z96,\"\")","v":""},{"$f":"IFERROR('EC-RP'!Z95,\"\")","v":""},{"$f":"IFERROR('EC-Per'!W95,\"\")","v":""},{"$f":"IFERROR('EC-Mar'!Y95,\"\")","v":""},"","","","","","","","",""]
[{"$f":"IF(ISBLANK(InfoPro!A90),\"\",InfoPro!A90)","v":""},{"$f":"IF(ISBLANK(InfoPro!H90),\"\",InfoPro!H90)","v":""},{"$f":"IF(ISBLANK(InfoPro!B90),\"\",InfoPro!B90)","v":""},{"$f":"IF(ISBLANK(InfoPro!E90),\"\",InfoPro!E90)","v":""},{"$f":"IF(ISBLANK(InfoPro!C90),\"\",InfoPro!C90)","v":""},{"$f":"IF(ISBLANK(InfoPro!D90),\"\",InfoPro!D90)","v":""},{"$f":"IF(ISBLANK(InfoPro!L90),\"\",InfoPro!L90)","v":""},{"$f":"'IT-TA'!H90","v":""},{"$f":"IFERROR('BT-Confi'!Y97,\"\")","v":""},{"$f":"IFERROR('BT-Flex'!Y97,\"\")","v":""},{"$f":"IFERROR('EC-RE'!Z97,\"\")","v":""},{"$f":"IFERROR('EC-RP'!Z96,\"\")","v":""},{"$f":"IFERROR('EC-Per'!W96,\"\")","v":""},{"$f":"IFERROR('EC-Mar'!Y96,\"\")","v":""},"","","","","","","","",""]
[{"$f":"IF(ISBLANK(InfoPro!A91),\"\",InfoPro!A91)","v":""},{"$f":"IF(ISBLANK(InfoPro!H91),\"\",InfoPro!H91)","v":""},{"$f":"IF(ISBLANK(InfoPro!B91),\"\",InfoPro!B91)","v":""},{"$f":"IF(ISBLANK(InfoPro!E91),\"\",InfoPro!E91)","v":""},{"$f":"IF(ISBLANK(InfoPro!C91),\"\",InfoPro!C91)","v":""},{"$f":"IF(ISBLANK(InfoPro!D91),\"\",InfoPro!D91)","v":""},{"$f":"IF(ISBLANK(InfoPro!L91),\"\",InfoPro!L91)","v":""},{"$f":"'IT-TA'!H91","v":""},{"$f":"IFERROR('BT-Confi'!Y98,\"\")","v":""},{"$f":"IFERROR('BT-Flex'!Y98,\"\")","v":""},{"$f":"IFERROR('EC-RE'!Z98,\"\")","v":""},{"$f":"IFERROR('EC-RP'!Z97,\"\")","v":""},{"$f":"IFERROR('EC-Per'!W97,\"\")","v":""},{"$f":"IFERROR('EC-Mar'!Y97,\"\")","v":""},"","","","","","","","",""]
[{"$f":"IF(ISBLANK(InfoPro!A92),\"\",InfoPro!A92)","v":""},{"$f":"IF(ISBLANK(InfoPro!H92),\"\",InfoPro!H92)","v":""},{"$f":"IF(ISBLANK(InfoPro!B92),\"\",InfoPro!B92)","v":""},{"$f":"IF(ISBLANK(InfoPro!E92),\"\",InfoPro!E92)","v":""},{"$f":"IF(ISBLANK(InfoPro!C92),\"\",InfoPro!C92)","v":""},{"$f":"IF(ISBLANK(InfoPro!D92),\"\",InfoPro!D92)","v":""},{"$f":"IF(ISBLANK(InfoPro!L92),\"\",InfoPro!L92)","v":""},{"$f":"'IT-TA'!H92","v":""},{"$f":"IFERROR('BT-Confi'!Y99,\"\")","v":""},{"$f":"IFERROR('BT-Flex'!Y99,\"\")","v":""},{"$f":"IFERROR('EC-RE'!Z99,\"\")","v":""},{"$f":"IFERROR('EC-RP'!Z98,\"\")","v":""},{"$f":"IFERROR('EC-Per'!W98,\"\")","v":""},{"$f":"IFERROR('EC-Mar'!Y98,\"\")","v":""},"","","","","","","","",""]
[{"$f":"IF(ISBLANK(InfoPro!A93),\"\",InfoPro!A93)","v":""},{"$f":"IF(ISBLANK(InfoPro!H93),\"\",InfoPro!H93)","v":""},{"$f":"IF(ISBLANK(InfoPro!B93),\"\",InfoPro!B93)","v":""},{"$f":"IF(ISBLANK(InfoPro!E93),\"\",InfoPro!E93)","v":""},{"$f":"IF(ISBLANK(InfoPro!C93),\"\",InfoPro!C93)","v":""},{"$f":"IF(ISBLANK(InfoPro!D93),\"\",InfoPro!D93)","v":""},{"$f":"IF(ISBLANK(InfoPro!L93),\"\",InfoPro!L93)","v":""},{"$f":"'IT-TA'!H93","v":""},{"$f":"IFERROR('BT-Confi'!Y100,\"\")","v":""},{"$f":"IFERROR('BT-Flex'!Y100,\"\")","v":""},{"$f":"IFERROR('EC-RE'!Z100,\"\")","v":""},{"$f":"IFERROR('EC-RP'!Z99,\"\")","v":""},{"$f":"IFERROR('EC-Per'!W99,\"\")","v":""},{"$f":"IFERROR('EC-Mar'!Y99,\"\")","v":""},"","","","","","","","",""]
[{"$f":"IF(ISBLANK(InfoPro!A94),\"\",InfoPro!A94)","v":""},{"$f":"IF(ISBLANK(InfoPro!H94),\"\",InfoPro!H94)","v":""},{"$f":"IF(ISBLANK(InfoPro!B94),\"\",InfoPro!B94)","v":""},{"$f":"IF(ISBLANK(InfoPro!E94),\"\",InfoPro!E94)","v":""},{"$f":"IF(ISBLANK(InfoPro!C94),\"\",InfoPro!C94)","v":""},{"$f":"IF(ISBLANK(InfoPro!D94),\"\",InfoPro!D94)","v":""},{"$f":"IF(ISBLANK(InfoPro!L94),\"\",InfoPro!L94)","v":""},{"$f":"'IT-TA'!H94","v":""},{"$f":"IFERROR('BT-Confi'!Y101,\"\")","v":""},{"$f":"IFERROR('BT-Flex'!Y101,\"\")","v":""},{"$f":"IFERROR('EC-RE'!Z101,\"\")","v":""},{"$f":"IFERROR('EC-RP'!Z100,\"\")","v":""},{"$f":"IFERROR('EC-Per'!W100,\"\")","v":""},{"$f":"IFERROR('EC-Mar'!Y100,\"\")","v":""},"","","","","","","","",""]
[{"$f":"IF(ISBLANK(InfoPro!A95),\"\",InfoPro!A95)","v":""},{"$f":"IF(ISBLANK(InfoPro!H95),\"\",InfoPro!H95)","v":""},{"$f":"IF(ISBLANK(InfoPro!B95),\"\",InfoPro!B95)","v":""},{"$f":"IF(ISBLANK(InfoPro!E95),\"\",InfoPro!E95)","v":""},{"$f":"IF(ISBLANK(InfoPro!C95),\"\",InfoPro!C95)","v":""},{"$f":"IF(ISBLANK(InfoPro!D95),\"\",InfoPro!D95)","v":""},{"$f":"IF(ISBLANK(InfoPro!L95),\"\",InfoPro!L95)","v":""},{"$f":"'IT-TA'!H95","v":""},{"$f":"IFERROR('BT-Confi'!Y102,\"\")","v":""},{"$f":"IFERROR('BT-Flex'!Y102,\"\")","v":""},{"$f":"IFERROR('EC-RE'!Z102,\"\")","v":""},{"$f":"IFERROR('EC-RP'!Z101,\"\")","v":""},{"$f":"IFERROR('EC-Per'!W101,\"\")","v":""},{"$f":"IFERROR('EC-Mar'!Y101,\"\")","v":""},"","","","","","","","",""]
[{"$f":"IF(ISBLANK(InfoPro!A96),\"\",InfoPro!A96)","v":""},{"$f":"IF(ISBLANK(InfoPro!H96),\"\",InfoPro!H96)","v":""},{"$f":"IF(ISBLANK(InfoPro!B96),\"\",InfoPro!B96)","v":""},{"$f":"IF(ISBLANK(InfoPro!E96),\"\",InfoPro!E96)","v":""},{"$f":"IF(ISBLANK(InfoPro!C96),\"\",InfoPro!C96)","v":""},{"$f":"IF(ISBLANK(InfoPro!D96),\"\",InfoPro!D96)","v":""},{"$f":"IF(ISBLANK(InfoPro!L96),\"\",InfoPro!L96)","v":""},{"$f":"'IT-TA'!H96","v":""},{"$f":"IFERROR('BT-Confi'!Y103,\"\")","v":""},{"$f":"IFERROR('BT-Flex'!Y103,\"\")","v":""},{"$f":"IFERROR('EC-RE'!Z103,\"\")","v":""},{"$f":"IFERROR('EC-RP'!Z102,\"\")","v":""},{"$f":"IFERROR('EC-Per'!W102,\"\")","v":""},{"$f":"IFERROR('EC-Mar'!Y102,\"\")","v":""},"","","","","","","","",""]
[{"$f":"IF(ISBLANK(InfoPro!A97),\"\",InfoPro!A97)","v":""},{"$f":"IF(ISBLANK(InfoPro!H97),\"\",InfoPro!H97)","v":""},{"$f":"IF(ISBLANK(InfoPro!B97),\"\",InfoPro!B97)","v":""},{"$f":"IF(ISBLANK(InfoPro!E97),\"\",InfoPro!E97)","v":""},{"$f":"IF(ISBLANK(InfoPro!C97),\"\",InfoPro!C97)","v":""},{"$f":"IF(ISBLANK(InfoPro!D97),\"\",InfoPro!D97)","v":""},{"$f":"IF(ISBLANK(InfoPro!L97),\"\",InfoPro!L97)","v":""},{"$f":"'IT-TA'!H97","v":""},{"$f":"IFERROR('BT-Confi'!Y104,\"\")","v":""},{"$f":"IFERROR('BT-Flex'!Y104,\"\")","v":""},{"$f":"IFERROR('EC-RE'!Z104,\"\")","v":""},{"$f":"IFERROR('EC-RP'!Z103,\"\")","v":""},{"$f":"IFERROR('EC-Per'!W103,\"\")","v":""},{"$f":"IFERROR('EC-Mar'!Y103,\"\")","v":""},"","","","","","","","",""]
[{"$f":"IF(ISBLANK(InfoPro!A98),\"\",InfoPro!A98)","v":""},{"$f":"IF(ISBLANK(InfoPro!H98),\"\",InfoPro!H98)","v":""},{"$f":"IF(ISBLANK(InfoPro!B98),\"\",InfoPro!B98)","v":""},{"$f":"IF(ISBLANK(InfoPro!E98),\"\",InfoPro!E98)","v":""},{"$f":"IF(ISBLANK(InfoPro!C98),\"\",InfoPro!C98)","v":""},{"$f":"IF(ISBLANK(InfoPro!D98),\"\",InfoPro!D98)","v":""},{"$f":"IF(ISBLANK(InfoPro!L98),\"\",InfoPro!L98)","v":""},{"$f":"'IT-TA'!H98","v":""},{"$f":"IFERROR('BT-Confi'!Y105,\"\")","v":""},{"$f":"IFERROR('BT-Flex'!Y105,\"\")","v":""},{"$f":"IFERROR('EC-RE'!Z105,\"\")","v":""},{"$f":"IFERROR('EC-RP'!Z104,\"\")","v":""},{"$f":"IFERROR('EC-Per'!W104,\"\")","v":""},{"$f":"IFERROR('EC-Mar'!Y104,\"\")","v":""},"","","","","","","","",""]
[{"$f":"IF(ISBLANK(InfoPro!A99),\"\",InfoPro!A99)","v":""},{"$f":"IF(ISBLANK(InfoPro!H99),\"\",InfoPro!H99)","v":""},{"$f":"IF(ISBLANK(InfoPro!B99),\"\",InfoPro!B99)","v":""},{"$f":"IF(ISBLANK(InfoPro!E99),\"\",InfoPro!E99)","v":""},{"$f":"IF(ISBLANK(InfoPro!C99),\"\",InfoPro!C99)","v":""},{"$f":"IF(ISBLANK(InfoPro!D99),\"\",InfoPro!D99)","v":""},{"$f":"IF(ISBLANK(InfoPro!L99),\"\",InfoPro!L99)","v":""},{"$f":"'IT-TA'!H99","v":""},{"$f":"IFERROR('BT-Confi'!Y106,\"\")","v":""},{"$f":"IFERROR('BT-Flex'!Y106,\"\")","v":""},{"$f":"IFERROR('EC-RE'!Z106,\"\")","v":""},{"$f":"IFERROR('EC-RP'!Z105,\"\")","v":""},{"$f":"IFERROR('EC-Per'!W105,\"\")","v":""},{"$f":"IFERROR('EC-Mar'!Y105,\"\")","v":""},"","","","","","","","",""]
[{"$f":"IF(ISBLANK(InfoPro!A100),\"\",InfoPro!A100)","v":""},{"$f":"IF(ISBLANK(InfoPro!H100),\"\",InfoPro!H100)","v":""},{"$f":"IF(ISBLANK(InfoPro!B100),\"\",InfoPro!B100)","v":""},{"$f":"IF(ISBLANK(InfoPro!E100),\"\",InfoPro!E100)","v":""},{"$f":"IF(ISBLANK(InfoPro!C100),\"\",InfoPro!C100)","v":""},{"$f":"IF(ISBLANK(InfoPro!D100),\"\",InfoPro!D100)","v":""},{"$f":"IF(ISBLANK(InfoPro!L100),\"\",InfoPro!L100)","v":""},{"$f":"'IT-TA'!H100","v":""},{"$f":"IFERROR('BT-Confi'!Y107,\"\")","v":""},{"$f":"IFERROR('BT-Flex'!Y107,\"\")","v":""},{"$f":"IFERROR('EC-RE'!Z107,\"\")","v":""},{"$f":"IFERROR('EC-RP'!Z106,\"\")","v":""},{"$f":"IFERROR('EC-Per'!W106,\"\")","v":""},{"$f":"IFERROR('EC-Mar'!Y106,\"\")","v":""},"","","","","","","","",""]
[{"$f":"IF(ISBLANK(InfoPro!A101),\"\",InfoPro!A101)","v":""},{"$f":"IF(ISBLANK(InfoPro!H101),\"\",InfoPro!H101)","v":""},{"$f":"IF(ISBLANK(InfoPro!B101),\"\",InfoPro!B101)","v":""},{"$f":"IF(ISBLANK(InfoPro!E101),\"\",InfoPro!E101)","v":""},{"$f":"IF(ISBLANK(InfoPro!C101),\"\",InfoPro!C101)","v":""},{"$f":"IF(ISBLANK(InfoPro!D101),\"\",InfoPro!D101)","v":""},{"$f":"IF(ISBLANK(InfoPro!L101),\"\",InfoPro!L101)","v":""},{"$f":"'IT-TA'!H101","v":""},{"$f":"IFERROR('BT-Confi'!Y108,\"\")","v":""},{"$f":"IFERROR('BT-Flex'!Y108,\"\")","v":""},{"$f":"IFERROR('EC-RE'!Z108,\"\")","v":""},{"$f":"IFERROR('EC-RP'!Z107,\"\")","v":""},{"$f":"IFERROR('EC-Per'!W107,\"\")","v":""},{"$f":"IFERROR('EC-Mar'!Y107,\"\")","v":""},"","","","","","","","",""]
[{"$f":"IF(ISBLANK(InfoPro!A102),\"\",InfoPro!A102)","v":""},{"$f":"IF(ISBLANK(InfoPro!H102),\"\",InfoPro!H102)","v":""},{"$f":"IF(ISBLANK(InfoPro!B102),\"\",InfoPro!B102)","v":""},{"$f":"IF(ISBLANK(InfoPro!E102),\"\",InfoPro!E102)","v":""},{"$f":"IF(ISBLANK(InfoPro!C102),\"\",InfoPro!C102)","v":""},{"$f":"IF(ISBLANK(InfoPro!D102),\"\",InfoPro!D102)","v":""},{"$f":"IF(ISBLANK(InfoPro!L102),\"\",InfoPro!L102)","v":""},{"$f":"'IT-TA'!H102","v":""},{"$f":"IFERROR('BT-Confi'!Y109,\"\")","v":""},{"$f":"IFERROR('BT-Flex'!Y109,\"\")","v":""},{"$f":"IFERROR('EC-RE'!Z109,\"\")","v":""},{"$f":"IFERROR('EC-RP'!Z108,\"\")","v":""},{"$f":"IFERROR('EC-Per'!W108,\"\")","v":""},{"$f":"IFERROR('EC-Mar'!Y108,\"\")","v":""},"","","","","","","","",""]
[{"$f":"IF(ISBLANK(InfoPro!A103),\"\",InfoPro!A103)","v":""},{"$f":"IF(ISBLANK(InfoPro!H103),\"\",InfoPro!H103)","v":""},{"$f":"IF(ISBLANK(InfoPro!B103),\"\",InfoPro!B103)","v":""},{"$f":"IF(ISBLANK(InfoPro!E103),\"\",InfoPro!E103)","v":""},{"$f":"IF(ISBLANK(InfoPro!C103),\"\",InfoPro!C103)","v":""},{"$f":"IF(ISBLANK(InfoPro!D103),\"\",InfoPro!D103)","v":""},{"$f":"IF(ISBLANK(InfoPro!L103),\"\",InfoPro!L103)","v":""},{"$f":"'IT-TA'!H103","v":""},{"$f":"IFERROR('BT-Confi'!Y110,\"\")","v":""},{"$f":"IFERROR('BT-Flex'!Y110,\"\")","v":""},{"$f":"IFERROR('EC-RE'!Z110,\"\")","v":""},{"$f":"IFERROR('EC-RP'!Z109,\"\")","v":""},{"$f":"IFERROR('EC-Per'!W109,\"\")","v":""},{"$f":"IFERROR('EC-Mar'!Y109,\"\")","v":""},"","","","","","","","",""]
[{"$f":"IF(ISBLANK(InfoPro!A104),\"\",InfoPro!A104)","v":""},{"$f":"IF(ISBLANK(InfoPro!H104),\"\",InfoPro!H104)","v":""},{"$f":"IF(ISBLANK(InfoPro!B104),\"\",InfoPro!B104)","v":""},{"$f":"IF(ISBLANK(InfoPro!E104),\"\",InfoPro!E104)","v":""},{"$f":"IF(ISBLANK(InfoPro!C104),\"\",InfoPro!C104)","v":""},{"$f":"IF(ISBLANK(InfoPro!D104),\"\",InfoPro!D104)","v":""},{"$f":"IF(ISBLANK(InfoPro!L104),\"\",InfoPro!L104)","v":""},{"$f":"'IT-TA'!H104","v":""},{"$f":"IFERROR('BT-Confi'!Y111,\"\")","v":""},{"$f":"IFERROR('BT-Flex'!Y111,\"\")","v":""},{"$f":"IFERROR('EC-RE'!Z111,\"\")","v":""},{"$f":"IFERROR('EC-RP'!Z110,\"\")","v":""},{"$f":"IFERROR('EC-Per'!W110,\"\")","v":""},{"$f":"IFERROR('EC-Mar'!Y110,\"\")","v":""},"","","","","","","","",""]
[{"$f":"IF(ISBLANK(InfoPro!A105),\"\",InfoPro!A105)","v":""},{"$f":"IF(ISBLANK(InfoPro!H105),\"\",InfoPro!H105)","v":""},{"$f":"IF(ISBLANK(InfoPro!B105),\"\",InfoPro!B105)","v":""},{"$f":"IF(ISBLANK(InfoPro!E105),\"\",InfoPro!E105)","v":""},{"$f":"IF(ISBLANK(InfoPro!C105),\"\",InfoPro!C105)","v":""},{"$f":"IF(ISBLANK(InfoPro!D105),\"\",InfoPro!D105)","v":""},{"$f":"IF(ISBLANK(InfoPro!L105),\"\",InfoPro!L105)","v":""},{"$f":"'IT-TA'!H105","v":""},{"$f":"IFERROR('BT-Confi'!Y112,\"\")","v":""},{"$f":"IFERROR('BT-Flex'!Y112,\"\")","v":""},{"$f":"IFERROR('EC-RE'!Z112,\"\")","v":""},{"$f":"IFERROR('EC-RP'!Z111,\"\")","v":""},{"$f":"IFERROR('EC-Per'!W111,\"\")","v":""},{"$f":"IFERROR('EC-Mar'!Y111,\"\")","v":""},"","","","","","","","",""]
[{"$f":"IF(ISBLANK(InfoPro!A106),\"\",InfoPro!A106)","v":""},{"$f":"IF(ISBLANK(InfoPro!H106),\"\",InfoPro!H106)","v":""},{"$f":"IF(ISBLANK(InfoPro!B106),\"\",InfoPro!B106)","v":""},{"$f":"IF(ISBLANK(InfoPro!E106),\"\",InfoPro!E106)","v":""},{"$f":"IF(ISBLANK(InfoPro!C106),\"\",InfoPro!C106)","v":""},{"$f":"IF(ISBLANK(InfoPro!D106),\"\",InfoPro!D106)","v":""},{"$f":"IF(ISBLANK(InfoPro!L106),\"\",InfoPro!L106)","v":""},{"$f":"'IT-TA'!H106","v":""},{"$f":"IFERROR('BT-Confi'!Y113,\"\")","v":""},{"$f":"IFERROR('BT-Flex'!Y113,\"\")","v":""},{"$f":"IFERROR('EC-RE'!Z113,\"\")","v":""},{"$f":"IFERROR('EC-RP'!Z112,\"\")","v":""},{"$f":"IFERROR('EC-Per'!W112,\"\")","v":""},{"$f":"IFERROR('EC-Mar'!Y112,\"\")","v":""},"","","","","","","","",""]
[{"$f":"IF(ISBLANK(InfoPro!A107),\"\",InfoPro!A107)","v":""},{"$f":"IF(ISBLANK(InfoPro!H107),\"\",InfoPro!H107)","v":""},{"$f":"IF(ISBLANK(InfoPro!B107),\"\",InfoPro!B107)","v":""},{"$f":"IF(ISBLANK(InfoPro!E107),\"\",InfoPro!E107)","v":""},{"$f":"IF(ISBLANK(InfoPro!C107),\"\",InfoPro!C107)","v":""},{"$f":"IF(ISBLANK(InfoPro!D107),\"\",InfoPro!D107)","v":""},{"$f":"IF(ISBLANK(InfoPro!L107),\"\",InfoPro!L107)","v":""},{"$f":"'IT-TA'!H107","v":""},{"$f":"IFERROR('BT-Confi'!Y114,\"\")","v":""},{"$f":"IFERROR('BT-Flex'!Y114,\"\")","v":""},{"$f":"IFERROR('EC-RE'!Z114,\"\")","v":""},{"$f":"IFERROR('EC-RP'!Z113,\"\")","v":""},{"$f":"IFERROR('EC-Per'!W113,\"\")","v":""},{"$f":"IFERROR('EC-Mar'!Y113,\"\")","v":""},"","","","","","","","",""]
[{"$f":"IF(ISBLANK(InfoPro!A108),\"\",InfoPro!A108)","v":""},{"$f":"IF(ISBLANK(InfoPro!H108),\"\",InfoPro!H108)","v":""},{"$f":"IF(ISBLANK(InfoPro!B108),\"\",InfoPro!B108)","v":""},{"$f":"IF(ISBLANK(InfoPro!E108),\"\",InfoPro!E108)","v":""},{"$f":"IF(ISBLANK(InfoPro!C108),\"\",InfoPro!C108)","v":""},{"$f":"IF(ISBLANK(InfoPro!D108),\"\",InfoPro!D108)","v":""},{"$f":"IF(ISBLANK(InfoPro!L108),\"\",InfoPro!L108)","v":""},{"$f":"'IT-TA'!H108","v":""},{"$f":"IFERROR('BT-Confi'!Y115,\"\")","v":""},{"$f":"IFERROR('BT-Flex'!Y115,\"\")","v":""},{"$f":"IFERROR('EC-RE'!Z115,\"\")","v":""},{"$f":"IFERROR('EC-RP'!Z114,\"\")","v":""},{"$f":"IFERROR('EC-Per'!W114,\"\")","v":""},{"$f":"IFERROR('EC-Mar'!Y114,\"\")","v":""},"","","","","","","","",""]
[{"$f":"IF(ISBLANK(InfoPro!A109),\"\",InfoPro!A109)","v":""},{"$f":"IF(ISBLANK(InfoPro!H109),\"\",InfoPro!H109)","v":""},{"$f":"IF(ISBLANK(InfoPro!B109),\"\",InfoPro!B109)","v":""},{"$f":"IF(ISBLANK(InfoPro!E109),\"\",InfoPro!E109)","v":""},{"$f":"IF(ISBLANK(InfoPro!C109),\"\",InfoPro!C109)","v":""},{"$f":"IF(ISBLANK(InfoPro!D109),\"\",InfoPro!D109)","v":""},{"$f":"IF(ISBLANK(InfoPro!L109),\"\",InfoPro!L109)","v":""},{"$f":"'IT-TA'!H109","v":""},{"$f":"IFERROR('BT-Confi'!Y116,\"\")","v":""},{"$f":"IFERROR('BT-Flex'!Y116,\"\")","v":""},{"$f":"IFERROR('EC-RE'!Z116,\"\")","v":""},{"$f":"IFERROR('EC-RP'!Z115,\"\")","v":""},{"$f":"IFERROR('EC-Per'!W115,\"\")","v":""},{"$f":"IFERROR('EC-Mar'!Y115,\"\")","v":""},"","","","","","","","",""]
[{"$f":"IF(ISBLANK(InfoPro!A110),\"\",InfoPro!A110)","v":""},{"$f":"IF(ISBLANK(InfoPro!H110),\"\",InfoPro!H110)","v":""},{"$f":"IF(ISBLANK(InfoPro!B110),\"\",InfoPro!B110)","v":""},{"$f":"IF(ISBLANK(InfoPro!E110),\"\",InfoPro!E110)","v":""},{"$f":"IF(ISBLANK(InfoPro!C110),\"\",InfoPro!C110)","v":""},{"$f":"IF(ISBLANK(InfoPro!D110),\"\",InfoPro!D110)","v":""},{"$f":"IF(ISBLANK(InfoPro!L110),\"\",InfoPro!L110)","v":""},{"$f":"'IT-TA'!H110","v":""},{"$f":"IFERROR('BT-Confi'!Y117,\"\")","v":""},{"$f":"IFERROR('BT-Flex'!Y117,\"\")","v":""},{"$f":"IFERROR('EC-RE'!Z117,\"\")","v":""},{"$f":"IFERROR('EC-RP'!Z116,\"\")","v":""},{"$f":"IFERROR('EC-Per'!W116,\"\")","v":""},{"$f":"IFERROR('EC-Mar'!Y116,\"\")","v":""},"","","","","","","","",""]
[{"$f":"IF(ISBLANK(InfoPro!A111),\"\",InfoPro!A111)","v":""},{"$f":"IF(ISBLANK(InfoPro!H111),\"\",InfoPro!H111)","v":""},{"$f":"IF(ISBLANK(InfoPro!B111),\"\",InfoPro!B111)","v":""},{"$f":"IF(ISBLANK(InfoPro!E111),\"\",InfoPro!E111)","v":""},{"$f":"IF(ISBLANK(InfoPro!C111),\"\",InfoPro!C111)","v":""},{"$f":"IF(ISBLANK(InfoPro!D111),\"\",InfoPro!D111)","v":""},{"$f":"IF(ISBLANK(InfoPro!L111),\"\",InfoPro!L111)","v":""},{"$f":"'IT-TA'!H111","v":""},{"$f":"IFERROR('BT-Confi'!Y118,\"\")","v":""},{"$f":"IFERROR('BT-Flex'!Y118,\"\")","v":""},{"$f":"IFERROR('EC-RE'!Z118,\"\")","v":""},{"$f":"IFERROR('EC-RP'!Z117,\"\")","v":""},{"$f":"IFERROR('EC-Per'!W117,\"\")","v":""},{"$f":"IFERROR('EC-Mar'!Y117,\"\")","v":""},"","","","","","","","",""]
[{"$f":"IF(ISBLANK(InfoPro!A112),\"\",InfoPro!A112)","v":""},{"$f":"IF(ISBLANK(InfoPro!H112),\"\",InfoPro!H112)","v":""},{"$f":"IF(ISBLANK(InfoPro!B112),\"\",InfoPro!B112)","v":""},{"$f":"IF(ISBLANK(InfoPro!E112),\"\",InfoPro!E112)","v":""},{"$f":"IF(ISBLANK(InfoPro!C112),\"\",InfoPro!C112)","v":""},{"$f":"IF(ISBLANK(InfoPro!D112),\"\",InfoPro!D112)","v":""},{"$f":"IF(ISBLANK(InfoPro!L112),\"\",InfoPro!L112)","v":""},{"$f":"'IT-TA'!H112","v":""},{"$f":"IFERROR('BT-Confi'!Y119,\"\")","v":""},{"$f":"IFERROR('BT-Flex'!Y119,\"\")","v":""},{"$f":"IFERROR('EC-RE'!Z119,\"\")","v":""},{"$f":"IFERROR('EC-RP'!Z118,\"\")","v":""},{"$f":"IFERROR('EC-Per'!W118,\"\")","v":""},{"$f":"IFERROR('EC-Mar'!Y118,\"\")","v":""},"","","","","","","","",""]
[{"$f":"IF(ISBLANK(InfoPro!A113),\"\",InfoPro!A113)","v":""},{"$f":"IF(ISBLANK(InfoPro!H113),\"\",InfoPro!H113)","v":""},{"$f":"IF(ISBLANK(InfoPro!B113),\"\",InfoPro!B113)","v":""},{"$f":"IF(ISBLANK(InfoPro!E113),\"\",InfoPro!E113)","v":""},{"$f":"IF(ISBLANK(InfoPro!C113),\"\",InfoPro!C113)","v":""},{"$f":"IF(ISBLANK(InfoPro!D113),\"\",InfoPro!D113)","v":""},{"$f":"IF(ISBLANK(InfoPro!L113),\"\",InfoPro!L113)","v":""},{"$f":"'IT-TA'!H113","v":""},{"$f":"IFERROR('BT-Confi'!Y120,\"\")","v":""},{"$f":"IFERROR('BT-Flex'!Y120,\"\")","v":""},{"$f":"IFERROR('EC-RE'!Z120,\"\")","v":""},{"$f":"IFERROR('EC-RP'!Z119,\"\")","v":""},{"$f":"IFERROR('EC-Per'!W119,\"\")","v":""},{"$f":"IFERROR('EC-Mar'!Y119,\"\")","v":""},"","","","","","","","",""]
[{"$f":"IF(ISBLANK(InfoPro!A114),\"\",InfoPro!A114)","v":""},{"$f":"IF(ISBLANK(InfoPro!H114),\"\",InfoPro!H114)","v":""},{"$f":"IF(ISBLANK(InfoPro!B114),\"\",InfoPro!B114)","v":""},{"$f":"IF(ISBLANK(InfoPro!E114),\"\",InfoPro!E114)","v":""},{"$f":"IF(ISBLANK(InfoPro!C114),\"\",InfoPro!C114)","v":""},{"$f":"IF(ISBLANK(InfoPro!D114),\"\",InfoPro!D114)","v":""},{"$f":"IF(ISBLANK(InfoPro!L114),\"\",InfoPro!L114)","v":""},{"$f":"'IT-TA'!H114","v":""},{"$f":"IFERROR('BT-Confi'!Y121,\"\")","v":""},{"$f":"IFERROR('BT-Flex'!Y121,\"\")","v":""},{"$f":"IFERROR('EC-RE'!Z121,\"\")","v":""},{"$f":"IFERROR('EC-RP'!Z120,\"\")","v":""},{"$f":"IFERROR('EC-Per'!W120,\"\")","v":""},{"$f":"IFERROR('EC-Mar'!Y120,\"\")","v":""},"","","","","","","","",""]
[{"$f":"IF(ISBLANK(InfoPro!A115),\"\",InfoPro!A115)","v":""},{"$f":"IF(ISBLANK(InfoPro!H115),\"\",InfoPro!H115)","v":""},{"$f":"IF(ISBLANK(InfoPro!B115),\"\",InfoPro!B115)","v":""},{"$f":"IF(ISBLANK(InfoPro!E115),\"\",InfoPro!E115)","v":""},{"$f":"IF(ISBLANK(InfoPro!C115),\"\",InfoPro!C115)","v":""},{"$f":"IF(ISBLANK(InfoPro!D115),\"\",InfoPro!D115)","v":""},{"$f":"IF(ISBLANK(InfoPro!L115),\"\",InfoPro!L115)","v":""},{"$f":"'IT-TA'!H115","v":""},{"$f":"IFERROR('BT-Confi'!Y122,\"\")","v":""},{"$f":"IFERROR('BT-Flex'!Y122,\"\")","v":""},{"$f":"IFERROR('EC-RE'!Z122,\"\")","v":""},{"$f":"IFERROR('EC-RP'!Z121,\"\")","v":""},{"$f":"IFERROR('EC-Per'!W121,\"\")","v":""},{"$f":"IFERROR('EC-Mar'!Y121,\"\")","v":""},"","","","","","","","",""]
[{"$f":"IF(ISBLANK(InfoPro!A116),\"\",InfoPro!A116)","v":""},{"$f":"IF(ISBLANK(InfoPro!H116),\"\",InfoPro!H116)","v":""},{"$f":"IF(ISBLANK(InfoPro!B116),\"\",InfoPro!B116)","v":""},{"$f":"IF(ISBLANK(InfoPro!E116),\"\",InfoPro!E116)","v":""},{"$f":"IF(ISBLANK(InfoPro!C116),\"\",InfoPro!C116)","v":""},{"$f":"IF(ISBLANK(InfoPro!D116),\"\",InfoPro!D116)","v":""},{"$f":"IF(ISBLANK(InfoPro!L116),\"\",InfoPro!L116)","v":""},{"$f":"'IT-TA'!H116","v":""},{"$f":"IFERROR('BT-Confi'!Y123,\"\")","v":""},{"$f":"IFERROR('BT-Flex'!Y123,\"\")","v":""},{"$f":"IFERROR('EC-RE'!Z123,\"\")","v":""},{"$f":"IFERROR('EC-RP'!Z122,\"\")","v":""},{"$f":"IFERROR('EC-Per'!W122,\"\")","v":""},{"$f":"IFERROR('EC-Mar'!Y122,\"\")","v":""},"","","","","","","","",""]
[{"$f":"IF(ISBLANK(InfoPro!A117),\"\",InfoPro!A117)","v":""},{"$f":"IF(ISBLANK(InfoPro!H117),\"\",InfoPro!H117)","v":""},{"$f":"IF(ISBLANK(InfoPro!B117),\"\",InfoPro!B117)","v":""},{"$f":"IF(ISBLANK(InfoPro!E117),\"\",InfoPro!E117)","v":""},{"$f":"IF(ISBLANK(InfoPro!C117),\"\",InfoPro!C117)","v":""},{"$f":"IF(ISBLANK(InfoPro!D117),\"\",InfoPro!D117)","v":""},{"$f":"IF(ISBLANK(InfoPro!L117),\"\",InfoPro!L117)","v":""},{"$f":"'IT-TA'!H117","v":""},{"$f":"IFERROR('BT-Confi'!Y124,\"\")","v":""},{"$f":"IFERROR('BT-Flex'!Y124,\"\")","v":""},{"$f":"IFERROR('EC-RE'!Z124,\"\")","v":""},{"$f":"IFERROR('EC-RP'!Z123,\"\")","v":""},{"$f":"IFERROR('EC-Per'!W123,\"\")","v":""},{"$f":"IFERROR('EC-Mar'!Y123,\"\")","v":""},"","","","","","","","",""]
[{"$f":"IF(ISBLANK(InfoPro!A118),\"\",InfoPro!A118)","v":""},{"$f":"IF(ISBLANK(InfoPro!H118),\"\",InfoPro!H118)","v":""},{"$f":"IF(ISBLANK(InfoPro!B118),\"\",InfoPro!B118)","v":""},{"$f":"IF(ISBLANK(InfoPro!E118),\"\",InfoPro!E118)","v":""},{"$f":"IF(ISBLANK(InfoPro!C118),\"\",InfoPro!C118)","v":""},{"$f":"IF(ISBLANK(InfoPro!D118),\"\",InfoPro!D118)","v":""},{"$f":"IF(ISBLANK(InfoPro!L118),\"\",InfoPro!L118)","v":""},{"$f":"'IT-TA'!H118","v":""},{"$f":"IFERROR('BT-Confi'!Y125,\"\")","v":""},{"$f":"IFERROR('BT-Flex'!Y125,\"\")","v":""},{"$f":"IFERROR('EC-RE'!Z125,\"\")","v":""},{"$f":"IFERROR('EC-RP'!Z124,\"\")","v":""},{"$f":"IFERROR('EC-Per'!W124,\"\")","v":""},{"$f":"IFERROR('EC-Mar'!Y124,\"\")","v":""},"","","","","","","","",""]
[{"$f":"IF(ISBLANK(InfoPro!A119),\"\",InfoPro!A119)","v":""},{"$f":"IF(ISBLANK(InfoPro!H119),\"\",InfoPro!H119)","v":""},{"$f":"IF(ISBLANK(InfoPro!B119),\"\",InfoPro!B119)","v":""},{"$f":"IF(ISBLANK(InfoPro!E119),\"\",InfoPro!E119)","v":""},{"$f":"IF(ISBLANK(InfoPro!C119),\"\",InfoPro!C119)","v":""},{"$f":"IF(ISBLANK(InfoPro!D119),\"\",InfoPro!D119)","v":""},{"$f":"IF(ISBLANK(InfoPro!L119),\"\",InfoPro!L119)","v":""},{"$f":"'IT-TA'!H119","v":""},{"$f":"IFERROR('BT-Confi'!Y126,\"\")","v":""},{"$f":"IFERROR('BT-Flex'!Y126,\"\")","v":""},{"$f":"IFERROR('EC-RE'!Z126,\"\")","v":""},{"$f":"IFERROR('EC-RP'!Z125,\"\")","v":""},{"$f":"IFERROR('EC-Per'!W125,\"\")","v":""},{"$f":"IFERROR('EC-Mar'!Y125,\"\")","v":""},"","","","","","","","",""]
[{"$f":"IF(ISBLANK(InfoPro!A120),\"\",InfoPro!A120)","v":""},{"$f":"IF(ISBLANK(InfoPro!H120),\"\",InfoPro!H120)","v":""},{"$f":"IF(ISBLANK(InfoPro!B120),\"\",InfoPro!B120)","v":""},{"$f":"IF(ISBLANK(InfoPro!E120),\"\",InfoPro!E120)","v":""},{"$f":"IF(ISBLANK(InfoPro!C120),\"\",InfoPro!C120)","v":""},{"$f":"IF(ISBLANK(InfoPro!D120),\"\",InfoPro!D120)","v":""},{"$f":"IF(ISBLANK(InfoPro!L120),\"\",InfoPro!L120)","v":""},{"$f":"'IT-TA'!H120","v":""},{"$f":"IFERROR('BT-Confi'!Y127,\"\")","v":""},{"$f":"IFERROR('BT-Flex'!Y127,\"\")","v":""},{"$f":"IFERROR('EC-RE'!Z127,\"\")","v":""},{"$f":"IFERROR('EC-RP'!Z126,\"\")","v":""},{"$f":"IFERROR('EC-Per'!W126,\"\")","v":""},{"$f":"IFERROR('EC-Mar'!Y126,\"\")","v":""},"","","","","","","","",""]
[{"$f":"IF(ISBLANK(InfoPro!A121),\"\",InfoPro!A121)","v":""},{"$f":"IF(ISBLANK(InfoPro!H121),\"\",InfoPro!H121)","v":""},{"$f":"IF(ISBLANK(InfoPro!B121),\"\",InfoPro!B121)","v":""},{"$f":"IF(ISBLANK(InfoPro!E121),\"\",InfoPro!E121)","v":""},{"$f":"IF(ISBLANK(InfoPro!C121),\"\",InfoPro!C121)","v":""},{"$f":"IF(ISBLANK(InfoPro!D121),\"\",InfoPro!D121)","v":""},{"$f":"IF(ISBLANK(InfoPro!L121),\"\",InfoPro!L121)","v":""},{"$f":"'IT-TA'!H121","v":""},{"$f":"IFERROR('BT-Confi'!Y128,\"\")","v":""},{"$f":"IFERROR('BT-Flex'!Y128,\"\")","v":""},{"$f":"IFERROR('EC-RE'!Z128,\"\")","v":""},{"$f":"IFERROR('EC-RP'!Z127,\"\")","v":""},{"$f":"IFERROR('EC-Per'!W127,\"\")","v":""},{"$f":"IFERROR('EC-Mar'!Y127,\"\")","v":""},"","","","","","","","",""]
[{"$f":"IF(ISBLANK(InfoPro!A122),\"\",InfoPro!A122)","v":""},{"$f":"IF(ISBLANK(InfoPro!H122),\"\",InfoPro!H122)","v":""},{"$f":"IF(ISBLANK(InfoPro!B122),\"\",InfoPro!B122)","v":""},{"$f":"IF(ISBLANK(InfoPro!E122),\"\",InfoPro!E122)","v":""},{"$f":"IF(ISBLANK(InfoPro!C122),\"\",InfoPro!C122)","v":""},{"$f":"IF(ISBLANK(InfoPro!D122),\"\",InfoPro!D122)","v":""},{"$f":"IF(ISBLANK(InfoPro!L122),\"\",InfoPro!L122)","v":""},{"$f":"'IT-TA'!H122","v":""},{"$f":"IFERROR('BT-Confi'!Y129,\"\")","v":""},{"$f":"IFERROR('BT-Flex'!Y129,\"\")","v":""},{"$f":"IFERROR('EC-RE'!Z129,\"\")","v":""},{"$f":"IFERROR('EC-RP'!Z128,\"\")","v":""},{"$f":"IFERROR('EC-Per'!W128,\"\")","v":""},{"$f":"IFERROR('EC-Mar'!Y128,\"\")","v":""},"","","","","","","","",""]
[{"$f":"IF(ISBLANK(InfoPro!A123),\"\",InfoPro!A123)","v":""},{"$f":"IF(ISBLANK(InfoPro!H123),\"\",InfoPro!H123)","v":""},{"$f":"IF(ISBLANK(InfoPro!B123),\"\",InfoPro!B123)","v":""},{"$f":"IF(ISBLANK(InfoPro!E123),\"\",InfoPro!E123)","v":""},{"$f":"IF(ISBLANK(InfoPro!C123),\"\",InfoPro!C123)","v":""},{"$f":"IF(ISBLANK(InfoPro!D123),\"\",InfoPro!D123)","v":""},{"$f":"IF(ISBLANK(InfoPro!L123),\"\",InfoPro!L123)","v":""},{"$f":"'IT-TA'!H123","v":""},{"$f":"IFERROR('BT-Confi'!Y130,\"\")","v":""},{"$f":"IFERROR('BT-Flex'!Y130,\"\")","v":""},{"$f":"IFERROR('EC-RE'!Z130,\"\")","v":""},{"$f":"IFERROR('EC-RP'!Z129,\"\")","v":""},{"$f":"IFERROR('EC-Per'!W129,\"\")","v":""},{"$f":"IFERROR('EC-Mar'!Y129,\"\")","v":""},"","","","","","","","",""]
[{"$f":"IF(ISBLANK(InfoPro!A124),\"\",InfoPro!A124)","v":""},{"$f":"IF(ISBLANK(InfoPro!H124),\"\",InfoPro!H124)","v":""},{"$f":"IF(ISBLANK(InfoPro!B124),\"\",InfoPro!B124)","v":""},{"$f":"IF(ISBLANK(InfoPro!E124),\"\",InfoPro!E124)","v":""},{"$f":"IF(ISBLANK(InfoPro!C124),\"\",InfoPro!C124)","v":""},{"$f":"IF(ISBLANK(InfoPro!D124),\"\",InfoPro!D124)","v":""},{"$f":"IF(ISBLANK(InfoPro!L124),\"\",InfoPro!L124)","v":""},{"$f":"'IT-TA'!H124","v":""},{"$f":"IFERROR('BT-Confi'!Y131,\"\")","v":""},{"$f":"IFERROR('BT-Flex'!Y131,\"\")","v":""},{"$f":"IFERROR('EC-RE'!Z131,\"\")","v":""},{"$f":"IFERROR('EC-RP'!Z130,\"\")","v":""},{"$f":"IFERROR('EC-Per'!W130,\"\")","v":""},{"$f":"IFERROR('EC-Mar'!Y130,\"\")","v":""},"","","","","","","","",""]
[{"$f":"IF(ISBLANK(InfoPro!A125),\"\",InfoPro!A125)","v":""},{"$f":"IF(ISBLANK(InfoPro!H125),\"\",InfoPro!H125)","v":""},{"$f":"IF(ISBLANK(InfoPro!B125),\"\",InfoPro!B125)","v":""},{"$f":"IF(ISBLANK(InfoPro!E125),\"\",InfoPro!E125)","v":""},{"$f":"IF(ISBLANK(InfoPro!C125),\"\",InfoPro!C125)","v":""},{"$f":"IF(ISBLANK(InfoPro!D125),\"\",InfoPro!D125)","v":""},{"$f":"IF(ISBLANK(InfoPro!L125),\"\",InfoPro!L125)","v":""},{"$f":"'IT-TA'!H125","v":""},{"$f":"IFERROR('BT-Confi'!Y132,\"\")","v":""},{"$f":"IFERROR('BT-Flex'!Y132,\"\")","v":""},{"$f":"IFERROR('EC-RE'!Z132,\"\")","v":""},{"$f":"IFERROR('EC-RP'!Z131,\"\")","v":""},{"$f":"IFERROR('EC-Per'!W131,\"\")","v":""},{"$f":"IFERROR('EC-Mar'!Y131,\"\")","v":""},"","","","","","","","",""]
[{"$f":"IF(ISBLANK(InfoPro!A126),\"\",InfoPro!A126)","v":""},{"$f":"IF(ISBLANK(InfoPro!H126),\"\",InfoPro!H126)","v":""},{"$f":"IF(ISBLANK(InfoPro!B126),\"\",InfoPro!B126)","v":""},{"$f":"IF(ISBLANK(InfoPro!E126),\"\",InfoPro!E126)","v":""},{"$f":"IF(ISBLANK(InfoPro!C126),\"\",InfoPro!C126)","v":""},{"$f":"IF(ISBLANK(InfoPro!D126),\"\",InfoPro!D126)","v":""},{"$f":"IF(ISBLANK(InfoPro!L126),\"\",InfoPro!L126)","v":""},{"$f":"'IT-TA'!H126","v":""},{"$f":"IFERROR('BT-Confi'!Y133,\"\")","v":""},{"$f":"IFERROR('BT-Flex'!Y133,\"\")","v":""},{"$f":"IFERROR('EC-RE'!Z133,\"\")","v":""},{"$f":"IFERROR('EC-RP'!Z132,\"\")","v":""},{"$f":"IFERROR('EC-Per'!W132,\"\")","v":""},{"$f":"IFERROR('EC-Mar'!Y132,\"\")","v":""},"","","","","","","","",""]
[{"$f":"IF(ISBLANK(InfoPro!A127),\"\",InfoPro!A127)","v":""},{"$f":"IF(ISBLANK(InfoPro!H127),\"\",InfoPro!H127)","v":""},{"$f":"IF(ISBLANK(InfoPro!B127),\"\",InfoPro!B127)","v":""},{"$f":"IF(ISBLANK(InfoPro!E127),\"\",InfoPro!E127)","v":""},{"$f":"IF(ISBLANK(InfoPro!C127),\"\",InfoPro!C127)","v":""},{"$f":"IF(ISBLANK(InfoPro!D127),\"\",InfoPro!D127)","v":""},{"$f":"IF(ISBLANK(InfoPro!L127),\"\",InfoPro!L127)","v":""},{"$f":"'IT-TA'!H127","v":""},{"$f":"IFERROR('BT-Confi'!Y134,\"\")","v":""},{"$f":"IFERROR('BT-Flex'!Y134,\"\")","v":""},{"$f":"IFERROR('EC-RE'!Z134,\"\")","v":""},{"$f":"IFERROR('EC-RP'!Z133,\"\")","v":""},{"$f":"IFERROR('EC-Per'!W133,\"\")","v":""},{"$f":"IFERROR('EC-Mar'!Y133,\"\")","v":""},"","","","","","","","",""]
[{"$f":"IF(ISBLANK(InfoPro!A128),\"\",InfoPro!A128)","v":""},{"$f":"IF(ISBLANK(InfoPro!H128),\"\",InfoPro!H128)","v":""},{"$f":"IF(ISBLANK(InfoPro!B128),\"\",InfoPro!B128)","v":""},{"$f":"IF(ISBLANK(InfoPro!E128),\"\",InfoPro!E128)","v":""},{"$f":"IF(ISBLANK(InfoPro!C128),\"\",InfoPro!C128)","v":""},{"$f":"IF(ISBLANK(InfoPro!D128),\"\",InfoPro!D128)","v":""},{"$f":"IF(ISBLANK(InfoPro!L128),\"\",InfoPro!L128)","v":""},{"$f":"'IT-TA'!H128","v":""},{"$f":"IFERROR('BT-Confi'!Y135,\"\")","v":""},{"$f":"IFERROR('BT-Flex'!Y135,\"\")","v":""},{"$f":"IFERROR('EC-RE'!Z135,\"\")","v":""},{"$f":"IFERROR('EC-RP'!Z134,\"\")","v":""},{"$f":"IFERROR('EC-Per'!W134,\"\")","v":""},{"$f":"IFERROR('EC-Mar'!Y134,\"\")","v":""},"","","","","","","","",""]
[{"$f":"IF(ISBLANK(InfoPro!A129),\"\",InfoPro!A129)","v":""},{"$f":"IF(ISBLANK(InfoPro!H129),\"\",InfoPro!H129)","v":""},{"$f":"IF(ISBLANK(InfoPro!B129),\"\",InfoPro!B129)","v":""},{"$f":"IF(ISBLANK(InfoPro!E129),\"\",InfoPro!E129)","v":""},{"$f":"IF(ISBLANK(InfoPro!C129),\"\",InfoPro!C129)","v":""},{"$f":"IF(ISBLANK(InfoPro!D129),\"\",InfoPro!D129)","v":""},{"$f":"IF(ISBLANK(InfoPro!L129),\"\",InfoPro!L129)","v":""},{"$f":"'IT-TA'!H129","v":""},{"$f":"IFERROR('BT-Confi'!Y136,\"\")","v":""},{"$f":"IFERROR('BT-Flex'!Y136,\"\")","v":""},{"$f":"IFERROR('EC-RE'!Z136,\"\")","v":""},{"$f":"IFERROR('EC-RP'!Z135,\"\")","v":""},{"$f":"IFERROR('EC-Per'!W135,\"\")","v":""},{"$f":"IFERROR('EC-Mar'!Y135,\"\")","v":""},"","","","","","","","",""]
[{"$f":"IF(ISBLANK(InfoPro!A130),\"\",InfoPro!A130)","v":""},{"$f":"IF(ISBLANK(InfoPro!H130),\"\",InfoPro!H130)","v":""},{"$f":"IF(ISBLANK(InfoPro!B130),\"\",InfoPro!B130)","v":""},{"$f":"IF(ISBLANK(InfoPro!E130),\"\",InfoPro!E130)","v":""},{"$f":"IF(ISBLANK(InfoPro!C130),\"\",InfoPro!C130)","v":""},{"$f":"IF(ISBLANK(InfoPro!D130),\"\",InfoPro!D130)","v":""},{"$f":"IF(ISBLANK(InfoPro!L130),\"\",InfoPro!L130)","v":""},{"$f":"'IT-TA'!H130","v":""},{"$f":"IFERROR('BT-Confi'!Y137,\"\")","v":""},{"$f":"IFERROR('BT-Flex'!Y137,\"\")","v":""},{"$f":"IFERROR('EC-RE'!Z137,\"\")","v":""},{"$f":"IFERROR('EC-RP'!Z136,\"\")","v":""},{"$f":"IFERROR('EC-Per'!W136,\"\")","v":""},{"$f":"IFERROR('EC-Mar'!Y136,\"\")","v":""},"","","","","","","","",""]
[{"$f":"IF(ISBLANK(InfoPro!A131),\"\",InfoPro!A131)","v":""},{"$f":"IF(ISBLANK(InfoPro!H131),\"\",InfoPro!H131)","v":""},{"$f":"IF(ISBLANK(InfoPro!B131),\"\",InfoPro!B131)","v":""},{"$f":"IF(ISBLANK(InfoPro!E131),\"\",InfoPro!E131)","v":""},{"$f":"IF(ISBLANK(InfoPro!C131),\"\",InfoPro!C131)","v":""},{"$f":"IF(ISBLANK(InfoPro!D131),\"\",InfoPro!D131)","v":""},{"$f":"IF(ISBLANK(InfoPro!L131),\"\",InfoPro!L131)","v":""},{"$f":"'IT-TA'!H131","v":""},{"$f":"IFERROR('BT-Confi'!Y138,\"\")","v":""},{"$f":"IFERROR('BT-Flex'!Y138,\"\")","v":""},{"$f":"IFERROR('EC-RE'!Z138,\"\")","v":""},{"$f":"IFERROR('EC-RP'!Z137,\"\")","v":""},{"$f":"IFERROR('EC-Per'!W137,\"\")","v":""},{"$f":"IFERROR('EC-Mar'!Y137,\"\")","v":""},"","","","","","","","",""]
[{"$f":"IF(ISBLANK(InfoPro!A132),\"\",InfoPro!A132)","v":""},{"$f":"IF(ISBLANK(InfoPro!H132),\"\",InfoPro!H132)","v":""},{"$f":"IF(ISBLANK(InfoPro!B132),\"\",InfoPro!B132)","v":""},{"$f":"IF(ISBLANK(InfoPro!E132),\"\",InfoPro!E132)","v":""},{"$f":"IF(ISBLANK(InfoPro!C132),\"\",InfoPro!C132)","v":""},{"$f":"IF(ISBLANK(InfoPro!D132),\"\",InfoPro!D132)","v":""},{"$f":"IF(ISBLANK(InfoPro!L132),\"\",InfoPro!L132)","v":""},{"$f":"'IT-TA'!H132","v":""},{"$f":"IFERROR('BT-Confi'!Y139,\"\")","v":""},{"$f":"IFERROR('BT-Flex'!Y139,\"\")","v":""},{"$f":"IFERROR('EC-RE'!Z139,\"\")","v":""},{"$f":"IFERROR('EC-RP'!Z138,\"\")","v":""},{"$f":"IFERROR('EC-Per'!W138,\"\")","v":""},{"$f":"IFERROR('EC-Mar'!Y138,\"\")","v":""},"","","","","","","","",""]
[{"$f":"IF(ISBLANK(InfoPro!A133),\"\",InfoPro!A133)","v":""},{"$f":"IF(ISBLANK(InfoPro!H133),\"\",InfoPro!H133)","v":""},{"$f":"IF(ISBLANK(InfoPro!B133),\"\",InfoPro!B133)","v":""},{"$f":"IF(ISBLANK(InfoPro!E133),\"\",InfoPro!E133)","v":""},{"$f":"IF(ISBLANK(InfoPro!C133),\"\",InfoPro!C133)","v":""},{"$f":"IF(ISBLANK(InfoPro!D133),\"\",InfoPro!D133)","v":""},{"$f":"IF(ISBLANK(InfoPro!L133),\"\",InfoPro!L133)","v":""},{"$f":"'IT-TA'!H133","v":""},{"$f":"IFERROR('BT-Confi'!Y140,\"\")","v":""},{"$f":"IFERROR('BT-Flex'!Y140,\"\")","v":""},{"$f":"IFERROR('EC-RE'!Z140,\"\")","v":""},{"$f":"IFERROR('EC-RP'!Z139,\"\")","v":""},{"$f":"IFERROR('EC-Per'!W139,\"\")","v":""},{"$f":"IFERROR('EC-Mar'!Y139,\"\")","v":""},"","","","","","","","",""]
[{"$f":"IF(ISBLANK(InfoPro!A134),\"\",InfoPro!A134)","v":""},{"$f":"IF(ISBLANK(InfoPro!H134),\"\",InfoPro!H134)","v":""},{"$f":"IF(ISBLANK(InfoPro!B134),\"\",InfoPro!B134)","v":""},{"$f":"IF(ISBLANK(InfoPro!E134),\"\",InfoPro!E134)","v":""},{"$f":"IF(ISBLANK(InfoPro!C134),\"\",InfoPro!C134)","v":""},{"$f":"IF(ISBLANK(InfoPro!D134),\"\",InfoPro!D134)","v":""},{"$f":"IF(ISBLANK(InfoPro!L134),\"\",InfoPro!L134)","v":""},{"$f":"'IT-TA'!H134","v":""},{"$f":"IFERROR('BT-Confi'!Y141,\"\")","v":""},{"$f":"IFERROR('BT-Flex'!Y141,\"\")","v":""},{"$f":"IFERROR('EC-RE'!Z141,\"\")","v":""},{"$f":"IFERROR('EC-RP'!Z140,\"\")","v":""},{"$f":"IFERROR('EC-Per'!W140,\"\")","v":""},{"$f":"IFERROR('EC-Mar'!Y140,\"\")","v":""},"","","","","","","","",""]
[{"$f":"IF(ISBLANK(InfoPro!A135),\"\",InfoPro!A135)","v":""},{"$f":"IF(ISBLANK(InfoPro!H135),\"\",InfoPro!H135)","v":""},{"$f":"IF(ISBLANK(InfoPro!B135),\"\",InfoPro!B135)","v":""},{"$f":"IF(ISBLANK(InfoPro!E135),\"\",InfoPro!E135)","v":""},{"$f":"IF(ISBLANK(InfoPro!C135),\"\",InfoPro!C135)","v":""},{"$f":"IF(ISBLANK(InfoPro!D135),\"\",InfoPro!D135)","v":""},{"$f":"IF(ISBLANK(InfoPro!L135),\"\",InfoPro!L135)","v":""},{"$f":"'IT-TA'!H135","v":""},{"$f":"IFERROR('BT-Confi'!Y142,\"\")","v":""},{"$f":"IFERROR('BT-Flex'!Y142,\"\")","v":""},{"$f":"IFERROR('EC-RE'!Z142,\"\")","v":""},{"$f":"IFERROR('EC-RP'!Z141,\"\")","v":""},{"$f":"IFERROR('EC-Per'!W141,\"\")","v":""},{"$f":"IFERROR('EC-Mar'!Y141,\"\")","v":""},"","","","","","","","",""]
[{"$f":"IF(ISBLANK(InfoPro!A136),\"\",InfoPro!A136)","v":""},{"$f":"IF(ISBLANK(InfoPro!H136),\"\",InfoPro!H136)","v":""},{"$f":"IF(ISBLANK(InfoPro!B136),\"\",InfoPro!B136)","v":""},{"$f":"IF(ISBLANK(InfoPro!E136),\"\",InfoPro!E136)","v":""},{"$f":"IF(ISBLANK(InfoPro!C136),\"\",InfoPro!C136)","v":""},{"$f":"IF(ISBLANK(InfoPro!D136),\"\",InfoPro!D136)","v":""},{"$f":"IF(ISBLANK(InfoPro!L136),\"\",InfoPro!L136)","v":""},{"$f":"'IT-TA'!H136","v":""},{"$f":"IFERROR('BT-Confi'!Y143,\"\")","v":""},{"$f":"IFERROR('BT-Flex'!Y143,\"\")","v":""},{"$f":"IFERROR('EC-RE'!Z143,\"\")","v":""},{"$f":"IFERROR('EC-RP'!Z142,\"\")","v":""},{"$f":"IFERROR('EC-Per'!W142,\"\")","v":""},{"$f":"IFERROR('EC-Mar'!Y142,\"\")","v":""},"","","","","","","","",""]
[{"$f":"IF(ISBLANK(InfoPro!A137),\"\",InfoPro!A137)","v":""},{"$f":"IF(ISBLANK(InfoPro!H137),\"\",InfoPro!H137)","v":""},{"$f":"IF(ISBLANK(InfoPro!B137),\"\",InfoPro!B137)","v":""},{"$f":"IF(ISBLANK(InfoPro!E137),\"\",InfoPro!E137)","v":""},{"$f":"IF(ISBLANK(InfoPro!C137),\"\",InfoPro!C137)","v":""},{"$f":"IF(ISBLANK(InfoPro!D137),\"\",InfoPro!D137)","v":""},{"$f":"IF(ISBLANK(InfoPro!L137),\"\",InfoPro!L137)","v":""},{"$f":"'IT-TA'!H137","v":""},{"$f":"IFERROR('BT-Confi'!Y144,\"\")","v":""},{"$f":"IFERROR('BT-Flex'!Y144,\"\")","v":""},{"$f":"IFERROR('EC-RE'!Z144,\"\")","v":""},{"$f":"IFERROR('EC-RP'!Z143,\"\")","v":""},{"$f":"IFERROR('EC-Per'!W143,\"\")","v":""},{"$f":"IFERROR('EC-Mar'!Y143,\"\")","v":""},"","","","","","","","",""]
[{"$f":"IF(ISBLANK(InfoPro!A138),\"\",InfoPro!A138)","v":""},{"$f":"IF(ISBLANK(InfoPro!H138),\"\",InfoPro!H138)","v":""},{"$f":"IF(ISBLANK(InfoPro!B138),\"\",InfoPro!B138)","v":""},{"$f":"IF(ISBLANK(InfoPro!E138),\"\",InfoPro!E138)","v":""},{"$f":"IF(ISBLANK(InfoPro!C138),\"\",InfoPro!C138)","v":""},{"$f":"IF(ISBLANK(InfoPro!D138),\"\",InfoPro!D138)","v":""},{"$f":"IF(ISBLANK(InfoPro!L138),\"\",InfoPro!L138)","v":""},{"$f":"'IT-TA'!H138","v":""},{"$f":"IFERROR('BT-Confi'!Y145,\"\")","v":""},{"$f":"IFERROR('BT-Flex'!Y145,\"\")","v":""},{"$f":"IFERROR('EC-RE'!Z145,\"\")","v":""},{"$f":"IFERROR('EC-RP'!Z144,\"\")","v":""},{"$f":"IFERROR('EC-Per'!W144,\"\")","v":""},{"$f":"IFERROR('EC-Mar'!Y144,\"\")","v":""},"","","","","","","","",""]
[{"$f":"IF(ISBLANK(InfoPro!A139),\"\",InfoPro!A139)","v":""},{"$f":"IF(ISBLANK(InfoPro!H139),\"\",InfoPro!H139)","v":""},{"$f":"IF(ISBLANK(InfoPro!B139),\"\",InfoPro!B139)","v":""},{"$f":"IF(ISBLANK(InfoPro!E139),\"\",InfoPro!E139)","v":""},{"$f":"IF(ISBLANK(InfoPro!C139),\"\",InfoPro!C139)","v":""},{"$f":"IF(ISBLANK(InfoPro!D139),\"\",InfoPro!D139)","v":""},{"$f":"IF(ISBLANK(InfoPro!L139),\"\",InfoPro!L139)","v":""},{"$f":"'IT-TA'!H139","v":""},{"$f":"IFERROR('BT-Confi'!Y146,\"\")","v":""},{"$f":"IFERROR('BT-Flex'!Y146,\"\")","v":""},{"$f":"IFERROR('EC-RE'!Z146,\"\")","v":""},{"$f":"IFERROR('EC-RP'!Z145,\"\")","v":""},{"$f":"IFERROR('EC-Per'!W145,\"\")","v":""},{"$f":"IFERROR('EC-Mar'!Y145,\"\")","v":""},"","","","","","","","",""]
[{"$f":"IF(ISBLANK(InfoPro!A140),\"\",InfoPro!A140)","v":""},{"$f":"IF(ISBLANK(InfoPro!H140),\"\",InfoPro!H140)","v":""},{"$f":"IF(ISBLANK(InfoPro!B140),\"\",InfoPro!B140)","v":""},{"$f":"IF(ISBLANK(InfoPro!E140),\"\",InfoPro!E140)","v":""},{"$f":"IF(ISBLANK(InfoPro!C140),\"\",InfoPro!C140)","v":""},{"$f":"IF(ISBLANK(InfoPro!D140),\"\",InfoPro!D140)","v":""},{"$f":"IF(ISBLANK(InfoPro!L140),\"\",InfoPro!L140)","v":""},{"$f":"'IT-TA'!H140","v":""},{"$f":"IFERROR('BT-Confi'!Y147,\"\")","v":""},{"$f":"IFERROR('BT-Flex'!Y147,\"\")","v":""},{"$f":"IFERROR('EC-RE'!Z147,\"\")","v":""},{"$f":"IFERROR('EC-RP'!Z146,\"\")","v":""},{"$f":"IFERROR('EC-Per'!W146,\"\")","v":""},{"$f":"IFERROR('EC-Mar'!Y146,\"\")","v":""},"","","","","","","","",""]
[{"$f":"IF(ISBLANK(InfoPro!A141),\"\",InfoPro!A141)","v":""},{"$f":"IF(ISBLANK(InfoPro!H141),\"\",InfoPro!H141)","v":""},{"$f":"IF(ISBLANK(InfoPro!B141),\"\",InfoPro!B141)","v":""},{"$f":"IF(ISBLANK(InfoPro!E141),\"\",InfoPro!E141)","v":""},{"$f":"IF(ISBLANK(InfoPro!C141),\"\",InfoPro!C141)","v":""},{"$f":"IF(ISBLANK(InfoPro!D141),\"\",InfoPro!D141)","v":""},{"$f":"IF(ISBLANK(InfoPro!L141),\"\",InfoPro!L141)","v":""},{"$f":"'IT-TA'!H141","v":""},{"$f":"IFERROR('BT-Confi'!Y148,\"\")","v":""},{"$f":"IFERROR('BT-Flex'!Y148,\"\")","v":""},{"$f":"IFERROR('EC-RE'!Z148,\"\")","v":""},{"$f":"IFERROR('EC-RP'!Z147,\"\")","v":""},{"$f":"IFERROR('EC-Per'!W147,\"\")","v":""},{"$f":"IFERROR('EC-Mar'!Y147,\"\")","v":""},"","","","","","","","",""]
[{"$f":"IF(ISBLANK(InfoPro!A142),\"\",InfoPro!A142)","v":""},{"$f":"IF(ISBLANK(InfoPro!H142),\"\",InfoPro!H142)","v":""},{"$f":"IF(ISBLANK(InfoPro!B142),\"\",InfoPro!B142)","v":""},{"$f":"IF(ISBLANK(InfoPro!E142),\"\",InfoPro!E142)","v":""},{"$f":"IF(ISBLANK(InfoPro!C142),\"\",InfoPro!C142)","v":""},{"$f":"IF(ISBLANK(InfoPro!D142),\"\",InfoPro!D142)","v":""},{"$f":"IF(ISBLANK(InfoPro!L142),\"\",InfoPro!L142)","v":""},{"$f":"'IT-TA'!H142","v":""},{"$f":"IFERROR('BT-Confi'!Y149,\"\")","v":""},{"$f":"IFERROR('BT-Flex'!Y149,\"\")","v":""},{"$f":"IFERROR('EC-RE'!Z149,\"\")","v":""},{"$f":"IFERROR('EC-RP'!Z148,\"\")","v":""},{"$f":"IFERROR('EC-Per'!W148,\"\")","v":""},{"$f":"IFERROR('EC-Mar'!Y148,\"\")","v":""},"","","","","","","","",""]
[{"$f":"IF(ISBLANK(InfoPro!A143),\"\",InfoPro!A143)","v":""},{"$f":"IF(ISBLANK(InfoPro!H143),\"\",InfoPro!H143)","v":""},{"$f":"IF(ISBLANK(InfoPro!B143),\"\",InfoPro!B143)","v":""},{"$f":"IF(ISBLANK(InfoPro!E143),\"\",InfoPro!E143)","v":""},{"$f":"IF(ISBLANK(InfoPro!C143),\"\",InfoPro!C143)","v":""},{"$f":"IF(ISBLANK(InfoPro!D143),\"\",InfoPro!D143)","v":""},{"$f":"IF(ISBLANK(InfoPro!L143),\"\",InfoPro!L143)","v":""},{"$f":"'IT-TA'!H143","v":""},{"$f":"IFERROR('BT-Confi'!Y150,\"\")","v":""},{"$f":"IFERROR('BT-Flex'!Y150,\"\")","v":""},{"$f":"IFERROR('EC-RE'!Z150,\"\")","v":""},{"$f":"IFERROR('EC-RP'!Z149,\"\")","v":""},{"$f":"IFERROR('EC-Per'!W149,\"\")","v":""},{"$f":"IFERROR('EC-Mar'!Y149,\"\")","v":""},"","","","","","","","",""]
[{"$f":"IF(ISBLANK(InfoPro!A144),\"\",InfoPro!A144)","v":""},{"$f":"IF(ISBLANK(InfoPro!H144),\"\",InfoPro!H144)","v":""},{"$f":"IF(ISBLANK(InfoPro!B144),\"\",InfoPro!B144)","v":""},{"$f":"IF(ISBLANK(InfoPro!E144),\"\",InfoPro!E144)","v":""},{"$f":"IF(ISBLANK(InfoPro!C144),\"\",InfoPro!C144)","v":""},{"$f":"IF(ISBLANK(InfoPro!D144),\"\",InfoPro!D144)","v":""},{"$f":"IF(ISBLANK(InfoPro!L144),\"\",InfoPro!L144)","v":""},{"$f":"'IT-TA'!H144","v":""},{"$f":"IFERROR('BT-Confi'!Y151,\"\")","v":""},{"$f":"IFERROR('BT-Flex'!Y151,\"\")","v":""},{"$f":"IFERROR('EC-RE'!Z151,\"\")","v":""},{"$f":"IFERROR('EC-RP'!Z150,\"\")","v":""},{"$f":"IFERROR('EC-Per'!W150,\"\")","v":""},{"$f":"IFERROR('EC-Mar'!Y150,\"\")","v":""},{"$f":"IF(C147=\"\",\"\",(SUMIF(I147:N147,\">0\"))*(H147/100))","v":""},{"$f":"IF(C147=\"\",\"\",I147+$B$1)","v":""},{"$f":"IF(D147=\"\",\"\",J147+$B$1)","v":""},{"$f":"IF(E147=\"\",\"\",K147+$B$1)","v":""},{"$f":"IF(F147=\"\",\"\",L147+$B$1)","v":""},{"$f":"IF(G147=\"\",\"\",M147+$B$1)","v":""},{"$f":"IF(H147=\"\",\"\",N147+$B$1)","v":""},{"$f":"IF(I147=\"\",\"\",O147+$B$1)","v":""},{"$f":"IFERROR((+$P$1*P147+$Q$1*Q147+$R$1*R147+$S$1*S147+$T$1*T147+U147*$U$1+$V$1*V147),\"\")","v":""}]
[{"$f":"IF(ISBLANK(InfoPro!A145),\"\",InfoPro!A145)","v":""},{"$f":"IF(ISBLANK(InfoPro!H145),\"\",InfoPro!H145)","v":""},{"$f":"IF(ISBLANK(InfoPro!B145),\"\",InfoPro!B145)","v":""},{"$f":"IF(ISBLANK(InfoPro!E145),\"\",InfoPro!E145)","v":""},{"$f":"IF(ISBLANK(InfoPro!C145),\"\",InfoPro!C145)","v":""},{"$f":"IF(ISBLANK(InfoPro!D145),\"\",InfoPro!D145)","v":""},{"$f":"IF(ISBLANK(InfoPro!L145),\"\",InfoPro!L145)","v":""},{"$f":"'IT-TA'!H145","v":""},{"$f":"IFERROR('BT-Confi'!Y152,\"\")","v":""},{"$f":"IFERROR('BT-Flex'!Y152,\"\")","v":""},{"$f":"IFERROR('EC-RE'!Z152,\"\")","v":""},{"$f":"IFERROR('EC-RP'!Z151,\"\")","v":""},{"$f":"IFERROR('EC-Per'!W151,\"\")","v":""},{"$f":"IFERROR('EC-Mar'!Y151,\"\")","v":""},"","","","","","","","",""]
[{"$f":"IF(ISBLANK(InfoPro!A146),\"\",InfoPro!A146)","v":""},{"$f":"IF(ISBLANK(InfoPro!H146),\"\",InfoPro!H146)","v":""},{"$f":"IF(ISBLANK(InfoPro!B146),\"\",InfoPro!B146)","v":""},{"$f":"IF(ISBLANK(InfoPro!E146),\"\",InfoPro!E146)","v":""},{"$f":"IF(ISBLANK(InfoPro!C146),\"\",InfoPro!C146)","v":""},{"$f":"IF(ISBLANK(InfoPro!D146),\"\",InfoPro!D146)","v":""},{"$f":"IF(ISBLANK(InfoPro!L146),\"\",InfoPro!L146)","v":""},{"$f":"'IT-TA'!H146","v":""},{"$f":"IFERROR('BT-Confi'!Y153,\"\")","v":""},{"$f":"IFERROR('BT-Flex'!Y153,\"\")","v":""},{"$f":"IFERROR('EC-RE'!Z153,\"\")","v":""},{"$f":"IFERROR('EC-RP'!Z152,\"\")","v":""},{"$f":"IFERROR('EC-Per'!W152,\"\")","v":""},{"$f":"IFERROR('EC-Mar'!Y152,\"\")","v":""},"","","","","","","","",""]
[{"$f":"IF(ISBLANK(InfoPro!A147),\"\",InfoPro!A147)","v":""},{"$f":"IF(ISBLANK(InfoPro!H147),\"\",InfoPro!H147)","v":""},{"$f":"IF(ISBLANK(InfoPro!B147),\"\",InfoPro!B147)","v":""},{"$f":"IF(ISBLANK(InfoPro!E147),\"\",InfoPro!E147)","v":""},{"$f":"IF(ISBLANK(InfoPro!C147),\"\",InfoPro!C147)","v":""},{"$f":"IF(ISBLANK(InfoPro!D147),\"\",InfoPro!D147)","v":""},{"$f":"IF(ISBLANK(InfoPro!L147),\"\",InfoPro!L147)","v":""},{"$f":"'IT-TA'!H147","v":""},{"$f":"IFERROR('BT-Confi'!Y154,\"\")","v":""},{"$f":"IFERROR('BT-Flex'!Y154,\"\")","v":""},{"$f":"IFERROR('EC-RE'!Z154,\"\")","v":""},{"$f":"IFERROR('EC-RP'!Z153,\"\")","v":""},{"$f":"IFERROR('EC-Per'!W153,\"\")","v":""},{"$f":"IFERROR('EC-Mar'!Y153,\"\")","v":""},"","","","","","","","",""]
[{"$f":"IF(ISBLANK(InfoPro!A148),\"\",InfoPro!A148)","v":""},{"$f":"IF(ISBLANK(InfoPro!H148),\"\",InfoPro!H148)","v":""},{"$f":"IF(ISBLANK(InfoPro!B148),\"\",InfoPro!B148)","v":""},{"$f":"IF(ISBLANK(InfoPro!E148),\"\",InfoPro!E148)","v":""},{"$f":"IF(ISBLANK(InfoPro!C148),\"\",InfoPro!C148)","v":""},{"$f":"IF(ISBLANK(InfoPro!D148),\"\",InfoPro!D148)","v":""},{"$f":"IF(ISBLANK(InfoPro!L148),\"\",InfoPro!L148)","v":""},{"$f":"'IT-TA'!H148","v":""},{"$f":"IFERROR('BT-Confi'!Y155,\"\")","v":""},{"$f":"IFERROR('BT-Flex'!Y155,\"\")","v":""},{"$f":"IFERROR('EC-RE'!Z155,\"\")","v":""},{"$f":"IFERROR('EC-RP'!Z154,\"\")","v":""},{"$f":"IFERROR('EC-Per'!W154,\"\")","v":""},{"$f":"IFERROR('EC-Mar'!Y154,\"\")","v":""},"","","","","","","","",""]
[{"$f":"IF(ISBLANK(InfoPro!A149),\"\",InfoPro!A149)","v":""},{"$f":"IF(ISBLANK(InfoPro!H149),\"\",InfoPro!H149)","v":""},{"$f":"IF(ISBLANK(InfoPro!B149),\"\",InfoPro!B149)","v":""},{"$f":"IF(ISBLANK(InfoPro!E149),\"\",InfoPro!E149)","v":""},{"$f":"IF(ISBLANK(InfoPro!C149),\"\",InfoPro!C149)","v":""},{"$f":"IF(ISBLANK(InfoPro!D149),\"\",InfoPro!D149)","v":""},{"$f":"IF(ISBLANK(InfoPro!L149),\"\",InfoPro!L149)","v":""},{"$f":"'IT-TA'!H149","v":""},{"$f":"IFERROR('BT-Confi'!Y156,\"\")","v":""},{"$f":"IFERROR('BT-Flex'!Y156,\"\")","v":""},{"$f":"IFERROR('EC-RE'!Z156,\"\")","v":""},{"$f":"IFERROR('EC-RP'!Z155,\"\")","v":""},{"$f":"IFERROR('EC-Per'!W155,\"\")","v":""},{"$f":"IFERROR('EC-Mar'!Y155,\"\")","v":""},"","","","","","","","",""]
[{"$f":"IF(ISBLANK(InfoPro!A150),\"\",InfoPro!A150)","v":""},{"$f":"IF(ISBLANK(InfoPro!H150),\"\",InfoPro!H150)","v":""},{"$f":"IF(ISBLANK(InfoPro!B150),\"\",InfoPro!B150)","v":""},{"$f":"IF(ISBLANK(InfoPro!E150),\"\",InfoPro!E150)","v":""},{"$f":"IF(ISBLANK(InfoPro!C150),\"\",InfoPro!C150)","v":""},{"$f":"IF(ISBLANK(InfoPro!D150),\"\",InfoPro!D150)","v":""},{"$f":"IF(ISBLANK(InfoPro!L150),\"\",InfoPro!L150)","v":""},{"$f":"'IT-TA'!H150","v":""},{"$f":"IFERROR('BT-Confi'!Y157,\"\")","v":""},{"$f":"IFERROR('BT-Flex'!Y157,\"\")","v":""},{"$f":"IFERROR('EC-RE'!Z157,\"\")","v":""},{"$f":"IFERROR('EC-RP'!Z156,\"\")","v":""},{"$f":"IFERROR('EC-Per'!W156,\"\")","v":""},{"$f":"IFERROR('EC-Mar'!Y156,\"\")","v":""},"","","","","","","","",""]
[{"$f":"IF(ISBLANK(InfoPro!A151),\"\",InfoPro!A151)","v":""},{"$f":"IF(ISBLANK(InfoPro!H151),\"\",InfoPro!H151)","v":""},{"$f":"IF(ISBLANK(InfoPro!B151),\"\",InfoPro!B151)","v":""},{"$f":"IF(ISBLANK(InfoPro!E151),\"\",InfoPro!E151)","v":""},{"$f":"IF(ISBLANK(InfoPro!C151),\"\",InfoPro!C151)","v":""},{"$f":"IF(ISBLANK(InfoPro!D151),\"\",InfoPro!D151)","v":""},{"$f":"IF(ISBLANK(InfoPro!L151),\"\",InfoPro!L151)","v":""},{"$f":"'IT-TA'!H151","v":""},{"$f":"IFERROR('BT-Confi'!Y158,\"\")","v":""},{"$f":"IFERROR('BT-Flex'!Y158,\"\")","v":""},{"$f":"IFERROR('EC-RE'!Z158,\"\")","v":""},{"$f":"IFERROR('EC-RP'!Z157,\"\")","v":""},{"$f":"IFERROR('EC-Per'!W157,\"\")","v":""},{"$f":"IFERROR('EC-Mar'!Y157,\"\")","v":""},"","","","","","","","",""]
[{"$f":"IF(ISBLANK(InfoPro!A152),\"\",InfoPro!A152)","v":""},{"$f":"IF(ISBLANK(InfoPro!H152),\"\",InfoPro!H152)","v":""},{"$f":"IF(ISBLANK(InfoPro!B152),\"\",InfoPro!B152)","v":""},{"$f":"IF(ISBLANK(InfoPro!E152),\"\",InfoPro!E152)","v":""},{"$f":"IF(ISBLANK(InfoPro!C152),\"\",InfoPro!C152)","v":""},{"$f":"IF(ISBLANK(InfoPro!D152),\"\",InfoPro!D152)","v":""},{"$f":"IF(ISBLANK(InfoPro!L152),\"\",InfoPro!L152)","v":""},{"$f":"'IT-TA'!H152","v":""},{"$f":"IFERROR('BT-Confi'!Y159,\"\")","v":""},{"$f":"IFERROR('BT-Flex'!Y159,\"\")","v":""},{"$f":"IFERROR('EC-RE'!Z159,\"\")","v":""},{"$f":"IFERROR('EC-RP'!Z158,\"\")","v":""},{"$f":"IFERROR('EC-Per'!W158,\"\")","v":""},{"$f":"IFERROR('EC-Mar'!Y158,\"\")","v":""},"","","","","","","","",""]
[{"$f":"IF(ISBLANK(InfoPro!A153),\"\",InfoPro!A153)","v":""},{"$f":"IF(ISBLANK(InfoPro!H153),\"\",InfoPro!H153)","v":""},{"$f":"IF(ISBLANK(InfoPro!B153),\"\",InfoPro!B153)","v":""},{"$f":"IF(ISBLANK(InfoPro!E153),\"\",InfoPro!E153)","v":""},{"$f":"IF(ISBLANK(InfoPro!C153),\"\",InfoPro!C153)","v":""},{"$f":"IF(ISBLANK(InfoPro!D153),\"\",InfoPro!D153)","v":""},{"$f":"IF(ISBLANK(InfoPro!L153),\"\",InfoPro!L153)","v":""},{"$f":"'IT-TA'!H153","v":""},{"$f":"IFERROR('BT-Confi'!Y160,\"\")","v":""},{"$f":"IFERROR('BT-Flex'!Y160,\"\")","v":""},{"$f":"IFERROR('EC-RE'!Z160,\"\")","v":""},{"$f":"IFERROR('EC-RP'!Z159,\"\")","v":""},{"$f":"IFERROR('EC-Per'!W159,\"\")","v":""},{"$f":"IFERROR('EC-Mar'!Y159,\"\")","v":""},"","","","","","","","",""]
[{"$f":"IF(ISBLANK(InfoPro!A154),\"\",InfoPro!A154)","v":""},{"$f":"IF(ISBLANK(InfoPro!H154),\"\",InfoPro!H154)","v":""},{"$f":"IF(ISBLANK(InfoPro!B154),\"\",InfoPro!B154)","v":""},{"$f":"IF(ISBLANK(InfoPro!E154),\"\",InfoPro!E154)","v":""},{"$f":"IF(ISBLANK(InfoPro!C154),\"\",InfoPro!C154)","v":""},{"$f":"IF(ISBLANK(InfoPro!D154),\"\",InfoPro!D154)","v":""},{"$f":"IF(ISBLANK(InfoPro!L154),\"\",InfoPro!L154)","v":""},{"$f":"'IT-TA'!H154","v":""},{"$f":"IFERROR('BT-Confi'!Y161,\"\")","v":""},{"$f":"IFERROR('BT-Flex'!Y161,\"\")","v":""},{"$f":"IFERROR('EC-RE'!Z161,\"\")","v":""},{"$f":"IFERROR('EC-RP'!Z160,\"\")","v":""},{"$f":"IFERROR('EC-Per'!W160,\"\")","v":""},{"$f":"IFERROR('EC-Mar'!Y160,\"\")","v":""},"","","","","","","","",""]
[{"$f":"IF(ISBLANK(InfoPro!A155),\"\",InfoPro!A155)","v":""},{"$f":"IF(ISBLANK(InfoPro!H155),\"\",InfoPro!H155)","v":""},{"$f":"IF(ISBLANK(InfoPro!B155),\"\",InfoPro!B155)","v":""},{"$f":"IF(ISBLANK(InfoPro!E155),\"\",InfoPro!E155)","v":""},{"$f":"IF(ISBLANK(InfoPro!C155),\"\",InfoPro!C155)","v":""},{"$f":"IF(ISBLANK(InfoPro!D155),\"\",InfoPro!D155)","v":""},{"$f":"IF(ISBLANK(InfoPro!L155),\"\",InfoPro!L155)","v":""},{"$f":"'IT-TA'!H155","v":""},{"$f":"IFERROR('BT-Confi'!Y162,\"\")","v":""},{"$f":"IFERROR('BT-Flex'!Y162,\"\")","v":""},{"$f":"IFERROR('EC-RE'!Z162,\"\")","v":""},{"$f":"IFERROR('EC-RP'!Z161,\"\")","v":""},{"$f":"IFERROR('EC-Per'!W161,\"\")","v":""},{"$f":"IFERROR('EC-Mar'!Y161,\"\")","v":""},"","","","","","","","",""]
[{"$f":"IF(ISBLANK(InfoPro!A156),\"\",InfoPro!A156)","v":""},{"$f":"IF(ISBLANK(InfoPro!H156),\"\",InfoPro!H156)","v":""},{"$f":"IF(ISBLANK(InfoPro!B156),\"\",InfoPro!B156)","v":""},{"$f":"IF(ISBLANK(InfoPro!E156),\"\",InfoPro!E156)","v":""},{"$f":"IF(ISBLANK(InfoPro!C156),\"\",InfoPro!C156)","v":""},{"$f":"IF(ISBLANK(InfoPro!D156),\"\",InfoPro!D156)","v":""},{"$f":"IF(ISBLANK(InfoPro!L156),\"\",InfoPro!L156)","v":""},{"$f":"'IT-TA'!H156","v":""},{"$f":"IFERROR('BT-Confi'!Y163,\"\")","v":""},{"$f":"IFERROR('BT-Flex'!Y163,\"\")","v":""},{"$f":"IFERROR('EC-RE'!Z163,\"\")","v":""},{"$f":"IFERROR('EC-RP'!Z162,\"\")","v":""},{"$f":"IFERROR('EC-Per'!W162,\"\")","v":""},{"$f":"IFERROR('EC-Mar'!Y162,\"\")","v":""},"","","","","","","","",""]
[{"$f":"IF(ISBLANK(InfoPro!A157),\"\",InfoPro!A157)","v":""},{"$f":"IF(ISBLANK(InfoPro!H157),\"\",InfoPro!H157)","v":""},{"$f":"IF(ISBLANK(InfoPro!B157),\"\",InfoPro!B157)","v":""},{"$f":"IF(ISBLANK(InfoPro!E157),\"\",InfoPro!E157)","v":""},{"$f":"IF(ISBLANK(InfoPro!C157),\"\",InfoPro!C157)","v":""},{"$f":"IF(ISBLANK(InfoPro!D157),\"\",InfoPro!D157)","v":""},{"$f":"IF(ISBLANK(InfoPro!L157),\"\",InfoPro!L157)","v":""},{"$f":"'IT-TA'!H157","v":""},{"$f":"IFERROR('BT-Confi'!Y164,\"\")","v":""},{"$f":"IFERROR('BT-Flex'!Y164,\"\")","v":""},{"$f":"IFERROR('EC-RE'!Z164,\"\")","v":""},{"$f":"IFERROR('EC-RP'!Z163,\"\")","v":""},{"$f":"IFERROR('EC-Per'!W163,\"\")","v":""},{"$f":"IFERROR('EC-Mar'!Y163,\"\")","v":""},"","","","","","","","",""]
[{"$f":"IF(ISBLANK(InfoPro!A158),\"\",InfoPro!A158)","v":""},{"$f":"IF(ISBLANK(InfoPro!H158),\"\",InfoPro!H158)","v":""},{"$f":"IF(ISBLANK(InfoPro!B158),\"\",InfoPro!B158)","v":""},{"$f":"IF(ISBLANK(InfoPro!E158),\"\",InfoPro!E158)","v":""},{"$f":"IF(ISBLANK(InfoPro!C158),\"\",InfoPro!C158)","v":""},{"$f":"IF(ISBLANK(InfoPro!D158),\"\",InfoPro!D158)","v":""},{"$f":"IF(ISBLANK(InfoPro!L158),\"\",InfoPro!L158)","v":""},{"$f":"'IT-TA'!H158","v":""},{"$f":"IFERROR('BT-Confi'!Y165,\"\")","v":""},{"$f":"IFERROR('BT-Flex'!Y165,\"\")","v":""},{"$f":"IFERROR('EC-RE'!Z165,\"\")","v":""},{"$f":"IFERROR('EC-RP'!Z164,\"\")","v":""},{"$f":"IFERROR('EC-Per'!W164,\"\")","v":""},{"$f":"IFERROR('EC-Mar'!Y164,\"\")","v":""},"","","","","","","","",""]
[{"$f":"IF(ISBLANK(InfoPro!A159),\"\",InfoPro!A159)","v":""},{"$f":"IF(ISBLANK(InfoPro!H159),\"\",InfoPro!H159)","v":""},{"$f":"IF(ISBLANK(InfoPro!B159),\"\",InfoPro!B159)","v":""},{"$f":"IF(ISBLANK(InfoPro!E159),\"\",InfoPro!E159)","v":""},{"$f":"IF(ISBLANK(InfoPro!C159),\"\",InfoPro!C159)","v":""},{"$f":"IF(ISBLANK(InfoPro!D159),\"\",InfoPro!D159)","v":""},{"$f":"IF(ISBLANK(InfoPro!L159),\"\",InfoPro!L159)","v":""},{"$f":"'IT-TA'!H159","v":""},{"$f":"IFERROR('BT-Confi'!Y166,\"\")","v":""},{"$f":"IFERROR('BT-Flex'!Y166,\"\")","v":""},{"$f":"IFERROR('EC-RE'!Z166,\"\")","v":""},{"$f":"IFERROR('EC-RP'!Z165,\"\")","v":""},{"$f":"IFERROR('EC-Per'!W165,\"\")","v":""},{"$f":"IFERROR('EC-Mar'!Y165,\"\")","v":""},"","","","","","","","",""]
[{"$f":"IF(ISBLANK(InfoPro!A160),\"\",InfoPro!A160)","v":""},{"$f":"IF(ISBLANK(InfoPro!H160),\"\",InfoPro!H160)","v":""},{"$f":"IF(ISBLANK(InfoPro!B160),\"\",InfoPro!B160)","v":""},{"$f":"IF(ISBLANK(InfoPro!E160),\"\",InfoPro!E160)","v":""},{"$f":"IF(ISBLANK(InfoPro!C160),\"\",InfoPro!C160)","v":""},{"$f":"IF(ISBLANK(InfoPro!D160),\"\",InfoPro!D160)","v":""},{"$f":"IF(ISBLANK(InfoPro!L160),\"\",InfoPro!L160)","v":""},{"$f":"'IT-TA'!H160","v":""},{"$f":"IFERROR('BT-Confi'!Y167,\"\")","v":""},{"$f":"IFERROR('BT-Flex'!Y167,\"\")","v":""},{"$f":"IFERROR('EC-RE'!Z167,\"\")","v":""},{"$f":"IFERROR('EC-RP'!Z166,\"\")","v":""},{"$f":"IFERROR('EC-Per'!W166,\"\")","v":""},{"$f":"IFERROR('EC-Mar'!Y166,\"\")","v":""},"","","","","","","","",""]
[{"$f":"IF(ISBLANK(InfoPro!A161),\"\",InfoPro!A161)","v":""},{"$f":"IF(ISBLANK(InfoPro!H161),\"\",InfoPro!H161)","v":""},{"$f":"IF(ISBLANK(InfoPro!B161),\"\",InfoPro!B161)","v":""},{"$f":"IF(ISBLANK(InfoPro!E161),\"\",InfoPro!E161)","v":""},{"$f":"IF(ISBLANK(InfoPro!C161),\"\",InfoPro!C161)","v":""},{"$f":"IF(ISBLANK(InfoPro!D161),\"\",InfoPro!D161)","v":""},{"$f":"IF(ISBLANK(InfoPro!L161),\"\",InfoPro!L161)","v":""},{"$f":"'IT-TA'!H161","v":""},{"$f":"IFERROR('BT-Confi'!Y168,\"\")","v":""},{"$f":"IFERROR('BT-Flex'!Y168,\"\")","v":""},{"$f":"IFERROR('EC-RE'!Z168,\"\")","v":""},{"$f":"IFERROR('EC-RP'!Z167,\"\")","v":""},{"$f":"IFERROR('EC-Per'!W167,\"\")","v":""},{"$f":"IFERROR('EC-Mar'!Y167,\"\")","v":""},"","","","","","","","",""]
[{"$f":"IF(ISBLANK(InfoPro!A162),\"\",InfoPro!A162)","v":""},{"$f":"IF(ISBLANK(InfoPro!H162),\"\",InfoPro!H162)","v":""},{"$f":"IF(ISBLANK(InfoPro!B162),\"\",InfoPro!B162)","v":""},{"$f":"IF(ISBLANK(InfoPro!E162),\"\",InfoPro!E162)","v":""},{"$f":"IF(ISBLANK(InfoPro!C162),\"\",InfoPro!C162)","v":""},{"$f":"IF(ISBLANK(InfoPro!D162),\"\",InfoPro!D162)","v":""},{"$f":"IF(ISBLANK(InfoPro!L162),\"\",InfoPro!L162)","v":""},{"$f":"'IT-TA'!H162","v":""},{"$f":"IFERROR('BT-Confi'!Y169,\"\")","v":""},{"$f":"IFERROR('BT-Flex'!Y169,\"\")","v":""},{"$f":"IFERROR('EC-RE'!Z169,\"\")","v":""},{"$f":"IFERROR('EC-RP'!Z168,\"\")","v":""},{"$f":"IFERROR('EC-Per'!W168,\"\")","v":""},{"$f":"IFERROR('EC-Mar'!Y168,\"\")","v":""},"","","","","","","","",""]
[{"$f":"IF(ISBLANK(InfoPro!A163),\"\",InfoPro!A163)","v":""},{"$f":"IF(ISBLANK(InfoPro!H163),\"\",InfoPro!H163)","v":""},{"$f":"IF(ISBLANK(InfoPro!B163),\"\",InfoPro!B163)","v":""},{"$f":"IF(ISBLANK(InfoPro!E163),\"\",InfoPro!E163)","v":""},{"$f":"IF(ISBLANK(InfoPro!C163),\"\",InfoPro!C163)","v":""},{"$f":"IF(ISBLANK(InfoPro!D163),\"\",InfoPro!D163)","v":""},{"$f":"IF(ISBLANK(InfoPro!L163),\"\",InfoPro!L163)","v":""},{"$f":"'IT-TA'!H163","v":""},{"$f":"IFERROR('BT-Confi'!Y170,\"\")","v":""},{"$f":"IFERROR('BT-Flex'!Y170,\"\")","v":""},{"$f":"IFERROR('EC-RE'!Z170,\"\")","v":""},{"$f":"IFERROR('EC-RP'!Z169,\"\")","v":""},{"$f":"IFERROR('EC-Per'!W169,\"\")","v":""},{"$f":"IFERROR('EC-Mar'!Y169,\"\")","v":""},"","","","","","","","",""]
[{"$f":"IF(ISBLANK(InfoPro!A164),\"\",InfoPro!A164)","v":""},{"$f":"IF(ISBLANK(InfoPro!H164),\"\",InfoPro!H164)","v":""},{"$f":"IF(ISBLANK(InfoPro!B164),\"\",InfoPro!B164)","v":""},{"$f":"IF(ISBLANK(InfoPro!E164),\"\",InfoPro!E164)","v":""},{"$f":"IF(ISBLANK(InfoPro!C164),\"\",InfoPro!C164)","v":""},{"$f":"IF(ISBLANK(InfoPro!D164),\"\",InfoPro!D164)","v":""},{"$f":"IF(ISBLANK(InfoPro!L164),\"\",InfoPro!L164)","v":""},{"$f":"'IT-TA'!H164","v":""},{"$f":"IFERROR('BT-Confi'!Y171,\"\")","v":""},{"$f":"IFERROR('BT-Flex'!Y171,\"\")","v":""},{"$f":"IFERROR('EC-RE'!Z171,\"\")","v":""},{"$f":"IFERROR('EC-RP'!Z170,\"\")","v":""},{"$f":"IFERROR('EC-Per'!W170,\"\")","v":""},{"$f":"IFERROR('EC-Mar'!Y170,\"\")","v":""},"","","","","","","","",""]
[{"$f":"IF(ISBLANK(InfoPro!A165),\"\",InfoPro!A165)","v":""},{"$f":"IF(ISBLANK(InfoPro!H165),\"\",InfoPro!H165)","v":""},{"$f":"IF(ISBLANK(InfoPro!B165),\"\",InfoPro!B165)","v":""},{"$f":"IF(ISBLANK(InfoPro!E165),\"\",InfoPro!E165)","v":""},{"$f":"IF(ISBLANK(InfoPro!C165),\"\",InfoPro!C165)","v":""},{"$f":"IF(ISBLANK(InfoPro!D165),\"\",InfoPro!D165)","v":""},{"$f":"IF(ISBLANK(InfoPro!L165),\"\",InfoPro!L165)","v":""},{"$f":"'IT-TA'!H165","v":""},{"$f":"IFERROR('BT-Confi'!Y172,\"\")","v":""},{"$f":"IFERROR('BT-Flex'!Y172,\"\")","v":""},{"$f":"IFERROR('EC-RE'!Z172,\"\")","v":""},{"$f":"IFERROR('EC-RP'!Z171,\"\")","v":""},{"$f":"IFERROR('EC-Per'!W171,\"\")","v":""},{"$f":"IFERROR('EC-Mar'!Y171,\"\")","v":""},"","","","","","","","",""]
[{"$f":"IF(ISBLANK(InfoPro!A166),\"\",InfoPro!A166)","v":""},{"$f":"IF(ISBLANK(InfoPro!H166),\"\",InfoPro!H166)","v":""},{"$f":"IF(ISBLANK(InfoPro!B166),\"\",InfoPro!B166)","v":""},{"$f":"IF(ISBLANK(InfoPro!E166),\"\",InfoPro!E166)","v":""},{"$f":"IF(ISBLANK(InfoPro!C166),\"\",InfoPro!C166)","v":""},{"$f":"IF(ISBLANK(InfoPro!D166),\"\",InfoPro!D166)","v":""},{"$f":"IF(ISBLANK(InfoPro!L166),\"\",InfoPro!L166)","v":""},{"$f":"'IT-TA'!H166","v":""},{"$f":"IFERROR('BT-Confi'!Y173,\"\")","v":""},{"$f":"IFERROR('BT-Flex'!Y173,\"\")","v":""},{"$f":"IFERROR('EC-RE'!Z173,\"\")","v":""},{"$f":"IFERROR('EC-RP'!Z172,\"\")","v":""},{"$f":"IFERROR('EC-Per'!W172,\"\")","v":""},{"$f":"IFERROR('EC-Mar'!Y172,\"\")","v":""},"","","","","","","","",""]
[{"$f":"IF(ISBLANK(InfoPro!A167),\"\",InfoPro!A167)","v":""},{"$f":"IF(ISBLANK(InfoPro!H167),\"\",InfoPro!H167)","v":""},{"$f":"IF(ISBLANK(InfoPro!B167),\"\",InfoPro!B167)","v":""},{"$f":"IF(ISBLANK(InfoPro!E167),\"\",InfoPro!E167)","v":""},{"$f":"IF(ISBLANK(InfoPro!C167),\"\",InfoPro!C167)","v":""},{"$f":"IF(ISBLANK(InfoPro!D167),\"\",InfoPro!D167)","v":""},{"$f":"IF(ISBLANK(InfoPro!L167),\"\",InfoPro!L167)","v":""},{"$f":"'IT-TA'!H167","v":""},{"$f":"IFERROR('BT-Confi'!Y174,\"\")","v":""},{"$f":"IFERROR('BT-Flex'!Y174,\"\")","v":""},{"$f":"IFERROR('EC-RE'!Z174,\"\")","v":""},{"$f":"IFERROR('EC-RP'!Z173,\"\")","v":""},{"$f":"IFERROR('EC-Per'!W173,\"\")","v":""},{"$f":"IFERROR('EC-Mar'!Y173,\"\")","v":""},"","","","","","","","",""]
[{"$f":"IF(ISBLANK(InfoPro!A168),\"\",InfoPro!A168)","v":""},{"$f":"IF(ISBLANK(InfoPro!H168),\"\",InfoPro!H168)","v":""},{"$f":"IF(ISBLANK(InfoPro!B168),\"\",InfoPro!B168)","v":""},{"$f":"IF(ISBLANK(InfoPro!E168),\"\",InfoPro!E168)","v":""},{"$f":"IF(ISBLANK(InfoPro!C168),\"\",InfoPro!C168)","v":""},{"$f":"IF(ISBLANK(InfoPro!D168),\"\",InfoPro!D168)","v":""},{"$f":"IF(ISBLANK(InfoPro!L168),\"\",InfoPro!L168)","v":""},{"$f":"'IT-TA'!H168","v":""},{"$f":"IFERROR('BT-Confi'!Y175,\"\")","v":""},{"$f":"IFERROR('BT-Flex'!Y175,\"\")","v":""},{"$f":"IFERROR('EC-RE'!Z175,\"\")","v":""},{"$f":"IFERROR('EC-RP'!Z174,\"\")","v":""},{"$f":"IFERROR('EC-Per'!W174,\"\")","v":""},{"$f":"IFERROR('EC-Mar'!Y174,\"\")","v":""},"","","","","","","","",""]
[{"$f":"IF(ISBLANK(InfoPro!A169),\"\",InfoPro!A169)","v":""},{"$f":"IF(ISBLANK(InfoPro!H169),\"\",InfoPro!H169)","v":""},{"$f":"IF(ISBLANK(InfoPro!B169),\"\",InfoPro!B169)","v":""},{"$f":"IF(ISBLANK(InfoPro!E169),\"\",InfoPro!E169)","v":""},{"$f":"IF(ISBLANK(InfoPro!C169),\"\",InfoPro!C169)","v":""},{"$f":"IF(ISBLANK(InfoPro!D169),\"\",InfoPro!D169)","v":""},{"$f":"IF(ISBLANK(InfoPro!L169),\"\",InfoPro!L169)","v":""},{"$f":"'IT-TA'!H169","v":""},{"$f":"IFERROR('BT-Confi'!Y176,\"\")","v":""},{"$f":"IFERROR('BT-Flex'!Y176,\"\")","v":""},{"$f":"IFERROR('EC-RE'!Z176,\"\")","v":""},{"$f":"IFERROR('EC-RP'!Z175,\"\")","v":""},{"$f":"IFERROR('EC-Per'!W175,\"\")","v":""},{"$f":"IFERROR('EC-Mar'!Y175,\"\")","v":""},"","","","","","","","",""]
[{"$f":"IF(ISBLANK(InfoPro!A170),\"\",InfoPro!A170)","v":""},{"$f":"IF(ISBLANK(InfoPro!H170),\"\",InfoPro!H170)","v":""},{"$f":"IF(ISBLANK(InfoPro!B170),\"\",InfoPro!B170)","v":""},{"$f":"IF(ISBLANK(InfoPro!E170),\"\",InfoPro!E170)","v":""},{"$f":"IF(ISBLANK(InfoPro!C170),\"\",InfoPro!C170)","v":""},{"$f":"IF(ISBLANK(InfoPro!D170),\"\",InfoPro!D170)","v":""},{"$f":"IF(ISBLANK(InfoPro!L170),\"\",InfoPro!L170)","v":""},{"$f":"'IT-TA'!H170","v":""},{"$f":"IFERROR('BT-Confi'!Y177,\"\")","v":""},{"$f":"IFERROR('BT-Flex'!Y177,\"\")","v":""},{"$f":"IFERROR('EC-RE'!Z177,\"\")","v":""},{"$f":"IFERROR('EC-RP'!Z176,\"\")","v":""},{"$f":"IFERROR('EC-Per'!W176,\"\")","v":""},{"$f":"IFERROR('EC-Mar'!Y176,\"\")","v":""},"","","","","","","","",""]
[{"$f":"IF(ISBLANK(InfoPro!A171),\"\",InfoPro!A171)","v":""},{"$f":"IF(ISBLANK(InfoPro!H171),\"\",InfoPro!H171)","v":""},{"$f":"IF(ISBLANK(InfoPro!B171),\"\",InfoPro!B171)","v":""},{"$f":"IF(ISBLANK(InfoPro!E171),\"\",InfoPro!E171)","v":""},{"$f":"IF(ISBLANK(InfoPro!C171),\"\",InfoPro!C171)","v":""},{"$f":"IF(ISBLANK(InfoPro!D171),\"\",InfoPro!D171)","v":""},{"$f":"IF(ISBLANK(InfoPro!L171),\"\",InfoPro!L171)","v":""},{"$f":"'IT-TA'!H171","v":""},{"$f":"IFERROR('BT-Confi'!Y178,\"\")","v":""},{"$f":"IFERROR('BT-Flex'!Y178,\"\")","v":""},{"$f":"IFERROR('EC-RE'!Z178,\"\")","v":""},{"$f":"IFERROR('EC-RP'!Z177,\"\")","v":""},{"$f":"IFERROR('EC-Per'!W177,\"\")","v":""},{"$f":"IFERROR('EC-Mar'!Y177,\"\")","v":""},"","","","","","","","",""]
[{"$f":"IF(ISBLANK(InfoPro!A172),\"\",InfoPro!A172)","v":""},{"$f":"IF(ISBLANK(InfoPro!H172),\"\",InfoPro!H172)","v":""},{"$f":"IF(ISBLANK(InfoPro!B172),\"\",InfoPro!B172)","v":""},{"$f":"IF(ISBLANK(InfoPro!E172),\"\",InfoPro!E172)","v":""},{"$f":"IF(ISBLANK(InfoPro!C172),\"\",InfoPro!C172)","v":""},{"$f":"IF(ISBLANK(InfoPro!D172),\"\",InfoPro!D172)","v":""},{"$f":"IF(ISBLANK(InfoPro!L172),\"\",InfoPro!L172)","v":""},{"$f":"'IT-TA'!H172","v":""},{"$f":"IFERROR('BT-Confi'!Y179,\"\")","v":""},{"$f":"IFERROR('BT-Flex'!Y179,\"\")","v":""},{"$f":"IFERROR('EC-RE'!Z179,\"\")","v":""},{"$f":"IFERROR('EC-RP'!Z178,\"\")","v":""},{"$f":"IFERROR('EC-Per'!W178,\"\")","v":""},{"$f":"IFERROR('EC-Mar'!Y178,\"\")","v":""},"","","","","","","","",""]
[{"$f":"IF(ISBLANK(InfoPro!A173),\"\",InfoPro!A173)","v":""},{"$f":"IF(ISBLANK(InfoPro!H173),\"\",InfoPro!H173)","v":""},{"$f":"IF(ISBLANK(InfoPro!B173),\"\",InfoPro!B173)","v":""},{"$f":"IF(ISBLANK(InfoPro!E173),\"\",InfoPro!E173)","v":""},{"$f":"IF(ISBLANK(InfoPro!C173),\"\",InfoPro!C173)","v":""},{"$f":"IF(ISBLANK(InfoPro!D173),\"\",InfoPro!D173)","v":""},{"$f":"IF(ISBLANK(InfoPro!L173),\"\",InfoPro!L173)","v":""},{"$f":"'IT-TA'!H173","v":""},{"$f":"IFERROR('BT-Confi'!Y180,\"\")","v":""},{"$f":"IFERROR('BT-Flex'!Y180,\"\")","v":""},{"$f":"IFERROR('EC-RE'!Z180,\"\")","v":""},{"$f":"IFERROR('EC-RP'!Z179,\"\")","v":""},{"$f":"IFERROR('EC-Per'!W179,\"\")","v":""},{"$f":"IFERROR('EC-Mar'!Y179,\"\")","v":""},"","","","","","","","",""]
[{"$f":"IF(ISBLANK(InfoPro!A174),\"\",InfoPro!A174)","v":""},{"$f":"IF(ISBLANK(InfoPro!H174),\"\",InfoPro!H174)","v":""},{"$f":"IF(ISBLANK(InfoPro!B174),\"\",InfoPro!B174)","v":""},{"$f":"IF(ISBLANK(InfoPro!E174),\"\",InfoPro!E174)","v":""},{"$f":"IF(ISBLANK(InfoPro!C174),\"\",InfoPro!C174)","v":""},{"$f":"IF(ISBLANK(InfoPro!D174),\"\",InfoPro!D174)","v":""},{"$f":"IF(ISBLANK(InfoPro!L174),\"\",InfoPro!L174)","v":""},{"$f":"'IT-TA'!H174","v":""},{"$f":"IFERROR('BT-Confi'!Y181,\"\")","v":""},{"$f":"IFERROR('BT-Flex'!Y181,\"\")","v":""},{"$f":"IFERROR('EC-RE'!Z181,\"\")","v":""},{"$f":"IFERROR('EC-RP'!Z180,\"\")","v":""},{"$f":"IFERROR('EC-Per'!W180,\"\")","v":""},{"$f":"IFERROR('EC-Mar'!Y180,\"\")","v":""},"","","","","","","","",""]
[{"$f":"IF(ISBLANK(InfoPro!A175),\"\",InfoPro!A175)","v":""},{"$f":"IF(ISBLANK(InfoPro!H175),\"\",InfoPro!H175)","v":""},{"$f":"IF(ISBLANK(InfoPro!B175),\"\",InfoPro!B175)","v":""},{"$f":"IF(ISBLANK(InfoPro!E175),\"\",InfoPro!E175)","v":""},{"$f":"IF(ISBLANK(InfoPro!C175),\"\",InfoPro!C175)","v":""},{"$f":"IF(ISBLANK(InfoPro!D175),\"\",InfoPro!D175)","v":""},{"$f":"IF(ISBLANK(InfoPro!L175),\"\",InfoPro!L175)","v":""},{"$f":"'IT-TA'!H175","v":""},{"$f":"IFERROR('BT-Confi'!Y182,\"\")","v":""},{"$f":"IFERROR('BT-Flex'!Y182,\"\")","v":""},{"$f":"IFERROR('EC-RE'!Z182,\"\")","v":""},{"$f":"IFERROR('EC-RP'!Z181,\"\")","v":""},{"$f":"IFERROR('EC-Per'!W181,\"\")","v":""},{"$f":"IFERROR('EC-Mar'!Y181,\"\")","v":""},"","","","","","","","",""]
[{"$f":"IF(ISBLANK(InfoPro!A176),\"\",InfoPro!A176)","v":""},{"$f":"IF(ISBLANK(InfoPro!H176),\"\",InfoPro!H176)","v":""},{"$f":"IF(ISBLANK(InfoPro!B176),\"\",InfoPro!B176)","v":""},{"$f":"IF(ISBLANK(InfoPro!E176),\"\",InfoPro!E176)","v":""},{"$f":"IF(ISBLANK(InfoPro!C176),\"\",InfoPro!C176)","v":""},{"$f":"IF(ISBLANK(InfoPro!D176),\"\",InfoPro!D176)","v":""},{"$f":"IF(ISBLANK(InfoPro!L176),\"\",InfoPro!L176)","v":""},{"$f":"'IT-TA'!H176","v":""},{"$f":"IFERROR('BT-Confi'!Y183,\"\")","v":""},{"$f":"IFERROR('BT-Flex'!Y183,\"\")","v":""},{"$f":"IFERROR('EC-RE'!Z183,\"\")","v":""},{"$f":"IFERROR('EC-RP'!Z182,\"\")","v":""},{"$f":"IFERROR('EC-Per'!W182,\"\")","v":""},{"$f":"IFERROR('EC-Mar'!Y182,\"\")","v":""},"","","","","","","","",""]
[{"$f":"IF(ISBLANK(InfoPro!A177),\"\",InfoPro!A177)","v":""},{"$f":"IF(ISBLANK(InfoPro!H177),\"\",InfoPro!H177)","v":""},{"$f":"IF(ISBLANK(InfoPro!B177),\"\",InfoPro!B177)","v":""},{"$f":"IF(ISBLANK(InfoPro!E177),\"\",InfoPro!E177)","v":""},{"$f":"IF(ISBLANK(InfoPro!C177),\"\",InfoPro!C177)","v":""},{"$f":"IF(ISBLANK(InfoPro!D177),\"\",InfoPro!D177)","v":""},{"$f":"IF(ISBLANK(InfoPro!L177),\"\",InfoPro!L177)","v":""},{"$f":"'IT-TA'!H177","v":""},{"$f":"IFERROR('BT-Confi'!Y184,\"\")","v":""},{"$f":"IFERROR('BT-Flex'!Y184,\"\")","v":""},{"$f":"IFERROR('EC-RE'!Z184,\"\")","v":""},{"$f":"IFERROR('EC-RP'!Z183,\"\")","v":""},{"$f":"IFERROR('EC-Per'!W183,\"\")","v":""},{"$f":"IFERROR('EC-Mar'!Y183,\"\")","v":""},"","","","","","","","",""]
[{"$f":"IF(ISBLANK(InfoPro!A178),\"\",InfoPro!A178)","v":""},{"$f":"IF(ISBLANK(InfoPro!H178),\"\",InfoPro!H178)","v":""},{"$f":"IF(ISBLANK(InfoPro!B178),\"\",InfoPro!B178)","v":""},{"$f":"IF(ISBLANK(InfoPro!E178),\"\",InfoPro!E178)","v":""},{"$f":"IF(ISBLANK(InfoPro!C178),\"\",InfoPro!C178)","v":""},{"$f":"IF(ISBLANK(InfoPro!D178),\"\",InfoPro!D178)","v":""},{"$f":"IF(ISBLANK(InfoPro!L178),\"\",InfoPro!L178)","v":""},{"$f":"'IT-TA'!H178","v":""},{"$f":"IFERROR('BT-Confi'!Y185,\"\")","v":""},{"$f":"IFERROR('BT-Flex'!Y185,\"\")","v":""},{"$f":"IFERROR('EC-RE'!Z185,\"\")","v":""},{"$f":"IFERROR('EC-RP'!Z184,\"\")","v":""},{"$f":"IFERROR('EC-Per'!W184,\"\")","v":""},{"$f":"IFERROR('EC-Mar'!Y184,\"\")","v":""},"","","","","","","","",""]
[{"$f":"IF(ISBLANK(InfoPro!A179),\"\",InfoPro!A179)","v":""},{"$f":"IF(ISBLANK(InfoPro!H179),\"\",InfoPro!H179)","v":""},{"$f":"IF(ISBLANK(InfoPro!B179),\"\",InfoPro!B179)","v":""},{"$f":"IF(ISBLANK(InfoPro!E179),\"\",InfoPro!E179)","v":""},{"$f":"IF(ISBLANK(InfoPro!C179),\"\",InfoPro!C179)","v":""},{"$f":"IF(ISBLANK(InfoPro!D179),\"\",InfoPro!D179)","v":""},{"$f":"IF(ISBLANK(InfoPro!L179),\"\",InfoPro!L179)","v":""},{"$f":"'IT-TA'!H179","v":""},{"$f":"IFERROR('BT-Confi'!Y186,\"\")","v":""},{"$f":"IFERROR('BT-Flex'!Y186,\"\")","v":""},{"$f":"IFERROR('EC-RE'!Z186,\"\")","v":""},{"$f":"IFERROR('EC-RP'!Z185,\"\")","v":""},{"$f":"IFERROR('EC-Per'!W185,\"\")","v":""},{"$f":"IFERROR('EC-Mar'!Y185,\"\")","v":""},"","","","","","","","",""]
[{"$f":"IF(ISBLANK(InfoPro!A180),\"\",InfoPro!A180)","v":""},{"$f":"IF(ISBLANK(InfoPro!H180),\"\",InfoPro!H180)","v":""},{"$f":"IF(ISBLANK(InfoPro!B180),\"\",InfoPro!B180)","v":""},{"$f":"IF(ISBLANK(InfoPro!E180),\"\",InfoPro!E180)","v":""},{"$f":"IF(ISBLANK(InfoPro!C180),\"\",InfoPro!C180)","v":""},{"$f":"IF(ISBLANK(InfoPro!D180),\"\",InfoPro!D180)","v":""},{"$f":"IF(ISBLANK(InfoPro!L180),\"\",InfoPro!L180)","v":""},{"$f":"'IT-TA'!H180","v":""},{"$f":"IFERROR('BT-Confi'!Y187,\"\")","v":""},{"$f":"IFERROR('BT-Flex'!Y187,\"\")","v":""},{"$f":"IFERROR('EC-RE'!Z187,\"\")","v":""},{"$f":"IFERROR('EC-RP'!Z186,\"\")","v":""},{"$f":"IFERROR('EC-Per'!W186,\"\")","v":""},{"$f":"IFERROR('EC-Mar'!Y186,\"\")","v":""},"","","","","","","","",""]
[{"$f":"IF(ISBLANK(InfoPro!A181),\"\",InfoPro!A181)","v":""},{"$f":"IF(ISBLANK(InfoPro!H181),\"\",InfoPro!H181)","v":""},{"$f":"IF(ISBLANK(InfoPro!B181),\"\",InfoPro!B181)","v":""},{"$f":"IF(ISBLANK(InfoPro!E181),\"\",InfoPro!E181)","v":""},{"$f":"IF(ISBLANK(InfoPro!C181),\"\",InfoPro!C181)","v":""},{"$f":"IF(ISBLANK(InfoPro!D181),\"\",InfoPro!D181)","v":""},{"$f":"IF(ISBLANK(InfoPro!L181),\"\",InfoPro!L181)","v":""},{"$f":"'IT-TA'!H181","v":""},{"$f":"IFERROR('BT-Confi'!Y188,\"\")","v":""},{"$f":"IFERROR('BT-Flex'!Y188,\"\")","v":""},{"$f":"IFERROR('EC-RE'!Z188,\"\")","v":""},{"$f":"IFERROR('EC-RP'!Z187,\"\")","v":""},{"$f":"IFERROR('EC-Per'!W187,\"\")","v":""},{"$f":"IFERROR('EC-Mar'!Y187,\"\")","v":""},"","","","","","","","",""]
[{"$f":"IF(ISBLANK(InfoPro!A182),\"\",InfoPro!A182)","v":""},{"$f":"IF(ISBLANK(InfoPro!H182),\"\",InfoPro!H182)","v":""},{"$f":"IF(ISBLANK(InfoPro!B182),\"\",InfoPro!B182)","v":""},{"$f":"IF(ISBLANK(InfoPro!E182),\"\",InfoPro!E182)","v":""},{"$f":"IF(ISBLANK(InfoPro!C182),\"\",InfoPro!C182)","v":""},{"$f":"IF(ISBLANK(InfoPro!D182),\"\",InfoPro!D182)","v":""},{"$f":"IF(ISBLANK(InfoPro!L182),\"\",InfoPro!L182)","v":""},{"$f":"'IT-TA'!H182","v":""},{"$f":"IFERROR('BT-Confi'!Y189,\"\")","v":""},{"$f":"IFERROR('BT-Flex'!Y189,\"\")","v":""},{"$f":"IFERROR('EC-RE'!Z189,\"\")","v":""},{"$f":"IFERROR('EC-RP'!Z188,\"\")","v":""},{"$f":"IFERROR('EC-Per'!W188,\"\")","v":""},{"$f":"IFERROR('EC-Mar'!Y188,\"\")","v":""},"","","","","","","","",""]
[{"$f":"IF(ISBLANK(InfoPro!A183),\"\",InfoPro!A183)","v":""},{"$f":"IF(ISBLANK(InfoPro!H183),\"\",InfoPro!H183)","v":""},{"$f":"IF(ISBLANK(InfoPro!B183),\"\",InfoPro!B183)","v":""},{"$f":"IF(ISBLANK(InfoPro!E183),\"\",InfoPro!E183)","v":""},{"$f":"IF(ISBLANK(InfoPro!C183),\"\",InfoPro!C183)","v":""},{"$f":"IF(ISBLANK(InfoPro!D183),\"\",InfoPro!D183)","v":""},{"$f":"IF(ISBLANK(InfoPro!L183),\"\",InfoPro!L183)","v":""},{"$f":"'IT-TA'!H183","v":""},{"$f":"IFERROR('BT-Confi'!Y190,\"\")","v":""},{"$f":"IFERROR('BT-Flex'!Y190,\"\")","v":""},{"$f":"IFERROR('EC-RE'!Z190,\"\")","v":""},{"$f":"IFERROR('EC-RP'!Z189,\"\")","v":""},{"$f":"IFERROR('EC-Per'!W189,\"\")","v":""},{"$f":"IFERROR('EC-Mar'!Y189,\"\")","v":""},"","","","","","","","",""]
[{"$f":"IF(ISBLANK(InfoPro!A184),\"\",InfoPro!A184)","v":""},{"$f":"IF(ISBLANK(InfoPro!H184),\"\",InfoPro!H184)","v":""},{"$f":"IF(ISBLANK(InfoPro!B184),\"\",InfoPro!B184)","v":""},{"$f":"IF(ISBLANK(InfoPro!E184),\"\",InfoPro!E184)","v":""},{"$f":"IF(ISBLANK(InfoPro!C184),\"\",InfoPro!C184)","v":""},{"$f":"IF(ISBLANK(InfoPro!D184),\"\",InfoPro!D184)","v":""},{"$f":"IF(ISBLANK(InfoPro!L184),\"\",InfoPro!L184)","v":""},{"$f":"'IT-TA'!H184","v":""},{"$f":"IFERROR('BT-Confi'!Y191,\"\")","v":""},{"$f":"IFERROR('BT-Flex'!Y191,\"\")","v":""},{"$f":"IFERROR('EC-RE'!Z191,\"\")","v":""},{"$f":"IFERROR('EC-RP'!Z190,\"\")","v":""},{"$f":"IFERROR('EC-Per'!W190,\"\")","v":""},{"$f":"IFERROR('EC-Mar'!Y190,\"\")","v":""},"","","","","","","","",""]
[{"$f":"IF(ISBLANK(InfoPro!A185),\"\",InfoPro!A185)","v":""},{"$f":"IF(ISBLANK(InfoPro!H185),\"\",InfoPro!H185)","v":""},{"$f":"IF(ISBLANK(InfoPro!B185),\"\",InfoPro!B185)","v":""},{"$f":"IF(ISBLANK(InfoPro!E185),\"\",InfoPro!E185)","v":""},{"$f":"IF(ISBLANK(InfoPro!C185),\"\",InfoPro!C185)","v":""},{"$f":"IF(ISBLANK(InfoPro!D185),\"\",InfoPro!D185)","v":""},{"$f":"IF(ISBLANK(InfoPro!L185),\"\",InfoPro!L185)","v":""},{"$f":"'IT-TA'!H185","v":""},{"$f":"IFERROR('BT-Confi'!Y192,\"\")","v":""},{"$f":"IFERROR('BT-Flex'!Y192,\"\")","v":""},{"$f":"IFERROR('EC-RE'!Z192,\"\")","v":""},{"$f":"IFERROR('EC-RP'!Z191,\"\")","v":""},{"$f":"IFERROR('EC-Per'!W191,\"\")","v":""},{"$f":"IFERROR('EC-Mar'!Y191,\"\")","v":""},"","","","","","","","",""]
[{"$f":"IF(ISBLANK(InfoPro!A186),\"\",InfoPro!A186)","v":""},{"$f":"IF(ISBLANK(InfoPro!H186),\"\",InfoPro!H186)","v":""},{"$f":"IF(ISBLANK(InfoPro!B186),\"\",InfoPro!B186)","v":""},{"$f":"IF(ISBLANK(InfoPro!E186),\"\",InfoPro!E186)","v":""},{"$f":"IF(ISBLANK(InfoPro!C186),\"\",InfoPro!C186)","v":""},{"$f":"IF(ISBLANK(InfoPro!D186),\"\",InfoPro!D186)","v":""},{"$f":"IF(ISBLANK(InfoPro!L186),\"\",InfoPro!L186)","v":""},{"$f":"'IT-TA'!H186","v":""},{"$f":"IFERROR('BT-Confi'!Y193,\"\")","v":""},{"$f":"IFERROR('BT-Flex'!Y193,\"\")","v":""},{"$f":"IFERROR('EC-RE'!Z193,\"\")","v":""},{"$f":"IFERROR('EC-RP'!Z192,\"\")","v":""},{"$f":"IFERROR('EC-Per'!W192,\"\")","v":""},{"$f":"IFERROR('EC-Mar'!Y192,\"\")","v":""},"","","","","","","","",""]
[{"$f":"IF(ISBLANK(InfoPro!A187),\"\",InfoPro!A187)","v":""},{"$f":"IF(ISBLANK(InfoPro!H187),\"\",InfoPro!H187)","v":""},{"$f":"IF(ISBLANK(InfoPro!B187),\"\",InfoPro!B187)","v":""},{"$f":"IF(ISBLANK(InfoPro!E187),\"\",InfoPro!E187)","v":""},{"$f":"IF(ISBLANK(InfoPro!C187),\"\",InfoPro!C187)","v":""},{"$f":"IF(ISBLANK(InfoPro!D187),\"\",InfoPro!D187)","v":""},{"$f":"IF(ISBLANK(InfoPro!L187),\"\",InfoPro!L187)","v":""},{"$f":"'IT-TA'!H187","v":""},{"$f":"IFERROR('BT-Confi'!Y194,\"\")","v":""},{"$f":"IFERROR('BT-Flex'!Y194,\"\")","v":""},{"$f":"IFERROR('EC-RE'!Z194,\"\")","v":""},{"$f":"IFERROR('EC-RP'!Z193,\"\")","v":""},{"$f":"IFERROR('EC-Per'!W193,\"\")","v":""},{"$f":"IFERROR('EC-Mar'!Y193,\"\")","v":""},"","","","","","","","",""]