{"text_format":"1","workbook":"xlsx","n_sheets":12,"sheets":["General","Tablas","InfoPro","IT-TA","EC-RE","EC-RP","EC-Per","EC-Mar","EC-Mar2","BT-Flex","BT-Confi","Resumen"],"not_rendered":{"charts":0,"images":0,"macros":1,"external_links":0,"defined_names":3,"comments":4,"pivot_tables":0},"unopened":[],"bounds":{"document_bytes":16777216,"sheet_cells":100000,"rows_first":2000,"rows_last":500,"rows_between":2000,"halvings":0,"cell_chars":16384,"cell_head_chars":4096},"cells_cut":0,"cells_raw":0,"read":"whole","date_system":"1900"}

{"sheet":"General","index":0,"n_rows":17,"n_cols":6,"rows_kept":17,"cut":false,"hidden":false,"merged":[[2,1,2,2],[0,1,1,5]]}
[null,"Módulo de Ingreso de Información"]
[]
[]
[]
[null,"Código",3]
[null,"Nombre","Prueba 1",null,"Permisos Ambiental obtenida","NO"]
[null,"Fecha Radicación","2022-02-08"]
[null,"Hora Radicación","12:35:00"]
[null,"Capacidad (MW)",50]
[null,"Tecnología","Solar FV",null,"Costo Activos de Uso ($COP)",0]
[null,"Barra 1","Chinú",null,"Delta pérdidas (GWh)",100]
[null,"Código Asociado",null,null,"Reducción Marginal VPN ($COP)",1000000]
[null,"FPO","2025-12-31"]
[null,"FPO 2","2026-12-31"]
[null,"Obligaciones","NO"]
[null,"Requiere Expansión","NO"]
[null,"Área Eléctrica","Antioquia"]

{"sheet":"Tablas","index":1,"n_rows":19,"n_cols":23,"rows_kept":19,"cut":false,"hidden":false,"merged":[]}
[null,"Tecnologia","Factor de planta","Iflex","IE-RP","Factor ENFICC","Factor emisiones","Oferta promedio","Comentarios","Area Eléctrica",null,null,null,"FPO",null,"Fecha Radicacion","Hora Radicacion",null,"Gestion Ambiental",null,"Consulta Previa",null,"Permiso Arquelogico"]
[null,"Solar FV",0.26,0,0.31905022790180565,0.15,0,83577.200000000012,"Los parámetros fueron calculados conforme a la metodología presentada en la Circular UPME 057 de 2022.","Altántico",null,"SI",null,"2023-01-01",null,"2022-01-01","00:00:00",null,"No hay avances",null,"No hay avances",null,"No hay avances"]
[null,"Eólico Onshore",0.56999999999999995,0,0.31905022790180565,0.06,0,83577.200000000012,"Los parámetros fueron calculados conforme a la metodología presentada en la Circular UPME 057 de 2022.","Bolívar",null,"NO",null,"2037-12-31",null,"2022-03-31","23:59:59",null,"EIA",null,"Resolución. No Procede",null,"Aprobado"]
[null,"Eólico Offshore",0.56999999999999995,0,0.31905022790180565,0.06,0,83577.200000000012,"Los parámetros fueron calculados conforme a la metodología presentada en la Circular UPME 057 de 2022.","Córdoba - Sucre, Chinú",null,null,null,null,null,null,null,null,"LA",null,"Resolución. Si Procede",null,"No Aplica"]
[null,"Biomasa y Residuos",0.7,0.25,0.31905022790180565,0.83,0.37,83577.200000000012,"Los parámetros fueron calculados conforme a la metodología presentada en la Circular UPME 057 de 2022.","Córdoba - Sucre, Cerromatoso",null,null,null,null,null,null,null,null,"PA",null,"Finalizada"]
[null,"Geotérmica",0.8,0.25,0.31905022790180565,0.7,0,83577.200000000012,"Los parámetros fueron calculados conforme a la metodología presentada en la Circular UPME 057 de 2022.","Guajira - Cesar - Madgalena",null,null,null,null,null,null,null,null,"No Aplica"]
[null,"PCH",0.54,0.61,0.15509303371404598,0.15,0,158280.5,"Los parámetros fueron calculados conforme a la metodología presentada en la Circular UPME 057 de 2022.","Santander"]
[null,"Termica - Ciclo abierto",0.85,0.4,-0.57617415807300276,0.83,0.95,267152.5,"Los parámetros fueron calculados conforme a la metodología presentada en la Circular UPME 057 de 2022.","Norte de Santander"]
[null,"Termica - Ciclo combinado",0.85,0.27,-0.57617415807300276,0.83,0.95,267152.5,"Los parámetros fueron calculados conforme a la metodología presentada en la Circular UPME 057 de 2022.","Boyacá - Casanare"]
[null,"Termica a vapor",0.85,0.25,-0.57617415807300276,0.83,0.37,267152.5,"Los parámetros fueron calculados conforme a la metodología presentada en la Circular UPME 057 de 2022.","Arauca"]
[null,"Termica - diesel",0.85,0.6,-4.2828265705485453,0.83,0.77,709472.9,"Los parámetros fueron calculados conforme a la metodología presentada en la Circular UPME 057 de 2022.","Antioquia"]
[null,"Hidraulica",0.6,0.61,0.15509303371404598,0.31,0,158280.5,"Los parámetros fueron calculados conforme a la metodología presentada en la Circular UPME 057 de 2022.","Chocó"]
[null,"Cogeneracion",0.85,0.1,0.31905022790180565,0.83,0.37,83577.200000000012,"Los parámetros fueron calculados conforme a la metodología presentada en la Circular UPME 057 de 2022.","Bogotá"]
[null,null,null,null,null,null,null,null,null,"Meta - Guaviare"]
[null,null,null,null,null,null,null,null,null,"Caldas - Quidio - Risaralda"]
[null,null,null,null,null,null,null,null,null,"Valle"]
[null,null,null,null,null,null,null,null,null,"Cauca - Nariño"]
[null,null,null,null,null,null,null,null,null,"Tolima - Huila Caquetá"]
[null,null,null,null,null,null,null,null,null,"Putumayo"]

{"sheet":"InfoPro","index":2,"n_rows":171,"n_cols":16,"rows_kept":171,"cut":false,"hidden":false,"merged":[]}
["Código","Nombre","Fecha Radicación","Hora Radicación","Capacidad","Tipo","Barra 1","Código Asociado","FPO","FPO 2","Obligaciones","Requiere Expansión","Area Eléctrica","Permisos Ambiental obtenida","Costo Activos de Uso","Pérdidas reportadas"]
["SC_44_A1","El Floral 1","2022-04-13","5:41 pm",19.899999999999999,"Solar FV","Toluviejo 110","SC_44","2025-12-31","2025-12-31","NO","NO","Córdoba - Sucre","NO",0,-3.78]
["SC_47_A1","El Floral II - 19.9 MW","2022-04-13","5:48 pm",19.899999999999999,"Solar FV","Toluviejo 110","SC_47","2025-12-31","2025-12-31","NO","NO","Córdoba - Sucre","NO",0,-3.78]
["SC_408_A1","El Jardín 40 MW","2022-05-06","5:54 pm",40,"Solar FV","San Marcos 110","SC_408","2025-12-31","2025-12-31","NO","NO","Córdoba - Sucre","NO",0,-23.991959999999999]
["SC_454_A1","PARQUE SOLAR SAN RAFAEL - 300 MW","2022-05-18","14:59:00",300,"Solar FV","Chinu 220","SC_454","2026-12-31","2026-12-31","NO","SI","Córdoba - Sucre","NO",82590000000,-16.1937]
["SC_454_A2","PARQUE SOLAR SAN RAFAEL - 300 MW","2022-05-18","14:59:00",300,"Solar FV","Chinu 500","SC_454","2026-12-31","2026-12-31","NO","NO","Córdoba - Sucre","NO",0,-15.65443]
["SC_483_A1","PARQUE SOLAR LOMAS 39.9 MW","2022-05-21","2:02 pm",39.9,"Solar FV","Nva Monteria 110","SC_483","2025-12-31","2025-12-31","NO","NO","Córdoba - Sucre","NO",0,-11.079632]
["SC_586_A1","Orquídea del Sucre - Sierra Flor 60 MW","2022-06-24","4:46 pm",60,"Solar FV","Sierra Flor 110","SC_586","2027-12-31","2027-12-31","NO","NO","Córdoba - Sucre","NO",0,-7.3028500000000003]
["SC_586_A2","Orquídea del Sucre - Sierra Flor 60 MW","2022-06-24","4:46 pm",60,"Solar FV","Nva Toluviejo 110","SC_586","2027-12-31","2027-12-31","NO","NO","Córdoba - Sucre","NO",0,-7.3616299999999999]
["SC_681_A1","PARQUE SOLARLAS LAS PALMAS de 90MW","2022-06-28","5:31 pm",90,"Solar FV","Chinu 110","SC_681","2025-12-31","2025-12-31","NO","NO","Córdoba - Sucre","NO",0,-11.14]
["SC_681_A2","PARQUE SOLARLAS LAS PALMAS de 90MW","2022-06-28","5:31 pm",90,"Solar FV","Chinu 220","SC_681","2025-12-31","2025-12-31","NO","NO","Córdoba - Sucre","NO",0,-11.46]
["SC_720_A1","El Jazmín","2022-07-01","12:57 pm",19.899999999999999,"Solar FV","Tierralta 110","SC_720","2025-12-31","2025-12-31","NO","NO","Córdoba - Sucre","NO",0,-2.2711399999999999]
["SC_720_A2","El Jazmín","2022-07-01","12:57 pm",19.899999999999999,"Solar FV","Tierra Alta 34.5","SC_720","2025-12-31","2025-12-31","NO","NO","Córdoba - Sucre","NO",0,-2.2644700000000002]
["SC_713_A1","Crucero - 300MW","2022-07-01","1:56 pm",300,"Solar FV","Sahagun 500 kV","SC_713","2027-12-31","2027-12-31","NO","NO","Córdoba - Sucre","NO",0,-37.68]
["SC_836_A1","BONGO DEL SINÚ DE 19.9 MW","2022-07-09","6:03 pm",19.899999999999999,"Solar FV","Tierra Alta 34.5","SC_836","2025-12-31","2025-12-31","NO","NO","Córdoba - Sucre","NO",0,-4.9800000000000004]
["SC_836_A2","BONGO DEL SINÚ DE 19.9 MW","2022-07-09","6:03 pm",19.899999999999999,"Solar FV","Tierralta 110","SC_836","2025-12-31","2025-12-31","NO","NO","Córdoba - Sucre","NO",0,-5.15]
["SC_778_A1","KOS 19.9","2022-07-12","3:56 pm",19.899999999999999,"Solar FV","Cerete 34.5","SC_778","2025-12-31","2025-12-31","NO","NO","Córdoba - Sucre","NO",0,-1.4577899999999999]
["SC_778_A2","KOS 19.9","2022-07-12","3:56 pm",19.899999999999999,"Solar FV","Cerete 13.8","SC_778","2025-12-31","2025-12-31","NO","NO","Córdoba - Sucre","NO",0,-1.39846]
["SC_942_A1","PASCUA_60MW","2022-07-12","4:46 pm",60,"Solar FV","Nva Toluviejo 110","SC_942","2026-12-31","2026-12-31","NO","NO","Córdoba - Sucre","NO",0,-3.0354800000000002]
["SC_942_A2","PASCUA_60MW","2022-07-12","4:46 pm",60,"Solar FV","Sierra Flor 110","SC_942","2026-12-31","2026-12-31","NO","NO","Córdoba - Sucre","NO",0,-2.7037100000000001]
["SC_1763_A1","Taurus Solar de 22MW (19,5 MW)","2022-07-12","10:01 pm",19.5,"Solar FV","San Marcos 34.5","SC_1763","2025-12-31","2025-12-31","NO","NO","Córdoba - Sucre","NO",0,-1.1202288]
["SC_1763_A2","Taurus Solar de 22MW (19,5 MW)","2022-07-12","10:01 pm",19.5,"Solar FV","San Marcos 110","SC_1763","2025-12-31","2025-12-31","NO","NO","Córdoba - Sucre","NO",0,-0.63962600000000003]
["SC_828_A1","PARQUE SOLAR EL VASCO","2022-07-13","9:28:00 am",60,"Solar FV","Chinu Planta 110","SC_828","2026-12-31","2026-12-31","NO","NO","Córdoba - Sucre","NO",0,-7.7999999999999999E-4]
["SC_828_A2","PARQUE SOLAR EL VASCO","2022-07-13","9:28:00 am",60,"Solar FV","Chinu 110","SC_828","2026-12-31","2026-12-31","NO","NO","Córdoba - Sucre","NO",0,-7.7999999999999999E-4]
["SC_1179_A1","Montes 90 MW","2022-07-14","5:28 pm",90,"Solar FV","Chinu 220","SC_1179","2026-12-31","2026-12-31","NO","NO","Córdoba - Sucre","NO",0,-8.3800000000000008]
["SC_1179_A2","Montes 90 MW","2022-07-14","5:28 pm",90,"Solar FV","Chinu 110","SC_1179","2026-12-31","2026-12-31","NO","NO","Córdoba - Sucre","NO",0,-7.85]
["SC_1206_A1","Cerromatoso Solar 300 MW","2022-07-15","8:51 am",300,"Solar FV","Cerromatoso 500","SC_1206","2028-12-31","2028-12-31","NO","NO","Córdoba - Sucre","NO",0,-25.79]
["SC_1206_A2","Cerromatoso Solar 300 MW","2022-07-15","8:51 am",300,"Solar FV","Sahagun 500 kV","SC_1206","2028-12-31","2028-12-31","NO","NO","Córdoba - Sucre","NO",0,-39.72]
["SC_1372_A1","Pétalo del Bolívar I Magangué","2022-07-15","09:04:00",9.9,"Solar FV","Magangue 13,8 kV","SC_1372","2025-12-31","2025-12-31","NO","NO","Córdoba - Sucre","NO",0,-0.96301999999999999]
["SC_1372_A2","Pétalo del Bolívar I Magangué","2022-07-15","09:04:00",9.9,"Solar FV","Magangue 34,5 kV","SC_1372","2025-12-31","2025-12-31","NO","NO","Córdoba - Sucre","NO",0,-0.94679000000000002]
["SC_692_A1","TermoJobo","2022-07-15","9:28 am",9.9,"Termica a vapor","El Viajano 34.5","SC_692","2024-12-31","2024-12-31","NO","NO","Córdoba - Sucre","NO",0,-6.3459399999999997]
["SC_1057_A1","Río Sinú Solar I 9,9 MW","2022-07-15","9:29 am",9.9,"Solar FV","Rio Sinu 13.8","SC_1057","2025-12-31","2025-12-31","NO","NO","Córdoba - Sucre","NO",0,-0.64]
["SC_1057_A2","Río Sinú Solar I 9,9 MW","2022-07-15","9:29 am",9.9,"Solar FV","Rio sinu 34.5","SC_1057","2025-12-31","2025-12-31","NO","NO","Córdoba - Sucre","NO",0,-0.69]
["SC_1058_A1","Río Sinú Solar II 9,9 MW","2022-07-15","9:29 am",9.9,"Solar FV","Rio Sinu 13.8","SC_1058","2025-12-31","2025-12-31","NO","NO","Córdoba - Sucre","NO",0,-0.64]
["SC_1058_A2","Río Sinú Solar II 9,9 MW","2022-07-15","9:29 am",9.9,"Solar FV","Rio sinu 34.5","SC_1058","2025-12-31","2025-12-31","NO","NO","Córdoba - Sucre","NO",0,-0.69]
["SC_855_A1","El Lirio","2022-07-15","9:30 am",19.899999999999999,"Solar FV","Cerete 34.5","SC_855","2025-12-31","2025-12-31","NO","NO","Córdoba - Sucre","NO",0,-0.82684000000000002]
["SC_855_A2","El Lirio","2022-07-15","9:30 am",19.899999999999999,"Solar FV","Cerete 110","SC_855","2025-12-31","2025-12-31","NO","NO","Córdoba - Sucre","NO",0,-0.83831]
["SC_630_A1","TR Solar 14","2022-07-15","12:52 pm",99.9,"Solar FV","Sierra Flor 110","SC_630","2026-08-31","2026-08-31","NO","NO","Córdoba - Sucre","NO",0,-78.22]
["SC_1269_A1","Centro Solar II 4 MW","2022-07-15","2:27 pm",4,"Solar FV","Centro Alegre 34.5","SC_1269","2023-12-31","2023-12-31","NO","NO","Córdoba - Sucre","NO",0,-3.8319999999999999]
["SC_1268_A1","Sol de Ayapel II de 7 MW","2022-07-15","2:29 pm",7,"Solar FV","Ayapel 34.5","SC_1268","2024-12-31","2024-12-31","NO","NO","Córdoba - Sucre","NO",0,-6.835]
["SC_1268_A2","Sol de Ayapel II de 7 MW","2022-07-15","2:29 pm",7,"Solar FV","Ayapel 13.8","SC_1268","2024-12-31","2024-12-31","NO","NO","Córdoba - Sucre","NO",0,-6.8330000000000002]
["SC_1118_A1","Boston 9,9 MW","2022-07-15","3:58 pm",9.9,"Solar FV","Boston 13.8","SC_1118","2025-12-31","2025-12-31","NO","NO","Córdoba - Sucre","NO",0,-9.9909999999999999E-2]
["SC_1118_A2","Boston 9,9 MW","2022-07-15","3:58 pm",9.9,"Solar FV","Boston 34.5","SC_1118","2025-12-31","2025-12-31","NO","NO","Córdoba - Sucre","NO",0,-0.10303]
["SC_632_A1","TR Solar 5","2022-07-15","4:22 pm",19.899999999999999,"Solar FV","Toluviejo 110","SC_632","2026-12-31","2026-12-31","NO","NO","Córdoba - Sucre","NO",0,-4.6908124649999996]
["SC_632_A2","TR Solar 5","2022-07-15","4:22 pm",19.899999999999999,"Solar FV","Sierra Flor 110","SC_632","2026-12-31","2026-12-31","NO","NO","Córdoba - Sucre","NO",0,-4.273762735]
["SC_1415_A1","Efigen C03 99 MW","2022-07-16","1:24 pm",99,"Solar FV","Sahagun 500 kV","SC_1415","2025-12-31","2025-12-31","NO","SI","Córdoba - Sucre","NO",54189464587,-0.03]
["SC_1415_A2","Efigen C03 99 MW","2022-07-16","1:24 pm",99,"Solar FV","Chinu 500","SC_1415","2025-12-31","2025-12-31","NO","SI","Córdoba - Sucre","NO",54189464587,-0.03]
["SC_1420_A1","Efigen C04 99 MW","2022-07-16","1:25 pm",99,"Solar FV","Sahagun 500 kV","SC_1420","2025-12-31","2025-12-31","NO","SI","Córdoba - Sucre","NO",54189464587,-0.03]
["SC_1420_A2","Efigen C04 99 MW","2022-07-16","1:25 pm",99,"Solar FV","Chinu 500","SC_1420","2025-12-31","2025-12-31","NO","SI","Córdoba - Sucre","NO",54189464587,-0.03]
["SC_1435_A1","Parque Solar Las Brisas","2022-07-16","4:03 pm",9.9,"Solar FV","Sierra Flor 34.5","SC_1435","2024-12-31","2024-12-31","NO","NO","Córdoba - Sucre","NO",0,-0.93700000000000006]
["SC_978_A1","Borugo Solar","2022-07-16","4:38 pm",99.9,"Solar FV","Boston 110","SC_978","2026-12-31","2026-12-31","NO","NO","Córdoba - Sucre","NO",0,-1.2619999999999999E-2]
["SC_1520_A1","Autogenerador Solar Argos Tolcemento - 19.9 MW","2022-07-17","3:57 pm",19.899999999999999,"Solar FV","Toluviejo 220","SC_1520","2024-12-31","2024-12-31","NO","NO","Córdoba - Sucre","NO",0,-1.8237000000000001]
["SC_1520_A2","Autogenerador Solar Argos Tolcemento - 19.9 MW","2022-07-17","3:57 pm",19.899999999999999,"Solar FV","Toluviejo 220","SC_1520","2024-12-31","2024-12-31","NO","NO","Córdoba - Sucre","NO",0,-1.8237000000000001]
["SC_1527_A1","Nueva Montería Solar III _9,9 MW","2022-07-17","5:00 pm",9.9,"Solar FV","Nva Monteria 34.5","SC_1527","2025-12-31","2025-12-31","NO","NO","Córdoba - Sucre","NO",0,-0.187]
["SC_1527_A2","Nueva Montería Solar III _9,9 MW","2022-07-17","5:00 pm",9.9,"Solar FV","Nva Monetria 13.8","SC_1527","2025-12-31","2025-12-31","NO","NO","Córdoba - Sucre","NO",0,-0.189]
["SC_1395_A1","San Marcos I 19.9","2022-07-17","10:23 pm",19.899999999999999,"Solar FV","San Marcos 110","SC_1395","2026-12-01","2026-12-01","NO","NO","Córdoba - Sucre","NO",0,0.30099999999999999]
["SC_1396_A1","San Marcos II 19.9","2022-07-18","6:17 am",19.899999999999999,"Solar FV","San Marcos 110","SC_1396","2026-12-01","2026-12-01","NO","NO","Córdoba - Sucre","NO",0,0.30099999999999999]
["SC_1359_A1","El Corozo_250MW","2022-07-18","9:42 am",250,"Solar FV","Sahagun 500 kV","SC_1359","2027-12-31","2027-12-31","NO","SI","Córdoba - Sucre","NO",54189464587,-0.1]
["SC_1359_A2","El Corozo_250MW","2022-07-18","9:42 am",250,"Solar FV","Chinu 500","SC_1359","2027-12-31","2027-12-31","NO","SI","Córdoba - Sucre","NO",54189464587,-0.09]
["SC_1598_A1","PARQUE SOLAR FOTOVOLTAICO MATIMBA de 150MW","2022-07-18","11:16 am",150,"Solar FV","Chinu 220","SC_1598","2026-12-31","2026-12-31","NO","NO","Córdoba - Sucre","NO",0,-38.28]
["SC_1598_A2","PARQUE SOLAR FOTOVOLTAICO MATIMBA de 150MW","2022-07-18","11:16 am",150,"Solar FV","Chinu 500","SC_1598","2026-12-31","2026-12-31","NO","NO","Córdoba - Sucre","NO",0,-37.22]
["SC_981_A1","Yaguarundi Solar","2022-07-18","1:43 pm",40,"Solar FV","San Marcos 110","SC_981","2026-12-31","2026-12-31","NO","NO","Córdoba - Sucre","NO",0,-6.7523999999999997]
["SC_981_A2","Yaguarundi Solar","2022-07-18","1:43 pm",40,"Solar FV","Toluviejo 110","SC_981","2026-12-31","2026-12-31","NO","NO","Córdoba - Sucre","NO",0,-7.3872999999999998]
["SC_1634_A1","El Tapir Solar 99.9 MW","2022-07-18","3:24 pm",99.9,"Solar FV","Boston 110","SC_1634","2026-12-31","2026-12-31","NO","NO","Córdoba - Sucre","NO",0,-13.289]
["SC_782_A1","Parque Solar El Corozo 60 MW","2022-07-18","10:24 pm",60,"Solar FV","Sierra Flor 110","SC_782","2026-12-31","2026-12-31","NO","NO","Córdoba - Sucre","NO",0,-7.5504999999999995E-4]
["SC_782_A2","Parque Solar El Corozo 60 MW","2022-07-18","10:24 pm",60,"Solar FV","Toluviejo 110","SC_782","2026-12-31","2026-12-31","NO","NO","Córdoba - Sucre","NO",0,-8.6105000000000003E-4]
["SC_1762_A1","SPK CERETÉ SOLAR_19.9MW","2022-07-19","4:33 pm",19.899999999999999,"Solar FV","Cerete 34.5","SC_1762","2026-12-31","2026-12-31","NO","NO","Córdoba - Sucre","NO",0,-0.82684000000000002]
["SC_1762_A2","SPK CERETÉ SOLAR_19.9MW","2022-07-19","4:33 pm",19.899999999999999,"Solar FV","Cerete 110","SC_1762","2026-12-31","2026-12-31","NO","NO","Córdoba - Sucre","NO",0,-0.83831]
["SC_1782_A1","Orquídea del Sucre - Toluviejo","2022-07-22","2:20 pm",112,"Solar FV","Nva Toluviejo 110","SC_1782","2027-12-31","2027-12-31","NO","NO","Córdoba - Sucre","NO",0,-48.089199999999998]
["SC_1782_A2","Orquídea del Sucre - Toluviejo","2022-07-22","2:20 pm",112,"Solar FV","Toluviejo 220","SC_1782","2027-12-31","2027-12-31","NO","NO","Córdoba - Sucre","NO",0,-46.311630000000001]
["SC_1784_A1","Pétalo del Sucre - Sierra Flor 9,9 MW","2022-07-22","2:47 pm",9.9,"Solar FV","Sierra Flor 13.8","SC_1784","2026-01-31","2026-01-31","NO","NO","Córdoba - Sucre","NO",0,-0.70828999999999998]
["SC_1784_A2","Pétalo del Sucre - Sierra Flor 9,9 MW","2022-07-22","2:47 pm",9.9,"Solar FV","Sierra Flor 34.5","SC_1784","2026-01-31","2026-01-31","NO","NO","Córdoba - Sucre","NO",0,-0.72755999999999998]
["SC_1715_A1","Andrómeda Solar de 50 MW (entrega 41 MW)","2022-07-22","5:03 pm",41,"Solar FV","Toluviejo 110","SC_1715","2026-12-31","2026-12-31","NO","NO","Córdoba - Sucre","NO",0,-3.0894184]
["SC_1715_A2","Andrómeda Solar de 50 MW (entrega 41 MW)","2022-07-22","5:03 pm",41,"Solar FV","Sierra Flor 110","SC_1715","2026-12-31","2026-12-31","NO","NO","Córdoba - Sucre","NO",0,-1.7282312]
["SC_1809_A1","DSE COVEÑAS","2022-07-26","9:37 am",9.9,"Solar FV","Coveñas 110","SC_1809","2025-11-30","2025-11-30","NO","NO","Córdoba - Sucre","NO",0,-0.33595000000000003]
["SC_1809_A2","DSE COVEÑAS","2022-07-26","9:37 am",9.9,"Solar FV","Coveñas 34.5","SC_1809","2025-11-30","2025-11-30","NO","NO","Córdoba - Sucre","NO",0,-0.33615]
["SC_1838_A1","Since Solar I 9,9 MW","2022-07-28","3:03 pm",9.9,"Solar FV","Since 13.8","SC_1838","2025-12-31","2025-12-31","NO","NO","Córdoba - Sucre","NO",0,-0.9798]
["SC_1838_A2","Since Solar I 9,9 MW","2022-07-28","3:03 pm",9.9,"Solar FV","Corozal 13.8","SC_1838","2025-12-31","2025-12-31","NO","NO","Córdoba - Sucre","NO",0,-0.70226999999999995]
["SC_1853_A1","Tolú Solar 9,9 MW","2022-07-28","3:08 pm",9.9,"Solar FV","Tolu 13.8","SC_1853","2025-12-31","2025-12-31","NO","NO","Córdoba - Sucre","NO",0,-0.65049000000000001]
["SC_1853_A2","Tolú Solar 9,9 MW","2022-07-28","3:08 pm",9.9,"Solar FV","Tolu 34.5","SC_1853","2025-12-31","2025-12-31","NO","NO","Córdoba - Sucre","NO",0,-0.66493999999999998]
["SC_1882_A1","Proyecto Solar Oviedo","2022-07-28","4:24 pm",9.9,"Solar FV","Since 13.8","SC_1882","2025-12-31","2025-12-31","NO","NO","Córdoba - Sucre","NO",0,-0.9798]
["SC_1882_A2","Proyecto Solar Oviedo","2022-07-28","4:24 pm",9.9,"Solar FV","Corozal 13.8","SC_1882","2025-12-31","2025-12-31","NO","NO","Córdoba - Sucre","NO",0,-0.70226999999999995]
["SC_1913_A1","PS Noe","2022-07-29","10:49 am",9.9,"Solar FV","Cienaga de Oro 34.5","SC_1913","2025-12-31","2025-12-31","NO","NO","Córdoba - Sucre","NO",0,0.53991999999999996]
["SC_1913_A2","PS Noe","2022-07-29","10:49 am",9.9,"Solar FV","Cerete 34.5","SC_1913","2025-12-31","2025-12-31","NO","NO","Córdoba - Sucre","NO",0,-0.36765999999999999]
["SC_1491_A1","SABANA SOLAR_90MW","2022-07-31","9:17 pm",90,"Solar FV","Chinu 110","SC_1491","2025-12-31","2025-12-31","NO","NO","Córdoba - Sucre","NO",0,-11.2]
["SC_1491_A2","SABANA SOLAR_90MW","2022-07-31","9:17 pm",90,"Solar FV","Chinu 220","SC_1491","2025-12-31","2025-12-31","NO","NO","Córdoba - Sucre","NO",0,-11.5]
["SC_1894_A1","Aquila Solar","2022-08-01","9:57 am",47,"Solar FV","Sierra Flor 110","SC_1894","2025-12-31","2025-12-31","NO","NO","Córdoba - Sucre","NO",0,-2.5540655999999999]
["SC_1894_A2","Aquila Solar","2022-08-01","9:57 am",47,"Solar FV","Boston 110","SC_1894","2025-12-31","2025-12-31","NO","NO","Córdoba - Sucre","NO",0,-2.0046384000000002]
["SC_1887_A1","Boston Solar","2022-08-01","11:17 am",100,"Solar FV","Boston 110","SC_1887","2026-12-31","2026-12-31","NO","NO","Córdoba - Sucre","NO",0,-11.839040000000001]
["SC_1887_A2","Boston Solar","2022-08-01","11:17 am",100,"Solar FV","Sierra Flor 110","SC_1887","2026-12-31","2026-12-31","NO","NO","Córdoba - Sucre","NO",0,-12.056570000000001]
["SC_2104_A1","El Dorado - 300 MW","2022-08-03","5:42 pm",300,"Solar FV","Sahagun 500 kV","SC_2104","2026-12-31","2026-12-31","NO","NO","Córdoba - Sucre","NO",0,-16.74709]
["SC_2104_A2","El Dorado - 300 MW","2022-08-03","5:42 pm",300,"Solar FV","Chinu 500","SC_2104","2026-12-31","2026-12-31","NO","NO","Córdoba - Sucre","NO",0,-15.47419]
["SC_2028_A1","Parque Solar Fandango","2022-08-05","11:45 am",19.899999999999999,"Solar FV","Sierra Flor 110","SC_2028","2025-01-31","2025-01-31","NO","NO","Córdoba - Sucre","NO",0,-1.8129999999999999]
["SC_2028_A2","Parque Solar Fandango","2022-08-05","11:45 am",19.899999999999999,"Solar FV","Sierra Flor 34.5","SC_2028","2025-01-31","2025-01-31","NO","NO","Córdoba - Sucre","NO",0,-1.7609999999999999]
["SC_2015_A1","Parque Solar El Bongo","2022-08-05","11:51 am",19.899999999999999,"Solar FV","Tierralta 110","SC_2015","2025-01-31","2025-01-31","NO","NO","Córdoba - Sucre","NO",0,-2.2709999999999999]
["SC_2015_A2","Parque Solar El Bongo","2022-08-05","11:51 am",19.899999999999999,"Solar FV","Tierra Alta 34.5","SC_2015","2025-01-31","2025-01-31","NO","NO","Córdoba - Sucre","NO",0,-2.2639999999999998]
["SC_2049_A1","Parque Solar Sinú","2022-08-05","11:55 am",9.9,"Solar FV","Rio sinu 34.5","SC_2049","2025-12-31","2025-12-31","NO","NO","Córdoba - Sucre","NO",0,-0.37373000000000001]
["SC_2049_A2","Parque Solar Sinú","2022-08-05","11:55 am",9.9,"Solar FV","Rio Sinu 110","SC_2049","2025-12-31","2025-12-31","NO","NO","Córdoba - Sucre","NO",0,-0.36270000000000002]
["SC_2042_A1","Parque Solar La Uvita","2022-08-05","11:58 am",19.899999999999999,"Solar FV","Coveñas 34.5","SC_2042","2025-12-31","2025-12-31","NO","NO","Córdoba - Sucre","NO",0,-1.732]
["SC_2042_A2","Parque Solar La Uvita","2022-08-05","11:58 am",19.899999999999999,"Solar FV","Coveñas 110","SC_2042","2025-12-31","2025-12-31","NO","NO","Córdoba - Sucre","NO",0,-1.774]
["SC_2111_A1","PROYECTO QUIMARÍ SOLAR_90MW","2022-08-07","12:03 am",90,"Solar FV","Urra 220","SC_2111","2025-12-31","2025-12-31","NO","SI","Córdoba - Sucre","NO",7181670000,-17.809000000000001]
["SC_2111_A2","PROYECTO QUIMARÍ SOLAR_90MW","2022-08-07","12:03 am",90,"Solar FV","Uraba 220","SC_2111","2025-12-31","2025-12-31","NO","SI","Córdoba - Sucre","NO",7181670000,-17.805]
["SC_2173_A1","Nueva Montería Solar I 9,9 MW","2022-08-08","11:08 am",9.9,"Solar FV","Nva Monetria 13.8","SC_2173","2025-12-31","2025-12-31","NO","NO","Córdoba - Sucre","NO",0,-1.08019]
["SC_2173_A2","Nueva Montería Solar I 9,9 MW","2022-08-08","11:08 am",9.9,"Solar FV","Nva Monteria 34.5","SC_2173","2025-12-31","2025-12-31","NO","NO","Córdoba - Sucre","NO",0,-1.524]
["SC_2174_A1","Nueva Montería Solar I 9,9 MW","2022-08-08","11:10 am",9.9,"Solar FV","Nva Monetria 13.8","SC_2174","2025-12-31","2025-12-31","NO","NO","Córdoba - Sucre","NO",0,-1.08019]
["SC_2174_A2","Nueva Montería Solar I 9,9 MW","2022-08-08","11:10 am",9.9,"Solar FV","Nva Monteria 34.5","SC_2174","2025-12-31","2025-12-31","NO","NO","Córdoba - Sucre","NO",0,-1.524]
["SC_2016_A1","Hidalgo Solar 80 MW","2022-08-08","4:01 pm",80,"Solar FV","Coveñas 110","SC_2016","2025-12-31","2025-12-31","NO","NO","Córdoba - Sucre","NO",0,-0.97367870000000001]
["SC_2016_A2","Hidalgo Solar 80 MW","2022-08-08","4:01 pm",80,"Solar FV","Sierra Flor 110","SC_2016","2025-12-31","2025-12-31","NO","NO","Córdoba - Sucre","NO",0,-0.94397039999999999]
["SC_2016_A3","Hidalgo Solar 80 MW","2022-08-08","4:01 pm",80,"Solar FV","Toluviejo 110","SC_2016","2025-12-31","2025-12-31","NO","NO","Córdoba - Sucre","NO",0,-0.94397039999999999]
["SC_2135_A1","DSE SIERRAFLOR","2022-08-09","1:27 pm",99.9,"Solar FV","Sierra Flor 110","SC_2135","2026-12-31","2026-12-31","NO","NO","Córdoba - Sucre","NO",0,-5.93]
["SC_2135_A2","DSE SIERRAFLOR","2022-08-09","1:27 pm",99.9,"Solar FV","Nva Toluviejo 110","SC_2135","2026-12-31","2026-12-31","NO","NO","Córdoba - Sucre","NO",0,-7.26]
["SC_1821_A1","Balay Solar","2022-08-10","3:11 pm",70,"Solar FV","Tierralta 110","SC_1821","2027-12-31","2027-12-31","NO","NO","Córdoba - Sucre","NO",0,-5.1447000000000003]
["SC_1821_A2","Balay Solar","2022-08-10","3:11 pm",70,"Solar FV","Nva Monteria 110","SC_1821","2027-12-31","2027-12-31","NO","NO","Córdoba - Sucre","NO",0,6.032]
["SC_1859_A1","PV Altamira_99MW","2022-08-10","3:14 pm",99,"Solar FV","Rio Sinu 110","SC_1859","2027-12-31","2027-12-31","NO","NO","Córdoba - Sucre","NO",0,-5.8659999999999997]
["SC_1859_A2","PV Altamira_99MW","2022-08-10","3:14 pm",99,"Solar FV","Nva Monteria 110","SC_1859","2027-12-31","2027-12-31","NO","NO","Córdoba - Sucre","NO",0,-5.4880000000000004]
["SC_1843_A1","KOS de 19.9 MW","2022-08-11","9:54 am",19.899999999999999,"Solar FV","Cerete 34.5","SC_1843","2025-12-31","2025-12-31","NO","NO","Córdoba - Sucre","NO",0,-1.42536]
["SC_1843_A2","KOS de 19.9 MW","2022-08-11","9:54 am",19.899999999999999,"Solar FV","Cerete 13.8","SC_1843","2025-12-31","2025-12-31","NO","NO","Córdoba - Sucre","NO",0,-1.3658999999999999]
["SC_2012_A1","Parqu Solar Fotovoltaico Rocio del Sol 50 MW","2022-08-11","20:06:00",50,"Solar FV","Magangue 110 kV","SC_2012","2026-12-31","2026-12-31","NO","NO","Córdoba - Sucre","NO",0,-1.85]
["SC_2012_A2","Parqu Solar Fotovoltaico Rocio del Sol 50 MW","2022-08-11","20:06:00",50,"Solar FV","Since 110","SC_2012","2026-12-31","2026-12-31","NO","NO","Córdoba - Sucre","NO",0,-2.02]
["SC_1807_A1","Parque Solar Canis 49,9 MW","2022-08-12","1:41 pm",49.9,"Solar FV","Nva Monteria 110","SC_1807","2025-12-31","2025-12-31","NO","NO","Córdoba - Sucre","NO",0,-19.54983]
["SC_1807_A2","Parque Solar Canis 49,9 MW","2022-08-12","1:41 pm",49.9,"Solar FV","Rio Sinu 110","SC_1807","2025-12-31","2025-12-31","NO","NO","Córdoba - Sucre","NO",0,-18.789870000000001]
["SC_1918_A1","Casiopea 40 MW","2022-08-16","11:09 am",40,"Solar FV","Chinu 110","SC_1918","2025-12-31","2025-12-31","NO","NO","Córdoba - Sucre","NO",0,-9.6890000000000001]
["SC_1918_A2","Casiopea 40 MW","2022-08-16","11:09 am",40,"Solar FV","Boston 110","SC_1918","2025-12-31","2025-12-31","NO","NO","Córdoba - Sucre","NO",0,-10.164]
["SC_1813_A1","Parque de generación Cefeo","2022-08-16","11:40:00",19.899999999999999,"Solar FV","Mompox 110 kV","SC_1813","2025-12-28","2025-12-28","NO","NO","Córdoba - Sucre","NO",0,-9.9533000000000005]
["SC_1813_A2","Parque de generación Cefeo","2022-08-16","11:40:00",19.899999999999999,"Solar FV","Mompox 34,5 kV","SC_1813","2025-12-28","2025-12-28","NO","NO","Córdoba - Sucre","NO",0,-9.71326]
["SC_1949_A1","Solar Planeta Rica","2022-08-16","2:06 pm",19.899999999999999,"Solar FV","Planeta 110","SC_1949","2026-12-31","2026-12-31","NO","NO","Córdoba - Sucre","NO",0,-2.71]
["SC_1949_A2","Solar Planeta Rica","2022-08-16","2:06 pm",19.899999999999999,"Solar FV","Cerromatoso 110","SC_1949","2026-12-31","2026-12-31","NO","NO","Córdoba - Sucre","NO",0,-1.04]
["SC_1970_A1","Parque Solar Montería","2022-08-16","2:30 pm",99,"Solar FV","Rio Sinu 110","SC_1970","2026-12-31","2026-12-31","NO","NO","Córdoba - Sucre","NO",0,-5.641]
["SC_1970_A2","Parque Solar Montería","2022-08-16","2:30 pm",99,"Solar FV","Nva Monteria 110","SC_1970","2026-12-31","2026-12-31","NO","NO","Córdoba - Sucre","NO",0,5.6310000000000002]
["SC_2072_A1","Porvenir - 9.9 MW","2022-08-16","9:50 pm",9.9,"Solar FV","Coveñas 34.5","SC_2072","2025-12-31","2025-12-31","NO","NO","Córdoba - Sucre","NO",0,-2.13]
["SC_2204_A1","Parque Solar Ciénaga Grande - 19.9 MW","2022-08-17","16:16:00",19.899999999999999,"Solar FV","Magangue 13,8 kV","SC_2204","2025-12-31","2025-12-31","NO","NO","Córdoba - Sucre","NO",0,-0.96]
["SC_2204_A2","Parque Solar Ciénaga Grande - 19.9 MW","2022-08-17","16:16:00",19.899999999999999,"Solar FV","Magangue 34,5 kV","SC_2204","2025-12-31","2025-12-31","NO","NO","Córdoba - Sucre","NO",0,-0.94]
["SC_2166_A1","Parque fotovoltaico Delphinus","2022-08-19","2:10 pm",19.899999999999999,"Solar FV","Tierralta 110","SC_2166","2025-12-24","2025-12-24","NO","NO","Córdoba - Sucre","NO",0,-1.1499999999999999]
["SC_2166_A2","Parque fotovoltaico Delphinus","2022-08-19","2:10 pm",19.899999999999999,"Solar FV","Tierra Alta 34.5","SC_2166","2025-12-24","2025-12-24","NO","NO","Córdoba - Sucre","NO",0,-1.37]
["SC_1923_A1","Parque Solar Fotovoltaico Chunú I 50 MW","2022-08-22","11:12 am",50,"Solar FV","Chinu 220","SC_1923","2027-12-31","2027-12-31","NO","NO","Córdoba - Sucre","NO",0,-4.92]
["SC_1923_A2","Parque Solar Fotovoltaico Chunú I 50 MW","2022-08-22","11:12 am",50,"Solar FV","Chinu 500","SC_1923","2027-12-31","2027-12-31","NO","NO","Córdoba - Sucre","NO",0,-4.8600000000000003]
["SC_1937_A1","Parque Solar Fotovoltaico ChInú II 50 MW","2022-08-22","11:14 am",50,"Solar FV","Chinu 220","SC_1937","2027-12-31","2027-12-31","NO","NO","Córdoba - Sucre","NO",0,-4.92]
["SC_1937_A2","Parque Solar Fotovoltaico ChInú II 50 MW","2022-08-22","11:14 am",50,"Solar FV","Chinu 500","SC_1937","2027-12-31","2027-12-31","NO","NO","Córdoba - Sucre","NO",0,-4.8600000000000003]
["SC_1810_A1","Parque Solar Coveñas 50 MW","2022-08-22","11:29 am",50,"Solar FV","Coveñas 110","SC_1810","2027-12-31","2027-12-31","NO","NO","Córdoba - Sucre","NO",0,-5.67]
["SC_1810_A2","Parque Solar Coveñas 50 MW","2022-08-22","11:29 am",50,"Solar FV","Nva Toluviejo 110","SC_1810","2027-12-31","2027-12-31","NO","NO","Córdoba - Sucre","NO",0,-6.83]
["SC_1835_A1","Parque Solar Coveñas II 50 MW","2022-08-22","11:30 am",50,"Solar FV","Coveñas 110","SC_1835","2027-12-31","2027-12-31","NO","NO","Córdoba - Sucre","NO",0,-5.67]
["SC_1835_A2","Parque Solar Coveñas II 50 MW","2022-08-22","11:30 am",50,"Solar FV","Nva Toluviejo 110","SC_1835","2027-12-31","2027-12-31","NO","NO","Córdoba - Sucre","NO",0,-6.83]
["SC_1873_A1","Cusumbo Solar","2022-08-22","12:37 pm",99.9,"Solar FV","Chinu 220","SC_1873","2026-12-31","2026-12-31","NO","NO","Córdoba - Sucre","NO",0,-37.090000000000003]
["SC_1873_A2","Cusumbo Solar","2022-08-22","12:37 pm",99.9,"Solar FV","Toluviejo 220","SC_1873","2026-12-31","2026-12-31","NO","NO","Córdoba - Sucre","NO",0,-52.35]
["SC_2067_A1","TIERRALTA 70 MW","2022-08-22","9:18 pm",70,"Solar FV","Tierralta 110","SC_2067","2027-12-31","2027-12-31","NO","NO","Córdoba - Sucre","NO",0,-5.14473]
["SC_2067_A2","TIERRALTA 70 MW","2022-08-22","9:18 pm",70,"Solar FV","Nva Monteria 110","SC_2067","2027-12-31","2027-12-31","NO","NO","Córdoba - Sucre","NO",0,-4.61625]
["SC_1942_A1","San Jorge Fotovoltaico 135 MW","2022-08-23","3:30 pm",135,"Solar FV","Cerromatoso 110","SC_1942","2025-12-31","2025-12-31","NO","NO","Córdoba - Sucre","NO",0,-18.213000000000001]
["SC_1942_A2","San Jorge Fotovoltaico 135 MW","2022-08-23","3:30 pm",135,"Solar FV","Cerromatoso 500","SC_1942","2025-12-31","2025-12-31","NO","NO","Córdoba - Sucre","NO",0,-38.468000000000004]
["SC_2107_A1","Parque Solar Aries","2022-08-23","5:06 pm",175,"Solar FV","Chinu 220","SC_2107","2026-12-18","2026-12-18","NO","NO","Córdoba - Sucre","NO",0,-21.96]
["SC_2107_A2","Parque Solar Aries","2022-08-23","5:06 pm",175,"Solar FV","Monteria 220","SC_2107","2026-12-18","2026-12-18","NO","NO","Córdoba - Sucre","NO",0,-27.536000000000001]
["SC_2031\n_A1","PSF Cispata_70MW","2022-08-23","8:28 pm",70,"Solar FV","Coveñas 110","SC_2031\n","2026-12-31","2026-12-31","NO","NO","Córdoba - Sucre","NO",0,-8.42]
["SC_2136_A1","Yaguarundi Solar II 40 MW","2022-08-24","4:30 pm",40,"Solar FV","San Marcos 110","SC_2136","2026-12-31","2026-12-31","NO","NO","Córdoba - Sucre","NO",0,-6.7523999999999997]
["SC_2136_A2","Yaguarundi Solar II 40 MW","2022-08-24","4:30 pm",40,"Solar FV","Toluviejo 110","SC_2136","2026-12-31","2026-12-31","NO","NO","Córdoba - Sucre","NO",0,-4.8771000000000004]
["SC_2180_A1","Yaguarundi Solar III 40 MW","2022-08-24","4:32 pm",40,"Solar FV","San Marcos 110","SC_2180","2026-12-31","2026-12-31","NO","NO","Córdoba - Sucre","NO",0,-6.7523999999999997]
["SC_2180_A2","Yaguarundi Solar III 40 MW","2022-08-24","4:32 pm",40,"Solar FV","Toluviejo 110","SC_2180","2026-12-31","2026-12-31","NO","NO","Córdoba - Sucre","NO",0,-4.8771000000000004]
["SC_2185_A1","Yaguarundi Solar IV 40 MW","2022-08-24","4:34 pm",40,"Solar FV","San Marcos 110","SC_2185","2026-12-31","2026-12-31","NO","NO","Córdoba - Sucre","NO",0,-6.7523999999999997]
["SC_2185_A2","Yaguarundi Solar IV 40 MW","2022-08-24","4:34 pm",40,"Solar FV","Toluviejo 110","SC_2185","2026-12-31","2026-12-31","NO","NO","Córdoba - Sucre","NO",0,-4.8771000000000004]
["SC_1926_A1","Bongos I 9.90 MW","2022-08-24","9:23 pm",9.9,"Solar FV","Tierra Alta 34.5","SC_1926","2024-12-31","2024-12-31","NO","NO","Córdoba - Sucre","NO",0,-5.93]
["SC_1926_A2","Bongos I 9.90 MW","2022-08-24","9:23 pm",9.9,"Solar FV","Valencia 34.5","SC_1926","2024-12-31","2024-12-31","NO","NO","Córdoba - Sucre","NO",0,-6.3]
["SC_1825_A1","PROYECTO DE GENERACIÓN ELÉCTRICA EL JOBO_200MW","2022-08-26","3:18 pm",200,"Termica a vapor","Sahagun 500 kV","SC_1825","2026-12-01","2026-12-01","NO","NO","Córdoba - Sucre","NO",0,-79.022999999999996]
["SC_1897_A1","La Florecita 90 MW","2022-08-26","20:37:00",90,"Solar FV","Sierra Flor 110","SC_1897","2026-12-31","2026-12-31","NO","NO","Córdoba - Sucre","NO",0,-2.67544]
["SC_1897_A2","La Florecita 90 MW","2022-08-26","20:37:00",90,"Solar FV","Boston 110","SC_1897","2026-12-31","2026-12-31","NO","NO","Córdoba - Sucre","NO",0,-2.2910599999999999]
["SC_2014_A1","Lotería 2","2022-08-29","12:49 pm",9.9,"Solar FV","Chinu Planta 34.5","SC_2014","2024-12-31","2024-12-31","NO","NO","Córdoba - Sucre","NO",0,6.367]
["SC_2014_A2","Lotería 2","2022-08-29","12:49 pm",9.9,"Solar FV","Sahagun 34.5","SC_2014","2024-12-31","2024-12-31","NO","NO","Córdoba - Sucre","NO",0,3.9020000000000001]
["SC_2017_A1","LOTERÍA 1","2022-08-29","12:58 pm",9.9,"Solar FV","Chinu Planta 34.5","SC_2017","2024-12-31","2024-12-31","NO","NO","Córdoba - Sucre","NO",0,6.367]
["SC_2017_A2","LOTERÍA 1","2022-08-29","12:58 pm",9.9,"Solar FV","Sahagun 34.5","SC_2017","2024-12-31","2024-12-31","NO","NO","Córdoba - Sucre","NO",0,3.9020000000000001]
["SC_2165_A1","Autogeneración Solar Fotovoltaica 9.9 MW (entrega de excedentes de 0)","2022-08-30","11:20 am",0,"Solar FV","Ure 110","SC_2165","2023-12-31","2023-12-31","NO","NO","Córdoba - Sucre","NO",0,0.47499999999999998]
["SC_1820\n_A1","NAIOT","2022-08-31","8:46 am",19.899999999999999,"Solar FV","Lorica 34.5","SC_1820\n","2024-12-16","2024-12-16","NO","NO","Córdoba - Sucre","NO",0,0.835422]
["SC_1820\n_A2","NAIOT","2022-08-31","8:46 am",19.899999999999999,"Solar FV","San Bernardo 34.5","SC_1820\n","2024-12-16","2024-12-16","NO","NO","Córdoba - Sucre","NO",0,-1.930059]
["SC_2325_A1","PROYECTO FOTOVOLTAICO MONTERROSO DE 99,9 MW","2022-09-01","2:58 pm",99.9,"Solar FV","San Marcos 110","SC_2325","2026-12-31","2026-12-31","NO","NO","Córdoba - Sucre","NO",0,-3.3288000000000002]
["SC_2325_A2","PROYECTO FOTOVOLTAICO MONTERROSO DE 99,9 MW","2022-09-01","2:58 pm",99.9,"Solar FV","Since 110","SC_2325","2026-12-31","2026-12-31","NO","NO","Córdoba - Sucre","NO",0,-3.7317]

{"sheet":"IT-TA","index":3,"n_rows":171,"n_cols":10,"rows_kept":171,"cut":false,"hidden":false,"merged":[]}
[null,"Codigo","Nombre","Capacidad","Licencia Ambiental obtenida","Año de entrada","P","Total",null,"Año de Referencia"]
[null,{"$f":"IF(ISBLANK(InfoPro!A2),\"\",InfoPro!A2)","v":"SC_44_A1"},{"$f":"IF(ISBLANK(InfoPro!B2),\"\",InfoPro!B2)","v":"El Floral 1"},{"$f":"IF(ISBLANK(InfoPro!E2),\"\",InfoPro!E2)","v":19.899999999999999},{"$f":"IF(ISBLANK(InfoPro!N2),\"\",InfoPro!N2)","v":"NO"},{"$f":"IF(ISBLANK(InfoPro!I2),\"\",YEAR(InfoPro!I2)-$J$2)","v":2},{"$f":"IF(E2=\"SI\",100,IF(E2=\"NO\",0,\"\"))","v":0},{"$f":"IF(G2=\"\",\"\",(G2))","v":0},null,2023]
[null,{"$f":"IF(ISBLANK(InfoPro!A3),\"\",InfoPro!A3)","v":"SC_47_A1"},{"$f":"IF(ISBLANK(InfoPro!B3),\"\",InfoPro!B3)","v":"El Floral II - 19.9 MW"},{"$f":"IF(ISBLANK(InfoPro!E3),\"\",InfoPro!E3)","v":19.899999999999999},{"$f":"IF(ISBLANK(InfoPro!N3),\"\",InfoPro!N3)","v":"NO"},{"$f":"IF(ISBLANK(InfoPro!I3),\"\",YEAR(InfoPro!I3)-$J$2)","v":2},{"$f":"IF(E3=\"SI\",100,IF(E3=\"NO\",0,\"\"))","v":0},{"$f":"IF(G3=\"\",\"\",(G3))","v":0}]
[null,{"$f":"IF(ISBLANK(InfoPro!A4),\"\",InfoPro!A4)","v":"SC_408_A1"},{"$f":"IF(ISBLANK(InfoPro!B4),\"\",InfoPro!B4)","v":"El Jardín 40 MW"},{"$f":"IF(ISBLANK(InfoPro!E4),\"\",InfoPro!E4)","v":40},{"$f":"IF(ISBLANK(InfoPro!N4),\"\",InfoPro!N4)","v":"NO"},{"$f":"IF(ISBLANK(InfoPro!I4),\"\",YEAR(InfoPro!I4)-$J$2)","v":2},0,0]
[null,{"$f":"IF(ISBLANK(InfoPro!A5),\"\",InfoPro!A5)","v":"SC_454_A1"},{"$f":"IF(ISBLANK(InfoPro!B5),\"\",InfoPro!B5)","v":"PARQUE SOLAR SAN RAFAEL - 300 MW"},{"$f":"IF(ISBLANK(InfoPro!E5),\"\",InfoPro!E5)","v":300},{"$f":"IF(ISBLANK(InfoPro!N5),\"\",InfoPro!N5)","v":"NO"},{"$f":"IF(ISBLANK(InfoPro!I5),\"\",YEAR(InfoPro!I5)-$J$2)","v":3},0,0]
[null,{"$f":"IF(ISBLANK(InfoPro!A6),\"\",InfoPro!A6)","v":"SC_454_A2"},{"$f":"IF(ISBLANK(InfoPro!B6),\"\",InfoPro!B6)","v":"PARQUE SOLAR SAN RAFAEL - 300 MW"},{"$f":"IF(ISBLANK(InfoPro!E6),\"\",InfoPro!E6)","v":300},{"$f":"IF(ISBLANK(InfoPro!N6),\"\",InfoPro!N6)","v":"NO"},{"$f":"IF(ISBLANK(InfoPro!I6),\"\",YEAR(InfoPro!I6)-$J$2)","v":3},0,0]
[null,{"$f":"IF(ISBLANK(InfoPro!A7),\"\",InfoPro!A7)","v":"SC_483_A1"},{"$f":"IF(ISBLANK(InfoPro!B7),\"\",InfoPro!B7)","v":"PARQUE SOLAR LOMAS 39.9 MW"},{"$f":"IF(ISBLANK(InfoPro!E7),\"\",InfoPro!E7)","v":39.9},{"$f":"IF(ISBLANK(InfoPro!N7),\"\",InfoPro!N7)","v":"NO"},{"$f":"IF(ISBLANK(InfoPro!I7),\"\",YEAR(InfoPro!I7)-$J$2)","v":2},0,0]
[null,{"$f":"IF(ISBLANK(InfoPro!A8),\"\",InfoPro!A8)","v":"SC_586_A1"},{"$f":"IF(ISBLANK(InfoPro!B8),\"\",InfoPro!B8)","v":"Orquídea del Sucre - Sierra Flor 60 MW"},{"$f":"IF(ISBLANK(InfoPro!E8),\"\",InfoPro!E8)","v":60},{"$f":"IF(ISBLANK(InfoPro!N8),\"\",InfoPro!N8)","v":"NO"},{"$f":"IF(ISBLANK(InfoPro!I8),\"\",YEAR(InfoPro!I8)-$J$2)","v":4},0,0]
[null,{"$f":"IF(ISBLANK(InfoPro!A9),\"\",InfoPro!A9)","v":"SC_586_A2"},{"$f":"IF(ISBLANK(InfoPro!B9),\"\",InfoPro!B9)","v":"Orquídea del Sucre - Sierra Flor 60 MW"},{"$f":"IF(ISBLANK(InfoPro!E9),\"\",InfoPro!E9)","v":60},{"$f":"IF(ISBLANK(InfoPro!N9),\"\",InfoPro!N9)","v":"NO"},{"$f":"IF(ISBLANK(InfoPro!I9),\"\",YEAR(InfoPro!I9)-$J$2)","v":4},0,0]
[null,{"$f":"IF(ISBLANK(InfoPro!A10),\"\",InfoPro!A10)","v":"SC_681_A1"},{"$f":"IF(ISBLANK(InfoPro!B10),\"\",InfoPro!B10)","v":"PARQUE SOLARLAS LAS PALMAS de 90MW"},{"$f":"IF(ISBLANK(InfoPro!E10),\"\",InfoPro!E10)","v":90},{"$f":"IF(ISBLANK(InfoPro!N10),\"\",InfoPro!N10)","v":"NO"},{"$f":"IF(ISBLANK(InfoPro!I10),\"\",YEAR(InfoPro!I10)-$J$2)","v":2},0,0]
[null,{"$f":"IF(ISBLANK(InfoPro!A11),\"\",InfoPro!A11)","v":"SC_681_A2"},{"$f":"IF(ISBLANK(InfoPro!B11),\"\",InfoPro!B11)","v":"PARQUE SOLARLAS LAS PALMAS de 90MW"},{"$f":"IF(ISBLANK(InfoPro!E11),\"\",InfoPro!E11)","v":90},{"$f":"IF(ISBLANK(InfoPro!N11),\"\",InfoPro!N11)","v":"NO"},{"$f":"IF(ISBLANK(InfoPro!I11),\"\",YEAR(InfoPro!I11)-$J$2)","v":2},0,0]
[null,{"$f":"IF(ISBLANK(InfoPro!A12),\"\",InfoPro!A12)","v":"SC_720_A1"},{"$f":"IF(ISBLANK(InfoPro!B12),\"\",InfoPro!B12)","v":"El Jazmín"},{"$f":"IF(ISBLANK(InfoPro!E12),\"\",InfoPro!E12)","v":19.899999999999999},{"$f":"IF(ISBLANK(InfoPro!N12),\"\",InfoPro!N12)","v":"NO"},{"$f":"IF(ISBLANK(InfoPro!I12),\"\",YEAR(InfoPro!I12)-$J$2)","v":2},0,0]
[null,{"$f":"IF(ISBLANK(InfoPro!A13),\"\",InfoPro!A13)","v":"SC_720_A2"},{"$f":"IF(ISBLANK(InfoPro!B13),\"\",InfoPro!B13)","v":"El Jazmín"},{"$f":"IF(ISBLANK(InfoPro!E13),\"\",InfoPro!E13)","v":19.899999999999999},{"$f":"IF(ISBLANK(InfoPro!N13),\"\",InfoPro!N13)","v":"NO"},{"$f":"IF(ISBLANK(InfoPro!I13),\"\",YEAR(InfoPro!I13)-$J$2)","v":2},0,0]
[null,{"$f":"IF(ISBLANK(InfoPro!A14),\"\",InfoPro!A14)","v":"SC_713_A1"},{"$f":"IF(ISBLANK(InfoPro!B14),\"\",InfoPro!B14)","v":"Crucero - 300MW"},{"$f":"IF(ISBLANK(InfoPro!E14),\"\",InfoPro!E14)","v":300},{"$f":"IF(ISBLANK(InfoPro!N14),\"\",InfoPro!N14)","v":"NO"},{"$f":"IF(ISBLANK(InfoPro!I14),\"\",YEAR(InfoPro!I14)-$J$2)","v":4},0,0]
[null,{"$f":"IF(ISBLANK(InfoPro!A15),\"\",InfoPro!A15)","v":"SC_836_A1"},{"$f":"IF(ISBLANK(InfoPro!B15),\"\",InfoPro!B15)","v":"BONGO DEL SINÚ DE 19.9 MW"},{"$f":"IF(ISBLANK(InfoPro!E15),\"\",InfoPro!E15)","v":19.899999999999999},{"$f":"IF(ISBLANK(InfoPro!N15),\"\",InfoPro!N15)","v":"NO"},{"$f":"IF(ISBLANK(InfoPro!I15),\"\",YEAR(InfoPro!I15)-$J$2)","v":2},0,0]
[null,{"$f":"IF(ISBLANK(InfoPro!A16),\"\",InfoPro!A16)","v":"SC_836_A2"},{"$f":"IF(ISBLANK(InfoPro!B16),\"\",InfoPro!B16)","v":"BONGO DEL SINÚ DE 19.9 MW"},{"$f":"IF(ISBLANK(InfoPro!E16),\"\",InfoPro!E16)","v":19.899999999999999},{"$f":"IF(ISBLANK(InfoPro!N16),\"\",InfoPro!N16)","v":"NO"},{"$f":"IF(ISBLANK(InfoPro!I16),\"\",YEAR(InfoPro!I16)-$J$2)","v":2},0,0]
[null,{"$f":"IF(ISBLANK(InfoPro!A17),\"\",InfoPro!A17)","v":"SC_778_A1"},{"$f":"IF(ISBLANK(InfoPro!B17),\"\",InfoPro!B17)","v":"KOS 19.9"},{"$f":"IF(ISBLANK(InfoPro!E17),\"\",InfoPro!E17)","v":19.899999999999999},{"$f":"IF(ISBLANK(InfoPro!N17),\"\",InfoPro!N17)","v":"NO"},{"$f":"IF(ISBLANK(InfoPro!I17),\"\",YEAR(InfoPro!I17)-$J$2)","v":2},0,0]
[null,{"$f":"IF(ISBLANK(InfoPro!A18),\"\",InfoPro!A18)","v":"SC_778_A2"},{"$f":"IF(ISBLANK(InfoPro!B18),\"\",InfoPro!B18)","v":"KOS 19.9"},{"$f":"IF(ISBLANK(InfoPro!E18),\"\",InfoPro!E18)","v":19.899999999999999},{"$f":"IF(ISBLANK(InfoPro!N18),\"\",InfoPro!N18)","v":"NO"},{"$f":"IF(ISBLANK(InfoPro!I18),\"\",YEAR(InfoPro!I18)-$J$2)","v":2},0,0]
[null,{"$f":"IF(ISBLANK(InfoPro!A19),\"\",InfoPro!A19)","v":"SC_942_A1"},{"$f":"IF(ISBLANK(InfoPro!B19),\"\",InfoPro!B19)","v":"PASCUA_60MW"},{"$f":"IF(ISBLANK(InfoPro!E19),\"\",InfoPro!E19)","v":60},{"$f":"IF(ISBLANK(InfoPro!N19),\"\",InfoPro!N19)","v":"NO"},{"$f":"IF(ISBLANK(InfoPro!I19),\"\",YEAR(InfoPro!I19)-$J$2)","v":3},0,0]
[null,{"$f":"IF(ISBLANK(InfoPro!A20),\"\",InfoPro!A20)","v":"SC_942_A2"},{"$f":"IF(ISBLANK(InfoPro!B20),\"\",InfoPro!B20)","v":"PASCUA_60MW"},{"$f":"IF(ISBLANK(InfoPro!E20),\"\",InfoPro!E20)","v":60},{"$f":"IF(ISBLANK(InfoPro!N20),\"\",InfoPro!N20)","v":"NO"},{"$f":"IF(ISBLANK(InfoPro!I20),\"\",YEAR(InfoPro!I20)-$J$2)","v":3},0,0]
[null,{"$f":"IF(ISBLANK(InfoPro!A21),\"\",InfoPro!A21)","v":"SC_1763_A1"},{"$f":"IF(ISBLANK(InfoPro!B21),\"\",InfoPro!B21)","v":"Taurus Solar de 22MW (19,5 MW)"},{"$f":"IF(ISBLANK(InfoPro!E21),\"\",InfoPro!E21)","v":19.5},{"$f":"IF(ISBLANK(InfoPro!N21),\"\",InfoPro!N21)","v":"NO"},{"$f":"IF(ISBLANK(InfoPro!I21),\"\",YEAR(InfoPro!I21)-$J$2)","v":2},0,0]
[null,{"$f":"IF(ISBLANK(InfoPro!A22),\"\",InfoPro!A22)","v":"SC_1763_A2"},{"$f":"IF(ISBLANK(InfoPro!B22),\"\",InfoPro!B22)","v":"Taurus Solar de 22MW (19,5 MW)"},{"$f":"IF(ISBLANK(InfoPro!E22),\"\",InfoPro!E22)","v":19.5},{"$f":"IF(ISBLANK(InfoPro!N22),\"\",InfoPro!N22)","v":"NO"},{"$f":"IF(ISBLANK(InfoPro!I22),\"\",YEAR(InfoPro!I22)-$J$2)","v":2},0,0]
[null,{"$f":"IF(ISBLANK(InfoPro!A23),\"\",InfoPro!A23)","v":"SC_828_A1"},{"$f":"IF(ISBLANK(InfoPro!B23),\"\",InfoPro!B23)","v":"PARQUE SOLAR EL VASCO"},{"$f":"IF(ISBLANK(InfoPro!E23),\"\",InfoPro!E23)","v":60},{"$f":"IF(ISBLANK(InfoPro!N23),\"\",InfoPro!N23)","v":"NO"},{"$f":"IF(ISBLANK(InfoPro!I23),\"\",YEAR(InfoPro!I23)-$J$2)","v":3},0,0]
[null,{"$f":"IF(ISBLANK(InfoPro!A24),\"\",InfoPro!A24)","v":"SC_828_A2"},{"$f":"IF(ISBLANK(InfoPro!B24),\"\",InfoPro!B24)","v":"PARQUE SOLAR EL VASCO"},{"$f":"IF(ISBLANK(InfoPro!E24),\"\",InfoPro!E24)","v":60},{"$f":"IF(ISBLANK(InfoPro!N24),\"\",InfoPro!N24)","v":"NO"},{"$f":"IF(ISBLANK(InfoPro!I24),\"\",YEAR(InfoPro!I24)-$J$2)","v":3},0,0]
[null,{"$f":"IF(ISBLANK(InfoPro!A25),\"\",InfoPro!A25)","v":"SC_1179_A1"},{"$f":"IF(ISBLANK(InfoPro!B25),\"\",InfoPro!B25)","v":"Montes 90 MW"},{"$f":"IF(ISBLANK(InfoPro!E25),\"\",InfoPro!E25)","v":90},{"$f":"IF(ISBLANK(InfoPro!N25),\"\",InfoPro!N25)","v":"NO"},{"$f":"IF(ISBLANK(InfoPro!I25),\"\",YEAR(InfoPro!I25)-$J$2)","v":3},0,0]
[null,{"$f":"IF(ISBLANK(InfoPro!A26),\"\",InfoPro!A26)","v":"SC_1179_A2"},{"$f":"IF(ISBLANK(InfoPro!B26),\"\",InfoPro!B26)","v":"Montes 90 MW"},{"$f":"IF(ISBLANK(InfoPro!E26),\"\",InfoPro!E26)","v":90},{"$f":"IF(ISBLANK(InfoPro!N26),\"\",InfoPro!N26)","v":"NO"},{"$f":"IF(ISBLANK(InfoPro!I26),\"\",YEAR(InfoPro!I26)-$J$2)","v":3},0,0]
[null,{"$f":"IF(ISBLANK(InfoPro!A27),\"\",InfoPro!A27)","v":"SC_1206_A1"},{"$f":"IF(ISBLANK(InfoPro!B27),\"\",InfoPro!B27)","v":"Cerromatoso Solar 300 MW"},{"$f":"IF(ISBLANK(InfoPro!E27),\"\",InfoPro!E27)","v":300},{"$f":"IF(ISBLANK(InfoPro!N27),\"\",InfoPro!N27)","v":"NO"},{"$f":"IF(ISBLANK(InfoPro!I27),\"\",YEAR(InfoPro!I27)-$J$2)","v":5},0,0]
[null,{"$f":"IF(ISBLANK(InfoPro!A28),\"\",InfoPro!A28)","v":"SC_1206_A2"},{"$f":"IF(ISBLANK(InfoPro!B28),\"\",InfoPro!B28)","v":"Cerromatoso Solar 300 MW"},{"$f":"IF(ISBLANK(InfoPro!E28),\"\",InfoPro!E28)","v":300},{"$f":"IF(ISBLANK(InfoPro!N28),\"\",InfoPro!N28)","v":"NO"},{"$f":"IF(ISBLANK(InfoPro!I28),\"\",YEAR(InfoPro!I28)-$J$2)","v":5},0,0]
[null,{"$f":"IF(ISBLANK(InfoPro!A29),\"\",InfoPro!A29)","v":"SC_1372_A1"},{"$f":"IF(ISBLANK(InfoPro!B29),\"\",InfoPro!B29)","v":"Pétalo del Bolívar I Magangué"},{"$f":"IF(ISBLANK(InfoPro!E29),\"\",InfoPro!E29)","v":9.9},{"$f":"IF(ISBLANK(InfoPro!N29),\"\",InfoPro!N29)","v":"NO"},{"$f":"IF(ISBLANK(InfoPro!I29),\"\",YEAR(InfoPro!I29)-$J$2)","v":2},0,0]
[null,{"$f":"IF(ISBLANK(InfoPro!A30),\"\",InfoPro!A30)","v":"SC_1372_A2"},{"$f":"IF(ISBLANK(InfoPro!B30),\"\",InfoPro!B30)","v":"Pétalo del Bolívar I Magangué"},{"$f":"IF(ISBLANK(InfoPro!E30),\"\",InfoPro!E30)","v":9.9},{"$f":"IF(ISBLANK(InfoPro!N30),\"\",InfoPro!N30)","v":"NO"},{"$f":"IF(ISBLANK(InfoPro!I30),\"\",YEAR(InfoPro!I30)-$J$2)","v":2},0,0]
[null,{"$f":"IF(ISBLANK(InfoPro!A31),\"\",InfoPro!A31)","v":"SC_692_A1"},{"$f":"IF(ISBLANK(InfoPro!B31),\"\",InfoPro!B31)","v":"TermoJobo"},{"$f":"IF(ISBLANK(InfoPro!E31),\"\",InfoPro!E31)","v":9.9},{"$f":"IF(ISBLANK(InfoPro!N31),\"\",InfoPro!N31)","v":"NO"},{"$f":"IF(ISBLANK(InfoPro!I31),\"\",YEAR(InfoPro!I31)-$J$2)","v":1},0,0]
[null,{"$f":"IF(ISBLANK(InfoPro!A32),\"\",InfoPro!A32)","v":"SC_1057_A1"},{"$f":"IF(ISBLANK(InfoPro!B32),\"\",InfoPro!B32)","v":"Río Sinú Solar I 9,9 MW"},{"$f":"IF(ISBLANK(InfoPro!E32),\"\",InfoPro!E32)","v":9.9},{"$f":"IF(ISBLANK(InfoPro!N32),\"\",InfoPro!N32)","v":"NO"},{"$f":"IF(ISBLANK(InfoPro!I32),\"\",YEAR(InfoPro!I32)-$J$2)","v":2},0,0]
[null,{"$f":"IF(ISBLANK(InfoPro!A33),\"\",InfoPro!A33)","v":"SC_1057_A2"},{"$f":"IF(ISBLANK(InfoPro!B33),\"\",InfoPro!B33)","v":"Río Sinú Solar I 9,9 MW"},{"$f":"IF(ISBLANK(InfoPro!E33),\"\",InfoPro!E33)","v":9.9},{"$f":"IF(ISBLANK(InfoPro!N33),\"\",InfoPro!N33)","v":"NO"},{"$f":"IF(ISBLANK(InfoPro!I33),\"\",YEAR(InfoPro!I33)-$J$2)","v":2},0,0]
[null,{"$f":"IF(ISBLANK(InfoPro!A34),\"\",InfoPro!A34)","v":"SC_1058_A1"},{"$f":"IF(ISBLANK(InfoPro!B34),\"\",InfoPro!B34)","v":"Río Sinú Solar II 9,9 MW"},{"$f":"IF(ISBLANK(InfoPro!E34),\"\",InfoPro!E34)","v":9.9},{"$f":"IF(ISBLANK(InfoPro!N34),\"\",InfoPro!N34)","v":"NO"},{"$f":"IF(ISBLANK(InfoPro!I34),\"\",YEAR(InfoPro!I34)-$J$2)","v":2},0,0]
[null,{"$f":"IF(ISBLANK(InfoPro!A35),\"\",InfoPro!A35)","v":"SC_1058_A2"},{"$f":"IF(ISBLANK(InfoPro!B35),\"\",InfoPro!B35)","v":"Río Sinú Solar II 9,9 MW"},{"$f":"IF(ISBLANK(InfoPro!E35),\"\",InfoPro!E35)","v":9.9},{"$f":"IF(ISBLANK(InfoPro!N35),\"\",InfoPro!N35)","v":"NO"},{"$f":"IF(ISBLANK(InfoPro!I35),\"\",YEAR(InfoPro!I35)-$J$2)","v":2},0,0]
[null,{"$f":"IF(ISBLANK(InfoPro!A36),\"\",InfoPro!A36)","v":"SC_855_A1"},{"$f":"IF(ISBLANK(InfoPro!B36),\"\",InfoPro!B36)","v":"El Lirio"},{"$f":"IF(ISBLANK(InfoPro!E36),\"\",InfoPro!E36)","v":19.899999999999999},{"$f":"IF(ISBLANK(InfoPro!N36),\"\",InfoPro!N36)","v":"NO"},{"$f":"IF(ISBLANK(InfoPro!I36),\"\",YEAR(InfoPro!I36)-$J$2)","v":2},0,0]
[null,{"$f":"IF(ISBLANK(InfoPro!A37),\"\",InfoPro!A37)","v":"SC_855_A2"},{"$f":"IF(ISBLANK(InfoPro!B37),\"\",InfoPro!B37)","v":"El Lirio"},{"$f":"IF(ISBLANK(InfoPro!E37),\"\",InfoPro!E37)","v":19.899999999999999},{"$f":"IF(ISBLANK(InfoPro!N37),\"\",InfoPro!N37)","v":"NO"},{"$f":"IF(ISBLANK(InfoPro!I37),\"\",YEAR(InfoPro!I37)-$J$2)","v":2},0,0]
[null,{"$f":"IF(ISBLANK(InfoPro!A38),\"\",InfoPro!A38)","v":"SC_630_A1"},{"$f":"IF(ISBLANK(InfoPro!B38),\"\",InfoPro!B38)","v":"TR Solar 14"},{"$f":"IF(ISBLANK(InfoPro!E38),\"\",InfoPro!E38)","v":99.9},{"$f":"IF(ISBLANK(InfoPro!N38),\"\",InfoPro!N38)","v":"NO"},{"$f":"IF(ISBLANK(InfoPro!I38),\"\",YEAR(InfoPro!I38)-$J$2)","v":3},0,0]
[null,{"$f":"IF(ISBLANK(InfoPro!A39),\"\",InfoPro!A39)","v":"SC_1269_A1"},{"$f":"IF(ISBLANK(InfoPro!B39),\"\",InfoPro!B39)","v":"Centro Solar II 4 MW"},{"$f":"IF(ISBLANK(InfoPro!E39),\"\",InfoPro!E39)","v":4},{"$f":"IF(ISBLANK(InfoPro!N39),\"\",InfoPro!N39)","v":"NO"},{"$f":"IF(ISBLANK(InfoPro!I39),\"\",YEAR(InfoPro!I39)-$J$2)","v":0},0,0]
[null,{"$f":"IF(ISBLANK(InfoPro!A40),\"\",InfoPro!A40)","v":"SC_1268_A1"},{"$f":"IF(ISBLANK(InfoPro!B40),\"\",InfoPro!B40)","v":"Sol de Ayapel II de 7 MW"},{"$f":"IF(ISBLANK(InfoPro!E40),\"\",InfoPro!E40)","v":7},{"$f":"IF(ISBLANK(InfoPro!N40),\"\",InfoPro!N40)","v":"NO"},{"$f":"IF(ISBLANK(InfoPro!I40),\"\",YEAR(InfoPro!I40)-$J$2)","v":1},0,0]
[null,{"$f":"IF(ISBLANK(InfoPro!A41),\"\",InfoPro!A41)","v":"SC_1268_A2"},{"$f":"IF(ISBLANK(InfoPro!B41),\"\",InfoPro!B41)","v":"Sol de Ayapel II de 7 MW"},{"$f":"IF(ISBLANK(InfoPro!E41),\"\",InfoPro!E41)","v":7},{"$f":"IF(ISBLANK(InfoPro!N41),\"\",InfoPro!N41)","v":"NO"},{"$f":"IF(ISBLANK(InfoPro!I41),\"\",YEAR(InfoPro!I41)-$J$2)","v":1},0,0]
[null,{"$f":"IF(ISBLANK(InfoPro!A42),\"\",InfoPro!A42)","v":"SC_1118_A1"},{"$f":"IF(ISBLANK(InfoPro!B42),\"\",InfoPro!B42)","v":"Boston 9,9 MW"},{"$f":"IF(ISBLANK(InfoPro!E42),\"\",InfoPro!E42)","v":9.9},{"$f":"IF(ISBLANK(InfoPro!N42),\"\",InfoPro!N42)","v":"NO"},{"$f":"IF(ISBLANK(InfoPro!I42),\"\",YEAR(InfoPro!I42)-$J$2)","v":2},0,0]
[null,{"$f":"IF(ISBLANK(InfoPro!A43),\"\",InfoPro!A43)","v":"SC_1118_A2"},{"$f":"IF(ISBLANK(InfoPro!B43),\"\",InfoPro!B43)","v":"Boston 9,9 MW"},{"$f":"IF(ISBLANK(InfoPro!E43),\"\",InfoPro!E43)","v":9.9},{"$f":"IF(ISBLANK(InfoPro!N43),\"\",InfoPro!N43)","v":"NO"},{"$f":"IF(ISBLANK(InfoPro!I43),\"\",YEAR(InfoPro!I43)-$J$2)","v":2},0,0]
[null,{"$f":"IF(ISBLANK(InfoPro!A44),\"\",InfoPro!A44)","v":"SC_632_A1"},{"$f":"IF(ISBLANK(InfoPro!B44),\"\",InfoPro!B44)","v":"TR Solar 5"},{"$f":"IF(ISBLANK(InfoPro!E44),\"\",InfoPro!E44)","v":19.899999999999999},{"$f":"IF(ISBLANK(InfoPro!N44),\"\",InfoPro!N44)","v":"NO"},{"$f":"IF(ISBLANK(InfoPro!I44),\"\",YEAR(InfoPro!I44)-$J$2)","v":3},0,0]
[null,{"$f":"IF(ISBLANK(InfoPro!A45),\"\",InfoPro!A45)","v":"SC_632_A2"},{"$f":"IF(ISBLANK(InfoPro!B45),\"\",InfoPro!B45)","v":"TR Solar 5"},{"$f":"IF(ISBLANK(InfoPro!E45),\"\",InfoPro!E45)","v":19.899999999999999},{"$f":"IF(ISBLANK(InfoPro!N45),\"\",InfoPro!N45)","v":"NO"},{"$f":"IF(ISBLANK(InfoPro!I45),\"\",YEAR(InfoPro!I45)-$J$2)","v":3},0,0]
[null,{"$f":"IF(ISBLANK(InfoPro!A46),\"\",InfoPro!A46)","v":"SC_1415_A1"},{"$f":"IF(ISBLANK(InfoPro!B46),\"\",InfoPro!B46)","v":"Efigen C03 99 MW"},{"$f":"IF(ISBLANK(InfoPro!E46),\"\",InfoPro!E46)","v":99},{"$f":"IF(ISBLANK(InfoPro!N46),\"\",InfoPro!N46)","v":"NO"},{"$f":"IF(ISBLANK(InfoPro!I46),\"\",YEAR(InfoPro!I46)-$J$2)","v":2},0,0]
[null,{"$f":"IF(ISBLANK(InfoPro!A47),\"\",InfoPro!A47)","v":"SC_1415_A2"},{"$f":"IF(ISBLANK(InfoPro!B47),\"\",InfoPro!B47)","v":"Efigen C03 99 MW"},{"$f":"IF(ISBLANK(InfoPro!E47),\"\",InfoPro!E47)","v":99},{"$f":"IF(ISBLANK(InfoPro!N47),\"\",InfoPro!N47)","v":"NO"},{"$f":"IF(ISBLANK(InfoPro!I47),\"\",YEAR(InfoPro!I47)-$J$2)","v":2},0,0]
[null,{"$f":"IF(ISBLANK(InfoPro!A48),\"\",InfoPro!A48)","v":"SC_1420_A1"},{"$f":"IF(ISBLANK(InfoPro!B48),\"\",InfoPro!B48)","v":"Efigen C04 99 MW"},{"$f":"IF(ISBLANK(InfoPro!E48),\"\",InfoPro!E48)","v":99},{"$f":"IF(ISBLANK(InfoPro!N48),\"\",InfoPro!N48)","v":"NO"},{"$f":"IF(ISBLANK(InfoPro!I48),\"\",YEAR(InfoPro!I48)-$J$2)","v":2},0,0]
[null,{"$f":"IF(ISBLANK(InfoPro!A49),\"\",InfoPro!A49)","v":"SC_1420_A2"},{"$f":"IF(ISBLANK(InfoPro!B49),\"\",InfoPro!B49)","v":"Efigen C04 99 MW"},{"$f":"IF(ISBLANK(InfoPro!E49),\"\",InfoPro!E49)","v":99},{"$f":"IF(ISBLANK(InfoPro!N49),\"\",InfoPro!N49)","v":"NO"},{"$f":"IF(ISBLANK(InfoPro!I49),\"\",YEAR(InfoPro!I49)-$J$2)","v":2},0,0]
[null,{"$f":"IF(ISBLANK(InfoPro!A50),\"\",InfoPro!A50)","v":"SC_1435_A1"},{"$f":"IF(ISBLANK(InfoPro!B50),\"\",InfoPro!B50)","v":"Parque Solar Las Brisas"},{"$f":"IF(ISBLANK(InfoPro!E50),\"\",InfoPro!E50)","v":9.9},{"$f":"IF(ISBLANK(InfoPro!N50),\"\",InfoPro!N50)","v":"NO"},{"$f":"IF(ISBLANK(InfoPro!I50),\"\",YEAR(InfoPro!I50)-$J$2)","v":1},0,0]
[null,{"$f":"IF(ISBLANK(InfoPro!A51),\"\",InfoPro!A51)","v":"SC_978_A1"},{"$f":"IF(ISBLANK(InfoPro!B51),\"\",InfoPro!B51)","v":"Borugo Solar"},{"$f":"IF(ISBLANK(InfoPro!E51),\"\",InfoPro!E51)","v":99.9},{"$f":"IF(ISBLANK(InfoPro!N51),\"\",InfoPro!N51)","v":"NO"},{"$f":"IF(ISBLANK(InfoPro!I51),\"\",YEAR(InfoPro!I51)-$J$2)","v":3},0,0]
[null,{"$f":"IF(ISBLANK(InfoPro!A52),\"\",InfoPro!A52)","v":"SC_1520_A1"},{"$f":"IF(ISBLANK(InfoPro!B52),\"\",InfoPro!B52)","v":"Autogenerador Solar Argos Tolcemento - 19.9 MW"},{"$f":"IF(ISBLANK(InfoPro!E52),\"\",InfoPro!E52)","v":19.899999999999999},{"$f":"IF(ISBLANK(InfoPro!N52),\"\",InfoPro!N52)","v":"NO"},{"$f":"IF(ISBLANK(InfoPro!I52),\"\",YEAR(InfoPro!I52)-$J$2)","v":1},0,0]
[null,{"$f":"IF(ISBLANK(InfoPro!A53),\"\",InfoPro!A53)","v":"SC_1520_A2"},{"$f":"IF(ISBLANK(InfoPro!B53),\"\",InfoPro!B53)","v":"Autogenerador Solar Argos Tolcemento - 19.9 MW"},{"$f":"IF(ISBLANK(InfoPro!E53),\"\",InfoPro!E53)","v":19.899999999999999},{"$f":"IF(ISBLANK(InfoPro!N53),\"\",InfoPro!N53)","v":"NO"},{"$f":"IF(ISBLANK(InfoPro!I53),\"\",YEAR(InfoPro!I53)-$J$2)","v":1},0,0]
[null,{"$f":"IF(ISBLANK(InfoPro!A54),\"\",InfoPro!A54)","v":"SC_1527_A1"},{"$f":"IF(ISBLANK(InfoPro!B54),\"\",InfoPro!B54)","v":"Nueva Montería Solar III _9,9 MW"},{"$f":"IF(ISBLANK(InfoPro!E54),\"\",InfoPro!E54)","v":9.9},{"$f":"IF(ISBLANK(InfoPro!N54),\"\",InfoPro!N54)","v":"NO"},{"$f":"IF(ISBLANK(InfoPro!I54),\"\",YEAR(InfoPro!I54)-$J$2)","v":2},0,0]
[null,{"$f":"IF(ISBLANK(InfoPro!A55),\"\",InfoPro!A55)","v":"SC_1527_A2"},{"$f":"IF(ISBLANK(InfoPro!B55),\"\",InfoPro!B55)","v":"Nueva Montería Solar III _9,9 MW"},{"$f":"IF(ISBLANK(InfoPro!E55),\"\",InfoPro!E55)","v":9.9},{"$f":"IF(ISBLANK(InfoPro!N55),\"\",InfoPro!N55)","v":"NO"},{"$f":"IF(ISBLANK(InfoPro!I55),\"\",YEAR(InfoPro!I55)-$J$2)","v":2},0,0]
[null,{"$f":"IF(ISBLANK(InfoPro!A56),\"\",InfoPro!A56)","v":"SC_1395_A1"},{"$f":"IF(ISBLANK(InfoPro!B56),\"\",InfoPro!B56)","v":"San Marcos I 19.9"},{"$f":"IF(ISBLANK(InfoPro!E56),\"\",InfoPro!E56)","v":19.899999999999999},{"$f":"IF(ISBLANK(InfoPro!N56),\"\",InfoPro!N56)","v":"NO"},{"$f":"IF(ISBLANK(InfoPro!I56),\"\",YEAR(InfoPro!I56)-$J$2)","v":3},0,0]
[null,{"$f":"IF(ISBLANK(InfoPro!A57),\"\",InfoPro!A57)","v":"SC_1396_A1"},{"$f":"IF(ISBLANK(InfoPro!B57),\"\",InfoPro!B57)","v":"San Marcos II 19.9"},{"$f":"IF(ISBLANK(InfoPro!E57),\"\",InfoPro!E57)","v":19.899999999999999},{"$f":"IF(ISBLANK(InfoPro!N57),\"\",InfoPro!N57)","v":"NO"},{"$f":"IF(ISBLANK(InfoPro!I57),\"\",YEAR(InfoPro!I57)-$J$2)","v":3},0,0]
[null,{"$f":"IF(ISBLANK(InfoPro!A58),\"\",InfoPro!A58)","v":"SC_1359_A1"},{"$f":"IF(ISBLANK(InfoPro!B58),\"\",InfoPro!B58)","v":"El Corozo_250MW"},{"$f":"IF(ISBLANK(InfoPro!E58),\"\",InfoPro!E58)","v":250},{"$f":"IF(ISBLANK(InfoPro!N58),\"\",InfoPro!N58)","v":"NO"},{"$f":"IF(ISBLANK(InfoPro!I58),\"\",YEAR(InfoPro!I58)-$J$2)","v":4},0,0]
[null,{"$f":"IF(ISBLANK(InfoPro!A59),\"\",InfoPro!A59)","v":"SC_1359_A2"},{"$f":"IF(ISBLANK(InfoPro!B59),\"\",InfoPro!B59)","v":"El Corozo_250MW"},{"$f":"IF(ISBLANK(InfoPro!E59),\"\",InfoPro!E59)","v":250},{"$f":"IF(ISBLANK(InfoPro!N59),\"\",InfoPro!N59)","v":"NO"},{"$f":"IF(ISBLANK(InfoPro!I59),\"\",YEAR(InfoPro!I59)-$J$2)","v":4},0,0]
[null,{"$f":"IF(ISBLANK(InfoPro!A60),\"\",InfoPro!A60)","v":"SC_1598_A1"},{"$f":"IF(ISBLANK(InfoPro!B60),\"\",InfoPro!B60)","v":"PARQUE SOLAR FOTOVOLTAICO MATIMBA de 150MW"},{"$f":"IF(ISBLANK(InfoPro!E60),\"\",InfoPro!E60)","v":150},{"$f":"IF(ISBLANK(InfoPro!N60),\"\",InfoPro!N60)","v":"NO"},{"$f":"IF(ISBLANK(InfoPro!I60),\"\",YEAR(InfoPro!I60)-$J$2)","v":3},0,0]
[null,{"$f":"IF(ISBLANK(InfoPro!A61),\"\",InfoPro!A61)","v":"SC_1598_A2"},{"$f":"IF(ISBLANK(InfoPro!B61),\"\",InfoPro!B61)","v":"PARQUE SOLAR FOTOVOLTAICO MATIMBA de 150MW"},{"$f":"IF(ISBLANK(InfoPro!E61),\"\",InfoPro!E61)","v":150},{"$f":"IF(ISBLANK(InfoPro!N61),\"\",InfoPro!N61)","v":"NO"},{"$f":"IF(ISBLANK(InfoPro!I61),\"\",YEAR(InfoPro!I61)-$J$2)","v":3},0,0]
[null,{"$f":"IF(ISBLANK(InfoPro!A62),\"\",InfoPro!A62)","v":"SC_981_A1"},{"$f":"IF(ISBLANK(InfoPro!B62),\"\",InfoPro!B62)","v":"Yaguarundi Solar"},{"$f":"IF(ISBLANK(InfoPro!E62),\"\",InfoPro!E62)","v":40},{"$f":"IF(ISBLANK(InfoPro!N62),\"\",InfoPro!N62)","v":"NO"},{"$f":"IF(ISBLANK(InfoPro!I62),\"\",YEAR(InfoPro!I62)-$J$2)","v":3},0,0]
[null,{"$f":"IF(ISBLANK(InfoPro!A63),\"\",InfoPro!A63)","v":"SC_981_A2"},{"$f":"IF(ISBLANK(InfoPro!B63),\"\",InfoPro!B63)","v":"Yaguarundi Solar"},{"$f":"IF(ISBLANK(InfoPro!E63),\"\",InfoPro!E63)","v":40},{"$f":"IF(ISBLANK(InfoPro!N63),\"\",InfoPro!N63)","v":"NO"},{"$f":"IF(ISBLANK(InfoPro!I63),\"\",YEAR(InfoPro!I63)-$J$2)","v":3},0,0]
[null,{"$f":"IF(ISBLANK(InfoPro!A64),\"\",InfoPro!A64)","v":"SC_1634_A1"},{"$f":"IF(ISBLANK(InfoPro!B64),\"\",InfoPro!B64)","v":"El Tapir Solar 99.9 MW"},{"$f":"IF(ISBLANK(InfoPro!E64),\"\",InfoPro!E64)","v":99.9},{"$f":"IF(ISBLANK(InfoPro!N64),\"\",InfoPro!N64)","v":"NO"},{"$f":"IF(ISBLANK(InfoPro!I64),\"\",YEAR(InfoPro!I64)-$J$2)","v":3},0,0]
[null,{"$f":"IF(ISBLANK(InfoPro!A65),\"\",InfoPro!A65)","v":"SC_782_A1"},{"$f":"IF(ISBLANK(InfoPro!B65),\"\",InfoPro!B65)","v":"Parque Solar El Corozo 60 MW"},{"$f":"IF(ISBLANK(InfoPro!E65),\"\",InfoPro!E65)","v":60},{"$f":"IF(ISBLANK(InfoPro!N65),\"\",InfoPro!N65)","v":"NO"},{"$f":"IF(ISBLANK(InfoPro!I65),\"\",YEAR(InfoPro!I65)-$J$2)","v":3},0,0]
[null,{"$f":"IF(ISBLANK(InfoPro!A66),\"\",InfoPro!A66)","v":"SC_782_A2"},{"$f":"IF(ISBLANK(InfoPro!B66),\"\",InfoPro!B66)","v":"Parque Solar El Corozo 60 MW"},{"$f":"IF(ISBLANK(InfoPro!E66),\"\",InfoPro!E66)","v":60},{"$f":"IF(ISBLANK(InfoPro!N66),\"\",InfoPro!N66)","v":"NO"},{"$f":"IF(ISBLANK(InfoPro!I66),\"\",YEAR(InfoPro!I66)-$J$2)","v":3},0,0]
[null,{"$f":"IF(ISBLANK(InfoPro!A67),\"\",InfoPro!A67)","v":"SC_1762_A1"},{"$f":"IF(ISBLANK(InfoPro!B67),\"\",InfoPro!B67)","v":"SPK CERETÉ SOLAR_19.9MW"},{"$f":"IF(ISBLANK(InfoPro!E67),\"\",InfoPro!E67)","v":19.899999999999999},{"$f":"IF(ISBLANK(InfoPro!N67),\"\",InfoPro!N67)","v":"NO"},{"$f":"IF(ISBLANK(InfoPro!I67),\"\",YEAR(InfoPro!I67)-$J$2)","v":3},{"$f":"IF(E67=\"SI\",100,IF(E67=\"NO\",0,\"\"))","v":0},{"$f":"IF(G67=\"\",\"\",(G67))","v":0}]
[null,{"$f":"IF(ISBLANK(InfoPro!A68),\"\",InfoPro!A68)","v":"SC_1762_A2"},{"$f":"IF(ISBLANK(InfoPro!B68),\"\",InfoPro!B68)","v":"SPK CERETÉ SOLAR_19.9MW"},{"$f":"IF(ISBLANK(InfoPro!E68),\"\",InfoPro!E68)","v":19.899999999999999},{"$f":"IF(ISBLANK(InfoPro!N68),\"\",InfoPro!N68)","v":"NO"},{"$f":"IF(ISBLANK(InfoPro!I68),\"\",YEAR(InfoPro!I68)-$J$2)","v":3},0,0]
[null,{"$f":"IF(ISBLANK(InfoPro!A69),\"\",InfoPro!A69)","v":"SC_1782_A1"},{"$f":"IF(ISBLANK(InfoPro!B69),\"\",InfoPro!B69)","v":"Orquídea del Sucre - Toluviejo"},{"$f":"IF(ISBLANK(InfoPro!E69),\"\",InfoPro!E69)","v":112},{"$f":"IF(ISBLANK(InfoPro!N69),\"\",InfoPro!N69)","v":"NO"},{"$f":"IF(ISBLANK(InfoPro!I69),\"\",YEAR(InfoPro!I69)-$J$2)","v":4},0,0]
[null,{"$f":"IF(ISBLANK(InfoPro!A70),\"\",InfoPro!A70)","v":"SC_1782_A2"},{"$f":"IF(ISBLANK(InfoPro!B70),\"\",InfoPro!B70)","v":"Orquídea del Sucre - Toluviejo"},{"$f":"IF(ISBLANK(InfoPro!E70),\"\",InfoPro!E70)","v":112},{"$f":"IF(ISBLANK(InfoPro!N70),\"\",InfoPro!N70)","v":"NO"},{"$f":"IF(ISBLANK(InfoPro!I70),\"\",YEAR(InfoPro!I70)-$J$2)","v":4},0,0]
[null,{"$f":"IF(ISBLANK(InfoPro!A71),\"\",InfoPro!A71)","v":"SC_1784_A1"},{"$f":"IF(ISBLANK(InfoPro!B71),\"\",InfoPro!B71)","v":"Pétalo del Sucre - Sierra Flor 9,9 MW"},{"$f":"IF(ISBLANK(InfoPro!E71),\"\",InfoPro!E71)","v":9.9},{"$f":"IF(ISBLANK(InfoPro!N71),\"\",InfoPro!N71)","v":"NO"},{"$f":"IF(ISBLANK(InfoPro!I71),\"\",YEAR(InfoPro!I71)-$J$2)","v":3},0,0]
[null,{"$f":"IF(ISBLANK(InfoPro!A72),\"\",InfoPro!A72)","v":"SC_1784_A2"},{"$f":"IF(ISBLANK(InfoPro!B72),\"\",InfoPro!B72)","v":"Pétalo del Sucre - Sierra Flor 9,9 MW"},{"$f":"IF(ISBLANK(InfoPro!E72),\"\",InfoPro!E72)","v":9.9},{"$f":"IF(ISBLANK(InfoPro!N72),\"\",InfoPro!N72)","v":"NO"},{"$f":"IF(ISBLANK(InfoPro!I72),\"\",YEAR(InfoPro!I72)-$J$2)","v":3},0,0]
[null,{"$f":"IF(ISBLANK(InfoPro!A73),\"\",InfoPro!A73)","v":"SC_1715_A1"},{"$f":"IF(ISBLANK(InfoPro!B73),\"\",InfoPro!B73)","v":"Andrómeda Solar de 50 MW (entrega 41 MW)"},{"$f":"IF(ISBLANK(InfoPro!E73),\"\",InfoPro!E73)","v":41},{"$f":"IF(ISBLANK(InfoPro!N73),\"\",InfoPro!N73)","v":"NO"},{"$f":"IF(ISBLANK(InfoPro!I73),\"\",YEAR(InfoPro!I73)-$J$2)","v":3},0,0]
[null,{"$f":"IF(ISBLANK(InfoPro!A74),\"\",InfoPro!A74)","v":"SC_1715_A2"},{"$f":"IF(ISBLANK(InfoPro!B74),\"\",InfoPro!B74)","v":"Andrómeda Solar de 50 MW (entrega 41 MW)"},{"$f":"IF(ISBLANK(InfoPro!E74),\"\",InfoPro!E74)","v":41},{"$f":"IF(ISBLANK(InfoPro!N74),\"\",InfoPro!N74)","v":"NO"},{"$f":"IF(ISBLANK(InfoPro!I74),\"\",YEAR(InfoPro!I74)-$J$2)","v":3},0,0]
[null,{"$f":"IF(ISBLANK(InfoPro!A75),\"\",InfoPro!A75)","v":"SC_1809_A1"},{"$f":"IF(ISBLANK(InfoPro!B75),\"\",InfoPro!B75)","v":"DSE COVEÑAS"},{"$f":"IF(ISBLANK(InfoPro!E75),\"\",InfoPro!E75)","v":9.9},{"$f":"IF(ISBLANK(InfoPro!N75),\"\",InfoPro!N75)","v":"NO"},{"$f":"IF(ISBLANK(InfoPro!I75),\"\",YEAR(InfoPro!I75)-$J$2)","v":2},0,0]
[null,{"$f":"IF(ISBLANK(InfoPro!A76),\"\",InfoPro!A76)","v":"SC_1809_A2"},{"$f":"IF(ISBLANK(InfoPro!B76),\"\",InfoPro!B76)","v":"DSE COVEÑAS"},{"$f":"IF(ISBLANK(InfoPro!E76),\"\",InfoPro!E76)","v":9.9},{"$f":"IF(ISBLANK(InfoPro!N76),\"\",InfoPro!N76)","v":"NO"},{"$f":"IF(ISBLANK(InfoPro!I76),\"\",YEAR(InfoPro!I76)-$J$2)","v":2},0,0]
[null,{"$f":"IF(ISBLANK(InfoPro!A77),\"\",InfoPro!A77)","v":"SC_1838_A1"},{"$f":"IF(ISBLANK(InfoPro!B77),\"\",InfoPro!B77)","v":"Since Solar I 9,9 MW"},{"$f":"IF(ISBLANK(InfoPro!E77),\"\",InfoPro!E77)","v":9.9},{"$f":"IF(ISBLANK(InfoPro!N77),\"\",InfoPro!N77)","v":"NO"},{"$f":"IF(ISBLANK(InfoPro!I77),\"\",YEAR(InfoPro!I77)-$J$2)","v":2},0,0]
[null,{"$f":"IF(ISBLANK(InfoPro!A78),\"\",InfoPro!A78)","v":"SC_1838_A2"},{"$f":"IF(ISBLANK(InfoPro!B78),\"\",InfoPro!B78)","v":"Since Solar I 9,9 MW"},{"$f":"IF(ISBLANK(InfoPro!E78),\"\",InfoPro!E78)","v":9.9},{"$f":"IF(ISBLANK(InfoPro!N78),\"\",InfoPro!N78)","v":"NO"},{"$f":"IF(ISBLANK(InfoPro!I78),\"\",YEAR(InfoPro!I78)-$J$2)","v":2},0,0]
[null,{"$f":"IF(ISBLANK(InfoPro!A79),\"\",InfoPro!A79)","v":"SC_1853_A1"},{"$f":"IF(ISBLANK(InfoPro!B79),\"\",InfoPro!B79)","v":"Tolú Solar 9,9 MW"},{"$f":"IF(ISBLANK(InfoPro!E79),\"\",InfoPro!E79)","v":9.9},{"$f":"IF(ISBLANK(InfoPro!N79),\"\",InfoPro!N79)","v":"NO"},{"$f":"IF(ISBLANK(InfoPro!I79),\"\",YEAR(InfoPro!I79)-$J$2)","v":2},0,0]
[null,{"$f":"IF(ISBLANK(InfoPro!A80),\"\",InfoPro!A80)","v":"SC_1853_A2"},{"$f":"IF(ISBLANK(InfoPro!B80),\"\",InfoPro!B80)","v":"Tolú Solar 9,9 MW"},{"$f":"IF(ISBLANK(InfoPro!E80),\"\",InfoPro!E80)","v":9.9},{"$f":"IF(ISBLANK(InfoPro!N80),\"\",InfoPro!N80)","v":"NO"},{"$f":"IF(ISBLANK(InfoPro!I80),\"\",YEAR(InfoPro!I80)-$J$2)","v":2},0,0]
[null,{"$f":"IF(ISBLANK(InfoPro!A81),\"\",InfoPro!A81)","v":"SC_1882_A1"},{"$f":"IF(ISBLANK(InfoPro!B81),\"\",InfoPro!B81)","v":"Proyecto Solar Oviedo"},{"$f":"IF(ISBLANK(InfoPro!E81),\"\",InfoPro!E81)","v":9.9},{"$f":"IF(ISBLANK(InfoPro!N81),\"\",InfoPro!N81)","v":"NO"},{"$f":"IF(ISBLANK(InfoPro!I81),\"\",YEAR(InfoPro!I81)-$J$2)","v":2},0,0]
[null,{"$f":"IF(ISBLANK(InfoPro!A82),\"\",InfoPro!A82)","v":"SC_1882_A2"},{"$f":"IF(ISBLANK(InfoPro!B82),\"\",InfoPro!B82)","v":"Proyecto Solar Oviedo"},{"$f":"IF(ISBLANK(InfoPro!E82),\"\",InfoPro!E82)","v":9.9},{"$f":"IF(ISBLANK(InfoPro!N82),\"\",InfoPro!N82)","v":"NO"},{"$f":"IF(ISBLANK(InfoPro!I82),\"\",YEAR(InfoPro!I82)-$J$2)","v":2},0,0]
[null,{"$f":"IF(ISBLANK(InfoPro!A83),\"\",InfoPro!A83)","v":"SC_1913_A1"},{"$f":"IF(ISBLANK(InfoPro!B83),\"\",InfoPro!B83)","v":"PS Noe"},{"$f":"IF(ISBLANK(InfoPro!E83),\"\",InfoPro!E83)","v":9.9},{"$f":"IF(ISBLANK(InfoPro!N83),\"\",InfoPro!N83)","v":"NO"},{"$f":"IF(ISBLANK(InfoPro!I83),\"\",YEAR(InfoPro!I83)-$J$2)","v":2},0,0]
[null,{"$f":"IF(ISBLANK(InfoPro!A84),\"\",InfoPro!A84)","v":"SC_1913_A2"},{"$f":"IF(ISBLANK(InfoPro!B84),\"\",InfoPro!B84)","v":"PS Noe"},{"$f":"IF(ISBLANK(InfoPro!E84),\"\",InfoPro!E84)","v":9.9},{"$f":"IF(ISBLANK(InfoPro!N84),\"\",InfoPro!N84)","v":"NO"},{"$f":"IF(ISBLANK(InfoPro!I84),\"\",YEAR(InfoPro!I84)-$J$2)","v":2},0,0]
[null,{"$f":"IF(ISBLANK(InfoPro!A85),\"\",InfoPro!A85)","v":"SC_1491_A1"},{"$f":"IF(ISBLANK(InfoPro!B85),\"\",InfoPro!B85)","v":"SABANA SOLAR_90MW"},{"$f":"IF(ISBLANK(InfoPro!E85),\"\",InfoPro!E85)","v":90},{"$f":"IF(ISBLANK(InfoPro!N85),\"\",InfoPro!N85)","v":"NO"},{"$f":"IF(ISBLANK(InfoPro!I85),\"\",YEAR(InfoPro!I85)-$J$2)","v":2},0,0]
[null,{"$f":"IF(ISBLANK(InfoPro!A86),\"\",InfoPro!A86)","v":"SC_1491_A2"},{"$f":"IF(ISBLANK(InfoPro!B86),\"\",InfoPro!B86)","v":"SABANA SOLAR_90MW"},{"$f":"IF(ISBLANK(InfoPro!E86),\"\",InfoPro!E86)","v":90},{"$f":"IF(ISBLANK(InfoPro!N86),\"\",InfoPro!N86)","v":"NO"},{"$f":"IF(ISBLANK(InfoPro!I86),\"\",YEAR(InfoPro!I86)-$J$2)","v":2},0,0]
[null,{"$f":"IF(ISBLANK(InfoPro!A87),\"\",InfoPro!A87)","v":"SC_1894_A1"},{"$f":"IF(ISBLANK(InfoPro!B87),\"\",InfoPro!B87)","v":"Aquila Solar"},{"$f":"IF(ISBLANK(InfoPro!E87),\"\",InfoPro!E87)","v":47},{"$f":"IF(ISBLANK(InfoPro!N87),\"\",InfoPro!N87)","v":"NO"},{"$f":"IF(ISBLANK(InfoPro!I87),\"\",YEAR(InfoPro!I87)-$J$2)","v":2},0,0]
[null,{"$f":"IF(ISBLANK(InfoPro!A88),\"\",InfoPro!A88)","v":"SC_1894_A2"},{"$f":"IF(ISBLANK(InfoPro!B88),\"\",InfoPro!B88)","v":"Aquila Solar"},{"$f":"IF(ISBLANK(InfoPro!E88),\"\",InfoPro!E88)","v":47},{"$f":"IF(ISBLANK(InfoPro!N88),\"\",InfoPro!N88)","v":"NO"},{"$f":"IF(ISBLANK(InfoPro!I88),\"\",YEAR(InfoPro!I88)-$J$2)","v":2},0,0]
[null,{"$f":"IF(ISBLANK(InfoPro!A89),\"\",InfoPro!A89)","v":"SC_1887_A1"},{"$f":"IF(ISBLANK(InfoPro!B89),\"\",InfoPro!B89)","v":"Boston Solar"},{"$f":"IF(ISBLANK(InfoPro!E89),\"\",InfoPro!E89)","v":100},{"$f":"IF(ISBLANK(InfoPro!N89),\"\",InfoPro!N89)","v":"NO"},{"$f":"IF(ISBLANK(InfoPro!I89),\"\",YEAR(InfoPro!I89)-$J$2)","v":3},0,0]
[null,{"$f":"IF(ISBLANK(InfoPro!A90),\"\",InfoPro!A90)","v":"SC_1887_A2"},{"$f":"IF(ISBLANK(InfoPro!B90),\"\",InfoPro!B90)","v":"Boston Solar"},{"$f":"IF(ISBLANK(InfoPro!E90),\"\",InfoPro!E90)","v":100},{"$f":"IF(ISBLANK(InfoPro!N90),\"\",InfoPro!N90)","v":"NO"},{"$f":"IF(ISBLANK(InfoPro!I90),\"\",YEAR(InfoPro!I90)-$J$2)","v":3},0,0]
[null,{"$f":"IF(ISBLANK(InfoPro!A91),\"\",InfoPro!A91)","v":"SC_2104_A1"},{"$f":"IF(ISBLANK(InfoPro!B91),\"\",InfoPro!B91)","v":"El Dorado - 300 MW"},{"$f":"IF(ISBLANK(InfoPro!E91),\"\",InfoPro!E91)","v":300},{"$f":"IF(ISBLANK(InfoPro!N91),\"\",InfoPro!N91)","v":"NO"},{"$f":"IF(ISBLANK(InfoPro!I91),\"\",YEAR(InfoPro!I91)-$J$2)","v":3},0,0]
[null,{"$f":"IF(ISBLANK(InfoPro!A92),\"\",InfoPro!A92)","v":"SC_2104_A2"},{"$f":"IF(ISBLANK(InfoPro!B92),\"\",InfoPro!B92)","v":"El Dorado - 300 MW"},{"$f":"IF(ISBLANK(InfoPro!E92),\"\",InfoPro!E92)","v":300},{"$f":"IF(ISBLANK(InfoPro!N92),\"\",InfoPro!N92)","v":"NO"},{"$f":"IF(ISBLANK(InfoPro!I92),\"\",YEAR(InfoPro!I92)-$J$2)","v":3},0,0]
[null,{"$f":"IF(ISBLANK(InfoPro!A93),\"\",InfoPro!A93)","v":"SC_2028_A1"},{"$f":"IF(ISBLANK(InfoPro!B93),\"\",InfoPro!B93)","v":"Parque Solar Fandango"},{"$f":"IF(ISBLANK(InfoPro!E93),\"\",InfoPro!E93)","v":19.899999999999999},{"$f":"IF(ISBLANK(InfoPro!N93),\"\",InfoPro!N93)","v":"NO"},{"$f":"IF(ISBLANK(InfoPro!I93),\"\",YEAR(InfoPro!I93)-$J$2)","v":2},0,0]
[null,{"$f":"IF(ISBLANK(InfoPro!A94),\"\",InfoPro!A94)","v":"SC_2028_A2"},{"$f":"IF(ISBLANK(InfoPro!B94),\"\",InfoPro!B94)","v":"Parque Solar Fandango"},{"$f":"IF(ISBLANK(InfoPro!E94),\"\",InfoPro!E94)","v":19.899999999999999},{"$f":"IF(ISBLANK(InfoPro!N94),\"\",InfoPro!N94)","v":"NO"},{"$f":"IF(ISBLANK(InfoPro!I94),\"\",YEAR(InfoPro!I94)-$J$2)","v":2},0,0]
[null,{"$f":"IF(ISBLANK(InfoPro!A95),\"\",InfoPro!A95)","v":"SC_2015_A1"},{"$f":"IF(ISBLANK(InfoPro!B95),\"\",InfoPro!B95)","v":"Parque Solar El Bongo"},{"$f":"IF(ISBLANK(InfoPro!E95),\"\",InfoPro!E95)","v":19.899999999999999},{"$f":"IF(ISBLANK(InfoPro!N95),\"\",InfoPro!N95)","v":"NO"},{"$f":"IF(ISBLANK(InfoPro!I95),\"\",YEAR(InfoPro!I95)-$J$2)","v":2},0,0]
[null,{"$f":"IF(ISBLANK(InfoPro!A96),\"\",InfoPro!A96)","v":"SC_2015_A2"},{"$f":"IF(ISBLANK(InfoPro!B96),\"\",InfoPro!B96)","v":"Parque Solar El Bongo"},{"$f":"IF(ISBLANK(InfoPro!E96),\"\",InfoPro!E96)","v":19.899999999999999},{"$f":"IF(ISBLANK(InfoPro!N96),\"\",InfoPro!N96)","v":"NO"},{"$f":"IF(ISBLANK(InfoPro!I96),\"\",YEAR(InfoPro!I96)-$J$2)","v":2},0,0]
[null,{"$f":"IF(ISBLANK(InfoPro!A97),\"\",InfoPro!A97)","v":"SC_2049_A1"},{"$f":"IF(ISBLANK(InfoPro!B97),\"\",InfoPro!B97)","v":"Parque Solar Sinú"},{"$f":"IF(ISBLANK(InfoPro!E97),\"\",InfoPro!E97)","v":9.9},{"$f":"IF(ISBLANK(InfoPro!N97),\"\",InfoPro!N97)","v":"NO"},{"$f":"IF(ISBLANK(InfoPro!I97),\"\",YEAR(InfoPro!I97)-$J$2)","v":2},0,0]
[null,{"$f":"IF(ISBLANK(InfoPro!A98),\"\",InfoPro!A98)","v":"SC_2049_A2"},{"$f":"IF(ISBLANK(InfoPro!B98),\"\",InfoPro!B98)","v":"Parque Solar Sinú"},{"$f":"IF(ISBLANK(InfoPro!E98),\"\",InfoPro!E98)","v":9.9},{"$f":"IF(ISBLANK(InfoPro!N98),\"\",InfoPro!N98)","v":"NO"},{"$f":"IF(ISBLANK(InfoPro!I98),\"\",YEAR(InfoPro!I98)-$J$2)","v":2},0,0]
[null,{"$f":"IF(ISBLANK(InfoPro!A99),\"\",InfoPro!A99)","v":"SC_2042_A1"},{"$f":"IF(ISBLANK(InfoPro!B99),\"\",InfoPro!B99)","v":"Parque Solar La Uvita"},{"$f":"IF(ISBLANK(InfoPro!E99),\"\",InfoPro!E99)","v":19.899999999999999},{"$f":"IF(ISBLANK(InfoPro!N99),\"\",InfoPro!N99)","v":"NO"},{"$f":"IF(ISBLANK(InfoPro!I99),\"\",YEAR(InfoPro!I99)-$J$2)","v":2},0,0]
[null,{"$f":"IF(ISBLANK(InfoPro!A100),\"\",InfoPro!A100)","v":"SC_2042_A2"},{"$f":"IF(ISBLANK(InfoPro!B100),\"\",InfoPro!B100)","v":"Parque Solar La Uvita"},{"$f":"IF(ISBLANK(InfoPro!E100),\"\",InfoPro!E100)","v":19.899999999999999},{"$f":"IF(ISBLANK(InfoPro!N100),\"\",InfoPro!N100)","v":"NO"},{"$f":"IF(ISBLANK(InfoPro!I100),\"\",YEAR(InfoPro!I100)-$J$2)","v":2},0,0]
[null,{"$f":"IF(ISBLANK(InfoPro!A101),\"\",InfoPro!A101)","v":"SC_2111_A1"},{"$f":"IF(ISBLANK(InfoPro!B101),\"\",InfoPro!B101)","v":"PROYECTO QUIMARÍ SOLAR_90MW"},{"$f":"IF(ISBLANK(InfoPro!E101),\"\",InfoPro!E101)","v":90},{"$f":"IF(ISBLANK(InfoPro!N101),\"\",InfoPro!N101)","v":"NO"},{"$f":"IF(ISBLANK(InfoPro!I101),\"\",YEAR(InfoPro!I101)-$J$2)","v":2},0,0]
[null,{"$f":"IF(ISBLANK(InfoPro!A102),\"\",InfoPro!A102)","v":"SC_2111_A2"},{"$f":"IF(ISBLANK(InfoPro!B102),\"\",InfoPro!B102)","v":"PROYECTO QUIMARÍ SOLAR_90MW"},{"$f":"IF(ISBLANK(InfoPro!E102),\"\",InfoPro!E102)","v":90},{"$f":"IF(ISBLANK(InfoPro!N102),\"\",InfoPro!N102)","v":"NO"},{"$f":"IF(ISBLANK(InfoPro!I102),\"\",YEAR(InfoPro!I102)-$J$2)","v":2},0,0]
[null,{"$f":"IF(ISBLANK(InfoPro!A103),\"\",InfoPro!A103)","v":"SC_2173_A1"},{"$f":"IF(ISBLANK(InfoPro!B103),\"\",InfoPro!B103)","v":"Nueva Montería Solar I 9,9 MW"},{"$f":"IF(ISBLANK(InfoPro!E103),\"\",InfoPro!E103)","v":9.9},{"$f":"IF(ISBLANK(InfoPro!N103),\"\",InfoPro!N103)","v":"NO"},{"$f":"IF(ISBLANK(InfoPro!I103),\"\",YEAR(InfoPro!I103)-$J$2)","v":2},0,0]
[null,{"$f":"IF(ISBLANK(InfoPro!A104),\"\",InfoPro!A104)","v":"SC_2173_A2"},{"$f":"IF(ISBLANK(InfoPro!B104),\"\",InfoPro!B104)","v":"Nueva Montería Solar I 9,9 MW"},{"$f":"IF(ISBLANK(InfoPro!E104),\"\",InfoPro!E104)","v":9.9},{"$f":"IF(ISBLANK(InfoPro!N104),\"\",InfoPro!N104)","v":"NO"},{"$f":"IF(ISBLANK(InfoPro!I104),\"\",YEAR(InfoPro!I104)-$J$2)","v":2},0,0]
[null,{"$f":"IF(ISBLANK(InfoPro!A105),\"\",InfoPro!A105)","v":"SC_2174_A1"},{"$f":"IF(ISBLANK(InfoPro!B105),\"\",InfoPro!B105)","v":"Nueva Montería Solar I 9,9 MW"},{"$f":"IF(ISBLANK(InfoPro!E105),\"\",InfoPro!E105)","v":9.9},{"$f":"IF(ISBLANK(InfoPro!N105),\"\",InfoPro!N105)","v":"NO"},{"$f":"IF(ISBLANK(InfoPro!I105),\"\",YEAR(InfoPro!I105)-$J$2)","v":2},0,0]
[null,{"$f":"IF(ISBLANK(InfoPro!A106),\"\",InfoPro!A106)","v":"SC_2174_A2"},{"$f":"IF(ISBLANK(InfoPro!B106),\"\",InfoPro!B106)","v":"Nueva Montería Solar I 9,9 MW"},{"$f":"IF(ISBLANK(InfoPro!E106),\"\",InfoPro!E106)","v":9.9},{"$f":"IF(ISBLANK(InfoPro!N106),\"\",InfoPro!N106)","v":"NO"},{"$f":"IF(ISBLANK(InfoPro!I106),\"\",YEAR(InfoPro!I106)-$J$2)","v":2},0,0]
[null,{"$f":"IF(ISBLANK(InfoPro!A107),\"\",InfoPro!A107)","v":"SC_2016_A1"},{"$f":"IF(ISBLANK(InfoPro!B107),\"\",InfoPro!B107)","v":"Hidalgo Solar 80 MW"},{"$f":"IF(ISBLANK(InfoPro!E107),\"\",InfoPro!E107)","v":80},{"$f":"IF(ISBLANK(InfoPro!N107),\"\",InfoPro!N107)","v":"NO"},{"$f":"IF(ISBLANK(InfoPro!I107),\"\",YEAR(InfoPro!I107)-$J$2)","v":2},0,0]
[null,{"$f":"IF(ISBLANK(InfoPro!A108),\"\",InfoPro!A108)","v":"SC_2016_A2"},{"$f":"IF(ISBLANK(InfoPro!B108),\"\",InfoPro!B108)","v":"Hidalgo Solar 80 MW"},{"$f":"IF(ISBLANK(InfoPro!E108),\"\",InfoPro!E108)","v":80},{"$f":"IF(ISBLANK(InfoPro!N108),\"\",InfoPro!N108)","v":"NO"},{"$f":"IF(ISBLANK(InfoPro!I108),\"\",YEAR(InfoPro!I108)-$J$2)","v":2},0,0]
[null,{"$f":"IF(ISBLANK(InfoPro!A109),\"\",InfoPro!A109)","v":"SC_2016_A3"},{"$f":"IF(ISBLANK(InfoPro!B109),\"\",InfoPro!B109)","v":"Hidalgo Solar 80 MW"},{"$f":"IF(ISBLANK(InfoPro!E109),\"\",InfoPro!E109)","v":80},{"$f":"IF(ISBLANK(InfoPro!N109),\"\",InfoPro!N109)","v":"NO"},{"$f":"IF(ISBLANK(InfoPro!I109),\"\",YEAR(InfoPro!I109)-$J$2)","v":2},0,0]
[null,{"$f":"IF(ISBLANK(InfoPro!A110),\"\",InfoPro!A110)","v":"SC_2135_A1"},{"$f":"IF(ISBLANK(InfoPro!B110),\"\",InfoPro!B110)","v":"DSE SIERRAFLOR"},{"$f":"IF(ISBLANK(InfoPro!E110),\"\",InfoPro!E110)","v":99.9},{"$f":"IF(ISBLANK(InfoPro!N110),\"\",InfoPro!N110)","v":"NO"},{"$f":"IF(ISBLANK(InfoPro!I110),\"\",YEAR(InfoPro!I110)-$J$2)","v":3},0,0]
[null,{"$f":"IF(ISBLANK(InfoPro!A111),\"\",InfoPro!A111)","v":"SC_2135_A2"},{"$f":"IF(ISBLANK(InfoPro!B111),\"\",InfoPro!B111)","v":"DSE SIERRAFLOR"},{"$f":"IF(ISBLANK(InfoPro!E111),\"\",InfoPro!E111)","v":99.9},{"$f":"IF(ISBLANK(InfoPro!N111),\"\",InfoPro!N111)","v":"NO"},{"$f":"IF(ISBLANK(InfoPro!I111),\"\",YEAR(InfoPro!I111)-$J$2)","v":3},0,0]
[null,{"$f":"IF(ISBLANK(InfoPro!A112),\"\",InfoPro!A112)","v":"SC_1821_A1"},{"$f":"IF(ISBLANK(InfoPro!B112),\"\",InfoPro!B112)","v":"Balay Solar"},{"$f":"IF(ISBLANK(InfoPro!E112),\"\",InfoPro!E112)","v":70},{"$f":"IF(ISBLANK(InfoPro!N112),\"\",InfoPro!N112)","v":"NO"},{"$f":"IF(ISBLANK(InfoPro!I112),\"\",YEAR(InfoPro!I112)-$J$2)","v":4},0,0]
[null,{"$f":"IF(ISBLANK(InfoPro!A113),\"\",InfoPro!A113)","v":"SC_1821_A2"},{"$f":"IF(ISBLANK(InfoPro!B113),\"\",InfoPro!B113)","v":"Balay Solar"},{"$f":"IF(ISBLANK(InfoPro!E113),\"\",InfoPro!E113)","v":70},{"$f":"IF(ISBLANK(InfoPro!N113),\"\",InfoPro!N113)","v":"NO"},{"$f":"IF(ISBLANK(InfoPro!I113),\"\",YEAR(InfoPro!I113)-$J$2)","v":4},0,0]
[null,{"$f":"IF(ISBLANK(InfoPro!A114),\"\",InfoPro!A114)","v":"SC_1859_A1"},{"$f":"IF(ISBLANK(InfoPro!B114),\"\",InfoPro!B114)","v":"PV Altamira_99MW"},{"$f":"IF(ISBLANK(InfoPro!E114),\"\",InfoPro!E114)","v":99},{"$f":"IF(ISBLANK(InfoPro!N114),\"\",InfoPro!N114)","v":"NO"},{"$f":"IF(ISBLANK(InfoPro!I114),\"\",YEAR(InfoPro!I114)-$J$2)","v":4},0,0]
[null,{"$f":"IF(ISBLANK(InfoPro!A115),\"\",InfoPro!A115)","v":"SC_1859_A2"},{"$f":"IF(ISBLANK(InfoPro!B115),\"\",InfoPro!B115)","v":"PV Altamira_99MW"},{"$f":"IF(ISBLANK(InfoPro!E115),\"\",InfoPro!E115)","v":99},{"$f":"IF(ISBLANK(InfoPro!N115),\"\",InfoPro!N115)","v":"NO"},{"$f":"IF(ISBLANK(InfoPro!I115),\"\",YEAR(InfoPro!I115)-$J$2)","v":4},0,0]
[null,{"$f":"IF(ISBLANK(InfoPro!A116),\"\",InfoPro!A116)","v":"SC_1843_A1"},{"$f":"IF(ISBLANK(InfoPro!B116),\"\",InfoPro!B116)","v":"KOS de 19.9 MW"},{"$f":"IF(ISBLANK(InfoPro!E116),\"\",InfoPro!E116)","v":19.899999999999999},{"$f":"IF(ISBLANK(InfoPro!N116),\"\",InfoPro!N116)","v":"NO"},{"$f":"IF(ISBLANK(InfoPro!I116),\"\",YEAR(InfoPro!I116)-$J$2)","v":2},0,0]
[null,{"$f":"IF(ISBLANK(InfoPro!A117),\"\",InfoPro!A117)","v":"SC_1843_A2"},{"$f":"IF(ISBLANK(InfoPro!B117),\"\",InfoPro!B117)","v":"KOS de 19.9 MW"},{"$f":"IF(ISBLANK(InfoPro!E117),\"\",InfoPro!E117)","v":19.899999999999999},{"$f":"IF(ISBLANK(InfoPro!N117),\"\",InfoPro!N117)","v":"NO"},{"$f":"IF(ISBLANK(InfoPro!I117),\"\",YEAR(InfoPro!I117)-$J$2)","v":2},0,0]
[null,{"$f":"IF(ISBLANK(InfoPro!A118),\"\",InfoPro!A118)","v":"SC_2012_A1"},{"$f":"IF(ISBLANK(InfoPro!B118),\"\",InfoPro!B118)","v":"Parqu Solar Fotovoltaico Rocio del Sol 50 MW"},{"$f":"IF(ISBLANK(InfoPro!E118),\"\",InfoPro!E118)","v":50},{"$f":"IF(ISBLANK(InfoPro!N118),\"\",InfoPro!N118)","v":"NO"},{"$f":"IF(ISBLANK(InfoPro!I118),\"\",YEAR(InfoPro!I118)-$J$2)","v":3},0,0]
[null,{"$f":"IF(ISBLANK(InfoPro!A119),\"\",InfoPro!A119)","v":"SC_2012_A2"},{"$f":"IF(ISBLANK(InfoPro!B119),\"\",InfoPro!B119)","v":"Parqu Solar Fotovoltaico Rocio del Sol 50 MW"},{"$f":"IF(ISBLANK(InfoPro!E119),\"\",InfoPro!E119)","v":50},{"$f":"IF(ISBLANK(InfoPro!N119),\"\",InfoPro!N119)","v":"NO"},{"$f":"IF(ISBLANK(InfoPro!I119),\"\",YEAR(InfoPro!I119)-$J$2)","v":3},0,0]
[null,{"$f":"IF(ISBLANK(InfoPro!A120),\"\",InfoPro!A120)","v":"SC_1807_A1"},{"$f":"IF(ISBLANK(InfoPro!B120),\"\",InfoPro!B120)","v":"Parque Solar Canis 49,9 MW"},{"$f":"IF(ISBLANK(InfoPro!E120),\"\",InfoPro!E120)","v":49.9},{"$f":"IF(ISBLANK(InfoPro!N120),\"\",InfoPro!N120)","v":"NO"},{"$f":"IF(ISBLANK(InfoPro!I120),\"\",YEAR(InfoPro!I120)-$J$2)","v":2},0,0]
[null,{"$f":"IF(ISBLANK(InfoPro!A121),\"\",InfoPro!A121)","v":"SC_1807_A2"},{"$f":"IF(ISBLANK(InfoPro!B121),\"\",InfoPro!B121)","v":"Parque Solar Canis 49,9 MW"},{"$f":"IF(ISBLANK(InfoPro!E121),\"\",InfoPro!E121)","v":49.9},{"$f":"IF(ISBLANK(InfoPro!N121),\"\",InfoPro!N121)","v":"NO"},{"$f":"IF(ISBLANK(InfoPro!I121),\"\",YEAR(InfoPro!I121)-$J$2)","v":2},0,0]
[null,{"$f":"IF(ISBLANK(InfoPro!A122),\"\",InfoPro!A122)","v":"SC_1918_A1"},{"$f":"IF(ISBLANK(InfoPro!B122),\"\",InfoPro!B122)","v":"Casiopea 40 MW"},{"$f":"IF(ISBLANK(InfoPro!E122),\"\",InfoPro!E122)","v":40},{"$f":"IF(ISBLANK(InfoPro!N122),\"\",InfoPro!N122)","v":"NO"},{"$f":"IF(ISBLANK(InfoPro!I122),\"\",YEAR(InfoPro!I122)-$J$2)","v":2},0,0]
[null,{"$f":"IF(ISBLANK(InfoPro!A123),\"\",InfoPro!A123)","v":"SC_1918_A2"},{"$f":"IF(ISBLANK(InfoPro!B123),\"\",InfoPro!B123)","v":"Casiopea 40 MW"},{"$f":"IF(ISBLANK(InfoPro!E123),\"\",InfoPro!E123)","v":40},{"$f":"IF(ISBLANK(InfoPro!N123),\"\",InfoPro!N123)","v":"NO"},{"$f":"IF(ISBLANK(InfoPro!I123),\"\",YEAR(InfoPro!I123)-$J$2)","v":2},0,0]
[null,{"$f":"IF(ISBLANK(InfoPro!A124),\"\",InfoPro!A124)","v":"SC_1813_A1"},{"$f":"IF(ISBLANK(InfoPro!B124),\"\",InfoPro!B124)","v":"Parque de generación Cefeo"},{"$f":"IF(ISBLANK(InfoPro!E124),\"\",InfoPro!E124)","v":19.899999999999999},{"$f":"IF(ISBLANK(InfoPro!N124),\"\",InfoPro!N124)","v":"NO"},{"$f":"IF(ISBLANK(InfoPro!I124),\"\",YEAR(InfoPro!I124)-$J$2)","v":2},0,0]
[null,{"$f":"IF(ISBLANK(InfoPro!A125),\"\",InfoPro!A125)","v":"SC_1813_A2"},{"$f":"IF(ISBLANK(InfoPro!B125),\"\",InfoPro!B125)","v":"Parque de generación Cefeo"},{"$f":"IF(ISBLANK(InfoPro!E125),\"\",InfoPro!E125)","v":19.899999999999999},{"$f":"IF(ISBLANK(InfoPro!N125),\"\",InfoPro!N125)","v":"NO"},{"$f":"IF(ISBLANK(InfoPro!I125),\"\",YEAR(InfoPro!I125)-$J$2)","v":2},0,0]
[null,{"$f":"IF(ISBLANK(InfoPro!A126),\"\",InfoPro!A126)","v":"SC_1949_A1"},{"$f":"IF(ISBLANK(InfoPro!B126),\"\",InfoPro!B126)","v":"Solar Planeta Rica"},{"$f":"IF(ISBLANK(InfoPro!E126),\"\",InfoPro!E126)","v":19.899999999999999},{"$f":"IF(ISBLANK(InfoPro!N126),\"\",InfoPro!N126)","v":"NO"},{"$f":"IF(ISBLANK(InfoPro!I126),\"\",YEAR(InfoPro!I126)-$J$2)","v":3},0,0]
[null,{"$f":"IF(ISBLANK(InfoPro!A127),\"\",InfoPro!A127)","v":"SC_1949_A2"},{"$f":"IF(ISBLANK(InfoPro!B127),\"\",InfoPro!B127)","v":"Solar Planeta Rica"},{"$f":"IF(ISBLANK(InfoPro!E127),\"\",InfoPro!E127)","v":19.899999999999999},{"$f":"IF(ISBLANK(InfoPro!N127),\"\",InfoPro!N127)","v":"NO"},{"$f":"IF(ISBLANK(InfoPro!I127),\"\",YEAR(InfoPro!I127)-$J$2)","v":3},0,0]
[null,{"$f":"IF(ISBLANK(InfoPro!A128),\"\",InfoPro!A128)","v":"SC_1970_A1"},{"$f":"IF(ISBLANK(InfoPro!B128),\"\",InfoPro!B128)","v":"Parque Solar Montería"},{"$f":"IF(ISBLANK(InfoPro!E128),\"\",InfoPro!E128)","v":99},{"$f":"IF(ISBLANK(InfoPro!N128),\"\",InfoPro!N128)","v":"NO"},{"$f":"IF(ISBLANK(InfoPro!I128),\"\",YEAR(InfoPro!I128)-$J$2)","v":3},0,0]
[null,{"$f":"IF(ISBLANK(InfoPro!A129),\"\",InfoPro!A129)","v":"SC_1970_A2"},{"$f":"IF(ISBLANK(InfoPro!B129),\"\",InfoPro!B129)","v":"Parque Solar Montería"},{"$f":"IF(ISBLANK(InfoPro!E129),\"\",InfoPro!E129)","v":99},{"$f":"IF(ISBLANK(InfoPro!N129),\"\",InfoPro!N129)","v":"NO"},{"$f":"IF(ISBLANK(InfoPro!I129),\"\",YEAR(InfoPro!I129)-$J$2)","v":3},0,0]
[null,{"$f":"IF(ISBLANK(InfoPro!A130),\"\",InfoPro!A130)","v":"SC_2072_A1"},{"$f":"IF(ISBLANK(InfoPro!B130),\"\",InfoPro!B130)","v":"Porvenir - 9.9 MW"},{"$f":"IF(ISBLANK(InfoPro!E130),\"\",InfoPro!E130)","v":9.9},{"$f":"IF(ISBLANK(InfoPro!N130),\"\",InfoPro!N130)","v":"NO"},{"$f":"IF(ISBLANK(InfoPro!I130),\"\",YEAR(InfoPro!I130)-$J$2)","v":2},0,0]
[null,{"$f":"IF(ISBLANK(InfoPro!A131),\"\",InfoPro!A131)","v":"SC_2204_A1"},{"$f":"IF(ISBLANK(InfoPro!B131),\"\",InfoPro!B131)","v":"Parque Solar Ciénaga Grande - 19.9 MW"},{"$f":"IF(ISBLANK(InfoPro!E131),\"\",InfoPro!E131)","v":19.899999999999999},{"$f":"IF(ISBLANK(InfoPro!N131),\"\",InfoPro!N131)","v":"NO"},{"$f":"IF(ISBLANK(InfoPro!I131),\"\",YEAR(InfoPro!I131)-$J$2)","v":2},{"$f":"IF(E131=\"SI\",100,IF(E131=\"NO\",0,\"\"))","v":0},{"$f":"IF(G131=\"\",\"\",(G131))","v":0}]
[null,{"$f":"IF(ISBLANK(InfoPro!A132),\"\",InfoPro!A132)","v":"SC_2204_A2"},{"$f":"IF(ISBLANK(InfoPro!B132),\"\",InfoPro!B132)","v":"Parque Solar Ciénaga Grande - 19.9 MW"},{"$f":"IF(ISBLANK(InfoPro!E132),\"\",InfoPro!E132)","v":19.899999999999999},{"$f":"IF(ISBLANK(InfoPro!N132),\"\",InfoPro!N132)","v":"NO"},{"$f":"IF(ISBLANK(InfoPro!I132),\"\",YEAR(InfoPro!I132)-$J$2)","v":2},0,0]
[null,{"$f":"IF(ISBLANK(InfoPro!A133),\"\",InfoPro!A133)","v":"SC_2166_A1"},{"$f":"IF(ISBLANK(InfoPro!B133),\"\",InfoPro!B133)","v":"Parque fotovoltaico Delphinus"},{"$f":"IF(ISBLANK(InfoPro!E133),\"\",InfoPro!E133)","v":19.899999999999999},{"$f":"IF(ISBLANK(InfoPro!N133),\"\",InfoPro!N133)","v":"NO"},{"$f":"IF(ISBLANK(InfoPro!I133),\"\",YEAR(InfoPro!I133)-$J$2)","v":2},0,0]
[null,{"$f":"IF(ISBLANK(InfoPro!A134),\"\",InfoPro!A134)","v":"SC_2166_A2"},{"$f":"IF(ISBLANK(InfoPro!B134),\"\",InfoPro!B134)","v":"Parque fotovoltaico Delphinus"},{"$f":"IF(ISBLANK(InfoPro!E134),\"\",InfoPro!E134)","v":19.899999999999999},{"$f":"IF(ISBLANK(InfoPro!N134),\"\",InfoPro!N134)","v":"NO"},{"$f":"IF(ISBLANK(InfoPro!I134),\"\",YEAR(InfoPro!I134)-$J$2)","v":2},0,0]
[null,{"$f":"IF(ISBLANK(InfoPro!A135),\"\",InfoPro!A135)","v":"SC_1923_A1"},{"$f":"IF(ISBLANK(InfoPro!B135),\"\",InfoPro!B135)","v":"Parque Solar Fotovoltaico Chunú I 50 MW"},{"$f":"IF(ISBLANK(InfoPro!E135),\"\",InfoPro!E135)","v":50},{"$f":"IF(ISBLANK(InfoPro!N135),\"\",InfoPro!N135)","v":"NO"},{"$f":"IF(ISBLANK(InfoPro!I135),\"\",YEAR(InfoPro!I135)-$J$2)","v":4},0,0]
[null,{"$f":"IF(ISBLANK(InfoPro!A136),\"\",InfoPro!A136)","v":"SC_1923_A2"},{"$f":"IF(ISBLANK(InfoPro!B136),\"\",InfoPro!B136)","v":"Parque Solar Fotovoltaico Chunú I 50 MW"},{"$f":"IF(ISBLANK(InfoPro!E136),\"\",InfoPro!E136)","v":50},{"$f":"IF(ISBLANK(InfoPro!N136),\"\",InfoPro!N136)","v":"NO"},{"$f":"IF(ISBLANK(InfoPro!I136),\"\",YEAR(InfoPro!I136)-$J$2)","v":4},0,0]
[null,{"$f":"IF(ISBLANK(InfoPro!A137),\"\",InfoPro!A137)","v":"SC_1937_A1"},{"$f":"IF(ISBLANK(InfoPro!B137),\"\",InfoPro!B137)","v":"Parque Solar Fotovoltaico ChInú II 50 MW"},{"$f":"IF(ISBLANK(InfoPro!E137),\"\",InfoPro!E137)","v":50},{"$f":"IF(ISBLANK(InfoPro!N137),\"\",InfoPro!N137)","v":"NO"},{"$f":"IF(ISBLANK(InfoPro!I137),\"\",YEAR(InfoPro!I137)-$J$2)","v":4},0,0]
[null,{"$f":"IF(ISBLANK(InfoPro!A138),\"\",InfoPro!A138)","v":"SC_1937_A2"},{"$f":"IF(ISBLANK(InfoPro!B138),\"\",InfoPro!B138)","v":"Parque Solar Fotovoltaico ChInú II 50 MW"},{"$f":"IF(ISBLANK(InfoPro!E138),\"\",InfoPro!E138)","v":50},{"$f":"IF(ISBLANK(InfoPro!N138),\"\",InfoPro!N138)","v":"NO"},{"$f":"IF(ISBLANK(InfoPro!I138),\"\",YEAR(InfoPro!I138)-$J$2)","v":4},0,0]
[null,{"$f":"IF(ISBLANK(InfoPro!A139),\"\",InfoPro!A139)","v":"SC_1810_A1"},{"$f":"IF(ISBLANK(InfoPro!B139),\"\",InfoPro!B139)","v":"Parque Solar Coveñas 50 MW"},{"$f":"IF(ISBLANK(InfoPro!E139),\"\",InfoPro!E139)","v":50},{"$f":"IF(ISBLANK(InfoPro!N139),\"\",InfoPro!N139)","v":"NO"},{"$f":"IF(ISBLANK(InfoPro!I139),\"\",YEAR(InfoPro!I139)-$J$2)","v":4},0,0]
[null,{"$f":"IF(ISBLANK(InfoPro!A140),\"\",InfoPro!A140)","v":"SC_1810_A2"},{"$f":"IF(ISBLANK(InfoPro!B140),\"\",InfoPro!B140)","v":"Parque Solar Coveñas 50 MW"},{"$f":"IF(ISBLANK(InfoPro!E140),\"\",InfoPro!E140)","v":50},{"$f":"IF(ISBLANK(InfoPro!N140),\"\",InfoPro!N140)","v":"NO"},{"$f":"IF(ISBLANK(InfoPro!I140),\"\",YEAR(InfoPro!I140)-$J$2)","v":4},0,0]
[null,{"$f":"IF(ISBLANK(InfoPro!A141),\"\",InfoPro!A141)","v":"SC_1835_A1"},{"$f":"IF(ISBLANK(InfoPro!B141),\"\",InfoPro!B141)","v":"Parque Solar Coveñas II 50 MW"},{"$f":"IF(ISBLANK(InfoPro!E141),\"\",InfoPro!E141)","v":50},{"$f":"IF(ISBLANK(InfoPro!N141),\"\",InfoPro!N141)","v":"NO"},{"$f":"IF(ISBLANK(InfoPro!I141),\"\",YEAR(InfoPro!I141)-$J$2)","v":4},0,0]
[null,{"$f":"IF(ISBLANK(InfoPro!A142),\"\",InfoPro!A142)","v":"SC_1835_A2"},{"$f":"IF(ISBLANK(InfoPro!B142),\"\",InfoPro!B142)","v":"Parque Solar Coveñas II 50 MW"},{"$f":"IF(ISBLANK(InfoPro!E142),\"\",InfoPro!E142)","v":50},{"$f":"IF(ISBLANK(InfoPro!N142),\"\",InfoPro!N142)","v":"NO"},{"$f":"IF(ISBLANK(InfoPro!I142),\"\",YEAR(InfoPro!I142)-$J$2)","v":4},0,0]
[null,{"$f":"IF(ISBLANK(InfoPro!A143),\"\",InfoPro!A143)","v":"SC_1873_A1"},{"$f":"IF(ISBLANK(InfoPro!B143),\"\",InfoPro!B143)","v":"Cusumbo Solar"},{"$f":"IF(ISBLANK(InfoPro!E143),\"\",InfoPro!E143)","v":99.9},{"$f":"IF(ISBLANK(InfoPro!N143),\"\",InfoPro!N143)","v":"NO"},{"$f":"IF(ISBLANK(InfoPro!I143),\"\",YEAR(InfoPro!I143)-$J$2)","v":3},0,0]
[null,{"$f":"IF(ISBLANK(InfoPro!A144),\"\",InfoPro!A144)","v":"SC_1873_A2"},{"$f":"IF(ISBLANK(InfoPro!B144),\"\",InfoPro!B144)","v":"Cusumbo Solar"},{"$f":"IF(ISBLANK(InfoPro!E144),\"\",InfoPro!E144)","v":99.9},{"$f":"IF(ISBLANK(InfoPro!N144),\"\",InfoPro!N144)","v":"NO"},{"$f":"IF(ISBLANK(InfoPro!I144),\"\",YEAR(InfoPro!I144)-$J$2)","v":3},0,0]
[null,{"$f":"IF(ISBLANK(InfoPro!A145),\"\",InfoPro!A145)","v":"SC_2067_A1"},{"$f":"IF(ISBLANK(InfoPro!B145),\"\",InfoPro!B145)","v":"TIERRALTA 70 MW"},{"$f":"IF(ISBLANK(InfoPro!E145),\"\",InfoPro!E145)","v":70},{"$f":"IF(ISBLANK(InfoPro!N145),\"\",InfoPro!N145)","v":"NO"},{"$f":"IF(ISBLANK(InfoPro!I145),\"\",YEAR(InfoPro!I145)-$J$2)","v":4},{"$f":"IF(E145=\"SI\",100,IF(E145=\"NO\",0,\"\"))","v":0},{"$f":"IF(G145=\"\",\"\",(G145))","v":0}]
[null,{"$f":"IF(ISBLANK(InfoPro!A146),\"\",InfoPro!A146)","v":"SC_2067_A2"},{"$f":"IF(ISBLANK(InfoPro!B146),\"\",InfoPro!B146)","v":"TIERRALTA 70 MW"},{"$f":"IF(ISBLANK(InfoPro!E146),\"\",InfoPro!E146)","v":70},{"$f":"IF(ISBLANK(InfoPro!N146),\"\",InfoPro!N146)","v":"NO"},{"$f":"IF(ISBLANK(InfoPro!I146),\"\",YEAR(InfoPro!I146)-$J$2)","v":4},0,0]
[null,{"$f":"IF(ISBLANK(InfoPro!A147),\"\",InfoPro!A147)","v":"SC_1942_A1"},{"$f":"IF(ISBLANK(InfoPro!B147),\"\",InfoPro!B147)","v":"San Jorge Fotovoltaico 135 MW"},{"$f":"IF(ISBLANK(InfoPro!E147),\"\",InfoPro!E147)","v":135},{"$f":"IF(ISBLANK(InfoPro!N147),\"\",InfoPro!N147)","v":"NO"},{"$f":"IF(ISBLANK(InfoPro!I147),\"\",YEAR(InfoPro!I147)-$J$2)","v":2},0,0]
[null,{"$f":"IF(ISBLANK(InfoPro!A148),\"\",InfoPro!A148)","v":"SC_1942_A2"},{"$f":"IF(ISBLANK(InfoPro!B148),\"\",InfoPro!B148)","v":"San Jorge Fotovoltaico 135 MW"},{"$f":"IF(ISBLANK(InfoPro!E148),\"\",InfoPro!E148)","v":135},{"$f":"IF(ISBLANK(InfoPro!N148),\"\",InfoPro!N148)","v":"NO"},{"$f":"IF(ISBLANK(InfoPro!I148),\"\",YEAR(InfoPro!I148)-$J$2)","v":2},{"$f":"IF(E148=\"SI\",100,IF(E148=\"NO\",0,\"\"))","v":0},{"$f":"IF(G148=\"\",\"\",(G148))","v":0}]
[null,{"$f":"IF(ISBLANK(InfoPro!A149),\"\",InfoPro!A149)","v":"SC_2107_A1"},{"$f":"IF(ISBLANK(InfoPro!B149),\"\",InfoPro!B149)","v":"Parque Solar Aries"},{"$f":"IF(ISBLANK(InfoPro!E149),\"\",InfoPro!E149)","v":175},{"$f":"IF(ISBLANK(InfoPro!N149),\"\",InfoPro!N149)","v":"NO"},{"$f":"IF(ISBLANK(InfoPro!I149),\"\",YEAR(InfoPro!I149)-$J$2)","v":3},0,0]
[null,{"$f":"IF(ISBLANK(InfoPro!A150),\"\",InfoPro!A150)","v":"SC_2107_A2"},{"$f":"IF(ISBLANK(InfoPro!B150),\"\",InfoPro!B150)","v":"Parque Solar Aries"},{"$f":"IF(ISBLANK(InfoPro!E150),\"\",InfoPro!E150)","v":175},{"$f":"IF(ISBLANK(InfoPro!N150),\"\",InfoPro!N150)","v":"NO"},{"$f":"IF(ISBLANK(InfoPro!I150),\"\",YEAR(InfoPro!I150)-$J$2)","v":3},0,0]
[null,{"$f":"IF(ISBLANK(InfoPro!A151),\"\",InfoPro!A151)","v":"SC_2031\n_A1"},{"$f":"IF(ISBLANK(InfoPro!B151),\"\",InfoPro!B151)","v":"PSF Cispata_70MW"},{"$f":"IF(ISBLANK(InfoPro!E151),\"\",InfoPro!E151)","v":70},{"$f":"IF(ISBLANK(InfoPro!N151),\"\",InfoPro!N151)","v":"NO"},{"$f":"IF(ISBLANK(InfoPro!I151),\"\",YEAR(InfoPro!I151)-$J$2)","v":3},0,0]
[null,{"$f":"IF(ISBLANK(InfoPro!A152),\"\",InfoPro!A152)","v":"SC_2136_A1"},{"$f":"IF(ISBLANK(InfoPro!B152),\"\",InfoPro!B152)","v":"Yaguarundi Solar II 40 MW"},{"$f":"IF(ISBLANK(InfoPro!E152),\"\",InfoPro!E152)","v":40},{"$f":"IF(ISBLANK(InfoPro!N152),\"\",InfoPro!N152)","v":"NO"},{"$f":"IF(ISBLANK(InfoPro!I152),\"\",YEAR(InfoPro!I152)-$J$2)","v":3},0,0]
[null,{"$f":"IF(ISBLANK(InfoPro!A153),\"\",InfoPro!A153)","v":"SC_2136_A2"},{"$f":"IF(ISBLANK(InfoPro!B153),\"\",InfoPro!B153)","v":"Yaguarundi Solar II 40 MW"},{"$f":"IF(ISBLANK(InfoPro!E153),\"\",InfoPro!E153)","v":40},{"$f":"IF(ISBLANK(InfoPro!N153),\"\",InfoPro!N153)","v":"NO"},{"$f":"IF(ISBLANK(InfoPro!I153),\"\",YEAR(InfoPro!I153)-$J$2)","v":3},0,0]
[null,{"$f":"IF(ISBLANK(InfoPro!A154),\"\",InfoPro!A154)","v":"SC_2180_A1"},{"$f":"IF(ISBLANK(InfoPro!B154),\"\",InfoPro!B154)","v":"Yaguarundi Solar III 40 MW"},{"$f":"IF(ISBLANK(InfoPro!E154),\"\",InfoPro!E154)","v":40},{"$f":"IF(ISBLANK(InfoPro!N154),\"\",InfoPro!N154)","v":"NO"},{"$f":"IF(ISBLANK(InfoPro!I154),\"\",YEAR(InfoPro!I154)-$J$2)","v":3},0,0]
[null,{"$f":"IF(ISBLANK(InfoPro!A155),\"\",InfoPro!A155)","v":"SC_2180_A2"},{"$f":"IF(ISBLANK(InfoPro!B155),\"\",InfoPro!B155)","v":"Yaguarundi Solar III 40 MW"},{"$f":"IF(ISBLANK(InfoPro!E155),\"\",InfoPro!E155)","v":40},{"$f":"IF(ISBLANK(InfoPro!N155),\"\",InfoPro!N155)","v":"NO"},{"$f":"IF(ISBLANK(InfoPro!I155),\"\",YEAR(InfoPro!I155)-$J$2)","v":3},0,0]
[null,{"$f":"IF(ISBLANK(InfoPro!A156),\"\",InfoPro!A156)","v":"SC_2185_A1"},{"$f":"IF(ISBLANK(InfoPro!B156),\"\",InfoPro!B156)","v":"Yaguarundi Solar IV 40 MW"},{"$f":"IF(ISBLANK(InfoPro!E156),\"\",InfoPro!E156)","v":40},{"$f":"IF(ISBLANK(InfoPro!N156),\"\",InfoPro!N156)","v":"NO"},{"$f":"IF(ISBLANK(InfoPro!I156),\"\",YEAR(InfoPro!I156)-$J$2)","v":3},0,0]
[null,{"$f":"IF(ISBLANK(InfoPro!A157),\"\",InfoPro!A157)","v":"SC_2185_A2"},{"$f":"IF(ISBLANK(InfoPro!B157),\"\",InfoPro!B157)","v":"Yaguarundi Solar IV 40 MW"},{"$f":"IF(ISBLANK(InfoPro!E157),\"\",InfoPro!E157)","v":40},{"$f":"IF(ISBLANK(InfoPro!N157),\"\",InfoPro!N157)","v":"NO"},{"$f":"IF(ISBLANK(InfoPro!I157),\"\",YEAR(InfoPro!I157)-$J$2)","v":3},0,0]
[null,{"$f":"IF(ISBLANK(InfoPro!A158),\"\",InfoPro!A158)","v":"SC_1926_A1"},{"$f":"IF(ISBLANK(InfoPro!B158),\"\",InfoPro!B158)","v":"Bongos I 9.90 MW"},{"$f":"IF(ISBLANK(InfoPro!E158),\"\",InfoPro!E158)","v":9.9},{"$f":"IF(ISBLANK(InfoPro!N158),\"\",InfoPro!N158)","v":"NO"},{"$f":"IF(ISBLANK(InfoPro!I158),\"\",YEAR(InfoPro!I158)-$J$2)","v":1},0,0]
[null,{"$f":"IF(ISBLANK(InfoPro!A159),\"\",InfoPro!A159)","v":"SC_1926_A2"},{"$f":"IF(ISBLANK(InfoPro!B159),\"\",InfoPro!B159)","v":"Bongos I 9.90 MW"},{"$f":"IF(ISBLANK(InfoPro!E159),\"\",InfoPro!E159)","v":9.9},{"$f":"IF(ISBLANK(InfoPro!N159),\"\",InfoPro!N159)","v":"NO"},{"$f":"IF(ISBLANK(InfoPro!I159),\"\",YEAR(InfoPro!I159)-$J$2)","v":1},0,0]
[null,{"$f":"IF(ISBLANK(InfoPro!A160),\"\",InfoPro!A160)","v":"SC_1825_A1"},{"$f":"IF(ISBLANK(InfoPro!B160),\"\",InfoPro!B160)","v":"PROYECTO DE GENERACIÓN ELÉCTRICA EL JOBO_200MW"},{"$f":"IF(ISBLANK(InfoPro!E160),\"\",InfoPro!E160)","v":200},{"$f":"IF(ISBLANK(InfoPro!N160),\"\",InfoPro!N160)","v":"NO"},{"$f":"IF(ISBLANK(InfoPro!I160),\"\",YEAR(InfoPro!I160)-$J$2)","v":3},0,0]
[null,{"$f":"IF(ISBLANK(InfoPro!A161),\"\",InfoPro!A161)","v":"SC_1897_A1"},{"$f":"IF(ISBLANK(InfoPro!B161),\"\",InfoPro!B161)","v":"La Florecita 90 MW"},{"$f":"IF(ISBLANK(InfoPro!E161),\"\",InfoPro!E161)","v":90},{"$f":"IF(ISBLANK(InfoPro!N161),\"\",InfoPro!N161)","v":"NO"},{"$f":"IF(ISBLANK(InfoPro!I161),\"\",YEAR(InfoPro!I161)-$J$2)","v":3},0,0]
[null,{"$f":"IF(ISBLANK(InfoPro!A162),\"\",InfoPro!A162)","v":"SC_1897_A2"},{"$f":"IF(ISBLANK(InfoPro!B162),\"\",InfoPro!B162)","v":"La Florecita 90 MW"},{"$f":"IF(ISBLANK(InfoPro!E162),\"\",InfoPro!E162)","v":90},{"$f":"IF(ISBLANK(InfoPro!N162),\"\",InfoPro!N162)","v":"NO"},{"$f":"IF(ISBLANK(InfoPro!I162),\"\",YEAR(InfoPro!I162)-$J$2)","v":3},0,0]
[null,{"$f":"IF(ISBLANK(InfoPro!A163),\"\",InfoPro!A163)","v":"SC_2014_A1"},{"$f":"IF(ISBLANK(InfoPro!B163),\"\",InfoPro!B163)","v":"Lotería 2"},{"$f":"IF(ISBLANK(InfoPro!E163),\"\",InfoPro!E163)","v":9.9},{"$f":"IF(ISBLANK(InfoPro!N163),\"\",InfoPro!N163)","v":"NO"},{"$f":"IF(ISBLANK(InfoPro!I163),\"\",YEAR(InfoPro!I163)-$J$2)","v":1},0,0]
[null,{"$f":"IF(ISBLANK(InfoPro!A164),\"\",InfoPro!A164)","v":"SC_2014_A2"},{"$f":"IF(ISBLANK(InfoPro!B164),\"\",InfoPro!B164)","v":"Lotería 2"},{"$f":"IF(ISBLANK(InfoPro!E164),\"\",InfoPro!E164)","v":9.9},{"$f":"IF(ISBLANK(InfoPro!N164),\"\",InfoPro!N164)","v":"NO"},{"$f":"IF(ISBLANK(InfoPro!I164),\"\",YEAR(InfoPro!I164)-$J$2)","v":1},0,0]
[null,{"$f":"IF(ISBLANK(InfoPro!A165),\"\",InfoPro!A165)","v":"SC_2017_A1"},{"$f":"IF(ISBLANK(InfoPro!B165),\"\",InfoPro!B165)","v":"LOTERÍA 1"},{"$f":"IF(ISBLANK(InfoPro!E165),\"\",InfoPro!E165)","v":9.9},{"$f":"IF(ISBLANK(InfoPro!N165),\"\",InfoPro!N165)","v":"NO"},{"$f":"IF(ISBLANK(InfoPro!I165),\"\",YEAR(InfoPro!I165)-$J$2)","v":1},0,0]
[null,{"$f":"IF(ISBLANK(InfoPro!A166),\"\",InfoPro!A166)","v":"SC_2017_A2"},{"$f":"IF(ISBLANK(InfoPro!B166),\"\",InfoPro!B166)","v":"LOTERÍA 1"},{"$f":"IF(ISBLANK(InfoPro!E166),\"\",InfoPro!E166)","v":9.9},{"$f":"IF(ISBLANK(InfoPro!N166),\"\",InfoPro!N166)","v":"NO"},{"$f":"IF(ISBLANK(InfoPro!I166),\"\",YEAR(InfoPro!I166)-$J$2)","v":1},0,0]
[null,{"$f":"IF(ISBLANK(InfoPro!A167),\"\",InfoPro!A167)","v":"SC_2165_A1"},{"$f":"IF(ISBLANK(InfoPro!B167),\"\",InfoPro!B167)","v":"Autogeneración Solar Fotovoltaica 9.9 MW (entrega de excedentes de 0)"},{"$f":"IF(ISBLANK(InfoPro!E167),\"\",InfoPro!E167)","v":0},{"$f":"IF(ISBLANK(InfoPro!N167),\"\",InfoPro!N167)","v":"NO"},{"$f":"IF(ISBLANK(InfoPro!I167),\"\",YEAR(InfoPro!I167)-$J$2)","v":0},0,0]
[null,{"$f":"IF(ISBLANK(InfoPro!A168),\"\",InfoPro!A168)","v":"SC_1820\n_A1"},{"$f":"IF(ISBLANK(InfoPro!B168),\"\",InfoPro!B168)","v":"NAIOT"},{"$f":"IF(ISBLANK(InfoPro!E168),\"\",InfoPro!E168)","v":19.899999999999999},{"$f":"IF(ISBLANK(InfoPro!N168),\"\",InfoPro!N168)","v":"NO"},{"$f":"IF(ISBLANK(InfoPro!I168),\"\",YEAR(InfoPro!I168)-$J$2)","v":1},0,0]
[null,{"$f":"IF(ISBLANK(InfoPro!A169),\"\",InfoPro!A169)","v":"SC_1820\n_A2"},{"$f":"IF(ISBLANK(InfoPro!B169),\"\",InfoPro!B169)","v":"NAIOT"},{"$f":"IF(ISBLANK(InfoPro!E169),\"\",InfoPro!E169)","v":19.899999999999999},{"$f":"IF(ISBLANK(InfoPro!N169),\"\",InfoPro!N169)","v":"NO"},{"$f":"IF(ISBLANK(InfoPro!I169),\"\",YEAR(InfoPro!I169)-$J$2)","v":1},0,0]
[null,{"$f":"IF(ISBLANK(InfoPro!A170),\"\",InfoPro!A170)","v":"SC_2325_A1"},{"$f":"IF(ISBLANK(InfoPro!B170),\"\",InfoPro!B170)","v":"PROYECTO FOTOVOLTAICO MONTERROSO DE 99,9 MW"},{"$f":"IF(ISBLANK(InfoPro!E170),\"\",InfoPro!E170)","v":99.9},{"$f":"IF(ISBLANK(InfoPro!N170),\"\",InfoPro!N170)","v":"NO"},{"$f":"IF(ISBLANK(InfoPro!I170),\"\",YEAR(InfoPro!I170)-$J$2)","v":3},0,0]
[null,{"$f":"IF(ISBLANK(InfoPro!A171),\"\",InfoPro!A171)","v":"SC_2325_A2"},{"$f":"IF(ISBLANK(InfoPro!B171),\"\",InfoPro!B171)","v":"PROYECTO FOTOVOLTAICO MONTERROSO DE 99,9 MW"},{"$f":"IF(ISBLANK(InfoPro!E171),\"\",InfoPro!E171)","v":99.9},{"$f":"IF(ISBLANK(InfoPro!N171),\"\",InfoPro!N171)","v":"NO"},{"$f":"IF(ISBLANK(InfoPro!I171),\"\",YEAR(InfoPro!I171)-$J$2)","v":3},0,0]

{"sheet":"EC-RE","index":4,"n_rows":180,"n_cols":26,"rows_kept":180,"cut":false,"hidden":false,"merged":[]}
[]
[]
[null,"Factor emisiones sistema",0.12728300000000001,"Ton/MWh",null,"Año de Referencia",2023]
[null,"Tasa de descuento",0.11799999999999999,null,null,"Mínimo",{"$f":"MIN(Z9:Z344)","v":-4655621.6826182501}]
[null,"Costo emisiones Ton",91.94,"USD/Ton"]
[null,"TRM",4070,"COP/USD"]
[null,null,null,null,null,null,null,null,null,0,1,2,3,4,5,6,7,8,9,10,11,12,13,14]
["Codigo","Nombre","capacidad","tipo","Año de entrada","FP","Factor emisiones","Produccion media/a MWh/a","Emisiones evitadas Ton/a","Flujo Descontado 0","Flujo Descontado 1","Flujo Descontado 2","Flujo Descontado 3","Flujo Descontado 4","Flujo Descontado 5","Flujo Descontado 6","Flujo Descontado 7","Flujo Descontado 8","Flujo Descontado 9","Flujo Descontado 10","Flujo Descontado 11","Flujo Descontado 12","Flujo Descontado 13","Flujo Descontado 14","VPN","(Beneficio)/kW"]
[{"$f":"IF(ISBLANK(InfoPro!A2),\"\",InfoPro!A2)","v":"SC_44_A1"},{"$f":"IF(ISBLANK(InfoPro!B2),\"\",InfoPro!B2)","v":"El Floral 1"},{"$f":"IF(ISBLANK(InfoPro!E2),\"\",InfoPro!E2)","v":19.899999999999999},{"$f":"IF(ISBLANK(InfoPro!F2),\"\",InfoPro!F2)","v":"Solar FV"},{"$f":"IF(ISBLANK(InfoPro!I2),\"\",YEAR(InfoPro!I2)-$G$3)","v":2},{"$f":"IF(B9=\"\",\"\",VLOOKUP(D9,Tablas!$B$2:$E$13,2,FALSE))","v":0.26},{"$f":"IF(B9=\"\",\"\",VLOOKUP(D9,Tablas!$B$2:$G$13,6,FALSE))","v":0},{"$f":"IF(C9=\"\",\"\",+C9*F9*24*365)","v":45324.24},{"$f":"IF(H9=\"\",\"\",+H9*($C$3-G9))","v":5769.0052399200003},{"$f":"IF($I9=\"\",\"\",(1/(1+$C$4)^(J$7+$E9))*$I9*$C$5)","v":424347.67374515958},{"$f":"IF($I9=\"\",\"\",(1/(1+$C$4)^(K$7+$E9))*$I9*$C$5)","v":379559.63662357756},339498.78052198351,303666.17220213194,271615.53864233627,242947.70898241174,217305.64309696935,194369.98488101017,173855.08486673539,155505.44263572042,139092.52471889125,124411.91835321223,111280.78564688035,99535.58644622573,89030.041544030144,{"$f":"IF(X9=\"\",\"\",SUM(J9:X9)*$C$6)","v":13292711668.232615},{"$f":"IF(C9=0,0,IF(Y9=\"\",\"\",Y9/(C9*1000)))","v":667975.46071520681}]
[{"$f":"IF(ISBLANK(InfoPro!A3),\"\",InfoPro!A3)","v":"SC_47_A1"},{"$f":"IF(ISBLANK(InfoPro!B3),\"\",InfoPro!B3)","v":"El Floral II - 19.9 MW"},{"$f":"IF(ISBLANK(InfoPro!E3),\"\",InfoPro!E3)","v":19.899999999999999},{"$f":"IF(ISBLANK(InfoPro!F3),\"\",InfoPro!F3)","v":"Solar FV"},{"$f":"IF(ISBLANK(InfoPro!I3),\"\",YEAR(InfoPro!I3)-$G$3)","v":2},{"$f":"IF(B10=\"\",\"\",VLOOKUP(D10,Tablas!$B$2:$E$13,2,FALSE))","v":0.26},{"$f":"IF(B10=\"\",\"\",VLOOKUP(D10,Tablas!$B$2:$G$13,6,FALSE))","v":0},{"$f":"IF(C10=\"\",\"\",+C10*F10*24*365)","v":45324.24},{"$f":"IF(H10=\"\",\"\",+H10*($C$3-G10))","v":5769.0052399200003},424347.67374515958,379559.63662357756,339498.78052198351,303666.17220213194,271615.53864233627,242947.70898241174,217305.64309696935,194369.98488101017,173855.08486673539,155505.44263572042,139092.52471889125,124411.91835321223,111280.78564688035,99535.58644622573,89030.041544030144,{"$f":"IF(X10=\"\",\"\",SUM(J10:X10)*$C$6)","v":13292711668.232615},{"$f":"IF(C10=0,0,IF(Y10=\"\",\"\",Y10/(C10*1000)))","v":667975.46071520681}]
[{"$f":"IF(ISBLANK(InfoPro!A4),\"\",InfoPro!A4)","v":"SC_408_A1"},{"$f":"IF(ISBLANK(InfoPro!B4),\"\",InfoPro!B4)","v":"El Jardín 40 MW"},{"$f":"IF(ISBLANK(InfoPro!E4),\"\",InfoPro!E4)","v":40},{"$f":"IF(ISBLANK(InfoPro!F4),\"\",InfoPro!F4)","v":"Solar FV"},{"$f":"IF(ISBLANK(InfoPro!I4),\"\",YEAR(InfoPro!I4)-$G$3)","v":2},{"$f":"IF(B11=\"\",\"\",VLOOKUP(D11,Tablas!$B$2:$E$13,2,FALSE))","v":0.26},{"$f":"IF(B11=\"\",\"\",VLOOKUP(D11,Tablas!$B$2:$G$13,6,FALSE))","v":0},{"$f":"IF(C11=\"\",\"\",+C11*F11*24*365)","v":91104.000000000015},11595.990432000002,852960.14823147666,762933.94296196511,682409.60908941412,610384.26573292864,545960.88169313839,488337.1034822347,436795.26250647113,390693.43694675417,349457.45701856364,312573.75404164911,279582.96425907797,250074.20774515023,223679.97114950826,200071.53054517737,178954.857374935,26719018428.608273,667975.46071520681]
[{"$f":"IF(ISBLANK(InfoPro!A5),\"\",InfoPro!A5)","v":"SC_454_A1"},{"$f":"IF(ISBLANK(InfoPro!B5),\"\",InfoPro!B5)","v":"PARQUE SOLAR SAN RAFAEL - 300 MW"},{"$f":"IF(ISBLANK(InfoPro!E5),\"\",InfoPro!E5)","v":300},{"$f":"IF(ISBLANK(InfoPro!F5),\"\",InfoPro!F5)","v":"Solar FV"},{"$f":"IF(ISBLANK(InfoPro!I5),\"\",YEAR(InfoPro!I5)-$G$3)","v":3},{"$f":"IF(B12=\"\",\"\",VLOOKUP(D12,Tablas!$B$2:$E$13,2,FALSE))","v":0.26},{"$f":"IF(B12=\"\",\"\",VLOOKUP(D12,Tablas!$B$2:$G$13,6,FALSE))","v":0},683280,86969.928240000008,5722004.5722147366,5118072.0681706052,4577881.9929969646,4094706.6126985373,3662528.27611676,3275964.4687985331,2930200.7771006557,2620930.9276392269,2344303.1553123682,2096872.2319430842,1875556.5580886265,1677599.7836213119,1500536.4790888301,1342161.4303120123,1200502.1738032312,179242073537.17532,597473.57845725107]
[{"$f":"IF(ISBLANK(InfoPro!A6),\"\",InfoPro!A6)","v":"SC_454_A2"},{"$f":"IF(ISBLANK(InfoPro!B6),\"\",InfoPro!B6)","v":"PARQUE SOLAR SAN RAFAEL - 300 MW"},{"$f":"IF(ISBLANK(InfoPro!E6),\"\",InfoPro!E6)","v":300},{"$f":"IF(ISBLANK(InfoPro!F6),\"\",InfoPro!F6)","v":"Solar FV"},{"$f":"IF(ISBLANK(InfoPro!I6),\"\",YEAR(InfoPro!I6)-$G$3)","v":3},{"$f":"IF(B13=\"\",\"\",VLOOKUP(D13,Tablas!$B$2:$E$13,2,FALSE))","v":0.26},{"$f":"IF(B13=\"\",\"\",VLOOKUP(D13,Tablas!$B$2:$G$13,6,FALSE))","v":0},683280,86969.928240000008,5722004.5722147366,5118072.0681706052,4577881.9929969646,4094706.6126985373,3662528.27611676,3275964.4687985331,2930200.7771006557,2620930.9276392269,2344303.1553123682,2096872.2319430842,1875556.5580886265,1677599.7836213119,1500536.4790888301,1342161.4303120123,1200502.1738032312,179242073537.17532,597473.57845725107]
[{"$f":"IF(ISBLANK(InfoPro!A7),\"\",InfoPro!A7)","v":"SC_483_A1"},{"$f":"IF(ISBLANK(InfoPro!B7),\"\",InfoPro!B7)","v":"PARQUE SOLAR LOMAS 39.9 MW"},{"$f":"IF(ISBLANK(InfoPro!E7),\"\",InfoPro!E7)","v":39.9},{"$f":"IF(ISBLANK(InfoPro!F7),\"\",InfoPro!F7)","v":"Solar FV"},{"$f":"IF(ISBLANK(InfoPro!I7),\"\",YEAR(InfoPro!I7)-$G$3)","v":2},{"$f":"IF(B14=\"\",\"\",VLOOKUP(D14,Tablas!$B$2:$E$13,2,FALSE))","v":0.26},{"$f":"IF(B14=\"\",\"\",VLOOKUP(D14,Tablas!$B$2:$G$13,6,FALSE))","v":0},90876.24,11567.000455920001,850827.7478608978,761026.60810455994,680703.58506669046,608858.30506859615,544595.9794889054,487116.26072352903,435703.27435020491,389716.70335438719,348583.81337601715,311792.31965654495,278884.00684843014,249449.02222578731,223120.7712216345,199571.35171881437,178507.47023149763,26652220882.536743,667975.46071520657]
[{"$f":"IF(ISBLANK(InfoPro!A8),\"\",InfoPro!A8)","v":"SC_586_A1"},{"$f":"IF(ISBLANK(InfoPro!B8),\"\",InfoPro!B8)","v":"Orquídea del Sucre - Sierra Flor 60 MW"},{"$f":"IF(ISBLANK(InfoPro!E8),\"\",InfoPro!E8)","v":60},{"$f":"IF(ISBLANK(InfoPro!F8),\"\",InfoPro!F8)","v":"Solar FV"},{"$f":"IF(ISBLANK(InfoPro!I8),\"\",YEAR(InfoPro!I8)-$G$3)","v":4},{"$f":"IF(B15=\"\",\"\",VLOOKUP(D15,Tablas!$B$2:$E$13,2,FALSE))","v":0.26},{"$f":"IF(B15=\"\",\"\",VLOOKUP(D15,Tablas!$B$2:$G$13,6,FALSE))","v":0},136656,17393.985648000002,1023614.4136341212,915576.39859939285,818941.3225397073,732505.6552233519,655192.89375970664,586040.15542013117,524186.1855278454,468860.63106247364,419374.44638861681,375111.3116177253,335519.95672426239,300107.29581776599,268432.28606240248,240100.43476064623,214758.88619020235,32064771652.446392,534412.86087410653]
[{"$f":"IF(ISBLANK(InfoPro!A9),\"\",InfoPro!A9)","v":"SC_586_A2"},{"$f":"IF(ISBLANK(InfoPro!B9),\"\",InfoPro!B9)","v":"Orquídea del Sucre - Sierra Flor 60 MW"},{"$f":"IF(ISBLANK(InfoPro!E9),\"\",InfoPro!E9)","v":60},{"$f":"IF(ISBLANK(InfoPro!F9),\"\",InfoPro!F9)","v":"Solar FV"},{"$f":"IF(ISBLANK(InfoPro!I9),\"\",YEAR(InfoPro!I9)-$G$3)","v":4},{"$f":"IF(B16=\"\",\"\",VLOOKUP(D16,Tablas!$B$2:$E$13,2,FALSE))","v":0.26},{"$f":"IF(B16=\"\",\"\",VLOOKUP(D16,Tablas!$B$2:$G$13,6,FALSE))","v":0},136656,17393.985648000002,1023614.4136341212,915576.39859939285,818941.3225397073,732505.6552233519,655192.89375970664,586040.15542013117,524186.1855278454,468860.63106247364,419374.44638861681,375111.3116177253,335519.95672426239,300107.29581776599,268432.28606240248,240100.43476064623,214758.88619020235,32064771652.446392,534412.86087410653]
[{"$f":"IF(ISBLANK(InfoPro!A10),\"\",InfoPro!A10)","v":"SC_681_A1"},{"$f":"IF(ISBLANK(InfoPro!B10),\"\",InfoPro!B10)","v":"PARQUE SOLARLAS LAS PALMAS de 90MW"},{"$f":"IF(ISBLANK(InfoPro!E10),\"\",InfoPro!E10)","v":90},{"$f":"IF(ISBLANK(InfoPro!F10),\"\",InfoPro!F10)","v":"Solar FV"},{"$f":"IF(ISBLANK(InfoPro!I10),\"\",YEAR(InfoPro!I10)-$G$3)","v":2},{"$f":"IF(B17=\"\",\"\",VLOOKUP(D17,Tablas!$B$2:$E$13,2,FALSE))","v":0.26},{"$f":"IF(B17=\"\",\"\",VLOOKUP(D17,Tablas!$B$2:$G$13,6,FALSE))","v":0},204984,26090.978472000003,1919160.3335208225,1716601.3716644212,1535421.6204511817,1373364.5978990893,1228411.983809561,1098758.4828350279,982789.3406395599,879060.23313019669,786279.27829176816,703290.94659371045,629061.66958292527,562666.96742658794,503279.93508639355,450160.94372664898,402648.42909360369,60117791464.368607,667975.46071520669]
[{"$f":"IF(ISBLANK(InfoPro!A11),\"\",InfoPro!A11)","v":"SC_681_A2"},{"$f":"IF(ISBLANK(InfoPro!B11),\"\",InfoPro!B11)","v":"PARQUE SOLARLAS LAS PALMAS de 90MW"},{"$f":"IF(ISBLANK(InfoPro!E11),\"\",InfoPro!E11)","v":90},{"$f":"IF(ISBLANK(InfoPro!F11),\"\",InfoPro!F11)","v":"Solar FV"},{"$f":"IF(ISBLANK(InfoPro!I11),\"\",YEAR(InfoPro!I11)-$G$3)","v":2},{"$f":"IF(B18=\"\",\"\",VLOOKUP(D18,Tablas!$B$2:$E$13,2,FALSE))","v":0.26},{"$f":"IF(B18=\"\",\"\",VLOOKUP(D18,Tablas!$B$2:$G$13,6,FALSE))","v":0},204984,26090.978472000003,1919160.3335208225,1716601.3716644212,1535421.6204511817,1373364.5978990893,1228411.983809561,1098758.4828350279,982789.3406395599,879060.23313019669,786279.27829176816,703290.94659371045,629061.66958292527,562666.96742658794,503279.93508639355,450160.94372664898,402648.42909360369,60117791464.368607,667975.46071520669]
[{"$f":"IF(ISBLANK(InfoPro!A12),\"\",InfoPro!A12)","v":"SC_720_A1"},{"$f":"IF(ISBLANK(InfoPro!B12),\"\",InfoPro!B12)","v":"El Jazmín"},{"$f":"IF(ISBLANK(InfoPro!E12),\"\",InfoPro!E12)","v":19.899999999999999},{"$f":"IF(ISBLANK(InfoPro!F12),\"\",InfoPro!F12)","v":"Solar FV"},{"$f":"IF(ISBLANK(InfoPro!I12),\"\",YEAR(InfoPro!I12)-$G$3)","v":2},{"$f":"IF(B19=\"\",\"\",VLOOKUP(D19,Tablas!$B$2:$E$13,2,FALSE))","v":0.26},{"$f":"IF(B19=\"\",\"\",VLOOKUP(D19,Tablas!$B$2:$G$13,6,FALSE))","v":0},45324.24,5769.0052399200003,{"$f":"IF($I19=\"\",\"\",(1/(1+$C$4)^(J$7+$E19))*$I19*$C$5)","v":424347.67374515958},379559.63662357756,339498.78052198351,303666.17220213194,271615.53864233627,242947.70898241174,217305.64309696935,194369.98488101017,173855.08486673539,155505.44263572042,139092.52471889125,124411.91835321223,111280.78564688035,99535.58644622573,89030.041544030144,13292711668.232615,667975.46071520681]
[{"$f":"IF(ISBLANK(InfoPro!A13),\"\",InfoPro!A13)","v":"SC_720_A2"},{"$f":"IF(ISBLANK(InfoPro!B13),\"\",InfoPro!B13)","v":"El Jazmín"},{"$f":"IF(ISBLANK(InfoPro!E13),\"\",InfoPro!E13)","v":19.899999999999999},{"$f":"IF(ISBLANK(InfoPro!F13),\"\",InfoPro!F13)","v":"Solar FV"},{"$f":"IF(ISBLANK(InfoPro!I13),\"\",YEAR(InfoPro!I13)-$G$3)","v":2},{"$f":"IF(B20=\"\",\"\",VLOOKUP(D20,Tablas!$B$2:$E$13,2,FALSE))","v":0.26},{"$f":"IF(B20=\"\",\"\",VLOOKUP(D20,Tablas!$B$2:$G$13,6,FALSE))","v":0},45324.24,5769.0052399200003,424347.67374515958,379559.63662357756,339498.78052198351,303666.17220213194,271615.53864233627,242947.70898241174,217305.64309696935,194369.98488101017,173855.08486673539,155505.44263572042,139092.52471889125,124411.91835321223,111280.78564688035,99535.58644622573,89030.041544030144,13292711668.232615,667975.46071520681]
[{"$f":"IF(ISBLANK(InfoPro!A14),\"\",InfoPro!A14)","v":"SC_713_A1"},{"$f":"IF(ISBLANK(InfoPro!B14),\"\",InfoPro!B14)","v":"Crucero - 300MW"},{"$f":"IF(ISBLANK(InfoPro!E14),\"\",InfoPro!E14)","v":300},{"$f":"IF(ISBLANK(InfoPro!F14),\"\",InfoPro!F14)","v":"Solar FV"},{"$f":"IF(ISBLANK(InfoPro!I14),\"\",YEAR(InfoPro!I14)-$G$3)","v":4},{"$f":"IF(B21=\"\",\"\",VLOOKUP(D21,Tablas!$B$2:$E$13,2,FALSE))","v":0.26},{"$f":"IF(B21=\"\",\"\",VLOOKUP(D21,Tablas!$B$2:$G$13,6,FALSE))","v":0},683280,86969.928240000008,5118072.0681706052,4577881.9929969646,4094706.6126985373,3662528.27611676,3275964.4687985331,2930200.7771006557,2620930.9276392269,2344303.1553123682,2096872.2319430842,1875556.5580886265,1677599.7836213119,1500536.4790888301,1342161.4303120123,1200502.1738032312,1073794.4309510118,160323858262.23199,534412.86087410664]
[{"$f":"IF(ISBLANK(InfoPro!A15),\"\",InfoPro!A15)","v":"SC_836_A1"},{"$f":"IF(ISBLANK(InfoPro!B15),\"\",InfoPro!B15)","v":"BONGO DEL SINÚ DE 19.9 MW"},{"$f":"IF(ISBLANK(InfoPro!E15),\"\",InfoPro!E15)","v":19.899999999999999},{"$f":"IF(ISBLANK(InfoPro!F15),\"\",InfoPro!F15)","v":"Solar FV"},{"$f":"IF(ISBLANK(InfoPro!I15),\"\",YEAR(InfoPro!I15)-$G$3)","v":2},{"$f":"IF(B22=\"\",\"\",VLOOKUP(D22,Tablas!$B$2:$E$13,2,FALSE))","v":0.26},{"$f":"IF(B22=\"\",\"\",VLOOKUP(D22,Tablas!$B$2:$G$13,6,FALSE))","v":0},45324.24,5769.0052399200003,424347.67374515958,379559.63662357756,339498.78052198351,303666.17220213194,271615.53864233627,242947.70898241174,217305.64309696935,194369.98488101017,173855.08486673539,155505.44263572042,139092.52471889125,124411.91835321223,111280.78564688035,99535.58644622573,89030.041544030144,13292711668.232615,667975.46071520681]
[{"$f":"IF(ISBLANK(InfoPro!A16),\"\",InfoPro!A16)","v":"SC_836_A2"},{"$f":"IF(ISBLANK(InfoPro!B16),\"\",InfoPro!B16)","v":"BONGO DEL SINÚ DE 19.9 MW"},{"$f":"IF(ISBLANK(InfoPro!E16),\"\",InfoPro!E16)","v":19.899999999999999},{"$f":"IF(ISBLANK(InfoPro!F16),\"\",InfoPro!F16)","v":"Solar FV"},{"$f":"IF(ISBLANK(InfoPro!I16),\"\",YEAR(InfoPro!I16)-$G$3)","v":2},{"$f":"IF(B23=\"\",\"\",VLOOKUP(D23,Tablas!$B$2:$E$13,2,FALSE))","v":0.26},{"$f":"IF(B23=\"\",\"\",VLOOKUP(D23,Tablas!$B$2:$G$13,6,FALSE))","v":0},45324.24,5769.0052399200003,424347.67374515958,379559.63662357756,339498.78052198351,303666.17220213194,271615.53864233627,242947.70898241174,217305.64309696935,194369.98488101017,173855.08486673539,155505.44263572042,139092.52471889125,124411.91835321223,111280.78564688035,99535.58644622573,89030.041544030144,13292711668.232615,667975.46071520681]
[{"$f":"IF(ISBLANK(InfoPro!A17),\"\",InfoPro!A17)","v":"SC_778_A1"},{"$f":"IF(ISBLANK(InfoPro!B17),\"\",InfoPro!B17)","v":"KOS 19.9"},{"$f":"IF(ISBLANK(InfoPro!E17),\"\",InfoPro!E17)","v":19.899999999999999},{"$f":"IF(ISBLANK(InfoPro!F17),\"\",InfoPro!F17)","v":"Solar FV"},{"$f":"IF(ISBLANK(InfoPro!I17),\"\",YEAR(InfoPro!I17)-$G$3)","v":2},{"$f":"IF(B24=\"\",\"\",VLOOKUP(D24,Tablas!$B$2:$E$13,2,FALSE))","v":0.26},{"$f":"IF(B24=\"\",\"\",VLOOKUP(D24,Tablas!$B$2:$G$13,6,FALSE))","v":0},45324.24,5769.0052399200003,424347.67374515958,379559.63662357756,339498.78052198351,303666.17220213194,271615.53864233627,242947.70898241174,217305.64309696935,194369.98488101017,173855.08486673539,155505.44263572042,139092.52471889125,124411.91835321223,111280.78564688035,99535.58644622573,89030.041544030144,13292711668.232615,667975.46071520681]
[{"$f":"IF(ISBLANK(InfoPro!A18),\"\",InfoPro!A18)","v":"SC_778_A2"},{"$f":"IF(ISBLANK(InfoPro!B18),\"\",InfoPro!B18)","v":"KOS 19.9"},{"$f":"IF(ISBLANK(InfoPro!E18),\"\",InfoPro!E18)","v":19.899999999999999},{"$f":"IF(ISBLANK(InfoPro!F18),\"\",InfoPro!F18)","v":"Solar FV"},{"$f":"IF(ISBLANK(InfoPro!I18),\"\",YEAR(InfoPro!I18)-$G$3)","v":2},{"$f":"IF(B25=\"\",\"\",VLOOKUP(D25,Tablas!$B$2:$E$13,2,FALSE))","v":0.26},{"$f":"IF(B25=\"\",\"\",VLOOKUP(D25,Tablas!$B$2:$G$13,6,FALSE))","v":0},45324.24,5769.0052399200003,424347.67374515958,379559.63662357756,339498.78052198351,303666.17220213194,271615.53864233627,242947.70898241174,217305.64309696935,194369.98488101017,173855.08486673539,155505.44263572042,139092.52471889125,124411.91835321223,111280.78564688035,99535.58644622573,89030.041544030144,13292711668.232615,667975.46071520681]
[{"$f":"IF(ISBLANK(InfoPro!A19),\"\",InfoPro!A19)","v":"SC_942_A1"},{"$f":"IF(ISBLANK(InfoPro!B19),\"\",InfoPro!B19)","v":"PASCUA_60MW"},{"$f":"IF(ISBLANK(InfoPro!E19),\"\",InfoPro!E19)","v":60},{"$f":"IF(ISBLANK(InfoPro!F19),\"\",InfoPro!F19)","v":"Solar FV"},{"$f":"IF(ISBLANK(InfoPro!I19),\"\",YEAR(InfoPro!I19)-$G$3)","v":3},{"$f":"IF(B26=\"\",\"\",VLOOKUP(D26,Tablas!$B$2:$E$13,2,FALSE))","v":0.26},{"$f":"IF(B26=\"\",\"\",VLOOKUP(D26,Tablas!$B$2:$G$13,6,FALSE))","v":0},136656,17393.985648000002,1144400.9144429474,1023614.4136341212,915576.39859939285,818941.3225397073,732505.6552233519,655192.89375970664,586040.15542013117,524186.1855278454,468860.63106247364,419374.44638861681,375111.3116177253,335519.95672426239,300107.29581776599,268432.28606240248,240100.43476064623,35848414707.435074,597473.57845725119]
[{"$f":"IF(ISBLANK(InfoPro!A20),\"\",InfoPro!A20)","v":"SC_942_A2"},{"$f":"IF(ISBLANK(InfoPro!B20),\"\",InfoPro!B20)","v":"PASCUA_60MW"},{"$f":"IF(ISBLANK(InfoPro!E20),\"\",InfoPro!E20)","v":60},{"$f":"IF(ISBLANK(InfoPro!F20),\"\",InfoPro!F20)","v":"Solar FV"},{"$f":"IF(ISBLANK(InfoPro!I20),\"\",YEAR(InfoPro!I20)-$G$3)","v":3},{"$f":"IF(B27=\"\",\"\",VLOOKUP(D27,Tablas!$B$2:$E$13,2,FALSE))","v":0.26},{"$f":"IF(B27=\"\",\"\",VLOOKUP(D27,Tablas!$B$2:$G$13,6,FALSE))","v":0},136656,17393.985648000002,1144400.9144429474,1023614.4136341212,915576.39859939285,818941.3225397073,732505.6552233519,655192.89375970664,586040.15542013117,524186.1855278454,468860.63106247364,419374.44638861681,375111.3116177253,335519.95672426239,300107.29581776599,268432.28606240248,240100.43476064623,35848414707.435074,597473.57845725119]
[{"$f":"IF(ISBLANK(InfoPro!A21),\"\",InfoPro!A21)","v":"SC_1763_A1"},{"$f":"IF(ISBLANK(InfoPro!B21),\"\",InfoPro!B21)","v":"Taurus Solar de 22MW (19,5 MW)"},{"$f":"IF(ISBLANK(InfoPro!E21),\"\",InfoPro!E21)","v":19.5},{"$f":"IF(ISBLANK(InfoPro!F21),\"\",InfoPro!F21)","v":"Solar FV"},{"$f":"IF(ISBLANK(InfoPro!I21),\"\",YEAR(InfoPro!I21)-$G$3)","v":2},{"$f":"IF(B28=\"\",\"\",VLOOKUP(D28,Tablas!$B$2:$E$13,2,FALSE))","v":0.26},{"$f":"IF(B28=\"\",\"\",VLOOKUP(D28,Tablas!$B$2:$G$13,6,FALSE))","v":0},44413.200000000004,5653.0453356000007,415818.07226284489,371930.2971939579,332674.68443108938,297562.32954480272,266155.92982540489,238064.33794758937,212937.69047190467,190463.05051154265,170360.51029654974,152379.70509530394,136296.6950763005,121911.17627576072,109043.98593538528,97534.871140773947,87240.4929702808,13025521483.946527,667975.46071520657]
[{"$f":"IF(ISBLANK(InfoPro!A22),\"\",InfoPro!A22)","v":"SC_1763_A2"},{"$f":"IF(ISBLANK(InfoPro!B22),\"\",InfoPro!B22)","v":"Taurus Solar de 22MW (19,5 MW)"},{"$f":"IF(ISBLANK(InfoPro!E22),\"\",InfoPro!E22)","v":19.5},{"$f":"IF(ISBLANK(InfoPro!F22),\"\",InfoPro!F22)","v":"Solar FV"},{"$f":"IF(ISBLANK(InfoPro!I22),\"\",YEAR(InfoPro!I22)-$G$3)","v":2},{"$f":"IF(B29=\"\",\"\",VLOOKUP(D29,Tablas!$B$2:$E$13,2,FALSE))","v":0.26},{"$f":"IF(B29=\"\",\"\",VLOOKUP(D29,Tablas!$B$2:$G$13,6,FALSE))","v":0},44413.200000000004,5653.0453356000007,{"$f":"IF($I29=\"\",\"\",(1/(1+$C$4)^(J$7+$E29))*$I29*$C$5)","v":415818.07226284489},371930.2971939579,332674.68443108938,297562.32954480272,266155.92982540489,238064.33794758937,212937.69047190467,190463.05051154265,170360.51029654974,152379.70509530394,136296.6950763005,121911.17627576072,109043.98593538528,97534.871140773947,87240.4929702808,13025521483.946527,667975.46071520657]
[{"$f":"IF(ISBLANK(InfoPro!A23),\"\",InfoPro!A23)","v":"SC_828_A1"},{"$f":"IF(ISBLANK(InfoPro!B23),\"\",InfoPro!B23)","v":"PARQUE SOLAR EL VASCO"},{"$f":"IF(ISBLANK(InfoPro!E23),\"\",InfoPro!E23)","v":60},{"$f":"IF(ISBLANK(InfoPro!F23),\"\",InfoPro!F23)","v":"Solar FV"},{"$f":"IF(ISBLANK(InfoPro!I23),\"\",YEAR(InfoPro!I23)-$G$3)","v":3},{"$f":"IF(B30=\"\",\"\",VLOOKUP(D30,Tablas!$B$2:$E$13,2,FALSE))","v":0.26},{"$f":"IF(B30=\"\",\"\",VLOOKUP(D30,Tablas!$B$2:$G$13,6,FALSE))","v":0},136656,17393.985648000002,1144400.9144429474,1023614.4136341212,915576.39859939285,818941.3225397073,732505.6552233519,655192.89375970664,586040.15542013117,524186.1855278454,468860.63106247364,419374.44638861681,375111.3116177253,335519.95672426239,300107.29581776599,268432.28606240248,240100.43476064623,35848414707.435074,597473.57845725119]
[{"$f":"IF(ISBLANK(InfoPro!A24),\"\",InfoPro!A24)","v":"SC_828_A2"},{"$f":"IF(ISBLANK(InfoPro!B24),\"\",InfoPro!B24)","v":"PARQUE SOLAR EL VASCO"},{"$f":"IF(ISBLANK(InfoPro!E24),\"\",InfoPro!E24)","v":60},{"$f":"IF(ISBLANK(InfoPro!F24),\"\",InfoPro!F24)","v":"Solar FV"},{"$f":"IF(ISBLANK(InfoPro!I24),\"\",YEAR(InfoPro!I24)-$G$3)","v":3},{"$f":"IF(B31=\"\",\"\",VLOOKUP(D31,Tablas!$B$2:$E$13,2,FALSE))","v":0.26},{"$f":"IF(B31=\"\",\"\",VLOOKUP(D31,Tablas!$B$2:$G$13,6,FALSE))","v":0},136656,17393.985648000002,1144400.9144429474,1023614.4136341212,915576.39859939285,818941.3225397073,732505.6552233519,655192.89375970664,586040.15542013117,524186.1855278454,468860.63106247364,419374.44638861681,375111.3116177253,335519.95672426239,300107.29581776599,268432.28606240248,240100.43476064623,35848414707.435074,597473.57845725119]
[{"$f":"IF(ISBLANK(InfoPro!A25),\"\",InfoPro!A25)","v":"SC_1179_A1"},{"$f":"IF(ISBLANK(InfoPro!B25),\"\",InfoPro!B25)","v":"Montes 90 MW"},{"$f":"IF(ISBLANK(InfoPro!E25),\"\",InfoPro!E25)","v":90},{"$f":"IF(ISBLANK(InfoPro!F25),\"\",InfoPro!F25)","v":"Solar FV"},{"$f":"IF(ISBLANK(InfoPro!I25),\"\",YEAR(InfoPro!I25)-$G$3)","v":3},{"$f":"IF(B32=\"\",\"\",VLOOKUP(D32,Tablas!$B$2:$E$13,2,FALSE))","v":0.26},{"$f":"IF(B32=\"\",\"\",VLOOKUP(D32,Tablas!$B$2:$G$13,6,FALSE))","v":0},204984,26090.978472000003,1716601.3716644212,1535421.6204511817,1373364.5978990893,1228411.983809561,1098758.4828350279,982789.3406395599,879060.23313019669,786279.27829176816,703290.94659371045,629061.66958292527,562666.96742658794,503279.93508639355,450160.94372664898,402648.42909360369,360150.65214096935,53772622061.152596,597473.57845725107]
[{"$f":"IF(ISBLANK(InfoPro!A26),\"\",InfoPro!A26)","v":"SC_1179_A2"},{"$f":"IF(ISBLANK(InfoPro!B26),\"\",InfoPro!B26)","v":"Montes 90 MW"},{"$f":"IF(ISBLANK(InfoPro!E26),\"\",InfoPro!E26)","v":90},{"$f":"IF(ISBLANK(InfoPro!F26),\"\",InfoPro!F26)","v":"Solar FV"},{"$f":"IF(ISBLANK(InfoPro!I26),\"\",YEAR(InfoPro!I26)-$G$3)","v":3},{"$f":"IF(B33=\"\",\"\",VLOOKUP(D33,Tablas!$B$2:$E$13,2,FALSE))","v":0.26},{"$f":"IF(B33=\"\",\"\",VLOOKUP(D33,Tablas!$B$2:$G$13,6,FALSE))","v":0},204984,26090.978472000003,1716601.3716644212,1535421.6204511817,1373364.5978990893,1228411.983809561,1098758.4828350279,982789.3406395599,879060.23313019669,786279.27829176816,703290.94659371045,629061.66958292527,562666.96742658794,503279.93508639355,450160.94372664898,402648.42909360369,360150.65214096935,53772622061.152596,597473.57845725107]
[{"$f":"IF(ISBLANK(InfoPro!A27),\"\",InfoPro!A27)","v":"SC_1206_A1"},{"$f":"IF(ISBLANK(InfoPro!B27),\"\",InfoPro!B27)","v":"Cerromatoso Solar 300 MW"},{"$f":"IF(ISBLANK(InfoPro!E27),\"\",InfoPro!E27)","v":300},{"$f":"IF(ISBLANK(InfoPro!F27),\"\",InfoPro!F27)","v":"Solar FV"},{"$f":"IF(ISBLANK(InfoPro!I27),\"\",YEAR(InfoPro!I27)-$G$3)","v":5},{"$f":"IF(B34=\"\",\"\",VLOOKUP(D34,Tablas!$B$2:$E$13,2,FALSE))","v":0.26},{"$f":"IF(B34=\"\",\"\",VLOOKUP(D34,Tablas!$B$2:$G$13,6,FALSE))","v":0},683280,86969.928240000008,4577881.9929969646,4094706.6126985373,3662528.27611676,3275964.4687985331,2930200.7771006557,2620930.9276392269,2344303.1553123682,2096872.2319430842,1875556.5580886265,1677599.7836213119,1500536.4790888301,1342161.4303120123,1200502.1738032312,1073794.4309510118,960460.13501879445,143402377694.30408,478007.92564768024]
[{"$f":"IF(ISBLANK(InfoPro!A28),\"\",InfoPro!A28)","v":"SC_1206_A2"},{"$f":"IF(ISBLANK(InfoPro!B28),\"\",InfoPro!B28)","v":"Cerromatoso Solar 300 MW"},{"$f":"IF(ISBLANK(InfoPro!E28),\"\",InfoPro!E28)","v":300},{"$f":"IF(ISBLANK(InfoPro!F28),\"\",InfoPro!F28)","v":"Solar FV"},{"$f":"IF(ISBLANK(InfoPro!I28),\"\",YEAR(InfoPro!I28)-$G$3)","v":5},{"$f":"IF(B35=\"\",\"\",VLOOKUP(D35,Tablas!$B$2:$E$13,2,FALSE))","v":0.26},{"$f":"IF(B35=\"\",\"\",VLOOKUP(D35,Tablas!$B$2:$G$13,6,FALSE))","v":0},683280,86969.928240000008,4577881.9929969646,4094706.6126985373,3662528.27611676,3275964.4687985331,2930200.7771006557,2620930.9276392269,2344303.1553123682,2096872.2319430842,1875556.5580886265,1677599.7836213119,1500536.4790888301,1342161.4303120123,1200502.1738032312,1073794.4309510118,960460.13501879445,143402377694.30408,478007.92564768024]
[{"$f":"IF(ISBLANK(InfoPro!A29),\"\",InfoPro!A29)","v":"SC_1372_A1"},{"$f":"IF(ISBLANK(InfoPro!B29),\"\",InfoPro!B29)","v":"Pétalo del Bolívar I Magangué"},{"$f":"IF(ISBLANK(InfoPro!E29),\"\",InfoPro!E29)","v":9.9},{"$f":"IF(ISBLANK(InfoPro!F29),\"\",InfoPro!F29)","v":"Solar FV"},{"$f":"IF(ISBLANK(InfoPro!I29),\"\",YEAR(InfoPro!I29)-$G$3)","v":2},{"$f":"IF(B36=\"\",\"\",VLOOKUP(D36,Tablas!$B$2:$E$13,2,FALSE))","v":0.26},{"$f":"IF(B36=\"\",\"\",VLOOKUP(D36,Tablas!$B$2:$G$13,6,FALSE))","v":0},22548.240000000005,2870.0076319200007,211107.63668729048,188826.15088308635,168896.37824963001,151070.10576889984,135125.31821905175,120863.4331118531,108106.82747035159,96696.625644321655,86490.72061209449,77362.004125308173,69196.783654121798,61893.366416924677,55360.792859503294,49517.703809931394,44291.327200296415,6612957061.0805454,667975.46071520657]
[{"$f":"IF(ISBLANK(InfoPro!A30),\"\",InfoPro!A30)","v":"SC_1372_A2"},{"$f":"IF(ISBLANK(InfoPro!B30),\"\",InfoPro!B30)","v":"Pétalo del Bolívar I Magangué"},{"$f":"IF(ISBLANK(InfoPro!E30),\"\",InfoPro!E30)","v":9.9},{"$f":"IF(ISBLANK(InfoPro!F30),\"\",InfoPro!F30)","v":"Solar FV"},{"$f":"IF(ISBLANK(InfoPro!I30),\"\",YEAR(InfoPro!I30)-$G$3)","v":2},{"$f":"IF(B37=\"\",\"\",VLOOKUP(D37,Tablas!$B$2:$E$13,2,FALSE))","v":0.26},{"$f":"IF(B37=\"\",\"\",VLOOKUP(D37,Tablas!$B$2:$G$13,6,FALSE))","v":0},22548.240000000005,2870.0076319200007,211107.63668729048,188826.15088308635,168896.37824963001,151070.10576889984,135125.31821905175,120863.4331118531,108106.82747035159,96696.625644321655,86490.72061209449,77362.004125308173,69196.783654121798,61893.366416924677,55360.792859503294,49517.703809931394,44291.327200296415,6612957061.0805454,667975.46071520657]
[{"$f":"IF(ISBLANK(InfoPro!A31),\"\",InfoPro!A31)","v":"SC_692_A1"},{"$f":"IF(ISBLANK(InfoPro!B31),\"\",InfoPro!B31)","v":"TermoJobo"},{"$f":"IF(ISBLANK(InfoPro!E31),\"\",InfoPro!E31)","v":9.9},{"$f":"IF(ISBLANK(InfoPro!F31),\"\",InfoPro!F31)","v":"Termica a vapor"},{"$f":"IF(ISBLANK(InfoPro!I31),\"\",YEAR(InfoPro!I31)-$G$3)","v":1},{"$f":"IF(B38=\"\",\"\",VLOOKUP(D38,Tablas!$B$2:$E$13,2,FALSE))","v":0.85},{"$f":"IF(B38=\"\",\"\",VLOOKUP(D38,Tablas!$B$2:$G$13,6,FALSE))","v":0.37},73715.400000000009,-17891.980741800002,-1471367.3608238751,-1316070.9846367396,-1177165.4603190876,-1052920.805294354,-941789.62906471733,-842387.86141745746,-753477.51468466688,-673951.26537090063,-602818.6631224514,-539193.79527947353,-482284.25338056672,-431381.26420444256,-385850.86243688961,-345125.99502405152,-308699.45887661143,-46090654657.920677,-4655621.6826182501]
[{"$f":"IF(ISBLANK(InfoPro!A32),\"\",InfoPro!A32)","v":"SC_1057_A1"},{"$f":"IF(ISBLANK(InfoPro!B32),\"\",InfoPro!B32)","v":"Río Sinú Solar I 9,9 MW"},{"$f":"IF(ISBLANK(InfoPro!E32),\"\",InfoPro!E32)","v":9.9},{"$f":"IF(ISBLANK(InfoPro!F32),\"\",InfoPro!F32)","v":"Solar FV"},{"$f":"IF(ISBLANK(InfoPro!I32),\"\",YEAR(InfoPro!I32)-$G$3)","v":2},{"$f":"IF(B39=\"\",\"\",VLOOKUP(D39,Tablas!$B$2:$E$13,2,FALSE))","v":0.26},{"$f":"IF(B39=\"\",\"\",VLOOKUP(D39,Tablas!$B$2:$G$13,6,FALSE))","v":0},22548.240000000005,2870.0076319200007,{"$f":"IF($I39=\"\",\"\",(1/(1+$C$4)^(J$7+$E39))*$I39*$C$5)","v":211107.63668729048},188826.15088308635,168896.37824963001,151070.10576889984,135125.31821905175,120863.4331118531,108106.82747035159,96696.625644321655,86490.72061209449,77362.004125308173,69196.783654121798,61893.366416924677,55360.792859503294,49517.703809931394,44291.327200296415,6612957061.0805454,667975.46071520657]
[{"$f":"IF(ISBLANK(InfoPro!A33),\"\",InfoPro!A33)","v":"SC_1057_A2"},{"$f":"IF(ISBLANK(InfoPro!B33),\"\",InfoPro!B33)","v":"Río Sinú Solar I 9,9 MW"},{"$f":"IF(ISBLANK(InfoPro!E33),\"\",InfoPro!E33)","v":9.9},{"$f":"IF(ISBLANK(InfoPro!F33),\"\",InfoPro!F33)","v":"Solar FV"},{"$f":"IF(ISBLANK(InfoPro!I33),\"\",YEAR(InfoPro!I33)-$G$3)","v":2},{"$f":"IF(B40=\"\",\"\",VLOOKUP(D40,Tablas!$B$2:$E$13,2,FALSE))","v":0.26},{"$f":"IF(B40=\"\",\"\",VLOOKUP(D40,Tablas!$B$2:$G$13,6,FALSE))","v":0},22548.240000000005,2870.0076319200007,211107.63668729048,188826.15088308635,168896.37824963001,151070.10576889984,135125.31821905175,120863.4331118531,108106.82747035159,96696.625644321655,86490.72061209449,77362.004125308173,69196.783654121798,61893.366416924677,55360.792859503294,49517.703809931394,44291.327200296415,6612957061.0805454,667975.46071520657]
[{"$f":"IF(ISBLANK(InfoPro!A34),\"\",InfoPro!A34)","v":"SC_1058_A1"},{"$f":"IF(ISBLANK(InfoPro!B34),\"\",InfoPro!B34)","v":"Río Sinú Solar II 9,9 MW"},{"$f":"IF(ISBLANK(InfoPro!E34),\"\",InfoPro!E34)","v":9.9},{"$f":"IF(ISBLANK(InfoPro!F34),\"\",InfoPro!F34)","v":"Solar FV"},{"$f":"IF(ISBLANK(InfoPro!I34),\"\",YEAR(InfoPro!I34)-$G$3)","v":2},{"$f":"IF(B41=\"\",\"\",VLOOKUP(D41,Tablas!$B$2:$E$13,2,FALSE))","v":0.26},{"$f":"IF(B41=\"\",\"\",VLOOKUP(D41,Tablas!$B$2:$G$13,6,FALSE))","v":0},{"$f":"IF(C41=\"\",\"\",+C41*F41*24*365)","v":22548.240000000005},{"$f":"IF(H41=\"\",\"\",+H41*($C$3-G41))","v":2870.0076319200007},211107.63668729048,188826.15088308635,168896.37824963001,151070.10576889984,135125.31821905175,120863.4331118531,108106.82747035159,96696.625644321655,86490.72061209449,77362.004125308173,69196.783654121798,61893.366416924677,55360.792859503294,49517.703809931394,44291.327200296415,6612957061.0805454,667975.46071520657]
[{"$f":"IF(ISBLANK(InfoPro!A35),\"\",InfoPro!A35)","v":"SC_1058_A2"},{"$f":"IF(ISBLANK(InfoPro!B35),\"\",InfoPro!B35)","v":"Río Sinú Solar II 9,9 MW"},{"$f":"IF(ISBLANK(InfoPro!E35),\"\",InfoPro!E35)","v":9.9},{"$f":"IF(ISBLANK(InfoPro!F35),\"\",InfoPro!F35)","v":"Solar FV"},{"$f":"IF(ISBLANK(InfoPro!I35),\"\",YEAR(InfoPro!I35)-$G$3)","v":2},{"$f":"IF(B42=\"\",\"\",VLOOKUP(D42,Tablas!$B$2:$E$13,2,FALSE))","v":0.26},{"$f":"IF(B42=\"\",\"\",VLOOKUP(D42,Tablas!$B$2:$G$13,6,FALSE))","v":0},22548.240000000005,2870.0076319200007,211107.63668729048,188826.15088308635,168896.37824963001,151070.10576889984,135125.31821905175,120863.4331118531,108106.82747035159,96696.625644321655,86490.72061209449,77362.004125308173,69196.783654121798,61893.366416924677,55360.792859503294,49517.703809931394,44291.327200296415,6612957061.0805454,667975.46071520657]
[{"$f":"IF(ISBLANK(InfoPro!A36),\"\",InfoPro!A36)","v":"SC_855_A1"},{"$f":"IF(ISBLANK(InfoPro!B36),\"\",InfoPro!B36)","v":"El Lirio"},{"$f":"IF(ISBLANK(InfoPro!E36),\"\",InfoPro!E36)","v":19.899999999999999},{"$f":"IF(ISBLANK(InfoPro!F36),\"\",InfoPro!F36)","v":"Solar FV"},{"$f":"IF(ISBLANK(InfoPro!I36),\"\",YEAR(InfoPro!I36)-$G$3)","v":2},{"$f":"IF(B43=\"\",\"\",VLOOKUP(D43,Tablas!$B$2:$E$13,2,FALSE))","v":0.26},{"$f":"IF(B43=\"\",\"\",VLOOKUP(D43,Tablas!$B$2:$G$13,6,FALSE))","v":0},45324.24,5769.0052399200003,424347.67374515958,379559.63662357756,339498.78052198351,303666.17220213194,271615.53864233627,242947.70898241174,217305.64309696935,194369.98488101017,173855.08486673539,155505.44263572042,139092.52471889125,124411.91835321223,111280.78564688035,99535.58644622573,89030.041544030144,13292711668.232615,667975.46071520681]
[{"$f":"IF(ISBLANK(InfoPro!A37),\"\",InfoPro!A37)","v":"SC_855_A2"},{"$f":"IF(ISBLANK(InfoPro!B37),\"\",InfoPro!B37)","v":"El Lirio"},{"$f":"IF(ISBLANK(InfoPro!E37),\"\",InfoPro!E37)","v":19.899999999999999},{"$f":"IF(ISBLANK(InfoPro!F37),\"\",InfoPro!F37)","v":"Solar FV"},{"$f":"IF(ISBLANK(InfoPro!I37),\"\",YEAR(InfoPro!I37)-$G$3)","v":2},{"$f":"IF(B44=\"\",\"\",VLOOKUP(D44,Tablas!$B$2:$E$13,2,FALSE))","v":0.26},{"$f":"IF(B44=\"\",\"\",VLOOKUP(D44,Tablas!$B$2:$G$13,6,FALSE))","v":0},45324.24,5769.0052399200003,424347.67374515958,379559.63662357756,339498.78052198351,303666.17220213194,271615.53864233627,242947.70898241174,217305.64309696935,194369.98488101017,173855.08486673539,155505.44263572042,139092.52471889125,124411.91835321223,111280.78564688035,99535.58644622573,89030.041544030144,13292711668.232615,667975.46071520681]
[{"$f":"IF(ISBLANK(InfoPro!A38),\"\",InfoPro!A38)","v":"SC_630_A1"},{"$f":"IF(ISBLANK(InfoPro!B38),\"\",InfoPro!B38)","v":"TR Solar 14"},{"$f":"IF(ISBLANK(InfoPro!E38),\"\",InfoPro!E38)","v":99.9},{"$f":"IF(ISBLANK(InfoPro!F38),\"\",InfoPro!F38)","v":"Solar FV"},{"$f":"IF(ISBLANK(InfoPro!I38),\"\",YEAR(InfoPro!I38)-$G$3)","v":3},{"$f":"IF(B45=\"\",\"\",VLOOKUP(D45,Tablas!$B$2:$E$13,2,FALSE))","v":0.26},{"$f":"IF(B45=\"\",\"\",VLOOKUP(D45,Tablas!$B$2:$G$13,6,FALSE))","v":0},227532.24000000002,28960.986103920004,1905427.5225475074,1704317.9987008118,1524434.7036679892,1363537.3020286129,1219621.9159468811,1090896.1681099115,975756.85877451848,872769.99890386255,780652.9507190187,698258.45323704707,624560.33384351269,558640.72794589691,499678.64753658051,446939.75629390014,399767.223876476,59687610487.879402,597473.57845725131]
[{"$f":"IF(ISBLANK(InfoPro!A39),\"\",InfoPro!A39)","v":"SC_1269_A1"},{"$f":"IF(ISBLANK(InfoPro!B39),\"\",InfoPro!B39)","v":"Centro Solar II 4 MW"},{"$f":"IF(ISBLANK(InfoPro!E39),\"\",InfoPro!E39)","v":4},{"$f":"IF(ISBLANK(InfoPro!F39),\"\",InfoPro!F39)","v":"Solar FV"},{"$f":"IF(ISBLANK(InfoPro!I39),\"\",YEAR(InfoPro!I39)-$G$3)","v":0},{"$f":"IF(B46=\"\",\"\",VLOOKUP(D46,Tablas!$B$2:$E$13,2,FALSE))","v":0.26},{"$f":"IF(B46=\"\",\"\",VLOOKUP(D46,Tablas!$B$2:$G$13,6,FALSE))","v":0},9110.4,1159.5990432000001,106613.53603180801,95360.944572279084,85296.014823147663,76293.394296196493,68240.960908941415,61038.426573292854,54596.088169313822,48833.710348223467,43679.526250647104,39069.343694675408,34945.745701856358,31257.375404164908,27958.296425907789,25007.42077451502,22367.997114950827,3339674239.035975,834918.5597589938]
[{"$f":"IF(ISBLANK(InfoPro!A40),\"\",InfoPro!A40)","v":"SC_1268_A1"},{"$f":"IF(ISBLANK(InfoPro!B40),\"\",InfoPro!B40)","v":"Sol de Ayapel II de 7 MW"},{"$f":"IF(ISBLANK(InfoPro!E40),\"\",InfoPro!E40)","v":7},{"$f":"IF(ISBLANK(InfoPro!F40),\"\",InfoPro!F40)","v":"Solar FV"},{"$f":"IF(ISBLANK(InfoPro!I40),\"\",YEAR(InfoPro!I40)-$G$3)","v":1},{"$f":"IF(B47=\"\",\"\",VLOOKUP(D47,Tablas!$B$2:$E$13,2,FALSE))","v":0.26},{"$f":"IF(B47=\"\",\"\",VLOOKUP(D47,Tablas!$B$2:$G$13,6,FALSE))","v":0},15943.2,2029.2983256000002,166881.65300148839,149268.02594050841,133513.44001834388,119421.68159064747,106817.24650326249,95543.154296299195,85458.993109391056,76439.170938632436,68371.351465681975,61155.054978248627,54700.4069572886,48927.018745338639,43762.986355401285,39143.994951163942,35012.517845406037,5227575955.5572062,746796.5650796009]
[{"$f":"IF(ISBLANK(InfoPro!A41),\"\",InfoPro!A41)","v":"SC_1268_A2"},{"$f":"IF(ISBLANK(InfoPro!B41),\"\",InfoPro!B41)","v":"Sol de Ayapel II de 7 MW"},{"$f":"IF(ISBLANK(InfoPro!E41),\"\",InfoPro!E41)","v":7},{"$f":"IF(ISBLANK(InfoPro!F41),\"\",InfoPro!F41)","v":"Solar FV"},{"$f":"IF(ISBLANK(InfoPro!I41),\"\",YEAR(InfoPro!I41)-$G$3)","v":1},{"$f":"IF(B48=\"\",\"\",VLOOKUP(D48,Tablas!$B$2:$E$13,2,FALSE))","v":0.26},{"$f":"IF(B48=\"\",\"\",VLOOKUP(D48,Tablas!$B$2:$G$13,6,FALSE))","v":0},15943.2,2029.2983256000002,166881.65300148839,149268.02594050841,133513.44001834388,119421.68159064747,106817.24650326249,95543.154296299195,85458.993109391056,76439.170938632436,68371.351465681975,61155.054978248627,54700.4069572886,48927.018745338639,43762.986355401285,39143.994951163942,35012.517845406037,5227575955.5572062,746796.5650796009]
[{"$f":"IF(ISBLANK(InfoPro!A42),\"\",InfoPro!A42)","v":"SC_1118_A1"},{"$f":"IF(ISBLANK(InfoPro!B42),\"\",InfoPro!B42)","v":"Boston 9,9 MW"},{"$f":"IF(ISBLANK(InfoPro!E42),\"\",InfoPro!E42)","v":9.9},{"$f":"IF(ISBLANK(InfoPro!F42),\"\",InfoPro!F42)","v":"Solar FV"},{"$f":"IF(ISBLANK(InfoPro!I42),\"\",YEAR(InfoPro!I42)-$G$3)","v":2},{"$f":"IF(B49=\"\",\"\",VLOOKUP(D49,Tablas!$B$2:$E$13,2,FALSE))","v":0.26},{"$f":"IF(B49=\"\",\"\",VLOOKUP(D49,Tablas!$B$2:$G$13,6,FALSE))","v":0},22548.240000000005,2870.0076319200007,{"$f":"IF($I49=\"\",\"\",(1/(1+$C$4)^(J$7+$E49))*$I49*$C$5)","v":211107.63668729048},188826.15088308635,168896.37824963001,151070.10576889984,135125.31821905175,120863.4331118531,108106.82747035159,96696.625644321655,86490.72061209449,77362.004125308173,69196.783654121798,61893.366416924677,55360.792859503294,49517.703809931394,44291.327200296415,6612957061.0805454,667975.46071520657]
[{"$f":"IF(ISBLANK(InfoPro!A43),\"\",InfoPro!A43)","v":"SC_1118_A2"},{"$f":"IF(ISBLANK(InfoPro!B43),\"\",InfoPro!B43)","v":"Boston 9,9 MW"},{"$f":"IF(ISBLANK(InfoPro!E43),\"\",InfoPro!E43)","v":9.9},{"$f":"IF(ISBLANK(InfoPro!F43),\"\",InfoPro!F43)","v":"Solar FV"},{"$f":"IF(ISBLANK(InfoPro!I43),\"\",YEAR(InfoPro!I43)-$G$3)","v":2},{"$f":"IF(B50=\"\",\"\",VLOOKUP(D50,Tablas!$B$2:$E$13,2,FALSE))","v":0.26},{"$f":"IF(B50=\"\",\"\",VLOOKUP(D50,Tablas!$B$2:$G$13,6,FALSE))","v":0},22548.240000000005,2870.0076319200007,211107.63668729048,188826.15088308635,168896.37824963001,151070.10576889984,135125.31821905175,120863.4331118531,108106.82747035159,96696.625644321655,86490.72061209449,77362.004125308173,69196.783654121798,61893.366416924677,55360.792859503294,49517.703809931394,44291.327200296415,6612957061.0805454,667975.46071520657]
[{"$f":"IF(ISBLANK(InfoPro!A44),\"\",InfoPro!A44)","v":"SC_632_A1"},{"$f":"IF(ISBLANK(InfoPro!B44),\"\",InfoPro!B44)","v":"TR Solar 5"},{"$f":"IF(ISBLANK(InfoPro!E44),\"\",InfoPro!E44)","v":19.899999999999999},{"$f":"IF(ISBLANK(InfoPro!F44),\"\",InfoPro!F44)","v":"Solar FV"},{"$f":"IF(ISBLANK(InfoPro!I44),\"\",YEAR(InfoPro!I44)-$G$3)","v":3},{"$f":"IF(B51=\"\",\"\",VLOOKUP(D51,Tablas!$B$2:$E$13,2,FALSE))","v":0.26},{"$f":"IF(B51=\"\",\"\",VLOOKUP(D51,Tablas!$B$2:$G$13,6,FALSE))","v":0},45324.24,5769.0052399200003,379559.63662357756,339498.78052198351,303666.17220213194,271615.53864233627,242947.70898241174,217305.64309696935,194369.98488101017,173855.08486673539,155505.44263572042,139092.52471889125,124411.91835321223,111280.78564688035,99535.58644622573,89030.041544030144,79633.310862280996,11889724211.299295,597473.57845725107]
[{"$f":"IF(ISBLANK(InfoPro!A45),\"\",InfoPro!A45)","v":"SC_632_A2"},{"$f":"IF(ISBLANK(InfoPro!B45),\"\",InfoPro!B45)","v":"TR Solar 5"},{"$f":"IF(ISBLANK(InfoPro!E45),\"\",InfoPro!E45)","v":19.899999999999999},{"$f":"IF(ISBLANK(InfoPro!F45),\"\",InfoPro!F45)","v":"Solar FV"},{"$f":"IF(ISBLANK(InfoPro!I45),\"\",YEAR(InfoPro!I45)-$G$3)","v":3},{"$f":"IF(B52=\"\",\"\",VLOOKUP(D52,Tablas!$B$2:$E$13,2,FALSE))","v":0.26},{"$f":"IF(B52=\"\",\"\",VLOOKUP(D52,Tablas!$B$2:$G$13,6,FALSE))","v":0},45324.24,5769.0052399200003,379559.63662357756,339498.78052198351,303666.17220213194,271615.53864233627,242947.70898241174,217305.64309696935,194369.98488101017,173855.08486673539,155505.44263572042,139092.52471889125,124411.91835321223,111280.78564688035,99535.58644622573,89030.041544030144,79633.310862280996,11889724211.299295,597473.57845725107]
[{"$f":"IF(ISBLANK(InfoPro!A46),\"\",InfoPro!A46)","v":"SC_1415_A1"},{"$f":"IF(ISBLANK(InfoPro!B46),\"\",InfoPro!B46)","v":"Efigen C03 99 MW"},{"$f":"IF(ISBLANK(InfoPro!E46),\"\",InfoPro!E46)","v":99},{"$f":"IF(ISBLANK(InfoPro!F46),\"\",InfoPro!F46)","v":"Solar FV"},{"$f":"IF(ISBLANK(InfoPro!I46),\"\",YEAR(InfoPro!I46)-$G$3)","v":2},{"$f":"IF(B53=\"\",\"\",VLOOKUP(D53,Tablas!$B$2:$E$13,2,FALSE))","v":0.26},{"$f":"IF(B53=\"\",\"\",VLOOKUP(D53,Tablas!$B$2:$G$13,6,FALSE))","v":0},225482.4,28700.076319200001,2111076.3668729048,1888261.5088308631,1688963.7824962998,1510701.0576889981,1351253.1821905172,1208634.3311185306,1081068.2747035159,966966.25644321635,864907.20612094481,773620.04125308141,691967.83654121775,618933.66416924668,553607.92859503289,495177.03809931385,442913.27200296405,66129570610.805443,667975.46071520646]
[{"$f":"IF(ISBLANK(InfoPro!A47),\"\",InfoPro!A47)","v":"SC_1415_A2"},{"$f":"IF(ISBLANK(InfoPro!B47),\"\",InfoPro!B47)","v":"Efigen C03 99 MW"},{"$f":"IF(ISBLANK(InfoPro!E47),\"\",InfoPro!E47)","v":99},{"$f":"IF(ISBLANK(InfoPro!F47),\"\",InfoPro!F47)","v":"Solar FV"},{"$f":"IF(ISBLANK(InfoPro!I47),\"\",YEAR(InfoPro!I47)-$G$3)","v":2},{"$f":"IF(B54=\"\",\"\",VLOOKUP(D54,Tablas!$B$2:$E$13,2,FALSE))","v":0.26},{"$f":"IF(B54=\"\",\"\",VLOOKUP(D54,Tablas!$B$2:$G$13,6,FALSE))","v":0},225482.4,28700.076319200001,2111076.3668729048,1888261.5088308631,1688963.7824962998,1510701.0576889981,1351253.1821905172,1208634.3311185306,1081068.2747035159,966966.25644321635,864907.20612094481,773620.04125308141,691967.83654121775,618933.66416924668,553607.92859503289,495177.03809931385,442913.27200296405,66129570610.805443,667975.46071520646]
[{"$f":"IF(ISBLANK(InfoPro!A48),\"\",InfoPro!A48)","v":"SC_1420_A1"},{"$f":"IF(ISBLANK(InfoPro!B48),\"\",InfoPro!B48)","v":"Efigen C04 99 MW"},{"$f":"IF(ISBLANK(InfoPro!E48),\"\",InfoPro!E48)","v":99},{"$f":"IF(ISBLANK(InfoPro!F48),\"\",InfoPro!F48)","v":"Solar FV"},{"$f":"IF(ISBLANK(InfoPro!I48),\"\",YEAR(InfoPro!I48)-$G$3)","v":2},{"$f":"IF(B55=\"\",\"\",VLOOKUP(D55,Tablas!$B$2:$E$13,2,FALSE))","v":0.26},{"$f":"IF(B55=\"\",\"\",VLOOKUP(D55,Tablas!$B$2:$G$13,6,FALSE))","v":0},225482.4,28700.076319200001,2111076.3668729048,1888261.5088308631,1688963.7824962998,1510701.0576889981,1351253.1821905172,1208634.3311185306,1081068.2747035159,966966.25644321635,864907.20612094481,773620.04125308141,691967.83654121775,618933.66416924668,553607.92859503289,495177.03809931385,442913.27200296405,66129570610.805443,667975.46071520646]
[{"$f":"IF(ISBLANK(InfoPro!A49),\"\",InfoPro!A49)","v":"SC_1420_A2"},{"$f":"IF(ISBLANK(InfoPro!B49),\"\",InfoPro!B49)","v":"Efigen C04 99 MW"},{"$f":"IF(ISBLANK(InfoPro!E49),\"\",InfoPro!E49)","v":99},{"$f":"IF(ISBLANK(InfoPro!F49),\"\",InfoPro!F49)","v":"Solar FV"},{"$f":"IF(ISBLANK(InfoPro!I49),\"\",YEAR(InfoPro!I49)-$G$3)","v":2},{"$f":"IF(B56=\"\",\"\",VLOOKUP(D56,Tablas!$B$2:$E$13,2,FALSE))","v":0.26},{"$f":"IF(B56=\"\",\"\",VLOOKUP(D56,Tablas!$B$2:$G$13,6,FALSE))","v":0},225482.4,28700.076319200001,2111076.3668729048,1888261.5088308631,1688963.7824962998,1510701.0576889981,1351253.1821905172,1208634.3311185306,1081068.2747035159,966966.25644321635,864907.20612094481,773620.04125308141,691967.83654121775,618933.66416924668,553607.92859503289,495177.03809931385,442913.27200296405,66129570610.805443,667975.46071520646]
[{"$f":"IF(ISBLANK(InfoPro!A50),\"\",InfoPro!A50)","v":"SC_1435_A1"},{"$f":"IF(ISBLANK(InfoPro!B50),\"\",InfoPro!B50)","v":"Parque Solar Las Brisas"},{"$f":"IF(ISBLANK(InfoPro!E50),\"\",InfoPro!E50)","v":9.9},{"$f":"IF(ISBLANK(InfoPro!F50),\"\",InfoPro!F50)","v":"Solar FV"},{"$f":"IF(ISBLANK(InfoPro!I50),\"\",YEAR(InfoPro!I50)-$G$3)","v":1},{"$f":"IF(B57=\"\",\"\",VLOOKUP(D57,Tablas!$B$2:$E$13,2,FALSE))","v":0.26},{"$f":"IF(B57=\"\",\"\",VLOOKUP(D57,Tablas!$B$2:$G$13,6,FALSE))","v":0},22548.240000000005,2870.0076319200007,236018.33781639076,211107.63668729048,188826.15088308635,168896.37824963001,151070.10576889984,135125.31821905175,120863.4331118531,108106.82747035159,96696.625644321655,86490.72061209449,77362.004125308173,69196.783654121798,61893.366416924677,55360.792859503294,49517.703809931394,7393285994.2880507,746796.56507960113]
[{"$f":"IF(ISBLANK(InfoPro!A51),\"\",InfoPro!A51)","v":"SC_978_A1"},{"$f":"IF(ISBLANK(InfoPro!B51),\"\",InfoPro!B51)","v":"Borugo Solar"},{"$f":"IF(ISBLANK(InfoPro!E51),\"\",InfoPro!E51)","v":99.9},{"$f":"IF(ISBLANK(InfoPro!F51),\"\",InfoPro!F51)","v":"Solar FV"},{"$f":"IF(ISBLANK(InfoPro!I51),\"\",YEAR(InfoPro!I51)-$G$3)","v":3},{"$f":"IF(B58=\"\",\"\",VLOOKUP(D58,Tablas!$B$2:$E$13,2,FALSE))","v":0.26},{"$f":"IF(B58=\"\",\"\",VLOOKUP(D58,Tablas!$B$2:$G$13,6,FALSE))","v":0},227532.24000000002,28960.986103920004,1905427.5225475074,1704317.9987008118,1524434.7036679892,1363537.3020286129,1219621.9159468811,1090896.1681099115,975756.85877451848,872769.99890386255,780652.9507190187,698258.45323704707,624560.33384351269,558640.72794589691,499678.64753658051,446939.75629390014,399767.223876476,59687610487.879402,597473.57845725131]
[{"$f":"IF(ISBLANK(InfoPro!A52),\"\",InfoPro!A52)","v":"SC_1520_A1"},{"$f":"IF(ISBLANK(InfoPro!B52),\"\",InfoPro!B52)","v":"Autogenerador Solar Argos Tolcemento - 19.9 MW"},{"$f":"IF(ISBLANK(InfoPro!E52),\"\",InfoPro!E52)","v":19.899999999999999},{"$f":"IF(ISBLANK(InfoPro!F52),\"\",InfoPro!F52)","v":"Solar FV"},{"$f":"IF(ISBLANK(InfoPro!I52),\"\",YEAR(InfoPro!I52)-$G$3)","v":1},{"$f":"IF(B59=\"\",\"\",VLOOKUP(D59,Tablas!$B$2:$E$13,2,FALSE))","v":0.26},{"$f":"IF(B59=\"\",\"\",VLOOKUP(D59,Tablas!$B$2:$G$13,6,FALSE))","v":0},45324.24,5769.0052399200003,{"$f":"IF($I59=\"\",\"\",(1/(1+$C$4)^(J$7+$E59))*$I59*$C$5)","v":474420.69924708846},424347.67374515958,379559.63662357756,339498.78052198351,303666.17220213194,271615.53864233627,242947.70898241174,217305.64309696935,194369.98488101017,173855.08486673539,155505.44263572042,139092.52471889125,124411.91835321223,111280.78564688035,99535.58644622573,14861251645.084061,746796.56507960102]
[{"$f":"IF(ISBLANK(InfoPro!A53),\"\",InfoPro!A53)","v":"SC_1520_A2"},{"$f":"IF(ISBLANK(InfoPro!B53),\"\",InfoPro!B53)","v":"Autogenerador Solar Argos Tolcemento - 19.9 MW"},{"$f":"IF(ISBLANK(InfoPro!E53),\"\",InfoPro!E53)","v":19.899999999999999},{"$f":"IF(ISBLANK(InfoPro!F53),\"\",InfoPro!F53)","v":"Solar FV"},{"$f":"IF(ISBLANK(InfoPro!I53),\"\",YEAR(InfoPro!I53)-$G$3)","v":1},{"$f":"IF(B60=\"\",\"\",VLOOKUP(D60,Tablas!$B$2:$E$13,2,FALSE))","v":0.26},{"$f":"IF(B60=\"\",\"\",VLOOKUP(D60,Tablas!$B$2:$G$13,6,FALSE))","v":0},45324.24,5769.0052399200003,474420.69924708846,424347.67374515958,379559.63662357756,339498.78052198351,303666.17220213194,271615.53864233627,242947.70898241174,217305.64309696935,194369.98488101017,173855.08486673539,155505.44263572042,139092.52471889125,124411.91835321223,111280.78564688035,99535.58644622573,14861251645.084061,746796.56507960102]
[{"$f":"IF(ISBLANK(InfoPro!A54),\"\",InfoPro!A54)","v":"SC_1527_A1"},{"$f":"IF(ISBLANK(InfoPro!B54),\"\",InfoPro!B54)","v":"Nueva Montería Solar III _9,9 MW"},{"$f":"IF(ISBLANK(InfoPro!E54),\"\",InfoPro!E54)","v":9.9},{"$f":"IF(ISBLANK(InfoPro!F54),\"\",InfoPro!F54)","v":"Solar FV"},{"$f":"IF(ISBLANK(InfoPro!I54),\"\",YEAR(InfoPro!I54)-$G$3)","v":2},{"$f":"IF(B61=\"\",\"\",VLOOKUP(D61,Tablas!$B$2:$E$13,2,FALSE))","v":0.26},{"$f":"IF(B61=\"\",\"\",VLOOKUP(D61,Tablas!$B$2:$G$13,6,FALSE))","v":0},22548.240000000005,2870.0076319200007,211107.63668729048,188826.15088308635,168896.37824963001,151070.10576889984,135125.31821905175,120863.4331118531,108106.82747035159,96696.625644321655,86490.72061209449,77362.004125308173,69196.783654121798,61893.366416924677,55360.792859503294,49517.703809931394,44291.327200296415,6612957061.0805454,667975.46071520657]
[{"$f":"IF(ISBLANK(InfoPro!A55),\"\",InfoPro!A55)","v":"SC_1527_A2"},{"$f":"IF(ISBLANK(InfoPro!B55),\"\",InfoPro!B55)","v":"Nueva Montería Solar III _9,9 MW"},{"$f":"IF(ISBLANK(InfoPro!E55),\"\",InfoPro!E55)","v":9.9},{"$f":"IF(ISBLANK(InfoPro!F55),\"\",InfoPro!F55)","v":"Solar FV"},{"$f":"IF(ISBLANK(InfoPro!I55),\"\",YEAR(InfoPro!I55)-$G$3)","v":2},{"$f":"IF(B62=\"\",\"\",VLOOKUP(D62,Tablas!$B$2:$E$13,2,FALSE))","v":0.26},{"$f":"IF(B62=\"\",\"\",VLOOKUP(D62,Tablas!$B$2:$G$13,6,FALSE))","v":0},22548.240000000005,2870.0076319200007,211107.63668729048,188826.15088308635,168896.37824963001,151070.10576889984,135125.31821905175,120863.4331118531,108106.82747035159,96696.625644321655,86490.72061209449,77362.004125308173,69196.783654121798,61893.366416924677,55360.792859503294,49517.703809931394,44291.327200296415,6612957061.0805454,667975.46071520657]
[{"$f":"IF(ISBLANK(InfoPro!A56),\"\",InfoPro!A56)","v":"SC_1395_A1"},{"$f":"IF(ISBLANK(InfoPro!B56),\"\",InfoPro!B56)","v":"San Marcos I 19.9"},{"$f":"IF(ISBLANK(InfoPro!E56),\"\",InfoPro!E56)","v":19.899999999999999},{"$f":"IF(ISBLANK(InfoPro!F56),\"\",InfoPro!F56)","v":"Solar FV"},{"$f":"IF(ISBLANK(InfoPro!I56),\"\",YEAR(InfoPro!I56)-$G$3)","v":3},{"$f":"IF(B63=\"\",\"\",VLOOKUP(D63,Tablas!$B$2:$E$13,2,FALSE))","v":0.26},{"$f":"IF(B63=\"\",\"\",VLOOKUP(D63,Tablas!$B$2:$G$13,6,FALSE))","v":0},45324.24,5769.0052399200003,379559.63662357756,339498.78052198351,303666.17220213194,271615.53864233627,242947.70898241174,217305.64309696935,194369.98488101017,173855.08486673539,155505.44263572042,139092.52471889125,124411.91835321223,111280.78564688035,99535.58644622573,89030.041544030144,79633.310862280996,11889724211.299295,597473.57845725107]
[{"$f":"IF(ISBLANK(InfoPro!A57),\"\",InfoPro!A57)","v":"SC_1396_A1"},{"$f":"IF(ISBLANK(InfoPro!B57),\"\",InfoPro!B57)","v":"San Marcos II 19.9"},{"$f":"IF(ISBLANK(InfoPro!E57),\"\",InfoPro!E57)","v":19.899999999999999},{"$f":"IF(ISBLANK(InfoPro!F57),\"\",InfoPro!F57)","v":"Solar FV"},{"$f":"IF(ISBLANK(InfoPro!I57),\"\",YEAR(InfoPro!I57)-$G$3)","v":3},{"$f":"IF(B64=\"\",\"\",VLOOKUP(D64,Tablas!$B$2:$E$13,2,FALSE))","v":0.26},{"$f":"IF(B64=\"\",\"\",VLOOKUP(D64,Tablas!$B$2:$G$13,6,FALSE))","v":0},45324.24,5769.0052399200003,379559.63662357756,339498.78052198351,303666.17220213194,271615.53864233627,242947.70898241174,217305.64309696935,194369.98488101017,173855.08486673539,155505.44263572042,139092.52471889125,124411.91835321223,111280.78564688035,99535.58644622573,89030.041544030144,79633.310862280996,11889724211.299295,597473.57845725107]
[{"$f":"IF(ISBLANK(InfoPro!A58),\"\",InfoPro!A58)","v":"SC_1359_A1"},{"$f":"IF(ISBLANK(InfoPro!B58),\"\",InfoPro!B58)","v":"El Corozo_250MW"},{"$f":"IF(ISBLANK(InfoPro!E58),\"\",InfoPro!E58)","v":250},{"$f":"IF(ISBLANK(InfoPro!F58),\"\",InfoPro!F58)","v":"Solar FV"},{"$f":"IF(ISBLANK(InfoPro!I58),\"\",YEAR(InfoPro!I58)-$G$3)","v":4},{"$f":"IF(B65=\"\",\"\",VLOOKUP(D65,Tablas!$B$2:$E$13,2,FALSE))","v":0.26},{"$f":"IF(B65=\"\",\"\",VLOOKUP(D65,Tablas!$B$2:$G$13,6,FALSE))","v":0},569400,72474.940199999997,4265060.0568088377,3814901.6608308027,3412255.5105821136,3052106.896763966,2729970.3906654436,2441833.980917213,2184109.106366022,1953585.9627603064,1747393.5266192367,1562963.7984071886,1397999.8196844263,1250447.0659073582,1118467.8585933435,1000418.4781693592,894828.69245917641,133603215218.52663,534412.86087410653]
[{"$f":"IF(ISBLANK(InfoPro!A59),\"\",InfoPro!A59)","v":"SC_1359_A2"},{"$f":"IF(ISBLANK(InfoPro!B59),\"\",InfoPro!B59)","v":"El Corozo_250MW"},{"$f":"IF(ISBLANK(InfoPro!E59),\"\",InfoPro!E59)","v":250},{"$f":"IF(ISBLANK(InfoPro!F59),\"\",InfoPro!F59)","v":"Solar FV"},{"$f":"IF(ISBLANK(InfoPro!I59),\"\",YEAR(InfoPro!I59)-$G$3)","v":4},{"$f":"IF(B66=\"\",\"\",VLOOKUP(D66,Tablas!$B$2:$E$13,2,FALSE))","v":0.26},{"$f":"IF(B66=\"\",\"\",VLOOKUP(D66,Tablas!$B$2:$G$13,6,FALSE))","v":0},569400,72474.940199999997,4265060.0568088377,3814901.6608308027,3412255.5105821136,3052106.896763966,2729970.3906654436,2441833.980917213,2184109.106366022,1953585.9627603064,1747393.5266192367,1562963.7984071886,1397999.8196844263,1250447.0659073582,1118467.8585933435,1000418.4781693592,894828.69245917641,133603215218.52663,534412.86087410653]
[{"$f":"IF(ISBLANK(InfoPro!A60),\"\",InfoPro!A60)","v":"SC_1598_A1"},{"$f":"IF(ISBLANK(InfoPro!B60),\"\",InfoPro!B60)","v":"PARQUE SOLAR FOTOVOLTAICO MATIMBA de 150MW"},{"$f":"IF(ISBLANK(InfoPro!E60),\"\",InfoPro!E60)","v":150},{"$f":"IF(ISBLANK(InfoPro!F60),\"\",InfoPro!F60)","v":"Solar FV"},{"$f":"IF(ISBLANK(InfoPro!I60),\"\",YEAR(InfoPro!I60)-$G$3)","v":3},{"$f":"IF(B67=\"\",\"\",VLOOKUP(D67,Tablas!$B$2:$E$13,2,FALSE))","v":0.26},{"$f":"IF(B67=\"\",\"\",VLOOKUP(D67,Tablas!$B$2:$G$13,6,FALSE))","v":0},341640,43484.964120000004,2861002.2861073683,2559036.0340853026,2288940.9964984823,2047353.3063492686,1831264.13805838,1637982.2343992665,1465100.3885503279,1310465.4638196134,1172151.5776561841,1048436.1159715421,937778.27904431324,838799.89181065594,750268.23954441503,671080.71515600616,600251.08690161561,89621036768.587662,597473.57845725107]
[{"$f":"IF(ISBLANK(InfoPro!A61),\"\",InfoPro!A61)","v":"SC_1598_A2"},{"$f":"IF(ISBLANK(InfoPro!B61),\"\",InfoPro!B61)","v":"PARQUE SOLAR FOTOVOLTAICO MATIMBA de 150MW"},{"$f":"IF(ISBLANK(InfoPro!E61),\"\",InfoPro!E61)","v":150},{"$f":"IF(ISBLANK(InfoPro!F61),\"\",InfoPro!F61)","v":"Solar FV"},{"$f":"IF(ISBLANK(InfoPro!I61),\"\",YEAR(InfoPro!I61)-$G$3)","v":3},{"$f":"IF(B68=\"\",\"\",VLOOKUP(D68,Tablas!$B$2:$E$13,2,FALSE))","v":0.26},{"$f":"IF(B68=\"\",\"\",VLOOKUP(D68,Tablas!$B$2:$G$13,6,FALSE))","v":0},341640,43484.964120000004,2861002.2861073683,2559036.0340853026,2288940.9964984823,2047353.3063492686,1831264.13805838,1637982.2343992665,1465100.3885503279,1310465.4638196134,1172151.5776561841,1048436.1159715421,937778.27904431324,838799.89181065594,750268.23954441503,671080.71515600616,600251.08690161561,89621036768.587662,597473.57845725107]
[{"$f":"IF(ISBLANK(InfoPro!A62),\"\",InfoPro!A62)","v":"SC_981_A1"},{"$f":"IF(ISBLANK(InfoPro!B62),\"\",InfoPro!B62)","v":"Yaguarundi Solar"},{"$f":"IF(ISBLANK(InfoPro!E62),\"\",InfoPro!E62)","v":40},{"$f":"IF(ISBLANK(InfoPro!F62),\"\",InfoPro!F62)","v":"Solar FV"},{"$f":"IF(ISBLANK(InfoPro!I62),\"\",YEAR(InfoPro!I62)-$G$3)","v":3},{"$f":"IF(B69=\"\",\"\",VLOOKUP(D69,Tablas!$B$2:$E$13,2,FALSE))","v":0.26},{"$f":"IF(B69=\"\",\"\",VLOOKUP(D69,Tablas!$B$2:$G$13,6,FALSE))","v":0},91104.000000000015,11595.990432000002,{"$f":"IF($I69=\"\",\"\",(1/(1+$C$4)^(J$7+$E69))*$I69*$C$5)","v":762933.94296196511},682409.60908941412,610384.26573292864,545960.88169313839,488337.1034822347,436795.26250647113,390693.43694675417,349457.45701856364,312573.75404164911,279582.96425907797,250074.20774515023,223679.97114950826,200071.53054517737,178954.857374935,160066.95650709752,23898943138.290051,597473.57845725131]
[{"$f":"IF(ISBLANK(InfoPro!A63),\"\",InfoPro!A63)","v":"SC_981_A2"},{"$f":"IF(ISBLANK(InfoPro!B63),\"\",InfoPro!B63)","v":"Yaguarundi Solar"},{"$f":"IF(ISBLANK(InfoPro!E63),\"\",InfoPro!E63)","v":40},{"$f":"IF(ISBLANK(InfoPro!F63),\"\",InfoPro!F63)","v":"Solar FV"},{"$f":"IF(ISBLANK(InfoPro!I63),\"\",YEAR(InfoPro!I63)-$G$3)","v":3},{"$f":"IF(B70=\"\",\"\",VLOOKUP(D70,Tablas!$B$2:$E$13,2,FALSE))","v":0.26},{"$f":"IF(B70=\"\",\"\",VLOOKUP(D70,Tablas!$B$2:$G$13,6,FALSE))","v":0},91104.000000000015,11595.990432000002,762933.94296196511,682409.60908941412,610384.26573292864,545960.88169313839,488337.1034822347,436795.26250647113,390693.43694675417,349457.45701856364,312573.75404164911,279582.96425907797,250074.20774515023,223679.97114950826,200071.53054517737,178954.857374935,160066.95650709752,23898943138.290051,597473.57845725131]
[{"$f":"IF(ISBLANK(InfoPro!A64),\"\",InfoPro!A64)","v":"SC_1634_A1"},{"$f":"IF(ISBLANK(InfoPro!B64),\"\",InfoPro!B64)","v":"El Tapir Solar 99.9 MW"},{"$f":"IF(ISBLANK(InfoPro!E64),\"\",InfoPro!E64)","v":99.9},{"$f":"IF(ISBLANK(InfoPro!F64),\"\",InfoPro!F64)","v":"Solar FV"},{"$f":"IF(ISBLANK(InfoPro!I64),\"\",YEAR(InfoPro!I64)-$G$3)","v":3},{"$f":"IF(B71=\"\",\"\",VLOOKUP(D71,Tablas!$B$2:$E$13,2,FALSE))","v":0.26},{"$f":"IF(B71=\"\",\"\",VLOOKUP(D71,Tablas!$B$2:$G$13,6,FALSE))","v":0},227532.24000000002,28960.986103920004,1905427.5225475074,1704317.9987008118,1524434.7036679892,1363537.3020286129,1219621.9159468811,1090896.1681099115,975756.85877451848,872769.99890386255,780652.9507190187,698258.45323704707,624560.33384351269,558640.72794589691,499678.64753658051,446939.75629390014,399767.223876476,59687610487.879402,597473.57845725131]
[{"$f":"IF(ISBLANK(InfoPro!A65),\"\",InfoPro!A65)","v":"SC_782_A1"},{"$f":"IF(ISBLANK(InfoPro!B65),\"\",InfoPro!B65)","v":"Parque Solar El Corozo 60 MW"},{"$f":"IF(ISBLANK(InfoPro!E65),\"\",InfoPro!E65)","v":60},{"$f":"IF(ISBLANK(InfoPro!F65),\"\",InfoPro!F65)","v":"Solar FV"},{"$f":"IF(ISBLANK(InfoPro!I65),\"\",YEAR(InfoPro!I65)-$G$3)","v":3},{"$f":"IF(B72=\"\",\"\",VLOOKUP(D72,Tablas!$B$2:$E$13,2,FALSE))","v":0.26},{"$f":"IF(B72=\"\",\"\",VLOOKUP(D72,Tablas!$B$2:$G$13,6,FALSE))","v":0},136656,17393.985648000002,1144400.9144429474,1023614.4136341212,915576.39859939285,818941.3225397073,732505.6552233519,655192.89375970664,586040.15542013117,524186.1855278454,468860.63106247364,419374.44638861681,375111.3116177253,335519.95672426239,300107.29581776599,268432.28606240248,240100.43476064623,35848414707.435074,597473.57845725119]
[{"$f":"IF(ISBLANK(InfoPro!A66),\"\",InfoPro!A66)","v":"SC_782_A2"},{"$f":"IF(ISBLANK(InfoPro!B66),\"\",InfoPro!B66)","v":"Parque Solar El Corozo 60 MW"},{"$f":"IF(ISBLANK(InfoPro!E66),\"\",InfoPro!E66)","v":60},{"$f":"IF(ISBLANK(InfoPro!F66),\"\",InfoPro!F66)","v":"Solar FV"},{"$f":"IF(ISBLANK(InfoPro!I66),\"\",YEAR(InfoPro!I66)-$G$3)","v":3},{"$f":"IF(B73=\"\",\"\",VLOOKUP(D73,Tablas!$B$2:$E$13,2,FALSE))","v":0.26},{"$f":"IF(B73=\"\",\"\",VLOOKUP(D73,Tablas!$B$2:$G$13,6,FALSE))","v":0},{"$f":"IF(C73=\"\",\"\",+C73*F73*24*365)","v":136656},{"$f":"IF(H73=\"\",\"\",+H73*($C$3-G73))","v":17393.985648000002},1144400.9144429474,1023614.4136341212,915576.39859939285,818941.3225397073,732505.6552233519,655192.89375970664,586040.15542013117,524186.1855278454,468860.63106247364,419374.44638861681,375111.3116177253,335519.95672426239,300107.29581776599,268432.28606240248,240100.43476064623,35848414707.435074,597473.57845725119]
[{"$f":"IF(ISBLANK(InfoPro!A67),\"\",InfoPro!A67)","v":"SC_1762_A1"},{"$f":"IF(ISBLANK(InfoPro!B67),\"\",InfoPro!B67)","v":"SPK CERETÉ SOLAR_19.9MW"},{"$f":"IF(ISBLANK(InfoPro!E67),\"\",InfoPro!E67)","v":19.899999999999999},{"$f":"IF(ISBLANK(InfoPro!F67),\"\",InfoPro!F67)","v":"Solar FV"},{"$f":"IF(ISBLANK(InfoPro!I67),\"\",YEAR(InfoPro!I67)-$G$3)","v":3},{"$f":"IF(B74=\"\",\"\",VLOOKUP(D74,Tablas!$B$2:$E$13,2,FALSE))","v":0.26},{"$f":"IF(B74=\"\",\"\",VLOOKUP(D74,Tablas!$B$2:$G$13,6,FALSE))","v":0},45324.24,5769.0052399200003,379559.63662357756,339498.78052198351,303666.17220213194,271615.53864233627,242947.70898241174,217305.64309696935,194369.98488101017,173855.08486673539,155505.44263572042,139092.52471889125,124411.91835321223,111280.78564688035,99535.58644622573,89030.041544030144,79633.310862280996,{"$f":"IF(X74=\"\",\"\",SUM(J74:X74)*$C$6)","v":11889724211.299295},{"$f":"IF(C74=0,0,IF(Y74=\"\",\"\",Y74/(C74*1000)))","v":597473.57845725107}]
[{"$f":"IF(ISBLANK(InfoPro!A68),\"\",InfoPro!A68)","v":"SC_1762_A2"},{"$f":"IF(ISBLANK(InfoPro!B68),\"\",InfoPro!B68)","v":"SPK CERETÉ SOLAR_19.9MW"},{"$f":"IF(ISBLANK(InfoPro!E68),\"\",InfoPro!E68)","v":19.899999999999999},{"$f":"IF(ISBLANK(InfoPro!F68),\"\",InfoPro!F68)","v":"Solar FV"},{"$f":"IF(ISBLANK(InfoPro!I68),\"\",YEAR(InfoPro!I68)-$G$3)","v":3},{"$f":"IF(B75=\"\",\"\",VLOOKUP(D75,Tablas!$B$2:$E$13,2,FALSE))","v":0.26},{"$f":"IF(B75=\"\",\"\",VLOOKUP(D75,Tablas!$B$2:$G$13,6,FALSE))","v":0},45324.24,5769.0052399200003,379559.63662357756,339498.78052198351,303666.17220213194,271615.53864233627,242947.70898241174,217305.64309696935,194369.98488101017,173855.08486673539,155505.44263572042,139092.52471889125,124411.91835321223,111280.78564688035,99535.58644622573,89030.041544030144,79633.310862280996,11889724211.299295,597473.57845725107]
[{"$f":"IF(ISBLANK(InfoPro!A69),\"\",InfoPro!A69)","v":"SC_1782_A1"},{"$f":"IF(ISBLANK(InfoPro!B69),\"\",InfoPro!B69)","v":"Orquídea del Sucre - Toluviejo"},{"$f":"IF(ISBLANK(InfoPro!E69),\"\",InfoPro!E69)","v":112},{"$f":"IF(ISBLANK(InfoPro!F69),\"\",InfoPro!F69)","v":"Solar FV"},{"$f":"IF(ISBLANK(InfoPro!I69),\"\",YEAR(InfoPro!I69)-$G$3)","v":4},{"$f":"IF(B76=\"\",\"\",VLOOKUP(D76,Tablas!$B$2:$E$13,2,FALSE))","v":0.26},{"$f":"IF(B76=\"\",\"\",VLOOKUP(D76,Tablas!$B$2:$G$13,6,FALSE))","v":0},255091.20000000001,32468.773209600004,1910746.9054503595,1709075.9440521998,1528690.4687407871,1367343.8897502569,1223026.735018119,1093941.6234509116,978480.87965197803,875206.5113166176,782832.29992541822,700207.78168642055,626303.91921862308,560200.28552649659,501073.60064981796,448187.47821987304,400883.25422171107,59854240417.899933,534412.86087410653]
[{"$f":"IF(ISBLANK(InfoPro!A70),\"\",InfoPro!A70)","v":"SC_1782_A2"},{"$f":"IF(ISBLANK(InfoPro!B70),\"\",InfoPro!B70)","v":"Orquídea del Sucre - Toluviejo"},{"$f":"IF(ISBLANK(InfoPro!E70),\"\",InfoPro!E70)","v":112},{"$f":"IF(ISBLANK(InfoPro!F70),\"\",InfoPro!F70)","v":"Solar FV"},{"$f":"IF(ISBLANK(InfoPro!I70),\"\",YEAR(InfoPro!I70)-$G$3)","v":4},{"$f":"IF(B77=\"\",\"\",VLOOKUP(D77,Tablas!$B$2:$E$13,2,FALSE))","v":0.26},{"$f":"IF(B77=\"\",\"\",VLOOKUP(D77,Tablas!$B$2:$G$13,6,FALSE))","v":0},255091.20000000001,32468.773209600004,1910746.9054503595,1709075.9440521998,1528690.4687407871,1367343.8897502569,1223026.735018119,1093941.6234509116,978480.87965197803,875206.5113166176,782832.29992541822,700207.78168642055,626303.91921862308,560200.28552649659,501073.60064981796,448187.47821987304,400883.25422171107,59854240417.899933,534412.86087410653]
[{"$f":"IF(ISBLANK(InfoPro!A71),\"\",InfoPro!A71)","v":"SC_1784_A1"},{"$f":"IF(ISBLANK(InfoPro!B71),\"\",InfoPro!B71)","v":"Pétalo del Sucre - Sierra Flor 9,9 MW"},{"$f":"IF(ISBLANK(InfoPro!E71),\"\",InfoPro!E71)","v":9.9},{"$f":"IF(ISBLANK(InfoPro!F71),\"\",InfoPro!F71)","v":"Solar FV"},{"$f":"IF(ISBLANK(InfoPro!I71),\"\",YEAR(InfoPro!I71)-$G$3)","v":3},{"$f":"IF(B78=\"\",\"\",VLOOKUP(D78,Tablas!$B$2:$E$13,2,FALSE))","v":0.26},{"$f":"IF(B78=\"\",\"\",VLOOKUP(D78,Tablas!$B$2:$G$13,6,FALSE))","v":0},22548.240000000005,2870.0076319200007,188826.15088308635,168896.37824963001,151070.10576889984,135125.31821905175,120863.4331118531,108106.82747035159,96696.625644321655,86490.72061209449,77362.004125308173,69196.783654121798,61893.366416924677,55360.792859503294,49517.703809931394,44291.327200296415,39616.571735506637,5914988426.7267857,597473.57845725107]
[{"$f":"IF(ISBLANK(InfoPro!A72),\"\",InfoPro!A72)","v":"SC_1784_A2"},{"$f":"IF(ISBLANK(InfoPro!B72),\"\",InfoPro!B72)","v":"Pétalo del Sucre - Sierra Flor 9,9 MW"},{"$f":"IF(ISBLANK(InfoPro!E72),\"\",InfoPro!E72)","v":9.9},{"$f":"IF(ISBLANK(InfoPro!F72),\"\",InfoPro!F72)","v":"Solar FV"},{"$f":"IF(ISBLANK(InfoPro!I72),\"\",YEAR(InfoPro!I72)-$G$3)","v":3},{"$f":"IF(B79=\"\",\"\",VLOOKUP(D79,Tablas!$B$2:$E$13,2,FALSE))","v":0.26},{"$f":"IF(B79=\"\",\"\",VLOOKUP(D79,Tablas!$B$2:$G$13,6,FALSE))","v":0},22548.240000000005,2870.0076319200007,{"$f":"IF($I79=\"\",\"\",(1/(1+$C$4)^(J$7+$E79))*$I79*$C$5)","v":188826.15088308635},168896.37824963001,151070.10576889984,135125.31821905175,120863.4331118531,108106.82747035159,96696.625644321655,86490.72061209449,77362.004125308173,69196.783654121798,61893.366416924677,55360.792859503294,49517.703809931394,44291.327200296415,39616.571735506637,5914988426.7267857,597473.57845725107]
[{"$f":"IF(ISBLANK(InfoPro!A73),\"\",InfoPro!A73)","v":"SC_1715_A1"},{"$f":"IF(ISBLANK(InfoPro!B73),\"\",InfoPro!B73)","v":"Andrómeda Solar de 50 MW (entrega 41 MW)"},{"$f":"IF(ISBLANK(InfoPro!E73),\"\",InfoPro!E73)","v":41},{"$f":"IF(ISBLANK(InfoPro!F73),\"\",InfoPro!F73)","v":"Solar FV"},{"$f":"IF(ISBLANK(InfoPro!I73),\"\",YEAR(InfoPro!I73)-$G$3)","v":3},{"$f":"IF(B80=\"\",\"\",VLOOKUP(D80,Tablas!$B$2:$E$13,2,FALSE))","v":0.26},{"$f":"IF(B80=\"\",\"\",VLOOKUP(D80,Tablas!$B$2:$G$13,6,FALSE))","v":0},93381.6,11885.890192800001,782007.29153601406,699469.84931664949,625643.87237625185,559609.90373546677,500545.53106929047,447715.14406913286,400460.77287042298,358193.89344402769,320388.09789269033,286572.53836555482,256326.06293877895,229271.97042824599,205073.3188088068,183428.72880930835,164068.63041977494,24496416716.747295,597473.57845725107]
[{"$f":"IF(ISBLANK(InfoPro!A74),\"\",InfoPro!A74)","v":"SC_1715_A2"},{"$f":"IF(ISBLANK(InfoPro!B74),\"\",InfoPro!B74)","v":"Andrómeda Solar de 50 MW (entrega 41 MW)"},{"$f":"IF(ISBLANK(InfoPro!E74),\"\",InfoPro!E74)","v":41},{"$f":"IF(ISBLANK(InfoPro!F74),\"\",InfoPro!F74)","v":"Solar FV"},{"$f":"IF(ISBLANK(InfoPro!I74),\"\",YEAR(InfoPro!I74)-$G$3)","v":3},{"$f":"IF(B81=\"\",\"\",VLOOKUP(D81,Tablas!$B$2:$E$13,2,FALSE))","v":0.26},{"$f":"IF(B81=\"\",\"\",VLOOKUP(D81,Tablas!$B$2:$G$13,6,FALSE))","v":0},93381.6,11885.890192800001,782007.29153601406,699469.84931664949,625643.87237625185,559609.90373546677,500545.53106929047,447715.14406913286,400460.77287042298,358193.89344402769,320388.09789269033,286572.53836555482,256326.06293877895,229271.97042824599,205073.3188088068,183428.72880930835,164068.63041977494,24496416716.747295,597473.57845725107]
[{"$f":"IF(ISBLANK(InfoPro!A75),\"\",InfoPro!A75)","v":"SC_1809_A1"},{"$f":"IF(ISBLANK(InfoPro!B75),\"\",InfoPro!B75)","v":"DSE COVEÑAS"},{"$f":"IF(ISBLANK(InfoPro!E75),\"\",InfoPro!E75)","v":9.9},{"$f":"IF(ISBLANK(InfoPro!F75),\"\",InfoPro!F75)","v":"Solar FV"},{"$f":"IF(ISBLANK(InfoPro!I75),\"\",YEAR(InfoPro!I75)-$G$3)","v":2},{"$f":"IF(B82=\"\",\"\",VLOOKUP(D82,Tablas!$B$2:$E$13,2,FALSE))","v":0.26},{"$f":"IF(B82=\"\",\"\",VLOOKUP(D82,Tablas!$B$2:$G$13,6,FALSE))","v":0},22548.240000000005,2870.0076319200007,211107.63668729048,188826.15088308635,168896.37824963001,151070.10576889984,135125.31821905175,120863.4331118531,108106.82747035159,96696.625644321655,86490.72061209449,77362.004125308173,69196.783654121798,61893.366416924677,55360.792859503294,49517.703809931394,44291.327200296415,6612957061.0805454,667975.46071520657]
[{"$f":"IF(ISBLANK(InfoPro!A76),\"\",InfoPro!A76)","v":"SC_1809_A2"},{"$f":"IF(ISBLANK(InfoPro!B76),\"\",InfoPro!B76)","v":"DSE COVEÑAS"},{"$f":"IF(ISBLANK(InfoPro!E76),\"\",InfoPro!E76)","v":9.9},{"$f":"IF(ISBLANK(InfoPro!F76),\"\",InfoPro!F76)","v":"Solar FV"},{"$f":"IF(ISBLANK(InfoPro!I76),\"\",YEAR(InfoPro!I76)-$G$3)","v":2},{"$f":"IF(B83=\"\",\"\",VLOOKUP(D83,Tablas!$B$2:$E$13,2,FALSE))","v":0.26},{"$f":"IF(B83=\"\",\"\",VLOOKUP(D83,Tablas!$B$2:$G$13,6,FALSE))","v":0},22548.240000000005,2870.0076319200007,211107.63668729048,188826.15088308635,168896.37824963001,151070.10576889984,135125.31821905175,120863.4331118531,108106.82747035159,96696.625644321655,86490.72061209449,77362.004125308173,69196.783654121798,61893.366416924677,55360.792859503294,49517.703809931394,44291.327200296415,6612957061.0805454,667975.46071520657]
[{"$f":"IF(ISBLANK(InfoPro!A77),\"\",InfoPro!A77)","v":"SC_1838_A1"},{"$f":"IF(ISBLANK(InfoPro!B77),\"\",InfoPro!B77)","v":"Since Solar I 9,9 MW"},{"$f":"IF(ISBLANK(InfoPro!E77),\"\",InfoPro!E77)","v":9.9},{"$f":"IF(ISBLANK(InfoPro!F77),\"\",InfoPro!F77)","v":"Solar FV"},{"$f":"IF(ISBLANK(InfoPro!I77),\"\",YEAR(InfoPro!I77)-$G$3)","v":2},{"$f":"IF(B84=\"\",\"\",VLOOKUP(D84,Tablas!$B$2:$E$13,2,FALSE))","v":0.26},{"$f":"IF(B84=\"\",\"\",VLOOKUP(D84,Tablas!$B$2:$G$13,6,FALSE))","v":0},22548.240000000005,2870.0076319200007,211107.63668729048,188826.15088308635,168896.37824963001,151070.10576889984,135125.31821905175,120863.4331118531,108106.82747035159,96696.625644321655,86490.72061209449,77362.004125308173,69196.783654121798,61893.366416924677,55360.792859503294,49517.703809931394,44291.327200296415,6612957061.0805454,667975.46071520657]
[{"$f":"IF(ISBLANK(InfoPro!A78),\"\",InfoPro!A78)","v":"SC_1838_A2"},{"$f":"IF(ISBLANK(InfoPro!B78),\"\",InfoPro!B78)","v":"Since Solar I 9,9 MW"},{"$f":"IF(ISBLANK(InfoPro!E78),\"\",InfoPro!E78)","v":9.9},{"$f":"IF(ISBLANK(InfoPro!F78),\"\",InfoPro!F78)","v":"Solar FV"},{"$f":"IF(ISBLANK(InfoPro!I78),\"\",YEAR(InfoPro!I78)-$G$3)","v":2},{"$f":"IF(B85=\"\",\"\",VLOOKUP(D85,Tablas!$B$2:$E$13,2,FALSE))","v":0.26},{"$f":"IF(B85=\"\",\"\",VLOOKUP(D85,Tablas!$B$2:$G$13,6,FALSE))","v":0},22548.240000000005,2870.0076319200007,211107.63668729048,188826.15088308635,168896.37824963001,151070.10576889984,135125.31821905175,120863.4331118531,108106.82747035159,96696.625644321655,86490.72061209449,77362.004125308173,69196.783654121798,61893.366416924677,55360.792859503294,49517.703809931394,44291.327200296415,6612957061.0805454,667975.46071520657]
[{"$f":"IF(ISBLANK(InfoPro!A79),\"\",InfoPro!A79)","v":"SC_1853_A1"},{"$f":"IF(ISBLANK(InfoPro!B79),\"\",InfoPro!B79)","v":"Tolú Solar 9,9 MW"},{"$f":"IF(ISBLANK(InfoPro!E79),\"\",InfoPro!E79)","v":9.9},{"$f":"IF(ISBLANK(InfoPro!F79),\"\",InfoPro!F79)","v":"Solar FV"},{"$f":"IF(ISBLANK(InfoPro!I79),\"\",YEAR(InfoPro!I79)-$G$3)","v":2},{"$f":"IF(B86=\"\",\"\",VLOOKUP(D86,Tablas!$B$2:$E$13,2,FALSE))","v":0.26},{"$f":"IF(B86=\"\",\"\",VLOOKUP(D86,Tablas!$B$2:$G$13,6,FALSE))","v":0},22548.240000000005,2870.0076319200007,211107.63668729048,188826.15088308635,168896.37824963001,151070.10576889984,135125.31821905175,120863.4331118531,108106.82747035159,96696.625644321655,86490.72061209449,77362.004125308173,69196.783654121798,61893.366416924677,55360.792859503294,49517.703809931394,44291.327200296415,6612957061.0805454,667975.46071520657]
[{"$f":"IF(ISBLANK(InfoPro!A80),\"\",InfoPro!A80)","v":"SC_1853_A2"},{"$f":"IF(ISBLANK(InfoPro!B80),\"\",InfoPro!B80)","v":"Tolú Solar 9,9 MW"},{"$f":"IF(ISBLANK(InfoPro!E80),\"\",InfoPro!E80)","v":9.9},{"$f":"IF(ISBLANK(InfoPro!F80),\"\",InfoPro!F80)","v":"Solar FV"},{"$f":"IF(ISBLANK(InfoPro!I80),\"\",YEAR(InfoPro!I80)-$G$3)","v":2},{"$f":"IF(B87=\"\",\"\",VLOOKUP(D87,Tablas!$B$2:$E$13,2,FALSE))","v":0.26},{"$f":"IF(B87=\"\",\"\",VLOOKUP(D87,Tablas!$B$2:$G$13,6,FALSE))","v":0},22548.240000000005,2870.0076319200007,211107.63668729048,188826.15088308635,168896.37824963001,151070.10576889984,135125.31821905175,120863.4331118531,108106.82747035159,96696.625644321655,86490.72061209449,77362.004125308173,69196.783654121798,61893.366416924677,55360.792859503294,49517.703809931394,44291.327200296415,6612957061.0805454,667975.46071520657]
[{"$f":"IF(ISBLANK(InfoPro!A81),\"\",InfoPro!A81)","v":"SC_1882_A1"},{"$f":"IF(ISBLANK(InfoPro!B81),\"\",InfoPro!B81)","v":"Proyecto Solar Oviedo"},{"$f":"IF(ISBLANK(InfoPro!E81),\"\",InfoPro!E81)","v":9.9},{"$f":"IF(ISBLANK(InfoPro!F81),\"\",InfoPro!F81)","v":"Solar FV"},{"$f":"IF(ISBLANK(InfoPro!I81),\"\",YEAR(InfoPro!I81)-$G$3)","v":2},{"$f":"IF(B88=\"\",\"\",VLOOKUP(D88,Tablas!$B$2:$E$13,2,FALSE))","v":0.26},{"$f":"IF(B88=\"\",\"\",VLOOKUP(D88,Tablas!$B$2:$G$13,6,FALSE))","v":0},22548.240000000005,2870.0076319200007,211107.63668729048,188826.15088308635,168896.37824963001,151070.10576889984,135125.31821905175,120863.4331118531,108106.82747035159,96696.625644321655,86490.72061209449,77362.004125308173,69196.783654121798,61893.366416924677,55360.792859503294,49517.703809931394,44291.327200296415,6612957061.0805454,667975.46071520657]
[{"$f":"IF(ISBLANK(InfoPro!A82),\"\",InfoPro!A82)","v":"SC_1882_A2"},{"$f":"IF(ISBLANK(InfoPro!B82),\"\",InfoPro!B82)","v":"Proyecto Solar Oviedo"},{"$f":"IF(ISBLANK(InfoPro!E82),\"\",InfoPro!E82)","v":9.9},{"$f":"IF(ISBLANK(InfoPro!F82),\"\",InfoPro!F82)","v":"Solar FV"},{"$f":"IF(ISBLANK(InfoPro!I82),\"\",YEAR(InfoPro!I82)-$G$3)","v":2},{"$f":"IF(B89=\"\",\"\",VLOOKUP(D89,Tablas!$B$2:$E$13,2,FALSE))","v":0.26},{"$f":"IF(B89=\"\",\"\",VLOOKUP(D89,Tablas!$B$2:$G$13,6,FALSE))","v":0},22548.240000000005,2870.0076319200007,{"$f":"IF($I89=\"\",\"\",(1/(1+$C$4)^(J$7+$E89))*$I89*$C$5)","v":211107.63668729048},188826.15088308635,168896.37824963001,151070.10576889984,135125.31821905175,120863.4331118531,108106.82747035159,96696.625644321655,86490.72061209449,77362.004125308173,69196.783654121798,61893.366416924677,55360.792859503294,49517.703809931394,44291.327200296415,6612957061.0805454,667975.46071520657]
[{"$f":"IF(ISBLANK(InfoPro!A83),\"\",InfoPro!A83)","v":"SC_1913_A1"},{"$f":"IF(ISBLANK(InfoPro!B83),\"\",InfoPro!B83)","v":"PS Noe"},{"$f":"IF(ISBLANK(InfoPro!E83),\"\",InfoPro!E83)","v":9.9},{"$f":"IF(ISBLANK(InfoPro!F83),\"\",InfoPro!F83)","v":"Solar FV"},{"$f":"IF(ISBLANK(InfoPro!I83),\"\",YEAR(InfoPro!I83)-$G$3)","v":2},{"$f":"IF(B90=\"\",\"\",VLOOKUP(D90,Tablas!$B$2:$E$13,2,FALSE))","v":0.26},{"$f":"IF(B90=\"\",\"\",VLOOKUP(D90,Tablas!$B$2:$G$13,6,FALSE))","v":0},22548.240000000005,2870.0076319200007,211107.63668729048,188826.15088308635,168896.37824963001,151070.10576889984,135125.31821905175,120863.4331118531,108106.82747035159,96696.625644321655,86490.72061209449,77362.004125308173,69196.783654121798,61893.366416924677,55360.792859503294,49517.703809931394,44291.327200296415,6612957061.0805454,667975.46071520657]
[{"$f":"IF(ISBLANK(InfoPro!A84),\"\",InfoPro!A84)","v":"SC_1913_A2"},{"$f":"IF(ISBLANK(InfoPro!B84),\"\",InfoPro!B84)","v":"PS Noe"},{"$f":"IF(ISBLANK(InfoPro!E84),\"\",InfoPro!E84)","v":9.9},{"$f":"IF(ISBLANK(InfoPro!F84),\"\",InfoPro!F84)","v":"Solar FV"},{"$f":"IF(ISBLANK(InfoPro!I84),\"\",YEAR(InfoPro!I84)-$G$3)","v":2},{"$f":"IF(B91=\"\",\"\",VLOOKUP(D91,Tablas!$B$2:$E$13,2,FALSE))","v":0.26},{"$f":"IF(B91=\"\",\"\",VLOOKUP(D91,Tablas!$B$2:$G$13,6,FALSE))","v":0},22548.240000000005,2870.0076319200007,211107.63668729048,188826.15088308635,168896.37824963001,151070.10576889984,135125.31821905175,120863.4331118531,108106.82747035159,96696.625644321655,86490.72061209449,77362.004125308173,69196.783654121798,61893.366416924677,55360.792859503294,49517.703809931394,44291.327200296415,6612957061.0805454,667975.46071520657]
[{"$f":"IF(ISBLANK(InfoPro!A85),\"\",InfoPro!A85)","v":"SC_1491_A1"},{"$f":"IF(ISBLANK(InfoPro!B85),\"\",InfoPro!B85)","v":"SABANA SOLAR_90MW"},{"$f":"IF(ISBLANK(InfoPro!E85),\"\",InfoPro!E85)","v":90},{"$f":"IF(ISBLANK(InfoPro!F85),\"\",InfoPro!F85)","v":"Solar FV"},{"$f":"IF(ISBLANK(InfoPro!I85),\"\",YEAR(InfoPro!I85)-$G$3)","v":2},{"$f":"IF(B92=\"\",\"\",VLOOKUP(D92,Tablas!$B$2:$E$13,2,FALSE))","v":0.26},{"$f":"IF(B92=\"\",\"\",VLOOKUP(D92,Tablas!$B$2:$G$13,6,FALSE))","v":0},204984,26090.978472000003,1919160.3335208225,1716601.3716644212,1535421.6204511817,1373364.5978990893,1228411.983809561,1098758.4828350279,982789.3406395599,879060.23313019669,786279.27829176816,703290.94659371045,629061.66958292527,562666.96742658794,503279.93508639355,450160.94372664898,402648.42909360369,60117791464.368607,667975.46071520669]
[{"$f":"IF(ISBLANK(InfoPro!A86),\"\",InfoPro!A86)","v":"SC_1491_A2"},{"$f":"IF(ISBLANK(InfoPro!B86),\"\",InfoPro!B86)","v":"SABANA SOLAR_90MW"},{"$f":"IF(ISBLANK(InfoPro!E86),\"\",InfoPro!E86)","v":90},{"$f":"IF(ISBLANK(InfoPro!F86),\"\",InfoPro!F86)","v":"Solar FV"},{"$f":"IF(ISBLANK(InfoPro!I86),\"\",YEAR(InfoPro!I86)-$G$3)","v":2},{"$f":"IF(B93=\"\",\"\",VLOOKUP(D93,Tablas!$B$2:$E$13,2,FALSE))","v":0.26},{"$f":"IF(B93=\"\",\"\",VLOOKUP(D93,Tablas!$B$2:$G$13,6,FALSE))","v":0},204984,26090.978472000003,1919160.3335208225,1716601.3716644212,1535421.6204511817,1373364.5978990893,1228411.983809561,1098758.4828350279,982789.3406395599,879060.23313019669,786279.27829176816,703290.94659371045,629061.66958292527,562666.96742658794,503279.93508639355,450160.94372664898,402648.42909360369,60117791464.368607,667975.46071520669]
[{"$f":"IF(ISBLANK(InfoPro!A87),\"\",InfoPro!A87)","v":"SC_1894_A1"},{"$f":"IF(ISBLANK(InfoPro!B87),\"\",InfoPro!B87)","v":"Aquila Solar"},{"$f":"IF(ISBLANK(InfoPro!E87),\"\",InfoPro!E87)","v":47},{"$f":"IF(ISBLANK(InfoPro!F87),\"\",InfoPro!F87)","v":"Solar FV"},{"$f":"IF(ISBLANK(InfoPro!I87),\"\",YEAR(InfoPro!I87)-$G$3)","v":2},{"$f":"IF(B94=\"\",\"\",VLOOKUP(D94,Tablas!$B$2:$E$13,2,FALSE))","v":0.26},{"$f":"IF(B94=\"\",\"\",VLOOKUP(D94,Tablas!$B$2:$G$13,6,FALSE))","v":0},107047.20000000001,13625.288757600003,1002228.1741719851,896447.38298030884,801831.29068006168,717201.51223619119,641504.0359894376,573796.09659162571,513234.43344510358,459064.78841243609,410612.51199681225,367274.16099893773,328509.98300441657,293837.19410055148,262823.96610067226,235084.04839058343,210271.95741554862,31394846653.614712,667975.46071520669]
[{"$f":"IF(ISBLANK(InfoPro!A88),\"\",InfoPro!A88)","v":"SC_1894_A2"},{"$f":"IF(ISBLANK(InfoPro!B88),\"\",InfoPro!B88)","v":"Aquila Solar"},{"$f":"IF(ISBLANK(InfoPro!E88),\"\",InfoPro!E88)","v":47},{"$f":"IF(ISBLANK(InfoPro!F88),\"\",InfoPro!F88)","v":"Solar FV"},{"$f":"IF(ISBLANK(InfoPro!I88),\"\",YEAR(InfoPro!I88)-$G$3)","v":2},{"$f":"IF(B95=\"\",\"\",VLOOKUP(D95,Tablas!$B$2:$E$13,2,FALSE))","v":0.26},{"$f":"IF(B95=\"\",\"\",VLOOKUP(D95,Tablas!$B$2:$G$13,6,FALSE))","v":0},{"$f":"IF(C95=\"\",\"\",+C95*F95*24*365)","v":107047.20000000001},13625.288757600003,1002228.1741719851,896447.38298030884,801831.29068006168,717201.51223619119,641504.0359894376,573796.09659162571,513234.43344510358,459064.78841243609,410612.51199681225,367274.16099893773,328509.98300441657,293837.19410055148,262823.96610067226,235084.04839058343,210271.95741554862,31394846653.614712,667975.46071520669]
[{"$f":"IF(ISBLANK(InfoPro!A89),\"\",InfoPro!A89)","v":"SC_1887_A1"},{"$f":"IF(ISBLANK(InfoPro!B89),\"\",InfoPro!B89)","v":"Boston Solar"},{"$f":"IF(ISBLANK(InfoPro!E89),\"\",InfoPro!E89)","v":100},{"$f":"IF(ISBLANK(InfoPro!F89),\"\",InfoPro!F89)","v":"Solar FV"},{"$f":"IF(ISBLANK(InfoPro!I89),\"\",YEAR(InfoPro!I89)-$G$3)","v":3},{"$f":"IF(B96=\"\",\"\",VLOOKUP(D96,Tablas!$B$2:$E$13,2,FALSE))","v":0.26},{"$f":"IF(B96=\"\",\"\",VLOOKUP(D96,Tablas!$B$2:$G$13,6,FALSE))","v":0},227760,28989.97608,1907334.8574049121,1706024.0227235351,1525960.6643323214,1364902.2042328457,1220842.7587055864,1091988.1562661775,976733.59236688516,873643.64254640893,781434.38510412257,698957.41064769472,625185.51936287549,559199.92787377059,500178.82636294333,447387.14343733742,400167.39126774372,59747357845.72509,597473.57845725096]
[{"$f":"IF(ISBLANK(InfoPro!A90),\"\",InfoPro!A90)","v":"SC_1887_A2"},{"$f":"IF(ISBLANK(InfoPro!B90),\"\",InfoPro!B90)","v":"Boston Solar"},{"$f":"IF(ISBLANK(InfoPro!E90),\"\",InfoPro!E90)","v":100},{"$f":"IF(ISBLANK(InfoPro!F90),\"\",InfoPro!F90)","v":"Solar FV"},{"$f":"IF(ISBLANK(InfoPro!I90),\"\",YEAR(InfoPro!I90)-$G$3)","v":3},{"$f":"IF(B97=\"\",\"\",VLOOKUP(D97,Tablas!$B$2:$E$13,2,FALSE))","v":0.26},{"$f":"IF(B97=\"\",\"\",VLOOKUP(D97,Tablas!$B$2:$G$13,6,FALSE))","v":0},227760,28989.97608,1907334.8574049121,1706024.0227235351,1525960.6643323214,1364902.2042328457,1220842.7587055864,1091988.1562661775,976733.59236688516,873643.64254640893,781434.38510412257,698957.41064769472,625185.51936287549,559199.92787377059,500178.82636294333,447387.14343733742,400167.39126774372,59747357845.72509,597473.57845725096]
[{"$f":"IF(ISBLANK(InfoPro!A91),\"\",InfoPro!A91)","v":"SC_2104_A1"},{"$f":"IF(ISBLANK(InfoPro!B91),\"\",InfoPro!B91)","v":"El Dorado - 300 MW"},{"$f":"IF(ISBLANK(InfoPro!E91),\"\",InfoPro!E91)","v":300},{"$f":"IF(ISBLANK(InfoPro!F91),\"\",InfoPro!F91)","v":"Solar FV"},{"$f":"IF(ISBLANK(InfoPro!I91),\"\",YEAR(InfoPro!I91)-$G$3)","v":3},{"$f":"IF(B98=\"\",\"\",VLOOKUP(D98,Tablas!$B$2:$E$13,2,FALSE))","v":0.26},{"$f":"IF(B98=\"\",\"\",VLOOKUP(D98,Tablas!$B$2:$G$13,6,FALSE))","v":0},683280,86969.928240000008,5722004.5722147366,5118072.0681706052,4577881.9929969646,4094706.6126985373,3662528.27611676,3275964.4687985331,2930200.7771006557,2620930.9276392269,2344303.1553123682,2096872.2319430842,1875556.5580886265,1677599.7836213119,1500536.4790888301,1342161.4303120123,1200502.1738032312,179242073537.17532,597473.57845725107]
[{"$f":"IF(ISBLANK(InfoPro!A92),\"\",InfoPro!A92)","v":"SC_2104_A2"},{"$f":"IF(ISBLANK(InfoPro!B92),\"\",InfoPro!B92)","v":"El Dorado - 300 MW"},{"$f":"IF(ISBLANK(InfoPro!E92),\"\",InfoPro!E92)","v":300},{"$f":"IF(ISBLANK(InfoPro!F92),\"\",InfoPro!F92)","v":"Solar FV"},{"$f":"IF(ISBLANK(InfoPro!I92),\"\",YEAR(InfoPro!I92)-$G$3)","v":3},{"$f":"IF(B99=\"\",\"\",VLOOKUP(D99,Tablas!$B$2:$E$13,2,FALSE))","v":0.26},{"$f":"IF(B99=\"\",\"\",VLOOKUP(D99,Tablas!$B$2:$G$13,6,FALSE))","v":0},683280,86969.928240000008,{"$f":"IF($I99=\"\",\"\",(1/(1+$C$4)^(J$7+$E99))*$I99*$C$5)","v":5722004.5722147366},5118072.0681706052,4577881.9929969646,4094706.6126985373,3662528.27611676,3275964.4687985331,2930200.7771006557,2620930.9276392269,2344303.1553123682,2096872.2319430842,1875556.5580886265,1677599.7836213119,1500536.4790888301,1342161.4303120123,1200502.1738032312,179242073537.17532,597473.57845725107]
[{"$f":"IF(ISBLANK(InfoPro!A93),\"\",InfoPro!A93)","v":"SC_2028_A1"},{"$f":"IF(ISBLANK(InfoPro!B93),\"\",InfoPro!B93)","v":"Parque Solar Fandango"},{"$f":"IF(ISBLANK(InfoPro!E93),\"\",InfoPro!E93)","v":19.899999999999999},{"$f":"IF(ISBLANK(InfoPro!F93),\"\",InfoPro!F93)","v":"Solar FV"},{"$f":"IF(ISBLANK(InfoPro!I93),\"\",YEAR(InfoPro!I93)-$G$3)","v":2},{"$f":"IF(B100=\"\",\"\",VLOOKUP(D100,Tablas!$B$2:$E$13,2,FALSE))","v":0.26},{"$f":"IF(B100=\"\",\"\",VLOOKUP(D100,Tablas!$B$2:$G$13,6,FALSE))","v":0},45324.24,5769.0052399200003,424347.67374515958,379559.63662357756,339498.78052198351,303666.17220213194,271615.53864233627,242947.70898241174,217305.64309696935,194369.98488101017,173855.08486673539,155505.44263572042,139092.52471889125,124411.91835321223,111280.78564688035,99535.58644622573,89030.041544030144,13292711668.232615,667975.46071520681]
[{"$f":"IF(ISBLANK(InfoPro!A94),\"\",InfoPro!A94)","v":"SC_2028_A2"},{"$f":"IF(ISBLANK(InfoPro!B94),\"\",InfoPro!B94)","v":"Parque Solar Fandango"},{"$f":"IF(ISBLANK(InfoPro!E94),\"\",InfoPro!E94)","v":19.899999999999999},{"$f":"IF(ISBLANK(InfoPro!F94),\"\",InfoPro!F94)","v":"Solar FV"},{"$f":"IF(ISBLANK(InfoPro!I94),\"\",YEAR(InfoPro!I94)-$G$3)","v":2},{"$f":"IF(B101=\"\",\"\",VLOOKUP(D101,Tablas!$B$2:$E$13,2,FALSE))","v":0.26},{"$f":"IF(B101=\"\",\"\",VLOOKUP(D101,Tablas!$B$2:$G$13,6,FALSE))","v":0},45324.24,5769.0052399200003,424347.67374515958,379559.63662357756,339498.78052198351,303666.17220213194,271615.53864233627,242947.70898241174,217305.64309696935,194369.98488101017,173855.08486673539,155505.44263572042,139092.52471889125,124411.91835321223,111280.78564688035,99535.58644622573,89030.041544030144,13292711668.232615,667975.46071520681]
[{"$f":"IF(ISBLANK(InfoPro!A95),\"\",InfoPro!A95)","v":"SC_2015_A1"},{"$f":"IF(ISBLANK(InfoPro!B95),\"\",InfoPro!B95)","v":"Parque Solar El Bongo"},{"$f":"IF(ISBLANK(InfoPro!E95),\"\",InfoPro!E95)","v":19.899999999999999},{"$f":"IF(ISBLANK(InfoPro!F95),\"\",InfoPro!F95)","v":"Solar FV"},{"$f":"IF(ISBLANK(InfoPro!I95),\"\",YEAR(InfoPro!I95)-$G$3)","v":2},{"$f":"IF(B102=\"\",\"\",VLOOKUP(D102,Tablas!$B$2:$E$13,2,FALSE))","v":0.26},{"$f":"IF(B102=\"\",\"\",VLOOKUP(D102,Tablas!$B$2:$G$13,6,FALSE))","v":0},45324.24,5769.0052399200003,424347.67374515958,379559.63662357756,339498.78052198351,303666.17220213194,271615.53864233627,242947.70898241174,217305.64309696935,194369.98488101017,173855.08486673539,155505.44263572042,139092.52471889125,124411.91835321223,111280.78564688035,99535.58644622573,89030.041544030144,13292711668.232615,667975.46071520681]
[{"$f":"IF(ISBLANK(InfoPro!A96),\"\",InfoPro!A96)","v":"SC_2015_A2"},{"$f":"IF(ISBLANK(InfoPro!B96),\"\",InfoPro!B96)","v":"Parque Solar El Bongo"},{"$f":"IF(ISBLANK(InfoPro!E96),\"\",InfoPro!E96)","v":19.899999999999999},{"$f":"IF(ISBLANK(InfoPro!F96),\"\",InfoPro!F96)","v":"Solar FV"},{"$f":"IF(ISBLANK(InfoPro!I96),\"\",YEAR(InfoPro!I96)-$G$3)","v":2},{"$f":"IF(B103=\"\",\"\",VLOOKUP(D103,Tablas!$B$2:$E$13,2,FALSE))","v":0.26},{"$f":"IF(B103=\"\",\"\",VLOOKUP(D103,Tablas!$B$2:$G$13,6,FALSE))","v":0},45324.24,5769.0052399200003,424347.67374515958,379559.63662357756,339498.78052198351,303666.17220213194,271615.53864233627,242947.70898241174,217305.64309696935,194369.98488101017,173855.08486673539,155505.44263572042,139092.52471889125,124411.91835321223,111280.78564688035,99535.58644622573,89030.041544030144,13292711668.232615,667975.46071520681]
[{"$f":"IF(ISBLANK(InfoPro!A97),\"\",InfoPro!A97)","v":"SC_2049_A1"},{"$f":"IF(ISBLANK(InfoPro!B97),\"\",InfoPro!B97)","v":"Parque Solar Sinú"},{"$f":"IF(ISBLANK(InfoPro!E97),\"\",InfoPro!E97)","v":9.9},{"$f":"IF(ISBLANK(InfoPro!F97),\"\",InfoPro!F97)","v":"Solar FV"},{"$f":"IF(ISBLANK(InfoPro!I97),\"\",YEAR(InfoPro!I97)-$G$3)","v":2},{"$f":"IF(B104=\"\",\"\",VLOOKUP(D104,Tablas!$B$2:$E$13,2,FALSE))","v":0.26},{"$f":"IF(B104=\"\",\"\",VLOOKUP(D104,Tablas!$B$2:$G$13,6,FALSE))","v":0},22548.240000000005,2870.0076319200007,211107.63668729048,188826.15088308635,168896.37824963001,151070.10576889984,135125.31821905175,120863.4331118531,108106.82747035159,96696.625644321655,86490.72061209449,77362.004125308173,69196.783654121798,61893.366416924677,55360.792859503294,49517.703809931394,44291.327200296415,6612957061.0805454,667975.46071520657]
[{"$f":"IF(ISBLANK(InfoPro!A98),\"\",InfoPro!A98)","v":"SC_2049_A2"},{"$f":"IF(ISBLANK(InfoPro!B98),\"\",InfoPro!B98)","v":"Parque Solar Sinú"},{"$f":"IF(ISBLANK(InfoPro!E98),\"\",InfoPro!E98)","v":9.9},{"$f":"IF(ISBLANK(InfoPro!F98),\"\",InfoPro!F98)","v":"Solar FV"},{"$f":"IF(ISBLANK(InfoPro!I98),\"\",YEAR(InfoPro!I98)-$G$3)","v":2},{"$f":"IF(B105=\"\",\"\",VLOOKUP(D105,Tablas!$B$2:$E$13,2,FALSE))","v":0.26},{"$f":"IF(B105=\"\",\"\",VLOOKUP(D105,Tablas!$B$2:$G$13,6,FALSE))","v":0},22548.240000000005,{"$f":"IF(H105=\"\",\"\",+H105*($C$3-G105))","v":2870.0076319200007},211107.63668729048,188826.15088308635,168896.37824963001,151070.10576889984,135125.31821905175,120863.4331118531,108106.82747035159,96696.625644321655,86490.72061209449,77362.004125308173,69196.783654121798,61893.366416924677,55360.792859503294,49517.703809931394,44291.327200296415,6612957061.0805454,667975.46071520657]
[{"$f":"IF(ISBLANK(InfoPro!A99),\"\",InfoPro!A99)","v":"SC_2042_A1"},{"$f":"IF(ISBLANK(InfoPro!B99),\"\",InfoPro!B99)","v":"Parque Solar La Uvita"},{"$f":"IF(ISBLANK(InfoPro!E99),\"\",InfoPro!E99)","v":19.899999999999999},{"$f":"IF(ISBLANK(InfoPro!F99),\"\",InfoPro!F99)","v":"Solar FV"},{"$f":"IF(ISBLANK(InfoPro!I99),\"\",YEAR(InfoPro!I99)-$G$3)","v":2},{"$f":"IF(B106=\"\",\"\",VLOOKUP(D106,Tablas!$B$2:$E$13,2,FALSE))","v":0.26},{"$f":"IF(B106=\"\",\"\",VLOOKUP(D106,Tablas!$B$2:$G$13,6,FALSE))","v":0},45324.24,5769.0052399200003,424347.67374515958,379559.63662357756,339498.78052198351,303666.17220213194,271615.53864233627,242947.70898241174,217305.64309696935,194369.98488101017,173855.08486673539,155505.44263572042,139092.52471889125,124411.91835321223,111280.78564688035,99535.58644622573,89030.041544030144,13292711668.232615,667975.46071520681]
[{"$f":"IF(ISBLANK(InfoPro!A100),\"\",InfoPro!A100)","v":"SC_2042_A2"},{"$f":"IF(ISBLANK(InfoPro!B100),\"\",InfoPro!B100)","v":"Parque Solar La Uvita"},{"$f":"IF(ISBLANK(InfoPro!E100),\"\",InfoPro!E100)","v":19.899999999999999},{"$f":"IF(ISBLANK(InfoPro!F100),\"\",InfoPro!F100)","v":"Solar FV"},{"$f":"IF(ISBLANK(InfoPro!I100),\"\",YEAR(InfoPro!I100)-$G$3)","v":2},{"$f":"IF(B107=\"\",\"\",VLOOKUP(D107,Tablas!$B$2:$E$13,2,FALSE))","v":0.26},{"$f":"IF(B107=\"\",\"\",VLOOKUP(D107,Tablas!$B$2:$G$13,6,FALSE))","v":0},45324.24,5769.0052399200003,424347.67374515958,379559.63662357756,339498.78052198351,303666.17220213194,271615.53864233627,242947.70898241174,217305.64309696935,194369.98488101017,173855.08486673539,155505.44263572042,139092.52471889125,124411.91835321223,111280.78564688035,99535.58644622573,89030.041544030144,13292711668.232615,667975.46071520681]
[{"$f":"IF(ISBLANK(InfoPro!A101),\"\",InfoPro!A101)","v":"SC_2111_A1"},{"$f":"IF(ISBLANK(InfoPro!B101),\"\",InfoPro!B101)","v":"PROYECTO QUIMARÍ SOLAR_90MW"},{"$f":"IF(ISBLANK(InfoPro!E101),\"\",InfoPro!E101)","v":90},{"$f":"IF(ISBLANK(InfoPro!F101),\"\",InfoPro!F101)","v":"Solar FV"},{"$f":"IF(ISBLANK(InfoPro!I101),\"\",YEAR(InfoPro!I101)-$G$3)","v":2},{"$f":"IF(B108=\"\",\"\",VLOOKUP(D108,Tablas!$B$2:$E$13,2,FALSE))","v":0.26},{"$f":"IF(B108=\"\",\"\",VLOOKUP(D108,Tablas!$B$2:$G$13,6,FALSE))","v":0},204984,26090.978472000003,1919160.3335208225,1716601.3716644212,1535421.6204511817,1373364.5978990893,1228411.983809561,1098758.4828350279,982789.3406395599,879060.23313019669,786279.27829176816,703290.94659371045,629061.66958292527,562666.96742658794,503279.93508639355,450160.94372664898,402648.42909360369,60117791464.368607,667975.46071520669]
[{"$f":"IF(ISBLANK(InfoPro!A102),\"\",InfoPro!A102)","v":"SC_2111_A2"},{"$f":"IF(ISBLANK(InfoPro!B102),\"\",InfoPro!B102)","v":"PROYECTO QUIMARÍ SOLAR_90MW"},{"$f":"IF(ISBLANK(InfoPro!E102),\"\",InfoPro!E102)","v":90},{"$f":"IF(ISBLANK(InfoPro!F102),\"\",InfoPro!F102)","v":"Solar FV"},{"$f":"IF(ISBLANK(InfoPro!I102),\"\",YEAR(InfoPro!I102)-$G$3)","v":2},{"$f":"IF(B109=\"\",\"\",VLOOKUP(D109,Tablas!$B$2:$E$13,2,FALSE))","v":0.26},{"$f":"IF(B109=\"\",\"\",VLOOKUP(D109,Tablas!$B$2:$G$13,6,FALSE))","v":0},{"$f":"IF(C109=\"\",\"\",+C109*F109*24*365)","v":204984},{"$f":"IF(H109=\"\",\"\",+H109*($C$3-G109))","v":26090.978472000003},1919160.3335208225,1716601.3716644212,1535421.6204511817,1373364.5978990893,1228411.983809561,1098758.4828350279,982789.3406395599,879060.23313019669,786279.27829176816,703290.94659371045,629061.66958292527,562666.96742658794,503279.93508639355,450160.94372664898,402648.42909360369,{"$f":"IF(X109=\"\",\"\",SUM(J109:X109)*$C$6)","v":60117791464.368607},{"$f":"IF(C109=0,0,IF(Y109=\"\",\"\",Y109/(C109*1000)))","v":667975.46071520669}]
[{"$f":"IF(ISBLANK(InfoPro!A103),\"\",InfoPro!A103)","v":"SC_2173_A1"},{"$f":"IF(ISBLANK(InfoPro!B103),\"\",InfoPro!B103)","v":"Nueva Montería Solar I 9,9 MW"},{"$f":"IF(ISBLANK(InfoPro!E103),\"\",InfoPro!E103)","v":9.9},{"$f":"IF(ISBLANK(InfoPro!F103),\"\",InfoPro!F103)","v":"Solar FV"},{"$f":"IF(ISBLANK(InfoPro!I103),\"\",YEAR(InfoPro!I103)-$G$3)","v":2},{"$f":"IF(B110=\"\",\"\",VLOOKUP(D110,Tablas!$B$2:$E$13,2,FALSE))","v":0.26},{"$f":"IF(B110=\"\",\"\",VLOOKUP(D110,Tablas!$B$2:$G$13,6,FALSE))","v":0},22548.240000000005,2870.0076319200007,211107.63668729048,188826.15088308635,168896.37824963001,151070.10576889984,135125.31821905175,120863.4331118531,108106.82747035159,96696.625644321655,86490.72061209449,77362.004125308173,69196.783654121798,61893.366416924677,55360.792859503294,49517.703809931394,44291.327200296415,6612957061.0805454,667975.46071520657]
[{"$f":"IF(ISBLANK(InfoPro!A104),\"\",InfoPro!A104)","v":"SC_2173_A2"},{"$f":"IF(ISBLANK(InfoPro!B104),\"\",InfoPro!B104)","v":"Nueva Montería Solar I 9,9 MW"},{"$f":"IF(ISBLANK(InfoPro!E104),\"\",InfoPro!E104)","v":9.9},{"$f":"IF(ISBLANK(InfoPro!F104),\"\",InfoPro!F104)","v":"Solar FV"},{"$f":"IF(ISBLANK(InfoPro!I104),\"\",YEAR(InfoPro!I104)-$G$3)","v":2},{"$f":"IF(B111=\"\",\"\",VLOOKUP(D111,Tablas!$B$2:$E$13,2,FALSE))","v":0.26},{"$f":"IF(B111=\"\",\"\",VLOOKUP(D111,Tablas!$B$2:$G$13,6,FALSE))","v":0},{"$f":"IF(C111=\"\",\"\",+C111*F111*24*365)","v":22548.240000000005},{"$f":"IF(H111=\"\",\"\",+H111*($C$3-G111))","v":2870.0076319200007},211107.63668729048,188826.15088308635,168896.37824963001,151070.10576889984,135125.31821905175,120863.4331118531,108106.82747035159,96696.625644321655,86490.72061209449,77362.004125308173,69196.783654121798,61893.366416924677,55360.792859503294,49517.703809931394,44291.327200296415,{"$f":"IF(X111=\"\",\"\",SUM(J111:X111)*$C$6)","v":6612957061.0805454},{"$f":"IF(C111=0,0,IF(Y111=\"\",\"\",Y111/(C111*1000)))","v":667975.46071520657}]
[{"$f":"IF(ISBLANK(InfoPro!A105),\"\",InfoPro!A105)","v":"SC_2174_A1"},{"$f":"IF(ISBLANK(InfoPro!B105),\"\",InfoPro!B105)","v":"Nueva Montería Solar I 9,9 MW"},{"$f":"IF(ISBLANK(InfoPro!E105),\"\",InfoPro!E105)","v":9.9},{"$f":"IF(ISBLANK(InfoPro!F105),\"\",InfoPro!F105)","v":"Solar FV"},{"$f":"IF(ISBLANK(InfoPro!I105),\"\",YEAR(InfoPro!I105)-$G$3)","v":2},{"$f":"IF(B112=\"\",\"\",VLOOKUP(D112,Tablas!$B$2:$E$13,2,FALSE))","v":0.26},{"$f":"IF(B112=\"\",\"\",VLOOKUP(D112,Tablas!$B$2:$G$13,6,FALSE))","v":0},22548.240000000005,2870.0076319200007,211107.63668729048,188826.15088308635,168896.37824963001,151070.10576889984,135125.31821905175,120863.4331118531,108106.82747035159,96696.625644321655,86490.72061209449,77362.004125308173,69196.783654121798,61893.366416924677,55360.792859503294,49517.703809931394,44291.327200296415,6612957061.0805454,667975.46071520657]
[{"$f":"IF(ISBLANK(InfoPro!A106),\"\",InfoPro!A106)","v":"SC_2174_A2"},{"$f":"IF(ISBLANK(InfoPro!B106),\"\",InfoPro!B106)","v":"Nueva Montería Solar I 9,9 MW"},{"$f":"IF(ISBLANK(InfoPro!E106),\"\",InfoPro!E106)","v":9.9},{"$f":"IF(ISBLANK(InfoPro!F106),\"\",InfoPro!F106)","v":"Solar FV"},{"$f":"IF(ISBLANK(InfoPro!I106),\"\",YEAR(InfoPro!I106)-$G$3)","v":2},{"$f":"IF(B113=\"\",\"\",VLOOKUP(D113,Tablas!$B$2:$E$13,2,FALSE))","v":0.26},{"$f":"IF(B113=\"\",\"\",VLOOKUP(D113,Tablas!$B$2:$G$13,6,FALSE))","v":0},22548.240000000005,2870.0076319200007,211107.63668729048,188826.15088308635,168896.37824963001,151070.10576889984,135125.31821905175,120863.4331118531,108106.82747035159,96696.625644321655,86490.72061209449,77362.004125308173,69196.783654121798,61893.366416924677,55360.792859503294,49517.703809931394,44291.327200296415,6612957061.0805454,667975.46071520657]
[{"$f":"IF(ISBLANK(InfoPro!A107),\"\",InfoPro!A107)","v":"SC_2016_A1"},{"$f":"IF(ISBLANK(InfoPro!B107),\"\",InfoPro!B107)","v":"Hidalgo Solar 80 MW"},{"$f":"IF(ISBLANK(InfoPro!E107),\"\",InfoPro!E107)","v":80},{"$f":"IF(ISBLANK(InfoPro!F107),\"\",InfoPro!F107)","v":"Solar FV"},{"$f":"IF(ISBLANK(InfoPro!I107),\"\",YEAR(InfoPro!I107)-$G$3)","v":2},{"$f":"IF(B114=\"\",\"\",VLOOKUP(D114,Tablas!$B$2:$E$13,2,FALSE))","v":0.26},{"$f":"IF(B114=\"\",\"\",VLOOKUP(D114,Tablas!$B$2:$G$13,6,FALSE))","v":0},182208.00000000003,23191.980864000005,1705920.2964629533,1525867.8859239302,1364819.2181788282,1220768.5314658573,1091921.7633862768,976674.2069644694,873590.52501294226,781386.87389350834,698914.91403712728,625147.50808329822,559165.92851815594,500148.41549030045,447359.94229901652,400143.06109035475,357909.71474987001,53438036857.216545,667975.46071520681]
[{"$f":"IF(ISBLANK(InfoPro!A108),\"\",InfoPro!A108)","v":"SC_2016_A2"},{"$f":"IF(ISBLANK(InfoPro!B108),\"\",InfoPro!B108)","v":"Hidalgo Solar 80 MW"},{"$f":"IF(ISBLANK(InfoPro!E108),\"\",InfoPro!E108)","v":80},{"$f":"IF(ISBLANK(InfoPro!F108),\"\",InfoPro!F108)","v":"Solar FV"},{"$f":"IF(ISBLANK(InfoPro!I108),\"\",YEAR(InfoPro!I108)-$G$3)","v":2},{"$f":"IF(B115=\"\",\"\",VLOOKUP(D115,Tablas!$B$2:$E$13,2,FALSE))","v":0.26},{"$f":"IF(B115=\"\",\"\",VLOOKUP(D115,Tablas!$B$2:$G$13,6,FALSE))","v":0},182208.00000000003,23191.980864000005,{"$f":"IF($I115=\"\",\"\",(1/(1+$C$4)^(J$7+$E115))*$I115*$C$5)","v":1705920.2964629533},1525867.8859239302,1364819.2181788282,1220768.5314658573,1091921.7633862768,976674.2069644694,873590.52501294226,781386.87389350834,698914.91403712728,625147.50808329822,559165.92851815594,500148.41549030045,447359.94229901652,400143.06109035475,357909.71474987001,53438036857.216545,667975.46071520681]
[{"$f":"IF(ISBLANK(InfoPro!A109),\"\",InfoPro!A109)","v":"SC_2016_A3"},{"$f":"IF(ISBLANK(InfoPro!B109),\"\",InfoPro!B109)","v":"Hidalgo Solar 80 MW"},{"$f":"IF(ISBLANK(InfoPro!E109),\"\",InfoPro!E109)","v":80},{"$f":"IF(ISBLANK(InfoPro!F109),\"\",InfoPro!F109)","v":"Solar FV"},{"$f":"IF(ISBLANK(InfoPro!I109),\"\",YEAR(InfoPro!I109)-$G$3)","v":2},{"$f":"IF(B116=\"\",\"\",VLOOKUP(D116,Tablas!$B$2:$E$13,2,FALSE))","v":0.26},{"$f":"IF(B116=\"\",\"\",VLOOKUP(D116,Tablas!$B$2:$G$13,6,FALSE))","v":0},182208.00000000003,23191.980864000005,1705920.2964629533,1525867.8859239302,1364819.2181788282,1220768.5314658573,1091921.7633862768,976674.2069644694,873590.52501294226,781386.87389350834,698914.91403712728,625147.50808329822,559165.92851815594,500148.41549030045,447359.94229901652,400143.06109035475,357909.71474987001,53438036857.216545,667975.46071520681]
[{"$f":"IF(ISBLANK(InfoPro!A110),\"\",InfoPro!A110)","v":"SC_2135_A1"},{"$f":"IF(ISBLANK(InfoPro!B110),\"\",InfoPro!B110)","v":"DSE SIERRAFLOR"},{"$f":"IF(ISBLANK(InfoPro!E110),\"\",InfoPro!E110)","v":99.9},{"$f":"IF(ISBLANK(InfoPro!F110),\"\",InfoPro!F110)","v":"Solar FV"},{"$f":"IF(ISBLANK(InfoPro!I110),\"\",YEAR(InfoPro!I110)-$G$3)","v":3},{"$f":"IF(B117=\"\",\"\",VLOOKUP(D117,Tablas!$B$2:$E$13,2,FALSE))","v":0.26},{"$f":"IF(B117=\"\",\"\",VLOOKUP(D117,Tablas!$B$2:$G$13,6,FALSE))","v":0},227532.24000000002,28960.986103920004,1905427.5225475074,1704317.9987008118,1524434.7036679892,1363537.3020286129,1219621.9159468811,1090896.1681099115,975756.85877451848,872769.99890386255,780652.9507190187,698258.45323704707,624560.33384351269,558640.72794589691,499678.64753658051,446939.75629390014,399767.223876476,59687610487.879402,597473.57845725131]
[{"$f":"IF(ISBLANK(InfoPro!A111),\"\",InfoPro!A111)","v":"SC_2135_A2"},{"$f":"IF(ISBLANK(InfoPro!B111),\"\",InfoPro!B111)","v":"DSE SIERRAFLOR"},{"$f":"IF(ISBLANK(InfoPro!E111),\"\",InfoPro!E111)","v":99.9},{"$f":"IF(ISBLANK(InfoPro!F111),\"\",InfoPro!F111)","v":"Solar FV"},{"$f":"IF(ISBLANK(InfoPro!I111),\"\",YEAR(InfoPro!I111)-$G$3)","v":3},{"$f":"IF(B118=\"\",\"\",VLOOKUP(D118,Tablas!$B$2:$E$13,2,FALSE))","v":0.26},{"$f":"IF(B118=\"\",\"\",VLOOKUP(D118,Tablas!$B$2:$G$13,6,FALSE))","v":0},227532.24000000002,28960.986103920004,1905427.5225475074,1704317.9987008118,1524434.7036679892,1363537.3020286129,1219621.9159468811,1090896.1681099115,975756.85877451848,872769.99890386255,780652.9507190187,698258.45323704707,624560.33384351269,558640.72794589691,499678.64753658051,446939.75629390014,399767.223876476,59687610487.879402,597473.57845725131]
[{"$f":"IF(ISBLANK(InfoPro!A112),\"\",InfoPro!A112)","v":"SC_1821_A1"},{"$f":"IF(ISBLANK(InfoPro!B112),\"\",InfoPro!B112)","v":"Balay Solar"},{"$f":"IF(ISBLANK(InfoPro!E112),\"\",InfoPro!E112)","v":70},{"$f":"IF(ISBLANK(InfoPro!F112),\"\",InfoPro!F112)","v":"Solar FV"},{"$f":"IF(ISBLANK(InfoPro!I112),\"\",YEAR(InfoPro!I112)-$G$3)","v":4},{"$f":"IF(B119=\"\",\"\",VLOOKUP(D119,Tablas!$B$2:$E$13,2,FALSE))","v":0.26},{"$f":"IF(B119=\"\",\"\",VLOOKUP(D119,Tablas!$B$2:$G$13,6,FALSE))","v":0},159431.99999999997,20292.983255999996,1194216.8159064741,1068172.4650326248,955431.54296299163,854589.93109391036,764391.70938632416,683713.51465681952,611550.54978248605,547004.06957288575,489270.18745338614,437629.86355401273,391439.94951163937,350125.17845406022,313171.0004061361,280117.1738874205,250552.03388856933,37408900261.187447,534412.86087410641]
[{"$f":"IF(ISBLANK(InfoPro!A113),\"\",InfoPro!A113)","v":"SC_1821_A2"},{"$f":"IF(ISBLANK(InfoPro!B113),\"\",InfoPro!B113)","v":"Balay Solar"},{"$f":"IF(ISBLANK(InfoPro!E113),\"\",InfoPro!E113)","v":70},{"$f":"IF(ISBLANK(InfoPro!F113),\"\",InfoPro!F113)","v":"Solar FV"},{"$f":"IF(ISBLANK(InfoPro!I113),\"\",YEAR(InfoPro!I113)-$G$3)","v":4},{"$f":"IF(B120=\"\",\"\",VLOOKUP(D120,Tablas!$B$2:$E$13,2,FALSE))","v":0.26},{"$f":"IF(B120=\"\",\"\",VLOOKUP(D120,Tablas!$B$2:$G$13,6,FALSE))","v":0},159431.99999999997,20292.983255999996,1194216.8159064741,1068172.4650326248,955431.54296299163,854589.93109391036,764391.70938632416,683713.51465681952,611550.54978248605,547004.06957288575,489270.18745338614,437629.86355401273,391439.94951163937,350125.17845406022,313171.0004061361,280117.1738874205,250552.03388856933,37408900261.187447,534412.86087410641]
[{"$f":"IF(ISBLANK(InfoPro!A114),\"\",InfoPro!A114)","v":"SC_1859_A1"},{"$f":"IF(ISBLANK(InfoPro!B114),\"\",InfoPro!B114)","v":"PV Altamira_99MW"},{"$f":"IF(ISBLANK(InfoPro!E114),\"\",InfoPro!E114)","v":99},{"$f":"IF(ISBLANK(InfoPro!F114),\"\",InfoPro!F114)","v":"Solar FV"},{"$f":"IF(ISBLANK(InfoPro!I114),\"\",YEAR(InfoPro!I114)-$G$3)","v":4},{"$f":"IF(B121=\"\",\"\",VLOOKUP(D121,Tablas!$B$2:$E$13,2,FALSE))","v":0.26},{"$f":"IF(B121=\"\",\"\",VLOOKUP(D121,Tablas!$B$2:$G$13,6,FALSE))","v":0},225482.4,28700.076319200001,1688963.7824962998,1510701.0576889981,1351253.1821905172,1208634.3311185306,1081068.2747035159,966966.25644321635,864907.20612094481,773620.04125308141,691967.83654121775,618933.66416924668,553607.92859503289,495177.03809931385,442913.27200296405,396165.71735506633,354352.16221383389,52906873226.536537,534412.86087410641]
[{"$f":"IF(ISBLANK(InfoPro!A115),\"\",InfoPro!A115)","v":"SC_1859_A2"},{"$f":"IF(ISBLANK(InfoPro!B115),\"\",InfoPro!B115)","v":"PV Altamira_99MW"},{"$f":"IF(ISBLANK(InfoPro!E115),\"\",InfoPro!E115)","v":99},{"$f":"IF(ISBLANK(InfoPro!F115),\"\",InfoPro!F115)","v":"Solar FV"},{"$f":"IF(ISBLANK(InfoPro!I115),\"\",YEAR(InfoPro!I115)-$G$3)","v":4},{"$f":"IF(B122=\"\",\"\",VLOOKUP(D122,Tablas!$B$2:$E$13,2,FALSE))","v":0.26},{"$f":"IF(B122=\"\",\"\",VLOOKUP(D122,Tablas!$B$2:$G$13,6,FALSE))","v":0},225482.4,28700.076319200001,1688963.7824962998,1510701.0576889981,1351253.1821905172,1208634.3311185306,1081068.2747035159,966966.25644321635,864907.20612094481,773620.04125308141,691967.83654121775,618933.66416924668,553607.92859503289,495177.03809931385,442913.27200296405,396165.71735506633,354352.16221383389,52906873226.536537,534412.86087410641]
[{"$f":"IF(ISBLANK(InfoPro!A116),\"\",InfoPro!A116)","v":"SC_1843_A1"},{"$f":"IF(ISBLANK(InfoPro!B116),\"\",InfoPro!B116)","v":"KOS de 19.9 MW"},{"$f":"IF(ISBLANK(InfoPro!E116),\"\",InfoPro!E116)","v":19.899999999999999},{"$f":"IF(ISBLANK(InfoPro!F116),\"\",InfoPro!F116)","v":"Solar FV"},{"$f":"IF(ISBLANK(InfoPro!I116),\"\",YEAR(InfoPro!I116)-$G$3)","v":2},{"$f":"IF(B123=\"\",\"\",VLOOKUP(D123,Tablas!$B$2:$E$13,2,FALSE))","v":0.26},{"$f":"IF(B123=\"\",\"\",VLOOKUP(D123,Tablas!$B$2:$G$13,6,FALSE))","v":0},45324.24,5769.0052399200003,424347.67374515958,379559.63662357756,339498.78052198351,303666.17220213194,271615.53864233627,242947.70898241174,217305.64309696935,194369.98488101017,173855.08486673539,155505.44263572042,139092.52471889125,124411.91835321223,111280.78564688035,99535.58644622573,89030.041544030144,13292711668.232615,667975.46071520681]
[{"$f":"IF(ISBLANK(InfoPro!A117),\"\",InfoPro!A117)","v":"SC_1843_A2"},{"$f":"IF(ISBLANK(InfoPro!B117),\"\",InfoPro!B117)","v":"KOS de 19.9 MW"},{"$f":"IF(ISBLANK(InfoPro!E117),\"\",InfoPro!E117)","v":19.899999999999999},{"$f":"IF(ISBLANK(InfoPro!F117),\"\",InfoPro!F117)","v":"Solar FV"},{"$f":"IF(ISBLANK(InfoPro!I117),\"\",YEAR(InfoPro!I117)-$G$3)","v":2},{"$f":"IF(B124=\"\",\"\",VLOOKUP(D124,Tablas!$B$2:$E$13,2,FALSE))","v":0.26},{"$f":"IF(B124=\"\",\"\",VLOOKUP(D124,Tablas!$B$2:$G$13,6,FALSE))","v":0},45324.24,5769.0052399200003,424347.67374515958,379559.63662357756,339498.78052198351,303666.17220213194,271615.53864233627,242947.70898241174,217305.64309696935,194369.98488101017,173855.08486673539,155505.44263572042,139092.52471889125,124411.91835321223,111280.78564688035,99535.58644622573,89030.041544030144,13292711668.232615,667975.46071520681]
[{"$f":"IF(ISBLANK(InfoPro!A118),\"\",InfoPro!A118)","v":"SC_2012_A1"},{"$f":"IF(ISBLANK(InfoPro!B118),\"\",InfoPro!B118)","v":"Parqu Solar Fotovoltaico Rocio del Sol 50 MW"},{"$f":"IF(ISBLANK(InfoPro!E118),\"\",InfoPro!E118)","v":50},{"$f":"IF(ISBLANK(InfoPro!F118),\"\",InfoPro!F118)","v":"Solar FV"},{"$f":"IF(ISBLANK(InfoPro!I118),\"\",YEAR(InfoPro!I118)-$G$3)","v":3},{"$f":"IF(B125=\"\",\"\",VLOOKUP(D125,Tablas!$B$2:$E$13,2,FALSE))","v":0.26},{"$f":"IF(B125=\"\",\"\",VLOOKUP(D125,Tablas!$B$2:$G$13,6,FALSE))","v":0},113880,14494.98804,953667.42870245606,853012.01136176754,762980.33216616069,682451.10211642284,610421.37935279321,545994.07813308877,488366.79618344258,436821.82127320446,390717.19255206129,349478.70532384736,312592.75968143775,279599.96393688529,250089.41318147167,223693.57171866871,200083.69563387186,29873678922.862545,597473.57845725096]
[{"$f":"IF(ISBLANK(InfoPro!A119),\"\",InfoPro!A119)","v":"SC_2012_A2"},{"$f":"IF(ISBLANK(InfoPro!B119),\"\",InfoPro!B119)","v":"Parqu Solar Fotovoltaico Rocio del Sol 50 MW"},{"$f":"IF(ISBLANK(InfoPro!E119),\"\",InfoPro!E119)","v":50},{"$f":"IF(ISBLANK(InfoPro!F119),\"\",InfoPro!F119)","v":"Solar FV"},{"$f":"IF(ISBLANK(InfoPro!I119),\"\",YEAR(InfoPro!I119)-$G$3)","v":3},{"$f":"IF(B126=\"\",\"\",VLOOKUP(D126,Tablas!$B$2:$E$13,2,FALSE))","v":0.26},{"$f":"IF(B126=\"\",\"\",VLOOKUP(D126,Tablas!$B$2:$G$13,6,FALSE))","v":0},113880,14494.98804,953667.42870245606,853012.01136176754,762980.33216616069,682451.10211642284,610421.37935279321,545994.07813308877,488366.79618344258,436821.82127320446,390717.19255206129,349478.70532384736,312592.75968143775,279599.96393688529,250089.41318147167,223693.57171866871,200083.69563387186,29873678922.862545,597473.57845725096]
[{"$f":"IF(ISBLANK(InfoPro!A120),\"\",InfoPro!A120)","v":"SC_1807_A1"},{"$f":"IF(ISBLANK(InfoPro!B120),\"\",InfoPro!B120)","v":"Parque Solar Canis 49,9 MW"},{"$f":"IF(ISBLANK(InfoPro!E120),\"\",InfoPro!E120)","v":49.9},{"$f":"IF(ISBLANK(InfoPro!F120),\"\",InfoPro!F120)","v":"Solar FV"},{"$f":"IF(ISBLANK(InfoPro!I120),\"\",YEAR(InfoPro!I120)-$G$3)","v":2},{"$f":"IF(B127=\"\",\"\",VLOOKUP(D127,Tablas!$B$2:$E$13,2,FALSE))","v":0.26},{"$f":"IF(B127=\"\",\"\",VLOOKUP(D127,Tablas!$B$2:$G$13,6,FALSE))","v":0},113652.23999999999,14465.99806392,1064067.7849187669,951760.09384505113,851305.98733904411,761454.37150182831,681086.19991218997,609200.53659408772,544902.08997682261,487390.06259107572,435948.17763065809,389935.75816695724,348779.74791319965,311967.57416207489,279040.7640090115,249589.2343551087,223246.18457523137,33331975489.68882,667975.46071520681]
[{"$f":"IF(ISBLANK(InfoPro!A121),\"\",InfoPro!A121)","v":"SC_1807_A2"},{"$f":"IF(ISBLANK(InfoPro!B121),\"\",InfoPro!B121)","v":"Parque Solar Canis 49,9 MW"},{"$f":"IF(ISBLANK(InfoPro!E121),\"\",InfoPro!E121)","v":49.9},{"$f":"IF(ISBLANK(InfoPro!F121),\"\",InfoPro!F121)","v":"Solar FV"},{"$f":"IF(ISBLANK(InfoPro!I121),\"\",YEAR(InfoPro!I121)-$G$3)","v":2},{"$f":"IF(B128=\"\",\"\",VLOOKUP(D128,Tablas!$B$2:$E$13,2,FALSE))","v":0.26},{"$f":"IF(B128=\"\",\"\",VLOOKUP(D128,Tablas!$B$2:$G$13,6,FALSE))","v":0},113652.23999999999,14465.99806392,1064067.7849187669,951760.09384505113,851305.98733904411,761454.37150182831,681086.19991218997,609200.53659408772,544902.08997682261,487390.06259107572,435948.17763065809,389935.75816695724,348779.74791319965,311967.57416207489,279040.7640090115,249589.2343551087,223246.18457523137,33331975489.68882,667975.46071520681]
[{"$f":"IF(ISBLANK(InfoPro!A122),\"\",InfoPro!A122)","v":"SC_1918_A1"},{"$f":"IF(ISBLANK(InfoPro!B122),\"\",InfoPro!B122)","v":"Casiopea 40 MW"},{"$f":"IF(ISBLANK(InfoPro!E122),\"\",InfoPro!E122)","v":40},{"$f":"IF(ISBLANK(InfoPro!F122),\"\",InfoPro!F122)","v":"Solar FV"},{"$f":"IF(ISBLANK(InfoPro!I122),\"\",YEAR(InfoPro!I122)-$G$3)","v":2},{"$f":"IF(B129=\"\",\"\",VLOOKUP(D129,Tablas!$B$2:$E$13,2,FALSE))","v":0.26},{"$f":"IF(B129=\"\",\"\",VLOOKUP(D129,Tablas!$B$2:$G$13,6,FALSE))","v":0},91104.000000000015,11595.990432000002,852960.14823147666,762933.94296196511,682409.60908941412,610384.26573292864,545960.88169313839,488337.1034822347,436795.26250647113,390693.43694675417,349457.45701856364,312573.75404164911,279582.96425907797,250074.20774515023,223679.97114950826,200071.53054517737,178954.857374935,26719018428.608273,667975.46071520681]
[{"$f":"IF(ISBLANK(InfoPro!A123),\"\",InfoPro!A123)","v":"SC_1918_A2"},{"$f":"IF(ISBLANK(InfoPro!B123),\"\",InfoPro!B123)","v":"Casiopea 40 MW"},{"$f":"IF(ISBLANK(InfoPro!E123),\"\",InfoPro!E123)","v":40},{"$f":"IF(ISBLANK(InfoPro!F123),\"\",InfoPro!F123)","v":"Solar FV"},{"$f":"IF(ISBLANK(InfoPro!I123),\"\",YEAR(InfoPro!I123)-$G$3)","v":2},{"$f":"IF(B130=\"\",\"\",VLOOKUP(D130,Tablas!$B$2:$E$13,2,FALSE))","v":0.26},{"$f":"IF(B130=\"\",\"\",VLOOKUP(D130,Tablas!$B$2:$G$13,6,FALSE))","v":0},91104.000000000015,11595.990432000002,852960.14823147666,762933.94296196511,682409.60908941412,610384.26573292864,545960.88169313839,488337.1034822347,436795.26250647113,390693.43694675417,349457.45701856364,312573.75404164911,279582.96425907797,250074.20774515023,223679.97114950826,200071.53054517737,178954.857374935,26719018428.608273,667975.46071520681]
[{"$f":"IF(ISBLANK(InfoPro!A124),\"\",InfoPro!A124)","v":"SC_1813_A1"},{"$f":"IF(ISBLANK(InfoPro!B124),\"\",InfoPro!B124)","v":"Parque de generación Cefeo"},{"$f":"IF(ISBLANK(InfoPro!E124),\"\",InfoPro!E124)","v":19.899999999999999},{"$f":"IF(ISBLANK(InfoPro!F124),\"\",InfoPro!F124)","v":"Solar FV"},{"$f":"IF(ISBLANK(InfoPro!I124),\"\",YEAR(InfoPro!I124)-$G$3)","v":2},{"$f":"IF(B131=\"\",\"\",VLOOKUP(D131,Tablas!$B$2:$E$13,2,FALSE))","v":0.26},{"$f":"IF(B131=\"\",\"\",VLOOKUP(D131,Tablas!$B$2:$G$13,6,FALSE))","v":0},45324.24,5769.0052399200003,424347.67374515958,379559.63662357756,339498.78052198351,303666.17220213194,271615.53864233627,242947.70898241174,217305.64309696935,194369.98488101017,173855.08486673539,155505.44263572042,139092.52471889125,124411.91835321223,111280.78564688035,99535.58644622573,89030.041544030144,13292711668.232615,667975.46071520681]
[{"$f":"IF(ISBLANK(InfoPro!A125),\"\",InfoPro!A125)","v":"SC_1813_A2"},{"$f":"IF(ISBLANK(InfoPro!B125),\"\",InfoPro!B125)","v":"Parque de generación Cefeo"},{"$f":"IF(ISBLANK(InfoPro!E125),\"\",InfoPro!E125)","v":19.899999999999999},{"$f":"IF(ISBLANK(InfoPro!F125),\"\",InfoPro!F125)","v":"Solar FV"},{"$f":"IF(ISBLANK(InfoPro!I125),\"\",YEAR(InfoPro!I125)-$G$3)","v":2},{"$f":"IF(B132=\"\",\"\",VLOOKUP(D132,Tablas!$B$2:$E$13,2,FALSE))","v":0.26},{"$f":"IF(B132=\"\",\"\",VLOOKUP(D132,Tablas!$B$2:$G$13,6,FALSE))","v":0},45324.24,5769.0052399200003,{"$f":"IF($I132=\"\",\"\",(1/(1+$C$4)^(J$7+$E132))*$I132*$C$5)","v":424347.67374515958},379559.63662357756,339498.78052198351,303666.17220213194,271615.53864233627,242947.70898241174,217305.64309696935,194369.98488101017,173855.08486673539,155505.44263572042,139092.52471889125,124411.91835321223,111280.78564688035,99535.58644622573,89030.041544030144,13292711668.232615,667975.46071520681]
[{"$f":"IF(ISBLANK(InfoPro!A126),\"\",InfoPro!A126)","v":"SC_1949_A1"},{"$f":"IF(ISBLANK(InfoPro!B126),\"\",InfoPro!B126)","v":"Solar Planeta Rica"},{"$f":"IF(ISBLANK(InfoPro!E126),\"\",InfoPro!E126)","v":19.899999999999999},{"$f":"IF(ISBLANK(InfoPro!F126),\"\",InfoPro!F126)","v":"Solar FV"},{"$f":"IF(ISBLANK(InfoPro!I126),\"\",YEAR(InfoPro!I126)-$G$3)","v":3},{"$f":"IF(B133=\"\",\"\",VLOOKUP(D133,Tablas!$B$2:$E$13,2,FALSE))","v":0.26},{"$f":"IF(B133=\"\",\"\",VLOOKUP(D133,Tablas!$B$2:$G$13,6,FALSE))","v":0},45324.24,5769.0052399200003,379559.63662357756,339498.78052198351,303666.17220213194,271615.53864233627,242947.70898241174,217305.64309696935,194369.98488101017,173855.08486673539,155505.44263572042,139092.52471889125,124411.91835321223,111280.78564688035,99535.58644622573,89030.041544030144,79633.310862280996,11889724211.299295,597473.57845725107]
[{"$f":"IF(ISBLANK(InfoPro!A127),\"\",InfoPro!A127)","v":"SC_1949_A2"},{"$f":"IF(ISBLANK(InfoPro!B127),\"\",InfoPro!B127)","v":"Solar Planeta Rica"},{"$f":"IF(ISBLANK(InfoPro!E127),\"\",InfoPro!E127)","v":19.899999999999999},{"$f":"IF(ISBLANK(InfoPro!F127),\"\",InfoPro!F127)","v":"Solar FV"},{"$f":"IF(ISBLANK(InfoPro!I127),\"\",YEAR(InfoPro!I127)-$G$3)","v":3},{"$f":"IF(B134=\"\",\"\",VLOOKUP(D134,Tablas!$B$2:$E$13,2,FALSE))","v":0.26},{"$f":"IF(B134=\"\",\"\",VLOOKUP(D134,Tablas!$B$2:$G$13,6,FALSE))","v":0},45324.24,5769.0052399200003,379559.63662357756,339498.78052198351,303666.17220213194,271615.53864233627,242947.70898241174,217305.64309696935,194369.98488101017,173855.08486673539,155505.44263572042,139092.52471889125,124411.91835321223,111280.78564688035,99535.58644622573,89030.041544030144,79633.310862280996,11889724211.299295,597473.57845725107]
[{"$f":"IF(ISBLANK(InfoPro!A128),\"\",InfoPro!A128)","v":"SC_1970_A1"},{"$f":"IF(ISBLANK(InfoPro!B128),\"\",InfoPro!B128)","v":"Parque Solar Montería"},{"$f":"IF(ISBLANK(InfoPro!E128),\"\",InfoPro!E128)","v":99},{"$f":"IF(ISBLANK(InfoPro!F128),\"\",InfoPro!F128)","v":"Solar FV"},{"$f":"IF(ISBLANK(InfoPro!I128),\"\",YEAR(InfoPro!I128)-$G$3)","v":3},{"$f":"IF(B135=\"\",\"\",VLOOKUP(D135,Tablas!$B$2:$E$13,2,FALSE))","v":0.26},{"$f":"IF(B135=\"\",\"\",VLOOKUP(D135,Tablas!$B$2:$G$13,6,FALSE))","v":0},225482.4,28700.076319200001,1888261.5088308631,1688963.7824962998,1510701.0576889981,1351253.1821905172,1208634.3311185306,1081068.2747035159,966966.25644321635,864907.20612094481,773620.04125308141,691967.83654121775,618933.66416924668,553607.92859503289,495177.03809931385,442913.27200296405,396165.71735506633,59149884267.267838,597473.57845725084]
[{"$f":"IF(ISBLANK(InfoPro!A129),\"\",InfoPro!A129)","v":"SC_1970_A2"},{"$f":"IF(ISBLANK(InfoPro!B129),\"\",InfoPro!B129)","v":"Parque Solar Montería"},{"$f":"IF(ISBLANK(InfoPro!E129),\"\",InfoPro!E129)","v":99},{"$f":"IF(ISBLANK(InfoPro!F129),\"\",InfoPro!F129)","v":"Solar FV"},{"$f":"IF(ISBLANK(InfoPro!I129),\"\",YEAR(InfoPro!I129)-$G$3)","v":3},{"$f":"IF(B136=\"\",\"\",VLOOKUP(D136,Tablas!$B$2:$E$13,2,FALSE))","v":0.26},{"$f":"IF(B136=\"\",\"\",VLOOKUP(D136,Tablas!$B$2:$G$13,6,FALSE))","v":0},225482.4,28700.076319200001,1888261.5088308631,1688963.7824962998,1510701.0576889981,1351253.1821905172,1208634.3311185306,1081068.2747035159,966966.25644321635,864907.20612094481,773620.04125308141,691967.83654121775,618933.66416924668,553607.92859503289,495177.03809931385,442913.27200296405,396165.71735506633,59149884267.267838,597473.57845725084]
[{"$f":"IF(ISBLANK(InfoPro!A130),\"\",InfoPro!A130)","v":"SC_2072_A1"},{"$f":"IF(ISBLANK(InfoPro!B130),\"\",InfoPro!B130)","v":"Porvenir - 9.9 MW"},{"$f":"IF(ISBLANK(InfoPro!E130),\"\",InfoPro!E130)","v":9.9},{"$f":"IF(ISBLANK(InfoPro!F130),\"\",InfoPro!F130)","v":"Solar FV"},{"$f":"IF(ISBLANK(InfoPro!I130),\"\",YEAR(InfoPro!I130)-$G$3)","v":2},{"$f":"IF(B137=\"\",\"\",VLOOKUP(D137,Tablas!$B$2:$E$13,2,FALSE))","v":0.26},{"$f":"IF(B137=\"\",\"\",VLOOKUP(D137,Tablas!$B$2:$G$13,6,FALSE))","v":0},22548.240000000005,2870.0076319200007,211107.63668729048,188826.15088308635,168896.37824963001,151070.10576889984,135125.31821905175,120863.4331118531,108106.82747035159,96696.625644321655,86490.72061209449,77362.004125308173,69196.783654121798,61893.366416924677,55360.792859503294,49517.703809931394,44291.327200296415,6612957061.0805454,667975.46071520657]
[{"$f":"IF(ISBLANK(InfoPro!A131),\"\",InfoPro!A131)","v":"SC_2204_A1"},{"$f":"IF(ISBLANK(InfoPro!B131),\"\",InfoPro!B131)","v":"Parque Solar Ciénaga Grande - 19.9 MW"},{"$f":"IF(ISBLANK(InfoPro!E131),\"\",InfoPro!E131)","v":19.899999999999999},{"$f":"IF(ISBLANK(InfoPro!F131),\"\",InfoPro!F131)","v":"Solar FV"},{"$f":"IF(ISBLANK(InfoPro!I131),\"\",YEAR(InfoPro!I131)-$G$3)","v":2},{"$f":"IF(B138=\"\",\"\",VLOOKUP(D138,Tablas!$B$2:$E$13,2,FALSE))","v":0.26},{"$f":"IF(B138=\"\",\"\",VLOOKUP(D138,Tablas!$B$2:$G$13,6,FALSE))","v":0},45324.24,5769.0052399200003,424347.67374515958,379559.63662357756,339498.78052198351,303666.17220213194,271615.53864233627,242947.70898241174,217305.64309696935,194369.98488101017,173855.08486673539,155505.44263572042,139092.52471889125,124411.91835321223,111280.78564688035,99535.58644622573,89030.041544030144,13292711668.232615,667975.46071520681]
[{"$f":"IF(ISBLANK(InfoPro!A132),\"\",InfoPro!A132)","v":"SC_2204_A2"},{"$f":"IF(ISBLANK(InfoPro!B132),\"\",InfoPro!B132)","v":"Parque Solar Ciénaga Grande - 19.9 MW"},{"$f":"IF(ISBLANK(InfoPro!E132),\"\",InfoPro!E132)","v":19.899999999999999},{"$f":"IF(ISBLANK(InfoPro!F132),\"\",InfoPro!F132)","v":"Solar FV"},{"$f":"IF(ISBLANK(InfoPro!I132),\"\",YEAR(InfoPro!I132)-$G$3)","v":2},{"$f":"IF(B139=\"\",\"\",VLOOKUP(D139,Tablas!$B$2:$E$13,2,FALSE))","v":0.26},{"$f":"IF(B139=\"\",\"\",VLOOKUP(D139,Tablas!$B$2:$G$13,6,FALSE))","v":0},45324.24,5769.0052399200003,424347.67374515958,379559.63662357756,339498.78052198351,303666.17220213194,271615.53864233627,242947.70898241174,217305.64309696935,194369.98488101017,173855.08486673539,155505.44263572042,139092.52471889125,124411.91835321223,111280.78564688035,99535.58644622573,89030.041544030144,13292711668.232615,667975.46071520681]
[{"$f":"IF(ISBLANK(InfoPro!A133),\"\",InfoPro!A133)","v":"SC_2166_A1"},{"$f":"IF(ISBLANK(InfoPro!B133),\"\",InfoPro!B133)","v":"Parque fotovoltaico Delphinus"},{"$f":"IF(ISBLANK(InfoPro!E133),\"\",InfoPro!E133)","v":19.899999999999999},{"$f":"IF(ISBLANK(InfoPro!F133),\"\",InfoPro!F133)","v":"Solar FV"},{"$f":"IF(ISBLANK(InfoPro!I133),\"\",YEAR(InfoPro!I133)-$G$3)","v":2},{"$f":"IF(B140=\"\",\"\",VLOOKUP(D140,Tablas!$B$2:$E$13,2,FALSE))","v":0.26},{"$f":"IF(B140=\"\",\"\",VLOOKUP(D140,Tablas!$B$2:$G$13,6,FALSE))","v":0},45324.24,5769.0052399200003,424347.67374515958,379559.63662357756,339498.78052198351,303666.17220213194,271615.53864233627,242947.70898241174,217305.64309696935,194369.98488101017,173855.08486673539,155505.44263572042,139092.52471889125,124411.91835321223,111280.78564688035,99535.58644622573,89030.041544030144,13292711668.232615,667975.46071520681]
[{"$f":"IF(ISBLANK(InfoPro!A134),\"\",InfoPro!A134)","v":"SC_2166_A2"},{"$f":"IF(ISBLANK(InfoPro!B134),\"\",InfoPro!B134)","v":"Parque fotovoltaico Delphinus"},{"$f":"IF(ISBLANK(InfoPro!E134),\"\",InfoPro!E134)","v":19.899999999999999},{"$f":"IF(ISBLANK(InfoPro!F134),\"\",InfoPro!F134)","v":"Solar FV"},{"$f":"IF(ISBLANK(InfoPro!I134),\"\",YEAR(InfoPro!I134)-$G$3)","v":2},{"$f":"IF(B141=\"\",\"\",VLOOKUP(D141,Tablas!$B$2:$E$13,2,FALSE))","v":0.26},{"$f":"IF(B141=\"\",\"\",VLOOKUP(D141,Tablas!$B$2:$G$13,6,FALSE))","v":0},45324.24,5769.0052399200003,424347.67374515958,379559.63662357756,339498.78052198351,303666.17220213194,271615.53864233627,242947.70898241174,217305.64309696935,194369.98488101017,173855.08486673539,155505.44263572042,139092.52471889125,124411.91835321223,111280.78564688035,99535.58644622573,89030.041544030144,13292711668.232615,667975.46071520681]
[{"$f":"IF(ISBLANK(InfoPro!A135),\"\",InfoPro!A135)","v":"SC_1923_A1"},{"$f":"IF(ISBLANK(InfoPro!B135),\"\",InfoPro!B135)","v":"Parque Solar Fotovoltaico Chunú I 50 MW"},{"$f":"IF(ISBLANK(InfoPro!E135),\"\",InfoPro!E135)","v":50},{"$f":"IF(ISBLANK(InfoPro!F135),\"\",InfoPro!F135)","v":"Solar FV"},{"$f":"IF(ISBLANK(InfoPro!I135),\"\",YEAR(InfoPro!I135)-$G$3)","v":4},{"$f":"IF(B142=\"\",\"\",VLOOKUP(D142,Tablas!$B$2:$E$13,2,FALSE))","v":0.26},{"$f":"IF(B142=\"\",\"\",VLOOKUP(D142,Tablas!$B$2:$G$13,6,FALSE))","v":0},113880,14494.98804,853012.01136176754,762980.33216616069,682451.10211642284,610421.37935279321,545994.07813308877,488366.79618344258,436821.82127320446,390717.19255206129,349478.70532384736,312592.75968143775,279599.96393688529,250089.41318147167,223693.57171866871,200083.69563387186,178965.73849183528,26720643043.705322,534412.86087410641]
[{"$f":"IF(ISBLANK(InfoPro!A136),\"\",InfoPro!A136)","v":"SC_1923_A2"},{"$f":"IF(ISBLANK(InfoPro!B136),\"\",InfoPro!B136)","v":"Parque Solar Fotovoltaico Chunú I 50 MW"},{"$f":"IF(ISBLANK(InfoPro!E136),\"\",InfoPro!E136)","v":50},{"$f":"IF(ISBLANK(InfoPro!F136),\"\",InfoPro!F136)","v":"Solar FV"},{"$f":"IF(ISBLANK(InfoPro!I136),\"\",YEAR(InfoPro!I136)-$G$3)","v":4},{"$f":"IF(B143=\"\",\"\",VLOOKUP(D143,Tablas!$B$2:$E$13,2,FALSE))","v":0.26},{"$f":"IF(B143=\"\",\"\",VLOOKUP(D143,Tablas!$B$2:$G$13,6,FALSE))","v":0},113880,14494.98804,853012.01136176754,762980.33216616069,682451.10211642284,610421.37935279321,545994.07813308877,488366.79618344258,436821.82127320446,390717.19255206129,349478.70532384736,312592.75968143775,279599.96393688529,250089.41318147167,223693.57171866871,200083.69563387186,178965.73849183528,26720643043.705322,534412.86087410641]
[{"$f":"IF(ISBLANK(InfoPro!A137),\"\",InfoPro!A137)","v":"SC_1937_A1"},{"$f":"IF(ISBLANK(InfoPro!B137),\"\",InfoPro!B137)","v":"Parque Solar Fotovoltaico ChInú II 50 MW"},{"$f":"IF(ISBLANK(InfoPro!E137),\"\",InfoPro!E137)","v":50},{"$f":"IF(ISBLANK(InfoPro!F137),\"\",InfoPro!F137)","v":"Solar FV"},{"$f":"IF(ISBLANK(InfoPro!I137),\"\",YEAR(InfoPro!I137)-$G$3)","v":4},{"$f":"IF(B144=\"\",\"\",VLOOKUP(D144,Tablas!$B$2:$E$13,2,FALSE))","v":0.26},{"$f":"IF(B144=\"\",\"\",VLOOKUP(D144,Tablas!$B$2:$G$13,6,FALSE))","v":0},113880,14494.98804,853012.01136176754,762980.33216616069,682451.10211642284,610421.37935279321,545994.07813308877,488366.79618344258,436821.82127320446,390717.19255206129,349478.70532384736,312592.75968143775,279599.96393688529,250089.41318147167,223693.57171866871,200083.69563387186,178965.73849183528,26720643043.705322,534412.86087410641]
[{"$f":"IF(ISBLANK(InfoPro!A138),\"\",InfoPro!A138)","v":"SC_1937_A2"},{"$f":"IF(ISBLANK(InfoPro!B138),\"\",InfoPro!B138)","v":"Parque Solar Fotovoltaico ChInú II 50 MW"},{"$f":"IF(ISBLANK(InfoPro!E138),\"\",InfoPro!E138)","v":50},{"$f":"IF(ISBLANK(InfoPro!F138),\"\",InfoPro!F138)","v":"Solar FV"},{"$f":"IF(ISBLANK(InfoPro!I138),\"\",YEAR(InfoPro!I138)-$G$3)","v":4},{"$f":"IF(B145=\"\",\"\",VLOOKUP(D145,Tablas!$B$2:$E$13,2,FALSE))","v":0.26},{"$f":"IF(B145=\"\",\"\",VLOOKUP(D145,Tablas!$B$2:$G$13,6,FALSE))","v":0},113880,14494.98804,853012.01136176754,762980.33216616069,682451.10211642284,610421.37935279321,545994.07813308877,488366.79618344258,436821.82127320446,390717.19255206129,349478.70532384736,312592.75968143775,279599.96393688529,250089.41318147167,223693.57171866871,200083.69563387186,178965.73849183528,26720643043.705322,534412.86087410641]
[{"$f":"IF(ISBLANK(InfoPro!A139),\"\",InfoPro!A139)","v":"SC_1810_A1"},{"$f":"IF(ISBLANK(InfoPro!B139),\"\",InfoPro!B139)","v":"Parque Solar Coveñas 50 MW"},{"$f":"IF(ISBLANK(InfoPro!E139),\"\",InfoPro!E139)","v":50},{"$f":"IF(ISBLANK(InfoPro!F139),\"\",InfoPro!F139)","v":"Solar FV"},{"$f":"IF(ISBLANK(InfoPro!I139),\"\",YEAR(InfoPro!I139)-$G$3)","v":4},{"$f":"IF(B146=\"\",\"\",VLOOKUP(D146,Tablas!$B$2:$E$13,2,FALSE))","v":0.26},{"$f":"IF(B146=\"\",\"\",VLOOKUP(D146,Tablas!$B$2:$G$13,6,FALSE))","v":0},113880,14494.98804,853012.01136176754,762980.33216616069,682451.10211642284,610421.37935279321,545994.07813308877,488366.79618344258,436821.82127320446,390717.19255206129,349478.70532384736,312592.75968143775,279599.96393688529,250089.41318147167,223693.57171866871,200083.69563387186,178965.73849183528,26720643043.705322,534412.86087410641]
[{"$f":"IF(ISBLANK(InfoPro!A140),\"\",InfoPro!A140)","v":"SC_1810_A2"},{"$f":"IF(ISBLANK(InfoPro!B140),\"\",InfoPro!B140)","v":"Parque Solar Coveñas 50 MW"},{"$f":"IF(ISBLANK(InfoPro!E140),\"\",InfoPro!E140)","v":50},{"$f":"IF(ISBLANK(InfoPro!F140),\"\",InfoPro!F140)","v":"Solar FV"},{"$f":"IF(ISBLANK(InfoPro!I140),\"\",YEAR(InfoPro!I140)-$G$3)","v":4},{"$f":"IF(B147=\"\",\"\",VLOOKUP(D147,Tablas!$B$2:$E$13,2,FALSE))","v":0.26},{"$f":"IF(B147=\"\",\"\",VLOOKUP(D147,Tablas!$B$2:$G$13,6,FALSE))","v":0},113880,14494.98804,853012.01136176754,762980.33216616069,682451.10211642284,610421.37935279321,545994.07813308877,488366.79618344258,436821.82127320446,390717.19255206129,349478.70532384736,312592.75968143775,279599.96393688529,250089.41318147167,223693.57171866871,200083.69563387186,178965.73849183528,26720643043.705322,534412.86087410641]
[{"$f":"IF(ISBLANK(InfoPro!A141),\"\",InfoPro!A141)","v":"SC_1835_A1"},{"$f":"IF(ISBLANK(InfoPro!B141),\"\",InfoPro!B141)","v":"Parque Solar Coveñas II 50 MW"},{"$f":"IF(ISBLANK(InfoPro!E141),\"\",InfoPro!E141)","v":50},{"$f":"IF(ISBLANK(InfoPro!F141),\"\",InfoPro!F141)","v":"Solar FV"},{"$f":"IF(ISBLANK(InfoPro!I141),\"\",YEAR(InfoPro!I141)-$G$3)","v":4},{"$f":"IF(B148=\"\",\"\",VLOOKUP(D148,Tablas!$B$2:$E$13,2,FALSE))","v":0.26},{"$f":"IF(B148=\"\",\"\",VLOOKUP(D148,Tablas!$B$2:$G$13,6,FALSE))","v":0},113880,14494.98804,853012.01136176754,762980.33216616069,682451.10211642284,610421.37935279321,545994.07813308877,488366.79618344258,436821.82127320446,390717.19255206129,349478.70532384736,312592.75968143775,279599.96393688529,250089.41318147167,223693.57171866871,200083.69563387186,178965.73849183528,26720643043.705322,534412.86087410641]
[{"$f":"IF(ISBLANK(InfoPro!A142),\"\",InfoPro!A142)","v":"SC_1835_A2"},{"$f":"IF(ISBLANK(InfoPro!B142),\"\",InfoPro!B142)","v":"Parque Solar Coveñas II 50 MW"},{"$f":"IF(ISBLANK(InfoPro!E142),\"\",InfoPro!E142)","v":50},{"$f":"IF(ISBLANK(InfoPro!F142),\"\",InfoPro!F142)","v":"Solar FV"},{"$f":"IF(ISBLANK(InfoPro!I142),\"\",YEAR(InfoPro!I142)-$G$3)","v":4},{"$f":"IF(B149=\"\",\"\",VLOOKUP(D149,Tablas!$B$2:$E$13,2,FALSE))","v":0.26},{"$f":"IF(B149=\"\",\"\",VLOOKUP(D149,Tablas!$B$2:$G$13,6,FALSE))","v":0},113880,14494.98804,{"$f":"IF($I149=\"\",\"\",(1/(1+$C$4)^(J$7+$E149))*$I149*$C$5)","v":853012.01136176754},762980.33216616069,682451.10211642284,610421.37935279321,545994.07813308877,488366.79618344258,436821.82127320446,390717.19255206129,349478.70532384736,312592.75968143775,279599.96393688529,250089.41318147167,223693.57171866871,200083.69563387186,178965.73849183528,26720643043.705322,534412.86087410641]
[{"$f":"IF(ISBLANK(InfoPro!A143),\"\",InfoPro!A143)","v":"SC_1873_A1"},{"$f":"IF(ISBLANK(InfoPro!B143),\"\",InfoPro!B143)","v":"Cusumbo Solar"},{"$f":"IF(ISBLANK(InfoPro!E143),\"\",InfoPro!E143)","v":99.9},{"$f":"IF(ISBLANK(InfoPro!F143),\"\",InfoPro!F143)","v":"Solar FV"},{"$f":"IF(ISBLANK(InfoPro!I143),\"\",YEAR(InfoPro!I143)-$G$3)","v":3},{"$f":"IF(B150=\"\",\"\",VLOOKUP(D150,Tablas!$B$2:$E$13,2,FALSE))","v":0.26},{"$f":"IF(B150=\"\",\"\",VLOOKUP(D150,Tablas!$B$2:$G$13,6,FALSE))","v":0},227532.24000000002,28960.986103920004,1905427.5225475074,1704317.9987008118,1524434.7036679892,1363537.3020286129,1219621.9159468811,1090896.1681099115,975756.85877451848,872769.99890386255,780652.9507190187,698258.45323704707,624560.33384351269,558640.72794589691,499678.64753658051,446939.75629390014,399767.223876476,59687610487.879402,597473.57845725131]
[{"$f":"IF(ISBLANK(InfoPro!A144),\"\",InfoPro!A144)","v":"SC_1873_A2"},{"$f":"IF(ISBLANK(InfoPro!B144),\"\",InfoPro!B144)","v":"Cusumbo Solar"},{"$f":"IF(ISBLANK(InfoPro!E144),\"\",InfoPro!E144)","v":99.9},{"$f":"IF(ISBLANK(InfoPro!F144),\"\",InfoPro!F144)","v":"Solar FV"},{"$f":"IF(ISBLANK(InfoPro!I144),\"\",YEAR(InfoPro!I144)-$G$3)","v":3},{"$f":"IF(B151=\"\",\"\",VLOOKUP(D151,Tablas!$B$2:$E$13,2,FALSE))","v":0.26},{"$f":"IF(B151=\"\",\"\",VLOOKUP(D151,Tablas!$B$2:$G$13,6,FALSE))","v":0},227532.24000000002,28960.986103920004,1905427.5225475074,1704317.9987008118,1524434.7036679892,1363537.3020286129,1219621.9159468811,1090896.1681099115,975756.85877451848,872769.99890386255,780652.9507190187,698258.45323704707,624560.33384351269,558640.72794589691,499678.64753658051,446939.75629390014,399767.223876476,59687610487.879402,597473.57845725131]
[{"$f":"IF(ISBLANK(InfoPro!A145),\"\",InfoPro!A145)","v":"SC_2067_A1"},{"$f":"IF(ISBLANK(InfoPro!B145),\"\",InfoPro!B145)","v":"TIERRALTA 70 MW"},{"$f":"IF(ISBLANK(InfoPro!E145),\"\",InfoPro!E145)","v":70},{"$f":"IF(ISBLANK(InfoPro!F145),\"\",InfoPro!F145)","v":"Solar FV"},{"$f":"IF(ISBLANK(InfoPro!I145),\"\",YEAR(InfoPro!I145)-$G$3)","v":4},{"$f":"IF(B152=\"\",\"\",VLOOKUP(D152,Tablas!$B$2:$E$13,2,FALSE))","v":0.26},{"$f":"IF(B152=\"\",\"\",VLOOKUP(D152,Tablas!$B$2:$G$13,6,FALSE))","v":0},{"$f":"IF(C152=\"\",\"\",+C152*F152*24*365)","v":159431.99999999997},{"$f":"IF(H152=\"\",\"\",+H152*($C$3-G152))","v":20292.983255999996},1194216.8159064741,1068172.4650326248,955431.54296299163,854589.93109391036,764391.70938632416,683713.51465681952,611550.54978248605,547004.06957288575,489270.18745338614,437629.86355401273,391439.94951163937,350125.17845406022,313171.0004061361,280117.1738874205,250552.03388856933,{"$f":"IF(X152=\"\",\"\",SUM(J152:X152)*$C$6)","v":37408900261.187447},{"$f":"IF(C152=0,0,IF(Y152=\"\",\"\",Y152/(C152*1000)))","v":534412.86087410641}]
[{"$f":"IF(ISBLANK(InfoPro!A146),\"\",InfoPro!A146)","v":"SC_2067_A2"},{"$f":"IF(ISBLANK(InfoPro!B146),\"\",InfoPro!B146)","v":"TIERRALTA 70 MW"},{"$f":"IF(ISBLANK(InfoPro!E146),\"\",InfoPro!E146)","v":70},{"$f":"IF(ISBLANK(InfoPro!F146),\"\",InfoPro!F146)","v":"Solar FV"},{"$f":"IF(ISBLANK(InfoPro!I146),\"\",YEAR(InfoPro!I146)-$G$3)","v":4},{"$f":"IF(B153=\"\",\"\",VLOOKUP(D153,Tablas!$B$2:$E$13,2,FALSE))","v":0.26},{"$f":"IF(B153=\"\",\"\",VLOOKUP(D153,Tablas!$B$2:$G$13,6,FALSE))","v":0},159431.99999999997,20292.983255999996,{"$f":"IF($I153=\"\",\"\",(1/(1+$C$4)^(J$7+$E153))*$I153*$C$5)","v":1194216.8159064741},1068172.4650326248,955431.54296299163,854589.93109391036,764391.70938632416,683713.51465681952,611550.54978248605,547004.06957288575,489270.18745338614,437629.86355401273,391439.94951163937,350125.17845406022,313171.0004061361,280117.1738874205,250552.03388856933,37408900261.187447,534412.86087410641]
[{"$f":"IF(ISBLANK(InfoPro!A147),\"\",InfoPro!A147)","v":"SC_1942_A1"},{"$f":"IF(ISBLANK(InfoPro!B147),\"\",InfoPro!B147)","v":"San Jorge Fotovoltaico 135 MW"},{"$f":"IF(ISBLANK(InfoPro!E147),\"\",InfoPro!E147)","v":135},{"$f":"IF(ISBLANK(InfoPro!F147),\"\",InfoPro!F147)","v":"Solar FV"},{"$f":"IF(ISBLANK(InfoPro!I147),\"\",YEAR(InfoPro!I147)-$G$3)","v":2},{"$f":"IF(B154=\"\",\"\",VLOOKUP(D154,Tablas!$B$2:$E$13,2,FALSE))","v":0.26},{"$f":"IF(B154=\"\",\"\",VLOOKUP(D154,Tablas!$B$2:$G$13,6,FALSE))","v":0},307476.00000000006,39136.467708000011,2878740.5002812343,2574902.057496632,2303132.4306767732,2060046.8968486344,1842617.9757143422,1648137.7242525422,1474184.0109593403,1318590.3496952953,1179418.9174376524,1054936.419890566,943592.50437438814,844000.45113988209,754919.90262959059,675241.41558997368,603972.64364040561,90176687196.552933,667975.46071520692]
[{"$f":"IF(ISBLANK(InfoPro!A148),\"\",InfoPro!A148)","v":"SC_1942_A2"},{"$f":"IF(ISBLANK(InfoPro!B148),\"\",InfoPro!B148)","v":"San Jorge Fotovoltaico 135 MW"},{"$f":"IF(ISBLANK(InfoPro!E148),\"\",InfoPro!E148)","v":135},{"$f":"IF(ISBLANK(InfoPro!F148),\"\",InfoPro!F148)","v":"Solar FV"},{"$f":"IF(ISBLANK(InfoPro!I148),\"\",YEAR(InfoPro!I148)-$G$3)","v":2},{"$f":"IF(B155=\"\",\"\",VLOOKUP(D155,Tablas!$B$2:$E$13,2,FALSE))","v":0.26},{"$f":"IF(B155=\"\",\"\",VLOOKUP(D155,Tablas!$B$2:$G$13,6,FALSE))","v":0},307476.00000000006,39136.467708000011,2878740.5002812343,2574902.057496632,2303132.4306767732,2060046.8968486344,1842617.9757143422,1648137.7242525422,1474184.0109593403,1318590.3496952953,1179418.9174376524,1054936.419890566,943592.50437438814,844000.45113988209,754919.90262959059,675241.41558997368,603972.64364040561,90176687196.552933,667975.46071520692]
[{"$f":"IF(ISBLANK(InfoPro!A149),\"\",InfoPro!A149)","v":"SC_2107_A1"},{"$f":"IF(ISBLANK(InfoPro!B149),\"\",InfoPro!B149)","v":"Parque Solar Aries"},{"$f":"IF(ISBLANK(InfoPro!E149),\"\",InfoPro!E149)","v":175},{"$f":"IF(ISBLANK(InfoPro!F149),\"\",InfoPro!F149)","v":"Solar FV"},{"$f":"IF(ISBLANK(InfoPro!I149),\"\",YEAR(InfoPro!I149)-$G$3)","v":3},{"$f":"IF(B156=\"\",\"\",VLOOKUP(D156,Tablas!$B$2:$E$13,2,FALSE))","v":0.26},{"$f":"IF(B156=\"\",\"\",VLOOKUP(D156,Tablas!$B$2:$G$13,6,FALSE))","v":0},398580,50732.458140000002,3337836.0004585967,2985542.0397661868,2670431.1625815625,2388578.85740748,2136474.8277347763,1910979.2734658108,1709283.7866420492,1528876.3744562154,1367510.1739322147,1223175.4686334657,1094074.6588850322,978599.8737790985,875312.94613515085,782927.50101534056,700292.93471855158,104557876230.01894,597473.57845725107]
[{"$f":"IF(ISBLANK(InfoPro!A150),\"\",InfoPro!A150)","v":"SC_2107_A2"},{"$f":"IF(ISBLANK(InfoPro!B150),\"\",InfoPro!B150)","v":"Parque Solar Aries"},{"$f":"IF(ISBLANK(InfoPro!E150),\"\",InfoPro!E150)","v":175},{"$f":"IF(ISBLANK(InfoPro!F150),\"\",InfoPro!F150)","v":"Solar FV"},{"$f":"IF(ISBLANK(InfoPro!I150),\"\",YEAR(InfoPro!I150)-$G$3)","v":3},{"$f":"IF(B157=\"\",\"\",VLOOKUP(D157,Tablas!$B$2:$E$13,2,FALSE))","v":0.26},{"$f":"IF(B157=\"\",\"\",VLOOKUP(D157,Tablas!$B$2:$G$13,6,FALSE))","v":0},398580,50732.458140000002,3337836.0004585967,2985542.0397661868,2670431.1625815625,2388578.85740748,2136474.8277347763,1910979.2734658108,1709283.7866420492,1528876.3744562154,1367510.1739322147,1223175.4686334657,1094074.6588850322,978599.8737790985,875312.94613515085,782927.50101534056,700292.93471855158,104557876230.01894,597473.57845725107]
[{"$f":"IF(ISBLANK(InfoPro!A151),\"\",InfoPro!A151)","v":"SC_2031\n_A1"},{"$f":"IF(ISBLANK(InfoPro!B151),\"\",InfoPro!B151)","v":"PSF Cispata_70MW"},{"$f":"IF(ISBLANK(InfoPro!E151),\"\",InfoPro!E151)","v":70},{"$f":"IF(ISBLANK(InfoPro!F151),\"\",InfoPro!F151)","v":"Solar FV"},{"$f":"IF(ISBLANK(InfoPro!I151),\"\",YEAR(InfoPro!I151)-$G$3)","v":3},{"$f":"IF(B158=\"\",\"\",VLOOKUP(D158,Tablas!$B$2:$E$13,2,FALSE))","v":0.26},{"$f":"IF(B158=\"\",\"\",VLOOKUP(D158,Tablas!$B$2:$G$13,6,FALSE))","v":0},159431.99999999997,20292.983255999996,1335134.4001834381,1194216.8159064741,1068172.4650326248,955431.54296299163,854589.93109391036,764391.70938632416,683713.51465681952,611550.54978248605,547004.06957288575,489270.18745338614,437629.86355401273,391439.94951163937,350125.17845406022,313171.0004061361,280117.1738874205,41823150492.007561,597473.57845725084]
[{"$f":"IF(ISBLANK(InfoPro!A152),\"\",InfoPro!A152)","v":"SC_2136_A1"},{"$f":"IF(ISBLANK(InfoPro!B152),\"\",InfoPro!B152)","v":"Yaguarundi Solar II 40 MW"},{"$f":"IF(ISBLANK(InfoPro!E152),\"\",InfoPro!E152)","v":40},{"$f":"IF(ISBLANK(InfoPro!F152),\"\",InfoPro!F152)","v":"Solar FV"},{"$f":"IF(ISBLANK(InfoPro!I152),\"\",YEAR(InfoPro!I152)-$G$3)","v":3},{"$f":"IF(B159=\"\",\"\",VLOOKUP(D159,Tablas!$B$2:$E$13,2,FALSE))","v":0.26},{"$f":"IF(B159=\"\",\"\",VLOOKUP(D159,Tablas!$B$2:$G$13,6,FALSE))","v":0},91104.000000000015,11595.990432000002,762933.94296196511,682409.60908941412,610384.26573292864,545960.88169313839,488337.1034822347,436795.26250647113,390693.43694675417,349457.45701856364,312573.75404164911,279582.96425907797,250074.20774515023,223679.97114950826,200071.53054517737,178954.857374935,160066.95650709752,23898943138.290051,597473.57845725131]
[{"$f":"IF(ISBLANK(InfoPro!A153),\"\",InfoPro!A153)","v":"SC_2136_A2"},{"$f":"IF(ISBLANK(InfoPro!B153),\"\",InfoPro!B153)","v":"Yaguarundi Solar II 40 MW"},{"$f":"IF(ISBLANK(InfoPro!E153),\"\",InfoPro!E153)","v":40},{"$f":"IF(ISBLANK(InfoPro!F153),\"\",InfoPro!F153)","v":"Solar FV"},{"$f":"IF(ISBLANK(InfoPro!I153),\"\",YEAR(InfoPro!I153)-$G$3)","v":3},{"$f":"IF(B160=\"\",\"\",VLOOKUP(D160,Tablas!$B$2:$E$13,2,FALSE))","v":0.26},{"$f":"IF(B160=\"\",\"\",VLOOKUP(D160,Tablas!$B$2:$G$13,6,FALSE))","v":0},91104.000000000015,11595.990432000002,762933.94296196511,682409.60908941412,610384.26573292864,545960.88169313839,488337.1034822347,436795.26250647113,390693.43694675417,349457.45701856364,312573.75404164911,279582.96425907797,250074.20774515023,223679.97114950826,200071.53054517737,178954.857374935,160066.95650709752,23898943138.290051,597473.57845725131]
[{"$f":"IF(ISBLANK(InfoPro!A154),\"\",InfoPro!A154)","v":"SC_2180_A1"},{"$f":"IF(ISBLANK(InfoPro!B154),\"\",InfoPro!B154)","v":"Yaguarundi Solar III 40 MW"},{"$f":"IF(ISBLANK(InfoPro!E154),\"\",InfoPro!E154)","v":40},{"$f":"IF(ISBLANK(InfoPro!F154),\"\",InfoPro!F154)","v":"Solar FV"},{"$f":"IF(ISBLANK(InfoPro!I154),\"\",YEAR(InfoPro!I154)-$G$3)","v":3},{"$f":"IF(B161=\"\",\"\",VLOOKUP(D161,Tablas!$B$2:$E$13,2,FALSE))","v":0.26},{"$f":"IF(B161=\"\",\"\",VLOOKUP(D161,Tablas!$B$2:$G$13,6,FALSE))","v":0},91104.000000000015,11595.990432000002,762933.94296196511,682409.60908941412,610384.26573292864,545960.88169313839,488337.1034822347,436795.26250647113,390693.43694675417,349457.45701856364,312573.75404164911,279582.96425907797,250074.20774515023,223679.97114950826,200071.53054517737,178954.857374935,160066.95650709752,23898943138.290051,597473.57845725131]
[{"$f":"IF(ISBLANK(InfoPro!A155),\"\",InfoPro!A155)","v":"SC_2180_A2"},{"$f":"IF(ISBLANK(InfoPro!B155),\"\",InfoPro!B155)","v":"Yaguarundi Solar III 40 MW"},{"$f":"IF(ISBLANK(InfoPro!E155),\"\",InfoPro!E155)","v":40},{"$f":"IF(ISBLANK(InfoPro!F155),\"\",InfoPro!F155)","v":"Solar FV"},{"$f":"IF(ISBLANK(InfoPro!I155),\"\",YEAR(InfoPro!I155)-$G$3)","v":3},{"$f":"IF(B162=\"\",\"\",VLOOKUP(D162,Tablas!$B$2:$E$13,2,FALSE))","v":0.26},{"$f":"IF(B162=\"\",\"\",VLOOKUP(D162,Tablas!$B$2:$G$13,6,FALSE))","v":0},91104.000000000015,11595.990432000002,762933.94296196511,682409.60908941412,610384.26573292864,545960.88169313839,488337.1034822347,436795.26250647113,390693.43694675417,349457.45701856364,312573.75404164911,279582.96425907797,250074.20774515023,223679.97114950826,200071.53054517737,178954.857374935,160066.95650709752,23898943138.290051,597473.57845725131]
[{"$f":"IF(ISBLANK(InfoPro!A156),\"\",InfoPro!A156)","v":"SC_2185_A1"},{"$f":"IF(ISBLANK(InfoPro!B156),\"\",InfoPro!B156)","v":"Yaguarundi Solar IV 40 MW"},{"$f":"IF(ISBLANK(InfoPro!E156),\"\",InfoPro!E156)","v":40},{"$f":"IF(ISBLANK(InfoPro!F156),\"\",InfoPro!F156)","v":"Solar FV"},{"$f":"IF(ISBLANK(InfoPro!I156),\"\",YEAR(InfoPro!I156)-$G$3)","v":3},{"$f":"IF(B163=\"\",\"\",VLOOKUP(D163,Tablas!$B$2:$E$13,2,FALSE))","v":0.26},{"$f":"IF(B163=\"\",\"\",VLOOKUP(D163,Tablas!$B$2:$G$13,6,FALSE))","v":0},91104.000000000015,11595.990432000002,762933.94296196511,682409.60908941412,610384.26573292864,545960.88169313839,488337.1034822347,436795.26250647113,390693.43694675417,349457.45701856364,312573.75404164911,279582.96425907797,250074.20774515023,223679.97114950826,200071.53054517737,178954.857374935,160066.95650709752,23898943138.290051,597473.57845725131]
[{"$f":"IF(ISBLANK(InfoPro!A157),\"\",InfoPro!A157)","v":"SC_2185_A2"},{"$f":"IF(ISBLANK(InfoPro!B157),\"\",InfoPro!B157)","v":"Yaguarundi Solar IV 40 MW"},{"$f":"IF(ISBLANK(InfoPro!E157),\"\",InfoPro!E157)","v":40},{"$f":"IF(ISBLANK(InfoPro!F157),\"\",InfoPro!F157)","v":"Solar FV"},{"$f":"IF(ISBLANK(InfoPro!I157),\"\",YEAR(InfoPro!I157)-$G$3)","v":3},{"$f":"IF(B164=\"\",\"\",VLOOKUP(D164,Tablas!$B$2:$E$13,2,FALSE))","v":0.26},{"$f":"IF(B164=\"\",\"\",VLOOKUP(D164,Tablas!$B$2:$G$13,6,FALSE))","v":0},91104.000000000015,11595.990432000002,762933.94296196511,682409.60908941412,610384.26573292864,545960.88169313839,488337.1034822347,436795.26250647113,390693.43694675417,349457.45701856364,312573.75404164911,279582.96425907797,250074.20774515023,223679.97114950826,200071.53054517737,178954.857374935,160066.95650709752,23898943138.290051,597473.57845725131]
[{"$f":"IF(ISBLANK(InfoPro!A158),\"\",InfoPro!A158)","v":"SC_1926_A1"},{"$f":"IF(ISBLANK(InfoPro!B158),\"\",InfoPro!B158)","v":"Bongos I 9.90 MW"},{"$f":"IF(ISBLANK(InfoPro!E158),\"\",InfoPro!E158)","v":9.9},{"$f":"IF(ISBLANK(InfoPro!F158),\"\",InfoPro!F158)","v":"Solar FV"},{"$f":"IF(ISBLANK(InfoPro!I158),\"\",YEAR(InfoPro!I158)-$G$3)","v":1},{"$f":"IF(B165=\"\",\"\",VLOOKUP(D165,Tablas!$B$2:$E$13,2,FALSE))","v":0.26},{"$f":"IF(B165=\"\",\"\",VLOOKUP(D165,Tablas!$B$2:$G$13,6,FALSE))","v":0},22548.240000000005,2870.0076319200007,236018.33781639076,211107.63668729048,188826.15088308635,168896.37824963001,151070.10576889984,135125.31821905175,120863.4331118531,108106.82747035159,96696.625644321655,86490.72061209449,77362.004125308173,69196.783654121798,61893.366416924677,55360.792859503294,49517.703809931394,7393285994.2880507,746796.56507960113]
[{"$f":"IF(ISBLANK(InfoPro!A159),\"\",InfoPro!A159)","v":"SC_1926_A2"},{"$f":"IF(ISBLANK(InfoPro!B159),\"\",InfoPro!B159)","v":"Bongos I 9.90 MW"},{"$f":"IF(ISBLANK(InfoPro!E159),\"\",InfoPro!E159)","v":9.9},{"$f":"IF(ISBLANK(InfoPro!F159),\"\",InfoPro!F159)","v":"Solar FV"},{"$f":"IF(ISBLANK(InfoPro!I159),\"\",YEAR(InfoPro!I159)-$G$3)","v":1},{"$f":"IF(B166=\"\",\"\",VLOOKUP(D166,Tablas!$B$2:$E$13,2,FALSE))","v":0.26},{"$f":"IF(B166=\"\",\"\",VLOOKUP(D166,Tablas!$B$2:$G$13,6,FALSE))","v":0},22548.240000000005,2870.0076319200007,236018.33781639076,211107.63668729048,188826.15088308635,168896.37824963001,151070.10576889984,135125.31821905175,120863.4331118531,108106.82747035159,96696.625644321655,86490.72061209449,77362.004125308173,69196.783654121798,61893.366416924677,55360.792859503294,49517.703809931394,7393285994.2880507,746796.56507960113]
[{"$f":"IF(ISBLANK(InfoPro!A160),\"\",InfoPro!A160)","v":"SC_1825_A1"},{"$f":"IF(ISBLANK(InfoPro!B160),\"\",InfoPro!B160)","v":"PROYECTO DE GENERACIÓN ELÉCTRICA EL JOBO_200MW"},{"$f":"IF(ISBLANK(InfoPro!E160),\"\",InfoPro!E160)","v":200},{"$f":"IF(ISBLANK(InfoPro!F160),\"\",InfoPro!F160)","v":"Termica a vapor"},{"$f":"IF(ISBLANK(InfoPro!I160),\"\",YEAR(InfoPro!I160)-$G$3)","v":3},{"$f":"IF(B167=\"\",\"\",VLOOKUP(D167,Tablas!$B$2:$E$13,2,FALSE))","v":0.85},{"$f":"IF(B167=\"\",\"\",VLOOKUP(D167,Tablas!$B$2:$G$13,6,FALSE))","v":0.37},1489200,-361454.15639999998,-23781120.410486612,-21271127.379683916,-19026053.112418529,-17017936.594292063,-15221767.973427609,-13615177.078200011,-12178154.810554571,-10892803.945039866,-9743116.2299104389,-8714773.0142311603,-7794966.9179169601,-6972242.3237182116,-6236352.7045780085,-5578133.0094615445,-4989385.5183019182,-744944761860.44116,-3724723.8093022057]
[{"$f":"IF(ISBLANK(InfoPro!A161),\"\",InfoPro!A161)","v":"SC_1897_A1"},{"$f":"IF(ISBLANK(InfoPro!B161),\"\",InfoPro!B161)","v":"La Florecita 90 MW"},{"$f":"IF(ISBLANK(InfoPro!E161),\"\",InfoPro!E161)","v":90},{"$f":"IF(ISBLANK(InfoPro!F161),\"\",InfoPro!F161)","v":"Solar FV"},{"$f":"IF(ISBLANK(InfoPro!I161),\"\",YEAR(InfoPro!I161)-$G$3)","v":3},{"$f":"IF(B168=\"\",\"\",VLOOKUP(D168,Tablas!$B$2:$E$13,2,FALSE))","v":0.26},{"$f":"IF(B168=\"\",\"\",VLOOKUP(D168,Tablas!$B$2:$G$13,6,FALSE))","v":0},204984,26090.978472000003,1716601.3716644212,1535421.6204511817,1373364.5978990893,1228411.983809561,1098758.4828350279,982789.3406395599,879060.23313019669,786279.27829176816,703290.94659371045,629061.66958292527,562666.96742658794,503279.93508639355,450160.94372664898,402648.42909360369,360150.65214096935,53772622061.152596,597473.57845725107]
[{"$f":"IF(ISBLANK(InfoPro!A162),\"\",InfoPro!A162)","v":"SC_1897_A2"},{"$f":"IF(ISBLANK(InfoPro!B162),\"\",InfoPro!B162)","v":"La Florecita 90 MW"},{"$f":"IF(ISBLANK(InfoPro!E162),\"\",InfoPro!E162)","v":90},{"$f":"IF(ISBLANK(InfoPro!F162),\"\",InfoPro!F162)","v":"Solar FV"},{"$f":"IF(ISBLANK(InfoPro!I162),\"\",YEAR(InfoPro!I162)-$G$3)","v":3},{"$f":"IF(B169=\"\",\"\",VLOOKUP(D169,Tablas!$B$2:$E$13,2,FALSE))","v":0.26},{"$f":"IF(B169=\"\",\"\",VLOOKUP(D169,Tablas!$B$2:$G$13,6,FALSE))","v":0},204984,26090.978472000003,1716601.3716644212,1535421.6204511817,1373364.5978990893,1228411.983809561,1098758.4828350279,982789.3406395599,879060.23313019669,786279.27829176816,703290.94659371045,629061.66958292527,562666.96742658794,503279.93508639355,450160.94372664898,402648.42909360369,360150.65214096935,53772622061.152596,597473.57845725107]
[{"$f":"IF(ISBLANK(InfoPro!A163),\"\",InfoPro!A163)","v":"SC_2014_A1"},{"$f":"IF(ISBLANK(InfoPro!B163),\"\",InfoPro!B163)","v":"Lotería 2"},{"$f":"IF(ISBLANK(InfoPro!E163),\"\",InfoPro!E163)","v":9.9},{"$f":"IF(ISBLANK(InfoPro!F163),\"\",InfoPro!F163)","v":"Solar FV"},{"$f":"IF(ISBLANK(InfoPro!I163),\"\",YEAR(InfoPro!I163)-$G$3)","v":1},{"$f":"IF(B170=\"\",\"\",VLOOKUP(D170,Tablas!$B$2:$E$13,2,FALSE))","v":0.26},{"$f":"IF(B170=\"\",\"\",VLOOKUP(D170,Tablas!$B$2:$G$13,6,FALSE))","v":0},22548.240000000005,2870.0076319200007,{"$f":"IF($I170=\"\",\"\",(1/(1+$C$4)^(J$7+$E170))*$I170*$C$5)","v":236018.33781639076},211107.63668729048,188826.15088308635,168896.37824963001,151070.10576889984,135125.31821905175,120863.4331118531,108106.82747035159,96696.625644321655,86490.72061209449,77362.004125308173,69196.783654121798,61893.366416924677,55360.792859503294,49517.703809931394,7393285994.2880507,746796.56507960113]
[{"$f":"IF(ISBLANK(InfoPro!A164),\"\",InfoPro!A164)","v":"SC_2014_A2"},{"$f":"IF(ISBLANK(InfoPro!B164),\"\",InfoPro!B164)","v":"Lotería 2"},{"$f":"IF(ISBLANK(InfoPro!E164),\"\",InfoPro!E164)","v":9.9},{"$f":"IF(ISBLANK(InfoPro!F164),\"\",InfoPro!F164)","v":"Solar FV"},{"$f":"IF(ISBLANK(InfoPro!I164),\"\",YEAR(InfoPro!I164)-$G$3)","v":1},{"$f":"IF(B171=\"\",\"\",VLOOKUP(D171,Tablas!$B$2:$E$13,2,FALSE))","v":0.26},{"$f":"IF(B171=\"\",\"\",VLOOKUP(D171,Tablas!$B$2:$G$13,6,FALSE))","v":0},22548.240000000005,2870.0076319200007,236018.33781639076,211107.63668729048,188826.15088308635,168896.37824963001,151070.10576889984,135125.31821905175,120863.4331118531,108106.82747035159,96696.625644321655,86490.72061209449,77362.004125308173,69196.783654121798,61893.366416924677,55360.792859503294,49517.703809931394,7393285994.2880507,746796.56507960113]
[{"$f":"IF(ISBLANK(InfoPro!A165),\"\",InfoPro!A165)","v":"SC_2017_A1"},{"$f":"IF(ISBLANK(InfoPro!B165),\"\",InfoPro!B165)","v":"LOTERÍA 1"},{"$f":"IF(ISBLANK(InfoPro!E165),\"\",InfoPro!E165)","v":9.9},{"$f":"IF(ISBLANK(InfoPro!F165),\"\",InfoPro!F165)","v":"Solar FV"},{"$f":"IF(ISBLANK(InfoPro!I165),\"\",YEAR(InfoPro!I165)-$G$3)","v":1},{"$f":"IF(B172=\"\",\"\",VLOOKUP(D172,Tablas!$B$2:$E$13,2,FALSE))","v":0.26},{"$f":"IF(B172=\"\",\"\",VLOOKUP(D172,Tablas!$B$2:$G$13,6,FALSE))","v":0},22548.240000000005,2870.0076319200007,236018.33781639076,211107.63668729048,188826.15088308635,168896.37824963001,151070.10576889984,135125.31821905175,120863.4331118531,108106.82747035159,96696.625644321655,86490.72061209449,77362.004125308173,69196.783654121798,61893.366416924677,55360.792859503294,49517.703809931394,7393285994.2880507,746796.56507960113]
[{"$f":"IF(ISBLANK(InfoPro!A166),\"\",InfoPro!A166)","v":"SC_2017_A2"},{"$f":"IF(ISBLANK(InfoPro!B166),\"\",InfoPro!B166)","v":"LOTERÍA 1"},{"$f":"IF(ISBLANK(InfoPro!E166),\"\",InfoPro!E166)","v":9.9},{"$f":"IF(ISBLANK(InfoPro!F166),\"\",InfoPro!F166)","v":"Solar FV"},{"$f":"IF(ISBLANK(InfoPro!I166),\"\",YEAR(InfoPro!I166)-$G$3)","v":1},{"$f":"IF(B173=\"\",\"\",VLOOKUP(D173,Tablas!$B$2:$E$13,2,FALSE))","v":0.26},{"$f":"IF(B173=\"\",\"\",VLOOKUP(D173,Tablas!$B$2:$G$13,6,FALSE))","v":0},22548.240000000005,2870.0076319200007,236018.33781639076,211107.63668729048,188826.15088308635,168896.37824963001,151070.10576889984,135125.31821905175,120863.4331118531,108106.82747035159,96696.625644321655,86490.72061209449,77362.004125308173,69196.783654121798,61893.366416924677,55360.792859503294,49517.703809931394,7393285994.2880507,746796.56507960113]
[{"$f":"IF(ISBLANK(InfoPro!A167),\"\",InfoPro!A167)","v":"SC_2165_A1"},{"$f":"IF(ISBLANK(InfoPro!B167),\"\",InfoPro!B167)","v":"Autogeneración Solar Fotovoltaica 9.9 MW (entrega de excedentes de 0)"},{"$f":"IF(ISBLANK(InfoPro!E167),\"\",InfoPro!E167)","v":0},{"$f":"IF(ISBLANK(InfoPro!F167),\"\",InfoPro!F167)","v":"Solar FV"},{"$f":"IF(ISBLANK(InfoPro!I167),\"\",YEAR(InfoPro!I167)-$G$3)","v":0},{"$f":"IF(B174=\"\",\"\",VLOOKUP(D174,Tablas!$B$2:$E$13,2,FALSE))","v":0.26},{"$f":"IF(B174=\"\",\"\",VLOOKUP(D174,Tablas!$B$2:$G$13,6,FALSE))","v":0},0,0,0,0,0,0,0,0,0,0,0,0,0,0,0,0,0,0,0]
[{"$f":"IF(ISBLANK(InfoPro!A168),\"\",InfoPro!A168)","v":"SC_1820\n_A1"},{"$f":"IF(ISBLANK(InfoPro!B168),\"\",InfoPro!B168)","v":"NAIOT"},{"$f":"IF(ISBLANK(InfoPro!E168),\"\",InfoPro!E168)","v":19.899999999999999},{"$f":"IF(ISBLANK(InfoPro!F168),\"\",InfoPro!F168)","v":"Solar FV"},{"$f":"IF(ISBLANK(InfoPro!I168),\"\",YEAR(InfoPro!I168)-$G$3)","v":1},{"$f":"IF(B175=\"\",\"\",VLOOKUP(D175,Tablas!$B$2:$E$13,2,FALSE))","v":0.26},{"$f":"IF(B175=\"\",\"\",VLOOKUP(D175,Tablas!$B$2:$G$13,6,FALSE))","v":0},45324.24,5769.0052399200003,474420.69924708846,424347.67374515958,379559.63662357756,339498.78052198351,303666.17220213194,271615.53864233627,242947.70898241174,217305.64309696935,194369.98488101017,173855.08486673539,155505.44263572042,139092.52471889125,124411.91835321223,111280.78564688035,99535.58644622573,14861251645.084061,746796.56507960102]
[{"$f":"IF(ISBLANK(InfoPro!A169),\"\",InfoPro!A169)","v":"SC_1820\n_A2"},{"$f":"IF(ISBLANK(InfoPro!B169),\"\",InfoPro!B169)","v":"NAIOT"},{"$f":"IF(ISBLANK(InfoPro!E169),\"\",InfoPro!E169)","v":19.899999999999999},{"$f":"IF(ISBLANK(InfoPro!F169),\"\",InfoPro!F169)","v":"Solar FV"},{"$f":"IF(ISBLANK(InfoPro!I169),\"\",YEAR(InfoPro!I169)-$G$3)","v":1},{"$f":"IF(B176=\"\",\"\",VLOOKUP(D176,Tablas!$B$2:$E$13,2,FALSE))","v":0.26},{"$f":"IF(B176=\"\",\"\",VLOOKUP(D176,Tablas!$B$2:$G$13,6,FALSE))","v":0},45324.24,5769.0052399200003,474420.69924708846,424347.67374515958,379559.63662357756,339498.78052198351,303666.17220213194,271615.53864233627,242947.70898241174,217305.64309696935,194369.98488101017,173855.08486673539,155505.44263572042,139092.52471889125,124411.91835321223,111280.78564688035,99535.58644622573,14861251645.084061,746796.56507960102]
[{"$f":"IF(ISBLANK(InfoPro!A170),\"\",InfoPro!A170)","v":"SC_2325_A1"},{"$f":"IF(ISBLANK(InfoPro!B170),\"\",InfoPro!B170)","v":"PROYECTO FOTOVOLTAICO MONTERROSO DE 99,9 MW"},{"$f":"IF(ISBLANK(InfoPro!E170),\"\",InfoPro!E170)","v":99.9},{"$f":"IF(ISBLANK(InfoPro!F170),\"\",InfoPro!F170)","v":"Solar FV"},{"$f":"IF(ISBLANK(InfoPro!I170),\"\",YEAR(InfoPro!I170)-$G$3)","v":3},{"$f":"IF(B177=\"\",\"\",VLOOKUP(D177,Tablas!$B$2:$E$13,2,FALSE))","v":0.26},{"$f":"IF(B177=\"\",\"\",VLOOKUP(D177,Tablas!$B$2:$G$13,6,FALSE))","v":0},227532.24000000002,28960.986103920004,1905427.5225475074,1704317.9987008118,1524434.7036679892,1363537.3020286129,1219621.9159468811,1090896.1681099115,975756.85877451848,872769.99890386255,780652.9507190187,698258.45323704707,624560.33384351269,558640.72794589691,499678.64753658051,446939.75629390014,399767.223876476,59687610487.879402,597473.57845725131]
[{"$f":"IF(ISBLANK(InfoPro!A171),\"\",InfoPro!A171)","v":"SC_2325_A2"},{"$f":"IF(ISBLANK(InfoPro!B171),\"\",InfoPro!B171)","v":"PROYECTO FOTOVOLTAICO MONTERROSO DE 99,9 MW"},{"$f":"IF(ISBLANK(InfoPro!E171),\"\",InfoPro!E171)","v":99.9},{"$f":"IF(ISBLANK(InfoPro!F171),\"\",InfoPro!F171)","v":"Solar FV"},{"$f":"IF(ISBLANK(InfoPro!I171),\"\",YEAR(InfoPro!I171)-$G$3)","v":3},{"$f":"IF(B178=\"\",\"\",VLOOKUP(D178,Tablas!$B$2:$E$13,2,FALSE))","v":0.26},{"$f":"IF(B178=\"\",\"\",VLOOKUP(D178,Tablas!$B$2:$G$13,6,FALSE))","v":0},{"$f":"IF(C178=\"\",\"\",+C178*F178*24*365)","v":227532.24000000002},{"$f":"IF(H178=\"\",\"\",+H178*($C$3-G178))","v":28960.986103920004},1905427.5225475074,1704317.9987008118,1524434.7036679892,1363537.3020286129,1219621.9159468811,1090896.1681099115,975756.85877451848,872769.99890386255,780652.9507190187,698258.45323704707,624560.33384351269,558640.72794589691,499678.64753658051,446939.75629390014,399767.223876476,{"$f":"IF(X178=\"\",\"\",SUM(J178:X178)*$C$6)","v":59687610487.879402},{"$f":"IF(C178=0,0,IF(Y178=\"\",\"\",Y178/(C178*1000)))","v":597473.57845725131}]
[{"$f":"IF(ISBLANK(InfoPro!A172),\"\",InfoPro!A172)","v":""},{"$f":"IF(ISBLANK(InfoPro!B172),\"\",InfoPro!B172)","v":""},{"$f":"IF(ISBLANK(InfoPro!E172),\"\",InfoPro!E172)","v":""},{"$f":"IF(ISBLANK(InfoPro!F172),\"\",InfoPro!F172)","v":""},{"$f":"IF(ISBLANK(InfoPro!I172),\"\",YEAR(InfoPro!I172)-$G$3)","v":""},{"$f":"IF(B179=\"\",\"\",VLOOKUP(D179,Tablas!$B$2:$E$13,2,FALSE))","v":""},{"$f":"IF(B179=\"\",\"\",VLOOKUP(D179,Tablas!$B$2:$G$13,6,FALSE))","v":""},"","","","","","","","","","","","","","","","","","",""]
[{"$f":"IF(ISBLANK(InfoPro!A173),\"\",InfoPro!A173)","v":""},{"$f":"IF(ISBLANK(InfoPro!B173),\"\",InfoPro!B173)","v":""},{"$f":"IF(ISBLANK(InfoPro!E173),\"\",InfoPro!E173)","v":""},{"$f":"IF(ISBLANK(InfoPro!F173),\"\",InfoPro!F173)","v":""},{"$f":"IF(ISBLANK(InfoPro!I173),\"\",YEAR(InfoPro!I173)-$G$3)","v":""},{"$f":"IF(B180=\"\",\"\",VLOOKUP(D180,Tablas!$B$2:$E$13,2,FALSE))","v":""},{"$f":"IF(B180=\"\",\"\",VLOOKUP(D180,Tablas!$B$2:$G$13,6,FALSE))","v":""},"","","","","","","","","","","","","","","","","","",""]

{"sheet":"EC-RP","index":5,"n_rows":182,"n_cols":26,"rows_kept":182,"cut":false,"hidden":false,"merged":[]}
[]
[null,"Precio promedio de bolsa",192057,"COP/MWh"]
[null,"Tasa de descuento",0.11799999999999999,null,null,"Año de Referencia",null,2023]
[null,null,null,null,null,"Mínimo",null,{"$f":"MIN(Z8:Z350)","v":-3849395.1182351531}]
[]
[null,null,null,null,null,null,null,null,null,0,1,2,3,4,5,6,7,8,9,10,11,12,13,14]
["Codigo","Nombre","capacidad","Tecnologia","Año de entrada","FP","Precio de oferta","Desviacion","Produccion media/a MWh/a","Flujo Descontado 0","Flujo Descontado 1","Flujo Descontado 2","Flujo Descontado 3","Flujo Descontado 4","Flujo Descontado 5","Flujo Descontado 6","Flujo Descontado 7","Flujo Descontado 8","Flujo Descontado 9","Flujo Descontado 10","Flujo Descontado 11","Flujo Descontado 12","Flujo Descontado 13","Flujo Descontado 14","VPN","Beneficio/kW"]
[{"$f":"IF(ISBLANK(InfoPro!A2),\"\",InfoPro!A2)","v":"SC_44_A1"},{"$f":"IF(ISBLANK(InfoPro!B2),\"\",InfoPro!B2)","v":"El Floral 1"},{"$f":"IF(ISBLANK(InfoPro!E2),\"\",InfoPro!E2)","v":19.899999999999999},{"$f":"IF(ISBLANK(InfoPro!F2),\"\",InfoPro!F2)","v":"Solar FV"},{"$f":"IF(ISBLANK(InfoPro!I2),\"\",YEAR(InfoPro!I2)-$H$3)","v":2},{"$f":"IF(B8=\"\",\"\",VLOOKUP(D8,Tablas!$B$2:$E$13,2,FALSE))","v":0.26},{"$f":"IF(B8=\"\",\"\",VLOOKUP(D8,Tablas!$B$2:$H$13,7,FALSE))","v":83577.200000000012},{"$f":"IF(B8=\"\",\"\",($C$2-(G8))/$C$2)","v":0.56483127404885003},{"$f":"IF(C8=\"\",\"\",+C8*F8*24*365)","v":45324.24},{"$f":"IF($I8=\"\",\"\",(1/(1+$C$3)^(J$6+$E8))*$I8*$C$2*$H8)","v":3933650758.2477007},{"$f":"IF($I8=\"\",\"\",(1/(1+$C$3)^(K$6+$E8))*$I8*$C$2*$H8)","v":3518471161.2233472},3147111951.0047832,2814948077.8218098,2517842645.6366811,2252095389.6571393,2014396591.8221281,1801785860.3060179,1611615259.6654899,1441516332.4378271,1289370601.4649615,1153283185.5679443,1031559199.9713278,922682647.55932724,{"$f":"IF($I8=\"\",\"\",(1/(1+$C$3)^(X$6+$E8))*$I8*$C$2*$H8)","v":825297538.06737649},{"$f":"IF(X8=\"\",\"\",SUM(J8:X8))","v":30275627200.453861},{"$f":"IF(C8=0,0,IF(Y8=\"\",\"\",Y8/(C8*1000)))","v":1521388.3015303449}]
[{"$f":"IF(ISBLANK(InfoPro!A3),\"\",InfoPro!A3)","v":"SC_47_A1"},{"$f":"IF(ISBLANK(InfoPro!B3),\"\",InfoPro!B3)","v":"El Floral II - 19.9 MW"},{"$f":"IF(ISBLANK(InfoPro!E3),\"\",InfoPro!E3)","v":19.899999999999999},{"$f":"IF(ISBLANK(InfoPro!F3),\"\",InfoPro!F3)","v":"Solar FV"},{"$f":"IF(ISBLANK(InfoPro!I3),\"\",YEAR(InfoPro!I3)-$H$3)","v":2},{"$f":"IF(B9=\"\",\"\",VLOOKUP(D9,Tablas!$B$2:$E$13,2,FALSE))","v":0.26},{"$f":"IF(B9=\"\",\"\",VLOOKUP(D9,Tablas!$B$2:$H$13,7,FALSE))","v":83577.200000000012},{"$f":"IF(B9=\"\",\"\",($C$2-(G9))/$C$2)","v":0.56483127404885003},{"$f":"IF(C9=\"\",\"\",+C9*F9*24*365)","v":45324.24},3933650758.2477007,3518471161.2233472,3147111951.0047832,2814948077.8218098,2517842645.6366811,2252095389.6571393,2014396591.8221281,1801785860.3060179,1611615259.6654899,1441516332.4378271,1289370601.4649615,1153283185.5679443,1031559199.9713278,922682647.55932724,825297538.06737649,{"$f":"IF(X9=\"\",\"\",SUM(J9:X9))","v":30275627200.453861},{"$f":"IF(C9=0,0,IF(Y9=\"\",\"\",Y9/(C9*1000)))","v":1521388.3015303449}]
[{"$f":"IF(ISBLANK(InfoPro!A4),\"\",InfoPro!A4)","v":"SC_408_A1"},{"$f":"IF(ISBLANK(InfoPro!B4),\"\",InfoPro!B4)","v":"El Jardín 40 MW"},{"$f":"IF(ISBLANK(InfoPro!E4),\"\",InfoPro!E4)","v":40},{"$f":"IF(ISBLANK(InfoPro!F4),\"\",InfoPro!F4)","v":"Solar FV"},{"$f":"IF(ISBLANK(InfoPro!I4),\"\",YEAR(InfoPro!I4)-$H$3)","v":2},{"$f":"IF(B10=\"\",\"\",VLOOKUP(D10,Tablas!$B$2:$E$13,2,FALSE))","v":0.26},{"$f":"IF(B10=\"\",\"\",VLOOKUP(D10,Tablas!$B$2:$H$13,7,FALSE))","v":83577.200000000012},0.56483127404885003,91104.000000000015,7906835694.9702559,7072303841.6549711,6325853167.8488111,5658187091.0991154,5060990242.4857931,4526824903.8334465,4049038375.5218658,3621680121.2181273,3239427657.6190763,2897520266.2066884,2591699701.437109,2318157156.9204912,2073485829.0880964,1854638487.556437,1658889523.7535212,60855532061.213814,{"$f":"IF(C10=0,0,IF(Y10=\"\",\"\",Y10/(C10*1000)))","v":1521388.3015303453}]
[{"$f":"IF(ISBLANK(InfoPro!A5),\"\",InfoPro!A5)","v":"SC_454_A1"},{"$f":"IF(ISBLANK(InfoPro!B5),\"\",InfoPro!B5)","v":"PARQUE SOLAR SAN RAFAEL - 300 MW"},{"$f":"IF(ISBLANK(InfoPro!E5),\"\",InfoPro!E5)","v":300},{"$f":"IF(ISBLANK(InfoPro!F5),\"\",InfoPro!F5)","v":"Solar FV"},{"$f":"IF(ISBLANK(InfoPro!I5),\"\",YEAR(InfoPro!I5)-$H$3)","v":3},{"$f":"IF(B11=\"\",\"\",VLOOKUP(D11,Tablas!$B$2:$E$13,2,FALSE))","v":0.26},{"$f":"IF(B11=\"\",\"\",VLOOKUP(D11,Tablas!$B$2:$H$13,7,FALSE))","v":83577.200000000012},0.56483127404885003,683280,53042278812.41227,47443898758.866074,42436403183.243362,37957426818.64344,33951186778.750843,30367787816.413994,27162600909.135956,24295707432.14307,21731401996.550156,19437747760.778316,17386178676.903683,15551143718.160719,13909788656.673277,12441671428.151405,11128507538.596966,408243730285.42365,1360812.4342847455]
[{"$f":"IF(ISBLANK(InfoPro!A6),\"\",InfoPro!A6)","v":"SC_454_A2"},{"$f":"IF(ISBLANK(InfoPro!B6),\"\",InfoPro!B6)","v":"PARQUE SOLAR SAN RAFAEL - 300 MW"},{"$f":"IF(ISBLANK(InfoPro!E6),\"\",InfoPro!E6)","v":300},{"$f":"IF(ISBLANK(InfoPro!F6),\"\",InfoPro!F6)","v":"Solar FV"},{"$f":"IF(ISBLANK(InfoPro!I6),\"\",YEAR(InfoPro!I6)-$H$3)","v":3},{"$f":"IF(B12=\"\",\"\",VLOOKUP(D12,Tablas!$B$2:$E$13,2,FALSE))","v":0.26},{"$f":"IF(B12=\"\",\"\",VLOOKUP(D12,Tablas!$B$2:$H$13,7,FALSE))","v":83577.200000000012},0.56483127404885003,683280,53042278812.41227,47443898758.866074,42436403183.243362,37957426818.64344,33951186778.750843,30367787816.413994,27162600909.135956,24295707432.14307,21731401996.550156,19437747760.778316,17386178676.903683,15551143718.160719,13909788656.673277,12441671428.151405,11128507538.596966,408243730285.42365,1360812.4342847455]
[{"$f":"IF(ISBLANK(InfoPro!A7),\"\",InfoPro!A7)","v":"SC_483_A1"},{"$f":"IF(ISBLANK(InfoPro!B7),\"\",InfoPro!B7)","v":"PARQUE SOLAR LOMAS 39.9 MW"},{"$f":"IF(ISBLANK(InfoPro!E7),\"\",InfoPro!E7)","v":39.9},{"$f":"IF(ISBLANK(InfoPro!F7),\"\",InfoPro!F7)","v":"Solar FV"},{"$f":"IF(ISBLANK(InfoPro!I7),\"\",YEAR(InfoPro!I7)-$H$3)","v":2},{"$f":"IF(B13=\"\",\"\",VLOOKUP(D13,Tablas!$B$2:$E$13,2,FALSE))","v":0.26},{"$f":"IF(B13=\"\",\"\",VLOOKUP(D13,Tablas!$B$2:$H$13,7,FALSE))","v":83577.200000000012},0.56483127404885003,90876.24,7887068605.7328291,7054623082.0508327,6310038534.9291878,5644041623.3713675,5048337766.8795786,4515507841.5738621,4038915779.5830612,3612625920.9150815,3231329088.4750285,2890276465.5411711,2585220452.183516,2312361764.0281901,2068302114.5153756,1850001891.3375456,1654742299.9441373,60703393231.060768,1521388.3015303451]
[{"$f":"IF(ISBLANK(InfoPro!A8),\"\",InfoPro!A8)","v":"SC_586_A1"},{"$f":"IF(ISBLANK(InfoPro!B8),\"\",InfoPro!B8)","v":"Orquídea del Sucre - Sierra Flor 60 MW"},{"$f":"IF(ISBLANK(InfoPro!E8),\"\",InfoPro!E8)","v":60},{"$f":"IF(ISBLANK(InfoPro!F8),\"\",InfoPro!F8)","v":"Solar FV"},{"$f":"IF(ISBLANK(InfoPro!I8),\"\",YEAR(InfoPro!I8)-$H$3)","v":4},{"$f":"IF(B14=\"\",\"\",VLOOKUP(D14,Tablas!$B$2:$E$13,2,FALSE))","v":0.26},{"$f":"IF(B14=\"\",\"\",VLOOKUP(D14,Tablas!$B$2:$H$13,7,FALSE))","v":83577.200000000012},0.56483127404885003,136656,9488779751.7732162,8487280636.6486721,7591485363.7286863,6790237355.7501688,6073557563.2827988,5432520181.8271914,4859141486.4286146,4346280399.3100319,3887549552.155663,3477235735.3807364,3110228743.632144,2781957731.3346553,2488334285.6302814,2225701507.7193933,1990788468.4431064,73031078763.045364,1217184.6460507561]
[{"$f":"IF(ISBLANK(InfoPro!A9),\"\",InfoPro!A9)","v":"SC_586_A2"},{"$f":"IF(ISBLANK(InfoPro!B9),\"\",InfoPro!B9)","v":"Orquídea del Sucre - Sierra Flor 60 MW"},{"$f":"IF(ISBLANK(InfoPro!E9),\"\",InfoPro!E9)","v":60},{"$f":"IF(ISBLANK(InfoPro!F9),\"\",InfoPro!F9)","v":"Solar FV"},{"$f":"IF(ISBLANK(InfoPro!I9),\"\",YEAR(InfoPro!I9)-$H$3)","v":4},{"$f":"IF(B15=\"\",\"\",VLOOKUP(D15,Tablas!$B$2:$E$13,2,FALSE))","v":0.26},{"$f":"IF(B15=\"\",\"\",VLOOKUP(D15,Tablas!$B$2:$H$13,7,FALSE))","v":83577.200000000012},0.56483127404885003,136656,9488779751.7732162,8487280636.6486721,7591485363.7286863,6790237355.7501688,6073557563.2827988,5432520181.8271914,4859141486.4286146,4346280399.3100319,3887549552.155663,3477235735.3807364,3110228743.632144,2781957731.3346553,2488334285.6302814,2225701507.7193933,1990788468.4431064,73031078763.045364,1217184.6460507561]
[{"$f":"IF(ISBLANK(InfoPro!A10),\"\",InfoPro!A10)","v":"SC_681_A1"},{"$f":"IF(ISBLANK(InfoPro!B10),\"\",InfoPro!B10)","v":"PARQUE SOLARLAS LAS PALMAS de 90MW"},{"$f":"IF(ISBLANK(InfoPro!E10),\"\",InfoPro!E10)","v":90},{"$f":"IF(ISBLANK(InfoPro!F10),\"\",InfoPro!F10)","v":"Solar FV"},{"$f":"IF(ISBLANK(InfoPro!I10),\"\",YEAR(InfoPro!I10)-$H$3)","v":2},{"$f":"IF(B16=\"\",\"\",VLOOKUP(D16,Tablas!$B$2:$E$13,2,FALSE))","v":0.26},{"$f":"IF(B16=\"\",\"\",VLOOKUP(D16,Tablas!$B$2:$H$13,7,FALSE))","v":83577.200000000012},0.56483127404885003,204984,17790380313.683075,15912683643.72368,14233169627.659822,12730920954.973007,11387228045.593029,10185356033.625252,9110336344.9241982,8148780272.7407846,7288712229.6429214,6519420598.9650469,5831324328.2334948,5215853603.071104,4665343115.4482155,4172936597.0019822,3732501428.4454212,136924947137.73102,1521388.3015303446]
[{"$f":"IF(ISBLANK(InfoPro!A11),\"\",InfoPro!A11)","v":"SC_681_A2"},{"$f":"IF(ISBLANK(InfoPro!B11),\"\",InfoPro!B11)","v":"PARQUE SOLARLAS LAS PALMAS de 90MW"},{"$f":"IF(ISBLANK(InfoPro!E11),\"\",InfoPro!E11)","v":90},{"$f":"IF(ISBLANK(InfoPro!F11),\"\",InfoPro!F11)","v":"Solar FV"},{"$f":"IF(ISBLANK(InfoPro!I11),\"\",YEAR(InfoPro!I11)-$H$3)","v":2},{"$f":"IF(B17=\"\",\"\",VLOOKUP(D17,Tablas!$B$2:$E$13,2,FALSE))","v":0.26},{"$f":"IF(B17=\"\",\"\",VLOOKUP(D17,Tablas!$B$2:$H$13,7,FALSE))","v":83577.200000000012},0.56483127404885003,204984,17790380313.683075,15912683643.72368,14233169627.659822,12730920954.973007,11387228045.593029,10185356033.625252,9110336344.9241982,8148780272.7407846,7288712229.6429214,6519420598.9650469,5831324328.2334948,5215853603.071104,4665343115.4482155,4172936597.0019822,3732501428.4454212,136924947137.73102,1521388.3015303446]
[{"$f":"IF(ISBLANK(InfoPro!A12),\"\",InfoPro!A12)","v":"SC_720_A1"},{"$f":"IF(ISBLANK(InfoPro!B12),\"\",InfoPro!B12)","v":"El Jazmín"},{"$f":"IF(ISBLANK(InfoPro!E12),\"\",InfoPro!E12)","v":19.899999999999999},{"$f":"IF(ISBLANK(InfoPro!F12),\"\",InfoPro!F12)","v":"Solar FV"},{"$f":"IF(ISBLANK(InfoPro!I12),\"\",YEAR(InfoPro!I12)-$H$3)","v":2},{"$f":"IF(B18=\"\",\"\",VLOOKUP(D18,Tablas!$B$2:$E$13,2,FALSE))","v":0.26},{"$f":"IF(B18=\"\",\"\",VLOOKUP(D18,Tablas!$B$2:$H$13,7,FALSE))","v":83577.200000000012},0.56483127404885003,45324.24,{"$f":"IF($I18=\"\",\"\",(1/(1+$C$3)^(J$6+$E18))*$I18*$C$2*$H18)","v":3933650758.2477007},3518471161.2233472,3147111951.0047832,2814948077.8218098,2517842645.6366811,2252095389.6571393,2014396591.8221281,1801785860.3060179,1611615259.6654899,1441516332.4378271,1289370601.4649615,1153283185.5679443,1031559199.9713278,922682647.55932724,825297538.06737649,30275627200.453861,1521388.3015303449]
[{"$f":"IF(ISBLANK(InfoPro!A13),\"\",InfoPro!A13)","v":"SC_720_A2"},{"$f":"IF(ISBLANK(InfoPro!B13),\"\",InfoPro!B13)","v":"El Jazmín"},{"$f":"IF(ISBLANK(InfoPro!E13),\"\",InfoPro!E13)","v":19.899999999999999},{"$f":"IF(ISBLANK(InfoPro!F13),\"\",InfoPro!F13)","v":"Solar FV"},{"$f":"IF(ISBLANK(InfoPro!I13),\"\",YEAR(InfoPro!I13)-$H$3)","v":2},{"$f":"IF(B19=\"\",\"\",VLOOKUP(D19,Tablas!$B$2:$E$13,2,FALSE))","v":0.26},{"$f":"IF(B19=\"\",\"\",VLOOKUP(D19,Tablas!$B$2:$H$13,7,FALSE))","v":83577.200000000012},0.56483127404885003,45324.24,3933650758.2477007,3518471161.2233472,3147111951.0047832,2814948077.8218098,2517842645.6366811,2252095389.6571393,2014396591.8221281,1801785860.3060179,1611615259.6654899,1441516332.4378271,1289370601.4649615,1153283185.5679443,1031559199.9713278,922682647.55932724,825297538.06737649,30275627200.453861,1521388.3015303449]
[{"$f":"IF(ISBLANK(InfoPro!A14),\"\",InfoPro!A14)","v":"SC_713_A1"},{"$f":"IF(ISBLANK(InfoPro!B14),\"\",InfoPro!B14)","v":"Crucero - 300MW"},{"$f":"IF(ISBLANK(InfoPro!E14),\"\",InfoPro!E14)","v":300},{"$f":"IF(ISBLANK(InfoPro!F14),\"\",InfoPro!F14)","v":"Solar FV"},{"$f":"IF(ISBLANK(InfoPro!I14),\"\",YEAR(InfoPro!I14)-$H$3)","v":4},{"$f":"IF(B20=\"\",\"\",VLOOKUP(D20,Tablas!$B$2:$E$13,2,FALSE))","v":0.26},{"$f":"IF(B20=\"\",\"\",VLOOKUP(D20,Tablas!$B$2:$H$13,7,FALSE))","v":83577.200000000012},0.56483127404885003,683280,47443898758.866074,42436403183.243362,37957426818.64344,33951186778.750843,30367787816.413994,27162600909.135956,24295707432.14307,21731401996.550156,19437747760.778316,17386178676.903683,15551143718.160719,13909788656.673277,12441671428.151405,11128507538.596966,9953942342.2155323,365155393815.22681,1217184.6460507561]
[{"$f":"IF(ISBLANK(InfoPro!A15),\"\",InfoPro!A15)","v":"SC_836_A1"},{"$f":"IF(ISBLANK(InfoPro!B15),\"\",InfoPro!B15)","v":"BONGO DEL SINÚ DE 19.9 MW"},{"$f":"IF(ISBLANK(InfoPro!E15),\"\",InfoPro!E15)","v":19.899999999999999},{"$f":"IF(ISBLANK(InfoPro!F15),\"\",InfoPro!F15)","v":"Solar FV"},{"$f":"IF(ISBLANK(InfoPro!I15),\"\",YEAR(InfoPro!I15)-$H$3)","v":2},{"$f":"IF(B21=\"\",\"\",VLOOKUP(D21,Tablas!$B$2:$E$13,2,FALSE))","v":0.26},{"$f":"IF(B21=\"\",\"\",VLOOKUP(D21,Tablas!$B$2:$H$13,7,FALSE))","v":83577.200000000012},0.56483127404885003,45324.24,3933650758.2477007,3518471161.2233472,3147111951.0047832,2814948077.8218098,2517842645.6366811,2252095389.6571393,2014396591.8221281,1801785860.3060179,1611615259.6654899,1441516332.4378271,1289370601.4649615,1153283185.5679443,1031559199.9713278,922682647.55932724,825297538.06737649,30275627200.453861,1521388.3015303449]
[{"$f":"IF(ISBLANK(InfoPro!A16),\"\",InfoPro!A16)","v":"SC_836_A2"},{"$f":"IF(ISBLANK(InfoPro!B16),\"\",InfoPro!B16)","v":"BONGO DEL SINÚ DE 19.9 MW"},{"$f":"IF(ISBLANK(InfoPro!E16),\"\",InfoPro!E16)","v":19.899999999999999},{"$f":"IF(ISBLANK(InfoPro!F16),\"\",InfoPro!F16)","v":"Solar FV"},{"$f":"IF(ISBLANK(InfoPro!I16),\"\",YEAR(InfoPro!I16)-$H$3)","v":2},{"$f":"IF(B22=\"\",\"\",VLOOKUP(D22,Tablas!$B$2:$E$13,2,FALSE))","v":0.26},{"$f":"IF(B22=\"\",\"\",VLOOKUP(D22,Tablas!$B$2:$H$13,7,FALSE))","v":83577.200000000012},0.56483127404885003,45324.24,3933650758.2477007,3518471161.2233472,3147111951.0047832,2814948077.8218098,2517842645.6366811,2252095389.6571393,2014396591.8221281,1801785860.3060179,1611615259.6654899,1441516332.4378271,1289370601.4649615,1153283185.5679443,1031559199.9713278,922682647.55932724,825297538.06737649,30275627200.453861,1521388.3015303449]
[{"$f":"IF(ISBLANK(InfoPro!A17),\"\",InfoPro!A17)","v":"SC_778_A1"},{"$f":"IF(ISBLANK(InfoPro!B17),\"\",InfoPro!B17)","v":"KOS 19.9"},{"$f":"IF(ISBLANK(InfoPro!E17),\"\",InfoPro!E17)","v":19.899999999999999},{"$f":"IF(ISBLANK(InfoPro!F17),\"\",InfoPro!F17)","v":"Solar FV"},{"$f":"IF(ISBLANK(InfoPro!I17),\"\",YEAR(InfoPro!I17)-$H$3)","v":2},{"$f":"IF(B23=\"\",\"\",VLOOKUP(D23,Tablas!$B$2:$E$13,2,FALSE))","v":0.26},{"$f":"IF(B23=\"\",\"\",VLOOKUP(D23,Tablas!$B$2:$H$13,7,FALSE))","v":83577.200000000012},0.56483127404885003,45324.24,3933650758.2477007,3518471161.2233472,3147111951.0047832,2814948077.8218098,2517842645.6366811,2252095389.6571393,2014396591.8221281,1801785860.3060179,1611615259.6654899,1441516332.4378271,1289370601.4649615,1153283185.5679443,1031559199.9713278,922682647.55932724,825297538.06737649,30275627200.453861,1521388.3015303449]
[{"$f":"IF(ISBLANK(InfoPro!A18),\"\",InfoPro!A18)","v":"SC_778_A2"},{"$f":"IF(ISBLANK(InfoPro!B18),\"\",InfoPro!B18)","v":"KOS 19.9"},{"$f":"IF(ISBLANK(InfoPro!E18),\"\",InfoPro!E18)","v":19.899999999999999},{"$f":"IF(ISBLANK(InfoPro!F18),\"\",InfoPro!F18)","v":"Solar FV"},{"$f":"IF(ISBLANK(InfoPro!I18),\"\",YEAR(InfoPro!I18)-$H$3)","v":2},{"$f":"IF(B24=\"\",\"\",VLOOKUP(D24,Tablas!$B$2:$E$13,2,FALSE))","v":0.26},{"$f":"IF(B24=\"\",\"\",VLOOKUP(D24,Tablas!$B$2:$H$13,7,FALSE))","v":83577.200000000012},0.56483127404885003,45324.24,3933650758.2477007,3518471161.2233472,3147111951.0047832,2814948077.8218098,2517842645.6366811,2252095389.6571393,2014396591.8221281,1801785860.3060179,1611615259.6654899,1441516332.4378271,1289370601.4649615,1153283185.5679443,1031559199.9713278,922682647.55932724,825297538.06737649,30275627200.453861,1521388.3015303449]
[{"$f":"IF(ISBLANK(InfoPro!A19),\"\",InfoPro!A19)","v":"SC_942_A1"},{"$f":"IF(ISBLANK(InfoPro!B19),\"\",InfoPro!B19)","v":"PASCUA_60MW"},{"$f":"IF(ISBLANK(InfoPro!E19),\"\",InfoPro!E19)","v":60},{"$f":"IF(ISBLANK(InfoPro!F19),\"\",InfoPro!F19)","v":"Solar FV"},{"$f":"IF(ISBLANK(InfoPro!I19),\"\",YEAR(InfoPro!I19)-$H$3)","v":3},{"$f":"IF(B25=\"\",\"\",VLOOKUP(D25,Tablas!$B$2:$E$13,2,FALSE))","v":0.26},{"$f":"IF(B25=\"\",\"\",VLOOKUP(D25,Tablas!$B$2:$H$13,7,FALSE))","v":83577.200000000012},0.56483127404885003,136656,10608455762.482452,9488779751.7732162,8487280636.6486721,7591485363.7286863,6790237355.7501688,6073557563.2827988,5432520181.8271914,4859141486.4286146,4346280399.3100319,3887549552.155663,3477235735.3807364,3110228743.632144,2781957731.3346553,2488334285.6302814,2225701507.7193933,81648746057.084686,1360812.4342847448]
[{"$f":"IF(ISBLANK(InfoPro!A20),\"\",InfoPro!A20)","v":"SC_942_A2"},{"$f":"IF(ISBLANK(InfoPro!B20),\"\",InfoPro!B20)","v":"PASCUA_60MW"},{"$f":"IF(ISBLANK(InfoPro!E20),\"\",InfoPro!E20)","v":60},{"$f":"IF(ISBLANK(InfoPro!F20),\"\",InfoPro!F20)","v":"Solar FV"},{"$f":"IF(ISBLANK(InfoPro!I20),\"\",YEAR(InfoPro!I20)-$H$3)","v":3},{"$f":"IF(B26=\"\",\"\",VLOOKUP(D26,Tablas!$B$2:$E$13,2,FALSE))","v":0.26},{"$f":"IF(B26=\"\",\"\",VLOOKUP(D26,Tablas!$B$2:$H$13,7,FALSE))","v":83577.200000000012},0.56483127404885003,136656,10608455762.482452,9488779751.7732162,8487280636.6486721,7591485363.7286863,6790237355.7501688,6073557563.2827988,5432520181.8271914,4859141486.4286146,4346280399.3100319,3887549552.155663,3477235735.3807364,3110228743.632144,2781957731.3346553,2488334285.6302814,2225701507.7193933,81648746057.084686,1360812.4342847448]
[{"$f":"IF(ISBLANK(InfoPro!A21),\"\",InfoPro!A21)","v":"SC_1763_A1"},{"$f":"IF(ISBLANK(InfoPro!B21),\"\",InfoPro!B21)","v":"Taurus Solar de 22MW (19,5 MW)"},{"$f":"IF(ISBLANK(InfoPro!E21),\"\",InfoPro!E21)","v":19.5},{"$f":"IF(ISBLANK(InfoPro!F21),\"\",InfoPro!F21)","v":"Solar FV"},{"$f":"IF(ISBLANK(InfoPro!I21),\"\",YEAR(InfoPro!I21)-$H$3)","v":2},{"$f":"IF(B27=\"\",\"\",VLOOKUP(D27,Tablas!$B$2:$E$13,2,FALSE))","v":0.26},{"$f":"IF(B27=\"\",\"\",VLOOKUP(D27,Tablas!$B$2:$H$13,7,FALSE))","v":83577.200000000012},0.56483127404885003,44413.200000000004,3854582401.2979994,3447748122.8067975,3083853419.3262949,2758366206.9108186,2467232743.2118239,2206827140.6188049,1973906208.0669096,1765569059.093837,1579220983.0892994,1412541129.7757602,1263453604.4505906,1130101613.9987395,1010824341.6804467,904136262.68376279,808708642.82984149,29667071879.841728,1521388.3015303451]
[{"$f":"IF(ISBLANK(InfoPro!A22),\"\",InfoPro!A22)","v":"SC_1763_A2"},{"$f":"IF(ISBLANK(InfoPro!B22),\"\",InfoPro!B22)","v":"Taurus Solar de 22MW (19,5 MW)"},{"$f":"IF(ISBLANK(InfoPro!E22),\"\",InfoPro!E22)","v":19.5},{"$f":"IF(ISBLANK(InfoPro!F22),\"\",InfoPro!F22)","v":"Solar FV"},{"$f":"IF(ISBLANK(InfoPro!I22),\"\",YEAR(InfoPro!I22)-$H$3)","v":2},{"$f":"IF(B28=\"\",\"\",VLOOKUP(D28,Tablas!$B$2:$E$13,2,FALSE))","v":0.26},{"$f":"IF(B28=\"\",\"\",VLOOKUP(D28,Tablas!$B$2:$H$13,7,FALSE))","v":83577.200000000012},0.56483127404885003,44413.200000000004,{"$f":"IF($I28=\"\",\"\",(1/(1+$C$3)^(J$6+$E28))*$I28*$C$2*$H28)","v":3854582401.2979994},3447748122.8067975,3083853419.3262949,2758366206.9108186,2467232743.2118239,2206827140.6188049,1973906208.0669096,1765569059.093837,1579220983.0892994,1412541129.7757602,1263453604.4505906,1130101613.9987395,1010824341.6804467,904136262.68376279,808708642.82984149,29667071879.841728,1521388.3015303451]
[{"$f":"IF(ISBLANK(InfoPro!A23),\"\",InfoPro!A23)","v":"SC_828_A1"},{"$f":"IF(ISBLANK(InfoPro!B23),\"\",InfoPro!B23)","v":"PARQUE SOLAR EL VASCO"},{"$f":"IF(ISBLANK(InfoPro!E23),\"\",InfoPro!E23)","v":60},{"$f":"IF(ISBLANK(InfoPro!F23),\"\",InfoPro!F23)","v":"Solar FV"},{"$f":"IF(ISBLANK(InfoPro!I23),\"\",YEAR(InfoPro!I23)-$H$3)","v":3},{"$f":"IF(B29=\"\",\"\",VLOOKUP(D29,Tablas!$B$2:$E$13,2,FALSE))","v":0.26},{"$f":"IF(B29=\"\",\"\",VLOOKUP(D29,Tablas!$B$2:$H$13,7,FALSE))","v":83577.200000000012},0.56483127404885003,136656,10608455762.482452,9488779751.7732162,8487280636.6486721,7591485363.7286863,6790237355.7501688,6073557563.2827988,5432520181.8271914,4859141486.4286146,4346280399.3100319,3887549552.155663,3477235735.3807364,3110228743.632144,2781957731.3346553,2488334285.6302814,2225701507.7193933,81648746057.084686,1360812.4342847448]
[{"$f":"IF(ISBLANK(InfoPro!A24),\"\",InfoPro!A24)","v":"SC_828_A2"},{"$f":"IF(ISBLANK(InfoPro!B24),\"\",InfoPro!B24)","v":"PARQUE SOLAR EL VASCO"},{"$f":"IF(ISBLANK(InfoPro!E24),\"\",InfoPro!E24)","v":60},{"$f":"IF(ISBLANK(InfoPro!F24),\"\",InfoPro!F24)","v":"Solar FV"},{"$f":"IF(ISBLANK(InfoPro!I24),\"\",YEAR(InfoPro!I24)-$H$3)","v":3},{"$f":"IF(B30=\"\",\"\",VLOOKUP(D30,Tablas!$B$2:$E$13,2,FALSE))","v":0.26},{"$f":"IF(B30=\"\",\"\",VLOOKUP(D30,Tablas!$B$2:$H$13,7,FALSE))","v":83577.200000000012},0.56483127404885003,136656,10608455762.482452,9488779751.7732162,8487280636.6486721,7591485363.7286863,6790237355.7501688,6073557563.2827988,5432520181.8271914,4859141486.4286146,4346280399.3100319,3887549552.155663,3477235735.3807364,3110228743.632144,2781957731.3346553,2488334285.6302814,2225701507.7193933,81648746057.084686,1360812.4342847448]
[{"$f":"IF(ISBLANK(InfoPro!A25),\"\",InfoPro!A25)","v":"SC_1179_A1"},{"$f":"IF(ISBLANK(InfoPro!B25),\"\",InfoPro!B25)","v":"Montes 90 MW"},{"$f":"IF(ISBLANK(InfoPro!E25),\"\",InfoPro!E25)","v":90},{"$f":"IF(ISBLANK(InfoPro!F25),\"\",InfoPro!F25)","v":"Solar FV"},{"$f":"IF(ISBLANK(InfoPro!I25),\"\",YEAR(InfoPro!I25)-$H$3)","v":3},{"$f":"IF(B31=\"\",\"\",VLOOKUP(D31,Tablas!$B$2:$E$13,2,FALSE))","v":0.26},{"$f":"IF(B31=\"\",\"\",VLOOKUP(D31,Tablas!$B$2:$H$13,7,FALSE))","v":83577.200000000012},0.56483127404885003,204984,15912683643.72368,14233169627.659822,12730920954.973007,11387228045.593029,10185356033.625252,9110336344.9241982,8148780272.7407846,7288712229.6429214,6519420598.9650469,5831324328.2334948,5215853603.071104,4665343115.4482155,4172936597.0019822,3732501428.4454212,3338552261.5790896,122473119085.62703,1360812.4342847448]
[{"$f":"IF(ISBLANK(InfoPro!A26),\"\",InfoPro!A26)","v":"SC_1179_A2"},{"$f":"IF(ISBLANK(InfoPro!B26),\"\",InfoPro!B26)","v":"Montes 90 MW"},{"$f":"IF(ISBLANK(InfoPro!E26),\"\",InfoPro!E26)","v":90},{"$f":"IF(ISBLANK(InfoPro!F26),\"\",InfoPro!F26)","v":"Solar FV"},{"$f":"IF(ISBLANK(InfoPro!I26),\"\",YEAR(InfoPro!I26)-$H$3)","v":3},{"$f":"IF(B32=\"\",\"\",VLOOKUP(D32,Tablas!$B$2:$E$13,2,FALSE))","v":0.26},{"$f":"IF(B32=\"\",\"\",VLOOKUP(D32,Tablas!$B$2:$H$13,7,FALSE))","v":83577.200000000012},0.56483127404885003,204984,15912683643.72368,14233169627.659822,12730920954.973007,11387228045.593029,10185356033.625252,9110336344.9241982,8148780272.7407846,7288712229.6429214,6519420598.9650469,5831324328.2334948,5215853603.071104,4665343115.4482155,4172936597.0019822,3732501428.4454212,3338552261.5790896,122473119085.62703,1360812.4342847448]
[{"$f":"IF(ISBLANK(InfoPro!A27),\"\",InfoPro!A27)","v":"SC_1206_A1"},{"$f":"IF(ISBLANK(InfoPro!B27),\"\",InfoPro!B27)","v":"Cerromatoso Solar 300 MW"},{"$f":"IF(ISBLANK(InfoPro!E27),\"\",InfoPro!E27)","v":300},{"$f":"IF(ISBLANK(InfoPro!F27),\"\",InfoPro!F27)","v":"Solar FV"},{"$f":"IF(ISBLANK(InfoPro!I27),\"\",YEAR(InfoPro!I27)-$H$3)","v":5},{"$f":"IF(B33=\"\",\"\",VLOOKUP(D33,Tablas!$B$2:$E$13,2,FALSE))","v":0.26},{"$f":"IF(B33=\"\",\"\",VLOOKUP(D33,Tablas!$B$2:$H$13,7,FALSE))","v":83577.200000000012},0.56483127404885003,683280,42436403183.243362,37957426818.64344,33951186778.750843,30367787816.413994,27162600909.135956,24295707432.14307,21731401996.550156,19437747760.778316,17386178676.903683,15551143718.160719,13909788656.673277,12441671428.151405,11128507538.596966,9953942342.2155323,8903347354.3967228,326614842410.75745,1088716.1413691915]
[{"$f":"IF(ISBLANK(InfoPro!A28),\"\",InfoPro!A28)","v":"SC_1206_A2"},{"$f":"IF(ISBLANK(InfoPro!B28),\"\",InfoPro!B28)","v":"Cerromatoso Solar 300 MW"},{"$f":"IF(ISBLANK(InfoPro!E28),\"\",InfoPro!E28)","v":300},{"$f":"IF(ISBLANK(InfoPro!F28),\"\",InfoPro!F28)","v":"Solar FV"},{"$f":"IF(ISBLANK(InfoPro!I28),\"\",YEAR(InfoPro!I28)-$H$3)","v":5},{"$f":"IF(B34=\"\",\"\",VLOOKUP(D34,Tablas!$B$2:$E$13,2,FALSE))","v":0.26},{"$f":"IF(B34=\"\",\"\",VLOOKUP(D34,Tablas!$B$2:$H$13,7,FALSE))","v":83577.200000000012},0.56483127404885003,683280,42436403183.243362,37957426818.64344,33951186778.750843,30367787816.413994,27162600909.135956,24295707432.14307,21731401996.550156,19437747760.778316,17386178676.903683,15551143718.160719,13909788656.673277,12441671428.151405,11128507538.596966,9953942342.2155323,8903347354.3967228,326614842410.75745,1088716.1413691915]
[{"$f":"IF(ISBLANK(InfoPro!A29),\"\",InfoPro!A29)","v":"SC_1372_A1"},{"$f":"IF(ISBLANK(InfoPro!B29),\"\",InfoPro!B29)","v":"Pétalo del Bolívar I Magangué"},{"$f":"IF(ISBLANK(InfoPro!E29),\"\",InfoPro!E29)","v":9.9},{"$f":"IF(ISBLANK(InfoPro!F29),\"\",InfoPro!F29)","v":"Solar FV"},{"$f":"IF(ISBLANK(InfoPro!I29),\"\",YEAR(InfoPro!I29)-$H$3)","v":2},{"$f":"IF(B35=\"\",\"\",VLOOKUP(D35,Tablas!$B$2:$E$13,2,FALSE))","v":0.26},{"$f":"IF(B35=\"\",\"\",VLOOKUP(D35,Tablas!$B$2:$H$13,7,FALSE))","v":83577.200000000012},0.56483127404885003,22548.240000000005,1956941834.5051382,1750395200.8096051,1565648659.0425806,1400401305.0470312,1252595085.0152338,1120389163.6987782,1002136997.9416621,896365830.00148666,801758345.26072145,717136265.88615537,641445676.10568452,573743896.33782172,513187742.69930387,459023025.67021811,410575157.12899655,15061744185.150415,1521388.3015303449]
[{"$f":"IF(ISBLANK(InfoPro!A30),\"\",InfoPro!A30)","v":"SC_1372_A2"},{"$f":"IF(ISBLANK(InfoPro!B30),\"\",InfoPro!B30)","v":"Pétalo del Bolívar I Magangué"},{"$f":"IF(ISBLANK(InfoPro!E30),\"\",InfoPro!E30)","v":9.9},{"$f":"IF(ISBLANK(InfoPro!F30),\"\",InfoPro!F30)","v":"Solar FV"},{"$f":"IF(ISBLANK(InfoPro!I30),\"\",YEAR(InfoPro!I30)-$H$3)","v":2},{"$f":"IF(B36=\"\",\"\",VLOOKUP(D36,Tablas!$B$2:$E$13,2,FALSE))","v":0.26},{"$f":"IF(B36=\"\",\"\",VLOOKUP(D36,Tablas!$B$2:$H$13,7,FALSE))","v":83577.200000000012},0.56483127404885003,22548.240000000005,1956941834.5051382,1750395200.8096051,1565648659.0425806,1400401305.0470312,1252595085.0152338,1120389163.6987782,1002136997.9416621,896365830.00148666,801758345.26072145,717136265.88615537,641445676.10568452,573743896.33782172,513187742.69930387,459023025.67021811,410575157.12899655,15061744185.150415,1521388.3015303449]
[{"$f":"IF(ISBLANK(InfoPro!A31),\"\",InfoPro!A31)","v":"SC_692_A1"},{"$f":"IF(ISBLANK(InfoPro!B31),\"\",InfoPro!B31)","v":"TermoJobo"},{"$f":"IF(ISBLANK(InfoPro!E31),\"\",InfoPro!E31)","v":9.9},{"$f":"IF(ISBLANK(InfoPro!F31),\"\",InfoPro!F31)","v":"Termica a vapor"},{"$f":"IF(ISBLANK(InfoPro!I31),\"\",YEAR(InfoPro!I31)-$H$3)","v":1},{"$f":"IF(B37=\"\",\"\",VLOOKUP(D37,Tablas!$B$2:$E$13,2,FALSE))","v":0.85},{"$f":"IF(B37=\"\",\"\",VLOOKUP(D37,Tablas!$B$2:$H$13,7,FALSE))","v":267152.5},-0.39100631583332029,73715.400000000009,-4951426494.3649387,-4428825129.1278515,-3961382047.5204401,-3543275534.4547772,-3169298331.3548994,-2834792782.9650264,-2535592829.1279306,-2267972119.0768614,-2028597602.0365486,-1814488016.1328697,-1622976758.616163,-1451678674.9697347,-1298460353.2824101,-1161413553.9198661,-1038831443.5776978,-38109011670.528015,-3849395.1182351531]
[{"$f":"IF(ISBLANK(InfoPro!A32),\"\",InfoPro!A32)","v":"SC_1057_A1"},{"$f":"IF(ISBLANK(InfoPro!B32),\"\",InfoPro!B32)","v":"Río Sinú Solar I 9,9 MW"},{"$f":"IF(ISBLANK(InfoPro!E32),\"\",InfoPro!E32)","v":9.9},{"$f":"IF(ISBLANK(InfoPro!F32),\"\",InfoPro!F32)","v":"Solar FV"},{"$f":"IF(ISBLANK(InfoPro!I32),\"\",YEAR(InfoPro!I32)-$H$3)","v":2},{"$f":"IF(B38=\"\",\"\",VLOOKUP(D38,Tablas!$B$2:$E$13,2,FALSE))","v":0.26},{"$f":"IF(B38=\"\",\"\",VLOOKUP(D38,Tablas!$B$2:$H$13,7,FALSE))","v":83577.200000000012},0.56483127404885003,22548.240000000005,{"$f":"IF($I38=\"\",\"\",(1/(1+$C$3)^(J$6+$E38))*$I38*$C$2*$H38)","v":1956941834.5051382},1750395200.8096051,1565648659.0425806,1400401305.0470312,1252595085.0152338,1120389163.6987782,1002136997.9416621,896365830.00148666,801758345.26072145,717136265.88615537,641445676.10568452,573743896.33782172,513187742.69930387,459023025.67021811,410575157.12899655,15061744185.150415,1521388.3015303449]
[{"$f":"IF(ISBLANK(InfoPro!A33),\"\",InfoPro!A33)","v":"SC_1057_A2"},{"$f":"IF(ISBLANK(InfoPro!B33),\"\",InfoPro!B33)","v":"Río Sinú Solar I 9,9 MW"},{"$f":"IF(ISBLANK(InfoPro!E33),\"\",InfoPro!E33)","v":9.9},{"$f":"IF(ISBLANK(InfoPro!F33),\"\",InfoPro!F33)","v":"Solar FV"},{"$f":"IF(ISBLANK(InfoPro!I33),\"\",YEAR(InfoPro!I33)-$H$3)","v":2},{"$f":"IF(B39=\"\",\"\",VLOOKUP(D39,Tablas!$B$2:$E$13,2,FALSE))","v":0.26},{"$f":"IF(B39=\"\",\"\",VLOOKUP(D39,Tablas!$B$2:$H$13,7,FALSE))","v":83577.200000000012},0.56483127404885003,22548.240000000005,1956941834.5051382,1750395200.8096051,1565648659.0425806,1400401305.0470312,1252595085.0152338,1120389163.6987782,1002136997.9416621,896365830.00148666,801758345.26072145,717136265.88615537,641445676.10568452,573743896.33782172,513187742.69930387,459023025.67021811,410575157.12899655,15061744185.150415,1521388.3015303449]
[{"$f":"IF(ISBLANK(InfoPro!A34),\"\",InfoPro!A34)","v":"SC_1058_A1"},{"$f":"IF(ISBLANK(InfoPro!B34),\"\",InfoPro!B34)","v":"Río Sinú Solar II 9,9 MW"},{"$f":"IF(ISBLANK(InfoPro!E34),\"\",InfoPro!E34)","v":9.9},{"$f":"IF(ISBLANK(InfoPro!F34),\"\",InfoPro!F34)","v":"Solar FV"},{"$f":"IF(ISBLANK(InfoPro!I34),\"\",YEAR(InfoPro!I34)-$H$3)","v":2},{"$f":"IF(B40=\"\",\"\",VLOOKUP(D40,Tablas!$B$2:$E$13,2,FALSE))","v":0.26},{"$f":"IF(B40=\"\",\"\",VLOOKUP(D40,Tablas!$B$2:$H$13,7,FALSE))","v":83577.200000000012},0.56483127404885003,{"$f":"IF(C40=\"\",\"\",+C40*F40*24*365)","v":22548.240000000005},1956941834.5051382,1750395200.8096051,1565648659.0425806,1400401305.0470312,1252595085.0152338,1120389163.6987782,1002136997.9416621,896365830.00148666,801758345.26072145,717136265.88615537,641445676.10568452,573743896.33782172,513187742.69930387,459023025.67021811,410575157.12899655,15061744185.150415,1521388.3015303449]
[{"$f":"IF(ISBLANK(InfoPro!A35),\"\",InfoPro!A35)","v":"SC_1058_A2"},{"$f":"IF(ISBLANK(InfoPro!B35),\"\",InfoPro!B35)","v":"Río Sinú Solar II 9,9 MW"},{"$f":"IF(ISBLANK(InfoPro!E35),\"\",InfoPro!E35)","v":9.9},{"$f":"IF(ISBLANK(InfoPro!F35),\"\",InfoPro!F35)","v":"Solar FV"},{"$f":"IF(ISBLANK(InfoPro!I35),\"\",YEAR(InfoPro!I35)-$H$3)","v":2},{"$f":"IF(B41=\"\",\"\",VLOOKUP(D41,Tablas!$B$2:$E$13,2,FALSE))","v":0.26},{"$f":"IF(B41=\"\",\"\",VLOOKUP(D41,Tablas!$B$2:$H$13,7,FALSE))","v":83577.200000000012},0.56483127404885003,22548.240000000005,1956941834.5051382,1750395200.8096051,1565648659.0425806,1400401305.0470312,1252595085.0152338,1120389163.6987782,1002136997.9416621,896365830.00148666,801758345.26072145,717136265.88615537,641445676.10568452,573743896.33782172,513187742.69930387,459023025.67021811,410575157.12899655,15061744185.150415,1521388.3015303449]
[{"$f":"IF(ISBLANK(InfoPro!A36),\"\",InfoPro!A36)","v":"SC_855_A1"},{"$f":"IF(ISBLANK(InfoPro!B36),\"\",InfoPro!B36)","v":"El Lirio"},{"$f":"IF(ISBLANK(InfoPro!E36),\"\",InfoPro!E36)","v":19.899999999999999},{"$f":"IF(ISBLANK(InfoPro!F36),\"\",InfoPro!F36)","v":"Solar FV"},{"$f":"IF(ISBLANK(InfoPro!I36),\"\",YEAR(InfoPro!I36)-$H$3)","v":2},{"$f":"IF(B42=\"\",\"\",VLOOKUP(D42,Tablas!$B$2:$E$13,2,FALSE))","v":0.26},{"$f":"IF(B42=\"\",\"\",VLOOKUP(D42,Tablas!$B$2:$H$13,7,FALSE))","v":83577.200000000012},0.56483127404885003,45324.24,3933650758.2477007,3518471161.2233472,3147111951.0047832,2814948077.8218098,2517842645.6366811,2252095389.6571393,2014396591.8221281,1801785860.3060179,1611615259.6654899,1441516332.4378271,1289370601.4649615,1153283185.5679443,1031559199.9713278,922682647.55932724,825297538.06737649,30275627200.453861,1521388.3015303449]
[{"$f":"IF(ISBLANK(InfoPro!A37),\"\",InfoPro!A37)","v":"SC_855_A2"},{"$f":"IF(ISBLANK(InfoPro!B37),\"\",InfoPro!B37)","v":"El Lirio"},{"$f":"IF(ISBLANK(InfoPro!E37),\"\",InfoPro!E37)","v":19.899999999999999},{"$f":"IF(ISBLANK(InfoPro!F37),\"\",InfoPro!F37)","v":"Solar FV"},{"$f":"IF(ISBLANK(InfoPro!I37),\"\",YEAR(InfoPro!I37)-$H$3)","v":2},{"$f":"IF(B43=\"\",\"\",VLOOKUP(D43,Tablas!$B$2:$E$13,2,FALSE))","v":0.26},{"$f":"IF(B43=\"\",\"\",VLOOKUP(D43,Tablas!$B$2:$H$13,7,FALSE))","v":83577.200000000012},0.56483127404885003,45324.24,3933650758.2477007,3518471161.2233472,3147111951.0047832,2814948077.8218098,2517842645.6366811,2252095389.6571393,2014396591.8221281,1801785860.3060179,1611615259.6654899,1441516332.4378271,1289370601.4649615,1153283185.5679443,1031559199.9713278,922682647.55932724,825297538.06737649,30275627200.453861,1521388.3015303449]
[{"$f":"IF(ISBLANK(InfoPro!A38),\"\",InfoPro!A38)","v":"SC_630_A1"},{"$f":"IF(ISBLANK(InfoPro!B38),\"\",InfoPro!B38)","v":"TR Solar 14"},{"$f":"IF(ISBLANK(InfoPro!E38),\"\",InfoPro!E38)","v":99.9},{"$f":"IF(ISBLANK(InfoPro!F38),\"\",InfoPro!F38)","v":"Solar FV"},{"$f":"IF(ISBLANK(InfoPro!I38),\"\",YEAR(InfoPro!I38)-$H$3)","v":3},{"$f":"IF(B44=\"\",\"\",VLOOKUP(D44,Tablas!$B$2:$E$13,2,FALSE))","v":0.26},{"$f":"IF(B44=\"\",\"\",VLOOKUP(D44,Tablas!$B$2:$H$13,7,FALSE))","v":83577.200000000012},0.56483127404885003,227532.24000000002,17663078844.533287,15798818286.702406,14131322260.020041,12639823130.608265,11305745197.32403,10112473342.86586,9045146102.7422733,8090470574.9036436,7236556864.851202,6472770004.33918,5789597499.408927,5178530858.147521,4631959622.6722012,4143076585.574419,3705793010.3527899,135945162185.04604,1360812.434284745]
[{"$f":"IF(ISBLANK(InfoPro!A39),\"\",InfoPro!A39)","v":"SC_1269_A1"},{"$f":"IF(ISBLANK(InfoPro!B39),\"\",InfoPro!B39)","v":"Centro Solar II 4 MW"},{"$f":"IF(ISBLANK(InfoPro!E39),\"\",InfoPro!E39)","v":4},{"$f":"IF(ISBLANK(InfoPro!F39),\"\",InfoPro!F39)","v":"Solar FV"},{"$f":"IF(ISBLANK(InfoPro!I39),\"\",YEAR(InfoPro!I39)-$H$3)","v":0},{"$f":"IF(B45=\"\",\"\",VLOOKUP(D45,Tablas!$B$2:$E$13,2,FALSE))","v":0.26},{"$f":"IF(B45=\"\",\"\",VLOOKUP(D45,Tablas!$B$2:$H$13,7,FALSE))","v":83577.200000000012},0.56483127404885003,9110.4,988294369.91999984,883984230.69767439,790683569.49702549,707230384.16549683,632585316.78488088,565818709.10991144,506099024.24857914,452682490.38334459,404903837.55218655,362168012.12181264,323942765.76190758,289752026.62066877,259169970.14371088,231815715.69204906,207348582.90880957,7606479005.6080589,1901619.7514020146]
[{"$f":"IF(ISBLANK(InfoPro!A40),\"\",InfoPro!A40)","v":"SC_1268_A1"},{"$f":"IF(ISBLANK(InfoPro!B40),\"\",InfoPro!B40)","v":"Sol de Ayapel II de 7 MW"},{"$f":"IF(ISBLANK(InfoPro!E40),\"\",InfoPro!E40)","v":7},{"$f":"IF(ISBLANK(InfoPro!F40),\"\",InfoPro!F40)","v":"Solar FV"},{"$f":"IF(ISBLANK(InfoPro!I40),\"\",YEAR(InfoPro!I40)-$H$3)","v":1},{"$f":"IF(B46=\"\",\"\",VLOOKUP(D46,Tablas!$B$2:$E$13,2,FALSE))","v":0.26},{"$f":"IF(B46=\"\",\"\",VLOOKUP(D46,Tablas!$B$2:$H$13,7,FALSE))","v":83577.200000000012},0.56483127404885003,15943.2,1546972403.7209303,1383696246.6197944,1237653172.2896197,1107024304.3735418,990182740.94234514,885673292.43501365,792194358.17085302,708581715.71632648,633794021.21317232,566899840.08333838,507066046.58617043,453547447.75149405,405677502.46108592,362860020.09041679,324561735.32237643,11906384847.776478,1700912.1211109255]
[{"$f":"IF(ISBLANK(InfoPro!A41),\"\",InfoPro!A41)","v":"SC_1268_A2"},{"$f":"IF(ISBLANK(InfoPro!B41),\"\",InfoPro!B41)","v":"Sol de Ayapel II de 7 MW"},{"$f":"IF(ISBLANK(InfoPro!E41),\"\",InfoPro!E41)","v":7},{"$f":"IF(ISBLANK(InfoPro!F41),\"\",InfoPro!F41)","v":"Solar FV"},{"$f":"IF(ISBLANK(InfoPro!I41),\"\",YEAR(InfoPro!I41)-$H$3)","v":1},{"$f":"IF(B47=\"\",\"\",VLOOKUP(D47,Tablas!$B$2:$E$13,2,FALSE))","v":0.26},{"$f":"IF(B47=\"\",\"\",VLOOKUP(D47,Tablas!$B$2:$H$13,7,FALSE))","v":83577.200000000012},0.56483127404885003,15943.2,1546972403.7209303,1383696246.6197944,1237653172.2896197,1107024304.3735418,990182740.94234514,885673292.43501365,792194358.17085302,708581715.71632648,633794021.21317232,566899840.08333838,507066046.58617043,453547447.75149405,405677502.46108592,362860020.09041679,324561735.32237643,11906384847.776478,1700912.1211109255]
[{"$f":"IF(ISBLANK(InfoPro!A42),\"\",InfoPro!A42)","v":"SC_1118_A1"},{"$f":"IF(ISBLANK(InfoPro!B42),\"\",InfoPro!B42)","v":"Boston 9,9 MW"},{"$f":"IF(ISBLANK(InfoPro!E42),\"\",InfoPro!E42)","v":9.9},{"$f":"IF(ISBLANK(InfoPro!F42),\"\",InfoPro!F42)","v":"Solar FV"},{"$f":"IF(ISBLANK(InfoPro!I42),\"\",YEAR(InfoPro!I42)-$H$3)","v":2},{"$f":"IF(B48=\"\",\"\",VLOOKUP(D48,Tablas!$B$2:$E$13,2,FALSE))","v":0.26},{"$f":"IF(B48=\"\",\"\",VLOOKUP(D48,Tablas!$B$2:$H$13,7,FALSE))","v":83577.200000000012},0.56483127404885003,22548.240000000005,{"$f":"IF($I48=\"\",\"\",(1/(1+$C$3)^(J$6+$E48))*$I48*$C$2*$H48)","v":1956941834.5051382},1750395200.8096051,1565648659.0425806,1400401305.0470312,1252595085.0152338,1120389163.6987782,1002136997.9416621,896365830.00148666,801758345.26072145,717136265.88615537,641445676.10568452,573743896.33782172,513187742.69930387,459023025.67021811,410575157.12899655,15061744185.150415,1521388.3015303449]
[{"$f":"IF(ISBLANK(InfoPro!A43),\"\",InfoPro!A43)","v":"SC_1118_A2"},{"$f":"IF(ISBLANK(InfoPro!B43),\"\",InfoPro!B43)","v":"Boston 9,9 MW"},{"$f":"IF(ISBLANK(InfoPro!E43),\"\",InfoPro!E43)","v":9.9},{"$f":"IF(ISBLANK(InfoPro!F43),\"\",InfoPro!F43)","v":"Solar FV"},{"$f":"IF(ISBLANK(InfoPro!I43),\"\",YEAR(InfoPro!I43)-$H$3)","v":2},{"$f":"IF(B49=\"\",\"\",VLOOKUP(D49,Tablas!$B$2:$E$13,2,FALSE))","v":0.26},{"$f":"IF(B49=\"\",\"\",VLOOKUP(D49,Tablas!$B$2:$H$13,7,FALSE))","v":83577.200000000012},0.56483127404885003,22548.240000000005,1956941834.5051382,1750395200.8096051,1565648659.0425806,1400401305.0470312,1252595085.0152338,1120389163.6987782,1002136997.9416621,896365830.00148666,801758345.26072145,717136265.88615537,641445676.10568452,573743896.33782172,513187742.69930387,459023025.67021811,410575157.12899655,15061744185.150415,1521388.3015303449]
[{"$f":"IF(ISBLANK(InfoPro!A44),\"\",InfoPro!A44)","v":"SC_632_A1"},{"$f":"IF(ISBLANK(InfoPro!B44),\"\",InfoPro!B44)","v":"TR Solar 5"},{"$f":"IF(ISBLANK(InfoPro!E44),\"\",InfoPro!E44)","v":19.899999999999999},{"$f":"IF(ISBLANK(InfoPro!F44),\"\",InfoPro!F44)","v":"Solar FV"},{"$f":"IF(ISBLANK(InfoPro!I44),\"\",YEAR(InfoPro!I44)-$H$3)","v":3},{"$f":"IF(B50=\"\",\"\",VLOOKUP(D50,Tablas!$B$2:$E$13,2,FALSE))","v":0.26},{"$f":"IF(B50=\"\",\"\",VLOOKUP(D50,Tablas!$B$2:$H$13,7,FALSE))","v":83577.200000000012},0.56483127404885003,45324.24,3518471161.2233472,3147111951.0047832,2814948077.8218098,2517842645.6366811,2252095389.6571393,2014396591.8221281,1801785860.3060179,1611615259.6654899,1441516332.4378271,1289370601.4649615,1153283185.5679443,1031559199.9713278,922682647.55932724,825297538.06737649,738191000.0602653,27080167442.266422,1360812.4342847448]
[{"$f":"IF(ISBLANK(InfoPro!A45),\"\",InfoPro!A45)","v":"SC_632_A2"},{"$f":"IF(ISBLANK(InfoPro!B45),\"\",InfoPro!B45)","v":"TR Solar 5"},{"$f":"IF(ISBLANK(InfoPro!E45),\"\",InfoPro!E45)","v":19.899999999999999},{"$f":"IF(ISBLANK(InfoPro!F45),\"\",InfoPro!F45)","v":"Solar FV"},{"$f":"IF(ISBLANK(InfoPro!I45),\"\",YEAR(InfoPro!I45)-$H$3)","v":3},{"$f":"IF(B51=\"\",\"\",VLOOKUP(D51,Tablas!$B$2:$E$13,2,FALSE))","v":0.26},{"$f":"IF(B51=\"\",\"\",VLOOKUP(D51,Tablas!$B$2:$H$13,7,FALSE))","v":83577.200000000012},0.56483127404885003,45324.24,3518471161.2233472,3147111951.0047832,2814948077.8218098,2517842645.6366811,2252095389.6571393,2014396591.8221281,1801785860.3060179,1611615259.6654899,1441516332.4378271,1289370601.4649615,1153283185.5679443,1031559199.9713278,922682647.55932724,825297538.06737649,738191000.0602653,27080167442.266422,1360812.4342847448]
[{"$f":"IF(ISBLANK(InfoPro!A46),\"\",InfoPro!A46)","v":"SC_1415_A1"},{"$f":"IF(ISBLANK(InfoPro!B46),\"\",InfoPro!B46)","v":"Efigen C03 99 MW"},{"$f":"IF(ISBLANK(InfoPro!E46),\"\",InfoPro!E46)","v":99},{"$f":"IF(ISBLANK(InfoPro!F46),\"\",InfoPro!F46)","v":"Solar FV"},{"$f":"IF(ISBLANK(InfoPro!I46),\"\",YEAR(InfoPro!I46)-$H$3)","v":2},{"$f":"IF(B52=\"\",\"\",VLOOKUP(D52,Tablas!$B$2:$E$13,2,FALSE))","v":0.26},{"$f":"IF(B52=\"\",\"\",VLOOKUP(D52,Tablas!$B$2:$H$13,7,FALSE))","v":83577.200000000012},0.56483127404885003,225482.4,19569418345.051376,17503952008.09605,15656486590.425804,14004013050.470308,12525950850.152334,11203891636.987778,10021369979.416616,8963658300.014864,8017583452.607213,7171362658.8615522,6414456761.0568438,5737438963.3782148,5131877426.9930372,4590230256.7021809,4105751571.2899642,150617441851.50415,1521388.3015303449]
[{"$f":"IF(ISBLANK(InfoPro!A47),\"\",InfoPro!A47)","v":"SC_1415_A2"},{"$f":"IF(ISBLANK(InfoPro!B47),\"\",InfoPro!B47)","v":"Efigen C03 99 MW"},{"$f":"IF(ISBLANK(InfoPro!E47),\"\",InfoPro!E47)","v":99},{"$f":"IF(ISBLANK(InfoPro!F47),\"\",InfoPro!F47)","v":"Solar FV"},{"$f":"IF(ISBLANK(InfoPro!I47),\"\",YEAR(InfoPro!I47)-$H$3)","v":2},{"$f":"IF(B53=\"\",\"\",VLOOKUP(D53,Tablas!$B$2:$E$13,2,FALSE))","v":0.26},{"$f":"IF(B53=\"\",\"\",VLOOKUP(D53,Tablas!$B$2:$H$13,7,FALSE))","v":83577.200000000012},0.56483127404885003,225482.4,19569418345.051376,17503952008.09605,15656486590.425804,14004013050.470308,12525950850.152334,11203891636.987778,10021369979.416616,8963658300.014864,8017583452.607213,7171362658.8615522,6414456761.0568438,5737438963.3782148,5131877426.9930372,4590230256.7021809,4105751571.2899642,150617441851.50415,1521388.3015303449]
[{"$f":"IF(ISBLANK(InfoPro!A48),\"\",InfoPro!A48)","v":"SC_1420_A1"},{"$f":"IF(ISBLANK(InfoPro!B48),\"\",InfoPro!B48)","v":"Efigen C04 99 MW"},{"$f":"IF(ISBLANK(InfoPro!E48),\"\",InfoPro!E48)","v":99},{"$f":"IF(ISBLANK(InfoPro!F48),\"\",InfoPro!F48)","v":"Solar FV"},{"$f":"IF(ISBLANK(InfoPro!I48),\"\",YEAR(InfoPro!I48)-$H$3)","v":2},{"$f":"IF(B54=\"\",\"\",VLOOKUP(D54,Tablas!$B$2:$E$13,2,FALSE))","v":0.26},{"$f":"IF(B54=\"\",\"\",VLOOKUP(D54,Tablas!$B$2:$H$13,7,FALSE))","v":83577.200000000012},0.56483127404885003,225482.4,19569418345.051376,17503952008.09605,15656486590.425804,14004013050.470308,12525950850.152334,11203891636.987778,10021369979.416616,8963658300.014864,8017583452.607213,7171362658.8615522,6414456761.0568438,5737438963.3782148,5131877426.9930372,4590230256.7021809,4105751571.2899642,150617441851.50415,1521388.3015303449]
[{"$f":"IF(ISBLANK(InfoPro!A49),\"\",InfoPro!A49)","v":"SC_1420_A2"},{"$f":"IF(ISBLANK(InfoPro!B49),\"\",InfoPro!B49)","v":"Efigen C04 99 MW"},{"$f":"IF(ISBLANK(InfoPro!E49),\"\",InfoPro!E49)","v":99},{"$f":"IF(ISBLANK(InfoPro!F49),\"\",InfoPro!F49)","v":"Solar FV"},{"$f":"IF(ISBLANK(InfoPro!I49),\"\",YEAR(InfoPro!I49)-$H$3)","v":2},{"$f":"IF(B55=\"\",\"\",VLOOKUP(D55,Tablas!$B$2:$E$13,2,FALSE))","v":0.26},{"$f":"IF(B55=\"\",\"\",VLOOKUP(D55,Tablas!$B$2:$H$13,7,FALSE))","v":83577.200000000012},0.56483127404885003,225482.4,19569418345.051376,17503952008.09605,15656486590.425804,14004013050.470308,12525950850.152334,11203891636.987778,10021369979.416616,8963658300.014864,8017583452.607213,7171362658.8615522,6414456761.0568438,5737438963.3782148,5131877426.9930372,4590230256.7021809,4105751571.2899642,150617441851.50415,1521388.3015303449]
[{"$f":"IF(ISBLANK(InfoPro!A50),\"\",InfoPro!A50)","v":"SC_1435_A1"},{"$f":"IF(ISBLANK(InfoPro!B50),\"\",InfoPro!B50)","v":"Parque Solar Las Brisas"},{"$f":"IF(ISBLANK(InfoPro!E50),\"\",InfoPro!E50)","v":9.9},{"$f":"IF(ISBLANK(InfoPro!F50),\"\",InfoPro!F50)","v":"Solar FV"},{"$f":"IF(ISBLANK(InfoPro!I50),\"\",YEAR(InfoPro!I50)-$H$3)","v":1},{"$f":"IF(B56=\"\",\"\",VLOOKUP(D56,Tablas!$B$2:$E$13,2,FALSE))","v":0.26},{"$f":"IF(B56=\"\",\"\",VLOOKUP(D56,Tablas!$B$2:$H$13,7,FALSE))","v":83577.200000000012},0.56483127404885003,22548.240000000005,2187860970.9767447,1956941834.5051382,1750395200.8096051,1565648659.0425806,1400401305.0470312,1252595085.0152338,1120389163.6987782,1002136997.9416621,896365830.00148666,801758345.26072145,717136265.88615537,641445676.10568452,573743896.33782172,513187742.69930387,459023025.67021811,16839029998.998165,1700912.1211109257]
[{"$f":"IF(ISBLANK(InfoPro!A51),\"\",InfoPro!A51)","v":"SC_978_A1"},{"$f":"IF(ISBLANK(InfoPro!B51),\"\",InfoPro!B51)","v":"Borugo Solar"},{"$f":"IF(ISBLANK(InfoPro!E51),\"\",InfoPro!E51)","v":99.9},{"$f":"IF(ISBLANK(InfoPro!F51),\"\",InfoPro!F51)","v":"Solar FV"},{"$f":"IF(ISBLANK(InfoPro!I51),\"\",YEAR(InfoPro!I51)-$H$3)","v":3},{"$f":"IF(B57=\"\",\"\",VLOOKUP(D57,Tablas!$B$2:$E$13,2,FALSE))","v":0.26},{"$f":"IF(B57=\"\",\"\",VLOOKUP(D57,Tablas!$B$2:$H$13,7,FALSE))","v":83577.200000000012},0.56483127404885003,227532.24000000002,17663078844.533287,15798818286.702406,14131322260.020041,12639823130.608265,11305745197.32403,10112473342.86586,9045146102.7422733,8090470574.9036436,7236556864.851202,6472770004.33918,5789597499.408927,5178530858.147521,4631959622.6722012,4143076585.574419,3705793010.3527899,135945162185.04604,1360812.434284745]
[{"$f":"IF(ISBLANK(InfoPro!A52),\"\",InfoPro!A52)","v":"SC_1520_A1"},{"$f":"IF(ISBLANK(InfoPro!B52),\"\",InfoPro!B52)","v":"Autogenerador Solar Argos Tolcemento - 19.9 MW"},{"$f":"IF(ISBLANK(InfoPro!E52),\"\",InfoPro!E52)","v":19.899999999999999},{"$f":"IF(ISBLANK(InfoPro!F52),\"\",InfoPro!F52)","v":"Solar FV"},{"$f":"IF(ISBLANK(InfoPro!I52),\"\",YEAR(InfoPro!I52)-$H$3)","v":1},{"$f":"IF(B58=\"\",\"\",VLOOKUP(D58,Tablas!$B$2:$E$13,2,FALSE))","v":0.26},{"$f":"IF(B58=\"\",\"\",VLOOKUP(D58,Tablas!$B$2:$H$13,7,FALSE))","v":83577.200000000012},0.56483127404885003,45324.24,{"$f":"IF($I58=\"\",\"\",(1/(1+$C$3)^(J$6+$E58))*$I58*$C$2*$H58)","v":4397821547.7209291},3933650758.2477007,3518471161.2233472,3147111951.0047832,2814948077.8218098,2517842645.6366811,2252095389.6571393,2014396591.8221281,1801785860.3060179,1611615259.6654899,1441516332.4378271,1289370601.4649615,1153283185.5679443,1031559199.9713278,922682647.55932724,33848151210.107414,1700912.1211109255]
[{"$f":"IF(ISBLANK(InfoPro!A53),\"\",InfoPro!A53)","v":"SC_1520_A2"},{"$f":"IF(ISBLANK(InfoPro!B53),\"\",InfoPro!B53)","v":"Autogenerador Solar Argos Tolcemento - 19.9 MW"},{"$f":"IF(ISBLANK(InfoPro!E53),\"\",InfoPro!E53)","v":19.899999999999999},{"$f":"IF(ISBLANK(InfoPro!F53),\"\",InfoPro!F53)","v":"Solar FV"},{"$f":"IF(ISBLANK(InfoPro!I53),\"\",YEAR(InfoPro!I53)-$H$3)","v":1},{"$f":"IF(B59=\"\",\"\",VLOOKUP(D59,Tablas!$B$2:$E$13,2,FALSE))","v":0.26},{"$f":"IF(B59=\"\",\"\",VLOOKUP(D59,Tablas!$B$2:$H$13,7,FALSE))","v":83577.200000000012},0.56483127404885003,45324.24,4397821547.7209291,3933650758.2477007,3518471161.2233472,3147111951.0047832,2814948077.8218098,2517842645.6366811,2252095389.6571393,2014396591.8221281,1801785860.3060179,1611615259.6654899,1441516332.4378271,1289370601.4649615,1153283185.5679443,1031559199.9713278,922682647.55932724,33848151210.107414,1700912.1211109255]
[{"$f":"IF(ISBLANK(InfoPro!A54),\"\",InfoPro!A54)","v":"SC_1527_A1"},{"$f":"IF(ISBLANK(InfoPro!B54),\"\",InfoPro!B54)","v":"Nueva Montería Solar III _9,9 MW"},{"$f":"IF(ISBLANK(InfoPro!E54),\"\",InfoPro!E54)","v":9.9},{"$f":"IF(ISBLANK(InfoPro!F54),\"\",InfoPro!F54)","v":"Solar FV"},{"$f":"IF(ISBLANK(InfoPro!I54),\"\",YEAR(InfoPro!I54)-$H$3)","v":2},{"$f":"IF(B60=\"\",\"\",VLOOKUP(D60,Tablas!$B$2:$E$13,2,FALSE))","v":0.26},{"$f":"IF(B60=\"\",\"\",VLOOKUP(D60,Tablas!$B$2:$H$13,7,FALSE))","v":83577.200000000012},0.56483127404885003,22548.240000000005,1956941834.5051382,1750395200.8096051,1565648659.0425806,1400401305.0470312,1252595085.0152338,1120389163.6987782,1002136997.9416621,896365830.00148666,801758345.26072145,717136265.88615537,641445676.10568452,573743896.33782172,513187742.69930387,459023025.67021811,410575157.12899655,15061744185.150415,1521388.3015303449]
[{"$f":"IF(ISBLANK(InfoPro!A55),\"\",InfoPro!A55)","v":"SC_1527_A2"},{"$f":"IF(ISBLANK(InfoPro!B55),\"\",InfoPro!B55)","v":"Nueva Montería Solar III _9,9 MW"},{"$f":"IF(ISBLANK(InfoPro!E55),\"\",InfoPro!E55)","v":9.9},{"$f":"IF(ISBLANK(InfoPro!F55),\"\",InfoPro!F55)","v":"Solar FV"},{"$f":"IF(ISBLANK(InfoPro!I55),\"\",YEAR(InfoPro!I55)-$H$3)","v":2},{"$f":"IF(B61=\"\",\"\",VLOOKUP(D61,Tablas!$B$2:$E$13,2,FALSE))","v":0.26},{"$f":"IF(B61=\"\",\"\",VLOOKUP(D61,Tablas!$B$2:$H$13,7,FALSE))","v":83577.200000000012},0.56483127404885003,22548.240000000005,1956941834.5051382,1750395200.8096051,1565648659.0425806,1400401305.0470312,1252595085.0152338,1120389163.6987782,1002136997.9416621,896365830.00148666,801758345.26072145,717136265.88615537,641445676.10568452,573743896.33782172,513187742.69930387,459023025.67021811,410575157.12899655,15061744185.150415,1521388.3015303449]
[{"$f":"IF(ISBLANK(InfoPro!A56),\"\",InfoPro!A56)","v":"SC_1395_A1"},{"$f":"IF(ISBLANK(InfoPro!B56),\"\",InfoPro!B56)","v":"San Marcos I 19.9"},{"$f":"IF(ISBLANK(InfoPro!E56),\"\",InfoPro!E56)","v":19.899999999999999},{"$f":"IF(ISBLANK(InfoPro!F56),\"\",InfoPro!F56)","v":"Solar FV"},{"$f":"IF(ISBLANK(InfoPro!I56),\"\",YEAR(InfoPro!I56)-$H$3)","v":3},{"$f":"IF(B62=\"\",\"\",VLOOKUP(D62,Tablas!$B$2:$E$13,2,FALSE))","v":0.26},{"$f":"IF(B62=\"\",\"\",VLOOKUP(D62,Tablas!$B$2:$H$13,7,FALSE))","v":83577.200000000012},0.56483127404885003,45324.24,3518471161.2233472,3147111951.0047832,2814948077.8218098,2517842645.6366811,2252095389.6571393,2014396591.8221281,1801785860.3060179,1611615259.6654899,1441516332.4378271,1289370601.4649615,1153283185.5679443,1031559199.9713278,922682647.55932724,825297538.06737649,738191000.0602653,27080167442.266422,1360812.4342847448]
[{"$f":"IF(ISBLANK(InfoPro!A57),\"\",InfoPro!A57)","v":"SC_1396_A1"},{"$f":"IF(ISBLANK(InfoPro!B57),\"\",InfoPro!B57)","v":"San Marcos II 19.9"},{"$f":"IF(ISBLANK(InfoPro!E57),\"\",InfoPro!E57)","v":19.899999999999999},{"$f":"IF(ISBLANK(InfoPro!F57),\"\",InfoPro!F57)","v":"Solar FV"},{"$f":"IF(ISBLANK(InfoPro!I57),\"\",YEAR(InfoPro!I57)-$H$3)","v":3},{"$f":"IF(B63=\"\",\"\",VLOOKUP(D63,Tablas!$B$2:$E$13,2,FALSE))","v":0.26},{"$f":"IF(B63=\"\",\"\",VLOOKUP(D63,Tablas!$B$2:$H$13,7,FALSE))","v":83577.200000000012},0.56483127404885003,45324.24,3518471161.2233472,3147111951.0047832,2814948077.8218098,2517842645.6366811,2252095389.6571393,2014396591.8221281,1801785860.3060179,1611615259.6654899,1441516332.4378271,1289370601.4649615,1153283185.5679443,1031559199.9713278,922682647.55932724,825297538.06737649,738191000.0602653,27080167442.266422,1360812.4342847448]
[{"$f":"IF(ISBLANK(InfoPro!A58),\"\",InfoPro!A58)","v":"SC_1359_A1"},{"$f":"IF(ISBLANK(InfoPro!B58),\"\",InfoPro!B58)","v":"El Corozo_250MW"},{"$f":"IF(ISBLANK(InfoPro!E58),\"\",InfoPro!E58)","v":250},{"$f":"IF(ISBLANK(InfoPro!F58),\"\",InfoPro!F58)","v":"Solar FV"},{"$f":"IF(ISBLANK(InfoPro!I58),\"\",YEAR(InfoPro!I58)-$H$3)","v":4},{"$f":"IF(B64=\"\",\"\",VLOOKUP(D64,Tablas!$B$2:$E$13,2,FALSE))","v":0.26},{"$f":"IF(B64=\"\",\"\",VLOOKUP(D64,Tablas!$B$2:$H$13,7,FALSE))","v":83577.200000000012},0.56483127404885003,569400,39536582299.055069,35363669319.369469,31631189015.536198,28292655648.959034,25306489847.011662,22635500757.613297,20246422860.119221,18109501663.791798,16198123133.98193,14488482230.753067,12959286431.800598,11591490547.227728,10368059523.459503,9273756282.1641388,8294951951.8462772,304296161512.68896,1217184.6460507559]
[{"$f":"IF(ISBLANK(InfoPro!A59),\"\",InfoPro!A59)","v":"SC_1359_A2"},{"$f":"IF(ISBLANK(InfoPro!B59),\"\",InfoPro!B59)","v":"El Corozo_250MW"},{"$f":"IF(ISBLANK(InfoPro!E59),\"\",InfoPro!E59)","v":250},{"$f":"IF(ISBLANK(InfoPro!F59),\"\",InfoPro!F59)","v":"Solar FV"},{"$f":"IF(ISBLANK(InfoPro!I59),\"\",YEAR(InfoPro!I59)-$H$3)","v":4},{"$f":"IF(B65=\"\",\"\",VLOOKUP(D65,Tablas!$B$2:$E$13,2,FALSE))","v":0.26},{"$f":"IF(B65=\"\",\"\",VLOOKUP(D65,Tablas!$B$2:$H$13,7,FALSE))","v":83577.200000000012},0.56483127404885003,569400,39536582299.055069,35363669319.369469,31631189015.536198,28292655648.959034,25306489847.011662,22635500757.613297,20246422860.119221,18109501663.791798,16198123133.98193,14488482230.753067,12959286431.800598,11591490547.227728,10368059523.459503,9273756282.1641388,8294951951.8462772,304296161512.68896,1217184.6460507559]
[{"$f":"IF(ISBLANK(InfoPro!A60),\"\",InfoPro!A60)","v":"SC_1598_A1"},{"$f":"IF(ISBLANK(InfoPro!B60),\"\",InfoPro!B60)","v":"PARQUE SOLAR FOTOVOLTAICO MATIMBA de 150MW"},{"$f":"IF(ISBLANK(InfoPro!E60),\"\",InfoPro!E60)","v":150},{"$f":"IF(ISBLANK(InfoPro!F60),\"\",InfoPro!F60)","v":"Solar FV"},{"$f":"IF(ISBLANK(InfoPro!I60),\"\",YEAR(InfoPro!I60)-$H$3)","v":3},{"$f":"IF(B66=\"\",\"\",VLOOKUP(D66,Tablas!$B$2:$E$13,2,FALSE))","v":0.26},{"$f":"IF(B66=\"\",\"\",VLOOKUP(D66,Tablas!$B$2:$H$13,7,FALSE))","v":83577.200000000012},0.56483127404885003,341640,26521139406.206135,23721949379.433037,21218201591.621681,18978713409.32172,16975593389.375422,15183893908.206997,13581300454.567978,12147853716.071535,10865700998.275078,9718873880.3891582,8693089338.4518414,7775571859.0803595,6954894328.3366385,6220835714.0757027,5564253769.2984829,204121865142.71182,1360812.4342847455]
[{"$f":"IF(ISBLANK(InfoPro!A61),\"\",InfoPro!A61)","v":"SC_1598_A2"},{"$f":"IF(ISBLANK(InfoPro!B61),\"\",InfoPro!B61)","v":"PARQUE SOLAR FOTOVOLTAICO MATIMBA de 150MW"},{"$f":"IF(ISBLANK(InfoPro!E61),\"\",InfoPro!E61)","v":150},{"$f":"IF(ISBLANK(InfoPro!F61),\"\",InfoPro!F61)","v":"Solar FV"},{"$f":"IF(ISBLANK(InfoPro!I61),\"\",YEAR(InfoPro!I61)-$H$3)","v":3},{"$f":"IF(B67=\"\",\"\",VLOOKUP(D67,Tablas!$B$2:$E$13,2,FALSE))","v":0.26},{"$f":"IF(B67=\"\",\"\",VLOOKUP(D67,Tablas!$B$2:$H$13,7,FALSE))","v":83577.200000000012},0.56483127404885003,341640,26521139406.206135,23721949379.433037,21218201591.621681,18978713409.32172,16975593389.375422,15183893908.206997,13581300454.567978,12147853716.071535,10865700998.275078,9718873880.3891582,8693089338.4518414,7775571859.0803595,6954894328.3366385,6220835714.0757027,5564253769.2984829,204121865142.71182,1360812.4342847455]
[{"$f":"IF(ISBLANK(InfoPro!A62),\"\",InfoPro!A62)","v":"SC_981_A1"},{"$f":"IF(ISBLANK(InfoPro!B62),\"\",InfoPro!B62)","v":"Yaguarundi Solar"},{"$f":"IF(ISBLANK(InfoPro!E62),\"\",InfoPro!E62)","v":40},{"$f":"IF(ISBLANK(InfoPro!F62),\"\",InfoPro!F62)","v":"Solar FV"},{"$f":"IF(ISBLANK(InfoPro!I62),\"\",YEAR(InfoPro!I62)-$H$3)","v":3},{"$f":"IF(B68=\"\",\"\",VLOOKUP(D68,Tablas!$B$2:$E$13,2,FALSE))","v":0.26},{"$f":"IF(B68=\"\",\"\",VLOOKUP(D68,Tablas!$B$2:$H$13,7,FALSE))","v":83577.200000000012},0.56483127404885003,91104.000000000015,{"$f":"IF($I68=\"\",\"\",(1/(1+$C$3)^(J$6+$E68))*$I68*$C$2*$H68)","v":7072303841.6549711},6325853167.8488111,5658187091.0991154,5060990242.4857931,4526824903.8334465,4049038375.5218658,3621680121.2181273,3239427657.6190763,2897520266.2066884,2591699701.437109,2318157156.9204912,2073485829.0880964,1854638487.556437,1658889523.7535212,1483801005.1462622,54432497371.389824,1360812.4342847455]
[{"$f":"IF(ISBLANK(InfoPro!A63),\"\",InfoPro!A63)","v":"SC_981_A2"},{"$f":"IF(ISBLANK(InfoPro!B63),\"\",InfoPro!B63)","v":"Yaguarundi Solar"},{"$f":"IF(ISBLANK(InfoPro!E63),\"\",InfoPro!E63)","v":40},{"$f":"IF(ISBLANK(InfoPro!F63),\"\",InfoPro!F63)","v":"Solar FV"},{"$f":"IF(ISBLANK(InfoPro!I63),\"\",YEAR(InfoPro!I63)-$H$3)","v":3},{"$f":"IF(B69=\"\",\"\",VLOOKUP(D69,Tablas!$B$2:$E$13,2,FALSE))","v":0.26},{"$f":"IF(B69=\"\",\"\",VLOOKUP(D69,Tablas!$B$2:$H$13,7,FALSE))","v":83577.200000000012},0.56483127404885003,91104.000000000015,7072303841.6549711,6325853167.8488111,5658187091.0991154,5060990242.4857931,4526824903.8334465,4049038375.5218658,3621680121.2181273,3239427657.6190763,2897520266.2066884,2591699701.437109,2318157156.9204912,2073485829.0880964,1854638487.556437,1658889523.7535212,1483801005.1462622,54432497371.389824,1360812.4342847455]
[{"$f":"IF(ISBLANK(InfoPro!A64),\"\",InfoPro!A64)","v":"SC_1634_A1"},{"$f":"IF(ISBLANK(InfoPro!B64),\"\",InfoPro!B64)","v":"El Tapir Solar 99.9 MW"},{"$f":"IF(ISBLANK(InfoPro!E64),\"\",InfoPro!E64)","v":99.9},{"$f":"IF(ISBLANK(InfoPro!F64),\"\",InfoPro!F64)","v":"Solar FV"},{"$f":"IF(ISBLANK(InfoPro!I64),\"\",YEAR(InfoPro!I64)-$H$3)","v":3},{"$f":"IF(B70=\"\",\"\",VLOOKUP(D70,Tablas!$B$2:$E$13,2,FALSE))","v":0.26},{"$f":"IF(B70=\"\",\"\",VLOOKUP(D70,Tablas!$B$2:$H$13,7,FALSE))","v":83577.200000000012},0.56483127404885003,227532.24000000002,17663078844.533287,15798818286.702406,14131322260.020041,12639823130.608265,11305745197.32403,10112473342.86586,9045146102.7422733,8090470574.9036436,7236556864.851202,6472770004.33918,5789597499.408927,5178530858.147521,4631959622.6722012,4143076585.574419,3705793010.3527899,135945162185.04604,1360812.434284745]
[{"$f":"IF(ISBLANK(InfoPro!A65),\"\",InfoPro!A65)","v":"SC_782_A1"},{"$f":"IF(ISBLANK(InfoPro!B65),\"\",InfoPro!B65)","v":"Parque Solar El Corozo 60 MW"},{"$f":"IF(ISBLANK(InfoPro!E65),\"\",InfoPro!E65)","v":60},{"$f":"IF(ISBLANK(InfoPro!F65),\"\",InfoPro!F65)","v":"Solar FV"},{"$f":"IF(ISBLANK(InfoPro!I65),\"\",YEAR(InfoPro!I65)-$H$3)","v":3},{"$f":"IF(B71=\"\",\"\",VLOOKUP(D71,Tablas!$B$2:$E$13,2,FALSE))","v":0.26},{"$f":"IF(B71=\"\",\"\",VLOOKUP(D71,Tablas!$B$2:$H$13,7,FALSE))","v":83577.200000000012},0.56483127404885003,136656,10608455762.482452,9488779751.7732162,8487280636.6486721,7591485363.7286863,6790237355.7501688,6073557563.2827988,5432520181.8271914,4859141486.4286146,4346280399.3100319,3887549552.155663,3477235735.3807364,3110228743.632144,2781957731.3346553,2488334285.6302814,2225701507.7193933,81648746057.084686,1360812.4342847448]
[{"$f":"IF(ISBLANK(InfoPro!A66),\"\",InfoPro!A66)","v":"SC_782_A2"},{"$f":"IF(ISBLANK(InfoPro!B66),\"\",InfoPro!B66)","v":"Parque Solar El Corozo 60 MW"},{"$f":"IF(ISBLANK(InfoPro!E66),\"\",InfoPro!E66)","v":60},{"$f":"IF(ISBLANK(InfoPro!F66),\"\",InfoPro!F66)","v":"Solar FV"},{"$f":"IF(ISBLANK(InfoPro!I66),\"\",YEAR(InfoPro!I66)-$H$3)","v":3},{"$f":"IF(B72=\"\",\"\",VLOOKUP(D72,Tablas!$B$2:$E$13,2,FALSE))","v":0.26},{"$f":"IF(B72=\"\",\"\",VLOOKUP(D72,Tablas!$B$2:$H$13,7,FALSE))","v":83577.200000000012},0.56483127404885003,{"$f":"IF(C72=\"\",\"\",+C72*F72*24*365)","v":136656},10608455762.482452,9488779751.7732162,8487280636.6486721,7591485363.7286863,6790237355.7501688,6073557563.2827988,5432520181.8271914,4859141486.4286146,4346280399.3100319,3887549552.155663,3477235735.3807364,3110228743.632144,2781957731.3346553,2488334285.6302814,2225701507.7193933,81648746057.084686,1360812.4342847448]
[{"$f":"IF(ISBLANK(InfoPro!A67),\"\",InfoPro!A67)","v":"SC_1762_A1"},{"$f":"IF(ISBLANK(InfoPro!B67),\"\",InfoPro!B67)","v":"SPK CERETÉ SOLAR_19.9MW"},{"$f":"IF(ISBLANK(InfoPro!E67),\"\",InfoPro!E67)","v":19.899999999999999},{"$f":"IF(ISBLANK(InfoPro!F67),\"\",InfoPro!F67)","v":"Solar FV"},{"$f":"IF(ISBLANK(InfoPro!I67),\"\",YEAR(InfoPro!I67)-$H$3)","v":3},{"$f":"IF(B73=\"\",\"\",VLOOKUP(D73,Tablas!$B$2:$E$13,2,FALSE))","v":0.26},{"$f":"IF(B73=\"\",\"\",VLOOKUP(D73,Tablas!$B$2:$H$13,7,FALSE))","v":83577.200000000012},{"$f":"IF(B73=\"\",\"\",($C$2-(G73))/$C$2)","v":0.56483127404885003},45324.24,3518471161.2233472,3147111951.0047832,2814948077.8218098,2517842645.6366811,2252095389.6571393,2014396591.8221281,1801785860.3060179,1611615259.6654899,1441516332.4378271,1289370601.4649615,1153283185.5679443,1031559199.9713278,922682647.55932724,825297538.06737649,738191000.0602653,{"$f":"IF(X73=\"\",\"\",SUM(J73:X73))","v":27080167442.266422},{"$f":"IF(C73=0,0,IF(Y73=\"\",\"\",Y73/(C73*1000)))","v":1360812.4342847448}]
[{"$f":"IF(ISBLANK(InfoPro!A68),\"\",InfoPro!A68)","v":"SC_1762_A2"},{"$f":"IF(ISBLANK(InfoPro!B68),\"\",InfoPro!B68)","v":"SPK CERETÉ SOLAR_19.9MW"},{"$f":"IF(ISBLANK(InfoPro!E68),\"\",InfoPro!E68)","v":19.899999999999999},{"$f":"IF(ISBLANK(InfoPro!F68),\"\",InfoPro!F68)","v":"Solar FV"},{"$f":"IF(ISBLANK(InfoPro!I68),\"\",YEAR(InfoPro!I68)-$H$3)","v":3},{"$f":"IF(B74=\"\",\"\",VLOOKUP(D74,Tablas!$B$2:$E$13,2,FALSE))","v":0.26},{"$f":"IF(B74=\"\",\"\",VLOOKUP(D74,Tablas!$B$2:$H$13,7,FALSE))","v":83577.200000000012},0.56483127404885003,45324.24,3518471161.2233472,3147111951.0047832,2814948077.8218098,2517842645.6366811,2252095389.6571393,2014396591.8221281,1801785860.3060179,1611615259.6654899,1441516332.4378271,1289370601.4649615,1153283185.5679443,1031559199.9713278,922682647.55932724,825297538.06737649,738191000.0602653,27080167442.266422,1360812.4342847448]
[{"$f":"IF(ISBLANK(InfoPro!A69),\"\",InfoPro!A69)","v":"SC_1782_A1"},{"$f":"IF(ISBLANK(InfoPro!B69),\"\",InfoPro!B69)","v":"Orquídea del Sucre - Toluviejo"},{"$f":"IF(ISBLANK(InfoPro!E69),\"\",InfoPro!E69)","v":112},{"$f":"IF(ISBLANK(InfoPro!F69),\"\",InfoPro!F69)","v":"Solar FV"},{"$f":"IF(ISBLANK(InfoPro!I69),\"\",YEAR(InfoPro!I69)-$H$3)","v":4},{"$f":"IF(B75=\"\",\"\",VLOOKUP(D75,Tablas!$B$2:$E$13,2,FALSE))","v":0.26},{"$f":"IF(B75=\"\",\"\",VLOOKUP(D75,Tablas!$B$2:$H$13,7,FALSE))","v":83577.200000000012},0.56483127404885003,255091.20000000001,17712388869.976669,15842923855.077522,14170772678.960218,12675109730.733648,11337307451.461224,10140704339.410757,9070397441.3334141,8113056745.378727,7256759164.0239048,6490840039.3773746,5805760321.4466686,5192987765.1580229,4644890666.5098581,4154642814.409534,3716138474.4271326,136324680357.68469,1217184.6460507561]
[{"$f":"IF(ISBLANK(InfoPro!A70),\"\",InfoPro!A70)","v":"SC_1782_A2"},{"$f":"IF(ISBLANK(InfoPro!B70),\"\",InfoPro!B70)","v":"Orquídea del Sucre - Toluviejo"},{"$f":"IF(ISBLANK(InfoPro!E70),\"\",InfoPro!E70)","v":112},{"$f":"IF(ISBLANK(InfoPro!F70),\"\",InfoPro!F70)","v":"Solar FV"},{"$f":"IF(ISBLANK(InfoPro!I70),\"\",YEAR(InfoPro!I70)-$H$3)","v":4},{"$f":"IF(B76=\"\",\"\",VLOOKUP(D76,Tablas!$B$2:$E$13,2,FALSE))","v":0.26},{"$f":"IF(B76=\"\",\"\",VLOOKUP(D76,Tablas!$B$2:$H$13,7,FALSE))","v":83577.200000000012},0.56483127404885003,255091.20000000001,17712388869.976669,15842923855.077522,14170772678.960218,12675109730.733648,11337307451.461224,10140704339.410757,9070397441.3334141,8113056745.378727,7256759164.0239048,6490840039.3773746,5805760321.4466686,5192987765.1580229,4644890666.5098581,4154642814.409534,3716138474.4271326,136324680357.68469,1217184.6460507561]
[{"$f":"IF(ISBLANK(InfoPro!A71),\"\",InfoPro!A71)","v":"SC_1784_A1"},{"$f":"IF(ISBLANK(InfoPro!B71),\"\",InfoPro!B71)","v":"Pétalo del Sucre - Sierra Flor 9,9 MW"},{"$f":"IF(ISBLANK(InfoPro!E71),\"\",InfoPro!E71)","v":9.9},{"$f":"IF(ISBLANK(InfoPro!F71),\"\",InfoPro!F71)","v":"Solar FV"},{"$f":"IF(ISBLANK(InfoPro!I71),\"\",YEAR(InfoPro!I71)-$H$3)","v":3},{"$f":"IF(B77=\"\",\"\",VLOOKUP(D77,Tablas!$B$2:$E$13,2,FALSE))","v":0.26},{"$f":"IF(B77=\"\",\"\",VLOOKUP(D77,Tablas!$B$2:$H$13,7,FALSE))","v":83577.200000000012},0.56483127404885003,22548.240000000005,1750395200.8096051,1565648659.0425806,1400401305.0470312,1252595085.0152338,1120389163.6987782,1002136997.9416621,896365830.00148666,801758345.26072145,717136265.88615537,641445676.10568452,573743896.33782172,513187742.69930387,459023025.67021811,410575157.12899655,367240748.77369994,13472043099.41898,1360812.4342847455]
[{"$f":"IF(ISBLANK(InfoPro!A72),\"\",InfoPro!A72)","v":"SC_1784_A2"},{"$f":"IF(ISBLANK(InfoPro!B72),\"\",InfoPro!B72)","v":"Pétalo del Sucre - Sierra Flor 9,9 MW"},{"$f":"IF(ISBLANK(InfoPro!E72),\"\",InfoPro!E72)","v":9.9},{"$f":"IF(ISBLANK(InfoPro!F72),\"\",InfoPro!F72)","v":"Solar FV"},{"$f":"IF(ISBLANK(InfoPro!I72),\"\",YEAR(InfoPro!I72)-$H$3)","v":3},{"$f":"IF(B78=\"\",\"\",VLOOKUP(D78,Tablas!$B$2:$E$13,2,FALSE))","v":0.26},{"$f":"IF(B78=\"\",\"\",VLOOKUP(D78,Tablas!$B$2:$H$13,7,FALSE))","v":83577.200000000012},0.56483127404885003,22548.240000000005,{"$f":"IF($I78=\"\",\"\",(1/(1+$C$3)^(J$6+$E78))*$I78*$C$2*$H78)","v":1750395200.8096051},1565648659.0425806,1400401305.0470312,1252595085.0152338,1120389163.6987782,1002136997.9416621,896365830.00148666,801758345.26072145,717136265.88615537,641445676.10568452,573743896.33782172,513187742.69930387,459023025.67021811,410575157.12899655,367240748.77369994,13472043099.41898,1360812.4342847455]
[{"$f":"IF(ISBLANK(InfoPro!A73),\"\",InfoPro!A73)","v":"SC_1715_A1"},{"$f":"IF(ISBLANK(InfoPro!B73),\"\",InfoPro!B73)","v":"Andrómeda Solar de 50 MW (entrega 41 MW)"},{"$f":"IF(ISBLANK(InfoPro!E73),\"\",InfoPro!E73)","v":41},{"$f":"IF(ISBLANK(InfoPro!F73),\"\",InfoPro!F73)","v":"Solar FV"},{"$f":"IF(ISBLANK(InfoPro!I73),\"\",YEAR(InfoPro!I73)-$H$3)","v":3},{"$f":"IF(B79=\"\",\"\",VLOOKUP(D79,Tablas!$B$2:$E$13,2,FALSE))","v":0.26},{"$f":"IF(B79=\"\",\"\",VLOOKUP(D79,Tablas!$B$2:$H$13,7,FALSE))","v":83577.200000000012},0.56483127404885003,93381.6,7249111437.6963444,6483999497.0450306,5799641768.3765926,5187514998.5479364,4639995526.4292822,4150264334.9099121,3712222124.24858,3320413349.0595531,2969958272.861855,2656492193.9730363,2376111085.8435035,2125322974.8152986,1901004449.745348,1700361761.8473589,1520896030.2749186,55793309805.674553,1360812.4342847452]
[{"$f":"IF(ISBLANK(InfoPro!A74),\"\",InfoPro!A74)","v":"SC_1715_A2"},{"$f":"IF(ISBLANK(InfoPro!B74),\"\",InfoPro!B74)","v":"Andrómeda Solar de 50 MW (entrega 41 MW)"},{"$f":"IF(ISBLANK(InfoPro!E74),\"\",InfoPro!E74)","v":41},{"$f":"IF(ISBLANK(InfoPro!F74),\"\",InfoPro!F74)","v":"Solar FV"},{"$f":"IF(ISBLANK(InfoPro!I74),\"\",YEAR(InfoPro!I74)-$H$3)","v":3},{"$f":"IF(B80=\"\",\"\",VLOOKUP(D80,Tablas!$B$2:$E$13,2,FALSE))","v":0.26},{"$f":"IF(B80=\"\",\"\",VLOOKUP(D80,Tablas!$B$2:$H$13,7,FALSE))","v":83577.200000000012},0.56483127404885003,93381.6,7249111437.6963444,6483999497.0450306,5799641768.3765926,5187514998.5479364,4639995526.4292822,4150264334.9099121,3712222124.24858,3320413349.0595531,2969958272.861855,2656492193.9730363,2376111085.8435035,2125322974.8152986,1901004449.745348,1700361761.8473589,1520896030.2749186,55793309805.674553,1360812.4342847452]
[{"$f":"IF(ISBLANK(InfoPro!A75),\"\",InfoPro!A75)","v":"SC_1809_A1"},{"$f":"IF(ISBLANK(InfoPro!B75),\"\",InfoPro!B75)","v":"DSE COVEÑAS"},{"$f":"IF(ISBLANK(InfoPro!E75),\"\",InfoPro!E75)","v":9.9},{"$f":"IF(ISBLANK(InfoPro!F75),\"\",InfoPro!F75)","v":"Solar FV"},{"$f":"IF(ISBLANK(InfoPro!I75),\"\",YEAR(InfoPro!I75)-$H$3)","v":2},{"$f":"IF(B81=\"\",\"\",VLOOKUP(D81,Tablas!$B$2:$E$13,2,FALSE))","v":0.26},{"$f":"IF(B81=\"\",\"\",VLOOKUP(D81,Tablas!$B$2:$H$13,7,FALSE))","v":83577.200000000012},0.56483127404885003,22548.240000000005,1956941834.5051382,1750395200.8096051,1565648659.0425806,1400401305.0470312,1252595085.0152338,1120389163.6987782,1002136997.9416621,896365830.00148666,801758345.26072145,717136265.88615537,641445676.10568452,573743896.33782172,513187742.69930387,459023025.67021811,410575157.12899655,15061744185.150415,1521388.3015303449]
[{"$f":"IF(ISBLANK(InfoPro!A76),\"\",InfoPro!A76)","v":"SC_1809_A2"},{"$f":"IF(ISBLANK(InfoPro!B76),\"\",InfoPro!B76)","v":"DSE COVEÑAS"},{"$f":"IF(ISBLANK(InfoPro!E76),\"\",InfoPro!E76)","v":9.9},{"$f":"IF(ISBLANK(InfoPro!F76),\"\",InfoPro!F76)","v":"Solar FV"},{"$f":"IF(ISBLANK(InfoPro!I76),\"\",YEAR(InfoPro!I76)-$H$3)","v":2},{"$f":"IF(B82=\"\",\"\",VLOOKUP(D82,Tablas!$B$2:$E$13,2,FALSE))","v":0.26},{"$f":"IF(B82=\"\",\"\",VLOOKUP(D82,Tablas!$B$2:$H$13,7,FALSE))","v":83577.200000000012},0.56483127404885003,22548.240000000005,1956941834.5051382,1750395200.8096051,1565648659.0425806,1400401305.0470312,1252595085.0152338,1120389163.6987782,1002136997.9416621,896365830.00148666,801758345.26072145,717136265.88615537,641445676.10568452,573743896.33782172,513187742.69930387,459023025.67021811,410575157.12899655,15061744185.150415,1521388.3015303449]
[{"$f":"IF(ISBLANK(InfoPro!A77),\"\",InfoPro!A77)","v":"SC_1838_A1"},{"$f":"IF(ISBLANK(InfoPro!B77),\"\",InfoPro!B77)","v":"Since Solar I 9,9 MW"},{"$f":"IF(ISBLANK(InfoPro!E77),\"\",InfoPro!E77)","v":9.9},{"$f":"IF(ISBLANK(InfoPro!F77),\"\",InfoPro!F77)","v":"Solar FV"},{"$f":"IF(ISBLANK(InfoPro!I77),\"\",YEAR(InfoPro!I77)-$H$3)","v":2},{"$f":"IF(B83=\"\",\"\",VLOOKUP(D83,Tablas!$B$2:$E$13,2,FALSE))","v":0.26},{"$f":"IF(B83=\"\",\"\",VLOOKUP(D83,Tablas!$B$2:$H$13,7,FALSE))","v":83577.200000000012},0.56483127404885003,22548.240000000005,1956941834.5051382,1750395200.8096051,1565648659.0425806,1400401305.0470312,1252595085.0152338,1120389163.6987782,1002136997.9416621,896365830.00148666,801758345.26072145,717136265.88615537,641445676.10568452,573743896.33782172,513187742.69930387,459023025.67021811,410575157.12899655,15061744185.150415,1521388.3015303449]
[{"$f":"IF(ISBLANK(InfoPro!A78),\"\",InfoPro!A78)","v":"SC_1838_A2"},{"$f":"IF(ISBLANK(InfoPro!B78),\"\",InfoPro!B78)","v":"Since Solar I 9,9 MW"},{"$f":"IF(ISBLANK(InfoPro!E78),\"\",InfoPro!E78)","v":9.9},{"$f":"IF(ISBLANK(InfoPro!F78),\"\",InfoPro!F78)","v":"Solar FV"},{"$f":"IF(ISBLANK(InfoPro!I78),\"\",YEAR(InfoPro!I78)-$H$3)","v":2},{"$f":"IF(B84=\"\",\"\",VLOOKUP(D84,Tablas!$B$2:$E$13,2,FALSE))","v":0.26},{"$f":"IF(B84=\"\",\"\",VLOOKUP(D84,Tablas!$B$2:$H$13,7,FALSE))","v":83577.200000000012},0.56483127404885003,22548.240000000005,1956941834.5051382,1750395200.8096051,1565648659.0425806,1400401305.0470312,1252595085.0152338,1120389163.6987782,1002136997.9416621,896365830.00148666,801758345.26072145,717136265.88615537,641445676.10568452,573743896.33782172,513187742.69930387,459023025.67021811,410575157.12899655,15061744185.150415,1521388.3015303449]
[{"$f":"IF(ISBLANK(InfoPro!A79),\"\",InfoPro!A79)","v":"SC_1853_A1"},{"$f":"IF(ISBLANK(InfoPro!B79),\"\",InfoPro!B79)","v":"Tolú Solar 9,9 MW"},{"$f":"IF(ISBLANK(InfoPro!E79),\"\",InfoPro!E79)","v":9.9},{"$f":"IF(ISBLANK(InfoPro!F79),\"\",InfoPro!F79)","v":"Solar FV"},{"$f":"IF(ISBLANK(InfoPro!I79),\"\",YEAR(InfoPro!I79)-$H$3)","v":2},{"$f":"IF(B85=\"\",\"\",VLOOKUP(D85,Tablas!$B$2:$E$13,2,FALSE))","v":0.26},{"$f":"IF(B85=\"\",\"\",VLOOKUP(D85,Tablas!$B$2:$H$13,7,FALSE))","v":83577.200000000012},0.56483127404885003,22548.240000000005,1956941834.5051382,1750395200.8096051,1565648659.0425806,1400401305.0470312,1252595085.0152338,1120389163.6987782,1002136997.9416621,896365830.00148666,801758345.26072145,717136265.88615537,641445676.10568452,573743896.33782172,513187742.69930387,459023025.67021811,410575157.12899655,15061744185.150415,1521388.3015303449]
[{"$f":"IF(ISBLANK(InfoPro!A80),\"\",InfoPro!A80)","v":"SC_1853_A2"},{"$f":"IF(ISBLANK(InfoPro!B80),\"\",InfoPro!B80)","v":"Tolú Solar 9,9 MW"},{"$f":"IF(ISBLANK(InfoPro!E80),\"\",InfoPro!E80)","v":9.9},{"$f":"IF(ISBLANK(InfoPro!F80),\"\",InfoPro!F80)","v":"Solar FV"},{"$f":"IF(ISBLANK(InfoPro!I80),\"\",YEAR(InfoPro!I80)-$H$3)","v":2},{"$f":"IF(B86=\"\",\"\",VLOOKUP(D86,Tablas!$B$2:$E$13,2,FALSE))","v":0.26},{"$f":"IF(B86=\"\",\"\",VLOOKUP(D86,Tablas!$B$2:$H$13,7,FALSE))","v":83577.200000000012},0.56483127404885003,22548.240000000005,1956941834.5051382,1750395200.8096051,1565648659.0425806,1400401305.0470312,1252595085.0152338,1120389163.6987782,1002136997.9416621,896365830.00148666,801758345.26072145,717136265.88615537,641445676.10568452,573743896.33782172,513187742.69930387,459023025.67021811,410575157.12899655,15061744185.150415,1521388.3015303449]
[{"$f":"IF(ISBLANK(InfoPro!A81),\"\",InfoPro!A81)","v":"SC_1882_A1"},{"$f":"IF(ISBLANK(InfoPro!B81),\"\",InfoPro!B81)","v":"Proyecto Solar Oviedo"},{"$f":"IF(ISBLANK(InfoPro!E81),\"\",InfoPro!E81)","v":9.9},{"$f":"IF(ISBLANK(InfoPro!F81),\"\",InfoPro!F81)","v":"Solar FV"},{"$f":"IF(ISBLANK(InfoPro!I81),\"\",YEAR(InfoPro!I81)-$H$3)","v":2},{"$f":"IF(B87=\"\",\"\",VLOOKUP(D87,Tablas!$B$2:$E$13,2,FALSE))","v":0.26},{"$f":"IF(B87=\"\",\"\",VLOOKUP(D87,Tablas!$B$2:$H$13,7,FALSE))","v":83577.200000000012},0.56483127404885003,22548.240000000005,1956941834.5051382,1750395200.8096051,1565648659.0425806,1400401305.0470312,1252595085.0152338,1120389163.6987782,1002136997.9416621,896365830.00148666,801758345.26072145,717136265.88615537,641445676.10568452,573743896.33782172,513187742.69930387,459023025.67021811,410575157.12899655,15061744185.150415,1521388.3015303449]
[{"$f":"IF(ISBLANK(InfoPro!A82),\"\",InfoPro!A82)","v":"SC_1882_A2"},{"$f":"IF(ISBLANK(InfoPro!B82),\"\",InfoPro!B82)","v":"Proyecto Solar Oviedo"},{"$f":"IF(ISBLANK(InfoPro!E82),\"\",InfoPro!E82)","v":9.9},{"$f":"IF(ISBLANK(InfoPro!F82),\"\",InfoPro!F82)","v":"Solar FV"},{"$f":"IF(ISBLANK(InfoPro!I82),\"\",YEAR(InfoPro!I82)-$H$3)","v":2},{"$f":"IF(B88=\"\",\"\",VLOOKUP(D88,Tablas!$B$2:$E$13,2,FALSE))","v":0.26},{"$f":"IF(B88=\"\",\"\",VLOOKUP(D88,Tablas!$B$2:$H$13,7,FALSE))","v":83577.200000000012},0.56483127404885003,22548.240000000005,{"$f":"IF($I88=\"\",\"\",(1/(1+$C$3)^(J$6+$E88))*$I88*$C$2*$H88)","v":1956941834.5051382},1750395200.8096051,1565648659.0425806,1400401305.0470312,1252595085.0152338,1120389163.6987782,1002136997.9416621,896365830.00148666,801758345.26072145,717136265.88615537,641445676.10568452,573743896.33782172,513187742.69930387,459023025.67021811,410575157.12899655,15061744185.150415,1521388.3015303449]
[{"$f":"IF(ISBLANK(InfoPro!A83),\"\",InfoPro!A83)","v":"SC_1913_A1"},{"$f":"IF(ISBLANK(InfoPro!B83),\"\",InfoPro!B83)","v":"PS Noe"},{"$f":"IF(ISBLANK(InfoPro!E83),\"\",InfoPro!E83)","v":9.9},{"$f":"IF(ISBLANK(InfoPro!F83),\"\",InfoPro!F83)","v":"Solar FV"},{"$f":"IF(ISBLANK(InfoPro!I83),\"\",YEAR(InfoPro!I83)-$H$3)","v":2},{"$f":"IF(B89=\"\",\"\",VLOOKUP(D89,Tablas!$B$2:$E$13,2,FALSE))","v":0.26},{"$f":"IF(B89=\"\",\"\",VLOOKUP(D89,Tablas!$B$2:$H$13,7,FALSE))","v":83577.200000000012},0.56483127404885003,22548.240000000005,1956941834.5051382,1750395200.8096051,1565648659.0425806,1400401305.0470312,1252595085.0152338,1120389163.6987782,1002136997.9416621,896365830.00148666,801758345.26072145,717136265.88615537,641445676.10568452,573743896.33782172,513187742.69930387,459023025.67021811,410575157.12899655,15061744185.150415,1521388.3015303449]
[{"$f":"IF(ISBLANK(InfoPro!A84),\"\",InfoPro!A84)","v":"SC_1913_A2"},{"$f":"IF(ISBLANK(InfoPro!B84),\"\",InfoPro!B84)","v":"PS Noe"},{"$f":"IF(ISBLANK(InfoPro!E84),\"\",InfoPro!E84)","v":9.9},{"$f":"IF(ISBLANK(InfoPro!F84),\"\",InfoPro!F84)","v":"Solar FV"},{"$f":"IF(ISBLANK(InfoPro!I84),\"\",YEAR(InfoPro!I84)-$H$3)","v":2},{"$f":"IF(B90=\"\",\"\",VLOOKUP(D90,Tablas!$B$2:$E$13,2,FALSE))","v":0.26},{"$f":"IF(B90=\"\",\"\",VLOOKUP(D90,Tablas!$B$2:$H$13,7,FALSE))","v":83577.200000000012},0.56483127404885003,22548.240000000005,1956941834.5051382,1750395200.8096051,1565648659.0425806,1400401305.0470312,1252595085.0152338,1120389163.6987782,1002136997.9416621,896365830.00148666,801758345.26072145,717136265.88615537,641445676.10568452,573743896.33782172,513187742.69930387,459023025.67021811,410575157.12899655,15061744185.150415,1521388.3015303449]
[{"$f":"IF(ISBLANK(InfoPro!A85),\"\",InfoPro!A85)","v":"SC_1491_A1"},{"$f":"IF(ISBLANK(InfoPro!B85),\"\",InfoPro!B85)","v":"SABANA SOLAR_90MW"},{"$f":"IF(ISBLANK(InfoPro!E85),\"\",InfoPro!E85)","v":90},{"$f":"IF(ISBLANK(InfoPro!F85),\"\",InfoPro!F85)","v":"Solar FV"},{"$f":"IF(ISBLANK(InfoPro!I85),\"\",YEAR(InfoPro!I85)-$H$3)","v":2},{"$f":"IF(B91=\"\",\"\",VLOOKUP(D91,Tablas!$B$2:$E$13,2,FALSE))","v":0.26},{"$f":"IF(B91=\"\",\"\",VLOOKUP(D91,Tablas!$B$2:$H$13,7,FALSE))","v":83577.200000000012},0.56483127404885003,204984,17790380313.683075,15912683643.72368,14233169627.659822,12730920954.973007,11387228045.593029,10185356033.625252,9110336344.9241982,8148780272.7407846,7288712229.6429214,6519420598.9650469,5831324328.2334948,5215853603.071104,4665343115.4482155,4172936597.0019822,3732501428.4454212,136924947137.73102,1521388.3015303446]
[{"$f":"IF(ISBLANK(InfoPro!A86),\"\",InfoPro!A86)","v":"SC_1491_A2"},{"$f":"IF(ISBLANK(InfoPro!B86),\"\",InfoPro!B86)","v":"SABANA SOLAR_90MW"},{"$f":"IF(ISBLANK(InfoPro!E86),\"\",InfoPro!E86)","v":90},{"$f":"IF(ISBLANK(InfoPro!F86),\"\",InfoPro!F86)","v":"Solar FV"},{"$f":"IF(ISBLANK(InfoPro!I86),\"\",YEAR(InfoPro!I86)-$H$3)","v":2},{"$f":"IF(B92=\"\",\"\",VLOOKUP(D92,Tablas!$B$2:$E$13,2,FALSE))","v":0.26},{"$f":"IF(B92=\"\",\"\",VLOOKUP(D92,Tablas!$B$2:$H$13,7,FALSE))","v":83577.200000000012},0.56483127404885003,204984,17790380313.683075,15912683643.72368,14233169627.659822,12730920954.973007,11387228045.593029,10185356033.625252,9110336344.9241982,8148780272.7407846,7288712229.6429214,6519420598.9650469,5831324328.2334948,5215853603.071104,4665343115.4482155,4172936597.0019822,3732501428.4454212,136924947137.73102,1521388.3015303446]
[{"$f":"IF(ISBLANK(InfoPro!A87),\"\",InfoPro!A87)","v":"SC_1894_A1"},{"$f":"IF(ISBLANK(InfoPro!B87),\"\",InfoPro!B87)","v":"Aquila Solar"},{"$f":"IF(ISBLANK(InfoPro!E87),\"\",InfoPro!E87)","v":47},{"$f":"IF(ISBLANK(InfoPro!F87),\"\",InfoPro!F87)","v":"Solar FV"},{"$f":"IF(ISBLANK(InfoPro!I87),\"\",YEAR(InfoPro!I87)-$H$3)","v":2},{"$f":"IF(B93=\"\",\"\",VLOOKUP(D93,Tablas!$B$2:$E$13,2,FALSE))","v":0.26},{"$f":"IF(B93=\"\",\"\",VLOOKUP(D93,Tablas!$B$2:$H$13,7,FALSE))","v":83577.200000000012},0.56483127404885003,107047.20000000001,9290531941.5900497,8309957013.9445887,7432877472.222353,6648369832.041461,5946663534.9208059,5319019262.0043001,4757620091.2381926,4255474142.4312997,3806327497.7024145,3404586312.7928581,3045247149.1886029,2723834659.381577,2436345849.1785131,2179200222.8788133,1949195190.4103873,71505250171.926208,1521388.3015303449]
[{"$f":"IF(ISBLANK(InfoPro!A88),\"\",InfoPro!A88)","v":"SC_1894_A2"},{"$f":"IF(ISBLANK(InfoPro!B88),\"\",InfoPro!B88)","v":"Aquila Solar"},{"$f":"IF(ISBLANK(InfoPro!E88),\"\",InfoPro!E88)","v":47},{"$f":"IF(ISBLANK(InfoPro!F88),\"\",InfoPro!F88)","v":"Solar FV"},{"$f":"IF(ISBLANK(InfoPro!I88),\"\",YEAR(InfoPro!I88)-$H$3)","v":2},{"$f":"IF(B94=\"\",\"\",VLOOKUP(D94,Tablas!$B$2:$E$13,2,FALSE))","v":0.26},{"$f":"IF(B94=\"\",\"\",VLOOKUP(D94,Tablas!$B$2:$H$13,7,FALSE))","v":83577.200000000012},0.56483127404885003,107047.20000000001,9290531941.5900497,8309957013.9445887,7432877472.222353,6648369832.041461,5946663534.9208059,5319019262.0043001,4757620091.2381926,4255474142.4312997,3806327497.7024145,3404586312.7928581,3045247149.1886029,2723834659.381577,2436345849.1785131,2179200222.8788133,1949195190.4103873,71505250171.926208,1521388.3015303449]
[{"$f":"IF(ISBLANK(InfoPro!A89),\"\",InfoPro!A89)","v":"SC_1887_A1"},{"$f":"IF(ISBLANK(InfoPro!B89),\"\",InfoPro!B89)","v":"Boston Solar"},{"$f":"IF(ISBLANK(InfoPro!E89),\"\",InfoPro!E89)","v":100},{"$f":"IF(ISBLANK(InfoPro!F89),\"\",InfoPro!F89)","v":"Solar FV"},{"$f":"IF(ISBLANK(InfoPro!I89),\"\",YEAR(InfoPro!I89)-$H$3)","v":3},{"$f":"IF(B95=\"\",\"\",VLOOKUP(D95,Tablas!$B$2:$E$13,2,FALSE))","v":0.26},{"$f":"IF(B95=\"\",\"\",VLOOKUP(D95,Tablas!$B$2:$H$13,7,FALSE))","v":83577.200000000012},0.56483127404885003,227760,17680759604.137424,15814632919.622025,14145467727.747787,12652475606.214478,11317062259.583614,10122595938.804665,9054200303.0453167,8098569144.0476894,7243800665.5167198,6479249253.5927715,5795392892.3012276,5183714572.7202396,4636596218.8910923,4147223809.3838015,3709502512.8656549,136081243428.47452,1360812.4342847452]
[{"$f":"IF(ISBLANK(InfoPro!A90),\"\",InfoPro!A90)","v":"SC_1887_A2"},{"$f":"IF(ISBLANK(InfoPro!B90),\"\",InfoPro!B90)","v":"Boston Solar"},{"$f":"IF(ISBLANK(InfoPro!E90),\"\",InfoPro!E90)","v":100},{"$f":"IF(ISBLANK(InfoPro!F90),\"\",InfoPro!F90)","v":"Solar FV"},{"$f":"IF(ISBLANK(InfoPro!I90),\"\",YEAR(InfoPro!I90)-$H$3)","v":3},{"$f":"IF(B96=\"\",\"\",VLOOKUP(D96,Tablas!$B$2:$E$13,2,FALSE))","v":0.26},{"$f":"IF(B96=\"\",\"\",VLOOKUP(D96,Tablas!$B$2:$H$13,7,FALSE))","v":83577.200000000012},0.56483127404885003,227760,17680759604.137424,15814632919.622025,14145467727.747787,12652475606.214478,11317062259.583614,10122595938.804665,9054200303.0453167,8098569144.0476894,7243800665.5167198,6479249253.5927715,5795392892.3012276,5183714572.7202396,4636596218.8910923,4147223809.3838015,3709502512.8656549,136081243428.47452,1360812.4342847452]
[{"$f":"IF(ISBLANK(InfoPro!A91),\"\",InfoPro!A91)","v":"SC_2104_A1"},{"$f":"IF(ISBLANK(InfoPro!B91),\"\",InfoPro!B91)","v":"El Dorado - 300 MW"},{"$f":"IF(ISBLANK(InfoPro!E91),\"\",InfoPro!E91)","v":300},{"$f":"IF(ISBLANK(InfoPro!F91),\"\",InfoPro!F91)","v":"Solar FV"},{"$f":"IF(ISBLANK(InfoPro!I91),\"\",YEAR(InfoPro!I91)-$H$3)","v":3},{"$f":"IF(B97=\"\",\"\",VLOOKUP(D97,Tablas!$B$2:$E$13,2,FALSE))","v":0.26},{"$f":"IF(B97=\"\",\"\",VLOOKUP(D97,Tablas!$B$2:$H$13,7,FALSE))","v":83577.200000000012},0.56483127404885003,683280,53042278812.41227,47443898758.866074,42436403183.243362,37957426818.64344,33951186778.750843,30367787816.413994,27162600909.135956,24295707432.14307,21731401996.550156,19437747760.778316,17386178676.903683,15551143718.160719,13909788656.673277,12441671428.151405,11128507538.596966,408243730285.42365,1360812.4342847455]
[{"$f":"IF(ISBLANK(InfoPro!A92),\"\",InfoPro!A92)","v":"SC_2104_A2"},{"$f":"IF(ISBLANK(InfoPro!B92),\"\",InfoPro!B92)","v":"El Dorado - 300 MW"},{"$f":"IF(ISBLANK(InfoPro!E92),\"\",InfoPro!E92)","v":300},{"$f":"IF(ISBLANK(InfoPro!F92),\"\",InfoPro!F92)","v":"Solar FV"},{"$f":"IF(ISBLANK(InfoPro!I92),\"\",YEAR(InfoPro!I92)-$H$3)","v":3},{"$f":"IF(B98=\"\",\"\",VLOOKUP(D98,Tablas!$B$2:$E$13,2,FALSE))","v":0.26},{"$f":"IF(B98=\"\",\"\",VLOOKUP(D98,Tablas!$B$2:$H$13,7,FALSE))","v":83577.200000000012},0.56483127404885003,683280,{"$f":"IF($I98=\"\",\"\",(1/(1+$C$3)^(J$6+$E98))*$I98*$C$2*$H98)","v":53042278812.41227},47443898758.866074,42436403183.243362,37957426818.64344,33951186778.750843,30367787816.413994,27162600909.135956,24295707432.14307,21731401996.550156,19437747760.778316,17386178676.903683,15551143718.160719,13909788656.673277,12441671428.151405,11128507538.596966,408243730285.42365,1360812.4342847455]
[{"$f":"IF(ISBLANK(InfoPro!A93),\"\",InfoPro!A93)","v":"SC_2028_A1"},{"$f":"IF(ISBLANK(InfoPro!B93),\"\",InfoPro!B93)","v":"Parque Solar Fandango"},{"$f":"IF(ISBLANK(InfoPro!E93),\"\",InfoPro!E93)","v":19.899999999999999},{"$f":"IF(ISBLANK(InfoPro!F93),\"\",InfoPro!F93)","v":"Solar FV"},{"$f":"IF(ISBLANK(InfoPro!I93),\"\",YEAR(InfoPro!I93)-$H$3)","v":2},{"$f":"IF(B99=\"\",\"\",VLOOKUP(D99,Tablas!$B$2:$E$13,2,FALSE))","v":0.26},{"$f":"IF(B99=\"\",\"\",VLOOKUP(D99,Tablas!$B$2:$H$13,7,FALSE))","v":83577.200000000012},0.56483127404885003,45324.24,3933650758.2477007,3518471161.2233472,3147111951.0047832,2814948077.8218098,2517842645.6366811,2252095389.6571393,2014396591.8221281,1801785860.3060179,1611615259.6654899,1441516332.4378271,1289370601.4649615,1153283185.5679443,1031559199.9713278,922682647.55932724,825297538.06737649,30275627200.453861,1521388.3015303449]
[{"$f":"IF(ISBLANK(InfoPro!A94),\"\",InfoPro!A94)","v":"SC_2028_A2"},{"$f":"IF(ISBLANK(InfoPro!B94),\"\",InfoPro!B94)","v":"Parque Solar Fandango"},{"$f":"IF(ISBLANK(InfoPro!E94),\"\",InfoPro!E94)","v":19.899999999999999},{"$f":"IF(ISBLANK(InfoPro!F94),\"\",InfoPro!F94)","v":"Solar FV"},{"$f":"IF(ISBLANK(InfoPro!I94),\"\",YEAR(InfoPro!I94)-$H$3)","v":2},{"$f":"IF(B100=\"\",\"\",VLOOKUP(D100,Tablas!$B$2:$E$13,2,FALSE))","v":0.26},{"$f":"IF(B100=\"\",\"\",VLOOKUP(D100,Tablas!$B$2:$H$13,7,FALSE))","v":83577.200000000012},0.56483127404885003,45324.24,3933650758.2477007,3518471161.2233472,3147111951.0047832,2814948077.8218098,2517842645.6366811,2252095389.6571393,2014396591.8221281,1801785860.3060179,1611615259.6654899,1441516332.4378271,1289370601.4649615,1153283185.5679443,1031559199.9713278,922682647.55932724,825297538.06737649,30275627200.453861,1521388.3015303449]
[{"$f":"IF(ISBLANK(InfoPro!A95),\"\",InfoPro!A95)","v":"SC_2015_A1"},{"$f":"IF(ISBLANK(InfoPro!B95),\"\",InfoPro!B95)","v":"Parque Solar El Bongo"},{"$f":"IF(ISBLANK(InfoPro!E95),\"\",InfoPro!E95)","v":19.899999999999999},{"$f":"IF(ISBLANK(InfoPro!F95),\"\",InfoPro!F95)","v":"Solar FV"},{"$f":"IF(ISBLANK(InfoPro!I95),\"\",YEAR(InfoPro!I95)-$H$3)","v":2},{"$f":"IF(B101=\"\",\"\",VLOOKUP(D101,Tablas!$B$2:$E$13,2,FALSE))","v":0.26},{"$f":"IF(B101=\"\",\"\",VLOOKUP(D101,Tablas!$B$2:$H$13,7,FALSE))","v":83577.200000000012},0.56483127404885003,45324.24,3933650758.2477007,3518471161.2233472,3147111951.0047832,2814948077.8218098,2517842645.6366811,2252095389.6571393,2014396591.8221281,1801785860.3060179,1611615259.6654899,1441516332.4378271,1289370601.4649615,1153283185.5679443,1031559199.9713278,922682647.55932724,825297538.06737649,30275627200.453861,1521388.3015303449]
[{"$f":"IF(ISBLANK(InfoPro!A96),\"\",InfoPro!A96)","v":"SC_2015_A2"},{"$f":"IF(ISBLANK(InfoPro!B96),\"\",InfoPro!B96)","v":"Parque Solar El Bongo"},{"$f":"IF(ISBLANK(InfoPro!E96),\"\",InfoPro!E96)","v":19.899999999999999},{"$f":"IF(ISBLANK(InfoPro!F96),\"\",InfoPro!F96)","v":"Solar FV"},{"$f":"IF(ISBLANK(InfoPro!I96),\"\",YEAR(InfoPro!I96)-$H$3)","v":2},{"$f":"IF(B102=\"\",\"\",VLOOKUP(D102,Tablas!$B$2:$E$13,2,FALSE))","v":0.26},{"$f":"IF(B102=\"\",\"\",VLOOKUP(D102,Tablas!$B$2:$H$13,7,FALSE))","v":83577.200000000012},0.56483127404885003,45324.24,3933650758.2477007,3518471161.2233472,3147111951.0047832,2814948077.8218098,2517842645.6366811,2252095389.6571393,2014396591.8221281,1801785860.3060179,1611615259.6654899,1441516332.4378271,1289370601.4649615,1153283185.5679443,1031559199.9713278,922682647.55932724,825297538.06737649,30275627200.453861,1521388.3015303449]
[{"$f":"IF(ISBLANK(InfoPro!A97),\"\",InfoPro!A97)","v":"SC_2049_A1"},{"$f":"IF(ISBLANK(InfoPro!B97),\"\",InfoPro!B97)","v":"Parque Solar Sinú"},{"$f":"IF(ISBLANK(InfoPro!E97),\"\",InfoPro!E97)","v":9.9},{"$f":"IF(ISBLANK(InfoPro!F97),\"\",InfoPro!F97)","v":"Solar FV"},{"$f":"IF(ISBLANK(InfoPro!I97),\"\",YEAR(InfoPro!I97)-$H$3)","v":2},{"$f":"IF(B103=\"\",\"\",VLOOKUP(D103,Tablas!$B$2:$E$13,2,FALSE))","v":0.26},{"$f":"IF(B103=\"\",\"\",VLOOKUP(D103,Tablas!$B$2:$H$13,7,FALSE))","v":83577.200000000012},0.56483127404885003,22548.240000000005,1956941834.5051382,1750395200.8096051,1565648659.0425806,1400401305.0470312,1252595085.0152338,1120389163.6987782,1002136997.9416621,896365830.00148666,801758345.26072145,717136265.88615537,641445676.10568452,573743896.33782172,513187742.69930387,459023025.67021811,410575157.12899655,15061744185.150415,1521388.3015303449]
[{"$f":"IF(ISBLANK(InfoPro!A98),\"\",InfoPro!A98)","v":"SC_2049_A2"},{"$f":"IF(ISBLANK(InfoPro!B98),\"\",InfoPro!B98)","v":"Parque Solar Sinú"},{"$f":"IF(ISBLANK(InfoPro!E98),\"\",InfoPro!E98)","v":9.9},{"$f":"IF(ISBLANK(InfoPro!F98),\"\",InfoPro!F98)","v":"Solar FV"},{"$f":"IF(ISBLANK(InfoPro!I98),\"\",YEAR(InfoPro!I98)-$H$3)","v":2},{"$f":"IF(B104=\"\",\"\",VLOOKUP(D104,Tablas!$B$2:$E$13,2,FALSE))","v":0.26},{"$f":"IF(B104=\"\",\"\",VLOOKUP(D104,Tablas!$B$2:$H$13,7,FALSE))","v":83577.200000000012},0.56483127404885003,22548.240000000005,1956941834.5051382,1750395200.8096051,1565648659.0425806,1400401305.0470312,1252595085.0152338,1120389163.6987782,1002136997.9416621,896365830.00148666,801758345.26072145,717136265.88615537,641445676.10568452,573743896.33782172,513187742.69930387,459023025.67021811,410575157.12899655,15061744185.150415,1521388.3015303449]
[{"$f":"IF(ISBLANK(InfoPro!A99),\"\",InfoPro!A99)","v":"SC_2042_A1"},{"$f":"IF(ISBLANK(InfoPro!B99),\"\",InfoPro!B99)","v":"Parque Solar La Uvita"},{"$f":"IF(ISBLANK(InfoPro!E99),\"\",InfoPro!E99)","v":19.899999999999999},{"$f":"IF(ISBLANK(InfoPro!F99),\"\",InfoPro!F99)","v":"Solar FV"},{"$f":"IF(ISBLANK(InfoPro!I99),\"\",YEAR(InfoPro!I99)-$H$3)","v":2},{"$f":"IF(B105=\"\",\"\",VLOOKUP(D105,Tablas!$B$2:$E$13,2,FALSE))","v":0.26},{"$f":"IF(B105=\"\",\"\",VLOOKUP(D105,Tablas!$B$2:$H$13,7,FALSE))","v":83577.200000000012},0.56483127404885003,45324.24,3933650758.2477007,3518471161.2233472,3147111951.0047832,2814948077.8218098,2517842645.6366811,2252095389.6571393,2014396591.8221281,1801785860.3060179,1611615259.6654899,1441516332.4378271,1289370601.4649615,1153283185.5679443,1031559199.9713278,922682647.55932724,825297538.06737649,30275627200.453861,1521388.3015303449]
[{"$f":"IF(ISBLANK(InfoPro!A100),\"\",InfoPro!A100)","v":"SC_2042_A2"},{"$f":"IF(ISBLANK(InfoPro!B100),\"\",InfoPro!B100)","v":"Parque Solar La Uvita"},{"$f":"IF(ISBLANK(InfoPro!E100),\"\",InfoPro!E100)","v":19.899999999999999},{"$f":"IF(ISBLANK(InfoPro!F100),\"\",InfoPro!F100)","v":"Solar FV"},{"$f":"IF(ISBLANK(InfoPro!I100),\"\",YEAR(InfoPro!I100)-$H$3)","v":2},{"$f":"IF(B106=\"\",\"\",VLOOKUP(D106,Tablas!$B$2:$E$13,2,FALSE))","v":0.26},{"$f":"IF(B106=\"\",\"\",VLOOKUP(D106,Tablas!$B$2:$H$13,7,FALSE))","v":83577.200000000012},0.56483127404885003,45324.24,3933650758.2477007,3518471161.2233472,3147111951.0047832,2814948077.8218098,2517842645.6366811,2252095389.6571393,2014396591.8221281,1801785860.3060179,1611615259.6654899,1441516332.4378271,1289370601.4649615,1153283185.5679443,1031559199.9713278,922682647.55932724,825297538.06737649,30275627200.453861,1521388.3015303449]
[{"$f":"IF(ISBLANK(InfoPro!A101),\"\",InfoPro!A101)","v":"SC_2111_A1"},{"$f":"IF(ISBLANK(InfoPro!B101),\"\",InfoPro!B101)","v":"PROYECTO QUIMARÍ SOLAR_90MW"},{"$f":"IF(ISBLANK(InfoPro!E101),\"\",InfoPro!E101)","v":90},{"$f":"IF(ISBLANK(InfoPro!F101),\"\",InfoPro!F101)","v":"Solar FV"},{"$f":"IF(ISBLANK(InfoPro!I101),\"\",YEAR(InfoPro!I101)-$H$3)","v":2},{"$f":"IF(B107=\"\",\"\",VLOOKUP(D107,Tablas!$B$2:$E$13,2,FALSE))","v":0.26},{"$f":"IF(B107=\"\",\"\",VLOOKUP(D107,Tablas!$B$2:$H$13,7,FALSE))","v":83577.200000000012},0.56483127404885003,204984,17790380313.683075,15912683643.72368,14233169627.659822,12730920954.973007,11387228045.593029,10185356033.625252,9110336344.9241982,8148780272.7407846,7288712229.6429214,6519420598.9650469,5831324328.2334948,5215853603.071104,4665343115.4482155,4172936597.0019822,3732501428.4454212,136924947137.73102,1521388.3015303446]
[{"$f":"IF(ISBLANK(InfoPro!A102),\"\",InfoPro!A102)","v":"SC_2111_A2"},{"$f":"IF(ISBLANK(InfoPro!B102),\"\",InfoPro!B102)","v":"PROYECTO QUIMARÍ SOLAR_90MW"},{"$f":"IF(ISBLANK(InfoPro!E102),\"\",InfoPro!E102)","v":90},{"$f":"IF(ISBLANK(InfoPro!F102),\"\",InfoPro!F102)","v":"Solar FV"},{"$f":"IF(ISBLANK(InfoPro!I102),\"\",YEAR(InfoPro!I102)-$H$3)","v":2},{"$f":"IF(B108=\"\",\"\",VLOOKUP(D108,Tablas!$B$2:$E$13,2,FALSE))","v":0.26},{"$f":"IF(B108=\"\",\"\",VLOOKUP(D108,Tablas!$B$2:$H$13,7,FALSE))","v":83577.200000000012},{"$f":"IF(B108=\"\",\"\",($C$2-(G108))/$C$2)","v":0.56483127404885003},{"$f":"IF(C108=\"\",\"\",+C108*F108*24*365)","v":204984},17790380313.683075,15912683643.72368,14233169627.659822,12730920954.973007,11387228045.593029,10185356033.625252,9110336344.9241982,8148780272.7407846,7288712229.6429214,6519420598.9650469,5831324328.2334948,5215853603.071104,4665343115.4482155,4172936597.0019822,3732501428.4454212,{"$f":"IF(X108=\"\",\"\",SUM(J108:X108))","v":136924947137.73102},{"$f":"IF(C108=0,0,IF(Y108=\"\",\"\",Y108/(C108*1000)))","v":1521388.3015303446}]
[{"$f":"IF(ISBLANK(InfoPro!A103),\"\",InfoPro!A103)","v":"SC_2173_A1"},{"$f":"IF(ISBLANK(InfoPro!B103),\"\",InfoPro!B103)","v":"Nueva Montería Solar I 9,9 MW"},{"$f":"IF(ISBLANK(InfoPro!E103),\"\",InfoPro!E103)","v":9.9},{"$f":"IF(ISBLANK(InfoPro!F103),\"\",InfoPro!F103)","v":"Solar FV"},{"$f":"IF(ISBLANK(InfoPro!I103),\"\",YEAR(InfoPro!I103)-$H$3)","v":2},{"$f":"IF(B109=\"\",\"\",VLOOKUP(D109,Tablas!$B$2:$E$13,2,FALSE))","v":0.26},{"$f":"IF(B109=\"\",\"\",VLOOKUP(D109,Tablas!$B$2:$H$13,7,FALSE))","v":83577.200000000012},0.56483127404885003,22548.240000000005,1956941834.5051382,1750395200.8096051,1565648659.0425806,1400401305.0470312,1252595085.0152338,1120389163.6987782,1002136997.9416621,896365830.00148666,801758345.26072145,717136265.88615537,641445676.10568452,573743896.33782172,513187742.69930387,459023025.67021811,410575157.12899655,15061744185.150415,1521388.3015303449]
[{"$f":"IF(ISBLANK(InfoPro!A104),\"\",InfoPro!A104)","v":"SC_2173_A2"},{"$f":"IF(ISBLANK(InfoPro!B104),\"\",InfoPro!B104)","v":"Nueva Montería Solar I 9,9 MW"},{"$f":"IF(ISBLANK(InfoPro!E104),\"\",InfoPro!E104)","v":9.9},{"$f":"IF(ISBLANK(InfoPro!F104),\"\",InfoPro!F104)","v":"Solar FV"},{"$f":"IF(ISBLANK(InfoPro!I104),\"\",YEAR(InfoPro!I104)-$H$3)","v":2},{"$f":"IF(B110=\"\",\"\",VLOOKUP(D110,Tablas!$B$2:$E$13,2,FALSE))","v":0.26},{"$f":"IF(B110=\"\",\"\",VLOOKUP(D110,Tablas!$B$2:$H$13,7,FALSE))","v":83577.200000000012},0.56483127404885003,22548.240000000005,1956941834.5051382,1750395200.8096051,1565648659.0425806,1400401305.0470312,1252595085.0152338,1120389163.6987782,1002136997.9416621,896365830.00148666,801758345.26072145,717136265.88615537,641445676.10568452,573743896.33782172,513187742.69930387,459023025.67021811,410575157.12899655,15061744185.150415,1521388.3015303449]
[{"$f":"IF(ISBLANK(InfoPro!A105),\"\",InfoPro!A105)","v":"SC_2174_A1"},{"$f":"IF(ISBLANK(InfoPro!B105),\"\",InfoPro!B105)","v":"Nueva Montería Solar I 9,9 MW"},{"$f":"IF(ISBLANK(InfoPro!E105),\"\",InfoPro!E105)","v":9.9},{"$f":"IF(ISBLANK(InfoPro!F105),\"\",InfoPro!F105)","v":"Solar FV"},{"$f":"IF(ISBLANK(InfoPro!I105),\"\",YEAR(InfoPro!I105)-$H$3)","v":2},{"$f":"IF(B111=\"\",\"\",VLOOKUP(D111,Tablas!$B$2:$E$13,2,FALSE))","v":0.26},{"$f":"IF(B111=\"\",\"\",VLOOKUP(D111,Tablas!$B$2:$H$13,7,FALSE))","v":83577.200000000012},0.56483127404885003,22548.240000000005,1956941834.5051382,1750395200.8096051,1565648659.0425806,1400401305.0470312,1252595085.0152338,1120389163.6987782,1002136997.9416621,896365830.00148666,801758345.26072145,717136265.88615537,641445676.10568452,573743896.33782172,513187742.69930387,459023025.67021811,410575157.12899655,15061744185.150415,1521388.3015303449]
[{"$f":"IF(ISBLANK(InfoPro!A106),\"\",InfoPro!A106)","v":"SC_2174_A2"},{"$f":"IF(ISBLANK(InfoPro!B106),\"\",InfoPro!B106)","v":"Nueva Montería Solar I 9,9 MW"},{"$f":"IF(ISBLANK(InfoPro!E106),\"\",InfoPro!E106)","v":9.9},{"$f":"IF(ISBLANK(InfoPro!F106),\"\",InfoPro!F106)","v":"Solar FV"},{"$f":"IF(ISBLANK(InfoPro!I106),\"\",YEAR(InfoPro!I106)-$H$3)","v":2},{"$f":"IF(B112=\"\",\"\",VLOOKUP(D112,Tablas!$B$2:$E$13,2,FALSE))","v":0.26},{"$f":"IF(B112=\"\",\"\",VLOOKUP(D112,Tablas!$B$2:$H$13,7,FALSE))","v":83577.200000000012},0.56483127404885003,22548.240000000005,1956941834.5051382,1750395200.8096051,1565648659.0425806,1400401305.0470312,1252595085.0152338,1120389163.6987782,1002136997.9416621,896365830.00148666,801758345.26072145,717136265.88615537,641445676.10568452,573743896.33782172,513187742.69930387,459023025.67021811,410575157.12899655,15061744185.150415,1521388.3015303449]
[{"$f":"IF(ISBLANK(InfoPro!A107),\"\",InfoPro!A107)","v":"SC_2016_A1"},{"$f":"IF(ISBLANK(InfoPro!B107),\"\",InfoPro!B107)","v":"Hidalgo Solar 80 MW"},{"$f":"IF(ISBLANK(InfoPro!E107),\"\",InfoPro!E107)","v":80},{"$f":"IF(ISBLANK(InfoPro!F107),\"\",InfoPro!F107)","v":"Solar FV"},{"$f":"IF(ISBLANK(InfoPro!I107),\"\",YEAR(InfoPro!I107)-$H$3)","v":2},{"$f":"IF(B113=\"\",\"\",VLOOKUP(D113,Tablas!$B$2:$E$13,2,FALSE))","v":0.26},{"$f":"IF(B113=\"\",\"\",VLOOKUP(D113,Tablas!$B$2:$H$13,7,FALSE))","v":83577.200000000012},0.56483127404885003,182208.00000000003,15813671389.940512,14144607683.309942,12651706335.697622,11316374182.198231,10121980484.971586,9053649807.666893,8098076751.0437317,7243360242.4362545,6478855315.2381525,5795040532.4133768,5183399402.874218,4636314313.8409824,4146971658.1761928,3709276975.112874,3317779047.5070424,121711064122.42763,1521388.3015303453]
[{"$f":"IF(ISBLANK(InfoPro!A108),\"\",InfoPro!A108)","v":"SC_2016_A2"},{"$f":"IF(ISBLANK(InfoPro!B108),\"\",InfoPro!B108)","v":"Hidalgo Solar 80 MW"},{"$f":"IF(ISBLANK(InfoPro!E108),\"\",InfoPro!E108)","v":80},{"$f":"IF(ISBLANK(InfoPro!F108),\"\",InfoPro!F108)","v":"Solar FV"},{"$f":"IF(ISBLANK(InfoPro!I108),\"\",YEAR(InfoPro!I108)-$H$3)","v":2},{"$f":"IF(B114=\"\",\"\",VLOOKUP(D114,Tablas!$B$2:$E$13,2,FALSE))","v":0.26},{"$f":"IF(B114=\"\",\"\",VLOOKUP(D114,Tablas!$B$2:$H$13,7,FALSE))","v":83577.200000000012},0.56483127404885003,182208.00000000003,{"$f":"IF($I114=\"\",\"\",(1/(1+$C$3)^(J$6+$E114))*$I114*$C$2*$H114)","v":15813671389.940512},14144607683.309942,12651706335.697622,11316374182.198231,10121980484.971586,9053649807.666893,8098076751.0437317,7243360242.4362545,6478855315.2381525,5795040532.4133768,5183399402.874218,4636314313.8409824,4146971658.1761928,3709276975.112874,3317779047.5070424,121711064122.42763,1521388.3015303453]
[{"$f":"IF(ISBLANK(InfoPro!A109),\"\",InfoPro!A109)","v":"SC_2016_A3"},{"$f":"IF(ISBLANK(InfoPro!B109),\"\",InfoPro!B109)","v":"Hidalgo Solar 80 MW"},{"$f":"IF(ISBLANK(InfoPro!E109),\"\",InfoPro!E109)","v":80},{"$f":"IF(ISBLANK(InfoPro!F109),\"\",InfoPro!F109)","v":"Solar FV"},{"$f":"IF(ISBLANK(InfoPro!I109),\"\",YEAR(InfoPro!I109)-$H$3)","v":2},{"$f":"IF(B115=\"\",\"\",VLOOKUP(D115,Tablas!$B$2:$E$13,2,FALSE))","v":0.26},{"$f":"IF(B115=\"\",\"\",VLOOKUP(D115,Tablas!$B$2:$H$13,7,FALSE))","v":83577.200000000012},0.56483127404885003,182208.00000000003,15813671389.940512,14144607683.309942,12651706335.697622,11316374182.198231,10121980484.971586,9053649807.666893,8098076751.0437317,7243360242.4362545,6478855315.2381525,5795040532.4133768,5183399402.874218,4636314313.8409824,4146971658.1761928,3709276975.112874,3317779047.5070424,121711064122.42763,1521388.3015303453]
[{"$f":"IF(ISBLANK(InfoPro!A110),\"\",InfoPro!A110)","v":"SC_2135_A1"},{"$f":"IF(ISBLANK(InfoPro!B110),\"\",InfoPro!B110)","v":"DSE SIERRAFLOR"},{"$f":"IF(ISBLANK(InfoPro!E110),\"\",InfoPro!E110)","v":99.9},{"$f":"IF(ISBLANK(InfoPro!F110),\"\",InfoPro!F110)","v":"Solar FV"},{"$f":"IF(ISBLANK(InfoPro!I110),\"\",YEAR(InfoPro!I110)-$H$3)","v":3},{"$f":"IF(B116=\"\",\"\",VLOOKUP(D116,Tablas!$B$2:$E$13,2,FALSE))","v":0.26},{"$f":"IF(B116=\"\",\"\",VLOOKUP(D116,Tablas!$B$2:$H$13,7,FALSE))","v":83577.200000000012},0.56483127404885003,227532.24000000002,17663078844.533287,15798818286.702406,14131322260.020041,12639823130.608265,11305745197.32403,10112473342.86586,9045146102.7422733,8090470574.9036436,7236556864.851202,6472770004.33918,5789597499.408927,5178530858.147521,4631959622.6722012,4143076585.574419,3705793010.3527899,135945162185.04604,1360812.434284745]
[{"$f":"IF(ISBLANK(InfoPro!A111),\"\",InfoPro!A111)","v":"SC_2135_A2"},{"$f":"IF(ISBLANK(InfoPro!B111),\"\",InfoPro!B111)","v":"DSE SIERRAFLOR"},{"$f":"IF(ISBLANK(InfoPro!E111),\"\",InfoPro!E111)","v":99.9},{"$f":"IF(ISBLANK(InfoPro!F111),\"\",InfoPro!F111)","v":"Solar FV"},{"$f":"IF(ISBLANK(InfoPro!I111),\"\",YEAR(InfoPro!I111)-$H$3)","v":3},{"$f":"IF(B117=\"\",\"\",VLOOKUP(D117,Tablas!$B$2:$E$13,2,FALSE))","v":0.26},{"$f":"IF(B117=\"\",\"\",VLOOKUP(D117,Tablas!$B$2:$H$13,7,FALSE))","v":83577.200000000012},0.56483127404885003,227532.24000000002,17663078844.533287,15798818286.702406,14131322260.020041,12639823130.608265,11305745197.32403,10112473342.86586,9045146102.7422733,8090470574.9036436,7236556864.851202,6472770004.33918,5789597499.408927,5178530858.147521,4631959622.6722012,4143076585.574419,3705793010.3527899,135945162185.04604,1360812.434284745]
[{"$f":"IF(ISBLANK(InfoPro!A112),\"\",InfoPro!A112)","v":"SC_1821_A1"},{"$f":"IF(ISBLANK(InfoPro!B112),\"\",InfoPro!B112)","v":"Balay Solar"},{"$f":"IF(ISBLANK(InfoPro!E112),\"\",InfoPro!E112)","v":70},{"$f":"IF(ISBLANK(InfoPro!F112),\"\",InfoPro!F112)","v":"Solar FV"},{"$f":"IF(ISBLANK(InfoPro!I112),\"\",YEAR(InfoPro!I112)-$H$3)","v":4},{"$f":"IF(B118=\"\",\"\",VLOOKUP(D118,Tablas!$B$2:$E$13,2,FALSE))","v":0.26},{"$f":"IF(B118=\"\",\"\",VLOOKUP(D118,Tablas!$B$2:$H$13,7,FALSE))","v":83577.200000000012},0.56483127404885003,159431.99999999997,11070243043.735416,9901827409.4234505,8856732924.3501339,7921943581.7085276,7085817157.1632633,6337940212.1317215,5668998400.8333817,5070660465.8617029,4535474477.5149393,4056775024.610858,3628600200.9041677,3245617353.2237635,2903056666.5686612,2596651759.0059586,2322586546.5169573,85202925223.552902,1217184.6460507556]
[{"$f":"IF(ISBLANK(InfoPro!A113),\"\",InfoPro!A113)","v":"SC_1821_A2"},{"$f":"IF(ISBLANK(InfoPro!B113),\"\",InfoPro!B113)","v":"Balay Solar"},{"$f":"IF(ISBLANK(InfoPro!E113),\"\",InfoPro!E113)","v":70},{"$f":"IF(ISBLANK(InfoPro!F113),\"\",InfoPro!F113)","v":"Solar FV"},{"$f":"IF(ISBLANK(InfoPro!I113),\"\",YEAR(InfoPro!I113)-$H$3)","v":4},{"$f":"IF(B119=\"\",\"\",VLOOKUP(D119,Tablas!$B$2:$E$13,2,FALSE))","v":0.26},{"$f":"IF(B119=\"\",\"\",VLOOKUP(D119,Tablas!$B$2:$H$13,7,FALSE))","v":83577.200000000012},0.56483127404885003,159431.99999999997,11070243043.735416,9901827409.4234505,8856732924.3501339,7921943581.7085276,7085817157.1632633,6337940212.1317215,5668998400.8333817,5070660465.8617029,4535474477.5149393,4056775024.610858,3628600200.9041677,3245617353.2237635,2903056666.5686612,2596651759.0059586,2322586546.5169573,85202925223.552902,1217184.6460507556]
[{"$f":"IF(ISBLANK(InfoPro!A114),\"\",InfoPro!A114)","v":"SC_1859_A1"},{"$f":"IF(ISBLANK(InfoPro!B114),\"\",InfoPro!B114)","v":"PV Altamira_99MW"},{"$f":"IF(ISBLANK(InfoPro!E114),\"\",InfoPro!E114)","v":99},{"$f":"IF(ISBLANK(InfoPro!F114),\"\",InfoPro!F114)","v":"Solar FV"},{"$f":"IF(ISBLANK(InfoPro!I114),\"\",YEAR(InfoPro!I114)-$H$3)","v":4},{"$f":"IF(B120=\"\",\"\",VLOOKUP(D120,Tablas!$B$2:$E$13,2,FALSE))","v":0.26},{"$f":"IF(B120=\"\",\"\",VLOOKUP(D120,Tablas!$B$2:$H$13,7,FALSE))","v":83577.200000000012},0.56483127404885003,225482.4,15656486590.425804,14004013050.470308,12525950850.152334,11203891636.987778,10021369979.416616,8963658300.014864,8017583452.607213,7171362658.8615522,6414456761.0568438,5737438963.3782148,5131877426.9930372,4590230256.7021809,4105751571.2899642,3672407487.736999,3284800972.9311256,120501279959.02484,1217184.6460507559]
[{"$f":"IF(ISBLANK(InfoPro!A115),\"\",InfoPro!A115)","v":"SC_1859_A2"},{"$f":"IF(ISBLANK(InfoPro!B115),\"\",InfoPro!B115)","v":"PV Altamira_99MW"},{"$f":"IF(ISBLANK(InfoPro!E115),\"\",InfoPro!E115)","v":99},{"$f":"IF(ISBLANK(InfoPro!F115),\"\",InfoPro!F115)","v":"Solar FV"},{"$f":"IF(ISBLANK(InfoPro!I115),\"\",YEAR(InfoPro!I115)-$H$3)","v":4},{"$f":"IF(B121=\"\",\"\",VLOOKUP(D121,Tablas!$B$2:$E$13,2,FALSE))","v":0.26},{"$f":"IF(B121=\"\",\"\",VLOOKUP(D121,Tablas!$B$2:$H$13,7,FALSE))","v":83577.200000000012},0.56483127404885003,225482.4,15656486590.425804,14004013050.470308,12525950850.152334,11203891636.987778,10021369979.416616,8963658300.014864,8017583452.607213,7171362658.8615522,6414456761.0568438,5737438963.3782148,5131877426.9930372,4590230256.7021809,4105751571.2899642,3672407487.736999,3284800972.9311256,120501279959.02484,1217184.6460507559]
[{"$f":"IF(ISBLANK(InfoPro!A116),\"\",InfoPro!A116)","v":"SC_1843_A1"},{"$f":"IF(ISBLANK(InfoPro!B116),\"\",InfoPro!B116)","v":"KOS de 19.9 MW"},{"$f":"IF(ISBLANK(InfoPro!E116),\"\",InfoPro!E116)","v":19.899999999999999},{"$f":"IF(ISBLANK(InfoPro!F116),\"\",InfoPro!F116)","v":"Solar FV"},{"$f":"IF(ISBLANK(InfoPro!I116),\"\",YEAR(InfoPro!I116)-$H$3)","v":2},{"$f":"IF(B122=\"\",\"\",VLOOKUP(D122,Tablas!$B$2:$E$13,2,FALSE))","v":0.26},{"$f":"IF(B122=\"\",\"\",VLOOKUP(D122,Tablas!$B$2:$H$13,7,FALSE))","v":83577.200000000012},0.56483127404885003,45324.24,3933650758.2477007,3518471161.2233472,3147111951.0047832,2814948077.8218098,2517842645.6366811,2252095389.6571393,2014396591.8221281,1801785860.3060179,1611615259.6654899,1441516332.4378271,1289370601.4649615,1153283185.5679443,1031559199.9713278,922682647.55932724,825297538.06737649,30275627200.453861,1521388.3015303449]
[{"$f":"IF(ISBLANK(InfoPro!A117),\"\",InfoPro!A117)","v":"SC_1843_A2"},{"$f":"IF(ISBLANK(InfoPro!B117),\"\",InfoPro!B117)","v":"KOS de 19.9 MW"},{"$f":"IF(ISBLANK(InfoPro!E117),\"\",InfoPro!E117)","v":19.899999999999999},{"$f":"IF(ISBLANK(InfoPro!F117),\"\",InfoPro!F117)","v":"Solar FV"},{"$f":"IF(ISBLANK(InfoPro!I117),\"\",YEAR(InfoPro!I117)-$H$3)","v":2},{"$f":"IF(B123=\"\",\"\",VLOOKUP(D123,Tablas!$B$2:$E$13,2,FALSE))","v":0.26},{"$f":"IF(B123=\"\",\"\",VLOOKUP(D123,Tablas!$B$2:$H$13,7,FALSE))","v":83577.200000000012},0.56483127404885003,45324.24,3933650758.2477007,3518471161.2233472,3147111951.0047832,2814948077.8218098,2517842645.6366811,2252095389.6571393,2014396591.8221281,1801785860.3060179,1611615259.6654899,1441516332.4378271,1289370601.4649615,1153283185.5679443,1031559199.9713278,922682647.55932724,825297538.06737649,30275627200.453861,1521388.3015303449]
[{"$f":"IF(ISBLANK(InfoPro!A118),\"\",InfoPro!A118)","v":"SC_2012_A1"},{"$f":"IF(ISBLANK(InfoPro!B118),\"\",InfoPro!B118)","v":"Parqu Solar Fotovoltaico Rocio del Sol 50 MW"},{"$f":"IF(ISBLANK(InfoPro!E118),\"\",InfoPro!E118)","v":50},{"$f":"IF(ISBLANK(InfoPro!F118),\"\",InfoPro!F118)","v":"Solar FV"},{"$f":"IF(ISBLANK(InfoPro!I118),\"\",YEAR(InfoPro!I118)-$H$3)","v":3},{"$f":"IF(B124=\"\",\"\",VLOOKUP(D124,Tablas!$B$2:$E$13,2,FALSE))","v":0.26},{"$f":"IF(B124=\"\",\"\",VLOOKUP(D124,Tablas!$B$2:$H$13,7,FALSE))","v":83577.200000000012},0.56483127404885003,113880,8840379802.0687122,7907316459.8110123,7072733863.8738937,6326237803.1072388,5658531129.7918072,5061297969.4023323,4527100151.5226583,4049284572.0238447,3621900332.7583599,3239624626.7963858,2897696446.1506138,2591857286.3601198,2318298109.4455462,2073611904.6919007,1854751256.4328275,68040621714.237259,1360812.4342847452]
[{"$f":"IF(ISBLANK(InfoPro!A119),\"\",InfoPro!A119)","v":"SC_2012_A2"},{"$f":"IF(ISBLANK(InfoPro!B119),\"\",InfoPro!B119)","v":"Parqu Solar Fotovoltaico Rocio del Sol 50 MW"},{"$f":"IF(ISBLANK(InfoPro!E119),\"\",InfoPro!E119)","v":50},{"$f":"IF(ISBLANK(InfoPro!F119),\"\",InfoPro!F119)","v":"Solar FV"},{"$f":"IF(ISBLANK(InfoPro!I119),\"\",YEAR(InfoPro!I119)-$H$3)","v":3},{"$f":"IF(B125=\"\",\"\",VLOOKUP(D125,Tablas!$B$2:$E$13,2,FALSE))","v":0.26},{"$f":"IF(B125=\"\",\"\",VLOOKUP(D125,Tablas!$B$2:$H$13,7,FALSE))","v":83577.200000000012},0.56483127404885003,113880,8840379802.0687122,7907316459.8110123,7072733863.8738937,6326237803.1072388,5658531129.7918072,5061297969.4023323,4527100151.5226583,4049284572.0238447,3621900332.7583599,3239624626.7963858,2897696446.1506138,2591857286.3601198,2318298109.4455462,2073611904.6919007,1854751256.4328275,68040621714.237259,1360812.4342847452]
[{"$f":"IF(ISBLANK(InfoPro!A120),\"\",InfoPro!A120)","v":"SC_1807_A1"},{"$f":"IF(ISBLANK(InfoPro!B120),\"\",InfoPro!B120)","v":"Parque Solar Canis 49,9 MW"},{"$f":"IF(ISBLANK(InfoPro!E120),\"\",InfoPro!E120)","v":49.9},{"$f":"IF(ISBLANK(InfoPro!F120),\"\",InfoPro!F120)","v":"Solar FV"},{"$f":"IF(ISBLANK(InfoPro!I120),\"\",YEAR(InfoPro!I120)-$H$3)","v":2},{"$f":"IF(B126=\"\",\"\",VLOOKUP(D126,Tablas!$B$2:$E$13,2,FALSE))","v":0.26},{"$f":"IF(B126=\"\",\"\",VLOOKUP(D126,Tablas!$B$2:$H$13,7,FALSE))","v":83577.200000000012},0.56483127404885003,113652.23999999999,9863777529.4753933,8822699042.4645729,7891501826.8913898,7058588396.1461458,6313585327.5010242,5647214067.5322227,5051175373.4635267,4518045951.2196131,4041186002.879797,3614656532.0928426,3233145377.5427928,2891901053.2583122,2586673571.7873993,2313661513.2266545,2069464680.8825169,75917276246.364197,1521388.3015303446]
[{"$f":"IF(ISBLANK(InfoPro!A121),\"\",InfoPro!A121)","v":"SC_1807_A2"},{"$f":"IF(ISBLANK(InfoPro!B121),\"\",InfoPro!B121)","v":"Parque Solar Canis 49,9 MW"},{"$f":"IF(ISBLANK(InfoPro!E121),\"\",InfoPro!E121)","v":49.9},{"$f":"IF(ISBLANK(InfoPro!F121),\"\",InfoPro!F121)","v":"Solar FV"},{"$f":"IF(ISBLANK(InfoPro!I121),\"\",YEAR(InfoPro!I121)-$H$3)","v":2},{"$f":"IF(B127=\"\",\"\",VLOOKUP(D127,Tablas!$B$2:$E$13,2,FALSE))","v":0.26},{"$f":"IF(B127=\"\",\"\",VLOOKUP(D127,Tablas!$B$2:$H$13,7,FALSE))","v":83577.200000000012},0.56483127404885003,113652.23999999999,9863777529.4753933,8822699042.4645729,7891501826.8913898,7058588396.1461458,6313585327.5010242,5647214067.5322227,5051175373.4635267,4518045951.2196131,4041186002.879797,3614656532.0928426,3233145377.5427928,2891901053.2583122,2586673571.7873993,2313661513.2266545,2069464680.8825169,75917276246.364197,1521388.3015303446]
[{"$f":"IF(ISBLANK(InfoPro!A122),\"\",InfoPro!A122)","v":"SC_1918_A1"},{"$f":"IF(ISBLANK(InfoPro!B122),\"\",InfoPro!B122)","v":"Casiopea 40 MW"},{"$f":"IF(ISBLANK(InfoPro!E122),\"\",InfoPro!E122)","v":40},{"$f":"IF(ISBLANK(InfoPro!F122),\"\",InfoPro!F122)","v":"Solar FV"},{"$f":"IF(ISBLANK(InfoPro!I122),\"\",YEAR(InfoPro!I122)-$H$3)","v":2},{"$f":"IF(B128=\"\",\"\",VLOOKUP(D128,Tablas!$B$2:$E$13,2,FALSE))","v":0.26},{"$f":"IF(B128=\"\",\"\",VLOOKUP(D128,Tablas!$B$2:$H$13,7,FALSE))","v":83577.200000000012},0.56483127404885003,91104.000000000015,7906835694.9702559,7072303841.6549711,6325853167.8488111,5658187091.0991154,5060990242.4857931,4526824903.8334465,4049038375.5218658,3621680121.2181273,3239427657.6190763,2897520266.2066884,2591699701.437109,2318157156.9204912,2073485829.0880964,1854638487.556437,1658889523.7535212,60855532061.213814,1521388.3015303453]
[{"$f":"IF(ISBLANK(InfoPro!A123),\"\",InfoPro!A123)","v":"SC_1918_A2"},{"$f":"IF(ISBLANK(InfoPro!B123),\"\",InfoPro!B123)","v":"Casiopea 40 MW"},{"$f":"IF(ISBLANK(InfoPro!E123),\"\",InfoPro!E123)","v":40},{"$f":"IF(ISBLANK(InfoPro!F123),\"\",InfoPro!F123)","v":"Solar FV"},{"$f":"IF(ISBLANK(InfoPro!I123),\"\",YEAR(InfoPro!I123)-$H$3)","v":2},{"$f":"IF(B129=\"\",\"\",VLOOKUP(D129,Tablas!$B$2:$E$13,2,FALSE))","v":0.26},{"$f":"IF(B129=\"\",\"\",VLOOKUP(D129,Tablas!$B$2:$H$13,7,FALSE))","v":83577.200000000012},0.56483127404885003,91104.000000000015,7906835694.9702559,7072303841.6549711,6325853167.8488111,5658187091.0991154,5060990242.4857931,4526824903.8334465,4049038375.5218658,3621680121.2181273,3239427657.6190763,2897520266.2066884,2591699701.437109,2318157156.9204912,2073485829.0880964,1854638487.556437,1658889523.7535212,60855532061.213814,1521388.3015303453]
[{"$f":"IF(ISBLANK(InfoPro!A124),\"\",InfoPro!A124)","v":"SC_1813_A1"},{"$f":"IF(ISBLANK(InfoPro!B124),\"\",InfoPro!B124)","v":"Parque de generación Cefeo"},{"$f":"IF(ISBLANK(InfoPro!E124),\"\",InfoPro!E124)","v":19.899999999999999},{"$f":"IF(ISBLANK(InfoPro!F124),\"\",InfoPro!F124)","v":"Solar FV"},{"$f":"IF(ISBLANK(InfoPro!I124),\"\",YEAR(InfoPro!I124)-$H$3)","v":2},{"$f":"IF(B130=\"\",\"\",VLOOKUP(D130,Tablas!$B$2:$E$13,2,FALSE))","v":0.26},{"$f":"IF(B130=\"\",\"\",VLOOKUP(D130,Tablas!$B$2:$H$13,7,FALSE))","v":83577.200000000012},0.56483127404885003,45324.24,3933650758.2477007,3518471161.2233472,3147111951.0047832,2814948077.8218098,2517842645.6366811,2252095389.6571393,2014396591.8221281,1801785860.3060179,1611615259.6654899,1441516332.4378271,1289370601.4649615,1153283185.5679443,1031559199.9713278,922682647.55932724,825297538.06737649,30275627200.453861,1521388.3015303449]
[{"$f":"IF(ISBLANK(InfoPro!A125),\"\",InfoPro!A125)","v":"SC_1813_A2"},{"$f":"IF(ISBLANK(InfoPro!B125),\"\",InfoPro!B125)","v":"Parque de generación Cefeo"},{"$f":"IF(ISBLANK(InfoPro!E125),\"\",InfoPro!E125)","v":19.899999999999999},{"$f":"IF(ISBLANK(InfoPro!F125),\"\",InfoPro!F125)","v":"Solar FV"},{"$f":"IF(ISBLANK(InfoPro!I125),\"\",YEAR(InfoPro!I125)-$H$3)","v":2},{"$f":"IF(B131=\"\",\"\",VLOOKUP(D131,Tablas!$B$2:$E$13,2,FALSE))","v":0.26},{"$f":"IF(B131=\"\",\"\",VLOOKUP(D131,Tablas!$B$2:$H$13,7,FALSE))","v":83577.200000000012},0.56483127404885003,45324.24,{"$f":"IF($I131=\"\",\"\",(1/(1+$C$3)^(J$6+$E131))*$I131*$C$2*$H131)","v":3933650758.2477007},3518471161.2233472,3147111951.0047832,2814948077.8218098,2517842645.6366811,2252095389.6571393,2014396591.8221281,1801785860.3060179,1611615259.6654899,1441516332.4378271,1289370601.4649615,1153283185.5679443,1031559199.9713278,922682647.55932724,825297538.06737649,30275627200.453861,1521388.3015303449]
[{"$f":"IF(ISBLANK(InfoPro!A126),\"\",InfoPro!A126)","v":"SC_1949_A1"},{"$f":"IF(ISBLANK(InfoPro!B126),\"\",InfoPro!B126)","v":"Solar Planeta Rica"},{"$f":"IF(ISBLANK(InfoPro!E126),\"\",InfoPro!E126)","v":19.899999999999999},{"$f":"IF(ISBLANK(InfoPro!F126),\"\",InfoPro!F126)","v":"Solar FV"},{"$f":"IF(ISBLANK(InfoPro!I126),\"\",YEAR(InfoPro!I126)-$H$3)","v":3},{"$f":"IF(B132=\"\",\"\",VLOOKUP(D132,Tablas!$B$2:$E$13,2,FALSE))","v":0.26},{"$f":"IF(B132=\"\",\"\",VLOOKUP(D132,Tablas!$B$2:$H$13,7,FALSE))","v":83577.200000000012},0.56483127404885003,45324.24,3518471161.2233472,3147111951.0047832,2814948077.8218098,2517842645.6366811,2252095389.6571393,2014396591.8221281,1801785860.3060179,1611615259.6654899,1441516332.4378271,1289370601.4649615,1153283185.5679443,1031559199.9713278,922682647.55932724,825297538.06737649,738191000.0602653,27080167442.266422,1360812.4342847448]
[{"$f":"IF(ISBLANK(InfoPro!A127),\"\",InfoPro!A127)","v":"SC_1949_A2"},{"$f":"IF(ISBLANK(InfoPro!B127),\"\",InfoPro!B127)","v":"Solar Planeta Rica"},{"$f":"IF(ISBLANK(InfoPro!E127),\"\",InfoPro!E127)","v":19.899999999999999},{"$f":"IF(ISBLANK(InfoPro!F127),\"\",InfoPro!F127)","v":"Solar FV"},{"$f":"IF(ISBLANK(InfoPro!I127),\"\",YEAR(InfoPro!I127)-$H$3)","v":3},{"$f":"IF(B133=\"\",\"\",VLOOKUP(D133,Tablas!$B$2:$E$13,2,FALSE))","v":0.26},{"$f":"IF(B133=\"\",\"\",VLOOKUP(D133,Tablas!$B$2:$H$13,7,FALSE))","v":83577.200000000012},0.56483127404885003,45324.24,3518471161.2233472,3147111951.0047832,2814948077.8218098,2517842645.6366811,2252095389.6571393,2014396591.8221281,1801785860.3060179,1611615259.6654899,1441516332.4378271,1289370601.4649615,1153283185.5679443,1031559199.9713278,922682647.55932724,825297538.06737649,738191000.0602653,27080167442.266422,1360812.4342847448]
[{"$f":"IF(ISBLANK(InfoPro!A128),\"\",InfoPro!A128)","v":"SC_1970_A1"},{"$f":"IF(ISBLANK(InfoPro!B128),\"\",InfoPro!B128)","v":"Parque Solar Montería"},{"$f":"IF(ISBLANK(InfoPro!E128),\"\",InfoPro!E128)","v":99},{"$f":"IF(ISBLANK(InfoPro!F128),\"\",InfoPro!F128)","v":"Solar FV"},{"$f":"IF(ISBLANK(InfoPro!I128),\"\",YEAR(InfoPro!I128)-$H$3)","v":3},{"$f":"IF(B134=\"\",\"\",VLOOKUP(D134,Tablas!$B$2:$E$13,2,FALSE))","v":0.26},{"$f":"IF(B134=\"\",\"\",VLOOKUP(D134,Tablas!$B$2:$H$13,7,FALSE))","v":83577.200000000012},0.56483127404885003,225482.4,17503952008.09605,15656486590.425804,14004013050.470308,12525950850.152334,11203891636.987778,10021369979.416616,8963658300.014864,8017583452.607213,7171362658.8615522,6414456761.0568438,5737438963.3782148,5131877426.9930372,4590230256.7021809,4105751571.2899642,3672407487.736999,134720430994.18976,1360812.434284745]
[{"$f":"IF(ISBLANK(InfoPro!A129),\"\",InfoPro!A129)","v":"SC_1970_A2"},{"$f":"IF(ISBLANK(InfoPro!B129),\"\",InfoPro!B129)","v":"Parque Solar Montería"},{"$f":"IF(ISBLANK(InfoPro!E129),\"\",InfoPro!E129)","v":99},{"$f":"IF(ISBLANK(InfoPro!F129),\"\",InfoPro!F129)","v":"Solar FV"},{"$f":"IF(ISBLANK(InfoPro!I129),\"\",YEAR(InfoPro!I129)-$H$3)","v":3},{"$f":"IF(B135=\"\",\"\",VLOOKUP(D135,Tablas!$B$2:$E$13,2,FALSE))","v":0.26},{"$f":"IF(B135=\"\",\"\",VLOOKUP(D135,Tablas!$B$2:$H$13,7,FALSE))","v":83577.200000000012},0.56483127404885003,225482.4,17503952008.09605,15656486590.425804,14004013050.470308,12525950850.152334,11203891636.987778,10021369979.416616,8963658300.014864,8017583452.607213,7171362658.8615522,6414456761.0568438,5737438963.3782148,5131877426.9930372,4590230256.7021809,4105751571.2899642,3672407487.736999,134720430994.18976,1360812.434284745]
[{"$f":"IF(ISBLANK(InfoPro!A130),\"\",InfoPro!A130)","v":"SC_2072_A1"},{"$f":"IF(ISBLANK(InfoPro!B130),\"\",InfoPro!B130)","v":"Porvenir - 9.9 MW"},{"$f":"IF(ISBLANK(InfoPro!E130),\"\",InfoPro!E130)","v":9.9},{"$f":"IF(ISBLANK(InfoPro!F130),\"\",InfoPro!F130)","v":"Solar FV"},{"$f":"IF(ISBLANK(InfoPro!I130),\"\",YEAR(InfoPro!I130)-$H$3)","v":2},{"$f":"IF(B136=\"\",\"\",VLOOKUP(D136,Tablas!$B$2:$E$13,2,FALSE))","v":0.26},{"$f":"IF(B136=\"\",\"\",VLOOKUP(D136,Tablas!$B$2:$H$13,7,FALSE))","v":83577.200000000012},0.56483127404885003,22548.240000000005,1956941834.5051382,1750395200.8096051,1565648659.0425806,1400401305.0470312,1252595085.0152338,1120389163.6987782,1002136997.9416621,896365830.00148666,801758345.26072145,717136265.88615537,641445676.10568452,573743896.33782172,513187742.69930387,459023025.67021811,410575157.12899655,15061744185.150415,1521388.3015303449]
[{"$f":"IF(ISBLANK(InfoPro!A131),\"\",InfoPro!A131)","v":"SC_2204_A1"},{"$f":"IF(ISBLANK(InfoPro!B131),\"\",InfoPro!B131)","v":"Parque Solar Ciénaga Grande - 19.9 MW"},{"$f":"IF(ISBLANK(InfoPro!E131),\"\",InfoPro!E131)","v":19.899999999999999},{"$f":"IF(ISBLANK(InfoPro!F131),\"\",InfoPro!F131)","v":"Solar FV"},{"$f":"IF(ISBLANK(InfoPro!I131),\"\",YEAR(InfoPro!I131)-$H$3)","v":2},{"$f":"IF(B137=\"\",\"\",VLOOKUP(D137,Tablas!$B$2:$E$13,2,FALSE))","v":0.26},{"$f":"IF(B137=\"\",\"\",VLOOKUP(D137,Tablas!$B$2:$H$13,7,FALSE))","v":83577.200000000012},0.56483127404885003,45324.24,3933650758.2477007,3518471161.2233472,3147111951.0047832,2814948077.8218098,2517842645.6366811,2252095389.6571393,2014396591.8221281,1801785860.3060179,1611615259.6654899,1441516332.4378271,1289370601.4649615,1153283185.5679443,1031559199.9713278,922682647.55932724,825297538.06737649,30275627200.453861,1521388.3015303449]
[{"$f":"IF(ISBLANK(InfoPro!A132),\"\",InfoPro!A132)","v":"SC_2204_A2"},{"$f":"IF(ISBLANK(InfoPro!B132),\"\",InfoPro!B132)","v":"Parque Solar Ciénaga Grande - 19.9 MW"},{"$f":"IF(ISBLANK(InfoPro!E132),\"\",InfoPro!E132)","v":19.899999999999999},{"$f":"IF(ISBLANK(InfoPro!F132),\"\",InfoPro!F132)","v":"Solar FV"},{"$f":"IF(ISBLANK(InfoPro!I132),\"\",YEAR(InfoPro!I132)-$H$3)","v":2},{"$f":"IF(B138=\"\",\"\",VLOOKUP(D138,Tablas!$B$2:$E$13,2,FALSE))","v":0.26},{"$f":"IF(B138=\"\",\"\",VLOOKUP(D138,Tablas!$B$2:$H$13,7,FALSE))","v":83577.200000000012},0.56483127404885003,45324.24,3933650758.2477007,3518471161.2233472,3147111951.0047832,2814948077.8218098,2517842645.6366811,2252095389.6571393,2014396591.8221281,1801785860.3060179,1611615259.6654899,1441516332.4378271,1289370601.4649615,1153283185.5679443,1031559199.9713278,922682647.55932724,825297538.06737649,30275627200.453861,1521388.3015303449]
[{"$f":"IF(ISBLANK(InfoPro!A133),\"\",InfoPro!A133)","v":"SC_2166_A1"},{"$f":"IF(ISBLANK(InfoPro!B133),\"\",InfoPro!B133)","v":"Parque fotovoltaico Delphinus"},{"$f":"IF(ISBLANK(InfoPro!E133),\"\",InfoPro!E133)","v":19.899999999999999},{"$f":"IF(ISBLANK(InfoPro!F133),\"\",InfoPro!F133)","v":"Solar FV"},{"$f":"IF(ISBLANK(InfoPro!I133),\"\",YEAR(InfoPro!I133)-$H$3)","v":2},{"$f":"IF(B139=\"\",\"\",VLOOKUP(D139,Tablas!$B$2:$E$13,2,FALSE))","v":0.26},{"$f":"IF(B139=\"\",\"\",VLOOKUP(D139,Tablas!$B$2:$H$13,7,FALSE))","v":83577.200000000012},0.56483127404885003,45324.24,3933650758.2477007,3518471161.2233472,3147111951.0047832,2814948077.8218098,2517842645.6366811,2252095389.6571393,2014396591.8221281,1801785860.3060179,1611615259.6654899,1441516332.4378271,1289370601.4649615,1153283185.5679443,1031559199.9713278,922682647.55932724,825297538.06737649,30275627200.453861,1521388.3015303449]
[{"$f":"IF(ISBLANK(InfoPro!A134),\"\",InfoPro!A134)","v":"SC_2166_A2"},{"$f":"IF(ISBLANK(InfoPro!B134),\"\",InfoPro!B134)","v":"Parque fotovoltaico Delphinus"},{"$f":"IF(ISBLANK(InfoPro!E134),\"\",InfoPro!E134)","v":19.899999999999999},{"$f":"IF(ISBLANK(InfoPro!F134),\"\",InfoPro!F134)","v":"Solar FV"},{"$f":"IF(ISBLANK(InfoPro!I134),\"\",YEAR(InfoPro!I134)-$H$3)","v":2},{"$f":"IF(B140=\"\",\"\",VLOOKUP(D140,Tablas!$B$2:$E$13,2,FALSE))","v":0.26},{"$f":"IF(B140=\"\",\"\",VLOOKUP(D140,Tablas!$B$2:$H$13,7,FALSE))","v":83577.200000000012},0.56483127404885003,45324.24,3933650758.2477007,3518471161.2233472,3147111951.0047832,2814948077.8218098,2517842645.6366811,2252095389.6571393,2014396591.8221281,1801785860.3060179,1611615259.6654899,1441516332.4378271,1289370601.4649615,1153283185.5679443,1031559199.9713278,922682647.55932724,825297538.06737649,30275627200.453861,1521388.3015303449]
[{"$f":"IF(ISBLANK(InfoPro!A135),\"\",InfoPro!A135)","v":"SC_1923_A1"},{"$f":"IF(ISBLANK(InfoPro!B135),\"\",InfoPro!B135)","v":"Parque Solar Fotovoltaico Chunú I 50 MW"},{"$f":"IF(ISBLANK(InfoPro!E135),\"\",InfoPro!E135)","v":50},{"$f":"IF(ISBLANK(InfoPro!F135),\"\",InfoPro!F135)","v":"Solar FV"},{"$f":"IF(ISBLANK(InfoPro!I135),\"\",YEAR(InfoPro!I135)-$H$3)","v":4},{"$f":"IF(B141=\"\",\"\",VLOOKUP(D141,Tablas!$B$2:$E$13,2,FALSE))","v":0.26},{"$f":"IF(B141=\"\",\"\",VLOOKUP(D141,Tablas!$B$2:$H$13,7,FALSE))","v":83577.200000000012},0.56483127404885003,113880,7907316459.8110123,7072733863.8738937,6326237803.1072388,5658531129.7918072,5061297969.4023323,4527100151.5226583,4049284572.0238447,3621900332.7583599,3239624626.7963858,2897696446.1506138,2591857286.3601198,2318298109.4455462,2073611904.6919007,1854751256.4328275,1658990390.3692555,60859232302.537804,1217184.6460507561]
[{"$f":"IF(ISBLANK(InfoPro!A136),\"\",InfoPro!A136)","v":"SC_1923_A2"},{"$f":"IF(ISBLANK(InfoPro!B136),\"\",InfoPro!B136)","v":"Parque Solar Fotovoltaico Chunú I 50 MW"},{"$f":"IF(ISBLANK(InfoPro!E136),\"\",InfoPro!E136)","v":50},{"$f":"IF(ISBLANK(InfoPro!F136),\"\",InfoPro!F136)","v":"Solar FV"},{"$f":"IF(ISBLANK(InfoPro!I136),\"\",YEAR(InfoPro!I136)-$H$3)","v":4},{"$f":"IF(B142=\"\",\"\",VLOOKUP(D142,Tablas!$B$2:$E$13,2,FALSE))","v":0.26},{"$f":"IF(B142=\"\",\"\",VLOOKUP(D142,Tablas!$B$2:$H$13,7,FALSE))","v":83577.200000000012},0.56483127404885003,113880,7907316459.8110123,7072733863.8738937,6326237803.1072388,5658531129.7918072,5061297969.4023323,4527100151.5226583,4049284572.0238447,3621900332.7583599,3239624626.7963858,2897696446.1506138,2591857286.3601198,2318298109.4455462,2073611904.6919007,1854751256.4328275,1658990390.3692555,60859232302.537804,1217184.6460507561]
[{"$f":"IF(ISBLANK(InfoPro!A137),\"\",InfoPro!A137)","v":"SC_1937_A1"},{"$f":"IF(ISBLANK(InfoPro!B137),\"\",InfoPro!B137)","v":"Parque Solar Fotovoltaico ChInú II 50 MW"},{"$f":"IF(ISBLANK(InfoPro!E137),\"\",InfoPro!E137)","v":50},{"$f":"IF(ISBLANK(InfoPro!F137),\"\",InfoPro!F137)","v":"Solar FV"},{"$f":"IF(ISBLANK(InfoPro!I137),\"\",YEAR(InfoPro!I137)-$H$3)","v":4},{"$f":"IF(B143=\"\",\"\",VLOOKUP(D143,Tablas!$B$2:$E$13,2,FALSE))","v":0.26},{"$f":"IF(B143=\"\",\"\",VLOOKUP(D143,Tablas!$B$2:$H$13,7,FALSE))","v":83577.200000000012},0.56483127404885003,113880,7907316459.8110123,7072733863.8738937,6326237803.1072388,5658531129.7918072,5061297969.4023323,4527100151.5226583,4049284572.0238447,3621900332.7583599,3239624626.7963858,2897696446.1506138,2591857286.3601198,2318298109.4455462,2073611904.6919007,1854751256.4328275,1658990390.3692555,60859232302.537804,1217184.6460507561]
[{"$f":"IF(ISBLANK(InfoPro!A138),\"\",InfoPro!A138)","v":"SC_1937_A2"},{"$f":"IF(ISBLANK(InfoPro!B138),\"\",InfoPro!B138)","v":"Parque Solar Fotovoltaico ChInú II 50 MW"},{"$f":"IF(ISBLANK(InfoPro!E138),\"\",InfoPro!E138)","v":50},{"$f":"IF(ISBLANK(InfoPro!F138),\"\",InfoPro!F138)","v":"Solar FV"},{"$f":"IF(ISBLANK(InfoPro!I138),\"\",YEAR(InfoPro!I138)-$H$3)","v":4},{"$f":"IF(B144=\"\",\"\",VLOOKUP(D144,Tablas!$B$2:$E$13,2,FALSE))","v":0.26},{"$f":"IF(B144=\"\",\"\",VLOOKUP(D144,Tablas!$B$2:$H$13,7,FALSE))","v":83577.200000000012},0.56483127404885003,113880,7907316459.8110123,7072733863.8738937,6326237803.1072388,5658531129.7918072,5061297969.4023323,4527100151.5226583,4049284572.0238447,3621900332.7583599,3239624626.7963858,2897696446.1506138,2591857286.3601198,2318298109.4455462,2073611904.6919007,1854751256.4328275,1658990390.3692555,60859232302.537804,1217184.6460507561]
[{"$f":"IF(ISBLANK(InfoPro!A139),\"\",InfoPro!A139)","v":"SC_1810_A1"},{"$f":"IF(ISBLANK(InfoPro!B139),\"\",InfoPro!B139)","v":"Parque Solar Coveñas 50 MW"},{"$f":"IF(ISBLANK(InfoPro!E139),\"\",InfoPro!E139)","v":50},{"$f":"IF(ISBLANK(InfoPro!F139),\"\",InfoPro!F139)","v":"Solar FV"},{"$f":"IF(ISBLANK(InfoPro!I139),\"\",YEAR(InfoPro!I139)-$H$3)","v":4},{"$f":"IF(B145=\"\",\"\",VLOOKUP(D145,Tablas!$B$2:$E$13,2,FALSE))","v":0.26},{"$f":"IF(B145=\"\",\"\",VLOOKUP(D145,Tablas!$B$2:$H$13,7,FALSE))","v":83577.200000000012},0.56483127404885003,113880,7907316459.8110123,7072733863.8738937,6326237803.1072388,5658531129.7918072,5061297969.4023323,4527100151.5226583,4049284572.0238447,3621900332.7583599,3239624626.7963858,2897696446.1506138,2591857286.3601198,2318298109.4455462,2073611904.6919007,1854751256.4328275,1658990390.3692555,60859232302.537804,1217184.6460507561]
[{"$f":"IF(ISBLANK(InfoPro!A140),\"\",InfoPro!A140)","v":"SC_1810_A2"},{"$f":"IF(ISBLANK(InfoPro!B140),\"\",InfoPro!B140)","v":"Parque Solar Coveñas 50 MW"},{"$f":"IF(ISBLANK(InfoPro!E140),\"\",InfoPro!E140)","v":50},{"$f":"IF(ISBLANK(InfoPro!F140),\"\",InfoPro!F140)","v":"Solar FV"},{"$f":"IF(ISBLANK(InfoPro!I140),\"\",YEAR(InfoPro!I140)-$H$3)","v":4},{"$f":"IF(B146=\"\",\"\",VLOOKUP(D146,Tablas!$B$2:$E$13,2,FALSE))","v":0.26},{"$f":"IF(B146=\"\",\"\",VLOOKUP(D146,Tablas!$B$2:$H$13,7,FALSE))","v":83577.200000000012},0.56483127404885003,113880,7907316459.8110123,7072733863.8738937,6326237803.1072388,5658531129.7918072,5061297969.4023323,4527100151.5226583,4049284572.0238447,3621900332.7583599,3239624626.7963858,2897696446.1506138,2591857286.3601198,2318298109.4455462,2073611904.6919007,1854751256.4328275,1658990390.3692555,60859232302.537804,1217184.6460507561]
[{"$f":"IF(ISBLANK(InfoPro!A141),\"\",InfoPro!A141)","v":"SC_1835_A1"},{"$f":"IF(ISBLANK(InfoPro!B141),\"\",InfoPro!B141)","v":"Parque Solar Coveñas II 50 MW"},{"$f":"IF(ISBLANK(InfoPro!E141),\"\",InfoPro!E141)","v":50},{"$f":"IF(ISBLANK(InfoPro!F141),\"\",InfoPro!F141)","v":"Solar FV"},{"$f":"IF(ISBLANK(InfoPro!I141),\"\",YEAR(InfoPro!I141)-$H$3)","v":4},{"$f":"IF(B147=\"\",\"\",VLOOKUP(D147,Tablas!$B$2:$E$13,2,FALSE))","v":0.26},{"$f":"IF(B147=\"\",\"\",VLOOKUP(D147,Tablas!$B$2:$H$13,7,FALSE))","v":83577.200000000012},0.56483127404885003,113880,7907316459.8110123,7072733863.8738937,6326237803.1072388,5658531129.7918072,5061297969.4023323,4527100151.5226583,4049284572.0238447,3621900332.7583599,3239624626.7963858,2897696446.1506138,2591857286.3601198,2318298109.4455462,2073611904.6919007,1854751256.4328275,1658990390.3692555,60859232302.537804,1217184.6460507561]
[{"$f":"IF(ISBLANK(InfoPro!A142),\"\",InfoPro!A142)","v":"SC_1835_A2"},{"$f":"IF(ISBLANK(InfoPro!B142),\"\",InfoPro!B142)","v":"Parque Solar Coveñas II 50 MW"},{"$f":"IF(ISBLANK(InfoPro!E142),\"\",InfoPro!E142)","v":50},{"$f":"IF(ISBLANK(InfoPro!F142),\"\",InfoPro!F142)","v":"Solar FV"},{"$f":"IF(ISBLANK(InfoPro!I142),\"\",YEAR(InfoPro!I142)-$H$3)","v":4},{"$f":"IF(B148=\"\",\"\",VLOOKUP(D148,Tablas!$B$2:$E$13,2,FALSE))","v":0.26},{"$f":"IF(B148=\"\",\"\",VLOOKUP(D148,Tablas!$B$2:$H$13,7,FALSE))","v":83577.200000000012},0.56483127404885003,113880,{"$f":"IF($I148=\"\",\"\",(1/(1+$C$3)^(J$6+$E148))*$I148*$C$2*$H148)","v":7907316459.8110123},7072733863.8738937,6326237803.1072388,5658531129.7918072,5061297969.4023323,4527100151.5226583,4049284572.0238447,3621900332.7583599,3239624626.7963858,2897696446.1506138,2591857286.3601198,2318298109.4455462,2073611904.6919007,1854751256.4328275,1658990390.3692555,60859232302.537804,1217184.6460507561]
[{"$f":"IF(ISBLANK(InfoPro!A143),\"\",InfoPro!A143)","v":"SC_1873_A1"},{"$f":"IF(ISBLANK(InfoPro!B143),\"\",InfoPro!B143)","v":"Cusumbo Solar"},{"$f":"IF(ISBLANK(InfoPro!E143),\"\",InfoPro!E143)","v":99.9},{"$f":"IF(ISBLANK(InfoPro!F143),\"\",InfoPro!F143)","v":"Solar FV"},{"$f":"IF(ISBLANK(InfoPro!I143),\"\",YEAR(InfoPro!I143)-$H$3)","v":3},{"$f":"IF(B149=\"\",\"\",VLOOKUP(D149,Tablas!$B$2:$E$13,2,FALSE))","v":0.26},{"$f":"IF(B149=\"\",\"\",VLOOKUP(D149,Tablas!$B$2:$H$13,7,FALSE))","v":83577.200000000012},0.56483127404885003,227532.24000000002,17663078844.533287,15798818286.702406,14131322260.020041,12639823130.608265,11305745197.32403,10112473342.86586,9045146102.7422733,8090470574.9036436,7236556864.851202,6472770004.33918,5789597499.408927,5178530858.147521,4631959622.6722012,4143076585.574419,3705793010.3527899,135945162185.04604,1360812.434284745]
[{"$f":"IF(ISBLANK(InfoPro!A144),\"\",InfoPro!A144)","v":"SC_1873_A2"},{"$f":"IF(ISBLANK(InfoPro!B144),\"\",InfoPro!B144)","v":"Cusumbo Solar"},{"$f":"IF(ISBLANK(InfoPro!E144),\"\",InfoPro!E144)","v":99.9},{"$f":"IF(ISBLANK(InfoPro!F144),\"\",InfoPro!F144)","v":"Solar FV"},{"$f":"IF(ISBLANK(InfoPro!I144),\"\",YEAR(InfoPro!I144)-$H$3)","v":3},{"$f":"IF(B150=\"\",\"\",VLOOKUP(D150,Tablas!$B$2:$E$13,2,FALSE))","v":0.26},{"$f":"IF(B150=\"\",\"\",VLOOKUP(D150,Tablas!$B$2:$H$13,7,FALSE))","v":83577.200000000012},0.56483127404885003,227532.24000000002,17663078844.533287,15798818286.702406,14131322260.020041,12639823130.608265,11305745197.32403,10112473342.86586,9045146102.7422733,8090470574.9036436,7236556864.851202,6472770004.33918,5789597499.408927,5178530858.147521,4631959622.6722012,4143076585.574419,3705793010.3527899,135945162185.04604,1360812.434284745]
[{"$f":"IF(ISBLANK(InfoPro!A145),\"\",InfoPro!A145)","v":"SC_2067_A1"},{"$f":"IF(ISBLANK(InfoPro!B145),\"\",InfoPro!B145)","v":"TIERRALTA 70 MW"},{"$f":"IF(ISBLANK(InfoPro!E145),\"\",InfoPro!E145)","v":70},{"$f":"IF(ISBLANK(InfoPro!F145),\"\",InfoPro!F145)","v":"Solar FV"},{"$f":"IF(ISBLANK(InfoPro!I145),\"\",YEAR(InfoPro!I145)-$H$3)","v":4},{"$f":"IF(B151=\"\",\"\",VLOOKUP(D151,Tablas!$B$2:$E$13,2,FALSE))","v":0.26},{"$f":"IF(B151=\"\",\"\",VLOOKUP(D151,Tablas!$B$2:$H$13,7,FALSE))","v":83577.200000000012},{"$f":"IF(B151=\"\",\"\",($C$2-(G151))/$C$2)","v":0.56483127404885003},{"$f":"IF(C151=\"\",\"\",+C151*F151*24*365)","v":159431.99999999997},11070243043.735416,9901827409.4234505,8856732924.3501339,7921943581.7085276,7085817157.1632633,6337940212.1317215,5668998400.8333817,5070660465.8617029,4535474477.5149393,4056775024.610858,3628600200.9041677,3245617353.2237635,2903056666.5686612,2596651759.0059586,2322586546.5169573,{"$f":"IF(X151=\"\",\"\",SUM(J151:X151))","v":85202925223.552902},{"$f":"IF(C151=0,0,IF(Y151=\"\",\"\",Y151/(C151*1000)))","v":1217184.6460507556}]
[{"$f":"IF(ISBLANK(InfoPro!A146),\"\",InfoPro!A146)","v":"SC_2067_A2"},{"$f":"IF(ISBLANK(InfoPro!B146),\"\",InfoPro!B146)","v":"TIERRALTA 70 MW"},{"$f":"IF(ISBLANK(InfoPro!E146),\"\",InfoPro!E146)","v":70},{"$f":"IF(ISBLANK(InfoPro!F146),\"\",InfoPro!F146)","v":"Solar FV"},{"$f":"IF(ISBLANK(InfoPro!I146),\"\",YEAR(InfoPro!I146)-$H$3)","v":4},{"$f":"IF(B152=\"\",\"\",VLOOKUP(D152,Tablas!$B$2:$E$13,2,FALSE))","v":0.26},{"$f":"IF(B152=\"\",\"\",VLOOKUP(D152,Tablas!$B$2:$H$13,7,FALSE))","v":83577.200000000012},0.56483127404885003,159431.99999999997,11070243043.735416,9901827409.4234505,8856732924.3501339,7921943581.7085276,7085817157.1632633,6337940212.1317215,5668998400.8333817,5070660465.8617029,4535474477.5149393,4056775024.610858,3628600200.9041677,3245617353.2237635,2903056666.5686612,2596651759.0059586,2322586546.5169573,85202925223.552902,1217184.6460507556]
[{"$f":"IF(ISBLANK(InfoPro!A147),\"\",InfoPro!A147)","v":"SC_1942_A1"},{"$f":"IF(ISBLANK(InfoPro!B147),\"\",InfoPro!B147)","v":"San Jorge Fotovoltaico 135 MW"},{"$f":"IF(ISBLANK(InfoPro!E147),\"\",InfoPro!E147)","v":135},{"$f":"IF(ISBLANK(InfoPro!F147),\"\",InfoPro!F147)","v":"Solar FV"},{"$f":"IF(ISBLANK(InfoPro!I147),\"\",YEAR(InfoPro!I147)-$H$3)","v":2},{"$f":"IF(B153=\"\",\"\",VLOOKUP(D153,Tablas!$B$2:$E$13,2,FALSE))","v":0.26},{"$f":"IF(B153=\"\",\"\",VLOOKUP(D153,Tablas!$B$2:$H$13,7,FALSE))","v":83577.200000000012},0.56483127404885003,307476.00000000006,26685570470.524612,23869025465.585526,21349754441.489738,19096381432.459515,17080842068.389547,15278034050.437881,13665504517.386299,12223170409.111181,10933068344.464384,9779130898.4475727,8746986492.3502426,7823780404.606658,6998014673.1723251,6259404895.5029745,5598752142.6681337,205387420706.59659,1521388.3015303451]
[{"$f":"IF(ISBLANK(InfoPro!A148),\"\",InfoPro!A148)","v":"SC_1942_A2"},{"$f":"IF(ISBLANK(InfoPro!B148),\"\",InfoPro!B148)","v":"San Jorge Fotovoltaico 135 MW"},{"$f":"IF(ISBLANK(InfoPro!E148),\"\",InfoPro!E148)","v":135},{"$f":"IF(ISBLANK(InfoPro!F148),\"\",InfoPro!F148)","v":"Solar FV"},{"$f":"IF(ISBLANK(InfoPro!I148),\"\",YEAR(InfoPro!I148)-$H$3)","v":2},{"$f":"IF(B154=\"\",\"\",VLOOKUP(D154,Tablas!$B$2:$E$13,2,FALSE))","v":0.26},{"$f":"IF(B154=\"\",\"\",VLOOKUP(D154,Tablas!$B$2:$H$13,7,FALSE))","v":83577.200000000012},0.56483127404885003,307476.00000000006,26685570470.524612,23869025465.585526,21349754441.489738,19096381432.459515,17080842068.389547,15278034050.437881,13665504517.386299,12223170409.111181,10933068344.464384,9779130898.4475727,8746986492.3502426,7823780404.606658,6998014673.1723251,6259404895.5029745,5598752142.6681337,205387420706.59659,1521388.3015303451]
[{"$f":"IF(ISBLANK(InfoPro!A149),\"\",InfoPro!A149)","v":"SC_2107_A1"},{"$f":"IF(ISBLANK(InfoPro!B149),\"\",InfoPro!B149)","v":"Parque Solar Aries"},{"$f":"IF(ISBLANK(InfoPro!E149),\"\",InfoPro!E149)","v":175},{"$f":"IF(ISBLANK(InfoPro!F149),\"\",InfoPro!F149)","v":"Solar FV"},{"$f":"IF(ISBLANK(InfoPro!I149),\"\",YEAR(InfoPro!I149)-$H$3)","v":3},{"$f":"IF(B155=\"\",\"\",VLOOKUP(D155,Tablas!$B$2:$E$13,2,FALSE))","v":0.26},{"$f":"IF(B155=\"\",\"\",VLOOKUP(D155,Tablas!$B$2:$H$13,7,FALSE))","v":83577.200000000012},0.56483127404885003,398580,30941329307.24049,27675607609.338547,24754568523.558628,22141832310.875336,19804858954.27132,17714542892.908161,15844850530.329306,14172496002.083456,12676651164.654259,11338686193.787352,10141937561.527147,9071500502.2604198,8114043383.0594101,7257641666.4216528,6491629397.5148964,238142175999.83041,1360812.4342847452]
[{"$f":"IF(ISBLANK(InfoPro!A150),\"\",InfoPro!A150)","v":"SC_2107_A2"},{"$f":"IF(ISBLANK(InfoPro!B150),\"\",InfoPro!B150)","v":"Parque Solar Aries"},{"$f":"IF(ISBLANK(InfoPro!E150),\"\",InfoPro!E150)","v":175},{"$f":"IF(ISBLANK(InfoPro!F150),\"\",InfoPro!F150)","v":"Solar FV"},{"$f":"IF(ISBLANK(InfoPro!I150),\"\",YEAR(InfoPro!I150)-$H$3)","v":3},{"$f":"IF(B156=\"\",\"\",VLOOKUP(D156,Tablas!$B$2:$E$13,2,FALSE))","v":0.26},{"$f":"IF(B156=\"\",\"\",VLOOKUP(D156,Tablas!$B$2:$H$13,7,FALSE))","v":83577.200000000012},0.56483127404885003,398580,30941329307.24049,27675607609.338547,24754568523.558628,22141832310.875336,19804858954.27132,17714542892.908161,15844850530.329306,14172496002.083456,12676651164.654259,11338686193.787352,10141937561.527147,9071500502.2604198,8114043383.0594101,7257641666.4216528,6491629397.5148964,238142175999.83041,1360812.4342847452]
[{"$f":"IF(ISBLANK(InfoPro!A151),\"\",InfoPro!A151)","v":"SC_2031\n_A1"},{"$f":"IF(ISBLANK(InfoPro!B151),\"\",InfoPro!B151)","v":"PSF Cispata_70MW"},{"$f":"IF(ISBLANK(InfoPro!E151),\"\",InfoPro!E151)","v":70},{"$f":"IF(ISBLANK(InfoPro!F151),\"\",InfoPro!F151)","v":"Solar FV"},{"$f":"IF(ISBLANK(InfoPro!I151),\"\",YEAR(InfoPro!I151)-$H$3)","v":3},{"$f":"IF(B157=\"\",\"\",VLOOKUP(D157,Tablas!$B$2:$E$13,2,FALSE))","v":0.26},{"$f":"IF(B157=\"\",\"\",VLOOKUP(D157,Tablas!$B$2:$H$13,7,FALSE))","v":83577.200000000012},0.56483127404885003,159431.99999999997,12376531722.896194,11070243043.735416,9901827409.4234505,8856732924.3501339,7921943581.7085276,7085817157.1632633,6337940212.1317215,5668998400.8333817,5070660465.8617029,4535474477.5149393,4056775024.610858,3628600200.9041677,3245617353.2237635,2903056666.5686612,2596651759.0059586,95256870399.932159,1360812.4342847452]
[{"$f":"IF(ISBLANK(InfoPro!A152),\"\",InfoPro!A152)","v":"SC_2136_A1"},{"$f":"IF(ISBLANK(InfoPro!B152),\"\",InfoPro!B152)","v":"Yaguarundi Solar II 40 MW"},{"$f":"IF(ISBLANK(InfoPro!E152),\"\",InfoPro!E152)","v":40},{"$f":"IF(ISBLANK(InfoPro!F152),\"\",InfoPro!F152)","v":"Solar FV"},{"$f":"IF(ISBLANK(InfoPro!I152),\"\",YEAR(InfoPro!I152)-$H$3)","v":3},{"$f":"IF(B158=\"\",\"\",VLOOKUP(D158,Tablas!$B$2:$E$13,2,FALSE))","v":0.26},{"$f":"IF(B158=\"\",\"\",VLOOKUP(D158,Tablas!$B$2:$H$13,7,FALSE))","v":83577.200000000012},0.56483127404885003,91104.000000000015,7072303841.6549711,6325853167.8488111,5658187091.0991154,5060990242.4857931,4526824903.8334465,4049038375.5218658,3621680121.2181273,3239427657.6190763,2897520266.2066884,2591699701.437109,2318157156.9204912,2073485829.0880964,1854638487.556437,1658889523.7535212,1483801005.1462622,54432497371.389824,1360812.4342847455]
[{"$f":"IF(ISBLANK(InfoPro!A153),\"\",InfoPro!A153)","v":"SC_2136_A2"},{"$f":"IF(ISBLANK(InfoPro!B153),\"\",InfoPro!B153)","v":"Yaguarundi Solar II 40 MW"},{"$f":"IF(ISBLANK(InfoPro!E153),\"\",InfoPro!E153)","v":40},{"$f":"IF(ISBLANK(InfoPro!F153),\"\",InfoPro!F153)","v":"Solar FV"},{"$f":"IF(ISBLANK(InfoPro!I153),\"\",YEAR(InfoPro!I153)-$H$3)","v":3},{"$f":"IF(B159=\"\",\"\",VLOOKUP(D159,Tablas!$B$2:$E$13,2,FALSE))","v":0.26},{"$f":"IF(B159=\"\",\"\",VLOOKUP(D159,Tablas!$B$2:$H$13,7,FALSE))","v":83577.200000000012},0.56483127404885003,91104.000000000015,7072303841.6549711,6325853167.8488111,5658187091.0991154,5060990242.4857931,4526824903.8334465,4049038375.5218658,3621680121.2181273,3239427657.6190763,2897520266.2066884,2591699701.437109,2318157156.9204912,2073485829.0880964,1854638487.556437,1658889523.7535212,1483801005.1462622,54432497371.389824,1360812.4342847455]
[{"$f":"IF(ISBLANK(InfoPro!A154),\"\",InfoPro!A154)","v":"SC_2180_A1"},{"$f":"IF(ISBLANK(InfoPro!B154),\"\",InfoPro!B154)","v":"Yaguarundi Solar III 40 MW"},{"$f":"IF(ISBLANK(InfoPro!E154),\"\",InfoPro!E154)","v":40},{"$f":"IF(ISBLANK(InfoPro!F154),\"\",InfoPro!F154)","v":"Solar FV"},{"$f":"IF(ISBLANK(InfoPro!I154),\"\",YEAR(InfoPro!I154)-$H$3)","v":3},{"$f":"IF(B160=\"\",\"\",VLOOKUP(D160,Tablas!$B$2:$E$13,2,FALSE))","v":0.26},{"$f":"IF(B160=\"\",\"\",VLOOKUP(D160,Tablas!$B$2:$H$13,7,FALSE))","v":83577.200000000012},0.56483127404885003,91104.000000000015,7072303841.6549711,6325853167.8488111,5658187091.0991154,5060990242.4857931,4526824903.8334465,4049038375.5218658,3621680121.2181273,3239427657.6190763,2897520266.2066884,2591699701.437109,2318157156.9204912,2073485829.0880964,1854638487.556437,1658889523.7535212,1483801005.1462622,54432497371.389824,1360812.4342847455]
[{"$f":"IF(ISBLANK(InfoPro!A155),\"\",InfoPro!A155)","v":"SC_2180_A2"},{"$f":"IF(ISBLANK(InfoPro!B155),\"\",InfoPro!B155)","v":"Yaguarundi Solar III 40 MW"},{"$f":"IF(ISBLANK(InfoPro!E155),\"\",InfoPro!E155)","v":40},{"$f":"IF(ISBLANK(InfoPro!F155),\"\",InfoPro!F155)","v":"Solar FV"},{"$f":"IF(ISBLANK(InfoPro!I155),\"\",YEAR(InfoPro!I155)-$H$3)","v":3},{"$f":"IF(B161=\"\",\"\",VLOOKUP(D161,Tablas!$B$2:$E$13,2,FALSE))","v":0.26},{"$f":"IF(B161=\"\",\"\",VLOOKUP(D161,Tablas!$B$2:$H$13,7,FALSE))","v":83577.200000000012},0.56483127404885003,91104.000000000015,7072303841.6549711,6325853167.8488111,5658187091.0991154,5060990242.4857931,4526824903.8334465,4049038375.5218658,3621680121.2181273,3239427657.6190763,2897520266.2066884,2591699701.437109,2318157156.9204912,2073485829.0880964,1854638487.556437,1658889523.7535212,1483801005.1462622,54432497371.389824,1360812.4342847455]
[{"$f":"IF(ISBLANK(InfoPro!A156),\"\",InfoPro!A156)","v":"SC_2185_A1"},{"$f":"IF(ISBLANK(InfoPro!B156),\"\",InfoPro!B156)","v":"Yaguarundi Solar IV 40 MW"},{"$f":"IF(ISBLANK(InfoPro!E156),\"\",InfoPro!E156)","v":40},{"$f":"IF(ISBLANK(InfoPro!F156),\"\",InfoPro!F156)","v":"Solar FV"},{"$f":"IF(ISBLANK(InfoPro!I156),\"\",YEAR(InfoPro!I156)-$H$3)","v":3},{"$f":"IF(B162=\"\",\"\",VLOOKUP(D162,Tablas!$B$2:$E$13,2,FALSE))","v":0.26},{"$f":"IF(B162=\"\",\"\",VLOOKUP(D162,Tablas!$B$2:$H$13,7,FALSE))","v":83577.200000000012},0.56483127404885003,91104.000000000015,7072303841.6549711,6325853167.8488111,5658187091.0991154,5060990242.4857931,4526824903.8334465,4049038375.5218658,3621680121.2181273,3239427657.6190763,2897520266.2066884,2591699701.437109,2318157156.9204912,2073485829.0880964,1854638487.556437,1658889523.7535212,1483801005.1462622,54432497371.389824,1360812.4342847455]
[{"$f":"IF(ISBLANK(InfoPro!A157),\"\",InfoPro!A157)","v":"SC_2185_A2"},{"$f":"IF(ISBLANK(InfoPro!B157),\"\",InfoPro!B157)","v":"Yaguarundi Solar IV 40 MW"},{"$f":"IF(ISBLANK(InfoPro!E157),\"\",InfoPro!E157)","v":40},{"$f":"IF(ISBLANK(InfoPro!F157),\"\",InfoPro!F157)","v":"Solar FV"},{"$f":"IF(ISBLANK(InfoPro!I157),\"\",YEAR(InfoPro!I157)-$H$3)","v":3},{"$f":"IF(B163=\"\",\"\",VLOOKUP(D163,Tablas!$B$2:$E$13,2,FALSE))","v":0.26},{"$f":"IF(B163=\"\",\"\",VLOOKUP(D163,Tablas!$B$2:$H$13,7,FALSE))","v":83577.200000000012},0.56483127404885003,91104.000000000015,7072303841.6549711,6325853167.8488111,5658187091.0991154,5060990242.4857931,4526824903.8334465,4049038375.5218658,3621680121.2181273,3239427657.6190763,2897520266.2066884,2591699701.437109,2318157156.9204912,2073485829.0880964,1854638487.556437,1658889523.7535212,1483801005.1462622,54432497371.389824,1360812.4342847455]
[{"$f":"IF(ISBLANK(InfoPro!A158),\"\",InfoPro!A158)","v":"SC_1926_A1"},{"$f":"IF(ISBLANK(InfoPro!B158),\"\",InfoPro!B158)","v":"Bongos I 9.90 MW"},{"$f":"IF(ISBLANK(InfoPro!E158),\"\",InfoPro!E158)","v":9.9},{"$f":"IF(ISBLANK(InfoPro!F158),\"\",InfoPro!F158)","v":"Solar FV"},{"$f":"IF(ISBLANK(InfoPro!I158),\"\",YEAR(InfoPro!I158)-$H$3)","v":1},{"$f":"IF(B164=\"\",\"\",VLOOKUP(D164,Tablas!$B$2:$E$13,2,FALSE))","v":0.26},{"$f":"IF(B164=\"\",\"\",VLOOKUP(D164,Tablas!$B$2:$H$13,7,FALSE))","v":83577.200000000012},0.56483127404885003,22548.240000000005,{"$f":"IF($I164=\"\",\"\",(1/(1+$C$3)^(J$6+$E164))*$I164*$C$2*$H164)","v":2187860970.9767447},1956941834.5051382,1750395200.8096051,1565648659.0425806,1400401305.0470312,1252595085.0152338,1120389163.6987782,1002136997.9416621,896365830.00148666,801758345.26072145,717136265.88615537,641445676.10568452,573743896.33782172,513187742.69930387,459023025.67021811,16839029998.998165,1700912.1211109257]
[{"$f":"IF(ISBLANK(InfoPro!A159),\"\",InfoPro!A159)","v":"SC_1926_A2"},{"$f":"IF(ISBLANK(InfoPro!B159),\"\",InfoPro!B159)","v":"Bongos I 9.90 MW"},{"$f":"IF(ISBLANK(InfoPro!E159),\"\",InfoPro!E159)","v":9.9},{"$f":"IF(ISBLANK(InfoPro!F159),\"\",InfoPro!F159)","v":"Solar FV"},{"$f":"IF(ISBLANK(InfoPro!I159),\"\",YEAR(InfoPro!I159)-$H$3)","v":1},{"$f":"IF(B165=\"\",\"\",VLOOKUP(D165,Tablas!$B$2:$E$13,2,FALSE))","v":0.26},{"$f":"IF(B165=\"\",\"\",VLOOKUP(D165,Tablas!$B$2:$H$13,7,FALSE))","v":83577.200000000012},0.56483127404885003,22548.240000000005,2187860970.9767447,1956941834.5051382,1750395200.8096051,1565648659.0425806,1400401305.0470312,1252595085.0152338,1120389163.6987782,1002136997.9416621,896365830.00148666,801758345.26072145,717136265.88615537,641445676.10568452,573743896.33782172,513187742.69930387,459023025.67021811,16839029998.998165,1700912.1211109257]
[{"$f":"IF(ISBLANK(InfoPro!A160),\"\",InfoPro!A160)","v":"SC_1825_A1"},{"$f":"IF(ISBLANK(InfoPro!B160),\"\",InfoPro!B160)","v":"PROYECTO DE GENERACIÓN ELÉCTRICA EL JOBO_200MW"},{"$f":"IF(ISBLANK(InfoPro!E160),\"\",InfoPro!E160)","v":200},{"$f":"IF(ISBLANK(InfoPro!F160),\"\",InfoPro!F160)","v":"Termica a vapor"},{"$f":"IF(ISBLANK(InfoPro!I160),\"\",YEAR(InfoPro!I160)-$H$3)","v":3},{"$f":"IF(B166=\"\",\"\",VLOOKUP(D166,Tablas!$B$2:$E$13,2,FALSE))","v":0.85},{"$f":"IF(B166=\"\",\"\",VLOOKUP(D166,Tablas!$B$2:$H$13,7,FALSE))","v":267152.5},-0.39100631583332029,1489200,-80027920151.928085,-71581323928.379333,-64026228916.26059,-57268541070.000519,-51224097558.140015,-45817618567.209312,-40981769738.112083,-36656323558.239784,-32787409264.972988,-29326841918.58049,-26231522288.533535,-23462900079.189213,-20986493809.650459,-18771461368.202553,-16790215892.846651,-615940668110.24561,-3079703.3405512278]
[{"$f":"IF(ISBLANK(InfoPro!A161),\"\",InfoPro!A161)","v":"SC_1897_A1"},{"$f":"IF(ISBLANK(InfoPro!B161),\"\",InfoPro!B161)","v":"La Florecita 90 MW"},{"$f":"IF(ISBLANK(InfoPro!E161),\"\",InfoPro!E161)","v":90},{"$f":"IF(ISBLANK(InfoPro!F161),\"\",InfoPro!F161)","v":"Solar FV"},{"$f":"IF(ISBLANK(InfoPro!I161),\"\",YEAR(InfoPro!I161)-$H$3)","v":3},{"$f":"IF(B167=\"\",\"\",VLOOKUP(D167,Tablas!$B$2:$E$13,2,FALSE))","v":0.26},{"$f":"IF(B167=\"\",\"\",VLOOKUP(D167,Tablas!$B$2:$H$13,7,FALSE))","v":83577.200000000012},0.56483127404885003,204984,15912683643.72368,14233169627.659822,12730920954.973007,11387228045.593029,10185356033.625252,9110336344.9241982,8148780272.7407846,7288712229.6429214,6519420598.9650469,5831324328.2334948,5215853603.071104,4665343115.4482155,4172936597.0019822,3732501428.4454212,3338552261.5790896,122473119085.62703,1360812.4342847448]
[{"$f":"IF(ISBLANK(InfoPro!A162),\"\",InfoPro!A162)","v":"SC_1897_A2"},{"$f":"IF(ISBLANK(InfoPro!B162),\"\",InfoPro!B162)","v":"La Florecita 90 MW"},{"$f":"IF(ISBLANK(InfoPro!E162),\"\",InfoPro!E162)","v":90},{"$f":"IF(ISBLANK(InfoPro!F162),\"\",InfoPro!F162)","v":"Solar FV"},{"$f":"IF(ISBLANK(InfoPro!I162),\"\",YEAR(InfoPro!I162)-$H$3)","v":3},{"$f":"IF(B168=\"\",\"\",VLOOKUP(D168,Tablas!$B$2:$E$13,2,FALSE))","v":0.26},{"$f":"IF(B168=\"\",\"\",VLOOKUP(D168,Tablas!$B$2:$H$13,7,FALSE))","v":83577.200000000012},0.56483127404885003,204984,15912683643.72368,14233169627.659822,12730920954.973007,11387228045.593029,10185356033.625252,9110336344.9241982,8148780272.7407846,7288712229.6429214,6519420598.9650469,5831324328.2334948,5215853603.071104,4665343115.4482155,4172936597.0019822,3732501428.4454212,3338552261.5790896,122473119085.62703,1360812.4342847448]
[{"$f":"IF(ISBLANK(InfoPro!A163),\"\",InfoPro!A163)","v":"SC_2014_A1"},{"$f":"IF(ISBLANK(InfoPro!B163),\"\",InfoPro!B163)","v":"Lotería 2"},{"$f":"IF(ISBLANK(InfoPro!E163),\"\",InfoPro!E163)","v":9.9},{"$f":"IF(ISBLANK(InfoPro!F163),\"\",InfoPro!F163)","v":"Solar FV"},{"$f":"IF(ISBLANK(InfoPro!I163),\"\",YEAR(InfoPro!I163)-$H$3)","v":1},{"$f":"IF(B169=\"\",\"\",VLOOKUP(D169,Tablas!$B$2:$E$13,2,FALSE))","v":0.26},{"$f":"IF(B169=\"\",\"\",VLOOKUP(D169,Tablas!$B$2:$H$13,7,FALSE))","v":83577.200000000012},0.56483127404885003,22548.240000000005,2187860970.9767447,1956941834.5051382,1750395200.8096051,1565648659.0425806,1400401305.0470312,1252595085.0152338,1120389163.6987782,1002136997.9416621,896365830.00148666,801758345.26072145,717136265.88615537,641445676.10568452,573743896.33782172,513187742.69930387,459023025.67021811,16839029998.998165,1700912.1211109257]
[{"$f":"IF(ISBLANK(InfoPro!A164),\"\",InfoPro!A164)","v":"SC_2014_A2"},{"$f":"IF(ISBLANK(InfoPro!B164),\"\",InfoPro!B164)","v":"Lotería 2"},{"$f":"IF(ISBLANK(InfoPro!E164),\"\",InfoPro!E164)","v":9.9},{"$f":"IF(ISBLANK(InfoPro!F164),\"\",InfoPro!F164)","v":"Solar FV"},{"$f":"IF(ISBLANK(InfoPro!I164),\"\",YEAR(InfoPro!I164)-$H$3)","v":1},{"$f":"IF(B170=\"\",\"\",VLOOKUP(D170,Tablas!$B$2:$E$13,2,FALSE))","v":0.26},{"$f":"IF(B170=\"\",\"\",VLOOKUP(D170,Tablas!$B$2:$H$13,7,FALSE))","v":83577.200000000012},0.56483127404885003,22548.240000000005,2187860970.9767447,1956941834.5051382,1750395200.8096051,1565648659.0425806,1400401305.0470312,1252595085.0152338,1120389163.6987782,1002136997.9416621,896365830.00148666,801758345.26072145,717136265.88615537,641445676.10568452,573743896.33782172,513187742.69930387,459023025.67021811,16839029998.998165,1700912.1211109257]
[{"$f":"IF(ISBLANK(InfoPro!A165),\"\",InfoPro!A165)","v":"SC_2017_A1"},{"$f":"IF(ISBLANK(InfoPro!B165),\"\",InfoPro!B165)","v":"LOTERÍA 1"},{"$f":"IF(ISBLANK(InfoPro!E165),\"\",InfoPro!E165)","v":9.9},{"$f":"IF(ISBLANK(InfoPro!F165),\"\",InfoPro!F165)","v":"Solar FV"},{"$f":"IF(ISBLANK(InfoPro!I165),\"\",YEAR(InfoPro!I165)-$H$3)","v":1},{"$f":"IF(B171=\"\",\"\",VLOOKUP(D171,Tablas!$B$2:$E$13,2,FALSE))","v":0.26},{"$f":"IF(B171=\"\",\"\",VLOOKUP(D171,Tablas!$B$2:$H$13,7,FALSE))","v":83577.200000000012},0.56483127404885003,22548.240000000005,2187860970.9767447,1956941834.5051382,1750395200.8096051,1565648659.0425806,1400401305.0470312,1252595085.0152338,1120389163.6987782,1002136997.9416621,896365830.00148666,801758345.26072145,717136265.88615537,641445676.10568452,573743896.33782172,513187742.69930387,459023025.67021811,16839029998.998165,1700912.1211109257]
[{"$f":"IF(ISBLANK(InfoPro!A166),\"\",InfoPro!A166)","v":"SC_2017_A2"},{"$f":"IF(ISBLANK(InfoPro!B166),\"\",InfoPro!B166)","v":"LOTERÍA 1"},{"$f":"IF(ISBLANK(InfoPro!E166),\"\",InfoPro!E166)","v":9.9},{"$f":"IF(ISBLANK(InfoPro!F166),\"\",InfoPro!F166)","v":"Solar FV"},{"$f":"IF(ISBLANK(InfoPro!I166),\"\",YEAR(InfoPro!I166)-$H$3)","v":1},{"$f":"IF(B172=\"\",\"\",VLOOKUP(D172,Tablas!$B$2:$E$13,2,FALSE))","v":0.26},{"$f":"IF(B172=\"\",\"\",VLOOKUP(D172,Tablas!$B$2:$H$13,7,FALSE))","v":83577.200000000012},0.56483127404885003,22548.240000000005,2187860970.9767447,1956941834.5051382,1750395200.8096051,1565648659.0425806,1400401305.0470312,1252595085.0152338,1120389163.6987782,1002136997.9416621,896365830.00148666,801758345.26072145,717136265.88615537,641445676.10568452,573743896.33782172,513187742.69930387,459023025.67021811,16839029998.998165,1700912.1211109257]
[{"$f":"IF(ISBLANK(InfoPro!A167),\"\",InfoPro!A167)","v":"SC_2165_A1"},{"$f":"IF(ISBLANK(InfoPro!B167),\"\",InfoPro!B167)","v":"Autogeneración Solar Fotovoltaica 9.9 MW (entrega de excedentes de 0)"},{"$f":"IF(ISBLANK(InfoPro!E167),\"\",InfoPro!E167)","v":0},{"$f":"IF(ISBLANK(InfoPro!F167),\"\",InfoPro!F167)","v":"Solar FV"},{"$f":"IF(ISBLANK(InfoPro!I167),\"\",YEAR(InfoPro!I167)-$H$3)","v":0},{"$f":"IF(B173=\"\",\"\",VLOOKUP(D173,Tablas!$B$2:$E$13,2,FALSE))","v":0.26},{"$f":"IF(B173=\"\",\"\",VLOOKUP(D173,Tablas!$B$2:$H$13,7,FALSE))","v":83577.200000000012},0.56483127404885003,0,0,0,0,0,0,0,0,0,0,0,0,0,0,0,0,0,0]
[{"$f":"IF(ISBLANK(InfoPro!A168),\"\",InfoPro!A168)","v":"SC_1820\n_A1"},{"$f":"IF(ISBLANK(InfoPro!B168),\"\",InfoPro!B168)","v":"NAIOT"},{"$f":"IF(ISBLANK(InfoPro!E168),\"\",InfoPro!E168)","v":19.899999999999999},{"$f":"IF(ISBLANK(InfoPro!F168),\"\",InfoPro!F168)","v":"Solar FV"},{"$f":"IF(ISBLANK(InfoPro!I168),\"\",YEAR(InfoPro!I168)-$H$3)","v":1},{"$f":"IF(B174=\"\",\"\",VLOOKUP(D174,Tablas!$B$2:$E$13,2,FALSE))","v":0.26},{"$f":"IF(B174=\"\",\"\",VLOOKUP(D174,Tablas!$B$2:$H$13,7,FALSE))","v":83577.200000000012},0.56483127404885003,45324.24,4397821547.7209291,3933650758.2477007,3518471161.2233472,3147111951.0047832,2814948077.8218098,2517842645.6366811,2252095389.6571393,2014396591.8221281,1801785860.3060179,1611615259.6654899,1441516332.4378271,1289370601.4649615,1153283185.5679443,1031559199.9713278,922682647.55932724,33848151210.107414,1700912.1211109255]
[{"$f":"IF(ISBLANK(InfoPro!A169),\"\",InfoPro!A169)","v":"SC_1820\n_A2"},{"$f":"IF(ISBLANK(InfoPro!B169),\"\",InfoPro!B169)","v":"NAIOT"},{"$f":"IF(ISBLANK(InfoPro!E169),\"\",InfoPro!E169)","v":19.899999999999999},{"$f":"IF(ISBLANK(InfoPro!F169),\"\",InfoPro!F169)","v":"Solar FV"},{"$f":"IF(ISBLANK(InfoPro!I169),\"\",YEAR(InfoPro!I169)-$H$3)","v":1},{"$f":"IF(B175=\"\",\"\",VLOOKUP(D175,Tablas!$B$2:$E$13,2,FALSE))","v":0.26},{"$f":"IF(B175=\"\",\"\",VLOOKUP(D175,Tablas!$B$2:$H$13,7,FALSE))","v":83577.200000000012},0.56483127404885003,45324.24,4397821547.7209291,3933650758.2477007,3518471161.2233472,3147111951.0047832,2814948077.8218098,2517842645.6366811,2252095389.6571393,2014396591.8221281,1801785860.3060179,1611615259.6654899,1441516332.4378271,1289370601.4649615,1153283185.5679443,1031559199.9713278,922682647.55932724,33848151210.107414,1700912.1211109255]
[{"$f":"IF(ISBLANK(InfoPro!A170),\"\",InfoPro!A170)","v":"SC_2325_A1"},{"$f":"IF(ISBLANK(InfoPro!B170),\"\",InfoPro!B170)","v":"PROYECTO FOTOVOLTAICO MONTERROSO DE 99,9 MW"},{"$f":"IF(ISBLANK(InfoPro!E170),\"\",InfoPro!E170)","v":99.9},{"$f":"IF(ISBLANK(InfoPro!F170),\"\",InfoPro!F170)","v":"Solar FV"},{"$f":"IF(ISBLANK(InfoPro!I170),\"\",YEAR(InfoPro!I170)-$H$3)","v":3},{"$f":"IF(B176=\"\",\"\",VLOOKUP(D176,Tablas!$B$2:$E$13,2,FALSE))","v":0.26},{"$f":"IF(B176=\"\",\"\",VLOOKUP(D176,Tablas!$B$2:$H$13,7,FALSE))","v":83577.200000000012},0.56483127404885003,227532.24000000002,17663078844.533287,15798818286.702406,14131322260.020041,12639823130.608265,11305745197.32403,10112473342.86586,9045146102.7422733,8090470574.9036436,7236556864.851202,6472770004.33918,5789597499.408927,5178530858.147521,4631959622.6722012,4143076585.574419,3705793010.3527899,135945162185.04604,1360812.434284745]
[{"$f":"IF(ISBLANK(InfoPro!A171),\"\",InfoPro!A171)","v":"SC_2325_A2"},{"$f":"IF(ISBLANK(InfoPro!B171),\"\",InfoPro!B171)","v":"PROYECTO FOTOVOLTAICO MONTERROSO DE 99,9 MW"},{"$f":"IF(ISBLANK(InfoPro!E171),\"\",InfoPro!E171)","v":99.9},{"$f":"IF(ISBLANK(InfoPro!F171),\"\",InfoPro!F171)","v":"Solar FV"},{"$f":"IF(ISBLANK(InfoPro!I171),\"\",YEAR(InfoPro!I171)-$H$3)","v":3},{"$f":"IF(B177=\"\",\"\",VLOOKUP(D177,Tablas!$B$2:$E$13,2,FALSE))","v":0.26},{"$f":"IF(B177=\"\",\"\",VLOOKUP(D177,Tablas!$B$2:$H$13,7,FALSE))","v":83577.200000000012},0.56483127404885003,227532.24000000002,17663078844.533287,15798818286.702406,14131322260.020041,12639823130.608265,11305745197.32403,10112473342.86586,9045146102.7422733,8090470574.9036436,7236556864.851202,6472770004.33918,5789597499.408927,5178530858.147521,4631959622.6722012,4143076585.574419,3705793010.3527899,135945162185.04604,1360812.434284745]
[{"$f":"IF(ISBLANK(InfoPro!A172),\"\",InfoPro!A172)","v":""},{"$f":"IF(ISBLANK(InfoPro!B172),\"\",InfoPro!B172)","v":""},{"$f":"IF(ISBLANK(InfoPro!E172),\"\",InfoPro!E172)","v":""},{"$f":"IF(ISBLANK(InfoPro!F172),\"\",InfoPro!F172)","v":""},{"$f":"IF(ISBLANK(InfoPro!I172),\"\",YEAR(InfoPro!I172)-$H$3)","v":""},{"$f":"IF(B178=\"\",\"\",VLOOKUP(D178,Tablas!$B$2:$E$13,2,FALSE))","v":""},{"$f":"IF(B178=\"\",\"\",VLOOKUP(D178,Tablas!$B$2:$H$13,7,FALSE))","v":""},"","",{"$f":"IF($I178=\"\",\"\",(1/(1+$C$3)^(J$6+$E178))*$I178*$C$2*$H178)","v":""},"","","","","","","","","","","","","","","",""]
[{"$f":"IF(ISBLANK(InfoPro!A173),\"\",InfoPro!A173)","v":""},{"$f":"IF(ISBLANK(InfoPro!B173),\"\",InfoPro!B173)","v":""},{"$f":"IF(ISBLANK(InfoPro!E173),\"\",InfoPro!E173)","v":""},{"$f":"IF(ISBLANK(InfoPro!F173),\"\",InfoPro!F173)","v":""},{"$f":"IF(ISBLANK(InfoPro!I173),\"\",YEAR(InfoPro!I173)-$H$3)","v":""},{"$f":"IF(B179=\"\",\"\",VLOOKUP(D179,Tablas!$B$2:$E$13,2,FALSE))","v":""},{"$f":"IF(B179=\"\",\"\",VLOOKUP(D179,Tablas!$B$2:$H$13,7,FALSE))","v":""},"","","","","","","","","","","","","","","","","","",""]
[{"$f":"IF(ISBLANK(InfoPro!A174),\"\",InfoPro!A174)","v":""},{"$f":"IF(ISBLANK(InfoPro!B174),\"\",InfoPro!B174)","v":""},{"$f":"IF(ISBLANK(InfoPro!E174),\"\",InfoPro!E174)","v":""},{"$f":"IF(ISBLANK(InfoPro!F174),\"\",InfoPro!F174)","v":""},{"$f":"IF(ISBLANK(InfoPro!I174),\"\",YEAR(InfoPro!I174)-$H$3)","v":""},{"$f":"IF(B180=\"\",\"\",VLOOKUP(D180,Tablas!$B$2:$E$13,2,FALSE))","v":""},{"$f":"IF(B180=\"\",\"\",VLOOKUP(D180,Tablas!$B$2:$H$13,7,FALSE))","v":""},"","","","","","","","","","","","","","","","","","",""]
[{"$f":"IF(ISBLANK(InfoPro!A175),\"\",InfoPro!A175)","v":""},{"$f":"IF(ISBLANK(InfoPro!B175),\"\",InfoPro!B175)","v":""},{"$f":"IF(ISBLANK(InfoPro!E175),\"\",InfoPro!E175)","v":""},{"$f":"IF(ISBLANK(InfoPro!F175),\"\",InfoPro!F175)","v":""},{"$f":"IF(ISBLANK(InfoPro!I175),\"\",YEAR(InfoPro!I175)-$H$3)","v":""},{"$f":"IF(B181=\"\",\"\",VLOOKUP(D181,Tablas!$B$2:$E$13,2,FALSE))","v":""},{"$f":"IF(B181=\"\",\"\",VLOOKUP(D181,Tablas!$B$2:$H$13,7,FALSE))","v":""},"","","","","","","","","","","","","","","","","","",""]
[{"$f":"IF(ISBLANK(InfoPro!A176),\"\",InfoPro!A176)","v":""},{"$f":"IF(ISBLANK(InfoPro!B176),\"\",InfoPro!B176)","v":""},{"$f":"IF(ISBLANK(InfoPro!E176),\"\",InfoPro!E176)","v":""},{"$f":"IF(ISBLANK(InfoPro!F176),\"\",InfoPro!F176)","v":""},{"$f":"IF(ISBLANK(InfoPro!I176),\"\",YEAR(InfoPro!I176)-$H$3)","v":""},{"$f":"IF(B182=\"\",\"\",VLOOKUP(D182,Tablas!$B$2:$E$13,2,FALSE))","v":""},{"$f":"IF(B182=\"\",\"\",VLOOKUP(D182,Tablas!$B$2:$H$13,7,FALSE))","v":""},"","","","","","","","","","","","","","","","","","",""]

{"sheet":"EC-Per","index":6,"n_rows":182,"n_cols":23,"rows_kept":182,"cut":false,"hidden":false,"merged":[]}
[]
[null,"Precio promedio de bolsa",{"$f":"'EC-RP'!C2*1000","v":192057000},"COP/GWh"]
[null,"Tasa de descuento",0.11799999999999999,null,"Año de Referencia",2023]
[null,null,null,null,"Mínimo",{"$f":"MIN(W8:W350)","v":-1416096.9892820411}]
[]
[null,null,null,null,null,null,0,1,2,3,4,5,6,7,8,9,10,11,12,13,14]
["Codigo","Nombre","capacidad","Tipo","Año de entrada","Pérdidas STN","Flujo Descontado 0","Flujo Descontado 1","Flujo Descontado 2","Flujo Descontado 3","Flujo Descontado 4","Flujo Descontado 5","Flujo Descontado 6","Flujo Descontado 7","Flujo Descontado 8","Flujo Descontado 9","Flujo Descontado 10","Flujo Descontado 11","Flujo Descontado 12","Flujo Descontado 13","Flujo Descontado 14","VPN","Beneficio/kW"]
[{"$f":"IF(ISBLANK(InfoPro!A2),\"\",InfoPro!A2)","v":"SC_44_A1"},{"$f":"IF(ISBLANK(InfoPro!B2),\"\",InfoPro!B2)","v":"El Floral 1"},{"$f":"IF(ISBLANK(InfoPro!E2),\"\",InfoPro!E2)","v":19.899999999999999},{"$f":"IF(ISBLANK(InfoPro!F2),\"\",InfoPro!F2)","v":"Solar FV"},{"$f":"IF(ISBLANK(InfoPro!I2),\"\",YEAR(InfoPro!I2)-$F$3)","v":2},{"$f":"IF(ISBLANK(InfoPro!P2),\"\",InfoPro!P2)","v":-3.78},{"$f":"IF($F8=\"\",\"\",(1/(1+$C$3)^(G$6+$E8))*$F8*$C$2)","v":-580815681.59344089},{"$f":"IF($F8=\"\",\"\",(1/(1+$C$3)^(H$6+$E8))*$F8*$C$2)","v":-519513132.0156002},{"$f":"IF($F8=\"\",\"\",(1/(1+$C$3)^(I$6+$E8))*$F8*$C$2)","v":-464680797.8672632},-415635776.26767731,-371767241.74210846,-332528838.76753896,-297431877.25182372,-266039246.20020014,-237959969.76762089,-212844337.89590424,-190379550.89079091,-170285823.69480404,-152312901.33703405,-136236942.16192672,-121857730.01961243,{"$f":"IF(U8=\"\",\"\",SUM(G8:U8))","v":-4470289847.4733467},{"$f":"IF(C8=0,0,IF(V8=\"\",\"\",V8/(C8*1000)))","v":-224637.6807775551}]
[{"$f":"IF(ISBLANK(InfoPro!A3),\"\",InfoPro!A3)","v":"SC_47_A1"},{"$f":"IF(ISBLANK(InfoPro!B3),\"\",InfoPro!B3)","v":"El Floral II - 19.9 MW"},{"$f":"IF(ISBLANK(InfoPro!E3),\"\",InfoPro!E3)","v":19.899999999999999},{"$f":"IF(ISBLANK(InfoPro!F3),\"\",InfoPro!F3)","v":"Solar FV"},{"$f":"IF(ISBLANK(InfoPro!I3),\"\",YEAR(InfoPro!I3)-$F$3)","v":2},{"$f":"IF(ISBLANK(InfoPro!P3),\"\",InfoPro!P3)","v":-3.78},-580815681.59344089,-519513132.0156002,-464680797.8672632,-415635776.26767731,-371767241.74210846,-332528838.76753896,-297431877.25182372,-266039246.20020014,-237959969.76762089,-212844337.89590424,-190379550.89079091,-170285823.69480404,-152312901.33703405,-136236942.16192672,-121857730.01961243,{"$f":"IF(U9=\"\",\"\",SUM(G9:U9))","v":-4470289847.4733467},{"$f":"IF(C9=0,0,IF(V9=\"\",\"\",V9/(C9*1000)))","v":-224637.6807775551}]
[{"$f":"IF(ISBLANK(InfoPro!A4),\"\",InfoPro!A4)","v":"SC_408_A1"},{"$f":"IF(ISBLANK(InfoPro!B4),\"\",InfoPro!B4)","v":"El Jardín 40 MW"},{"$f":"IF(ISBLANK(InfoPro!E4),\"\",InfoPro!E4)","v":40},{"$f":"IF(ISBLANK(InfoPro!F4),\"\",InfoPro!F4)","v":"Solar FV"},{"$f":"IF(ISBLANK(InfoPro!I4),\"\",YEAR(InfoPro!I4)-$F$3)","v":2},{"$f":"IF(ISBLANK(InfoPro!P4),\"\",InfoPro!P4)","v":-23.991959999999999},-3686483227.5562353,-3297391080.1039681,-2949365903.4919214,-2638073258.9373183,-2359636188.6738091,-2110586930.8352497,-1887823730.6218691,-1688572209.8585594,-1510350813.8269761,-1350939905.0330737,-1208354118.9920158,-1080817637.7388337,-966742073.1116581,-864706684.357476,-773440683.68289423,-28373284446.821857,-709332.11117054638]
[{"$f":"IF(ISBLANK(InfoPro!A5),\"\",InfoPro!A5)","v":"SC_454_A1"},{"$f":"IF(ISBLANK(InfoPro!B5),\"\",InfoPro!B5)","v":"PARQUE SOLAR SAN RAFAEL - 300 MW"},{"$f":"IF(ISBLANK(InfoPro!E5),\"\",InfoPro!E5)","v":300},{"$f":"IF(ISBLANK(InfoPro!F5),\"\",InfoPro!F5)","v":"Solar FV"},{"$f":"IF(ISBLANK(InfoPro!I5),\"\",YEAR(InfoPro!I5)-$F$3)","v":3},{"$f":"IF(ISBLANK(InfoPro!P5),\"\",InfoPro!P5)","v":-16.1937},-2225618996.2754035,-1990714665.720397,-1780603457.710552,-1592668566.8251808,-1424569379.9867449,-1274212325.5695391,-1139724799.2571907,-1019431841.9116197,-911835278.9907155,-815595061.70904779,-729512577.55728793,-652515722.32315564,-583645547.69513035,-522044318.15306818,-466944828.40167105,-17129637368.086702,-57098.791226955676]
[{"$f":"IF(ISBLANK(InfoPro!A6),\"\",InfoPro!A6)","v":"SC_454_A2"},{"$f":"IF(ISBLANK(InfoPro!B6),\"\",InfoPro!B6)","v":"PARQUE SOLAR SAN RAFAEL - 300 MW"},{"$f":"IF(ISBLANK(InfoPro!E6),\"\",InfoPro!E6)","v":300},{"$f":"IF(ISBLANK(InfoPro!F6),\"\",InfoPro!F6)","v":"Solar FV"},{"$f":"IF(ISBLANK(InfoPro!I6),\"\",YEAR(InfoPro!I6)-$F$3)","v":3},{"$f":"IF(ISBLANK(InfoPro!P6),\"\",InfoPro!P6)","v":-15.65443},-2151503163.8145432,-1924421434.5389473,-1721307186.5285754,-1539630757.1811945,-1377129478.6951654,-1231779497.9384305,-1101770570.6068251,-985483515.7485019,-881470049.86449218,-788434749.43156707,-705218917.20175958,-630786151.34325552,-564209437.69521964,-504659604.37855059,-451394994.97186995,-16559199509.9389,-55197.331699796334]
[{"$f":"IF(ISBLANK(InfoPro!A7),\"\",InfoPro!A7)","v":"SC_483_A1"},{"$f":"IF(ISBLANK(InfoPro!B7),\"\",InfoPro!B7)","v":"PARQUE SOLAR LOMAS 39.9 MW"},{"$f":"IF(ISBLANK(InfoPro!E7),\"\",InfoPro!E7)","v":39.9},{"$f":"IF(ISBLANK(InfoPro!F7),\"\",InfoPro!F7)","v":"Solar FV"},{"$f":"IF(ISBLANK(InfoPro!I7),\"\",YEAR(InfoPro!I7)-$F$3)","v":2},{"$f":"IF(ISBLANK(InfoPro!P7),\"\",InfoPro!P7)","v":-11.079632},-1702440214.7842591,-1522755111.6138277,-1362034983.5544078,-1218278160.6032269,-1089694240.2533336,-974681789.13536119,-871808398.15327477,-779792842.71312594,-697489125.86147213,-623872205.60060143,-558025228.62307823,-499128111.46965855,-446447326.89593786,-399326768.24323612,-357179578.03509486,-13102954085.539892,-328394.8392365888]
[{"$f":"IF(ISBLANK(InfoPro!A8),\"\",InfoPro!A8)","v":"SC_586_A1"},{"$f":"IF(ISBLANK(InfoPro!B8),\"\",InfoPro!B8)","v":"Orquídea del Sucre - Sierra Flor 60 MW"},{"$f":"IF(ISBLANK(InfoPro!E8),\"\",InfoPro!E8)","v":60},{"$f":"IF(ISBLANK(InfoPro!F8),\"\",InfoPro!F8)","v":"Solar FV"},{"$f":"IF(ISBLANK(InfoPro!I8),\"\",YEAR(InfoPro!I8)-$F$3)","v":4},{"$f":"IF(ISBLANK(InfoPro!P8),\"\",InfoPro!P8)","v":-7.3028500000000003},-897749779.02247179,-802996224.52815008,-718243492.42231679,-642436039.73373592,-574629731.42552412,-513980081.7759608,-459731736.83001858,-411209066.93203825,-367807752.17534721,-328987255.9707936,-294264092.99713206,-263205807.68974245,-235425588.27347264,-210577449.26070902,-188351922.41566101,-6909596021.4530745,-115159.93369088457]
[{"$f":"IF(ISBLANK(InfoPro!A9),\"\",InfoPro!A9)","v":"SC_586_A2"},{"$f":"IF(ISBLANK(InfoPro!B9),\"\",InfoPro!B9)","v":"Orquídea del Sucre - Sierra Flor 60 MW"},{"$f":"IF(ISBLANK(InfoPro!E9),\"\",InfoPro!E9)","v":60},{"$f":"IF(ISBLANK(InfoPro!F9),\"\",InfoPro!F9)","v":"Solar FV"},{"$f":"IF(ISBLANK(InfoPro!I9),\"\",YEAR(InfoPro!I9)-$F$3)","v":4},{"$f":"IF(ISBLANK(InfoPro!P9),\"\",InfoPro!P9)","v":-7.3616299999999999},-904975688.36073565,-809459470.80566692,-724024571.38252854,-647606951.14716339,-579254875.80247176,-518117062.43512684,-463432077.31227797,-414518852.69434541,-370768204.55665958,-331635245.57840753,-296632598.9073413,-265324328.18187952,-237320508.21277231,-212272368.7055209,-189867950.54161081,-6965210754.6245079,-116086.84591040846]
[{"$f":"IF(ISBLANK(InfoPro!A10),\"\",InfoPro!A10)","v":"SC_681_A1"},{"$f":"IF(ISBLANK(InfoPro!B10),\"\",InfoPro!B10)","v":"PARQUE SOLARLAS LAS PALMAS de 90MW"},{"$f":"IF(ISBLANK(InfoPro!E10),\"\",InfoPro!E10)","v":90},{"$f":"IF(ISBLANK(InfoPro!F10),\"\",InfoPro!F10)","v":"Solar FV"},{"$f":"IF(ISBLANK(InfoPro!I10),\"\",YEAR(InfoPro!I10)-$F$3)","v":2},{"$f":"IF(ISBLANK(InfoPro!P10),\"\",InfoPro!P10)","v":-11.14},-1711716056.3362255,-1531051928.7443881,-1369456108.0003471,-1224916017.8893981,-1095631500.7955263,-979992397.84930789,-876558495.39294088,-784041588.00799739,-701289434.71198332,-627271408.5080353,-561065660.56174886,-501847639.14288819,-448879820.34247607,-401502522.66768885,-359125691.11600065,-13174346270.066954,-146381.62522296616]
[{"$f":"IF(ISBLANK(InfoPro!A11),\"\",InfoPro!A11)","v":"SC_681_A2"},{"$f":"IF(ISBLANK(InfoPro!B11),\"\",InfoPro!B11)","v":"PARQUE SOLARLAS LAS PALMAS de 90MW"},{"$f":"IF(ISBLANK(InfoPro!E11),\"\",InfoPro!E11)","v":90},{"$f":"IF(ISBLANK(InfoPro!F11),\"\",InfoPro!F11)","v":"Solar FV"},{"$f":"IF(ISBLANK(InfoPro!I11),\"\",YEAR(InfoPro!I11)-$F$3)","v":2},{"$f":"IF(ISBLANK(InfoPro!P11),\"\",InfoPro!P11)","v":-11.46},-1760885637.8467815,-1575031876.4282484,-1408794164.9626551,-1260102115.3512123,-1127103859.8848052,-1008142987.3746023,-901737913.57298958,-806563428.95616245,-721434194.05739033,-645289976.79551923,-577182447.93874717,-516263370.24932665,-461774034.21227789,-413035808.77663499,-369441689.42453927,-13552783505.831892,-150586.48339813214]
[{"$f":"IF(ISBLANK(InfoPro!A12),\"\",InfoPro!A12)","v":"SC_720_A1"},{"$f":"IF(ISBLANK(InfoPro!B12),\"\",InfoPro!B12)","v":"El Jazmín"},{"$f":"IF(ISBLANK(InfoPro!E12),\"\",InfoPro!E12)","v":19.899999999999999},{"$f":"IF(ISBLANK(InfoPro!F12),\"\",InfoPro!F12)","v":"Solar FV"},{"$f":"IF(ISBLANK(InfoPro!I12),\"\",YEAR(InfoPro!I12)-$F$3)","v":2},{"$f":"IF(ISBLANK(InfoPro!P12),\"\",InfoPro!P12)","v":-2.2711399999999999},{"$f":"IF($F18=\"\",\"\",(1/(1+$C$3)^(G$6+$E18))*$F18*$C$2)","v":-348971885.47463685},-312139432.44600803,-279194483.40430057,-249726729.34195042,-223369167.56882864,-199793530.92024034,-178706199.39198598,-159844543.28442395,-142973652.31164932,-127883409.93886349,-114385876.51061134,-102312948.57836436,-91514265.275817856,-81855335.667100057,-73215863.745169982,-2685887323.859951,-134969.2122542689]
[{"$f":"IF(ISBLANK(InfoPro!A13),\"\",InfoPro!A13)","v":"SC_720_A2"},{"$f":"IF(ISBLANK(InfoPro!B13),\"\",InfoPro!B13)","v":"El Jazmín"},{"$f":"IF(ISBLANK(InfoPro!E13),\"\",InfoPro!E13)","v":19.899999999999999},{"$f":"IF(ISBLANK(InfoPro!F13),\"\",InfoPro!F13)","v":"Solar FV"},{"$f":"IF(ISBLANK(InfoPro!I13),\"\",YEAR(InfoPro!I13)-$F$3)","v":2},{"$f":"IF(ISBLANK(InfoPro!P13),\"\",InfoPro!P13)","v":-2.2644700000000002},-347947007.01002628,-311222725.41147256,-278374530.7794925,-248993319.12298077,-222713165.58406153,-199206767.06982249,-178181365.8942956,-159375103.66216066,-142553759.98404354,-127507835.40612125,-114049942.22372204,-102012470.68311454,-91245501.505469188,-81614938.734766722,-73000839.655426398,-2677999272.7269769,-134572.82777522496]
[{"$f":"IF(ISBLANK(InfoPro!A14),\"\",InfoPro!A14)","v":"SC_713_A1"},{"$f":"IF(ISBLANK(InfoPro!B14),\"\",InfoPro!B14)","v":"Crucero - 300MW"},{"$f":"IF(ISBLANK(InfoPro!E14),\"\",InfoPro!E14)","v":300},{"$f":"IF(ISBLANK(InfoPro!F14),\"\",InfoPro!F14)","v":"Solar FV"},{"$f":"IF(ISBLANK(InfoPro!I14),\"\",YEAR(InfoPro!I14)-$F$3)","v":4},{"$f":"IF(ISBLANK(InfoPro!P14),\"\",InfoPro!P14)","v":-37.68},-4632056207.3117666,-4143162976.128593,-3705870282.7626057,-3314731916.603404,-2964876490.7007194,-2651946771.6464396,-2372045412.9216809,-2121686415.8512359,-1897751713.6415348,-1697452337.7831264,-1518293683.1691649,-1358044439.3284123,-1214708800.8304222,-1086501610.760664,-971826127.69290161,-35650955187.132668,-118836.51729044222]
[{"$f":"IF(ISBLANK(InfoPro!A15),\"\",InfoPro!A15)","v":"SC_836_A1"},{"$f":"IF(ISBLANK(InfoPro!B15),\"\",InfoPro!B15)","v":"BONGO DEL SINÚ DE 19.9 MW"},{"$f":"IF(ISBLANK(InfoPro!E15),\"\",InfoPro!E15)","v":19.899999999999999},{"$f":"IF(ISBLANK(InfoPro!F15),\"\",InfoPro!F15)","v":"Solar FV"},{"$f":"IF(ISBLANK(InfoPro!I15),\"\",YEAR(InfoPro!I15)-$F$3)","v":2},{"$f":"IF(ISBLANK(InfoPro!P15),\"\",InfoPro!P15)","v":-4.9800000000000004},-765201612.25802541,-684437935.83007658,-612198511.47591829,-547583641.74947965,-489788588.32690489,-438093549.48739266,-391854695.42700595,-350496149.75581932,-313502817.31289738,-280413968.9739691,-250817503.55453411,-224344815.34394822,-200666203.34879088,-179486765.07047489,-160542723.67663226,-5889429481.5918694,-295951.2302307472]
[{"$f":"IF(ISBLANK(InfoPro!A16),\"\",InfoPro!A16)","v":"SC_836_A2"},{"$f":"IF(ISBLANK(InfoPro!B16),\"\",InfoPro!B16)","v":"BONGO DEL SINÚ DE 19.9 MW"},{"$f":"IF(ISBLANK(InfoPro!E16),\"\",InfoPro!E16)","v":19.899999999999999},{"$f":"IF(ISBLANK(InfoPro!F16),\"\",InfoPro!F16)","v":"Solar FV"},{"$f":"IF(ISBLANK(InfoPro!I16),\"\",YEAR(InfoPro!I16)-$F$3)","v":2},{"$f":"IF(ISBLANK(InfoPro!P16),\"\",InfoPro!P16)","v":-5.15},-791322952.43550825,-707802283.03712726,-633096854.23714435,-566276256.02606833,-506508279.09308434,-453048550.17270517,-405231261.33515674,-362460877.75953197,-324204720.71514487,-289986333.37669498,-259379546.84856436,-232003172.49424365,-207516254.46712312,-185613823.31585255,-166023097.77804339,-6090474263.0919933,-306053.98306994943]
[{"$f":"IF(ISBLANK(InfoPro!A17),\"\",InfoPro!A17)","v":"SC_778_A1"},{"$f":"IF(ISBLANK(InfoPro!B17),\"\",InfoPro!B17)","v":"KOS 19.9"},{"$f":"IF(ISBLANK(InfoPro!E17),\"\",InfoPro!E17)","v":19.899999999999999},{"$f":"IF(ISBLANK(InfoPro!F17),\"\",InfoPro!F17)","v":"Solar FV"},{"$f":"IF(ISBLANK(InfoPro!I17),\"\",YEAR(InfoPro!I17)-$F$3)","v":2},{"$f":"IF(ISBLANK(InfoPro!P17),\"\",InfoPro!P17)","v":-1.4577899999999999},-223996638.21960375,-200354774.79392111,-179208206.43463427,-160293565.68393052,-143375282.36487523,-128242649.70024619,-114707200.08966565,-102600357.86195496,-91771339.76919049,-82085277.074410126,-73421535.844731763,-65672214.530171528,-58740800.116432495,-52540966.114877015,-46995497.419389099,-1724006306.0180342,-86633.482714474085]
[{"$f":"IF(ISBLANK(InfoPro!A18),\"\",InfoPro!A18)","v":"SC_778_A2"},{"$f":"IF(ISBLANK(InfoPro!B18),\"\",InfoPro!B18)","v":"KOS 19.9"},{"$f":"IF(ISBLANK(InfoPro!E18),\"\",InfoPro!E18)","v":19.899999999999999},{"$f":"IF(ISBLANK(InfoPro!F18),\"\",InfoPro!F18)","v":"Solar FV"},{"$f":"IF(ISBLANK(InfoPro!I18),\"\",YEAR(InfoPro!I18)-$F$3)","v":2},{"$f":"IF(ISBLANK(InfoPro!P18),\"\",InfoPro!P18)","v":-1.39846},-214880290.49766231,-192200617.61866039,-171914684.81096637,-153769843.30140105,-137540110.2874786,-123023354.46107209,-110038778.58772102,-98424667.788659245,-88036375.481806114,-78744521.897858799,-70433382.7351152,-62999447.88471844,-56350132.276134558,-50402622.78724023,-45082846.857996613,-1653841677.2744911,-83107.621973592511]
[{"$f":"IF(ISBLANK(InfoPro!A19),\"\",InfoPro!A19)","v":"SC_942_A1"},{"$f":"IF(ISBLANK(InfoPro!B19),\"\",InfoPro!B19)","v":"PASCUA_60MW"},{"$f":"IF(ISBLANK(InfoPro!E19),\"\",InfoPro!E19)","v":60},{"$f":"IF(ISBLANK(InfoPro!F19),\"\",InfoPro!F19)","v":"Solar FV"},{"$f":"IF(ISBLANK(InfoPro!I19),\"\",YEAR(InfoPro!I19)-$F$3)","v":3},{"$f":"IF(ISBLANK(InfoPro!P19),\"\",InfoPro!P19)","v":-3.0354800000000002},-417188286.23563868,-373155891.08733338,-333770922.26058441,-298542864.27601469,-267032973.41325113,-238848813.42866826,-213639368.00417557,-191090669.05561319,-170921886.45403689,-152881830.45978254,-136745823.30928671,-122312900.99220638,-109403310.36869982,-97856270.45500876,-87527969.995535582,-3210919779.795836,-53515.329663263932]
[{"$f":"IF(ISBLANK(InfoPro!A20),\"\",InfoPro!A20)","v":"SC_942_A2"},{"$f":"IF(ISBLANK(InfoPro!B20),\"\",InfoPro!B20)","v":"PASCUA_60MW"},{"$f":"IF(ISBLANK(InfoPro!E20),\"\",InfoPro!E20)","v":60},{"$f":"IF(ISBLANK(InfoPro!F20),\"\",InfoPro!F20)","v":"Solar FV"},{"$f":"IF(ISBLANK(InfoPro!I20),\"\",YEAR(InfoPro!I20)-$F$3)","v":3},{"$f":"IF(ISBLANK(InfoPro!P20),\"\",InfoPro!P20)","v":-2.7037100000000001},-371590701.10103136,-332370931.21738046,-297290636.15150315,-265912912.47898313,-237846970.01697958,-212743264.7736848,-190289145.59363577,-170204960.28053287,-152240572.70172891,-136172247.49707416,-121799863.5930896,-108944421.81850591,-97445815.580058962,-87160836.833684206,-77961392.516712174,-2859974672.1545849,-47666.244535909747]
[{"$f":"IF(ISBLANK(InfoPro!A21),\"\",InfoPro!A21)","v":"SC_1763_A1"},{"$f":"IF(ISBLANK(InfoPro!B21),\"\",InfoPro!B21)","v":"Taurus Solar de 22MW (19,5 MW)"},{"$f":"IF(ISBLANK(InfoPro!E21),\"\",InfoPro!E21)","v":19.5},{"$f":"IF(ISBLANK(InfoPro!F21),\"\",InfoPro!F21)","v":"Solar FV"},{"$f":"IF(ISBLANK(InfoPro!I21),\"\",YEAR(InfoPro!I21)-$F$3)","v":2},{"$f":"IF(ISBLANK(InfoPro!P21),\"\",InfoPro!P21)","v":-1.1202288},-172128691.53772551,-153961262.55610514,-137711326.07880604,-123176499.17603402,-110175759.54922543,-98547191.010040656,-88145966.914168745,-78842546.434855759,-70521061.211856678,-63077872.2825194,-56420279.322468162,-50465366.120275639,-45138967.907223299,-40374747.680879518,-36113370.018675767,-1324800907.8008602,-67938.508092351796]
[{"$f":"IF(ISBLANK(InfoPro!A22),\"\",InfoPro!A22)","v":"SC_1763_A2"},{"$f":"IF(ISBLANK(InfoPro!B22),\"\",InfoPro!B22)","v":"Taurus Solar de 22MW (19,5 MW)"},{"$f":"IF(ISBLANK(InfoPro!E22),\"\",InfoPro!E22)","v":19.5},{"$f":"IF(ISBLANK(InfoPro!F22),\"\",InfoPro!F22)","v":"Solar FV"},{"$f":"IF(ISBLANK(InfoPro!I22),\"\",YEAR(InfoPro!I22)-$F$3)","v":2},{"$f":"IF(ISBLANK(InfoPro!P22),\"\",InfoPro!P22)","v":-0.63962600000000003},{"$f":"IF($F28=\"\",\"\",(1/(1+$C$3)^(G$6+$E28))*$F28*$C$2)","v":-98281696.072721243},-87908493.803865165,-78630137.570541292,-70331071.172219411,-62907934.858872458,-56268278.049080923,-50329407.915099218,-45017359.494722016,-40265974.503329173,-36016077.373281918,-32214738.258749478,-28814613.827146228,-25773357.627143316,-23053092.689752523,-20619939.794054132,-756432173.01057851,-38791.393487721973]
[{"$f":"IF(ISBLANK(InfoPro!A23),\"\",InfoPro!A23)","v":"SC_828_A1"},{"$f":"IF(ISBLANK(InfoPro!B23),\"\",InfoPro!B23)","v":"PARQUE SOLAR EL VASCO"},{"$f":"IF(ISBLANK(InfoPro!E23),\"\",InfoPro!E23)","v":60},{"$f":"IF(ISBLANK(InfoPro!F23),\"\",InfoPro!F23)","v":"Solar FV"},{"$f":"IF(ISBLANK(InfoPro!I23),\"\",YEAR(InfoPro!I23)-$F$3)","v":3},{"$f":"IF(ISBLANK(InfoPro!P23),\"\",InfoPro!P23)","v":-7.7999999999999999E-4},-107201.12247940956,-95886.513845625741,-85766.112563171511,-76713.875280117631,-68617.061967904869,-61374.83181386839,-54896.987311152414,-49102.850904429702,-43920.260200742145,-39284.66923143305,-35138.344571943693,-31429.64630764195,-28112.384890556306,-25145.245877062884,-22491.275381988267,-825081.18262704823,-13.751353043784137]
[{"$f":"IF(ISBLANK(InfoPro!A24),\"\",InfoPro!A24)","v":"SC_828_A2"},{"$f":"IF(ISBLANK(InfoPro!B24),\"\",InfoPro!B24)","v":"PARQUE SOLAR EL VASCO"},{"$f":"IF(ISBLANK(InfoPro!E24),\"\",InfoPro!E24)","v":60},{"$f":"IF(ISBLANK(InfoPro!F24),\"\",InfoPro!F24)","v":"Solar FV"},{"$f":"IF(ISBLANK(InfoPro!I24),\"\",YEAR(InfoPro!I24)-$F$3)","v":3},{"$f":"IF(ISBLANK(InfoPro!P24),\"\",InfoPro!P24)","v":-7.7999999999999999E-4},-107201.12247940956,-95886.513845625741,-85766.112563171511,-76713.875280117631,-68617.061967904869,-61374.83181386839,-54896.987311152414,-49102.850904429702,-43920.260200742145,-39284.66923143305,-35138.344571943693,-31429.64630764195,-28112.384890556306,-25145.245877062884,-22491.275381988267,-825081.18262704823,-13.751353043784137]
[{"$f":"IF(ISBLANK(InfoPro!A25),\"\",InfoPro!A25)","v":"SC_1179_A1"},{"$f":"IF(ISBLANK(InfoPro!B25),\"\",InfoPro!B25)","v":"Montes 90 MW"},{"$f":"IF(ISBLANK(InfoPro!E25),\"\",InfoPro!E25)","v":90},{"$f":"IF(ISBLANK(InfoPro!F25),\"\",InfoPro!F25)","v":"Solar FV"},{"$f":"IF(ISBLANK(InfoPro!I25),\"\",YEAR(InfoPro!I25)-$F$3)","v":3},{"$f":"IF(ISBLANK(InfoPro!P25),\"\",InfoPro!P25)","v":-8.3800000000000008},-1151724879.9710927,-1030165366.7004406,-921435927.28125298,-824182403.65049458,-737193563.19364464,-659386013.59002209,-589790709.83007348,-527540885.35784739,-471861257.02848619,-422058369.43513966,-377511958.34985667,-337667225.71543533,-302027929.978028,-270150205.70485508,-241637035.51418167,-8864333731.3008499,-98492.597014453888]
[{"$f":"IF(ISBLANK(InfoPro!A26),\"\",InfoPro!A26)","v":"SC_1179_A2"},{"$f":"IF(ISBLANK(InfoPro!B26),\"\",InfoPro!B26)","v":"Montes 90 MW"},{"$f":"IF(ISBLANK(InfoPro!E26),\"\",InfoPro!E26)","v":90},{"$f":"IF(ISBLANK(InfoPro!F26),\"\",InfoPro!F26)","v":"Solar FV"},{"$f":"IF(ISBLANK(InfoPro!I26),\"\",YEAR(InfoPro!I26)-$F$3)","v":3},{"$f":"IF(ISBLANK(InfoPro!P26),\"\",InfoPro!P26)","v":-7.85},-1078883091.6196988,-965011709.85661805,-863158953.36012352,-772056308.90887618,-690569149.29237592,-617682602.22931659,-552488910.75967491,-494176127.6920169,-442018003.30234081,-395364940.34198636,-353635903.70481789,-316311183.99357599,-282925924.8600859,-253064333.50633794,-226354502.24180499,-8303701645.6696501,-92263.351618551664]
[{"$f":"IF(ISBLANK(InfoPro!A27),\"\",InfoPro!A27)","v":"SC_1206_A1"},{"$f":"IF(ISBLANK(InfoPro!B27),\"\",InfoPro!B27)","v":"Cerromatoso Solar 300 MW"},{"$f":"IF(ISBLANK(InfoPro!E27),\"\",InfoPro!E27)","v":300},{"$f":"IF(ISBLANK(InfoPro!F27),\"\",InfoPro!F27)","v":"Solar FV"},{"$f":"IF(ISBLANK(InfoPro!I27),\"\",YEAR(InfoPro!I27)-$F$3)","v":5},{"$f":"IF(ISBLANK(InfoPro!P27),\"\",InfoPro!P27)","v":-25.79},-2835779542.3130679,-2536475440.3515816,-2268761574.5541873,-2029303733.9482896,-1815119618.9161806,-1623541698.4939001,-1452183987.91941,-1298912332.6649466,-1161817828.8595228,-1039193049.0693407,-929510777.34288096,-831404988.67878425,-743653836.0275352,-665164432.94055021,-594959242.34396279,-21825782084.424145,-72752.606948080487]
[{"$f":"IF(ISBLANK(InfoPro!A28),\"\",InfoPro!A28)","v":"SC_1206_A2"},{"$f":"IF(ISBLANK(InfoPro!B28),\"\",InfoPro!B28)","v":"Cerromatoso Solar 300 MW"},{"$f":"IF(ISBLANK(InfoPro!E28),\"\",InfoPro!E28)","v":300},{"$f":"IF(ISBLANK(InfoPro!F28),\"\",InfoPro!F28)","v":"Solar FV"},{"$f":"IF(ISBLANK(InfoPro!I28),\"\",YEAR(InfoPro!I28)-$F$3)","v":5},{"$f":"IF(ISBLANK(InfoPro!P28),\"\",InfoPro!P28)","v":-39.72},-4367474347.4476566,-3906506571.956759,-3494191924.8271556,-3125395281.5985293,-2795523507.6909924,-2500468253.748651,-2236554788.6839461,-2000496233.169898,-1789352623.5866714,-1600494296.5891514,-1431569138.2729442,-1280473290.0473559,-1145324946.3750949,-1024440918.045702,-916315669.09275699,-33614581791.133263,-112048.60597044422]
[{"$f":"IF(ISBLANK(InfoPro!A29),\"\",InfoPro!A29)","v":"SC_1372_A1"},{"$f":"IF(ISBLANK(InfoPro!B29),\"\",InfoPro!B29)","v":"Pétalo del Bolívar I Magangué"},{"$f":"IF(ISBLANK(InfoPro!E29),\"\",InfoPro!E29)","v":9.9},{"$f":"IF(ISBLANK(InfoPro!F29),\"\",InfoPro!F29)","v":"Solar FV"},{"$f":"IF(ISBLANK(InfoPro!I29),\"\",YEAR(InfoPro!I29)-$F$3)","v":2},{"$f":"IF(ISBLANK(InfoPro!P29),\"\",InfoPro!P29)","v":-0.96301999999999999},-147972782.45717341,-132354903.80784743,-118385423.79950576,-105890361.18023773,-94714097.656742156,-84717439.764527872,-75775885.299219921,-67778072.718443587,-60624394.202543452,-54225755.100665003,-48502464.311864942,-43383241.781632327,-38804330.752801731,-34708703.71449171,-31045352.159652688,-1138883208.7073498,-115038.70795023735]
[{"$f":"IF(ISBLANK(InfoPro!A30),\"\",InfoPro!A30)","v":"SC_1372_A2"},{"$f":"IF(ISBLANK(InfoPro!B30),\"\",InfoPro!B30)","v":"Pétalo del Bolívar I Magangué"},{"$f":"IF(ISBLANK(InfoPro!E30),\"\",InfoPro!E30)","v":9.9},{"$f":"IF(ISBLANK(InfoPro!F30),\"\",InfoPro!F30)","v":"Solar FV"},{"$f":"IF(ISBLANK(InfoPro!I30),\"\",YEAR(InfoPro!I30)-$F$3)","v":2},{"$f":"IF(ISBLANK(InfoPro!P30),\"\",InfoPro!P30)","v":-0.94679000000000002},-145478962.74493492,-130124295.83625665,-116390246.7229487,-104105766.29959635,-93117858.944182783,-83289677.052041858,-74498816.683400586,-66635793.097853847,-59602677.189493589,-53311875.840334177,-47685041.002087817,-42652093.919577651,-38150352.343092717,-34123749.8596536,-30522137.620441496,-1119689345.1558967,-113099.93385413097]
[{"$f":"IF(ISBLANK(InfoPro!A31),\"\",InfoPro!A31)","v":"SC_692_A1"},{"$f":"IF(ISBLANK(InfoPro!B31),\"\",InfoPro!B31)","v":"TermoJobo"},{"$f":"IF(ISBLANK(InfoPro!E31),\"\",InfoPro!E31)","v":9.9},{"$f":"IF(ISBLANK(InfoPro!F31),\"\",InfoPro!F31)","v":"Termica a vapor"},{"$f":"IF(ISBLANK(InfoPro!I31),\"\",YEAR(InfoPro!I31)-$F$3)","v":1},{"$f":"IF(ISBLANK(InfoPro!P31),\"\",InfoPro!P31)","v":-6.3459399999999997},-1090145079.2307694,-975085044.03467739,-872169091.26536465,-780115466.24808991,-697777697.8963238,-624130320.12193537,-558256100.2879566,-499334615.64217949,-446632035.45812124,-399491981.62622648,-357327353.86961234,-319613017.77246177,-285879264.55497479,-255705961.14040685,-228717317.65689343,-8390380346.805994,-847513.16634403984]
[{"$f":"IF(ISBLANK(InfoPro!A32),\"\",InfoPro!A32)","v":"SC_1057_A1"},{"$f":"IF(ISBLANK(InfoPro!B32),\"\",InfoPro!B32)","v":"Río Sinú Solar I 9,9 MW"},{"$f":"IF(ISBLANK(InfoPro!E32),\"\",InfoPro!E32)","v":9.9},{"$f":"IF(ISBLANK(InfoPro!F32),\"\",InfoPro!F32)","v":"Solar FV"},{"$f":"IF(ISBLANK(InfoPro!I32),\"\",YEAR(InfoPro!I32)-$F$3)","v":2},{"$f":"IF(ISBLANK(InfoPro!P32),\"\",InfoPro!P32)","v":-0.64},{"$f":"IF($F38=\"\",\"\",(1/(1+$C$3)^(G$6+$E38))*$F38*$C$2)","v":-98339163.021111682},-87959895.367720678,-78676113.924615994,-70372194.923627898,-62944718.178558052,-56301179.050588608,-50358836.360097148,-45043681.896330185,-40289518.690814115,-36037136.574967913,-32233574.753996346,-28831462.212876875,-25788427.73960365,-23066572.217892356,-20631996.617077235,-756874471.52987885,-76451.96682119988]
[{"$f":"IF(ISBLANK(InfoPro!A33),\"\",InfoPro!A33)","v":"SC_1057_A2"},{"$f":"IF(ISBLANK(InfoPro!B33),\"\",InfoPro!B33)","v":"Río Sinú Solar I 9,9 MW"},{"$f":"IF(ISBLANK(InfoPro!E33),\"\",InfoPro!E33)","v":9.9},{"$f":"IF(ISBLANK(InfoPro!F33),\"\",InfoPro!F33)","v":"Solar FV"},{"$f":"IF(ISBLANK(InfoPro!I33),\"\",YEAR(InfoPro!I33)-$F$3)","v":2},{"$f":"IF(ISBLANK(InfoPro!P33),\"\",InfoPro!P33)","v":-0.69},-106021910.13213603,-94831762.193323836,-84822685.324976608,-75870022.652036324,-67862274.286257893,-60699708.663915835,-54293120.450729728,-48562719.544480972,-43437137.338533968,-38852537.869887277,-34751822.781652309,-31083920.198257878,-27803148.656760182,-24868648.172415193,-22243871.352786392,-816005289.61815047,-82424.776729106103]
[{"$f":"IF(ISBLANK(InfoPro!A34),\"\",InfoPro!A34)","v":"SC_1058_A1"},{"$f":"IF(ISBLANK(InfoPro!B34),\"\",InfoPro!B34)","v":"Río Sinú Solar II 9,9 MW"},{"$f":"IF(ISBLANK(InfoPro!E34),\"\",InfoPro!E34)","v":9.9},{"$f":"IF(ISBLANK(InfoPro!F34),\"\",InfoPro!F34)","v":"Solar FV"},{"$f":"IF(ISBLANK(InfoPro!I34),\"\",YEAR(InfoPro!I34)-$F$3)","v":2},{"$f":"IF(ISBLANK(InfoPro!P34),\"\",InfoPro!P34)","v":-0.64},-98339163.021111682,-87959895.367720678,-78676113.924615994,-70372194.923627898,-62944718.178558052,-56301179.050588608,-50358836.360097148,-45043681.896330185,-40289518.690814115,-36037136.574967913,-32233574.753996346,-28831462.212876875,-25788427.73960365,-23066572.217892356,-20631996.617077235,-756874471.52987885,-76451.96682119988]
[{"$f":"IF(ISBLANK(InfoPro!A35),\"\",InfoPro!A35)","v":"SC_1058_A2"},{"$f":"IF(ISBLANK(InfoPro!B35),\"\",InfoPro!B35)","v":"Río Sinú Solar II 9,9 MW"},{"$f":"IF(ISBLANK(InfoPro!E35),\"\",InfoPro!E35)","v":9.9},{"$f":"IF(ISBLANK(InfoPro!F35),\"\",InfoPro!F35)","v":"Solar FV"},{"$f":"IF(ISBLANK(InfoPro!I35),\"\",YEAR(InfoPro!I35)-$F$3)","v":2},{"$f":"IF(ISBLANK(InfoPro!P35),\"\",InfoPro!P35)","v":-0.69},-106021910.13213603,-94831762.193323836,-84822685.324976608,-75870022.652036324,-67862274.286257893,-60699708.663915835,-54293120.450729728,-48562719.544480972,-43437137.338533968,-38852537.869887277,-34751822.781652309,-31083920.198257878,-27803148.656760182,-24868648.172415193,-22243871.352786392,-816005289.61815047,-82424.776729106103]
[{"$f":"IF(ISBLANK(InfoPro!A36),\"\",InfoPro!A36)","v":"SC_855_A1"},{"$f":"IF(ISBLANK(InfoPro!B36),\"\",InfoPro!B36)","v":"El Lirio"},{"$f":"IF(ISBLANK(InfoPro!E36),\"\",InfoPro!E36)","v":19.899999999999999},{"$f":"IF(ISBLANK(InfoPro!F36),\"\",InfoPro!F36)","v":"Solar FV"},{"$f":"IF(ISBLANK(InfoPro!I36),\"\",YEAR(InfoPro!I36)-$F$3)","v":2},{"$f":"IF(ISBLANK(InfoPro!P36),\"\",InfoPro!P36)","v":-0.82684000000000002},-127048052.42558749,-113638687.32163464,-101644621.93348359,-90916477.579144523,-81320641.841810852,-72737604.509669811,-65060469.149973005,-58193621.779940076,-52051540.053613663,-46557728.133822612,-41643763.983741157,-37248447.212648623,-33317036.862834189,-29800569.644753303,-26655250.129475221,-977834512.56213284,-49137.412691564467]
[{"$f":"IF(ISBLANK(InfoPro!A37),\"\",InfoPro!A37)","v":"SC_855_A2"},{"$f":"IF(ISBLANK(InfoPro!B37),\"\",InfoPro!B37)","v":"El Lirio"},{"$f":"IF(ISBLANK(InfoPro!E37),\"\",InfoPro!E37)","v":19.899999999999999},{"$f":"IF(ISBLANK(InfoPro!F37),\"\",InfoPro!F37)","v":"Solar FV"},{"$f":"IF(ISBLANK(InfoPro!I37),\"\",YEAR(InfoPro!I37)-$F$3)","v":2},{"$f":"IF(ISBLANK(InfoPro!P37),\"\",InfoPro!P37)","v":-0.83831},-128810474.61285646,-115215093.57142799,-103054645.4127263,-92177679.260041416,-82448729.212917194,-73746627.202967077,-65962993.920364119,-59000889.016425878,-52773603.771400601,-47203581.190877117,-42221450.081285432,-37765161.074495025,-33779213.841229901,-30213965.868720841,-27025014.193846904,-991399122.2315824,-49819.051368421227]
[{"$f":"IF(ISBLANK(InfoPro!A38),\"\",InfoPro!A38)","v":"SC_630_A1"},{"$f":"IF(ISBLANK(InfoPro!B38),\"\",InfoPro!B38)","v":"TR Solar 14"},{"$f":"IF(ISBLANK(InfoPro!E38),\"\",InfoPro!E38)","v":99.9},{"$f":"IF(ISBLANK(InfoPro!F38),\"\",InfoPro!F38)","v":"Solar FV"},{"$f":"IF(ISBLANK(InfoPro!I38),\"\",YEAR(InfoPro!I38)-$F$3)","v":3},{"$f":"IF(ISBLANK(InfoPro!P38),\"\",InfoPro!P38)","v":-78.22},-10750348461.97361,-9615696298.7241611,-8600801698.3221474,-7693024774.8856421,-6881059727.0891256,-6154794031.385623,-5505182496.7671051,-4924134612.492938,-4404413785.7718601,-3939547214.4649911,-3523745272.3300457,-3151829402.799684,-2819167623.2555313,-2521616836.5434084,-2255471231.2552848,-82740833468.061142,-828236.57125186326]
[{"$f":"IF(ISBLANK(InfoPro!A39),\"\",InfoPro!A39)","v":"SC_1269_A1"},{"$f":"IF(ISBLANK(InfoPro!B39),\"\",InfoPro!B39)","v":"Centro Solar II 4 MW"},{"$f":"IF(ISBLANK(InfoPro!E39),\"\",InfoPro!E39)","v":4},{"$f":"IF(ISBLANK(InfoPro!F39),\"\",InfoPro!F39)","v":"Solar FV"},{"$f":"IF(ISBLANK(InfoPro!I39),\"\",YEAR(InfoPro!I39)-$F$3)","v":0},{"$f":"IF(ISBLANK(InfoPro!P39),\"\",InfoPro!P39)","v":-3.8319999999999999},-735962424,-658284815.74239719,-588805738.58890629,-526659873.51422745,-471073232.12363821,-421353517.10522205,-376881500.09411633,-337103309.56539929,-301523532.70608163,-269699045.35427696,-241233493.16124952,-215772355.24262038,-192998528.83955312,-172628379.99960029,-154408211.09087685,-5664387957.1281643,-1416096.9892820411]
[{"$f":"IF(ISBLANK(InfoPro!A40),\"\",InfoPro!A40)","v":"SC_1268_A1"},{"$f":"IF(ISBLANK(InfoPro!B40),\"\",InfoPro!B40)","v":"Sol de Ayapel II de 7 MW"},{"$f":"IF(ISBLANK(InfoPro!E40),\"\",InfoPro!E40)","v":7},{"$f":"IF(ISBLANK(InfoPro!F40),\"\",InfoPro!F40)","v":"Solar FV"},{"$f":"IF(ISBLANK(InfoPro!I40),\"\",YEAR(InfoPro!I40)-$F$3)","v":1},{"$f":"IF(ISBLANK(InfoPro!P40),\"\",InfoPro!P40)","v":-6.835},-1174158850.6261182,-1050231530.0770289,-939384195.05995429,-840236310.42929745,-751553050.4734323,-672229919.92256927,-601278998.14183295,-537816635.18947494,-481052446.50221378,-430279469.14330387,-384865357.01547766,-344244505.38057035,-307911006.60158354,-275412349.37529838,-246343782.98327222,-9036998406.9214287,-1290999.7724173469]
[{"$f":"IF(ISBLANK(InfoPro!A41),\"\",InfoPro!A41)","v":"SC_1268_A2"},{"$f":"IF(ISBLANK(InfoPro!B41),\"\",InfoPro!B41)","v":"Sol de Ayapel II de 7 MW"},{"$f":"IF(ISBLANK(InfoPro!E41),\"\",InfoPro!E41)","v":7},{"$f":"IF(ISBLANK(InfoPro!F41),\"\",InfoPro!F41)","v":"Solar FV"},{"$f":"IF(ISBLANK(InfoPro!I41),\"\",YEAR(InfoPro!I41)-$F$3)","v":1},{"$f":"IF(ISBLANK(InfoPro!P41),\"\",InfoPro!P41)","v":-6.8330000000000002},-1173815278.1753132,-1049924220.1925879,-939109320.38693023,-839990447.57328296,-751333137.36429608,-672033217.67826128,-601103056.95729995,-537659263.82584965,-480911684.99628782,-430153564.39739513,-384752740.96368086,-344143775.45946413,-307820908.28216833,-275331760.53861207,-246271699.94509137,-9034354076.7365227,-1290622.0109623603]
[{"$f":"IF(ISBLANK(InfoPro!A42),\"\",InfoPro!A42)","v":"SC_1118_A1"},{"$f":"IF(ISBLANK(InfoPro!B42),\"\",InfoPro!B42)","v":"Boston 9,9 MW"},{"$f":"IF(ISBLANK(InfoPro!E42),\"\",InfoPro!E42)","v":9.9},{"$f":"IF(ISBLANK(InfoPro!F42),\"\",InfoPro!F42)","v":"Solar FV"},{"$f":"IF(ISBLANK(InfoPro!I42),\"\",YEAR(InfoPro!I42)-$F$3)","v":2},{"$f":"IF(ISBLANK(InfoPro!P42),\"\",InfoPro!P42)","v":-9.9909999999999999E-2},{"$f":"IF($F48=\"\",\"\",(1/(1+$C$3)^(G$6+$E48))*$F48*$C$2)","v":-15351665.277248858},-13731364.290920269,-12282078.972200599,-10985759.366905725,-9826260.614405835,-8789141.8733504806,-7861486.4699020404,-7031741.02853492,-6289571.5818738099,-5625734.8675078815,-5031963.2088621482,-4500861.5463883262,-4025815.3366621882,-3600908.1723275394,-3220848.0968940416,-118155200.70398463,-11934.868757978245]
[{"$f":"IF(ISBLANK(InfoPro!A43),\"\",InfoPro!A43)","v":"SC_1118_A2"},{"$f":"IF(ISBLANK(InfoPro!B43),\"\",InfoPro!B43)","v":"Boston 9,9 MW"},{"$f":"IF(ISBLANK(InfoPro!E43),\"\",InfoPro!E43)","v":9.9},{"$f":"IF(ISBLANK(InfoPro!F43),\"\",InfoPro!F43)","v":"Solar FV"},{"$f":"IF(ISBLANK(InfoPro!I43),\"\",YEAR(InfoPro!I43)-$F$3)","v":2},{"$f":"IF(ISBLANK(InfoPro!P43),\"\",InfoPro!P43)","v":-0.10303},-15831068.696976777,-14160168.780837907,-12665625.027583102,-11328823.81715841,-10133116.115526306,-9063610.1212221012,-8106985.797157513,-7251328.97777953,-6485982.9854915282,-5801415.9083108502,-5189101.88578788,-4641414.9246761007,-4151533.9218927561,-3713357.7118897643,-3321429.0804022928,-121844963.7526928,-12307.572096231597]
[{"$f":"IF(ISBLANK(InfoPro!A44),\"\",InfoPro!A44)","v":"SC_632_A1"},{"$f":"IF(ISBLANK(InfoPro!B44),\"\",InfoPro!B44)","v":"TR Solar 5"},{"$f":"IF(ISBLANK(InfoPro!E44),\"\",InfoPro!E44)","v":19.899999999999999},{"$f":"IF(ISBLANK(InfoPro!F44),\"\",InfoPro!F44)","v":"Solar FV"},{"$f":"IF(ISBLANK(InfoPro!I44),\"\",YEAR(InfoPro!I44)-$F$3)","v":3},{"$f":"IF(ISBLANK(InfoPro!P44),\"\",InfoPro!P44)","v":-4.6908124649999996},-644692771.26718736,-576648274.83648241,-515785576.77681792,-461346669.7467066,-412653550.75734037,-369099777.06381077,-330142913.29500067,-295297775.75581455,-264130389.76369828,-236252584.76180524,-211317159.89428023,-189013559.83388212,-169064007.00705022,-151220042.04566208,-135259429.37894642,-4961924482.1844845,-249342.93880324042]
[{"$f":"IF(ISBLANK(InfoPro!A45),\"\",InfoPro!A45)","v":"SC_632_A2"},{"$f":"IF(ISBLANK(InfoPro!B45),\"\",InfoPro!B45)","v":"TR Solar 5"},{"$f":"IF(ISBLANK(InfoPro!E45),\"\",InfoPro!E45)","v":19.899999999999999},{"$f":"IF(ISBLANK(InfoPro!F45),\"\",InfoPro!F45)","v":"Solar FV"},{"$f":"IF(ISBLANK(InfoPro!I45),\"\",YEAR(InfoPro!I45)-$F$3)","v":3},{"$f":"IF(ISBLANK(InfoPro!P45),\"\",InfoPro!P45)","v":-4.273762735},-587374567.18291211,-525379755.97756004,-469928225.38243294,-420329360.80718511,-375965439.0046379,-336283934.70897847,-300790639.27457827,-269043505.612324,-240647142.76594281,-215247891.56166619,-192529420.00149035,-172208783.54337242,-154032901.20158538,-137775403.57923555,-123233813.57713379,-4520770784.181035,-227174.41126537864]
[{"$f":"IF(ISBLANK(InfoPro!A46),\"\",InfoPro!A46)","v":"SC_1415_A1"},{"$f":"IF(ISBLANK(InfoPro!B46),\"\",InfoPro!B46)","v":"Efigen C03 99 MW"},{"$f":"IF(ISBLANK(InfoPro!E46),\"\",InfoPro!E46)","v":99},{"$f":"IF(ISBLANK(InfoPro!F46),\"\",InfoPro!F46)","v":"Solar FV"},{"$f":"IF(ISBLANK(InfoPro!I46),\"\",YEAR(InfoPro!I46)-$F$3)","v":2},{"$f":"IF(ISBLANK(InfoPro!P46),\"\",InfoPro!P46)","v":-0.03},-4609648.2666146103,-4123120.0953619061,-3687942.840216375,-3298696.637045058,-2950533.6646199087,-2639117.7679963405,-2360570.4543795534,-2111422.5888904775,-1888571.1886319118,-1689240.7769516208,-1510948.8165935786,-1351474.7912286036,-1208832.550293921,-1081245.5727137041,-967124.84142549546,-35478490.852963068,-358.36859447437445]
[{"$f":"IF(ISBLANK(InfoPro!A47),\"\",InfoPro!A47)","v":"SC_1415_A2"},{"$f":"IF(ISBLANK(InfoPro!B47),\"\",InfoPro!B47)","v":"Efigen C03 99 MW"},{"$f":"IF(ISBLANK(InfoPro!E47),\"\",InfoPro!E47)","v":99},{"$f":"IF(ISBLANK(InfoPro!F47),\"\",InfoPro!F47)","v":"Solar FV"},{"$f":"IF(ISBLANK(InfoPro!I47),\"\",YEAR(InfoPro!I47)-$F$3)","v":2},{"$f":"IF(ISBLANK(InfoPro!P47),\"\",InfoPro!P47)","v":-0.03},-4609648.2666146103,-4123120.0953619061,-3687942.840216375,-3298696.637045058,-2950533.6646199087,-2639117.7679963405,-2360570.4543795534,-2111422.5888904775,-1888571.1886319118,-1689240.7769516208,-1510948.8165935786,-1351474.7912286036,-1208832.550293921,-1081245.5727137041,-967124.84142549546,-35478490.852963068,-358.36859447437445]
[{"$f":"IF(ISBLANK(InfoPro!A48),\"\",InfoPro!A48)","v":"SC_1420_A1"},{"$f":"IF(ISBLANK(InfoPro!B48),\"\",InfoPro!B48)","v":"Efigen C04 99 MW"},{"$f":"IF(ISBLANK(InfoPro!E48),\"\",InfoPro!E48)","v":99},{"$f":"IF(ISBLANK(InfoPro!F48),\"\",InfoPro!F48)","v":"Solar FV"},{"$f":"IF(ISBLANK(InfoPro!I48),\"\",YEAR(InfoPro!I48)-$F$3)","v":2},{"$f":"IF(ISBLANK(InfoPro!P48),\"\",InfoPro!P48)","v":-0.03},-4609648.2666146103,-4123120.0953619061,-3687942.840216375,-3298696.637045058,-2950533.6646199087,-2639117.7679963405,-2360570.4543795534,-2111422.5888904775,-1888571.1886319118,-1689240.7769516208,-1510948.8165935786,-1351474.7912286036,-1208832.550293921,-1081245.5727137041,-967124.84142549546,-35478490.852963068,-358.36859447437445]
[{"$f":"IF(ISBLANK(InfoPro!A49),\"\",InfoPro!A49)","v":"SC_1420_A2"},{"$f":"IF(ISBLANK(InfoPro!B49),\"\",InfoPro!B49)","v":"Efigen C04 99 MW"},{"$f":"IF(ISBLANK(InfoPro!E49),\"\",InfoPro!E49)","v":99},{"$f":"IF(ISBLANK(InfoPro!F49),\"\",InfoPro!F49)","v":"Solar FV"},{"$f":"IF(ISBLANK(InfoPro!I49),\"\",YEAR(InfoPro!I49)-$F$3)","v":2},{"$f":"IF(ISBLANK(InfoPro!P49),\"\",InfoPro!P49)","v":-0.03},-4609648.2666146103,-4123120.0953619061,-3687942.840216375,-3298696.637045058,-2950533.6646199087,-2639117.7679963405,-2360570.4543795534,-2111422.5888904775,-1888571.1886319118,-1689240.7769516208,-1510948.8165935786,-1351474.7912286036,-1208832.550293921,-1081245.5727137041,-967124.84142549546,-35478490.852963068,-358.36859447437445]
[{"$f":"IF(ISBLANK(InfoPro!A50),\"\",InfoPro!A50)","v":"SC_1435_A1"},{"$f":"IF(ISBLANK(InfoPro!B50),\"\",InfoPro!B50)","v":"Parque Solar Las Brisas"},{"$f":"IF(ISBLANK(InfoPro!E50),\"\",InfoPro!E50)","v":9.9},{"$f":"IF(ISBLANK(InfoPro!F50),\"\",InfoPro!F50)","v":"Solar FV"},{"$f":"IF(ISBLANK(InfoPro!I50),\"\",YEAR(InfoPro!I50)-$F$3)","v":1},{"$f":"IF(ISBLANK(InfoPro!P50),\"\",InfoPro!P50)","v":-0.93700000000000006},-160963693.20214671,-143974680.86059636,-128778784.31180356,-115186748.04275811,-103029291.63037398,-92155001.458295166,-82428444.953752384,-73728483.858454734,-65946765.526345924,-58986373.458270051,-52760620.266788967,-47191968.038272776,-42211062.64604006,-37755869.987513468,-33770903.387758031,-1238868691.6291704,-125138.25167971419]
[{"$f":"IF(ISBLANK(InfoPro!A51),\"\",InfoPro!A51)","v":"SC_978_A1"},{"$f":"IF(ISBLANK(InfoPro!B51),\"\",InfoPro!B51)","v":"Borugo Solar"},{"$f":"IF(ISBLANK(InfoPro!E51),\"\",InfoPro!E51)","v":99.9},{"$f":"IF(ISBLANK(InfoPro!F51),\"\",InfoPro!F51)","v":"Solar FV"},{"$f":"IF(ISBLANK(InfoPro!I51),\"\",YEAR(InfoPro!I51)-$F$3)","v":3},{"$f":"IF(ISBLANK(InfoPro!P51),\"\",InfoPro!P51)","v":-1.2619999999999999E-2},-1734459.1867822418,-1551394.6214510216,-1387651.7186502875,-1241191.1615834415,-1110188.8744037941,-993013.30447566544,-888205.10239326092,-794458.94668449077,-710607.2868376486,-635605.80218036543,-568520.39551016595,-508515.55949030945,-454843.97092156485,-406837.18329299171,-363897.30169319478,-13349390.416350447,-133.62753169519968]
[{"$f":"IF(ISBLANK(InfoPro!A52),\"\",InfoPro!A52)","v":"SC_1520_A1"},{"$f":"IF(ISBLANK(InfoPro!B52),\"\",InfoPro!B52)","v":"Autogenerador Solar Argos Tolcemento - 19.9 MW"},{"$f":"IF(ISBLANK(InfoPro!E52),\"\",InfoPro!E52)","v":19.899999999999999},{"$f":"IF(ISBLANK(InfoPro!F52),\"\",InfoPro!F52)","v":"Solar FV"},{"$f":"IF(ISBLANK(InfoPro!I52),\"\",YEAR(InfoPro!I52)-$F$3)","v":1},{"$f":"IF(ISBLANK(InfoPro!P52),\"\",InfoPro!P52)","v":-1.8237000000000001},{"$f":"IF($F58=\"\",\"\",(1/(1+$C$3)^(G$6+$E58))*$F58*$C$2)","v":-313286539.26654744},-280220518.1275022,-250644470.59705031,-224190045.25675341,-200527768.56596908,-179362941.47224426,-160431969.11649758,-143499077.92173308,-128353379.17865214,-114806242.55693391,-102688946.83088905,-91850578.560723647,-82156152.558786809,-73484930.732367471,-65728918.36526607,-2411232479.1079164,-121167.46126170435]
[{"$f":"IF(ISBLANK(InfoPro!A53),\"\",InfoPro!A53)","v":"SC_1520_A2"},{"$f":"IF(ISBLANK(InfoPro!B53),\"\",InfoPro!B53)","v":"Autogenerador Solar Argos Tolcemento - 19.9 MW"},{"$f":"IF(ISBLANK(InfoPro!E53),\"\",InfoPro!E53)","v":19.899999999999999},{"$f":"IF(ISBLANK(InfoPro!F53),\"\",InfoPro!F53)","v":"Solar FV"},{"$f":"IF(ISBLANK(InfoPro!I53),\"\",YEAR(InfoPro!I53)-$F$3)","v":1},{"$f":"IF(ISBLANK(InfoPro!P53),\"\",InfoPro!P53)","v":-1.8237000000000001},-313286539.26654744,-280220518.1275022,-250644470.59705031,-224190045.25675341,-200527768.56596908,-179362941.47224426,-160431969.11649758,-143499077.92173308,-128353379.17865214,-114806242.55693391,-102688946.83088905,-91850578.560723647,-82156152.558786809,-73484930.732367471,-65728918.36526607,-2411232479.1079164,-121167.46126170435]
[{"$f":"IF(ISBLANK(InfoPro!A54),\"\",InfoPro!A54)","v":"SC_1527_A1"},{"$f":"IF(ISBLANK(InfoPro!B54),\"\",InfoPro!B54)","v":"Nueva Montería Solar III _9,9 MW"},{"$f":"IF(ISBLANK(InfoPro!E54),\"\",InfoPro!E54)","v":9.9},{"$f":"IF(ISBLANK(InfoPro!F54),\"\",InfoPro!F54)","v":"Solar FV"},{"$f":"IF(ISBLANK(InfoPro!I54),\"\",YEAR(InfoPro!I54)-$F$3)","v":2},{"$f":"IF(ISBLANK(InfoPro!P54),\"\",InfoPro!P54)","v":-0.187},-28733474.195231073,-25700781.927755885,-22988177.037348732,-20561875.704247527,-18391659.842797432,-16450500.753843859,-14714222.498965884,-13161200.804083977,-11772093.74247225,-10529600.842998438,-9418247.6234333087,-8424192.8653249629,-7535056.2301654415,-6739764.0699154222,-6028411.5115522547,-221149259.65013647,-22338.309055569342]
[{"$f":"IF(ISBLANK(InfoPro!A55),\"\",InfoPro!A55)","v":"SC_1527_A2"},{"$f":"IF(ISBLANK(InfoPro!B55),\"\",InfoPro!B55)","v":"Nueva Montería Solar III _9,9 MW"},{"$f":"IF(ISBLANK(InfoPro!E55),\"\",InfoPro!E55)","v":9.9},{"$f":"IF(ISBLANK(InfoPro!F55),\"\",InfoPro!F55)","v":"Solar FV"},{"$f":"IF(ISBLANK(InfoPro!I55),\"\",YEAR(InfoPro!I55)-$F$3)","v":2},{"$f":"IF(ISBLANK(InfoPro!P55),\"\",InfoPro!P55)","v":-0.189},-29040784.07967205,-25975656.600780014,-23234039.893363159,-20781788.813383866,-18588362.087105423,-16626441.938376948,-14871593.862591188,-13301962.310010009,-11897998.488381043,-10642216.894795213,-9518977.5445395466,-8514291.1847402025,-7615645.0668517025,-6811847.108096336,-6092886.5009806212,-223514492.37366733,-22577.221451885587]
[{"$f":"IF(ISBLANK(InfoPro!A56),\"\",InfoPro!A56)","v":"SC_1395_A1"},{"$f":"IF(ISBLANK(InfoPro!B56),\"\",InfoPro!B56)","v":"San Marcos I 19.9"},{"$f":"IF(ISBLANK(InfoPro!E56),\"\",InfoPro!E56)","v":19.899999999999999},{"$f":"IF(ISBLANK(InfoPro!F56),\"\",InfoPro!F56)","v":"Solar FV"},{"$f":"IF(ISBLANK(InfoPro!I56),\"\",YEAR(InfoPro!I56)-$F$3)","v":3},{"$f":"IF(ISBLANK(InfoPro!P56),\"\",InfoPro!P56)","v":0.30099999999999999},41368638.290131129,37002359.830170959,33096922.925018746,29603687.768353086,26479148.272229955,23684390.225608189,21184606.64186779,18948664.259273514,16948715.795414597,15159853.126488905,13559797.071993655,12128619.92128234,10848497.246227497,9703485.9089691378,8679325.4999723956,318396712.78300196,15999.834813216179]
[{"$f":"IF(ISBLANK(InfoPro!A57),\"\",InfoPro!A57)","v":"SC_1396_A1"},{"$f":"IF(ISBLANK(InfoPro!B57),\"\",InfoPro!B57)","v":"San Marcos II 19.9"},{"$f":"IF(ISBLANK(InfoPro!E57),\"\",InfoPro!E57)","v":19.899999999999999},{"$f":"IF(ISBLANK(InfoPro!F57),\"\",InfoPro!F57)","v":"Solar FV"},{"$f":"IF(ISBLANK(InfoPro!I57),\"\",YEAR(InfoPro!I57)-$F$3)","v":3},{"$f":"IF(ISBLANK(InfoPro!P57),\"\",InfoPro!P57)","v":0.30099999999999999},41368638.290131129,37002359.830170959,33096922.925018746,29603687.768353086,26479148.272229955,23684390.225608189,21184606.64186779,18948664.259273514,16948715.795414597,15159853.126488905,13559797.071993655,12128619.92128234,10848497.246227497,9703485.9089691378,8679325.4999723956,318396712.78300196,15999.834813216179]
[{"$f":"IF(ISBLANK(InfoPro!A58),\"\",InfoPro!A58)","v":"SC_1359_A1"},{"$f":"IF(ISBLANK(InfoPro!B58),\"\",InfoPro!B58)","v":"El Corozo_250MW"},{"$f":"IF(ISBLANK(InfoPro!E58),\"\",InfoPro!E58)","v":250},{"$f":"IF(ISBLANK(InfoPro!F58),\"\",InfoPro!F58)","v":"Solar FV"},{"$f":"IF(ISBLANK(InfoPro!I58),\"\",YEAR(InfoPro!I58)-$F$3)","v":4},{"$f":"IF(ISBLANK(InfoPro!P58),\"\",InfoPro!P58)","v":-0.1},-12293142.80072125,-10995655.456816861,-9835112.2153996956,-8797059.22665447,-7868568.1812651791,-7038075.2963015912,-6295237.2954397062,-5630802.5898387367,-5036496.0553119294,-4504915.9707620125,-4029441.8343130704,-3604151.9090456804,-3223749.4714183183,-2883496.8438446498,-2579156.389843157,-94615061.536976308,-378.46024614790525]
[{"$f":"IF(ISBLANK(InfoPro!A59),\"\",InfoPro!A59)","v":"SC_1359_A2"},{"$f":"IF(ISBLANK(InfoPro!B59),\"\",InfoPro!B59)","v":"El Corozo_250MW"},{"$f":"IF(ISBLANK(InfoPro!E59),\"\",InfoPro!E59)","v":250},{"$f":"IF(ISBLANK(InfoPro!F59),\"\",InfoPro!F59)","v":"Solar FV"},{"$f":"IF(ISBLANK(InfoPro!I59),\"\",YEAR(InfoPro!I59)-$F$3)","v":4},{"$f":"IF(ISBLANK(InfoPro!P59),\"\",InfoPro!P59)","v":-0.09},-11063828.520649124,-9896089.9111351743,-8851600.9938597269,-7917353.303989023,-7081711.3631386608,-6334267.7666714331,-5665713.5658957353,-5067722.3308548629,-4532846.4497807361,-4054424.3736858107,-3626497.6508817631,-3243736.718141112,-2901374.5242764861,-2595147.1594601846,-2321240.7508588415,-85153555.383278668,-340.61422153311469]
[{"$f":"IF(ISBLANK(InfoPro!A60),\"\",InfoPro!A60)","v":"SC_1598_A1"},{"$f":"IF(ISBLANK(InfoPro!B60),\"\",InfoPro!B60)","v":"PARQUE SOLAR FOTOVOLTAICO MATIMBA de 150MW"},{"$f":"IF(ISBLANK(InfoPro!E60),\"\",InfoPro!E60)","v":150},{"$f":"IF(ISBLANK(InfoPro!F60),\"\",InfoPro!F60)","v":"Solar FV"},{"$f":"IF(ISBLANK(InfoPro!I60),\"\",YEAR(InfoPro!I60)-$F$3)","v":3},{"$f":"IF(ISBLANK(InfoPro!P60),\"\",InfoPro!P60)","v":-38.28},-5261101241.6817932,-4705815064.1160936,-4209136908.869494,-3764880956.0550036,-3367514271.9633307,-3012087899.7883105,-2694175223.4242492,-2409816836.6943192,-2155471231.3902688,-1927970689.9734066,-1724481833.6076982,-1542470334.1750433,-1379669350.7826865,-1234051297.6589322,-1103802591.8237319,-40492445732.004356,-269949.63821336237]
[{"$f":"IF(ISBLANK(InfoPro!A61),\"\",InfoPro!A61)","v":"SC_1598_A2"},{"$f":"IF(ISBLANK(InfoPro!B61),\"\",InfoPro!B61)","v":"PARQUE SOLAR FOTOVOLTAICO MATIMBA de 150MW"},{"$f":"IF(ISBLANK(InfoPro!E61),\"\",InfoPro!E61)","v":150},{"$f":"IF(ISBLANK(InfoPro!F61),\"\",InfoPro!F61)","v":"Solar FV"},{"$f":"IF(ISBLANK(InfoPro!I61),\"\",YEAR(InfoPro!I61)-$F$3)","v":3},{"$f":"IF(ISBLANK(InfoPro!P61),\"\",InfoPro!P61)","v":-37.22},-5115417664.9790058,-4575507750.4284487,-4092582961.027235,-3660628766.5717669,-3274265444.1607933,-2928681077.0668993,-2619571625.2834525,-2343087321.3626585,-2095784723.9379776,-1874583831.7871001,-1676729724.3176208,-1499758250.7313247,-1341465340.5468023,-1199879553.261898,-1073237525.2789787,-39371181560.741959,-262474.54373827972]
[{"$f":"IF(ISBLANK(InfoPro!A62),\"\",InfoPro!A62)","v":"SC_981_A1"},{"$f":"IF(ISBLANK(InfoPro!B62),\"\",InfoPro!B62)","v":"Yaguarundi Solar"},{"$f":"IF(ISBLANK(InfoPro!E62),\"\",InfoPro!E62)","v":40},{"$f":"IF(ISBLANK(InfoPro!F62),\"\",InfoPro!F62)","v":"Solar FV"},{"$f":"IF(ISBLANK(InfoPro!I62),\"\",YEAR(InfoPro!I62)-$F$3)","v":3},{"$f":"IF(ISBLANK(InfoPro!P62),\"\",InfoPro!P62)","v":-6.7523999999999997},{"$f":"IF($F68=\"\",\"\",(1/(1+$C$3)^(G$6+$E68))*$F68*$C$2)","v":-928031871.06405783},-830082174.4759016,-742470639.06610155,-664106117.23264909,-594012627.22061646,-531317197.87174988,-475238996.30746865,-425079603.13727069,-380214314.07627082,-340084359.6388827,-304189946.00973409,-272084030.42015576,-243366753.5064005,-217680459.30805048,-194705240.88376614,-7142664330.2190752,-178566.60825547689]
[{"$f":"IF(ISBLANK(InfoPro!A63),\"\",InfoPro!A63)","v":"SC_981_A2"},{"$f":"IF(ISBLANK(InfoPro!B63),\"\",InfoPro!B63)","v":"Yaguarundi Solar"},{"$f":"IF(ISBLANK(InfoPro!E63),\"\",InfoPro!E63)","v":40},{"$f":"IF(ISBLANK(InfoPro!F63),\"\",InfoPro!F63)","v":"Solar FV"},{"$f":"IF(ISBLANK(InfoPro!I63),\"\",YEAR(InfoPro!I63)-$F$3)","v":3},{"$f":"IF(ISBLANK(InfoPro!P63),\"\",InfoPro!P63)","v":-7.3872999999999998},-1015290836.0155672,-908131338.11768079,-812282055.56143177,-726549244.68822169,-649865156.25064564,-581274737.25460255,-519923736.36368746,-465048064.72601736,-415964279.71915692,-372061073.0940581,-332791657.50810212,-297666956.62620944,-266249513.97693151,-238148044.70208541,-213012562.34533581,-7814259256.9497337,-195356.48142374333]
[{"$f":"IF(ISBLANK(InfoPro!A64),\"\",InfoPro!A64)","v":"SC_1634_A1"},{"$f":"IF(ISBLANK(InfoPro!B64),\"\",InfoPro!B64)","v":"El Tapir Solar 99.9 MW"},{"$f":"IF(ISBLANK(InfoPro!E64),\"\",InfoPro!E64)","v":99.9},{"$f":"IF(ISBLANK(InfoPro!F64),\"\",InfoPro!F64)","v":"Solar FV"},{"$f":"IF(ISBLANK(InfoPro!I64),\"\",YEAR(InfoPro!I64)-$F$3)","v":3},{"$f":"IF(ISBLANK(InfoPro!P64),\"\",InfoPro!P64)","v":-13.289},-1826404764.9088125,-1633635746.7878468,-1461212653.6563923,-1306988062.3044655,-1169041200.6301124,-1045654025.6083297,-935289826.12551844,-836574084.19098246,-748277356.16366971,-669299960.79040229,-598658283.35456371,-535472525.36186391,-478955747.19308048,-428404067.25678033,-383187895.57851547,-14057056199.911337,-140711.27327238576]
[{"$f":"IF(ISBLANK(InfoPro!A65),\"\",InfoPro!A65)","v":"SC_782_A1"},{"$f":"IF(ISBLANK(InfoPro!B65),\"\",InfoPro!B65)","v":"Parque Solar El Corozo 60 MW"},{"$f":"IF(ISBLANK(InfoPro!E65),\"\",InfoPro!E65)","v":60},{"$f":"IF(ISBLANK(InfoPro!F65),\"\",InfoPro!F65)","v":"Solar FV"},{"$f":"IF(ISBLANK(InfoPro!I65),\"\",YEAR(InfoPro!I65)-$F$3)","v":3},{"$f":"IF(ISBLANK(InfoPro!P65),\"\",InfoPro!P65)","v":-7.5504999999999995E-4},-103772.06093343357,-92819.374716845778,-83022.696526695698,-74260.014782375409,-66422.195690854569,-59411.624052642728,-53140.987524725162,-47532.189199217493,-42515.374954577375,-38028.063465632717,-34014.368037238572,-30424.300569980835,-27213.148989249406,-24340.920383944009,-21771.842919449027,-798689.16274686239,-13.31148604578104]
[{"$f":"IF(ISBLANK(InfoPro!A66),\"\",InfoPro!A66)","v":"SC_782_A2"},{"$f":"IF(ISBLANK(InfoPro!B66),\"\",InfoPro!B66)","v":"Parque Solar El Corozo 60 MW"},{"$f":"IF(ISBLANK(InfoPro!E66),\"\",InfoPro!E66)","v":60},{"$f":"IF(ISBLANK(InfoPro!F66),\"\",InfoPro!F66)","v":"Solar FV"},{"$f":"IF(ISBLANK(InfoPro!I66),\"\",YEAR(InfoPro!I66)-$F$3)","v":3},{"$f":"IF(ISBLANK(InfoPro!P66),\"\",InfoPro!P66)","v":-8.6105000000000003E-4},-118340.41860371231,-105850.10608561031,-94678.091310921562,-84685.233730699081,-75747.078471108311,-67752.306324783829,-60601.347338804859,-54205.140732383588,-48484.025699806443,-43366.749284263366,-38789.578966246307,-34695.508914352693,-31033.55001283783,-27758.094823647429,-24828.349573924359,-910815.57987310225,-15.180259664551704]
[{"$f":"IF(ISBLANK(InfoPro!A67),\"\",InfoPro!A67)","v":"SC_1762_A1"},{"$f":"IF(ISBLANK(InfoPro!B67),\"\",InfoPro!B67)","v":"SPK CERETÉ SOLAR_19.9MW"},{"$f":"IF(ISBLANK(InfoPro!E67),\"\",InfoPro!E67)","v":19.899999999999999},{"$f":"IF(ISBLANK(InfoPro!F67),\"\",InfoPro!F67)","v":"Solar FV"},{"$f":"IF(ISBLANK(InfoPro!I67),\"\",YEAR(InfoPro!I67)-$F$3)","v":3},{"$f":"IF(ISBLANK(InfoPro!P67),\"\",InfoPro!P67)","v":-0.82684000000000002},-113638687.32163464,-101644621.93348359,-90916477.579144523,-81320641.841810852,-72737604.509669811,-65060469.149973005,-58193621.779940076,-52051540.053613663,-46557728.133822612,-41643763.983741157,-37248447.212648623,-33317036.862834189,-29800569.644753303,-26655250.129475221,-23841905.3036451,{"$f":"IF(U73=\"\",\"\",SUM(G73:U73))","v":-874628365.44019043},{"$f":"IF(C73=0,0,IF(V73=\"\",\"\",V73/(C73*1000)))","v":-43951.174142723139}]
[{"$f":"IF(ISBLANK(InfoPro!A68),\"\",InfoPro!A68)","v":"SC_1762_A2"},{"$f":"IF(ISBLANK(InfoPro!B68),\"\",InfoPro!B68)","v":"SPK CERETÉ SOLAR_19.9MW"},{"$f":"IF(ISBLANK(InfoPro!E68),\"\",InfoPro!E68)","v":19.899999999999999},{"$f":"IF(ISBLANK(InfoPro!F68),\"\",InfoPro!F68)","v":"Solar FV"},{"$f":"IF(ISBLANK(InfoPro!I68),\"\",YEAR(InfoPro!I68)-$F$3)","v":3},{"$f":"IF(ISBLANK(InfoPro!P68),\"\",InfoPro!P68)","v":-0.83831},-115215093.57142799,-103054645.4127263,-92177679.260041416,-82448729.212917194,-73746627.202967077,-65962993.920364119,-59000889.016425878,-52773603.771400601,-47203581.190877117,-42221450.081285432,-37765161.074495025,-33779213.841229901,-30213965.868720841,-27025014.193846904,-24172642.391634088,-886761290.01036,-44560.868844741708]
[{"$f":"IF(ISBLANK(InfoPro!A69),\"\",InfoPro!A69)","v":"SC_1782_A1"},{"$f":"IF(ISBLANK(InfoPro!B69),\"\",InfoPro!B69)","v":"Orquídea del Sucre - Toluviejo"},{"$f":"IF(ISBLANK(InfoPro!E69),\"\",InfoPro!E69)","v":112},{"$f":"IF(ISBLANK(InfoPro!F69),\"\",InfoPro!F69)","v":"Solar FV"},{"$f":"IF(ISBLANK(InfoPro!I69),\"\",YEAR(InfoPro!I69)-$F$3)","v":4},{"$f":"IF(ISBLANK(InfoPro!P69),\"\",InfoPro!P69)","v":-48.089199999999998},-5911674027.7244425,-5287722743.9395733,-4729626783.4879904,-4230435405.6243205,-3783931489.8249745,-3384554105.3890648,-3027329253.478591,-2707807919.0327296,-2422010661.031064,-2166378051.0116854,-1937726342.5864809,-1733207819.844795,-1550275330.8092978,-1386650564.2301414,-1240295674.6244555,-45499626172.63961,-406246.66225571081]
[{"$f":"IF(ISBLANK(InfoPro!A70),\"\",InfoPro!A70)","v":"SC_1782_A2"},{"$f":"IF(ISBLANK(InfoPro!B70),\"\",InfoPro!B70)","v":"Orquídea del Sucre - Toluviejo"},{"$f":"IF(ISBLANK(InfoPro!E70),\"\",InfoPro!E70)","v":112},{"$f":"IF(ISBLANK(InfoPro!F70),\"\",InfoPro!F70)","v":"Solar FV"},{"$f":"IF(ISBLANK(InfoPro!I70),\"\",YEAR(InfoPro!I70)-$F$3)","v":4},{"$f":"IF(ISBLANK(InfoPro!P70),\"\",InfoPro!P70)","v":-46.311630000000001},-5693154809.241662,-5092267271.2358341,-4554800779.2807102,-4074061519.9290791,-3644062182.4052591,-3259447390.3445969,-2915427003.8860435,-2607716461.4365335,-2332483418.100656,-2086300016.1902113,-1866100193.3722823,-1669141496.7551723,-1492970927.3302073,-1335394389.3830121,-1194449364.3855205,-43817777223.276779,-391230.15377925697]
[{"$f":"IF(ISBLANK(InfoPro!A71),\"\",InfoPro!A71)","v":"SC_1784_A1"},{"$f":"IF(ISBLANK(InfoPro!B71),\"\",InfoPro!B71)","v":"Pétalo del Sucre - Sierra Flor 9,9 MW"},{"$f":"IF(ISBLANK(InfoPro!E71),\"\",InfoPro!E71)","v":9.9},{"$f":"IF(ISBLANK(InfoPro!F71),\"\",InfoPro!F71)","v":"Solar FV"},{"$f":"IF(ISBLANK(InfoPro!I71),\"\",YEAR(InfoPro!I71)-$F$3)","v":3},{"$f":"IF(ISBLANK(InfoPro!P71),\"\",InfoPro!P71)","v":-0.70828999999999998},-97345491.078129485,-87071101.143228531,-77881128.035088137,-69661116.310454503,-62308690.79647094,-55732281.571083128,-49849983.51617454,-44588536.239869893,-39882411.663568787,-35672997.910168856,-31907869.329310253,-28540133.568256043,-25527847.556579649,-22833495.131108806,-20423519.795267269,-749226603.64475858,-75679.454913611975]
[{"$f":"IF(ISBLANK(InfoPro!A72),\"\",InfoPro!A72)","v":"SC_1784_A2"},{"$f":"IF(ISBLANK(InfoPro!B72),\"\",InfoPro!B72)","v":"Pétalo del Sucre - Sierra Flor 9,9 MW"},{"$f":"IF(ISBLANK(InfoPro!E72),\"\",InfoPro!E72)","v":9.9},{"$f":"IF(ISBLANK(InfoPro!F72),\"\",InfoPro!F72)","v":"Solar FV"},{"$f":"IF(ISBLANK(InfoPro!I72),\"\",YEAR(InfoPro!I72)-$F$3)","v":3},{"$f":"IF(ISBLANK(InfoPro!P72),\"\",InfoPro!P72)","v":-0.72755999999999998},{"$f":"IF($F78=\"\",\"\",(1/(1+$C$3)^(G$6+$E78))*$F78*$C$2)","v":-99993908.552716956},-89439989.760927513,-79999990.84161675,-71556342.434362024,-64003884.109447256,-57248554.659612931,-51206220.625771858,-45801628.46670112,-40967467.322630711,-36643530.700027466,-32775966.636876095,-29316607.009728175,-26222367.629452754,-23454711.654251114,-20979169.637076132,-769610340.04119885,-77738.418185979681]
[{"$f":"IF(ISBLANK(InfoPro!A73),\"\",InfoPro!A73)","v":"SC_1715_A1"},{"$f":"IF(ISBLANK(InfoPro!B73),\"\",InfoPro!B73)","v":"Andrómeda Solar de 50 MW (entrega 41 MW)"},{"$f":"IF(ISBLANK(InfoPro!E73),\"\",InfoPro!E73)","v":41},{"$f":"IF(ISBLANK(InfoPro!F73),\"\",InfoPro!F73)","v":"Solar FV"},{"$f":"IF(ISBLANK(InfoPro!I73),\"\",YEAR(InfoPro!I73)-$F$3)","v":3},{"$f":"IF(ISBLANK(InfoPro!P73),\"\",InfoPro!P73)","v":-3.0894184},-424601436.26736099,-379786615.6237576,-339701802.88350415,-303847766.44320583,-271777966.40716088,-243092993.20855179,-217435593.20979589,-194486219.32897663,-173959051.27815446,-155598435.84808093,-139175702.90526024,-124486317.44656551,-111347332.24200851,-99595109.339900255,-89083282.057155877,-3267975624.4894404,-79706.722548522943]
[{"$f":"IF(ISBLANK(InfoPro!A74),\"\",InfoPro!A74)","v":"SC_1715_A2"},{"$f":"IF(ISBLANK(InfoPro!B74),\"\",InfoPro!B74)","v":"Andrómeda Solar de 50 MW (entrega 41 MW)"},{"$f":"IF(ISBLANK(InfoPro!E74),\"\",InfoPro!E74)","v":41},{"$f":"IF(ISBLANK(InfoPro!F74),\"\",InfoPro!F74)","v":"Solar FV"},{"$f":"IF(ISBLANK(InfoPro!I74),\"\",YEAR(InfoPro!I74)-$F$3)","v":3},{"$f":"IF(ISBLANK(InfoPro!P74),\"\",InfoPro!P74)","v":-1.7282312},-237523493.00504741,-212453929.34261844,-190030348.24921152,-169973477.86154875,-152033522.23752126,-135987050.30189738,-121634213.15017655,-108796255.05382517,-97313287.168001071,-87042296.214670017,-77855363.340491965,-69638070.966450781,-62288077.787523068,-55713844.17488645,-49833492.106338516,-1828116720.9602082,-44588.212706346538]
[{"$f":"IF(ISBLANK(InfoPro!A75),\"\",InfoPro!A75)","v":"SC_1809_A1"},{"$f":"IF(ISBLANK(InfoPro!B75),\"\",InfoPro!B75)","v":"DSE COVEÑAS"},{"$f":"IF(ISBLANK(InfoPro!E75),\"\",InfoPro!E75)","v":9.9},{"$f":"IF(ISBLANK(InfoPro!F75),\"\",InfoPro!F75)","v":"Solar FV"},{"$f":"IF(ISBLANK(InfoPro!I75),\"\",YEAR(InfoPro!I75)-$F$3)","v":2},{"$f":"IF(ISBLANK(InfoPro!P75),\"\",InfoPro!P75)","v":-0.33595000000000003},-51620377.838972621,-46172073.201227754,-41298813.239023037,-36939904.507176243,-33041059.487635281,-29553720.471945692,-26434454.80496037,-23644413.9579252,-21148849.694029693,-18916681.300563239,-16920108.497820426,-15134265.203774981,-13536909.842374761,-12108148.338438964,-10830186.349229841,-397299966.73509806,-40131.309771222026]
[{"$f":"IF(ISBLANK(InfoPro!A76),\"\",InfoPro!A76)","v":"SC_1809_A2"},{"$f":"IF(ISBLANK(InfoPro!B76),\"\",InfoPro!B76)","v":"DSE COVEÑAS"},{"$f":"IF(ISBLANK(InfoPro!E76),\"\",InfoPro!E76)","v":9.9},{"$f":"IF(ISBLANK(InfoPro!F76),\"\",InfoPro!F76)","v":"Solar FV"},{"$f":"IF(ISBLANK(InfoPro!I76),\"\",YEAR(InfoPro!I76)-$F$3)","v":2},{"$f":"IF(ISBLANK(InfoPro!P76),\"\",InfoPro!P76)","v":-0.33615},-51651108.827416718,-46199560.668530159,-41323399.524624474,-36961895.818089873,-33060729.71206608,-29571314.590399001,-26450191.941322897,-23658490.1085178,-21161440.168620571,-18927942.905742913,-16930181.489931051,-15143275.035716504,-13544968.726043386,-12115356.642257053,-10836633.848172678,-397536490.00745118,-40155.201010853656]
[{"$f":"IF(ISBLANK(InfoPro!A77),\"\",InfoPro!A77)","v":"SC_1838_A1"},{"$f":"IF(ISBLANK(InfoPro!B77),\"\",InfoPro!B77)","v":"Since Solar I 9,9 MW"},{"$f":"IF(ISBLANK(InfoPro!E77),\"\",InfoPro!E77)","v":9.9},{"$f":"IF(ISBLANK(InfoPro!F77),\"\",InfoPro!F77)","v":"Solar FV"},{"$f":"IF(ISBLANK(InfoPro!I77),\"\",YEAR(InfoPro!I77)-$F$3)","v":2},{"$f":"IF(ISBLANK(InfoPro!P77),\"\",InfoPro!P77)","v":-0.9798},-150551112.38763317,-134661102.31451988,-120448213.16146679,-107735432.16589159,-96364429.486486226,-86193586.302760482,-77096231.040036231,-68959061.753162995,-61680735.020718239,-55170603.775239944,-49347588.349946275,-44139166.681526192,-39480471.092599459,-35313480.404829577,-31586297.320956677,-1158727511.2577736,-117043.18295533067]
[{"$f":"IF(ISBLANK(InfoPro!A78),\"\",InfoPro!A78)","v":"SC_1838_A2"},{"$f":"IF(ISBLANK(InfoPro!B78),\"\",InfoPro!B78)","v":"Since Solar I 9,9 MW"},{"$f":"IF(ISBLANK(InfoPro!E78),\"\",InfoPro!E78)","v":9.9},{"$f":"IF(ISBLANK(InfoPro!F78),\"\",InfoPro!F78)","v":"Solar FV"},{"$f":"IF(ISBLANK(InfoPro!I78),\"\",YEAR(InfoPro!I78)-$F$3)","v":2},{"$f":"IF(ISBLANK(InfoPro!P78),\"\",InfoPro!P78)","v":-0.70226999999999995},-107907256.27318141,-96518118.312326863,-86331053.946625113,-77219189.576587752,-69069042.555087447,-61779107.831026345,-55258593.76657097,-49426291.383337185,-44209562.954684414,-39543437.347660497,-35369800.847639084,-31636673.387870379,-28297561.169830397,-25310877.611655097,-22639425.412929419,-830515992.37701237,-83890.504280506299]
[{"$f":"IF(ISBLANK(InfoPro!A79),\"\",InfoPro!A79)","v":"SC_1853_A1"},{"$f":"IF(ISBLANK(InfoPro!B79),\"\",InfoPro!B79)","v":"Tolú Solar 9,9 MW"},{"$f":"IF(ISBLANK(InfoPro!E79),\"\",InfoPro!E79)","v":9.9},{"$f":"IF(ISBLANK(InfoPro!F79),\"\",InfoPro!F79)","v":"Solar FV"},{"$f":"IF(ISBLANK(InfoPro!I79),\"\",YEAR(InfoPro!I79)-$F$3)","v":2},{"$f":"IF(ISBLANK(InfoPro!P79),\"\",InfoPro!P79)","v":-0.65049000000000001},-99951003.365004614,-89401613.027732223,-79965664.604411662,-71525639.181047991,-63976421.449953489,-57223990.563464656,-51184249.162311867,-45781975.994912222,-40949889.083105743,-36627807.766641997,-32761903.19019857,-29304027.89820981,-26211116.188023094,-23444647.753151249,-20970167.936629016,-769280117.16479814,-77705.062339878597]
[{"$f":"IF(ISBLANK(InfoPro!A80),\"\",InfoPro!A80)","v":"SC_1853_A2"},{"$f":"IF(ISBLANK(InfoPro!B80),\"\",InfoPro!B80)","v":"Tolú Solar 9,9 MW"},{"$f":"IF(ISBLANK(InfoPro!E80),\"\",InfoPro!E80)","v":9.9},{"$f":"IF(ISBLANK(InfoPro!F80),\"\",InfoPro!F80)","v":"Solar FV"},{"$f":"IF(ISBLANK(InfoPro!I80),\"\",YEAR(InfoPro!I80)-$F$3)","v":2},{"$f":"IF(ISBLANK(InfoPro!P80),\"\",InfoPro!P80)","v":-0.66493999999999998},-102171317.28009064,-91387582.540331528,-81742023.739115864,-73114511.394558027,-65397595.165078737,-58495165.621716231,-52321257.264504686,-46798977.875227802,-41859550.87229678,-37441458.740873694,-33489676.870191138,-29954988.255984921,-26793370.533081327,-23965447.704008348,-21435999.735248964,-786368923.59230852,-79431.204403263488]
[{"$f":"IF(ISBLANK(InfoPro!A81),\"\",InfoPro!A81)","v":"SC_1882_A1"},{"$f":"IF(ISBLANK(InfoPro!B81),\"\",InfoPro!B81)","v":"Proyecto Solar Oviedo"},{"$f":"IF(ISBLANK(InfoPro!E81),\"\",InfoPro!E81)","v":9.9},{"$f":"IF(ISBLANK(InfoPro!F81),\"\",InfoPro!F81)","v":"Solar FV"},{"$f":"IF(ISBLANK(InfoPro!I81),\"\",YEAR(InfoPro!I81)-$F$3)","v":2},{"$f":"IF(ISBLANK(InfoPro!P81),\"\",InfoPro!P81)","v":-0.9798},-150551112.38763317,-134661102.31451988,-120448213.16146679,-107735432.16589159,-96364429.486486226,-86193586.302760482,-77096231.040036231,-68959061.753162995,-61680735.020718239,-55170603.775239944,-49347588.349946275,-44139166.681526192,-39480471.092599459,-35313480.404829577,-31586297.320956677,-1158727511.2577736,-117043.18295533067]
[{"$f":"IF(ISBLANK(InfoPro!A82),\"\",InfoPro!A82)","v":"SC_1882_A2"},{"$f":"IF(ISBLANK(InfoPro!B82),\"\",InfoPro!B82)","v":"Proyecto Solar Oviedo"},{"$f":"IF(ISBLANK(InfoPro!E82),\"\",InfoPro!E82)","v":9.9},{"$f":"IF(ISBLANK(InfoPro!F82),\"\",InfoPro!F82)","v":"Solar FV"},{"$f":"IF(ISBLANK(InfoPro!I82),\"\",YEAR(InfoPro!I82)-$F$3)","v":2},{"$f":"IF(ISBLANK(InfoPro!P82),\"\",InfoPro!P82)","v":-0.70226999999999995},{"$f":"IF($F88=\"\",\"\",(1/(1+$C$3)^(G$6+$E88))*$F88*$C$2)","v":-107907256.27318141},-96518118.312326863,-86331053.946625113,-77219189.576587752,-69069042.555087447,-61779107.831026345,-55258593.76657097,-49426291.383337185,-44209562.954684414,-39543437.347660497,-35369800.847639084,-31636673.387870379,-28297561.169830397,-25310877.611655097,-22639425.412929419,-830515992.37701237,-83890.504280506299]
[{"$f":"IF(ISBLANK(InfoPro!A83),\"\",InfoPro!A83)","v":"SC_1913_A1"},{"$f":"IF(ISBLANK(InfoPro!B83),\"\",InfoPro!B83)","v":"PS Noe"},{"$f":"IF(ISBLANK(InfoPro!E83),\"\",InfoPro!E83)","v":9.9},{"$f":"IF(ISBLANK(InfoPro!F83),\"\",InfoPro!F83)","v":"Solar FV"},{"$f":"IF(ISBLANK(InfoPro!I83),\"\",YEAR(InfoPro!I83)-$F$3)","v":2},{"$f":"IF(ISBLANK(InfoPro!P83),\"\",InfoPro!P83)","v":0.53991999999999996},82961376.403685346,74205166.729593337,66373136.609654158,59367742.942445591,53101737.873386033,47497082.17655281,42483973.324286945,37999976.139791548,33989245.205538057,30401829.343057305,27193049.501840167,24322942.309338253,21755762.351823129,19459536.987319436,17405668.146081779,638518226.04439378,64496.790509534723]
[{"$f":"IF(ISBLANK(InfoPro!A84),\"\",InfoPro!A84)","v":"SC_1913_A2"},{"$f":"IF(ISBLANK(InfoPro!B84),\"\",InfoPro!B84)","v":"PS Noe"},{"$f":"IF(ISBLANK(InfoPro!E84),\"\",InfoPro!E84)","v":9.9},{"$f":"IF(ISBLANK(InfoPro!F84),\"\",InfoPro!F84)","v":"Solar FV"},{"$f":"IF(ISBLANK(InfoPro!I84),\"\",YEAR(InfoPro!I84)-$F$3)","v":2},{"$f":"IF(ISBLANK(InfoPro!P84),\"\",InfoPro!P84)","v":-0.36765999999999999},-56492776.056784257,-50530211.142025284,-45196968.821131743,-40426626.852532864,-36159773.571138524,-32343267.952717818,-28929577.775239557,-25876187.63438243,-23145069.44041362,-20702208.801801097,-18517181.396959838,-16562774.058103614,-14814645.848035432,-13251024.908797348,-11852437.306616588,-434800731.56668001,-43919.265814816164]
[{"$f":"IF(ISBLANK(InfoPro!A85),\"\",InfoPro!A85)","v":"SC_1491_A1"},{"$f":"IF(ISBLANK(InfoPro!B85),\"\",InfoPro!B85)","v":"SABANA SOLAR_90MW"},{"$f":"IF(ISBLANK(InfoPro!E85),\"\",InfoPro!E85)","v":90},{"$f":"IF(ISBLANK(InfoPro!F85),\"\",InfoPro!F85)","v":"Solar FV"},{"$f":"IF(ISBLANK(InfoPro!I85),\"\",YEAR(InfoPro!I85)-$F$3)","v":2},{"$f":"IF(ISBLANK(InfoPro!P85),\"\",InfoPro!P85)","v":-11.2},-1720935352.8694546,-1539298168.9351115,-1376831993.6807797,-1231513411.1634881,-1101532568.1247659,-985270633.38530052,-881279636.3017,-788264433.18577826,-705066577.08924699,-630649890.06193852,-564087558.19493604,-504550588.72534531,-451297485.44306386,-403665013.81311619,-361059940.79885161,-13245303251.772877,-147170.03613080975]
[{"$f":"IF(ISBLANK(InfoPro!A86),\"\",InfoPro!A86)","v":"SC_1491_A2"},{"$f":"IF(ISBLANK(InfoPro!B86),\"\",InfoPro!B86)","v":"SABANA SOLAR_90MW"},{"$f":"IF(ISBLANK(InfoPro!E86),\"\",InfoPro!E86)","v":90},{"$f":"IF(ISBLANK(InfoPro!F86),\"\",InfoPro!F86)","v":"Solar FV"},{"$f":"IF(ISBLANK(InfoPro!I86),\"\",YEAR(InfoPro!I86)-$F$3)","v":2},{"$f":"IF(ISBLANK(InfoPro!P86),\"\",InfoPro!P86)","v":-11.5},-1767031835.5356007,-1580529369.8887308,-1413711422.0829437,-1264500377.5339389,-1131037904.7709651,-1011661811.0652641,-904885340.8454957,-809378659.07468307,-723952288.97556615,-647542297.83145475,-579197046.36087179,-518065336.63763136,-463385810.94600308,-414477469.54025322,-370731189.21310657,-13600088160.302507,-151112.09067002786]
[{"$f":"IF(ISBLANK(InfoPro!A87),\"\",InfoPro!A87)","v":"SC_1894_A1"},{"$f":"IF(ISBLANK(InfoPro!B87),\"\",InfoPro!B87)","v":"Aquila Solar"},{"$f":"IF(ISBLANK(InfoPro!E87),\"\",InfoPro!E87)","v":47},{"$f":"IF(ISBLANK(InfoPro!F87),\"\",InfoPro!F87)","v":"Solar FV"},{"$f":"IF(ISBLANK(InfoPro!I87),\"\",YEAR(InfoPro!I87)-$F$3)","v":2},{"$f":"IF(ISBLANK(InfoPro!P87),\"\",InfoPro!P87)","v":-2.5540655999999999},-392444802.19533348,-351023973.34108549,-313974931.43209791,-280836253.51708227,-251195217.81492153,-224682663.51960784,-200968393.13023958,-179757060.04493701,-160784490.2011959,-143814391.95098028,-128635413.19407895,-115058509.1181386,-102914587.76219912,-92052404.080678999,-82336676.279677093,-3020479767.5822535,-64265.526969835177]
[{"$f":"IF(ISBLANK(InfoPro!A88),\"\",InfoPro!A88)","v":"SC_1894_A2"},{"$f":"IF(ISBLANK(InfoPro!B88),\"\",InfoPro!B88)","v":"Aquila Solar"},{"$f":"IF(ISBLANK(InfoPro!E88),\"\",InfoPro!E88)","v":47},{"$f":"IF(ISBLANK(InfoPro!F88),\"\",InfoPro!F88)","v":"Solar FV"},{"$f":"IF(ISBLANK(InfoPro!I88),\"\",YEAR(InfoPro!I88)-$F$3)","v":2},{"$f":"IF(ISBLANK(InfoPro!P88),\"\",InfoPro!P88)","v":-2.0046384000000002},-308022597.52496958,-275512162.36580467,-246433061.15009364,-220423131.61904621,-197158436.15299305,-176349227.32825854,-157736339.29182339,-141087960.0105755,-126196744.1955058,-112877230.94410183,-100963533.93926817,-90307275.437628075,-80775738.316304192,-72250213.163062781,-64624519.823848635,-2370718171.2632842,-50440.812154537962]
[{"$f":"IF(ISBLANK(InfoPro!A89),\"\",InfoPro!A89)","v":"SC_1887_A1"},{"$f":"IF(ISBLANK(InfoPro!B89),\"\",InfoPro!B89)","v":"Boston Solar"},{"$f":"IF(ISBLANK(InfoPro!E89),\"\",InfoPro!E89)","v":100},{"$f":"IF(ISBLANK(InfoPro!F89),\"\",InfoPro!F89)","v":"Solar FV"},{"$f":"IF(ISBLANK(InfoPro!I89),\"\",YEAR(InfoPro!I89)-$F$3)","v":3},{"$f":"IF(ISBLANK(InfoPro!P89),\"\",InfoPro!P89)","v":-11.839040000000001},-1627126124.4597809,-1455390093.434509,-1301780047.7947309,-1164382869.2260563,-1041487360.6673135,-931562934.40725708,-833240549.55926406,-745295661.50202501,-666632970.93204403,-596272782.58680141,-533338803.74490291,-477047230.54105818,-426696986.17268175,-381660989.42100328,-341378344.74150568,-12523293749.190937,-125232.93749190937]
[{"$f":"IF(ISBLANK(InfoPro!A90),\"\",InfoPro!A90)","v":"SC_1887_A2"},{"$f":"IF(ISBLANK(InfoPro!B90),\"\",InfoPro!B90)","v":"Boston Solar"},{"$f":"IF(ISBLANK(InfoPro!E90),\"\",InfoPro!E90)","v":100},{"$f":"IF(ISBLANK(InfoPro!F90),\"\",InfoPro!F90)","v":"Solar FV"},{"$f":"IF(ISBLANK(InfoPro!I90),\"\",YEAR(InfoPro!I90)-$F$3)","v":3},{"$f":"IF(ISBLANK(InfoPro!P90),\"\",InfoPro!P90)","v":-12.056570000000001},-1657022868.27125,-1482131366.9689178,-1325698897.1099446,-1185777188.8282151,-1060623603.6030549,-948679430.77196324,-848550474.7513088,-758989691.19079494,-678881655.80572021,-607228672.45592141,-543138347.45610154,-485812475.36323935,-434537097.82042879,-388673611.64617956,-347650815.4259209,-12753396197.46896,-127533.96197468959]
[{"$f":"IF(ISBLANK(InfoPro!A91),\"\",InfoPro!A91)","v":"SC_2104_A1"},{"$f":"IF(ISBLANK(InfoPro!B91),\"\",InfoPro!B91)","v":"El Dorado - 300 MW"},{"$f":"IF(ISBLANK(InfoPro!E91),\"\",InfoPro!E91)","v":300},{"$f":"IF(ISBLANK(InfoPro!F91),\"\",InfoPro!F91)","v":"Solar FV"},{"$f":"IF(ISBLANK(InfoPro!I91),\"\",YEAR(InfoPro!I91)-$F$3)","v":3},{"$f":"IF(ISBLANK(InfoPro!P91),\"\",InfoPro!P91)","v":-16.74709},-2301675443.9278145,-2058743688.6653082,-1841452315.4430306,-1647095094.3139808,-1473251426.0411279,-1317756195.0278428,-1178672804.139394,-1054269055.5808535,-942995577.44262397,-843466527.22953856,-754442332.0478878,-674814250.49006081,-603590563.9445982,-539884225.35294998,-482901811.58582294,-17715011311.232838,-59050.037704109462]
[{"$f":"IF(ISBLANK(InfoPro!A92),\"\",InfoPro!A92)","v":"SC_2104_A2"},{"$f":"IF(ISBLANK(InfoPro!B92),\"\",InfoPro!B92)","v":"El Dorado - 300 MW"},{"$f":"IF(ISBLANK(InfoPro!E92),\"\",InfoPro!E92)","v":300},{"$f":"IF(ISBLANK(InfoPro!F92),\"\",InfoPro!F92)","v":"Solar FV"},{"$f":"IF(ISBLANK(InfoPro!I92),\"\",YEAR(InfoPro!I92)-$F$3)","v":3},{"$f":"IF(ISBLANK(InfoPro!P92),\"\",InfoPro!P92)","v":-15.47419},{"$f":"IF($F98=\"\",\"\",(1/(1+$C$3)^(G$6+$E98))*$F98*$C$2)","v":-2126731458.2816086},-1902264273.9549272,-1701488617.1332088,-1521903950.9241581,-1361273659.1450434,-1217597190.6485181,-1089085143.6927712,-974136980.0472014,-871321091.27656674,-779356968.94147289,-697099256.65605819,-623523485.38108969,-557713314.29435575,-498849118.33126628,-446197780.26052445,-16368542288.968771,-54561.807629895906]
[{"$f":"IF(ISBLANK(InfoPro!A93),\"\",InfoPro!A93)","v":"SC_2028_A1"},{"$f":"IF(ISBLANK(InfoPro!B93),\"\",InfoPro!B93)","v":"Parque Solar Fandango"},{"$f":"IF(ISBLANK(InfoPro!E93),\"\",InfoPro!E93)","v":19.899999999999999},{"$f":"IF(ISBLANK(InfoPro!F93),\"\",InfoPro!F93)","v":"Solar FV"},{"$f":"IF(ISBLANK(InfoPro!I93),\"\",YEAR(InfoPro!I93)-$F$3)","v":2},{"$f":"IF(ISBLANK(InfoPro!P93),\"\",InfoPro!P93)","v":-1.8129999999999999},-278576410.24574298,-249173891.0963712,-222874678.9770762,-199351233.43208966,-178310584.46519646,-159490683.77924553,-142657141.12633771,-127600305.12194785,-114132652.16632186,-102086450.9537763,-91311673.482805267,-81674126.549915269,-73053780.456095964,-65343274.110998183,-58446577.916814104,-2144083463.8807344,-107742.88763219771]
[{"$f":"IF(ISBLANK(InfoPro!A94),\"\",InfoPro!A94)","v":"SC_2028_A2"},{"$f":"IF(ISBLANK(InfoPro!B94),\"\",InfoPro!B94)","v":"Parque Solar Fandango"},{"$f":"IF(ISBLANK(InfoPro!E94),\"\",InfoPro!E94)","v":19.899999999999999},{"$f":"IF(ISBLANK(InfoPro!F94),\"\",InfoPro!F94)","v":"Solar FV"},{"$f":"IF(ISBLANK(InfoPro!I94),\"\",YEAR(InfoPro!I94)-$F$3)","v":2},{"$f":"IF(ISBLANK(InfoPro!P94),\"\",InfoPro!P94)","v":-1.7609999999999999},-270586353.25027764,-242027149.5977439,-216482244.72070116,-193633492.59454489,-173196326.11318865,-154916212.9813852,-138565485.6720798,-123940505.96787103,-110859128.77269322,-99158433.607060149,-88692695.534043074,-79331570.245119035,-70958470.702253163,-63469115.118294433,-56770228.191676587,-2082587413.0689321,-104652.63382255939]
[{"$f":"IF(ISBLANK(InfoPro!A95),\"\",InfoPro!A95)","v":"SC_2015_A1"},{"$f":"IF(ISBLANK(InfoPro!B95),\"\",InfoPro!B95)","v":"Parque Solar El Bongo"},{"$f":"IF(ISBLANK(InfoPro!E95),\"\",InfoPro!E95)","v":19.899999999999999},{"$f":"IF(ISBLANK(InfoPro!F95),\"\",InfoPro!F95)","v":"Solar FV"},{"$f":"IF(ISBLANK(InfoPro!I95),\"\",YEAR(InfoPro!I95)-$F$3)","v":2},{"$f":"IF(ISBLANK(InfoPro!P95),\"\",InfoPro!P95)","v":-2.2709999999999999},-348950373.78272599,-312120191.21889627,-279177273.00437951,-249711335.42431086,-223355398.41172707,-199781215.037323,-178695183.39653221,-159834689.97900912,-142964838.97943571,-127875526.81523772,-114378825.4161339,-102306641.6960053,-91508624.057249814,-81850289.854427397,-73211350.495910004,-2685721757.569304,-134960.89234016603]
[{"$f":"IF(ISBLANK(InfoPro!A96),\"\",InfoPro!A96)","v":"SC_2015_A2"},{"$f":"IF(ISBLANK(InfoPro!B96),\"\",InfoPro!B96)","v":"Parque Solar El Bongo"},{"$f":"IF(ISBLANK(InfoPro!E96),\"\",InfoPro!E96)","v":19.899999999999999},{"$f":"IF(ISBLANK(InfoPro!F96),\"\",InfoPro!F96)","v":"Solar FV"},{"$f":"IF(ISBLANK(InfoPro!I96),\"\",YEAR(InfoPro!I96)-$F$3)","v":2},{"$f":"IF(ISBLANK(InfoPro!P96),\"\",InfoPro!P96)","v":-2.2639999999999998},-347874789.18718261,-311158129.86331183,-278316753.00832903,-248941639.54233369,-222666940.55664909,-199165420.89145717,-178144383.62384364,-159342024.70826802,-142524172.36875492,-127481370.63394898,-114026270.69226205,-101991297.57805194,-91226563.128847897,-81597999.220794201,-72985688.032910705,-2677443443.0369463,-134544.89663502242]
[{"$f":"IF(ISBLANK(InfoPro!A97),\"\",InfoPro!A97)","v":"SC_2049_A1"},{"$f":"IF(ISBLANK(InfoPro!B97),\"\",InfoPro!B97)","v":"Parque Solar Sinú"},{"$f":"IF(ISBLANK(InfoPro!E97),\"\",InfoPro!E97)","v":9.9},{"$f":"IF(ISBLANK(InfoPro!F97),\"\",InfoPro!F97)","v":"Solar FV"},{"$f":"IF(ISBLANK(InfoPro!I97),\"\",YEAR(InfoPro!I97)-$F$3)","v":2},{"$f":"IF(ISBLANK(InfoPro!P97),\"\",InfoPro!P97)","v":-0.37373000000000001},-57425461.556062616,-51364455.774653517,-45943162.58913552,-41094063.138761647,-36756764.882613279,-32877249.447775751,-29407199.863842357,-26303398.804867942,-23527190.344246812,-21043998.519004311,-18822896.707517274,-16836222.457528867,-15059232.967378238,-13469796.929676421,-12048118.899531679,-441979212.88259619,-44644.364937635983]
[{"$f":"IF(ISBLANK(InfoPro!A98),\"\",InfoPro!A98)","v":"SC_2049_A2"},{"$f":"IF(ISBLANK(InfoPro!B98),\"\",InfoPro!B98)","v":"Parque Solar Sinú"},{"$f":"IF(ISBLANK(InfoPro!E98),\"\",InfoPro!E98)","v":9.9},{"$f":"IF(ISBLANK(InfoPro!F98),\"\",InfoPro!F98)","v":"Solar FV"},{"$f":"IF(ISBLANK(InfoPro!I98),\"\",YEAR(InfoPro!I98)-$F$3)","v":2},{"$f":"IF(ISBLANK(InfoPro!P98),\"\",InfoPro!P98)","v":-0.36270000000000002},-55730647.543370642,-49848521.952925451,-44587228.938215971,-39881242.341874748,-35671952.005254701,-31906933.815075763,-28539296.793448806,-25527099.099685874,-22832825.670559812,-20422920.993345097,-18267371.19261637,-16339330.225953819,-14614785.533053506,-13072258.974108685,-11692539.33283424,-428934954.41232347,-43326.763071951864]
[{"$f":"IF(ISBLANK(InfoPro!A99),\"\",InfoPro!A99)","v":"SC_2042_A1"},{"$f":"IF(ISBLANK(InfoPro!B99),\"\",InfoPro!B99)","v":"Parque Solar La Uvita"},{"$f":"IF(ISBLANK(InfoPro!E99),\"\",InfoPro!E99)","v":19.899999999999999},{"$f":"IF(ISBLANK(InfoPro!F99),\"\",InfoPro!F99)","v":"Solar FV"},{"$f":"IF(ISBLANK(InfoPro!I99),\"\",YEAR(InfoPro!I99)-$F$3)","v":2},{"$f":"IF(ISBLANK(InfoPro!P99),\"\",InfoPro!P99)","v":-1.732},-266130359.92588353,-238041466.83889407,-212917233.30849203,-190444752.512068,-170344143.57072273,-152365065.80565542,-136283600.89951292,-121899464.13194357,-109033509.95701571,-97525500.85600692,-87232111.678002611,-78025144.613598049,-69789932.570302382,-62423911.064671181,-55835340.844965272,-2048291538.5777347,-102929.22304410728]
[{"$f":"IF(ISBLANK(InfoPro!A100),\"\",InfoPro!A100)","v":"SC_2042_A2"},{"$f":"IF(ISBLANK(InfoPro!B100),\"\",InfoPro!B100)","v":"Parque Solar La Uvita"},{"$f":"IF(ISBLANK(InfoPro!E100),\"\",InfoPro!E100)","v":19.899999999999999},{"$f":"IF(ISBLANK(InfoPro!F100),\"\",InfoPro!F100)","v":"Solar FV"},{"$f":"IF(ISBLANK(InfoPro!I100),\"\",YEAR(InfoPro!I100)-$F$3)","v":2},{"$f":"IF(ISBLANK(InfoPro!P100),\"\",InfoPro!P100)","v":-1.774},-272583867.49914396,-243813834.97240072,-218080353.28479496,-195062927.80393109,-174474890.70119062,-156059830.6808503,-139588399.53564429,-124855455.75639024,-111677509.62110038,-99890437.943739206,-89347440.021233618,-79917209.32131809,-71482298.140713871,-63937654.866470367,-57189315.622960962,-2097961425.771883,-105425.19727496899]
[{"$f":"IF(ISBLANK(InfoPro!A101),\"\",InfoPro!A101)","v":"SC_2111_A1"},{"$f":"IF(ISBLANK(InfoPro!B101),\"\",InfoPro!B101)","v":"PROYECTO QUIMARÍ SOLAR_90MW"},{"$f":"IF(ISBLANK(InfoPro!E101),\"\",InfoPro!E101)","v":90},{"$f":"IF(ISBLANK(InfoPro!F101),\"\",InfoPro!F101)","v":"Solar FV"},{"$f":"IF(ISBLANK(InfoPro!I101),\"\",YEAR(InfoPro!I101)-$F$3)","v":2},{"$f":"IF(ISBLANK(InfoPro!P101),\"\",InfoPro!P101)","v":-17.809000000000001},-2736440866.0046535,-2447621525.9433398,-2189285801.3804474,-1958216280.3045146,-1751535134.4405317,-1566668277.6748946,-1401313307.4015157,-1253410829.5183504,-1121118809.9448574,-1002789633.2243807,-896949582.49050152,-802280485.23300683,-717603296.27281475,-641863413.48194528,-574117543.36488831,-21061214786.680641,-234013.49762978489]
[{"$f":"IF(ISBLANK(InfoPro!A102),\"\",InfoPro!A102)","v":"SC_2111_A2"},{"$f":"IF(ISBLANK(InfoPro!B102),\"\",InfoPro!B102)","v":"PROYECTO QUIMARÍ SOLAR_90MW"},{"$f":"IF(ISBLANK(InfoPro!E102),\"\",InfoPro!E102)","v":90},{"$f":"IF(ISBLANK(InfoPro!F102),\"\",InfoPro!F102)","v":"Solar FV"},{"$f":"IF(ISBLANK(InfoPro!I102),\"\",YEAR(InfoPro!I102)-$F$3)","v":2},{"$f":"IF(ISBLANK(InfoPro!P102),\"\",InfoPro!P102)","v":-17.805},-2735826246.2357712,-2447071776.5972915,-2188794075.6684184,-1957776454.086242,-1751141729.9519157,-1566316395.3058283,-1400998564.6742651,-1253129306.5064983,-1120867000.4530396,-1002564401.120787,-896748122.64828897,-802100288.59417617,-717442118.59944212,-641719247.40558338,-573988593.38603151,-21056484321.233582,-233960.93690259536]
[{"$f":"IF(ISBLANK(InfoPro!A103),\"\",InfoPro!A103)","v":"SC_2173_A1"},{"$f":"IF(ISBLANK(InfoPro!B103),\"\",InfoPro!B103)","v":"Nueva Montería Solar I 9,9 MW"},{"$f":"IF(ISBLANK(InfoPro!E103),\"\",InfoPro!E103)","v":9.9},{"$f":"IF(ISBLANK(InfoPro!F103),\"\",InfoPro!F103)","v":"Solar FV"},{"$f":"IF(ISBLANK(InfoPro!I103),\"\",YEAR(InfoPro!I103)-$F$3)","v":2},{"$f":"IF(ISBLANK(InfoPro!P103),\"\",InfoPro!P103)","v":-1.08019},-165976532.03714788,-148458436.52696592,-132789299.21911086,-118773970.67899004,-106237898.63952596,-95024954.060398921,-84995486.637208328,-76024585.543120161,-68000523.741610155,-60823366.495179057,-54403726.739873923,-48661651.824574172,-43525627.750066355,-38931688.506320536,-34822619.415313534,-1277450367.8154058,-129035.39068842483]
[{"$f":"IF(ISBLANK(InfoPro!A104),\"\",InfoPro!A104)","v":"SC_2173_A2"},{"$f":"IF(ISBLANK(InfoPro!B104),\"\",InfoPro!B104)","v":"Nueva Montería Solar I 9,9 MW"},{"$f":"IF(ISBLANK(InfoPro!E104),\"\",InfoPro!E104)","v":9.9},{"$f":"IF(ISBLANK(InfoPro!F104),\"\",InfoPro!F104)","v":"Solar FV"},{"$f":"IF(ISBLANK(InfoPro!I104),\"\",YEAR(InfoPro!I104)-$F$3)","v":2},{"$f":"IF(ISBLANK(InfoPro!P104),\"\",InfoPro!P104)","v":-1.524},-234170131.94402221,-209454500.84438485,-187347496.28299183,-167573789.16188896,-149887110.16269135,-134067182.61421412,-119916979.08248132,-107260267.51563625,-95939416.38250111,-85813431.469142348,-76756199.882953808,-68654919.394413069,-61408693.554931186,-54927275.093856163,-49129941.944415174,-1802307335.3305237,-182051.24599298221]
[{"$f":"IF(ISBLANK(InfoPro!A105),\"\",InfoPro!A105)","v":"SC_2174_A1"},{"$f":"IF(ISBLANK(InfoPro!B105),\"\",InfoPro!B105)","v":"Nueva Montería Solar I 9,9 MW"},{"$f":"IF(ISBLANK(InfoPro!E105),\"\",InfoPro!E105)","v":9.9},{"$f":"IF(ISBLANK(InfoPro!F105),\"\",InfoPro!F105)","v":"Solar FV"},{"$f":"IF(ISBLANK(InfoPro!I105),\"\",YEAR(InfoPro!I105)-$F$3)","v":2},{"$f":"IF(ISBLANK(InfoPro!P105),\"\",InfoPro!P105)","v":-1.08019},-165976532.03714788,-148458436.52696592,-132789299.21911086,-118773970.67899004,-106237898.63952596,-95024954.060398921,-84995486.637208328,-76024585.543120161,-68000523.741610155,-60823366.495179057,-54403726.739873923,-48661651.824574172,-43525627.750066355,-38931688.506320536,-34822619.415313534,-1277450367.8154058,-129035.39068842483]
[{"$f":"IF(ISBLANK(InfoPro!A106),\"\",InfoPro!A106)","v":"SC_2174_A2"},{"$f":"IF(ISBLANK(InfoPro!B106),\"\",InfoPro!B106)","v":"Nueva Montería Solar I 9,9 MW"},{"$f":"IF(ISBLANK(InfoPro!E106),\"\",InfoPro!E106)","v":9.9},{"$f":"IF(ISBLANK(InfoPro!F106),\"\",InfoPro!F106)","v":"Solar FV"},{"$f":"IF(ISBLANK(InfoPro!I106),\"\",YEAR(InfoPro!I106)-$F$3)","v":2},{"$f":"IF(ISBLANK(InfoPro!P106),\"\",InfoPro!P106)","v":-1.524},-234170131.94402221,-209454500.84438485,-187347496.28299183,-167573789.16188896,-149887110.16269135,-134067182.61421412,-119916979.08248132,-107260267.51563625,-95939416.38250111,-85813431.469142348,-76756199.882953808,-68654919.394413069,-61408693.554931186,-54927275.093856163,-49129941.944415174,{"$f":"IF(U112=\"\",\"\",SUM(G112:U112))","v":-1802307335.3305237},{"$f":"IF(C112=0,0,IF(V112=\"\",\"\",V112/(C112*1000)))","v":-182051.24599298221}]
[{"$f":"IF(ISBLANK(InfoPro!A107),\"\",InfoPro!A107)","v":"SC_2016_A1"},{"$f":"IF(ISBLANK(InfoPro!B107),\"\",InfoPro!B107)","v":"Hidalgo Solar 80 MW"},{"$f":"IF(ISBLANK(InfoPro!E107),\"\",InfoPro!E107)","v":80},{"$f":"IF(ISBLANK(InfoPro!F107),\"\",InfoPro!F107)","v":"Solar FV"},{"$f":"IF(ISBLANK(InfoPro!I107),\"\",YEAR(InfoPro!I107)-$F$3)","v":2},{"$f":"IF(ISBLANK(InfoPro!P107),\"\",InfoPro!P107)","v":-0.97367870000000001},-149610544.38981891,-133819807.14652857,-119695713.01120624,-107062355.10841346,-95762392.762444958,-85655091.916319296,-76614572.375956431,-68528240.050050482,-61295384.660152487,-54825925.456308149,-49039289.316912472,-43863407.260207936,-39233816.869595654,-35092859.454021163,-31388961.944562748,-1151488361.7224989,-14393.604521531237]
[{"$f":"IF(ISBLANK(InfoPro!A108),\"\",InfoPro!A108)","v":"SC_2016_A2"},{"$f":"IF(ISBLANK(InfoPro!B108),\"\",InfoPro!B108)","v":"Hidalgo Solar 80 MW"},{"$f":"IF(ISBLANK(InfoPro!E108),\"\",InfoPro!E108)","v":80},{"$f":"IF(ISBLANK(InfoPro!F108),\"\",InfoPro!F108)","v":"Solar FV"},{"$f":"IF(ISBLANK(InfoPro!I108),\"\",YEAR(InfoPro!I108)-$F$3)","v":2},{"$f":"IF(ISBLANK(InfoPro!P108),\"\",InfoPro!P108)","v":-0.94397039999999999},{"$f":"IF($F114=\"\",\"\",(1/(1+$C$3)^(G$6+$E114))*$F114*$C$2)","v":-145045717.26985002},-129736777.52222723,-116043629.26853958,-103795732.79833594,-92840548.120157361,-83041635.170087099,-74276954.534961626,-66437347.526799314,-59425176.678711377,-53153109.730511077,-47543031.959312238,-42525073.308866046,-38036738.201132424,-34022127.192426145,-30431240.780345384,-1116354840.0622628,-13954.435500778285]
[{"$f":"IF(ISBLANK(InfoPro!A109),\"\",InfoPro!A109)","v":"SC_2016_A3"},{"$f":"IF(ISBLANK(InfoPro!B109),\"\",InfoPro!B109)","v":"Hidalgo Solar 80 MW"},{"$f":"IF(ISBLANK(InfoPro!E109),\"\",InfoPro!E109)","v":80},{"$f":"IF(ISBLANK(InfoPro!F109),\"\",InfoPro!F109)","v":"Solar FV"},{"$f":"IF(ISBLANK(InfoPro!I109),\"\",YEAR(InfoPro!I109)-$F$3)","v":2},{"$f":"IF(ISBLANK(InfoPro!P109),\"\",InfoPro!P109)","v":-0.94397039999999999},-145045717.26985002,-129736777.52222723,-116043629.26853958,-103795732.79833594,-92840548.120157361,-83041635.170087099,-74276954.534961626,-66437347.526799314,-59425176.678711377,-53153109.730511077,-47543031.959312238,-42525073.308866046,-38036738.201132424,-34022127.192426145,-30431240.780345384,-1116354840.0622628,-13954.435500778285]
[{"$f":"IF(ISBLANK(InfoPro!A110),\"\",InfoPro!A110)","v":"SC_2135_A1"},{"$f":"IF(ISBLANK(InfoPro!B110),\"\",InfoPro!B110)","v":"DSE SIERRAFLOR"},{"$f":"IF(ISBLANK(InfoPro!E110),\"\",InfoPro!E110)","v":99.9},{"$f":"IF(ISBLANK(InfoPro!F110),\"\",InfoPro!F110)","v":"Solar FV"},{"$f":"IF(ISBLANK(InfoPro!I110),\"\",YEAR(InfoPro!I110)-$F$3)","v":3},{"$f":"IF(ISBLANK(InfoPro!P110),\"\",InfoPro!P110)","v":-5.93},-815003405.51653671,-728983368.08276999,-652042368.58923984,-583222154.37320197,-521665612.14061004,-466606093.14902508,-417357865.07068431,-373307571.61957455,-333906593.57743704,-298664216.07999736,-267141517.06618729,-238945900.77476507,-213726208.20640883,-191168343.65510625,-170991362.83998773,-6272732580.7415314,-62790.11592333865]
[{"$f":"IF(ISBLANK(InfoPro!A111),\"\",InfoPro!A111)","v":"SC_2135_A2"},{"$f":"IF(ISBLANK(InfoPro!B111),\"\",InfoPro!B111)","v":"DSE SIERRAFLOR"},{"$f":"IF(ISBLANK(InfoPro!E111),\"\",InfoPro!E111)","v":99.9},{"$f":"IF(ISBLANK(InfoPro!F111),\"\",InfoPro!F111)","v":"Solar FV"},{"$f":"IF(ISBLANK(InfoPro!I111),\"\",YEAR(InfoPro!I111)-$F$3)","v":3},{"$f":"IF(ISBLANK(InfoPro!P111),\"\",InfoPro!P111)","v":-7.26},-997795063.07758129,-892482167.33236265,-798284586.164904,-714029146.83801782,-638666499.85511446,-571258049.95985198,-510964266.51149547,-457034227.64892268,-408796268.02229232,-365649613.615646,-327056899.47732204,-292537477.17112887,-261661428.59671637,-234044211.62496987,-209341870.86312157,-7679601776.7594481,-76872.890658252727]
[{"$f":"IF(ISBLANK(InfoPro!A112),\"\",InfoPro!A112)","v":"SC_1821_A1"},{"$f":"IF(ISBLANK(InfoPro!B112),\"\",InfoPro!B112)","v":"Balay Solar"},{"$f":"IF(ISBLANK(InfoPro!E112),\"\",InfoPro!E112)","v":70},{"$f":"IF(ISBLANK(InfoPro!F112),\"\",InfoPro!F112)","v":"Solar FV"},{"$f":"IF(ISBLANK(InfoPro!I112),\"\",YEAR(InfoPro!I112)-$F$3)","v":4},{"$f":"IF(ISBLANK(InfoPro!P112),\"\",InfoPro!P112)","v":-5.1447000000000003},-632445317.66870606,-565693486.28685701,-505987018.14566821,-452582306.03369248,-404814227.22154969,-362087859.76882797,-323871073.13848656,-289687900.83943349,-259112612.55763283,-231764411.94779328,-207302694.04990456,-185422803.26467314,-165852239.05605823,-148347262.1252757,-132689858.78826092,-4867661070.8928194,-69538.015298468847]
[{"$f":"IF(ISBLANK(InfoPro!A113),\"\",InfoPro!A113)","v":"SC_1821_A2"},{"$f":"IF(ISBLANK(InfoPro!B113),\"\",InfoPro!B113)","v":"Balay Solar"},{"$f":"IF(ISBLANK(InfoPro!E113),\"\",InfoPro!E113)","v":70},{"$f":"IF(ISBLANK(InfoPro!F113),\"\",InfoPro!F113)","v":"Solar FV"},{"$f":"IF(ISBLANK(InfoPro!I113),\"\",YEAR(InfoPro!I113)-$F$3)","v":4},{"$f":"IF(ISBLANK(InfoPro!P113),\"\",InfoPro!P113)","v":6.032},741522373.73950577,663257937.15519297,593253968.83290958,530638612.55179763,474632032.69391561,424536701.87291199,379728713.66092306,339650012.21907258,303801442.05641556,271736531.35636461,243055931.44576439,217402443.15363541,194456568.11595294,173932529.62070927,155574713.43533924,5707180511.910409,81531.1501701487]
[{"$f":"IF(ISBLANK(InfoPro!A114),\"\",InfoPro!A114)","v":"SC_1859_A1"},{"$f":"IF(ISBLANK(InfoPro!B114),\"\",InfoPro!B114)","v":"PV Altamira_99MW"},{"$f":"IF(ISBLANK(InfoPro!E114),\"\",InfoPro!E114)","v":99},{"$f":"IF(ISBLANK(InfoPro!F114),\"\",InfoPro!F114)","v":"Solar FV"},{"$f":"IF(ISBLANK(InfoPro!I114),\"\",YEAR(InfoPro!I114)-$F$3)","v":4},{"$f":"IF(ISBLANK(InfoPro!P114),\"\",InfoPro!P114)","v":-5.8659999999999997},-721115756.69030845,-645005149.09687698,-576927682.55534613,-516035494.23555112,-461570209.51301539,-412853496.8810513,-369278619.75049311,-330302879.91994029,-295440858.60459775,-264258370.84489962,-236367058.00080469,-211419550.98461959,-189105143.99339852,-169145924.85992715,-151293313.8281996,-5550119509.7590294,-56061.813229889187]
[{"$f":"IF(ISBLANK(InfoPro!A115),\"\",InfoPro!A115)","v":"SC_1859_A2"},{"$f":"IF(ISBLANK(InfoPro!B115),\"\",InfoPro!B115)","v":"PV Altamira_99MW"},{"$f":"IF(ISBLANK(InfoPro!E115),\"\",InfoPro!E115)","v":99},{"$f":"IF(ISBLANK(InfoPro!F115),\"\",InfoPro!F115)","v":"Solar FV"},{"$f":"IF(ISBLANK(InfoPro!I115),\"\",YEAR(InfoPro!I115)-$F$3)","v":4},{"$f":"IF(ISBLANK(InfoPro!P115),\"\",InfoPro!P115)","v":-5.4880000000000004},-674647676.9035821,-603441571.47010934,-539750958.38113534,-482782610.35879737,-431827021.78783309,-386249572.26103133,-345482622.77373105,-309018446.13034987,-276402903.51551867,-247229788.47541925,-221135767.86710131,-197795856.76842695,-176919370.99143732,-158246306.79019439,-141544102.67459247,-5192474577.1492605,-52449.23815302283]
[{"$f":"IF(ISBLANK(InfoPro!A116),\"\",InfoPro!A116)","v":"SC_1843_A1"},{"$f":"IF(ISBLANK(InfoPro!B116),\"\",InfoPro!B116)","v":"KOS de 19.9 MW"},{"$f":"IF(ISBLANK(InfoPro!E116),\"\",InfoPro!E116)","v":19.899999999999999},{"$f":"IF(ISBLANK(InfoPro!F116),\"\",InfoPro!F116)","v":"Solar FV"},{"$f":"IF(ISBLANK(InfoPro!I116),\"\",YEAR(InfoPro!I116)-$F$3)","v":2},{"$f":"IF(ISBLANK(InfoPro!P116),\"\",InfoPro!P116)","v":-1.42536},-219013608.44339335,-195897681.97083488,-175221540.22436041,-156727674.61928478,-140185755.4734211,-125389763.39304215,-112155423.42848136,-100317910.04336436,-89729794.314279392,-80259207.794525415,-71788200.173994109,-64211270.280853406,-57434052.12956477,-51372139.65077351,-45950035.465808138,-1685654057.4059811,-84706.234040501557]
[{"$f":"IF(ISBLANK(InfoPro!A117),\"\",InfoPro!A117)","v":"SC_1843_A2"},{"$f":"IF(ISBLANK(InfoPro!B117),\"\",InfoPro!B117)","v":"KOS de 19.9 MW"},{"$f":"IF(ISBLANK(InfoPro!E117),\"\",InfoPro!E117)","v":19.899999999999999},{"$f":"IF(ISBLANK(InfoPro!F117),\"\",InfoPro!F117)","v":"Solar FV"},{"$f":"IF(ISBLANK(InfoPro!I117),\"\",YEAR(InfoPro!I117)-$F$3)","v":2},{"$f":"IF(ISBLANK(InfoPro!P117),\"\",InfoPro!P117)","v":-1.3658999999999999},-209877285.57896319,-187725657.9418276,-167912037.51505151,-150189657.88466147,-134337797.75014442,-120159031.9768734,-107476772.78790107,-96133070.472183421,-85986646.218410924,-76911132.574607298,-68793499.619505629,-61532647.244638324,-55038146.014882222,-49229110.925654948,-44033194.030102804,-1615335688.5354083,-81172.647665095894]
[{"$f":"IF(ISBLANK(InfoPro!A118),\"\",InfoPro!A118)","v":"SC_2012_A1"},{"$f":"IF(ISBLANK(InfoPro!B118),\"\",InfoPro!B118)","v":"Parqu Solar Fotovoltaico Rocio del Sol 50 MW"},{"$f":"IF(ISBLANK(InfoPro!E118),\"\",InfoPro!E118)","v":50},{"$f":"IF(ISBLANK(InfoPro!F118),\"\",InfoPro!F118)","v":"Solar FV"},{"$f":"IF(ISBLANK(InfoPro!I118),\"\",YEAR(InfoPro!I118)-$F$3)","v":3},{"$f":"IF(ISBLANK(InfoPro!P118),\"\",InfoPro!P118)","v":-1.85},-254259072.54731756,-227423141.81334311,-203419625.95111191,-181949575.98489437,-162745595.69310769,-145568511.3534058,-130204392.98157945,-116461889.96563457,-104169847.91201663,-93175177.023270696,-83340945.459097236,-74544673.934791803,-66676810.31734509,-59639365.221238889,-53344691.611126021,-1956923317.7692807,-39138.466355385615]
[{"$f":"IF(ISBLANK(InfoPro!A119),\"\",InfoPro!A119)","v":"SC_2012_A2"},{"$f":"IF(ISBLANK(InfoPro!B119),\"\",InfoPro!B119)","v":"Parqu Solar Fotovoltaico Rocio del Sol 50 MW"},{"$f":"IF(ISBLANK(InfoPro!E119),\"\",InfoPro!E119)","v":50},{"$f":"IF(ISBLANK(InfoPro!F119),\"\",InfoPro!F119)","v":"Solar FV"},{"$f":"IF(ISBLANK(InfoPro!I119),\"\",YEAR(InfoPro!I119)-$F$3)","v":3},{"$f":"IF(ISBLANK(InfoPro!P119),\"\",InfoPro!P119)","v":-2.02},-277623419.75436836,-248321484.57456923,-222112240.22770056,-198669266.75107387,-177700596.37842029,-158945077.26155663,-142169120.98529217,-127163793.36788207,-113742212.31474249,-101737220.31730096,-90999302.609392643,-81394725.053124011,-72803868.562722743,-65119739.32265003,-58246636.245661929,-2136748703.7264578,-42734.974074529156]
[{"$f":"IF(ISBLANK(InfoPro!A120),\"\",InfoPro!A120)","v":"SC_1807_A1"},{"$f":"IF(ISBLANK(InfoPro!B120),\"\",InfoPro!B120)","v":"Parque Solar Canis 49,9 MW"},{"$f":"IF(ISBLANK(InfoPro!E120),\"\",InfoPro!E120)","v":49.9},{"$f":"IF(ISBLANK(InfoPro!F120),\"\",InfoPro!F120)","v":"Solar FV"},{"$f":"IF(ISBLANK(InfoPro!I120),\"\",YEAR(InfoPro!I120)-$F$3)","v":2},{"$f":"IF(ISBLANK(InfoPro!P120),\"\",InfoPro!P120)","v":-19.54983},-3003927999.070344,-2686876564.4636354,-2403288519.1982427,-2149631949.1934195,-1922747718.4198744,-1719810123.8102634,-1538291702.8714342,-1375931755.6989574,-1230708189.3550603,-1100812333.9490705,-984626416.77018809,-880703413.92682314,-787749028.55708694,-704605571.1601851,-630237541.28817976,-23119948827.732761,-463325.62781027576]
[{"$f":"IF(ISBLANK(InfoPro!A121),\"\",InfoPro!A121)","v":"SC_1807_A2"},{"$f":"IF(ISBLANK(InfoPro!B121),\"\",InfoPro!B121)","v":"Parque Solar Canis 49,9 MW"},{"$f":"IF(ISBLANK(InfoPro!E121),\"\",InfoPro!E121)","v":49.9},{"$f":"IF(ISBLANK(InfoPro!F121),\"\",InfoPro!F121)","v":"Solar FV"},{"$f":"IF(ISBLANK(InfoPro!I121),\"\",YEAR(InfoPro!I121)-$F$3)","v":2},{"$f":"IF(ISBLANK(InfoPro!P121),\"\",InfoPro!P121)","v":-18.789870000000001},-2887156389.1804628,-2582429686.2079277,-2309865551.1698818,-2066069365.9837942,-1848004799.6277227,-1652955992.5113802,-1478493732.1210914,-1322445198.6771839,-1182866904.0046368,-1058020486.5873318,-946351061.34823954,-846467854.51542008,-757126882.39304137,-677215458.31220162,-605738334.80518913,-22221207697.445503,-445314.78351594193]
[{"$f":"IF(ISBLANK(InfoPro!A122),\"\",InfoPro!A122)","v":"SC_1918_A1"},{"$f":"IF(ISBLANK(InfoPro!B122),\"\",InfoPro!B122)","v":"Casiopea 40 MW"},{"$f":"IF(ISBLANK(InfoPro!E122),\"\",InfoPro!E122)","v":40},{"$f":"IF(ISBLANK(InfoPro!F122),\"\",InfoPro!F122)","v":"Solar FV"},{"$f":"IF(ISBLANK(InfoPro!I122),\"\",YEAR(InfoPro!I122)-$F$3)","v":2},{"$f":"IF(ISBLANK(InfoPro!P122),\"\",InfoPro!P122)","v":-9.6890000000000001},-1488762735.1742988,-1331630353.4653838,-1191082605.9618819,-1065369057.2109857,-952924022.5500766,-852347068.47055161,-762385571.0827831,-681919115.4586612,-609945541.55515301,-545568462.92947519,-487986102.79917282,-436481308.40713137,-390412619.32659334,-349206278.46743596,-312349086.28572083,-11458369929.145306,-286459.24822863261]
[{"$f":"IF(ISBLANK(InfoPro!A123),\"\",InfoPro!A123)","v":"SC_1918_A2"},{"$f":"IF(ISBLANK(InfoPro!B123),\"\",InfoPro!B123)","v":"Casiopea 40 MW"},{"$f":"IF(ISBLANK(InfoPro!E123),\"\",InfoPro!E123)","v":40},{"$f":"IF(ISBLANK(InfoPro!F123),\"\",InfoPro!F123)","v":"Solar FV"},{"$f":"IF(ISBLANK(InfoPro!I123),\"\",YEAR(InfoPro!I123)-$F$3)","v":2},{"$f":"IF(ISBLANK(InfoPro!P123),\"\",InfoPro!P123)","v":-10.164},-1561748832.7290301,-1396913088.3086138,-1249475034.2653077,-1117598420.6308656,-999640805.57322502,-894133099.79716015,-799761269.9437927,-715349973.11609375,-639847918.70849168,-572314775.23120916,-511909459.06190443,-457879659.26825088,-409552468.03958046,-366326000.03540295,-327661896.27495784,-12020112700.983887,-300502.81752459717]
[{"$f":"IF(ISBLANK(InfoPro!A124),\"\",InfoPro!A124)","v":"SC_1813_A1"},{"$f":"IF(ISBLANK(InfoPro!B124),\"\",InfoPro!B124)","v":"Parque de generación Cefeo"},{"$f":"IF(ISBLANK(InfoPro!E124),\"\",InfoPro!E124)","v":19.899999999999999},{"$f":"IF(ISBLANK(InfoPro!F124),\"\",InfoPro!F124)","v":"Solar FV"},{"$f":"IF(ISBLANK(InfoPro!I124),\"\",YEAR(InfoPro!I124)-$F$3)","v":2},{"$f":"IF(ISBLANK(InfoPro!P124),\"\",InfoPro!P124)","v":-9.9533000000000005},-1529373736.4031737,-1367955041.5055223,-1223573382.3841882,-1094430574.5833526,-978918224.13537788,-875597696.00659943,-783182196.78586709,-700520748.46678638,-626583853.72700024,-560450674.17441893,-501297561.87336224,-448387801.31785542,-401062434.09468281,-358732051.96304375,-320869456.1386795,-11770935433.55991,-591504.29314371408]
[{"$f":"IF(ISBLANK(InfoPro!A125),\"\",InfoPro!A125)","v":"SC_1813_A2"},{"$f":"IF(ISBLANK(InfoPro!B125),\"\",InfoPro!B125)","v":"Parque de generación Cefeo"},{"$f":"IF(ISBLANK(InfoPro!E125),\"\",InfoPro!E125)","v":19.899999999999999},{"$f":"IF(ISBLANK(InfoPro!F125),\"\",InfoPro!F125)","v":"Solar FV"},{"$f":"IF(ISBLANK(InfoPro!I125),\"\",YEAR(InfoPro!I125)-$F$3)","v":2},{"$f":"IF(ISBLANK(InfoPro!P125),\"\",InfoPro!P125)","v":-9.71326},{"$f":"IF($F131=\"\",\"\",(1/(1+$C$3)^(G$6+$E131))*$F131*$C$2)","v":-1492490404.0725677},-1334964583.2491663,-1194064922.4053369,-1068036603.2248094,-955310020.77353251,-854481235.03893793,-764294485.72355807,-683626552.52554405,-611472766.12302673,-546934495.63777006,-489207956.74219149,-437574201.02163821,-391390161.91559774,-350080645.72057045,-313131167.90748692,-11487060202.081734,-577239.20613476052]
[{"$f":"IF(ISBLANK(InfoPro!A126),\"\",InfoPro!A126)","v":"SC_1949_A1"},{"$f":"IF(ISBLANK(InfoPro!B126),\"\",InfoPro!B126)","v":"Solar Planeta Rica"},{"$f":"IF(ISBLANK(InfoPro!E126),\"\",InfoPro!E126)","v":19.899999999999999},{"$f":"IF(ISBLANK(InfoPro!F126),\"\",InfoPro!F126)","v":"Solar FV"},{"$f":"IF(ISBLANK(InfoPro!I126),\"\",YEAR(InfoPro!I126)-$F$3)","v":3},{"$f":"IF(ISBLANK(InfoPro!P126),\"\",InfoPro!P126)","v":-2.71},-372455181.94769222,-333144169.89954585,-297982262.8797369,-266531541.03733176,-238400305.04233614,-213238197.71228635,-190731840.52977312,-170600930.70641601,-152594750.18462977,-136489043.09895328,-122083222.80765052,-109197873.70988421,-97672516.735137939,-87363610.675436422,-78142764.468190014,-2866628211.4350014,-144051.66891633172]
[{"$f":"IF(ISBLANK(InfoPro!A127),\"\",InfoPro!A127)","v":"SC_1949_A2"},{"$f":"IF(ISBLANK(InfoPro!B127),\"\",InfoPro!B127)","v":"Solar Planeta Rica"},{"$f":"IF(ISBLANK(InfoPro!E127),\"\",InfoPro!E127)","v":19.899999999999999},{"$f":"IF(ISBLANK(InfoPro!F127),\"\",InfoPro!F127)","v":"Solar FV"},{"$f":"IF(ISBLANK(InfoPro!I127),\"\",YEAR(InfoPro!I127)-$F$3)","v":3},{"$f":"IF(ISBLANK(InfoPro!P127),\"\",InfoPro!P127)","v":-1.04},-142934829.9725461,-127848685.12750098,-114354816.75089535,-102285167.04015684,-91489415.957206488,-81833109.085157856,-73195983.081536561,-65470467.872572936,-58560346.934322871,-52379558.975244068,-46851126.095924929,-41906195.076855935,-37483179.854075074,-33526994.502750508,-29988367.17598436,-1100108243.5027308,-55281.82128154426]
[{"$f":"IF(ISBLANK(InfoPro!A128),\"\",InfoPro!A128)","v":"SC_1970_A1"},{"$f":"IF(ISBLANK(InfoPro!B128),\"\",InfoPro!B128)","v":"Parque Solar Montería"},{"$f":"IF(ISBLANK(InfoPro!E128),\"\",InfoPro!E128)","v":99},{"$f":"IF(ISBLANK(InfoPro!F128),\"\",InfoPro!F128)","v":"Solar FV"},{"$f":"IF(ISBLANK(InfoPro!I128),\"\",YEAR(InfoPro!I128)-$F$3)","v":3},{"$f":"IF(ISBLANK(InfoPro!P128),\"\",InfoPro!P128)","v":-5.641},-775284015.26455057,-693456185.38868558,-620264924.31903911,-554798680.07069683,-496242110.97557867,-443865931.1051687,-397017827.46437275,-355114335.8357538,-317633574.09280312,-284108742.48014593,-254122309.91068509,-227300813.87360027,-203310209.18926683,-181851707.68270731,-162658056.96127671,-5967029424.6143322,-60273.02449105386]
[{"$f":"IF(ISBLANK(InfoPro!A129),\"\",InfoPro!A129)","v":"SC_1970_A2"},{"$f":"IF(ISBLANK(InfoPro!B129),\"\",InfoPro!B129)","v":"Parque Solar Montería"},{"$f":"IF(ISBLANK(InfoPro!E129),\"\",InfoPro!E129)","v":99},{"$f":"IF(ISBLANK(InfoPro!F129),\"\",InfoPro!F129)","v":"Solar FV"},{"$f":"IF(ISBLANK(InfoPro!I129),\"\",YEAR(InfoPro!I129)-$F$3)","v":3},{"$f":"IF(ISBLANK(InfoPro!P129),\"\",InfoPro!P129)","v":5.6310000000000002},773909641.8994298,692226871.10861349,619165358.77335739,553815168.84915698,495362405.05291325,443079074.2870422,396314019.93474269,354484812.10620987,317070493.83381927,283605092.87461472,253671818.31360891,226897869.69016901,202949793.99836224,181529332.73556551,162369707.27689222,5956451460.734498,60166.176371055539]
[{"$f":"IF(ISBLANK(InfoPro!A130),\"\",InfoPro!A130)","v":"SC_2072_A1"},{"$f":"IF(ISBLANK(InfoPro!B130),\"\",InfoPro!B130)","v":"Porvenir - 9.9 MW"},{"$f":"IF(ISBLANK(InfoPro!E130),\"\",InfoPro!E130)","v":9.9},{"$f":"IF(ISBLANK(InfoPro!F130),\"\",InfoPro!F130)","v":"Solar FV"},{"$f":"IF(ISBLANK(InfoPro!I130),\"\",YEAR(InfoPro!I130)-$F$3)","v":2},{"$f":"IF(ISBLANK(InfoPro!P130),\"\",InfoPro!P130)","v":-2.13},-327285026.92963737,-292741526.77069533,-261843941.65536258,-234207461.2301991,-209487890.18801349,-187377361.52774018,-167600502.2609483,-149911003.81122389,-134088554.39286572,-119936095.16356508,-107277365.97814408,-95954710.17723085,-85827111.070868388,-76768435.662672997,-68665863.741210163,-2518972850.5603776,-254441.70207680581]
[{"$f":"IF(ISBLANK(InfoPro!A131),\"\",InfoPro!A131)","v":"SC_2204_A1"},{"$f":"IF(ISBLANK(InfoPro!B131),\"\",InfoPro!B131)","v":"Parque Solar Ciénaga Grande - 19.9 MW"},{"$f":"IF(ISBLANK(InfoPro!E131),\"\",InfoPro!E131)","v":19.899999999999999},{"$f":"IF(ISBLANK(InfoPro!F131),\"\",InfoPro!F131)","v":"Solar FV"},{"$f":"IF(ISBLANK(InfoPro!I131),\"\",YEAR(InfoPro!I131)-$F$3)","v":2},{"$f":"IF(ISBLANK(InfoPro!P131),\"\",InfoPro!P131)","v":-0.96},-147508744.53166753,-131939843.051581,-118014170.886924,-105558292.38544185,-94417077.267837077,-84451768.575882897,-75538254.54014571,-67565522.844495282,-60434278.036221176,-54055704.862451866,-48350362.130994514,-43247193.319315314,-38682641.609405473,-34599858.326838531,-30947994.925615855,-1135311707.2948182,-57050.83956255368]
[{"$f":"IF(ISBLANK(InfoPro!A132),\"\",InfoPro!A132)","v":"SC_2204_A2"},{"$f":"IF(ISBLANK(InfoPro!B132),\"\",InfoPro!B132)","v":"Parque Solar Ciénaga Grande - 19.9 MW"},{"$f":"IF(ISBLANK(InfoPro!E132),\"\",InfoPro!E132)","v":19.899999999999999},{"$f":"IF(ISBLANK(InfoPro!F132),\"\",InfoPro!F132)","v":"Solar FV"},{"$f":"IF(ISBLANK(InfoPro!I132),\"\",YEAR(InfoPro!I132)-$F$3)","v":2},{"$f":"IF(ISBLANK(InfoPro!P132),\"\",InfoPro!P132)","v":-0.94},-144435645.6872578,-129191096.32133973,-115555542.32677972,-103359161.29407847,-92450054.824757144,-82692356.730552018,-73964540.903892681,-66157907.785234965,-59175230.577133231,-52929544.344484128,-47343062.919932127,-42346210.125162907,-37876753.242542855,-33879027.945029393,-30303245.031332191,-1111659380.0595093,-55862.280405000463]
[{"$f":"IF(ISBLANK(InfoPro!A133),\"\",InfoPro!A133)","v":"SC_2166_A1"},{"$f":"IF(ISBLANK(InfoPro!B133),\"\",InfoPro!B133)","v":"Parque fotovoltaico Delphinus"},{"$f":"IF(ISBLANK(InfoPro!E133),\"\",InfoPro!E133)","v":19.899999999999999},{"$f":"IF(ISBLANK(InfoPro!F133),\"\",InfoPro!F133)","v":"Solar FV"},{"$f":"IF(ISBLANK(InfoPro!I133),\"\",YEAR(InfoPro!I133)-$F$3)","v":2},{"$f":"IF(ISBLANK(InfoPro!P133),\"\",InfoPro!P133)","v":-1.1499999999999999},-176703183.55356008,-158052936.98887309,-141371142.20829433,-126450037.75339387,-113103790.4770965,-101166181.10652639,-90488534.084549561,-80937865.907468304,-72395228.897556618,-64754229.783145465,-57919704.636087179,-51806533.663763136,-46338581.094600305,-41447746.954025321,-37073118.921310656,-1360008816.0302505,-68342.151559309073]
[{"$f":"IF(ISBLANK(InfoPro!A134),\"\",InfoPro!A134)","v":"SC_2166_A2"},{"$f":"IF(ISBLANK(InfoPro!B134),\"\",InfoPro!B134)","v":"Parque fotovoltaico Delphinus"},{"$f":"IF(ISBLANK(InfoPro!E134),\"\",InfoPro!E134)","v":19.899999999999999},{"$f":"IF(ISBLANK(InfoPro!F134),\"\",InfoPro!F134)","v":"Solar FV"},{"$f":"IF(ISBLANK(InfoPro!I134),\"\",YEAR(InfoPro!I134)-$F$3)","v":2},{"$f":"IF(ISBLANK(InfoPro!P134),\"\",InfoPro!P134)","v":-1.37},-210507270.84206724,-188289151.02152708,-168416056.36988112,-150640479.75839099,-134741037.35097584,-120519711.40516624,-107799384.08333296,-96421631.559331819,-86244750.947523981,-77141995.48079069,-68999995.957773432,-61717348.799439572,-55203353.130089067,-49376881.153925821,-44165367.758430958,-1620184415.6186471,-81416.302292394321]
[{"$f":"IF(ISBLANK(InfoPro!A135),\"\",InfoPro!A135)","v":"SC_1923_A1"},{"$f":"IF(ISBLANK(InfoPro!B135),\"\",InfoPro!B135)","v":"Parque Solar Fotovoltaico Chunú I 50 MW"},{"$f":"IF(ISBLANK(InfoPro!E135),\"\",InfoPro!E135)","v":50},{"$f":"IF(ISBLANK(InfoPro!F135),\"\",InfoPro!F135)","v":"Solar FV"},{"$f":"IF(ISBLANK(InfoPro!I135),\"\",YEAR(InfoPro!I135)-$F$3)","v":4},{"$f":"IF(ISBLANK(InfoPro!P135),\"\",InfoPro!P135)","v":-4.92},-604822625.79548538,-540986248.47538948,-483887520.99766499,-432815313.95139992,-387133554.51824683,-346273304.57803833,-309725674.93563354,-277035487.42006582,-247795605.92134687,-221641865.761491,-198248538.24820304,-177324273.92504749,-158608473.99378127,-141868044.71715677,-126894494.38028334,-4655061027.6192331,-93101.220552384664]
[{"$f":"IF(ISBLANK(InfoPro!A136),\"\",InfoPro!A136)","v":"SC_1923_A2"},{"$f":"IF(ISBLANK(InfoPro!B136),\"\",InfoPro!B136)","v":"Parque Solar Fotovoltaico Chunú I 50 MW"},{"$f":"IF(ISBLANK(InfoPro!E136),\"\",InfoPro!E136)","v":50},{"$f":"IF(ISBLANK(InfoPro!F136),\"\",InfoPro!F136)","v":"Solar FV"},{"$f":"IF(ISBLANK(InfoPro!I136),\"\",YEAR(InfoPro!I136)-$F$3)","v":4},{"$f":"IF(ISBLANK(InfoPro!P136),\"\",InfoPro!P136)","v":-4.8600000000000003},-597446740.1150527,-534388855.20129937,-477986453.66842526,-427537078.4154073,-382412413.60948771,-342050459.40025735,-305948532.55836976,-273657005.8661626,-244773708.28815976,-218938916.17903379,-195830873.14761522,-175161782.77962008,-156674224.31093028,-140137946.61085001,-125347000.54637745,-4598291990.6970491,-91965.839813940984]
[{"$f":"IF(ISBLANK(InfoPro!A137),\"\",InfoPro!A137)","v":"SC_1937_A1"},{"$f":"IF(ISBLANK(InfoPro!B137),\"\",InfoPro!B137)","v":"Parque Solar Fotovoltaico ChInú II 50 MW"},{"$f":"IF(ISBLANK(InfoPro!E137),\"\",InfoPro!E137)","v":50},{"$f":"IF(ISBLANK(InfoPro!F137),\"\",InfoPro!F137)","v":"Solar FV"},{"$f":"IF(ISBLANK(InfoPro!I137),\"\",YEAR(InfoPro!I137)-$F$3)","v":4},{"$f":"IF(ISBLANK(InfoPro!P137),\"\",InfoPro!P137)","v":-4.92},-604822625.79548538,-540986248.47538948,-483887520.99766499,-432815313.95139992,-387133554.51824683,-346273304.57803833,-309725674.93563354,-277035487.42006582,-247795605.92134687,-221641865.761491,-198248538.24820304,-177324273.92504749,-158608473.99378127,-141868044.71715677,-126894494.38028334,-4655061027.6192331,-93101.220552384664]
[{"$f":"IF(ISBLANK(InfoPro!A138),\"\",InfoPro!A138)","v":"SC_1937_A2"},{"$f":"IF(ISBLANK(InfoPro!B138),\"\",InfoPro!B138)","v":"Parque Solar Fotovoltaico ChInú II 50 MW"},{"$f":"IF(ISBLANK(InfoPro!E138),\"\",InfoPro!E138)","v":50},{"$f":"IF(ISBLANK(InfoPro!F138),\"\",InfoPro!F138)","v":"Solar FV"},{"$f":"IF(ISBLANK(InfoPro!I138),\"\",YEAR(InfoPro!I138)-$F$3)","v":4},{"$f":"IF(ISBLANK(InfoPro!P138),\"\",InfoPro!P138)","v":-4.8600000000000003},-597446740.1150527,-534388855.20129937,-477986453.66842526,-427537078.4154073,-382412413.60948771,-342050459.40025735,-305948532.55836976,-273657005.8661626,-244773708.28815976,-218938916.17903379,-195830873.14761522,-175161782.77962008,-156674224.31093028,-140137946.61085001,-125347000.54637745,-4598291990.6970491,-91965.839813940984]
[{"$f":"IF(ISBLANK(InfoPro!A139),\"\",InfoPro!A139)","v":"SC_1810_A1"},{"$f":"IF(ISBLANK(InfoPro!B139),\"\",InfoPro!B139)","v":"Parque Solar Coveñas 50 MW"},{"$f":"IF(ISBLANK(InfoPro!E139),\"\",InfoPro!E139)","v":50},{"$f":"IF(ISBLANK(InfoPro!F139),\"\",InfoPro!F139)","v":"Solar FV"},{"$f":"IF(ISBLANK(InfoPro!I139),\"\",YEAR(InfoPro!I139)-$F$3)","v":4},{"$f":"IF(ISBLANK(InfoPro!P139),\"\",InfoPro!P139)","v":-5.67},-697021196.80089486,-623453664.40151596,-557650862.61316276,-498793258.15130836,-446147815.87773567,-399058869.30030018,-356939954.65143132,-319266506.84385639,-285569326.33618641,-255428735.54220608,-228469352.0055511,-204355413.24289009,-182786595.02941862,-163494271.04599166,-146238167.30410701,-5364673989.1465569,-107293.47978293114]
[{"$f":"IF(ISBLANK(InfoPro!A140),\"\",InfoPro!A140)","v":"SC_1810_A2"},{"$f":"IF(ISBLANK(InfoPro!B140),\"\",InfoPro!B140)","v":"Parque Solar Coveñas 50 MW"},{"$f":"IF(ISBLANK(InfoPro!E140),\"\",InfoPro!E140)","v":50},{"$f":"IF(ISBLANK(InfoPro!F140),\"\",InfoPro!F140)","v":"Solar FV"},{"$f":"IF(ISBLANK(InfoPro!I140),\"\",YEAR(InfoPro!I140)-$F$3)","v":4},{"$f":"IF(ISBLANK(InfoPro!P140),\"\",InfoPro!P140)","v":-6.83},-839621653.28926134,-751003267.70059144,-671738164.31179917,-600839145.18050027,-537423206.78041172,-480700542.73739868,-429964707.27853191,-384583816.88598573,-343992680.57780474,-307685760.80304545,-275210877.28358269,-246163575.38781995,-220182088.89787114,-196942834.43458956,-176156381.42628762,-6462208702.9754801,-129244.17405950961]
[{"$f":"IF(ISBLANK(InfoPro!A141),\"\",InfoPro!A141)","v":"SC_1835_A1"},{"$f":"IF(ISBLANK(InfoPro!B141),\"\",InfoPro!B141)","v":"Parque Solar Coveñas II 50 MW"},{"$f":"IF(ISBLANK(InfoPro!E141),\"\",InfoPro!E141)","v":50},{"$f":"IF(ISBLANK(InfoPro!F141),\"\",InfoPro!F141)","v":"Solar FV"},{"$f":"IF(ISBLANK(InfoPro!I141),\"\",YEAR(InfoPro!I141)-$F$3)","v":4},{"$f":"IF(ISBLANK(InfoPro!P141),\"\",InfoPro!P141)","v":-5.67},-697021196.80089486,-623453664.40151596,-557650862.61316276,-498793258.15130836,-446147815.87773567,-399058869.30030018,-356939954.65143132,-319266506.84385639,-285569326.33618641,-255428735.54220608,-228469352.0055511,-204355413.24289009,-182786595.02941862,-163494271.04599166,-146238167.30410701,-5364673989.1465569,-107293.47978293114]
[{"$f":"IF(ISBLANK(InfoPro!A142),\"\",InfoPro!A142)","v":"SC_1835_A2"},{"$f":"IF(ISBLANK(InfoPro!B142),\"\",InfoPro!B142)","v":"Parque Solar Coveñas II 50 MW"},{"$f":"IF(ISBLANK(InfoPro!E142),\"\",InfoPro!E142)","v":50},{"$f":"IF(ISBLANK(InfoPro!F142),\"\",InfoPro!F142)","v":"Solar FV"},{"$f":"IF(ISBLANK(InfoPro!I142),\"\",YEAR(InfoPro!I142)-$F$3)","v":4},{"$f":"IF(ISBLANK(InfoPro!P142),\"\",InfoPro!P142)","v":-6.83},{"$f":"IF($F148=\"\",\"\",(1/(1+$C$3)^(G$6+$E148))*$F148*$C$2)","v":-839621653.28926134},-751003267.70059144,-671738164.31179917,-600839145.18050027,-537423206.78041172,-480700542.73739868,-429964707.27853191,-384583816.88598573,-343992680.57780474,-307685760.80304545,-275210877.28358269,-246163575.38781995,-220182088.89787114,-196942834.43458956,-176156381.42628762,-6462208702.9754801,-129244.17405950961]
[{"$f":"IF(ISBLANK(InfoPro!A143),\"\",InfoPro!A143)","v":"SC_1873_A1"},{"$f":"IF(ISBLANK(InfoPro!B143),\"\",InfoPro!B143)","v":"Cusumbo Solar"},{"$f":"IF(ISBLANK(InfoPro!E143),\"\",InfoPro!E143)","v":99.9},{"$f":"IF(ISBLANK(InfoPro!F143),\"\",InfoPro!F143)","v":"Solar FV"},{"$f":"IF(ISBLANK(InfoPro!I143),\"\",YEAR(InfoPro!I143)-$F$3)","v":3},{"$f":"IF(ISBLANK(InfoPro!P143),\"\",InfoPro!P143)","v":-37.090000000000003},-5097550811.2324371,-4559526664.7875118,-4078288608.9333739,-3647843120.6917472,-3262829267.1661429,-2918451938.4312553,-2610422127.3982606,-2334903512.8785868,-2088464680.5711877,-1868036386.9151947,-1670873333.5556302,-1494519976.3467181,-1336779943.065043,-1195688678.9490542,-1069488979.3819808,-39233668030.304115,-392729.4097127539]
[{"$f":"IF(ISBLANK(InfoPro!A144),\"\",InfoPro!A144)","v":"SC_1873_A2"},{"$f":"IF(ISBLANK(InfoPro!B144),\"\",InfoPro!B144)","v":"Cusumbo Solar"},{"$f":"IF(ISBLANK(InfoPro!E144),\"\",InfoPro!E144)","v":99.9},{"$f":"IF(ISBLANK(InfoPro!F144),\"\",InfoPro!F144)","v":"Solar FV"},{"$f":"IF(ISBLANK(InfoPro!I144),\"\",YEAR(InfoPro!I144)-$F$3)","v":3},{"$f":"IF(ISBLANK(InfoPro!P144),\"\",InfoPro!P144)","v":-52.35},-7194844566.4065275,-6435460256.1775742,-5756225631.6436262,-5148681244.7617407,-4605260505.153615,-4119195442.8923216,-3684432417.6138835,-3295556724.1626859,-2947725155.7805786,-2636605684.9557948,-2358323510.6939135,-2109412800.2628922,-1886773524.3854136,-1687632848.2874897,-1509510597.7526741,-55375640910.93074,-554310.71982913651]
[{"$f":"IF(ISBLANK(InfoPro!A145),\"\",InfoPro!A145)","v":"SC_2067_A1"},{"$f":"IF(ISBLANK(InfoPro!B145),\"\",InfoPro!B145)","v":"TIERRALTA 70 MW"},{"$f":"IF(ISBLANK(InfoPro!E145),\"\",InfoPro!E145)","v":70},{"$f":"IF(ISBLANK(InfoPro!F145),\"\",InfoPro!F145)","v":"Solar FV"},{"$f":"IF(ISBLANK(InfoPro!I145),\"\",YEAR(InfoPro!I145)-$F$3)","v":4},{"$f":"IF(ISBLANK(InfoPro!P145),\"\",InfoPro!P145)","v":-5.14473},-632449005.61154628,-565696784.98349404,-505989968.67933273,-452584945.15146047,-404816587.79200405,-362089971.19141686,-323872961.70967519,-289689590.08021045,-259114123.5064494,-231765763.42258447,-207303902.88245481,-185423884.51024583,-165853206.18089962,-148348127.17432883,-132690632.53517786,{"$f":"IF(U151=\"\",\"\",SUM(G151:U151))","v":-4867689455.4112816},{"$f":"IF(C151=0,0,IF(V151=\"\",\"\",V151/(C151*1000)))","v":-69538.420791589742}]
[{"$f":"IF(ISBLANK(InfoPro!A146),\"\",InfoPro!A146)","v":"SC_2067_A2"},{"$f":"IF(ISBLANK(InfoPro!B146),\"\",InfoPro!B146)","v":"TIERRALTA 70 MW"},{"$f":"IF(ISBLANK(InfoPro!E146),\"\",InfoPro!E146)","v":70},{"$f":"IF(ISBLANK(InfoPro!F146),\"\",InfoPro!F146)","v":"Solar FV"},{"$f":"IF(ISBLANK(InfoPro!I146),\"\",YEAR(InfoPro!I146)-$F$3)","v":4},{"$f":"IF(ISBLANK(InfoPro!P146),\"\",InfoPro!P146)","v":-4.61625},-567482204.53829455,-507586945.02530831,-454013367.64338845,-406094246.55043691,-363232778.6676538,-324895150.86552221,-290603891.65073538,-259931924.55343071,-232497249.15333691,-207958183.50030136,-186009108.6764771,-166376662.50132123,-148816334.9743481,-133109423.05397864,-119060306.84613474,-4367667778.2006683,-62395.253974295265]
[{"$f":"IF(ISBLANK(InfoPro!A147),\"\",InfoPro!A147)","v":"SC_1942_A1"},{"$f":"IF(ISBLANK(InfoPro!B147),\"\",InfoPro!B147)","v":"San Jorge Fotovoltaico 135 MW"},{"$f":"IF(ISBLANK(InfoPro!E147),\"\",InfoPro!E147)","v":135},{"$f":"IF(ISBLANK(InfoPro!F147),\"\",InfoPro!F147)","v":"Solar FV"},{"$f":"IF(ISBLANK(InfoPro!I147),\"\",YEAR(InfoPro!I147)-$F$3)","v":2},{"$f":"IF(ISBLANK(InfoPro!P147),\"\",InfoPro!P147)","v":-18.213000000000001},-2798517462.6617303,-2503146209.8942137,-2238950098.295361,-2002638728.350055,-1791268987.7907467,-1602208396.9505787,-1433102322.8538272,-1281844653.715409,-1146551568.6184337,-1025538075.6873292,-917297026.55396175,-820480345.75488532,-733882241.28343952,-656424187.19448984,-587141491.22941828,-21538991796.833881,-159548.08738395467]
[{"$f":"IF(ISBLANK(InfoPro!A148),\"\",InfoPro!A148)","v":"SC_1942_A2"},{"$f":"IF(ISBLANK(InfoPro!B148),\"\",InfoPro!B148)","v":"San Jorge Fotovoltaico 135 MW"},{"$f":"IF(ISBLANK(InfoPro!E148),\"\",InfoPro!E148)","v":135},{"$f":"IF(ISBLANK(InfoPro!F148),\"\",InfoPro!F148)","v":"Solar FV"},{"$f":"IF(ISBLANK(InfoPro!I148),\"\",YEAR(InfoPro!I148)-$F$3)","v":2},{"$f":"IF(ISBLANK(InfoPro!P148),\"\",InfoPro!P148)","v":-38.468000000000004},-5910798317.3376951,-5286939460.9460611,-4728926172.5814505,-4229808741.1283102,-3783370967.0199552,-3384052743.309442,-3026880807.9690895,-2707406804.9812965,-2421651882.8097463,-2166057140.2591653,-1937439302.5573931,-1732951075.632731,-1550045684.8235521,-1386445156.3716924,-1240111946.6651986,-45492886204.392776,-336984.34225476132]
[{"$f":"IF(ISBLANK(InfoPro!A149),\"\",InfoPro!A149)","v":"SC_2107_A1"},{"$f":"IF(ISBLANK(InfoPro!B149),\"\",InfoPro!B149)","v":"Parque Solar Aries"},{"$f":"IF(ISBLANK(InfoPro!E149),\"\",InfoPro!E149)","v":175},{"$f":"IF(ISBLANK(InfoPro!F149),\"\",InfoPro!F149)","v":"Solar FV"},{"$f":"IF(ISBLANK(InfoPro!I149),\"\",YEAR(InfoPro!I149)-$F$3)","v":3},{"$f":"IF(ISBLANK(InfoPro!P149),\"\",InfoPro!P149)","v":-21.96},-3018123909.8049159,-2699574159.0383863,-2414645938.3169823,-2159790642.5017734,-1931834206.1733215,-1727937572.6058335,-1545561335.0678296,-1382434110.0785596,-1236524248.7285867,-1106014533.7464995,-989279547.17933786,-884865426.81515014,-791471759.22643149,-707935383.92346263,-633215906.90828514,-23229208680.115356,-132738.33531494488]
[{"$f":"IF(ISBLANK(InfoPro!A150),\"\",InfoPro!A150)","v":"SC_2107_A2"},{"$f":"IF(ISBLANK(InfoPro!B150),\"\",InfoPro!B150)","v":"Parque Solar Aries"},{"$f":"IF(ISBLANK(InfoPro!E150),\"\",InfoPro!E150)","v":175},{"$f":"IF(ISBLANK(InfoPro!F150),\"\",InfoPro!F150)","v":"Solar FV"},{"$f":"IF(ISBLANK(InfoPro!I150),\"\",YEAR(InfoPro!I150)-$F$3)","v":3},{"$f":"IF(ISBLANK(InfoPro!P150),\"\",InfoPro!P150)","v":-27.536000000000001},-3784474498.1961823,-3385039801.6066031,-3027763686.5890908,-2708196499.6324601,-2422358228.6515746,-2166688934.3931799,-1938004413.5896063,-1733456541.6722775,-1550497801.1379945,-1386849553.7906928,-1240473661.7090278,-1109547103.4964471,-992439269.67481863,-887691654.44974804,-793999690.92106283,-29127481339.510769,-166442.7505114901]
[{"$f":"IF(ISBLANK(InfoPro!A151),\"\",InfoPro!A151)","v":"SC_2031\n_A1"},{"$f":"IF(ISBLANK(InfoPro!B151),\"\",InfoPro!B151)","v":"PSF Cispata_70MW"},{"$f":"IF(ISBLANK(InfoPro!E151),\"\",InfoPro!E151)","v":70},{"$f":"IF(ISBLANK(InfoPro!F151),\"\",InfoPro!F151)","v":"Solar FV"},{"$f":"IF(ISBLANK(InfoPro!I151),\"\",YEAR(InfoPro!I151)-$F$3)","v":3},{"$f":"IF(ISBLANK(InfoPro!P151),\"\",InfoPro!P151)","v":-8.42},-1157222373.4315751,-1035082623.8207291,-925834189.4639796,-828116448.53665447,-740712386.88430631,-662533440.86252809,-592605939.94859409,-530058980.27602321,-474113578.06442165,-424072967.8572644,-379313924.73816139,-339279002.44916052,-303469590.74164629,-271439705.49342239,-242790434.2517195,-8906645586.8201847,-127237.79409743121]
[{"$f":"IF(ISBLANK(InfoPro!A152),\"\",InfoPro!A152)","v":"SC_2136_A1"},{"$f":"IF(ISBLANK(InfoPro!B152),\"\",InfoPro!B152)","v":"Yaguarundi Solar II 40 MW"},{"$f":"IF(ISBLANK(InfoPro!E152),\"\",InfoPro!E152)","v":40},{"$f":"IF(ISBLANK(InfoPro!F152),\"\",InfoPro!F152)","v":"Solar FV"},{"$f":"IF(ISBLANK(InfoPro!I152),\"\",YEAR(InfoPro!I152)-$F$3)","v":3},{"$f":"IF(ISBLANK(InfoPro!P152),\"\",InfoPro!P152)","v":-6.7523999999999997},-928031871.06405783,-830082174.4759016,-742470639.06610155,-664106117.23264909,-594012627.22061646,-531317197.87174988,-475238996.30746865,-425079603.13727069,-380214314.07627082,-340084359.6388827,-304189946.00973409,-272084030.42015576,-243366753.5064005,-217680459.30805048,-194705240.88376614,-7142664330.2190752,-178566.60825547689]
[{"$f":"IF(ISBLANK(InfoPro!A153),\"\",InfoPro!A153)","v":"SC_2136_A2"},{"$f":"IF(ISBLANK(InfoPro!B153),\"\",InfoPro!B153)","v":"Yaguarundi Solar II 40 MW"},{"$f":"IF(ISBLANK(InfoPro!E153),\"\",InfoPro!E153)","v":40},{"$f":"IF(ISBLANK(InfoPro!F153),\"\",InfoPro!F153)","v":"Solar FV"},{"$f":"IF(ISBLANK(InfoPro!I153),\"\",YEAR(InfoPro!I153)-$F$3)","v":3},{"$f":"IF(ISBLANK(InfoPro!P153),\"\",InfoPro!P153)","v":-4.8771000000000004},-670295633.90298522,-599548867.53397608,-536269112.28441513,-479668257.85725862,-429041375.54316515,-383757938.76848412,-343253970.27592492,-307025018.13588989,-274619873.10902506,-245634949.11361814,-219709256.81003413,-196519907.7012828,-175778092.75606689,-157225485.47054282,-140631024.57114744,-5158978763.8338165,-128974.46909584542]
[{"$f":"IF(ISBLANK(InfoPro!A154),\"\",InfoPro!A154)","v":"SC_2180_A1"},{"$f":"IF(ISBLANK(InfoPro!B154),\"\",InfoPro!B154)","v":"Yaguarundi Solar III 40 MW"},{"$f":"IF(ISBLANK(InfoPro!E154),\"\",InfoPro!E154)","v":40},{"$f":"IF(ISBLANK(InfoPro!F154),\"\",InfoPro!F154)","v":"Solar FV"},{"$f":"IF(ISBLANK(InfoPro!I154),\"\",YEAR(InfoPro!I154)-$F$3)","v":3},{"$f":"IF(ISBLANK(InfoPro!P154),\"\",InfoPro!P154)","v":-6.7523999999999997},-928031871.06405783,-830082174.4759016,-742470639.06610155,-664106117.23264909,-594012627.22061646,-531317197.87174988,-475238996.30746865,-425079603.13727069,-380214314.07627082,-340084359.6388827,-304189946.00973409,-272084030.42015576,-243366753.5064005,-217680459.30805048,-194705240.88376614,-7142664330.2190752,-178566.60825547689]
[{"$f":"IF(ISBLANK(InfoPro!A155),\"\",InfoPro!A155)","v":"SC_2180_A2"},{"$f":"IF(ISBLANK(InfoPro!B155),\"\",InfoPro!B155)","v":"Yaguarundi Solar III 40 MW"},{"$f":"IF(ISBLANK(InfoPro!E155),\"\",InfoPro!E155)","v":40},{"$f":"IF(ISBLANK(InfoPro!F155),\"\",InfoPro!F155)","v":"Solar FV"},{"$f":"IF(ISBLANK(InfoPro!I155),\"\",YEAR(InfoPro!I155)-$F$3)","v":3},{"$f":"IF(ISBLANK(InfoPro!P155),\"\",InfoPro!P155)","v":-4.8771000000000004},-670295633.90298522,-599548867.53397608,-536269112.28441513,-479668257.85725862,-429041375.54316515,-383757938.76848412,-343253970.27592492,-307025018.13588989,-274619873.10902506,-245634949.11361814,-219709256.81003413,-196519907.7012828,-175778092.75606689,-157225485.47054282,-140631024.57114744,-5158978763.8338165,-128974.46909584542]
[{"$f":"IF(ISBLANK(InfoPro!A156),\"\",InfoPro!A156)","v":"SC_2185_A1"},{"$f":"IF(ISBLANK(InfoPro!B156),\"\",InfoPro!B156)","v":"Yaguarundi Solar IV 40 MW"},{"$f":"IF(ISBLANK(InfoPro!E156),\"\",InfoPro!E156)","v":40},{"$f":"IF(ISBLANK(InfoPro!F156),\"\",InfoPro!F156)","v":"Solar FV"},{"$f":"IF(ISBLANK(InfoPro!I156),\"\",YEAR(InfoPro!I156)-$F$3)","v":3},{"$f":"IF(ISBLANK(InfoPro!P156),\"\",InfoPro!P156)","v":-6.7523999999999997},-928031871.06405783,-830082174.4759016,-742470639.06610155,-664106117.23264909,-594012627.22061646,-531317197.87174988,-475238996.30746865,-425079603.13727069,-380214314.07627082,-340084359.6388827,-304189946.00973409,-272084030.42015576,-243366753.5064005,-217680459.30805048,-194705240.88376614,-7142664330.2190752,-178566.60825547689]
[{"$f":"IF(ISBLANK(InfoPro!A157),\"\",InfoPro!A157)","v":"SC_2185_A2"},{"$f":"IF(ISBLANK(InfoPro!B157),\"\",InfoPro!B157)","v":"Yaguarundi Solar IV 40 MW"},{"$f":"IF(ISBLANK(InfoPro!E157),\"\",InfoPro!E157)","v":40},{"$f":"IF(ISBLANK(InfoPro!F157),\"\",InfoPro!F157)","v":"Solar FV"},{"$f":"IF(ISBLANK(InfoPro!I157),\"\",YEAR(InfoPro!I157)-$F$3)","v":3},{"$f":"IF(ISBLANK(InfoPro!P157),\"\",InfoPro!P157)","v":-4.8771000000000004},-670295633.90298522,-599548867.53397608,-536269112.28441513,-479668257.85725862,-429041375.54316515,-383757938.76848412,-343253970.27592492,-307025018.13588989,-274619873.10902506,-245634949.11361814,-219709256.81003413,-196519907.7012828,-175778092.75606689,-157225485.47054282,-140631024.57114744,-5158978763.8338165,-128974.46909584542]
[{"$f":"IF(ISBLANK(InfoPro!A158),\"\",InfoPro!A158)","v":"SC_1926_A1"},{"$f":"IF(ISBLANK(InfoPro!B158),\"\",InfoPro!B158)","v":"Bongos I 9.90 MW"},{"$f":"IF(ISBLANK(InfoPro!E158),\"\",InfoPro!E158)","v":9.9},{"$f":"IF(ISBLANK(InfoPro!F158),\"\",InfoPro!F158)","v":"Solar FV"},{"$f":"IF(ISBLANK(InfoPro!I158),\"\",YEAR(InfoPro!I158)-$F$3)","v":1},{"$f":"IF(ISBLANK(InfoPro!P158),\"\",InfoPro!P158)","v":-5.93},{"$f":"IF($F164=\"\",\"\",(1/(1+$C$3)^(G$6+$E164))*$F164*$C$2)","v":-1018692316.6368515},-911173807.36748791,-815003405.51653671,-728983368.08276999,-652042368.58923984,-583222154.37320197,-521665612.14061004,-466606093.14902508,-417357865.07068431,-373307571.61957455,-333906593.57743704,-298664216.07999736,-267141517.06618729,-238945900.77476507,-213726208.20640883,-7840438998.2507763,-791963.53517684608]
[{"$f":"IF(ISBLANK(InfoPro!A159),\"\",InfoPro!A159)","v":"SC_1926_A2"},{"$f":"IF(ISBLANK(InfoPro!B159),\"\",InfoPro!B159)","v":"Bongos I 9.90 MW"},{"$f":"IF(ISBLANK(InfoPro!E159),\"\",InfoPro!E159)","v":9.9},{"$f":"IF(ISBLANK(InfoPro!F159),\"\",InfoPro!F159)","v":"Solar FV"},{"$f":"IF(ISBLANK(InfoPro!I159),\"\",YEAR(InfoPro!I159)-$F$3)","v":1},{"$f":"IF(ISBLANK(InfoPro!P159),\"\",InfoPro!P159)","v":-6.3},-1082253220.0357783,-968026135.98906815,-865855220.02600038,-774467996.44543862,-692726293.77946222,-619612069.57018077,-554214731.27923155,-495719795.41970623,-443398743.66700023,-396599949.61270148,-354740563.1598404,-317299251.48465157,-283809706.15800679,-253854835.56172341,-227061570.26987782,-8329640082.4586678,-841377.78610693617]
[{"$f":"IF(ISBLANK(InfoPro!A160),\"\",InfoPro!A160)","v":"SC_1825_A1"},{"$f":"IF(ISBLANK(InfoPro!B160),\"\",InfoPro!B160)","v":"PROYECTO DE GENERACIÓN ELÉCTRICA EL JOBO_200MW"},{"$f":"IF(ISBLANK(InfoPro!E160),\"\",InfoPro!E160)","v":200},{"$f":"IF(ISBLANK(InfoPro!F160),\"\",InfoPro!F160)","v":"Termica a vapor"},{"$f":"IF(ISBLANK(InfoPro!I160),\"\",YEAR(InfoPro!I160)-$F$3)","v":3},{"$f":"IF(ISBLANK(InfoPro!P160),\"\",InfoPro!P160)","v":-79.022999999999996},-10860710643.192799,-9714410235.4139519,-8689096811.6403866,-7772000725.9753017,-6951700112.6791601,-6217978633.8811817,-5561698241.3964062,-4974685367.9753189,-4449629130.568265,-3979990277.7891455,-3559919747.5752649,-3184185820.7292171,-2848108963.0851679,-2547503544.7988973,-2278625710.9113574,-83590243967.611847,-417951.21983805922]
[{"$f":"IF(ISBLANK(InfoPro!A161),\"\",InfoPro!A161)","v":"SC_1897_A1"},{"$f":"IF(ISBLANK(InfoPro!B161),\"\",InfoPro!B161)","v":"La Florecita 90 MW"},{"$f":"IF(ISBLANK(InfoPro!E161),\"\",InfoPro!E161)","v":90},{"$f":"IF(ISBLANK(InfoPro!F161),\"\",InfoPro!F161)","v":"Solar FV"},{"$f":"IF(ISBLANK(InfoPro!I161),\"\",YEAR(InfoPro!I161)-$F$3)","v":3},{"$f":"IF(ISBLANK(InfoPro!P161),\"\",InfoPro!P161)","v":-2.67544},-367705347.5978353,-328895659.74761659,-294182164.35386097,-263132526.25568965,-235360041.37360433,-210518820.54884112,-188299481.70737132,-168425296.69711205,-150648744.80958152,-134748430.06223747,-120526323.84815517,-107805298.61194561,-96426921.835371748,-86249482.858114243,-77146227.9589573,-2830070768.266294,-31445.230758514379]
[{"$f":"IF(ISBLANK(InfoPro!A162),\"\",InfoPro!A162)","v":"SC_1897_A2"},{"$f":"IF(ISBLANK(InfoPro!B162),\"\",InfoPro!B162)","v":"La Florecita 90 MW"},{"$f":"IF(ISBLANK(InfoPro!E162),\"\",InfoPro!E162)","v":90},{"$f":"IF(ISBLANK(InfoPro!F162),\"\",InfoPro!F162)","v":"Solar FV"},{"$f":"IF(ISBLANK(InfoPro!I162),\"\",YEAR(InfoPro!I162)-$F$3)","v":3},{"$f":"IF(ISBLANK(InfoPro!P162),\"\",InfoPro!P162)","v":-2.2910599999999999},-314877184.18932831,-281643277.45020425,-251917063.90894836,-225328321.92213628,-201545905.11818987,-180273618.17369398,-161246527.88344723,-144227663.58090091,-129005065.81475934,-115389146.52482948,-103210327.83974016,-92316930.089213029,-82573282.72738196,-73858034.639876515,-66062642.790587232,-2423474992.6532369,-26927.4999183693]
[{"$f":"IF(ISBLANK(InfoPro!A163),\"\",InfoPro!A163)","v":"SC_2014_A1"},{"$f":"IF(ISBLANK(InfoPro!B163),\"\",InfoPro!B163)","v":"Lotería 2"},{"$f":"IF(ISBLANK(InfoPro!E163),\"\",InfoPro!E163)","v":9.9},{"$f":"IF(ISBLANK(InfoPro!F163),\"\",InfoPro!F163)","v":"Solar FV"},{"$f":"IF(ISBLANK(InfoPro!I163),\"\",YEAR(InfoPro!I163)-$F$3)","v":1},{"$f":"IF(ISBLANK(InfoPro!P163),\"\",InfoPro!P163)","v":6.367},1093762897.1377461,978321017.11784089,875063521.57230866,782704402.1219219,700093382.93552947,626201594.75449872,560108760.96109009,500991736.10115391,448114254.11552233,400817758.60064602,358513200.89503235,320673703.84171051,286827999.85841733,256554561.5907132,229476352.04893848,8418225143.6530704,850325.77208616876]
[{"$f":"IF(ISBLANK(InfoPro!A164),\"\",InfoPro!A164)","v":"SC_2014_A2"},{"$f":"IF(ISBLANK(InfoPro!B164),\"\",InfoPro!B164)","v":"Lotería 2"},{"$f":"IF(ISBLANK(InfoPro!E164),\"\",InfoPro!E164)","v":9.9},{"$f":"IF(ISBLANK(InfoPro!F164),\"\",InfoPro!F164)","v":"Solar FV"},{"$f":"IF(ISBLANK(InfoPro!I164),\"\",YEAR(InfoPro!I164)-$F$3)","v":1},{"$f":"IF(ISBLANK(InfoPro!P164),\"\",InfoPro!P164)","v":3.9020000000000001},670309851.52057254,599561584.54434037,536280487.070072,479678432.0841431,429050475.92499393,383766078.64489615,343261251.02405739,307031530.43296731,274625698.06168813,245640159.26805735,219713917.05550754,196524076.07827148,175781821.17913371,157228820.37489599,140634007.49096245,5159088190.7545586,521120.01926813723]
[{"$f":"IF(ISBLANK(InfoPro!A165),\"\",InfoPro!A165)","v":"SC_2017_A1"},{"$f":"IF(ISBLANK(InfoPro!B165),\"\",InfoPro!B165)","v":"LOTERÍA 1"},{"$f":"IF(ISBLANK(InfoPro!E165),\"\",InfoPro!E165)","v":9.9},{"$f":"IF(ISBLANK(InfoPro!F165),\"\",InfoPro!F165)","v":"Solar FV"},{"$f":"IF(ISBLANK(InfoPro!I165),\"\",YEAR(InfoPro!I165)-$F$3)","v":1},{"$f":"IF(ISBLANK(InfoPro!P165),\"\",InfoPro!P165)","v":6.367},1093762897.1377461,978321017.11784089,875063521.57230866,782704402.1219219,700093382.93552947,626201594.75449872,560108760.96109009,500991736.10115391,448114254.11552233,400817758.60064602,358513200.89503235,320673703.84171051,286827999.85841733,256554561.5907132,229476352.04893848,8418225143.6530704,850325.77208616876]
[{"$f":"IF(ISBLANK(InfoPro!A166),\"\",InfoPro!A166)","v":"SC_2017_A2"},{"$f":"IF(ISBLANK(InfoPro!B166),\"\",InfoPro!B166)","v":"LOTERÍA 1"},{"$f":"IF(ISBLANK(InfoPro!E166),\"\",InfoPro!E166)","v":9.9},{"$f":"IF(ISBLANK(InfoPro!F166),\"\",InfoPro!F166)","v":"Solar FV"},{"$f":"IF(ISBLANK(InfoPro!I166),\"\",YEAR(InfoPro!I166)-$F$3)","v":1},{"$f":"IF(ISBLANK(InfoPro!P166),\"\",InfoPro!P166)","v":3.9020000000000001},670309851.52057254,599561584.54434037,536280487.070072,479678432.0841431,429050475.92499393,383766078.64489615,343261251.02405739,307031530.43296731,274625698.06168813,245640159.26805735,219713917.05550754,196524076.07827148,175781821.17913371,157228820.37489599,140634007.49096245,5159088190.7545586,521120.01926813723]
[{"$f":"IF(ISBLANK(InfoPro!A167),\"\",InfoPro!A167)","v":"SC_2165_A1"},{"$f":"IF(ISBLANK(InfoPro!B167),\"\",InfoPro!B167)","v":"Autogeneración Solar Fotovoltaica 9.9 MW (entrega de excedentes de 0)"},{"$f":"IF(ISBLANK(InfoPro!E167),\"\",InfoPro!E167)","v":0},{"$f":"IF(ISBLANK(InfoPro!F167),\"\",InfoPro!F167)","v":"Solar FV"},{"$f":"IF(ISBLANK(InfoPro!I167),\"\",YEAR(InfoPro!I167)-$F$3)","v":0},{"$f":"IF(ISBLANK(InfoPro!P167),\"\",InfoPro!P167)","v":0.47499999999999998},91227075,81598457.066189632,72986097.554731339,65282734.843230188,58392428.30342593,52229363.419880085,46716783.023148552,41786031.326608725,37375698.861009598,33430857.657432556,29902377.1533386,26746312.301734,23923356.26273166,21398350.861119557,19139848.71298708,702135772.34756732,0]
[{"$f":"IF(ISBLANK(InfoPro!A168),\"\",InfoPro!A168)","v":"SC_1820\n_A1"},{"$f":"IF(ISBLANK(InfoPro!B168),\"\",InfoPro!B168)","v":"NAIOT"},{"$f":"IF(ISBLANK(InfoPro!E168),\"\",InfoPro!E168)","v":19.899999999999999},{"$f":"IF(ISBLANK(InfoPro!F168),\"\",InfoPro!F168)","v":"Solar FV"},{"$f":"IF(ISBLANK(InfoPro!I168),\"\",YEAR(InfoPro!I168)-$F$3)","v":1},{"$f":"IF(ISBLANK(InfoPro!P168),\"\",InfoPro!P168)","v":0.835422},143513991.99821112,128366719.1397237,114818174.54358114,102699619.44864146,91860124.730448544,82164691.172136456,73492568.132501304,65735749.671289183,58797629.401868686,52591797.318308301,47040963.612082571,42075996.075208023,37635059.101259418,33662843.561054938,30109877.961587604,1104565805.8679025,55505.819390346864]
[{"$f":"IF(ISBLANK(InfoPro!A169),\"\",InfoPro!A169)","v":"SC_1820\n_A2"},{"$f":"IF(ISBLANK(InfoPro!B169),\"\",InfoPro!B169)","v":"NAIOT"},{"$f":"IF(ISBLANK(InfoPro!E169),\"\",InfoPro!E169)","v":19.899999999999999},{"$f":"IF(ISBLANK(InfoPro!F169),\"\",InfoPro!F169)","v":"Solar FV"},{"$f":"IF(ISBLANK(InfoPro!I169),\"\",YEAR(InfoPro!I169)-$F$3)","v":1},{"$f":"IF(ISBLANK(InfoPro!P169),\"\",InfoPro!P169)","v":-1.930059},-331557550.41413242,-296563104.12713093,-265262168.27113688,-237264909.00817254,-212222637.75328493,-189823468.47342122,-169788433.33937499,-151868008.35364488,-135839005.68304554,-121501793.99199063,-108677812.15741561,-97207345.400192857,-86947536.136129588,-77770604.772924498,-69562258.29420796,-2551856636.1762052,-128234.00181789976]
[{"$f":"IF(ISBLANK(InfoPro!A170),\"\",InfoPro!A170)","v":"SC_2325_A1"},{"$f":"IF(ISBLANK(InfoPro!B170),\"\",InfoPro!B170)","v":"PROYECTO FOTOVOLTAICO MONTERROSO DE 99,9 MW"},{"$f":"IF(ISBLANK(InfoPro!E170),\"\",InfoPro!E170)","v":99.9},{"$f":"IF(ISBLANK(InfoPro!F170),\"\",InfoPro!F170)","v":"Solar FV"},{"$f":"IF(ISBLANK(InfoPro!I170),\"\",YEAR(InfoPro!I170)-$F$3)","v":3},{"$f":"IF(ISBLANK(InfoPro!P170),\"\",InfoPro!P170)","v":-3.3288000000000002},-457501405.78135717,-409214137.55040896,-366023378.84651965,-327391215.42622507,-292836507.536874,-261928897.61795527,-234283450.46328738,-209555859.09059694,-187438156.61055186,-167654880.6892235,-149959642.83472586,-134132059.7806135,-119975008.74831261,-107312172.40457298,-95985842.937900707,-3521192616.3191252,-35247.173336527776]
[{"$f":"IF(ISBLANK(InfoPro!A171),\"\",InfoPro!A171)","v":"SC_2325_A2"},{"$f":"IF(ISBLANK(InfoPro!B171),\"\",InfoPro!B171)","v":"PROYECTO FOTOVOLTAICO MONTERROSO DE 99,9 MW"},{"$f":"IF(ISBLANK(InfoPro!E171),\"\",InfoPro!E171)","v":99.9},{"$f":"IF(ISBLANK(InfoPro!F171),\"\",InfoPro!F171)","v":"Solar FV"},{"$f":"IF(ISBLANK(InfoPro!I171),\"\",YEAR(InfoPro!I171)-$F$3)","v":3},{"$f":"IF(ISBLANK(InfoPro!P171),\"\",InfoPro!P171)","v":-3.7317},-512874908.66206759,-458743209.89451486,-410324874.68203473,-367016882.54207045,-328279859.16106486,-293631358.82027268,-262639855.83208647,-234919370.15392351,-210124660.24501213,-187946923.29607525,-168109949.28092602,-150366680.93106085,-134496136.78985766,-120300659.02491736,-107603451.7217508,-3947378781.0376353,-39513.301111487839]
[{"$f":"IF(ISBLANK(InfoPro!A172),\"\",InfoPro!A172)","v":""},{"$f":"IF(ISBLANK(InfoPro!B172),\"\",InfoPro!B172)","v":""},{"$f":"IF(ISBLANK(InfoPro!E172),\"\",InfoPro!E172)","v":""},{"$f":"IF(ISBLANK(InfoPro!F172),\"\",InfoPro!F172)","v":""},{"$f":"IF(ISBLANK(InfoPro!I172),\"\",YEAR(InfoPro!I172)-$F$3)","v":""},{"$f":"IF(ISBLANK(InfoPro!P172),\"\",InfoPro!P172)","v":""},{"$f":"IF($F178=\"\",\"\",(1/(1+$C$3)^(G$6+$E178))*$F178*$C$2)","v":""},"","","","","","","","","","","","","","","",""]
[{"$f":"IF(ISBLANK(InfoPro!A173),\"\",InfoPro!A173)","v":""},{"$f":"IF(ISBLANK(InfoPro!B173),\"\",InfoPro!B173)","v":""},{"$f":"IF(ISBLANK(InfoPro!E173),\"\",InfoPro!E173)","v":""},{"$f":"IF(ISBLANK(InfoPro!F173),\"\",InfoPro!F173)","v":""},{"$f":"IF(ISBLANK(InfoPro!I173),\"\",YEAR(InfoPro!I173)-$F$3)","v":""},{"$f":"IF(ISBLANK(InfoPro!P173),\"\",InfoPro!P173)","v":""},"","","","","","","","","","","","","","","","",""]
[{"$f":"IF(ISBLANK(InfoPro!A174),\"\",InfoPro!A174)","v":""},{"$f":"IF(ISBLANK(InfoPro!B174),\"\",InfoPro!B174)","v":""},{"$f":"IF(ISBLANK(InfoPro!E174),\"\",InfoPro!E174)","v":""},{"$f":"IF(ISBLANK(InfoPro!F174),\"\",InfoPro!F174)","v":""},{"$f":"IF(ISBLANK(InfoPro!I174),\"\",YEAR(InfoPro!I174)-$F$3)","v":""},{"$f":"IF(ISBLANK(InfoPro!P174),\"\",InfoPro!P174)","v":""},"","","","","","","","","","","","","","","","",""]
[{"$f":"IF(ISBLANK(InfoPro!A175),\"\",InfoPro!A175)","v":""},{"$f":"IF(ISBLANK(InfoPro!B175),\"\",InfoPro!B175)","v":""},{"$f":"IF(ISBLANK(InfoPro!E175),\"\",InfoPro!E175)","v":""},{"$f":"IF(ISBLANK(InfoPro!F175),\"\",InfoPro!F175)","v":""},{"$f":"IF(ISBLANK(InfoPro!I175),\"\",YEAR(InfoPro!I175)-$F$3)","v":""},{"$f":"IF(ISBLANK(InfoPro!P175),\"\",InfoPro!P175)","v":""},"","","","","","","","","","","","","","","","",""]
[{"$f":"IF(ISBLANK(InfoPro!A176),\"\",InfoPro!A176)","v":""},{"$f":"IF(ISBLANK(InfoPro!B176),\"\",InfoPro!B176)","v":""},{"$f":"IF(ISBLANK(InfoPro!E176),\"\",InfoPro!E176)","v":""},{"$f":"IF(ISBLANK(InfoPro!F176),\"\",InfoPro!F176)","v":""},{"$f":"IF(ISBLANK(InfoPro!I176),\"\",YEAR(InfoPro!I176)-$F$3)","v":""},{"$f":"IF(ISBLANK(InfoPro!P176),\"\",InfoPro!P176)","v":""},"","","","","","","","","","","","","","","","",""]

{"sheet":"EC-Mar","index":7,"n_rows":182,"n_cols":25,"rows_kept":182,"cut":false,"hidden":false,"merged":[]}
[]
[null,"Precio promedio de bolsa",{"$f":"'EC-RP'!C2","v":192057},"COP/MWh"]
[null,"Tasa de descuento",0.11799999999999999,null,null,"Año de Referencia",2023]
[null,null,null,null,null,"Mínimo",{"$f":"MIN(Y8:Y346)","v":-3849395.1182351531}]
[]
[null,null,null,null,null,null,null,null,0,1,2,3,4,5,6,7,8,9,10,11,12,13,14]
["Codigo","Nombre","capacidad","Tecnologia","Año de entrada","FP","Precio de oferta promedio","Produccion media/a MWh/a","Flujo Descontado 0","Flujo Descontado 1","Flujo Descontado 2","Flujo Descontado 3","Flujo Descontado 4","Flujo Descontado 5","Flujo Descontado 6","Flujo Descontado 7","Flujo Descontado 8","Flujo Descontado 9","Flujo Descontado 10","Flujo Descontado 11","Flujo Descontado 12","Flujo Descontado 13","Flujo Descontado 14","VPN","Beneficio/kW"]
[{"$f":"IF(ISBLANK(InfoPro!A2),\"\",InfoPro!A2)","v":"SC_44_A1"},{"$f":"IF(ISBLANK(InfoPro!B2),\"\",InfoPro!B2)","v":"El Floral 1"},{"$f":"IF(ISBLANK(InfoPro!E2),\"\",InfoPro!E2)","v":19.899999999999999},{"$f":"IF(ISBLANK(InfoPro!F2),\"\",InfoPro!F2)","v":"Solar FV"},{"$f":"IF(ISBLANK(InfoPro!I2),\"\",YEAR(InfoPro!I2)-$G$3)","v":2},{"$f":"IF(B8=\"\",\"\",VLOOKUP(D8,Tablas!$B$2:$E$13,2,FALSE))","v":0.26},{"$f":"IF(B8=\"\",\"\",VLOOKUP(D8,Tablas!$B$2:$H$13,7,FALSE))","v":83577.200000000012},{"$f":"IF(C8=\"\",\"\",+C8*F8*24*365)","v":45324.24},{"$f":"IF($H8=\"\",\"\",(1/(1+$C$3)^(I$6+$E8))*$H8*($C$2 - $G8))","v":3933650758.2477012},{"$f":"IF($H8=\"\",\"\",(1/(1+$C$3)^(J$6+$E8))*$H8*($C$2 - $G8))","v":3518471161.2233467},3147111951.0047827,2814948077.8218098,2517842645.6366811,2252095389.6571388,2014396591.8221281,1801785860.3060181,1611615259.6654902,1441516332.4378271,1289370601.4649615,1153283185.5679443,1031559199.9713277,922682647.55932713,825297538.06737661,{"$f":"IF(W8=\"\",\"\",SUM(I8:W8))","v":30275627200.453861},{"$f":"IF(C8=0,0,IF(X8=\"\",\"\",X8/(C8*1000)))","v":1521388.3015303449}]
[{"$f":"IF(ISBLANK(InfoPro!A3),\"\",InfoPro!A3)","v":"SC_47_A1"},{"$f":"IF(ISBLANK(InfoPro!B3),\"\",InfoPro!B3)","v":"El Floral II - 19.9 MW"},{"$f":"IF(ISBLANK(InfoPro!E3),\"\",InfoPro!E3)","v":19.899999999999999},{"$f":"IF(ISBLANK(InfoPro!F3),\"\",InfoPro!F3)","v":"Solar FV"},{"$f":"IF(ISBLANK(InfoPro!I3),\"\",YEAR(InfoPro!I3)-$G$3)","v":2},{"$f":"IF(B9=\"\",\"\",VLOOKUP(D9,Tablas!$B$2:$E$13,2,FALSE))","v":0.26},{"$f":"IF(B9=\"\",\"\",VLOOKUP(D9,Tablas!$B$2:$H$13,7,FALSE))","v":83577.200000000012},{"$f":"IF(C9=\"\",\"\",+C9*F9*24*365)","v":45324.24},3933650758.2477012,3518471161.2233467,3147111951.0047827,2814948077.8218098,2517842645.6366811,2252095389.6571388,2014396591.8221281,1801785860.3060181,1611615259.6654902,1441516332.4378271,1289370601.4649615,1153283185.5679443,1031559199.9713277,922682647.55932713,825297538.06737661,{"$f":"IF(W9=\"\",\"\",SUM(I9:W9))","v":30275627200.453861},{"$f":"IF(C9=0,0,IF(X9=\"\",\"\",X9/(C9*1000)))","v":1521388.3015303449}]
[{"$f":"IF(ISBLANK(InfoPro!A4),\"\",InfoPro!A4)","v":"SC_408_A1"},{"$f":"IF(ISBLANK(InfoPro!B4),\"\",InfoPro!B4)","v":"El Jardín 40 MW"},{"$f":"IF(ISBLANK(InfoPro!E4),\"\",InfoPro!E4)","v":40},{"$f":"IF(ISBLANK(InfoPro!F4),\"\",InfoPro!F4)","v":"Solar FV"},{"$f":"IF(ISBLANK(InfoPro!I4),\"\",YEAR(InfoPro!I4)-$G$3)","v":2},{"$f":"IF(B10=\"\",\"\",VLOOKUP(D10,Tablas!$B$2:$E$13,2,FALSE))","v":0.26},{"$f":"IF(B10=\"\",\"\",VLOOKUP(D10,Tablas!$B$2:$H$13,7,FALSE))","v":83577.200000000012},91104.000000000015,7906835694.9702559,7072303841.6549711,6325853167.8488111,5658187091.0991154,5060990242.4857922,4526824903.8334465,4049038375.5218658,3621680121.2181273,3239427657.6190763,2897520266.2066879,2591699701.437109,2318157156.9204912,2073485829.0880964,1854638487.556437,1658889523.7535212,60855532061.213814,1521388.3015303453]
[{"$f":"IF(ISBLANK(InfoPro!A5),\"\",InfoPro!A5)","v":"SC_454_A1"},{"$f":"IF(ISBLANK(InfoPro!B5),\"\",InfoPro!B5)","v":"PARQUE SOLAR SAN RAFAEL - 300 MW"},{"$f":"IF(ISBLANK(InfoPro!E5),\"\",InfoPro!E5)","v":300},{"$f":"IF(ISBLANK(InfoPro!F5),\"\",InfoPro!F5)","v":"Solar FV"},{"$f":"IF(ISBLANK(InfoPro!I5),\"\",YEAR(InfoPro!I5)-$G$3)","v":3},{"$f":"IF(B11=\"\",\"\",VLOOKUP(D11,Tablas!$B$2:$E$13,2,FALSE))","v":0.26},{"$f":"IF(B11=\"\",\"\",VLOOKUP(D11,Tablas!$B$2:$H$13,7,FALSE))","v":83577.200000000012},683280,53042278812.41227,47443898758.866074,42436403183.243362,37957426818.643433,33951186778.750839,30367787816.413994,27162600909.135952,24295707432.14307,21731401996.550156,19437747760.778316,17386178676.903683,15551143718.160719,13909788656.673275,12441671428.151405,11128507538.596966,408243730285.42365,1360812.4342847455]
[{"$f":"IF(ISBLANK(InfoPro!A6),\"\",InfoPro!A6)","v":"SC_454_A2"},{"$f":"IF(ISBLANK(InfoPro!B6),\"\",InfoPro!B6)","v":"PARQUE SOLAR SAN RAFAEL - 300 MW"},{"$f":"IF(ISBLANK(InfoPro!E6),\"\",InfoPro!E6)","v":300},{"$f":"IF(ISBLANK(InfoPro!F6),\"\",InfoPro!F6)","v":"Solar FV"},{"$f":"IF(ISBLANK(InfoPro!I6),\"\",YEAR(InfoPro!I6)-$G$3)","v":3},{"$f":"IF(B12=\"\",\"\",VLOOKUP(D12,Tablas!$B$2:$E$13,2,FALSE))","v":0.26},{"$f":"IF(B12=\"\",\"\",VLOOKUP(D12,Tablas!$B$2:$H$13,7,FALSE))","v":83577.200000000012},683280,53042278812.41227,47443898758.866074,42436403183.243362,37957426818.643433,33951186778.750839,30367787816.413994,27162600909.135952,24295707432.14307,21731401996.550156,19437747760.778316,17386178676.903683,15551143718.160719,13909788656.673275,12441671428.151405,11128507538.596966,408243730285.42365,1360812.4342847455]
[{"$f":"IF(ISBLANK(InfoPro!A7),\"\",InfoPro!A7)","v":"SC_483_A1"},{"$f":"IF(ISBLANK(InfoPro!B7),\"\",InfoPro!B7)","v":"PARQUE SOLAR LOMAS 39.9 MW"},{"$f":"IF(ISBLANK(InfoPro!E7),\"\",InfoPro!E7)","v":39.9},{"$f":"IF(ISBLANK(InfoPro!F7),\"\",InfoPro!F7)","v":"Solar FV"},{"$f":"IF(ISBLANK(InfoPro!I7),\"\",YEAR(InfoPro!I7)-$G$3)","v":2},{"$f":"IF(B13=\"\",\"\",VLOOKUP(D13,Tablas!$B$2:$E$13,2,FALSE))","v":0.26},{"$f":"IF(B13=\"\",\"\",VLOOKUP(D13,Tablas!$B$2:$H$13,7,FALSE))","v":83577.200000000012},90876.24,7887068605.7328291,7054623082.0508327,6310038534.9291887,5644041623.3713675,5048337766.8795776,4515507841.5738621,4038915779.5830612,3612625920.9150815,3231329088.4750285,2890276465.5411711,2585220452.183516,2312361764.0281901,2068302114.5153756,1850001891.3375454,1654742299.9441371,60703393231.060768,1521388.3015303451]
[{"$f":"IF(ISBLANK(InfoPro!A8),\"\",InfoPro!A8)","v":"SC_586_A1"},{"$f":"IF(ISBLANK(InfoPro!B8),\"\",InfoPro!B8)","v":"Orquídea del Sucre - Sierra Flor 60 MW"},{"$f":"IF(ISBLANK(InfoPro!E8),\"\",InfoPro!E8)","v":60},{"$f":"IF(ISBLANK(InfoPro!F8),\"\",InfoPro!F8)","v":"Solar FV"},{"$f":"IF(ISBLANK(InfoPro!I8),\"\",YEAR(InfoPro!I8)-$G$3)","v":4},{"$f":"IF(B14=\"\",\"\",VLOOKUP(D14,Tablas!$B$2:$E$13,2,FALSE))","v":0.26},{"$f":"IF(B14=\"\",\"\",VLOOKUP(D14,Tablas!$B$2:$H$13,7,FALSE))","v":83577.200000000012},136656,9488779751.7732162,8487280636.6486731,7591485363.7286873,6790237355.7501688,6073557563.2827988,5432520181.8271904,4859141486.4286137,4346280399.3100319,3887549552.1556635,3477235735.3807364,3110228743.632144,2781957731.3346548,2488334285.6302814,2225701507.7193933,1990788468.4431064,73031078763.045364,1217184.6460507561]
[{"$f":"IF(ISBLANK(InfoPro!A9),\"\",InfoPro!A9)","v":"SC_586_A2"},{"$f":"IF(ISBLANK(InfoPro!B9),\"\",InfoPro!B9)","v":"Orquídea del Sucre - Sierra Flor 60 MW"},{"$f":"IF(ISBLANK(InfoPro!E9),\"\",InfoPro!E9)","v":60},{"$f":"IF(ISBLANK(InfoPro!F9),\"\",InfoPro!F9)","v":"Solar FV"},{"$f":"IF(ISBLANK(InfoPro!I9),\"\",YEAR(InfoPro!I9)-$G$3)","v":4},{"$f":"IF(B15=\"\",\"\",VLOOKUP(D15,Tablas!$B$2:$E$13,2,FALSE))","v":0.26},{"$f":"IF(B15=\"\",\"\",VLOOKUP(D15,Tablas!$B$2:$H$13,7,FALSE))","v":83577.200000000012},136656,9488779751.7732162,8487280636.6486731,7591485363.7286873,6790237355.7501688,6073557563.2827988,5432520181.8271904,4859141486.4286137,4346280399.3100319,3887549552.1556635,3477235735.3807364,3110228743.632144,2781957731.3346548,2488334285.6302814,2225701507.7193933,1990788468.4431064,73031078763.045364,1217184.6460507561]
[{"$f":"IF(ISBLANK(InfoPro!A10),\"\",InfoPro!A10)","v":"SC_681_A1"},{"$f":"IF(ISBLANK(InfoPro!B10),\"\",InfoPro!B10)","v":"PARQUE SOLARLAS LAS PALMAS de 90MW"},{"$f":"IF(ISBLANK(InfoPro!E10),\"\",InfoPro!E10)","v":90},{"$f":"IF(ISBLANK(InfoPro!F10),\"\",InfoPro!F10)","v":"Solar FV"},{"$f":"IF(ISBLANK(InfoPro!I10),\"\",YEAR(InfoPro!I10)-$G$3)","v":2},{"$f":"IF(B16=\"\",\"\",VLOOKUP(D16,Tablas!$B$2:$E$13,2,FALSE))","v":0.26},{"$f":"IF(B16=\"\",\"\",VLOOKUP(D16,Tablas!$B$2:$H$13,7,FALSE))","v":83577.200000000012},204984,17790380313.683071,15912683643.72368,14233169627.659822,12730920954.973009,11387228045.593031,10185356033.625252,9110336344.9241962,8148780272.7407846,7288712229.6429205,6519420598.9650469,5831324328.2334948,5215853603.071104,4665343115.4482155,4172936597.0019822,3732501428.4454217,136924947137.73102,1521388.3015303446]
[{"$f":"IF(ISBLANK(InfoPro!A11),\"\",InfoPro!A11)","v":"SC_681_A2"},{"$f":"IF(ISBLANK(InfoPro!B11),\"\",InfoPro!B11)","v":"PARQUE SOLARLAS LAS PALMAS de 90MW"},{"$f":"IF(ISBLANK(InfoPro!E11),\"\",InfoPro!E11)","v":90},{"$f":"IF(ISBLANK(InfoPro!F11),\"\",InfoPro!F11)","v":"Solar FV"},{"$f":"IF(ISBLANK(InfoPro!I11),\"\",YEAR(InfoPro!I11)-$G$3)","v":2},{"$f":"IF(B17=\"\",\"\",VLOOKUP(D17,Tablas!$B$2:$E$13,2,FALSE))","v":0.26},{"$f":"IF(B17=\"\",\"\",VLOOKUP(D17,Tablas!$B$2:$H$13,7,FALSE))","v":83577.200000000012},204984,17790380313.683071,15912683643.72368,14233169627.659822,12730920954.973009,11387228045.593031,10185356033.625252,9110336344.9241962,8148780272.7407846,7288712229.6429205,6519420598.9650469,5831324328.2334948,5215853603.071104,4665343115.4482155,4172936597.0019822,3732501428.4454217,136924947137.73102,1521388.3015303446]
[{"$f":"IF(ISBLANK(InfoPro!A12),\"\",InfoPro!A12)","v":"SC_720_A1"},{"$f":"IF(ISBLANK(InfoPro!B12),\"\",InfoPro!B12)","v":"El Jazmín"},{"$f":"IF(ISBLANK(InfoPro!E12),\"\",InfoPro!E12)","v":19.899999999999999},{"$f":"IF(ISBLANK(InfoPro!F12),\"\",InfoPro!F12)","v":"Solar FV"},{"$f":"IF(ISBLANK(InfoPro!I12),\"\",YEAR(InfoPro!I12)-$G$3)","v":2},{"$f":"IF(B18=\"\",\"\",VLOOKUP(D18,Tablas!$B$2:$E$13,2,FALSE))","v":0.26},{"$f":"IF(B18=\"\",\"\",VLOOKUP(D18,Tablas!$B$2:$H$13,7,FALSE))","v":83577.200000000012},45324.24,{"$f":"IF($H18=\"\",\"\",(1/(1+$C$3)^(I$6+$E18))*$H18*($C$2 - $G18))","v":3933650758.2477012},3518471161.2233467,3147111951.0047827,2814948077.8218098,2517842645.6366811,2252095389.6571388,2014396591.8221281,1801785860.3060181,1611615259.6654902,1441516332.4378271,1289370601.4649615,1153283185.5679443,1031559199.9713277,922682647.55932713,825297538.06737661,30275627200.453861,1521388.3015303449]
[{"$f":"IF(ISBLANK(InfoPro!A13),\"\",InfoPro!A13)","v":"SC_720_A2"},{"$f":"IF(ISBLANK(InfoPro!B13),\"\",InfoPro!B13)","v":"El Jazmín"},{"$f":"IF(ISBLANK(InfoPro!E13),\"\",InfoPro!E13)","v":19.899999999999999},{"$f":"IF(ISBLANK(InfoPro!F13),\"\",InfoPro!F13)","v":"Solar FV"},{"$f":"IF(ISBLANK(InfoPro!I13),\"\",YEAR(InfoPro!I13)-$G$3)","v":2},{"$f":"IF(B19=\"\",\"\",VLOOKUP(D19,Tablas!$B$2:$E$13,2,FALSE))","v":0.26},{"$f":"IF(B19=\"\",\"\",VLOOKUP(D19,Tablas!$B$2:$H$13,7,FALSE))","v":83577.200000000012},45324.24,3933650758.2477012,3518471161.2233467,3147111951.0047827,2814948077.8218098,2517842645.6366811,2252095389.6571388,2014396591.8221281,1801785860.3060181,1611615259.6654902,1441516332.4378271,1289370601.4649615,1153283185.5679443,1031559199.9713277,922682647.55932713,825297538.06737661,30275627200.453861,1521388.3015303449]
[{"$f":"IF(ISBLANK(InfoPro!A14),\"\",InfoPro!A14)","v":"SC_713_A1"},{"$f":"IF(ISBLANK(InfoPro!B14),\"\",InfoPro!B14)","v":"Crucero - 300MW"},{"$f":"IF(ISBLANK(InfoPro!E14),\"\",InfoPro!E14)","v":300},{"$f":"IF(ISBLANK(InfoPro!F14),\"\",InfoPro!F14)","v":"Solar FV"},{"$f":"IF(ISBLANK(InfoPro!I14),\"\",YEAR(InfoPro!I14)-$G$3)","v":4},{"$f":"IF(B20=\"\",\"\",VLOOKUP(D20,Tablas!$B$2:$E$13,2,FALSE))","v":0.26},{"$f":"IF(B20=\"\",\"\",VLOOKUP(D20,Tablas!$B$2:$H$13,7,FALSE))","v":83577.200000000012},683280,47443898758.866074,42436403183.243362,37957426818.643433,33951186778.750839,30367787816.413994,27162600909.135952,24295707432.14307,21731401996.550156,19437747760.778316,17386178676.903683,15551143718.160719,13909788656.673275,12441671428.151405,11128507538.596966,9953942342.2155323,365155393815.22681,1217184.6460507561]
[{"$f":"IF(ISBLANK(InfoPro!A15),\"\",InfoPro!A15)","v":"SC_836_A1"},{"$f":"IF(ISBLANK(InfoPro!B15),\"\",InfoPro!B15)","v":"BONGO DEL SINÚ DE 19.9 MW"},{"$f":"IF(ISBLANK(InfoPro!E15),\"\",InfoPro!E15)","v":19.899999999999999},{"$f":"IF(ISBLANK(InfoPro!F15),\"\",InfoPro!F15)","v":"Solar FV"},{"$f":"IF(ISBLANK(InfoPro!I15),\"\",YEAR(InfoPro!I15)-$G$3)","v":2},{"$f":"IF(B21=\"\",\"\",VLOOKUP(D21,Tablas!$B$2:$E$13,2,FALSE))","v":0.26},{"$f":"IF(B21=\"\",\"\",VLOOKUP(D21,Tablas!$B$2:$H$13,7,FALSE))","v":83577.200000000012},45324.24,3933650758.2477012,3518471161.2233467,3147111951.0047827,2814948077.8218098,2517842645.6366811,2252095389.6571388,2014396591.8221281,1801785860.3060181,1611615259.6654902,1441516332.4378271,1289370601.4649615,1153283185.5679443,1031559199.9713277,922682647.55932713,825297538.06737661,30275627200.453861,1521388.3015303449]
[{"$f":"IF(ISBLANK(InfoPro!A16),\"\",InfoPro!A16)","v":"SC_836_A2"},{"$f":"IF(ISBLANK(InfoPro!B16),\"\",InfoPro!B16)","v":"BONGO DEL SINÚ DE 19.9 MW"},{"$f":"IF(ISBLANK(InfoPro!E16),\"\",InfoPro!E16)","v":19.899999999999999},{"$f":"IF(ISBLANK(InfoPro!F16),\"\",InfoPro!F16)","v":"Solar FV"},{"$f":"IF(ISBLANK(InfoPro!I16),\"\",YEAR(InfoPro!I16)-$G$3)","v":2},{"$f":"IF(B22=\"\",\"\",VLOOKUP(D22,Tablas!$B$2:$E$13,2,FALSE))","v":0.26},{"$f":"IF(B22=\"\",\"\",VLOOKUP(D22,Tablas!$B$2:$H$13,7,FALSE))","v":83577.200000000012},45324.24,3933650758.2477012,3518471161.2233467,3147111951.0047827,2814948077.8218098,2517842645.6366811,2252095389.6571388,2014396591.8221281,1801785860.3060181,1611615259.6654902,1441516332.4378271,1289370601.4649615,1153283185.5679443,1031559199.9713277,922682647.55932713,825297538.06737661,30275627200.453861,1521388.3015303449]
[{"$f":"IF(ISBLANK(InfoPro!A17),\"\",InfoPro!A17)","v":"SC_778_A1"},{"$f":"IF(ISBLANK(InfoPro!B17),\"\",InfoPro!B17)","v":"KOS 19.9"},{"$f":"IF(ISBLANK(InfoPro!E17),\"\",InfoPro!E17)","v":19.899999999999999},{"$f":"IF(ISBLANK(InfoPro!F17),\"\",InfoPro!F17)","v":"Solar FV"},{"$f":"IF(ISBLANK(InfoPro!I17),\"\",YEAR(InfoPro!I17)-$G$3)","v":2},{"$f":"IF(B23=\"\",\"\",VLOOKUP(D23,Tablas!$B$2:$E$13,2,FALSE))","v":0.26},{"$f":"IF(B23=\"\",\"\",VLOOKUP(D23,Tablas!$B$2:$H$13,7,FALSE))","v":83577.200000000012},45324.24,3933650758.2477012,3518471161.2233467,3147111951.0047827,2814948077.8218098,2517842645.6366811,2252095389.6571388,2014396591.8221281,1801785860.3060181,1611615259.6654902,1441516332.4378271,1289370601.4649615,1153283185.5679443,1031559199.9713277,922682647.55932713,825297538.06737661,30275627200.453861,1521388.3015303449]
[{"$f":"IF(ISBLANK(InfoPro!A18),\"\",InfoPro!A18)","v":"SC_778_A2"},{"$f":"IF(ISBLANK(InfoPro!B18),\"\",InfoPro!B18)","v":"KOS 19.9"},{"$f":"IF(ISBLANK(InfoPro!E18),\"\",InfoPro!E18)","v":19.899999999999999},{"$f":"IF(ISBLANK(InfoPro!F18),\"\",InfoPro!F18)","v":"Solar FV"},{"$f":"IF(ISBLANK(InfoPro!I18),\"\",YEAR(InfoPro!I18)-$G$3)","v":2},{"$f":"IF(B24=\"\",\"\",VLOOKUP(D24,Tablas!$B$2:$E$13,2,FALSE))","v":0.26},{"$f":"IF(B24=\"\",\"\",VLOOKUP(D24,Tablas!$B$2:$H$13,7,FALSE))","v":83577.200000000012},45324.24,3933650758.2477012,3518471161.2233467,3147111951.0047827,2814948077.8218098,2517842645.6366811,2252095389.6571388,2014396591.8221281,1801785860.3060181,1611615259.6654902,1441516332.4378271,1289370601.4649615,1153283185.5679443,1031559199.9713277,922682647.55932713,825297538.06737661,30275627200.453861,1521388.3015303449]
[{"$f":"IF(ISBLANK(InfoPro!A19),\"\",InfoPro!A19)","v":"SC_942_A1"},{"$f":"IF(ISBLANK(InfoPro!B19),\"\",InfoPro!B19)","v":"PASCUA_60MW"},{"$f":"IF(ISBLANK(InfoPro!E19),\"\",InfoPro!E19)","v":60},{"$f":"IF(ISBLANK(InfoPro!F19),\"\",InfoPro!F19)","v":"Solar FV"},{"$f":"IF(ISBLANK(InfoPro!I19),\"\",YEAR(InfoPro!I19)-$G$3)","v":3},{"$f":"IF(B25=\"\",\"\",VLOOKUP(D25,Tablas!$B$2:$E$13,2,FALSE))","v":0.26},{"$f":"IF(B25=\"\",\"\",VLOOKUP(D25,Tablas!$B$2:$H$13,7,FALSE))","v":83577.200000000012},136656,10608455762.482454,9488779751.7732162,8487280636.6486731,7591485363.7286873,6790237355.7501688,6073557563.2827988,5432520181.8271904,4859141486.4286137,4346280399.3100319,3887549552.1556635,3477235735.3807364,3110228743.632144,2781957731.3346548,2488334285.6302814,2225701507.7193933,81648746057.084686,1360812.4342847448]
[{"$f":"IF(ISBLANK(InfoPro!A20),\"\",InfoPro!A20)","v":"SC_942_A2"},{"$f":"IF(ISBLANK(InfoPro!B20),\"\",InfoPro!B20)","v":"PASCUA_60MW"},{"$f":"IF(ISBLANK(InfoPro!E20),\"\",InfoPro!E20)","v":60},{"$f":"IF(ISBLANK(InfoPro!F20),\"\",InfoPro!F20)","v":"Solar FV"},{"$f":"IF(ISBLANK(InfoPro!I20),\"\",YEAR(InfoPro!I20)-$G$3)","v":3},{"$f":"IF(B26=\"\",\"\",VLOOKUP(D26,Tablas!$B$2:$E$13,2,FALSE))","v":0.26},{"$f":"IF(B26=\"\",\"\",VLOOKUP(D26,Tablas!$B$2:$H$13,7,FALSE))","v":83577.200000000012},136656,10608455762.482454,9488779751.7732162,8487280636.6486731,7591485363.7286873,6790237355.7501688,6073557563.2827988,5432520181.8271904,4859141486.4286137,4346280399.3100319,3887549552.1556635,3477235735.3807364,3110228743.632144,2781957731.3346548,2488334285.6302814,2225701507.7193933,81648746057.084686,1360812.4342847448]
[{"$f":"IF(ISBLANK(InfoPro!A21),\"\",InfoPro!A21)","v":"SC_1763_A1"},{"$f":"IF(ISBLANK(InfoPro!B21),\"\",InfoPro!B21)","v":"Taurus Solar de 22MW (19,5 MW)"},{"$f":"IF(ISBLANK(InfoPro!E21),\"\",InfoPro!E21)","v":19.5},{"$f":"IF(ISBLANK(InfoPro!F21),\"\",InfoPro!F21)","v":"Solar FV"},{"$f":"IF(ISBLANK(InfoPro!I21),\"\",YEAR(InfoPro!I21)-$G$3)","v":2},{"$f":"IF(B27=\"\",\"\",VLOOKUP(D27,Tablas!$B$2:$E$13,2,FALSE))","v":0.26},{"$f":"IF(B27=\"\",\"\",VLOOKUP(D27,Tablas!$B$2:$H$13,7,FALSE))","v":83577.200000000012},44413.200000000004,3854582401.2979994,3447748122.806798,3083853419.3262949,2758366206.9108186,2467232743.2118239,2206827140.6188049,1973906208.0669096,1765569059.093837,1579220983.0892994,1412541129.7757602,1263453604.4505906,1130101613.9987395,1010824341.6804467,904136262.68376291,808708642.82984149,29667071879.841728,1521388.3015303451]
[{"$f":"IF(ISBLANK(InfoPro!A22),\"\",InfoPro!A22)","v":"SC_1763_A2"},{"$f":"IF(ISBLANK(InfoPro!B22),\"\",InfoPro!B22)","v":"Taurus Solar de 22MW (19,5 MW)"},{"$f":"IF(ISBLANK(InfoPro!E22),\"\",InfoPro!E22)","v":19.5},{"$f":"IF(ISBLANK(InfoPro!F22),\"\",InfoPro!F22)","v":"Solar FV"},{"$f":"IF(ISBLANK(InfoPro!I22),\"\",YEAR(InfoPro!I22)-$G$3)","v":2},{"$f":"IF(B28=\"\",\"\",VLOOKUP(D28,Tablas!$B$2:$E$13,2,FALSE))","v":0.26},{"$f":"IF(B28=\"\",\"\",VLOOKUP(D28,Tablas!$B$2:$H$13,7,FALSE))","v":83577.200000000012},44413.200000000004,{"$f":"IF($H28=\"\",\"\",(1/(1+$C$3)^(I$6+$E28))*$H28*($C$2 - $G28))","v":3854582401.2979994},3447748122.806798,3083853419.3262949,2758366206.9108186,2467232743.2118239,2206827140.6188049,1973906208.0669096,1765569059.093837,1579220983.0892994,1412541129.7757602,1263453604.4505906,1130101613.9987395,1010824341.6804467,904136262.68376291,808708642.82984149,29667071879.841728,1521388.3015303451]
[{"$f":"IF(ISBLANK(InfoPro!A23),\"\",InfoPro!A23)","v":"SC_828_A1"},{"$f":"IF(ISBLANK(InfoPro!B23),\"\",InfoPro!B23)","v":"PARQUE SOLAR EL VASCO"},{"$f":"IF(ISBLANK(InfoPro!E23),\"\",InfoPro!E23)","v":60},{"$f":"IF(ISBLANK(InfoPro!F23),\"\",InfoPro!F23)","v":"Solar FV"},{"$f":"IF(ISBLANK(InfoPro!I23),\"\",YEAR(InfoPro!I23)-$G$3)","v":3},{"$f":"IF(B29=\"\",\"\",VLOOKUP(D29,Tablas!$B$2:$E$13,2,FALSE))","v":0.26},{"$f":"IF(B29=\"\",\"\",VLOOKUP(D29,Tablas!$B$2:$H$13,7,FALSE))","v":83577.200000000012},136656,10608455762.482454,9488779751.7732162,8487280636.6486731,7591485363.7286873,6790237355.7501688,6073557563.2827988,5432520181.8271904,4859141486.4286137,4346280399.3100319,3887549552.1556635,3477235735.3807364,3110228743.632144,2781957731.3346548,2488334285.6302814,2225701507.7193933,81648746057.084686,1360812.4342847448]
[{"$f":"IF(ISBLANK(InfoPro!A24),\"\",InfoPro!A24)","v":"SC_828_A2"},{"$f":"IF(ISBLANK(InfoPro!B24),\"\",InfoPro!B24)","v":"PARQUE SOLAR EL VASCO"},{"$f":"IF(ISBLANK(InfoPro!E24),\"\",InfoPro!E24)","v":60},{"$f":"IF(ISBLANK(InfoPro!F24),\"\",InfoPro!F24)","v":"Solar FV"},{"$f":"IF(ISBLANK(InfoPro!I24),\"\",YEAR(InfoPro!I24)-$G$3)","v":3},{"$f":"IF(B30=\"\",\"\",VLOOKUP(D30,Tablas!$B$2:$E$13,2,FALSE))","v":0.26},{"$f":"IF(B30=\"\",\"\",VLOOKUP(D30,Tablas!$B$2:$H$13,7,FALSE))","v":83577.200000000012},136656,10608455762.482454,9488779751.7732162,8487280636.6486731,7591485363.7286873,6790237355.7501688,6073557563.2827988,5432520181.8271904,4859141486.4286137,4346280399.3100319,3887549552.1556635,3477235735.3807364,3110228743.632144,2781957731.3346548,2488334285.6302814,2225701507.7193933,81648746057.084686,1360812.4342847448]
[{"$f":"IF(ISBLANK(InfoPro!A25),\"\",InfoPro!A25)","v":"SC_1179_A1"},{"$f":"IF(ISBLANK(InfoPro!B25),\"\",InfoPro!B25)","v":"Montes 90 MW"},{"$f":"IF(ISBLANK(InfoPro!E25),\"\",InfoPro!E25)","v":90},{"$f":"IF(ISBLANK(InfoPro!F25),\"\",InfoPro!F25)","v":"Solar FV"},{"$f":"IF(ISBLANK(InfoPro!I25),\"\",YEAR(InfoPro!I25)-$G$3)","v":3},{"$f":"IF(B31=\"\",\"\",VLOOKUP(D31,Tablas!$B$2:$E$13,2,FALSE))","v":0.26},{"$f":"IF(B31=\"\",\"\",VLOOKUP(D31,Tablas!$B$2:$H$13,7,FALSE))","v":83577.200000000012},204984,15912683643.72368,14233169627.659822,12730920954.973009,11387228045.593031,10185356033.625252,9110336344.9241962,8148780272.7407846,7288712229.6429205,6519420598.9650469,5831324328.2334948,5215853603.071104,4665343115.4482155,4172936597.0019822,3732501428.4454217,3338552261.5790896,122473119085.62703,1360812.4342847448]
[{"$f":"IF(ISBLANK(InfoPro!A26),\"\",InfoPro!A26)","v":"SC_1179_A2"},{"$f":"IF(ISBLANK(InfoPro!B26),\"\",InfoPro!B26)","v":"Montes 90 MW"},{"$f":"IF(ISBLANK(InfoPro!E26),\"\",InfoPro!E26)","v":90},{"$f":"IF(ISBLANK(InfoPro!F26),\"\",InfoPro!F26)","v":"Solar FV"},{"$f":"IF(ISBLANK(InfoPro!I26),\"\",YEAR(InfoPro!I26)-$G$3)","v":3},{"$f":"IF(B32=\"\",\"\",VLOOKUP(D32,Tablas!$B$2:$E$13,2,FALSE))","v":0.26},{"$f":"IF(B32=\"\",\"\",VLOOKUP(D32,Tablas!$B$2:$H$13,7,FALSE))","v":83577.200000000012},204984,15912683643.72368,14233169627.659822,12730920954.973009,11387228045.593031,10185356033.625252,9110336344.9241962,8148780272.7407846,7288712229.6429205,6519420598.9650469,5831324328.2334948,5215853603.071104,4665343115.4482155,4172936597.0019822,3732501428.4454217,3338552261.5790896,122473119085.62703,1360812.4342847448]
[{"$f":"IF(ISBLANK(InfoPro!A27),\"\",InfoPro!A27)","v":"SC_1206_A1"},{"$f":"IF(ISBLANK(InfoPro!B27),\"\",InfoPro!B27)","v":"Cerromatoso Solar 300 MW"},{"$f":"IF(ISBLANK(InfoPro!E27),\"\",InfoPro!E27)","v":300},{"$f":"IF(ISBLANK(InfoPro!F27),\"\",InfoPro!F27)","v":"Solar FV"},{"$f":"IF(ISBLANK(InfoPro!I27),\"\",YEAR(InfoPro!I27)-$G$3)","v":5},{"$f":"IF(B33=\"\",\"\",VLOOKUP(D33,Tablas!$B$2:$E$13,2,FALSE))","v":0.26},{"$f":"IF(B33=\"\",\"\",VLOOKUP(D33,Tablas!$B$2:$H$13,7,FALSE))","v":83577.200000000012},683280,42436403183.243362,37957426818.643433,33951186778.750839,30367787816.413994,27162600909.135952,24295707432.14307,21731401996.550156,19437747760.778316,17386178676.903683,15551143718.160719,13909788656.673275,12441671428.151405,11128507538.596966,9953942342.2155323,8903347354.3967228,326614842410.75745,1088716.1413691915]
[{"$f":"IF(ISBLANK(InfoPro!A28),\"\",InfoPro!A28)","v":"SC_1206_A2"},{"$f":"IF(ISBLANK(InfoPro!B28),\"\",InfoPro!B28)","v":"Cerromatoso Solar 300 MW"},{"$f":"IF(ISBLANK(InfoPro!E28),\"\",InfoPro!E28)","v":300},{"$f":"IF(ISBLANK(InfoPro!F28),\"\",InfoPro!F28)","v":"Solar FV"},{"$f":"IF(ISBLANK(InfoPro!I28),\"\",YEAR(InfoPro!I28)-$G$3)","v":5},{"$f":"IF(B34=\"\",\"\",VLOOKUP(D34,Tablas!$B$2:$E$13,2,FALSE))","v":0.26},{"$f":"IF(B34=\"\",\"\",VLOOKUP(D34,Tablas!$B$2:$H$13,7,FALSE))","v":83577.200000000012},683280,42436403183.243362,37957426818.643433,33951186778.750839,30367787816.413994,27162600909.135952,24295707432.14307,21731401996.550156,19437747760.778316,17386178676.903683,15551143718.160719,13909788656.673275,12441671428.151405,11128507538.596966,9953942342.2155323,8903347354.3967228,326614842410.75745,1088716.1413691915]
[{"$f":"IF(ISBLANK(InfoPro!A29),\"\",InfoPro!A29)","v":"SC_1372_A1"},{"$f":"IF(ISBLANK(InfoPro!B29),\"\",InfoPro!B29)","v":"Pétalo del Bolívar I Magangué"},{"$f":"IF(ISBLANK(InfoPro!E29),\"\",InfoPro!E29)","v":9.9},{"$f":"IF(ISBLANK(InfoPro!F29),\"\",InfoPro!F29)","v":"Solar FV"},{"$f":"IF(ISBLANK(InfoPro!I29),\"\",YEAR(InfoPro!I29)-$G$3)","v":2},{"$f":"IF(B35=\"\",\"\",VLOOKUP(D35,Tablas!$B$2:$E$13,2,FALSE))","v":0.26},{"$f":"IF(B35=\"\",\"\",VLOOKUP(D35,Tablas!$B$2:$H$13,7,FALSE))","v":83577.200000000012},22548.240000000005,1956941834.5051382,1750395200.8096051,1565648659.0425808,1400401305.0470314,1252595085.0152338,1120389163.6987782,1002136997.9416621,896365830.00148666,801758345.26072145,717136265.88615525,641445676.10568452,573743896.33782172,513187742.69930387,459023025.67021811,410575157.12899649,15061744185.150415,1521388.3015303449]
[{"$f":"IF(ISBLANK(InfoPro!A30),\"\",InfoPro!A30)","v":"SC_1372_A2"},{"$f":"IF(ISBLANK(InfoPro!B30),\"\",InfoPro!B30)","v":"Pétalo del Bolívar I Magangué"},{"$f":"IF(ISBLANK(InfoPro!E30),\"\",InfoPro!E30)","v":9.9},{"$f":"IF(ISBLANK(InfoPro!F30),\"\",InfoPro!F30)","v":"Solar FV"},{"$f":"IF(ISBLANK(InfoPro!I30),\"\",YEAR(InfoPro!I30)-$G$3)","v":2},{"$f":"IF(B36=\"\",\"\",VLOOKUP(D36,Tablas!$B$2:$E$13,2,FALSE))","v":0.26},{"$f":"IF(B36=\"\",\"\",VLOOKUP(D36,Tablas!$B$2:$H$13,7,FALSE))","v":83577.200000000012},22548.240000000005,1956941834.5051382,1750395200.8096051,1565648659.0425808,1400401305.0470314,1252595085.0152338,1120389163.6987782,1002136997.9416621,896365830.00148666,801758345.26072145,717136265.88615525,641445676.10568452,573743896.33782172,513187742.69930387,459023025.67021811,410575157.12899649,15061744185.150415,1521388.3015303449]
[{"$f":"IF(ISBLANK(InfoPro!A31),\"\",InfoPro!A31)","v":"SC_692_A1"},{"$f":"IF(ISBLANK(InfoPro!B31),\"\",InfoPro!B31)","v":"TermoJobo"},{"$f":"IF(ISBLANK(InfoPro!E31),\"\",InfoPro!E31)","v":9.9},{"$f":"IF(ISBLANK(InfoPro!F31),\"\",InfoPro!F31)","v":"Termica a vapor"},{"$f":"IF(ISBLANK(InfoPro!I31),\"\",YEAR(InfoPro!I31)-$G$3)","v":1},{"$f":"IF(B37=\"\",\"\",VLOOKUP(D37,Tablas!$B$2:$E$13,2,FALSE))","v":0.85},{"$f":"IF(B37=\"\",\"\",VLOOKUP(D37,Tablas!$B$2:$H$13,7,FALSE))","v":267152.5},73715.400000000009,-4951426494.3649387,-4428825129.1278524,-3961382047.5204406,-3543275534.4547772,-3169298331.3548994,-2834792782.9650264,-2535592829.1279306,-2267972119.0768614,-2028597602.0365489,-1814488016.1328697,-1622976758.6161633,-1451678674.9697347,-1298460353.2824101,-1161413553.9198661,-1038831443.5776979,-38109011670.528015,-3849395.1182351531]
[{"$f":"IF(ISBLANK(InfoPro!A32),\"\",InfoPro!A32)","v":"SC_1057_A1"},{"$f":"IF(ISBLANK(InfoPro!B32),\"\",InfoPro!B32)","v":"Río Sinú Solar I 9,9 MW"},{"$f":"IF(ISBLANK(InfoPro!E32),\"\",InfoPro!E32)","v":9.9},{"$f":"IF(ISBLANK(InfoPro!F32),\"\",InfoPro!F32)","v":"Solar FV"},{"$f":"IF(ISBLANK(InfoPro!I32),\"\",YEAR(InfoPro!I32)-$G$3)","v":2},{"$f":"IF(B38=\"\",\"\",VLOOKUP(D38,Tablas!$B$2:$E$13,2,FALSE))","v":0.26},{"$f":"IF(B38=\"\",\"\",VLOOKUP(D38,Tablas!$B$2:$H$13,7,FALSE))","v":83577.200000000012},22548.240000000005,{"$f":"IF($H38=\"\",\"\",(1/(1+$C$3)^(I$6+$E38))*$H38*($C$2 - $G38))","v":1956941834.5051382},1750395200.8096051,1565648659.0425808,1400401305.0470314,1252595085.0152338,1120389163.6987782,1002136997.9416621,896365830.00148666,801758345.26072145,717136265.88615525,641445676.10568452,573743896.33782172,513187742.69930387,459023025.67021811,410575157.12899649,15061744185.150415,1521388.3015303449]
[{"$f":"IF(ISBLANK(InfoPro!A33),\"\",InfoPro!A33)","v":"SC_1057_A2"},{"$f":"IF(ISBLANK(InfoPro!B33),\"\",InfoPro!B33)","v":"Río Sinú Solar I 9,9 MW"},{"$f":"IF(ISBLANK(InfoPro!E33),\"\",InfoPro!E33)","v":9.9},{"$f":"IF(ISBLANK(InfoPro!F33),\"\",InfoPro!F33)","v":"Solar FV"},{"$f":"IF(ISBLANK(InfoPro!I33),\"\",YEAR(InfoPro!I33)-$G$3)","v":2},{"$f":"IF(B39=\"\",\"\",VLOOKUP(D39,Tablas!$B$2:$E$13,2,FALSE))","v":0.26},{"$f":"IF(B39=\"\",\"\",VLOOKUP(D39,Tablas!$B$2:$H$13,7,FALSE))","v":83577.200000000012},22548.240000000005,1956941834.5051382,1750395200.8096051,1565648659.0425808,1400401305.0470314,1252595085.0152338,1120389163.6987782,1002136997.9416621,896365830.00148666,801758345.26072145,717136265.88615525,641445676.10568452,573743896.33782172,513187742.69930387,459023025.67021811,410575157.12899649,15061744185.150415,1521388.3015303449]
[{"$f":"IF(ISBLANK(InfoPro!A34),\"\",InfoPro!A34)","v":"SC_1058_A1"},{"$f":"IF(ISBLANK(InfoPro!B34),\"\",InfoPro!B34)","v":"Río Sinú Solar II 9,9 MW"},{"$f":"IF(ISBLANK(InfoPro!E34),\"\",InfoPro!E34)","v":9.9},{"$f":"IF(ISBLANK(InfoPro!F34),\"\",InfoPro!F34)","v":"Solar FV"},{"$f":"IF(ISBLANK(InfoPro!I34),\"\",YEAR(InfoPro!I34)-$G$3)","v":2},{"$f":"IF(B40=\"\",\"\",VLOOKUP(D40,Tablas!$B$2:$E$13,2,FALSE))","v":0.26},{"$f":"IF(B40=\"\",\"\",VLOOKUP(D40,Tablas!$B$2:$H$13,7,FALSE))","v":83577.200000000012},{"$f":"IF(C40=\"\",\"\",+C40*F40*24*365)","v":22548.240000000005},1956941834.5051382,1750395200.8096051,1565648659.0425808,1400401305.0470314,1252595085.0152338,1120389163.6987782,1002136997.9416621,896365830.00148666,801758345.26072145,717136265.88615525,641445676.10568452,573743896.33782172,513187742.69930387,459023025.67021811,410575157.12899649,15061744185.150415,1521388.3015303449]
[{"$f":"IF(ISBLANK(InfoPro!A35),\"\",InfoPro!A35)","v":"SC_1058_A2"},{"$f":"IF(ISBLANK(InfoPro!B35),\"\",InfoPro!B35)","v":"Río Sinú Solar II 9,9 MW"},{"$f":"IF(ISBLANK(InfoPro!E35),\"\",InfoPro!E35)","v":9.9},{"$f":"IF(ISBLANK(InfoPro!F35),\"\",InfoPro!F35)","v":"Solar FV"},{"$f":"IF(ISBLANK(InfoPro!I35),\"\",YEAR(InfoPro!I35)-$G$3)","v":2},{"$f":"IF(B41=\"\",\"\",VLOOKUP(D41,Tablas!$B$2:$E$13,2,FALSE))","v":0.26},{"$f":"IF(B41=\"\",\"\",VLOOKUP(D41,Tablas!$B$2:$H$13,7,FALSE))","v":83577.200000000012},22548.240000000005,1956941834.5051382,1750395200.8096051,1565648659.0425808,1400401305.0470314,1252595085.0152338,1120389163.6987782,1002136997.9416621,896365830.00148666,801758345.26072145,717136265.88615525,641445676.10568452,573743896.33782172,513187742.69930387,459023025.67021811,410575157.12899649,15061744185.150415,1521388.3015303449]
[{"$f":"IF(ISBLANK(InfoPro!A36),\"\",InfoPro!A36)","v":"SC_855_A1"},{"$f":"IF(ISBLANK(InfoPro!B36),\"\",InfoPro!B36)","v":"El Lirio"},{"$f":"IF(ISBLANK(InfoPro!E36),\"\",InfoPro!E36)","v":19.899999999999999},{"$f":"IF(ISBLANK(InfoPro!F36),\"\",InfoPro!F36)","v":"Solar FV"},{"$f":"IF(ISBLANK(InfoPro!I36),\"\",YEAR(InfoPro!I36)-$G$3)","v":2},{"$f":"IF(B42=\"\",\"\",VLOOKUP(D42,Tablas!$B$2:$E$13,2,FALSE))","v":0.26},{"$f":"IF(B42=\"\",\"\",VLOOKUP(D42,Tablas!$B$2:$H$13,7,FALSE))","v":83577.200000000012},45324.24,3933650758.2477012,3518471161.2233467,3147111951.0047827,2814948077.8218098,2517842645.6366811,2252095389.6571388,2014396591.8221281,1801785860.3060181,1611615259.6654902,1441516332.4378271,1289370601.4649615,1153283185.5679443,1031559199.9713277,922682647.55932713,825297538.06737661,30275627200.453861,1521388.3015303449]
[{"$f":"IF(ISBLANK(InfoPro!A37),\"\",InfoPro!A37)","v":"SC_855_A2"},{"$f":"IF(ISBLANK(InfoPro!B37),\"\",InfoPro!B37)","v":"El Lirio"},{"$f":"IF(ISBLANK(InfoPro!E37),\"\",InfoPro!E37)","v":19.899999999999999},{"$f":"IF(ISBLANK(InfoPro!F37),\"\",InfoPro!F37)","v":"Solar FV"},{"$f":"IF(ISBLANK(InfoPro!I37),\"\",YEAR(InfoPro!I37)-$G$3)","v":2},{"$f":"IF(B43=\"\",\"\",VLOOKUP(D43,Tablas!$B$2:$E$13,2,FALSE))","v":0.26},{"$f":"IF(B43=\"\",\"\",VLOOKUP(D43,Tablas!$B$2:$H$13,7,FALSE))","v":83577.200000000012},45324.24,3933650758.2477012,3518471161.2233467,3147111951.0047827,2814948077.8218098,2517842645.6366811,2252095389.6571388,2014396591.8221281,1801785860.3060181,1611615259.6654902,1441516332.4378271,1289370601.4649615,1153283185.5679443,1031559199.9713277,922682647.55932713,825297538.06737661,30275627200.453861,1521388.3015303449]
[{"$f":"IF(ISBLANK(InfoPro!A38),\"\",InfoPro!A38)","v":"SC_630_A1"},{"$f":"IF(ISBLANK(InfoPro!B38),\"\",InfoPro!B38)","v":"TR Solar 14"},{"$f":"IF(ISBLANK(InfoPro!E38),\"\",InfoPro!E38)","v":99.9},{"$f":"IF(ISBLANK(InfoPro!F38),\"\",InfoPro!F38)","v":"Solar FV"},{"$f":"IF(ISBLANK(InfoPro!I38),\"\",YEAR(InfoPro!I38)-$G$3)","v":3},{"$f":"IF(B44=\"\",\"\",VLOOKUP(D44,Tablas!$B$2:$E$13,2,FALSE))","v":0.26},{"$f":"IF(B44=\"\",\"\",VLOOKUP(D44,Tablas!$B$2:$H$13,7,FALSE))","v":83577.200000000012},227532.24000000002,17663078844.533287,15798818286.702406,14131322260.020041,12639823130.608265,11305745197.324032,10112473342.86586,9045146102.7422714,8090470574.9036427,7236556864.851203,6472770004.33918,5789597499.408927,5178530858.1475201,4631959622.6722012,4143076585.574419,3705793010.3527899,135945162185.04604,1360812.434284745]
[{"$f":"IF(ISBLANK(InfoPro!A39),\"\",InfoPro!A39)","v":"SC_1269_A1"},{"$f":"IF(ISBLANK(InfoPro!B39),\"\",InfoPro!B39)","v":"Centro Solar II 4 MW"},{"$f":"IF(ISBLANK(InfoPro!E39),\"\",InfoPro!E39)","v":4},{"$f":"IF(ISBLANK(InfoPro!F39),\"\",InfoPro!F39)","v":"Solar FV"},{"$f":"IF(ISBLANK(InfoPro!I39),\"\",YEAR(InfoPro!I39)-$G$3)","v":0},{"$f":"IF(B45=\"\",\"\",VLOOKUP(D45,Tablas!$B$2:$E$13,2,FALSE))","v":0.26},{"$f":"IF(B45=\"\",\"\",VLOOKUP(D45,Tablas!$B$2:$H$13,7,FALSE))","v":83577.200000000012},9110.4,988294369.91999984,883984230.69767439,790683569.49702537,707230384.16549683,632585316.784881,565818709.10991144,506099024.24857908,452682490.38334459,404903837.55218655,362168012.1218127,323942765.76190752,289752026.62066877,259169970.14371088,231815715.69204906,207348582.90880957,7606479005.6080589,1901619.7514020146]
[{"$f":"IF(ISBLANK(InfoPro!A40),\"\",InfoPro!A40)","v":"SC_1268_A1"},{"$f":"IF(ISBLANK(InfoPro!B40),\"\",InfoPro!B40)","v":"Sol de Ayapel II de 7 MW"},{"$f":"IF(ISBLANK(InfoPro!E40),\"\",InfoPro!E40)","v":7},{"$f":"IF(ISBLANK(InfoPro!F40),\"\",InfoPro!F40)","v":"Solar FV"},{"$f":"IF(ISBLANK(InfoPro!I40),\"\",YEAR(InfoPro!I40)-$G$3)","v":1},{"$f":"IF(B46=\"\",\"\",VLOOKUP(D46,Tablas!$B$2:$E$13,2,FALSE))","v":0.26},{"$f":"IF(B46=\"\",\"\",VLOOKUP(D46,Tablas!$B$2:$H$13,7,FALSE))","v":83577.200000000012},15943.2,1546972403.7209303,1383696246.6197944,1237653172.2896197,1107024304.3735418,990182740.94234514,885673292.43501353,792194358.17085302,708581715.71632659,633794021.21317232,566899840.08333826,507066046.58617038,453547447.75149405,405677502.46108592,362860020.09041679,324561735.32237643,11906384847.776478,1700912.1211109255]
[{"$f":"IF(ISBLANK(InfoPro!A41),\"\",InfoPro!A41)","v":"SC_1268_A2"},{"$f":"IF(ISBLANK(InfoPro!B41),\"\",InfoPro!B41)","v":"Sol de Ayapel II de 7 MW"},{"$f":"IF(ISBLANK(InfoPro!E41),\"\",InfoPro!E41)","v":7},{"$f":"IF(ISBLANK(InfoPro!F41),\"\",InfoPro!F41)","v":"Solar FV"},{"$f":"IF(ISBLANK(InfoPro!I41),\"\",YEAR(InfoPro!I41)-$G$3)","v":1},{"$f":"IF(B47=\"\",\"\",VLOOKUP(D47,Tablas!$B$2:$E$13,2,FALSE))","v":0.26},{"$f":"IF(B47=\"\",\"\",VLOOKUP(D47,Tablas!$B$2:$H$13,7,FALSE))","v":83577.200000000012},15943.2,1546972403.7209303,1383696246.6197944,1237653172.2896197,1107024304.3735418,990182740.94234514,885673292.43501353,792194358.17085302,708581715.71632659,633794021.21317232,566899840.08333826,507066046.58617038,453547447.75149405,405677502.46108592,362860020.09041679,324561735.32237643,11906384847.776478,1700912.1211109255]
[{"$f":"IF(ISBLANK(InfoPro!A42),\"\",InfoPro!A42)","v":"SC_1118_A1"},{"$f":"IF(ISBLANK(InfoPro!B42),\"\",InfoPro!B42)","v":"Boston 9,9 MW"},{"$f":"IF(ISBLANK(InfoPro!E42),\"\",InfoPro!E42)","v":9.9},{"$f":"IF(ISBLANK(InfoPro!F42),\"\",InfoPro!F42)","v":"Solar FV"},{"$f":"IF(ISBLANK(InfoPro!I42),\"\",YEAR(InfoPro!I42)-$G$3)","v":2},{"$f":"IF(B48=\"\",\"\",VLOOKUP(D48,Tablas!$B$2:$E$13,2,FALSE))","v":0.26},{"$f":"IF(B48=\"\",\"\",VLOOKUP(D48,Tablas!$B$2:$H$13,7,FALSE))","v":83577.200000000012},22548.240000000005,{"$f":"IF($H48=\"\",\"\",(1/(1+$C$3)^(I$6+$E48))*$H48*($C$2 - $G48))","v":1956941834.5051382},1750395200.8096051,1565648659.0425808,1400401305.0470314,1252595085.0152338,1120389163.6987782,1002136997.9416621,896365830.00148666,801758345.26072145,717136265.88615525,641445676.10568452,573743896.33782172,513187742.69930387,459023025.67021811,410575157.12899649,15061744185.150415,1521388.3015303449]
[{"$f":"IF(ISBLANK(InfoPro!A43),\"\",InfoPro!A43)","v":"SC_1118_A2"},{"$f":"IF(ISBLANK(InfoPro!B43),\"\",InfoPro!B43)","v":"Boston 9,9 MW"},{"$f":"IF(ISBLANK(InfoPro!E43),\"\",InfoPro!E43)","v":9.9},{"$f":"IF(ISBLANK(InfoPro!F43),\"\",InfoPro!F43)","v":"Solar FV"},{"$f":"IF(ISBLANK(InfoPro!I43),\"\",YEAR(InfoPro!I43)-$G$3)","v":2},{"$f":"IF(B49=\"\",\"\",VLOOKUP(D49,Tablas!$B$2:$E$13,2,FALSE))","v":0.26},{"$f":"IF(B49=\"\",\"\",VLOOKUP(D49,Tablas!$B$2:$H$13,7,FALSE))","v":83577.200000000012},22548.240000000005,1956941834.5051382,1750395200.8096051,1565648659.0425808,1400401305.0470314,1252595085.0152338,1120389163.6987782,1002136997.9416621,896365830.00148666,801758345.26072145,717136265.88615525,641445676.10568452,573743896.33782172,513187742.69930387,459023025.67021811,410575157.12899649,15061744185.150415,1521388.3015303449]
[{"$f":"IF(ISBLANK(InfoPro!A44),\"\",InfoPro!A44)","v":"SC_632_A1"},{"$f":"IF(ISBLANK(InfoPro!B44),\"\",InfoPro!B44)","v":"TR Solar 5"},{"$f":"IF(ISBLANK(InfoPro!E44),\"\",InfoPro!E44)","v":19.899999999999999},{"$f":"IF(ISBLANK(InfoPro!F44),\"\",InfoPro!F44)","v":"Solar FV"},{"$f":"IF(ISBLANK(InfoPro!I44),\"\",YEAR(InfoPro!I44)-$G$3)","v":3},{"$f":"IF(B50=\"\",\"\",VLOOKUP(D50,Tablas!$B$2:$E$13,2,FALSE))","v":0.26},{"$f":"IF(B50=\"\",\"\",VLOOKUP(D50,Tablas!$B$2:$H$13,7,FALSE))","v":83577.200000000012},45324.24,3518471161.2233467,3147111951.0047827,2814948077.8218098,2517842645.6366811,2252095389.6571388,2014396591.8221281,1801785860.3060181,1611615259.6654902,1441516332.4378271,1289370601.4649615,1153283185.5679443,1031559199.9713277,922682647.55932713,825297538.06737661,738191000.0602653,27080167442.266422,1360812.4342847448]
[{"$f":"IF(ISBLANK(InfoPro!A45),\"\",InfoPro!A45)","v":"SC_632_A2"},{"$f":"IF(ISBLANK(InfoPro!B45),\"\",InfoPro!B45)","v":"TR Solar 5"},{"$f":"IF(ISBLANK(InfoPro!E45),\"\",InfoPro!E45)","v":19.899999999999999},{"$f":"IF(ISBLANK(InfoPro!F45),\"\",InfoPro!F45)","v":"Solar FV"},{"$f":"IF(ISBLANK(InfoPro!I45),\"\",YEAR(InfoPro!I45)-$G$3)","v":3},{"$f":"IF(B51=\"\",\"\",VLOOKUP(D51,Tablas!$B$2:$E$13,2,FALSE))","v":0.26},{"$f":"IF(B51=\"\",\"\",VLOOKUP(D51,Tablas!$B$2:$H$13,7,FALSE))","v":83577.200000000012},45324.24,3518471161.2233467,3147111951.0047827,2814948077.8218098,2517842645.6366811,2252095389.6571388,2014396591.8221281,1801785860.3060181,1611615259.6654902,1441516332.4378271,1289370601.4649615,1153283185.5679443,1031559199.9713277,922682647.55932713,825297538.06737661,738191000.0602653,27080167442.266422,1360812.4342847448]
[{"$f":"IF(ISBLANK(InfoPro!A46),\"\",InfoPro!A46)","v":"SC_1415_A1"},{"$f":"IF(ISBLANK(InfoPro!B46),\"\",InfoPro!B46)","v":"Efigen C03 99 MW"},{"$f":"IF(ISBLANK(InfoPro!E46),\"\",InfoPro!E46)","v":99},{"$f":"IF(ISBLANK(InfoPro!F46),\"\",InfoPro!F46)","v":"Solar FV"},{"$f":"IF(ISBLANK(InfoPro!I46),\"\",YEAR(InfoPro!I46)-$G$3)","v":2},{"$f":"IF(B52=\"\",\"\",VLOOKUP(D52,Tablas!$B$2:$E$13,2,FALSE))","v":0.26},{"$f":"IF(B52=\"\",\"\",VLOOKUP(D52,Tablas!$B$2:$H$13,7,FALSE))","v":83577.200000000012},225482.4,19569418345.051376,17503952008.09605,15656486590.425806,14004013050.470308,12525950850.152334,11203891636.987778,10021369979.416616,8963658300.014864,8017583452.6072121,7171362658.8615513,6414456761.0568438,5737438963.3782148,5131877426.9930372,4590230256.7021809,4105751571.2899642,150617441851.50415,1521388.3015303449]
[{"$f":"IF(ISBLANK(InfoPro!A47),\"\",InfoPro!A47)","v":"SC_1415_A2"},{"$f":"IF(ISBLANK(InfoPro!B47),\"\",InfoPro!B47)","v":"Efigen C03 99 MW"},{"$f":"IF(ISBLANK(InfoPro!E47),\"\",InfoPro!E47)","v":99},{"$f":"IF(ISBLANK(InfoPro!F47),\"\",InfoPro!F47)","v":"Solar FV"},{"$f":"IF(ISBLANK(InfoPro!I47),\"\",YEAR(InfoPro!I47)-$G$3)","v":2},{"$f":"IF(B53=\"\",\"\",VLOOKUP(D53,Tablas!$B$2:$E$13,2,FALSE))","v":0.26},{"$f":"IF(B53=\"\",\"\",VLOOKUP(D53,Tablas!$B$2:$H$13,7,FALSE))","v":83577.200000000012},225482.4,19569418345.051376,17503952008.09605,15656486590.425806,14004013050.470308,12525950850.152334,11203891636.987778,10021369979.416616,8963658300.014864,8017583452.6072121,7171362658.8615513,6414456761.0568438,5737438963.3782148,5131877426.9930372,4590230256.7021809,4105751571.2899642,150617441851.50415,1521388.3015303449]
[{"$f":"IF(ISBLANK(InfoPro!A48),\"\",InfoPro!A48)","v":"SC_1420_A1"},{"$f":"IF(ISBLANK(InfoPro!B48),\"\",InfoPro!B48)","v":"Efigen C04 99 MW"},{"$f":"IF(ISBLANK(InfoPro!E48),\"\",InfoPro!E48)","v":99},{"$f":"IF(ISBLANK(InfoPro!F48),\"\",InfoPro!F48)","v":"Solar FV"},{"$f":"IF(ISBLANK(InfoPro!I48),\"\",YEAR(InfoPro!I48)-$G$3)","v":2},{"$f":"IF(B54=\"\",\"\",VLOOKUP(D54,Tablas!$B$2:$E$13,2,FALSE))","v":0.26},{"$f":"IF(B54=\"\",\"\",VLOOKUP(D54,Tablas!$B$2:$H$13,7,FALSE))","v":83577.200000000012},225482.4,19569418345.051376,17503952008.09605,15656486590.425806,14004013050.470308,12525950850.152334,11203891636.987778,10021369979.416616,8963658300.014864,8017583452.6072121,7171362658.8615513,6414456761.0568438,5737438963.3782148,5131877426.9930372,4590230256.7021809,4105751571.2899642,150617441851.50415,1521388.3015303449]
[{"$f":"IF(ISBLANK(InfoPro!A49),\"\",InfoPro!A49)","v":"SC_1420_A2"},{"$f":"IF(ISBLANK(InfoPro!B49),\"\",InfoPro!B49)","v":"Efigen C04 99 MW"},{"$f":"IF(ISBLANK(InfoPro!E49),\"\",InfoPro!E49)","v":99},{"$f":"IF(ISBLANK(InfoPro!F49),\"\",InfoPro!F49)","v":"Solar FV"},{"$f":"IF(ISBLANK(InfoPro!I49),\"\",YEAR(InfoPro!I49)-$G$3)","v":2},{"$f":"IF(B55=\"\",\"\",VLOOKUP(D55,Tablas!$B$2:$E$13,2,FALSE))","v":0.26},{"$f":"IF(B55=\"\",\"\",VLOOKUP(D55,Tablas!$B$2:$H$13,7,FALSE))","v":83577.200000000012},225482.4,19569418345.051376,17503952008.09605,15656486590.425806,14004013050.470308,12525950850.152334,11203891636.987778,10021369979.416616,8963658300.014864,8017583452.6072121,7171362658.8615513,6414456761.0568438,5737438963.3782148,5131877426.9930372,4590230256.7021809,4105751571.2899642,150617441851.50415,1521388.3015303449]
[{"$f":"IF(ISBLANK(InfoPro!A50),\"\",InfoPro!A50)","v":"SC_1435_A1"},{"$f":"IF(ISBLANK(InfoPro!B50),\"\",InfoPro!B50)","v":"Parque Solar Las Brisas"},{"$f":"IF(ISBLANK(InfoPro!E50),\"\",InfoPro!E50)","v":9.9},{"$f":"IF(ISBLANK(InfoPro!F50),\"\",InfoPro!F50)","v":"Solar FV"},{"$f":"IF(ISBLANK(InfoPro!I50),\"\",YEAR(InfoPro!I50)-$G$3)","v":1},{"$f":"IF(B56=\"\",\"\",VLOOKUP(D56,Tablas!$B$2:$E$13,2,FALSE))","v":0.26},{"$f":"IF(B56=\"\",\"\",VLOOKUP(D56,Tablas!$B$2:$H$13,7,FALSE))","v":83577.200000000012},22548.240000000005,2187860970.9767447,1956941834.5051382,1750395200.8096051,1565648659.0425808,1400401305.0470314,1252595085.0152338,1120389163.6987782,1002136997.9416621,896365830.00148666,801758345.26072145,717136265.88615525,641445676.10568452,573743896.33782172,513187742.69930387,459023025.67021811,16839029998.998165,1700912.1211109257]
[{"$f":"IF(ISBLANK(InfoPro!A51),\"\",InfoPro!A51)","v":"SC_978_A1"},{"$f":"IF(ISBLANK(InfoPro!B51),\"\",InfoPro!B51)","v":"Borugo Solar"},{"$f":"IF(ISBLANK(InfoPro!E51),\"\",InfoPro!E51)","v":99.9},{"$f":"IF(ISBLANK(InfoPro!F51),\"\",InfoPro!F51)","v":"Solar FV"},{"$f":"IF(ISBLANK(InfoPro!I51),\"\",YEAR(InfoPro!I51)-$G$3)","v":3},{"$f":"IF(B57=\"\",\"\",VLOOKUP(D57,Tablas!$B$2:$E$13,2,FALSE))","v":0.26},{"$f":"IF(B57=\"\",\"\",VLOOKUP(D57,Tablas!$B$2:$H$13,7,FALSE))","v":83577.200000000012},227532.24000000002,17663078844.533287,15798818286.702406,14131322260.020041,12639823130.608265,11305745197.324032,10112473342.86586,9045146102.7422714,8090470574.9036427,7236556864.851203,6472770004.33918,5789597499.408927,5178530858.1475201,4631959622.6722012,4143076585.574419,3705793010.3527899,135945162185.04604,1360812.434284745]
[{"$f":"IF(ISBLANK(InfoPro!A52),\"\",InfoPro!A52)","v":"SC_1520_A1"},{"$f":"IF(ISBLANK(InfoPro!B52),\"\",InfoPro!B52)","v":"Autogenerador Solar Argos Tolcemento - 19.9 MW"},{"$f":"IF(ISBLANK(InfoPro!E52),\"\",InfoPro!E52)","v":19.899999999999999},{"$f":"IF(ISBLANK(InfoPro!F52),\"\",InfoPro!F52)","v":"Solar FV"},{"$f":"IF(ISBLANK(InfoPro!I52),\"\",YEAR(InfoPro!I52)-$G$3)","v":1},{"$f":"IF(B58=\"\",\"\",VLOOKUP(D58,Tablas!$B$2:$E$13,2,FALSE))","v":0.26},{"$f":"IF(B58=\"\",\"\",VLOOKUP(D58,Tablas!$B$2:$H$13,7,FALSE))","v":83577.200000000012},45324.24,{"$f":"IF($H58=\"\",\"\",(1/(1+$C$3)^(I$6+$E58))*$H58*($C$2 - $G58))","v":4397821547.7209301},3933650758.2477012,3518471161.2233467,3147111951.0047827,2814948077.8218098,2517842645.6366811,2252095389.6571388,2014396591.8221281,1801785860.3060181,1611615259.6654902,1441516332.4378271,1289370601.4649615,1153283185.5679443,1031559199.9713277,922682647.55932713,33848151210.107414,1700912.1211109255]
[{"$f":"IF(ISBLANK(InfoPro!A53),\"\",InfoPro!A53)","v":"SC_1520_A2"},{"$f":"IF(ISBLANK(InfoPro!B53),\"\",InfoPro!B53)","v":"Autogenerador Solar Argos Tolcemento - 19.9 MW"},{"$f":"IF(ISBLANK(InfoPro!E53),\"\",InfoPro!E53)","v":19.899999999999999},{"$f":"IF(ISBLANK(InfoPro!F53),\"\",InfoPro!F53)","v":"Solar FV"},{"$f":"IF(ISBLANK(InfoPro!I53),\"\",YEAR(InfoPro!I53)-$G$3)","v":1},{"$f":"IF(B59=\"\",\"\",VLOOKUP(D59,Tablas!$B$2:$E$13,2,FALSE))","v":0.26},{"$f":"IF(B59=\"\",\"\",VLOOKUP(D59,Tablas!$B$2:$H$13,7,FALSE))","v":83577.200000000012},45324.24,4397821547.7209301,3933650758.2477012,3518471161.2233467,3147111951.0047827,2814948077.8218098,2517842645.6366811,2252095389.6571388,2014396591.8221281,1801785860.3060181,1611615259.6654902,1441516332.4378271,1289370601.4649615,1153283185.5679443,1031559199.9713277,922682647.55932713,33848151210.107414,1700912.1211109255]
[{"$f":"IF(ISBLANK(InfoPro!A54),\"\",InfoPro!A54)","v":"SC_1527_A1"},{"$f":"IF(ISBLANK(InfoPro!B54),\"\",InfoPro!B54)","v":"Nueva Montería Solar III _9,9 MW"},{"$f":"IF(ISBLANK(InfoPro!E54),\"\",InfoPro!E54)","v":9.9},{"$f":"IF(ISBLANK(InfoPro!F54),\"\",InfoPro!F54)","v":"Solar FV"},{"$f":"IF(ISBLANK(InfoPro!I54),\"\",YEAR(InfoPro!I54)-$G$3)","v":2},{"$f":"IF(B60=\"\",\"\",VLOOKUP(D60,Tablas!$B$2:$E$13,2,FALSE))","v":0.26},{"$f":"IF(B60=\"\",\"\",VLOOKUP(D60,Tablas!$B$2:$H$13,7,FALSE))","v":83577.200000000012},22548.240000000005,1956941834.5051382,1750395200.8096051,1565648659.0425808,1400401305.0470314,1252595085.0152338,1120389163.6987782,1002136997.9416621,896365830.00148666,801758345.26072145,717136265.88615525,641445676.10568452,573743896.33782172,513187742.69930387,459023025.67021811,410575157.12899649,15061744185.150415,1521388.3015303449]
[{"$f":"IF(ISBLANK(InfoPro!A55),\"\",InfoPro!A55)","v":"SC_1527_A2"},{"$f":"IF(ISBLANK(InfoPro!B55),\"\",InfoPro!B55)","v":"Nueva Montería Solar III _9,9 MW"},{"$f":"IF(ISBLANK(InfoPro!E55),\"\",InfoPro!E55)","v":9.9},{"$f":"IF(ISBLANK(InfoPro!F55),\"\",InfoPro!F55)","v":"Solar FV"},{"$f":"IF(ISBLANK(InfoPro!I55),\"\",YEAR(InfoPro!I55)-$G$3)","v":2},{"$f":"IF(B61=\"\",\"\",VLOOKUP(D61,Tablas!$B$2:$E$13,2,FALSE))","v":0.26},{"$f":"IF(B61=\"\",\"\",VLOOKUP(D61,Tablas!$B$2:$H$13,7,FALSE))","v":83577.200000000012},22548.240000000005,1956941834.5051382,1750395200.8096051,1565648659.0425808,1400401305.0470314,1252595085.0152338,1120389163.6987782,1002136997.9416621,896365830.00148666,801758345.26072145,717136265.88615525,641445676.10568452,573743896.33782172,513187742.69930387,459023025.67021811,410575157.12899649,15061744185.150415,1521388.3015303449]
[{"$f":"IF(ISBLANK(InfoPro!A56),\"\",InfoPro!A56)","v":"SC_1395_A1"},{"$f":"IF(ISBLANK(InfoPro!B56),\"\",InfoPro!B56)","v":"San Marcos I 19.9"},{"$f":"IF(ISBLANK(InfoPro!E56),\"\",InfoPro!E56)","v":19.899999999999999},{"$f":"IF(ISBLANK(InfoPro!F56),\"\",InfoPro!F56)","v":"Solar FV"},{"$f":"IF(ISBLANK(InfoPro!I56),\"\",YEAR(InfoPro!I56)-$G$3)","v":3},{"$f":"IF(B62=\"\",\"\",VLOOKUP(D62,Tablas!$B$2:$E$13,2,FALSE))","v":0.26},{"$f":"IF(B62=\"\",\"\",VLOOKUP(D62,Tablas!$B$2:$H$13,7,FALSE))","v":83577.200000000012},45324.24,3518471161.2233467,3147111951.0047827,2814948077.8218098,2517842645.6366811,2252095389.6571388,2014396591.8221281,1801785860.3060181,1611615259.6654902,1441516332.4378271,1289370601.4649615,1153283185.5679443,1031559199.9713277,922682647.55932713,825297538.06737661,738191000.0602653,27080167442.266422,1360812.4342847448]
[{"$f":"IF(ISBLANK(InfoPro!A57),\"\",InfoPro!A57)","v":"SC_1396_A1"},{"$f":"IF(ISBLANK(InfoPro!B57),\"\",InfoPro!B57)","v":"San Marcos II 19.9"},{"$f":"IF(ISBLANK(InfoPro!E57),\"\",InfoPro!E57)","v":19.899999999999999},{"$f":"IF(ISBLANK(InfoPro!F57),\"\",InfoPro!F57)","v":"Solar FV"},{"$f":"IF(ISBLANK(InfoPro!I57),\"\",YEAR(InfoPro!I57)-$G$3)","v":3},{"$f":"IF(B63=\"\",\"\",VLOOKUP(D63,Tablas!$B$2:$E$13,2,FALSE))","v":0.26},{"$f":"IF(B63=\"\",\"\",VLOOKUP(D63,Tablas!$B$2:$H$13,7,FALSE))","v":83577.200000000012},45324.24,3518471161.2233467,3147111951.0047827,2814948077.8218098,2517842645.6366811,2252095389.6571388,2014396591.8221281,1801785860.3060181,1611615259.6654902,1441516332.4378271,1289370601.4649615,1153283185.5679443,1031559199.9713277,922682647.55932713,825297538.06737661,738191000.0602653,27080167442.266422,1360812.4342847448]
[{"$f":"IF(ISBLANK(InfoPro!A58),\"\",InfoPro!A58)","v":"SC_1359_A1"},{"$f":"IF(ISBLANK(InfoPro!B58),\"\",InfoPro!B58)","v":"El Corozo_250MW"},{"$f":"IF(ISBLANK(InfoPro!E58),\"\",InfoPro!E58)","v":250},{"$f":"IF(ISBLANK(InfoPro!F58),\"\",InfoPro!F58)","v":"Solar FV"},{"$f":"IF(ISBLANK(InfoPro!I58),\"\",YEAR(InfoPro!I58)-$G$3)","v":4},{"$f":"IF(B64=\"\",\"\",VLOOKUP(D64,Tablas!$B$2:$E$13,2,FALSE))","v":0.26},{"$f":"IF(B64=\"\",\"\",VLOOKUP(D64,Tablas!$B$2:$H$13,7,FALSE))","v":83577.200000000012},569400,39536582299.055061,35363669319.369469,31631189015.536198,28292655648.959038,25306489847.011662,22635500757.613293,20246422860.119221,18109501663.791798,16198123133.98193,14488482230.753067,12959286431.8006,11591490547.227728,10368059523.459505,9273756282.1641388,8294951951.8462763,304296161512.68896,1217184.6460507559]
[{"$f":"IF(ISBLANK(InfoPro!A59),\"\",InfoPro!A59)","v":"SC_1359_A2"},{"$f":"IF(ISBLANK(InfoPro!B59),\"\",InfoPro!B59)","v":"El Corozo_250MW"},{"$f":"IF(ISBLANK(InfoPro!E59),\"\",InfoPro!E59)","v":250},{"$f":"IF(ISBLANK(InfoPro!F59),\"\",InfoPro!F59)","v":"Solar FV"},{"$f":"IF(ISBLANK(InfoPro!I59),\"\",YEAR(InfoPro!I59)-$G$3)","v":4},{"$f":"IF(B65=\"\",\"\",VLOOKUP(D65,Tablas!$B$2:$E$13,2,FALSE))","v":0.26},{"$f":"IF(B65=\"\",\"\",VLOOKUP(D65,Tablas!$B$2:$H$13,7,FALSE))","v":83577.200000000012},569400,39536582299.055061,35363669319.369469,31631189015.536198,28292655648.959038,25306489847.011662,22635500757.613293,20246422860.119221,18109501663.791798,16198123133.98193,14488482230.753067,12959286431.8006,11591490547.227728,10368059523.459505,9273756282.1641388,8294951951.8462763,304296161512.68896,1217184.6460507559]
[{"$f":"IF(ISBLANK(InfoPro!A60),\"\",InfoPro!A60)","v":"SC_1598_A1"},{"$f":"IF(ISBLANK(InfoPro!B60),\"\",InfoPro!B60)","v":"PARQUE SOLAR FOTOVOLTAICO MATIMBA de 150MW"},{"$f":"IF(ISBLANK(InfoPro!E60),\"\",InfoPro!E60)","v":150},{"$f":"IF(ISBLANK(InfoPro!F60),\"\",InfoPro!F60)","v":"Solar FV"},{"$f":"IF(ISBLANK(InfoPro!I60),\"\",YEAR(InfoPro!I60)-$G$3)","v":3},{"$f":"IF(B66=\"\",\"\",VLOOKUP(D66,Tablas!$B$2:$E$13,2,FALSE))","v":0.26},{"$f":"IF(B66=\"\",\"\",VLOOKUP(D66,Tablas!$B$2:$H$13,7,FALSE))","v":83577.200000000012},341640,26521139406.206135,23721949379.433037,21218201591.621681,18978713409.321716,16975593389.37542,15183893908.206997,13581300454.567976,12147853716.071535,10865700998.275078,9718873880.3891582,8693089338.4518414,7775571859.0803595,6954894328.3366375,6220835714.0757027,5564253769.2984829,204121865142.71182,1360812.4342847455]
[{"$f":"IF(ISBLANK(InfoPro!A61),\"\",InfoPro!A61)","v":"SC_1598_A2"},{"$f":"IF(ISBLANK(InfoPro!B61),\"\",InfoPro!B61)","v":"PARQUE SOLAR FOTOVOLTAICO MATIMBA de 150MW"},{"$f":"IF(ISBLANK(InfoPro!E61),\"\",InfoPro!E61)","v":150},{"$f":"IF(ISBLANK(InfoPro!F61),\"\",InfoPro!F61)","v":"Solar FV"},{"$f":"IF(ISBLANK(InfoPro!I61),\"\",YEAR(InfoPro!I61)-$G$3)","v":3},{"$f":"IF(B67=\"\",\"\",VLOOKUP(D67,Tablas!$B$2:$E$13,2,FALSE))","v":0.26},{"$f":"IF(B67=\"\",\"\",VLOOKUP(D67,Tablas!$B$2:$H$13,7,FALSE))","v":83577.200000000012},341640,26521139406.206135,23721949379.433037,21218201591.621681,18978713409.321716,16975593389.37542,15183893908.206997,13581300454.567976,12147853716.071535,10865700998.275078,9718873880.3891582,8693089338.4518414,7775571859.0803595,6954894328.3366375,6220835714.0757027,5564253769.2984829,204121865142.71182,1360812.4342847455]
[{"$f":"IF(ISBLANK(InfoPro!A62),\"\",InfoPro!A62)","v":"SC_981_A1"},{"$f":"IF(ISBLANK(InfoPro!B62),\"\",InfoPro!B62)","v":"Yaguarundi Solar"},{"$f":"IF(ISBLANK(InfoPro!E62),\"\",InfoPro!E62)","v":40},{"$f":"IF(ISBLANK(InfoPro!F62),\"\",InfoPro!F62)","v":"Solar FV"},{"$f":"IF(ISBLANK(InfoPro!I62),\"\",YEAR(InfoPro!I62)-$G$3)","v":3},{"$f":"IF(B68=\"\",\"\",VLOOKUP(D68,Tablas!$B$2:$E$13,2,FALSE))","v":0.26},{"$f":"IF(B68=\"\",\"\",VLOOKUP(D68,Tablas!$B$2:$H$13,7,FALSE))","v":83577.200000000012},91104.000000000015,{"$f":"IF($H68=\"\",\"\",(1/(1+$C$3)^(I$6+$E68))*$H68*($C$2 - $G68))","v":7072303841.6549711},6325853167.8488111,5658187091.0991154,5060990242.4857922,4526824903.8334465,4049038375.5218658,3621680121.2181273,3239427657.6190763,2897520266.2066879,2591699701.437109,2318157156.9204912,2073485829.0880964,1854638487.556437,1658889523.7535212,1483801005.1462622,54432497371.389824,1360812.4342847455]
[{"$f":"IF(ISBLANK(InfoPro!A63),\"\",InfoPro!A63)","v":"SC_981_A2"},{"$f":"IF(ISBLANK(InfoPro!B63),\"\",InfoPro!B63)","v":"Yaguarundi Solar"},{"$f":"IF(ISBLANK(InfoPro!E63),\"\",InfoPro!E63)","v":40},{"$f":"IF(ISBLANK(InfoPro!F63),\"\",InfoPro!F63)","v":"Solar FV"},{"$f":"IF(ISBLANK(InfoPro!I63),\"\",YEAR(InfoPro!I63)-$G$3)","v":3},{"$f":"IF(B69=\"\",\"\",VLOOKUP(D69,Tablas!$B$2:$E$13,2,FALSE))","v":0.26},{"$f":"IF(B69=\"\",\"\",VLOOKUP(D69,Tablas!$B$2:$H$13,7,FALSE))","v":83577.200000000012},91104.000000000015,7072303841.6549711,6325853167.8488111,5658187091.0991154,5060990242.4857922,4526824903.8334465,4049038375.5218658,3621680121.2181273,3239427657.6190763,2897520266.2066879,2591699701.437109,2318157156.9204912,2073485829.0880964,1854638487.556437,1658889523.7535212,1483801005.1462622,54432497371.389824,1360812.4342847455]
[{"$f":"IF(ISBLANK(InfoPro!A64),\"\",InfoPro!A64)","v":"SC_1634_A1"},{"$f":"IF(ISBLANK(InfoPro!B64),\"\",InfoPro!B64)","v":"El Tapir Solar 99.9 MW"},{"$f":"IF(ISBLANK(InfoPro!E64),\"\",InfoPro!E64)","v":99.9},{"$f":"IF(ISBLANK(InfoPro!F64),\"\",InfoPro!F64)","v":"Solar FV"},{"$f":"IF(ISBLANK(InfoPro!I64),\"\",YEAR(InfoPro!I64)-$G$3)","v":3},{"$f":"IF(B70=\"\",\"\",VLOOKUP(D70,Tablas!$B$2:$E$13,2,FALSE))","v":0.26},{"$f":"IF(B70=\"\",\"\",VLOOKUP(D70,Tablas!$B$2:$H$13,7,FALSE))","v":83577.200000000012},227532.24000000002,17663078844.533287,15798818286.702406,14131322260.020041,12639823130.608265,11305745197.324032,10112473342.86586,9045146102.7422714,8090470574.9036427,7236556864.851203,6472770004.33918,5789597499.408927,5178530858.1475201,4631959622.6722012,4143076585.574419,3705793010.3527899,135945162185.04604,1360812.434284745]
[{"$f":"IF(ISBLANK(InfoPro!A65),\"\",InfoPro!A65)","v":"SC_782_A1"},{"$f":"IF(ISBLANK(InfoPro!B65),\"\",InfoPro!B65)","v":"Parque Solar El Corozo 60 MW"},{"$f":"IF(ISBLANK(InfoPro!E65),\"\",InfoPro!E65)","v":60},{"$f":"IF(ISBLANK(InfoPro!F65),\"\",InfoPro!F65)","v":"Solar FV"},{"$f":"IF(ISBLANK(InfoPro!I65),\"\",YEAR(InfoPro!I65)-$G$3)","v":3},{"$f":"IF(B71=\"\",\"\",VLOOKUP(D71,Tablas!$B$2:$E$13,2,FALSE))","v":0.26},{"$f":"IF(B71=\"\",\"\",VLOOKUP(D71,Tablas!$B$2:$H$13,7,FALSE))","v":83577.200000000012},136656,10608455762.482454,9488779751.7732162,8487280636.6486731,7591485363.7286873,6790237355.7501688,6073557563.2827988,5432520181.8271904,4859141486.4286137,4346280399.3100319,3887549552.1556635,3477235735.3807364,3110228743.632144,2781957731.3346548,2488334285.6302814,2225701507.7193933,81648746057.084686,1360812.4342847448]
[{"$f":"IF(ISBLANK(InfoPro!A66),\"\",InfoPro!A66)","v":"SC_782_A2"},{"$f":"IF(ISBLANK(InfoPro!B66),\"\",InfoPro!B66)","v":"Parque Solar El Corozo 60 MW"},{"$f":"IF(ISBLANK(InfoPro!E66),\"\",InfoPro!E66)","v":60},{"$f":"IF(ISBLANK(InfoPro!F66),\"\",InfoPro!F66)","v":"Solar FV"},{"$f":"IF(ISBLANK(InfoPro!I66),\"\",YEAR(InfoPro!I66)-$G$3)","v":3},{"$f":"IF(B72=\"\",\"\",VLOOKUP(D72,Tablas!$B$2:$E$13,2,FALSE))","v":0.26},{"$f":"IF(B72=\"\",\"\",VLOOKUP(D72,Tablas!$B$2:$H$13,7,FALSE))","v":83577.200000000012},{"$f":"IF(C72=\"\",\"\",+C72*F72*24*365)","v":136656},10608455762.482454,9488779751.7732162,8487280636.6486731,7591485363.7286873,6790237355.7501688,6073557563.2827988,5432520181.8271904,4859141486.4286137,4346280399.3100319,3887549552.1556635,3477235735.3807364,3110228743.632144,2781957731.3346548,2488334285.6302814,2225701507.7193933,81648746057.084686,1360812.4342847448]
[{"$f":"IF(ISBLANK(InfoPro!A67),\"\",InfoPro!A67)","v":"SC_1762_A1"},{"$f":"IF(ISBLANK(InfoPro!B67),\"\",InfoPro!B67)","v":"SPK CERETÉ SOLAR_19.9MW"},{"$f":"IF(ISBLANK(InfoPro!E67),\"\",InfoPro!E67)","v":19.899999999999999},{"$f":"IF(ISBLANK(InfoPro!F67),\"\",InfoPro!F67)","v":"Solar FV"},{"$f":"IF(ISBLANK(InfoPro!I67),\"\",YEAR(InfoPro!I67)-$G$3)","v":3},{"$f":"IF(B73=\"\",\"\",VLOOKUP(D73,Tablas!$B$2:$E$13,2,FALSE))","v":0.26},{"$f":"IF(B73=\"\",\"\",VLOOKUP(D73,Tablas!$B$2:$H$13,7,FALSE))","v":83577.200000000012},45324.24,3518471161.2233467,3147111951.0047827,2814948077.8218098,2517842645.6366811,2252095389.6571388,2014396591.8221281,1801785860.3060181,1611615259.6654902,1441516332.4378271,1289370601.4649615,1153283185.5679443,1031559199.9713277,922682647.55932713,825297538.06737661,738191000.0602653,{"$f":"IF(W73=\"\",\"\",SUM(I73:W73))","v":27080167442.266422},{"$f":"IF(C73=0,0,IF(X73=\"\",\"\",X73/(C73*1000)))","v":1360812.4342847448}]
[{"$f":"IF(ISBLANK(InfoPro!A68),\"\",InfoPro!A68)","v":"SC_1762_A2"},{"$f":"IF(ISBLANK(InfoPro!B68),\"\",InfoPro!B68)","v":"SPK CERETÉ SOLAR_19.9MW"},{"$f":"IF(ISBLANK(InfoPro!E68),\"\",InfoPro!E68)","v":19.899999999999999},{"$f":"IF(ISBLANK(InfoPro!F68),\"\",InfoPro!F68)","v":"Solar FV"},{"$f":"IF(ISBLANK(InfoPro!I68),\"\",YEAR(InfoPro!I68)-$G$3)","v":3},{"$f":"IF(B74=\"\",\"\",VLOOKUP(D74,Tablas!$B$2:$E$13,2,FALSE))","v":0.26},{"$f":"IF(B74=\"\",\"\",VLOOKUP(D74,Tablas!$B$2:$H$13,7,FALSE))","v":83577.200000000012},45324.24,3518471161.2233467,3147111951.0047827,2814948077.8218098,2517842645.6366811,2252095389.6571388,2014396591.8221281,1801785860.3060181,1611615259.6654902,1441516332.4378271,1289370601.4649615,1153283185.5679443,1031559199.9713277,922682647.55932713,825297538.06737661,738191000.0602653,27080167442.266422,1360812.4342847448]
[{"$f":"IF(ISBLANK(InfoPro!A69),\"\",InfoPro!A69)","v":"SC_1782_A1"},{"$f":"IF(ISBLANK(InfoPro!B69),\"\",InfoPro!B69)","v":"Orquídea del Sucre - Toluviejo"},{"$f":"IF(ISBLANK(InfoPro!E69),\"\",InfoPro!E69)","v":112},{"$f":"IF(ISBLANK(InfoPro!F69),\"\",InfoPro!F69)","v":"Solar FV"},{"$f":"IF(ISBLANK(InfoPro!I69),\"\",YEAR(InfoPro!I69)-$G$3)","v":4},{"$f":"IF(B75=\"\",\"\",VLOOKUP(D75,Tablas!$B$2:$E$13,2,FALSE))","v":0.26},{"$f":"IF(B75=\"\",\"\",VLOOKUP(D75,Tablas!$B$2:$H$13,7,FALSE))","v":83577.200000000012},255091.20000000001,17712388869.976669,15842923855.077522,14170772678.960217,12675109730.733648,11337307451.461226,10140704339.410757,9070397441.3334122,8113056745.378726,7256759164.0239048,6490840039.3773746,5805760321.4466686,5192987765.1580229,4644890666.5098581,4154642814.409534,3716138474.4271326,136324680357.68466,1217184.6460507559]
[{"$f":"IF(ISBLANK(InfoPro!A70),\"\",InfoPro!A70)","v":"SC_1782_A2"},{"$f":"IF(ISBLANK(InfoPro!B70),\"\",InfoPro!B70)","v":"Orquídea del Sucre - Toluviejo"},{"$f":"IF(ISBLANK(InfoPro!E70),\"\",InfoPro!E70)","v":112},{"$f":"IF(ISBLANK(InfoPro!F70),\"\",InfoPro!F70)","v":"Solar FV"},{"$f":"IF(ISBLANK(InfoPro!I70),\"\",YEAR(InfoPro!I70)-$G$3)","v":4},{"$f":"IF(B76=\"\",\"\",VLOOKUP(D76,Tablas!$B$2:$E$13,2,FALSE))","v":0.26},{"$f":"IF(B76=\"\",\"\",VLOOKUP(D76,Tablas!$B$2:$H$13,7,FALSE))","v":83577.200000000012},255091.20000000001,17712388869.976669,15842923855.077522,14170772678.960217,12675109730.733648,11337307451.461226,10140704339.410757,9070397441.3334122,8113056745.378726,7256759164.0239048,6490840039.3773746,5805760321.4466686,5192987765.1580229,4644890666.5098581,4154642814.409534,3716138474.4271326,136324680357.68466,1217184.6460507559]
[{"$f":"IF(ISBLANK(InfoPro!A71),\"\",InfoPro!A71)","v":"SC_1784_A1"},{"$f":"IF(ISBLANK(InfoPro!B71),\"\",InfoPro!B71)","v":"Pétalo del Sucre - Sierra Flor 9,9 MW"},{"$f":"IF(ISBLANK(InfoPro!E71),\"\",InfoPro!E71)","v":9.9},{"$f":"IF(ISBLANK(InfoPro!F71),\"\",InfoPro!F71)","v":"Solar FV"},{"$f":"IF(ISBLANK(InfoPro!I71),\"\",YEAR(InfoPro!I71)-$G$3)","v":3},{"$f":"IF(B77=\"\",\"\",VLOOKUP(D77,Tablas!$B$2:$E$13,2,FALSE))","v":0.26},{"$f":"IF(B77=\"\",\"\",VLOOKUP(D77,Tablas!$B$2:$H$13,7,FALSE))","v":83577.200000000012},22548.240000000005,1750395200.8096051,1565648659.0425808,1400401305.0470314,1252595085.0152338,1120389163.6987782,1002136997.9416621,896365830.00148666,801758345.26072145,717136265.88615525,641445676.10568452,573743896.33782172,513187742.69930387,459023025.67021811,410575157.12899649,367240748.77369994,13472043099.41898,1360812.4342847455]
[{"$f":"IF(ISBLANK(InfoPro!A72),\"\",InfoPro!A72)","v":"SC_1784_A2"},{"$f":"IF(ISBLANK(InfoPro!B72),\"\",InfoPro!B72)","v":"Pétalo del Sucre - Sierra Flor 9,9 MW"},{"$f":"IF(ISBLANK(InfoPro!E72),\"\",InfoPro!E72)","v":9.9},{"$f":"IF(ISBLANK(InfoPro!F72),\"\",InfoPro!F72)","v":"Solar FV"},{"$f":"IF(ISBLANK(InfoPro!I72),\"\",YEAR(InfoPro!I72)-$G$3)","v":3},{"$f":"IF(B78=\"\",\"\",VLOOKUP(D78,Tablas!$B$2:$E$13,2,FALSE))","v":0.26},{"$f":"IF(B78=\"\",\"\",VLOOKUP(D78,Tablas!$B$2:$H$13,7,FALSE))","v":83577.200000000012},22548.240000000005,{"$f":"IF($H78=\"\",\"\",(1/(1+$C$3)^(I$6+$E78))*$H78*($C$2 - $G78))","v":1750395200.8096051},1565648659.0425808,1400401305.0470314,1252595085.0152338,1120389163.6987782,1002136997.9416621,896365830.00148666,801758345.26072145,717136265.88615525,641445676.10568452,573743896.33782172,513187742.69930387,459023025.67021811,410575157.12899649,367240748.77369994,13472043099.41898,1360812.4342847455]
[{"$f":"IF(ISBLANK(InfoPro!A73),\"\",InfoPro!A73)","v":"SC_1715_A1"},{"$f":"IF(ISBLANK(InfoPro!B73),\"\",InfoPro!B73)","v":"Andrómeda Solar de 50 MW (entrega 41 MW)"},{"$f":"IF(ISBLANK(InfoPro!E73),\"\",InfoPro!E73)","v":41},{"$f":"IF(ISBLANK(InfoPro!F73),\"\",InfoPro!F73)","v":"Solar FV"},{"$f":"IF(ISBLANK(InfoPro!I73),\"\",YEAR(InfoPro!I73)-$G$3)","v":3},{"$f":"IF(B79=\"\",\"\",VLOOKUP(D79,Tablas!$B$2:$E$13,2,FALSE))","v":0.26},{"$f":"IF(B79=\"\",\"\",VLOOKUP(D79,Tablas!$B$2:$H$13,7,FALSE))","v":83577.200000000012},93381.6,7249111437.6963444,6483999497.0450306,5799641768.3765936,5187514998.5479374,4639995526.4292822,4150264334.9099121,3712222124.24858,3320413349.0595527,2969958272.861855,2656492193.9730363,2376111085.8435035,2125322974.8152983,1901004449.7453477,1700361761.8473589,1520896030.2749186,55793309805.674561,1360812.4342847455]
[{"$f":"IF(ISBLANK(InfoPro!A74),\"\",InfoPro!A74)","v":"SC_1715_A2"},{"$f":"IF(ISBLANK(InfoPro!B74),\"\",InfoPro!B74)","v":"Andrómeda Solar de 50 MW (entrega 41 MW)"},{"$f":"IF(ISBLANK(InfoPro!E74),\"\",InfoPro!E74)","v":41},{"$f":"IF(ISBLANK(InfoPro!F74),\"\",InfoPro!F74)","v":"Solar FV"},{"$f":"IF(ISBLANK(InfoPro!I74),\"\",YEAR(InfoPro!I74)-$G$3)","v":3},{"$f":"IF(B80=\"\",\"\",VLOOKUP(D80,Tablas!$B$2:$E$13,2,FALSE))","v":0.26},{"$f":"IF(B80=\"\",\"\",VLOOKUP(D80,Tablas!$B$2:$H$13,7,FALSE))","v":83577.200000000012},93381.6,7249111437.6963444,6483999497.0450306,5799641768.3765936,5187514998.5479374,4639995526.4292822,4150264334.9099121,3712222124.24858,3320413349.0595527,2969958272.861855,2656492193.9730363,2376111085.8435035,2125322974.8152983,1901004449.7453477,1700361761.8473589,1520896030.2749186,55793309805.674561,1360812.4342847455]
[{"$f":"IF(ISBLANK(InfoPro!A75),\"\",InfoPro!A75)","v":"SC_1809_A1"},{"$f":"IF(ISBLANK(InfoPro!B75),\"\",InfoPro!B75)","v":"DSE COVEÑAS"},{"$f":"IF(ISBLANK(InfoPro!E75),\"\",InfoPro!E75)","v":9.9},{"$f":"IF(ISBLANK(InfoPro!F75),\"\",InfoPro!F75)","v":"Solar FV"},{"$f":"IF(ISBLANK(InfoPro!I75),\"\",YEAR(InfoPro!I75)-$G$3)","v":2},{"$f":"IF(B81=\"\",\"\",VLOOKUP(D81,Tablas!$B$2:$E$13,2,FALSE))","v":0.26},{"$f":"IF(B81=\"\",\"\",VLOOKUP(D81,Tablas!$B$2:$H$13,7,FALSE))","v":83577.200000000012},22548.240000000005,1956941834.5051382,1750395200.8096051,1565648659.0425808,1400401305.0470314,1252595085.0152338,1120389163.6987782,1002136997.9416621,896365830.00148666,801758345.26072145,717136265.88615525,641445676.10568452,573743896.33782172,513187742.69930387,459023025.67021811,410575157.12899649,15061744185.150415,1521388.3015303449]
[{"$f":"IF(ISBLANK(InfoPro!A76),\"\",InfoPro!A76)","v":"SC_1809_A2"},{"$f":"IF(ISBLANK(InfoPro!B76),\"\",InfoPro!B76)","v":"DSE COVEÑAS"},{"$f":"IF(ISBLANK(InfoPro!E76),\"\",InfoPro!E76)","v":9.9},{"$f":"IF(ISBLANK(InfoPro!F76),\"\",InfoPro!F76)","v":"Solar FV"},{"$f":"IF(ISBLANK(InfoPro!I76),\"\",YEAR(InfoPro!I76)-$G$3)","v":2},{"$f":"IF(B82=\"\",\"\",VLOOKUP(D82,Tablas!$B$2:$E$13,2,FALSE))","v":0.26},{"$f":"IF(B82=\"\",\"\",VLOOKUP(D82,Tablas!$B$2:$H$13,7,FALSE))","v":83577.200000000012},22548.240000000005,1956941834.5051382,1750395200.8096051,1565648659.0425808,1400401305.0470314,1252595085.0152338,1120389163.6987782,1002136997.9416621,896365830.00148666,801758345.26072145,717136265.88615525,641445676.10568452,573743896.33782172,513187742.69930387,459023025.67021811,410575157.12899649,15061744185.150415,1521388.3015303449]
[{"$f":"IF(ISBLANK(InfoPro!A77),\"\",InfoPro!A77)","v":"SC_1838_A1"},{"$f":"IF(ISBLANK(InfoPro!B77),\"\",InfoPro!B77)","v":"Since Solar I 9,9 MW"},{"$f":"IF(ISBLANK(InfoPro!E77),\"\",InfoPro!E77)","v":9.9},{"$f":"IF(ISBLANK(InfoPro!F77),\"\",InfoPro!F77)","v":"Solar FV"},{"$f":"IF(ISBLANK(InfoPro!I77),\"\",YEAR(InfoPro!I77)-$G$3)","v":2},{"$f":"IF(B83=\"\",\"\",VLOOKUP(D83,Tablas!$B$2:$E$13,2,FALSE))","v":0.26},{"$f":"IF(B83=\"\",\"\",VLOOKUP(D83,Tablas!$B$2:$H$13,7,FALSE))","v":83577.200000000012},22548.240000000005,1956941834.5051382,1750395200.8096051,1565648659.0425808,1400401305.0470314,1252595085.0152338,1120389163.6987782,1002136997.9416621,896365830.00148666,801758345.26072145,717136265.88615525,641445676.10568452,573743896.33782172,513187742.69930387,459023025.67021811,410575157.12899649,15061744185.150415,1521388.3015303449]
[{"$f":"IF(ISBLANK(InfoPro!A78),\"\",InfoPro!A78)","v":"SC_1838_A2"},{"$f":"IF(ISBLANK(InfoPro!B78),\"\",InfoPro!B78)","v":"Since Solar I 9,9 MW"},{"$f":"IF(ISBLANK(InfoPro!E78),\"\",InfoPro!E78)","v":9.9},{"$f":"IF(ISBLANK(InfoPro!F78),\"\",InfoPro!F78)","v":"Solar FV"},{"$f":"IF(ISBLANK(InfoPro!I78),\"\",YEAR(InfoPro!I78)-$G$3)","v":2},{"$f":"IF(B84=\"\",\"\",VLOOKUP(D84,Tablas!$B$2:$E$13,2,FALSE))","v":0.26},{"$f":"IF(B84=\"\",\"\",VLOOKUP(D84,Tablas!$B$2:$H$13,7,FALSE))","v":83577.200000000012},22548.240000000005,1956941834.5051382,1750395200.8096051,1565648659.0425808,1400401305.0470314,1252595085.0152338,1120389163.6987782,1002136997.9416621,896365830.00148666,801758345.26072145,717136265.88615525,641445676.10568452,573743896.33782172,513187742.69930387,459023025.67021811,410575157.12899649,15061744185.150415,1521388.3015303449]
[{"$f":"IF(ISBLANK(InfoPro!A79),\"\",InfoPro!A79)","v":"SC_1853_A1"},{"$f":"IF(ISBLANK(InfoPro!B79),\"\",InfoPro!B79)","v":"Tolú Solar 9,9 MW"},{"$f":"IF(ISBLANK(InfoPro!E79),\"\",InfoPro!E79)","v":9.9},{"$f":"IF(ISBLANK(InfoPro!F79),\"\",InfoPro!F79)","v":"Solar FV"},{"$f":"IF(ISBLANK(InfoPro!I79),\"\",YEAR(InfoPro!I79)-$G$3)","v":2},{"$f":"IF(B85=\"\",\"\",VLOOKUP(D85,Tablas!$B$2:$E$13,2,FALSE))","v":0.26},{"$f":"IF(B85=\"\",\"\",VLOOKUP(D85,Tablas!$B$2:$H$13,7,FALSE))","v":83577.200000000012},22548.240000000005,1956941834.5051382,1750395200.8096051,1565648659.0425808,1400401305.0470314,1252595085.0152338,1120389163.6987782,1002136997.9416621,896365830.00148666,801758345.26072145,717136265.88615525,641445676.10568452,573743896.33782172,513187742.69930387,459023025.67021811,410575157.12899649,15061744185.150415,1521388.3015303449]
[{"$f":"IF(ISBLANK(InfoPro!A80),\"\",InfoPro!A80)","v":"SC_1853_A2"},{"$f":"IF(ISBLANK(InfoPro!B80),\"\",InfoPro!B80)","v":"Tolú Solar 9,9 MW"},{"$f":"IF(ISBLANK(InfoPro!E80),\"\",InfoPro!E80)","v":9.9},{"$f":"IF(ISBLANK(InfoPro!F80),\"\",InfoPro!F80)","v":"Solar FV"},{"$f":"IF(ISBLANK(InfoPro!I80),\"\",YEAR(InfoPro!I80)-$G$3)","v":2},{"$f":"IF(B86=\"\",\"\",VLOOKUP(D86,Tablas!$B$2:$E$13,2,FALSE))","v":0.26},{"$f":"IF(B86=\"\",\"\",VLOOKUP(D86,Tablas!$B$2:$H$13,7,FALSE))","v":83577.200000000012},22548.240000000005,1956941834.5051382,1750395200.8096051,1565648659.0425808,1400401305.0470314,1252595085.0152338,1120389163.6987782,1002136997.9416621,896365830.00148666,801758345.26072145,717136265.88615525,641445676.10568452,573743896.33782172,513187742.69930387,459023025.67021811,410575157.12899649,15061744185.150415,1521388.3015303449]
[{"$f":"IF(ISBLANK(InfoPro!A81),\"\",InfoPro!A81)","v":"SC_1882_A1"},{"$f":"IF(ISBLANK(InfoPro!B81),\"\",InfoPro!B81)","v":"Proyecto Solar Oviedo"},{"$f":"IF(ISBLANK(InfoPro!E81),\"\",InfoPro!E81)","v":9.9},{"$f":"IF(ISBLANK(InfoPro!F81),\"\",InfoPro!F81)","v":"Solar FV"},{"$f":"IF(ISBLANK(InfoPro!I81),\"\",YEAR(InfoPro!I81)-$G$3)","v":2},{"$f":"IF(B87=\"\",\"\",VLOOKUP(D87,Tablas!$B$2:$E$13,2,FALSE))","v":0.26},{"$f":"IF(B87=\"\",\"\",VLOOKUP(D87,Tablas!$B$2:$H$13,7,FALSE))","v":83577.200000000012},22548.240000000005,1956941834.5051382,1750395200.8096051,1565648659.0425808,1400401305.0470314,1252595085.0152338,1120389163.6987782,1002136997.9416621,896365830.00148666,801758345.26072145,717136265.88615525,641445676.10568452,573743896.33782172,513187742.69930387,459023025.67021811,410575157.12899649,15061744185.150415,1521388.3015303449]
[{"$f":"IF(ISBLANK(InfoPro!A82),\"\",InfoPro!A82)","v":"SC_1882_A2"},{"$f":"IF(ISBLANK(InfoPro!B82),\"\",InfoPro!B82)","v":"Proyecto Solar Oviedo"},{"$f":"IF(ISBLANK(InfoPro!E82),\"\",InfoPro!E82)","v":9.9},{"$f":"IF(ISBLANK(InfoPro!F82),\"\",InfoPro!F82)","v":"Solar FV"},{"$f":"IF(ISBLANK(InfoPro!I82),\"\",YEAR(InfoPro!I82)-$G$3)","v":2},{"$f":"IF(B88=\"\",\"\",VLOOKUP(D88,Tablas!$B$2:$E$13,2,FALSE))","v":0.26},{"$f":"IF(B88=\"\",\"\",VLOOKUP(D88,Tablas!$B$2:$H$13,7,FALSE))","v":83577.200000000012},22548.240000000005,{"$f":"IF($H88=\"\",\"\",(1/(1+$C$3)^(I$6+$E88))*$H88*($C$2 - $G88))","v":1956941834.5051382},1750395200.8096051,1565648659.0425808,1400401305.0470314,1252595085.0152338,1120389163.6987782,1002136997.9416621,896365830.00148666,801758345.26072145,717136265.88615525,641445676.10568452,573743896.33782172,513187742.69930387,459023025.67021811,410575157.12899649,15061744185.150415,1521388.3015303449]
[{"$f":"IF(ISBLANK(InfoPro!A83),\"\",InfoPro!A83)","v":"SC_1913_A1"},{"$f":"IF(ISBLANK(InfoPro!B83),\"\",InfoPro!B83)","v":"PS Noe"},{"$f":"IF(ISBLANK(InfoPro!E83),\"\",InfoPro!E83)","v":9.9},{"$f":"IF(ISBLANK(InfoPro!F83),\"\",InfoPro!F83)","v":"Solar FV"},{"$f":"IF(ISBLANK(InfoPro!I83),\"\",YEAR(InfoPro!I83)-$G$3)","v":2},{"$f":"IF(B89=\"\",\"\",VLOOKUP(D89,Tablas!$B$2:$E$13,2,FALSE))","v":0.26},{"$f":"IF(B89=\"\",\"\",VLOOKUP(D89,Tablas!$B$2:$H$13,7,FALSE))","v":83577.200000000012},22548.240000000005,1956941834.5051382,1750395200.8096051,1565648659.0425808,1400401305.0470314,1252595085.0152338,1120389163.6987782,1002136997.9416621,896365830.00148666,801758345.26072145,717136265.88615525,641445676.10568452,573743896.33782172,513187742.69930387,459023025.67021811,410575157.12899649,15061744185.150415,1521388.3015303449]
[{"$f":"IF(ISBLANK(InfoPro!A84),\"\",InfoPro!A84)","v":"SC_1913_A2"},{"$f":"IF(ISBLANK(InfoPro!B84),\"\",InfoPro!B84)","v":"PS Noe"},{"$f":"IF(ISBLANK(InfoPro!E84),\"\",InfoPro!E84)","v":9.9},{"$f":"IF(ISBLANK(InfoPro!F84),\"\",InfoPro!F84)","v":"Solar FV"},{"$f":"IF(ISBLANK(InfoPro!I84),\"\",YEAR(InfoPro!I84)-$G$3)","v":2},{"$f":"IF(B90=\"\",\"\",VLOOKUP(D90,Tablas!$B$2:$E$13,2,FALSE))","v":0.26},{"$f":"IF(B90=\"\",\"\",VLOOKUP(D90,Tablas!$B$2:$H$13,7,FALSE))","v":83577.200000000012},22548.240000000005,1956941834.5051382,1750395200.8096051,1565648659.0425808,1400401305.0470314,1252595085.0152338,1120389163.6987782,1002136997.9416621,896365830.00148666,801758345.26072145,717136265.88615525,641445676.10568452,573743896.33782172,513187742.69930387,459023025.67021811,410575157.12899649,15061744185.150415,1521388.3015303449]
[{"$f":"IF(ISBLANK(InfoPro!A85),\"\",InfoPro!A85)","v":"SC_1491_A1"},{"$f":"IF(ISBLANK(InfoPro!B85),\"\",InfoPro!B85)","v":"SABANA SOLAR_90MW"},{"$f":"IF(ISBLANK(InfoPro!E85),\"\",InfoPro!E85)","v":90},{"$f":"IF(ISBLANK(InfoPro!F85),\"\",InfoPro!F85)","v":"Solar FV"},{"$f":"IF(ISBLANK(InfoPro!I85),\"\",YEAR(InfoPro!I85)-$G$3)","v":2},{"$f":"IF(B91=\"\",\"\",VLOOKUP(D91,Tablas!$B$2:$E$13,2,FALSE))","v":0.26},{"$f":"IF(B91=\"\",\"\",VLOOKUP(D91,Tablas!$B$2:$H$13,7,FALSE))","v":83577.200000000012},204984,17790380313.683071,15912683643.72368,14233169627.659822,12730920954.973009,11387228045.593031,10185356033.625252,9110336344.9241962,8148780272.7407846,7288712229.6429205,6519420598.9650469,5831324328.2334948,5215853603.071104,4665343115.4482155,4172936597.0019822,3732501428.4454217,136924947137.73102,1521388.3015303446]
[{"$f":"IF(ISBLANK(InfoPro!A86),\"\",InfoPro!A86)","v":"SC_1491_A2"},{"$f":"IF(ISBLANK(InfoPro!B86),\"\",InfoPro!B86)","v":"SABANA SOLAR_90MW"},{"$f":"IF(ISBLANK(InfoPro!E86),\"\",InfoPro!E86)","v":90},{"$f":"IF(ISBLANK(InfoPro!F86),\"\",InfoPro!F86)","v":"Solar FV"},{"$f":"IF(ISBLANK(InfoPro!I86),\"\",YEAR(InfoPro!I86)-$G$3)","v":2},{"$f":"IF(B92=\"\",\"\",VLOOKUP(D92,Tablas!$B$2:$E$13,2,FALSE))","v":0.26},{"$f":"IF(B92=\"\",\"\",VLOOKUP(D92,Tablas!$B$2:$H$13,7,FALSE))","v":83577.200000000012},204984,17790380313.683071,15912683643.72368,14233169627.659822,12730920954.973009,11387228045.593031,10185356033.625252,9110336344.9241962,8148780272.7407846,7288712229.6429205,6519420598.9650469,5831324328.2334948,5215853603.071104,4665343115.4482155,4172936597.0019822,3732501428.4454217,136924947137.73102,1521388.3015303446]
[{"$f":"IF(ISBLANK(InfoPro!A87),\"\",InfoPro!A87)","v":"SC_1894_A1"},{"$f":"IF(ISBLANK(InfoPro!B87),\"\",InfoPro!B87)","v":"Aquila Solar"},{"$f":"IF(ISBLANK(InfoPro!E87),\"\",InfoPro!E87)","v":47},{"$f":"IF(ISBLANK(InfoPro!F87),\"\",InfoPro!F87)","v":"Solar FV"},{"$f":"IF(ISBLANK(InfoPro!I87),\"\",YEAR(InfoPro!I87)-$G$3)","v":2},{"$f":"IF(B93=\"\",\"\",VLOOKUP(D93,Tablas!$B$2:$E$13,2,FALSE))","v":0.26},{"$f":"IF(B93=\"\",\"\",VLOOKUP(D93,Tablas!$B$2:$H$13,7,FALSE))","v":83577.200000000012},107047.20000000001,9290531941.5900497,8309957013.9445887,7432877472.222352,6648369832.041461,5946663534.920805,5319019262.0042992,4757620091.2381926,4255474142.4312997,3806327497.7024145,3404586312.7928581,3045247149.1886034,2723834659.381577,2436345849.1785131,2179200222.8788133,1949195190.4103873,71505250171.926208,1521388.3015303449]
[{"$f":"IF(ISBLANK(InfoPro!A88),\"\",InfoPro!A88)","v":"SC_1894_A2"},{"$f":"IF(ISBLANK(InfoPro!B88),\"\",InfoPro!B88)","v":"Aquila Solar"},{"$f":"IF(ISBLANK(InfoPro!E88),\"\",InfoPro!E88)","v":47},{"$f":"IF(ISBLANK(InfoPro!F88),\"\",InfoPro!F88)","v":"Solar FV"},{"$f":"IF(ISBLANK(InfoPro!I88),\"\",YEAR(InfoPro!I88)-$G$3)","v":2},{"$f":"IF(B94=\"\",\"\",VLOOKUP(D94,Tablas!$B$2:$E$13,2,FALSE))","v":0.26},{"$f":"IF(B94=\"\",\"\",VLOOKUP(D94,Tablas!$B$2:$H$13,7,FALSE))","v":83577.200000000012},107047.20000000001,9290531941.5900497,8309957013.9445887,7432877472.222352,6648369832.041461,5946663534.920805,5319019262.0042992,4757620091.2381926,4255474142.4312997,3806327497.7024145,3404586312.7928581,3045247149.1886034,2723834659.381577,2436345849.1785131,2179200222.8788133,1949195190.4103873,71505250171.926208,1521388.3015303449]
[{"$f":"IF(ISBLANK(InfoPro!A89),\"\",InfoPro!A89)","v":"SC_1887_A1"},{"$f":"IF(ISBLANK(InfoPro!B89),\"\",InfoPro!B89)","v":"Boston Solar"},{"$f":"IF(ISBLANK(InfoPro!E89),\"\",InfoPro!E89)","v":100},{"$f":"IF(ISBLANK(InfoPro!F89),\"\",InfoPro!F89)","v":"Solar FV"},{"$f":"IF(ISBLANK(InfoPro!I89),\"\",YEAR(InfoPro!I89)-$G$3)","v":3},{"$f":"IF(B95=\"\",\"\",VLOOKUP(D95,Tablas!$B$2:$E$13,2,FALSE))","v":0.26},{"$f":"IF(B95=\"\",\"\",VLOOKUP(D95,Tablas!$B$2:$H$13,7,FALSE))","v":83577.200000000012},227760,17680759604.137424,15814632919.622025,14145467727.747787,12652475606.214479,11317062259.583612,10122595938.804665,9054200303.0453167,8098569144.0476894,7243800665.5167198,6479249253.5927715,5795392892.3012276,5183714572.7202396,4636596218.8910923,4147223809.3838015,3709502512.8656549,136081243428.47452,1360812.4342847452]
[{"$f":"IF(ISBLANK(InfoPro!A90),\"\",InfoPro!A90)","v":"SC_1887_A2"},{"$f":"IF(ISBLANK(InfoPro!B90),\"\",InfoPro!B90)","v":"Boston Solar"},{"$f":"IF(ISBLANK(InfoPro!E90),\"\",InfoPro!E90)","v":100},{"$f":"IF(ISBLANK(InfoPro!F90),\"\",InfoPro!F90)","v":"Solar FV"},{"$f":"IF(ISBLANK(InfoPro!I90),\"\",YEAR(InfoPro!I90)-$G$3)","v":3},{"$f":"IF(B96=\"\",\"\",VLOOKUP(D96,Tablas!$B$2:$E$13,2,FALSE))","v":0.26},{"$f":"IF(B96=\"\",\"\",VLOOKUP(D96,Tablas!$B$2:$H$13,7,FALSE))","v":83577.200000000012},227760,17680759604.137424,15814632919.622025,14145467727.747787,12652475606.214479,11317062259.583612,10122595938.804665,9054200303.0453167,8098569144.0476894,7243800665.5167198,6479249253.5927715,5795392892.3012276,5183714572.7202396,4636596218.8910923,4147223809.3838015,3709502512.8656549,136081243428.47452,1360812.4342847452]
[{"$f":"IF(ISBLANK(InfoPro!A91),\"\",InfoPro!A91)","v":"SC_2104_A1"},{"$f":"IF(ISBLANK(InfoPro!B91),\"\",InfoPro!B91)","v":"El Dorado - 300 MW"},{"$f":"IF(ISBLANK(InfoPro!E91),\"\",InfoPro!E91)","v":300},{"$f":"IF(ISBLANK(InfoPro!F91),\"\",InfoPro!F91)","v":"Solar FV"},{"$f":"IF(ISBLANK(InfoPro!I91),\"\",YEAR(InfoPro!I91)-$G$3)","v":3},{"$f":"IF(B97=\"\",\"\",VLOOKUP(D97,Tablas!$B$2:$E$13,2,FALSE))","v":0.26},{"$f":"IF(B97=\"\",\"\",VLOOKUP(D97,Tablas!$B$2:$H$13,7,FALSE))","v":83577.200000000012},683280,53042278812.41227,47443898758.866074,42436403183.243362,37957426818.643433,33951186778.750839,30367787816.413994,27162600909.135952,24295707432.14307,21731401996.550156,19437747760.778316,17386178676.903683,15551143718.160719,13909788656.673275,12441671428.151405,11128507538.596966,408243730285.42365,1360812.4342847455]
[{"$f":"IF(ISBLANK(InfoPro!A92),\"\",InfoPro!A92)","v":"SC_2104_A2"},{"$f":"IF(ISBLANK(InfoPro!B92),\"\",InfoPro!B92)","v":"El Dorado - 300 MW"},{"$f":"IF(ISBLANK(InfoPro!E92),\"\",InfoPro!E92)","v":300},{"$f":"IF(ISBLANK(InfoPro!F92),\"\",InfoPro!F92)","v":"Solar FV"},{"$f":"IF(ISBLANK(InfoPro!I92),\"\",YEAR(InfoPro!I92)-$G$3)","v":3},{"$f":"IF(B98=\"\",\"\",VLOOKUP(D98,Tablas!$B$2:$E$13,2,FALSE))","v":0.26},{"$f":"IF(B98=\"\",\"\",VLOOKUP(D98,Tablas!$B$2:$H$13,7,FALSE))","v":83577.200000000012},683280,{"$f":"IF($H98=\"\",\"\",(1/(1+$C$3)^(I$6+$E98))*$H98*($C$2 - $G98))","v":53042278812.41227},47443898758.866074,42436403183.243362,37957426818.643433,33951186778.750839,30367787816.413994,27162600909.135952,24295707432.14307,21731401996.550156,19437747760.778316,17386178676.903683,15551143718.160719,13909788656.673275,12441671428.151405,11128507538.596966,408243730285.42365,1360812.4342847455]
[{"$f":"IF(ISBLANK(InfoPro!A93),\"\",InfoPro!A93)","v":"SC_2028_A1"},{"$f":"IF(ISBLANK(InfoPro!B93),\"\",InfoPro!B93)","v":"Parque Solar Fandango"},{"$f":"IF(ISBLANK(InfoPro!E93),\"\",InfoPro!E93)","v":19.899999999999999},{"$f":"IF(ISBLANK(InfoPro!F93),\"\",InfoPro!F93)","v":"Solar FV"},{"$f":"IF(ISBLANK(InfoPro!I93),\"\",YEAR(InfoPro!I93)-$G$3)","v":2},{"$f":"IF(B99=\"\",\"\",VLOOKUP(D99,Tablas!$B$2:$E$13,2,FALSE))","v":0.26},{"$f":"IF(B99=\"\",\"\",VLOOKUP(D99,Tablas!$B$2:$H$13,7,FALSE))","v":83577.200000000012},45324.24,3933650758.2477012,3518471161.2233467,3147111951.0047827,2814948077.8218098,2517842645.6366811,2252095389.6571388,2014396591.8221281,1801785860.3060181,1611615259.6654902,1441516332.4378271,1289370601.4649615,1153283185.5679443,1031559199.9713277,922682647.55932713,825297538.06737661,30275627200.453861,1521388.3015303449]
[{"$f":"IF(ISBLANK(InfoPro!A94),\"\",InfoPro!A94)","v":"SC_2028_A2"},{"$f":"IF(ISBLANK(InfoPro!B94),\"\",InfoPro!B94)","v":"Parque Solar Fandango"},{"$f":"IF(ISBLANK(InfoPro!E94),\"\",InfoPro!E94)","v":19.899999999999999},{"$f":"IF(ISBLANK(InfoPro!F94),\"\",InfoPro!F94)","v":"Solar FV"},{"$f":"IF(ISBLANK(InfoPro!I94),\"\",YEAR(InfoPro!I94)-$G$3)","v":2},{"$f":"IF(B100=\"\",\"\",VLOOKUP(D100,Tablas!$B$2:$E$13,2,FALSE))","v":0.26},{"$f":"IF(B100=\"\",\"\",VLOOKUP(D100,Tablas!$B$2:$H$13,7,FALSE))","v":83577.200000000012},45324.24,3933650758.2477012,3518471161.2233467,3147111951.0047827,2814948077.8218098,2517842645.6366811,2252095389.6571388,2014396591.8221281,1801785860.3060181,1611615259.6654902,1441516332.4378271,1289370601.4649615,1153283185.5679443,1031559199.9713277,922682647.55932713,825297538.06737661,30275627200.453861,1521388.3015303449]
[{"$f":"IF(ISBLANK(InfoPro!A95),\"\",InfoPro!A95)","v":"SC_2015_A1"},{"$f":"IF(ISBLANK(InfoPro!B95),\"\",InfoPro!B95)","v":"Parque Solar El Bongo"},{"$f":"IF(ISBLANK(InfoPro!E95),\"\",InfoPro!E95)","v":19.899999999999999},{"$f":"IF(ISBLANK(InfoPro!F95),\"\",InfoPro!F95)","v":"Solar FV"},{"$f":"IF(ISBLANK(InfoPro!I95),\"\",YEAR(InfoPro!I95)-$G$3)","v":2},{"$f":"IF(B101=\"\",\"\",VLOOKUP(D101,Tablas!$B$2:$E$13,2,FALSE))","v":0.26},{"$f":"IF(B101=\"\",\"\",VLOOKUP(D101,Tablas!$B$2:$H$13,7,FALSE))","v":83577.200000000012},45324.24,3933650758.2477012,3518471161.2233467,3147111951.0047827,2814948077.8218098,2517842645.6366811,2252095389.6571388,2014396591.8221281,1801785860.3060181,1611615259.6654902,1441516332.4378271,1289370601.4649615,1153283185.5679443,1031559199.9713277,922682647.55932713,825297538.06737661,30275627200.453861,1521388.3015303449]
[{"$f":"IF(ISBLANK(InfoPro!A96),\"\",InfoPro!A96)","v":"SC_2015_A2"},{"$f":"IF(ISBLANK(InfoPro!B96),\"\",InfoPro!B96)","v":"Parque Solar El Bongo"},{"$f":"IF(ISBLANK(InfoPro!E96),\"\",InfoPro!E96)","v":19.899999999999999},{"$f":"IF(ISBLANK(InfoPro!F96),\"\",InfoPro!F96)","v":"Solar FV"},{"$f":"IF(ISBLANK(InfoPro!I96),\"\",YEAR(InfoPro!I96)-$G$3)","v":2},{"$f":"IF(B102=\"\",\"\",VLOOKUP(D102,Tablas!$B$2:$E$13,2,FALSE))","v":0.26},{"$f":"IF(B102=\"\",\"\",VLOOKUP(D102,Tablas!$B$2:$H$13,7,FALSE))","v":83577.200000000012},45324.24,3933650758.2477012,3518471161.2233467,3147111951.0047827,2814948077.8218098,2517842645.6366811,2252095389.6571388,2014396591.8221281,1801785860.3060181,1611615259.6654902,1441516332.4378271,1289370601.4649615,1153283185.5679443,1031559199.9713277,922682647.55932713,825297538.06737661,30275627200.453861,1521388.3015303449]
[{"$f":"IF(ISBLANK(InfoPro!A97),\"\",InfoPro!A97)","v":"SC_2049_A1"},{"$f":"IF(ISBLANK(InfoPro!B97),\"\",InfoPro!B97)","v":"Parque Solar Sinú"},{"$f":"IF(ISBLANK(InfoPro!E97),\"\",InfoPro!E97)","v":9.9},{"$f":"IF(ISBLANK(InfoPro!F97),\"\",InfoPro!F97)","v":"Solar FV"},{"$f":"IF(ISBLANK(InfoPro!I97),\"\",YEAR(InfoPro!I97)-$G$3)","v":2},{"$f":"IF(B103=\"\",\"\",VLOOKUP(D103,Tablas!$B$2:$E$13,2,FALSE))","v":0.26},{"$f":"IF(B103=\"\",\"\",VLOOKUP(D103,Tablas!$B$2:$H$13,7,FALSE))","v":83577.200000000012},22548.240000000005,1956941834.5051382,1750395200.8096051,1565648659.0425808,1400401305.0470314,1252595085.0152338,1120389163.6987782,1002136997.9416621,896365830.00148666,801758345.26072145,717136265.88615525,641445676.10568452,573743896.33782172,513187742.69930387,459023025.67021811,410575157.12899649,15061744185.150415,1521388.3015303449]
[{"$f":"IF(ISBLANK(InfoPro!A98),\"\",InfoPro!A98)","v":"SC_2049_A2"},{"$f":"IF(ISBLANK(InfoPro!B98),\"\",InfoPro!B98)","v":"Parque Solar Sinú"},{"$f":"IF(ISBLANK(InfoPro!E98),\"\",InfoPro!E98)","v":9.9},{"$f":"IF(ISBLANK(InfoPro!F98),\"\",InfoPro!F98)","v":"Solar FV"},{"$f":"IF(ISBLANK(InfoPro!I98),\"\",YEAR(InfoPro!I98)-$G$3)","v":2},{"$f":"IF(B104=\"\",\"\",VLOOKUP(D104,Tablas!$B$2:$E$13,2,FALSE))","v":0.26},{"$f":"IF(B104=\"\",\"\",VLOOKUP(D104,Tablas!$B$2:$H$13,7,FALSE))","v":83577.200000000012},22548.240000000005,1956941834.5051382,1750395200.8096051,1565648659.0425808,1400401305.0470314,1252595085.0152338,1120389163.6987782,1002136997.9416621,896365830.00148666,801758345.26072145,717136265.88615525,641445676.10568452,573743896.33782172,513187742.69930387,459023025.67021811,410575157.12899649,15061744185.150415,1521388.3015303449]
[{"$f":"IF(ISBLANK(InfoPro!A99),\"\",InfoPro!A99)","v":"SC_2042_A1"},{"$f":"IF(ISBLANK(InfoPro!B99),\"\",InfoPro!B99)","v":"Parque Solar La Uvita"},{"$f":"IF(ISBLANK(InfoPro!E99),\"\",InfoPro!E99)","v":19.899999999999999},{"$f":"IF(ISBLANK(InfoPro!F99),\"\",InfoPro!F99)","v":"Solar FV"},{"$f":"IF(ISBLANK(InfoPro!I99),\"\",YEAR(InfoPro!I99)-$G$3)","v":2},{"$f":"IF(B105=\"\",\"\",VLOOKUP(D105,Tablas!$B$2:$E$13,2,FALSE))","v":0.26},{"$f":"IF(B105=\"\",\"\",VLOOKUP(D105,Tablas!$B$2:$H$13,7,FALSE))","v":83577.200000000012},45324.24,3933650758.2477012,3518471161.2233467,3147111951.0047827,2814948077.8218098,2517842645.6366811,2252095389.6571388,2014396591.8221281,1801785860.3060181,1611615259.6654902,1441516332.4378271,1289370601.4649615,1153283185.5679443,1031559199.9713277,922682647.55932713,825297538.06737661,30275627200.453861,1521388.3015303449]
[{"$f":"IF(ISBLANK(InfoPro!A100),\"\",InfoPro!A100)","v":"SC_2042_A2"},{"$f":"IF(ISBLANK(InfoPro!B100),\"\",InfoPro!B100)","v":"Parque Solar La Uvita"},{"$f":"IF(ISBLANK(InfoPro!E100),\"\",InfoPro!E100)","v":19.899999999999999},{"$f":"IF(ISBLANK(InfoPro!F100),\"\",InfoPro!F100)","v":"Solar FV"},{"$f":"IF(ISBLANK(InfoPro!I100),\"\",YEAR(InfoPro!I100)-$G$3)","v":2},{"$f":"IF(B106=\"\",\"\",VLOOKUP(D106,Tablas!$B$2:$E$13,2,FALSE))","v":0.26},{"$f":"IF(B106=\"\",\"\",VLOOKUP(D106,Tablas!$B$2:$H$13,7,FALSE))","v":83577.200000000012},45324.24,3933650758.2477012,3518471161.2233467,3147111951.0047827,2814948077.8218098,2517842645.6366811,2252095389.6571388,2014396591.8221281,1801785860.3060181,1611615259.6654902,1441516332.4378271,1289370601.4649615,1153283185.5679443,1031559199.9713277,922682647.55932713,825297538.06737661,30275627200.453861,1521388.3015303449]
[{"$f":"IF(ISBLANK(InfoPro!A101),\"\",InfoPro!A101)","v":"SC_2111_A1"},{"$f":"IF(ISBLANK(InfoPro!B101),\"\",InfoPro!B101)","v":"PROYECTO QUIMARÍ SOLAR_90MW"},{"$f":"IF(ISBLANK(InfoPro!E101),\"\",InfoPro!E101)","v":90},{"$f":"IF(ISBLANK(InfoPro!F101),\"\",InfoPro!F101)","v":"Solar FV"},{"$f":"IF(ISBLANK(InfoPro!I101),\"\",YEAR(InfoPro!I101)-$G$3)","v":2},{"$f":"IF(B107=\"\",\"\",VLOOKUP(D107,Tablas!$B$2:$E$13,2,FALSE))","v":0.26},{"$f":"IF(B107=\"\",\"\",VLOOKUP(D107,Tablas!$B$2:$H$13,7,FALSE))","v":83577.200000000012},204984,17790380313.683071,15912683643.72368,14233169627.659822,12730920954.973009,11387228045.593031,10185356033.625252,9110336344.9241962,8148780272.7407846,7288712229.6429205,6519420598.9650469,5831324328.2334948,5215853603.071104,4665343115.4482155,4172936597.0019822,3732501428.4454217,136924947137.73102,1521388.3015303446]
[{"$f":"IF(ISBLANK(InfoPro!A102),\"\",InfoPro!A102)","v":"SC_2111_A2"},{"$f":"IF(ISBLANK(InfoPro!B102),\"\",InfoPro!B102)","v":"PROYECTO QUIMARÍ SOLAR_90MW"},{"$f":"IF(ISBLANK(InfoPro!E102),\"\",InfoPro!E102)","v":90},{"$f":"IF(ISBLANK(InfoPro!F102),\"\",InfoPro!F102)","v":"Solar FV"},{"$f":"IF(ISBLANK(InfoPro!I102),\"\",YEAR(InfoPro!I102)-$G$3)","v":2},{"$f":"IF(B108=\"\",\"\",VLOOKUP(D108,Tablas!$B$2:$E$13,2,FALSE))","v":0.26},{"$f":"IF(B108=\"\",\"\",VLOOKUP(D108,Tablas!$B$2:$H$13,7,FALSE))","v":83577.200000000012},{"$f":"IF(C108=\"\",\"\",+C108*F108*24*365)","v":204984},17790380313.683071,15912683643.72368,14233169627.659822,12730920954.973009,11387228045.593031,10185356033.625252,9110336344.9241962,8148780272.7407846,7288712229.6429205,6519420598.9650469,5831324328.2334948,5215853603.071104,4665343115.4482155,4172936597.0019822,3732501428.4454217,{"$f":"IF(W108=\"\",\"\",SUM(I108:W108))","v":136924947137.73102},{"$f":"IF(C108=0,0,IF(X108=\"\",\"\",X108/(C108*1000)))","v":1521388.3015303446}]
[{"$f":"IF(ISBLANK(InfoPro!A103),\"\",InfoPro!A103)","v":"SC_2173_A1"},{"$f":"IF(ISBLANK(InfoPro!B103),\"\",InfoPro!B103)","v":"Nueva Montería Solar I 9,9 MW"},{"$f":"IF(ISBLANK(InfoPro!E103),\"\",InfoPro!E103)","v":9.9},{"$f":"IF(ISBLANK(InfoPro!F103),\"\",InfoPro!F103)","v":"Solar FV"},{"$f":"IF(ISBLANK(InfoPro!I103),\"\",YEAR(InfoPro!I103)-$G$3)","v":2},{"$f":"IF(B109=\"\",\"\",VLOOKUP(D109,Tablas!$B$2:$E$13,2,FALSE))","v":0.26},{"$f":"IF(B109=\"\",\"\",VLOOKUP(D109,Tablas!$B$2:$H$13,7,FALSE))","v":83577.200000000012},22548.240000000005,1956941834.5051382,1750395200.8096051,1565648659.0425808,1400401305.0470314,1252595085.0152338,1120389163.6987782,1002136997.9416621,896365830.00148666,801758345.26072145,717136265.88615525,641445676.10568452,573743896.33782172,513187742.69930387,459023025.67021811,410575157.12899649,15061744185.150415,1521388.3015303449]
[{"$f":"IF(ISBLANK(InfoPro!A104),\"\",InfoPro!A104)","v":"SC_2173_A2"},{"$f":"IF(ISBLANK(InfoPro!B104),\"\",InfoPro!B104)","v":"Nueva Montería Solar I 9,9 MW"},{"$f":"IF(ISBLANK(InfoPro!E104),\"\",InfoPro!E104)","v":9.9},{"$f":"IF(ISBLANK(InfoPro!F104),\"\",InfoPro!F104)","v":"Solar FV"},{"$f":"IF(ISBLANK(InfoPro!I104),\"\",YEAR(InfoPro!I104)-$G$3)","v":2},{"$f":"IF(B110=\"\",\"\",VLOOKUP(D110,Tablas!$B$2:$E$13,2,FALSE))","v":0.26},{"$f":"IF(B110=\"\",\"\",VLOOKUP(D110,Tablas!$B$2:$H$13,7,FALSE))","v":83577.200000000012},22548.240000000005,1956941834.5051382,1750395200.8096051,1565648659.0425808,1400401305.0470314,1252595085.0152338,1120389163.6987782,1002136997.9416621,896365830.00148666,801758345.26072145,717136265.88615525,641445676.10568452,573743896.33782172,513187742.69930387,459023025.67021811,410575157.12899649,15061744185.150415,1521388.3015303449]
[{"$f":"IF(ISBLANK(InfoPro!A105),\"\",InfoPro!A105)","v":"SC_2174_A1"},{"$f":"IF(ISBLANK(InfoPro!B105),\"\",InfoPro!B105)","v":"Nueva Montería Solar I 9,9 MW"},{"$f":"IF(ISBLANK(InfoPro!E105),\"\",InfoPro!E105)","v":9.9},{"$f":"IF(ISBLANK(InfoPro!F105),\"\",InfoPro!F105)","v":"Solar FV"},{"$f":"IF(ISBLANK(InfoPro!I105),\"\",YEAR(InfoPro!I105)-$G$3)","v":2},{"$f":"IF(B111=\"\",\"\",VLOOKUP(D111,Tablas!$B$2:$E$13,2,FALSE))","v":0.26},{"$f":"IF(B111=\"\",\"\",VLOOKUP(D111,Tablas!$B$2:$H$13,7,FALSE))","v":83577.200000000012},22548.240000000005,1956941834.5051382,1750395200.8096051,1565648659.0425808,1400401305.0470314,1252595085.0152338,1120389163.6987782,1002136997.9416621,896365830.00148666,801758345.26072145,717136265.88615525,641445676.10568452,573743896.33782172,513187742.69930387,459023025.67021811,410575157.12899649,15061744185.150415,1521388.3015303449]
[{"$f":"IF(ISBLANK(InfoPro!A106),\"\",InfoPro!A106)","v":"SC_2174_A2"},{"$f":"IF(ISBLANK(InfoPro!B106),\"\",InfoPro!B106)","v":"Nueva Montería Solar I 9,9 MW"},{"$f":"IF(ISBLANK(InfoPro!E106),\"\",InfoPro!E106)","v":9.9},{"$f":"IF(ISBLANK(InfoPro!F106),\"\",InfoPro!F106)","v":"Solar FV"},{"$f":"IF(ISBLANK(InfoPro!I106),\"\",YEAR(InfoPro!I106)-$G$3)","v":2},{"$f":"IF(B112=\"\",\"\",VLOOKUP(D112,Tablas!$B$2:$E$13,2,FALSE))","v":0.26},{"$f":"IF(B112=\"\",\"\",VLOOKUP(D112,Tablas!$B$2:$H$13,7,FALSE))","v":83577.200000000012},22548.240000000005,1956941834.5051382,1750395200.8096051,1565648659.0425808,1400401305.0470314,1252595085.0152338,1120389163.6987782,1002136997.9416621,896365830.00148666,801758345.26072145,717136265.88615525,641445676.10568452,573743896.33782172,513187742.69930387,459023025.67021811,410575157.12899649,15061744185.150415,1521388.3015303449]
[{"$f":"IF(ISBLANK(InfoPro!A107),\"\",InfoPro!A107)","v":"SC_2016_A1"},{"$f":"IF(ISBLANK(InfoPro!B107),\"\",InfoPro!B107)","v":"Hidalgo Solar 80 MW"},{"$f":"IF(ISBLANK(InfoPro!E107),\"\",InfoPro!E107)","v":80},{"$f":"IF(ISBLANK(InfoPro!F107),\"\",InfoPro!F107)","v":"Solar FV"},{"$f":"IF(ISBLANK(InfoPro!I107),\"\",YEAR(InfoPro!I107)-$G$3)","v":2},{"$f":"IF(B113=\"\",\"\",VLOOKUP(D113,Tablas!$B$2:$E$13,2,FALSE))","v":0.26},{"$f":"IF(B113=\"\",\"\",VLOOKUP(D113,Tablas!$B$2:$H$13,7,FALSE))","v":83577.200000000012},182208.00000000003,15813671389.940512,14144607683.309942,12651706335.697622,11316374182.198231,10121980484.971584,9053649807.666893,8098076751.0437317,7243360242.4362545,6478855315.2381525,5795040532.4133759,5183399402.874218,4636314313.8409824,4146971658.1761928,3709276975.112874,3317779047.5070424,121711064122.42763,1521388.3015303453]
[{"$f":"IF(ISBLANK(InfoPro!A108),\"\",InfoPro!A108)","v":"SC_2016_A2"},{"$f":"IF(ISBLANK(InfoPro!B108),\"\",InfoPro!B108)","v":"Hidalgo Solar 80 MW"},{"$f":"IF(ISBLANK(InfoPro!E108),\"\",InfoPro!E108)","v":80},{"$f":"IF(ISBLANK(InfoPro!F108),\"\",InfoPro!F108)","v":"Solar FV"},{"$f":"IF(ISBLANK(InfoPro!I108),\"\",YEAR(InfoPro!I108)-$G$3)","v":2},{"$f":"IF(B114=\"\",\"\",VLOOKUP(D114,Tablas!$B$2:$E$13,2,FALSE))","v":0.26},{"$f":"IF(B114=\"\",\"\",VLOOKUP(D114,Tablas!$B$2:$H$13,7,FALSE))","v":83577.200000000012},182208.00000000003,{"$f":"IF($H114=\"\",\"\",(1/(1+$C$3)^(I$6+$E114))*$H114*($C$2 - $G114))","v":15813671389.940512},14144607683.309942,12651706335.697622,11316374182.198231,10121980484.971584,9053649807.666893,8098076751.0437317,7243360242.4362545,6478855315.2381525,5795040532.4133759,5183399402.874218,4636314313.8409824,4146971658.1761928,3709276975.112874,3317779047.5070424,121711064122.42763,1521388.3015303453]
[{"$f":"IF(ISBLANK(InfoPro!A109),\"\",InfoPro!A109)","v":"SC_2016_A3"},{"$f":"IF(ISBLANK(InfoPro!B109),\"\",InfoPro!B109)","v":"Hidalgo Solar 80 MW"},{"$f":"IF(ISBLANK(InfoPro!E109),\"\",InfoPro!E109)","v":80},{"$f":"IF(ISBLANK(InfoPro!F109),\"\",InfoPro!F109)","v":"Solar FV"},{"$f":"IF(ISBLANK(InfoPro!I109),\"\",YEAR(InfoPro!I109)-$G$3)","v":2},{"$f":"IF(B115=\"\",\"\",VLOOKUP(D115,Tablas!$B$2:$E$13,2,FALSE))","v":0.26},{"$f":"IF(B115=\"\",\"\",VLOOKUP(D115,Tablas!$B$2:$H$13,7,FALSE))","v":83577.200000000012},182208.00000000003,15813671389.940512,14144607683.309942,12651706335.697622,11316374182.198231,10121980484.971584,9053649807.666893,8098076751.0437317,7243360242.4362545,6478855315.2381525,5795040532.4133759,5183399402.874218,4636314313.8409824,4146971658.1761928,3709276975.112874,3317779047.5070424,121711064122.42763,1521388.3015303453]
[{"$f":"IF(ISBLANK(InfoPro!A110),\"\",InfoPro!A110)","v":"SC_2135_A1"},{"$f":"IF(ISBLANK(InfoPro!B110),\"\",InfoPro!B110)","v":"DSE SIERRAFLOR"},{"$f":"IF(ISBLANK(InfoPro!E110),\"\",InfoPro!E110)","v":99.9},{"$f":"IF(ISBLANK(InfoPro!F110),\"\",InfoPro!F110)","v":"Solar FV"},{"$f":"IF(ISBLANK(InfoPro!I110),\"\",YEAR(InfoPro!I110)-$G$3)","v":3},{"$f":"IF(B116=\"\",\"\",VLOOKUP(D116,Tablas!$B$2:$E$13,2,FALSE))","v":0.26},{"$f":"IF(B116=\"\",\"\",VLOOKUP(D116,Tablas!$B$2:$H$13,7,FALSE))","v":83577.200000000012},227532.24000000002,17663078844.533287,15798818286.702406,14131322260.020041,12639823130.608265,11305745197.324032,10112473342.86586,9045146102.7422714,8090470574.9036427,7236556864.851203,6472770004.33918,5789597499.408927,5178530858.1475201,4631959622.6722012,4143076585.574419,3705793010.3527899,135945162185.04604,1360812.434284745]
[{"$f":"IF(ISBLANK(InfoPro!A111),\"\",InfoPro!A111)","v":"SC_2135_A2"},{"$f":"IF(ISBLANK(InfoPro!B111),\"\",InfoPro!B111)","v":"DSE SIERRAFLOR"},{"$f":"IF(ISBLANK(InfoPro!E111),\"\",InfoPro!E111)","v":99.9},{"$f":"IF(ISBLANK(InfoPro!F111),\"\",InfoPro!F111)","v":"Solar FV"},{"$f":"IF(ISBLANK(InfoPro!I111),\"\",YEAR(InfoPro!I111)-$G$3)","v":3},{"$f":"IF(B117=\"\",\"\",VLOOKUP(D117,Tablas!$B$2:$E$13,2,FALSE))","v":0.26},{"$f":"IF(B117=\"\",\"\",VLOOKUP(D117,Tablas!$B$2:$H$13,7,FALSE))","v":83577.200000000012},227532.24000000002,17663078844.533287,15798818286.702406,14131322260.020041,12639823130.608265,11305745197.324032,10112473342.86586,9045146102.7422714,8090470574.9036427,7236556864.851203,6472770004.33918,5789597499.408927,5178530858.1475201,4631959622.6722012,4143076585.574419,3705793010.3527899,135945162185.04604,1360812.434284745]
[{"$f":"IF(ISBLANK(InfoPro!A112),\"\",InfoPro!A112)","v":"SC_1821_A1"},{"$f":"IF(ISBLANK(InfoPro!B112),\"\",InfoPro!B112)","v":"Balay Solar"},{"$f":"IF(ISBLANK(InfoPro!E112),\"\",InfoPro!E112)","v":70},{"$f":"IF(ISBLANK(InfoPro!F112),\"\",InfoPro!F112)","v":"Solar FV"},{"$f":"IF(ISBLANK(InfoPro!I112),\"\",YEAR(InfoPro!I112)-$G$3)","v":4},{"$f":"IF(B118=\"\",\"\",VLOOKUP(D118,Tablas!$B$2:$E$13,2,FALSE))","v":0.26},{"$f":"IF(B118=\"\",\"\",VLOOKUP(D118,Tablas!$B$2:$H$13,7,FALSE))","v":83577.200000000012},159431.99999999997,11070243043.735416,9901827409.4234505,8856732924.3501339,7921943581.7085276,7085817157.1632633,6337940212.1317215,5668998400.8333817,5070660465.8617029,4535474477.5149393,4056775024.610858,3628600200.9041677,3245617353.2237635,2903056666.5686612,2596651759.0059581,2322586546.5169568,85202925223.552902,1217184.6460507556]
[{"$f":"IF(ISBLANK(InfoPro!A113),\"\",InfoPro!A113)","v":"SC_1821_A2"},{"$f":"IF(ISBLANK(InfoPro!B113),\"\",InfoPro!B113)","v":"Balay Solar"},{"$f":"IF(ISBLANK(InfoPro!E113),\"\",InfoPro!E113)","v":70},{"$f":"IF(ISBLANK(InfoPro!F113),\"\",InfoPro!F113)","v":"Solar FV"},{"$f":"IF(ISBLANK(InfoPro!I113),\"\",YEAR(InfoPro!I113)-$G$3)","v":4},{"$f":"IF(B119=\"\",\"\",VLOOKUP(D119,Tablas!$B$2:$E$13,2,FALSE))","v":0.26},{"$f":"IF(B119=\"\",\"\",VLOOKUP(D119,Tablas!$B$2:$H$13,7,FALSE))","v":83577.200000000012},159431.99999999997,11070243043.735416,9901827409.4234505,8856732924.3501339,7921943581.7085276,7085817157.1632633,6337940212.1317215,5668998400.8333817,5070660465.8617029,4535474477.5149393,4056775024.610858,3628600200.9041677,3245617353.2237635,2903056666.5686612,2596651759.0059581,2322586546.5169568,85202925223.552902,1217184.6460507556]
[{"$f":"IF(ISBLANK(InfoPro!A114),\"\",InfoPro!A114)","v":"SC_1859_A1"},{"$f":"IF(ISBLANK(InfoPro!B114),\"\",InfoPro!B114)","v":"PV Altamira_99MW"},{"$f":"IF(ISBLANK(InfoPro!E114),\"\",InfoPro!E114)","v":99},{"$f":"IF(ISBLANK(InfoPro!F114),\"\",InfoPro!F114)","v":"Solar FV"},{"$f":"IF(ISBLANK(InfoPro!I114),\"\",YEAR(InfoPro!I114)-$G$3)","v":4},{"$f":"IF(B120=\"\",\"\",VLOOKUP(D120,Tablas!$B$2:$E$13,2,FALSE))","v":0.26},{"$f":"IF(B120=\"\",\"\",VLOOKUP(D120,Tablas!$B$2:$H$13,7,FALSE))","v":83577.200000000012},225482.4,15656486590.425806,14004013050.470308,12525950850.152334,11203891636.987778,10021369979.416616,8963658300.014864,8017583452.6072121,7171362658.8615513,6414456761.0568438,5737438963.3782148,5131877426.9930372,4590230256.7021809,4105751571.2899642,3672407487.7369986,3284800972.9311256,120501279959.02484,1217184.6460507559]
[{"$f":"IF(ISBLANK(InfoPro!A115),\"\",InfoPro!A115)","v":"SC_1859_A2"},{"$f":"IF(ISBLANK(InfoPro!B115),\"\",InfoPro!B115)","v":"PV Altamira_99MW"},{"$f":"IF(ISBLANK(InfoPro!E115),\"\",InfoPro!E115)","v":99},{"$f":"IF(ISBLANK(InfoPro!F115),\"\",InfoPro!F115)","v":"Solar FV"},{"$f":"IF(ISBLANK(InfoPro!I115),\"\",YEAR(InfoPro!I115)-$G$3)","v":4},{"$f":"IF(B121=\"\",\"\",VLOOKUP(D121,Tablas!$B$2:$E$13,2,FALSE))","v":0.26},{"$f":"IF(B121=\"\",\"\",VLOOKUP(D121,Tablas!$B$2:$H$13,7,FALSE))","v":83577.200000000012},225482.4,15656486590.425806,14004013050.470308,12525950850.152334,11203891636.987778,10021369979.416616,8963658300.014864,8017583452.6072121,7171362658.8615513,6414456761.0568438,5737438963.3782148,5131877426.9930372,4590230256.7021809,4105751571.2899642,3672407487.7369986,3284800972.9311256,120501279959.02484,1217184.6460507559]
[{"$f":"IF(ISBLANK(InfoPro!A116),\"\",InfoPro!A116)","v":"SC_1843_A1"},{"$f":"IF(ISBLANK(InfoPro!B116),\"\",InfoPro!B116)","v":"KOS de 19.9 MW"},{"$f":"IF(ISBLANK(InfoPro!E116),\"\",InfoPro!E116)","v":19.899999999999999},{"$f":"IF(ISBLANK(InfoPro!F116),\"\",InfoPro!F116)","v":"Solar FV"},{"$f":"IF(ISBLANK(InfoPro!I116),\"\",YEAR(InfoPro!I116)-$G$3)","v":2},{"$f":"IF(B122=\"\",\"\",VLOOKUP(D122,Tablas!$B$2:$E$13,2,FALSE))","v":0.26},{"$f":"IF(B122=\"\",\"\",VLOOKUP(D122,Tablas!$B$2:$H$13,7,FALSE))","v":83577.200000000012},45324.24,3933650758.2477012,3518471161.2233467,3147111951.0047827,2814948077.8218098,2517842645.6366811,2252095389.6571388,2014396591.8221281,1801785860.3060181,1611615259.6654902,1441516332.4378271,1289370601.4649615,1153283185.5679443,1031559199.9713277,922682647.55932713,825297538.06737661,30275627200.453861,1521388.3015303449]
[{"$f":"IF(ISBLANK(InfoPro!A117),\"\",InfoPro!A117)","v":"SC_1843_A2"},{"$f":"IF(ISBLANK(InfoPro!B117),\"\",InfoPro!B117)","v":"KOS de 19.9 MW"},{"$f":"IF(ISBLANK(InfoPro!E117),\"\",InfoPro!E117)","v":19.899999999999999},{"$f":"IF(ISBLANK(InfoPro!F117),\"\",InfoPro!F117)","v":"Solar FV"},{"$f":"IF(ISBLANK(InfoPro!I117),\"\",YEAR(InfoPro!I117)-$G$3)","v":2},{"$f":"IF(B123=\"\",\"\",VLOOKUP(D123,Tablas!$B$2:$E$13,2,FALSE))","v":0.26},{"$f":"IF(B123=\"\",\"\",VLOOKUP(D123,Tablas!$B$2:$H$13,7,FALSE))","v":83577.200000000012},45324.24,3933650758.2477012,3518471161.2233467,3147111951.0047827,2814948077.8218098,2517842645.6366811,2252095389.6571388,2014396591.8221281,1801785860.3060181,1611615259.6654902,1441516332.4378271,1289370601.4649615,1153283185.5679443,1031559199.9713277,922682647.55932713,825297538.06737661,30275627200.453861,1521388.3015303449]
[{"$f":"IF(ISBLANK(InfoPro!A118),\"\",InfoPro!A118)","v":"SC_2012_A1"},{"$f":"IF(ISBLANK(InfoPro!B118),\"\",InfoPro!B118)","v":"Parqu Solar Fotovoltaico Rocio del Sol 50 MW"},{"$f":"IF(ISBLANK(InfoPro!E118),\"\",InfoPro!E118)","v":50},{"$f":"IF(ISBLANK(InfoPro!F118),\"\",InfoPro!F118)","v":"Solar FV"},{"$f":"IF(ISBLANK(InfoPro!I118),\"\",YEAR(InfoPro!I118)-$G$3)","v":3},{"$f":"IF(B124=\"\",\"\",VLOOKUP(D124,Tablas!$B$2:$E$13,2,FALSE))","v":0.26},{"$f":"IF(B124=\"\",\"\",VLOOKUP(D124,Tablas!$B$2:$H$13,7,FALSE))","v":83577.200000000012},113880,8840379802.0687122,7907316459.8110123,7072733863.8738937,6326237803.1072397,5658531129.7918062,5061297969.4023323,4527100151.5226583,4049284572.0238447,3621900332.7583599,3239624626.7963858,2897696446.1506138,2591857286.3601198,2318298109.4455462,2073611904.6919007,1854751256.4328275,68040621714.237259,1360812.4342847452]
[{"$f":"IF(ISBLANK(InfoPro!A119),\"\",InfoPro!A119)","v":"SC_2012_A2"},{"$f":"IF(ISBLANK(InfoPro!B119),\"\",InfoPro!B119)","v":"Parqu Solar Fotovoltaico Rocio del Sol 50 MW"},{"$f":"IF(ISBLANK(InfoPro!E119),\"\",InfoPro!E119)","v":50},{"$f":"IF(ISBLANK(InfoPro!F119),\"\",InfoPro!F119)","v":"Solar FV"},{"$f":"IF(ISBLANK(InfoPro!I119),\"\",YEAR(InfoPro!I119)-$G$3)","v":3},{"$f":"IF(B125=\"\",\"\",VLOOKUP(D125,Tablas!$B$2:$E$13,2,FALSE))","v":0.26},{"$f":"IF(B125=\"\",\"\",VLOOKUP(D125,Tablas!$B$2:$H$13,7,FALSE))","v":83577.200000000012},113880,8840379802.0687122,7907316459.8110123,7072733863.8738937,6326237803.1072397,5658531129.7918062,5061297969.4023323,4527100151.5226583,4049284572.0238447,3621900332.7583599,3239624626.7963858,2897696446.1506138,2591857286.3601198,2318298109.4455462,2073611904.6919007,1854751256.4328275,68040621714.237259,1360812.4342847452]
[{"$f":"IF(ISBLANK(InfoPro!A120),\"\",InfoPro!A120)","v":"SC_1807_A1"},{"$f":"IF(ISBLANK(InfoPro!B120),\"\",InfoPro!B120)","v":"Parque Solar Canis 49,9 MW"},{"$f":"IF(ISBLANK(InfoPro!E120),\"\",InfoPro!E120)","v":49.9},{"$f":"IF(ISBLANK(InfoPro!F120),\"\",InfoPro!F120)","v":"Solar FV"},{"$f":"IF(ISBLANK(InfoPro!I120),\"\",YEAR(InfoPro!I120)-$G$3)","v":2},{"$f":"IF(B126=\"\",\"\",VLOOKUP(D126,Tablas!$B$2:$E$13,2,FALSE))","v":0.26},{"$f":"IF(B126=\"\",\"\",VLOOKUP(D126,Tablas!$B$2:$H$13,7,FALSE))","v":83577.200000000012},113652.23999999999,9863777529.4753914,8822699042.4645729,7891501826.8913908,7058588396.1461449,6313585327.5010242,5647214067.5322227,5051175373.4635267,4518045951.2196131,4041186002.879797,3614656532.0928426,3233145377.5427928,2891901053.2583122,2586673571.7873993,2313661513.2266545,2069464680.8825169,75917276246.364197,1521388.3015303446]
[{"$f":"IF(ISBLANK(InfoPro!A121),\"\",InfoPro!A121)","v":"SC_1807_A2"},{"$f":"IF(ISBLANK(InfoPro!B121),\"\",InfoPro!B121)","v":"Parque Solar Canis 49,9 MW"},{"$f":"IF(ISBLANK(InfoPro!E121),\"\",InfoPro!E121)","v":49.9},{"$f":"IF(ISBLANK(InfoPro!F121),\"\",InfoPro!F121)","v":"Solar FV"},{"$f":"IF(ISBLANK(InfoPro!I121),\"\",YEAR(InfoPro!I121)-$G$3)","v":2},{"$f":"IF(B127=\"\",\"\",VLOOKUP(D127,Tablas!$B$2:$E$13,2,FALSE))","v":0.26},{"$f":"IF(B127=\"\",\"\",VLOOKUP(D127,Tablas!$B$2:$H$13,7,FALSE))","v":83577.200000000012},113652.23999999999,9863777529.4753914,8822699042.4645729,7891501826.8913908,7058588396.1461449,6313585327.5010242,5647214067.5322227,5051175373.4635267,4518045951.2196131,4041186002.879797,3614656532.0928426,3233145377.5427928,2891901053.2583122,2586673571.7873993,2313661513.2266545,2069464680.8825169,75917276246.364197,1521388.3015303446]
[{"$f":"IF(ISBLANK(InfoPro!A122),\"\",InfoPro!A122)","v":"SC_1918_A1"},{"$f":"IF(ISBLANK(InfoPro!B122),\"\",InfoPro!B122)","v":"Casiopea 40 MW"},{"$f":"IF(ISBLANK(InfoPro!E122),\"\",InfoPro!E122)","v":40},{"$f":"IF(ISBLANK(InfoPro!F122),\"\",InfoPro!F122)","v":"Solar FV"},{"$f":"IF(ISBLANK(InfoPro!I122),\"\",YEAR(InfoPro!I122)-$G$3)","v":2},{"$f":"IF(B128=\"\",\"\",VLOOKUP(D128,Tablas!$B$2:$E$13,2,FALSE))","v":0.26},{"$f":"IF(B128=\"\",\"\",VLOOKUP(D128,Tablas!$B$2:$H$13,7,FALSE))","v":83577.200000000012},91104.000000000015,7906835694.9702559,7072303841.6549711,6325853167.8488111,5658187091.0991154,5060990242.4857922,4526824903.8334465,4049038375.5218658,3621680121.2181273,3239427657.6190763,2897520266.2066879,2591699701.437109,2318157156.9204912,2073485829.0880964,1854638487.556437,1658889523.7535212,60855532061.213814,1521388.3015303453]
[{"$f":"IF(ISBLANK(InfoPro!A123),\"\",InfoPro!A123)","v":"SC_1918_A2"},{"$f":"IF(ISBLANK(InfoPro!B123),\"\",InfoPro!B123)","v":"Casiopea 40 MW"},{"$f":"IF(ISBLANK(InfoPro!E123),\"\",InfoPro!E123)","v":40},{"$f":"IF(ISBLANK(InfoPro!F123),\"\",InfoPro!F123)","v":"Solar FV"},{"$f":"IF(ISBLANK(InfoPro!I123),\"\",YEAR(InfoPro!I123)-$G$3)","v":2},{"$f":"IF(B129=\"\",\"\",VLOOKUP(D129,Tablas!$B$2:$E$13,2,FALSE))","v":0.26},{"$f":"IF(B129=\"\",\"\",VLOOKUP(D129,Tablas!$B$2:$H$13,7,FALSE))","v":83577.200000000012},91104.000000000015,7906835694.9702559,7072303841.6549711,6325853167.8488111,5658187091.0991154,5060990242.4857922,4526824903.8334465,4049038375.5218658,3621680121.2181273,3239427657.6190763,2897520266.2066879,2591699701.437109,2318157156.9204912,2073485829.0880964,1854638487.556437,1658889523.7535212,60855532061.213814,1521388.3015303453]
[{"$f":"IF(ISBLANK(InfoPro!A124),\"\",InfoPro!A124)","v":"SC_1813_A1"},{"$f":"IF(ISBLANK(InfoPro!B124),\"\",InfoPro!B124)","v":"Parque de generación Cefeo"},{"$f":"IF(ISBLANK(InfoPro!E124),\"\",InfoPro!E124)","v":19.899999999999999},{"$f":"IF(ISBLANK(InfoPro!F124),\"\",InfoPro!F124)","v":"Solar FV"},{"$f":"IF(ISBLANK(InfoPro!I124),\"\",YEAR(InfoPro!I124)-$G$3)","v":2},{"$f":"IF(B130=\"\",\"\",VLOOKUP(D130,Tablas!$B$2:$E$13,2,FALSE))","v":0.26},{"$f":"IF(B130=\"\",\"\",VLOOKUP(D130,Tablas!$B$2:$H$13,7,FALSE))","v":83577.200000000012},45324.24,3933650758.2477012,3518471161.2233467,3147111951.0047827,2814948077.8218098,2517842645.6366811,2252095389.6571388,2014396591.8221281,1801785860.3060181,1611615259.6654902,1441516332.4378271,1289370601.4649615,1153283185.5679443,1031559199.9713277,922682647.55932713,825297538.06737661,30275627200.453861,1521388.3015303449]
[{"$f":"IF(ISBLANK(InfoPro!A125),\"\",InfoPro!A125)","v":"SC_1813_A2"},{"$f":"IF(ISBLANK(InfoPro!B125),\"\",InfoPro!B125)","v":"Parque de generación Cefeo"},{"$f":"IF(ISBLANK(InfoPro!E125),\"\",InfoPro!E125)","v":19.899999999999999},{"$f":"IF(ISBLANK(InfoPro!F125),\"\",InfoPro!F125)","v":"Solar FV"},{"$f":"IF(ISBLANK(InfoPro!I125),\"\",YEAR(InfoPro!I125)-$G$3)","v":2},{"$f":"IF(B131=\"\",\"\",VLOOKUP(D131,Tablas!$B$2:$E$13,2,FALSE))","v":0.26},{"$f":"IF(B131=\"\",\"\",VLOOKUP(D131,Tablas!$B$2:$H$13,7,FALSE))","v":83577.200000000012},45324.24,{"$f":"IF($H131=\"\",\"\",(1/(1+$C$3)^(I$6+$E131))*$H131*($C$2 - $G131))","v":3933650758.2477012},3518471161.2233467,3147111951.0047827,2814948077.8218098,2517842645.6366811,2252095389.6571388,2014396591.8221281,1801785860.3060181,1611615259.6654902,1441516332.4378271,1289370601.4649615,1153283185.5679443,1031559199.9713277,922682647.55932713,825297538.06737661,30275627200.453861,1521388.3015303449]
[{"$f":"IF(ISBLANK(InfoPro!A126),\"\",InfoPro!A126)","v":"SC_1949_A1"},{"$f":"IF(ISBLANK(InfoPro!B126),\"\",InfoPro!B126)","v":"Solar Planeta Rica"},{"$f":"IF(ISBLANK(InfoPro!E126),\"\",InfoPro!E126)","v":19.899999999999999},{"$f":"IF(ISBLANK(InfoPro!F126),\"\",InfoPro!F126)","v":"Solar FV"},{"$f":"IF(ISBLANK(InfoPro!I126),\"\",YEAR(InfoPro!I126)-$G$3)","v":3},{"$f":"IF(B132=\"\",\"\",VLOOKUP(D132,Tablas!$B$2:$E$13,2,FALSE))","v":0.26},{"$f":"IF(B132=\"\",\"\",VLOOKUP(D132,Tablas!$B$2:$H$13,7,FALSE))","v":83577.200000000012},45324.24,3518471161.2233467,3147111951.0047827,2814948077.8218098,2517842645.6366811,2252095389.6571388,2014396591.8221281,1801785860.3060181,1611615259.6654902,1441516332.4378271,1289370601.4649615,1153283185.5679443,1031559199.9713277,922682647.55932713,825297538.06737661,738191000.0602653,27080167442.266422,1360812.4342847448]
[{"$f":"IF(ISBLANK(InfoPro!A127),\"\",InfoPro!A127)","v":"SC_1949_A2"},{"$f":"IF(ISBLANK(InfoPro!B127),\"\",InfoPro!B127)","v":"Solar Planeta Rica"},{"$f":"IF(ISBLANK(InfoPro!E127),\"\",InfoPro!E127)","v":19.899999999999999},{"$f":"IF(ISBLANK(InfoPro!F127),\"\",InfoPro!F127)","v":"Solar FV"},{"$f":"IF(ISBLANK(InfoPro!I127),\"\",YEAR(InfoPro!I127)-$G$3)","v":3},{"$f":"IF(B133=\"\",\"\",VLOOKUP(D133,Tablas!$B$2:$E$13,2,FALSE))","v":0.26},{"$f":"IF(B133=\"\",\"\",VLOOKUP(D133,Tablas!$B$2:$H$13,7,FALSE))","v":83577.200000000012},45324.24,3518471161.2233467,3147111951.0047827,2814948077.8218098,2517842645.6366811,2252095389.6571388,2014396591.8221281,1801785860.3060181,1611615259.6654902,1441516332.4378271,1289370601.4649615,1153283185.5679443,1031559199.9713277,922682647.55932713,825297538.06737661,738191000.0602653,27080167442.266422,1360812.4342847448]
[{"$f":"IF(ISBLANK(InfoPro!A128),\"\",InfoPro!A128)","v":"SC_1970_A1"},{"$f":"IF(ISBLANK(InfoPro!B128),\"\",InfoPro!B128)","v":"Parque Solar Montería"},{"$f":"IF(ISBLANK(InfoPro!E128),\"\",InfoPro!E128)","v":99},{"$f":"IF(ISBLANK(InfoPro!F128),\"\",InfoPro!F128)","v":"Solar FV"},{"$f":"IF(ISBLANK(InfoPro!I128),\"\",YEAR(InfoPro!I128)-$G$3)","v":3},{"$f":"IF(B134=\"\",\"\",VLOOKUP(D134,Tablas!$B$2:$E$13,2,FALSE))","v":0.26},{"$f":"IF(B134=\"\",\"\",VLOOKUP(D134,Tablas!$B$2:$H$13,7,FALSE))","v":83577.200000000012},225482.4,17503952008.09605,15656486590.425806,14004013050.470308,12525950850.152334,11203891636.987778,10021369979.416616,8963658300.014864,8017583452.6072121,7171362658.8615513,6414456761.0568438,5737438963.3782148,5131877426.9930372,4590230256.7021809,4105751571.2899642,3672407487.7369986,134720430994.18976,1360812.434284745]
[{"$f":"IF(ISBLANK(InfoPro!A129),\"\",InfoPro!A129)","v":"SC_1970_A2"},{"$f":"IF(ISBLANK(InfoPro!B129),\"\",InfoPro!B129)","v":"Parque Solar Montería"},{"$f":"IF(ISBLANK(InfoPro!E129),\"\",InfoPro!E129)","v":99},{"$f":"IF(ISBLANK(InfoPro!F129),\"\",InfoPro!F129)","v":"Solar FV"},{"$f":"IF(ISBLANK(InfoPro!I129),\"\",YEAR(InfoPro!I129)-$G$3)","v":3},{"$f":"IF(B135=\"\",\"\",VLOOKUP(D135,Tablas!$B$2:$E$13,2,FALSE))","v":0.26},{"$f":"IF(B135=\"\",\"\",VLOOKUP(D135,Tablas!$B$2:$H$13,7,FALSE))","v":83577.200000000012},225482.4,17503952008.09605,15656486590.425806,14004013050.470308,12525950850.152334,11203891636.987778,10021369979.416616,8963658300.014864,8017583452.6072121,7171362658.8615513,6414456761.0568438,5737438963.3782148,5131877426.9930372,4590230256.7021809,4105751571.2899642,3672407487.7369986,134720430994.18976,1360812.434284745]
[{"$f":"IF(ISBLANK(InfoPro!A130),\"\",InfoPro!A130)","v":"SC_2072_A1"},{"$f":"IF(ISBLANK(InfoPro!B130),\"\",InfoPro!B130)","v":"Porvenir - 9.9 MW"},{"$f":"IF(ISBLANK(InfoPro!E130),\"\",InfoPro!E130)","v":9.9},{"$f":"IF(ISBLANK(InfoPro!F130),\"\",InfoPro!F130)","v":"Solar FV"},{"$f":"IF(ISBLANK(InfoPro!I130),\"\",YEAR(InfoPro!I130)-$G$3)","v":2},{"$f":"IF(B136=\"\",\"\",VLOOKUP(D136,Tablas!$B$2:$E$13,2,FALSE))","v":0.26},{"$f":"IF(B136=\"\",\"\",VLOOKUP(D136,Tablas!$B$2:$H$13,7,FALSE))","v":83577.200000000012},22548.240000000005,1956941834.5051382,1750395200.8096051,1565648659.0425808,1400401305.0470314,1252595085.0152338,1120389163.6987782,1002136997.9416621,896365830.00148666,801758345.26072145,717136265.88615525,641445676.10568452,573743896.33782172,513187742.69930387,459023025.67021811,410575157.12899649,15061744185.150415,1521388.3015303449]
[{"$f":"IF(ISBLANK(InfoPro!A131),\"\",InfoPro!A131)","v":"SC_2204_A1"},{"$f":"IF(ISBLANK(InfoPro!B131),\"\",InfoPro!B131)","v":"Parque Solar Ciénaga Grande - 19.9 MW"},{"$f":"IF(ISBLANK(InfoPro!E131),\"\",InfoPro!E131)","v":19.899999999999999},{"$f":"IF(ISBLANK(InfoPro!F131),\"\",InfoPro!F131)","v":"Solar FV"},{"$f":"IF(ISBLANK(InfoPro!I131),\"\",YEAR(InfoPro!I131)-$G$3)","v":2},{"$f":"IF(B137=\"\",\"\",VLOOKUP(D137,Tablas!$B$2:$E$13,2,FALSE))","v":0.26},{"$f":"IF(B137=\"\",\"\",VLOOKUP(D137,Tablas!$B$2:$H$13,7,FALSE))","v":83577.200000000012},45324.24,3933650758.2477012,3518471161.2233467,3147111951.0047827,2814948077.8218098,2517842645.6366811,2252095389.6571388,2014396591.8221281,1801785860.3060181,1611615259.6654902,1441516332.4378271,1289370601.4649615,1153283185.5679443,1031559199.9713277,922682647.55932713,825297538.06737661,30275627200.453861,1521388.3015303449]
[{"$f":"IF(ISBLANK(InfoPro!A132),\"\",InfoPro!A132)","v":"SC_2204_A2"},{"$f":"IF(ISBLANK(InfoPro!B132),\"\",InfoPro!B132)","v":"Parque Solar Ciénaga Grande - 19.9 MW"},{"$f":"IF(ISBLANK(InfoPro!E132),\"\",InfoPro!E132)","v":19.899999999999999},{"$f":"IF(ISBLANK(InfoPro!F132),\"\",InfoPro!F132)","v":"Solar FV"},{"$f":"IF(ISBLANK(InfoPro!I132),\"\",YEAR(InfoPro!I132)-$G$3)","v":2},{"$f":"IF(B138=\"\",\"\",VLOOKUP(D138,Tablas!$B$2:$E$13,2,FALSE))","v":0.26},{"$f":"IF(B138=\"\",\"\",VLOOKUP(D138,Tablas!$B$2:$H$13,7,FALSE))","v":83577.200000000012},45324.24,3933650758.2477012,3518471161.2233467,3147111951.0047827,2814948077.8218098,2517842645.6366811,2252095389.6571388,2014396591.8221281,1801785860.3060181,1611615259.6654902,1441516332.4378271,1289370601.4649615,1153283185.5679443,1031559199.9713277,922682647.55932713,825297538.06737661,30275627200.453861,1521388.3015303449]
[{"$f":"IF(ISBLANK(InfoPro!A133),\"\",InfoPro!A133)","v":"SC_2166_A1"},{"$f":"IF(ISBLANK(InfoPro!B133),\"\",InfoPro!B133)","v":"Parque fotovoltaico Delphinus"},{"$f":"IF(ISBLANK(InfoPro!E133),\"\",InfoPro!E133)","v":19.899999999999999},{"$f":"IF(ISBLANK(InfoPro!F133),\"\",InfoPro!F133)","v":"Solar FV"},{"$f":"IF(ISBLANK(InfoPro!I133),\"\",YEAR(InfoPro!I133)-$G$3)","v":2},{"$f":"IF(B139=\"\",\"\",VLOOKUP(D139,Tablas!$B$2:$E$13,2,FALSE))","v":0.26},{"$f":"IF(B139=\"\",\"\",VLOOKUP(D139,Tablas!$B$2:$H$13,7,FALSE))","v":83577.200000000012},45324.24,3933650758.2477012,3518471161.2233467,3147111951.0047827,2814948077.8218098,2517842645.6366811,2252095389.6571388,2014396591.8221281,1801785860.3060181,1611615259.6654902,1441516332.4378271,1289370601.4649615,1153283185.5679443,1031559199.9713277,922682647.55932713,825297538.06737661,30275627200.453861,1521388.3015303449]
[{"$f":"IF(ISBLANK(InfoPro!A134),\"\",InfoPro!A134)","v":"SC_2166_A2"},{"$f":"IF(ISBLANK(InfoPro!B134),\"\",InfoPro!B134)","v":"Parque fotovoltaico Delphinus"},{"$f":"IF(ISBLANK(InfoPro!E134),\"\",InfoPro!E134)","v":19.899999999999999},{"$f":"IF(ISBLANK(InfoPro!F134),\"\",InfoPro!F134)","v":"Solar FV"},{"$f":"IF(ISBLANK(InfoPro!I134),\"\",YEAR(InfoPro!I134)-$G$3)","v":2},{"$f":"IF(B140=\"\",\"\",VLOOKUP(D140,Tablas!$B$2:$E$13,2,FALSE))","v":0.26},{"$f":"IF(B140=\"\",\"\",VLOOKUP(D140,Tablas!$B$2:$H$13,7,FALSE))","v":83577.200000000012},45324.24,3933650758.2477012,3518471161.2233467,3147111951.0047827,2814948077.8218098,2517842645.6366811,2252095389.6571388,2014396591.8221281,1801785860.3060181,1611615259.6654902,1441516332.4378271,1289370601.4649615,1153283185.5679443,1031559199.9713277,922682647.55932713,825297538.06737661,30275627200.453861,1521388.3015303449]
[{"$f":"IF(ISBLANK(InfoPro!A135),\"\",InfoPro!A135)","v":"SC_1923_A1"},{"$f":"IF(ISBLANK(InfoPro!B135),\"\",InfoPro!B135)","v":"Parque Solar Fotovoltaico Chunú I 50 MW"},{"$f":"IF(ISBLANK(InfoPro!E135),\"\",InfoPro!E135)","v":50},{"$f":"IF(ISBLANK(InfoPro!F135),\"\",InfoPro!F135)","v":"Solar FV"},{"$f":"IF(ISBLANK(InfoPro!I135),\"\",YEAR(InfoPro!I135)-$G$3)","v":4},{"$f":"IF(B141=\"\",\"\",VLOOKUP(D141,Tablas!$B$2:$E$13,2,FALSE))","v":0.26},{"$f":"IF(B141=\"\",\"\",VLOOKUP(D141,Tablas!$B$2:$H$13,7,FALSE))","v":83577.200000000012},113880,7907316459.8110123,7072733863.8738937,6326237803.1072397,5658531129.7918062,5061297969.4023323,4527100151.5226583,4049284572.0238447,3621900332.7583599,3239624626.7963858,2897696446.1506138,2591857286.3601198,2318298109.4455462,2073611904.6919007,1854751256.4328275,1658990390.3692553,60859232302.537804,1217184.6460507561]
[{"$f":"IF(ISBLANK(InfoPro!A136),\"\",InfoPro!A136)","v":"SC_1923_A2"},{"$f":"IF(ISBLANK(InfoPro!B136),\"\",InfoPro!B136)","v":"Parque Solar Fotovoltaico Chunú I 50 MW"},{"$f":"IF(ISBLANK(InfoPro!E136),\"\",InfoPro!E136)","v":50},{"$f":"IF(ISBLANK(InfoPro!F136),\"\",InfoPro!F136)","v":"Solar FV"},{"$f":"IF(ISBLANK(InfoPro!I136),\"\",YEAR(InfoPro!I136)-$G$3)","v":4},{"$f":"IF(B142=\"\",\"\",VLOOKUP(D142,Tablas!$B$2:$E$13,2,FALSE))","v":0.26},{"$f":"IF(B142=\"\",\"\",VLOOKUP(D142,Tablas!$B$2:$H$13,7,FALSE))","v":83577.200000000012},113880,7907316459.8110123,7072733863.8738937,6326237803.1072397,5658531129.7918062,5061297969.4023323,4527100151.5226583,4049284572.0238447,3621900332.7583599,3239624626.7963858,2897696446.1506138,2591857286.3601198,2318298109.4455462,2073611904.6919007,1854751256.4328275,1658990390.3692553,60859232302.537804,1217184.6460507561]
[{"$f":"IF(ISBLANK(InfoPro!A137),\"\",InfoPro!A137)","v":"SC_1937_A1"},{"$f":"IF(ISBLANK(InfoPro!B137),\"\",InfoPro!B137)","v":"Parque Solar Fotovoltaico ChInú II 50 MW"},{"$f":"IF(ISBLANK(InfoPro!E137),\"\",InfoPro!E137)","v":50},{"$f":"IF(ISBLANK(InfoPro!F137),\"\",InfoPro!F137)","v":"Solar FV"},{"$f":"IF(ISBLANK(InfoPro!I137),\"\",YEAR(InfoPro!I137)-$G$3)","v":4},{"$f":"IF(B143=\"\",\"\",VLOOKUP(D143,Tablas!$B$2:$E$13,2,FALSE))","v":0.26},{"$f":"IF(B143=\"\",\"\",VLOOKUP(D143,Tablas!$B$2:$H$13,7,FALSE))","v":83577.200000000012},113880,7907316459.8110123,7072733863.8738937,6326237803.1072397,5658531129.7918062,5061297969.4023323,4527100151.5226583,4049284572.0238447,3621900332.7583599,3239624626.7963858,2897696446.1506138,2591857286.3601198,2318298109.4455462,2073611904.6919007,1854751256.4328275,1658990390.3692553,60859232302.537804,1217184.6460507561]
[{"$f":"IF(ISBLANK(InfoPro!A138),\"\",InfoPro!A138)","v":"SC_1937_A2"},{"$f":"IF(ISBLANK(InfoPro!B138),\"\",InfoPro!B138)","v":"Parque Solar Fotovoltaico ChInú II 50 MW"},{"$f":"IF(ISBLANK(InfoPro!E138),\"\",InfoPro!E138)","v":50},{"$f":"IF(ISBLANK(InfoPro!F138),\"\",InfoPro!F138)","v":"Solar FV"},{"$f":"IF(ISBLANK(InfoPro!I138),\"\",YEAR(InfoPro!I138)-$G$3)","v":4},{"$f":"IF(B144=\"\",\"\",VLOOKUP(D144,Tablas!$B$2:$E$13,2,FALSE))","v":0.26},{"$f":"IF(B144=\"\",\"\",VLOOKUP(D144,Tablas!$B$2:$H$13,7,FALSE))","v":83577.200000000012},113880,7907316459.8110123,7072733863.8738937,6326237803.1072397,5658531129.7918062,5061297969.4023323,4527100151.5226583,4049284572.0238447,3621900332.7583599,3239624626.7963858,2897696446.1506138,2591857286.3601198,2318298109.4455462,2073611904.6919007,1854751256.4328275,1658990390.3692553,60859232302.537804,1217184.6460507561]
[{"$f":"IF(ISBLANK(InfoPro!A139),\"\",InfoPro!A139)","v":"SC_1810_A1"},{"$f":"IF(ISBLANK(InfoPro!B139),\"\",InfoPro!B139)","v":"Parque Solar Coveñas 50 MW"},{"$f":"IF(ISBLANK(InfoPro!E139),\"\",InfoPro!E139)","v":50},{"$f":"IF(ISBLANK(InfoPro!F139),\"\",InfoPro!F139)","v":"Solar FV"},{"$f":"IF(ISBLANK(InfoPro!I139),\"\",YEAR(InfoPro!I139)-$G$3)","v":4},{"$f":"IF(B145=\"\",\"\",VLOOKUP(D145,Tablas!$B$2:$E$13,2,FALSE))","v":0.26},{"$f":"IF(B145=\"\",\"\",VLOOKUP(D145,Tablas!$B$2:$H$13,7,FALSE))","v":83577.200000000012},113880,7907316459.8110123,7072733863.8738937,6326237803.1072397,5658531129.7918062,5061297969.4023323,4527100151.5226583,4049284572.0238447,3621900332.7583599,3239624626.7963858,2897696446.1506138,2591857286.3601198,2318298109.4455462,2073611904.6919007,1854751256.4328275,1658990390.3692553,60859232302.537804,1217184.6460507561]
[{"$f":"IF(ISBLANK(InfoPro!A140),\"\",InfoPro!A140)","v":"SC_1810_A2"},{"$f":"IF(ISBLANK(InfoPro!B140),\"\",InfoPro!B140)","v":"Parque Solar Coveñas 50 MW"},{"$f":"IF(ISBLANK(InfoPro!E140),\"\",InfoPro!E140)","v":50},{"$f":"IF(ISBLANK(InfoPro!F140),\"\",InfoPro!F140)","v":"Solar FV"},{"$f":"IF(ISBLANK(InfoPro!I140),\"\",YEAR(InfoPro!I140)-$G$3)","v":4},{"$f":"IF(B146=\"\",\"\",VLOOKUP(D146,Tablas!$B$2:$E$13,2,FALSE))","v":0.26},{"$f":"IF(B146=\"\",\"\",VLOOKUP(D146,Tablas!$B$2:$H$13,7,FALSE))","v":83577.200000000012},113880,7907316459.8110123,7072733863.8738937,6326237803.1072397,5658531129.7918062,5061297969.4023323,4527100151.5226583,4049284572.0238447,3621900332.7583599,3239624626.7963858,2897696446.1506138,2591857286.3601198,2318298109.4455462,2073611904.6919007,1854751256.4328275,1658990390.3692553,60859232302.537804,1217184.6460507561]
[{"$f":"IF(ISBLANK(InfoPro!A141),\"\",InfoPro!A141)","v":"SC_1835_A1"},{"$f":"IF(ISBLANK(InfoPro!B141),\"\",InfoPro!B141)","v":"Parque Solar Coveñas II 50 MW"},{"$f":"IF(ISBLANK(InfoPro!E141),\"\",InfoPro!E141)","v":50},{"$f":"IF(ISBLANK(InfoPro!F141),\"\",InfoPro!F141)","v":"Solar FV"},{"$f":"IF(ISBLANK(InfoPro!I141),\"\",YEAR(InfoPro!I141)-$G$3)","v":4},{"$f":"IF(B147=\"\",\"\",VLOOKUP(D147,Tablas!$B$2:$E$13,2,FALSE))","v":0.26},{"$f":"IF(B147=\"\",\"\",VLOOKUP(D147,Tablas!$B$2:$H$13,7,FALSE))","v":83577.200000000012},113880,7907316459.8110123,7072733863.8738937,6326237803.1072397,5658531129.7918062,5061297969.4023323,4527100151.5226583,4049284572.0238447,3621900332.7583599,3239624626.7963858,2897696446.1506138,2591857286.3601198,2318298109.4455462,2073611904.6919007,1854751256.4328275,1658990390.3692553,60859232302.537804,1217184.6460507561]
[{"$f":"IF(ISBLANK(InfoPro!A142),\"\",InfoPro!A142)","v":"SC_1835_A2"},{"$f":"IF(ISBLANK(InfoPro!B142),\"\",InfoPro!B142)","v":"Parque Solar Coveñas II 50 MW"},{"$f":"IF(ISBLANK(InfoPro!E142),\"\",InfoPro!E142)","v":50},{"$f":"IF(ISBLANK(InfoPro!F142),\"\",InfoPro!F142)","v":"Solar FV"},{"$f":"IF(ISBLANK(InfoPro!I142),\"\",YEAR(InfoPro!I142)-$G$3)","v":4},{"$f":"IF(B148=\"\",\"\",VLOOKUP(D148,Tablas!$B$2:$E$13,2,FALSE))","v":0.26},{"$f":"IF(B148=\"\",\"\",VLOOKUP(D148,Tablas!$B$2:$H$13,7,FALSE))","v":83577.200000000012},113880,{"$f":"IF($H148=\"\",\"\",(1/(1+$C$3)^(I$6+$E148))*$H148*($C$2 - $G148))","v":7907316459.8110123},7072733863.8738937,6326237803.1072397,5658531129.7918062,5061297969.4023323,4527100151.5226583,4049284572.0238447,3621900332.7583599,3239624626.7963858,2897696446.1506138,2591857286.3601198,2318298109.4455462,2073611904.6919007,1854751256.4328275,1658990390.3692553,60859232302.537804,1217184.6460507561]
[{"$f":"IF(ISBLANK(InfoPro!A143),\"\",InfoPro!A143)","v":"SC_1873_A1"},{"$f":"IF(ISBLANK(InfoPro!B143),\"\",InfoPro!B143)","v":"Cusumbo Solar"},{"$f":"IF(ISBLANK(InfoPro!E143),\"\",InfoPro!E143)","v":99.9},{"$f":"IF(ISBLANK(InfoPro!F143),\"\",InfoPro!F143)","v":"Solar FV"},{"$f":"IF(ISBLANK(InfoPro!I143),\"\",YEAR(InfoPro!I143)-$G$3)","v":3},{"$f":"IF(B149=\"\",\"\",VLOOKUP(D149,Tablas!$B$2:$E$13,2,FALSE))","v":0.26},{"$f":"IF(B149=\"\",\"\",VLOOKUP(D149,Tablas!$B$2:$H$13,7,FALSE))","v":83577.200000000012},227532.24000000002,17663078844.533287,15798818286.702406,14131322260.020041,12639823130.608265,11305745197.324032,10112473342.86586,9045146102.7422714,8090470574.9036427,7236556864.851203,6472770004.33918,5789597499.408927,5178530858.1475201,4631959622.6722012,4143076585.574419,3705793010.3527899,135945162185.04604,1360812.434284745]
[{"$f":"IF(ISBLANK(InfoPro!A144),\"\",InfoPro!A144)","v":"SC_1873_A2"},{"$f":"IF(ISBLANK(InfoPro!B144),\"\",InfoPro!B144)","v":"Cusumbo Solar"},{"$f":"IF(ISBLANK(InfoPro!E144),\"\",InfoPro!E144)","v":99.9},{"$f":"IF(ISBLANK(InfoPro!F144),\"\",InfoPro!F144)","v":"Solar FV"},{"$f":"IF(ISBLANK(InfoPro!I144),\"\",YEAR(InfoPro!I144)-$G$3)","v":3},{"$f":"IF(B150=\"\",\"\",VLOOKUP(D150,Tablas!$B$2:$E$13,2,FALSE))","v":0.26},{"$f":"IF(B150=\"\",\"\",VLOOKUP(D150,Tablas!$B$2:$H$13,7,FALSE))","v":83577.200000000012},227532.24000000002,17663078844.533287,15798818286.702406,14131322260.020041,12639823130.608265,11305745197.324032,10112473342.86586,9045146102.7422714,8090470574.9036427,7236556864.851203,6472770004.33918,5789597499.408927,5178530858.1475201,4631959622.6722012,4143076585.574419,3705793010.3527899,135945162185.04604,1360812.434284745]
[{"$f":"IF(ISBLANK(InfoPro!A145),\"\",InfoPro!A145)","v":"SC_2067_A1"},{"$f":"IF(ISBLANK(InfoPro!B145),\"\",InfoPro!B145)","v":"TIERRALTA 70 MW"},{"$f":"IF(ISBLANK(InfoPro!E145),\"\",InfoPro!E145)","v":70},{"$f":"IF(ISBLANK(InfoPro!F145),\"\",InfoPro!F145)","v":"Solar FV"},{"$f":"IF(ISBLANK(InfoPro!I145),\"\",YEAR(InfoPro!I145)-$G$3)","v":4},{"$f":"IF(B151=\"\",\"\",VLOOKUP(D151,Tablas!$B$2:$E$13,2,FALSE))","v":0.26},{"$f":"IF(B151=\"\",\"\",VLOOKUP(D151,Tablas!$B$2:$H$13,7,FALSE))","v":83577.200000000012},{"$f":"IF(C151=\"\",\"\",+C151*F151*24*365)","v":159431.99999999997},11070243043.735416,9901827409.4234505,8856732924.3501339,7921943581.7085276,7085817157.1632633,6337940212.1317215,5668998400.8333817,5070660465.8617029,4535474477.5149393,4056775024.610858,3628600200.9041677,3245617353.2237635,2903056666.5686612,2596651759.0059581,2322586546.5169568,{"$f":"IF(W151=\"\",\"\",SUM(I151:W151))","v":85202925223.552902},{"$f":"IF(C151=0,0,IF(X151=\"\",\"\",X151/(C151*1000)))","v":1217184.6460507556}]
[{"$f":"IF(ISBLANK(InfoPro!A146),\"\",InfoPro!A146)","v":"SC_2067_A2"},{"$f":"IF(ISBLANK(InfoPro!B146),\"\",InfoPro!B146)","v":"TIERRALTA 70 MW"},{"$f":"IF(ISBLANK(InfoPro!E146),\"\",InfoPro!E146)","v":70},{"$f":"IF(ISBLANK(InfoPro!F146),\"\",InfoPro!F146)","v":"Solar FV"},{"$f":"IF(ISBLANK(InfoPro!I146),\"\",YEAR(InfoPro!I146)-$G$3)","v":4},{"$f":"IF(B152=\"\",\"\",VLOOKUP(D152,Tablas!$B$2:$E$13,2,FALSE))","v":0.26},{"$f":"IF(B152=\"\",\"\",VLOOKUP(D152,Tablas!$B$2:$H$13,7,FALSE))","v":83577.200000000012},159431.99999999997,11070243043.735416,9901827409.4234505,8856732924.3501339,7921943581.7085276,7085817157.1632633,6337940212.1317215,5668998400.8333817,5070660465.8617029,4535474477.5149393,4056775024.610858,3628600200.9041677,3245617353.2237635,2903056666.5686612,2596651759.0059581,2322586546.5169568,85202925223.552902,1217184.6460507556]
[{"$f":"IF(ISBLANK(InfoPro!A147),\"\",InfoPro!A147)","v":"SC_1942_A1"},{"$f":"IF(ISBLANK(InfoPro!B147),\"\",InfoPro!B147)","v":"San Jorge Fotovoltaico 135 MW"},{"$f":"IF(ISBLANK(InfoPro!E147),\"\",InfoPro!E147)","v":135},{"$f":"IF(ISBLANK(InfoPro!F147),\"\",InfoPro!F147)","v":"Solar FV"},{"$f":"IF(ISBLANK(InfoPro!I147),\"\",YEAR(InfoPro!I147)-$G$3)","v":2},{"$f":"IF(B153=\"\",\"\",VLOOKUP(D153,Tablas!$B$2:$E$13,2,FALSE))","v":0.26},{"$f":"IF(B153=\"\",\"\",VLOOKUP(D153,Tablas!$B$2:$H$13,7,FALSE))","v":83577.200000000012},307476.00000000006,26685570470.524612,23869025465.585526,21349754441.489738,19096381432.459515,17080842068.389549,15278034050.437881,13665504517.386299,12223170409.111181,10933068344.464382,9779130898.4475708,8746986492.3502426,7823780404.606658,6998014673.1723251,6259404895.5029745,5598752142.6681337,205387420706.59659,1521388.3015303451]
[{"$f":"IF(ISBLANK(InfoPro!A148),\"\",InfoPro!A148)","v":"SC_1942_A2"},{"$f":"IF(ISBLANK(InfoPro!B148),\"\",InfoPro!B148)","v":"San Jorge Fotovoltaico 135 MW"},{"$f":"IF(ISBLANK(InfoPro!E148),\"\",InfoPro!E148)","v":135},{"$f":"IF(ISBLANK(InfoPro!F148),\"\",InfoPro!F148)","v":"Solar FV"},{"$f":"IF(ISBLANK(InfoPro!I148),\"\",YEAR(InfoPro!I148)-$G$3)","v":2},{"$f":"IF(B154=\"\",\"\",VLOOKUP(D154,Tablas!$B$2:$E$13,2,FALSE))","v":0.26},{"$f":"IF(B154=\"\",\"\",VLOOKUP(D154,Tablas!$B$2:$H$13,7,FALSE))","v":83577.200000000012},307476.00000000006,26685570470.524612,23869025465.585526,21349754441.489738,19096381432.459515,17080842068.389549,15278034050.437881,13665504517.386299,12223170409.111181,10933068344.464382,9779130898.4475708,8746986492.3502426,7823780404.606658,6998014673.1723251,6259404895.5029745,5598752142.6681337,205387420706.59659,1521388.3015303451]
[{"$f":"IF(ISBLANK(InfoPro!A149),\"\",InfoPro!A149)","v":"SC_2107_A1"},{"$f":"IF(ISBLANK(InfoPro!B149),\"\",InfoPro!B149)","v":"Parque Solar Aries"},{"$f":"IF(ISBLANK(InfoPro!E149),\"\",InfoPro!E149)","v":175},{"$f":"IF(ISBLANK(InfoPro!F149),\"\",InfoPro!F149)","v":"Solar FV"},{"$f":"IF(ISBLANK(InfoPro!I149),\"\",YEAR(InfoPro!I149)-$G$3)","v":3},{"$f":"IF(B155=\"\",\"\",VLOOKUP(D155,Tablas!$B$2:$E$13,2,FALSE))","v":0.26},{"$f":"IF(B155=\"\",\"\",VLOOKUP(D155,Tablas!$B$2:$H$13,7,FALSE))","v":83577.200000000012},398580,30941329307.24049,27675607609.338543,24754568523.558628,22141832310.87534,19804858954.271324,17714542892.908161,15844850530.329304,14172496002.083456,12676651164.654259,11338686193.787352,10141937561.527147,9071500502.2604198,8114043383.0594101,7257641666.4216528,6491629397.5148964,238142175999.83044,1360812.4342847455]
[{"$f":"IF(ISBLANK(InfoPro!A150),\"\",InfoPro!A150)","v":"SC_2107_A2"},{"$f":"IF(ISBLANK(InfoPro!B150),\"\",InfoPro!B150)","v":"Parque Solar Aries"},{"$f":"IF(ISBLANK(InfoPro!E150),\"\",InfoPro!E150)","v":175},{"$f":"IF(ISBLANK(InfoPro!F150),\"\",InfoPro!F150)","v":"Solar FV"},{"$f":"IF(ISBLANK(InfoPro!I150),\"\",YEAR(InfoPro!I150)-$G$3)","v":3},{"$f":"IF(B156=\"\",\"\",VLOOKUP(D156,Tablas!$B$2:$E$13,2,FALSE))","v":0.26},{"$f":"IF(B156=\"\",\"\",VLOOKUP(D156,Tablas!$B$2:$H$13,7,FALSE))","v":83577.200000000012},398580,30941329307.24049,27675607609.338543,24754568523.558628,22141832310.87534,19804858954.271324,17714542892.908161,15844850530.329304,14172496002.083456,12676651164.654259,11338686193.787352,10141937561.527147,9071500502.2604198,8114043383.0594101,7257641666.4216528,6491629397.5148964,238142175999.83044,1360812.4342847455]
[{"$f":"IF(ISBLANK(InfoPro!A151),\"\",InfoPro!A151)","v":"SC_2031\n_A1"},{"$f":"IF(ISBLANK(InfoPro!B151),\"\",InfoPro!B151)","v":"PSF Cispata_70MW"},{"$f":"IF(ISBLANK(InfoPro!E151),\"\",InfoPro!E151)","v":70},{"$f":"IF(ISBLANK(InfoPro!F151),\"\",InfoPro!F151)","v":"Solar FV"},{"$f":"IF(ISBLANK(InfoPro!I151),\"\",YEAR(InfoPro!I151)-$G$3)","v":3},{"$f":"IF(B157=\"\",\"\",VLOOKUP(D157,Tablas!$B$2:$E$13,2,FALSE))","v":0.26},{"$f":"IF(B157=\"\",\"\",VLOOKUP(D157,Tablas!$B$2:$H$13,7,FALSE))","v":83577.200000000012},159431.99999999997,12376531722.896194,11070243043.735416,9901827409.4234505,8856732924.3501339,7921943581.7085276,7085817157.1632633,6337940212.1317215,5668998400.8333817,5070660465.8617029,4535474477.5149393,4056775024.610858,3628600200.9041677,3245617353.2237635,2903056666.5686612,2596651759.0059581,95256870399.932159,1360812.4342847452]
[{"$f":"IF(ISBLANK(InfoPro!A152),\"\",InfoPro!A152)","v":"SC_2136_A1"},{"$f":"IF(ISBLANK(InfoPro!B152),\"\",InfoPro!B152)","v":"Yaguarundi Solar II 40 MW"},{"$f":"IF(ISBLANK(InfoPro!E152),\"\",InfoPro!E152)","v":40},{"$f":"IF(ISBLANK(InfoPro!F152),\"\",InfoPro!F152)","v":"Solar FV"},{"$f":"IF(ISBLANK(InfoPro!I152),\"\",YEAR(InfoPro!I152)-$G$3)","v":3},{"$f":"IF(B158=\"\",\"\",VLOOKUP(D158,Tablas!$B$2:$E$13,2,FALSE))","v":0.26},{"$f":"IF(B158=\"\",\"\",VLOOKUP(D158,Tablas!$B$2:$H$13,7,FALSE))","v":83577.200000000012},91104.000000000015,7072303841.6549711,6325853167.8488111,5658187091.0991154,5060990242.4857922,4526824903.8334465,4049038375.5218658,3621680121.2181273,3239427657.6190763,2897520266.2066879,2591699701.437109,2318157156.9204912,2073485829.0880964,1854638487.556437,1658889523.7535212,1483801005.1462622,54432497371.389824,1360812.4342847455]
[{"$f":"IF(ISBLANK(InfoPro!A153),\"\",InfoPro!A153)","v":"SC_2136_A2"},{"$f":"IF(ISBLANK(InfoPro!B153),\"\",InfoPro!B153)","v":"Yaguarundi Solar II 40 MW"},{"$f":"IF(ISBLANK(InfoPro!E153),\"\",InfoPro!E153)","v":40},{"$f":"IF(ISBLANK(InfoPro!F153),\"\",InfoPro!F153)","v":"Solar FV"},{"$f":"IF(ISBLANK(InfoPro!I153),\"\",YEAR(InfoPro!I153)-$G$3)","v":3},{"$f":"IF(B159=\"\",\"\",VLOOKUP(D159,Tablas!$B$2:$E$13,2,FALSE))","v":0.26},{"$f":"IF(B159=\"\",\"\",VLOOKUP(D159,Tablas!$B$2:$H$13,7,FALSE))","v":83577.200000000012},91104.000000000015,7072303841.6549711,6325853167.8488111,5658187091.0991154,5060990242.4857922,4526824903.8334465,4049038375.5218658,3621680121.2181273,3239427657.6190763,2897520266.2066879,2591699701.437109,2318157156.9204912,2073485829.0880964,1854638487.556437,1658889523.7535212,1483801005.1462622,54432497371.389824,1360812.4342847455]
[{"$f":"IF(ISBLANK(InfoPro!A154),\"\",InfoPro!A154)","v":"SC_2180_A1"},{"$f":"IF(ISBLANK(InfoPro!B154),\"\",InfoPro!B154)","v":"Yaguarundi Solar III 40 MW"},{"$f":"IF(ISBLANK(InfoPro!E154),\"\",InfoPro!E154)","v":40},{"$f":"IF(ISBLANK(InfoPro!F154),\"\",InfoPro!F154)","v":"Solar FV"},{"$f":"IF(ISBLANK(InfoPro!I154),\"\",YEAR(InfoPro!I154)-$G$3)","v":3},{"$f":"IF(B160=\"\",\"\",VLOOKUP(D160,Tablas!$B$2:$E$13,2,FALSE))","v":0.26},{"$f":"IF(B160=\"\",\"\",VLOOKUP(D160,Tablas!$B$2:$H$13,7,FALSE))","v":83577.200000000012},91104.000000000015,7072303841.6549711,6325853167.8488111,5658187091.0991154,5060990242.4857922,4526824903.8334465,4049038375.5218658,3621680121.2181273,3239427657.6190763,2897520266.2066879,2591699701.437109,2318157156.9204912,2073485829.0880964,1854638487.556437,1658889523.7535212,1483801005.1462622,54432497371.389824,1360812.4342847455]
[{"$f":"IF(ISBLANK(InfoPro!A155),\"\",InfoPro!A155)","v":"SC_2180_A2"},{"$f":"IF(ISBLANK(InfoPro!B155),\"\",InfoPro!B155)","v":"Yaguarundi Solar III 40 MW"},{"$f":"IF(ISBLANK(InfoPro!E155),\"\",InfoPro!E155)","v":40},{"$f":"IF(ISBLANK(InfoPro!F155),\"\",InfoPro!F155)","v":"Solar FV"},{"$f":"IF(ISBLANK(InfoPro!I155),\"\",YEAR(InfoPro!I155)-$G$3)","v":3},{"$f":"IF(B161=\"\",\"\",VLOOKUP(D161,Tablas!$B$2:$E$13,2,FALSE))","v":0.26},{"$f":"IF(B161=\"\",\"\",VLOOKUP(D161,Tablas!$B$2:$H$13,7,FALSE))","v":83577.200000000012},91104.000000000015,7072303841.6549711,6325853167.8488111,5658187091.0991154,5060990242.4857922,4526824903.8334465,4049038375.5218658,3621680121.2181273,3239427657.6190763,2897520266.2066879,2591699701.437109,2318157156.9204912,2073485829.0880964,1854638487.556437,1658889523.7535212,1483801005.1462622,54432497371.389824,1360812.4342847455]
[{"$f":"IF(ISBLANK(InfoPro!A156),\"\",InfoPro!A156)","v":"SC_2185_A1"},{"$f":"IF(ISBLANK(InfoPro!B156),\"\",InfoPro!B156)","v":"Yaguarundi Solar IV 40 MW"},{"$f":"IF(ISBLANK(InfoPro!E156),\"\",InfoPro!E156)","v":40},{"$f":"IF(ISBLANK(InfoPro!F156),\"\",InfoPro!F156)","v":"Solar FV"},{"$f":"IF(ISBLANK(InfoPro!I156),\"\",YEAR(InfoPro!I156)-$G$3)","v":3},{"$f":"IF(B162=\"\",\"\",VLOOKUP(D162,Tablas!$B$2:$E$13,2,FALSE))","v":0.26},{"$f":"IF(B162=\"\",\"\",VLOOKUP(D162,Tablas!$B$2:$H$13,7,FALSE))","v":83577.200000000012},91104.000000000015,7072303841.6549711,6325853167.8488111,5658187091.0991154,5060990242.4857922,4526824903.8334465,4049038375.5218658,3621680121.2181273,3239427657.6190763,2897520266.2066879,2591699701.437109,2318157156.9204912,2073485829.0880964,1854638487.556437,1658889523.7535212,1483801005.1462622,54432497371.389824,1360812.4342847455]
[{"$f":"IF(ISBLANK(InfoPro!A157),\"\",InfoPro!A157)","v":"SC_2185_A2"},{"$f":"IF(ISBLANK(InfoPro!B157),\"\",InfoPro!B157)","v":"Yaguarundi Solar IV 40 MW"},{"$f":"IF(ISBLANK(InfoPro!E157),\"\",InfoPro!E157)","v":40},{"$f":"IF(ISBLANK(InfoPro!F157),\"\",InfoPro!F157)","v":"Solar FV"},{"$f":"IF(ISBLANK(InfoPro!I157),\"\",YEAR(InfoPro!I157)-$G$3)","v":3},{"$f":"IF(B163=\"\",\"\",VLOOKUP(D163,Tablas!$B$2:$E$13,2,FALSE))","v":0.26},{"$f":"IF(B163=\"\",\"\",VLOOKUP(D163,Tablas!$B$2:$H$13,7,FALSE))","v":83577.200000000012},91104.000000000015,7072303841.6549711,6325853167.8488111,5658187091.0991154,5060990242.4857922,4526824903.8334465,4049038375.5218658,3621680121.2181273,3239427657.6190763,2897520266.2066879,2591699701.437109,2318157156.9204912,2073485829.0880964,1854638487.556437,1658889523.7535212,1483801005.1462622,54432497371.389824,1360812.4342847455]
[{"$f":"IF(ISBLANK(InfoPro!A158),\"\",InfoPro!A158)","v":"SC_1926_A1"},{"$f":"IF(ISBLANK(InfoPro!B158),\"\",InfoPro!B158)","v":"Bongos I 9.90 MW"},{"$f":"IF(ISBLANK(InfoPro!E158),\"\",InfoPro!E158)","v":9.9},{"$f":"IF(ISBLANK(InfoPro!F158),\"\",InfoPro!F158)","v":"Solar FV"},{"$f":"IF(ISBLANK(InfoPro!I158),\"\",YEAR(InfoPro!I158)-$G$3)","v":1},{"$f":"IF(B164=\"\",\"\",VLOOKUP(D164,Tablas!$B$2:$E$13,2,FALSE))","v":0.26},{"$f":"IF(B164=\"\",\"\",VLOOKUP(D164,Tablas!$B$2:$H$13,7,FALSE))","v":83577.200000000012},22548.240000000005,{"$f":"IF($H164=\"\",\"\",(1/(1+$C$3)^(I$6+$E164))*$H164*($C$2 - $G164))","v":2187860970.9767447},1956941834.5051382,1750395200.8096051,1565648659.0425808,1400401305.0470314,1252595085.0152338,1120389163.6987782,1002136997.9416621,896365830.00148666,801758345.26072145,717136265.88615525,641445676.10568452,573743896.33782172,513187742.69930387,459023025.67021811,16839029998.998165,1700912.1211109257]
[{"$f":"IF(ISBLANK(InfoPro!A159),\"\",InfoPro!A159)","v":"SC_1926_A2"},{"$f":"IF(ISBLANK(InfoPro!B159),\"\",InfoPro!B159)","v":"Bongos I 9.90 MW"},{"$f":"IF(ISBLANK(InfoPro!E159),\"\",InfoPro!E159)","v":9.9},{"$f":"IF(ISBLANK(InfoPro!F159),\"\",InfoPro!F159)","v":"Solar FV"},{"$f":"IF(ISBLANK(InfoPro!I159),\"\",YEAR(InfoPro!I159)-$G$3)","v":1},{"$f":"IF(B165=\"\",\"\",VLOOKUP(D165,Tablas!$B$2:$E$13,2,FALSE))","v":0.26},{"$f":"IF(B165=\"\",\"\",VLOOKUP(D165,Tablas!$B$2:$H$13,7,FALSE))","v":83577.200000000012},22548.240000000005,2187860970.9767447,1956941834.5051382,1750395200.8096051,1565648659.0425808,1400401305.0470314,1252595085.0152338,1120389163.6987782,1002136997.9416621,896365830.00148666,801758345.26072145,717136265.88615525,641445676.10568452,573743896.33782172,513187742.69930387,459023025.67021811,16839029998.998165,1700912.1211109257]
[{"$f":"IF(ISBLANK(InfoPro!A160),\"\",InfoPro!A160)","v":"SC_1825_A1"},{"$f":"IF(ISBLANK(InfoPro!B160),\"\",InfoPro!B160)","v":"PROYECTO DE GENERACIÓN ELÉCTRICA EL JOBO_200MW"},{"$f":"IF(ISBLANK(InfoPro!E160),\"\",InfoPro!E160)","v":200},{"$f":"IF(ISBLANK(InfoPro!F160),\"\",InfoPro!F160)","v":"Termica a vapor"},{"$f":"IF(ISBLANK(InfoPro!I160),\"\",YEAR(InfoPro!I160)-$G$3)","v":3},{"$f":"IF(B166=\"\",\"\",VLOOKUP(D166,Tablas!$B$2:$E$13,2,FALSE))","v":0.85},{"$f":"IF(B166=\"\",\"\",VLOOKUP(D166,Tablas!$B$2:$H$13,7,FALSE))","v":267152.5},1489200,-80027920151.928085,-71581323928.379333,-64026228916.260582,-57268541070.000526,-51224097558.140015,-45817618567.209312,-40981769738.112091,-36656323558.239792,-32787409264.972992,-29326841918.58049,-26231522288.533535,-23462900079.189213,-20986493809.650459,-18771461368.202553,-16790215892.846653,-615940668110.24561,-3079703.3405512278]
[{"$f":"IF(ISBLANK(InfoPro!A161),\"\",InfoPro!A161)","v":"SC_1897_A1"},{"$f":"IF(ISBLANK(InfoPro!B161),\"\",InfoPro!B161)","v":"La Florecita 90 MW"},{"$f":"IF(ISBLANK(InfoPro!E161),\"\",InfoPro!E161)","v":90},{"$f":"IF(ISBLANK(InfoPro!F161),\"\",InfoPro!F161)","v":"Solar FV"},{"$f":"IF(ISBLANK(InfoPro!I161),\"\",YEAR(InfoPro!I161)-$G$3)","v":3},{"$f":"IF(B167=\"\",\"\",VLOOKUP(D167,Tablas!$B$2:$E$13,2,FALSE))","v":0.26},{"$f":"IF(B167=\"\",\"\",VLOOKUP(D167,Tablas!$B$2:$H$13,7,FALSE))","v":83577.200000000012},204984,15912683643.72368,14233169627.659822,12730920954.973009,11387228045.593031,10185356033.625252,9110336344.9241962,8148780272.7407846,7288712229.6429205,6519420598.9650469,5831324328.2334948,5215853603.071104,4665343115.4482155,4172936597.0019822,3732501428.4454217,3338552261.5790896,122473119085.62703,1360812.4342847448]
[{"$f":"IF(ISBLANK(InfoPro!A162),\"\",InfoPro!A162)","v":"SC_1897_A2"},{"$f":"IF(ISBLANK(InfoPro!B162),\"\",InfoPro!B162)","v":"La Florecita 90 MW"},{"$f":"IF(ISBLANK(InfoPro!E162),\"\",InfoPro!E162)","v":90},{"$f":"IF(ISBLANK(InfoPro!F162),\"\",InfoPro!F162)","v":"Solar FV"},{"$f":"IF(ISBLANK(InfoPro!I162),\"\",YEAR(InfoPro!I162)-$G$3)","v":3},{"$f":"IF(B168=\"\",\"\",VLOOKUP(D168,Tablas!$B$2:$E$13,2,FALSE))","v":0.26},{"$f":"IF(B168=\"\",\"\",VLOOKUP(D168,Tablas!$B$2:$H$13,7,FALSE))","v":83577.200000000012},204984,15912683643.72368,14233169627.659822,12730920954.973009,11387228045.593031,10185356033.625252,9110336344.9241962,8148780272.7407846,7288712229.6429205,6519420598.9650469,5831324328.2334948,5215853603.071104,4665343115.4482155,4172936597.0019822,3732501428.4454217,3338552261.5790896,122473119085.62703,1360812.4342847448]
[{"$f":"IF(ISBLANK(InfoPro!A163),\"\",InfoPro!A163)","v":"SC_2014_A1"},{"$f":"IF(ISBLANK(InfoPro!B163),\"\",InfoPro!B163)","v":"Lotería 2"},{"$f":"IF(ISBLANK(InfoPro!E163),\"\",InfoPro!E163)","v":9.9},{"$f":"IF(ISBLANK(InfoPro!F163),\"\",InfoPro!F163)","v":"Solar FV"},{"$f":"IF(ISBLANK(InfoPro!I163),\"\",YEAR(InfoPro!I163)-$G$3)","v":1},{"$f":"IF(B169=\"\",\"\",VLOOKUP(D169,Tablas!$B$2:$E$13,2,FALSE))","v":0.26},{"$f":"IF(B169=\"\",\"\",VLOOKUP(D169,Tablas!$B$2:$H$13,7,FALSE))","v":83577.200000000012},22548.240000000005,2187860970.9767447,1956941834.5051382,1750395200.8096051,1565648659.0425808,1400401305.0470314,1252595085.0152338,1120389163.6987782,1002136997.9416621,896365830.00148666,801758345.26072145,717136265.88615525,641445676.10568452,573743896.33782172,513187742.69930387,459023025.67021811,16839029998.998165,1700912.1211109257]
[{"$f":"IF(ISBLANK(InfoPro!A164),\"\",InfoPro!A164)","v":"SC_2014_A2"},{"$f":"IF(ISBLANK(InfoPro!B164),\"\",InfoPro!B164)","v":"Lotería 2"},{"$f":"IF(ISBLANK(InfoPro!E164),\"\",InfoPro!E164)","v":9.9},{"$f":"IF(ISBLANK(InfoPro!F164),\"\",InfoPro!F164)","v":"Solar FV"},{"$f":"IF(ISBLANK(InfoPro!I164),\"\",YEAR(InfoPro!I164)-$G$3)","v":1},{"$f":"IF(B170=\"\",\"\",VLOOKUP(D170,Tablas!$B$2:$E$13,2,FALSE))","v":0.26},{"$f":"IF(B170=\"\",\"\",VLOOKUP(D170,Tablas!$B$2:$H$13,7,FALSE))","v":83577.200000000012},22548.240000000005,2187860970.9767447,1956941834.5051382,1750395200.8096051,1565648659.0425808,1400401305.0470314,1252595085.0152338,1120389163.6987782,1002136997.9416621,896365830.00148666,801758345.26072145,717136265.88615525,641445676.10568452,573743896.33782172,513187742.69930387,459023025.67021811,16839029998.998165,1700912.1211109257]
[{"$f":"IF(ISBLANK(InfoPro!A165),\"\",InfoPro!A165)","v":"SC_2017_A1"},{"$f":"IF(ISBLANK(InfoPro!B165),\"\",InfoPro!B165)","v":"LOTERÍA 1"},{"$f":"IF(ISBLANK(InfoPro!E165),\"\",InfoPro!E165)","v":9.9},{"$f":"IF(ISBLANK(InfoPro!F165),\"\",InfoPro!F165)","v":"Solar FV"},{"$f":"IF(ISBLANK(InfoPro!I165),\"\",YEAR(InfoPro!I165)-$G$3)","v":1},{"$f":"IF(B171=\"\",\"\",VLOOKUP(D171,Tablas!$B$2:$E$13,2,FALSE))","v":0.26},{"$f":"IF(B171=\"\",\"\",VLOOKUP(D171,Tablas!$B$2:$H$13,7,FALSE))","v":83577.200000000012},22548.240000000005,2187860970.9767447,1956941834.5051382,1750395200.8096051,1565648659.0425808,1400401305.0470314,1252595085.0152338,1120389163.6987782,1002136997.9416621,896365830.00148666,801758345.26072145,717136265.88615525,641445676.10568452,573743896.33782172,513187742.69930387,459023025.67021811,16839029998.998165,1700912.1211109257]
[{"$f":"IF(ISBLANK(InfoPro!A166),\"\",InfoPro!A166)","v":"SC_2017_A2"},{"$f":"IF(ISBLANK(InfoPro!B166),\"\",InfoPro!B166)","v":"LOTERÍA 1"},{"$f":"IF(ISBLANK(InfoPro!E166),\"\",InfoPro!E166)","v":9.9},{"$f":"IF(ISBLANK(InfoPro!F166),\"\",InfoPro!F166)","v":"Solar FV"},{"$f":"IF(ISBLANK(InfoPro!I166),\"\",YEAR(InfoPro!I166)-$G$3)","v":1},{"$f":"IF(B172=\"\",\"\",VLOOKUP(D172,Tablas!$B$2:$E$13,2,FALSE))","v":0.26},{"$f":"IF(B172=\"\",\"\",VLOOKUP(D172,Tablas!$B$2:$H$13,7,FALSE))","v":83577.200000000012},22548.240000000005,2187860970.9767447,1956941834.5051382,1750395200.8096051,1565648659.0425808,1400401305.0470314,1252595085.0152338,1120389163.6987782,1002136997.9416621,896365830.00148666,801758345.26072145,717136265.88615525,641445676.10568452,573743896.33782172,513187742.69930387,459023025.67021811,16839029998.998165,1700912.1211109257]
[{"$f":"IF(ISBLANK(InfoPro!A167),\"\",InfoPro!A167)","v":"SC_2165_A1"},{"$f":"IF(ISBLANK(InfoPro!B167),\"\",InfoPro!B167)","v":"Autogeneración Solar Fotovoltaica 9.9 MW (entrega de excedentes de 0)"},{"$f":"IF(ISBLANK(InfoPro!E167),\"\",InfoPro!E167)","v":0},{"$f":"IF(ISBLANK(InfoPro!F167),\"\",InfoPro!F167)","v":"Solar FV"},{"$f":"IF(ISBLANK(InfoPro!I167),\"\",YEAR(InfoPro!I167)-$G$3)","v":0},{"$f":"IF(B173=\"\",\"\",VLOOKUP(D173,Tablas!$B$2:$E$13,2,FALSE))","v":0.26},{"$f":"IF(B173=\"\",\"\",VLOOKUP(D173,Tablas!$B$2:$H$13,7,FALSE))","v":83577.200000000012},0,0,0,0,0,0,0,0,0,0,0,0,0,0,0,0,0,0]
[{"$f":"IF(ISBLANK(InfoPro!A168),\"\",InfoPro!A168)","v":"SC_1820\n_A1"},{"$f":"IF(ISBLANK(InfoPro!B168),\"\",InfoPro!B168)","v":"NAIOT"},{"$f":"IF(ISBLANK(InfoPro!E168),\"\",InfoPro!E168)","v":19.899999999999999},{"$f":"IF(ISBLANK(InfoPro!F168),\"\",InfoPro!F168)","v":"Solar FV"},{"$f":"IF(ISBLANK(InfoPro!I168),\"\",YEAR(InfoPro!I168)-$G$3)","v":1},{"$f":"IF(B174=\"\",\"\",VLOOKUP(D174,Tablas!$B$2:$E$13,2,FALSE))","v":0.26},{"$f":"IF(B174=\"\",\"\",VLOOKUP(D174,Tablas!$B$2:$H$13,7,FALSE))","v":83577.200000000012},45324.24,4397821547.7209301,3933650758.2477012,3518471161.2233467,3147111951.0047827,2814948077.8218098,2517842645.6366811,2252095389.6571388,2014396591.8221281,1801785860.3060181,1611615259.6654902,1441516332.4378271,1289370601.4649615,1153283185.5679443,1031559199.9713277,922682647.55932713,33848151210.107414,1700912.1211109255]
[{"$f":"IF(ISBLANK(InfoPro!A169),\"\",InfoPro!A169)","v":"SC_1820\n_A2"},{"$f":"IF(ISBLANK(InfoPro!B169),\"\",InfoPro!B169)","v":"NAIOT"},{"$f":"IF(ISBLANK(InfoPro!E169),\"\",InfoPro!E169)","v":19.899999999999999},{"$f":"IF(ISBLANK(InfoPro!F169),\"\",InfoPro!F169)","v":"Solar FV"},{"$f":"IF(ISBLANK(InfoPro!I169),\"\",YEAR(InfoPro!I169)-$G$3)","v":1},{"$f":"IF(B175=\"\",\"\",VLOOKUP(D175,Tablas!$B$2:$E$13,2,FALSE))","v":0.26},{"$f":"IF(B175=\"\",\"\",VLOOKUP(D175,Tablas!$B$2:$H$13,7,FALSE))","v":83577.200000000012},45324.24,4397821547.7209301,3933650758.2477012,3518471161.2233467,3147111951.0047827,2814948077.8218098,2517842645.6366811,2252095389.6571388,2014396591.8221281,1801785860.3060181,1611615259.6654902,1441516332.4378271,1289370601.4649615,1153283185.5679443,1031559199.9713277,922682647.55932713,33848151210.107414,1700912.1211109255]
[{"$f":"IF(ISBLANK(InfoPro!A170),\"\",InfoPro!A170)","v":"SC_2325_A1"},{"$f":"IF(ISBLANK(InfoPro!B170),\"\",InfoPro!B170)","v":"PROYECTO FOTOVOLTAICO MONTERROSO DE 99,9 MW"},{"$f":"IF(ISBLANK(InfoPro!E170),\"\",InfoPro!E170)","v":99.9},{"$f":"IF(ISBLANK(InfoPro!F170),\"\",InfoPro!F170)","v":"Solar FV"},{"$f":"IF(ISBLANK(InfoPro!I170),\"\",YEAR(InfoPro!I170)-$G$3)","v":3},{"$f":"IF(B176=\"\",\"\",VLOOKUP(D176,Tablas!$B$2:$E$13,2,FALSE))","v":0.26},{"$f":"IF(B176=\"\",\"\",VLOOKUP(D176,Tablas!$B$2:$H$13,7,FALSE))","v":83577.200000000012},227532.24000000002,17663078844.533287,15798818286.702406,14131322260.020041,12639823130.608265,11305745197.324032,10112473342.86586,9045146102.7422714,8090470574.9036427,7236556864.851203,6472770004.33918,5789597499.408927,5178530858.1475201,4631959622.6722012,4143076585.574419,3705793010.3527899,135945162185.04604,1360812.434284745]
[{"$f":"IF(ISBLANK(InfoPro!A171),\"\",InfoPro!A171)","v":"SC_2325_A2"},{"$f":"IF(ISBLANK(InfoPro!B171),\"\",InfoPro!B171)","v":"PROYECTO FOTOVOLTAICO MONTERROSO DE 99,9 MW"},{"$f":"IF(ISBLANK(InfoPro!E171),\"\",InfoPro!E171)","v":99.9},{"$f":"IF(ISBLANK(InfoPro!F171),\"\",InfoPro!F171)","v":"Solar FV"},{"$f":"IF(ISBLANK(InfoPro!I171),\"\",YEAR(InfoPro!I171)-$G$3)","v":3},{"$f":"IF(B177=\"\",\"\",VLOOKUP(D177,Tablas!$B$2:$E$13,2,FALSE))","v":0.26},{"$f":"IF(B177=\"\",\"\",VLOOKUP(D177,Tablas!$B$2:$H$13,7,FALSE))","v":83577.200000000012},227532.24000000002,17663078844.533287,15798818286.702406,14131322260.020041,12639823130.608265,11305745197.324032,10112473342.86586,9045146102.7422714,8090470574.9036427,7236556864.851203,6472770004.33918,5789597499.408927,5178530858.1475201,4631959622.6722012,4143076585.574419,3705793010.3527899,135945162185.04604,1360812.434284745]
[{"$f":"IF(ISBLANK(InfoPro!A172),\"\",InfoPro!A172)","v":""},{"$f":"IF(ISBLANK(InfoPro!B172),\"\",InfoPro!B172)","v":""},{"$f":"IF(ISBLANK(InfoPro!E172),\"\",InfoPro!E172)","v":""},{"$f":"IF(ISBLANK(InfoPro!F172),\"\",InfoPro!F172)","v":""},{"$f":"IF(ISBLANK(InfoPro!I172),\"\",YEAR(InfoPro!I172)-$G$3)","v":""},{"$f":"IF(B178=\"\",\"\",VLOOKUP(D178,Tablas!$B$2:$E$13,2,FALSE))","v":""},{"$f":"IF(B178=\"\",\"\",VLOOKUP(D178,Tablas!$B$2:$H$13,7,FALSE))","v":""},"",{"$f":"IF($H178=\"\",\"\",(1/(1+$C$3)^(I$6+$E178))*$H178*($C$2 - $G178))","v":""},"","","","","","","","","","","","","","","",""]
[{"$f":"IF(ISBLANK(InfoPro!A173),\"\",InfoPro!A173)","v":""},{"$f":"IF(ISBLANK(InfoPro!B173),\"\",InfoPro!B173)","v":""},{"$f":"IF(ISBLANK(InfoPro!E173),\"\",InfoPro!E173)","v":""},{"$f":"IF(ISBLANK(InfoPro!F173),\"\",InfoPro!F173)","v":""},{"$f":"IF(ISBLANK(InfoPro!I173),\"\",YEAR(InfoPro!I173)-$G$3)","v":""},{"$f":"IF(B179=\"\",\"\",VLOOKUP(D179,Tablas!$B$2:$E$13,2,FALSE))","v":""},{"$f":"IF(B179=\"\",\"\",VLOOKUP(D179,Tablas!$B$2:$H$13,7,FALSE))","v":""},"","","","","","","","","","","","","","","","","",""]
[{"$f":"IF(ISBLANK(InfoPro!A174),\"\",InfoPro!A174)","v":""},{"$f":"IF(ISBLANK(InfoPro!B174),\"\",InfoPro!B174)","v":""},{"$f":"IF(ISBLANK(InfoPro!E174),\"\",InfoPro!E174)","v":""},{"$f":"IF(ISBLANK(InfoPro!F174),\"\",InfoPro!F174)","v":""},{"$f":"IF(ISBLANK(InfoPro!I174),\"\",YEAR(InfoPro!I174)-$G$3)","v":""},{"$f":"IF(B180=\"\",\"\",VLOOKUP(D180,Tablas!$B$2:$E$13,2,FALSE))","v":""},{"$f":"IF(B180=\"\",\"\",VLOOKUP(D180,Tablas!$B$2:$H$13,7,FALSE))","v":""},"","","","","","","","","","","","","","","","","",""]
[{"$f":"IF(ISBLANK(InfoPro!A175),\"\",InfoPro!A175)","v":""},{"$f":"IF(ISBLANK(InfoPro!B175),\"\",InfoPro!B175)","v":""},{"$f":"IF(ISBLANK(InfoPro!E175),\"\",InfoPro!E175)","v":""},{"$f":"IF(ISBLANK(InfoPro!F175),\"\",InfoPro!F175)","v":""},{"$f":"IF(ISBLANK(InfoPro!I175),\"\",YEAR(InfoPro!I175)-$G$3)","v":""},{"$f":"IF(B181=\"\",\"\",VLOOKUP(D181,Tablas!$B$2:$E$13,2,FALSE))","v":""},{"$f":"IF(B181=\"\",\"\",VLOOKUP(D181,Tablas!$B$2:$H$13,7,FALSE))","v":""},"","","","","","","","","","","","","","","","","",""]
[{"$f":"IF(ISBLANK(InfoPro!A176),\"\",InfoPro!A176)","v":""},{"$f":"IF(ISBLANK(InfoPro!B176),\"\",InfoPro!B176)","v":""},{"$f":"IF(ISBLANK(InfoPro!E176),\"\",InfoPro!E176)","v":""},{"$f":"IF(ISBLANK(InfoPro!F176),\"\",InfoPro!F176)","v":""},{"$f":"IF(ISBLANK(InfoPro!I176),\"\",YEAR(InfoPro!I176)-$G$3)","v":""},{"$f":"IF(B182=\"\",\"\",VLOOKUP(D182,Tablas!$B$2:$E$13,2,FALSE))","v":""},{"$f":"IF(B182=\"\",\"\",VLOOKUP(D182,Tablas!$B$2:$H$13,7,FALSE))","v":""},"","","","","","","","","","","","","","","","","",""]

{"sheet":"EC-Mar2","index":8,"n_rows":118,"n_cols":8,"rows_kept":118,"cut":false,"hidden":true,"merged":[]}
[]
[null,"Precio promedio de bolsa",162532,"$/MWh"]
[null,"Tasa de descuento",0.11799999999999999]
[null,"Costo emisiones Ton",80.2,"USD/Ton"]
[null,"TRM",3600]
[]
["Codigo","Nombre","capacidad","Tipo","Costos de conexión/activos de uso - SIN","VPN","Beneficio - Costo","(Beneficio - Costo)/kW"]
[{"$f":"IF(ISBLANK(InfoPro!A2),\"\",InfoPro!A2)","v":"SC_44_A1"},{"$f":"IF(ISBLANK(InfoPro!B2),\"\",InfoPro!B2)","v":"El Floral 1"},{"$f":"IF(ISBLANK(InfoPro!E2),\"\",InfoPro!E2)","v":19.899999999999999},{"$f":"IF(ISBLANK(InfoPro!F2),\"\",InfoPro!F2)","v":"Solar FV"},{"$f":"IF(ISBLANK(InfoPro!#REF!),\"\",InfoPro!#REF!)","v":{"$error":"#REF!"}},{"$f":"IF(ISBLANK(InfoPro!O2),\"\",InfoPro!O2)","v":0},{"$f":"IF(F8=\"\",\"\",F8-E8)","v":{"$error":"#REF!"}},{"$f":"IF(G8=\"\",\"\",G8/(C8*1000))","v":{"$error":"#REF!"}}]
[{"$f":"IF(ISBLANK(InfoPro!#REF!),\"\",InfoPro!#REF!)","v":{"$error":"#REF!"}},{"$f":"IF(ISBLANK(InfoPro!#REF!),\"\",InfoPro!#REF!)","v":{"$error":"#REF!"}},{"$f":"IF(ISBLANK(InfoPro!#REF!),\"\",InfoPro!#REF!)","v":{"$error":"#REF!"}},{"$f":"IF(ISBLANK(InfoPro!#REF!),\"\",InfoPro!#REF!)","v":{"$error":"#REF!"}},{"$f":"IF(ISBLANK(InfoPro!#REF!),\"\",InfoPro!#REF!)","v":{"$error":"#REF!"}},{"$f":"IF(ISBLANK(InfoPro!#REF!),\"\",InfoPro!#REF!)","v":{"$error":"#REF!"}},{"$f":"IF(F9=\"\",\"\",F9-E9)","v":{"$error":"#REF!"}},{"$f":"IF(G9=\"\",\"\",G9/(C9*1000))","v":{"$error":"#REF!"}}]
[{"$f":"IF(ISBLANK(InfoPro!#REF!),\"\",InfoPro!#REF!)","v":{"$error":"#REF!"}},{"$f":"IF(ISBLANK(InfoPro!#REF!),\"\",InfoPro!#REF!)","v":{"$error":"#REF!"}},{"$f":"IF(ISBLANK(InfoPro!#REF!),\"\",InfoPro!#REF!)","v":{"$error":"#REF!"}},{"$f":"IF(ISBLANK(InfoPro!#REF!),\"\",InfoPro!#REF!)","v":{"$error":"#REF!"}},{"$f":"IF(ISBLANK(InfoPro!#REF!),\"\",InfoPro!#REF!)","v":{"$error":"#REF!"}},{"$f":"IF(ISBLANK(InfoPro!#REF!),\"\",InfoPro!#REF!)","v":{"$error":"#REF!"}},{"$error":"#REF!"},{"$error":"#REF!"}]
[{"$f":"IF(ISBLANK(InfoPro!A3),\"\",InfoPro!A3)","v":"SC_47_A1"},{"$f":"IF(ISBLANK(InfoPro!B3),\"\",InfoPro!B3)","v":"El Floral II - 19.9 MW"},{"$f":"IF(ISBLANK(InfoPro!E3),\"\",InfoPro!E3)","v":19.899999999999999},{"$f":"IF(ISBLANK(InfoPro!F3),\"\",InfoPro!F3)","v":"Solar FV"},{"$f":"IF(ISBLANK(InfoPro!#REF!),\"\",InfoPro!#REF!)","v":{"$error":"#REF!"}},{"$f":"IF(ISBLANK(InfoPro!O3),\"\",InfoPro!O3)","v":0},{"$error":"#REF!"},{"$error":"#REF!"}]
[{"$f":"IF(ISBLANK(InfoPro!A4),\"\",InfoPro!A4)","v":"SC_408_A1"},{"$f":"IF(ISBLANK(InfoPro!B4),\"\",InfoPro!B4)","v":"El Jardín 40 MW"},{"$f":"IF(ISBLANK(InfoPro!E4),\"\",InfoPro!E4)","v":40},{"$f":"IF(ISBLANK(InfoPro!F4),\"\",InfoPro!F4)","v":"Solar FV"},{"$f":"IF(ISBLANK(InfoPro!#REF!),\"\",InfoPro!#REF!)","v":{"$error":"#REF!"}},{"$f":"IF(ISBLANK(InfoPro!O4),\"\",InfoPro!O4)","v":0},{"$error":"#REF!"},{"$error":"#REF!"}]
[{"$f":"IF(ISBLANK(InfoPro!A5),\"\",InfoPro!A5)","v":"SC_454_A1"},{"$f":"IF(ISBLANK(InfoPro!B5),\"\",InfoPro!B5)","v":"PARQUE SOLAR SAN RAFAEL - 300 MW"},{"$f":"IF(ISBLANK(InfoPro!E5),\"\",InfoPro!E5)","v":300},{"$f":"IF(ISBLANK(InfoPro!F5),\"\",InfoPro!F5)","v":"Solar FV"},{"$f":"IF(ISBLANK(InfoPro!#REF!),\"\",InfoPro!#REF!)","v":{"$error":"#REF!"}},{"$f":"IF(ISBLANK(InfoPro!O5),\"\",InfoPro!O5)","v":82590000000},{"$error":"#REF!"},{"$error":"#REF!"}]
[{"$f":"IF(ISBLANK(InfoPro!A6),\"\",InfoPro!A6)","v":"SC_454_A2"},{"$f":"IF(ISBLANK(InfoPro!B6),\"\",InfoPro!B6)","v":"PARQUE SOLAR SAN RAFAEL - 300 MW"},{"$f":"IF(ISBLANK(InfoPro!E6),\"\",InfoPro!E6)","v":300},{"$f":"IF(ISBLANK(InfoPro!F6),\"\",InfoPro!F6)","v":"Solar FV"},{"$f":"IF(ISBLANK(InfoPro!#REF!),\"\",InfoPro!#REF!)","v":{"$error":"#REF!"}},{"$f":"IF(ISBLANK(InfoPro!O6),\"\",InfoPro!O6)","v":0},{"$error":"#REF!"},{"$error":"#REF!"}]
[{"$f":"IF(ISBLANK(InfoPro!A7),\"\",InfoPro!A7)","v":"SC_483_A1"},{"$f":"IF(ISBLANK(InfoPro!B7),\"\",InfoPro!B7)","v":"PARQUE SOLAR LOMAS 39.9 MW"},{"$f":"IF(ISBLANK(InfoPro!E7),\"\",InfoPro!E7)","v":39.9},{"$f":"IF(ISBLANK(InfoPro!F7),\"\",InfoPro!F7)","v":"Solar FV"},{"$f":"IF(ISBLANK(InfoPro!#REF!),\"\",InfoPro!#REF!)","v":{"$error":"#REF!"}},{"$f":"IF(ISBLANK(InfoPro!O7),\"\",InfoPro!O7)","v":0},{"$error":"#REF!"},{"$error":"#REF!"}]
[{"$f":"IF(ISBLANK(InfoPro!A8),\"\",InfoPro!A8)","v":"SC_586_A1"},{"$f":"IF(ISBLANK(InfoPro!B8),\"\",InfoPro!B8)","v":"Orquídea del Sucre - Sierra Flor 60 MW"},{"$f":"IF(ISBLANK(InfoPro!E8),\"\",InfoPro!E8)","v":60},{"$f":"IF(ISBLANK(InfoPro!F8),\"\",InfoPro!F8)","v":"Solar FV"},{"$f":"IF(ISBLANK(InfoPro!#REF!),\"\",InfoPro!#REF!)","v":{"$error":"#REF!"}},{"$f":"IF(ISBLANK(InfoPro!O8),\"\",InfoPro!O8)","v":0},{"$error":"#REF!"},{"$error":"#REF!"}]
[{"$f":"IF(ISBLANK(InfoPro!A9),\"\",InfoPro!A9)","v":"SC_586_A2"},{"$f":"IF(ISBLANK(InfoPro!B9),\"\",InfoPro!B9)","v":"Orquídea del Sucre - Sierra Flor 60 MW"},{"$f":"IF(ISBLANK(InfoPro!E9),\"\",InfoPro!E9)","v":60},{"$f":"IF(ISBLANK(InfoPro!F9),\"\",InfoPro!F9)","v":"Solar FV"},{"$f":"IF(ISBLANK(InfoPro!#REF!),\"\",InfoPro!#REF!)","v":{"$error":"#REF!"}},{"$f":"IF(ISBLANK(InfoPro!O9),\"\",InfoPro!O9)","v":0},{"$error":"#REF!"},{"$error":"#REF!"}]
[{"$f":"IF(ISBLANK(InfoPro!A10),\"\",InfoPro!A10)","v":"SC_681_A1"},{"$f":"IF(ISBLANK(InfoPro!B10),\"\",InfoPro!B10)","v":"PARQUE SOLARLAS LAS PALMAS de 90MW"},{"$f":"IF(ISBLANK(InfoPro!E10),\"\",InfoPro!E10)","v":90},{"$f":"IF(ISBLANK(InfoPro!F10),\"\",InfoPro!F10)","v":"Solar FV"},{"$f":"IF(ISBLANK(InfoPro!#REF!),\"\",InfoPro!#REF!)","v":{"$error":"#REF!"}},{"$f":"IF(ISBLANK(InfoPro!O10),\"\",InfoPro!O10)","v":0},{"$error":"#REF!"},{"$error":"#REF!"}]
[{"$f":"IF(ISBLANK(InfoPro!A11),\"\",InfoPro!A11)","v":"SC_681_A2"},{"$f":"IF(ISBLANK(InfoPro!B11),\"\",InfoPro!B11)","v":"PARQUE SOLARLAS LAS PALMAS de 90MW"},{"$f":"IF(ISBLANK(InfoPro!E11),\"\",InfoPro!E11)","v":90},{"$f":"IF(ISBLANK(InfoPro!F11),\"\",InfoPro!F11)","v":"Solar FV"},{"$f":"IF(ISBLANK(InfoPro!#REF!),\"\",InfoPro!#REF!)","v":{"$error":"#REF!"}},{"$f":"IF(ISBLANK(InfoPro!O11),\"\",InfoPro!O11)","v":0},{"$error":"#REF!"},{"$error":"#REF!"}]
[{"$f":"IF(ISBLANK(InfoPro!A12),\"\",InfoPro!A12)","v":"SC_720_A1"},{"$f":"IF(ISBLANK(InfoPro!B12),\"\",InfoPro!B12)","v":"El Jazmín"},{"$f":"IF(ISBLANK(InfoPro!E12),\"\",InfoPro!E12)","v":19.899999999999999},{"$f":"IF(ISBLANK(InfoPro!F12),\"\",InfoPro!F12)","v":"Solar FV"},{"$f":"IF(ISBLANK(InfoPro!#REF!),\"\",InfoPro!#REF!)","v":{"$error":"#REF!"}},{"$f":"IF(ISBLANK(InfoPro!O12),\"\",InfoPro!O12)","v":0},{"$error":"#REF!"},{"$error":"#REF!"}]
[{"$f":"IF(ISBLANK(InfoPro!A13),\"\",InfoPro!A13)","v":"SC_720_A2"},{"$f":"IF(ISBLANK(InfoPro!B13),\"\",InfoPro!B13)","v":"El Jazmín"},{"$f":"IF(ISBLANK(InfoPro!E13),\"\",InfoPro!E13)","v":19.899999999999999},{"$f":"IF(ISBLANK(InfoPro!F13),\"\",InfoPro!F13)","v":"Solar FV"},{"$f":"IF(ISBLANK(InfoPro!#REF!),\"\",InfoPro!#REF!)","v":{"$error":"#REF!"}},{"$f":"IF(ISBLANK(InfoPro!O13),\"\",InfoPro!O13)","v":0},{"$error":"#REF!"},{"$error":"#REF!"}]
[{"$f":"IF(ISBLANK(InfoPro!A14),\"\",InfoPro!A14)","v":"SC_713_A1"},{"$f":"IF(ISBLANK(InfoPro!B14),\"\",InfoPro!B14)","v":"Crucero - 300MW"},{"$f":"IF(ISBLANK(InfoPro!E14),\"\",InfoPro!E14)","v":300},{"$f":"IF(ISBLANK(InfoPro!F14),\"\",InfoPro!F14)","v":"Solar FV"},{"$f":"IF(ISBLANK(InfoPro!O14),\"\",InfoPro!O14)","v":0},{"$f":"IF(ISBLANK(InfoPro!#REF!),\"\",InfoPro!#REF!)","v":{"$error":"#REF!"}},{"$error":"#REF!"},{"$error":"#REF!"}]
[{"$f":"IF(ISBLANK(InfoPro!A15),\"\",InfoPro!A15)","v":"SC_836_A1"},{"$f":"IF(ISBLANK(InfoPro!B15),\"\",InfoPro!B15)","v":"BONGO DEL SINÚ DE 19.9 MW"},{"$f":"IF(ISBLANK(InfoPro!E15),\"\",InfoPro!E15)","v":19.899999999999999},{"$f":"IF(ISBLANK(InfoPro!F15),\"\",InfoPro!F15)","v":"Solar FV"},{"$f":"IF(ISBLANK(InfoPro!O15),\"\",InfoPro!O15)","v":0},{"$f":"IF(ISBLANK(InfoPro!#REF!),\"\",InfoPro!#REF!)","v":{"$error":"#REF!"}},{"$error":"#REF!"},{"$error":"#REF!"}]
[{"$f":"IF(ISBLANK(InfoPro!A16),\"\",InfoPro!A16)","v":"SC_836_A2"},{"$f":"IF(ISBLANK(InfoPro!B16),\"\",InfoPro!B16)","v":"BONGO DEL SINÚ DE 19.9 MW"},{"$f":"IF(ISBLANK(InfoPro!E16),\"\",InfoPro!E16)","v":19.899999999999999},{"$f":"IF(ISBLANK(InfoPro!F16),\"\",InfoPro!F16)","v":"Solar FV"},{"$f":"IF(ISBLANK(InfoPro!O16),\"\",InfoPro!O16)","v":0},{"$f":"IF(ISBLANK(InfoPro!#REF!),\"\",InfoPro!#REF!)","v":{"$error":"#REF!"}},{"$error":"#REF!"},{"$error":"#REF!"}]
[{"$f":"IF(ISBLANK(InfoPro!A17),\"\",InfoPro!A17)","v":"SC_778_A1"},{"$f":"IF(ISBLANK(InfoPro!B17),\"\",InfoPro!B17)","v":"KOS 19.9"},{"$f":"IF(ISBLANK(InfoPro!E17),\"\",InfoPro!E17)","v":19.899999999999999},{"$f":"IF(ISBLANK(InfoPro!F17),\"\",InfoPro!F17)","v":"Solar FV"},{"$f":"IF(ISBLANK(InfoPro!O17),\"\",InfoPro!O17)","v":0},{"$f":"IF(ISBLANK(InfoPro!#REF!),\"\",InfoPro!#REF!)","v":{"$error":"#REF!"}},{"$error":"#REF!"},{"$error":"#REF!"}]
[{"$f":"IF(ISBLANK(InfoPro!A18),\"\",InfoPro!A18)","v":"SC_778_A2"},{"$f":"IF(ISBLANK(InfoPro!B18),\"\",InfoPro!B18)","v":"KOS 19.9"},{"$f":"IF(ISBLANK(InfoPro!E18),\"\",InfoPro!E18)","v":19.899999999999999},{"$f":"IF(ISBLANK(InfoPro!F18),\"\",InfoPro!F18)","v":"Solar FV"},{"$f":"IF(ISBLANK(InfoPro!O18),\"\",InfoPro!O18)","v":0},{"$f":"IF(ISBLANK(InfoPro!#REF!),\"\",InfoPro!#REF!)","v":{"$error":"#REF!"}},{"$error":"#REF!"},{"$error":"#REF!"}]
[{"$f":"IF(ISBLANK(InfoPro!A19),\"\",InfoPro!A19)","v":"SC_942_A1"},{"$f":"IF(ISBLANK(InfoPro!B19),\"\",InfoPro!B19)","v":"PASCUA_60MW"},{"$f":"IF(ISBLANK(InfoPro!E19),\"\",InfoPro!E19)","v":60},{"$f":"IF(ISBLANK(InfoPro!F19),\"\",InfoPro!F19)","v":"Solar FV"},{"$f":"IF(ISBLANK(InfoPro!O19),\"\",InfoPro!O19)","v":0},{"$f":"IF(ISBLANK(InfoPro!#REF!),\"\",InfoPro!#REF!)","v":{"$error":"#REF!"}},{"$error":"#REF!"},{"$error":"#REF!"}]
[{"$f":"IF(ISBLANK(InfoPro!A20),\"\",InfoPro!A20)","v":"SC_942_A2"},{"$f":"IF(ISBLANK(InfoPro!B20),\"\",InfoPro!B20)","v":"PASCUA_60MW"},{"$f":"IF(ISBLANK(InfoPro!E20),\"\",InfoPro!E20)","v":60},{"$f":"IF(ISBLANK(InfoPro!F20),\"\",InfoPro!F20)","v":"Solar FV"},{"$f":"IF(ISBLANK(InfoPro!O20),\"\",InfoPro!O20)","v":0},{"$f":"IF(ISBLANK(InfoPro!#REF!),\"\",InfoPro!#REF!)","v":{"$error":"#REF!"}},{"$error":"#REF!"},{"$error":"#REF!"}]
[{"$f":"IF(ISBLANK(InfoPro!A21),\"\",InfoPro!A21)","v":"SC_1763_A1"},{"$f":"IF(ISBLANK(InfoPro!B21),\"\",InfoPro!B21)","v":"Taurus Solar de 22MW (19,5 MW)"},{"$f":"IF(ISBLANK(InfoPro!E21),\"\",InfoPro!E21)","v":19.5},{"$f":"IF(ISBLANK(InfoPro!F21),\"\",InfoPro!F21)","v":"Solar FV"},{"$f":"IF(ISBLANK(InfoPro!O21),\"\",InfoPro!O21)","v":0},{"$f":"IF(ISBLANK(InfoPro!#REF!),\"\",InfoPro!#REF!)","v":{"$error":"#REF!"}},{"$error":"#REF!"},{"$error":"#REF!"}]
[{"$f":"IF(ISBLANK(InfoPro!A22),\"\",InfoPro!A22)","v":"SC_1763_A2"},{"$f":"IF(ISBLANK(InfoPro!B22),\"\",InfoPro!B22)","v":"Taurus Solar de 22MW (19,5 MW)"},{"$f":"IF(ISBLANK(InfoPro!E22),\"\",InfoPro!E22)","v":19.5},{"$f":"IF(ISBLANK(InfoPro!F22),\"\",InfoPro!F22)","v":"Solar FV"},{"$f":"IF(ISBLANK(InfoPro!O22),\"\",InfoPro!O22)","v":0},{"$f":"IF(ISBLANK(InfoPro!#REF!),\"\",InfoPro!#REF!)","v":{"$error":"#REF!"}},{"$error":"#REF!"},{"$error":"#REF!"}]
[{"$f":"IF(ISBLANK(InfoPro!A23),\"\",InfoPro!A23)","v":"SC_828_A1"},{"$f":"IF(ISBLANK(InfoPro!B23),\"\",InfoPro!B23)","v":"PARQUE SOLAR EL VASCO"},{"$f":"IF(ISBLANK(InfoPro!E23),\"\",InfoPro!E23)","v":60},{"$f":"IF(ISBLANK(InfoPro!F23),\"\",InfoPro!F23)","v":"Solar FV"},{"$f":"IF(ISBLANK(InfoPro!O23),\"\",InfoPro!O23)","v":0},{"$f":"IF(ISBLANK(InfoPro!#REF!),\"\",InfoPro!#REF!)","v":{"$error":"#REF!"}},{"$error":"#REF!"},{"$error":"#REF!"}]
[{"$f":"IF(ISBLANK(InfoPro!A24),\"\",InfoPro!A24)","v":"SC_828_A2"},{"$f":"IF(ISBLANK(InfoPro!B24),\"\",InfoPro!B24)","v":"PARQUE SOLAR EL VASCO"},{"$f":"IF(ISBLANK(InfoPro!E24),\"\",InfoPro!E24)","v":60},{"$f":"IF(ISBLANK(InfoPro!F24),\"\",InfoPro!F24)","v":"Solar FV"},{"$f":"IF(ISBLANK(InfoPro!O24),\"\",InfoPro!O24)","v":0},{"$f":"IF(ISBLANK(InfoPro!#REF!),\"\",InfoPro!#REF!)","v":{"$error":"#REF!"}},{"$error":"#REF!"},{"$error":"#REF!"}]
[{"$f":"IF(ISBLANK(InfoPro!A25),\"\",InfoPro!A25)","v":"SC_1179_A1"},{"$f":"IF(ISBLANK(InfoPro!B25),\"\",InfoPro!B25)","v":"Montes 90 MW"},{"$f":"IF(ISBLANK(InfoPro!E25),\"\",InfoPro!E25)","v":90},{"$f":"IF(ISBLANK(InfoPro!F25),\"\",InfoPro!F25)","v":"Solar FV"},{"$f":"IF(ISBLANK(InfoPro!O25),\"\",InfoPro!O25)","v":0},{"$f":"IF(ISBLANK(InfoPro!#REF!),\"\",InfoPro!#REF!)","v":{"$error":"#REF!"}},{"$error":"#REF!"},{"$error":"#REF!"}]
[{"$f":"IF(ISBLANK(InfoPro!A26),\"\",InfoPro!A26)","v":"SC_1179_A2"},{"$f":"IF(ISBLANK(InfoPro!B26),\"\",InfoPro!B26)","v":"Montes 90 MW"},{"$f":"IF(ISBLANK(InfoPro!E26),\"\",InfoPro!E26)","v":90},{"$f":"IF(ISBLANK(InfoPro!F26),\"\",InfoPro!F26)","v":"Solar FV"},{"$f":"IF(ISBLANK(InfoPro!O26),\"\",InfoPro!O26)","v":0},{"$f":"IF(ISBLANK(InfoPro!#REF!),\"\",InfoPro!#REF!)","v":{"$error":"#REF!"}},{"$error":"#REF!"},{"$error":"#REF!"}]
[{"$f":"IF(ISBLANK(InfoPro!A27),\"\",InfoPro!A27)","v":"SC_1206_A1"},{"$f":"IF(ISBLANK(InfoPro!B27),\"\",InfoPro!B27)","v":"Cerromatoso Solar 300 MW"},{"$f":"IF(ISBLANK(InfoPro!E27),\"\",InfoPro!E27)","v":300},{"$f":"IF(ISBLANK(InfoPro!F27),\"\",InfoPro!F27)","v":"Solar FV"},{"$f":"IF(ISBLANK(InfoPro!O27),\"\",InfoPro!O27)","v":0},{"$f":"IF(ISBLANK(InfoPro!#REF!),\"\",InfoPro!#REF!)","v":{"$error":"#REF!"}},{"$error":"#REF!"},{"$error":"#REF!"}]
[{"$f":"IF(ISBLANK(InfoPro!A28),\"\",InfoPro!A28)","v":"SC_1206_A2"},{"$f":"IF(ISBLANK(InfoPro!B28),\"\",InfoPro!B28)","v":"Cerromatoso Solar 300 MW"},{"$f":"IF(ISBLANK(InfoPro!E28),\"\",InfoPro!E28)","v":300},{"$f":"IF(ISBLANK(InfoPro!F28),\"\",InfoPro!F28)","v":"Solar FV"},{"$f":"IF(ISBLANK(InfoPro!O28),\"\",InfoPro!O28)","v":0},{"$f":"IF(ISBLANK(InfoPro!#REF!),\"\",InfoPro!#REF!)","v":{"$error":"#REF!"}},{"$error":"#REF!"},{"$error":"#REF!"}]
[{"$f":"IF(ISBLANK(InfoPro!A29),\"\",InfoPro!A29)","v":"SC_1372_A1"},{"$f":"IF(ISBLANK(InfoPro!B29),\"\",InfoPro!B29)","v":"Pétalo del Bolívar I Magangué"},{"$f":"IF(ISBLANK(InfoPro!E29),\"\",InfoPro!E29)","v":9.9},{"$f":"IF(ISBLANK(InfoPro!F29),\"\",InfoPro!F29)","v":"Solar FV"},{"$f":"IF(ISBLANK(InfoPro!O29),\"\",InfoPro!O29)","v":0},{"$f":"IF(ISBLANK(InfoPro!#REF!),\"\",InfoPro!#REF!)","v":{"$error":"#REF!"}},{"$error":"#REF!"},{"$error":"#REF!"}]
[{"$f":"IF(ISBLANK(InfoPro!A30),\"\",InfoPro!A30)","v":"SC_1372_A2"},{"$f":"IF(ISBLANK(InfoPro!B30),\"\",InfoPro!B30)","v":"Pétalo del Bolívar I Magangué"},{"$f":"IF(ISBLANK(InfoPro!E30),\"\",InfoPro!E30)","v":9.9},{"$f":"IF(ISBLANK(InfoPro!F30),\"\",InfoPro!F30)","v":"Solar FV"},{"$f":"IF(ISBLANK(InfoPro!O30),\"\",InfoPro!O30)","v":0},{"$f":"IF(ISBLANK(InfoPro!#REF!),\"\",InfoPro!#REF!)","v":{"$error":"#REF!"}},{"$error":"#REF!"},{"$error":"#REF!"}]
[{"$f":"IF(ISBLANK(InfoPro!A31),\"\",InfoPro!A31)","v":"SC_692_A1"},{"$f":"IF(ISBLANK(InfoPro!B31),\"\",InfoPro!B31)","v":"TermoJobo"},{"$f":"IF(ISBLANK(InfoPro!E31),\"\",InfoPro!E31)","v":9.9},{"$f":"IF(ISBLANK(InfoPro!F31),\"\",InfoPro!F31)","v":"Termica a vapor"},{"$f":"IF(ISBLANK(InfoPro!O31),\"\",InfoPro!O31)","v":0},{"$f":"IF(ISBLANK(InfoPro!#REF!),\"\",InfoPro!#REF!)","v":{"$error":"#REF!"}},{"$error":"#REF!"},{"$error":"#REF!"}]
[{"$f":"IF(ISBLANK(InfoPro!A32),\"\",InfoPro!A32)","v":"SC_1057_A1"},{"$f":"IF(ISBLANK(InfoPro!B32),\"\",InfoPro!B32)","v":"Río Sinú Solar I 9,9 MW"},{"$f":"IF(ISBLANK(InfoPro!E32),\"\",InfoPro!E32)","v":9.9},{"$f":"IF(ISBLANK(InfoPro!F32),\"\",InfoPro!F32)","v":"Solar FV"},{"$f":"IF(ISBLANK(InfoPro!O32),\"\",InfoPro!O32)","v":0},{"$f":"IF(ISBLANK(InfoPro!#REF!),\"\",InfoPro!#REF!)","v":{"$error":"#REF!"}},{"$error":"#REF!"},{"$error":"#REF!"}]
[{"$f":"IF(ISBLANK(InfoPro!A33),\"\",InfoPro!A33)","v":"SC_1057_A2"},{"$f":"IF(ISBLANK(InfoPro!B33),\"\",InfoPro!B33)","v":"Río Sinú Solar I 9,9 MW"},{"$f":"IF(ISBLANK(InfoPro!E33),\"\",InfoPro!E33)","v":9.9},{"$f":"IF(ISBLANK(InfoPro!F33),\"\",InfoPro!F33)","v":"Solar FV"},{"$f":"IF(ISBLANK(InfoPro!O33),\"\",InfoPro!O33)","v":0},{"$f":"IF(ISBLANK(InfoPro!#REF!),\"\",InfoPro!#REF!)","v":{"$error":"#REF!"}},{"$error":"#REF!"},{"$error":"#REF!"}]
[{"$f":"IF(ISBLANK(InfoPro!A34),\"\",InfoPro!A34)","v":"SC_1058_A1"},{"$f":"IF(ISBLANK(InfoPro!B34),\"\",InfoPro!B34)","v":"Río Sinú Solar II 9,9 MW"},{"$f":"IF(ISBLANK(InfoPro!E34),\"\",InfoPro!E34)","v":9.9},{"$f":"IF(ISBLANK(InfoPro!F34),\"\",InfoPro!F34)","v":"Solar FV"},{"$f":"IF(ISBLANK(InfoPro!O34),\"\",InfoPro!O34)","v":0},{"$f":"IF(ISBLANK(InfoPro!#REF!),\"\",InfoPro!#REF!)","v":{"$error":"#REF!"}},{"$error":"#REF!"},{"$error":"#REF!"}]
[{"$f":"IF(ISBLANK(InfoPro!A35),\"\",InfoPro!A35)","v":"SC_1058_A2"},{"$f":"IF(ISBLANK(InfoPro!B35),\"\",InfoPro!B35)","v":"Río Sinú Solar II 9,9 MW"},{"$f":"IF(ISBLANK(InfoPro!E35),\"\",InfoPro!E35)","v":9.9},{"$f":"IF(ISBLANK(InfoPro!F35),\"\",InfoPro!F35)","v":"Solar FV"},{"$f":"IF(ISBLANK(InfoPro!O35),\"\",InfoPro!O35)","v":0},{"$f":"IF(ISBLANK(InfoPro!#REF!),\"\",InfoPro!#REF!)","v":{"$error":"#REF!"}},{"$error":"#REF!"},{"$error":"#REF!"}]
[{"$f":"IF(ISBLANK(InfoPro!A36),\"\",InfoPro!A36)","v":"SC_855_A1"},{"$f":"IF(ISBLANK(InfoPro!B36),\"\",InfoPro!B36)","v":"El Lirio"},{"$f":"IF(ISBLANK(InfoPro!E36),\"\",InfoPro!E36)","v":19.899999999999999},{"$f":"IF(ISBLANK(InfoPro!F36),\"\",InfoPro!F36)","v":"Solar FV"},{"$f":"IF(ISBLANK(InfoPro!O36),\"\",InfoPro!O36)","v":0},{"$f":"IF(ISBLANK(InfoPro!#REF!),\"\",InfoPro!#REF!)","v":{"$error":"#REF!"}},{"$error":"#REF!"},{"$error":"#REF!"}]
[{"$f":"IF(ISBLANK(InfoPro!A37),\"\",InfoPro!A37)","v":"SC_855_A2"},{"$f":"IF(ISBLANK(InfoPro!B37),\"\",InfoPro!B37)","v":"El Lirio"},{"$f":"IF(ISBLANK(InfoPro!E37),\"\",InfoPro!E37)","v":19.899999999999999},{"$f":"IF(ISBLANK(InfoPro!F37),\"\",InfoPro!F37)","v":"Solar FV"},{"$f":"IF(ISBLANK(InfoPro!O37),\"\",InfoPro!O37)","v":0},{"$f":"IF(ISBLANK(InfoPro!#REF!),\"\",InfoPro!#REF!)","v":{"$error":"#REF!"}},{"$error":"#REF!"},{"$error":"#REF!"}]
[{"$f":"IF(ISBLANK(InfoPro!A38),\"\",InfoPro!A38)","v":"SC_630_A1"},{"$f":"IF(ISBLANK(InfoPro!B38),\"\",InfoPro!B38)","v":"TR Solar 14"},{"$f":"IF(ISBLANK(InfoPro!E38),\"\",InfoPro!E38)","v":99.9},{"$f":"IF(ISBLANK(InfoPro!F38),\"\",InfoPro!F38)","v":"Solar FV"},{"$f":"IF(ISBLANK(InfoPro!O38),\"\",InfoPro!O38)","v":0},{"$f":"IF(ISBLANK(InfoPro!#REF!),\"\",InfoPro!#REF!)","v":{"$error":"#REF!"}},{"$error":"#REF!"},{"$error":"#REF!"}]
[{"$f":"IF(ISBLANK(InfoPro!A39),\"\",InfoPro!A39)","v":"SC_1269_A1"},{"$f":"IF(ISBLANK(InfoPro!B39),\"\",InfoPro!B39)","v":"Centro Solar II 4 MW"},{"$f":"IF(ISBLANK(InfoPro!E39),\"\",InfoPro!E39)","v":4},{"$f":"IF(ISBLANK(InfoPro!F39),\"\",InfoPro!F39)","v":"Solar FV"},{"$f":"IF(ISBLANK(InfoPro!O39),\"\",InfoPro!O39)","v":0},{"$f":"IF(ISBLANK(InfoPro!#REF!),\"\",InfoPro!#REF!)","v":{"$error":"#REF!"}},{"$error":"#REF!"},{"$error":"#REF!"}]
[{"$f":"IF(ISBLANK(InfoPro!A40),\"\",InfoPro!A40)","v":"SC_1268_A1"},{"$f":"IF(ISBLANK(InfoPro!B40),\"\",InfoPro!B40)","v":"Sol de Ayapel II de 7 MW"},{"$f":"IF(ISBLANK(InfoPro!E40),\"\",InfoPro!E40)","v":7},{"$f":"IF(ISBLANK(InfoPro!F40),\"\",InfoPro!F40)","v":"Solar FV"},{"$f":"IF(ISBLANK(InfoPro!O40),\"\",InfoPro!O40)","v":0},{"$f":"IF(ISBLANK(InfoPro!#REF!),\"\",InfoPro!#REF!)","v":{"$error":"#REF!"}},{"$error":"#REF!"},{"$error":"#REF!"}]
[{"$f":"IF(ISBLANK(InfoPro!A41),\"\",InfoPro!A41)","v":"SC_1268_A2"},{"$f":"IF(ISBLANK(InfoPro!B41),\"\",InfoPro!B41)","v":"Sol de Ayapel II de 7 MW"},{"$f":"IF(ISBLANK(InfoPro!E41),\"\",InfoPro!E41)","v":7},{"$f":"IF(ISBLANK(InfoPro!F41),\"\",InfoPro!F41)","v":"Solar FV"},{"$f":"IF(ISBLANK(InfoPro!O41),\"\",InfoPro!O41)","v":0},{"$f":"IF(ISBLANK(InfoPro!#REF!),\"\",InfoPro!#REF!)","v":{"$error":"#REF!"}},{"$error":"#REF!"},{"$error":"#REF!"}]
[{"$f":"IF(ISBLANK(InfoPro!A42),\"\",InfoPro!A42)","v":"SC_1118_A1"},{"$f":"IF(ISBLANK(InfoPro!B42),\"\",InfoPro!B42)","v":"Boston 9,9 MW"},{"$f":"IF(ISBLANK(InfoPro!E42),\"\",InfoPro!E42)","v":9.9},{"$f":"IF(ISBLANK(InfoPro!F42),\"\",InfoPro!F42)","v":"Solar FV"},{"$f":"IF(ISBLANK(InfoPro!O42),\"\",InfoPro!O42)","v":0},{"$f":"IF(ISBLANK(InfoPro!#REF!),\"\",InfoPro!#REF!)","v":{"$error":"#REF!"}},{"$error":"#REF!"},{"$error":"#REF!"}]
[{"$f":"IF(ISBLANK(InfoPro!A43),\"\",InfoPro!A43)","v":"SC_1118_A2"},{"$f":"IF(ISBLANK(InfoPro!B43),\"\",InfoPro!B43)","v":"Boston 9,9 MW"},{"$f":"IF(ISBLANK(InfoPro!E43),\"\",InfoPro!E43)","v":9.9},{"$f":"IF(ISBLANK(InfoPro!F43),\"\",InfoPro!F43)","v":"Solar FV"},{"$f":"IF(ISBLANK(InfoPro!O43),\"\",InfoPro!O43)","v":0},{"$f":"IF(ISBLANK(InfoPro!#REF!),\"\",InfoPro!#REF!)","v":{"$error":"#REF!"}},{"$error":"#REF!"},{"$error":"#REF!"}]
[{"$f":"IF(ISBLANK(InfoPro!A44),\"\",InfoPro!A44)","v":"SC_632_A1"},{"$f":"IF(ISBLANK(InfoPro!B44),\"\",InfoPro!B44)","v":"TR Solar 5"},{"$f":"IF(ISBLANK(InfoPro!E44),\"\",InfoPro!E44)","v":19.899999999999999},{"$f":"IF(ISBLANK(InfoPro!F44),\"\",InfoPro!F44)","v":"Solar FV"},{"$f":"IF(ISBLANK(InfoPro!O44),\"\",InfoPro!O44)","v":0},{"$f":"IF(ISBLANK(InfoPro!#REF!),\"\",InfoPro!#REF!)","v":{"$error":"#REF!"}},{"$error":"#REF!"},{"$error":"#REF!"}]
[{"$f":"IF(ISBLANK(InfoPro!A45),\"\",InfoPro!A45)","v":"SC_632_A2"},{"$f":"IF(ISBLANK(InfoPro!B45),\"\",InfoPro!B45)","v":"TR Solar 5"},{"$f":"IF(ISBLANK(InfoPro!E45),\"\",InfoPro!E45)","v":19.899999999999999},{"$f":"IF(ISBLANK(InfoPro!F45),\"\",InfoPro!F45)","v":"Solar FV"},{"$f":"IF(ISBLANK(InfoPro!O45),\"\",InfoPro!O45)","v":0},{"$f":"IF(ISBLANK(InfoPro!#REF!),\"\",InfoPro!#REF!)","v":{"$error":"#REF!"}},{"$error":"#REF!"},{"$error":"#REF!"}]
[{"$f":"IF(ISBLANK(InfoPro!A46),\"\",InfoPro!A46)","v":"SC_1415_A1"},{"$f":"IF(ISBLANK(InfoPro!B46),\"\",InfoPro!B46)","v":"Efigen C03 99 MW"},{"$f":"IF(ISBLANK(InfoPro!E46),\"\",InfoPro!E46)","v":99},{"$f":"IF(ISBLANK(InfoPro!F46),\"\",InfoPro!F46)","v":"Solar FV"},{"$f":"IF(ISBLANK(InfoPro!O46),\"\",InfoPro!O46)","v":54189464587},{"$f":"IF(ISBLANK(InfoPro!#REF!),\"\",InfoPro!#REF!)","v":{"$error":"#REF!"}},{"$error":"#REF!"},{"$error":"#REF!"}]
[{"$f":"IF(ISBLANK(InfoPro!A47),\"\",InfoPro!A47)","v":"SC_1415_A2"},{"$f":"IF(ISBLANK(InfoPro!B47),\"\",InfoPro!B47)","v":"Efigen C03 99 MW"},{"$f":"IF(ISBLANK(InfoPro!E47),\"\",InfoPro!E47)","v":99},{"$f":"IF(ISBLANK(InfoPro!F47),\"\",InfoPro!F47)","v":"Solar FV"},{"$f":"IF(ISBLANK(InfoPro!O47),\"\",InfoPro!O47)","v":54189464587},{"$f":"IF(ISBLANK(InfoPro!#REF!),\"\",InfoPro!#REF!)","v":{"$error":"#REF!"}},{"$error":"#REF!"},{"$error":"#REF!"}]
[{"$f":"IF(ISBLANK(InfoPro!A48),\"\",InfoPro!A48)","v":"SC_1420_A1"},{"$f":"IF(ISBLANK(InfoPro!B48),\"\",InfoPro!B48)","v":"Efigen C04 99 MW"},{"$f":"IF(ISBLANK(InfoPro!E48),\"\",InfoPro!E48)","v":99},{"$f":"IF(ISBLANK(InfoPro!F48),\"\",InfoPro!F48)","v":"Solar FV"},{"$f":"IF(ISBLANK(InfoPro!O48),\"\",InfoPro!O48)","v":54189464587},{"$f":"IF(ISBLANK(InfoPro!#REF!),\"\",InfoPro!#REF!)","v":{"$error":"#REF!"}},{"$error":"#REF!"},{"$error":"#REF!"}]
[{"$f":"IF(ISBLANK(InfoPro!A49),\"\",InfoPro!A49)","v":"SC_1420_A2"},{"$f":"IF(ISBLANK(InfoPro!B49),\"\",InfoPro!B49)","v":"Efigen C04 99 MW"},{"$f":"IF(ISBLANK(InfoPro!E49),\"\",InfoPro!E49)","v":99},{"$f":"IF(ISBLANK(InfoPro!F49),\"\",InfoPro!F49)","v":"Solar FV"},{"$f":"IF(ISBLANK(InfoPro!O49),\"\",InfoPro!O49)","v":54189464587},{"$f":"IF(ISBLANK(InfoPro!#REF!),\"\",InfoPro!#REF!)","v":{"$error":"#REF!"}},{"$error":"#REF!"},{"$error":"#REF!"}]
[{"$f":"IF(ISBLANK(InfoPro!A50),\"\",InfoPro!A50)","v":"SC_1435_A1"},{"$f":"IF(ISBLANK(InfoPro!B50),\"\",InfoPro!B50)","v":"Parque Solar Las Brisas"},{"$f":"IF(ISBLANK(InfoPro!E50),\"\",InfoPro!E50)","v":9.9},{"$f":"IF(ISBLANK(InfoPro!F50),\"\",InfoPro!F50)","v":"Solar FV"},{"$f":"IF(ISBLANK(InfoPro!O50),\"\",InfoPro!O50)","v":0},{"$f":"IF(ISBLANK(InfoPro!#REF!),\"\",InfoPro!#REF!)","v":{"$error":"#REF!"}},{"$error":"#REF!"},{"$error":"#REF!"}]
[{"$f":"IF(ISBLANK(InfoPro!A51),\"\",InfoPro!A51)","v":"SC_978_A1"},{"$f":"IF(ISBLANK(InfoPro!B51),\"\",InfoPro!B51)","v":"Borugo Solar"},{"$f":"IF(ISBLANK(InfoPro!E51),\"\",InfoPro!E51)","v":99.9},{"$f":"IF(ISBLANK(InfoPro!F51),\"\",InfoPro!F51)","v":"Solar FV"},{"$f":"IF(ISBLANK(InfoPro!O51),\"\",InfoPro!O51)","v":0},{"$f":"IF(ISBLANK(InfoPro!#REF!),\"\",InfoPro!#REF!)","v":{"$error":"#REF!"}},{"$error":"#REF!"},{"$error":"#REF!"}]
[{"$f":"IF(ISBLANK(InfoPro!A52),\"\",InfoPro!A52)","v":"SC_1520_A1"},{"$f":"IF(ISBLANK(InfoPro!B52),\"\",InfoPro!B52)","v":"Autogenerador Solar Argos Tolcemento - 19.9 MW"},{"$f":"IF(ISBLANK(InfoPro!E52),\"\",InfoPro!E52)","v":19.899999999999999},{"$f":"IF(ISBLANK(InfoPro!F52),\"\",InfoPro!F52)","v":"Solar FV"},{"$f":"IF(ISBLANK(InfoPro!O52),\"\",InfoPro!O52)","v":0},{"$f":"IF(ISBLANK(InfoPro!#REF!),\"\",InfoPro!#REF!)","v":{"$error":"#REF!"}},{"$error":"#REF!"},{"$error":"#REF!"}]
[{"$f":"IF(ISBLANK(InfoPro!A53),\"\",InfoPro!A53)","v":"SC_1520_A2"},{"$f":"IF(ISBLANK(InfoPro!B53),\"\",InfoPro!B53)","v":"Autogenerador Solar Argos Tolcemento - 19.9 MW"},{"$f":"IF(ISBLANK(InfoPro!E53),\"\",InfoPro!E53)","v":19.899999999999999},{"$f":"IF(ISBLANK(InfoPro!F53),\"\",InfoPro!F53)","v":"Solar FV"},{"$f":"IF(ISBLANK(InfoPro!O53),\"\",InfoPro!O53)","v":0},{"$f":"IF(ISBLANK(InfoPro!#REF!),\"\",InfoPro!#REF!)","v":{"$error":"#REF!"}},{"$error":"#REF!"},{"$error":"#REF!"}]
[{"$f":"IF(ISBLANK(InfoPro!A54),\"\",InfoPro!A54)","v":"SC_1527_A1"},{"$f":"IF(ISBLANK(InfoPro!B54),\"\",InfoPro!B54)","v":"Nueva Montería Solar III _9,9 MW"},{"$f":"IF(ISBLANK(InfoPro!E54),\"\",InfoPro!E54)","v":9.9},{"$f":"IF(ISBLANK(InfoPro!F54),\"\",InfoPro!F54)","v":"Solar FV"},{"$f":"IF(ISBLANK(InfoPro!O54),\"\",InfoPro!O54)","v":0},{"$f":"IF(ISBLANK(InfoPro!#REF!),\"\",InfoPro!#REF!)","v":{"$error":"#REF!"}},{"$error":"#REF!"},{"$error":"#REF!"}]
[{"$f":"IF(ISBLANK(InfoPro!A55),\"\",InfoPro!A55)","v":"SC_1527_A2"},{"$f":"IF(ISBLANK(InfoPro!B55),\"\",InfoPro!B55)","v":"Nueva Montería Solar III _9,9 MW"},{"$f":"IF(ISBLANK(InfoPro!E55),\"\",InfoPro!E55)","v":9.9},{"$f":"IF(ISBLANK(InfoPro!F55),\"\",InfoPro!F55)","v":"Solar FV"},{"$f":"IF(ISBLANK(InfoPro!O55),\"\",InfoPro!O55)","v":0},{"$f":"IF(ISBLANK(InfoPro!#REF!),\"\",InfoPro!#REF!)","v":{"$error":"#REF!"}},{"$error":"#REF!"},{"$error":"#REF!"}]
[{"$f":"IF(ISBLANK(InfoPro!A56),\"\",InfoPro!A56)","v":"SC_1395_A1"},{"$f":"IF(ISBLANK(InfoPro!B56),\"\",InfoPro!B56)","v":"San Marcos I 19.9"},{"$f":"IF(ISBLANK(InfoPro!E56),\"\",InfoPro!E56)","v":19.899999999999999},{"$f":"IF(ISBLANK(InfoPro!F56),\"\",InfoPro!F56)","v":"Solar FV"},{"$f":"IF(ISBLANK(InfoPro!O56),\"\",InfoPro!O56)","v":0},{"$f":"IF(ISBLANK(InfoPro!#REF!),\"\",InfoPro!#REF!)","v":{"$error":"#REF!"}},{"$error":"#REF!"},{"$error":"#REF!"}]
[{"$f":"IF(ISBLANK(InfoPro!A57),\"\",InfoPro!A57)","v":"SC_1396_A1"},{"$f":"IF(ISBLANK(InfoPro!B57),\"\",InfoPro!B57)","v":"San Marcos II 19.9"},{"$f":"IF(ISBLANK(InfoPro!E57),\"\",InfoPro!E57)","v":19.899999999999999},{"$f":"IF(ISBLANK(InfoPro!F57),\"\",InfoPro!F57)","v":"Solar FV"},{"$f":"IF(ISBLANK(InfoPro!O57),\"\",InfoPro!O57)","v":0},{"$f":"IF(ISBLANK(InfoPro!#REF!),\"\",InfoPro!#REF!)","v":{"$error":"#REF!"}},{"$error":"#REF!"},{"$error":"#REF!"}]
[{"$f":"IF(ISBLANK(InfoPro!A58),\"\",InfoPro!A58)","v":"SC_1359_A1"},{"$f":"IF(ISBLANK(InfoPro!B58),\"\",InfoPro!B58)","v":"El Corozo_250MW"},{"$f":"IF(ISBLANK(InfoPro!E58),\"\",InfoPro!E58)","v":250},{"$f":"IF(ISBLANK(InfoPro!F58),\"\",InfoPro!F58)","v":"Solar FV"},{"$f":"IF(ISBLANK(InfoPro!O58),\"\",InfoPro!O58)","v":54189464587},{"$f":"IF(ISBLANK(InfoPro!#REF!),\"\",InfoPro!#REF!)","v":{"$error":"#REF!"}},{"$error":"#REF!"},{"$error":"#REF!"}]
[{"$f":"IF(ISBLANK(InfoPro!A59),\"\",InfoPro!A59)","v":"SC_1359_A2"},{"$f":"IF(ISBLANK(InfoPro!B59),\"\",InfoPro!B59)","v":"El Corozo_250MW"},{"$f":"IF(ISBLANK(InfoPro!E59),\"\",InfoPro!E59)","v":250},{"$f":"IF(ISBLANK(InfoPro!F59),\"\",InfoPro!F59)","v":"Solar FV"},{"$f":"IF(ISBLANK(InfoPro!O59),\"\",InfoPro!O59)","v":54189464587},{"$f":"IF(ISBLANK(InfoPro!#REF!),\"\",InfoPro!#REF!)","v":{"$error":"#REF!"}},{"$error":"#REF!"},{"$error":"#REF!"}]
[{"$f":"IF(ISBLANK(InfoPro!A60),\"\",InfoPro!A60)","v":"SC_1598_A1"},{"$f":"IF(ISBLANK(InfoPro!B60),\"\",InfoPro!B60)","v":"PARQUE SOLAR FOTOVOLTAICO MATIMBA de 150MW"},{"$f":"IF(ISBLANK(InfoPro!E60),\"\",InfoPro!E60)","v":150},{"$f":"IF(ISBLANK(InfoPro!F60),\"\",InfoPro!F60)","v":"Solar FV"},{"$f":"IF(ISBLANK(InfoPro!O60),\"\",InfoPro!O60)","v":0},{"$f":"IF(ISBLANK(InfoPro!#REF!),\"\",InfoPro!#REF!)","v":{"$error":"#REF!"}},{"$error":"#REF!"},{"$error":"#REF!"}]
[{"$f":"IF(ISBLANK(InfoPro!A61),\"\",InfoPro!A61)","v":"SC_1598_A2"},{"$f":"IF(ISBLANK(InfoPro!B61),\"\",InfoPro!B61)","v":"PARQUE SOLAR FOTOVOLTAICO MATIMBA de 150MW"},{"$f":"IF(ISBLANK(InfoPro!E61),\"\",InfoPro!E61)","v":150},{"$f":"IF(ISBLANK(InfoPro!F61),\"\",InfoPro!F61)","v":"Solar FV"},{"$f":"IF(ISBLANK(InfoPro!O61),\"\",InfoPro!O61)","v":0},{"$f":"IF(ISBLANK(InfoPro!#REF!),\"\",InfoPro!#REF!)","v":{"$error":"#REF!"}},{"$error":"#REF!"},{"$error":"#REF!"}]
[{"$f":"IF(ISBLANK(InfoPro!A62),\"\",InfoPro!A62)","v":"SC_981_A1"},{"$f":"IF(ISBLANK(InfoPro!B62),\"\",InfoPro!B62)","v":"Yaguarundi Solar"},{"$f":"IF(ISBLANK(InfoPro!E62),\"\",InfoPro!E62)","v":40},{"$f":"IF(ISBLANK(InfoPro!F62),\"\",InfoPro!F62)","v":"Solar FV"},{"$f":"IF(ISBLANK(InfoPro!O62),\"\",InfoPro!O62)","v":0},{"$f":"IF(ISBLANK(InfoPro!#REF!),\"\",InfoPro!#REF!)","v":{"$error":"#REF!"}},{"$error":"#REF!"},{"$error":"#REF!"}]
[{"$f":"IF(ISBLANK(InfoPro!A63),\"\",InfoPro!A63)","v":"SC_981_A2"},{"$f":"IF(ISBLANK(InfoPro!B63),\"\",InfoPro!B63)","v":"Yaguarundi Solar"},{"$f":"IF(ISBLANK(InfoPro!E63),\"\",InfoPro!E63)","v":40},{"$f":"IF(ISBLANK(InfoPro!F63),\"\",InfoPro!F63)","v":"Solar FV"},{"$f":"IF(ISBLANK(InfoPro!O63),\"\",InfoPro!O63)","v":0},{"$f":"IF(ISBLANK(InfoPro!#REF!),\"\",InfoPro!#REF!)","v":{"$error":"#REF!"}},{"$error":"#REF!"},{"$error":"#REF!"}]
[{"$f":"IF(ISBLANK(InfoPro!A64),\"\",InfoPro!A64)","v":"SC_1634_A1"},{"$f":"IF(ISBLANK(InfoPro!B64),\"\",InfoPro!B64)","v":"El Tapir Solar 99.9 MW"},{"$f":"IF(ISBLANK(InfoPro!E64),\"\",InfoPro!E64)","v":99.9},{"$f":"IF(ISBLANK(InfoPro!F64),\"\",InfoPro!F64)","v":"Solar FV"},{"$f":"IF(ISBLANK(InfoPro!O64),\"\",InfoPro!O64)","v":0},{"$f":"IF(ISBLANK(InfoPro!#REF!),\"\",InfoPro!#REF!)","v":{"$error":"#REF!"}},{"$error":"#REF!"},{"$error":"#REF!"}]
[{"$f":"IF(ISBLANK(InfoPro!A65),\"\",InfoPro!A65)","v":"SC_782_A1"},{"$f":"IF(ISBLANK(InfoPro!B65),\"\",InfoPro!B65)","v":"Parque Solar El Corozo 60 MW"},{"$f":"IF(ISBLANK(InfoPro!E65),\"\",InfoPro!E65)","v":60},{"$f":"IF(ISBLANK(InfoPro!F65),\"\",InfoPro!F65)","v":"Solar FV"},{"$f":"IF(ISBLANK(InfoPro!O65),\"\",InfoPro!O65)","v":0},{"$f":"IF(ISBLANK(InfoPro!#REF!),\"\",InfoPro!#REF!)","v":{"$error":"#REF!"}},{"$f":"IF(F73=\"\",\"\",F73-E73)","v":{"$error":"#REF!"}},{"$f":"IF(G73=\"\",\"\",G73/(C73*1000))","v":{"$error":"#REF!"}}]
[{"$f":"IF(ISBLANK(InfoPro!A66),\"\",InfoPro!A66)","v":"SC_782_A2"},{"$f":"IF(ISBLANK(InfoPro!B66),\"\",InfoPro!B66)","v":"Parque Solar El Corozo 60 MW"},{"$f":"IF(ISBLANK(InfoPro!E66),\"\",InfoPro!E66)","v":60},{"$f":"IF(ISBLANK(InfoPro!F66),\"\",InfoPro!F66)","v":"Solar FV"},{"$f":"IF(ISBLANK(InfoPro!O66),\"\",InfoPro!O66)","v":0},{"$f":"IF(ISBLANK(InfoPro!#REF!),\"\",InfoPro!#REF!)","v":{"$error":"#REF!"}},{"$error":"#REF!"},{"$error":"#REF!"}]
[{"$f":"IF(ISBLANK(InfoPro!A67),\"\",InfoPro!A67)","v":"SC_1762_A1"},{"$f":"IF(ISBLANK(InfoPro!B67),\"\",InfoPro!B67)","v":"SPK CERETÉ SOLAR_19.9MW"},{"$f":"IF(ISBLANK(InfoPro!E67),\"\",InfoPro!E67)","v":19.899999999999999},{"$f":"IF(ISBLANK(InfoPro!F67),\"\",InfoPro!F67)","v":"Solar FV"},{"$f":"IF(ISBLANK(InfoPro!O67),\"\",InfoPro!O67)","v":0},{"$f":"IF(ISBLANK(InfoPro!#REF!),\"\",InfoPro!#REF!)","v":{"$error":"#REF!"}},{"$error":"#REF!"},{"$error":"#REF!"}]
[{"$f":"IF(ISBLANK(InfoPro!A68),\"\",InfoPro!A68)","v":"SC_1762_A2"},{"$f":"IF(ISBLANK(InfoPro!B68),\"\",InfoPro!B68)","v":"SPK CERETÉ SOLAR_19.9MW"},{"$f":"IF(ISBLANK(InfoPro!E68),\"\",InfoPro!E68)","v":19.899999999999999},{"$f":"IF(ISBLANK(InfoPro!F68),\"\",InfoPro!F68)","v":"Solar FV"},{"$f":"IF(ISBLANK(InfoPro!O68),\"\",InfoPro!O68)","v":0},{"$f":"IF(ISBLANK(InfoPro!#REF!),\"\",InfoPro!#REF!)","v":{"$error":"#REF!"}},{"$error":"#REF!"},{"$error":"#REF!"}]
[{"$f":"IF(ISBLANK(InfoPro!A69),\"\",InfoPro!A69)","v":"SC_1782_A1"},{"$f":"IF(ISBLANK(InfoPro!B69),\"\",InfoPro!B69)","v":"Orquídea del Sucre - Toluviejo"},{"$f":"IF(ISBLANK(InfoPro!E69),\"\",InfoPro!E69)","v":112},{"$f":"IF(ISBLANK(InfoPro!F69),\"\",InfoPro!F69)","v":"Solar FV"},{"$f":"IF(ISBLANK(InfoPro!O69),\"\",InfoPro!O69)","v":0},{"$f":"IF(ISBLANK(InfoPro!#REF!),\"\",InfoPro!#REF!)","v":{"$error":"#REF!"}},{"$error":"#REF!"},{"$error":"#REF!"}]
[{"$f":"IF(ISBLANK(InfoPro!A70),\"\",InfoPro!A70)","v":"SC_1782_A2"},{"$f":"IF(ISBLANK(InfoPro!B70),\"\",InfoPro!B70)","v":"Orquídea del Sucre - Toluviejo"},{"$f":"IF(ISBLANK(InfoPro!E70),\"\",InfoPro!E70)","v":112},{"$f":"IF(ISBLANK(InfoPro!F70),\"\",InfoPro!F70)","v":"Solar FV"},{"$f":"IF(ISBLANK(InfoPro!O70),\"\",InfoPro!O70)","v":0},{"$f":"IF(ISBLANK(InfoPro!#REF!),\"\",InfoPro!#REF!)","v":{"$error":"#REF!"}},{"$error":"#REF!"},{"$error":"#REF!"}]
[{"$f":"IF(ISBLANK(InfoPro!A71),\"\",InfoPro!A71)","v":"SC_1784_A1"},{"$f":"IF(ISBLANK(InfoPro!B71),\"\",InfoPro!B71)","v":"Pétalo del Sucre - Sierra Flor 9,9 MW"},{"$f":"IF(ISBLANK(InfoPro!E71),\"\",InfoPro!E71)","v":9.9},{"$f":"IF(ISBLANK(InfoPro!F71),\"\",InfoPro!F71)","v":"Solar FV"},{"$f":"IF(ISBLANK(InfoPro!O71),\"\",InfoPro!O71)","v":0},{"$f":"IF(ISBLANK(InfoPro!#REF!),\"\",InfoPro!#REF!)","v":{"$error":"#REF!"}},{"$error":"#REF!"},{"$error":"#REF!"}]
[{"$f":"IF(ISBLANK(InfoPro!A72),\"\",InfoPro!A72)","v":"SC_1784_A2"},{"$f":"IF(ISBLANK(InfoPro!B72),\"\",InfoPro!B72)","v":"Pétalo del Sucre - Sierra Flor 9,9 MW"},{"$f":"IF(ISBLANK(InfoPro!E72),\"\",InfoPro!E72)","v":9.9},{"$f":"IF(ISBLANK(InfoPro!F72),\"\",InfoPro!F72)","v":"Solar FV"},{"$f":"IF(ISBLANK(InfoPro!O72),\"\",InfoPro!O72)","v":0},{"$f":"IF(ISBLANK(InfoPro!#REF!),\"\",InfoPro!#REF!)","v":{"$error":"#REF!"}},{"$error":"#REF!"},{"$error":"#REF!"}]
[{"$f":"IF(ISBLANK(InfoPro!A73),\"\",InfoPro!A73)","v":"SC_1715_A1"},{"$f":"IF(ISBLANK(InfoPro!B73),\"\",InfoPro!B73)","v":"Andrómeda Solar de 50 MW (entrega 41 MW)"},{"$f":"IF(ISBLANK(InfoPro!E73),\"\",InfoPro!E73)","v":41},{"$f":"IF(ISBLANK(InfoPro!F73),\"\",InfoPro!F73)","v":"Solar FV"},{"$f":"IF(ISBLANK(InfoPro!O73),\"\",InfoPro!O73)","v":0},{"$f":"IF(ISBLANK(InfoPro!#REF!),\"\",InfoPro!#REF!)","v":{"$error":"#REF!"}},{"$error":"#REF!"},{"$error":"#REF!"}]
[{"$f":"IF(ISBLANK(InfoPro!A74),\"\",InfoPro!A74)","v":"SC_1715_A2"},{"$f":"IF(ISBLANK(InfoPro!B74),\"\",InfoPro!B74)","v":"Andrómeda Solar de 50 MW (entrega 41 MW)"},{"$f":"IF(ISBLANK(InfoPro!E74),\"\",InfoPro!E74)","v":41},{"$f":"IF(ISBLANK(InfoPro!F74),\"\",InfoPro!F74)","v":"Solar FV"},{"$f":"IF(ISBLANK(InfoPro!O74),\"\",InfoPro!O74)","v":0},{"$f":"IF(ISBLANK(InfoPro!#REF!),\"\",InfoPro!#REF!)","v":{"$error":"#REF!"}},{"$error":"#REF!"},{"$error":"#REF!"}]
[{"$f":"IF(ISBLANK(InfoPro!A75),\"\",InfoPro!A75)","v":"SC_1809_A1"},{"$f":"IF(ISBLANK(InfoPro!B75),\"\",InfoPro!B75)","v":"DSE COVEÑAS"},{"$f":"IF(ISBLANK(InfoPro!E75),\"\",InfoPro!E75)","v":9.9},{"$f":"IF(ISBLANK(InfoPro!F75),\"\",InfoPro!F75)","v":"Solar FV"},{"$f":"IF(ISBLANK(InfoPro!O75),\"\",InfoPro!O75)","v":0},{"$f":"IF(ISBLANK(InfoPro!#REF!),\"\",InfoPro!#REF!)","v":{"$error":"#REF!"}},{"$error":"#REF!"},{"$error":"#REF!"}]
[{"$f":"IF(ISBLANK(InfoPro!A76),\"\",InfoPro!A76)","v":"SC_1809_A2"},{"$f":"IF(ISBLANK(InfoPro!B76),\"\",InfoPro!B76)","v":"DSE COVEÑAS"},{"$f":"IF(ISBLANK(InfoPro!E76),\"\",InfoPro!E76)","v":9.9},{"$f":"IF(ISBLANK(InfoPro!F76),\"\",InfoPro!F76)","v":"Solar FV"},{"$f":"IF(ISBLANK(InfoPro!O76),\"\",InfoPro!O76)","v":0},{"$f":"IF(ISBLANK(InfoPro!#REF!),\"\",InfoPro!#REF!)","v":{"$error":"#REF!"}},{"$error":"#REF!"},{"$error":"#REF!"}]
[{"$f":"IF(ISBLANK(InfoPro!A77),\"\",InfoPro!A77)","v":"SC_1838_A1"},{"$f":"IF(ISBLANK(InfoPro!B77),\"\",InfoPro!B77)","v":"Since Solar I 9,9 MW"},{"$f":"IF(ISBLANK(InfoPro!E77),\"\",InfoPro!E77)","v":9.9},{"$f":"IF(ISBLANK(InfoPro!F77),\"\",InfoPro!F77)","v":"Solar FV"},{"$f":"IF(ISBLANK(InfoPro!O77),\"\",InfoPro!O77)","v":0},{"$f":"IF(ISBLANK(InfoPro!#REF!),\"\",InfoPro!#REF!)","v":{"$error":"#REF!"}},{"$error":"#REF!"},{"$error":"#REF!"}]
[{"$f":"IF(ISBLANK(InfoPro!A78),\"\",InfoPro!A78)","v":"SC_1838_A2"},{"$f":"IF(ISBLANK(InfoPro!B78),\"\",InfoPro!B78)","v":"Since Solar I 9,9 MW"},{"$f":"IF(ISBLANK(InfoPro!E78),\"\",InfoPro!E78)","v":9.9},{"$f":"IF(ISBLANK(InfoPro!F78),\"\",InfoPro!F78)","v":"Solar FV"},{"$f":"IF(ISBLANK(InfoPro!O78),\"\",InfoPro!O78)","v":0},{"$f":"IF(ISBLANK(InfoPro!#REF!),\"\",InfoPro!#REF!)","v":{"$error":"#REF!"}},{"$error":"#REF!"},{"$error":"#REF!"}]
[{"$f":"IF(ISBLANK(InfoPro!A79),\"\",InfoPro!A79)","v":"SC_1853_A1"},{"$f":"IF(ISBLANK(InfoPro!B79),\"\",InfoPro!B79)","v":"Tolú Solar 9,9 MW"},{"$f":"IF(ISBLANK(InfoPro!E79),\"\",InfoPro!E79)","v":9.9},{"$f":"IF(ISBLANK(InfoPro!F79),\"\",InfoPro!F79)","v":"Solar FV"},{"$f":"IF(ISBLANK(InfoPro!O79),\"\",InfoPro!O79)","v":0},{"$f":"IF(ISBLANK(InfoPro!#REF!),\"\",InfoPro!#REF!)","v":{"$error":"#REF!"}},{"$error":"#REF!"},{"$error":"#REF!"}]
[{"$f":"IF(ISBLANK(InfoPro!A80),\"\",InfoPro!A80)","v":"SC_1853_A2"},{"$f":"IF(ISBLANK(InfoPro!B80),\"\",InfoPro!B80)","v":"Tolú Solar 9,9 MW"},{"$f":"IF(ISBLANK(InfoPro!E80),\"\",InfoPro!E80)","v":9.9},{"$f":"IF(ISBLANK(InfoPro!F80),\"\",InfoPro!F80)","v":"Solar FV"},{"$f":"IF(ISBLANK(InfoPro!O80),\"\",InfoPro!O80)","v":0},{"$f":"IF(ISBLANK(InfoPro!#REF!),\"\",InfoPro!#REF!)","v":{"$error":"#REF!"}},{"$error":"#REF!"},{"$error":"#REF!"}]
[{"$f":"IF(ISBLANK(InfoPro!A81),\"\",InfoPro!A81)","v":"SC_1882_A1"},{"$f":"IF(ISBLANK(InfoPro!B81),\"\",InfoPro!B81)","v":"Proyecto Solar Oviedo"},{"$f":"IF(ISBLANK(InfoPro!E81),\"\",InfoPro!E81)","v":9.9},{"$f":"IF(ISBLANK(InfoPro!F81),\"\",InfoPro!F81)","v":"Solar FV"},{"$f":"IF(ISBLANK(InfoPro!O81),\"\",InfoPro!O81)","v":0},{"$f":"IF(ISBLANK(InfoPro!#REF!),\"\",InfoPro!#REF!)","v":{"$error":"#REF!"}},{"$error":"#REF!"},{"$error":"#REF!"}]
[{"$f":"IF(ISBLANK(InfoPro!A82),\"\",InfoPro!A82)","v":"SC_1882_A2"},{"$f":"IF(ISBLANK(InfoPro!B82),\"\",InfoPro!B82)","v":"Proyecto Solar Oviedo"},{"$f":"IF(ISBLANK(InfoPro!E82),\"\",InfoPro!E82)","v":9.9},{"$f":"IF(ISBLANK(InfoPro!F82),\"\",InfoPro!F82)","v":"Solar FV"},{"$f":"IF(ISBLANK(InfoPro!O82),\"\",InfoPro!O82)","v":0},{"$f":"IF(ISBLANK(InfoPro!#REF!),\"\",InfoPro!#REF!)","v":{"$error":"#REF!"}},{"$error":"#REF!"},{"$error":"#REF!"}]
[{"$f":"IF(ISBLANK(InfoPro!A83),\"\",InfoPro!A83)","v":"SC_1913_A1"},{"$f":"IF(ISBLANK(InfoPro!B83),\"\",InfoPro!B83)","v":"PS Noe"},{"$f":"IF(ISBLANK(InfoPro!E83),\"\",InfoPro!E83)","v":9.9},{"$f":"IF(ISBLANK(InfoPro!F83),\"\",InfoPro!F83)","v":"Solar FV"},{"$f":"IF(ISBLANK(InfoPro!O83),\"\",InfoPro!O83)","v":0},{"$f":"IF(ISBLANK(InfoPro!#REF!),\"\",InfoPro!#REF!)","v":{"$error":"#REF!"}},{"$error":"#REF!"},{"$error":"#REF!"}]
[{"$f":"IF(ISBLANK(InfoPro!A84),\"\",InfoPro!A84)","v":"SC_1913_A2"},{"$f":"IF(ISBLANK(InfoPro!B84),\"\",InfoPro!B84)","v":"PS Noe"},{"$f":"IF(ISBLANK(InfoPro!E84),\"\",InfoPro!E84)","v":9.9},{"$f":"IF(ISBLANK(InfoPro!F84),\"\",InfoPro!F84)","v":"Solar FV"},{"$f":"IF(ISBLANK(InfoPro!O84),\"\",InfoPro!O84)","v":0},{"$f":"IF(ISBLANK(InfoPro!#REF!),\"\",InfoPro!#REF!)","v":{"$error":"#REF!"}},{"$error":"#REF!"},{"$error":"#REF!"}]
[{"$f":"IF(ISBLANK(InfoPro!A85),\"\",InfoPro!A85)","v":"SC_1491_A1"},{"$f":"IF(ISBLANK(InfoPro!B85),\"\",InfoPro!B85)","v":"SABANA SOLAR_90MW"},{"$f":"IF(ISBLANK(InfoPro!E85),\"\",InfoPro!E85)","v":90},{"$f":"IF(ISBLANK(InfoPro!F85),\"\",InfoPro!F85)","v":"Solar FV"},{"$f":"IF(ISBLANK(InfoPro!O85),\"\",InfoPro!O85)","v":0},{"$f":"IF(ISBLANK(InfoPro!#REF!),\"\",InfoPro!#REF!)","v":{"$error":"#REF!"}},{"$error":"#REF!"},{"$error":"#REF!"}]
[]
[null,null,null,null,null,{"$f":"AVERAGE(F8:F87)","v":{"$error":"#REF!"}}]
[null,null,null,null,null,{"$f":"_xlfn.STDEV.S(F8:F87)","v":{"$error":"#REF!"}}]
[]
[]
[]
[]
[]
[null,null,null,null,null,3734000000]
[null,null,null,null,null,3734000000]
[null,null,null,null,null,5633917333.333333]
[null,null,null,null,null,5633917333.333333]
[null,null,null,null,null,1637200000]
[null,null,null,null,null,1637200000]
[null,null,null,null,null,58886066.666666672]
[null,null,null,null,null,58886066.666666672]
[null,null,null,null,null,48829000000]
[null,null,null,null,null,48829000000]
[null,null,null,null,null,43241330000]
[null,null,null,null,null,43241330000]
[]
[null,null,null,null,"PROM",{"$f":"AVERAGE(F102:F113)","v":17189055566.666668}]
[null,null,null,null,"DESVI",{"$f":"_xlfn.STDEV.S(F102:F113)","v":21446210707.69149}]
[]
[null,null,null,null,null,{"$f":"F116+F115","v":38635266274.358154}]

{"sheet":"BT-Flex","index":9,"n_rows":182,"n_cols":25,"rows_kept":182,"cut":false,"hidden":false,"merged":[]}
[]
[]
[null,"CEE",67453,"COP/MWh"]
[null,"Tasa de descuento",0.11799999999999999,null,null,"Año de Referencia",2023]
[null,null,null,null,null,"Mínimo",{"$f":"MIN(Y9:Y350)","v":0}]
[]
[null,null,null,null,null,null,null,null,0,1,2,3,4,5,6,7,8,9,10,11,12,13,14]
["Codigo","Nombre","capacidad","Tecnologia","Año de entrada","FP","Factor de Flexibilidad","Produccion media/a MWh/a","Flujo Descontado 0","Flujo Descontado 1","Flujo Descontado 2","Flujo Descontado 3","Flujo Descontado 4","Flujo Descontado 5","Flujo Descontado 6","Flujo Descontado 7","Flujo Descontado 8","Flujo Descontado 9","Flujo Descontado 10","Flujo Descontado 11","Flujo Descontado 12","Flujo Descontado 13","Flujo Descontado 14","VPN","Beneficio/kW"]
[{"$f":"IF(ISBLANK(InfoPro!A2),\"\",InfoPro!A2)","v":"SC_44_A1"},{"$f":"IF(ISBLANK(InfoPro!B2),\"\",InfoPro!B2)","v":"El Floral 1"},{"$f":"IF(ISBLANK(InfoPro!E2),\"\",InfoPro!E2)","v":19.899999999999999},{"$f":"IF(ISBLANK(InfoPro!F2),\"\",InfoPro!F2)","v":"Solar FV"},{"$f":"IF(ISBLANK(InfoPro!I2),\"\",YEAR(InfoPro!I2)-$G$4)","v":2},{"$f":"IF(B9=\"\",\"\",VLOOKUP(D9,Tablas!$B$2:$E$13,2,FALSE))","v":0.26},{"$f":"IF(B9=\"\",\"\",VLOOKUP(D9,Tablas!$B$2:$F$13,3,FALSE))","v":0},{"$f":"IF(C9=\"\",\"\",+C9*F9*24*365)","v":45324.24},{"$f":"IF($H9=\"\",\"\",(1/(1+$C$4)^(I$7+$E9))*$H9*$G9*$C$3)","v":0},{"$f":"IF($H9=\"\",\"\",(1/(1+$C$4)^(J$7+$E9))*$H9*$G9*$C$3)","v":0},0,0,0,0,0,0,0,0,0,0,0,0,0,{"$f":"IF(W9=\"\",\"\",SUM(I9:W9))","v":0},{"$f":"IF(C9=0,0,IF(X9=\"\",\"\",X9/(C9*1000)))","v":0}]
[{"$f":"IF(ISBLANK(InfoPro!A3),\"\",InfoPro!A3)","v":"SC_47_A1"},{"$f":"IF(ISBLANK(InfoPro!B3),\"\",InfoPro!B3)","v":"El Floral II - 19.9 MW"},{"$f":"IF(ISBLANK(InfoPro!E3),\"\",InfoPro!E3)","v":19.899999999999999},{"$f":"IF(ISBLANK(InfoPro!F3),\"\",InfoPro!F3)","v":"Solar FV"},{"$f":"IF(ISBLANK(InfoPro!I3),\"\",YEAR(InfoPro!I3)-$G$4)","v":2},{"$f":"IF(B10=\"\",\"\",VLOOKUP(D10,Tablas!$B$2:$E$13,2,FALSE))","v":0.26},{"$f":"IF(B10=\"\",\"\",VLOOKUP(D10,Tablas!$B$2:$F$13,3,FALSE))","v":0},{"$f":"IF(C10=\"\",\"\",+C10*F10*24*365)","v":45324.24},0,0,0,0,0,0,0,0,0,0,0,0,0,0,0,{"$f":"IF(W10=\"\",\"\",SUM(I10:W10))","v":0},{"$f":"IF(C10=0,0,IF(X10=\"\",\"\",X10/(C10*1000)))","v":0}]
[{"$f":"IF(ISBLANK(InfoPro!A4),\"\",InfoPro!A4)","v":"SC_408_A1"},{"$f":"IF(ISBLANK(InfoPro!B4),\"\",InfoPro!B4)","v":"El Jardín 40 MW"},{"$f":"IF(ISBLANK(InfoPro!E4),\"\",InfoPro!E4)","v":40},{"$f":"IF(ISBLANK(InfoPro!F4),\"\",InfoPro!F4)","v":"Solar FV"},{"$f":"IF(ISBLANK(InfoPro!I4),\"\",YEAR(InfoPro!I4)-$G$4)","v":2},{"$f":"IF(B11=\"\",\"\",VLOOKUP(D11,Tablas!$B$2:$E$13,2,FALSE))","v":0.26},{"$f":"IF(B11=\"\",\"\",VLOOKUP(D11,Tablas!$B$2:$F$13,3,FALSE))","v":0},91104.000000000015,0,0,0,0,0,0,0,0,0,0,0,0,0,0,0,0,0]
[{"$f":"IF(ISBLANK(InfoPro!A5),\"\",InfoPro!A5)","v":"SC_454_A1"},{"$f":"IF(ISBLANK(InfoPro!B5),\"\",InfoPro!B5)","v":"PARQUE SOLAR SAN RAFAEL - 300 MW"},{"$f":"IF(ISBLANK(InfoPro!E5),\"\",InfoPro!E5)","v":300},{"$f":"IF(ISBLANK(InfoPro!F5),\"\",InfoPro!F5)","v":"Solar FV"},{"$f":"IF(ISBLANK(InfoPro!I5),\"\",YEAR(InfoPro!I5)-$G$4)","v":3},{"$f":"IF(B12=\"\",\"\",VLOOKUP(D12,Tablas!$B$2:$E$13,2,FALSE))","v":0.26},{"$f":"IF(B12=\"\",\"\",VLOOKUP(D12,Tablas!$B$2:$F$13,3,FALSE))","v":0},683280,0,0,0,0,0,0,0,0,0,0,0,0,0,0,0,0,0]
[{"$f":"IF(ISBLANK(InfoPro!A6),\"\",InfoPro!A6)","v":"SC_454_A2"},{"$f":"IF(ISBLANK(InfoPro!B6),\"\",InfoPro!B6)","v":"PARQUE SOLAR SAN RAFAEL - 300 MW"},{"$f":"IF(ISBLANK(InfoPro!E6),\"\",InfoPro!E6)","v":300},{"$f":"IF(ISBLANK(InfoPro!F6),\"\",InfoPro!F6)","v":"Solar FV"},{"$f":"IF(ISBLANK(InfoPro!I6),\"\",YEAR(InfoPro!I6)-$G$4)","v":3},{"$f":"IF(B13=\"\",\"\",VLOOKUP(D13,Tablas!$B$2:$E$13,2,FALSE))","v":0.26},{"$f":"IF(B13=\"\",\"\",VLOOKUP(D13,Tablas!$B$2:$F$13,3,FALSE))","v":0},683280,0,0,0,0,0,0,0,0,0,0,0,0,0,0,0,0,0]
[{"$f":"IF(ISBLANK(InfoPro!A7),\"\",InfoPro!A7)","v":"SC_483_A1"},{"$f":"IF(ISBLANK(InfoPro!B7),\"\",InfoPro!B7)","v":"PARQUE SOLAR LOMAS 39.9 MW"},{"$f":"IF(ISBLANK(InfoPro!E7),\"\",InfoPro!E7)","v":39.9},{"$f":"IF(ISBLANK(InfoPro!F7),\"\",InfoPro!F7)","v":"Solar FV"},{"$f":"IF(ISBLANK(InfoPro!I7),\"\",YEAR(InfoPro!I7)-$G$4)","v":2},{"$f":"IF(B14=\"\",\"\",VLOOKUP(D14,Tablas!$B$2:$E$13,2,FALSE))","v":0.26},{"$f":"IF(B14=\"\",\"\",VLOOKUP(D14,Tablas!$B$2:$F$13,3,FALSE))","v":0},90876.24,0,0,0,0,0,0,0,0,0,0,0,0,0,0,0,0,0]
[{"$f":"IF(ISBLANK(InfoPro!A8),\"\",InfoPro!A8)","v":"SC_586_A1"},{"$f":"IF(ISBLANK(InfoPro!B8),\"\",InfoPro!B8)","v":"Orquídea del Sucre - Sierra Flor 60 MW"},{"$f":"IF(ISBLANK(InfoPro!E8),\"\",InfoPro!E8)","v":60},{"$f":"IF(ISBLANK(InfoPro!F8),\"\",InfoPro!F8)","v":"Solar FV"},{"$f":"IF(ISBLANK(InfoPro!I8),\"\",YEAR(InfoPro!I8)-$G$4)","v":4},{"$f":"IF(B15=\"\",\"\",VLOOKUP(D15,Tablas!$B$2:$E$13,2,FALSE))","v":0.26},{"$f":"IF(B15=\"\",\"\",VLOOKUP(D15,Tablas!$B$2:$F$13,3,FALSE))","v":0},136656,0,0,0,0,0,0,0,0,0,0,0,0,0,0,0,0,0]
[{"$f":"IF(ISBLANK(InfoPro!A9),\"\",InfoPro!A9)","v":"SC_586_A2"},{"$f":"IF(ISBLANK(InfoPro!B9),\"\",InfoPro!B9)","v":"Orquídea del Sucre - Sierra Flor 60 MW"},{"$f":"IF(ISBLANK(InfoPro!E9),\"\",InfoPro!E9)","v":60},{"$f":"IF(ISBLANK(InfoPro!F9),\"\",InfoPro!F9)","v":"Solar FV"},{"$f":"IF(ISBLANK(InfoPro!I9),\"\",YEAR(InfoPro!I9)-$G$4)","v":4},{"$f":"IF(B16=\"\",\"\",VLOOKUP(D16,Tablas!$B$2:$E$13,2,FALSE))","v":0.26},{"$f":"IF(B16=\"\",\"\",VLOOKUP(D16,Tablas!$B$2:$F$13,3,FALSE))","v":0},136656,0,0,0,0,0,0,0,0,0,0,0,0,0,0,0,0,0]
[{"$f":"IF(ISBLANK(InfoPro!A10),\"\",InfoPro!A10)","v":"SC_681_A1"},{"$f":"IF(ISBLANK(InfoPro!B10),\"\",InfoPro!B10)","v":"PARQUE SOLARLAS LAS PALMAS de 90MW"},{"$f":"IF(ISBLANK(InfoPro!E10),\"\",InfoPro!E10)","v":90},{"$f":"IF(ISBLANK(InfoPro!F10),\"\",InfoPro!F10)","v":"Solar FV"},{"$f":"IF(ISBLANK(InfoPro!I10),\"\",YEAR(InfoPro!I10)-$G$4)","v":2},{"$f":"IF(B17=\"\",\"\",VLOOKUP(D17,Tablas!$B$2:$E$13,2,FALSE))","v":0.26},{"$f":"IF(B17=\"\",\"\",VLOOKUP(D17,Tablas!$B$2:$F$13,3,FALSE))","v":0},204984,0,0,0,0,0,0,0,0,0,0,0,0,0,0,0,0,0]
[{"$f":"IF(ISBLANK(InfoPro!A11),\"\",InfoPro!A11)","v":"SC_681_A2"},{"$f":"IF(ISBLANK(InfoPro!B11),\"\",InfoPro!B11)","v":"PARQUE SOLARLAS LAS PALMAS de 90MW"},{"$f":"IF(ISBLANK(InfoPro!E11),\"\",InfoPro!E11)","v":90},{"$f":"IF(ISBLANK(InfoPro!F11),\"\",InfoPro!F11)","v":"Solar FV"},{"$f":"IF(ISBLANK(InfoPro!I11),\"\",YEAR(InfoPro!I11)-$G$4)","v":2},{"$f":"IF(B18=\"\",\"\",VLOOKUP(D18,Tablas!$B$2:$E$13,2,FALSE))","v":0.26},{"$f":"IF(B18=\"\",\"\",VLOOKUP(D18,Tablas!$B$2:$F$13,3,FALSE))","v":0},204984,0,0,0,0,0,0,0,0,0,0,0,0,0,0,0,0,0]
[{"$f":"IF(ISBLANK(InfoPro!A12),\"\",InfoPro!A12)","v":"SC_720_A1"},{"$f":"IF(ISBLANK(InfoPro!B12),\"\",InfoPro!B12)","v":"El Jazmín"},{"$f":"IF(ISBLANK(InfoPro!E12),\"\",InfoPro!E12)","v":19.899999999999999},{"$f":"IF(ISBLANK(InfoPro!F12),\"\",InfoPro!F12)","v":"Solar FV"},{"$f":"IF(ISBLANK(InfoPro!I12),\"\",YEAR(InfoPro!I12)-$G$4)","v":2},{"$f":"IF(B19=\"\",\"\",VLOOKUP(D19,Tablas!$B$2:$E$13,2,FALSE))","v":0.26},{"$f":"IF(B19=\"\",\"\",VLOOKUP(D19,Tablas!$B$2:$F$13,3,FALSE))","v":0},45324.24,{"$f":"IF($H19=\"\",\"\",(1/(1+$C$4)^(I$7+$E19))*$H19*$G19*$C$3)","v":0},0,0,0,0,0,0,0,0,0,0,0,0,0,0,0,0]
[{"$f":"IF(ISBLANK(InfoPro!A13),\"\",InfoPro!A13)","v":"SC_720_A2"},{"$f":"IF(ISBLANK(InfoPro!B13),\"\",InfoPro!B13)","v":"El Jazmín"},{"$f":"IF(ISBLANK(InfoPro!E13),\"\",InfoPro!E13)","v":19.899999999999999},{"$f":"IF(ISBLANK(InfoPro!F13),\"\",InfoPro!F13)","v":"Solar FV"},{"$f":"IF(ISBLANK(InfoPro!I13),\"\",YEAR(InfoPro!I13)-$G$4)","v":2},{"$f":"IF(B20=\"\",\"\",VLOOKUP(D20,Tablas!$B$2:$E$13,2,FALSE))","v":0.26},{"$f":"IF(B20=\"\",\"\",VLOOKUP(D20,Tablas!$B$2:$F$13,3,FALSE))","v":0},45324.24,0,0,0,0,0,0,0,0,0,0,0,0,0,0,0,0,0]
[{"$f":"IF(ISBLANK(InfoPro!A14),\"\",InfoPro!A14)","v":"SC_713_A1"},{"$f":"IF(ISBLANK(InfoPro!B14),\"\",InfoPro!B14)","v":"Crucero - 300MW"},{"$f":"IF(ISBLANK(InfoPro!E14),\"\",InfoPro!E14)","v":300},{"$f":"IF(ISBLANK(InfoPro!F14),\"\",InfoPro!F14)","v":"Solar FV"},{"$f":"IF(ISBLANK(InfoPro!I14),\"\",YEAR(InfoPro!I14)-$G$4)","v":4},{"$f":"IF(B21=\"\",\"\",VLOOKUP(D21,Tablas!$B$2:$E$13,2,FALSE))","v":0.26},{"$f":"IF(B21=\"\",\"\",VLOOKUP(D21,Tablas!$B$2:$F$13,3,FALSE))","v":0},683280,0,0,0,0,0,0,0,0,0,0,0,0,0,0,0,0,0]
[{"$f":"IF(ISBLANK(InfoPro!A15),\"\",InfoPro!A15)","v":"SC_836_A1"},{"$f":"IF(ISBLANK(InfoPro!B15),\"\",InfoPro!B15)","v":"BONGO DEL SINÚ DE 19.9 MW"},{"$f":"IF(ISBLANK(InfoPro!E15),\"\",InfoPro!E15)","v":19.899999999999999},{"$f":"IF(ISBLANK(InfoPro!F15),\"\",InfoPro!F15)","v":"Solar FV"},{"$f":"IF(ISBLANK(InfoPro!I15),\"\",YEAR(InfoPro!I15)-$G$4)","v":2},{"$f":"IF(B22=\"\",\"\",VLOOKUP(D22,Tablas!$B$2:$E$13,2,FALSE))","v":0.26},{"$f":"IF(B22=\"\",\"\",VLOOKUP(D22,Tablas!$B$2:$F$13,3,FALSE))","v":0},45324.24,0,0,0,0,0,0,0,0,0,0,0,0,0,0,0,0,0]
[{"$f":"IF(ISBLANK(InfoPro!A16),\"\",InfoPro!A16)","v":"SC_836_A2"},{"$f":"IF(ISBLANK(InfoPro!B16),\"\",InfoPro!B16)","v":"BONGO DEL SINÚ DE 19.9 MW"},{"$f":"IF(ISBLANK(InfoPro!E16),\"\",InfoPro!E16)","v":19.899999999999999},{"$f":"IF(ISBLANK(InfoPro!F16),\"\",InfoPro!F16)","v":"Solar FV"},{"$f":"IF(ISBLANK(InfoPro!I16),\"\",YEAR(InfoPro!I16)-$G$4)","v":2},{"$f":"IF(B23=\"\",\"\",VLOOKUP(D23,Tablas!$B$2:$E$13,2,FALSE))","v":0.26},{"$f":"IF(B23=\"\",\"\",VLOOKUP(D23,Tablas!$B$2:$F$13,3,FALSE))","v":0},45324.24,0,0,0,0,0,0,0,0,0,0,0,0,0,0,0,0,0]
[{"$f":"IF(ISBLANK(InfoPro!A17),\"\",InfoPro!A17)","v":"SC_778_A1"},{"$f":"IF(ISBLANK(InfoPro!B17),\"\",InfoPro!B17)","v":"KOS 19.9"},{"$f":"IF(ISBLANK(InfoPro!E17),\"\",InfoPro!E17)","v":19.899999999999999},{"$f":"IF(ISBLANK(InfoPro!F17),\"\",InfoPro!F17)","v":"Solar FV"},{"$f":"IF(ISBLANK(InfoPro!I17),\"\",YEAR(InfoPro!I17)-$G$4)","v":2},{"$f":"IF(B24=\"\",\"\",VLOOKUP(D24,Tablas!$B$2:$E$13,2,FALSE))","v":0.26},{"$f":"IF(B24=\"\",\"\",VLOOKUP(D24,Tablas!$B$2:$F$13,3,FALSE))","v":0},45324.24,0,0,0,0,0,0,0,0,0,0,0,0,0,0,0,0,0]
[{"$f":"IF(ISBLANK(InfoPro!A18),\"\",InfoPro!A18)","v":"SC_778_A2"},{"$f":"IF(ISBLANK(InfoPro!B18),\"\",InfoPro!B18)","v":"KOS 19.9"},{"$f":"IF(ISBLANK(InfoPro!E18),\"\",InfoPro!E18)","v":19.899999999999999},{"$f":"IF(ISBLANK(InfoPro!F18),\"\",InfoPro!F18)","v":"Solar FV"},{"$f":"IF(ISBLANK(InfoPro!I18),\"\",YEAR(InfoPro!I18)-$G$4)","v":2},{"$f":"IF(B25=\"\",\"\",VLOOKUP(D25,Tablas!$B$2:$E$13,2,FALSE))","v":0.26},{"$f":"IF(B25=\"\",\"\",VLOOKUP(D25,Tablas!$B$2:$F$13,3,FALSE))","v":0},45324.24,0,0,0,0,0,0,0,0,0,0,0,0,0,0,0,0,0]
[{"$f":"IF(ISBLANK(InfoPro!A19),\"\",InfoPro!A19)","v":"SC_942_A1"},{"$f":"IF(ISBLANK(InfoPro!B19),\"\",InfoPro!B19)","v":"PASCUA_60MW"},{"$f":"IF(ISBLANK(InfoPro!E19),\"\",InfoPro!E19)","v":60},{"$f":"IF(ISBLANK(InfoPro!F19),\"\",InfoPro!F19)","v":"Solar FV"},{"$f":"IF(ISBLANK(InfoPro!I19),\"\",YEAR(InfoPro!I19)-$G$4)","v":3},{"$f":"IF(B26=\"\",\"\",VLOOKUP(D26,Tablas!$B$2:$E$13,2,FALSE))","v":0.26},{"$f":"IF(B26=\"\",\"\",VLOOKUP(D26,Tablas!$B$2:$F$13,3,FALSE))","v":0},136656,0,0,0,0,0,0,0,0,0,0,0,0,0,0,0,0,0]
[{"$f":"IF(ISBLANK(InfoPro!A20),\"\",InfoPro!A20)","v":"SC_942_A2"},{"$f":"IF(ISBLANK(InfoPro!B20),\"\",InfoPro!B20)","v":"PASCUA_60MW"},{"$f":"IF(ISBLANK(InfoPro!E20),\"\",InfoPro!E20)","v":60},{"$f":"IF(ISBLANK(InfoPro!F20),\"\",InfoPro!F20)","v":"Solar FV"},{"$f":"IF(ISBLANK(InfoPro!I20),\"\",YEAR(InfoPro!I20)-$G$4)","v":3},{"$f":"IF(B27=\"\",\"\",VLOOKUP(D27,Tablas!$B$2:$E$13,2,FALSE))","v":0.26},{"$f":"IF(B27=\"\",\"\",VLOOKUP(D27,Tablas!$B$2:$F$13,3,FALSE))","v":0},136656,0,0,0,0,0,0,0,0,0,0,0,0,0,0,0,0,0]
[{"$f":"IF(ISBLANK(InfoPro!A21),\"\",InfoPro!A21)","v":"SC_1763_A1"},{"$f":"IF(ISBLANK(InfoPro!B21),\"\",InfoPro!B21)","v":"Taurus Solar de 22MW (19,5 MW)"},{"$f":"IF(ISBLANK(InfoPro!E21),\"\",InfoPro!E21)","v":19.5},{"$f":"IF(ISBLANK(InfoPro!F21),\"\",InfoPro!F21)","v":"Solar FV"},{"$f":"IF(ISBLANK(InfoPro!I21),\"\",YEAR(InfoPro!I21)-$G$4)","v":2},{"$f":"IF(B28=\"\",\"\",VLOOKUP(D28,Tablas!$B$2:$E$13,2,FALSE))","v":0.26},{"$f":"IF(B28=\"\",\"\",VLOOKUP(D28,Tablas!$B$2:$F$13,3,FALSE))","v":0},44413.200000000004,0,0,0,0,0,0,0,0,0,0,0,0,0,0,0,0,0]
[{"$f":"IF(ISBLANK(InfoPro!A22),\"\",InfoPro!A22)","v":"SC_1763_A2"},{"$f":"IF(ISBLANK(InfoPro!B22),\"\",InfoPro!B22)","v":"Taurus Solar de 22MW (19,5 MW)"},{"$f":"IF(ISBLANK(InfoPro!E22),\"\",InfoPro!E22)","v":19.5},{"$f":"IF(ISBLANK(InfoPro!F22),\"\",InfoPro!F22)","v":"Solar FV"},{"$f":"IF(ISBLANK(InfoPro!I22),\"\",YEAR(InfoPro!I22)-$G$4)","v":2},{"$f":"IF(B29=\"\",\"\",VLOOKUP(D29,Tablas!$B$2:$E$13,2,FALSE))","v":0.26},{"$f":"IF(B29=\"\",\"\",VLOOKUP(D29,Tablas!$B$2:$F$13,3,FALSE))","v":0},44413.200000000004,{"$f":"IF($H29=\"\",\"\",(1/(1+$C$4)^(I$7+$E29))*$H29*$G29*$C$3)","v":0},0,0,0,0,0,0,0,0,0,0,0,0,0,0,0,0]
[{"$f":"IF(ISBLANK(InfoPro!A23),\"\",InfoPro!A23)","v":"SC_828_A1"},{"$f":"IF(ISBLANK(InfoPro!B23),\"\",InfoPro!B23)","v":"PARQUE SOLAR EL VASCO"},{"$f":"IF(ISBLANK(InfoPro!E23),\"\",InfoPro!E23)","v":60},{"$f":"IF(ISBLANK(InfoPro!F23),\"\",InfoPro!F23)","v":"Solar FV"},{"$f":"IF(ISBLANK(InfoPro!I23),\"\",YEAR(InfoPro!I23)-$G$4)","v":3},{"$f":"IF(B30=\"\",\"\",VLOOKUP(D30,Tablas!$B$2:$E$13,2,FALSE))","v":0.26},{"$f":"IF(B30=\"\",\"\",VLOOKUP(D30,Tablas!$B$2:$F$13,3,FALSE))","v":0},136656,0,0,0,0,0,0,0,0,0,0,0,0,0,0,0,0,0]
[{"$f":"IF(ISBLANK(InfoPro!A24),\"\",InfoPro!A24)","v":"SC_828_A2"},{"$f":"IF(ISBLANK(InfoPro!B24),\"\",InfoPro!B24)","v":"PARQUE SOLAR EL VASCO"},{"$f":"IF(ISBLANK(InfoPro!E24),\"\",InfoPro!E24)","v":60},{"$f":"IF(ISBLANK(InfoPro!F24),\"\",InfoPro!F24)","v":"Solar FV"},{"$f":"IF(ISBLANK(InfoPro!I24),\"\",YEAR(InfoPro!I24)-$G$4)","v":3},{"$f":"IF(B31=\"\",\"\",VLOOKUP(D31,Tablas!$B$2:$E$13,2,FALSE))","v":0.26},{"$f":"IF(B31=\"\",\"\",VLOOKUP(D31,Tablas!$B$2:$F$13,3,FALSE))","v":0},136656,0,0,0,0,0,0,0,0,0,0,0,0,0,0,0,0,0]
[{"$f":"IF(ISBLANK(InfoPro!A25),\"\",InfoPro!A25)","v":"SC_1179_A1"},{"$f":"IF(ISBLANK(InfoPro!B25),\"\",InfoPro!B25)","v":"Montes 90 MW"},{"$f":"IF(ISBLANK(InfoPro!E25),\"\",InfoPro!E25)","v":90},{"$f":"IF(ISBLANK(InfoPro!F25),\"\",InfoPro!F25)","v":"Solar FV"},{"$f":"IF(ISBLANK(InfoPro!I25),\"\",YEAR(InfoPro!I25)-$G$4)","v":3},{"$f":"IF(B32=\"\",\"\",VLOOKUP(D32,Tablas!$B$2:$E$13,2,FALSE))","v":0.26},{"$f":"IF(B32=\"\",\"\",VLOOKUP(D32,Tablas!$B$2:$F$13,3,FALSE))","v":0},204984,0,0,0,0,0,0,0,0,0,0,0,0,0,0,0,0,0]
[{"$f":"IF(ISBLANK(InfoPro!A26),\"\",InfoPro!A26)","v":"SC_1179_A2"},{"$f":"IF(ISBLANK(InfoPro!B26),\"\",InfoPro!B26)","v":"Montes 90 MW"},{"$f":"IF(ISBLANK(InfoPro!E26),\"\",InfoPro!E26)","v":90},{"$f":"IF(ISBLANK(InfoPro!F26),\"\",InfoPro!F26)","v":"Solar FV"},{"$f":"IF(ISBLANK(InfoPro!I26),\"\",YEAR(InfoPro!I26)-$G$4)","v":3},{"$f":"IF(B33=\"\",\"\",VLOOKUP(D33,Tablas!$B$2:$E$13,2,FALSE))","v":0.26},{"$f":"IF(B33=\"\",\"\",VLOOKUP(D33,Tablas!$B$2:$F$13,3,FALSE))","v":0},204984,{"$f":"IF($H33=\"\",\"\",(1/(1+$C$4)^(I$7+$E33))*$H33*$G33*$C$3)","v":0},0,0,0,0,0,0,0,0,0,0,0,0,0,0,0,0]
[{"$f":"IF(ISBLANK(InfoPro!A27),\"\",InfoPro!A27)","v":"SC_1206_A1"},{"$f":"IF(ISBLANK(InfoPro!B27),\"\",InfoPro!B27)","v":"Cerromatoso Solar 300 MW"},{"$f":"IF(ISBLANK(InfoPro!E27),\"\",InfoPro!E27)","v":300},{"$f":"IF(ISBLANK(InfoPro!F27),\"\",InfoPro!F27)","v":"Solar FV"},{"$f":"IF(ISBLANK(InfoPro!I27),\"\",YEAR(InfoPro!I27)-$G$4)","v":5},{"$f":"IF(B34=\"\",\"\",VLOOKUP(D34,Tablas!$B$2:$E$13,2,FALSE))","v":0.26},{"$f":"IF(B34=\"\",\"\",VLOOKUP(D34,Tablas!$B$2:$F$13,3,FALSE))","v":0},683280,0,0,0,0,0,0,0,0,0,0,0,0,0,0,0,0,0]
[{"$f":"IF(ISBLANK(InfoPro!A28),\"\",InfoPro!A28)","v":"SC_1206_A2"},{"$f":"IF(ISBLANK(InfoPro!B28),\"\",InfoPro!B28)","v":"Cerromatoso Solar 300 MW"},{"$f":"IF(ISBLANK(InfoPro!E28),\"\",InfoPro!E28)","v":300},{"$f":"IF(ISBLANK(InfoPro!F28),\"\",InfoPro!F28)","v":"Solar FV"},{"$f":"IF(ISBLANK(InfoPro!I28),\"\",YEAR(InfoPro!I28)-$G$4)","v":5},{"$f":"IF(B35=\"\",\"\",VLOOKUP(D35,Tablas!$B$2:$E$13,2,FALSE))","v":0.26},{"$f":"IF(B35=\"\",\"\",VLOOKUP(D35,Tablas!$B$2:$F$13,3,FALSE))","v":0},683280,0,0,0,0,0,0,0,0,0,0,0,0,0,0,0,0,0]
[{"$f":"IF(ISBLANK(InfoPro!A29),\"\",InfoPro!A29)","v":"SC_1372_A1"},{"$f":"IF(ISBLANK(InfoPro!B29),\"\",InfoPro!B29)","v":"Pétalo del Bolívar I Magangué"},{"$f":"IF(ISBLANK(InfoPro!E29),\"\",InfoPro!E29)","v":9.9},{"$f":"IF(ISBLANK(InfoPro!F29),\"\",InfoPro!F29)","v":"Solar FV"},{"$f":"IF(ISBLANK(InfoPro!I29),\"\",YEAR(InfoPro!I29)-$G$4)","v":2},{"$f":"IF(B36=\"\",\"\",VLOOKUP(D36,Tablas!$B$2:$E$13,2,FALSE))","v":0.26},{"$f":"IF(B36=\"\",\"\",VLOOKUP(D36,Tablas!$B$2:$F$13,3,FALSE))","v":0},22548.240000000005,0,0,0,0,0,0,0,0,0,0,0,0,0,0,0,0,0]
[{"$f":"IF(ISBLANK(InfoPro!A30),\"\",InfoPro!A30)","v":"SC_1372_A2"},{"$f":"IF(ISBLANK(InfoPro!B30),\"\",InfoPro!B30)","v":"Pétalo del Bolívar I Magangué"},{"$f":"IF(ISBLANK(InfoPro!E30),\"\",InfoPro!E30)","v":9.9},{"$f":"IF(ISBLANK(InfoPro!F30),\"\",InfoPro!F30)","v":"Solar FV"},{"$f":"IF(ISBLANK(InfoPro!I30),\"\",YEAR(InfoPro!I30)-$G$4)","v":2},{"$f":"IF(B37=\"\",\"\",VLOOKUP(D37,Tablas!$B$2:$E$13,2,FALSE))","v":0.26},{"$f":"IF(B37=\"\",\"\",VLOOKUP(D37,Tablas!$B$2:$F$13,3,FALSE))","v":0},22548.240000000005,0,0,0,0,0,0,0,0,0,0,0,0,0,0,0,0,0]
[{"$f":"IF(ISBLANK(InfoPro!A31),\"\",InfoPro!A31)","v":"SC_692_A1"},{"$f":"IF(ISBLANK(InfoPro!B31),\"\",InfoPro!B31)","v":"TermoJobo"},{"$f":"IF(ISBLANK(InfoPro!E31),\"\",InfoPro!E31)","v":9.9},{"$f":"IF(ISBLANK(InfoPro!F31),\"\",InfoPro!F31)","v":"Termica a vapor"},{"$f":"IF(ISBLANK(InfoPro!I31),\"\",YEAR(InfoPro!I31)-$G$4)","v":1},{"$f":"IF(B38=\"\",\"\",VLOOKUP(D38,Tablas!$B$2:$E$13,2,FALSE))","v":0.85},{"$f":"IF(B38=\"\",\"\",VLOOKUP(D38,Tablas!$B$2:$F$13,3,FALSE))","v":0.25},73715.400000000009,1111879444.5885513,994525442.38689733,889557640.77540028,795668730.56833661,711689383.33482707,636573688.13490796,569386125.34428263,509289915.33477879,455536596.90051776,407456705.63552564,364451436.16773325,325985184.40763265,291578876.92990398,260804004.40957424,233277284.80283925,8557660459.7217093,864410.14744663727]
[{"$f":"IF(ISBLANK(InfoPro!A32),\"\",InfoPro!A32)","v":"SC_1057_A1"},{"$f":"IF(ISBLANK(InfoPro!B32),\"\",InfoPro!B32)","v":"Río Sinú Solar I 9,9 MW"},{"$f":"IF(ISBLANK(InfoPro!E32),\"\",InfoPro!E32)","v":9.9},{"$f":"IF(ISBLANK(InfoPro!F32),\"\",InfoPro!F32)","v":"Solar FV"},{"$f":"IF(ISBLANK(InfoPro!I32),\"\",YEAR(InfoPro!I32)-$G$4)","v":2},{"$f":"IF(B39=\"\",\"\",VLOOKUP(D39,Tablas!$B$2:$E$13,2,FALSE))","v":0.26},{"$f":"IF(B39=\"\",\"\",VLOOKUP(D39,Tablas!$B$2:$F$13,3,FALSE))","v":0},22548.240000000005,{"$f":"IF($H39=\"\",\"\",(1/(1+$C$4)^(I$7+$E39))*$H39*$G39*$C$3)","v":0},0,0,0,0,0,0,0,0,0,0,0,0,0,0,0,0]
[{"$f":"IF(ISBLANK(InfoPro!A33),\"\",InfoPro!A33)","v":"SC_1057_A2"},{"$f":"IF(ISBLANK(InfoPro!B33),\"\",InfoPro!B33)","v":"Río Sinú Solar I 9,9 MW"},{"$f":"IF(ISBLANK(InfoPro!E33),\"\",InfoPro!E33)","v":9.9},{"$f":"IF(ISBLANK(InfoPro!F33),\"\",InfoPro!F33)","v":"Solar FV"},{"$f":"IF(ISBLANK(InfoPro!I33),\"\",YEAR(InfoPro!I33)-$G$4)","v":2},{"$f":"IF(B40=\"\",\"\",VLOOKUP(D40,Tablas!$B$2:$E$13,2,FALSE))","v":0.26},{"$f":"IF(B40=\"\",\"\",VLOOKUP(D40,Tablas!$B$2:$F$13,3,FALSE))","v":0},22548.240000000005,0,0,0,0,0,0,0,0,0,0,0,0,0,0,0,0,0]
[{"$f":"IF(ISBLANK(InfoPro!A34),\"\",InfoPro!A34)","v":"SC_1058_A1"},{"$f":"IF(ISBLANK(InfoPro!B34),\"\",InfoPro!B34)","v":"Río Sinú Solar II 9,9 MW"},{"$f":"IF(ISBLANK(InfoPro!E34),\"\",InfoPro!E34)","v":9.9},{"$f":"IF(ISBLANK(InfoPro!F34),\"\",InfoPro!F34)","v":"Solar FV"},{"$f":"IF(ISBLANK(InfoPro!I34),\"\",YEAR(InfoPro!I34)-$G$4)","v":2},{"$f":"IF(B41=\"\",\"\",VLOOKUP(D41,Tablas!$B$2:$E$13,2,FALSE))","v":0.26},{"$f":"IF(B41=\"\",\"\",VLOOKUP(D41,Tablas!$B$2:$F$13,3,FALSE))","v":0},{"$f":"IF(C41=\"\",\"\",+C41*F41*24*365)","v":22548.240000000005},0,0,0,0,0,0,0,0,0,0,0,0,0,0,0,0,0]
[{"$f":"IF(ISBLANK(InfoPro!A35),\"\",InfoPro!A35)","v":"SC_1058_A2"},{"$f":"IF(ISBLANK(InfoPro!B35),\"\",InfoPro!B35)","v":"Río Sinú Solar II 9,9 MW"},{"$f":"IF(ISBLANK(InfoPro!E35),\"\",InfoPro!E35)","v":9.9},{"$f":"IF(ISBLANK(InfoPro!F35),\"\",InfoPro!F35)","v":"Solar FV"},{"$f":"IF(ISBLANK(InfoPro!I35),\"\",YEAR(InfoPro!I35)-$G$4)","v":2},{"$f":"IF(B42=\"\",\"\",VLOOKUP(D42,Tablas!$B$2:$E$13,2,FALSE))","v":0.26},{"$f":"IF(B42=\"\",\"\",VLOOKUP(D42,Tablas!$B$2:$F$13,3,FALSE))","v":0},22548.240000000005,0,0,0,0,0,0,0,0,0,0,0,0,0,0,0,0,0]
[{"$f":"IF(ISBLANK(InfoPro!A36),\"\",InfoPro!A36)","v":"SC_855_A1"},{"$f":"IF(ISBLANK(InfoPro!B36),\"\",InfoPro!B36)","v":"El Lirio"},{"$f":"IF(ISBLANK(InfoPro!E36),\"\",InfoPro!E36)","v":19.899999999999999},{"$f":"IF(ISBLANK(InfoPro!F36),\"\",InfoPro!F36)","v":"Solar FV"},{"$f":"IF(ISBLANK(InfoPro!I36),\"\",YEAR(InfoPro!I36)-$G$4)","v":2},{"$f":"IF(B43=\"\",\"\",VLOOKUP(D43,Tablas!$B$2:$E$13,2,FALSE))","v":0.26},{"$f":"IF(B43=\"\",\"\",VLOOKUP(D43,Tablas!$B$2:$F$13,3,FALSE))","v":0},45324.24,0,0,0,0,0,0,0,0,0,0,0,0,0,0,0,0,0]
[{"$f":"IF(ISBLANK(InfoPro!A37),\"\",InfoPro!A37)","v":"SC_855_A2"},{"$f":"IF(ISBLANK(InfoPro!B37),\"\",InfoPro!B37)","v":"El Lirio"},{"$f":"IF(ISBLANK(InfoPro!E37),\"\",InfoPro!E37)","v":19.899999999999999},{"$f":"IF(ISBLANK(InfoPro!F37),\"\",InfoPro!F37)","v":"Solar FV"},{"$f":"IF(ISBLANK(InfoPro!I37),\"\",YEAR(InfoPro!I37)-$G$4)","v":2},{"$f":"IF(B44=\"\",\"\",VLOOKUP(D44,Tablas!$B$2:$E$13,2,FALSE))","v":0.26},{"$f":"IF(B44=\"\",\"\",VLOOKUP(D44,Tablas!$B$2:$F$13,3,FALSE))","v":0},45324.24,0,0,0,0,0,0,0,0,0,0,0,0,0,0,0,0,0]
[{"$f":"IF(ISBLANK(InfoPro!A38),\"\",InfoPro!A38)","v":"SC_630_A1"},{"$f":"IF(ISBLANK(InfoPro!B38),\"\",InfoPro!B38)","v":"TR Solar 14"},{"$f":"IF(ISBLANK(InfoPro!E38),\"\",InfoPro!E38)","v":99.9},{"$f":"IF(ISBLANK(InfoPro!F38),\"\",InfoPro!F38)","v":"Solar FV"},{"$f":"IF(ISBLANK(InfoPro!I38),\"\",YEAR(InfoPro!I38)-$G$4)","v":3},{"$f":"IF(B45=\"\",\"\",VLOOKUP(D45,Tablas!$B$2:$E$13,2,FALSE))","v":0.26},{"$f":"IF(B45=\"\",\"\",VLOOKUP(D45,Tablas!$B$2:$F$13,3,FALSE))","v":0},227532.24000000002,0,0,0,0,0,0,0,0,0,0,0,0,0,0,0,0,0]
[{"$f":"IF(ISBLANK(InfoPro!A39),\"\",InfoPro!A39)","v":"SC_1269_A1"},{"$f":"IF(ISBLANK(InfoPro!B39),\"\",InfoPro!B39)","v":"Centro Solar II 4 MW"},{"$f":"IF(ISBLANK(InfoPro!E39),\"\",InfoPro!E39)","v":4},{"$f":"IF(ISBLANK(InfoPro!F39),\"\",InfoPro!F39)","v":"Solar FV"},{"$f":"IF(ISBLANK(InfoPro!I39),\"\",YEAR(InfoPro!I39)-$G$4)","v":0},{"$f":"IF(B46=\"\",\"\",VLOOKUP(D46,Tablas!$B$2:$E$13,2,FALSE))","v":0.26},{"$f":"IF(B46=\"\",\"\",VLOOKUP(D46,Tablas!$B$2:$F$13,3,FALSE))","v":0},9110.4,0,0,0,0,0,0,0,0,0,0,0,0,0,0,0,0,0]
[{"$f":"IF(ISBLANK(InfoPro!A40),\"\",InfoPro!A40)","v":"SC_1268_A1"},{"$f":"IF(ISBLANK(InfoPro!B40),\"\",InfoPro!B40)","v":"Sol de Ayapel II de 7 MW"},{"$f":"IF(ISBLANK(InfoPro!E40),\"\",InfoPro!E40)","v":7},{"$f":"IF(ISBLANK(InfoPro!F40),\"\",InfoPro!F40)","v":"Solar FV"},{"$f":"IF(ISBLANK(InfoPro!I40),\"\",YEAR(InfoPro!I40)-$G$4)","v":1},{"$f":"IF(B47=\"\",\"\",VLOOKUP(D47,Tablas!$B$2:$E$13,2,FALSE))","v":0.26},{"$f":"IF(B47=\"\",\"\",VLOOKUP(D47,Tablas!$B$2:$F$13,3,FALSE))","v":0},15943.2,0,0,0,0,0,0,0,0,0,0,0,0,0,0,0,0,0]
[{"$f":"IF(ISBLANK(InfoPro!A41),\"\",InfoPro!A41)","v":"SC_1268_A2"},{"$f":"IF(ISBLANK(InfoPro!B41),\"\",InfoPro!B41)","v":"Sol de Ayapel II de 7 MW"},{"$f":"IF(ISBLANK(InfoPro!E41),\"\",InfoPro!E41)","v":7},{"$f":"IF(ISBLANK(InfoPro!F41),\"\",InfoPro!F41)","v":"Solar FV"},{"$f":"IF(ISBLANK(InfoPro!I41),\"\",YEAR(InfoPro!I41)-$G$4)","v":1},{"$f":"IF(B48=\"\",\"\",VLOOKUP(D48,Tablas!$B$2:$E$13,2,FALSE))","v":0.26},{"$f":"IF(B48=\"\",\"\",VLOOKUP(D48,Tablas!$B$2:$F$13,3,FALSE))","v":0},15943.2,0,0,0,0,0,0,0,0,0,0,0,0,0,0,0,0,0]
[{"$f":"IF(ISBLANK(InfoPro!A42),\"\",InfoPro!A42)","v":"SC_1118_A1"},{"$f":"IF(ISBLANK(InfoPro!B42),\"\",InfoPro!B42)","v":"Boston 9,9 MW"},{"$f":"IF(ISBLANK(InfoPro!E42),\"\",InfoPro!E42)","v":9.9},{"$f":"IF(ISBLANK(InfoPro!F42),\"\",InfoPro!F42)","v":"Solar FV"},{"$f":"IF(ISBLANK(InfoPro!I42),\"\",YEAR(InfoPro!I42)-$G$4)","v":2},{"$f":"IF(B49=\"\",\"\",VLOOKUP(D49,Tablas!$B$2:$E$13,2,FALSE))","v":0.26},{"$f":"IF(B49=\"\",\"\",VLOOKUP(D49,Tablas!$B$2:$F$13,3,FALSE))","v":0},22548.240000000005,{"$f":"IF($H49=\"\",\"\",(1/(1+$C$4)^(I$7+$E49))*$H49*$G49*$C$3)","v":0},0,0,0,0,0,0,0,0,0,0,0,0,0,0,0,0]
[{"$f":"IF(ISBLANK(InfoPro!A43),\"\",InfoPro!A43)","v":"SC_1118_A2"},{"$f":"IF(ISBLANK(InfoPro!B43),\"\",InfoPro!B43)","v":"Boston 9,9 MW"},{"$f":"IF(ISBLANK(InfoPro!E43),\"\",InfoPro!E43)","v":9.9},{"$f":"IF(ISBLANK(InfoPro!F43),\"\",InfoPro!F43)","v":"Solar FV"},{"$f":"IF(ISBLANK(InfoPro!I43),\"\",YEAR(InfoPro!I43)-$G$4)","v":2},{"$f":"IF(B50=\"\",\"\",VLOOKUP(D50,Tablas!$B$2:$E$13,2,FALSE))","v":0.26},{"$f":"IF(B50=\"\",\"\",VLOOKUP(D50,Tablas!$B$2:$F$13,3,FALSE))","v":0},22548.240000000005,0,0,0,0,0,0,0,0,0,0,0,0,0,0,0,0,0]
[{"$f":"IF(ISBLANK(InfoPro!A44),\"\",InfoPro!A44)","v":"SC_632_A1"},{"$f":"IF(ISBLANK(InfoPro!B44),\"\",InfoPro!B44)","v":"TR Solar 5"},{"$f":"IF(ISBLANK(InfoPro!E44),\"\",InfoPro!E44)","v":19.899999999999999},{"$f":"IF(ISBLANK(InfoPro!F44),\"\",InfoPro!F44)","v":"Solar FV"},{"$f":"IF(ISBLANK(InfoPro!I44),\"\",YEAR(InfoPro!I44)-$G$4)","v":3},{"$f":"IF(B51=\"\",\"\",VLOOKUP(D51,Tablas!$B$2:$E$13,2,FALSE))","v":0.26},{"$f":"IF(B51=\"\",\"\",VLOOKUP(D51,Tablas!$B$2:$F$13,3,FALSE))","v":0},45324.24,0,0,0,0,0,0,0,0,0,0,0,0,0,0,0,0,0]
[{"$f":"IF(ISBLANK(InfoPro!A45),\"\",InfoPro!A45)","v":"SC_632_A2"},{"$f":"IF(ISBLANK(InfoPro!B45),\"\",InfoPro!B45)","v":"TR Solar 5"},{"$f":"IF(ISBLANK(InfoPro!E45),\"\",InfoPro!E45)","v":19.899999999999999},{"$f":"IF(ISBLANK(InfoPro!F45),\"\",InfoPro!F45)","v":"Solar FV"},{"$f":"IF(ISBLANK(InfoPro!I45),\"\",YEAR(InfoPro!I45)-$G$4)","v":3},{"$f":"IF(B52=\"\",\"\",VLOOKUP(D52,Tablas!$B$2:$E$13,2,FALSE))","v":0.26},{"$f":"IF(B52=\"\",\"\",VLOOKUP(D52,Tablas!$B$2:$F$13,3,FALSE))","v":0},45324.24,0,0,0,0,0,0,0,0,0,0,0,0,0,0,0,0,0]
[{"$f":"IF(ISBLANK(InfoPro!A46),\"\",InfoPro!A46)","v":"SC_1415_A1"},{"$f":"IF(ISBLANK(InfoPro!B46),\"\",InfoPro!B46)","v":"Efigen C03 99 MW"},{"$f":"IF(ISBLANK(InfoPro!E46),\"\",InfoPro!E46)","v":99},{"$f":"IF(ISBLANK(InfoPro!F46),\"\",InfoPro!F46)","v":"Solar FV"},{"$f":"IF(ISBLANK(InfoPro!I46),\"\",YEAR(InfoPro!I46)-$G$4)","v":2},{"$f":"IF(B53=\"\",\"\",VLOOKUP(D53,Tablas!$B$2:$E$13,2,FALSE))","v":0.26},{"$f":"IF(B53=\"\",\"\",VLOOKUP(D53,Tablas!$B$2:$F$13,3,FALSE))","v":0},225482.4,0,0,0,0,0,0,0,0,0,0,0,0,0,0,0,0,0]
[{"$f":"IF(ISBLANK(InfoPro!A47),\"\",InfoPro!A47)","v":"SC_1415_A2"},{"$f":"IF(ISBLANK(InfoPro!B47),\"\",InfoPro!B47)","v":"Efigen C03 99 MW"},{"$f":"IF(ISBLANK(InfoPro!E47),\"\",InfoPro!E47)","v":99},{"$f":"IF(ISBLANK(InfoPro!F47),\"\",InfoPro!F47)","v":"Solar FV"},{"$f":"IF(ISBLANK(InfoPro!I47),\"\",YEAR(InfoPro!I47)-$G$4)","v":2},{"$f":"IF(B54=\"\",\"\",VLOOKUP(D54,Tablas!$B$2:$E$13,2,FALSE))","v":0.26},{"$f":"IF(B54=\"\",\"\",VLOOKUP(D54,Tablas!$B$2:$F$13,3,FALSE))","v":0},225482.4,0,0,0,0,0,0,0,0,0,0,0,0,0,0,0,0,0]
[{"$f":"IF(ISBLANK(InfoPro!A48),\"\",InfoPro!A48)","v":"SC_1420_A1"},{"$f":"IF(ISBLANK(InfoPro!B48),\"\",InfoPro!B48)","v":"Efigen C04 99 MW"},{"$f":"IF(ISBLANK(InfoPro!E48),\"\",InfoPro!E48)","v":99},{"$f":"IF(ISBLANK(InfoPro!F48),\"\",InfoPro!F48)","v":"Solar FV"},{"$f":"IF(ISBLANK(InfoPro!I48),\"\",YEAR(InfoPro!I48)-$G$4)","v":2},{"$f":"IF(B55=\"\",\"\",VLOOKUP(D55,Tablas!$B$2:$E$13,2,FALSE))","v":0.26},{"$f":"IF(B55=\"\",\"\",VLOOKUP(D55,Tablas!$B$2:$F$13,3,FALSE))","v":0},225482.4,0,0,0,0,0,0,0,0,0,0,0,0,0,0,0,0,0]
[{"$f":"IF(ISBLANK(InfoPro!A49),\"\",InfoPro!A49)","v":"SC_1420_A2"},{"$f":"IF(ISBLANK(InfoPro!B49),\"\",InfoPro!B49)","v":"Efigen C04 99 MW"},{"$f":"IF(ISBLANK(InfoPro!E49),\"\",InfoPro!E49)","v":99},{"$f":"IF(ISBLANK(InfoPro!F49),\"\",InfoPro!F49)","v":"Solar FV"},{"$f":"IF(ISBLANK(InfoPro!I49),\"\",YEAR(InfoPro!I49)-$G$4)","v":2},{"$f":"IF(B56=\"\",\"\",VLOOKUP(D56,Tablas!$B$2:$E$13,2,FALSE))","v":0.26},{"$f":"IF(B56=\"\",\"\",VLOOKUP(D56,Tablas!$B$2:$F$13,3,FALSE))","v":0},225482.4,0,0,0,0,0,0,0,0,0,0,0,0,0,0,0,0,0]
[{"$f":"IF(ISBLANK(InfoPro!A50),\"\",InfoPro!A50)","v":"SC_1435_A1"},{"$f":"IF(ISBLANK(InfoPro!B50),\"\",InfoPro!B50)","v":"Parque Solar Las Brisas"},{"$f":"IF(ISBLANK(InfoPro!E50),\"\",InfoPro!E50)","v":9.9},{"$f":"IF(ISBLANK(InfoPro!F50),\"\",InfoPro!F50)","v":"Solar FV"},{"$f":"IF(ISBLANK(InfoPro!I50),\"\",YEAR(InfoPro!I50)-$G$4)","v":1},{"$f":"IF(B57=\"\",\"\",VLOOKUP(D57,Tablas!$B$2:$E$13,2,FALSE))","v":0.26},{"$f":"IF(B57=\"\",\"\",VLOOKUP(D57,Tablas!$B$2:$F$13,3,FALSE))","v":0},22548.240000000005,0,0,0,0,0,0,0,0,0,0,0,0,0,0,0,0,0]
[{"$f":"IF(ISBLANK(InfoPro!A51),\"\",InfoPro!A51)","v":"SC_978_A1"},{"$f":"IF(ISBLANK(InfoPro!B51),\"\",InfoPro!B51)","v":"Borugo Solar"},{"$f":"IF(ISBLANK(InfoPro!E51),\"\",InfoPro!E51)","v":99.9},{"$f":"IF(ISBLANK(InfoPro!F51),\"\",InfoPro!F51)","v":"Solar FV"},{"$f":"IF(ISBLANK(InfoPro!I51),\"\",YEAR(InfoPro!I51)-$G$4)","v":3},{"$f":"IF(B58=\"\",\"\",VLOOKUP(D58,Tablas!$B$2:$E$13,2,FALSE))","v":0.26},{"$f":"IF(B58=\"\",\"\",VLOOKUP(D58,Tablas!$B$2:$F$13,3,FALSE))","v":0},227532.24000000002,0,0,0,0,0,0,0,0,0,0,0,0,0,0,0,0,0]
[{"$f":"IF(ISBLANK(InfoPro!A52),\"\",InfoPro!A52)","v":"SC_1520_A1"},{"$f":"IF(ISBLANK(InfoPro!B52),\"\",InfoPro!B52)","v":"Autogenerador Solar Argos Tolcemento - 19.9 MW"},{"$f":"IF(ISBLANK(InfoPro!E52),\"\",InfoPro!E52)","v":19.899999999999999},{"$f":"IF(ISBLANK(InfoPro!F52),\"\",InfoPro!F52)","v":"Solar FV"},{"$f":"IF(ISBLANK(InfoPro!I52),\"\",YEAR(InfoPro!I52)-$G$4)","v":1},{"$f":"IF(B59=\"\",\"\",VLOOKUP(D59,Tablas!$B$2:$E$13,2,FALSE))","v":0.26},{"$f":"IF(B59=\"\",\"\",VLOOKUP(D59,Tablas!$B$2:$F$13,3,FALSE))","v":0},45324.24,{"$f":"IF($H59=\"\",\"\",(1/(1+$C$4)^(I$7+$E59))*$H59*$G59*$C$3)","v":0},0,0,0,0,0,0,0,0,0,0,0,0,0,0,0,0]
[{"$f":"IF(ISBLANK(InfoPro!A53),\"\",InfoPro!A53)","v":"SC_1520_A2"},{"$f":"IF(ISBLANK(InfoPro!B53),\"\",InfoPro!B53)","v":"Autogenerador Solar Argos Tolcemento - 19.9 MW"},{"$f":"IF(ISBLANK(InfoPro!E53),\"\",InfoPro!E53)","v":19.899999999999999},{"$f":"IF(ISBLANK(InfoPro!F53),\"\",InfoPro!F53)","v":"Solar FV"},{"$f":"IF(ISBLANK(InfoPro!I53),\"\",YEAR(InfoPro!I53)-$G$4)","v":1},{"$f":"IF(B60=\"\",\"\",VLOOKUP(D60,Tablas!$B$2:$E$13,2,FALSE))","v":0.26},{"$f":"IF(B60=\"\",\"\",VLOOKUP(D60,Tablas!$B$2:$F$13,3,FALSE))","v":0},45324.24,0,0,0,0,0,0,0,0,0,0,0,0,0,0,0,0,0]
[{"$f":"IF(ISBLANK(InfoPro!A54),\"\",InfoPro!A54)","v":"SC_1527_A1"},{"$f":"IF(ISBLANK(InfoPro!B54),\"\",InfoPro!B54)","v":"Nueva Montería Solar III _9,9 MW"},{"$f":"IF(ISBLANK(InfoPro!E54),\"\",InfoPro!E54)","v":9.9},{"$f":"IF(ISBLANK(InfoPro!F54),\"\",InfoPro!F54)","v":"Solar FV"},{"$f":"IF(ISBLANK(InfoPro!I54),\"\",YEAR(InfoPro!I54)-$G$4)","v":2},{"$f":"IF(B61=\"\",\"\",VLOOKUP(D61,Tablas!$B$2:$E$13,2,FALSE))","v":0.26},{"$f":"IF(B61=\"\",\"\",VLOOKUP(D61,Tablas!$B$2:$F$13,3,FALSE))","v":0},22548.240000000005,0,0,0,0,0,0,0,0,0,0,0,0,0,0,0,0,0]
[{"$f":"IF(ISBLANK(InfoPro!A55),\"\",InfoPro!A55)","v":"SC_1527_A2"},{"$f":"IF(ISBLANK(InfoPro!B55),\"\",InfoPro!B55)","v":"Nueva Montería Solar III _9,9 MW"},{"$f":"IF(ISBLANK(InfoPro!E55),\"\",InfoPro!E55)","v":9.9},{"$f":"IF(ISBLANK(InfoPro!F55),\"\",InfoPro!F55)","v":"Solar FV"},{"$f":"IF(ISBLANK(InfoPro!I55),\"\",YEAR(InfoPro!I55)-$G$4)","v":2},{"$f":"IF(B62=\"\",\"\",VLOOKUP(D62,Tablas!$B$2:$E$13,2,FALSE))","v":0.26},{"$f":"IF(B62=\"\",\"\",VLOOKUP(D62,Tablas!$B$2:$F$13,3,FALSE))","v":0},22548.240000000005,0,0,0,0,0,0,0,0,0,0,0,0,0,0,0,0,0]
[{"$f":"IF(ISBLANK(InfoPro!A56),\"\",InfoPro!A56)","v":"SC_1395_A1"},{"$f":"IF(ISBLANK(InfoPro!B56),\"\",InfoPro!B56)","v":"San Marcos I 19.9"},{"$f":"IF(ISBLANK(InfoPro!E56),\"\",InfoPro!E56)","v":19.899999999999999},{"$f":"IF(ISBLANK(InfoPro!F56),\"\",InfoPro!F56)","v":"Solar FV"},{"$f":"IF(ISBLANK(InfoPro!I56),\"\",YEAR(InfoPro!I56)-$G$4)","v":3},{"$f":"IF(B63=\"\",\"\",VLOOKUP(D63,Tablas!$B$2:$E$13,2,FALSE))","v":0.26},{"$f":"IF(B63=\"\",\"\",VLOOKUP(D63,Tablas!$B$2:$F$13,3,FALSE))","v":0},45324.24,0,0,0,0,0,0,0,0,0,0,0,0,0,0,0,0,0]
[{"$f":"IF(ISBLANK(InfoPro!A57),\"\",InfoPro!A57)","v":"SC_1396_A1"},{"$f":"IF(ISBLANK(InfoPro!B57),\"\",InfoPro!B57)","v":"San Marcos II 19.9"},{"$f":"IF(ISBLANK(InfoPro!E57),\"\",InfoPro!E57)","v":19.899999999999999},{"$f":"IF(ISBLANK(InfoPro!F57),\"\",InfoPro!F57)","v":"Solar FV"},{"$f":"IF(ISBLANK(InfoPro!I57),\"\",YEAR(InfoPro!I57)-$G$4)","v":3},{"$f":"IF(B64=\"\",\"\",VLOOKUP(D64,Tablas!$B$2:$E$13,2,FALSE))","v":0.26},{"$f":"IF(B64=\"\",\"\",VLOOKUP(D64,Tablas!$B$2:$F$13,3,FALSE))","v":0},45324.24,0,0,0,0,0,0,0,0,0,0,0,0,0,0,0,0,0]
[{"$f":"IF(ISBLANK(InfoPro!A58),\"\",InfoPro!A58)","v":"SC_1359_A1"},{"$f":"IF(ISBLANK(InfoPro!B58),\"\",InfoPro!B58)","v":"El Corozo_250MW"},{"$f":"IF(ISBLANK(InfoPro!E58),\"\",InfoPro!E58)","v":250},{"$f":"IF(ISBLANK(InfoPro!F58),\"\",InfoPro!F58)","v":"Solar FV"},{"$f":"IF(ISBLANK(InfoPro!I58),\"\",YEAR(InfoPro!I58)-$G$4)","v":4},{"$f":"IF(B65=\"\",\"\",VLOOKUP(D65,Tablas!$B$2:$E$13,2,FALSE))","v":0.26},{"$f":"IF(B65=\"\",\"\",VLOOKUP(D65,Tablas!$B$2:$F$13,3,FALSE))","v":0},569400,0,0,0,0,0,0,0,0,0,0,0,0,0,0,0,0,0]
[{"$f":"IF(ISBLANK(InfoPro!A59),\"\",InfoPro!A59)","v":"SC_1359_A2"},{"$f":"IF(ISBLANK(InfoPro!B59),\"\",InfoPro!B59)","v":"El Corozo_250MW"},{"$f":"IF(ISBLANK(InfoPro!E59),\"\",InfoPro!E59)","v":250},{"$f":"IF(ISBLANK(InfoPro!F59),\"\",InfoPro!F59)","v":"Solar FV"},{"$f":"IF(ISBLANK(InfoPro!I59),\"\",YEAR(InfoPro!I59)-$G$4)","v":4},{"$f":"IF(B66=\"\",\"\",VLOOKUP(D66,Tablas!$B$2:$E$13,2,FALSE))","v":0.26},{"$f":"IF(B66=\"\",\"\",VLOOKUP(D66,Tablas!$B$2:$F$13,3,FALSE))","v":0},569400,0,0,0,0,0,0,0,0,0,0,0,0,0,0,0,0,0]
[{"$f":"IF(ISBLANK(InfoPro!A60),\"\",InfoPro!A60)","v":"SC_1598_A1"},{"$f":"IF(ISBLANK(InfoPro!B60),\"\",InfoPro!B60)","v":"PARQUE SOLAR FOTOVOLTAICO MATIMBA de 150MW"},{"$f":"IF(ISBLANK(InfoPro!E60),\"\",InfoPro!E60)","v":150},{"$f":"IF(ISBLANK(InfoPro!F60),\"\",InfoPro!F60)","v":"Solar FV"},{"$f":"IF(ISBLANK(InfoPro!I60),\"\",YEAR(InfoPro!I60)-$G$4)","v":3},{"$f":"IF(B67=\"\",\"\",VLOOKUP(D67,Tablas!$B$2:$E$13,2,FALSE))","v":0.26},{"$f":"IF(B67=\"\",\"\",VLOOKUP(D67,Tablas!$B$2:$F$13,3,FALSE))","v":0},341640,0,0,0,0,0,0,0,0,0,0,0,0,0,0,0,0,0]
[{"$f":"IF(ISBLANK(InfoPro!A61),\"\",InfoPro!A61)","v":"SC_1598_A2"},{"$f":"IF(ISBLANK(InfoPro!B61),\"\",InfoPro!B61)","v":"PARQUE SOLAR FOTOVOLTAICO MATIMBA de 150MW"},{"$f":"IF(ISBLANK(InfoPro!E61),\"\",InfoPro!E61)","v":150},{"$f":"IF(ISBLANK(InfoPro!F61),\"\",InfoPro!F61)","v":"Solar FV"},{"$f":"IF(ISBLANK(InfoPro!I61),\"\",YEAR(InfoPro!I61)-$G$4)","v":3},{"$f":"IF(B68=\"\",\"\",VLOOKUP(D68,Tablas!$B$2:$E$13,2,FALSE))","v":0.26},{"$f":"IF(B68=\"\",\"\",VLOOKUP(D68,Tablas!$B$2:$F$13,3,FALSE))","v":0},341640,0,0,0,0,0,0,0,0,0,0,0,0,0,0,0,0,0]
[{"$f":"IF(ISBLANK(InfoPro!A62),\"\",InfoPro!A62)","v":"SC_981_A1"},{"$f":"IF(ISBLANK(InfoPro!B62),\"\",InfoPro!B62)","v":"Yaguarundi Solar"},{"$f":"IF(ISBLANK(InfoPro!E62),\"\",InfoPro!E62)","v":40},{"$f":"IF(ISBLANK(InfoPro!F62),\"\",InfoPro!F62)","v":"Solar FV"},{"$f":"IF(ISBLANK(InfoPro!I62),\"\",YEAR(InfoPro!I62)-$G$4)","v":3},{"$f":"IF(B69=\"\",\"\",VLOOKUP(D69,Tablas!$B$2:$E$13,2,FALSE))","v":0.26},{"$f":"IF(B69=\"\",\"\",VLOOKUP(D69,Tablas!$B$2:$F$13,3,FALSE))","v":0},91104.000000000015,{"$f":"IF($H69=\"\",\"\",(1/(1+$C$4)^(I$7+$E69))*$H69*$G69*$C$3)","v":0},0,0,0,0,0,0,0,0,0,0,0,0,0,0,0,0]
[{"$f":"IF(ISBLANK(InfoPro!A63),\"\",InfoPro!A63)","v":"SC_981_A2"},{"$f":"IF(ISBLANK(InfoPro!B63),\"\",InfoPro!B63)","v":"Yaguarundi Solar"},{"$f":"IF(ISBLANK(InfoPro!E63),\"\",InfoPro!E63)","v":40},{"$f":"IF(ISBLANK(InfoPro!F63),\"\",InfoPro!F63)","v":"Solar FV"},{"$f":"IF(ISBLANK(InfoPro!I63),\"\",YEAR(InfoPro!I63)-$G$4)","v":3},{"$f":"IF(B70=\"\",\"\",VLOOKUP(D70,Tablas!$B$2:$E$13,2,FALSE))","v":0.26},{"$f":"IF(B70=\"\",\"\",VLOOKUP(D70,Tablas!$B$2:$F$13,3,FALSE))","v":0},91104.000000000015,0,0,0,0,0,0,0,0,0,0,0,0,0,0,0,0,0]
[{"$f":"IF(ISBLANK(InfoPro!A64),\"\",InfoPro!A64)","v":"SC_1634_A1"},{"$f":"IF(ISBLANK(InfoPro!B64),\"\",InfoPro!B64)","v":"El Tapir Solar 99.9 MW"},{"$f":"IF(ISBLANK(InfoPro!E64),\"\",InfoPro!E64)","v":99.9},{"$f":"IF(ISBLANK(InfoPro!F64),\"\",InfoPro!F64)","v":"Solar FV"},{"$f":"IF(ISBLANK(InfoPro!I64),\"\",YEAR(InfoPro!I64)-$G$4)","v":3},{"$f":"IF(B71=\"\",\"\",VLOOKUP(D71,Tablas!$B$2:$E$13,2,FALSE))","v":0.26},{"$f":"IF(B71=\"\",\"\",VLOOKUP(D71,Tablas!$B$2:$F$13,3,FALSE))","v":0},227532.24000000002,0,0,0,0,0,0,0,0,0,0,0,0,0,0,0,0,0]
[{"$f":"IF(ISBLANK(InfoPro!A65),\"\",InfoPro!A65)","v":"SC_782_A1"},{"$f":"IF(ISBLANK(InfoPro!B65),\"\",InfoPro!B65)","v":"Parque Solar El Corozo 60 MW"},{"$f":"IF(ISBLANK(InfoPro!E65),\"\",InfoPro!E65)","v":60},{"$f":"IF(ISBLANK(InfoPro!F65),\"\",InfoPro!F65)","v":"Solar FV"},{"$f":"IF(ISBLANK(InfoPro!I65),\"\",YEAR(InfoPro!I65)-$G$4)","v":3},{"$f":"IF(B72=\"\",\"\",VLOOKUP(D72,Tablas!$B$2:$E$13,2,FALSE))","v":0.26},{"$f":"IF(B72=\"\",\"\",VLOOKUP(D72,Tablas!$B$2:$F$13,3,FALSE))","v":0},136656,0,0,0,0,0,0,0,0,0,0,0,0,0,0,0,0,0]
[{"$f":"IF(ISBLANK(InfoPro!A66),\"\",InfoPro!A66)","v":"SC_782_A2"},{"$f":"IF(ISBLANK(InfoPro!B66),\"\",InfoPro!B66)","v":"Parque Solar El Corozo 60 MW"},{"$f":"IF(ISBLANK(InfoPro!E66),\"\",InfoPro!E66)","v":60},{"$f":"IF(ISBLANK(InfoPro!F66),\"\",InfoPro!F66)","v":"Solar FV"},{"$f":"IF(ISBLANK(InfoPro!I66),\"\",YEAR(InfoPro!I66)-$G$4)","v":3},{"$f":"IF(B73=\"\",\"\",VLOOKUP(D73,Tablas!$B$2:$E$13,2,FALSE))","v":0.26},{"$f":"IF(B73=\"\",\"\",VLOOKUP(D73,Tablas!$B$2:$F$13,3,FALSE))","v":0},{"$f":"IF(C73=\"\",\"\",+C73*F73*24*365)","v":136656},0,0,0,0,0,0,0,0,0,0,0,0,0,0,0,0,0]
[{"$f":"IF(ISBLANK(InfoPro!A67),\"\",InfoPro!A67)","v":"SC_1762_A1"},{"$f":"IF(ISBLANK(InfoPro!B67),\"\",InfoPro!B67)","v":"SPK CERETÉ SOLAR_19.9MW"},{"$f":"IF(ISBLANK(InfoPro!E67),\"\",InfoPro!E67)","v":19.899999999999999},{"$f":"IF(ISBLANK(InfoPro!F67),\"\",InfoPro!F67)","v":"Solar FV"},{"$f":"IF(ISBLANK(InfoPro!I67),\"\",YEAR(InfoPro!I67)-$G$4)","v":3},{"$f":"IF(B74=\"\",\"\",VLOOKUP(D74,Tablas!$B$2:$E$13,2,FALSE))","v":0.26},{"$f":"IF(B74=\"\",\"\",VLOOKUP(D74,Tablas!$B$2:$F$13,3,FALSE))","v":0},45324.24,0,0,0,0,0,0,0,0,0,0,0,0,0,0,0,{"$f":"IF(W74=\"\",\"\",SUM(I74:W74))","v":0},{"$f":"IF(C74=0,0,IF(X74=\"\",\"\",X74/(C74*1000)))","v":0}]
[{"$f":"IF(ISBLANK(InfoPro!A68),\"\",InfoPro!A68)","v":"SC_1762_A2"},{"$f":"IF(ISBLANK(InfoPro!B68),\"\",InfoPro!B68)","v":"SPK CERETÉ SOLAR_19.9MW"},{"$f":"IF(ISBLANK(InfoPro!E68),\"\",InfoPro!E68)","v":19.899999999999999},{"$f":"IF(ISBLANK(InfoPro!F68),\"\",InfoPro!F68)","v":"Solar FV"},{"$f":"IF(ISBLANK(InfoPro!I68),\"\",YEAR(InfoPro!I68)-$G$4)","v":3},{"$f":"IF(B75=\"\",\"\",VLOOKUP(D75,Tablas!$B$2:$E$13,2,FALSE))","v":0.26},{"$f":"IF(B75=\"\",\"\",VLOOKUP(D75,Tablas!$B$2:$F$13,3,FALSE))","v":0},45324.24,0,0,0,0,0,0,0,0,0,0,0,0,0,0,0,0,0]
[{"$f":"IF(ISBLANK(InfoPro!A69),\"\",InfoPro!A69)","v":"SC_1782_A1"},{"$f":"IF(ISBLANK(InfoPro!B69),\"\",InfoPro!B69)","v":"Orquídea del Sucre - Toluviejo"},{"$f":"IF(ISBLANK(InfoPro!E69),\"\",InfoPro!E69)","v":112},{"$f":"IF(ISBLANK(InfoPro!F69),\"\",InfoPro!F69)","v":"Solar FV"},{"$f":"IF(ISBLANK(InfoPro!I69),\"\",YEAR(InfoPro!I69)-$G$4)","v":4},{"$f":"IF(B76=\"\",\"\",VLOOKUP(D76,Tablas!$B$2:$E$13,2,FALSE))","v":0.26},{"$f":"IF(B76=\"\",\"\",VLOOKUP(D76,Tablas!$B$2:$F$13,3,FALSE))","v":0},255091.20000000001,0,0,0,0,0,0,0,0,0,0,0,0,0,0,0,0,0]
[{"$f":"IF(ISBLANK(InfoPro!A70),\"\",InfoPro!A70)","v":"SC_1782_A2"},{"$f":"IF(ISBLANK(InfoPro!B70),\"\",InfoPro!B70)","v":"Orquídea del Sucre - Toluviejo"},{"$f":"IF(ISBLANK(InfoPro!E70),\"\",InfoPro!E70)","v":112},{"$f":"IF(ISBLANK(InfoPro!F70),\"\",InfoPro!F70)","v":"Solar FV"},{"$f":"IF(ISBLANK(InfoPro!I70),\"\",YEAR(InfoPro!I70)-$G$4)","v":4},{"$f":"IF(B77=\"\",\"\",VLOOKUP(D77,Tablas!$B$2:$E$13,2,FALSE))","v":0.26},{"$f":"IF(B77=\"\",\"\",VLOOKUP(D77,Tablas!$B$2:$F$13,3,FALSE))","v":0},255091.20000000001,0,0,0,0,0,0,0,0,0,0,0,0,0,0,0,0,0]
[{"$f":"IF(ISBLANK(InfoPro!A71),\"\",InfoPro!A71)","v":"SC_1784_A1"},{"$f":"IF(ISBLANK(InfoPro!B71),\"\",InfoPro!B71)","v":"Pétalo del Sucre - Sierra Flor 9,9 MW"},{"$f":"IF(ISBLANK(InfoPro!E71),\"\",InfoPro!E71)","v":9.9},{"$f":"IF(ISBLANK(InfoPro!F71),\"\",InfoPro!F71)","v":"Solar FV"},{"$f":"IF(ISBLANK(InfoPro!I71),\"\",YEAR(InfoPro!I71)-$G$4)","v":3},{"$f":"IF(B78=\"\",\"\",VLOOKUP(D78,Tablas!$B$2:$E$13,2,FALSE))","v":0.26},{"$f":"IF(B78=\"\",\"\",VLOOKUP(D78,Tablas!$B$2:$F$13,3,FALSE))","v":0},22548.240000000005,0,0,0,0,0,0,0,0,0,0,0,0,0,0,0,0,0]
[{"$f":"IF(ISBLANK(InfoPro!A72),\"\",InfoPro!A72)","v":"SC_1784_A2"},{"$f":"IF(ISBLANK(InfoPro!B72),\"\",InfoPro!B72)","v":"Pétalo del Sucre - Sierra Flor 9,9 MW"},{"$f":"IF(ISBLANK(InfoPro!E72),\"\",InfoPro!E72)","v":9.9},{"$f":"IF(ISBLANK(InfoPro!F72),\"\",InfoPro!F72)","v":"Solar FV"},{"$f":"IF(ISBLANK(InfoPro!I72),\"\",YEAR(InfoPro!I72)-$G$4)","v":3},{"$f":"IF(B79=\"\",\"\",VLOOKUP(D79,Tablas!$B$2:$E$13,2,FALSE))","v":0.26},{"$f":"IF(B79=\"\",\"\",VLOOKUP(D79,Tablas!$B$2:$F$13,3,FALSE))","v":0},22548.240000000005,{"$f":"IF($H79=\"\",\"\",(1/(1+$C$4)^(I$7+$E79))*$H79*$G79*$C$3)","v":0},0,0,0,0,0,0,0,0,0,0,0,0,0,0,0,0]
[{"$f":"IF(ISBLANK(InfoPro!A73),\"\",InfoPro!A73)","v":"SC_1715_A1"},{"$f":"IF(ISBLANK(InfoPro!B73),\"\",InfoPro!B73)","v":"Andrómeda Solar de 50 MW (entrega 41 MW)"},{"$f":"IF(ISBLANK(InfoPro!E73),\"\",InfoPro!E73)","v":41},{"$f":"IF(ISBLANK(InfoPro!F73),\"\",InfoPro!F73)","v":"Solar FV"},{"$f":"IF(ISBLANK(InfoPro!I73),\"\",YEAR(InfoPro!I73)-$G$4)","v":3},{"$f":"IF(B80=\"\",\"\",VLOOKUP(D80,Tablas!$B$2:$E$13,2,FALSE))","v":0.26},{"$f":"IF(B80=\"\",\"\",VLOOKUP(D80,Tablas!$B$2:$F$13,3,FALSE))","v":0},93381.6,0,0,0,0,0,0,0,0,0,0,0,0,0,0,0,0,0]
[{"$f":"IF(ISBLANK(InfoPro!A74),\"\",InfoPro!A74)","v":"SC_1715_A2"},{"$f":"IF(ISBLANK(InfoPro!B74),\"\",InfoPro!B74)","v":"Andrómeda Solar de 50 MW (entrega 41 MW)"},{"$f":"IF(ISBLANK(InfoPro!E74),\"\",InfoPro!E74)","v":41},{"$f":"IF(ISBLANK(InfoPro!F74),\"\",InfoPro!F74)","v":"Solar FV"},{"$f":"IF(ISBLANK(InfoPro!I74),\"\",YEAR(InfoPro!I74)-$G$4)","v":3},{"$f":"IF(B81=\"\",\"\",VLOOKUP(D81,Tablas!$B$2:$E$13,2,FALSE))","v":0.26},{"$f":"IF(B81=\"\",\"\",VLOOKUP(D81,Tablas!$B$2:$F$13,3,FALSE))","v":0},93381.6,0,0,0,0,0,0,0,0,0,0,0,0,0,0,0,0,0]
[{"$f":"IF(ISBLANK(InfoPro!A75),\"\",InfoPro!A75)","v":"SC_1809_A1"},{"$f":"IF(ISBLANK(InfoPro!B75),\"\",InfoPro!B75)","v":"DSE COVEÑAS"},{"$f":"IF(ISBLANK(InfoPro!E75),\"\",InfoPro!E75)","v":9.9},{"$f":"IF(ISBLANK(InfoPro!F75),\"\",InfoPro!F75)","v":"Solar FV"},{"$f":"IF(ISBLANK(InfoPro!I75),\"\",YEAR(InfoPro!I75)-$G$4)","v":2},{"$f":"IF(B82=\"\",\"\",VLOOKUP(D82,Tablas!$B$2:$E$13,2,FALSE))","v":0.26},{"$f":"IF(B82=\"\",\"\",VLOOKUP(D82,Tablas!$B$2:$F$13,3,FALSE))","v":0},22548.240000000005,0,0,0,0,0,0,0,0,0,0,0,0,0,0,0,0,0]
[{"$f":"IF(ISBLANK(InfoPro!A76),\"\",InfoPro!A76)","v":"SC_1809_A2"},{"$f":"IF(ISBLANK(InfoPro!B76),\"\",InfoPro!B76)","v":"DSE COVEÑAS"},{"$f":"IF(ISBLANK(InfoPro!E76),\"\",InfoPro!E76)","v":9.9},{"$f":"IF(ISBLANK(InfoPro!F76),\"\",InfoPro!F76)","v":"Solar FV"},{"$f":"IF(ISBLANK(InfoPro!I76),\"\",YEAR(InfoPro!I76)-$G$4)","v":2},{"$f":"IF(B83=\"\",\"\",VLOOKUP(D83,Tablas!$B$2:$E$13,2,FALSE))","v":0.26},{"$f":"IF(B83=\"\",\"\",VLOOKUP(D83,Tablas!$B$2:$F$13,3,FALSE))","v":0},22548.240000000005,0,0,0,0,0,0,0,0,0,0,0,0,0,0,0,0,0]
[{"$f":"IF(ISBLANK(InfoPro!A77),\"\",InfoPro!A77)","v":"SC_1838_A1"},{"$f":"IF(ISBLANK(InfoPro!B77),\"\",InfoPro!B77)","v":"Since Solar I 9,9 MW"},{"$f":"IF(ISBLANK(InfoPro!E77),\"\",InfoPro!E77)","v":9.9},{"$f":"IF(ISBLANK(InfoPro!F77),\"\",InfoPro!F77)","v":"Solar FV"},{"$f":"IF(ISBLANK(InfoPro!I77),\"\",YEAR(InfoPro!I77)-$G$4)","v":2},{"$f":"IF(B84=\"\",\"\",VLOOKUP(D84,Tablas!$B$2:$E$13,2,FALSE))","v":0.26},{"$f":"IF(B84=\"\",\"\",VLOOKUP(D84,Tablas!$B$2:$F$13,3,FALSE))","v":0},22548.240000000005,0,0,0,0,0,0,0,0,0,0,0,0,0,0,0,0,0]
[{"$f":"IF(ISBLANK(InfoPro!A78),\"\",InfoPro!A78)","v":"SC_1838_A2"},{"$f":"IF(ISBLANK(InfoPro!B78),\"\",InfoPro!B78)","v":"Since Solar I 9,9 MW"},{"$f":"IF(ISBLANK(InfoPro!E78),\"\",InfoPro!E78)","v":9.9},{"$f":"IF(ISBLANK(InfoPro!F78),\"\",InfoPro!F78)","v":"Solar FV"},{"$f":"IF(ISBLANK(InfoPro!I78),\"\",YEAR(InfoPro!I78)-$G$4)","v":2},{"$f":"IF(B85=\"\",\"\",VLOOKUP(D85,Tablas!$B$2:$E$13,2,FALSE))","v":0.26},{"$f":"IF(B85=\"\",\"\",VLOOKUP(D85,Tablas!$B$2:$F$13,3,FALSE))","v":0},22548.240000000005,0,0,0,0,0,0,0,0,0,0,0,0,0,0,0,0,0]
[{"$f":"IF(ISBLANK(InfoPro!A79),\"\",InfoPro!A79)","v":"SC_1853_A1"},{"$f":"IF(ISBLANK(InfoPro!B79),\"\",InfoPro!B79)","v":"Tolú Solar 9,9 MW"},{"$f":"IF(ISBLANK(InfoPro!E79),\"\",InfoPro!E79)","v":9.9},{"$f":"IF(ISBLANK(InfoPro!F79),\"\",InfoPro!F79)","v":"Solar FV"},{"$f":"IF(ISBLANK(InfoPro!I79),\"\",YEAR(InfoPro!I79)-$G$4)","v":2},{"$f":"IF(B86=\"\",\"\",VLOOKUP(D86,Tablas!$B$2:$E$13,2,FALSE))","v":0.26},{"$f":"IF(B86=\"\",\"\",VLOOKUP(D86,Tablas!$B$2:$F$13,3,FALSE))","v":0},22548.240000000005,0,0,0,0,0,0,0,0,0,0,0,0,0,0,0,0,0]
[{"$f":"IF(ISBLANK(InfoPro!A80),\"\",InfoPro!A80)","v":"SC_1853_A2"},{"$f":"IF(ISBLANK(InfoPro!B80),\"\",InfoPro!B80)","v":"Tolú Solar 9,9 MW"},{"$f":"IF(ISBLANK(InfoPro!E80),\"\",InfoPro!E80)","v":9.9},{"$f":"IF(ISBLANK(InfoPro!F80),\"\",InfoPro!F80)","v":"Solar FV"},{"$f":"IF(ISBLANK(InfoPro!I80),\"\",YEAR(InfoPro!I80)-$G$4)","v":2},{"$f":"IF(B87=\"\",\"\",VLOOKUP(D87,Tablas!$B$2:$E$13,2,FALSE))","v":0.26},{"$f":"IF(B87=\"\",\"\",VLOOKUP(D87,Tablas!$B$2:$F$13,3,FALSE))","v":0},22548.240000000005,0,0,0,0,0,0,0,0,0,0,0,0,0,0,0,0,0]
[{"$f":"IF(ISBLANK(InfoPro!A81),\"\",InfoPro!A81)","v":"SC_1882_A1"},{"$f":"IF(ISBLANK(InfoPro!B81),\"\",InfoPro!B81)","v":"Proyecto Solar Oviedo"},{"$f":"IF(ISBLANK(InfoPro!E81),\"\",InfoPro!E81)","v":9.9},{"$f":"IF(ISBLANK(InfoPro!F81),\"\",InfoPro!F81)","v":"Solar FV"},{"$f":"IF(ISBLANK(InfoPro!I81),\"\",YEAR(InfoPro!I81)-$G$4)","v":2},{"$f":"IF(B88=\"\",\"\",VLOOKUP(D88,Tablas!$B$2:$E$13,2,FALSE))","v":0.26},{"$f":"IF(B88=\"\",\"\",VLOOKUP(D88,Tablas!$B$2:$F$13,3,FALSE))","v":0},22548.240000000005,0,0,0,0,0,0,0,0,0,0,0,0,0,0,0,0,0]
[{"$f":"IF(ISBLANK(InfoPro!A82),\"\",InfoPro!A82)","v":"SC_1882_A2"},{"$f":"IF(ISBLANK(InfoPro!B82),\"\",InfoPro!B82)","v":"Proyecto Solar Oviedo"},{"$f":"IF(ISBLANK(InfoPro!E82),\"\",InfoPro!E82)","v":9.9},{"$f":"IF(ISBLANK(InfoPro!F82),\"\",InfoPro!F82)","v":"Solar FV"},{"$f":"IF(ISBLANK(InfoPro!I82),\"\",YEAR(InfoPro!I82)-$G$4)","v":2},{"$f":"IF(B89=\"\",\"\",VLOOKUP(D89,Tablas!$B$2:$E$13,2,FALSE))","v":0.26},{"$f":"IF(B89=\"\",\"\",VLOOKUP(D89,Tablas!$B$2:$F$13,3,FALSE))","v":0},22548.240000000005,0,0,0,0,0,0,0,0,0,0,0,0,0,0,0,0,0]
[{"$f":"IF(ISBLANK(InfoPro!A83),\"\",InfoPro!A83)","v":"SC_1913_A1"},{"$f":"IF(ISBLANK(InfoPro!B83),\"\",InfoPro!B83)","v":"PS Noe"},{"$f":"IF(ISBLANK(InfoPro!E83),\"\",InfoPro!E83)","v":9.9},{"$f":"IF(ISBLANK(InfoPro!F83),\"\",InfoPro!F83)","v":"Solar FV"},{"$f":"IF(ISBLANK(InfoPro!I83),\"\",YEAR(InfoPro!I83)-$G$4)","v":2},{"$f":"IF(B90=\"\",\"\",VLOOKUP(D90,Tablas!$B$2:$E$13,2,FALSE))","v":0.26},{"$f":"IF(B90=\"\",\"\",VLOOKUP(D90,Tablas!$B$2:$F$13,3,FALSE))","v":0},22548.240000000005,0,0,0,0,0,0,0,0,0,0,0,0,0,0,0,0,0]
[{"$f":"IF(ISBLANK(InfoPro!A84),\"\",InfoPro!A84)","v":"SC_1913_A2"},{"$f":"IF(ISBLANK(InfoPro!B84),\"\",InfoPro!B84)","v":"PS Noe"},{"$f":"IF(ISBLANK(InfoPro!E84),\"\",InfoPro!E84)","v":9.9},{"$f":"IF(ISBLANK(InfoPro!F84),\"\",InfoPro!F84)","v":"Solar FV"},{"$f":"IF(ISBLANK(InfoPro!I84),\"\",YEAR(InfoPro!I84)-$G$4)","v":2},{"$f":"IF(B91=\"\",\"\",VLOOKUP(D91,Tablas!$B$2:$E$13,2,FALSE))","v":0.26},{"$f":"IF(B91=\"\",\"\",VLOOKUP(D91,Tablas!$B$2:$F$13,3,FALSE))","v":0},22548.240000000005,0,0,0,0,0,0,0,0,0,0,0,0,0,0,0,0,0]
[{"$f":"IF(ISBLANK(InfoPro!A85),\"\",InfoPro!A85)","v":"SC_1491_A1"},{"$f":"IF(ISBLANK(InfoPro!B85),\"\",InfoPro!B85)","v":"SABANA SOLAR_90MW"},{"$f":"IF(ISBLANK(InfoPro!E85),\"\",InfoPro!E85)","v":90},{"$f":"IF(ISBLANK(InfoPro!F85),\"\",InfoPro!F85)","v":"Solar FV"},{"$f":"IF(ISBLANK(InfoPro!I85),\"\",YEAR(InfoPro!I85)-$G$4)","v":2},{"$f":"IF(B92=\"\",\"\",VLOOKUP(D92,Tablas!$B$2:$E$13,2,FALSE))","v":0.26},{"$f":"IF(B92=\"\",\"\",VLOOKUP(D92,Tablas!$B$2:$F$13,3,FALSE))","v":0},204984,0,0,0,0,0,0,0,0,0,0,0,0,0,0,0,0,0]
[{"$f":"IF(ISBLANK(InfoPro!A86),\"\",InfoPro!A86)","v":"SC_1491_A2"},{"$f":"IF(ISBLANK(InfoPro!B86),\"\",InfoPro!B86)","v":"SABANA SOLAR_90MW"},{"$f":"IF(ISBLANK(InfoPro!E86),\"\",InfoPro!E86)","v":90},{"$f":"IF(ISBLANK(InfoPro!F86),\"\",InfoPro!F86)","v":"Solar FV"},{"$f":"IF(ISBLANK(InfoPro!I86),\"\",YEAR(InfoPro!I86)-$G$4)","v":2},{"$f":"IF(B93=\"\",\"\",VLOOKUP(D93,Tablas!$B$2:$E$13,2,FALSE))","v":0.26},{"$f":"IF(B93=\"\",\"\",VLOOKUP(D93,Tablas!$B$2:$F$13,3,FALSE))","v":0},{"$f":"IF(C93=\"\",\"\",+C93*F93*24*365)","v":204984},0,0,0,0,0,0,0,0,0,0,0,0,0,0,0,{"$f":"IF(W93=\"\",\"\",SUM(I93:W93))","v":0},{"$f":"IF(C93=0,0,IF(X93=\"\",\"\",X93/(C93*1000)))","v":0}]
[{"$f":"IF(ISBLANK(InfoPro!A87),\"\",InfoPro!A87)","v":"SC_1894_A1"},{"$f":"IF(ISBLANK(InfoPro!B87),\"\",InfoPro!B87)","v":"Aquila Solar"},{"$f":"IF(ISBLANK(InfoPro!E87),\"\",InfoPro!E87)","v":47},{"$f":"IF(ISBLANK(InfoPro!F87),\"\",InfoPro!F87)","v":"Solar FV"},{"$f":"IF(ISBLANK(InfoPro!I87),\"\",YEAR(InfoPro!I87)-$G$4)","v":2},{"$f":"IF(B94=\"\",\"\",VLOOKUP(D94,Tablas!$B$2:$E$13,2,FALSE))","v":0.26},{"$f":"IF(B94=\"\",\"\",VLOOKUP(D94,Tablas!$B$2:$F$13,3,FALSE))","v":0},107047.20000000001,0,0,0,0,0,0,0,0,0,0,0,0,0,0,0,0,0]
[{"$f":"IF(ISBLANK(InfoPro!A88),\"\",InfoPro!A88)","v":"SC_1894_A2"},{"$f":"IF(ISBLANK(InfoPro!B88),\"\",InfoPro!B88)","v":"Aquila Solar"},{"$f":"IF(ISBLANK(InfoPro!E88),\"\",InfoPro!E88)","v":47},{"$f":"IF(ISBLANK(InfoPro!F88),\"\",InfoPro!F88)","v":"Solar FV"},{"$f":"IF(ISBLANK(InfoPro!I88),\"\",YEAR(InfoPro!I88)-$G$4)","v":2},{"$f":"IF(B95=\"\",\"\",VLOOKUP(D95,Tablas!$B$2:$E$13,2,FALSE))","v":0.26},{"$f":"IF(B95=\"\",\"\",VLOOKUP(D95,Tablas!$B$2:$F$13,3,FALSE))","v":0},107047.20000000001,{"$f":"IF($H95=\"\",\"\",(1/(1+$C$4)^(I$7+$E95))*$H95*$G95*$C$3)","v":0},0,0,0,0,0,0,0,0,0,0,0,0,0,0,0,0]
[{"$f":"IF(ISBLANK(InfoPro!A89),\"\",InfoPro!A89)","v":"SC_1887_A1"},{"$f":"IF(ISBLANK(InfoPro!B89),\"\",InfoPro!B89)","v":"Boston Solar"},{"$f":"IF(ISBLANK(InfoPro!E89),\"\",InfoPro!E89)","v":100},{"$f":"IF(ISBLANK(InfoPro!F89),\"\",InfoPro!F89)","v":"Solar FV"},{"$f":"IF(ISBLANK(InfoPro!I89),\"\",YEAR(InfoPro!I89)-$G$4)","v":3},{"$f":"IF(B96=\"\",\"\",VLOOKUP(D96,Tablas!$B$2:$E$13,2,FALSE))","v":0.26},{"$f":"IF(B96=\"\",\"\",VLOOKUP(D96,Tablas!$B$2:$F$13,3,FALSE))","v":0},227760,0,0,0,0,0,0,0,0,0,0,0,0,0,0,0,0,0]
[{"$f":"IF(ISBLANK(InfoPro!A90),\"\",InfoPro!A90)","v":"SC_1887_A2"},{"$f":"IF(ISBLANK(InfoPro!B90),\"\",InfoPro!B90)","v":"Boston Solar"},{"$f":"IF(ISBLANK(InfoPro!E90),\"\",InfoPro!E90)","v":100},{"$f":"IF(ISBLANK(InfoPro!F90),\"\",InfoPro!F90)","v":"Solar FV"},{"$f":"IF(ISBLANK(InfoPro!I90),\"\",YEAR(InfoPro!I90)-$G$4)","v":3},{"$f":"IF(B97=\"\",\"\",VLOOKUP(D97,Tablas!$B$2:$E$13,2,FALSE))","v":0.26},{"$f":"IF(B97=\"\",\"\",VLOOKUP(D97,Tablas!$B$2:$F$13,3,FALSE))","v":0},227760,0,0,0,0,0,0,0,0,0,0,0,0,0,0,0,0,0]
[{"$f":"IF(ISBLANK(InfoPro!A91),\"\",InfoPro!A91)","v":"SC_2104_A1"},{"$f":"IF(ISBLANK(InfoPro!B91),\"\",InfoPro!B91)","v":"El Dorado - 300 MW"},{"$f":"IF(ISBLANK(InfoPro!E91),\"\",InfoPro!E91)","v":300},{"$f":"IF(ISBLANK(InfoPro!F91),\"\",InfoPro!F91)","v":"Solar FV"},{"$f":"IF(ISBLANK(InfoPro!I91),\"\",YEAR(InfoPro!I91)-$G$4)","v":3},{"$f":"IF(B98=\"\",\"\",VLOOKUP(D98,Tablas!$B$2:$E$13,2,FALSE))","v":0.26},{"$f":"IF(B98=\"\",\"\",VLOOKUP(D98,Tablas!$B$2:$F$13,3,FALSE))","v":0},683280,0,0,0,0,0,0,0,0,0,0,0,0,0,0,0,0,0]
[{"$f":"IF(ISBLANK(InfoPro!A92),\"\",InfoPro!A92)","v":"SC_2104_A2"},{"$f":"IF(ISBLANK(InfoPro!B92),\"\",InfoPro!B92)","v":"El Dorado - 300 MW"},{"$f":"IF(ISBLANK(InfoPro!E92),\"\",InfoPro!E92)","v":300},{"$f":"IF(ISBLANK(InfoPro!F92),\"\",InfoPro!F92)","v":"Solar FV"},{"$f":"IF(ISBLANK(InfoPro!I92),\"\",YEAR(InfoPro!I92)-$G$4)","v":3},{"$f":"IF(B99=\"\",\"\",VLOOKUP(D99,Tablas!$B$2:$E$13,2,FALSE))","v":0.26},{"$f":"IF(B99=\"\",\"\",VLOOKUP(D99,Tablas!$B$2:$F$13,3,FALSE))","v":0},683280,0,0,0,0,0,0,0,0,0,0,0,0,0,0,0,0,0]
[{"$f":"IF(ISBLANK(InfoPro!A93),\"\",InfoPro!A93)","v":"SC_2028_A1"},{"$f":"IF(ISBLANK(InfoPro!B93),\"\",InfoPro!B93)","v":"Parque Solar Fandango"},{"$f":"IF(ISBLANK(InfoPro!E93),\"\",InfoPro!E93)","v":19.899999999999999},{"$f":"IF(ISBLANK(InfoPro!F93),\"\",InfoPro!F93)","v":"Solar FV"},{"$f":"IF(ISBLANK(InfoPro!I93),\"\",YEAR(InfoPro!I93)-$G$4)","v":2},{"$f":"IF(B100=\"\",\"\",VLOOKUP(D100,Tablas!$B$2:$E$13,2,FALSE))","v":0.26},{"$f":"IF(B100=\"\",\"\",VLOOKUP(D100,Tablas!$B$2:$F$13,3,FALSE))","v":0},45324.24,0,0,0,0,0,0,0,0,0,0,0,0,0,0,0,0,0]
[{"$f":"IF(ISBLANK(InfoPro!A94),\"\",InfoPro!A94)","v":"SC_2028_A2"},{"$f":"IF(ISBLANK(InfoPro!B94),\"\",InfoPro!B94)","v":"Parque Solar Fandango"},{"$f":"IF(ISBLANK(InfoPro!E94),\"\",InfoPro!E94)","v":19.899999999999999},{"$f":"IF(ISBLANK(InfoPro!F94),\"\",InfoPro!F94)","v":"Solar FV"},{"$f":"IF(ISBLANK(InfoPro!I94),\"\",YEAR(InfoPro!I94)-$G$4)","v":2},{"$f":"IF(B101=\"\",\"\",VLOOKUP(D101,Tablas!$B$2:$E$13,2,FALSE))","v":0.26},{"$f":"IF(B101=\"\",\"\",VLOOKUP(D101,Tablas!$B$2:$F$13,3,FALSE))","v":0},45324.24,0,0,0,0,0,0,0,0,0,0,0,0,0,0,0,0,0]
[{"$f":"IF(ISBLANK(InfoPro!A95),\"\",InfoPro!A95)","v":"SC_2015_A1"},{"$f":"IF(ISBLANK(InfoPro!B95),\"\",InfoPro!B95)","v":"Parque Solar El Bongo"},{"$f":"IF(ISBLANK(InfoPro!E95),\"\",InfoPro!E95)","v":19.899999999999999},{"$f":"IF(ISBLANK(InfoPro!F95),\"\",InfoPro!F95)","v":"Solar FV"},{"$f":"IF(ISBLANK(InfoPro!I95),\"\",YEAR(InfoPro!I95)-$G$4)","v":2},{"$f":"IF(B102=\"\",\"\",VLOOKUP(D102,Tablas!$B$2:$E$13,2,FALSE))","v":0.26},{"$f":"IF(B102=\"\",\"\",VLOOKUP(D102,Tablas!$B$2:$F$13,3,FALSE))","v":0},45324.24,0,0,0,0,0,0,0,0,0,0,0,0,0,0,0,0,0]
[{"$f":"IF(ISBLANK(InfoPro!A96),\"\",InfoPro!A96)","v":"SC_2015_A2"},{"$f":"IF(ISBLANK(InfoPro!B96),\"\",InfoPro!B96)","v":"Parque Solar El Bongo"},{"$f":"IF(ISBLANK(InfoPro!E96),\"\",InfoPro!E96)","v":19.899999999999999},{"$f":"IF(ISBLANK(InfoPro!F96),\"\",InfoPro!F96)","v":"Solar FV"},{"$f":"IF(ISBLANK(InfoPro!I96),\"\",YEAR(InfoPro!I96)-$G$4)","v":2},{"$f":"IF(B103=\"\",\"\",VLOOKUP(D103,Tablas!$B$2:$E$13,2,FALSE))","v":0.26},{"$f":"IF(B103=\"\",\"\",VLOOKUP(D103,Tablas!$B$2:$F$13,3,FALSE))","v":0},45324.24,0,0,0,0,0,0,0,0,0,0,0,0,0,0,0,0,0]
[{"$f":"IF(ISBLANK(InfoPro!A97),\"\",InfoPro!A97)","v":"SC_2049_A1"},{"$f":"IF(ISBLANK(InfoPro!B97),\"\",InfoPro!B97)","v":"Parque Solar Sinú"},{"$f":"IF(ISBLANK(InfoPro!E97),\"\",InfoPro!E97)","v":9.9},{"$f":"IF(ISBLANK(InfoPro!F97),\"\",InfoPro!F97)","v":"Solar FV"},{"$f":"IF(ISBLANK(InfoPro!I97),\"\",YEAR(InfoPro!I97)-$G$4)","v":2},{"$f":"IF(B104=\"\",\"\",VLOOKUP(D104,Tablas!$B$2:$E$13,2,FALSE))","v":0.26},{"$f":"IF(B104=\"\",\"\",VLOOKUP(D104,Tablas!$B$2:$F$13,3,FALSE))","v":0},22548.240000000005,0,0,0,0,0,0,0,0,0,0,0,0,0,0,0,0,0]
[{"$f":"IF(ISBLANK(InfoPro!A98),\"\",InfoPro!A98)","v":"SC_2049_A2"},{"$f":"IF(ISBLANK(InfoPro!B98),\"\",InfoPro!B98)","v":"Parque Solar Sinú"},{"$f":"IF(ISBLANK(InfoPro!E98),\"\",InfoPro!E98)","v":9.9},{"$f":"IF(ISBLANK(InfoPro!F98),\"\",InfoPro!F98)","v":"Solar FV"},{"$f":"IF(ISBLANK(InfoPro!I98),\"\",YEAR(InfoPro!I98)-$G$4)","v":2},{"$f":"IF(B105=\"\",\"\",VLOOKUP(D105,Tablas!$B$2:$E$13,2,FALSE))","v":0.26},{"$f":"IF(B105=\"\",\"\",VLOOKUP(D105,Tablas!$B$2:$F$13,3,FALSE))","v":0},22548.240000000005,0,0,0,0,0,0,0,0,0,0,0,0,0,0,0,0,0]
[{"$f":"IF(ISBLANK(InfoPro!A99),\"\",InfoPro!A99)","v":"SC_2042_A1"},{"$f":"IF(ISBLANK(InfoPro!B99),\"\",InfoPro!B99)","v":"Parque Solar La Uvita"},{"$f":"IF(ISBLANK(InfoPro!E99),\"\",InfoPro!E99)","v":19.899999999999999},{"$f":"IF(ISBLANK(InfoPro!F99),\"\",InfoPro!F99)","v":"Solar FV"},{"$f":"IF(ISBLANK(InfoPro!I99),\"\",YEAR(InfoPro!I99)-$G$4)","v":2},{"$f":"IF(B106=\"\",\"\",VLOOKUP(D106,Tablas!$B$2:$E$13,2,FALSE))","v":0.26},{"$f":"IF(B106=\"\",\"\",VLOOKUP(D106,Tablas!$B$2:$F$13,3,FALSE))","v":0},45324.24,0,0,0,0,0,0,0,0,0,0,0,0,0,0,0,0,0]
[{"$f":"IF(ISBLANK(InfoPro!A100),\"\",InfoPro!A100)","v":"SC_2042_A2"},{"$f":"IF(ISBLANK(InfoPro!B100),\"\",InfoPro!B100)","v":"Parque Solar La Uvita"},{"$f":"IF(ISBLANK(InfoPro!E100),\"\",InfoPro!E100)","v":19.899999999999999},{"$f":"IF(ISBLANK(InfoPro!F100),\"\",InfoPro!F100)","v":"Solar FV"},{"$f":"IF(ISBLANK(InfoPro!I100),\"\",YEAR(InfoPro!I100)-$G$4)","v":2},{"$f":"IF(B107=\"\",\"\",VLOOKUP(D107,Tablas!$B$2:$E$13,2,FALSE))","v":0.26},{"$f":"IF(B107=\"\",\"\",VLOOKUP(D107,Tablas!$B$2:$F$13,3,FALSE))","v":0},45324.24,0,0,0,0,0,0,0,0,0,0,0,0,0,0,0,0,0]
[{"$f":"IF(ISBLANK(InfoPro!A101),\"\",InfoPro!A101)","v":"SC_2111_A1"},{"$f":"IF(ISBLANK(InfoPro!B101),\"\",InfoPro!B101)","v":"PROYECTO QUIMARÍ SOLAR_90MW"},{"$f":"IF(ISBLANK(InfoPro!E101),\"\",InfoPro!E101)","v":90},{"$f":"IF(ISBLANK(InfoPro!F101),\"\",InfoPro!F101)","v":"Solar FV"},{"$f":"IF(ISBLANK(InfoPro!I101),\"\",YEAR(InfoPro!I101)-$G$4)","v":2},{"$f":"IF(B108=\"\",\"\",VLOOKUP(D108,Tablas!$B$2:$E$13,2,FALSE))","v":0.26},{"$f":"IF(B108=\"\",\"\",VLOOKUP(D108,Tablas!$B$2:$F$13,3,FALSE))","v":0},204984,0,0,0,0,0,0,0,0,0,0,0,0,0,0,0,0,0]
[{"$f":"IF(ISBLANK(InfoPro!A102),\"\",InfoPro!A102)","v":"SC_2111_A2"},{"$f":"IF(ISBLANK(InfoPro!B102),\"\",InfoPro!B102)","v":"PROYECTO QUIMARÍ SOLAR_90MW"},{"$f":"IF(ISBLANK(InfoPro!E102),\"\",InfoPro!E102)","v":90},{"$f":"IF(ISBLANK(InfoPro!F102),\"\",InfoPro!F102)","v":"Solar FV"},{"$f":"IF(ISBLANK(InfoPro!I102),\"\",YEAR(InfoPro!I102)-$G$4)","v":2},{"$f":"IF(B109=\"\",\"\",VLOOKUP(D109,Tablas!$B$2:$E$13,2,FALSE))","v":0.26},{"$f":"IF(B109=\"\",\"\",VLOOKUP(D109,Tablas!$B$2:$F$13,3,FALSE))","v":0},204984,0,0,0,0,0,0,0,0,0,0,0,0,0,0,0,0,0]
[{"$f":"IF(ISBLANK(InfoPro!A103),\"\",InfoPro!A103)","v":"SC_2173_A1"},{"$f":"IF(ISBLANK(InfoPro!B103),\"\",InfoPro!B103)","v":"Nueva Montería Solar I 9,9 MW"},{"$f":"IF(ISBLANK(InfoPro!E103),\"\",InfoPro!E103)","v":9.9},{"$f":"IF(ISBLANK(InfoPro!F103),\"\",InfoPro!F103)","v":"Solar FV"},{"$f":"IF(ISBLANK(InfoPro!I103),\"\",YEAR(InfoPro!I103)-$G$4)","v":2},{"$f":"IF(B110=\"\",\"\",VLOOKUP(D110,Tablas!$B$2:$E$13,2,FALSE))","v":0.26},{"$f":"IF(B110=\"\",\"\",VLOOKUP(D110,Tablas!$B$2:$F$13,3,FALSE))","v":0},22548.240000000005,0,0,0,0,0,0,0,0,0,0,0,0,0,0,0,0,0]
[{"$f":"IF(ISBLANK(InfoPro!A104),\"\",InfoPro!A104)","v":"SC_2173_A2"},{"$f":"IF(ISBLANK(InfoPro!B104),\"\",InfoPro!B104)","v":"Nueva Montería Solar I 9,9 MW"},{"$f":"IF(ISBLANK(InfoPro!E104),\"\",InfoPro!E104)","v":9.9},{"$f":"IF(ISBLANK(InfoPro!F104),\"\",InfoPro!F104)","v":"Solar FV"},{"$f":"IF(ISBLANK(InfoPro!I104),\"\",YEAR(InfoPro!I104)-$G$4)","v":2},{"$f":"IF(B111=\"\",\"\",VLOOKUP(D111,Tablas!$B$2:$E$13,2,FALSE))","v":0.26},{"$f":"IF(B111=\"\",\"\",VLOOKUP(D111,Tablas!$B$2:$F$13,3,FALSE))","v":0},22548.240000000005,0,0,0,0,0,0,0,0,0,0,0,0,0,0,0,0,0]
[{"$f":"IF(ISBLANK(InfoPro!A105),\"\",InfoPro!A105)","v":"SC_2174_A1"},{"$f":"IF(ISBLANK(InfoPro!B105),\"\",InfoPro!B105)","v":"Nueva Montería Solar I 9,9 MW"},{"$f":"IF(ISBLANK(InfoPro!E105),\"\",InfoPro!E105)","v":9.9},{"$f":"IF(ISBLANK(InfoPro!F105),\"\",InfoPro!F105)","v":"Solar FV"},{"$f":"IF(ISBLANK(InfoPro!I105),\"\",YEAR(InfoPro!I105)-$G$4)","v":2},{"$f":"IF(B112=\"\",\"\",VLOOKUP(D112,Tablas!$B$2:$E$13,2,FALSE))","v":0.26},{"$f":"IF(B112=\"\",\"\",VLOOKUP(D112,Tablas!$B$2:$F$13,3,FALSE))","v":0},22548.240000000005,{"$f":"IF($H112=\"\",\"\",(1/(1+$C$4)^(I$7+$E112))*$H112*$G112*$C$3)","v":0},0,0,0,0,0,0,0,0,0,0,0,0,0,0,0,0]
[{"$f":"IF(ISBLANK(InfoPro!A106),\"\",InfoPro!A106)","v":"SC_2174_A2"},{"$f":"IF(ISBLANK(InfoPro!B106),\"\",InfoPro!B106)","v":"Nueva Montería Solar I 9,9 MW"},{"$f":"IF(ISBLANK(InfoPro!E106),\"\",InfoPro!E106)","v":9.9},{"$f":"IF(ISBLANK(InfoPro!F106),\"\",InfoPro!F106)","v":"Solar FV"},{"$f":"IF(ISBLANK(InfoPro!I106),\"\",YEAR(InfoPro!I106)-$G$4)","v":2},{"$f":"IF(B113=\"\",\"\",VLOOKUP(D113,Tablas!$B$2:$E$13,2,FALSE))","v":0.26},{"$f":"IF(B113=\"\",\"\",VLOOKUP(D113,Tablas!$B$2:$F$13,3,FALSE))","v":0},22548.240000000005,0,0,0,0,0,0,0,0,0,0,0,0,0,0,0,0,0]
[{"$f":"IF(ISBLANK(InfoPro!A107),\"\",InfoPro!A107)","v":"SC_2016_A1"},{"$f":"IF(ISBLANK(InfoPro!B107),\"\",InfoPro!B107)","v":"Hidalgo Solar 80 MW"},{"$f":"IF(ISBLANK(InfoPro!E107),\"\",InfoPro!E107)","v":80},{"$f":"IF(ISBLANK(InfoPro!F107),\"\",InfoPro!F107)","v":"Solar FV"},{"$f":"IF(ISBLANK(InfoPro!I107),\"\",YEAR(InfoPro!I107)-$G$4)","v":2},{"$f":"IF(B114=\"\",\"\",VLOOKUP(D114,Tablas!$B$2:$E$13,2,FALSE))","v":0.26},{"$f":"IF(B114=\"\",\"\",VLOOKUP(D114,Tablas!$B$2:$F$13,3,FALSE))","v":0},182208.00000000003,0,0,0,0,0,0,0,0,0,0,0,0,0,0,0,0,0]
[{"$f":"IF(ISBLANK(InfoPro!A108),\"\",InfoPro!A108)","v":"SC_2016_A2"},{"$f":"IF(ISBLANK(InfoPro!B108),\"\",InfoPro!B108)","v":"Hidalgo Solar 80 MW"},{"$f":"IF(ISBLANK(InfoPro!E108),\"\",InfoPro!E108)","v":80},{"$f":"IF(ISBLANK(InfoPro!F108),\"\",InfoPro!F108)","v":"Solar FV"},{"$f":"IF(ISBLANK(InfoPro!I108),\"\",YEAR(InfoPro!I108)-$G$4)","v":2},{"$f":"IF(B115=\"\",\"\",VLOOKUP(D115,Tablas!$B$2:$E$13,2,FALSE))","v":0.26},{"$f":"IF(B115=\"\",\"\",VLOOKUP(D115,Tablas!$B$2:$F$13,3,FALSE))","v":0},182208.00000000003,0,0,0,0,0,0,0,0,0,0,0,0,0,0,0,0,0]
[{"$f":"IF(ISBLANK(InfoPro!A109),\"\",InfoPro!A109)","v":"SC_2016_A3"},{"$f":"IF(ISBLANK(InfoPro!B109),\"\",InfoPro!B109)","v":"Hidalgo Solar 80 MW"},{"$f":"IF(ISBLANK(InfoPro!E109),\"\",InfoPro!E109)","v":80},{"$f":"IF(ISBLANK(InfoPro!F109),\"\",InfoPro!F109)","v":"Solar FV"},{"$f":"IF(ISBLANK(InfoPro!I109),\"\",YEAR(InfoPro!I109)-$G$4)","v":2},{"$f":"IF(B116=\"\",\"\",VLOOKUP(D116,Tablas!$B$2:$E$13,2,FALSE))","v":0.26},{"$f":"IF(B116=\"\",\"\",VLOOKUP(D116,Tablas!$B$2:$F$13,3,FALSE))","v":0},182208.00000000003,0,0,0,0,0,0,0,0,0,0,0,0,0,0,0,0,0]
[{"$f":"IF(ISBLANK(InfoPro!A110),\"\",InfoPro!A110)","v":"SC_2135_A1"},{"$f":"IF(ISBLANK(InfoPro!B110),\"\",InfoPro!B110)","v":"DSE SIERRAFLOR"},{"$f":"IF(ISBLANK(InfoPro!E110),\"\",InfoPro!E110)","v":99.9},{"$f":"IF(ISBLANK(InfoPro!F110),\"\",InfoPro!F110)","v":"Solar FV"},{"$f":"IF(ISBLANK(InfoPro!I110),\"\",YEAR(InfoPro!I110)-$G$4)","v":3},{"$f":"IF(B117=\"\",\"\",VLOOKUP(D117,Tablas!$B$2:$E$13,2,FALSE))","v":0.26},{"$f":"IF(B117=\"\",\"\",VLOOKUP(D117,Tablas!$B$2:$F$13,3,FALSE))","v":0},227532.24000000002,0,0,0,0,0,0,0,0,0,0,0,0,0,0,0,0,0]
[{"$f":"IF(ISBLANK(InfoPro!A111),\"\",InfoPro!A111)","v":"SC_2135_A2"},{"$f":"IF(ISBLANK(InfoPro!B111),\"\",InfoPro!B111)","v":"DSE SIERRAFLOR"},{"$f":"IF(ISBLANK(InfoPro!E111),\"\",InfoPro!E111)","v":99.9},{"$f":"IF(ISBLANK(InfoPro!F111),\"\",InfoPro!F111)","v":"Solar FV"},{"$f":"IF(ISBLANK(InfoPro!I111),\"\",YEAR(InfoPro!I111)-$G$4)","v":3},{"$f":"IF(B118=\"\",\"\",VLOOKUP(D118,Tablas!$B$2:$E$13,2,FALSE))","v":0.26},{"$f":"IF(B118=\"\",\"\",VLOOKUP(D118,Tablas!$B$2:$F$13,3,FALSE))","v":0},227532.24000000002,0,0,0,0,0,0,0,0,0,0,0,0,0,0,0,0,0]
[{"$f":"IF(ISBLANK(InfoPro!A112),\"\",InfoPro!A112)","v":"SC_1821_A1"},{"$f":"IF(ISBLANK(InfoPro!B112),\"\",InfoPro!B112)","v":"Balay Solar"},{"$f":"IF(ISBLANK(InfoPro!E112),\"\",InfoPro!E112)","v":70},{"$f":"IF(ISBLANK(InfoPro!F112),\"\",InfoPro!F112)","v":"Solar FV"},{"$f":"IF(ISBLANK(InfoPro!I112),\"\",YEAR(InfoPro!I112)-$G$4)","v":4},{"$f":"IF(B119=\"\",\"\",VLOOKUP(D119,Tablas!$B$2:$E$13,2,FALSE))","v":0.26},{"$f":"IF(B119=\"\",\"\",VLOOKUP(D119,Tablas!$B$2:$F$13,3,FALSE))","v":0},159431.99999999997,0,0,0,0,0,0,0,0,0,0,0,0,0,0,0,0,0]
[{"$f":"IF(ISBLANK(InfoPro!A113),\"\",InfoPro!A113)","v":"SC_1821_A2"},{"$f":"IF(ISBLANK(InfoPro!B113),\"\",InfoPro!B113)","v":"Balay Solar"},{"$f":"IF(ISBLANK(InfoPro!E113),\"\",InfoPro!E113)","v":70},{"$f":"IF(ISBLANK(InfoPro!F113),\"\",InfoPro!F113)","v":"Solar FV"},{"$f":"IF(ISBLANK(InfoPro!I113),\"\",YEAR(InfoPro!I113)-$G$4)","v":4},{"$f":"IF(B120=\"\",\"\",VLOOKUP(D120,Tablas!$B$2:$E$13,2,FALSE))","v":0.26},{"$f":"IF(B120=\"\",\"\",VLOOKUP(D120,Tablas!$B$2:$F$13,3,FALSE))","v":0},159431.99999999997,0,0,0,0,0,0,0,0,0,0,0,0,0,0,0,0,0]
[{"$f":"IF(ISBLANK(InfoPro!A114),\"\",InfoPro!A114)","v":"SC_1859_A1"},{"$f":"IF(ISBLANK(InfoPro!B114),\"\",InfoPro!B114)","v":"PV Altamira_99MW"},{"$f":"IF(ISBLANK(InfoPro!E114),\"\",InfoPro!E114)","v":99},{"$f":"IF(ISBLANK(InfoPro!F114),\"\",InfoPro!F114)","v":"Solar FV"},{"$f":"IF(ISBLANK(InfoPro!I114),\"\",YEAR(InfoPro!I114)-$G$4)","v":4},{"$f":"IF(B121=\"\",\"\",VLOOKUP(D121,Tablas!$B$2:$E$13,2,FALSE))","v":0.26},{"$f":"IF(B121=\"\",\"\",VLOOKUP(D121,Tablas!$B$2:$F$13,3,FALSE))","v":0},225482.4,0,0,0,0,0,0,0,0,0,0,0,0,0,0,0,0,0]
[{"$f":"IF(ISBLANK(InfoPro!A115),\"\",InfoPro!A115)","v":"SC_1859_A2"},{"$f":"IF(ISBLANK(InfoPro!B115),\"\",InfoPro!B115)","v":"PV Altamira_99MW"},{"$f":"IF(ISBLANK(InfoPro!E115),\"\",InfoPro!E115)","v":99},{"$f":"IF(ISBLANK(InfoPro!F115),\"\",InfoPro!F115)","v":"Solar FV"},{"$f":"IF(ISBLANK(InfoPro!I115),\"\",YEAR(InfoPro!I115)-$G$4)","v":4},{"$f":"IF(B122=\"\",\"\",VLOOKUP(D122,Tablas!$B$2:$E$13,2,FALSE))","v":0.26},{"$f":"IF(B122=\"\",\"\",VLOOKUP(D122,Tablas!$B$2:$F$13,3,FALSE))","v":0},225482.4,0,0,0,0,0,0,0,0,0,0,0,0,0,0,0,0,0]
[{"$f":"IF(ISBLANK(InfoPro!A116),\"\",InfoPro!A116)","v":"SC_1843_A1"},{"$f":"IF(ISBLANK(InfoPro!B116),\"\",InfoPro!B116)","v":"KOS de 19.9 MW"},{"$f":"IF(ISBLANK(InfoPro!E116),\"\",InfoPro!E116)","v":19.899999999999999},{"$f":"IF(ISBLANK(InfoPro!F116),\"\",InfoPro!F116)","v":"Solar FV"},{"$f":"IF(ISBLANK(InfoPro!I116),\"\",YEAR(InfoPro!I116)-$G$4)","v":2},{"$f":"IF(B123=\"\",\"\",VLOOKUP(D123,Tablas!$B$2:$E$13,2,FALSE))","v":0.26},{"$f":"IF(B123=\"\",\"\",VLOOKUP(D123,Tablas!$B$2:$F$13,3,FALSE))","v":0},45324.24,0,0,0,0,0,0,0,0,0,0,0,0,0,0,0,0,0]
[{"$f":"IF(ISBLANK(InfoPro!A117),\"\",InfoPro!A117)","v":"SC_1843_A2"},{"$f":"IF(ISBLANK(InfoPro!B117),\"\",InfoPro!B117)","v":"KOS de 19.9 MW"},{"$f":"IF(ISBLANK(InfoPro!E117),\"\",InfoPro!E117)","v":19.899999999999999},{"$f":"IF(ISBLANK(InfoPro!F117),\"\",InfoPro!F117)","v":"Solar FV"},{"$f":"IF(ISBLANK(InfoPro!I117),\"\",YEAR(InfoPro!I117)-$G$4)","v":2},{"$f":"IF(B124=\"\",\"\",VLOOKUP(D124,Tablas!$B$2:$E$13,2,FALSE))","v":0.26},{"$f":"IF(B124=\"\",\"\",VLOOKUP(D124,Tablas!$B$2:$F$13,3,FALSE))","v":0},45324.24,0,0,0,0,0,0,0,0,0,0,0,0,0,0,0,0,0]
[{"$f":"IF(ISBLANK(InfoPro!A118),\"\",InfoPro!A118)","v":"SC_2012_A1"},{"$f":"IF(ISBLANK(InfoPro!B118),\"\",InfoPro!B118)","v":"Parqu Solar Fotovoltaico Rocio del Sol 50 MW"},{"$f":"IF(ISBLANK(InfoPro!E118),\"\",InfoPro!E118)","v":50},{"$f":"IF(ISBLANK(InfoPro!F118),\"\",InfoPro!F118)","v":"Solar FV"},{"$f":"IF(ISBLANK(InfoPro!I118),\"\",YEAR(InfoPro!I118)-$G$4)","v":3},{"$f":"IF(B125=\"\",\"\",VLOOKUP(D125,Tablas!$B$2:$E$13,2,FALSE))","v":0.26},{"$f":"IF(B125=\"\",\"\",VLOOKUP(D125,Tablas!$B$2:$F$13,3,FALSE))","v":0},113880,0,0,0,0,0,0,0,0,0,0,0,0,0,0,0,0,0]
[{"$f":"IF(ISBLANK(InfoPro!A119),\"\",InfoPro!A119)","v":"SC_2012_A2"},{"$f":"IF(ISBLANK(InfoPro!B119),\"\",InfoPro!B119)","v":"Parqu Solar Fotovoltaico Rocio del Sol 50 MW"},{"$f":"IF(ISBLANK(InfoPro!E119),\"\",InfoPro!E119)","v":50},{"$f":"IF(ISBLANK(InfoPro!F119),\"\",InfoPro!F119)","v":"Solar FV"},{"$f":"IF(ISBLANK(InfoPro!I119),\"\",YEAR(InfoPro!I119)-$G$4)","v":3},{"$f":"IF(B126=\"\",\"\",VLOOKUP(D126,Tablas!$B$2:$E$13,2,FALSE))","v":0.26},{"$f":"IF(B126=\"\",\"\",VLOOKUP(D126,Tablas!$B$2:$F$13,3,FALSE))","v":0},113880,0,0,0,0,0,0,0,0,0,0,0,0,0,0,0,0,0]
[{"$f":"IF(ISBLANK(InfoPro!A120),\"\",InfoPro!A120)","v":"SC_1807_A1"},{"$f":"IF(ISBLANK(InfoPro!B120),\"\",InfoPro!B120)","v":"Parque Solar Canis 49,9 MW"},{"$f":"IF(ISBLANK(InfoPro!E120),\"\",InfoPro!E120)","v":49.9},{"$f":"IF(ISBLANK(InfoPro!F120),\"\",InfoPro!F120)","v":"Solar FV"},{"$f":"IF(ISBLANK(InfoPro!I120),\"\",YEAR(InfoPro!I120)-$G$4)","v":2},{"$f":"IF(B127=\"\",\"\",VLOOKUP(D127,Tablas!$B$2:$E$13,2,FALSE))","v":0.26},{"$f":"IF(B127=\"\",\"\",VLOOKUP(D127,Tablas!$B$2:$F$13,3,FALSE))","v":0},113652.23999999999,0,0,0,0,0,0,0,0,0,0,0,0,0,0,0,0,0]
[{"$f":"IF(ISBLANK(InfoPro!A121),\"\",InfoPro!A121)","v":"SC_1807_A2"},{"$f":"IF(ISBLANK(InfoPro!B121),\"\",InfoPro!B121)","v":"Parque Solar Canis 49,9 MW"},{"$f":"IF(ISBLANK(InfoPro!E121),\"\",InfoPro!E121)","v":49.9},{"$f":"IF(ISBLANK(InfoPro!F121),\"\",InfoPro!F121)","v":"Solar FV"},{"$f":"IF(ISBLANK(InfoPro!I121),\"\",YEAR(InfoPro!I121)-$G$4)","v":2},{"$f":"IF(B128=\"\",\"\",VLOOKUP(D128,Tablas!$B$2:$E$13,2,FALSE))","v":0.26},{"$f":"IF(B128=\"\",\"\",VLOOKUP(D128,Tablas!$B$2:$F$13,3,FALSE))","v":0},113652.23999999999,0,0,0,0,0,0,0,0,0,0,0,0,0,0,0,0,0]
[{"$f":"IF(ISBLANK(InfoPro!A122),\"\",InfoPro!A122)","v":"SC_1918_A1"},{"$f":"IF(ISBLANK(InfoPro!B122),\"\",InfoPro!B122)","v":"Casiopea 40 MW"},{"$f":"IF(ISBLANK(InfoPro!E122),\"\",InfoPro!E122)","v":40},{"$f":"IF(ISBLANK(InfoPro!F122),\"\",InfoPro!F122)","v":"Solar FV"},{"$f":"IF(ISBLANK(InfoPro!I122),\"\",YEAR(InfoPro!I122)-$G$4)","v":2},{"$f":"IF(B129=\"\",\"\",VLOOKUP(D129,Tablas!$B$2:$E$13,2,FALSE))","v":0.26},{"$f":"IF(B129=\"\",\"\",VLOOKUP(D129,Tablas!$B$2:$F$13,3,FALSE))","v":0},91104.000000000015,{"$f":"IF($H129=\"\",\"\",(1/(1+$C$4)^(I$7+$E129))*$H129*$G129*$C$3)","v":0},0,0,0,0,0,0,0,0,0,0,0,0,0,0,0,0]
[{"$f":"IF(ISBLANK(InfoPro!A123),\"\",InfoPro!A123)","v":"SC_1918_A2"},{"$f":"IF(ISBLANK(InfoPro!B123),\"\",InfoPro!B123)","v":"Casiopea 40 MW"},{"$f":"IF(ISBLANK(InfoPro!E123),\"\",InfoPro!E123)","v":40},{"$f":"IF(ISBLANK(InfoPro!F123),\"\",InfoPro!F123)","v":"Solar FV"},{"$f":"IF(ISBLANK(InfoPro!I123),\"\",YEAR(InfoPro!I123)-$G$4)","v":2},{"$f":"IF(B130=\"\",\"\",VLOOKUP(D130,Tablas!$B$2:$E$13,2,FALSE))","v":0.26},{"$f":"IF(B130=\"\",\"\",VLOOKUP(D130,Tablas!$B$2:$F$13,3,FALSE))","v":0},91104.000000000015,0,0,0,0,0,0,0,0,0,0,0,0,0,0,0,0,0]
[{"$f":"IF(ISBLANK(InfoPro!A124),\"\",InfoPro!A124)","v":"SC_1813_A1"},{"$f":"IF(ISBLANK(InfoPro!B124),\"\",InfoPro!B124)","v":"Parque de generación Cefeo"},{"$f":"IF(ISBLANK(InfoPro!E124),\"\",InfoPro!E124)","v":19.899999999999999},{"$f":"IF(ISBLANK(InfoPro!F124),\"\",InfoPro!F124)","v":"Solar FV"},{"$f":"IF(ISBLANK(InfoPro!I124),\"\",YEAR(InfoPro!I124)-$G$4)","v":2},{"$f":"IF(B131=\"\",\"\",VLOOKUP(D131,Tablas!$B$2:$E$13,2,FALSE))","v":0.26},{"$f":"IF(B131=\"\",\"\",VLOOKUP(D131,Tablas!$B$2:$F$13,3,FALSE))","v":0},45324.24,0,0,0,0,0,0,0,0,0,0,0,0,0,0,0,0,0]
[{"$f":"IF(ISBLANK(InfoPro!A125),\"\",InfoPro!A125)","v":"SC_1813_A2"},{"$f":"IF(ISBLANK(InfoPro!B125),\"\",InfoPro!B125)","v":"Parque de generación Cefeo"},{"$f":"IF(ISBLANK(InfoPro!E125),\"\",InfoPro!E125)","v":19.899999999999999},{"$f":"IF(ISBLANK(InfoPro!F125),\"\",InfoPro!F125)","v":"Solar FV"},{"$f":"IF(ISBLANK(InfoPro!I125),\"\",YEAR(InfoPro!I125)-$G$4)","v":2},{"$f":"IF(B132=\"\",\"\",VLOOKUP(D132,Tablas!$B$2:$E$13,2,FALSE))","v":0.26},{"$f":"IF(B132=\"\",\"\",VLOOKUP(D132,Tablas!$B$2:$F$13,3,FALSE))","v":0},45324.24,0,0,0,0,0,0,0,0,0,0,0,0,0,0,0,0,0]
[{"$f":"IF(ISBLANK(InfoPro!A126),\"\",InfoPro!A126)","v":"SC_1949_A1"},{"$f":"IF(ISBLANK(InfoPro!B126),\"\",InfoPro!B126)","v":"Solar Planeta Rica"},{"$f":"IF(ISBLANK(InfoPro!E126),\"\",InfoPro!E126)","v":19.899999999999999},{"$f":"IF(ISBLANK(InfoPro!F126),\"\",InfoPro!F126)","v":"Solar FV"},{"$f":"IF(ISBLANK(InfoPro!I126),\"\",YEAR(InfoPro!I126)-$G$4)","v":3},{"$f":"IF(B133=\"\",\"\",VLOOKUP(D133,Tablas!$B$2:$E$13,2,FALSE))","v":0.26},{"$f":"IF(B133=\"\",\"\",VLOOKUP(D133,Tablas!$B$2:$F$13,3,FALSE))","v":0},45324.24,0,0,0,0,0,0,0,0,0,0,0,0,0,0,0,0,0]
[{"$f":"IF(ISBLANK(InfoPro!A127),\"\",InfoPro!A127)","v":"SC_1949_A2"},{"$f":"IF(ISBLANK(InfoPro!B127),\"\",InfoPro!B127)","v":"Solar Planeta Rica"},{"$f":"IF(ISBLANK(InfoPro!E127),\"\",InfoPro!E127)","v":19.899999999999999},{"$f":"IF(ISBLANK(InfoPro!F127),\"\",InfoPro!F127)","v":"Solar FV"},{"$f":"IF(ISBLANK(InfoPro!I127),\"\",YEAR(InfoPro!I127)-$G$4)","v":3},{"$f":"IF(B134=\"\",\"\",VLOOKUP(D134,Tablas!$B$2:$E$13,2,FALSE))","v":0.26},{"$f":"IF(B134=\"\",\"\",VLOOKUP(D134,Tablas!$B$2:$F$13,3,FALSE))","v":0},45324.24,0,0,0,0,0,0,0,0,0,0,0,0,0,0,0,0,0]
[{"$f":"IF(ISBLANK(InfoPro!A128),\"\",InfoPro!A128)","v":"SC_1970_A1"},{"$f":"IF(ISBLANK(InfoPro!B128),\"\",InfoPro!B128)","v":"Parque Solar Montería"},{"$f":"IF(ISBLANK(InfoPro!E128),\"\",InfoPro!E128)","v":99},{"$f":"IF(ISBLANK(InfoPro!F128),\"\",InfoPro!F128)","v":"Solar FV"},{"$f":"IF(ISBLANK(InfoPro!I128),\"\",YEAR(InfoPro!I128)-$G$4)","v":3},{"$f":"IF(B135=\"\",\"\",VLOOKUP(D135,Tablas!$B$2:$E$13,2,FALSE))","v":0.26},{"$f":"IF(B135=\"\",\"\",VLOOKUP(D135,Tablas!$B$2:$F$13,3,FALSE))","v":0},225482.4,0,0,0,0,0,0,0,0,0,0,0,0,0,0,0,0,0]
[{"$f":"IF(ISBLANK(InfoPro!A129),\"\",InfoPro!A129)","v":"SC_1970_A2"},{"$f":"IF(ISBLANK(InfoPro!B129),\"\",InfoPro!B129)","v":"Parque Solar Montería"},{"$f":"IF(ISBLANK(InfoPro!E129),\"\",InfoPro!E129)","v":99},{"$f":"IF(ISBLANK(InfoPro!F129),\"\",InfoPro!F129)","v":"Solar FV"},{"$f":"IF(ISBLANK(InfoPro!I129),\"\",YEAR(InfoPro!I129)-$G$4)","v":3},{"$f":"IF(B136=\"\",\"\",VLOOKUP(D136,Tablas!$B$2:$E$13,2,FALSE))","v":0.26},{"$f":"IF(B136=\"\",\"\",VLOOKUP(D136,Tablas!$B$2:$F$13,3,FALSE))","v":0},225482.4,0,0,0,0,0,0,0,0,0,0,0,0,0,0,0,0,0]
[{"$f":"IF(ISBLANK(InfoPro!A130),\"\",InfoPro!A130)","v":"SC_2072_A1"},{"$f":"IF(ISBLANK(InfoPro!B130),\"\",InfoPro!B130)","v":"Porvenir - 9.9 MW"},{"$f":"IF(ISBLANK(InfoPro!E130),\"\",InfoPro!E130)","v":9.9},{"$f":"IF(ISBLANK(InfoPro!F130),\"\",InfoPro!F130)","v":"Solar FV"},{"$f":"IF(ISBLANK(InfoPro!I130),\"\",YEAR(InfoPro!I130)-$G$4)","v":2},{"$f":"IF(B137=\"\",\"\",VLOOKUP(D137,Tablas!$B$2:$E$13,2,FALSE))","v":0.26},{"$f":"IF(B137=\"\",\"\",VLOOKUP(D137,Tablas!$B$2:$F$13,3,FALSE))","v":0},22548.240000000005,0,0,0,0,0,0,0,0,0,0,0,0,0,0,0,0,0]
[{"$f":"IF(ISBLANK(InfoPro!A131),\"\",InfoPro!A131)","v":"SC_2204_A1"},{"$f":"IF(ISBLANK(InfoPro!B131),\"\",InfoPro!B131)","v":"Parque Solar Ciénaga Grande - 19.9 MW"},{"$f":"IF(ISBLANK(InfoPro!E131),\"\",InfoPro!E131)","v":19.899999999999999},{"$f":"IF(ISBLANK(InfoPro!F131),\"\",InfoPro!F131)","v":"Solar FV"},{"$f":"IF(ISBLANK(InfoPro!I131),\"\",YEAR(InfoPro!I131)-$G$4)","v":2},{"$f":"IF(B138=\"\",\"\",VLOOKUP(D138,Tablas!$B$2:$E$13,2,FALSE))","v":0.26},{"$f":"IF(B138=\"\",\"\",VLOOKUP(D138,Tablas!$B$2:$F$13,3,FALSE))","v":0},45324.24,0,0,0,0,0,0,0,0,0,0,0,0,0,0,0,0,0]
[{"$f":"IF(ISBLANK(InfoPro!A132),\"\",InfoPro!A132)","v":"SC_2204_A2"},{"$f":"IF(ISBLANK(InfoPro!B132),\"\",InfoPro!B132)","v":"Parque Solar Ciénaga Grande - 19.9 MW"},{"$f":"IF(ISBLANK(InfoPro!E132),\"\",InfoPro!E132)","v":19.899999999999999},{"$f":"IF(ISBLANK(InfoPro!F132),\"\",InfoPro!F132)","v":"Solar FV"},{"$f":"IF(ISBLANK(InfoPro!I132),\"\",YEAR(InfoPro!I132)-$G$4)","v":2},{"$f":"IF(B139=\"\",\"\",VLOOKUP(D139,Tablas!$B$2:$E$13,2,FALSE))","v":0.26},{"$f":"IF(B139=\"\",\"\",VLOOKUP(D139,Tablas!$B$2:$F$13,3,FALSE))","v":0},45324.24,0,0,0,0,0,0,0,0,0,0,0,0,0,0,0,0,0]
[{"$f":"IF(ISBLANK(InfoPro!A133),\"\",InfoPro!A133)","v":"SC_2166_A1"},{"$f":"IF(ISBLANK(InfoPro!B133),\"\",InfoPro!B133)","v":"Parque fotovoltaico Delphinus"},{"$f":"IF(ISBLANK(InfoPro!E133),\"\",InfoPro!E133)","v":19.899999999999999},{"$f":"IF(ISBLANK(InfoPro!F133),\"\",InfoPro!F133)","v":"Solar FV"},{"$f":"IF(ISBLANK(InfoPro!I133),\"\",YEAR(InfoPro!I133)-$G$4)","v":2},{"$f":"IF(B140=\"\",\"\",VLOOKUP(D140,Tablas!$B$2:$E$13,2,FALSE))","v":0.26},{"$f":"IF(B140=\"\",\"\",VLOOKUP(D140,Tablas!$B$2:$F$13,3,FALSE))","v":0},45324.24,0,0,0,0,0,0,0,0,0,0,0,0,0,0,0,0,0]
[{"$f":"IF(ISBLANK(InfoPro!A134),\"\",InfoPro!A134)","v":"SC_2166_A2"},{"$f":"IF(ISBLANK(InfoPro!B134),\"\",InfoPro!B134)","v":"Parque fotovoltaico Delphinus"},{"$f":"IF(ISBLANK(InfoPro!E134),\"\",InfoPro!E134)","v":19.899999999999999},{"$f":"IF(ISBLANK(InfoPro!F134),\"\",InfoPro!F134)","v":"Solar FV"},{"$f":"IF(ISBLANK(InfoPro!I134),\"\",YEAR(InfoPro!I134)-$G$4)","v":2},{"$f":"IF(B141=\"\",\"\",VLOOKUP(D141,Tablas!$B$2:$E$13,2,FALSE))","v":0.26},{"$f":"IF(B141=\"\",\"\",VLOOKUP(D141,Tablas!$B$2:$F$13,3,FALSE))","v":0},45324.24,0,0,0,0,0,0,0,0,0,0,0,0,0,0,0,0,0]
[{"$f":"IF(ISBLANK(InfoPro!A135),\"\",InfoPro!A135)","v":"SC_1923_A1"},{"$f":"IF(ISBLANK(InfoPro!B135),\"\",InfoPro!B135)","v":"Parque Solar Fotovoltaico Chunú I 50 MW"},{"$f":"IF(ISBLANK(InfoPro!E135),\"\",InfoPro!E135)","v":50},{"$f":"IF(ISBLANK(InfoPro!F135),\"\",InfoPro!F135)","v":"Solar FV"},{"$f":"IF(ISBLANK(InfoPro!I135),\"\",YEAR(InfoPro!I135)-$G$4)","v":4},{"$f":"IF(B142=\"\",\"\",VLOOKUP(D142,Tablas!$B$2:$E$13,2,FALSE))","v":0.26},{"$f":"IF(B142=\"\",\"\",VLOOKUP(D142,Tablas!$B$2:$F$13,3,FALSE))","v":0},113880,0,0,0,0,0,0,0,0,0,0,0,0,0,0,0,0,0]
[{"$f":"IF(ISBLANK(InfoPro!A136),\"\",InfoPro!A136)","v":"SC_1923_A2"},{"$f":"IF(ISBLANK(InfoPro!B136),\"\",InfoPro!B136)","v":"Parque Solar Fotovoltaico Chunú I 50 MW"},{"$f":"IF(ISBLANK(InfoPro!E136),\"\",InfoPro!E136)","v":50},{"$f":"IF(ISBLANK(InfoPro!F136),\"\",InfoPro!F136)","v":"Solar FV"},{"$f":"IF(ISBLANK(InfoPro!I136),\"\",YEAR(InfoPro!I136)-$G$4)","v":4},{"$f":"IF(B143=\"\",\"\",VLOOKUP(D143,Tablas!$B$2:$E$13,2,FALSE))","v":0.26},{"$f":"IF(B143=\"\",\"\",VLOOKUP(D143,Tablas!$B$2:$F$13,3,FALSE))","v":0},113880,0,0,0,0,0,0,0,0,0,0,0,0,0,0,0,0,0]
[{"$f":"IF(ISBLANK(InfoPro!A137),\"\",InfoPro!A137)","v":"SC_1937_A1"},{"$f":"IF(ISBLANK(InfoPro!B137),\"\",InfoPro!B137)","v":"Parque Solar Fotovoltaico ChInú II 50 MW"},{"$f":"IF(ISBLANK(InfoPro!E137),\"\",InfoPro!E137)","v":50},{"$f":"IF(ISBLANK(InfoPro!F137),\"\",InfoPro!F137)","v":"Solar FV"},{"$f":"IF(ISBLANK(InfoPro!I137),\"\",YEAR(InfoPro!I137)-$G$4)","v":4},{"$f":"IF(B144=\"\",\"\",VLOOKUP(D144,Tablas!$B$2:$E$13,2,FALSE))","v":0.26},{"$f":"IF(B144=\"\",\"\",VLOOKUP(D144,Tablas!$B$2:$F$13,3,FALSE))","v":0},113880,0,0,0,0,0,0,0,0,0,0,0,0,0,0,0,0,0]
[{"$f":"IF(ISBLANK(InfoPro!A138),\"\",InfoPro!A138)","v":"SC_1937_A2"},{"$f":"IF(ISBLANK(InfoPro!B138),\"\",InfoPro!B138)","v":"Parque Solar Fotovoltaico ChInú II 50 MW"},{"$f":"IF(ISBLANK(InfoPro!E138),\"\",InfoPro!E138)","v":50},{"$f":"IF(ISBLANK(InfoPro!F138),\"\",InfoPro!F138)","v":"Solar FV"},{"$f":"IF(ISBLANK(InfoPro!I138),\"\",YEAR(InfoPro!I138)-$G$4)","v":4},{"$f":"IF(B145=\"\",\"\",VLOOKUP(D145,Tablas!$B$2:$E$13,2,FALSE))","v":0.26},{"$f":"IF(B145=\"\",\"\",VLOOKUP(D145,Tablas!$B$2:$F$13,3,FALSE))","v":0},113880,0,0,0,0,0,0,0,0,0,0,0,0,0,0,0,0,0]
[{"$f":"IF(ISBLANK(InfoPro!A139),\"\",InfoPro!A139)","v":"SC_1810_A1"},{"$f":"IF(ISBLANK(InfoPro!B139),\"\",InfoPro!B139)","v":"Parque Solar Coveñas 50 MW"},{"$f":"IF(ISBLANK(InfoPro!E139),\"\",InfoPro!E139)","v":50},{"$f":"IF(ISBLANK(InfoPro!F139),\"\",InfoPro!F139)","v":"Solar FV"},{"$f":"IF(ISBLANK(InfoPro!I139),\"\",YEAR(InfoPro!I139)-$G$4)","v":4},{"$f":"IF(B146=\"\",\"\",VLOOKUP(D146,Tablas!$B$2:$E$13,2,FALSE))","v":0.26},{"$f":"IF(B146=\"\",\"\",VLOOKUP(D146,Tablas!$B$2:$F$13,3,FALSE))","v":0},113880,{"$f":"IF($H146=\"\",\"\",(1/(1+$C$4)^(I$7+$E146))*$H146*$G146*$C$3)","v":0},0,0,0,0,0,0,0,0,0,0,0,0,0,0,0,0]
[{"$f":"IF(ISBLANK(InfoPro!A140),\"\",InfoPro!A140)","v":"SC_1810_A2"},{"$f":"IF(ISBLANK(InfoPro!B140),\"\",InfoPro!B140)","v":"Parque Solar Coveñas 50 MW"},{"$f":"IF(ISBLANK(InfoPro!E140),\"\",InfoPro!E140)","v":50},{"$f":"IF(ISBLANK(InfoPro!F140),\"\",InfoPro!F140)","v":"Solar FV"},{"$f":"IF(ISBLANK(InfoPro!I140),\"\",YEAR(InfoPro!I140)-$G$4)","v":4},{"$f":"IF(B147=\"\",\"\",VLOOKUP(D147,Tablas!$B$2:$E$13,2,FALSE))","v":0.26},{"$f":"IF(B147=\"\",\"\",VLOOKUP(D147,Tablas!$B$2:$F$13,3,FALSE))","v":0},113880,0,0,0,0,0,0,0,0,0,0,0,0,0,0,0,0,0]
[{"$f":"IF(ISBLANK(InfoPro!A141),\"\",InfoPro!A141)","v":"SC_1835_A1"},{"$f":"IF(ISBLANK(InfoPro!B141),\"\",InfoPro!B141)","v":"Parque Solar Coveñas II 50 MW"},{"$f":"IF(ISBLANK(InfoPro!E141),\"\",InfoPro!E141)","v":50},{"$f":"IF(ISBLANK(InfoPro!F141),\"\",InfoPro!F141)","v":"Solar FV"},{"$f":"IF(ISBLANK(InfoPro!I141),\"\",YEAR(InfoPro!I141)-$G$4)","v":4},{"$f":"IF(B148=\"\",\"\",VLOOKUP(D148,Tablas!$B$2:$E$13,2,FALSE))","v":0.26},{"$f":"IF(B148=\"\",\"\",VLOOKUP(D148,Tablas!$B$2:$F$13,3,FALSE))","v":0},113880,0,0,0,0,0,0,0,0,0,0,0,0,0,0,0,0,0]
[{"$f":"IF(ISBLANK(InfoPro!A142),\"\",InfoPro!A142)","v":"SC_1835_A2"},{"$f":"IF(ISBLANK(InfoPro!B142),\"\",InfoPro!B142)","v":"Parque Solar Coveñas II 50 MW"},{"$f":"IF(ISBLANK(InfoPro!E142),\"\",InfoPro!E142)","v":50},{"$f":"IF(ISBLANK(InfoPro!F142),\"\",InfoPro!F142)","v":"Solar FV"},{"$f":"IF(ISBLANK(InfoPro!I142),\"\",YEAR(InfoPro!I142)-$G$4)","v":4},{"$f":"IF(B149=\"\",\"\",VLOOKUP(D149,Tablas!$B$2:$E$13,2,FALSE))","v":0.26},{"$f":"IF(B149=\"\",\"\",VLOOKUP(D149,Tablas!$B$2:$F$13,3,FALSE))","v":0},113880,0,0,0,0,0,0,0,0,0,0,0,0,0,0,0,0,0]
[{"$f":"IF(ISBLANK(InfoPro!A143),\"\",InfoPro!A143)","v":"SC_1873_A1"},{"$f":"IF(ISBLANK(InfoPro!B143),\"\",InfoPro!B143)","v":"Cusumbo Solar"},{"$f":"IF(ISBLANK(InfoPro!E143),\"\",InfoPro!E143)","v":99.9},{"$f":"IF(ISBLANK(InfoPro!F143),\"\",InfoPro!F143)","v":"Solar FV"},{"$f":"IF(ISBLANK(InfoPro!I143),\"\",YEAR(InfoPro!I143)-$G$4)","v":3},{"$f":"IF(B150=\"\",\"\",VLOOKUP(D150,Tablas!$B$2:$E$13,2,FALSE))","v":0.26},{"$f":"IF(B150=\"\",\"\",VLOOKUP(D150,Tablas!$B$2:$F$13,3,FALSE))","v":0},227532.24000000002,0,0,0,0,0,0,0,0,0,0,0,0,0,0,0,0,0]
[{"$f":"IF(ISBLANK(InfoPro!A144),\"\",InfoPro!A144)","v":"SC_1873_A2"},{"$f":"IF(ISBLANK(InfoPro!B144),\"\",InfoPro!B144)","v":"Cusumbo Solar"},{"$f":"IF(ISBLANK(InfoPro!E144),\"\",InfoPro!E144)","v":99.9},{"$f":"IF(ISBLANK(InfoPro!F144),\"\",InfoPro!F144)","v":"Solar FV"},{"$f":"IF(ISBLANK(InfoPro!I144),\"\",YEAR(InfoPro!I144)-$G$4)","v":3},{"$f":"IF(B151=\"\",\"\",VLOOKUP(D151,Tablas!$B$2:$E$13,2,FALSE))","v":0.26},{"$f":"IF(B151=\"\",\"\",VLOOKUP(D151,Tablas!$B$2:$F$13,3,FALSE))","v":0},227532.24000000002,0,0,0,0,0,0,0,0,0,0,0,0,0,0,0,0,0]
[{"$f":"IF(ISBLANK(InfoPro!A145),\"\",InfoPro!A145)","v":"SC_2067_A1"},{"$f":"IF(ISBLANK(InfoPro!B145),\"\",InfoPro!B145)","v":"TIERRALTA 70 MW"},{"$f":"IF(ISBLANK(InfoPro!E145),\"\",InfoPro!E145)","v":70},{"$f":"IF(ISBLANK(InfoPro!F145),\"\",InfoPro!F145)","v":"Solar FV"},{"$f":"IF(ISBLANK(InfoPro!I145),\"\",YEAR(InfoPro!I145)-$G$4)","v":4},{"$f":"IF(B152=\"\",\"\",VLOOKUP(D152,Tablas!$B$2:$E$13,2,FALSE))","v":0.26},{"$f":"IF(B152=\"\",\"\",VLOOKUP(D152,Tablas!$B$2:$F$13,3,FALSE))","v":0},{"$f":"IF(C152=\"\",\"\",+C152*F152*24*365)","v":159431.99999999997},0,0,0,0,0,0,0,0,0,0,0,0,0,0,0,{"$f":"IF(W152=\"\",\"\",SUM(I152:W152))","v":0},{"$f":"IF(C152=0,0,IF(X152=\"\",\"\",X152/(C152*1000)))","v":0}]
[{"$f":"IF(ISBLANK(InfoPro!A146),\"\",InfoPro!A146)","v":"SC_2067_A2"},{"$f":"IF(ISBLANK(InfoPro!B146),\"\",InfoPro!B146)","v":"TIERRALTA 70 MW"},{"$f":"IF(ISBLANK(InfoPro!E146),\"\",InfoPro!E146)","v":70},{"$f":"IF(ISBLANK(InfoPro!F146),\"\",InfoPro!F146)","v":"Solar FV"},{"$f":"IF(ISBLANK(InfoPro!I146),\"\",YEAR(InfoPro!I146)-$G$4)","v":4},{"$f":"IF(B153=\"\",\"\",VLOOKUP(D153,Tablas!$B$2:$E$13,2,FALSE))","v":0.26},{"$f":"IF(B153=\"\",\"\",VLOOKUP(D153,Tablas!$B$2:$F$13,3,FALSE))","v":0},159431.99999999997,0,0,0,0,0,0,0,0,0,0,0,0,0,0,0,0,0]
[{"$f":"IF(ISBLANK(InfoPro!A147),\"\",InfoPro!A147)","v":"SC_1942_A1"},{"$f":"IF(ISBLANK(InfoPro!B147),\"\",InfoPro!B147)","v":"San Jorge Fotovoltaico 135 MW"},{"$f":"IF(ISBLANK(InfoPro!E147),\"\",InfoPro!E147)","v":135},{"$f":"IF(ISBLANK(InfoPro!F147),\"\",InfoPro!F147)","v":"Solar FV"},{"$f":"IF(ISBLANK(InfoPro!I147),\"\",YEAR(InfoPro!I147)-$G$4)","v":2},{"$f":"IF(B154=\"\",\"\",VLOOKUP(D154,Tablas!$B$2:$E$13,2,FALSE))","v":0.26},{"$f":"IF(B154=\"\",\"\",VLOOKUP(D154,Tablas!$B$2:$F$13,3,FALSE))","v":0},307476.00000000006,0,0,0,0,0,0,0,0,0,0,0,0,0,0,0,0,0]
[{"$f":"IF(ISBLANK(InfoPro!A148),\"\",InfoPro!A148)","v":"SC_1942_A2"},{"$f":"IF(ISBLANK(InfoPro!B148),\"\",InfoPro!B148)","v":"San Jorge Fotovoltaico 135 MW"},{"$f":"IF(ISBLANK(InfoPro!E148),\"\",InfoPro!E148)","v":135},{"$f":"IF(ISBLANK(InfoPro!F148),\"\",InfoPro!F148)","v":"Solar FV"},{"$f":"IF(ISBLANK(InfoPro!I148),\"\",YEAR(InfoPro!I148)-$G$4)","v":2},{"$f":"IF(B155=\"\",\"\",VLOOKUP(D155,Tablas!$B$2:$E$13,2,FALSE))","v":0.26},{"$f":"IF(B155=\"\",\"\",VLOOKUP(D155,Tablas!$B$2:$F$13,3,FALSE))","v":0},307476.00000000006,0,0,0,0,0,0,0,0,0,0,0,0,0,0,0,0,0]
[{"$f":"IF(ISBLANK(InfoPro!A149),\"\",InfoPro!A149)","v":"SC_2107_A1"},{"$f":"IF(ISBLANK(InfoPro!B149),\"\",InfoPro!B149)","v":"Parque Solar Aries"},{"$f":"IF(ISBLANK(InfoPro!E149),\"\",InfoPro!E149)","v":175},{"$f":"IF(ISBLANK(InfoPro!F149),\"\",InfoPro!F149)","v":"Solar FV"},{"$f":"IF(ISBLANK(InfoPro!I149),\"\",YEAR(InfoPro!I149)-$G$4)","v":3},{"$f":"IF(B156=\"\",\"\",VLOOKUP(D156,Tablas!$B$2:$E$13,2,FALSE))","v":0.26},{"$f":"IF(B156=\"\",\"\",VLOOKUP(D156,Tablas!$B$2:$F$13,3,FALSE))","v":0},398580,0,0,0,0,0,0,0,0,0,0,0,0,0,0,0,0,0]
[{"$f":"IF(ISBLANK(InfoPro!A150),\"\",InfoPro!A150)","v":"SC_2107_A2"},{"$f":"IF(ISBLANK(InfoPro!B150),\"\",InfoPro!B150)","v":"Parque Solar Aries"},{"$f":"IF(ISBLANK(InfoPro!E150),\"\",InfoPro!E150)","v":175},{"$f":"IF(ISBLANK(InfoPro!F150),\"\",InfoPro!F150)","v":"Solar FV"},{"$f":"IF(ISBLANK(InfoPro!I150),\"\",YEAR(InfoPro!I150)-$G$4)","v":3},{"$f":"IF(B157=\"\",\"\",VLOOKUP(D157,Tablas!$B$2:$E$13,2,FALSE))","v":0.26},{"$f":"IF(B157=\"\",\"\",VLOOKUP(D157,Tablas!$B$2:$F$13,3,FALSE))","v":0},398580,0,0,0,0,0,0,0,0,0,0,0,0,0,0,0,0,0]
[{"$f":"IF(ISBLANK(InfoPro!A151),\"\",InfoPro!A151)","v":"SC_2031\n_A1"},{"$f":"IF(ISBLANK(InfoPro!B151),\"\",InfoPro!B151)","v":"PSF Cispata_70MW"},{"$f":"IF(ISBLANK(InfoPro!E151),\"\",InfoPro!E151)","v":70},{"$f":"IF(ISBLANK(InfoPro!F151),\"\",InfoPro!F151)","v":"Solar FV"},{"$f":"IF(ISBLANK(InfoPro!I151),\"\",YEAR(InfoPro!I151)-$G$4)","v":3},{"$f":"IF(B158=\"\",\"\",VLOOKUP(D158,Tablas!$B$2:$E$13,2,FALSE))","v":0.26},{"$f":"IF(B158=\"\",\"\",VLOOKUP(D158,Tablas!$B$2:$F$13,3,FALSE))","v":0},159431.99999999997,0,0,0,0,0,0,0,0,0,0,0,0,0,0,0,0,0]
[{"$f":"IF(ISBLANK(InfoPro!A152),\"\",InfoPro!A152)","v":"SC_2136_A1"},{"$f":"IF(ISBLANK(InfoPro!B152),\"\",InfoPro!B152)","v":"Yaguarundi Solar II 40 MW"},{"$f":"IF(ISBLANK(InfoPro!E152),\"\",InfoPro!E152)","v":40},{"$f":"IF(ISBLANK(InfoPro!F152),\"\",InfoPro!F152)","v":"Solar FV"},{"$f":"IF(ISBLANK(InfoPro!I152),\"\",YEAR(InfoPro!I152)-$G$4)","v":3},{"$f":"IF(B159=\"\",\"\",VLOOKUP(D159,Tablas!$B$2:$E$13,2,FALSE))","v":0.26},{"$f":"IF(B159=\"\",\"\",VLOOKUP(D159,Tablas!$B$2:$F$13,3,FALSE))","v":0},91104.000000000015,0,0,0,0,0,0,0,0,0,0,0,0,0,0,0,0,0]
[{"$f":"IF(ISBLANK(InfoPro!A153),\"\",InfoPro!A153)","v":"SC_2136_A2"},{"$f":"IF(ISBLANK(InfoPro!B153),\"\",InfoPro!B153)","v":"Yaguarundi Solar II 40 MW"},{"$f":"IF(ISBLANK(InfoPro!E153),\"\",InfoPro!E153)","v":40},{"$f":"IF(ISBLANK(InfoPro!F153),\"\",InfoPro!F153)","v":"Solar FV"},{"$f":"IF(ISBLANK(InfoPro!I153),\"\",YEAR(InfoPro!I153)-$G$4)","v":3},{"$f":"IF(B160=\"\",\"\",VLOOKUP(D160,Tablas!$B$2:$E$13,2,FALSE))","v":0.26},{"$f":"IF(B160=\"\",\"\",VLOOKUP(D160,Tablas!$B$2:$F$13,3,FALSE))","v":0},91104.000000000015,0,0,0,0,0,0,0,0,0,0,0,0,0,0,0,0,0]
[{"$f":"IF(ISBLANK(InfoPro!A154),\"\",InfoPro!A154)","v":"SC_2180_A1"},{"$f":"IF(ISBLANK(InfoPro!B154),\"\",InfoPro!B154)","v":"Yaguarundi Solar III 40 MW"},{"$f":"IF(ISBLANK(InfoPro!E154),\"\",InfoPro!E154)","v":40},{"$f":"IF(ISBLANK(InfoPro!F154),\"\",InfoPro!F154)","v":"Solar FV"},{"$f":"IF(ISBLANK(InfoPro!I154),\"\",YEAR(InfoPro!I154)-$G$4)","v":3},{"$f":"IF(B161=\"\",\"\",VLOOKUP(D161,Tablas!$B$2:$E$13,2,FALSE))","v":0.26},{"$f":"IF(B161=\"\",\"\",VLOOKUP(D161,Tablas!$B$2:$F$13,3,FALSE))","v":0},91104.000000000015,0,0,0,0,0,0,0,0,0,0,0,0,0,0,0,0,0]
[{"$f":"IF(ISBLANK(InfoPro!A155),\"\",InfoPro!A155)","v":"SC_2180_A2"},{"$f":"IF(ISBLANK(InfoPro!B155),\"\",InfoPro!B155)","v":"Yaguarundi Solar III 40 MW"},{"$f":"IF(ISBLANK(InfoPro!E155),\"\",InfoPro!E155)","v":40},{"$f":"IF(ISBLANK(InfoPro!F155),\"\",InfoPro!F155)","v":"Solar FV"},{"$f":"IF(ISBLANK(InfoPro!I155),\"\",YEAR(InfoPro!I155)-$G$4)","v":3},{"$f":"IF(B162=\"\",\"\",VLOOKUP(D162,Tablas!$B$2:$E$13,2,FALSE))","v":0.26},{"$f":"IF(B162=\"\",\"\",VLOOKUP(D162,Tablas!$B$2:$F$13,3,FALSE))","v":0},91104.000000000015,{"$f":"IF($H162=\"\",\"\",(1/(1+$C$4)^(I$7+$E162))*$H162*$G162*$C$3)","v":0},0,0,0,0,0,0,0,0,0,0,0,0,0,0,0,0]
[{"$f":"IF(ISBLANK(InfoPro!A156),\"\",InfoPro!A156)","v":"SC_2185_A1"},{"$f":"IF(ISBLANK(InfoPro!B156),\"\",InfoPro!B156)","v":"Yaguarundi Solar IV 40 MW"},{"$f":"IF(ISBLANK(InfoPro!E156),\"\",InfoPro!E156)","v":40},{"$f":"IF(ISBLANK(InfoPro!F156),\"\",InfoPro!F156)","v":"Solar FV"},{"$f":"IF(ISBLANK(InfoPro!I156),\"\",YEAR(InfoPro!I156)-$G$4)","v":3},{"$f":"IF(B163=\"\",\"\",VLOOKUP(D163,Tablas!$B$2:$E$13,2,FALSE))","v":0.26},{"$f":"IF(B163=\"\",\"\",VLOOKUP(D163,Tablas!$B$2:$F$13,3,FALSE))","v":0},91104.000000000015,0,0,0,0,0,0,0,0,0,0,0,0,0,0,0,0,0]
[{"$f":"IF(ISBLANK(InfoPro!A157),\"\",InfoPro!A157)","v":"SC_2185_A2"},{"$f":"IF(ISBLANK(InfoPro!B157),\"\",InfoPro!B157)","v":"Yaguarundi Solar IV 40 MW"},{"$f":"IF(ISBLANK(InfoPro!E157),\"\",InfoPro!E157)","v":40},{"$f":"IF(ISBLANK(InfoPro!F157),\"\",InfoPro!F157)","v":"Solar FV"},{"$f":"IF(ISBLANK(InfoPro!I157),\"\",YEAR(InfoPro!I157)-$G$4)","v":3},{"$f":"IF(B164=\"\",\"\",VLOOKUP(D164,Tablas!$B$2:$E$13,2,FALSE))","v":0.26},{"$f":"IF(B164=\"\",\"\",VLOOKUP(D164,Tablas!$B$2:$F$13,3,FALSE))","v":0},91104.000000000015,0,0,0,0,0,0,0,0,0,0,0,0,0,0,0,0,0]
[{"$f":"IF(ISBLANK(InfoPro!A158),\"\",InfoPro!A158)","v":"SC_1926_A1"},{"$f":"IF(ISBLANK(InfoPro!B158),\"\",InfoPro!B158)","v":"Bongos I 9.90 MW"},{"$f":"IF(ISBLANK(InfoPro!E158),\"\",InfoPro!E158)","v":9.9},{"$f":"IF(ISBLANK(InfoPro!F158),\"\",InfoPro!F158)","v":"Solar FV"},{"$f":"IF(ISBLANK(InfoPro!I158),\"\",YEAR(InfoPro!I158)-$G$4)","v":1},{"$f":"IF(B165=\"\",\"\",VLOOKUP(D165,Tablas!$B$2:$E$13,2,FALSE))","v":0.26},{"$f":"IF(B165=\"\",\"\",VLOOKUP(D165,Tablas!$B$2:$F$13,3,FALSE))","v":0},22548.240000000005,0,0,0,0,0,0,0,0,0,0,0,0,0,0,0,0,0]
[{"$f":"IF(ISBLANK(InfoPro!A159),\"\",InfoPro!A159)","v":"SC_1926_A2"},{"$f":"IF(ISBLANK(InfoPro!B159),\"\",InfoPro!B159)","v":"Bongos I 9.90 MW"},{"$f":"IF(ISBLANK(InfoPro!E159),\"\",InfoPro!E159)","v":9.9},{"$f":"IF(ISBLANK(InfoPro!F159),\"\",InfoPro!F159)","v":"Solar FV"},{"$f":"IF(ISBLANK(InfoPro!I159),\"\",YEAR(InfoPro!I159)-$G$4)","v":1},{"$f":"IF(B166=\"\",\"\",VLOOKUP(D166,Tablas!$B$2:$E$13,2,FALSE))","v":0.26},{"$f":"IF(B166=\"\",\"\",VLOOKUP(D166,Tablas!$B$2:$F$13,3,FALSE))","v":0},22548.240000000005,0,0,0,0,0,0,0,0,0,0,0,0,0,0,0,0,0]
[{"$f":"IF(ISBLANK(InfoPro!A160),\"\",InfoPro!A160)","v":"SC_1825_A1"},{"$f":"IF(ISBLANK(InfoPro!B160),\"\",InfoPro!B160)","v":"PROYECTO DE GENERACIÓN ELÉCTRICA EL JOBO_200MW"},{"$f":"IF(ISBLANK(InfoPro!E160),\"\",InfoPro!E160)","v":200},{"$f":"IF(ISBLANK(InfoPro!F160),\"\",InfoPro!F160)","v":"Termica a vapor"},{"$f":"IF(ISBLANK(InfoPro!I160),\"\",YEAR(InfoPro!I160)-$G$4)","v":3},{"$f":"IF(B167=\"\",\"\",VLOOKUP(D167,Tablas!$B$2:$E$13,2,FALSE))","v":0.85},{"$f":"IF(B167=\"\",\"\",VLOOKUP(D167,Tablas!$B$2:$F$13,3,FALSE))","v":0.25},1489200,17970861429.806065,16074115769.057304,14377563299.693474,12860074507.775917,11502750006.955206,10288685158.278358,9202759533.343792,8231448598.6974878,7362655276.1158228,6585559280.9622736,5890482362.2202816,5268767765.8499842,4712672420.2593775,4215270501.1264553,3770367174.531714,138314033084.67352,691570.16542336764]
[{"$f":"IF(ISBLANK(InfoPro!A161),\"\",InfoPro!A161)","v":"SC_1897_A1"},{"$f":"IF(ISBLANK(InfoPro!B161),\"\",InfoPro!B161)","v":"La Florecita 90 MW"},{"$f":"IF(ISBLANK(InfoPro!E161),\"\",InfoPro!E161)","v":90},{"$f":"IF(ISBLANK(InfoPro!F161),\"\",InfoPro!F161)","v":"Solar FV"},{"$f":"IF(ISBLANK(InfoPro!I161),\"\",YEAR(InfoPro!I161)-$G$4)","v":3},{"$f":"IF(B168=\"\",\"\",VLOOKUP(D168,Tablas!$B$2:$E$13,2,FALSE))","v":0.26},{"$f":"IF(B168=\"\",\"\",VLOOKUP(D168,Tablas!$B$2:$F$13,3,FALSE))","v":0},204984,0,0,0,0,0,0,0,0,0,0,0,0,0,0,0,0,0]
[{"$f":"IF(ISBLANK(InfoPro!A162),\"\",InfoPro!A162)","v":"SC_1897_A2"},{"$f":"IF(ISBLANK(InfoPro!B162),\"\",InfoPro!B162)","v":"La Florecita 90 MW"},{"$f":"IF(ISBLANK(InfoPro!E162),\"\",InfoPro!E162)","v":90},{"$f":"IF(ISBLANK(InfoPro!F162),\"\",InfoPro!F162)","v":"Solar FV"},{"$f":"IF(ISBLANK(InfoPro!I162),\"\",YEAR(InfoPro!I162)-$G$4)","v":3},{"$f":"IF(B169=\"\",\"\",VLOOKUP(D169,Tablas!$B$2:$E$13,2,FALSE))","v":0.26},{"$f":"IF(B169=\"\",\"\",VLOOKUP(D169,Tablas!$B$2:$F$13,3,FALSE))","v":0},204984,0,0,0,0,0,0,0,0,0,0,0,0,0,0,0,0,0]
[{"$f":"IF(ISBLANK(InfoPro!A163),\"\",InfoPro!A163)","v":"SC_2014_A1"},{"$f":"IF(ISBLANK(InfoPro!B163),\"\",InfoPro!B163)","v":"Lotería 2"},{"$f":"IF(ISBLANK(InfoPro!E163),\"\",InfoPro!E163)","v":9.9},{"$f":"IF(ISBLANK(InfoPro!F163),\"\",InfoPro!F163)","v":"Solar FV"},{"$f":"IF(ISBLANK(InfoPro!I163),\"\",YEAR(InfoPro!I163)-$G$4)","v":1},{"$f":"IF(B170=\"\",\"\",VLOOKUP(D170,Tablas!$B$2:$E$13,2,FALSE))","v":0.26},{"$f":"IF(B170=\"\",\"\",VLOOKUP(D170,Tablas!$B$2:$F$13,3,FALSE))","v":0},22548.240000000005,0,0,0,0,0,0,0,0,0,0,0,0,0,0,0,0,0]
[{"$f":"IF(ISBLANK(InfoPro!A164),\"\",InfoPro!A164)","v":"SC_2014_A2"},{"$f":"IF(ISBLANK(InfoPro!B164),\"\",InfoPro!B164)","v":"Lotería 2"},{"$f":"IF(ISBLANK(InfoPro!E164),\"\",InfoPro!E164)","v":9.9},{"$f":"IF(ISBLANK(InfoPro!F164),\"\",InfoPro!F164)","v":"Solar FV"},{"$f":"IF(ISBLANK(InfoPro!I164),\"\",YEAR(InfoPro!I164)-$G$4)","v":1},{"$f":"IF(B171=\"\",\"\",VLOOKUP(D171,Tablas!$B$2:$E$13,2,FALSE))","v":0.26},{"$f":"IF(B171=\"\",\"\",VLOOKUP(D171,Tablas!$B$2:$F$13,3,FALSE))","v":0},22548.240000000005,0,0,0,0,0,0,0,0,0,0,0,0,0,0,0,0,0]
[{"$f":"IF(ISBLANK(InfoPro!A165),\"\",InfoPro!A165)","v":"SC_2017_A1"},{"$f":"IF(ISBLANK(InfoPro!B165),\"\",InfoPro!B165)","v":"LOTERÍA 1"},{"$f":"IF(ISBLANK(InfoPro!E165),\"\",InfoPro!E165)","v":9.9},{"$f":"IF(ISBLANK(InfoPro!F165),\"\",InfoPro!F165)","v":"Solar FV"},{"$f":"IF(ISBLANK(InfoPro!I165),\"\",YEAR(InfoPro!I165)-$G$4)","v":1},{"$f":"IF(B172=\"\",\"\",VLOOKUP(D172,Tablas!$B$2:$E$13,2,FALSE))","v":0.26},{"$f":"IF(B172=\"\",\"\",VLOOKUP(D172,Tablas!$B$2:$F$13,3,FALSE))","v":0},22548.240000000005,0,0,0,0,0,0,0,0,0,0,0,0,0,0,0,0,0]
[{"$f":"IF(ISBLANK(InfoPro!A166),\"\",InfoPro!A166)","v":"SC_2017_A2"},{"$f":"IF(ISBLANK(InfoPro!B166),\"\",InfoPro!B166)","v":"LOTERÍA 1"},{"$f":"IF(ISBLANK(InfoPro!E166),\"\",InfoPro!E166)","v":9.9},{"$f":"IF(ISBLANK(InfoPro!F166),\"\",InfoPro!F166)","v":"Solar FV"},{"$f":"IF(ISBLANK(InfoPro!I166),\"\",YEAR(InfoPro!I166)-$G$4)","v":1},{"$f":"IF(B173=\"\",\"\",VLOOKUP(D173,Tablas!$B$2:$E$13,2,FALSE))","v":0.26},{"$f":"IF(B173=\"\",\"\",VLOOKUP(D173,Tablas!$B$2:$F$13,3,FALSE))","v":0},22548.240000000005,0,0,0,0,0,0,0,0,0,0,0,0,0,0,0,0,0]
[{"$f":"IF(ISBLANK(InfoPro!A167),\"\",InfoPro!A167)","v":"SC_2165_A1"},{"$f":"IF(ISBLANK(InfoPro!B167),\"\",InfoPro!B167)","v":"Autogeneración Solar Fotovoltaica 9.9 MW (entrega de excedentes de 0)"},{"$f":"IF(ISBLANK(InfoPro!E167),\"\",InfoPro!E167)","v":0},{"$f":"IF(ISBLANK(InfoPro!F167),\"\",InfoPro!F167)","v":"Solar FV"},{"$f":"IF(ISBLANK(InfoPro!I167),\"\",YEAR(InfoPro!I167)-$G$4)","v":0},{"$f":"IF(B174=\"\",\"\",VLOOKUP(D174,Tablas!$B$2:$E$13,2,FALSE))","v":0.26},{"$f":"IF(B174=\"\",\"\",VLOOKUP(D174,Tablas!$B$2:$F$13,3,FALSE))","v":0},0,0,0,0,0,0,0,0,0,0,0,0,0,0,0,0,0,0]
[{"$f":"IF(ISBLANK(InfoPro!A168),\"\",InfoPro!A168)","v":"SC_1820\n_A1"},{"$f":"IF(ISBLANK(InfoPro!B168),\"\",InfoPro!B168)","v":"NAIOT"},{"$f":"IF(ISBLANK(InfoPro!E168),\"\",InfoPro!E168)","v":19.899999999999999},{"$f":"IF(ISBLANK(InfoPro!F168),\"\",InfoPro!F168)","v":"Solar FV"},{"$f":"IF(ISBLANK(InfoPro!I168),\"\",YEAR(InfoPro!I168)-$G$4)","v":1},{"$f":"IF(B175=\"\",\"\",VLOOKUP(D175,Tablas!$B$2:$E$13,2,FALSE))","v":0.26},{"$f":"IF(B175=\"\",\"\",VLOOKUP(D175,Tablas!$B$2:$F$13,3,FALSE))","v":0},45324.24,0,0,0,0,0,0,0,0,0,0,0,0,0,0,0,0,0]
[{"$f":"IF(ISBLANK(InfoPro!A169),\"\",InfoPro!A169)","v":"SC_1820\n_A2"},{"$f":"IF(ISBLANK(InfoPro!B169),\"\",InfoPro!B169)","v":"NAIOT"},{"$f":"IF(ISBLANK(InfoPro!E169),\"\",InfoPro!E169)","v":19.899999999999999},{"$f":"IF(ISBLANK(InfoPro!F169),\"\",InfoPro!F169)","v":"Solar FV"},{"$f":"IF(ISBLANK(InfoPro!I169),\"\",YEAR(InfoPro!I169)-$G$4)","v":1},{"$f":"IF(B176=\"\",\"\",VLOOKUP(D176,Tablas!$B$2:$E$13,2,FALSE))","v":0.26},{"$f":"IF(B176=\"\",\"\",VLOOKUP(D176,Tablas!$B$2:$F$13,3,FALSE))","v":0},45324.24,0,0,0,0,0,0,0,0,0,0,0,0,0,0,0,0,0]
[{"$f":"IF(ISBLANK(InfoPro!A170),\"\",InfoPro!A170)","v":"SC_2325_A1"},{"$f":"IF(ISBLANK(InfoPro!B170),\"\",InfoPro!B170)","v":"PROYECTO FOTOVOLTAICO MONTERROSO DE 99,9 MW"},{"$f":"IF(ISBLANK(InfoPro!E170),\"\",InfoPro!E170)","v":99.9},{"$f":"IF(ISBLANK(InfoPro!F170),\"\",InfoPro!F170)","v":"Solar FV"},{"$f":"IF(ISBLANK(InfoPro!I170),\"\",YEAR(InfoPro!I170)-$G$4)","v":3},{"$f":"IF(B177=\"\",\"\",VLOOKUP(D177,Tablas!$B$2:$E$13,2,FALSE))","v":0.26},{"$f":"IF(B177=\"\",\"\",VLOOKUP(D177,Tablas!$B$2:$F$13,3,FALSE))","v":0},227532.24000000002,0,0,0,0,0,0,0,0,0,0,0,0,0,0,0,0,0]
[{"$f":"IF(ISBLANK(InfoPro!A171),\"\",InfoPro!A171)","v":"SC_2325_A2"},{"$f":"IF(ISBLANK(InfoPro!B171),\"\",InfoPro!B171)","v":"PROYECTO FOTOVOLTAICO MONTERROSO DE 99,9 MW"},{"$f":"IF(ISBLANK(InfoPro!E171),\"\",InfoPro!E171)","v":99.9},{"$f":"IF(ISBLANK(InfoPro!F171),\"\",InfoPro!F171)","v":"Solar FV"},{"$f":"IF(ISBLANK(InfoPro!I171),\"\",YEAR(InfoPro!I171)-$G$4)","v":3},{"$f":"IF(B178=\"\",\"\",VLOOKUP(D178,Tablas!$B$2:$E$13,2,FALSE))","v":0.26},{"$f":"IF(B178=\"\",\"\",VLOOKUP(D178,Tablas!$B$2:$F$13,3,FALSE))","v":0},227532.24000000002,0,0,0,0,0,0,0,0,0,0,0,0,0,0,0,0,0]
[{"$f":"IF(ISBLANK(InfoPro!A172),\"\",InfoPro!A172)","v":""},{"$f":"IF(ISBLANK(InfoPro!B172),\"\",InfoPro!B172)","v":""},{"$f":"IF(ISBLANK(InfoPro!E172),\"\",InfoPro!E172)","v":""},{"$f":"IF(ISBLANK(InfoPro!F172),\"\",InfoPro!F172)","v":""},{"$f":"IF(ISBLANK(InfoPro!I172),\"\",YEAR(InfoPro!I172)-$G$4)","v":""},{"$f":"IF(B179=\"\",\"\",VLOOKUP(D179,Tablas!$B$2:$E$13,2,FALSE))","v":""},{"$f":"IF(B179=\"\",\"\",VLOOKUP(D179,Tablas!$B$2:$F$13,3,FALSE))","v":""},"",{"$f":"IF($H179=\"\",\"\",(1/(1+$C$4)^(I$7+$E179))*$H179*$G179*$C$3)","v":""},"","","","","","","","","","","","","","","",""]
[{"$f":"IF(ISBLANK(InfoPro!A173),\"\",InfoPro!A173)","v":""},{"$f":"IF(ISBLANK(InfoPro!B173),\"\",InfoPro!B173)","v":""},{"$f":"IF(ISBLANK(InfoPro!E173),\"\",InfoPro!E173)","v":""},{"$f":"IF(ISBLANK(InfoPro!F173),\"\",InfoPro!F173)","v":""},{"$f":"IF(ISBLANK(InfoPro!I173),\"\",YEAR(InfoPro!I173)-$G$4)","v":""},{"$f":"IF(B180=\"\",\"\",VLOOKUP(D180,Tablas!$B$2:$E$13,2,FALSE))","v":""},{"$f":"IF(B180=\"\",\"\",VLOOKUP(D180,Tablas!$B$2:$F$13,3,FALSE))","v":""},"","","","","","","","","","","","","","","","","",""]
[{"$f":"IF(ISBLANK(InfoPro!A174),\"\",InfoPro!A174)","v":""},{"$f":"IF(ISBLANK(InfoPro!B174),\"\",InfoPro!B174)","v":""},{"$f":"IF(ISBLANK(InfoPro!E174),\"\",InfoPro!E174)","v":""},{"$f":"IF(ISBLANK(InfoPro!F174),\"\",InfoPro!F174)","v":""},{"$f":"IF(ISBLANK(InfoPro!I174),\"\",YEAR(InfoPro!I174)-$G$4)","v":""},{"$f":"IF(B181=\"\",\"\",VLOOKUP(D181,Tablas!$B$2:$E$13,2,FALSE))","v":""},{"$f":"IF(B181=\"\",\"\",VLOOKUP(D181,Tablas!$B$2:$F$13,3,FALSE))","v":""},"","","","","","","","","","","","","","","","","",""]
[{"$f":"IF(ISBLANK(InfoPro!A175),\"\",InfoPro!A175)","v":""},{"$f":"IF(ISBLANK(InfoPro!B175),\"\",InfoPro!B175)","v":""},{"$f":"IF(ISBLANK(InfoPro!E175),\"\",InfoPro!E175)","v":""},{"$f":"IF(ISBLANK(InfoPro!F175),\"\",InfoPro!F175)","v":""},{"$f":"IF(ISBLANK(InfoPro!I175),\"\",YEAR(InfoPro!I175)-$G$4)","v":""},{"$f":"IF(B182=\"\",\"\",VLOOKUP(D182,Tablas!$B$2:$E$13,2,FALSE))","v":""},{"$f":"IF(B182=\"\",\"\",VLOOKUP(D182,Tablas!$B$2:$F$13,3,FALSE))","v":""},"","","","","","","","","","","","","","","","","",""]

{"sheet":"BT-Confi","index":10,"n_rows":181,"n_cols":25,"rows_kept":181,"cut":false,"hidden":false,"merged":[]}
[]
[null,null,null,null,null,null,null,"CR1",2033920,"COP/MWh"]
[null,"Precio promedio de bolsa",{"$f":"'EC-RP'!C2","v":192057},"COP/MWh",null,null,null,"PE",884380,"COP/MWh"]
[null,"Tasa de descuento",0.11799999999999999,null,null,"Año de Referencia",2023,"Proba",0.19,"UPME Plan de expansion"]
[null,null,null,null,null,"Mínimo",{"$f":"MIN(Y9:Y349)","v":0},"CR1-PE",{"$f":"((I2-I3))","v":1149540},"COP/MWh"]
[]
[null,null,null,null,null,null,null,null,0,1,2,3,4,5,6,7,8,9,10,11,12,13,14]
["Codigo","Nombre","capacidad","Tecnologia","Año de entrada","FP","Factor ENFICC","ENFICC/a MWh/a","Flujo Descontado 0","Flujo Descontado 1","Flujo Descontado 2","Flujo Descontado 3","Flujo Descontado 4","Flujo Descontado 5","Flujo Descontado 6","Flujo Descontado 7","Flujo Descontado 8","Flujo Descontado 9","Flujo Descontado 10","Flujo Descontado 11","Flujo Descontado 12","Flujo Descontado 13","Flujo Descontado 14","VPN","Beneficio/kW"]
[{"$f":"IF(ISBLANK(InfoPro!A2),\"\",InfoPro!A2)","v":"SC_44_A1"},{"$f":"IF(ISBLANK(InfoPro!B2),\"\",InfoPro!B2)","v":"El Floral 1"},{"$f":"IF(ISBLANK(InfoPro!E2),\"\",InfoPro!E2)","v":19.899999999999999},{"$f":"IF(ISBLANK(InfoPro!F2),\"\",InfoPro!F2)","v":"Solar FV"},{"$f":"IF(ISBLANK(InfoPro!I2),\"\",YEAR(InfoPro!I2)-$G$4)","v":2},{"$f":"IF(B9=\"\",\"\",VLOOKUP(D9,Tablas!$B$2:$E$13,2,FALSE))","v":0.26},{"$f":"IF(B9=\"\",\"\",VLOOKUP(D9,Tablas!$B$2:$F$13,5,FALSE))","v":0.15},{"$f":"IF(C9=\"\",\"\",+C9*G9*F9*24*365)","v":6798.6360000000004},{"$f":"IF($H9=\"\",\"\",(1/(1+$C$4)^(I$7+$E9))*$H9*$I$5*$I$4)","v":1187998442.4761827},{"$f":"IF($H9=\"\",\"\",(1/(1+$C$4)^(J$7+$E9))*$H9*$I$5*$I$4)","v":1062610413.6638488},950456541.73868418,850140019.44426143,760411466.40810502,680153368.8802371,608366161.78912091,544155779.77560008,486722522.16064405,435351093.16694474,389401693.35147113,348302051.29827476,311540296.33119392,{"$f":"IF($H9=\"\",\"\",(1/(1+$C$4)^(V$7+$E9))*$H9*$I$5*$I$4)","v":278658583.48049545},249247391.30634654,{"$f":"IF(W9=\"\",\"\",SUM(I9:W9))","v":9143515825.27141},{"$f":"IF(C9=0,0,IF(X9=\"\",\"\",X9/(C9*1000)))","v":459473.15704881458}]
[{"$f":"IF(ISBLANK(InfoPro!A3),\"\",InfoPro!A3)","v":"SC_47_A1"},{"$f":"IF(ISBLANK(InfoPro!B3),\"\",InfoPro!B3)","v":"El Floral II - 19.9 MW"},{"$f":"IF(ISBLANK(InfoPro!E3),\"\",InfoPro!E3)","v":19.899999999999999},{"$f":"IF(ISBLANK(InfoPro!F3),\"\",InfoPro!F3)","v":"Solar FV"},{"$f":"IF(ISBLANK(InfoPro!I3),\"\",YEAR(InfoPro!I3)-$G$4)","v":2},{"$f":"IF(B10=\"\",\"\",VLOOKUP(D10,Tablas!$B$2:$E$13,2,FALSE))","v":0.26},{"$f":"IF(B10=\"\",\"\",VLOOKUP(D10,Tablas!$B$2:$F$13,5,FALSE))","v":0.15},{"$f":"IF(C10=\"\",\"\",+C10*G10*F10*24*365)","v":6798.6360000000004},1187998442.4761827,1062610413.6638488,950456541.73868418,850140019.44426143,760411466.40810502,680153368.8802371,608366161.78912091,544155779.77560008,486722522.16064405,435351093.16694474,389401693.35147113,348302051.29827476,311540296.33119392,278658583.48049545,249247391.30634654,{"$f":"IF(W10=\"\",\"\",SUM(I10:W10))","v":9143515825.27141},{"$f":"IF(C10=0,0,IF(X10=\"\",\"\",X10/(C10*1000)))","v":459473.15704881458}]
[{"$f":"IF(ISBLANK(InfoPro!A4),\"\",InfoPro!A4)","v":"SC_408_A1"},{"$f":"IF(ISBLANK(InfoPro!B4),\"\",InfoPro!B4)","v":"El Jardín 40 MW"},{"$f":"IF(ISBLANK(InfoPro!E4),\"\",InfoPro!E4)","v":40},{"$f":"IF(ISBLANK(InfoPro!F4),\"\",InfoPro!F4)","v":"Solar FV"},{"$f":"IF(ISBLANK(InfoPro!I4),\"\",YEAR(InfoPro!I4)-$G$4)","v":2},{"$f":"IF(B11=\"\",\"\",VLOOKUP(D11,Tablas!$B$2:$E$13,2,FALSE))","v":0.26},{"$f":"IF(B11=\"\",\"\",VLOOKUP(D11,Tablas!$B$2:$F$13,5,FALSE))","v":0.15},13665.599999999999,2387936567.7913218,2135900328.9725602,1910465410.5300181,1708824159.6869576,1528465259.1117687,1367142450.0105267,1222846556.3600419,1093780461.8605025,978336727.96109343,875077574.20491397,782716971.56074584,700104625.72517526,626211650.91697252,560117755.73968923,500999781.52029443,18378926281.952579,459473.15704881446]
[{"$f":"IF(ISBLANK(InfoPro!A5),\"\",InfoPro!A5)","v":"SC_454_A1"},{"$f":"IF(ISBLANK(InfoPro!B5),\"\",InfoPro!B5)","v":"PARQUE SOLAR SAN RAFAEL - 300 MW"},{"$f":"IF(ISBLANK(InfoPro!E5),\"\",InfoPro!E5)","v":300},{"$f":"IF(ISBLANK(InfoPro!F5),\"\",InfoPro!F5)","v":"Solar FV"},{"$f":"IF(ISBLANK(InfoPro!I5),\"\",YEAR(InfoPro!I5)-$G$4)","v":3},{"$f":"IF(B12=\"\",\"\",VLOOKUP(D12,Tablas!$B$2:$E$13,2,FALSE))","v":0.26},{"$f":"IF(B12=\"\",\"\",VLOOKUP(D12,Tablas!$B$2:$F$13,5,FALSE))","v":0.15},102492,16019252467.294201,14328490578.975136,12816181197.65218,11463489443.338264,10253568375.078951,9171349172.7003136,8203353463.9537687,7337525459.7082024,6563081806.5368547,5870377286.705595,5250784692.9388151,4696587381.8772945,4200883168.0476699,3757498361.4022083,3360910877.8195071,123293333734.02895,410977.77911342983]
[{"$f":"IF(ISBLANK(InfoPro!A6),\"\",InfoPro!A6)","v":"SC_454_A2"},{"$f":"IF(ISBLANK(InfoPro!B6),\"\",InfoPro!B6)","v":"PARQUE SOLAR SAN RAFAEL - 300 MW"},{"$f":"IF(ISBLANK(InfoPro!E6),\"\",InfoPro!E6)","v":300},{"$f":"IF(ISBLANK(InfoPro!F6),\"\",InfoPro!F6)","v":"Solar FV"},{"$f":"IF(ISBLANK(InfoPro!I6),\"\",YEAR(InfoPro!I6)-$G$4)","v":3},{"$f":"IF(B13=\"\",\"\",VLOOKUP(D13,Tablas!$B$2:$E$13,2,FALSE))","v":0.26},{"$f":"IF(B13=\"\",\"\",VLOOKUP(D13,Tablas!$B$2:$F$13,5,FALSE))","v":0.15},102492,16019252467.294201,14328490578.975136,12816181197.65218,11463489443.338264,10253568375.078951,9171349172.7003136,8203353463.9537687,7337525459.7082024,6563081806.5368547,5870377286.705595,5250784692.9388151,4696587381.8772945,4200883168.0476699,3757498361.4022083,3360910877.8195071,123293333734.02895,410977.77911342983]
[{"$f":"IF(ISBLANK(InfoPro!A7),\"\",InfoPro!A7)","v":"SC_483_A1"},{"$f":"IF(ISBLANK(InfoPro!B7),\"\",InfoPro!B7)","v":"PARQUE SOLAR LOMAS 39.9 MW"},{"$f":"IF(ISBLANK(InfoPro!E7),\"\",InfoPro!E7)","v":39.9},{"$f":"IF(ISBLANK(InfoPro!F7),\"\",InfoPro!F7)","v":"Solar FV"},{"$f":"IF(ISBLANK(InfoPro!I7),\"\",YEAR(InfoPro!I7)-$G$4)","v":2},{"$f":"IF(B14=\"\",\"\",VLOOKUP(D14,Tablas!$B$2:$E$13,2,FALSE))","v":0.26},{"$f":"IF(B14=\"\",\"\",VLOOKUP(D14,Tablas!$B$2:$F$13,5,FALSE))","v":0.15},13631.435999999998,2381966726.3718433,2130560578.1501286,1905689247.0036931,1704552099.2877398,1524644095.963989,1363724593.8855002,1219789439.9691415,1091046010.7058511,975890886.14119065,872889880.26940167,780760179.13184392,698354364.16086233,624646121.78968012,558717461.35034001,499747282.06649375,18332978966.2477,459473.15704881452]
[{"$f":"IF(ISBLANK(InfoPro!A8),\"\",InfoPro!A8)","v":"SC_586_A1"},{"$f":"IF(ISBLANK(InfoPro!B8),\"\",InfoPro!B8)","v":"Orquídea del Sucre - Sierra Flor 60 MW"},{"$f":"IF(ISBLANK(InfoPro!E8),\"\",InfoPro!E8)","v":60},{"$f":"IF(ISBLANK(InfoPro!F8),\"\",InfoPro!F8)","v":"Solar FV"},{"$f":"IF(ISBLANK(InfoPro!I8),\"\",YEAR(InfoPro!I8)-$G$4)","v":4},{"$f":"IF(B15=\"\",\"\",VLOOKUP(D15,Tablas!$B$2:$E$13,2,FALSE))","v":0.26},{"$f":"IF(B15=\"\",\"\",VLOOKUP(D15,Tablas!$B$2:$F$13,5,FALSE))","v":0.15},20498.399999999998,2865698115.7950273,2563236239.530436,2292697888.6676526,2050713675.01579,1834269834.5400624,1640670692.7907538,1467505091.9416401,1312616361.3073709,1174075457.3411188,1050156938.5877627,939317476.37545884,840176633.60953391,751499672.28044164,672182175.56390142,601236292.99096715,22056052546.337917,367600.8757722986]
[{"$f":"IF(ISBLANK(InfoPro!A9),\"\",InfoPro!A9)","v":"SC_586_A2"},{"$f":"IF(ISBLANK(InfoPro!B9),\"\",InfoPro!B9)","v":"Orquídea del Sucre - Sierra Flor 60 MW"},{"$f":"IF(ISBLANK(InfoPro!E9),\"\",InfoPro!E9)","v":60},{"$f":"IF(ISBLANK(InfoPro!F9),\"\",InfoPro!F9)","v":"Solar FV"},{"$f":"IF(ISBLANK(InfoPro!I9),\"\",YEAR(InfoPro!I9)-$G$4)","v":4},{"$f":"IF(B16=\"\",\"\",VLOOKUP(D16,Tablas!$B$2:$E$13,2,FALSE))","v":0.26},{"$f":"IF(B16=\"\",\"\",VLOOKUP(D16,Tablas!$B$2:$F$13,5,FALSE))","v":0.15},20498.399999999998,2865698115.7950273,2563236239.530436,2292697888.6676526,2050713675.01579,1834269834.5400624,1640670692.7907538,1467505091.9416401,1312616361.3073709,1174075457.3411188,1050156938.5877627,939317476.37545884,840176633.60953391,751499672.28044164,672182175.56390142,601236292.99096715,22056052546.337917,367600.8757722986]
[{"$f":"IF(ISBLANK(InfoPro!A10),\"\",InfoPro!A10)","v":"SC_681_A1"},{"$f":"IF(ISBLANK(InfoPro!B10),\"\",InfoPro!B10)","v":"PARQUE SOLARLAS LAS PALMAS de 90MW"},{"$f":"IF(ISBLANK(InfoPro!E10),\"\",InfoPro!E10)","v":90},{"$f":"IF(ISBLANK(InfoPro!F10),\"\",InfoPro!F10)","v":"Solar FV"},{"$f":"IF(ISBLANK(InfoPro!I10),\"\",YEAR(InfoPro!I10)-$G$4)","v":2},{"$f":"IF(B17=\"\",\"\",VLOOKUP(D17,Tablas!$B$2:$E$13,2,FALSE))","v":0.26},{"$f":"IF(B17=\"\",\"\",VLOOKUP(D17,Tablas!$B$2:$F$13,5,FALSE))","v":0.15},30747.600000000002,5372857277.5304756,4805775740.188261,4298547173.6925421,3844854359.2956548,3439046833.0014796,3076070512.5236855,2751404751.8100944,2461006039.186131,2201257637.9124603,1968924541.9610562,1761113186.0116782,1575235407.8816445,1408976214.5631886,1260264950.4143012,1127249508.4206629,41352584134.393311,459473.15704881458]
[{"$f":"IF(ISBLANK(InfoPro!A11),\"\",InfoPro!A11)","v":"SC_681_A2"},{"$f":"IF(ISBLANK(InfoPro!B11),\"\",InfoPro!B11)","v":"PARQUE SOLARLAS LAS PALMAS de 90MW"},{"$f":"IF(ISBLANK(InfoPro!E11),\"\",InfoPro!E11)","v":90},{"$f":"IF(ISBLANK(InfoPro!F11),\"\",InfoPro!F11)","v":"Solar FV"},{"$f":"IF(ISBLANK(InfoPro!I11),\"\",YEAR(InfoPro!I11)-$G$4)","v":2},{"$f":"IF(B18=\"\",\"\",VLOOKUP(D18,Tablas!$B$2:$E$13,2,FALSE))","v":0.26},{"$f":"IF(B18=\"\",\"\",VLOOKUP(D18,Tablas!$B$2:$F$13,5,FALSE))","v":0.15},30747.600000000002,5372857277.5304756,4805775740.188261,4298547173.6925421,3844854359.2956548,3439046833.0014796,3076070512.5236855,2751404751.8100944,2461006039.186131,2201257637.9124603,1968924541.9610562,1761113186.0116782,1575235407.8816445,1408976214.5631886,1260264950.4143012,1127249508.4206629,41352584134.393311,459473.15704881458]
[{"$f":"IF(ISBLANK(InfoPro!A12),\"\",InfoPro!A12)","v":"SC_720_A1"},{"$f":"IF(ISBLANK(InfoPro!B12),\"\",InfoPro!B12)","v":"El Jazmín"},{"$f":"IF(ISBLANK(InfoPro!E12),\"\",InfoPro!E12)","v":19.899999999999999},{"$f":"IF(ISBLANK(InfoPro!F12),\"\",InfoPro!F12)","v":"Solar FV"},{"$f":"IF(ISBLANK(InfoPro!I12),\"\",YEAR(InfoPro!I12)-$G$4)","v":2},{"$f":"IF(B19=\"\",\"\",VLOOKUP(D19,Tablas!$B$2:$E$13,2,FALSE))","v":0.26},{"$f":"IF(B19=\"\",\"\",VLOOKUP(D19,Tablas!$B$2:$F$13,5,FALSE))","v":0.15},6798.6360000000004,{"$f":"IF($H19=\"\",\"\",(1/(1+$C$4)^(I$7+$E19))*$H19*$I$5*$I$4)","v":1187998442.4761827},1062610413.6638488,950456541.73868418,850140019.44426143,760411466.40810502,680153368.8802371,608366161.78912091,544155779.77560008,486722522.16064405,435351093.16694474,389401693.35147113,348302051.29827476,311540296.33119392,278658583.48049545,249247391.30634654,9143515825.27141,459473.15704881458]
[{"$f":"IF(ISBLANK(InfoPro!A13),\"\",InfoPro!A13)","v":"SC_720_A2"},{"$f":"IF(ISBLANK(InfoPro!B13),\"\",InfoPro!B13)","v":"El Jazmín"},{"$f":"IF(ISBLANK(InfoPro!E13),\"\",InfoPro!E13)","v":19.899999999999999},{"$f":"IF(ISBLANK(InfoPro!F13),\"\",InfoPro!F13)","v":"Solar FV"},{"$f":"IF(ISBLANK(InfoPro!I13),\"\",YEAR(InfoPro!I13)-$G$4)","v":2},{"$f":"IF(B20=\"\",\"\",VLOOKUP(D20,Tablas!$B$2:$E$13,2,FALSE))","v":0.26},{"$f":"IF(B20=\"\",\"\",VLOOKUP(D20,Tablas!$B$2:$F$13,5,FALSE))","v":0.15},6798.6360000000004,1187998442.4761827,1062610413.6638488,950456541.73868418,850140019.44426143,760411466.40810502,680153368.8802371,608366161.78912091,544155779.77560008,486722522.16064405,435351093.16694474,389401693.35147113,348302051.29827476,311540296.33119392,278658583.48049545,249247391.30634654,9143515825.27141,459473.15704881458]
[{"$f":"IF(ISBLANK(InfoPro!A14),\"\",InfoPro!A14)","v":"SC_713_A1"},{"$f":"IF(ISBLANK(InfoPro!B14),\"\",InfoPro!B14)","v":"Crucero - 300MW"},{"$f":"IF(ISBLANK(InfoPro!E14),\"\",InfoPro!E14)","v":300},{"$f":"IF(ISBLANK(InfoPro!F14),\"\",InfoPro!F14)","v":"Solar FV"},{"$f":"IF(ISBLANK(InfoPro!I14),\"\",YEAR(InfoPro!I14)-$G$4)","v":4},{"$f":"IF(B21=\"\",\"\",VLOOKUP(D21,Tablas!$B$2:$E$13,2,FALSE))","v":0.26},{"$f":"IF(B21=\"\",\"\",VLOOKUP(D21,Tablas!$B$2:$F$13,5,FALSE))","v":0.15},102492,14328490578.975136,12816181197.65218,11463489443.338264,10253568375.078951,9171349172.7003136,8203353463.9537687,7337525459.7082024,6563081806.5368547,5870377286.705595,5250784692.9388151,4696587381.8772945,4200883168.0476699,3757498361.4022083,3360910877.8195071,3006181464.9548364,110280262731.68958,367600.8757722986]
[{"$f":"IF(ISBLANK(InfoPro!A15),\"\",InfoPro!A15)","v":"SC_836_A1"},{"$f":"IF(ISBLANK(InfoPro!B15),\"\",InfoPro!B15)","v":"BONGO DEL SINÚ DE 19.9 MW"},{"$f":"IF(ISBLANK(InfoPro!E15),\"\",InfoPro!E15)","v":19.899999999999999},{"$f":"IF(ISBLANK(InfoPro!F15),\"\",InfoPro!F15)","v":"Solar FV"},{"$f":"IF(ISBLANK(InfoPro!I15),\"\",YEAR(InfoPro!I15)-$G$4)","v":2},{"$f":"IF(B22=\"\",\"\",VLOOKUP(D22,Tablas!$B$2:$E$13,2,FALSE))","v":0.26},{"$f":"IF(B22=\"\",\"\",VLOOKUP(D22,Tablas!$B$2:$F$13,5,FALSE))","v":0.15},6798.6360000000004,1187998442.4761827,1062610413.6638488,950456541.73868418,850140019.44426143,760411466.40810502,680153368.8802371,608366161.78912091,544155779.77560008,486722522.16064405,435351093.16694474,389401693.35147113,348302051.29827476,311540296.33119392,278658583.48049545,249247391.30634654,9143515825.27141,459473.15704881458]
[{"$f":"IF(ISBLANK(InfoPro!A16),\"\",InfoPro!A16)","v":"SC_836_A2"},{"$f":"IF(ISBLANK(InfoPro!B16),\"\",InfoPro!B16)","v":"BONGO DEL SINÚ DE 19.9 MW"},{"$f":"IF(ISBLANK(InfoPro!E16),\"\",InfoPro!E16)","v":19.899999999999999},{"$f":"IF(ISBLANK(InfoPro!F16),\"\",InfoPro!F16)","v":"Solar FV"},{"$f":"IF(ISBLANK(InfoPro!I16),\"\",YEAR(InfoPro!I16)-$G$4)","v":2},{"$f":"IF(B23=\"\",\"\",VLOOKUP(D23,Tablas!$B$2:$E$13,2,FALSE))","v":0.26},{"$f":"IF(B23=\"\",\"\",VLOOKUP(D23,Tablas!$B$2:$F$13,5,FALSE))","v":0.15},6798.6360000000004,1187998442.4761827,1062610413.6638488,950456541.73868418,850140019.44426143,760411466.40810502,680153368.8802371,608366161.78912091,544155779.77560008,486722522.16064405,435351093.16694474,389401693.35147113,348302051.29827476,311540296.33119392,278658583.48049545,249247391.30634654,9143515825.27141,459473.15704881458]
[{"$f":"IF(ISBLANK(InfoPro!A17),\"\",InfoPro!A17)","v":"SC_778_A1"},{"$f":"IF(ISBLANK(InfoPro!B17),\"\",InfoPro!B17)","v":"KOS 19.9"},{"$f":"IF(ISBLANK(InfoPro!E17),\"\",InfoPro!E17)","v":19.899999999999999},{"$f":"IF(ISBLANK(InfoPro!F17),\"\",InfoPro!F17)","v":"Solar FV"},{"$f":"IF(ISBLANK(InfoPro!I17),\"\",YEAR(InfoPro!I17)-$G$4)","v":2},{"$f":"IF(B24=\"\",\"\",VLOOKUP(D24,Tablas!$B$2:$E$13,2,FALSE))","v":0.26},{"$f":"IF(B24=\"\",\"\",VLOOKUP(D24,Tablas!$B$2:$F$13,5,FALSE))","v":0.15},6798.6360000000004,1187998442.4761827,1062610413.6638488,950456541.73868418,850140019.44426143,760411466.40810502,680153368.8802371,608366161.78912091,544155779.77560008,486722522.16064405,435351093.16694474,389401693.35147113,348302051.29827476,311540296.33119392,278658583.48049545,249247391.30634654,9143515825.27141,459473.15704881458]
[{"$f":"IF(ISBLANK(InfoPro!A18),\"\",InfoPro!A18)","v":"SC_778_A2"},{"$f":"IF(ISBLANK(InfoPro!B18),\"\",InfoPro!B18)","v":"KOS 19.9"},{"$f":"IF(ISBLANK(InfoPro!E18),\"\",InfoPro!E18)","v":19.899999999999999},{"$f":"IF(ISBLANK(InfoPro!F18),\"\",InfoPro!F18)","v":"Solar FV"},{"$f":"IF(ISBLANK(InfoPro!I18),\"\",YEAR(InfoPro!I18)-$G$4)","v":2},{"$f":"IF(B25=\"\",\"\",VLOOKUP(D25,Tablas!$B$2:$E$13,2,FALSE))","v":0.26},{"$f":"IF(B25=\"\",\"\",VLOOKUP(D25,Tablas!$B$2:$F$13,5,FALSE))","v":0.15},6798.6360000000004,1187998442.4761827,1062610413.6638488,950456541.73868418,850140019.44426143,760411466.40810502,680153368.8802371,608366161.78912091,544155779.77560008,486722522.16064405,435351093.16694474,389401693.35147113,348302051.29827476,311540296.33119392,278658583.48049545,249247391.30634654,9143515825.27141,459473.15704881458]
[{"$f":"IF(ISBLANK(InfoPro!A19),\"\",InfoPro!A19)","v":"SC_942_A1"},{"$f":"IF(ISBLANK(InfoPro!B19),\"\",InfoPro!B19)","v":"PASCUA_60MW"},{"$f":"IF(ISBLANK(InfoPro!E19),\"\",InfoPro!E19)","v":60},{"$f":"IF(ISBLANK(InfoPro!F19),\"\",InfoPro!F19)","v":"Solar FV"},{"$f":"IF(ISBLANK(InfoPro!I19),\"\",YEAR(InfoPro!I19)-$G$4)","v":3},{"$f":"IF(B26=\"\",\"\",VLOOKUP(D26,Tablas!$B$2:$E$13,2,FALSE))","v":0.26},{"$f":"IF(B26=\"\",\"\",VLOOKUP(D26,Tablas!$B$2:$F$13,5,FALSE))","v":0.15},20498.399999999998,3203850493.4588404,2865698115.7950273,2563236239.530436,2292697888.6676526,2050713675.01579,1834269834.5400624,1640670692.7907538,1467505091.9416401,1312616361.3073709,1174075457.3411188,1050156938.5877627,939317476.37545884,840176633.60953391,751499672.28044164,672182175.56390142,24658666746.805786,410977.77911342977]
[{"$f":"IF(ISBLANK(InfoPro!A20),\"\",InfoPro!A20)","v":"SC_942_A2"},{"$f":"IF(ISBLANK(InfoPro!B20),\"\",InfoPro!B20)","v":"PASCUA_60MW"},{"$f":"IF(ISBLANK(InfoPro!E20),\"\",InfoPro!E20)","v":60},{"$f":"IF(ISBLANK(InfoPro!F20),\"\",InfoPro!F20)","v":"Solar FV"},{"$f":"IF(ISBLANK(InfoPro!I20),\"\",YEAR(InfoPro!I20)-$G$4)","v":3},{"$f":"IF(B27=\"\",\"\",VLOOKUP(D27,Tablas!$B$2:$E$13,2,FALSE))","v":0.26},{"$f":"IF(B27=\"\",\"\",VLOOKUP(D27,Tablas!$B$2:$F$13,5,FALSE))","v":0.15},20498.399999999998,3203850493.4588404,2865698115.7950273,2563236239.530436,2292697888.6676526,2050713675.01579,1834269834.5400624,1640670692.7907538,1467505091.9416401,1312616361.3073709,1174075457.3411188,1050156938.5877627,939317476.37545884,840176633.60953391,751499672.28044164,672182175.56390142,24658666746.805786,410977.77911342977]
[{"$f":"IF(ISBLANK(InfoPro!A21),\"\",InfoPro!A21)","v":"SC_1763_A1"},{"$f":"IF(ISBLANK(InfoPro!B21),\"\",InfoPro!B21)","v":"Taurus Solar de 22MW (19,5 MW)"},{"$f":"IF(ISBLANK(InfoPro!E21),\"\",InfoPro!E21)","v":19.5},{"$f":"IF(ISBLANK(InfoPro!F21),\"\",InfoPro!F21)","v":"Solar FV"},{"$f":"IF(ISBLANK(InfoPro!I21),\"\",YEAR(InfoPro!I21)-$G$4)","v":2},{"$f":"IF(B28=\"\",\"\",VLOOKUP(D28,Tablas!$B$2:$E$13,2,FALSE))","v":0.26},{"$f":"IF(B28=\"\",\"\",VLOOKUP(D28,Tablas!$B$2:$F$13,5,FALSE))","v":0.15},6661.98,1164119076.7982693,1041251410.3741231,931351887.63338399,833051777.84739161,745126813.81698716,666481944.38013184,596137696.22552037,533217975.15699494,476939154.88103306,426600317.42489552,381574523.6358636,341301005.04102296,305278179.82202417,273057405.92309856,244237393.49114355,8959726562.4518833,459473.15704881452]
[{"$f":"IF(ISBLANK(InfoPro!A22),\"\",InfoPro!A22)","v":"SC_1763_A2"},{"$f":"IF(ISBLANK(InfoPro!B22),\"\",InfoPro!B22)","v":"Taurus Solar de 22MW (19,5 MW)"},{"$f":"IF(ISBLANK(InfoPro!E22),\"\",InfoPro!E22)","v":19.5},{"$f":"IF(ISBLANK(InfoPro!F22),\"\",InfoPro!F22)","v":"Solar FV"},{"$f":"IF(ISBLANK(InfoPro!I22),\"\",YEAR(InfoPro!I22)-$G$4)","v":2},{"$f":"IF(B29=\"\",\"\",VLOOKUP(D29,Tablas!$B$2:$E$13,2,FALSE))","v":0.26},{"$f":"IF(B29=\"\",\"\",VLOOKUP(D29,Tablas!$B$2:$F$13,5,FALSE))","v":0.15},6661.98,{"$f":"IF($H29=\"\",\"\",(1/(1+$C$4)^(I$7+$E29))*$H29*$I$5*$I$4)","v":1164119076.7982693},1041251410.3741231,931351887.63338399,833051777.84739161,745126813.81698716,666481944.38013184,596137696.22552037,533217975.15699494,476939154.88103306,426600317.42489552,381574523.6358636,341301005.04102296,305278179.82202417,273057405.92309856,244237393.49114355,8959726562.4518833,459473.15704881452]
[{"$f":"IF(ISBLANK(InfoPro!A23),\"\",InfoPro!A23)","v":"SC_828_A1"},{"$f":"IF(ISBLANK(InfoPro!B23),\"\",InfoPro!B23)","v":"PARQUE SOLAR EL VASCO"},{"$f":"IF(ISBLANK(InfoPro!E23),\"\",InfoPro!E23)","v":60},{"$f":"IF(ISBLANK(InfoPro!F23),\"\",InfoPro!F23)","v":"Solar FV"},{"$f":"IF(ISBLANK(InfoPro!I23),\"\",YEAR(InfoPro!I23)-$G$4)","v":3},{"$f":"IF(B30=\"\",\"\",VLOOKUP(D30,Tablas!$B$2:$E$13,2,FALSE))","v":0.26},{"$f":"IF(B30=\"\",\"\",VLOOKUP(D30,Tablas!$B$2:$F$13,5,FALSE))","v":0.15},20498.399999999998,3203850493.4588404,2865698115.7950273,2563236239.530436,2292697888.6676526,2050713675.01579,1834269834.5400624,1640670692.7907538,1467505091.9416401,1312616361.3073709,1174075457.3411188,1050156938.5877627,939317476.37545884,840176633.60953391,751499672.28044164,672182175.56390142,24658666746.805786,410977.77911342977]
[{"$f":"IF(ISBLANK(InfoPro!A24),\"\",InfoPro!A24)","v":"SC_828_A2"},{"$f":"IF(ISBLANK(InfoPro!B24),\"\",InfoPro!B24)","v":"PARQUE SOLAR EL VASCO"},{"$f":"IF(ISBLANK(InfoPro!E24),\"\",InfoPro!E24)","v":60},{"$f":"IF(ISBLANK(InfoPro!F24),\"\",InfoPro!F24)","v":"Solar FV"},{"$f":"IF(ISBLANK(InfoPro!I24),\"\",YEAR(InfoPro!I24)-$G$4)","v":3},{"$f":"IF(B31=\"\",\"\",VLOOKUP(D31,Tablas!$B$2:$E$13,2,FALSE))","v":0.26},{"$f":"IF(B31=\"\",\"\",VLOOKUP(D31,Tablas!$B$2:$F$13,5,FALSE))","v":0.15},20498.399999999998,3203850493.4588404,2865698115.7950273,2563236239.530436,2292697888.6676526,2050713675.01579,1834269834.5400624,1640670692.7907538,1467505091.9416401,1312616361.3073709,1174075457.3411188,1050156938.5877627,939317476.37545884,840176633.60953391,751499672.28044164,672182175.56390142,24658666746.805786,410977.77911342977]
[{"$f":"IF(ISBLANK(InfoPro!A25),\"\",InfoPro!A25)","v":"SC_1179_A1"},{"$f":"IF(ISBLANK(InfoPro!B25),\"\",InfoPro!B25)","v":"Montes 90 MW"},{"$f":"IF(ISBLANK(InfoPro!E25),\"\",InfoPro!E25)","v":90},{"$f":"IF(ISBLANK(InfoPro!F25),\"\",InfoPro!F25)","v":"Solar FV"},{"$f":"IF(ISBLANK(InfoPro!I25),\"\",YEAR(InfoPro!I25)-$G$4)","v":3},{"$f":"IF(B32=\"\",\"\",VLOOKUP(D32,Tablas!$B$2:$E$13,2,FALSE))","v":0.26},{"$f":"IF(B32=\"\",\"\",VLOOKUP(D32,Tablas!$B$2:$F$13,5,FALSE))","v":0.15},30747.600000000002,4805775740.188261,4298547173.6925421,3844854359.2956548,3439046833.0014796,3076070512.5236855,2751404751.8100944,2461006039.186131,2201257637.9124603,1968924541.9610562,1761113186.0116782,1575235407.8816445,1408976214.5631886,1260264950.4143012,1127249508.4206629,1008273263.3458524,36988000120.208687,410977.77911342983]
[{"$f":"IF(ISBLANK(InfoPro!A26),\"\",InfoPro!A26)","v":"SC_1179_A2"},{"$f":"IF(ISBLANK(InfoPro!B26),\"\",InfoPro!B26)","v":"Montes 90 MW"},{"$f":"IF(ISBLANK(InfoPro!E26),\"\",InfoPro!E26)","v":90},{"$f":"IF(ISBLANK(InfoPro!F26),\"\",InfoPro!F26)","v":"Solar FV"},{"$f":"IF(ISBLANK(InfoPro!I26),\"\",YEAR(InfoPro!I26)-$G$4)","v":3},{"$f":"IF(B33=\"\",\"\",VLOOKUP(D33,Tablas!$B$2:$E$13,2,FALSE))","v":0.26},{"$f":"IF(B33=\"\",\"\",VLOOKUP(D33,Tablas!$B$2:$F$13,5,FALSE))","v":0.15},30747.600000000002,4805775740.188261,4298547173.6925421,3844854359.2956548,3439046833.0014796,3076070512.5236855,2751404751.8100944,2461006039.186131,2201257637.9124603,1968924541.9610562,1761113186.0116782,1575235407.8816445,1408976214.5631886,1260264950.4143012,1127249508.4206629,1008273263.3458524,36988000120.208687,410977.77911342983]
[{"$f":"IF(ISBLANK(InfoPro!A27),\"\",InfoPro!A27)","v":"SC_1206_A1"},{"$f":"IF(ISBLANK(InfoPro!B27),\"\",InfoPro!B27)","v":"Cerromatoso Solar 300 MW"},{"$f":"IF(ISBLANK(InfoPro!E27),\"\",InfoPro!E27)","v":300},{"$f":"IF(ISBLANK(InfoPro!F27),\"\",InfoPro!F27)","v":"Solar FV"},{"$f":"IF(ISBLANK(InfoPro!I27),\"\",YEAR(InfoPro!I27)-$G$4)","v":5},{"$f":"IF(B34=\"\",\"\",VLOOKUP(D34,Tablas!$B$2:$E$13,2,FALSE))","v":0.26},{"$f":"IF(B34=\"\",\"\",VLOOKUP(D34,Tablas!$B$2:$F$13,5,FALSE))","v":0.15},102492,12816181197.65218,11463489443.338264,10253568375.078951,9171349172.7003136,8203353463.9537687,7337525459.7082024,6563081806.5368547,5870377286.705595,5250784692.9388151,4696587381.8772945,4200883168.0476699,3757498361.4022083,3360910877.8195071,3006181464.9548364,2688892186.9005699,98640664339.615021,328802.21446538338]
[{"$f":"IF(ISBLANK(InfoPro!A28),\"\",InfoPro!A28)","v":"SC_1206_A2"},{"$f":"IF(ISBLANK(InfoPro!B28),\"\",InfoPro!B28)","v":"Cerromatoso Solar 300 MW"},{"$f":"IF(ISBLANK(InfoPro!E28),\"\",InfoPro!E28)","v":300},{"$f":"IF(ISBLANK(InfoPro!F28),\"\",InfoPro!F28)","v":"Solar FV"},{"$f":"IF(ISBLANK(InfoPro!I28),\"\",YEAR(InfoPro!I28)-$G$4)","v":5},{"$f":"IF(B35=\"\",\"\",VLOOKUP(D35,Tablas!$B$2:$E$13,2,FALSE))","v":0.26},{"$f":"IF(B35=\"\",\"\",VLOOKUP(D35,Tablas!$B$2:$F$13,5,FALSE))","v":0.15},102492,12816181197.65218,11463489443.338264,10253568375.078951,9171349172.7003136,8203353463.9537687,7337525459.7082024,6563081806.5368547,5870377286.705595,5250784692.9388151,4696587381.8772945,4200883168.0476699,3757498361.4022083,3360910877.8195071,3006181464.9548364,2688892186.9005699,98640664339.615021,328802.21446538338]
[{"$f":"IF(ISBLANK(InfoPro!A29),\"\",InfoPro!A29)","v":"SC_1372_A1"},{"$f":"IF(ISBLANK(InfoPro!B29),\"\",InfoPro!B29)","v":"Pétalo del Bolívar I Magangué"},{"$f":"IF(ISBLANK(InfoPro!E29),\"\",InfoPro!E29)","v":9.9},{"$f":"IF(ISBLANK(InfoPro!F29),\"\",InfoPro!F29)","v":"Solar FV"},{"$f":"IF(ISBLANK(InfoPro!I29),\"\",YEAR(InfoPro!I29)-$G$4)","v":2},{"$f":"IF(B36=\"\",\"\",VLOOKUP(D36,Tablas!$B$2:$E$13,2,FALSE))","v":0.26},{"$f":"IF(B36=\"\",\"\",VLOOKUP(D36,Tablas!$B$2:$F$13,5,FALSE))","v":0.15},3382.2360000000003,591014300.52835214,528635331.42070878,472840189.10617959,422933979.52252197,378295151.63016278,338367756.37760544,302654522.69911039,270710664.31047446,242138340.1703707,216581699.61571625,193722450.46128464,173275894.86698088,154987383.60195073,138629144.54557315,123997445.92627291,4548784254.7832651,459473.15704881464]
[{"$f":"IF(ISBLANK(InfoPro!A30),\"\",InfoPro!A30)","v":"SC_1372_A2"},{"$f":"IF(ISBLANK(InfoPro!B30),\"\",InfoPro!B30)","v":"Pétalo del Bolívar I Magangué"},{"$f":"IF(ISBLANK(InfoPro!E30),\"\",InfoPro!E30)","v":9.9},{"$f":"IF(ISBLANK(InfoPro!F30),\"\",InfoPro!F30)","v":"Solar FV"},{"$f":"IF(ISBLANK(InfoPro!I30),\"\",YEAR(InfoPro!I30)-$G$4)","v":2},{"$f":"IF(B37=\"\",\"\",VLOOKUP(D37,Tablas!$B$2:$E$13,2,FALSE))","v":0.26},{"$f":"IF(B37=\"\",\"\",VLOOKUP(D37,Tablas!$B$2:$F$13,5,FALSE))","v":0.15},3382.2360000000003,591014300.52835214,528635331.42070878,472840189.10617959,422933979.52252197,378295151.63016278,338367756.37760544,302654522.69911039,270710664.31047446,242138340.1703707,216581699.61571625,193722450.46128464,173275894.86698088,154987383.60195073,138629144.54557315,123997445.92627291,4548784254.7832651,459473.15704881464]
[{"$f":"IF(ISBLANK(InfoPro!A31),\"\",InfoPro!A31)","v":"SC_692_A1"},{"$f":"IF(ISBLANK(InfoPro!B31),\"\",InfoPro!B31)","v":"TermoJobo"},{"$f":"IF(ISBLANK(InfoPro!E31),\"\",InfoPro!E31)","v":9.9},{"$f":"IF(ISBLANK(InfoPro!F31),\"\",InfoPro!F31)","v":"Termica a vapor"},{"$f":"IF(ISBLANK(InfoPro!I31),\"\",YEAR(InfoPro!I31)-$G$4)","v":1},{"$f":"IF(B38=\"\",\"\",VLOOKUP(D38,Tablas!$B$2:$E$13,2,FALSE))","v":0.85},{"$f":"IF(B38=\"\",\"\",VLOOKUP(D38,Tablas!$B$2:$F$13,5,FALSE))","v":0.83},61183.781999999999,11952870218.652237,10691297154.42955,9562877597.8797417,8553557779.856658,7650767244.9522886,6843262294.2328157,6120985951.9077072,5474942711.9031372,4897086504.3856325,4380220486.9281149,3917907412.2791739,3504389456.4214439,3134516508.4270515,2803682029.0045185,2507765678.8949184,91996129030.154984,9292538.2858742401]
[{"$f":"IF(ISBLANK(InfoPro!A32),\"\",InfoPro!A32)","v":"SC_1057_A1"},{"$f":"IF(ISBLANK(InfoPro!B32),\"\",InfoPro!B32)","v":"Río Sinú Solar I 9,9 MW"},{"$f":"IF(ISBLANK(InfoPro!E32),\"\",InfoPro!E32)","v":9.9},{"$f":"IF(ISBLANK(InfoPro!F32),\"\",InfoPro!F32)","v":"Solar FV"},{"$f":"IF(ISBLANK(InfoPro!I32),\"\",YEAR(InfoPro!I32)-$G$4)","v":2},{"$f":"IF(B39=\"\",\"\",VLOOKUP(D39,Tablas!$B$2:$E$13,2,FALSE))","v":0.26},{"$f":"IF(B39=\"\",\"\",VLOOKUP(D39,Tablas!$B$2:$F$13,5,FALSE))","v":0.15},3382.2360000000003,{"$f":"IF($H39=\"\",\"\",(1/(1+$C$4)^(I$7+$E39))*$H39*$I$5*$I$4)","v":591014300.52835214},528635331.42070878,472840189.10617959,422933979.52252197,378295151.63016278,338367756.37760544,302654522.69911039,270710664.31047446,242138340.1703707,216581699.61571625,193722450.46128464,173275894.86698088,154987383.60195073,138629144.54557315,123997445.92627291,4548784254.7832651,459473.15704881464]
[{"$f":"IF(ISBLANK(InfoPro!A33),\"\",InfoPro!A33)","v":"SC_1057_A2"},{"$f":"IF(ISBLANK(InfoPro!B33),\"\",InfoPro!B33)","v":"Río Sinú Solar I 9,9 MW"},{"$f":"IF(ISBLANK(InfoPro!E33),\"\",InfoPro!E33)","v":9.9},{"$f":"IF(ISBLANK(InfoPro!F33),\"\",InfoPro!F33)","v":"Solar FV"},{"$f":"IF(ISBLANK(InfoPro!I33),\"\",YEAR(InfoPro!I33)-$G$4)","v":2},{"$f":"IF(B40=\"\",\"\",VLOOKUP(D40,Tablas!$B$2:$E$13,2,FALSE))","v":0.26},{"$f":"IF(B40=\"\",\"\",VLOOKUP(D40,Tablas!$B$2:$F$13,5,FALSE))","v":0.15},3382.2360000000003,591014300.52835214,528635331.42070878,472840189.10617959,422933979.52252197,378295151.63016278,338367756.37760544,302654522.69911039,270710664.31047446,242138340.1703707,216581699.61571625,193722450.46128464,173275894.86698088,154987383.60195073,138629144.54557315,123997445.92627291,4548784254.7832651,459473.15704881464]
[{"$f":"IF(ISBLANK(InfoPro!A34),\"\",InfoPro!A34)","v":"SC_1058_A1"},{"$f":"IF(ISBLANK(InfoPro!B34),\"\",InfoPro!B34)","v":"Río Sinú Solar II 9,9 MW"},{"$f":"IF(ISBLANK(InfoPro!E34),\"\",InfoPro!E34)","v":9.9},{"$f":"IF(ISBLANK(InfoPro!F34),\"\",InfoPro!F34)","v":"Solar FV"},{"$f":"IF(ISBLANK(InfoPro!I34),\"\",YEAR(InfoPro!I34)-$G$4)","v":2},{"$f":"IF(B41=\"\",\"\",VLOOKUP(D41,Tablas!$B$2:$E$13,2,FALSE))","v":0.26},{"$f":"IF(B41=\"\",\"\",VLOOKUP(D41,Tablas!$B$2:$F$13,5,FALSE))","v":0.15},{"$f":"IF(C41=\"\",\"\",+C41*G41*F41*24*365)","v":3382.2360000000003},591014300.52835214,528635331.42070878,472840189.10617959,422933979.52252197,378295151.63016278,338367756.37760544,302654522.69911039,270710664.31047446,242138340.1703707,216581699.61571625,193722450.46128464,173275894.86698088,154987383.60195073,138629144.54557315,123997445.92627291,4548784254.7832651,459473.15704881464]
[{"$f":"IF(ISBLANK(InfoPro!A35),\"\",InfoPro!A35)","v":"SC_1058_A2"},{"$f":"IF(ISBLANK(InfoPro!B35),\"\",InfoPro!B35)","v":"Río Sinú Solar II 9,9 MW"},{"$f":"IF(ISBLANK(InfoPro!E35),\"\",InfoPro!E35)","v":9.9},{"$f":"IF(ISBLANK(InfoPro!F35),\"\",InfoPro!F35)","v":"Solar FV"},{"$f":"IF(ISBLANK(InfoPro!I35),\"\",YEAR(InfoPro!I35)-$G$4)","v":2},{"$f":"IF(B42=\"\",\"\",VLOOKUP(D42,Tablas!$B$2:$E$13,2,FALSE))","v":0.26},{"$f":"IF(B42=\"\",\"\",VLOOKUP(D42,Tablas!$B$2:$F$13,5,FALSE))","v":0.15},3382.2360000000003,591014300.52835214,528635331.42070878,472840189.10617959,422933979.52252197,378295151.63016278,338367756.37760544,302654522.69911039,270710664.31047446,242138340.1703707,216581699.61571625,193722450.46128464,173275894.86698088,154987383.60195073,138629144.54557315,123997445.92627291,4548784254.7832651,459473.15704881464]
[{"$f":"IF(ISBLANK(InfoPro!A36),\"\",InfoPro!A36)","v":"SC_855_A1"},{"$f":"IF(ISBLANK(InfoPro!B36),\"\",InfoPro!B36)","v":"El Lirio"},{"$f":"IF(ISBLANK(InfoPro!E36),\"\",InfoPro!E36)","v":19.899999999999999},{"$f":"IF(ISBLANK(InfoPro!F36),\"\",InfoPro!F36)","v":"Solar FV"},{"$f":"IF(ISBLANK(InfoPro!I36),\"\",YEAR(InfoPro!I36)-$G$4)","v":2},{"$f":"IF(B43=\"\",\"\",VLOOKUP(D43,Tablas!$B$2:$E$13,2,FALSE))","v":0.26},{"$f":"IF(B43=\"\",\"\",VLOOKUP(D43,Tablas!$B$2:$F$13,5,FALSE))","v":0.15},6798.6360000000004,1187998442.4761827,1062610413.6638488,950456541.73868418,850140019.44426143,760411466.40810502,680153368.8802371,608366161.78912091,544155779.77560008,486722522.16064405,435351093.16694474,389401693.35147113,348302051.29827476,311540296.33119392,278658583.48049545,249247391.30634654,9143515825.27141,459473.15704881458]
[{"$f":"IF(ISBLANK(InfoPro!A37),\"\",InfoPro!A37)","v":"SC_855_A2"},{"$f":"IF(ISBLANK(InfoPro!B37),\"\",InfoPro!B37)","v":"El Lirio"},{"$f":"IF(ISBLANK(InfoPro!E37),\"\",InfoPro!E37)","v":19.899999999999999},{"$f":"IF(ISBLANK(InfoPro!F37),\"\",InfoPro!F37)","v":"Solar FV"},{"$f":"IF(ISBLANK(InfoPro!I37),\"\",YEAR(InfoPro!I37)-$G$4)","v":2},{"$f":"IF(B44=\"\",\"\",VLOOKUP(D44,Tablas!$B$2:$E$13,2,FALSE))","v":0.26},{"$f":"IF(B44=\"\",\"\",VLOOKUP(D44,Tablas!$B$2:$F$13,5,FALSE))","v":0.15},6798.6360000000004,1187998442.4761827,1062610413.6638488,950456541.73868418,850140019.44426143,760411466.40810502,680153368.8802371,608366161.78912091,544155779.77560008,486722522.16064405,435351093.16694474,389401693.35147113,348302051.29827476,311540296.33119392,278658583.48049545,249247391.30634654,9143515825.27141,459473.15704881458]
[{"$f":"IF(ISBLANK(InfoPro!A38),\"\",InfoPro!A38)","v":"SC_630_A1"},{"$f":"IF(ISBLANK(InfoPro!B38),\"\",InfoPro!B38)","v":"TR Solar 14"},{"$f":"IF(ISBLANK(InfoPro!E38),\"\",InfoPro!E38)","v":99.9},{"$f":"IF(ISBLANK(InfoPro!F38),\"\",InfoPro!F38)","v":"Solar FV"},{"$f":"IF(ISBLANK(InfoPro!I38),\"\",YEAR(InfoPro!I38)-$G$4)","v":3},{"$f":"IF(B45=\"\",\"\",VLOOKUP(D45,Tablas!$B$2:$E$13,2,FALSE))","v":0.26},{"$f":"IF(B45=\"\",\"\",VLOOKUP(D45,Tablas!$B$2:$F$13,5,FALSE))","v":0.15},34129.836000000003,5334411071.6089697,4771387362.7987213,4267788338.8181767,3817341984.6316428,3414438268.9012909,3054059274.5092049,2731716703.4966059,2443395978.0828314,2185506241.5767732,1954835636.4729629,1748511302.7486253,1563963598.1651392,1398894094.9598742,1251246954.3469355,1119183322.3138959,41056680133.431656,410977.77911343001]
[{"$f":"IF(ISBLANK(InfoPro!A39),\"\",InfoPro!A39)","v":"SC_1269_A1"},{"$f":"IF(ISBLANK(InfoPro!B39),\"\",InfoPro!B39)","v":"Centro Solar II 4 MW"},{"$f":"IF(ISBLANK(InfoPro!E39),\"\",InfoPro!E39)","v":4},{"$f":"IF(ISBLANK(InfoPro!F39),\"\",InfoPro!F39)","v":"Solar FV"},{"$f":"IF(ISBLANK(InfoPro!I39),\"\",YEAR(InfoPro!I39)-$G$4)","v":0},{"$f":"IF(B46=\"\",\"\",VLOOKUP(D46,Tablas!$B$2:$E$13,2,FALSE))","v":0.26},{"$f":"IF(B46=\"\",\"\",VLOOKUP(D46,Tablas!$B$2:$F$13,5,FALSE))","v":0.15},1366.56,298473922.65599996,266971308.27906981,238793656.77913219,213590032.89725602,191046541.05300185,170882415.96869573,152846525.91117686,136714245.00105265,122284655.63600418,109378046.18605027,97833672.796109349,87507757.420491397,78271697.156074598,70010462.572517529,62621165.091697261,2297226105.4043293,574306.52635108237]
[{"$f":"IF(ISBLANK(InfoPro!A40),\"\",InfoPro!A40)","v":"SC_1268_A1"},{"$f":"IF(ISBLANK(InfoPro!B40),\"\",InfoPro!B40)","v":"Sol de Ayapel II de 7 MW"},{"$f":"IF(ISBLANK(InfoPro!E40),\"\",InfoPro!E40)","v":7},{"$f":"IF(ISBLANK(InfoPro!F40),\"\",InfoPro!F40)","v":"Solar FV"},{"$f":"IF(ISBLANK(InfoPro!I40),\"\",YEAR(InfoPro!I40)-$G$4)","v":1},{"$f":"IF(B47=\"\",\"\",VLOOKUP(D47,Tablas!$B$2:$E$13,2,FALSE))","v":0.26},{"$f":"IF(B47=\"\",\"\",VLOOKUP(D47,Tablas!$B$2:$F$13,5,FALSE))","v":0.15},2391.48,467199789.48837215,417888899.36348134,373782557.57019806,334331446.84275323,299044227.94521755,267481420.34455952,239249928.7518422,213998147.36300731,191411580.82558799,171208927.39319137,153138575.48585993,136975470.02313054,122518309.50190569,109587038.91047022,98020607.254445642,3595836927.0640221,513690.98958057456]
[{"$f":"IF(ISBLANK(InfoPro!A41),\"\",InfoPro!A41)","v":"SC_1268_A2"},{"$f":"IF(ISBLANK(InfoPro!B41),\"\",InfoPro!B41)","v":"Sol de Ayapel II de 7 MW"},{"$f":"IF(ISBLANK(InfoPro!E41),\"\",InfoPro!E41)","v":7},{"$f":"IF(ISBLANK(InfoPro!F41),\"\",InfoPro!F41)","v":"Solar FV"},{"$f":"IF(ISBLANK(InfoPro!I41),\"\",YEAR(InfoPro!I41)-$G$4)","v":1},{"$f":"IF(B48=\"\",\"\",VLOOKUP(D48,Tablas!$B$2:$E$13,2,FALSE))","v":0.26},{"$f":"IF(B48=\"\",\"\",VLOOKUP(D48,Tablas!$B$2:$F$13,5,FALSE))","v":0.15},2391.48,467199789.48837215,417888899.36348134,373782557.57019806,334331446.84275323,299044227.94521755,267481420.34455952,239249928.7518422,213998147.36300731,191411580.82558799,171208927.39319137,153138575.48585993,136975470.02313054,122518309.50190569,109587038.91047022,98020607.254445642,3595836927.0640221,513690.98958057456]
[{"$f":"IF(ISBLANK(InfoPro!A42),\"\",InfoPro!A42)","v":"SC_1118_A1"},{"$f":"IF(ISBLANK(InfoPro!B42),\"\",InfoPro!B42)","v":"Boston 9,9 MW"},{"$f":"IF(ISBLANK(InfoPro!E42),\"\",InfoPro!E42)","v":9.9},{"$f":"IF(ISBLANK(InfoPro!F42),\"\",InfoPro!F42)","v":"Solar FV"},{"$f":"IF(ISBLANK(InfoPro!I42),\"\",YEAR(InfoPro!I42)-$G$4)","v":2},{"$f":"IF(B49=\"\",\"\",VLOOKUP(D49,Tablas!$B$2:$E$13,2,FALSE))","v":0.26},{"$f":"IF(B49=\"\",\"\",VLOOKUP(D49,Tablas!$B$2:$F$13,5,FALSE))","v":0.15},3382.2360000000003,{"$f":"IF($H49=\"\",\"\",(1/(1+$C$4)^(I$7+$E49))*$H49*$I$5*$I$4)","v":591014300.52835214},528635331.42070878,472840189.10617959,422933979.52252197,378295151.63016278,338367756.37760544,302654522.69911039,270710664.31047446,242138340.1703707,216581699.61571625,193722450.46128464,173275894.86698088,154987383.60195073,138629144.54557315,123997445.92627291,4548784254.7832651,459473.15704881464]
[{"$f":"IF(ISBLANK(InfoPro!A43),\"\",InfoPro!A43)","v":"SC_1118_A2"},{"$f":"IF(ISBLANK(InfoPro!B43),\"\",InfoPro!B43)","v":"Boston 9,9 MW"},{"$f":"IF(ISBLANK(InfoPro!E43),\"\",InfoPro!E43)","v":9.9},{"$f":"IF(ISBLANK(InfoPro!F43),\"\",InfoPro!F43)","v":"Solar FV"},{"$f":"IF(ISBLANK(InfoPro!I43),\"\",YEAR(InfoPro!I43)-$G$4)","v":2},{"$f":"IF(B50=\"\",\"\",VLOOKUP(D50,Tablas!$B$2:$E$13,2,FALSE))","v":0.26},{"$f":"IF(B50=\"\",\"\",VLOOKUP(D50,Tablas!$B$2:$F$13,5,FALSE))","v":0.15},3382.2360000000003,591014300.52835214,528635331.42070878,472840189.10617959,422933979.52252197,378295151.63016278,338367756.37760544,302654522.69911039,270710664.31047446,242138340.1703707,216581699.61571625,193722450.46128464,173275894.86698088,154987383.60195073,138629144.54557315,123997445.92627291,4548784254.7832651,459473.15704881464]
[{"$f":"IF(ISBLANK(InfoPro!A44),\"\",InfoPro!A44)","v":"SC_632_A1"},{"$f":"IF(ISBLANK(InfoPro!B44),\"\",InfoPro!B44)","v":"TR Solar 5"},{"$f":"IF(ISBLANK(InfoPro!E44),\"\",InfoPro!E44)","v":19.899999999999999},{"$f":"IF(ISBLANK(InfoPro!F44),\"\",InfoPro!F44)","v":"Solar FV"},{"$f":"IF(ISBLANK(InfoPro!I44),\"\",YEAR(InfoPro!I44)-$G$4)","v":3},{"$f":"IF(B51=\"\",\"\",VLOOKUP(D51,Tablas!$B$2:$E$13,2,FALSE))","v":0.26},{"$f":"IF(B51=\"\",\"\",VLOOKUP(D51,Tablas!$B$2:$F$13,5,FALSE))","v":0.15},6798.6360000000004,1062610413.6638488,950456541.73868418,850140019.44426143,760411466.40810502,680153368.8802371,608366161.78912091,544155779.77560008,486722522.16064405,435351093.16694474,389401693.35147113,348302051.29827476,311540296.33119392,278658583.48049545,249247391.30634654,222940421.56202731,8178457804.3572559,410977.77911342995]
[{"$f":"IF(ISBLANK(InfoPro!A45),\"\",InfoPro!A45)","v":"SC_632_A2"},{"$f":"IF(ISBLANK(InfoPro!B45),\"\",InfoPro!B45)","v":"TR Solar 5"},{"$f":"IF(ISBLANK(InfoPro!E45),\"\",InfoPro!E45)","v":19.899999999999999},{"$f":"IF(ISBLANK(InfoPro!F45),\"\",InfoPro!F45)","v":"Solar FV"},{"$f":"IF(ISBLANK(InfoPro!I45),\"\",YEAR(InfoPro!I45)-$G$4)","v":3},{"$f":"IF(B52=\"\",\"\",VLOOKUP(D52,Tablas!$B$2:$E$13,2,FALSE))","v":0.26},{"$f":"IF(B52=\"\",\"\",VLOOKUP(D52,Tablas!$B$2:$F$13,5,FALSE))","v":0.15},6798.6360000000004,1062610413.6638488,950456541.73868418,850140019.44426143,760411466.40810502,680153368.8802371,608366161.78912091,544155779.77560008,486722522.16064405,435351093.16694474,389401693.35147113,348302051.29827476,311540296.33119392,278658583.48049545,249247391.30634654,222940421.56202731,8178457804.3572559,410977.77911342995]
[{"$f":"IF(ISBLANK(InfoPro!A46),\"\",InfoPro!A46)","v":"SC_1415_A1"},{"$f":"IF(ISBLANK(InfoPro!B46),\"\",InfoPro!B46)","v":"Efigen C03 99 MW"},{"$f":"IF(ISBLANK(InfoPro!E46),\"\",InfoPro!E46)","v":99},{"$f":"IF(ISBLANK(InfoPro!F46),\"\",InfoPro!F46)","v":"Solar FV"},{"$f":"IF(ISBLANK(InfoPro!I46),\"\",YEAR(InfoPro!I46)-$G$4)","v":2},{"$f":"IF(B53=\"\",\"\",VLOOKUP(D53,Tablas!$B$2:$E$13,2,FALSE))","v":0.26},{"$f":"IF(B53=\"\",\"\",VLOOKUP(D53,Tablas!$B$2:$F$13,5,FALSE))","v":0.15},33822.36,5910143005.2835217,5286353314.2070875,4728401891.0617962,4229339795.2252192,3782951516.3016276,3383677563.7760534,3026545226.9911032,2707106643.104744,2421383401.7037067,2165816996.1571622,1937224504.6128461,1732758948.6698091,1549873836.0195074,1386291445.4557314,1239974459.2627289,45487842547.832649,459473.15704881464]
[{"$f":"IF(ISBLANK(InfoPro!A47),\"\",InfoPro!A47)","v":"SC_1415_A2"},{"$f":"IF(ISBLANK(InfoPro!B47),\"\",InfoPro!B47)","v":"Efigen C03 99 MW"},{"$f":"IF(ISBLANK(InfoPro!E47),\"\",InfoPro!E47)","v":99},{"$f":"IF(ISBLANK(InfoPro!F47),\"\",InfoPro!F47)","v":"Solar FV"},{"$f":"IF(ISBLANK(InfoPro!I47),\"\",YEAR(InfoPro!I47)-$G$4)","v":2},{"$f":"IF(B54=\"\",\"\",VLOOKUP(D54,Tablas!$B$2:$E$13,2,FALSE))","v":0.26},{"$f":"IF(B54=\"\",\"\",VLOOKUP(D54,Tablas!$B$2:$F$13,5,FALSE))","v":0.15},33822.36,5910143005.2835217,5286353314.2070875,4728401891.0617962,4229339795.2252192,3782951516.3016276,3383677563.7760534,3026545226.9911032,2707106643.104744,2421383401.7037067,2165816996.1571622,1937224504.6128461,1732758948.6698091,1549873836.0195074,1386291445.4557314,1239974459.2627289,45487842547.832649,459473.15704881464]
[{"$f":"IF(ISBLANK(InfoPro!A48),\"\",InfoPro!A48)","v":"SC_1420_A1"},{"$f":"IF(ISBLANK(InfoPro!B48),\"\",InfoPro!B48)","v":"Efigen C04 99 MW"},{"$f":"IF(ISBLANK(InfoPro!E48),\"\",InfoPro!E48)","v":99},{"$f":"IF(ISBLANK(InfoPro!F48),\"\",InfoPro!F48)","v":"Solar FV"},{"$f":"IF(ISBLANK(InfoPro!I48),\"\",YEAR(InfoPro!I48)-$G$4)","v":2},{"$f":"IF(B55=\"\",\"\",VLOOKUP(D55,Tablas!$B$2:$E$13,2,FALSE))","v":0.26},{"$f":"IF(B55=\"\",\"\",VLOOKUP(D55,Tablas!$B$2:$F$13,5,FALSE))","v":0.15},33822.36,5910143005.2835217,5286353314.2070875,4728401891.0617962,4229339795.2252192,3782951516.3016276,3383677563.7760534,3026545226.9911032,2707106643.104744,2421383401.7037067,2165816996.1571622,1937224504.6128461,1732758948.6698091,1549873836.0195074,1386291445.4557314,1239974459.2627289,45487842547.832649,459473.15704881464]
[{"$f":"IF(ISBLANK(InfoPro!A49),\"\",InfoPro!A49)","v":"SC_1420_A2"},{"$f":"IF(ISBLANK(InfoPro!B49),\"\",InfoPro!B49)","v":"Efigen C04 99 MW"},{"$f":"IF(ISBLANK(InfoPro!E49),\"\",InfoPro!E49)","v":99},{"$f":"IF(ISBLANK(InfoPro!F49),\"\",InfoPro!F49)","v":"Solar FV"},{"$f":"IF(ISBLANK(InfoPro!I49),\"\",YEAR(InfoPro!I49)-$G$4)","v":2},{"$f":"IF(B56=\"\",\"\",VLOOKUP(D56,Tablas!$B$2:$E$13,2,FALSE))","v":0.26},{"$f":"IF(B56=\"\",\"\",VLOOKUP(D56,Tablas!$B$2:$F$13,5,FALSE))","v":0.15},33822.36,5910143005.2835217,5286353314.2070875,4728401891.0617962,4229339795.2252192,3782951516.3016276,3383677563.7760534,3026545226.9911032,2707106643.104744,2421383401.7037067,2165816996.1571622,1937224504.6128461,1732758948.6698091,1549873836.0195074,1386291445.4557314,1239974459.2627289,45487842547.832649,459473.15704881464]
[{"$f":"IF(ISBLANK(InfoPro!A50),\"\",InfoPro!A50)","v":"SC_1435_A1"},{"$f":"IF(ISBLANK(InfoPro!B50),\"\",InfoPro!B50)","v":"Parque Solar Las Brisas"},{"$f":"IF(ISBLANK(InfoPro!E50),\"\",InfoPro!E50)","v":9.9},{"$f":"IF(ISBLANK(InfoPro!F50),\"\",InfoPro!F50)","v":"Solar FV"},{"$f":"IF(ISBLANK(InfoPro!I50),\"\",YEAR(InfoPro!I50)-$G$4)","v":1},{"$f":"IF(B57=\"\",\"\",VLOOKUP(D57,Tablas!$B$2:$E$13,2,FALSE))","v":0.26},{"$f":"IF(B57=\"\",\"\",VLOOKUP(D57,Tablas!$B$2:$F$13,5,FALSE))","v":0.15},3382.2360000000003,660753987.99069786,591014300.52835214,528635331.42070878,472840189.10617959,422933979.52252197,378295151.63016278,338367756.37760544,302654522.69911039,270710664.31047446,242138340.1703707,216581699.61571625,193722450.46128464,173275894.86698088,154987383.60195073,138629144.54557315,5085540796.8476896,513690.98958057474]
[{"$f":"IF(ISBLANK(InfoPro!A51),\"\",InfoPro!A51)","v":"SC_978_A1"},{"$f":"IF(ISBLANK(InfoPro!B51),\"\",InfoPro!B51)","v":"Borugo Solar"},{"$f":"IF(ISBLANK(InfoPro!E51),\"\",InfoPro!E51)","v":99.9},{"$f":"IF(ISBLANK(InfoPro!F51),\"\",InfoPro!F51)","v":"Solar FV"},{"$f":"IF(ISBLANK(InfoPro!I51),\"\",YEAR(InfoPro!I51)-$G$4)","v":3},{"$f":"IF(B58=\"\",\"\",VLOOKUP(D58,Tablas!$B$2:$E$13,2,FALSE))","v":0.26},{"$f":"IF(B58=\"\",\"\",VLOOKUP(D58,Tablas!$B$2:$F$13,5,FALSE))","v":0.15},34129.836000000003,5334411071.6089697,4771387362.7987213,4267788338.8181767,3817341984.6316428,3414438268.9012909,3054059274.5092049,2731716703.4966059,2443395978.0828314,2185506241.5767732,1954835636.4729629,1748511302.7486253,1563963598.1651392,1398894094.9598742,1251246954.3469355,1119183322.3138959,41056680133.431656,410977.77911343001]
[{"$f":"IF(ISBLANK(InfoPro!A52),\"\",InfoPro!A52)","v":"SC_1520_A1"},{"$f":"IF(ISBLANK(InfoPro!B52),\"\",InfoPro!B52)","v":"Autogenerador Solar Argos Tolcemento - 19.9 MW"},{"$f":"IF(ISBLANK(InfoPro!E52),\"\",InfoPro!E52)","v":19.899999999999999},{"$f":"IF(ISBLANK(InfoPro!F52),\"\",InfoPro!F52)","v":"Solar FV"},{"$f":"IF(ISBLANK(InfoPro!I52),\"\",YEAR(InfoPro!I52)-$G$4)","v":1},{"$f":"IF(B59=\"\",\"\",VLOOKUP(D59,Tablas!$B$2:$E$13,2,FALSE))","v":0.26},{"$f":"IF(B59=\"\",\"\",VLOOKUP(D59,Tablas!$B$2:$F$13,5,FALSE))","v":0.15},6798.6360000000004,{"$f":"IF($H59=\"\",\"\",(1/(1+$C$4)^(I$7+$E59))*$H59*$I$5*$I$4)","v":1328182258.6883724},1187998442.4761827,1062610413.6638488,950456541.73868418,850140019.44426143,760411466.40810502,680153368.8802371,608366161.78912091,544155779.77560008,486722522.16064405,435351093.16694474,389401693.35147113,348302051.29827476,311540296.33119392,278658583.48049545,10222450692.653437,513690.98958057468]
[{"$f":"IF(ISBLANK(InfoPro!A53),\"\",InfoPro!A53)","v":"SC_1520_A2"},{"$f":"IF(ISBLANK(InfoPro!B53),\"\",InfoPro!B53)","v":"Autogenerador Solar Argos Tolcemento - 19.9 MW"},{"$f":"IF(ISBLANK(InfoPro!E53),\"\",InfoPro!E53)","v":19.899999999999999},{"$f":"IF(ISBLANK(InfoPro!F53),\"\",InfoPro!F53)","v":"Solar FV"},{"$f":"IF(ISBLANK(InfoPro!I53),\"\",YEAR(InfoPro!I53)-$G$4)","v":1},{"$f":"IF(B60=\"\",\"\",VLOOKUP(D60,Tablas!$B$2:$E$13,2,FALSE))","v":0.26},{"$f":"IF(B60=\"\",\"\",VLOOKUP(D60,Tablas!$B$2:$F$13,5,FALSE))","v":0.15},6798.6360000000004,1328182258.6883724,1187998442.4761827,1062610413.6638488,950456541.73868418,850140019.44426143,760411466.40810502,680153368.8802371,608366161.78912091,544155779.77560008,486722522.16064405,435351093.16694474,389401693.35147113,348302051.29827476,311540296.33119392,278658583.48049545,10222450692.653437,513690.98958057468]
[{"$f":"IF(ISBLANK(InfoPro!A54),\"\",InfoPro!A54)","v":"SC_1527_A1"},{"$f":"IF(ISBLANK(InfoPro!B54),\"\",InfoPro!B54)","v":"Nueva Montería Solar III _9,9 MW"},{"$f":"IF(ISBLANK(InfoPro!E54),\"\",InfoPro!E54)","v":9.9},{"$f":"IF(ISBLANK(InfoPro!F54),\"\",InfoPro!F54)","v":"Solar FV"},{"$f":"IF(ISBLANK(InfoPro!I54),\"\",YEAR(InfoPro!I54)-$G$4)","v":2},{"$f":"IF(B61=\"\",\"\",VLOOKUP(D61,Tablas!$B$2:$E$13,2,FALSE))","v":0.26},{"$f":"IF(B61=\"\",\"\",VLOOKUP(D61,Tablas!$B$2:$F$13,5,FALSE))","v":0.15},3382.2360000000003,591014300.52835214,528635331.42070878,472840189.10617959,422933979.52252197,378295151.63016278,338367756.37760544,302654522.69911039,270710664.31047446,242138340.1703707,216581699.61571625,193722450.46128464,173275894.86698088,154987383.60195073,138629144.54557315,123997445.92627291,4548784254.7832651,459473.15704881464]
[{"$f":"IF(ISBLANK(InfoPro!A55),\"\",InfoPro!A55)","v":"SC_1527_A2"},{"$f":"IF(ISBLANK(InfoPro!B55),\"\",InfoPro!B55)","v":"Nueva Montería Solar III _9,9 MW"},{"$f":"IF(ISBLANK(InfoPro!E55),\"\",InfoPro!E55)","v":9.9},{"$f":"IF(ISBLANK(InfoPro!F55),\"\",InfoPro!F55)","v":"Solar FV"},{"$f":"IF(ISBLANK(InfoPro!I55),\"\",YEAR(InfoPro!I55)-$G$4)","v":2},{"$f":"IF(B62=\"\",\"\",VLOOKUP(D62,Tablas!$B$2:$E$13,2,FALSE))","v":0.26},{"$f":"IF(B62=\"\",\"\",VLOOKUP(D62,Tablas!$B$2:$F$13,5,FALSE))","v":0.15},3382.2360000000003,591014300.52835214,528635331.42070878,472840189.10617959,422933979.52252197,378295151.63016278,338367756.37760544,302654522.69911039,270710664.31047446,242138340.1703707,216581699.61571625,193722450.46128464,173275894.86698088,154987383.60195073,138629144.54557315,123997445.92627291,4548784254.7832651,459473.15704881464]
[{"$f":"IF(ISBLANK(InfoPro!A56),\"\",InfoPro!A56)","v":"SC_1395_A1"},{"$f":"IF(ISBLANK(InfoPro!B56),\"\",InfoPro!B56)","v":"San Marcos I 19.9"},{"$f":"IF(ISBLANK(InfoPro!E56),\"\",InfoPro!E56)","v":19.899999999999999},{"$f":"IF(ISBLANK(InfoPro!F56),\"\",InfoPro!F56)","v":"Solar FV"},{"$f":"IF(ISBLANK(InfoPro!I56),\"\",YEAR(InfoPro!I56)-$G$4)","v":3},{"$f":"IF(B63=\"\",\"\",VLOOKUP(D63,Tablas!$B$2:$E$13,2,FALSE))","v":0.26},{"$f":"IF(B63=\"\",\"\",VLOOKUP(D63,Tablas!$B$2:$F$13,5,FALSE))","v":0.15},{"$f":"IF(C63=\"\",\"\",+C63*G63*F63*24*365)","v":6798.6360000000004},1062610413.6638488,950456541.73868418,850140019.44426143,760411466.40810502,680153368.8802371,608366161.78912091,544155779.77560008,486722522.16064405,435351093.16694474,389401693.35147113,348302051.29827476,311540296.33119392,278658583.48049545,249247391.30634654,222940421.56202731,8178457804.3572559,410977.77911342995]
[{"$f":"IF(ISBLANK(InfoPro!A57),\"\",InfoPro!A57)","v":"SC_1396_A1"},{"$f":"IF(ISBLANK(InfoPro!B57),\"\",InfoPro!B57)","v":"San Marcos II 19.9"},{"$f":"IF(ISBLANK(InfoPro!E57),\"\",InfoPro!E57)","v":19.899999999999999},{"$f":"IF(ISBLANK(InfoPro!F57),\"\",InfoPro!F57)","v":"Solar FV"},{"$f":"IF(ISBLANK(InfoPro!I57),\"\",YEAR(InfoPro!I57)-$G$4)","v":3},{"$f":"IF(B64=\"\",\"\",VLOOKUP(D64,Tablas!$B$2:$E$13,2,FALSE))","v":0.26},{"$f":"IF(B64=\"\",\"\",VLOOKUP(D64,Tablas!$B$2:$F$13,5,FALSE))","v":0.15},{"$f":"IF(C64=\"\",\"\",+C64*G64*F64*24*365)","v":6798.6360000000004},1062610413.6638488,950456541.73868418,850140019.44426143,760411466.40810502,680153368.8802371,608366161.78912091,544155779.77560008,486722522.16064405,435351093.16694474,389401693.35147113,348302051.29827476,311540296.33119392,278658583.48049545,249247391.30634654,222940421.56202731,8178457804.3572559,410977.77911342995]
[{"$f":"IF(ISBLANK(InfoPro!A58),\"\",InfoPro!A58)","v":"SC_1359_A1"},{"$f":"IF(ISBLANK(InfoPro!B58),\"\",InfoPro!B58)","v":"El Corozo_250MW"},{"$f":"IF(ISBLANK(InfoPro!E58),\"\",InfoPro!E58)","v":250},{"$f":"IF(ISBLANK(InfoPro!F58),\"\",InfoPro!F58)","v":"Solar FV"},{"$f":"IF(ISBLANK(InfoPro!I58),\"\",YEAR(InfoPro!I58)-$G$4)","v":4},{"$f":"IF(B65=\"\",\"\",VLOOKUP(D65,Tablas!$B$2:$E$13,2,FALSE))","v":0.26},{"$f":"IF(B65=\"\",\"\",VLOOKUP(D65,Tablas!$B$2:$F$13,5,FALSE))","v":0.15},85410,11940408815.812614,10680150998.043486,9552907869.4485531,8544640312.5657921,7642790977.2502623,6836127886.6281414,6114604549.756835,5469234838.7807131,4891981072.2546616,4375653910.7823458,3913822818.2310791,3500735973.3730583,3131248634.5018406,2800759064.8495893,2505151220.7956967,91900218943.074707,367600.87577229884]
[{"$f":"IF(ISBLANK(InfoPro!A59),\"\",InfoPro!A59)","v":"SC_1359_A2"},{"$f":"IF(ISBLANK(InfoPro!B59),\"\",InfoPro!B59)","v":"El Corozo_250MW"},{"$f":"IF(ISBLANK(InfoPro!E59),\"\",InfoPro!E59)","v":250},{"$f":"IF(ISBLANK(InfoPro!F59),\"\",InfoPro!F59)","v":"Solar FV"},{"$f":"IF(ISBLANK(InfoPro!I59),\"\",YEAR(InfoPro!I59)-$G$4)","v":4},{"$f":"IF(B66=\"\",\"\",VLOOKUP(D66,Tablas!$B$2:$E$13,2,FALSE))","v":0.26},{"$f":"IF(B66=\"\",\"\",VLOOKUP(D66,Tablas!$B$2:$F$13,5,FALSE))","v":0.15},85410,11940408815.812614,10680150998.043486,9552907869.4485531,8544640312.5657921,7642790977.2502623,6836127886.6281414,6114604549.756835,5469234838.7807131,4891981072.2546616,4375653910.7823458,3913822818.2310791,3500735973.3730583,3131248634.5018406,2800759064.8495893,2505151220.7956967,91900218943.074707,367600.87577229884]
[{"$f":"IF(ISBLANK(InfoPro!A60),\"\",InfoPro!A60)","v":"SC_1598_A1"},{"$f":"IF(ISBLANK(InfoPro!B60),\"\",InfoPro!B60)","v":"PARQUE SOLAR FOTOVOLTAICO MATIMBA de 150MW"},{"$f":"IF(ISBLANK(InfoPro!E60),\"\",InfoPro!E60)","v":150},{"$f":"IF(ISBLANK(InfoPro!F60),\"\",InfoPro!F60)","v":"Solar FV"},{"$f":"IF(ISBLANK(InfoPro!I60),\"\",YEAR(InfoPro!I60)-$G$4)","v":3},{"$f":"IF(B67=\"\",\"\",VLOOKUP(D67,Tablas!$B$2:$E$13,2,FALSE))","v":0.26},{"$f":"IF(B67=\"\",\"\",VLOOKUP(D67,Tablas!$B$2:$F$13,5,FALSE))","v":0.15},51246,8009626233.6471004,7164245289.4875679,6408090598.8260899,5731744721.6691322,5126784187.5394754,4585674586.3501568,4101676731.9768844,3668762729.8541012,3281540903.2684274,2935188643.3527975,2625392346.4694076,2348293690.9386473,2100441584.0238349,1878749180.7011042,1680455438.9097536,61646666867.014473,410977.77911342983]
[{"$f":"IF(ISBLANK(InfoPro!A61),\"\",InfoPro!A61)","v":"SC_1598_A2"},{"$f":"IF(ISBLANK(InfoPro!B61),\"\",InfoPro!B61)","v":"PARQUE SOLAR FOTOVOLTAICO MATIMBA de 150MW"},{"$f":"IF(ISBLANK(InfoPro!E61),\"\",InfoPro!E61)","v":150},{"$f":"IF(ISBLANK(InfoPro!F61),\"\",InfoPro!F61)","v":"Solar FV"},{"$f":"IF(ISBLANK(InfoPro!I61),\"\",YEAR(InfoPro!I61)-$G$4)","v":3},{"$f":"IF(B68=\"\",\"\",VLOOKUP(D68,Tablas!$B$2:$E$13,2,FALSE))","v":0.26},{"$f":"IF(B68=\"\",\"\",VLOOKUP(D68,Tablas!$B$2:$F$13,5,FALSE))","v":0.15},51246,8009626233.6471004,7164245289.4875679,6408090598.8260899,5731744721.6691322,5126784187.5394754,4585674586.3501568,4101676731.9768844,3668762729.8541012,3281540903.2684274,2935188643.3527975,2625392346.4694076,2348293690.9386473,2100441584.0238349,1878749180.7011042,1680455438.9097536,61646666867.014473,410977.77911342983]
[{"$f":"IF(ISBLANK(InfoPro!A62),\"\",InfoPro!A62)","v":"SC_981_A1"},{"$f":"IF(ISBLANK(InfoPro!B62),\"\",InfoPro!B62)","v":"Yaguarundi Solar"},{"$f":"IF(ISBLANK(InfoPro!E62),\"\",InfoPro!E62)","v":40},{"$f":"IF(ISBLANK(InfoPro!F62),\"\",InfoPro!F62)","v":"Solar FV"},{"$f":"IF(ISBLANK(InfoPro!I62),\"\",YEAR(InfoPro!I62)-$G$4)","v":3},{"$f":"IF(B69=\"\",\"\",VLOOKUP(D69,Tablas!$B$2:$E$13,2,FALSE))","v":0.26},{"$f":"IF(B69=\"\",\"\",VLOOKUP(D69,Tablas!$B$2:$F$13,5,FALSE))","v":0.15},13665.599999999999,{"$f":"IF($H69=\"\",\"\",(1/(1+$C$4)^(I$7+$E69))*$H69*$I$5*$I$4)","v":2135900328.9725602},1910465410.5300181,1708824159.6869576,1528465259.1117687,1367142450.0105267,1222846556.3600419,1093780461.8605025,978336727.96109343,875077574.20491397,782716971.56074584,700104625.72517526,626211650.91697252,560117755.73968923,500999781.52029443,448121450.3759343,16439111164.537197,410977.77911342995]
[{"$f":"IF(ISBLANK(InfoPro!A63),\"\",InfoPro!A63)","v":"SC_981_A2"},{"$f":"IF(ISBLANK(InfoPro!B63),\"\",InfoPro!B63)","v":"Yaguarundi Solar"},{"$f":"IF(ISBLANK(InfoPro!E63),\"\",InfoPro!E63)","v":40},{"$f":"IF(ISBLANK(InfoPro!F63),\"\",InfoPro!F63)","v":"Solar FV"},{"$f":"IF(ISBLANK(InfoPro!I63),\"\",YEAR(InfoPro!I63)-$G$4)","v":3},{"$f":"IF(B70=\"\",\"\",VLOOKUP(D70,Tablas!$B$2:$E$13,2,FALSE))","v":0.26},{"$f":"IF(B70=\"\",\"\",VLOOKUP(D70,Tablas!$B$2:$F$13,5,FALSE))","v":0.15},13665.599999999999,2135900328.9725602,1910465410.5300181,1708824159.6869576,1528465259.1117687,1367142450.0105267,1222846556.3600419,1093780461.8605025,978336727.96109343,875077574.20491397,782716971.56074584,700104625.72517526,626211650.91697252,560117755.73968923,500999781.52029443,448121450.3759343,16439111164.537197,410977.77911342995]
[{"$f":"IF(ISBLANK(InfoPro!A64),\"\",InfoPro!A64)","v":"SC_1634_A1"},{"$f":"IF(ISBLANK(InfoPro!B64),\"\",InfoPro!B64)","v":"El Tapir Solar 99.9 MW"},{"$f":"IF(ISBLANK(InfoPro!E64),\"\",InfoPro!E64)","v":99.9},{"$f":"IF(ISBLANK(InfoPro!F64),\"\",InfoPro!F64)","v":"Solar FV"},{"$f":"IF(ISBLANK(InfoPro!I64),\"\",YEAR(InfoPro!I64)-$G$4)","v":3},{"$f":"IF(B71=\"\",\"\",VLOOKUP(D71,Tablas!$B$2:$E$13,2,FALSE))","v":0.26},{"$f":"IF(B71=\"\",\"\",VLOOKUP(D71,Tablas!$B$2:$F$13,5,FALSE))","v":0.15},34129.836000000003,5334411071.6089697,4771387362.7987213,4267788338.8181767,3817341984.6316428,3414438268.9012909,3054059274.5092049,2731716703.4966059,2443395978.0828314,2185506241.5767732,1954835636.4729629,1748511302.7486253,1563963598.1651392,1398894094.9598742,1251246954.3469355,1119183322.3138959,41056680133.431656,410977.77911343001]
[{"$f":"IF(ISBLANK(InfoPro!A65),\"\",InfoPro!A65)","v":"SC_782_A1"},{"$f":"IF(ISBLANK(InfoPro!B65),\"\",InfoPro!B65)","v":"Parque Solar El Corozo 60 MW"},{"$f":"IF(ISBLANK(InfoPro!E65),\"\",InfoPro!E65)","v":60},{"$f":"IF(ISBLANK(InfoPro!F65),\"\",InfoPro!F65)","v":"Solar FV"},{"$f":"IF(ISBLANK(InfoPro!I65),\"\",YEAR(InfoPro!I65)-$G$4)","v":3},{"$f":"IF(B72=\"\",\"\",VLOOKUP(D72,Tablas!$B$2:$E$13,2,FALSE))","v":0.26},{"$f":"IF(B72=\"\",\"\",VLOOKUP(D72,Tablas!$B$2:$F$13,5,FALSE))","v":0.15},20498.399999999998,3203850493.4588404,2865698115.7950273,2563236239.530436,2292697888.6676526,2050713675.01579,1834269834.5400624,1640670692.7907538,1467505091.9416401,1312616361.3073709,1174075457.3411188,1050156938.5877627,939317476.37545884,840176633.60953391,751499672.28044164,672182175.56390142,24658666746.805786,410977.77911342977]
[{"$f":"IF(ISBLANK(InfoPro!A66),\"\",InfoPro!A66)","v":"SC_782_A2"},{"$f":"IF(ISBLANK(InfoPro!B66),\"\",InfoPro!B66)","v":"Parque Solar El Corozo 60 MW"},{"$f":"IF(ISBLANK(InfoPro!E66),\"\",InfoPro!E66)","v":60},{"$f":"IF(ISBLANK(InfoPro!F66),\"\",InfoPro!F66)","v":"Solar FV"},{"$f":"IF(ISBLANK(InfoPro!I66),\"\",YEAR(InfoPro!I66)-$G$4)","v":3},{"$f":"IF(B73=\"\",\"\",VLOOKUP(D73,Tablas!$B$2:$E$13,2,FALSE))","v":0.26},{"$f":"IF(B73=\"\",\"\",VLOOKUP(D73,Tablas!$B$2:$F$13,5,FALSE))","v":0.15},{"$f":"IF(C73=\"\",\"\",+C73*G73*F73*24*365)","v":20498.399999999998},3203850493.4588404,2865698115.7950273,2563236239.530436,2292697888.6676526,2050713675.01579,1834269834.5400624,1640670692.7907538,1467505091.9416401,1312616361.3073709,1174075457.3411188,1050156938.5877627,939317476.37545884,840176633.60953391,751499672.28044164,672182175.56390142,24658666746.805786,410977.77911342977]
[{"$f":"IF(ISBLANK(InfoPro!A67),\"\",InfoPro!A67)","v":"SC_1762_A1"},{"$f":"IF(ISBLANK(InfoPro!B67),\"\",InfoPro!B67)","v":"SPK CERETÉ SOLAR_19.9MW"},{"$f":"IF(ISBLANK(InfoPro!E67),\"\",InfoPro!E67)","v":19.899999999999999},{"$f":"IF(ISBLANK(InfoPro!F67),\"\",InfoPro!F67)","v":"Solar FV"},{"$f":"IF(ISBLANK(InfoPro!I67),\"\",YEAR(InfoPro!I67)-$G$4)","v":3},{"$f":"IF(B74=\"\",\"\",VLOOKUP(D74,Tablas!$B$2:$E$13,2,FALSE))","v":0.26},{"$f":"IF(B74=\"\",\"\",VLOOKUP(D74,Tablas!$B$2:$F$13,5,FALSE))","v":0.15},6798.6360000000004,1062610413.6638488,950456541.73868418,850140019.44426143,760411466.40810502,680153368.8802371,608366161.78912091,544155779.77560008,486722522.16064405,435351093.16694474,389401693.35147113,348302051.29827476,311540296.33119392,278658583.48049545,249247391.30634654,222940421.56202731,{"$f":"IF(W74=\"\",\"\",SUM(I74:W74))","v":8178457804.3572559},{"$f":"IF(C74=0,0,IF(X74=\"\",\"\",X74/(C74*1000)))","v":410977.77911342995}]
[{"$f":"IF(ISBLANK(InfoPro!A68),\"\",InfoPro!A68)","v":"SC_1762_A2"},{"$f":"IF(ISBLANK(InfoPro!B68),\"\",InfoPro!B68)","v":"SPK CERETÉ SOLAR_19.9MW"},{"$f":"IF(ISBLANK(InfoPro!E68),\"\",InfoPro!E68)","v":19.899999999999999},{"$f":"IF(ISBLANK(InfoPro!F68),\"\",InfoPro!F68)","v":"Solar FV"},{"$f":"IF(ISBLANK(InfoPro!I68),\"\",YEAR(InfoPro!I68)-$G$4)","v":3},{"$f":"IF(B75=\"\",\"\",VLOOKUP(D75,Tablas!$B$2:$E$13,2,FALSE))","v":0.26},{"$f":"IF(B75=\"\",\"\",VLOOKUP(D75,Tablas!$B$2:$F$13,5,FALSE))","v":0.15},6798.6360000000004,1062610413.6638488,950456541.73868418,850140019.44426143,760411466.40810502,680153368.8802371,608366161.78912091,544155779.77560008,486722522.16064405,435351093.16694474,389401693.35147113,348302051.29827476,311540296.33119392,278658583.48049545,249247391.30634654,222940421.56202731,8178457804.3572559,410977.77911342995]
[{"$f":"IF(ISBLANK(InfoPro!A69),\"\",InfoPro!A69)","v":"SC_1782_A1"},{"$f":"IF(ISBLANK(InfoPro!B69),\"\",InfoPro!B69)","v":"Orquídea del Sucre - Toluviejo"},{"$f":"IF(ISBLANK(InfoPro!E69),\"\",InfoPro!E69)","v":112},{"$f":"IF(ISBLANK(InfoPro!F69),\"\",InfoPro!F69)","v":"Solar FV"},{"$f":"IF(ISBLANK(InfoPro!I69),\"\",YEAR(InfoPro!I69)-$G$4)","v":4},{"$f":"IF(B76=\"\",\"\",VLOOKUP(D76,Tablas!$B$2:$E$13,2,FALSE))","v":0.26},{"$f":"IF(B76=\"\",\"\",VLOOKUP(D76,Tablas!$B$2:$F$13,5,FALSE))","v":0.15},38263.68,5349303149.4840517,4784707647.1234808,4279702725.5129523,3827998860.0294752,3423970357.8081169,3062585293.2094078,2739342838.2910619,2450217207.7737589,2191607520.3700886,1960292952.0304911,1753392622.5675235,1568329716.0711303,1402799388.2568247,1254740061.0526161,1122307746.9164722,41171298086.497452,367600.87577229866]
[{"$f":"IF(ISBLANK(InfoPro!A70),\"\",InfoPro!A70)","v":"SC_1782_A2"},{"$f":"IF(ISBLANK(InfoPro!B70),\"\",InfoPro!B70)","v":"Orquídea del Sucre - Toluviejo"},{"$f":"IF(ISBLANK(InfoPro!E70),\"\",InfoPro!E70)","v":112},{"$f":"IF(ISBLANK(InfoPro!F70),\"\",InfoPro!F70)","v":"Solar FV"},{"$f":"IF(ISBLANK(InfoPro!I70),\"\",YEAR(InfoPro!I70)-$G$4)","v":4},{"$f":"IF(B77=\"\",\"\",VLOOKUP(D77,Tablas!$B$2:$E$13,2,FALSE))","v":0.26},{"$f":"IF(B77=\"\",\"\",VLOOKUP(D77,Tablas!$B$2:$F$13,5,FALSE))","v":0.15},38263.68,5349303149.4840517,4784707647.1234808,4279702725.5129523,3827998860.0294752,3423970357.8081169,3062585293.2094078,2739342838.2910619,2450217207.7737589,2191607520.3700886,1960292952.0304911,1753392622.5675235,1568329716.0711303,1402799388.2568247,1254740061.0526161,1122307746.9164722,41171298086.497452,367600.87577229866]
[{"$f":"IF(ISBLANK(InfoPro!A71),\"\",InfoPro!A71)","v":"SC_1784_A1"},{"$f":"IF(ISBLANK(InfoPro!B71),\"\",InfoPro!B71)","v":"Pétalo del Sucre - Sierra Flor 9,9 MW"},{"$f":"IF(ISBLANK(InfoPro!E71),\"\",InfoPro!E71)","v":9.9},{"$f":"IF(ISBLANK(InfoPro!F71),\"\",InfoPro!F71)","v":"Solar FV"},{"$f":"IF(ISBLANK(InfoPro!I71),\"\",YEAR(InfoPro!I71)-$G$4)","v":3},{"$f":"IF(B78=\"\",\"\",VLOOKUP(D78,Tablas!$B$2:$E$13,2,FALSE))","v":0.26},{"$f":"IF(B78=\"\",\"\",VLOOKUP(D78,Tablas!$B$2:$F$13,5,FALSE))","v":0.15},3382.2360000000003,528635331.42070878,472840189.10617959,422933979.52252197,378295151.63016278,338367756.37760544,302654522.69911039,270710664.31047446,242138340.1703707,216581699.61571625,193722450.46128464,173275894.86698088,154987383.60195073,138629144.54557315,123997445.92627291,110910058.96804376,4068680013.2229567,410977.77911342995]
[{"$f":"IF(ISBLANK(InfoPro!A72),\"\",InfoPro!A72)","v":"SC_1784_A2"},{"$f":"IF(ISBLANK(InfoPro!B72),\"\",InfoPro!B72)","v":"Pétalo del Sucre - Sierra Flor 9,9 MW"},{"$f":"IF(ISBLANK(InfoPro!E72),\"\",InfoPro!E72)","v":9.9},{"$f":"IF(ISBLANK(InfoPro!F72),\"\",InfoPro!F72)","v":"Solar FV"},{"$f":"IF(ISBLANK(InfoPro!I72),\"\",YEAR(InfoPro!I72)-$G$4)","v":3},{"$f":"IF(B79=\"\",\"\",VLOOKUP(D79,Tablas!$B$2:$E$13,2,FALSE))","v":0.26},{"$f":"IF(B79=\"\",\"\",VLOOKUP(D79,Tablas!$B$2:$F$13,5,FALSE))","v":0.15},3382.2360000000003,{"$f":"IF($H79=\"\",\"\",(1/(1+$C$4)^(I$7+$E79))*$H79*$I$5*$I$4)","v":528635331.42070878},472840189.10617959,422933979.52252197,378295151.63016278,338367756.37760544,302654522.69911039,270710664.31047446,242138340.1703707,216581699.61571625,193722450.46128464,173275894.86698088,154987383.60195073,138629144.54557315,123997445.92627291,110910058.96804376,4068680013.2229567,410977.77911342995]
[{"$f":"IF(ISBLANK(InfoPro!A73),\"\",InfoPro!A73)","v":"SC_1715_A1"},{"$f":"IF(ISBLANK(InfoPro!B73),\"\",InfoPro!B73)","v":"Andrómeda Solar de 50 MW (entrega 41 MW)"},{"$f":"IF(ISBLANK(InfoPro!E73),\"\",InfoPro!E73)","v":41},{"$f":"IF(ISBLANK(InfoPro!F73),\"\",InfoPro!F73)","v":"Solar FV"},{"$f":"IF(ISBLANK(InfoPro!I73),\"\",YEAR(InfoPro!I73)-$G$4)","v":3},{"$f":"IF(B80=\"\",\"\",VLOOKUP(D80,Tablas!$B$2:$E$13,2,FALSE))","v":0.26},{"$f":"IF(B80=\"\",\"\",VLOOKUP(D80,Tablas!$B$2:$F$13,5,FALSE))","v":0.15},14007.24,2189297837.1968741,1958227045.7932687,1751544763.6791315,1566676890.5895629,1401321011.2607899,1253417720.269043,1121124973.4070151,1002795146.1601208,896954513.56003678,802284895.84976459,717607241.36830473,641866942.18989694,574120699.63318157,513524776.05830181,459324486.63533264,16850088943.650623,410977.77911342983]
[{"$f":"IF(ISBLANK(InfoPro!A74),\"\",InfoPro!A74)","v":"SC_1715_A2"},{"$f":"IF(ISBLANK(InfoPro!B74),\"\",InfoPro!B74)","v":"Andrómeda Solar de 50 MW (entrega 41 MW)"},{"$f":"IF(ISBLANK(InfoPro!E74),\"\",InfoPro!E74)","v":41},{"$f":"IF(ISBLANK(InfoPro!F74),\"\",InfoPro!F74)","v":"Solar FV"},{"$f":"IF(ISBLANK(InfoPro!I74),\"\",YEAR(InfoPro!I74)-$G$4)","v":3},{"$f":"IF(B81=\"\",\"\",VLOOKUP(D81,Tablas!$B$2:$E$13,2,FALSE))","v":0.26},{"$f":"IF(B81=\"\",\"\",VLOOKUP(D81,Tablas!$B$2:$F$13,5,FALSE))","v":0.15},14007.24,2189297837.1968741,1958227045.7932687,1751544763.6791315,1566676890.5895629,1401321011.2607899,1253417720.269043,1121124973.4070151,1002795146.1601208,896954513.56003678,802284895.84976459,717607241.36830473,641866942.18989694,574120699.63318157,513524776.05830181,459324486.63533264,16850088943.650623,410977.77911342983]
[{"$f":"IF(ISBLANK(InfoPro!A75),\"\",InfoPro!A75)","v":"SC_1809_A1"},{"$f":"IF(ISBLANK(InfoPro!B75),\"\",InfoPro!B75)","v":"DSE COVEÑAS"},{"$f":"IF(ISBLANK(InfoPro!E75),\"\",InfoPro!E75)","v":9.9},{"$f":"IF(ISBLANK(InfoPro!F75),\"\",InfoPro!F75)","v":"Solar FV"},{"$f":"IF(ISBLANK(InfoPro!I75),\"\",YEAR(InfoPro!I75)-$G$4)","v":2},{"$f":"IF(B82=\"\",\"\",VLOOKUP(D82,Tablas!$B$2:$E$13,2,FALSE))","v":0.26},{"$f":"IF(B82=\"\",\"\",VLOOKUP(D82,Tablas!$B$2:$F$13,5,FALSE))","v":0.15},3382.2360000000003,591014300.52835214,528635331.42070878,472840189.10617959,422933979.52252197,378295151.63016278,338367756.37760544,302654522.69911039,270710664.31047446,242138340.1703707,216581699.61571625,193722450.46128464,173275894.86698088,154987383.60195073,138629144.54557315,123997445.92627291,4548784254.7832651,459473.15704881464]
[{"$f":"IF(ISBLANK(InfoPro!A76),\"\",InfoPro!A76)","v":"SC_1809_A2"},{"$f":"IF(ISBLANK(InfoPro!B76),\"\",InfoPro!B76)","v":"DSE COVEÑAS"},{"$f":"IF(ISBLANK(InfoPro!E76),\"\",InfoPro!E76)","v":9.9},{"$f":"IF(ISBLANK(InfoPro!F76),\"\",InfoPro!F76)","v":"Solar FV"},{"$f":"IF(ISBLANK(InfoPro!I76),\"\",YEAR(InfoPro!I76)-$G$4)","v":2},{"$f":"IF(B83=\"\",\"\",VLOOKUP(D83,Tablas!$B$2:$E$13,2,FALSE))","v":0.26},{"$f":"IF(B83=\"\",\"\",VLOOKUP(D83,Tablas!$B$2:$F$13,5,FALSE))","v":0.15},3382.2360000000003,591014300.52835214,528635331.42070878,472840189.10617959,422933979.52252197,378295151.63016278,338367756.37760544,302654522.69911039,270710664.31047446,242138340.1703707,216581699.61571625,193722450.46128464,173275894.86698088,154987383.60195073,138629144.54557315,123997445.92627291,4548784254.7832651,459473.15704881464]
[{"$f":"IF(ISBLANK(InfoPro!A77),\"\",InfoPro!A77)","v":"SC_1838_A1"},{"$f":"IF(ISBLANK(InfoPro!B77),\"\",InfoPro!B77)","v":"Since Solar I 9,9 MW"},{"$f":"IF(ISBLANK(InfoPro!E77),\"\",InfoPro!E77)","v":9.9},{"$f":"IF(ISBLANK(InfoPro!F77),\"\",InfoPro!F77)","v":"Solar FV"},{"$f":"IF(ISBLANK(InfoPro!I77),\"\",YEAR(InfoPro!I77)-$G$4)","v":2},{"$f":"IF(B84=\"\",\"\",VLOOKUP(D84,Tablas!$B$2:$E$13,2,FALSE))","v":0.26},{"$f":"IF(B84=\"\",\"\",VLOOKUP(D84,Tablas!$B$2:$F$13,5,FALSE))","v":0.15},3382.2360000000003,591014300.52835214,528635331.42070878,472840189.10617959,422933979.52252197,378295151.63016278,338367756.37760544,302654522.69911039,270710664.31047446,242138340.1703707,216581699.61571625,193722450.46128464,173275894.86698088,154987383.60195073,138629144.54557315,123997445.92627291,4548784254.7832651,459473.15704881464]
[{"$f":"IF(ISBLANK(InfoPro!A78),\"\",InfoPro!A78)","v":"SC_1838_A2"},{"$f":"IF(ISBLANK(InfoPro!B78),\"\",InfoPro!B78)","v":"Since Solar I 9,9 MW"},{"$f":"IF(ISBLANK(InfoPro!E78),\"\",InfoPro!E78)","v":9.9},{"$f":"IF(ISBLANK(InfoPro!F78),\"\",InfoPro!F78)","v":"Solar FV"},{"$f":"IF(ISBLANK(InfoPro!I78),\"\",YEAR(InfoPro!I78)-$G$4)","v":2},{"$f":"IF(B85=\"\",\"\",VLOOKUP(D85,Tablas!$B$2:$E$13,2,FALSE))","v":0.26},{"$f":"IF(B85=\"\",\"\",VLOOKUP(D85,Tablas!$B$2:$F$13,5,FALSE))","v":0.15},3382.2360000000003,591014300.52835214,528635331.42070878,472840189.10617959,422933979.52252197,378295151.63016278,338367756.37760544,302654522.69911039,270710664.31047446,242138340.1703707,216581699.61571625,193722450.46128464,173275894.86698088,154987383.60195073,138629144.54557315,123997445.92627291,4548784254.7832651,459473.15704881464]
[{"$f":"IF(ISBLANK(InfoPro!A79),\"\",InfoPro!A79)","v":"SC_1853_A1"},{"$f":"IF(ISBLANK(InfoPro!B79),\"\",InfoPro!B79)","v":"Tolú Solar 9,9 MW"},{"$f":"IF(ISBLANK(InfoPro!E79),\"\",InfoPro!E79)","v":9.9},{"$f":"IF(ISBLANK(InfoPro!F79),\"\",InfoPro!F79)","v":"Solar FV"},{"$f":"IF(ISBLANK(InfoPro!I79),\"\",YEAR(InfoPro!I79)-$G$4)","v":2},{"$f":"IF(B86=\"\",\"\",VLOOKUP(D86,Tablas!$B$2:$E$13,2,FALSE))","v":0.26},{"$f":"IF(B86=\"\",\"\",VLOOKUP(D86,Tablas!$B$2:$F$13,5,FALSE))","v":0.15},3382.2360000000003,591014300.52835214,528635331.42070878,472840189.10617959,422933979.52252197,378295151.63016278,338367756.37760544,302654522.69911039,270710664.31047446,242138340.1703707,216581699.61571625,193722450.46128464,173275894.86698088,154987383.60195073,138629144.54557315,123997445.92627291,4548784254.7832651,459473.15704881464]
[{"$f":"IF(ISBLANK(InfoPro!A80),\"\",InfoPro!A80)","v":"SC_1853_A2"},{"$f":"IF(ISBLANK(InfoPro!B80),\"\",InfoPro!B80)","v":"Tolú Solar 9,9 MW"},{"$f":"IF(ISBLANK(InfoPro!E80),\"\",InfoPro!E80)","v":9.9},{"$f":"IF(ISBLANK(InfoPro!F80),\"\",InfoPro!F80)","v":"Solar FV"},{"$f":"IF(ISBLANK(InfoPro!I80),\"\",YEAR(InfoPro!I80)-$G$4)","v":2},{"$f":"IF(B87=\"\",\"\",VLOOKUP(D87,Tablas!$B$2:$E$13,2,FALSE))","v":0.26},{"$f":"IF(B87=\"\",\"\",VLOOKUP(D87,Tablas!$B$2:$F$13,5,FALSE))","v":0.15},3382.2360000000003,591014300.52835214,528635331.42070878,472840189.10617959,422933979.52252197,378295151.63016278,338367756.37760544,302654522.69911039,270710664.31047446,242138340.1703707,216581699.61571625,193722450.46128464,173275894.86698088,154987383.60195073,138629144.54557315,123997445.92627291,4548784254.7832651,459473.15704881464]
[{"$f":"IF(ISBLANK(InfoPro!A81),\"\",InfoPro!A81)","v":"SC_1882_A1"},{"$f":"IF(ISBLANK(InfoPro!B81),\"\",InfoPro!B81)","v":"Proyecto Solar Oviedo"},{"$f":"IF(ISBLANK(InfoPro!E81),\"\",InfoPro!E81)","v":9.9},{"$f":"IF(ISBLANK(InfoPro!F81),\"\",InfoPro!F81)","v":"Solar FV"},{"$f":"IF(ISBLANK(InfoPro!I81),\"\",YEAR(InfoPro!I81)-$G$4)","v":2},{"$f":"IF(B88=\"\",\"\",VLOOKUP(D88,Tablas!$B$2:$E$13,2,FALSE))","v":0.26},{"$f":"IF(B88=\"\",\"\",VLOOKUP(D88,Tablas!$B$2:$F$13,5,FALSE))","v":0.15},3382.2360000000003,591014300.52835214,528635331.42070878,472840189.10617959,422933979.52252197,378295151.63016278,338367756.37760544,302654522.69911039,270710664.31047446,242138340.1703707,216581699.61571625,193722450.46128464,173275894.86698088,154987383.60195073,138629144.54557315,123997445.92627291,4548784254.7832651,459473.15704881464]
[{"$f":"IF(ISBLANK(InfoPro!A82),\"\",InfoPro!A82)","v":"SC_1882_A2"},{"$f":"IF(ISBLANK(InfoPro!B82),\"\",InfoPro!B82)","v":"Proyecto Solar Oviedo"},{"$f":"IF(ISBLANK(InfoPro!E82),\"\",InfoPro!E82)","v":9.9},{"$f":"IF(ISBLANK(InfoPro!F82),\"\",InfoPro!F82)","v":"Solar FV"},{"$f":"IF(ISBLANK(InfoPro!I82),\"\",YEAR(InfoPro!I82)-$G$4)","v":2},{"$f":"IF(B89=\"\",\"\",VLOOKUP(D89,Tablas!$B$2:$E$13,2,FALSE))","v":0.26},{"$f":"IF(B89=\"\",\"\",VLOOKUP(D89,Tablas!$B$2:$F$13,5,FALSE))","v":0.15},3382.2360000000003,{"$f":"IF($H89=\"\",\"\",(1/(1+$C$4)^(I$7+$E89))*$H89*$I$5*$I$4)","v":591014300.52835214},528635331.42070878,472840189.10617959,422933979.52252197,378295151.63016278,338367756.37760544,302654522.69911039,270710664.31047446,242138340.1703707,216581699.61571625,193722450.46128464,173275894.86698088,154987383.60195073,138629144.54557315,123997445.92627291,4548784254.7832651,459473.15704881464]
[{"$f":"IF(ISBLANK(InfoPro!A83),\"\",InfoPro!A83)","v":"SC_1913_A1"},{"$f":"IF(ISBLANK(InfoPro!B83),\"\",InfoPro!B83)","v":"PS Noe"},{"$f":"IF(ISBLANK(InfoPro!E83),\"\",InfoPro!E83)","v":9.9},{"$f":"IF(ISBLANK(InfoPro!F83),\"\",InfoPro!F83)","v":"Solar FV"},{"$f":"IF(ISBLANK(InfoPro!I83),\"\",YEAR(InfoPro!I83)-$G$4)","v":2},{"$f":"IF(B90=\"\",\"\",VLOOKUP(D90,Tablas!$B$2:$E$13,2,FALSE))","v":0.26},{"$f":"IF(B90=\"\",\"\",VLOOKUP(D90,Tablas!$B$2:$F$13,5,FALSE))","v":0.15},3382.2360000000003,591014300.52835214,528635331.42070878,472840189.10617959,422933979.52252197,378295151.63016278,338367756.37760544,302654522.69911039,270710664.31047446,242138340.1703707,216581699.61571625,193722450.46128464,173275894.86698088,154987383.60195073,138629144.54557315,123997445.92627291,4548784254.7832651,459473.15704881464]
[{"$f":"IF(ISBLANK(InfoPro!A84),\"\",InfoPro!A84)","v":"SC_1913_A2"},{"$f":"IF(ISBLANK(InfoPro!B84),\"\",InfoPro!B84)","v":"PS Noe"},{"$f":"IF(ISBLANK(InfoPro!E84),\"\",InfoPro!E84)","v":9.9},{"$f":"IF(ISBLANK(InfoPro!F84),\"\",InfoPro!F84)","v":"Solar FV"},{"$f":"IF(ISBLANK(InfoPro!I84),\"\",YEAR(InfoPro!I84)-$G$4)","v":2},{"$f":"IF(B91=\"\",\"\",VLOOKUP(D91,Tablas!$B$2:$E$13,2,FALSE))","v":0.26},{"$f":"IF(B91=\"\",\"\",VLOOKUP(D91,Tablas!$B$2:$F$13,5,FALSE))","v":0.15},3382.2360000000003,591014300.52835214,528635331.42070878,472840189.10617959,422933979.52252197,378295151.63016278,338367756.37760544,302654522.69911039,270710664.31047446,242138340.1703707,216581699.61571625,193722450.46128464,173275894.86698088,154987383.60195073,138629144.54557315,123997445.92627291,4548784254.7832651,459473.15704881464]
[{"$f":"IF(ISBLANK(InfoPro!A85),\"\",InfoPro!A85)","v":"SC_1491_A1"},{"$f":"IF(ISBLANK(InfoPro!B85),\"\",InfoPro!B85)","v":"SABANA SOLAR_90MW"},{"$f":"IF(ISBLANK(InfoPro!E85),\"\",InfoPro!E85)","v":90},{"$f":"IF(ISBLANK(InfoPro!F85),\"\",InfoPro!F85)","v":"Solar FV"},{"$f":"IF(ISBLANK(InfoPro!I85),\"\",YEAR(InfoPro!I85)-$G$4)","v":2},{"$f":"IF(B92=\"\",\"\",VLOOKUP(D92,Tablas!$B$2:$E$13,2,FALSE))","v":0.26},{"$f":"IF(B92=\"\",\"\",VLOOKUP(D92,Tablas!$B$2:$F$13,5,FALSE))","v":0.15},30747.600000000002,5372857277.5304756,4805775740.188261,4298547173.6925421,3844854359.2956548,3439046833.0014796,3076070512.5236855,2751404751.8100944,2461006039.186131,2201257637.9124603,1968924541.9610562,1761113186.0116782,1575235407.8816445,1408976214.5631886,1260264950.4143012,1127249508.4206629,41352584134.393311,459473.15704881458]
[{"$f":"IF(ISBLANK(InfoPro!A86),\"\",InfoPro!A86)","v":"SC_1491_A2"},{"$f":"IF(ISBLANK(InfoPro!B86),\"\",InfoPro!B86)","v":"SABANA SOLAR_90MW"},{"$f":"IF(ISBLANK(InfoPro!E86),\"\",InfoPro!E86)","v":90},{"$f":"IF(ISBLANK(InfoPro!F86),\"\",InfoPro!F86)","v":"Solar FV"},{"$f":"IF(ISBLANK(InfoPro!I86),\"\",YEAR(InfoPro!I86)-$G$4)","v":2},{"$f":"IF(B93=\"\",\"\",VLOOKUP(D93,Tablas!$B$2:$E$13,2,FALSE))","v":0.26},{"$f":"IF(B93=\"\",\"\",VLOOKUP(D93,Tablas!$B$2:$F$13,5,FALSE))","v":0.15},30747.600000000002,5372857277.5304756,4805775740.188261,4298547173.6925421,3844854359.2956548,3439046833.0014796,3076070512.5236855,2751404751.8100944,2461006039.186131,2201257637.9124603,1968924541.9610562,1761113186.0116782,1575235407.8816445,1408976214.5631886,1260264950.4143012,1127249508.4206629,41352584134.393311,459473.15704881458]
[{"$f":"IF(ISBLANK(InfoPro!A87),\"\",InfoPro!A87)","v":"SC_1894_A1"},{"$f":"IF(ISBLANK(InfoPro!B87),\"\",InfoPro!B87)","v":"Aquila Solar"},{"$f":"IF(ISBLANK(InfoPro!E87),\"\",InfoPro!E87)","v":47},{"$f":"IF(ISBLANK(InfoPro!F87),\"\",InfoPro!F87)","v":"Solar FV"},{"$f":"IF(ISBLANK(InfoPro!I87),\"\",YEAR(InfoPro!I87)-$G$4)","v":2},{"$f":"IF(B94=\"\",\"\",VLOOKUP(D94,Tablas!$B$2:$E$13,2,FALSE))","v":0.26},{"$f":"IF(B94=\"\",\"\",VLOOKUP(D94,Tablas!$B$2:$F$13,5,FALSE))","v":0.15},16057.08,2805825467.1548033,2509682886.5427585,2244796857.3727713,2007868387.6321747,1795946679.4563282,1606392378.7623689,1436844703.7230492,1285192042.6860905,1149545655.354285,1028216149.690774,919692441.58387649,822622935.22708094,735798689.82744277,658138362.99413502,588674743.28634596,21595238381.294285,459473.15704881458]
[{"$f":"IF(ISBLANK(InfoPro!A88),\"\",InfoPro!A88)","v":"SC_1894_A2"},{"$f":"IF(ISBLANK(InfoPro!B88),\"\",InfoPro!B88)","v":"Aquila Solar"},{"$f":"IF(ISBLANK(InfoPro!E88),\"\",InfoPro!E88)","v":47},{"$f":"IF(ISBLANK(InfoPro!F88),\"\",InfoPro!F88)","v":"Solar FV"},{"$f":"IF(ISBLANK(InfoPro!I88),\"\",YEAR(InfoPro!I88)-$G$4)","v":2},{"$f":"IF(B95=\"\",\"\",VLOOKUP(D95,Tablas!$B$2:$E$13,2,FALSE))","v":0.26},{"$f":"IF(B95=\"\",\"\",VLOOKUP(D95,Tablas!$B$2:$F$13,5,FALSE))","v":0.15},16057.08,2805825467.1548033,2509682886.5427585,2244796857.3727713,2007868387.6321747,1795946679.4563282,1606392378.7623689,1436844703.7230492,1285192042.6860905,1149545655.354285,1028216149.690774,919692441.58387649,822622935.22708094,735798689.82744277,658138362.99413502,588674743.28634596,21595238381.294285,459473.15704881458]
[{"$f":"IF(ISBLANK(InfoPro!A89),\"\",InfoPro!A89)","v":"SC_1887_A1"},{"$f":"IF(ISBLANK(InfoPro!B89),\"\",InfoPro!B89)","v":"Boston Solar"},{"$f":"IF(ISBLANK(InfoPro!E89),\"\",InfoPro!E89)","v":100},{"$f":"IF(ISBLANK(InfoPro!F89),\"\",InfoPro!F89)","v":"Solar FV"},{"$f":"IF(ISBLANK(InfoPro!I89),\"\",YEAR(InfoPro!I89)-$G$4)","v":3},{"$f":"IF(B96=\"\",\"\",VLOOKUP(D96,Tablas!$B$2:$E$13,2,FALSE))","v":0.26},{"$f":"IF(B96=\"\",\"\",VLOOKUP(D96,Tablas!$B$2:$F$13,5,FALSE))","v":0.15},34164,5339750822.4314003,4776163526.3250456,4272060399.2173939,3821163147.7794213,3417856125.0263171,3057116390.900105,2734451154.651257,2445841819.9027338,2187693935.5122848,1956792428.901865,1750261564.3129382,1565529127.2924316,1400294389.3492234,1252499453.8007362,1120303625.9398358,41097777911.342979,410977.77911342977]
[{"$f":"IF(ISBLANK(InfoPro!A90),\"\",InfoPro!A90)","v":"SC_1887_A2"},{"$f":"IF(ISBLANK(InfoPro!B90),\"\",InfoPro!B90)","v":"Boston Solar"},{"$f":"IF(ISBLANK(InfoPro!E90),\"\",InfoPro!E90)","v":100},{"$f":"IF(ISBLANK(InfoPro!F90),\"\",InfoPro!F90)","v":"Solar FV"},{"$f":"IF(ISBLANK(InfoPro!I90),\"\",YEAR(InfoPro!I90)-$G$4)","v":3},{"$f":"IF(B97=\"\",\"\",VLOOKUP(D97,Tablas!$B$2:$E$13,2,FALSE))","v":0.26},{"$f":"IF(B97=\"\",\"\",VLOOKUP(D97,Tablas!$B$2:$F$13,5,FALSE))","v":0.15},34164,5339750822.4314003,4776163526.3250456,4272060399.2173939,3821163147.7794213,3417856125.0263171,3057116390.900105,2734451154.651257,2445841819.9027338,2187693935.5122848,1956792428.901865,1750261564.3129382,1565529127.2924316,1400294389.3492234,1252499453.8007362,1120303625.9398358,41097777911.342979,410977.77911342977]
[{"$f":"IF(ISBLANK(InfoPro!A91),\"\",InfoPro!A91)","v":"SC_2104_A1"},{"$f":"IF(ISBLANK(InfoPro!B91),\"\",InfoPro!B91)","v":"El Dorado - 300 MW"},{"$f":"IF(ISBLANK(InfoPro!E91),\"\",InfoPro!E91)","v":300},{"$f":"IF(ISBLANK(InfoPro!F91),\"\",InfoPro!F91)","v":"Solar FV"},{"$f":"IF(ISBLANK(InfoPro!I91),\"\",YEAR(InfoPro!I91)-$G$4)","v":3},{"$f":"IF(B98=\"\",\"\",VLOOKUP(D98,Tablas!$B$2:$E$13,2,FALSE))","v":0.26},{"$f":"IF(B98=\"\",\"\",VLOOKUP(D98,Tablas!$B$2:$F$13,5,FALSE))","v":0.15},102492,16019252467.294201,14328490578.975136,12816181197.65218,11463489443.338264,10253568375.078951,9171349172.7003136,8203353463.9537687,7337525459.7082024,6563081806.5368547,5870377286.705595,5250784692.9388151,4696587381.8772945,4200883168.0476699,3757498361.4022083,3360910877.8195071,123293333734.02895,410977.77911342983]
[{"$f":"IF(ISBLANK(InfoPro!A92),\"\",InfoPro!A92)","v":"SC_2104_A2"},{"$f":"IF(ISBLANK(InfoPro!B92),\"\",InfoPro!B92)","v":"El Dorado - 300 MW"},{"$f":"IF(ISBLANK(InfoPro!E92),\"\",InfoPro!E92)","v":300},{"$f":"IF(ISBLANK(InfoPro!F92),\"\",InfoPro!F92)","v":"Solar FV"},{"$f":"IF(ISBLANK(InfoPro!I92),\"\",YEAR(InfoPro!I92)-$G$4)","v":3},{"$f":"IF(B99=\"\",\"\",VLOOKUP(D99,Tablas!$B$2:$E$13,2,FALSE))","v":0.26},{"$f":"IF(B99=\"\",\"\",VLOOKUP(D99,Tablas!$B$2:$F$13,5,FALSE))","v":0.15},102492,{"$f":"IF($H99=\"\",\"\",(1/(1+$C$4)^(I$7+$E99))*$H99*$I$5*$I$4)","v":16019252467.294201},14328490578.975136,12816181197.65218,11463489443.338264,10253568375.078951,9171349172.7003136,8203353463.9537687,7337525459.7082024,6563081806.5368547,5870377286.705595,5250784692.9388151,4696587381.8772945,4200883168.0476699,3757498361.4022083,3360910877.8195071,123293333734.02895,410977.77911342983]
[{"$f":"IF(ISBLANK(InfoPro!A93),\"\",InfoPro!A93)","v":"SC_2028_A1"},{"$f":"IF(ISBLANK(InfoPro!B93),\"\",InfoPro!B93)","v":"Parque Solar Fandango"},{"$f":"IF(ISBLANK(InfoPro!E93),\"\",InfoPro!E93)","v":19.899999999999999},{"$f":"IF(ISBLANK(InfoPro!F93),\"\",InfoPro!F93)","v":"Solar FV"},{"$f":"IF(ISBLANK(InfoPro!I93),\"\",YEAR(InfoPro!I93)-$G$4)","v":2},{"$f":"IF(B100=\"\",\"\",VLOOKUP(D100,Tablas!$B$2:$E$13,2,FALSE))","v":0.26},{"$f":"IF(B100=\"\",\"\",VLOOKUP(D100,Tablas!$B$2:$F$13,5,FALSE))","v":0.15},6798.6360000000004,1187998442.4761827,1062610413.6638488,950456541.73868418,850140019.44426143,760411466.40810502,680153368.8802371,608366161.78912091,544155779.77560008,486722522.16064405,435351093.16694474,389401693.35147113,348302051.29827476,311540296.33119392,278658583.48049545,249247391.30634654,9143515825.27141,459473.15704881458]
[{"$f":"IF(ISBLANK(InfoPro!A94),\"\",InfoPro!A94)","v":"SC_2028_A2"},{"$f":"IF(ISBLANK(InfoPro!B94),\"\",InfoPro!B94)","v":"Parque Solar Fandango"},{"$f":"IF(ISBLANK(InfoPro!E94),\"\",InfoPro!E94)","v":19.899999999999999},{"$f":"IF(ISBLANK(InfoPro!F94),\"\",InfoPro!F94)","v":"Solar FV"},{"$f":"IF(ISBLANK(InfoPro!I94),\"\",YEAR(InfoPro!I94)-$G$4)","v":2},{"$f":"IF(B101=\"\",\"\",VLOOKUP(D101,Tablas!$B$2:$E$13,2,FALSE))","v":0.26},{"$f":"IF(B101=\"\",\"\",VLOOKUP(D101,Tablas!$B$2:$F$13,5,FALSE))","v":0.15},6798.6360000000004,1187998442.4761827,1062610413.6638488,950456541.73868418,850140019.44426143,760411466.40810502,680153368.8802371,608366161.78912091,544155779.77560008,486722522.16064405,435351093.16694474,389401693.35147113,348302051.29827476,311540296.33119392,278658583.48049545,249247391.30634654,9143515825.27141,459473.15704881458]
[{"$f":"IF(ISBLANK(InfoPro!A95),\"\",InfoPro!A95)","v":"SC_2015_A1"},{"$f":"IF(ISBLANK(InfoPro!B95),\"\",InfoPro!B95)","v":"Parque Solar El Bongo"},{"$f":"IF(ISBLANK(InfoPro!E95),\"\",InfoPro!E95)","v":19.899999999999999},{"$f":"IF(ISBLANK(InfoPro!F95),\"\",InfoPro!F95)","v":"Solar FV"},{"$f":"IF(ISBLANK(InfoPro!I95),\"\",YEAR(InfoPro!I95)-$G$4)","v":2},{"$f":"IF(B102=\"\",\"\",VLOOKUP(D102,Tablas!$B$2:$E$13,2,FALSE))","v":0.26},{"$f":"IF(B102=\"\",\"\",VLOOKUP(D102,Tablas!$B$2:$F$13,5,FALSE))","v":0.15},6798.6360000000004,1187998442.4761827,1062610413.6638488,950456541.73868418,850140019.44426143,760411466.40810502,680153368.8802371,608366161.78912091,544155779.77560008,486722522.16064405,435351093.16694474,389401693.35147113,348302051.29827476,311540296.33119392,278658583.48049545,249247391.30634654,9143515825.27141,459473.15704881458]
[{"$f":"IF(ISBLANK(InfoPro!A96),\"\",InfoPro!A96)","v":"SC_2015_A2"},{"$f":"IF(ISBLANK(InfoPro!B96),\"\",InfoPro!B96)","v":"Parque Solar El Bongo"},{"$f":"IF(ISBLANK(InfoPro!E96),\"\",InfoPro!E96)","v":19.899999999999999},{"$f":"IF(ISBLANK(InfoPro!F96),\"\",InfoPro!F96)","v":"Solar FV"},{"$f":"IF(ISBLANK(InfoPro!I96),\"\",YEAR(InfoPro!I96)-$G$4)","v":2},{"$f":"IF(B103=\"\",\"\",VLOOKUP(D103,Tablas!$B$2:$E$13,2,FALSE))","v":0.26},{"$f":"IF(B103=\"\",\"\",VLOOKUP(D103,Tablas!$B$2:$F$13,5,FALSE))","v":0.15},6798.6360000000004,1187998442.4761827,1062610413.6638488,950456541.73868418,850140019.44426143,760411466.40810502,680153368.8802371,608366161.78912091,544155779.77560008,486722522.16064405,435351093.16694474,389401693.35147113,348302051.29827476,311540296.33119392,278658583.48049545,249247391.30634654,9143515825.27141,459473.15704881458]
[{"$f":"IF(ISBLANK(InfoPro!A97),\"\",InfoPro!A97)","v":"SC_2049_A1"},{"$f":"IF(ISBLANK(InfoPro!B97),\"\",InfoPro!B97)","v":"Parque Solar Sinú"},{"$f":"IF(ISBLANK(InfoPro!E97),\"\",InfoPro!E97)","v":9.9},{"$f":"IF(ISBLANK(InfoPro!F97),\"\",InfoPro!F97)","v":"Solar FV"},{"$f":"IF(ISBLANK(InfoPro!I97),\"\",YEAR(InfoPro!I97)-$G$4)","v":2},{"$f":"IF(B104=\"\",\"\",VLOOKUP(D104,Tablas!$B$2:$E$13,2,FALSE))","v":0.26},{"$f":"IF(B104=\"\",\"\",VLOOKUP(D104,Tablas!$B$2:$F$13,5,FALSE))","v":0.15},3382.2360000000003,591014300.52835214,528635331.42070878,472840189.10617959,422933979.52252197,378295151.63016278,338367756.37760544,302654522.69911039,270710664.31047446,242138340.1703707,216581699.61571625,193722450.46128464,173275894.86698088,154987383.60195073,138629144.54557315,123997445.92627291,4548784254.7832651,459473.15704881464]
[{"$f":"IF(ISBLANK(InfoPro!A98),\"\",InfoPro!A98)","v":"SC_2049_A2"},{"$f":"IF(ISBLANK(InfoPro!B98),\"\",InfoPro!B98)","v":"Parque Solar Sinú"},{"$f":"IF(ISBLANK(InfoPro!E98),\"\",InfoPro!E98)","v":9.9},{"$f":"IF(ISBLANK(InfoPro!F98),\"\",InfoPro!F98)","v":"Solar FV"},{"$f":"IF(ISBLANK(InfoPro!I98),\"\",YEAR(InfoPro!I98)-$G$4)","v":2},{"$f":"IF(B105=\"\",\"\",VLOOKUP(D105,Tablas!$B$2:$E$13,2,FALSE))","v":0.26},{"$f":"IF(B105=\"\",\"\",VLOOKUP(D105,Tablas!$B$2:$F$13,5,FALSE))","v":0.15},{"$f":"IF(C105=\"\",\"\",+C105*G105*F105*24*365)","v":3382.2360000000003},591014300.52835214,528635331.42070878,472840189.10617959,422933979.52252197,378295151.63016278,338367756.37760544,302654522.69911039,270710664.31047446,242138340.1703707,216581699.61571625,193722450.46128464,173275894.86698088,154987383.60195073,138629144.54557315,123997445.92627291,4548784254.7832651,459473.15704881464]
[{"$f":"IF(ISBLANK(InfoPro!A99),\"\",InfoPro!A99)","v":"SC_2042_A1"},{"$f":"IF(ISBLANK(InfoPro!B99),\"\",InfoPro!B99)","v":"Parque Solar La Uvita"},{"$f":"IF(ISBLANK(InfoPro!E99),\"\",InfoPro!E99)","v":19.899999999999999},{"$f":"IF(ISBLANK(InfoPro!F99),\"\",InfoPro!F99)","v":"Solar FV"},{"$f":"IF(ISBLANK(InfoPro!I99),\"\",YEAR(InfoPro!I99)-$G$4)","v":2},{"$f":"IF(B106=\"\",\"\",VLOOKUP(D106,Tablas!$B$2:$E$13,2,FALSE))","v":0.26},{"$f":"IF(B106=\"\",\"\",VLOOKUP(D106,Tablas!$B$2:$F$13,5,FALSE))","v":0.15},6798.6360000000004,1187998442.4761827,1062610413.6638488,950456541.73868418,850140019.44426143,760411466.40810502,680153368.8802371,608366161.78912091,544155779.77560008,486722522.16064405,435351093.16694474,389401693.35147113,348302051.29827476,311540296.33119392,278658583.48049545,249247391.30634654,9143515825.27141,459473.15704881458]
[{"$f":"IF(ISBLANK(InfoPro!A100),\"\",InfoPro!A100)","v":"SC_2042_A2"},{"$f":"IF(ISBLANK(InfoPro!B100),\"\",InfoPro!B100)","v":"Parque Solar La Uvita"},{"$f":"IF(ISBLANK(InfoPro!E100),\"\",InfoPro!E100)","v":19.899999999999999},{"$f":"IF(ISBLANK(InfoPro!F100),\"\",InfoPro!F100)","v":"Solar FV"},{"$f":"IF(ISBLANK(InfoPro!I100),\"\",YEAR(InfoPro!I100)-$G$4)","v":2},{"$f":"IF(B107=\"\",\"\",VLOOKUP(D107,Tablas!$B$2:$E$13,2,FALSE))","v":0.26},{"$f":"IF(B107=\"\",\"\",VLOOKUP(D107,Tablas!$B$2:$F$13,5,FALSE))","v":0.15},6798.6360000000004,1187998442.4761827,1062610413.6638488,950456541.73868418,850140019.44426143,760411466.40810502,680153368.8802371,608366161.78912091,544155779.77560008,486722522.16064405,435351093.16694474,389401693.35147113,348302051.29827476,311540296.33119392,278658583.48049545,249247391.30634654,9143515825.27141,459473.15704881458]
[{"$f":"IF(ISBLANK(InfoPro!A101),\"\",InfoPro!A101)","v":"SC_2111_A1"},{"$f":"IF(ISBLANK(InfoPro!B101),\"\",InfoPro!B101)","v":"PROYECTO QUIMARÍ SOLAR_90MW"},{"$f":"IF(ISBLANK(InfoPro!E101),\"\",InfoPro!E101)","v":90},{"$f":"IF(ISBLANK(InfoPro!F101),\"\",InfoPro!F101)","v":"Solar FV"},{"$f":"IF(ISBLANK(InfoPro!I101),\"\",YEAR(InfoPro!I101)-$G$4)","v":2},{"$f":"IF(B108=\"\",\"\",VLOOKUP(D108,Tablas!$B$2:$E$13,2,FALSE))","v":0.26},{"$f":"IF(B108=\"\",\"\",VLOOKUP(D108,Tablas!$B$2:$F$13,5,FALSE))","v":0.15},30747.600000000002,5372857277.5304756,4805775740.188261,4298547173.6925421,3844854359.2956548,3439046833.0014796,3076070512.5236855,2751404751.8100944,2461006039.186131,2201257637.9124603,1968924541.9610562,1761113186.0116782,1575235407.8816445,1408976214.5631886,1260264950.4143012,1127249508.4206629,41352584134.393311,459473.15704881458]
[{"$f":"IF(ISBLANK(InfoPro!A102),\"\",InfoPro!A102)","v":"SC_2111_A2"},{"$f":"IF(ISBLANK(InfoPro!B102),\"\",InfoPro!B102)","v":"PROYECTO QUIMARÍ SOLAR_90MW"},{"$f":"IF(ISBLANK(InfoPro!E102),\"\",InfoPro!E102)","v":90},{"$f":"IF(ISBLANK(InfoPro!F102),\"\",InfoPro!F102)","v":"Solar FV"},{"$f":"IF(ISBLANK(InfoPro!I102),\"\",YEAR(InfoPro!I102)-$G$4)","v":2},{"$f":"IF(B109=\"\",\"\",VLOOKUP(D109,Tablas!$B$2:$E$13,2,FALSE))","v":0.26},{"$f":"IF(B109=\"\",\"\",VLOOKUP(D109,Tablas!$B$2:$F$13,5,FALSE))","v":0.15},30747.600000000002,{"$f":"IF($H109=\"\",\"\",(1/(1+$C$4)^(I$7+$E109))*$H109*$I$5*$I$4)","v":5372857277.5304756},4805775740.188261,4298547173.6925421,3844854359.2956548,3439046833.0014796,3076070512.5236855,2751404751.8100944,2461006039.186131,2201257637.9124603,1968924541.9610562,1761113186.0116782,1575235407.8816445,1408976214.5631886,1260264950.4143012,1127249508.4206629,41352584134.393311,459473.15704881458]
[{"$f":"IF(ISBLANK(InfoPro!A103),\"\",InfoPro!A103)","v":"SC_2173_A1"},{"$f":"IF(ISBLANK(InfoPro!B103),\"\",InfoPro!B103)","v":"Nueva Montería Solar I 9,9 MW"},{"$f":"IF(ISBLANK(InfoPro!E103),\"\",InfoPro!E103)","v":9.9},{"$f":"IF(ISBLANK(InfoPro!F103),\"\",InfoPro!F103)","v":"Solar FV"},{"$f":"IF(ISBLANK(InfoPro!I103),\"\",YEAR(InfoPro!I103)-$G$4)","v":2},{"$f":"IF(B110=\"\",\"\",VLOOKUP(D110,Tablas!$B$2:$E$13,2,FALSE))","v":0.26},{"$f":"IF(B110=\"\",\"\",VLOOKUP(D110,Tablas!$B$2:$F$13,5,FALSE))","v":0.15},3382.2360000000003,591014300.52835214,528635331.42070878,472840189.10617959,422933979.52252197,378295151.63016278,338367756.37760544,302654522.69911039,270710664.31047446,242138340.1703707,216581699.61571625,193722450.46128464,173275894.86698088,154987383.60195073,138629144.54557315,123997445.92627291,4548784254.7832651,459473.15704881464]
[{"$f":"IF(ISBLANK(InfoPro!A104),\"\",InfoPro!A104)","v":"SC_2173_A2"},{"$f":"IF(ISBLANK(InfoPro!B104),\"\",InfoPro!B104)","v":"Nueva Montería Solar I 9,9 MW"},{"$f":"IF(ISBLANK(InfoPro!E104),\"\",InfoPro!E104)","v":9.9},{"$f":"IF(ISBLANK(InfoPro!F104),\"\",InfoPro!F104)","v":"Solar FV"},{"$f":"IF(ISBLANK(InfoPro!I104),\"\",YEAR(InfoPro!I104)-$G$4)","v":2},{"$f":"IF(B111=\"\",\"\",VLOOKUP(D111,Tablas!$B$2:$E$13,2,FALSE))","v":0.26},{"$f":"IF(B111=\"\",\"\",VLOOKUP(D111,Tablas!$B$2:$F$13,5,FALSE))","v":0.15},3382.2360000000003,591014300.52835214,528635331.42070878,472840189.10617959,422933979.52252197,378295151.63016278,338367756.37760544,302654522.69911039,270710664.31047446,242138340.1703707,216581699.61571625,193722450.46128464,173275894.86698088,154987383.60195073,138629144.54557315,123997445.92627291,4548784254.7832651,459473.15704881464]
[{"$f":"IF(ISBLANK(InfoPro!A105),\"\",InfoPro!A105)","v":"SC_2174_A1"},{"$f":"IF(ISBLANK(InfoPro!B105),\"\",InfoPro!B105)","v":"Nueva Montería Solar I 9,9 MW"},{"$f":"IF(ISBLANK(InfoPro!E105),\"\",InfoPro!E105)","v":9.9},{"$f":"IF(ISBLANK(InfoPro!F105),\"\",InfoPro!F105)","v":"Solar FV"},{"$f":"IF(ISBLANK(InfoPro!I105),\"\",YEAR(InfoPro!I105)-$G$4)","v":2},{"$f":"IF(B112=\"\",\"\",VLOOKUP(D112,Tablas!$B$2:$E$13,2,FALSE))","v":0.26},{"$f":"IF(B112=\"\",\"\",VLOOKUP(D112,Tablas!$B$2:$F$13,5,FALSE))","v":0.15},3382.2360000000003,591014300.52835214,528635331.42070878,472840189.10617959,422933979.52252197,378295151.63016278,338367756.37760544,302654522.69911039,270710664.31047446,242138340.1703707,216581699.61571625,193722450.46128464,173275894.86698088,154987383.60195073,138629144.54557315,123997445.92627291,4548784254.7832651,459473.15704881464]
[{"$f":"IF(ISBLANK(InfoPro!A106),\"\",InfoPro!A106)","v":"SC_2174_A2"},{"$f":"IF(ISBLANK(InfoPro!B106),\"\",InfoPro!B106)","v":"Nueva Montería Solar I 9,9 MW"},{"$f":"IF(ISBLANK(InfoPro!E106),\"\",InfoPro!E106)","v":9.9},{"$f":"IF(ISBLANK(InfoPro!F106),\"\",InfoPro!F106)","v":"Solar FV"},{"$f":"IF(ISBLANK(InfoPro!I106),\"\",YEAR(InfoPro!I106)-$G$4)","v":2},{"$f":"IF(B113=\"\",\"\",VLOOKUP(D113,Tablas!$B$2:$E$13,2,FALSE))","v":0.26},{"$f":"IF(B113=\"\",\"\",VLOOKUP(D113,Tablas!$B$2:$F$13,5,FALSE))","v":0.15},3382.2360000000003,591014300.52835214,528635331.42070878,472840189.10617959,422933979.52252197,378295151.63016278,338367756.37760544,302654522.69911039,270710664.31047446,242138340.1703707,216581699.61571625,193722450.46128464,173275894.86698088,154987383.60195073,138629144.54557315,123997445.92627291,4548784254.7832651,459473.15704881464]
[{"$f":"IF(ISBLANK(InfoPro!A107),\"\",InfoPro!A107)","v":"SC_2016_A1"},{"$f":"IF(ISBLANK(InfoPro!B107),\"\",InfoPro!B107)","v":"Hidalgo Solar 80 MW"},{"$f":"IF(ISBLANK(InfoPro!E107),\"\",InfoPro!E107)","v":80},{"$f":"IF(ISBLANK(InfoPro!F107),\"\",InfoPro!F107)","v":"Solar FV"},{"$f":"IF(ISBLANK(InfoPro!I107),\"\",YEAR(InfoPro!I107)-$G$4)","v":2},{"$f":"IF(B114=\"\",\"\",VLOOKUP(D114,Tablas!$B$2:$E$13,2,FALSE))","v":0.26},{"$f":"IF(B114=\"\",\"\",VLOOKUP(D114,Tablas!$B$2:$F$13,5,FALSE))","v":0.15},27331.199999999997,4775873135.5826435,4271800657.9451203,3820930821.0600362,3417648319.3739152,3056930518.2235374,2734284900.0210533,2445693112.7200837,2187560923.721005,1956673455.9221869,1750155148.4098279,1565433943.1214917,1400209251.4503505,1252423301.833945,1120235511.4793785,1001999563.0405889,36757852563.905159,459473.15704881446]
[{"$f":"IF(ISBLANK(InfoPro!A108),\"\",InfoPro!A108)","v":"SC_2016_A2"},{"$f":"IF(ISBLANK(InfoPro!B108),\"\",InfoPro!B108)","v":"Hidalgo Solar 80 MW"},{"$f":"IF(ISBLANK(InfoPro!E108),\"\",InfoPro!E108)","v":80},{"$f":"IF(ISBLANK(InfoPro!F108),\"\",InfoPro!F108)","v":"Solar FV"},{"$f":"IF(ISBLANK(InfoPro!I108),\"\",YEAR(InfoPro!I108)-$G$4)","v":2},{"$f":"IF(B115=\"\",\"\",VLOOKUP(D115,Tablas!$B$2:$E$13,2,FALSE))","v":0.26},{"$f":"IF(B115=\"\",\"\",VLOOKUP(D115,Tablas!$B$2:$F$13,5,FALSE))","v":0.15},27331.199999999997,4775873135.5826435,4271800657.9451203,3820930821.0600362,3417648319.3739152,3056930518.2235374,2734284900.0210533,2445693112.7200837,2187560923.721005,1956673455.9221869,1750155148.4098279,1565433943.1214917,1400209251.4503505,1252423301.833945,1120235511.4793785,1001999563.0405889,36757852563.905159,459473.15704881446]
[{"$f":"IF(ISBLANK(InfoPro!A109),\"\",InfoPro!A109)","v":"SC_2016_A3"},{"$f":"IF(ISBLANK(InfoPro!B109),\"\",InfoPro!B109)","v":"Hidalgo Solar 80 MW"},{"$f":"IF(ISBLANK(InfoPro!E109),\"\",InfoPro!E109)","v":80},{"$f":"IF(ISBLANK(InfoPro!F109),\"\",InfoPro!F109)","v":"Solar FV"},{"$f":"IF(ISBLANK(InfoPro!I109),\"\",YEAR(InfoPro!I109)-$G$4)","v":2},{"$f":"IF(B116=\"\",\"\",VLOOKUP(D116,Tablas!$B$2:$E$13,2,FALSE))","v":0.26},{"$f":"IF(B116=\"\",\"\",VLOOKUP(D116,Tablas!$B$2:$F$13,5,FALSE))","v":0.15},{"$f":"IF(C116=\"\",\"\",+C116*G116*F116*24*365)","v":27331.199999999997},4775873135.5826435,4271800657.9451203,3820930821.0600362,3417648319.3739152,3056930518.2235374,2734284900.0210533,2445693112.7200837,2187560923.721005,1956673455.9221869,1750155148.4098279,1565433943.1214917,1400209251.4503505,1252423301.833945,1120235511.4793785,1001999563.0405889,{"$f":"IF(W116=\"\",\"\",SUM(I116:W116))","v":36757852563.905159},{"$f":"IF(C116=0,0,IF(X116=\"\",\"\",X116/(C116*1000)))","v":459473.15704881446}]
[{"$f":"IF(ISBLANK(InfoPro!A110),\"\",InfoPro!A110)","v":"SC_2135_A1"},{"$f":"IF(ISBLANK(InfoPro!B110),\"\",InfoPro!B110)","v":"DSE SIERRAFLOR"},{"$f":"IF(ISBLANK(InfoPro!E110),\"\",InfoPro!E110)","v":99.9},{"$f":"IF(ISBLANK(InfoPro!F110),\"\",InfoPro!F110)","v":"Solar FV"},{"$f":"IF(ISBLANK(InfoPro!I110),\"\",YEAR(InfoPro!I110)-$G$4)","v":3},{"$f":"IF(B117=\"\",\"\",VLOOKUP(D117,Tablas!$B$2:$E$13,2,FALSE))","v":0.26},{"$f":"IF(B117=\"\",\"\",VLOOKUP(D117,Tablas!$B$2:$F$13,5,FALSE))","v":0.15},34129.836000000003,5334411071.6089697,4771387362.7987213,4267788338.8181767,3817341984.6316428,3414438268.9012909,3054059274.5092049,2731716703.4966059,2443395978.0828314,2185506241.5767732,1954835636.4729629,1748511302.7486253,1563963598.1651392,1398894094.9598742,1251246954.3469355,1119183322.3138959,41056680133.431656,410977.77911343001]
[{"$f":"IF(ISBLANK(InfoPro!A111),\"\",InfoPro!A111)","v":"SC_2135_A2"},{"$f":"IF(ISBLANK(InfoPro!B111),\"\",InfoPro!B111)","v":"DSE SIERRAFLOR"},{"$f":"IF(ISBLANK(InfoPro!E111),\"\",InfoPro!E111)","v":99.9},{"$f":"IF(ISBLANK(InfoPro!F111),\"\",InfoPro!F111)","v":"Solar FV"},{"$f":"IF(ISBLANK(InfoPro!I111),\"\",YEAR(InfoPro!I111)-$G$4)","v":3},{"$f":"IF(B118=\"\",\"\",VLOOKUP(D118,Tablas!$B$2:$E$13,2,FALSE))","v":0.26},{"$f":"IF(B118=\"\",\"\",VLOOKUP(D118,Tablas!$B$2:$F$13,5,FALSE))","v":0.15},34129.836000000003,5334411071.6089697,4771387362.7987213,4267788338.8181767,3817341984.6316428,3414438268.9012909,3054059274.5092049,2731716703.4966059,2443395978.0828314,2185506241.5767732,1954835636.4729629,1748511302.7486253,1563963598.1651392,1398894094.9598742,1251246954.3469355,1119183322.3138959,41056680133.431656,410977.77911343001]
[{"$f":"IF(ISBLANK(InfoPro!A112),\"\",InfoPro!A112)","v":"SC_1821_A1"},{"$f":"IF(ISBLANK(InfoPro!B112),\"\",InfoPro!B112)","v":"Balay Solar"},{"$f":"IF(ISBLANK(InfoPro!E112),\"\",InfoPro!E112)","v":70},{"$f":"IF(ISBLANK(InfoPro!F112),\"\",InfoPro!F112)","v":"Solar FV"},{"$f":"IF(ISBLANK(InfoPro!I112),\"\",YEAR(InfoPro!I112)-$G$4)","v":4},{"$f":"IF(B119=\"\",\"\",VLOOKUP(D119,Tablas!$B$2:$E$13,2,FALSE))","v":0.26},{"$f":"IF(B119=\"\",\"\",VLOOKUP(D119,Tablas!$B$2:$F$13,5,FALSE))","v":0.15},23914.799999999999,3343314468.4275322,2990442279.4521756,2674814203.4455953,2392499287.5184221,2139981473.6300733,1914115808.2558794,1712089273.9319139,1531385754.8585992,1369754700.2313054,1225183095.0190566,1095870389.104702,980206072.54445624,876749617.66051543,784212538.15788496,701442341.82279515,25732061304.060905,367600.87577229866]
[{"$f":"IF(ISBLANK(InfoPro!A113),\"\",InfoPro!A113)","v":"SC_1821_A2"},{"$f":"IF(ISBLANK(InfoPro!B113),\"\",InfoPro!B113)","v":"Balay Solar"},{"$f":"IF(ISBLANK(InfoPro!E113),\"\",InfoPro!E113)","v":70},{"$f":"IF(ISBLANK(InfoPro!F113),\"\",InfoPro!F113)","v":"Solar FV"},{"$f":"IF(ISBLANK(InfoPro!I113),\"\",YEAR(InfoPro!I113)-$G$4)","v":4},{"$f":"IF(B120=\"\",\"\",VLOOKUP(D120,Tablas!$B$2:$E$13,2,FALSE))","v":0.26},{"$f":"IF(B120=\"\",\"\",VLOOKUP(D120,Tablas!$B$2:$F$13,5,FALSE))","v":0.15},23914.799999999999,3343314468.4275322,2990442279.4521756,2674814203.4455953,2392499287.5184221,2139981473.6300733,1914115808.2558794,1712089273.9319139,1531385754.8585992,1369754700.2313054,1225183095.0190566,1095870389.104702,980206072.54445624,876749617.66051543,784212538.15788496,701442341.82279515,25732061304.060905,367600.87577229866]
[{"$f":"IF(ISBLANK(InfoPro!A114),\"\",InfoPro!A114)","v":"SC_1859_A1"},{"$f":"IF(ISBLANK(InfoPro!B114),\"\",InfoPro!B114)","v":"PV Altamira_99MW"},{"$f":"IF(ISBLANK(InfoPro!E114),\"\",InfoPro!E114)","v":99},{"$f":"IF(ISBLANK(InfoPro!F114),\"\",InfoPro!F114)","v":"Solar FV"},{"$f":"IF(ISBLANK(InfoPro!I114),\"\",YEAR(InfoPro!I114)-$G$4)","v":4},{"$f":"IF(B121=\"\",\"\",VLOOKUP(D121,Tablas!$B$2:$E$13,2,FALSE))","v":0.26},{"$f":"IF(B121=\"\",\"\",VLOOKUP(D121,Tablas!$B$2:$F$13,5,FALSE))","v":0.15},33822.36,4728401891.0617962,4229339795.2252192,3782951516.3016276,3383677563.7760534,3026545226.9911032,2707106643.104744,2421383401.7037067,2165816996.1571622,1937224504.6128461,1732758948.6698091,1549873836.0195074,1386291445.4557314,1239974459.2627289,1109100589.6804373,992039883.43509591,36392486701.457573,367600.87577229872]
[{"$f":"IF(ISBLANK(InfoPro!A115),\"\",InfoPro!A115)","v":"SC_1859_A2"},{"$f":"IF(ISBLANK(InfoPro!B115),\"\",InfoPro!B115)","v":"PV Altamira_99MW"},{"$f":"IF(ISBLANK(InfoPro!E115),\"\",InfoPro!E115)","v":99},{"$f":"IF(ISBLANK(InfoPro!F115),\"\",InfoPro!F115)","v":"Solar FV"},{"$f":"IF(ISBLANK(InfoPro!I115),\"\",YEAR(InfoPro!I115)-$G$4)","v":4},{"$f":"IF(B122=\"\",\"\",VLOOKUP(D122,Tablas!$B$2:$E$13,2,FALSE))","v":0.26},{"$f":"IF(B122=\"\",\"\",VLOOKUP(D122,Tablas!$B$2:$F$13,5,FALSE))","v":0.15},33822.36,4728401891.0617962,4229339795.2252192,3782951516.3016276,3383677563.7760534,3026545226.9911032,2707106643.104744,2421383401.7037067,2165816996.1571622,1937224504.6128461,1732758948.6698091,1549873836.0195074,1386291445.4557314,1239974459.2627289,1109100589.6804373,992039883.43509591,36392486701.457573,367600.87577229872]
[{"$f":"IF(ISBLANK(InfoPro!A116),\"\",InfoPro!A116)","v":"SC_1843_A1"},{"$f":"IF(ISBLANK(InfoPro!B116),\"\",InfoPro!B116)","v":"KOS de 19.9 MW"},{"$f":"IF(ISBLANK(InfoPro!E116),\"\",InfoPro!E116)","v":19.899999999999999},{"$f":"IF(ISBLANK(InfoPro!F116),\"\",InfoPro!F116)","v":"Solar FV"},{"$f":"IF(ISBLANK(InfoPro!I116),\"\",YEAR(InfoPro!I116)-$G$4)","v":2},{"$f":"IF(B123=\"\",\"\",VLOOKUP(D123,Tablas!$B$2:$E$13,2,FALSE))","v":0.26},{"$f":"IF(B123=\"\",\"\",VLOOKUP(D123,Tablas!$B$2:$F$13,5,FALSE))","v":0.15},6798.6360000000004,1187998442.4761827,1062610413.6638488,950456541.73868418,850140019.44426143,760411466.40810502,680153368.8802371,608366161.78912091,544155779.77560008,486722522.16064405,435351093.16694474,389401693.35147113,348302051.29827476,311540296.33119392,278658583.48049545,249247391.30634654,9143515825.27141,459473.15704881458]
[{"$f":"IF(ISBLANK(InfoPro!A117),\"\",InfoPro!A117)","v":"SC_1843_A2"},{"$f":"IF(ISBLANK(InfoPro!B117),\"\",InfoPro!B117)","v":"KOS de 19.9 MW"},{"$f":"IF(ISBLANK(InfoPro!E117),\"\",InfoPro!E117)","v":19.899999999999999},{"$f":"IF(ISBLANK(InfoPro!F117),\"\",InfoPro!F117)","v":"Solar FV"},{"$f":"IF(ISBLANK(InfoPro!I117),\"\",YEAR(InfoPro!I117)-$G$4)","v":2},{"$f":"IF(B124=\"\",\"\",VLOOKUP(D124,Tablas!$B$2:$E$13,2,FALSE))","v":0.26},{"$f":"IF(B124=\"\",\"\",VLOOKUP(D124,Tablas!$B$2:$F$13,5,FALSE))","v":0.15},6798.6360000000004,1187998442.4761827,1062610413.6638488,950456541.73868418,850140019.44426143,760411466.40810502,680153368.8802371,608366161.78912091,544155779.77560008,486722522.16064405,435351093.16694474,389401693.35147113,348302051.29827476,311540296.33119392,278658583.48049545,249247391.30634654,9143515825.27141,459473.15704881458]
[{"$f":"IF(ISBLANK(InfoPro!A118),\"\",InfoPro!A118)","v":"SC_2012_A1"},{"$f":"IF(ISBLANK(InfoPro!B118),\"\",InfoPro!B118)","v":"Parqu Solar Fotovoltaico Rocio del Sol 50 MW"},{"$f":"IF(ISBLANK(InfoPro!E118),\"\",InfoPro!E118)","v":50},{"$f":"IF(ISBLANK(InfoPro!F118),\"\",InfoPro!F118)","v":"Solar FV"},{"$f":"IF(ISBLANK(InfoPro!I118),\"\",YEAR(InfoPro!I118)-$G$4)","v":3},{"$f":"IF(B125=\"\",\"\",VLOOKUP(D125,Tablas!$B$2:$E$13,2,FALSE))","v":0.26},{"$f":"IF(B125=\"\",\"\",VLOOKUP(D125,Tablas!$B$2:$F$13,5,FALSE))","v":0.15},17082,{"$f":"IF($H125=\"\",\"\",(1/(1+$C$4)^(I$7+$E125))*$H125*$I$5*$I$4)","v":2669875411.2157001},2388081763.1625228,2136030199.6086969,1910581573.8897107,1708928062.5131586,1528558195.4500525,1367225577.3256285,1222920909.9513669,1093846967.7561424,978396214.4509325,875130782.15646911,782764563.6462158,700147194.67461169,626249726.90036809,560151812.96991789,20548888955.67149,410977.77911342977]
[{"$f":"IF(ISBLANK(InfoPro!A119),\"\",InfoPro!A119)","v":"SC_2012_A2"},{"$f":"IF(ISBLANK(InfoPro!B119),\"\",InfoPro!B119)","v":"Parqu Solar Fotovoltaico Rocio del Sol 50 MW"},{"$f":"IF(ISBLANK(InfoPro!E119),\"\",InfoPro!E119)","v":50},{"$f":"IF(ISBLANK(InfoPro!F119),\"\",InfoPro!F119)","v":"Solar FV"},{"$f":"IF(ISBLANK(InfoPro!I119),\"\",YEAR(InfoPro!I119)-$G$4)","v":3},{"$f":"IF(B126=\"\",\"\",VLOOKUP(D126,Tablas!$B$2:$E$13,2,FALSE))","v":0.26},{"$f":"IF(B126=\"\",\"\",VLOOKUP(D126,Tablas!$B$2:$F$13,5,FALSE))","v":0.15},17082,2669875411.2157001,2388081763.1625228,2136030199.6086969,1910581573.8897107,1708928062.5131586,1528558195.4500525,1367225577.3256285,1222920909.9513669,1093846967.7561424,978396214.4509325,875130782.15646911,782764563.6462158,700147194.67461169,626249726.90036809,560151812.96991789,20548888955.67149,410977.77911342977]
[{"$f":"IF(ISBLANK(InfoPro!A120),\"\",InfoPro!A120)","v":"SC_1807_A1"},{"$f":"IF(ISBLANK(InfoPro!B120),\"\",InfoPro!B120)","v":"Parque Solar Canis 49,9 MW"},{"$f":"IF(ISBLANK(InfoPro!E120),\"\",InfoPro!E120)","v":49.9},{"$f":"IF(ISBLANK(InfoPro!F120),\"\",InfoPro!F120)","v":"Solar FV"},{"$f":"IF(ISBLANK(InfoPro!I120),\"\",YEAR(InfoPro!I120)-$G$4)","v":2},{"$f":"IF(B127=\"\",\"\",VLOOKUP(D127,Tablas!$B$2:$E$13,2,FALSE))","v":0.26},{"$f":"IF(B127=\"\",\"\",VLOOKUP(D127,Tablas!$B$2:$F$13,5,FALSE))","v":0.15},17047.835999999999,2978950868.319674,2664535660.3932691,2383305599.6361976,2131758139.2094793,1906760410.7419314,1705510206.3881321,1525501079.0591521,1364491126.1709771,1220475068.131464,1091659273.8206301,976439422.02203047,873380520.59215617,781199034.51892328,698746900.28526247,624997227.4465673,22927710536.735847,459473.15704881458]
[{"$f":"IF(ISBLANK(InfoPro!A121),\"\",InfoPro!A121)","v":"SC_1807_A2"},{"$f":"IF(ISBLANK(InfoPro!B121),\"\",InfoPro!B121)","v":"Parque Solar Canis 49,9 MW"},{"$f":"IF(ISBLANK(InfoPro!E121),\"\",InfoPro!E121)","v":49.9},{"$f":"IF(ISBLANK(InfoPro!F121),\"\",InfoPro!F121)","v":"Solar FV"},{"$f":"IF(ISBLANK(InfoPro!I121),\"\",YEAR(InfoPro!I121)-$G$4)","v":2},{"$f":"IF(B128=\"\",\"\",VLOOKUP(D128,Tablas!$B$2:$E$13,2,FALSE))","v":0.26},{"$f":"IF(B128=\"\",\"\",VLOOKUP(D128,Tablas!$B$2:$F$13,5,FALSE))","v":0.15},17047.835999999999,2978950868.319674,2664535660.3932691,2383305599.6361976,2131758139.2094793,1906760410.7419314,1705510206.3881321,1525501079.0591521,1364491126.1709771,1220475068.131464,1091659273.8206301,976439422.02203047,873380520.59215617,781199034.51892328,698746900.28526247,624997227.4465673,22927710536.735847,459473.15704881458]
[{"$f":"IF(ISBLANK(InfoPro!A122),\"\",InfoPro!A122)","v":"SC_1918_A1"},{"$f":"IF(ISBLANK(InfoPro!B122),\"\",InfoPro!B122)","v":"Casiopea 40 MW"},{"$f":"IF(ISBLANK(InfoPro!E122),\"\",InfoPro!E122)","v":40},{"$f":"IF(ISBLANK(InfoPro!F122),\"\",InfoPro!F122)","v":"Solar FV"},{"$f":"IF(ISBLANK(InfoPro!I122),\"\",YEAR(InfoPro!I122)-$G$4)","v":2},{"$f":"IF(B129=\"\",\"\",VLOOKUP(D129,Tablas!$B$2:$E$13,2,FALSE))","v":0.26},{"$f":"IF(B129=\"\",\"\",VLOOKUP(D129,Tablas!$B$2:$F$13,5,FALSE))","v":0.15},13665.599999999999,2387936567.7913218,2135900328.9725602,1910465410.5300181,1708824159.6869576,1528465259.1117687,1367142450.0105267,1222846556.3600419,1093780461.8605025,978336727.96109343,875077574.20491397,782716971.56074584,700104625.72517526,626211650.91697252,560117755.73968923,500999781.52029443,18378926281.952579,459473.15704881446]
[{"$f":"IF(ISBLANK(InfoPro!A123),\"\",InfoPro!A123)","v":"SC_1918_A2"},{"$f":"IF(ISBLANK(InfoPro!B123),\"\",InfoPro!B123)","v":"Casiopea 40 MW"},{"$f":"IF(ISBLANK(InfoPro!E123),\"\",InfoPro!E123)","v":40},{"$f":"IF(ISBLANK(InfoPro!F123),\"\",InfoPro!F123)","v":"Solar FV"},{"$f":"IF(ISBLANK(InfoPro!I123),\"\",YEAR(InfoPro!I123)-$G$4)","v":2},{"$f":"IF(B130=\"\",\"\",VLOOKUP(D130,Tablas!$B$2:$E$13,2,FALSE))","v":0.26},{"$f":"IF(B130=\"\",\"\",VLOOKUP(D130,Tablas!$B$2:$F$13,5,FALSE))","v":0.15},13665.599999999999,2387936567.7913218,2135900328.9725602,1910465410.5300181,1708824159.6869576,1528465259.1117687,1367142450.0105267,1222846556.3600419,1093780461.8605025,978336727.96109343,875077574.20491397,782716971.56074584,700104625.72517526,626211650.91697252,560117755.73968923,500999781.52029443,18378926281.952579,459473.15704881446]
[{"$f":"IF(ISBLANK(InfoPro!A124),\"\",InfoPro!A124)","v":"SC_1813_A1"},{"$f":"IF(ISBLANK(InfoPro!B124),\"\",InfoPro!B124)","v":"Parque de generación Cefeo"},{"$f":"IF(ISBLANK(InfoPro!E124),\"\",InfoPro!E124)","v":19.899999999999999},{"$f":"IF(ISBLANK(InfoPro!F124),\"\",InfoPro!F124)","v":"Solar FV"},{"$f":"IF(ISBLANK(InfoPro!I124),\"\",YEAR(InfoPro!I124)-$G$4)","v":2},{"$f":"IF(B131=\"\",\"\",VLOOKUP(D131,Tablas!$B$2:$E$13,2,FALSE))","v":0.26},{"$f":"IF(B131=\"\",\"\",VLOOKUP(D131,Tablas!$B$2:$F$13,5,FALSE))","v":0.15},6798.6360000000004,1187998442.4761827,1062610413.6638488,950456541.73868418,850140019.44426143,760411466.40810502,680153368.8802371,608366161.78912091,544155779.77560008,486722522.16064405,435351093.16694474,389401693.35147113,348302051.29827476,311540296.33119392,278658583.48049545,249247391.30634654,9143515825.27141,459473.15704881458]
[{"$f":"IF(ISBLANK(InfoPro!A125),\"\",InfoPro!A125)","v":"SC_1813_A2"},{"$f":"IF(ISBLANK(InfoPro!B125),\"\",InfoPro!B125)","v":"Parque de generación Cefeo"},{"$f":"IF(ISBLANK(InfoPro!E125),\"\",InfoPro!E125)","v":19.899999999999999},{"$f":"IF(ISBLANK(InfoPro!F125),\"\",InfoPro!F125)","v":"Solar FV"},{"$f":"IF(ISBLANK(InfoPro!I125),\"\",YEAR(InfoPro!I125)-$G$4)","v":2},{"$f":"IF(B132=\"\",\"\",VLOOKUP(D132,Tablas!$B$2:$E$13,2,FALSE))","v":0.26},{"$f":"IF(B132=\"\",\"\",VLOOKUP(D132,Tablas!$B$2:$F$13,5,FALSE))","v":0.15},6798.6360000000004,1187998442.4761827,1062610413.6638488,950456541.73868418,850140019.44426143,760411466.40810502,680153368.8802371,608366161.78912091,544155779.77560008,486722522.16064405,435351093.16694474,389401693.35147113,348302051.29827476,311540296.33119392,278658583.48049545,249247391.30634654,9143515825.27141,459473.15704881458]
[{"$f":"IF(ISBLANK(InfoPro!A126),\"\",InfoPro!A126)","v":"SC_1949_A1"},{"$f":"IF(ISBLANK(InfoPro!B126),\"\",InfoPro!B126)","v":"Solar Planeta Rica"},{"$f":"IF(ISBLANK(InfoPro!E126),\"\",InfoPro!E126)","v":19.899999999999999},{"$f":"IF(ISBLANK(InfoPro!F126),\"\",InfoPro!F126)","v":"Solar FV"},{"$f":"IF(ISBLANK(InfoPro!I126),\"\",YEAR(InfoPro!I126)-$G$4)","v":3},{"$f":"IF(B133=\"\",\"\",VLOOKUP(D133,Tablas!$B$2:$E$13,2,FALSE))","v":0.26},{"$f":"IF(B133=\"\",\"\",VLOOKUP(D133,Tablas!$B$2:$F$13,5,FALSE))","v":0.15},6798.6360000000004,1062610413.6638488,950456541.73868418,850140019.44426143,760411466.40810502,680153368.8802371,608366161.78912091,544155779.77560008,486722522.16064405,435351093.16694474,389401693.35147113,348302051.29827476,311540296.33119392,278658583.48049545,249247391.30634654,222940421.56202731,8178457804.3572559,410977.77911342995]
[{"$f":"IF(ISBLANK(InfoPro!A127),\"\",InfoPro!A127)","v":"SC_1949_A2"},{"$f":"IF(ISBLANK(InfoPro!B127),\"\",InfoPro!B127)","v":"Solar Planeta Rica"},{"$f":"IF(ISBLANK(InfoPro!E127),\"\",InfoPro!E127)","v":19.899999999999999},{"$f":"IF(ISBLANK(InfoPro!F127),\"\",InfoPro!F127)","v":"Solar FV"},{"$f":"IF(ISBLANK(InfoPro!I127),\"\",YEAR(InfoPro!I127)-$G$4)","v":3},{"$f":"IF(B134=\"\",\"\",VLOOKUP(D134,Tablas!$B$2:$E$13,2,FALSE))","v":0.26},{"$f":"IF(B134=\"\",\"\",VLOOKUP(D134,Tablas!$B$2:$F$13,5,FALSE))","v":0.15},6798.6360000000004,1062610413.6638488,950456541.73868418,850140019.44426143,760411466.40810502,680153368.8802371,608366161.78912091,544155779.77560008,486722522.16064405,435351093.16694474,389401693.35147113,348302051.29827476,311540296.33119392,278658583.48049545,249247391.30634654,222940421.56202731,8178457804.3572559,410977.77911342995]
[{"$f":"IF(ISBLANK(InfoPro!A128),\"\",InfoPro!A128)","v":"SC_1970_A1"},{"$f":"IF(ISBLANK(InfoPro!B128),\"\",InfoPro!B128)","v":"Parque Solar Montería"},{"$f":"IF(ISBLANK(InfoPro!E128),\"\",InfoPro!E128)","v":99},{"$f":"IF(ISBLANK(InfoPro!F128),\"\",InfoPro!F128)","v":"Solar FV"},{"$f":"IF(ISBLANK(InfoPro!I128),\"\",YEAR(InfoPro!I128)-$G$4)","v":3},{"$f":"IF(B135=\"\",\"\",VLOOKUP(D135,Tablas!$B$2:$E$13,2,FALSE))","v":0.26},{"$f":"IF(B135=\"\",\"\",VLOOKUP(D135,Tablas!$B$2:$F$13,5,FALSE))","v":0.15},33822.36,5286353314.2070875,4728401891.0617962,4229339795.2252192,3782951516.3016276,3383677563.7760534,3026545226.9911032,2707106643.104744,2421383401.7037067,2165816996.1571622,1937224504.6128461,1732758948.6698091,1549873836.0195074,1386291445.4557314,1239974459.2627289,1109100589.6804373,40686800132.229561,410977.77911342989]
[{"$f":"IF(ISBLANK(InfoPro!A129),\"\",InfoPro!A129)","v":"SC_1970_A2"},{"$f":"IF(ISBLANK(InfoPro!B129),\"\",InfoPro!B129)","v":"Parque Solar Montería"},{"$f":"IF(ISBLANK(InfoPro!E129),\"\",InfoPro!E129)","v":99},{"$f":"IF(ISBLANK(InfoPro!F129),\"\",InfoPro!F129)","v":"Solar FV"},{"$f":"IF(ISBLANK(InfoPro!I129),\"\",YEAR(InfoPro!I129)-$G$4)","v":3},{"$f":"IF(B136=\"\",\"\",VLOOKUP(D136,Tablas!$B$2:$E$13,2,FALSE))","v":0.26},{"$f":"IF(B136=\"\",\"\",VLOOKUP(D136,Tablas!$B$2:$F$13,5,FALSE))","v":0.15},33822.36,5286353314.2070875,4728401891.0617962,4229339795.2252192,3782951516.3016276,3383677563.7760534,3026545226.9911032,2707106643.104744,2421383401.7037067,2165816996.1571622,1937224504.6128461,1732758948.6698091,1549873836.0195074,1386291445.4557314,1239974459.2627289,1109100589.6804373,40686800132.229561,410977.77911342989]
[{"$f":"IF(ISBLANK(InfoPro!A130),\"\",InfoPro!A130)","v":"SC_2072_A1"},{"$f":"IF(ISBLANK(InfoPro!B130),\"\",InfoPro!B130)","v":"Porvenir - 9.9 MW"},{"$f":"IF(ISBLANK(InfoPro!E130),\"\",InfoPro!E130)","v":9.9},{"$f":"IF(ISBLANK(InfoPro!F130),\"\",InfoPro!F130)","v":"Solar FV"},{"$f":"IF(ISBLANK(InfoPro!I130),\"\",YEAR(InfoPro!I130)-$G$4)","v":2},{"$f":"IF(B137=\"\",\"\",VLOOKUP(D137,Tablas!$B$2:$E$13,2,FALSE))","v":0.26},{"$f":"IF(B137=\"\",\"\",VLOOKUP(D137,Tablas!$B$2:$F$13,5,FALSE))","v":0.15},3382.2360000000003,591014300.52835214,528635331.42070878,472840189.10617959,422933979.52252197,378295151.63016278,338367756.37760544,302654522.69911039,270710664.31047446,242138340.1703707,216581699.61571625,193722450.46128464,173275894.86698088,154987383.60195073,138629144.54557315,123997445.92627291,4548784254.7832651,459473.15704881464]
[{"$f":"IF(ISBLANK(InfoPro!A131),\"\",InfoPro!A131)","v":"SC_2204_A1"},{"$f":"IF(ISBLANK(InfoPro!B131),\"\",InfoPro!B131)","v":"Parque Solar Ciénaga Grande - 19.9 MW"},{"$f":"IF(ISBLANK(InfoPro!E131),\"\",InfoPro!E131)","v":19.899999999999999},{"$f":"IF(ISBLANK(InfoPro!F131),\"\",InfoPro!F131)","v":"Solar FV"},{"$f":"IF(ISBLANK(InfoPro!I131),\"\",YEAR(InfoPro!I131)-$G$4)","v":2},{"$f":"IF(B138=\"\",\"\",VLOOKUP(D138,Tablas!$B$2:$E$13,2,FALSE))","v":0.26},{"$f":"IF(B138=\"\",\"\",VLOOKUP(D138,Tablas!$B$2:$F$13,5,FALSE))","v":0.15},6798.6360000000004,1187998442.4761827,1062610413.6638488,950456541.73868418,850140019.44426143,760411466.40810502,680153368.8802371,608366161.78912091,544155779.77560008,486722522.16064405,435351093.16694474,389401693.35147113,348302051.29827476,311540296.33119392,278658583.48049545,249247391.30634654,9143515825.27141,459473.15704881458]
[{"$f":"IF(ISBLANK(InfoPro!A132),\"\",InfoPro!A132)","v":"SC_2204_A2"},{"$f":"IF(ISBLANK(InfoPro!B132),\"\",InfoPro!B132)","v":"Parque Solar Ciénaga Grande - 19.9 MW"},{"$f":"IF(ISBLANK(InfoPro!E132),\"\",InfoPro!E132)","v":19.899999999999999},{"$f":"IF(ISBLANK(InfoPro!F132),\"\",InfoPro!F132)","v":"Solar FV"},{"$f":"IF(ISBLANK(InfoPro!I132),\"\",YEAR(InfoPro!I132)-$G$4)","v":2},{"$f":"IF(B139=\"\",\"\",VLOOKUP(D139,Tablas!$B$2:$E$13,2,FALSE))","v":0.26},{"$f":"IF(B139=\"\",\"\",VLOOKUP(D139,Tablas!$B$2:$F$13,5,FALSE))","v":0.15},6798.6360000000004,1187998442.4761827,1062610413.6638488,950456541.73868418,850140019.44426143,760411466.40810502,680153368.8802371,608366161.78912091,544155779.77560008,486722522.16064405,435351093.16694474,389401693.35147113,348302051.29827476,311540296.33119392,278658583.48049545,249247391.30634654,9143515825.27141,459473.15704881458]
[{"$f":"IF(ISBLANK(InfoPro!A133),\"\",InfoPro!A133)","v":"SC_2166_A1"},{"$f":"IF(ISBLANK(InfoPro!B133),\"\",InfoPro!B133)","v":"Parque fotovoltaico Delphinus"},{"$f":"IF(ISBLANK(InfoPro!E133),\"\",InfoPro!E133)","v":19.899999999999999},{"$f":"IF(ISBLANK(InfoPro!F133),\"\",InfoPro!F133)","v":"Solar FV"},{"$f":"IF(ISBLANK(InfoPro!I133),\"\",YEAR(InfoPro!I133)-$G$4)","v":2},{"$f":"IF(B140=\"\",\"\",VLOOKUP(D140,Tablas!$B$2:$E$13,2,FALSE))","v":0.26},{"$f":"IF(B140=\"\",\"\",VLOOKUP(D140,Tablas!$B$2:$F$13,5,FALSE))","v":0.15},6798.6360000000004,1187998442.4761827,1062610413.6638488,950456541.73868418,850140019.44426143,760411466.40810502,680153368.8802371,608366161.78912091,544155779.77560008,486722522.16064405,435351093.16694474,389401693.35147113,348302051.29827476,311540296.33119392,278658583.48049545,249247391.30634654,9143515825.27141,459473.15704881458]
[{"$f":"IF(ISBLANK(InfoPro!A134),\"\",InfoPro!A134)","v":"SC_2166_A2"},{"$f":"IF(ISBLANK(InfoPro!B134),\"\",InfoPro!B134)","v":"Parque fotovoltaico Delphinus"},{"$f":"IF(ISBLANK(InfoPro!E134),\"\",InfoPro!E134)","v":19.899999999999999},{"$f":"IF(ISBLANK(InfoPro!F134),\"\",InfoPro!F134)","v":"Solar FV"},{"$f":"IF(ISBLANK(InfoPro!I134),\"\",YEAR(InfoPro!I134)-$G$4)","v":2},{"$f":"IF(B141=\"\",\"\",VLOOKUP(D141,Tablas!$B$2:$E$13,2,FALSE))","v":0.26},{"$f":"IF(B141=\"\",\"\",VLOOKUP(D141,Tablas!$B$2:$F$13,5,FALSE))","v":0.15},6798.6360000000004,1187998442.4761827,1062610413.6638488,950456541.73868418,850140019.44426143,760411466.40810502,680153368.8802371,608366161.78912091,544155779.77560008,486722522.16064405,435351093.16694474,389401693.35147113,348302051.29827476,311540296.33119392,278658583.48049545,249247391.30634654,9143515825.27141,459473.15704881458]
[{"$f":"IF(ISBLANK(InfoPro!A135),\"\",InfoPro!A135)","v":"SC_1923_A1"},{"$f":"IF(ISBLANK(InfoPro!B135),\"\",InfoPro!B135)","v":"Parque Solar Fotovoltaico Chunú I 50 MW"},{"$f":"IF(ISBLANK(InfoPro!E135),\"\",InfoPro!E135)","v":50},{"$f":"IF(ISBLANK(InfoPro!F135),\"\",InfoPro!F135)","v":"Solar FV"},{"$f":"IF(ISBLANK(InfoPro!I135),\"\",YEAR(InfoPro!I135)-$G$4)","v":4},{"$f":"IF(B142=\"\",\"\",VLOOKUP(D142,Tablas!$B$2:$E$13,2,FALSE))","v":0.26},{"$f":"IF(B142=\"\",\"\",VLOOKUP(D142,Tablas!$B$2:$F$13,5,FALSE))","v":0.15},17082,{"$f":"IF($H142=\"\",\"\",(1/(1+$C$4)^(I$7+$E142))*$H142*$I$5*$I$4)","v":2388081763.1625228},2136030199.6086969,1910581573.8897107,1708928062.5131586,1528558195.4500525,1367225577.3256285,1222920909.9513669,1093846967.7561424,978396214.4509325,875130782.15646911,782764563.6462158,700147194.67461169,626249726.90036809,560151812.96991789,501030244.15913939,18380043788.614933,367600.87577229866]
[{"$f":"IF(ISBLANK(InfoPro!A136),\"\",InfoPro!A136)","v":"SC_1923_A2"},{"$f":"IF(ISBLANK(InfoPro!B136),\"\",InfoPro!B136)","v":"Parque Solar Fotovoltaico Chunú I 50 MW"},{"$f":"IF(ISBLANK(InfoPro!E136),\"\",InfoPro!E136)","v":50},{"$f":"IF(ISBLANK(InfoPro!F136),\"\",InfoPro!F136)","v":"Solar FV"},{"$f":"IF(ISBLANK(InfoPro!I136),\"\",YEAR(InfoPro!I136)-$G$4)","v":4},{"$f":"IF(B143=\"\",\"\",VLOOKUP(D143,Tablas!$B$2:$E$13,2,FALSE))","v":0.26},{"$f":"IF(B143=\"\",\"\",VLOOKUP(D143,Tablas!$B$2:$F$13,5,FALSE))","v":0.15},17082,2388081763.1625228,2136030199.6086969,1910581573.8897107,1708928062.5131586,1528558195.4500525,1367225577.3256285,1222920909.9513669,1093846967.7561424,978396214.4509325,875130782.15646911,782764563.6462158,700147194.67461169,626249726.90036809,560151812.96991789,501030244.15913939,18380043788.614933,367600.87577229866]
[{"$f":"IF(ISBLANK(InfoPro!A137),\"\",InfoPro!A137)","v":"SC_1937_A1"},{"$f":"IF(ISBLANK(InfoPro!B137),\"\",InfoPro!B137)","v":"Parque Solar Fotovoltaico ChInú II 50 MW"},{"$f":"IF(ISBLANK(InfoPro!E137),\"\",InfoPro!E137)","v":50},{"$f":"IF(ISBLANK(InfoPro!F137),\"\",InfoPro!F137)","v":"Solar FV"},{"$f":"IF(ISBLANK(InfoPro!I137),\"\",YEAR(InfoPro!I137)-$G$4)","v":4},{"$f":"IF(B144=\"\",\"\",VLOOKUP(D144,Tablas!$B$2:$E$13,2,FALSE))","v":0.26},{"$f":"IF(B144=\"\",\"\",VLOOKUP(D144,Tablas!$B$2:$F$13,5,FALSE))","v":0.15},17082,2388081763.1625228,2136030199.6086969,1910581573.8897107,1708928062.5131586,1528558195.4500525,1367225577.3256285,1222920909.9513669,1093846967.7561424,978396214.4509325,875130782.15646911,782764563.6462158,700147194.67461169,626249726.90036809,560151812.96991789,501030244.15913939,18380043788.614933,367600.87577229866]
[{"$f":"IF(ISBLANK(InfoPro!A138),\"\",InfoPro!A138)","v":"SC_1937_A2"},{"$f":"IF(ISBLANK(InfoPro!B138),\"\",InfoPro!B138)","v":"Parque Solar Fotovoltaico ChInú II 50 MW"},{"$f":"IF(ISBLANK(InfoPro!E138),\"\",InfoPro!E138)","v":50},{"$f":"IF(ISBLANK(InfoPro!F138),\"\",InfoPro!F138)","v":"Solar FV"},{"$f":"IF(ISBLANK(InfoPro!I138),\"\",YEAR(InfoPro!I138)-$G$4)","v":4},{"$f":"IF(B145=\"\",\"\",VLOOKUP(D145,Tablas!$B$2:$E$13,2,FALSE))","v":0.26},{"$f":"IF(B145=\"\",\"\",VLOOKUP(D145,Tablas!$B$2:$F$13,5,FALSE))","v":0.15},17082,2388081763.1625228,2136030199.6086969,1910581573.8897107,1708928062.5131586,1528558195.4500525,1367225577.3256285,1222920909.9513669,1093846967.7561424,978396214.4509325,875130782.15646911,782764563.6462158,700147194.67461169,626249726.90036809,560151812.96991789,501030244.15913939,18380043788.614933,367600.87577229866]
[{"$f":"IF(ISBLANK(InfoPro!A139),\"\",InfoPro!A139)","v":"SC_1810_A1"},{"$f":"IF(ISBLANK(InfoPro!B139),\"\",InfoPro!B139)","v":"Parque Solar Coveñas 50 MW"},{"$f":"IF(ISBLANK(InfoPro!E139),\"\",InfoPro!E139)","v":50},{"$f":"IF(ISBLANK(InfoPro!F139),\"\",InfoPro!F139)","v":"Solar FV"},{"$f":"IF(ISBLANK(InfoPro!I139),\"\",YEAR(InfoPro!I139)-$G$4)","v":4},{"$f":"IF(B146=\"\",\"\",VLOOKUP(D146,Tablas!$B$2:$E$13,2,FALSE))","v":0.26},{"$f":"IF(B146=\"\",\"\",VLOOKUP(D146,Tablas!$B$2:$F$13,5,FALSE))","v":0.15},17082,2388081763.1625228,2136030199.6086969,1910581573.8897107,1708928062.5131586,1528558195.4500525,1367225577.3256285,1222920909.9513669,1093846967.7561424,978396214.4509325,875130782.15646911,782764563.6462158,700147194.67461169,626249726.90036809,560151812.96991789,501030244.15913939,18380043788.614933,367600.87577229866]
[{"$f":"IF(ISBLANK(InfoPro!A140),\"\",InfoPro!A140)","v":"SC_1810_A2"},{"$f":"IF(ISBLANK(InfoPro!B140),\"\",InfoPro!B140)","v":"Parque Solar Coveñas 50 MW"},{"$f":"IF(ISBLANK(InfoPro!E140),\"\",InfoPro!E140)","v":50},{"$f":"IF(ISBLANK(InfoPro!F140),\"\",InfoPro!F140)","v":"Solar FV"},{"$f":"IF(ISBLANK(InfoPro!I140),\"\",YEAR(InfoPro!I140)-$G$4)","v":4},{"$f":"IF(B147=\"\",\"\",VLOOKUP(D147,Tablas!$B$2:$E$13,2,FALSE))","v":0.26},{"$f":"IF(B147=\"\",\"\",VLOOKUP(D147,Tablas!$B$2:$F$13,5,FALSE))","v":0.15},17082,2388081763.1625228,2136030199.6086969,1910581573.8897107,1708928062.5131586,1528558195.4500525,1367225577.3256285,1222920909.9513669,1093846967.7561424,978396214.4509325,875130782.15646911,782764563.6462158,700147194.67461169,626249726.90036809,560151812.96991789,501030244.15913939,18380043788.614933,367600.87577229866]
[{"$f":"IF(ISBLANK(InfoPro!A141),\"\",InfoPro!A141)","v":"SC_1835_A1"},{"$f":"IF(ISBLANK(InfoPro!B141),\"\",InfoPro!B141)","v":"Parque Solar Coveñas II 50 MW"},{"$f":"IF(ISBLANK(InfoPro!E141),\"\",InfoPro!E141)","v":50},{"$f":"IF(ISBLANK(InfoPro!F141),\"\",InfoPro!F141)","v":"Solar FV"},{"$f":"IF(ISBLANK(InfoPro!I141),\"\",YEAR(InfoPro!I141)-$G$4)","v":4},{"$f":"IF(B148=\"\",\"\",VLOOKUP(D148,Tablas!$B$2:$E$13,2,FALSE))","v":0.26},{"$f":"IF(B148=\"\",\"\",VLOOKUP(D148,Tablas!$B$2:$F$13,5,FALSE))","v":0.15},17082,2388081763.1625228,2136030199.6086969,1910581573.8897107,1708928062.5131586,1528558195.4500525,1367225577.3256285,1222920909.9513669,1093846967.7561424,978396214.4509325,875130782.15646911,782764563.6462158,700147194.67461169,626249726.90036809,560151812.96991789,501030244.15913939,18380043788.614933,367600.87577229866]
[{"$f":"IF(ISBLANK(InfoPro!A142),\"\",InfoPro!A142)","v":"SC_1835_A2"},{"$f":"IF(ISBLANK(InfoPro!B142),\"\",InfoPro!B142)","v":"Parque Solar Coveñas II 50 MW"},{"$f":"IF(ISBLANK(InfoPro!E142),\"\",InfoPro!E142)","v":50},{"$f":"IF(ISBLANK(InfoPro!F142),\"\",InfoPro!F142)","v":"Solar FV"},{"$f":"IF(ISBLANK(InfoPro!I142),\"\",YEAR(InfoPro!I142)-$G$4)","v":4},{"$f":"IF(B149=\"\",\"\",VLOOKUP(D149,Tablas!$B$2:$E$13,2,FALSE))","v":0.26},{"$f":"IF(B149=\"\",\"\",VLOOKUP(D149,Tablas!$B$2:$F$13,5,FALSE))","v":0.15},17082,2388081763.1625228,2136030199.6086969,1910581573.8897107,1708928062.5131586,1528558195.4500525,1367225577.3256285,1222920909.9513669,1093846967.7561424,978396214.4509325,875130782.15646911,782764563.6462158,700147194.67461169,626249726.90036809,560151812.96991789,501030244.15913939,18380043788.614933,367600.87577229866]
[{"$f":"IF(ISBLANK(InfoPro!A143),\"\",InfoPro!A143)","v":"SC_1873_A1"},{"$f":"IF(ISBLANK(InfoPro!B143),\"\",InfoPro!B143)","v":"Cusumbo Solar"},{"$f":"IF(ISBLANK(InfoPro!E143),\"\",InfoPro!E143)","v":99.9},{"$f":"IF(ISBLANK(InfoPro!F143),\"\",InfoPro!F143)","v":"Solar FV"},{"$f":"IF(ISBLANK(InfoPro!I143),\"\",YEAR(InfoPro!I143)-$G$4)","v":3},{"$f":"IF(B150=\"\",\"\",VLOOKUP(D150,Tablas!$B$2:$E$13,2,FALSE))","v":0.26},{"$f":"IF(B150=\"\",\"\",VLOOKUP(D150,Tablas!$B$2:$F$13,5,FALSE))","v":0.15},34129.836000000003,5334411071.6089697,4771387362.7987213,4267788338.8181767,3817341984.6316428,3414438268.9012909,3054059274.5092049,2731716703.4966059,2443395978.0828314,2185506241.5767732,1954835636.4729629,1748511302.7486253,1563963598.1651392,1398894094.9598742,1251246954.3469355,1119183322.3138959,41056680133.431656,410977.77911343001]
[{"$f":"IF(ISBLANK(InfoPro!A144),\"\",InfoPro!A144)","v":"SC_1873_A2"},{"$f":"IF(ISBLANK(InfoPro!B144),\"\",InfoPro!B144)","v":"Cusumbo Solar"},{"$f":"IF(ISBLANK(InfoPro!E144),\"\",InfoPro!E144)","v":99.9},{"$f":"IF(ISBLANK(InfoPro!F144),\"\",InfoPro!F144)","v":"Solar FV"},{"$f":"IF(ISBLANK(InfoPro!I144),\"\",YEAR(InfoPro!I144)-$G$4)","v":3},{"$f":"IF(B151=\"\",\"\",VLOOKUP(D151,Tablas!$B$2:$E$13,2,FALSE))","v":0.26},{"$f":"IF(B151=\"\",\"\",VLOOKUP(D151,Tablas!$B$2:$F$13,5,FALSE))","v":0.15},34129.836000000003,5334411071.6089697,4771387362.7987213,4267788338.8181767,3817341984.6316428,3414438268.9012909,3054059274.5092049,2731716703.4966059,2443395978.0828314,2185506241.5767732,1954835636.4729629,1748511302.7486253,1563963598.1651392,1398894094.9598742,1251246954.3469355,1119183322.3138959,41056680133.431656,410977.77911343001]
[{"$f":"IF(ISBLANK(InfoPro!A145),\"\",InfoPro!A145)","v":"SC_2067_A1"},{"$f":"IF(ISBLANK(InfoPro!B145),\"\",InfoPro!B145)","v":"TIERRALTA 70 MW"},{"$f":"IF(ISBLANK(InfoPro!E145),\"\",InfoPro!E145)","v":70},{"$f":"IF(ISBLANK(InfoPro!F145),\"\",InfoPro!F145)","v":"Solar FV"},{"$f":"IF(ISBLANK(InfoPro!I145),\"\",YEAR(InfoPro!I145)-$G$4)","v":4},{"$f":"IF(B152=\"\",\"\",VLOOKUP(D152,Tablas!$B$2:$E$13,2,FALSE))","v":0.26},{"$f":"IF(B152=\"\",\"\",VLOOKUP(D152,Tablas!$B$2:$F$13,5,FALSE))","v":0.15},{"$f":"IF(C152=\"\",\"\",+C152*G152*F152*24*365)","v":23914.799999999999},3343314468.4275322,2990442279.4521756,2674814203.4455953,2392499287.5184221,2139981473.6300733,1914115808.2558794,1712089273.9319139,1531385754.8585992,1369754700.2313054,1225183095.0190566,1095870389.104702,980206072.54445624,876749617.66051543,784212538.15788496,701442341.82279515,{"$f":"IF(W152=\"\",\"\",SUM(I152:W152))","v":25732061304.060905},{"$f":"IF(C152=0,0,IF(X152=\"\",\"\",X152/(C152*1000)))","v":367600.87577229866}]
[{"$f":"IF(ISBLANK(InfoPro!A146),\"\",InfoPro!A146)","v":"SC_2067_A2"},{"$f":"IF(ISBLANK(InfoPro!B146),\"\",InfoPro!B146)","v":"TIERRALTA 70 MW"},{"$f":"IF(ISBLANK(InfoPro!E146),\"\",InfoPro!E146)","v":70},{"$f":"IF(ISBLANK(InfoPro!F146),\"\",InfoPro!F146)","v":"Solar FV"},{"$f":"IF(ISBLANK(InfoPro!I146),\"\",YEAR(InfoPro!I146)-$G$4)","v":4},{"$f":"IF(B153=\"\",\"\",VLOOKUP(D153,Tablas!$B$2:$E$13,2,FALSE))","v":0.26},{"$f":"IF(B153=\"\",\"\",VLOOKUP(D153,Tablas!$B$2:$F$13,5,FALSE))","v":0.15},23914.799999999999,3343314468.4275322,2990442279.4521756,2674814203.4455953,2392499287.5184221,2139981473.6300733,1914115808.2558794,1712089273.9319139,1531385754.8585992,1369754700.2313054,1225183095.0190566,1095870389.104702,980206072.54445624,876749617.66051543,784212538.15788496,701442341.82279515,25732061304.060905,367600.87577229866]
[{"$f":"IF(ISBLANK(InfoPro!A147),\"\",InfoPro!A147)","v":"SC_1942_A1"},{"$f":"IF(ISBLANK(InfoPro!B147),\"\",InfoPro!B147)","v":"San Jorge Fotovoltaico 135 MW"},{"$f":"IF(ISBLANK(InfoPro!E147),\"\",InfoPro!E147)","v":135},{"$f":"IF(ISBLANK(InfoPro!F147),\"\",InfoPro!F147)","v":"Solar FV"},{"$f":"IF(ISBLANK(InfoPro!I147),\"\",YEAR(InfoPro!I147)-$G$4)","v":2},{"$f":"IF(B154=\"\",\"\",VLOOKUP(D154,Tablas!$B$2:$E$13,2,FALSE))","v":0.26},{"$f":"IF(B154=\"\",\"\",VLOOKUP(D154,Tablas!$B$2:$F$13,5,FALSE))","v":0.15},46121.4,8059285916.2957115,7208663610.2823915,6447820760.5388126,5767281538.9434814,5158570249.5022202,4614105768.7855282,4127107127.7151413,3691509058.7791967,3301886456.8686905,2953386812.9415851,2641669779.017518,2362853111.8224669,2113464321.8447828,1890397425.6214516,1690874262.6309938,62028876201.589966,459473.15704881458]
[{"$f":"IF(ISBLANK(InfoPro!A148),\"\",InfoPro!A148)","v":"SC_1942_A2"},{"$f":"IF(ISBLANK(InfoPro!B148),\"\",InfoPro!B148)","v":"San Jorge Fotovoltaico 135 MW"},{"$f":"IF(ISBLANK(InfoPro!E148),\"\",InfoPro!E148)","v":135},{"$f":"IF(ISBLANK(InfoPro!F148),\"\",InfoPro!F148)","v":"Solar FV"},{"$f":"IF(ISBLANK(InfoPro!I148),\"\",YEAR(InfoPro!I148)-$G$4)","v":2},{"$f":"IF(B155=\"\",\"\",VLOOKUP(D155,Tablas!$B$2:$E$13,2,FALSE))","v":0.26},{"$f":"IF(B155=\"\",\"\",VLOOKUP(D155,Tablas!$B$2:$F$13,5,FALSE))","v":0.15},46121.4,8059285916.2957115,7208663610.2823915,6447820760.5388126,5767281538.9434814,5158570249.5022202,4614105768.7855282,4127107127.7151413,3691509058.7791967,3301886456.8686905,2953386812.9415851,2641669779.017518,2362853111.8224669,2113464321.8447828,1890397425.6214516,1690874262.6309938,62028876201.589966,459473.15704881458]
[{"$f":"IF(ISBLANK(InfoPro!A149),\"\",InfoPro!A149)","v":"SC_2107_A1"},{"$f":"IF(ISBLANK(InfoPro!B149),\"\",InfoPro!B149)","v":"Parque Solar Aries"},{"$f":"IF(ISBLANK(InfoPro!E149),\"\",InfoPro!E149)","v":175},{"$f":"IF(ISBLANK(InfoPro!F149),\"\",InfoPro!F149)","v":"Solar FV"},{"$f":"IF(ISBLANK(InfoPro!I149),\"\",YEAR(InfoPro!I149)-$G$4)","v":3},{"$f":"IF(B156=\"\",\"\",VLOOKUP(D156,Tablas!$B$2:$E$13,2,FALSE))","v":0.26},{"$f":"IF(B156=\"\",\"\",VLOOKUP(D156,Tablas!$B$2:$F$13,5,FALSE))","v":0.15},59787.000000000007,9344563939.2549534,8358286171.0688314,7476105698.6304407,6687035508.6139889,5981248218.7960548,5349953684.0751839,4785289520.639699,4280223184.8297844,3828464387.1464992,3424386750.5782642,3062957737.5476422,2739675972.7617555,2450515181.3611407,2191874044.151289,1960531345.3947127,71921111344.850235,410977.77911342989]
[{"$f":"IF(ISBLANK(InfoPro!A150),\"\",InfoPro!A150)","v":"SC_2107_A2"},{"$f":"IF(ISBLANK(InfoPro!B150),\"\",InfoPro!B150)","v":"Parque Solar Aries"},{"$f":"IF(ISBLANK(InfoPro!E150),\"\",InfoPro!E150)","v":175},{"$f":"IF(ISBLANK(InfoPro!F150),\"\",InfoPro!F150)","v":"Solar FV"},{"$f":"IF(ISBLANK(InfoPro!I150),\"\",YEAR(InfoPro!I150)-$G$4)","v":3},{"$f":"IF(B157=\"\",\"\",VLOOKUP(D157,Tablas!$B$2:$E$13,2,FALSE))","v":0.26},{"$f":"IF(B157=\"\",\"\",VLOOKUP(D157,Tablas!$B$2:$F$13,5,FALSE))","v":0.15},59787.000000000007,9344563939.2549534,8358286171.0688314,7476105698.6304407,6687035508.6139889,5981248218.7960548,5349953684.0751839,4785289520.639699,4280223184.8297844,3828464387.1464992,3424386750.5782642,3062957737.5476422,2739675972.7617555,2450515181.3611407,2191874044.151289,1960531345.3947127,71921111344.850235,410977.77911342989]
[{"$f":"IF(ISBLANK(InfoPro!A151),\"\",InfoPro!A151)","v":"SC_2031\n_A1"},{"$f":"IF(ISBLANK(InfoPro!B151),\"\",InfoPro!B151)","v":"PSF Cispata_70MW"},{"$f":"IF(ISBLANK(InfoPro!E151),\"\",InfoPro!E151)","v":70},{"$f":"IF(ISBLANK(InfoPro!F151),\"\",InfoPro!F151)","v":"Solar FV"},{"$f":"IF(ISBLANK(InfoPro!I151),\"\",YEAR(InfoPro!I151)-$G$4)","v":3},{"$f":"IF(B158=\"\",\"\",VLOOKUP(D158,Tablas!$B$2:$E$13,2,FALSE))","v":0.26},{"$f":"IF(B158=\"\",\"\",VLOOKUP(D158,Tablas!$B$2:$F$13,5,FALSE))","v":0.15},23914.799999999999,{"$f":"IF($H158=\"\",\"\",(1/(1+$C$4)^(I$7+$E158))*$H158*$I$5*$I$4)","v":3737825575.7019811},3343314468.4275322,2990442279.4521756,2674814203.4455953,2392499287.5184221,2139981473.6300733,1914115808.2558794,1712089273.9319139,1531385754.8585992,1369754700.2313054,1225183095.0190566,1095870389.104702,980206072.54445624,876749617.66051543,784212538.15788496,28768444537.940094,410977.77911342989]
[{"$f":"IF(ISBLANK(InfoPro!A152),\"\",InfoPro!A152)","v":"SC_2136_A1"},{"$f":"IF(ISBLANK(InfoPro!B152),\"\",InfoPro!B152)","v":"Yaguarundi Solar II 40 MW"},{"$f":"IF(ISBLANK(InfoPro!E152),\"\",InfoPro!E152)","v":40},{"$f":"IF(ISBLANK(InfoPro!F152),\"\",InfoPro!F152)","v":"Solar FV"},{"$f":"IF(ISBLANK(InfoPro!I152),\"\",YEAR(InfoPro!I152)-$G$4)","v":3},{"$f":"IF(B159=\"\",\"\",VLOOKUP(D159,Tablas!$B$2:$E$13,2,FALSE))","v":0.26},{"$f":"IF(B159=\"\",\"\",VLOOKUP(D159,Tablas!$B$2:$F$13,5,FALSE))","v":0.15},13665.599999999999,2135900328.9725602,1910465410.5300181,1708824159.6869576,1528465259.1117687,1367142450.0105267,1222846556.3600419,1093780461.8605025,978336727.96109343,875077574.20491397,782716971.56074584,700104625.72517526,626211650.91697252,560117755.73968923,500999781.52029443,448121450.3759343,16439111164.537197,410977.77911342995]
[{"$f":"IF(ISBLANK(InfoPro!A153),\"\",InfoPro!A153)","v":"SC_2136_A2"},{"$f":"IF(ISBLANK(InfoPro!B153),\"\",InfoPro!B153)","v":"Yaguarundi Solar II 40 MW"},{"$f":"IF(ISBLANK(InfoPro!E153),\"\",InfoPro!E153)","v":40},{"$f":"IF(ISBLANK(InfoPro!F153),\"\",InfoPro!F153)","v":"Solar FV"},{"$f":"IF(ISBLANK(InfoPro!I153),\"\",YEAR(InfoPro!I153)-$G$4)","v":3},{"$f":"IF(B160=\"\",\"\",VLOOKUP(D160,Tablas!$B$2:$E$13,2,FALSE))","v":0.26},{"$f":"IF(B160=\"\",\"\",VLOOKUP(D160,Tablas!$B$2:$F$13,5,FALSE))","v":0.15},13665.599999999999,2135900328.9725602,1910465410.5300181,1708824159.6869576,1528465259.1117687,1367142450.0105267,1222846556.3600419,1093780461.8605025,978336727.96109343,875077574.20491397,782716971.56074584,700104625.72517526,626211650.91697252,560117755.73968923,500999781.52029443,448121450.3759343,16439111164.537197,410977.77911342995]
[{"$f":"IF(ISBLANK(InfoPro!A154),\"\",InfoPro!A154)","v":"SC_2180_A1"},{"$f":"IF(ISBLANK(InfoPro!B154),\"\",InfoPro!B154)","v":"Yaguarundi Solar III 40 MW"},{"$f":"IF(ISBLANK(InfoPro!E154),\"\",InfoPro!E154)","v":40},{"$f":"IF(ISBLANK(InfoPro!F154),\"\",InfoPro!F154)","v":"Solar FV"},{"$f":"IF(ISBLANK(InfoPro!I154),\"\",YEAR(InfoPro!I154)-$G$4)","v":3},{"$f":"IF(B161=\"\",\"\",VLOOKUP(D161,Tablas!$B$2:$E$13,2,FALSE))","v":0.26},{"$f":"IF(B161=\"\",\"\",VLOOKUP(D161,Tablas!$B$2:$F$13,5,FALSE))","v":0.15},13665.599999999999,2135900328.9725602,1910465410.5300181,1708824159.6869576,1528465259.1117687,1367142450.0105267,1222846556.3600419,1093780461.8605025,978336727.96109343,875077574.20491397,782716971.56074584,700104625.72517526,626211650.91697252,560117755.73968923,500999781.52029443,448121450.3759343,16439111164.537197,410977.77911342995]
[{"$f":"IF(ISBLANK(InfoPro!A155),\"\",InfoPro!A155)","v":"SC_2180_A2"},{"$f":"IF(ISBLANK(InfoPro!B155),\"\",InfoPro!B155)","v":"Yaguarundi Solar III 40 MW"},{"$f":"IF(ISBLANK(InfoPro!E155),\"\",InfoPro!E155)","v":40},{"$f":"IF(ISBLANK(InfoPro!F155),\"\",InfoPro!F155)","v":"Solar FV"},{"$f":"IF(ISBLANK(InfoPro!I155),\"\",YEAR(InfoPro!I155)-$G$4)","v":3},{"$f":"IF(B162=\"\",\"\",VLOOKUP(D162,Tablas!$B$2:$E$13,2,FALSE))","v":0.26},{"$f":"IF(B162=\"\",\"\",VLOOKUP(D162,Tablas!$B$2:$F$13,5,FALSE))","v":0.15},13665.599999999999,2135900328.9725602,1910465410.5300181,1708824159.6869576,1528465259.1117687,1367142450.0105267,1222846556.3600419,1093780461.8605025,978336727.96109343,875077574.20491397,782716971.56074584,700104625.72517526,626211650.91697252,560117755.73968923,500999781.52029443,448121450.3759343,16439111164.537197,410977.77911342995]
[{"$f":"IF(ISBLANK(InfoPro!A156),\"\",InfoPro!A156)","v":"SC_2185_A1"},{"$f":"IF(ISBLANK(InfoPro!B156),\"\",InfoPro!B156)","v":"Yaguarundi Solar IV 40 MW"},{"$f":"IF(ISBLANK(InfoPro!E156),\"\",InfoPro!E156)","v":40},{"$f":"IF(ISBLANK(InfoPro!F156),\"\",InfoPro!F156)","v":"Solar FV"},{"$f":"IF(ISBLANK(InfoPro!I156),\"\",YEAR(InfoPro!I156)-$G$4)","v":3},{"$f":"IF(B163=\"\",\"\",VLOOKUP(D163,Tablas!$B$2:$E$13,2,FALSE))","v":0.26},{"$f":"IF(B163=\"\",\"\",VLOOKUP(D163,Tablas!$B$2:$F$13,5,FALSE))","v":0.15},13665.599999999999,2135900328.9725602,1910465410.5300181,1708824159.6869576,1528465259.1117687,1367142450.0105267,1222846556.3600419,1093780461.8605025,978336727.96109343,875077574.20491397,782716971.56074584,700104625.72517526,626211650.91697252,560117755.73968923,500999781.52029443,448121450.3759343,16439111164.537197,410977.77911342995]
[{"$f":"IF(ISBLANK(InfoPro!A157),\"\",InfoPro!A157)","v":"SC_2185_A2"},{"$f":"IF(ISBLANK(InfoPro!B157),\"\",InfoPro!B157)","v":"Yaguarundi Solar IV 40 MW"},{"$f":"IF(ISBLANK(InfoPro!E157),\"\",InfoPro!E157)","v":40},{"$f":"IF(ISBLANK(InfoPro!F157),\"\",InfoPro!F157)","v":"Solar FV"},{"$f":"IF(ISBLANK(InfoPro!I157),\"\",YEAR(InfoPro!I157)-$G$4)","v":3},{"$f":"IF(B164=\"\",\"\",VLOOKUP(D164,Tablas!$B$2:$E$13,2,FALSE))","v":0.26},{"$f":"IF(B164=\"\",\"\",VLOOKUP(D164,Tablas!$B$2:$F$13,5,FALSE))","v":0.15},13665.599999999999,2135900328.9725602,1910465410.5300181,1708824159.6869576,1528465259.1117687,1367142450.0105267,1222846556.3600419,1093780461.8605025,978336727.96109343,875077574.20491397,782716971.56074584,700104625.72517526,626211650.91697252,560117755.73968923,500999781.52029443,448121450.3759343,16439111164.537197,410977.77911342995]
[{"$f":"IF(ISBLANK(InfoPro!A158),\"\",InfoPro!A158)","v":"SC_1926_A1"},{"$f":"IF(ISBLANK(InfoPro!B158),\"\",InfoPro!B158)","v":"Bongos I 9.90 MW"},{"$f":"IF(ISBLANK(InfoPro!E158),\"\",InfoPro!E158)","v":9.9},{"$f":"IF(ISBLANK(InfoPro!F158),\"\",InfoPro!F158)","v":"Solar FV"},{"$f":"IF(ISBLANK(InfoPro!I158),\"\",YEAR(InfoPro!I158)-$G$4)","v":1},{"$f":"IF(B165=\"\",\"\",VLOOKUP(D165,Tablas!$B$2:$E$13,2,FALSE))","v":0.26},{"$f":"IF(B165=\"\",\"\",VLOOKUP(D165,Tablas!$B$2:$F$13,5,FALSE))","v":0.15},3382.2360000000003,660753987.99069786,591014300.52835214,528635331.42070878,472840189.10617959,422933979.52252197,378295151.63016278,338367756.37760544,302654522.69911039,270710664.31047446,242138340.1703707,216581699.61571625,193722450.46128464,173275894.86698088,154987383.60195073,138629144.54557315,5085540796.8476896,513690.98958057474]
[{"$f":"IF(ISBLANK(InfoPro!A159),\"\",InfoPro!A159)","v":"SC_1926_A2"},{"$f":"IF(ISBLANK(InfoPro!B159),\"\",InfoPro!B159)","v":"Bongos I 9.90 MW"},{"$f":"IF(ISBLANK(InfoPro!E159),\"\",InfoPro!E159)","v":9.9},{"$f":"IF(ISBLANK(InfoPro!F159),\"\",InfoPro!F159)","v":"Solar FV"},{"$f":"IF(ISBLANK(InfoPro!I159),\"\",YEAR(InfoPro!I159)-$G$4)","v":1},{"$f":"IF(B166=\"\",\"\",VLOOKUP(D166,Tablas!$B$2:$E$13,2,FALSE))","v":0.26},{"$f":"IF(B166=\"\",\"\",VLOOKUP(D166,Tablas!$B$2:$F$13,5,FALSE))","v":0.15},3382.2360000000003,660753987.99069786,591014300.52835214,528635331.42070878,472840189.10617959,422933979.52252197,378295151.63016278,338367756.37760544,302654522.69911039,270710664.31047446,242138340.1703707,216581699.61571625,193722450.46128464,173275894.86698088,154987383.60195073,138629144.54557315,5085540796.8476896,513690.98958057474]
[{"$f":"IF(ISBLANK(InfoPro!A160),\"\",InfoPro!A160)","v":"SC_1825_A1"},{"$f":"IF(ISBLANK(InfoPro!B160),\"\",InfoPro!B160)","v":"PROYECTO DE GENERACIÓN ELÉCTRICA EL JOBO_200MW"},{"$f":"IF(ISBLANK(InfoPro!E160),\"\",InfoPro!E160)","v":200},{"$f":"IF(ISBLANK(InfoPro!F160),\"\",InfoPro!F160)","v":"Termica a vapor"},{"$f":"IF(ISBLANK(InfoPro!I160),\"\",YEAR(InfoPro!I160)-$G$4)","v":3},{"$f":"IF(B167=\"\",\"\",VLOOKUP(D167,Tablas!$B$2:$E$13,2,FALSE))","v":0.85},{"$f":"IF(B167=\"\",\"\",VLOOKUP(D167,Tablas!$B$2:$F$13,5,FALSE))","v":0.83},1236035.9999999998,193189446421.81296,172799147067.81122,154560954443.48053,138247723115.81445,123656281856.72133,110604903270.77043,98931040492.639038,88489302766.224533,79149644692.508545,70795746594.372589,63323565826.809113,56640040989.990265,50661932906.968048,45314787931.098419,40532010671.823273,1486896529048.8445,7434482.6452442221]
[{"$f":"IF(ISBLANK(InfoPro!A161),\"\",InfoPro!A161)","v":"SC_1897_A1"},{"$f":"IF(ISBLANK(InfoPro!B161),\"\",InfoPro!B161)","v":"La Florecita 90 MW"},{"$f":"IF(ISBLANK(InfoPro!E161),\"\",InfoPro!E161)","v":90},{"$f":"IF(ISBLANK(InfoPro!F161),\"\",InfoPro!F161)","v":"Solar FV"},{"$f":"IF(ISBLANK(InfoPro!I161),\"\",YEAR(InfoPro!I161)-$G$4)","v":3},{"$f":"IF(B168=\"\",\"\",VLOOKUP(D168,Tablas!$B$2:$E$13,2,FALSE))","v":0.26},{"$f":"IF(B168=\"\",\"\",VLOOKUP(D168,Tablas!$B$2:$F$13,5,FALSE))","v":0.15},30747.600000000002,4805775740.188261,4298547173.6925421,3844854359.2956548,3439046833.0014796,3076070512.5236855,2751404751.8100944,2461006039.186131,2201257637.9124603,1968924541.9610562,1761113186.0116782,1575235407.8816445,1408976214.5631886,1260264950.4143012,1127249508.4206629,1008273263.3458524,36988000120.208687,410977.77911342983]
[{"$f":"IF(ISBLANK(InfoPro!A162),\"\",InfoPro!A162)","v":"SC_1897_A2"},{"$f":"IF(ISBLANK(InfoPro!B162),\"\",InfoPro!B162)","v":"La Florecita 90 MW"},{"$f":"IF(ISBLANK(InfoPro!E162),\"\",InfoPro!E162)","v":90},{"$f":"IF(ISBLANK(InfoPro!F162),\"\",InfoPro!F162)","v":"Solar FV"},{"$f":"IF(ISBLANK(InfoPro!I162),\"\",YEAR(InfoPro!I162)-$G$4)","v":3},{"$f":"IF(B169=\"\",\"\",VLOOKUP(D169,Tablas!$B$2:$E$13,2,FALSE))","v":0.26},{"$f":"IF(B169=\"\",\"\",VLOOKUP(D169,Tablas!$B$2:$F$13,5,FALSE))","v":0.15},30747.600000000002,4805775740.188261,4298547173.6925421,3844854359.2956548,3439046833.0014796,3076070512.5236855,2751404751.8100944,2461006039.186131,2201257637.9124603,1968924541.9610562,1761113186.0116782,1575235407.8816445,1408976214.5631886,1260264950.4143012,1127249508.4206629,1008273263.3458524,36988000120.208687,410977.77911342983]
[{"$f":"IF(ISBLANK(InfoPro!A163),\"\",InfoPro!A163)","v":"SC_2014_A1"},{"$f":"IF(ISBLANK(InfoPro!B163),\"\",InfoPro!B163)","v":"Lotería 2"},{"$f":"IF(ISBLANK(InfoPro!E163),\"\",InfoPro!E163)","v":9.9},{"$f":"IF(ISBLANK(InfoPro!F163),\"\",InfoPro!F163)","v":"Solar FV"},{"$f":"IF(ISBLANK(InfoPro!I163),\"\",YEAR(InfoPro!I163)-$G$4)","v":1},{"$f":"IF(B170=\"\",\"\",VLOOKUP(D170,Tablas!$B$2:$E$13,2,FALSE))","v":0.26},{"$f":"IF(B170=\"\",\"\",VLOOKUP(D170,Tablas!$B$2:$F$13,5,FALSE))","v":0.15},3382.2360000000003,660753987.99069786,591014300.52835214,528635331.42070878,472840189.10617959,422933979.52252197,378295151.63016278,338367756.37760544,302654522.69911039,270710664.31047446,242138340.1703707,216581699.61571625,193722450.46128464,173275894.86698088,154987383.60195073,138629144.54557315,5085540796.8476896,513690.98958057474]
[{"$f":"IF(ISBLANK(InfoPro!A164),\"\",InfoPro!A164)","v":"SC_2014_A2"},{"$f":"IF(ISBLANK(InfoPro!B164),\"\",InfoPro!B164)","v":"Lotería 2"},{"$f":"IF(ISBLANK(InfoPro!E164),\"\",InfoPro!E164)","v":9.9},{"$f":"IF(ISBLANK(InfoPro!F164),\"\",InfoPro!F164)","v":"Solar FV"},{"$f":"IF(ISBLANK(InfoPro!I164),\"\",YEAR(InfoPro!I164)-$G$4)","v":1},{"$f":"IF(B171=\"\",\"\",VLOOKUP(D171,Tablas!$B$2:$E$13,2,FALSE))","v":0.26},{"$f":"IF(B171=\"\",\"\",VLOOKUP(D171,Tablas!$B$2:$F$13,5,FALSE))","v":0.15},3382.2360000000003,660753987.99069786,591014300.52835214,528635331.42070878,472840189.10617959,422933979.52252197,378295151.63016278,338367756.37760544,302654522.69911039,270710664.31047446,242138340.1703707,216581699.61571625,193722450.46128464,173275894.86698088,154987383.60195073,138629144.54557315,5085540796.8476896,513690.98958057474]
[{"$f":"IF(ISBLANK(InfoPro!A165),\"\",InfoPro!A165)","v":"SC_2017_A1"},{"$f":"IF(ISBLANK(InfoPro!B165),\"\",InfoPro!B165)","v":"LOTERÍA 1"},{"$f":"IF(ISBLANK(InfoPro!E165),\"\",InfoPro!E165)","v":9.9},{"$f":"IF(ISBLANK(InfoPro!F165),\"\",InfoPro!F165)","v":"Solar FV"},{"$f":"IF(ISBLANK(InfoPro!I165),\"\",YEAR(InfoPro!I165)-$G$4)","v":1},{"$f":"IF(B172=\"\",\"\",VLOOKUP(D172,Tablas!$B$2:$E$13,2,FALSE))","v":0.26},{"$f":"IF(B172=\"\",\"\",VLOOKUP(D172,Tablas!$B$2:$F$13,5,FALSE))","v":0.15},3382.2360000000003,660753987.99069786,591014300.52835214,528635331.42070878,472840189.10617959,422933979.52252197,378295151.63016278,338367756.37760544,302654522.69911039,270710664.31047446,242138340.1703707,216581699.61571625,193722450.46128464,173275894.86698088,154987383.60195073,138629144.54557315,5085540796.8476896,513690.98958057474]
[{"$f":"IF(ISBLANK(InfoPro!A166),\"\",InfoPro!A166)","v":"SC_2017_A2"},{"$f":"IF(ISBLANK(InfoPro!B166),\"\",InfoPro!B166)","v":"LOTERÍA 1"},{"$f":"IF(ISBLANK(InfoPro!E166),\"\",InfoPro!E166)","v":9.9},{"$f":"IF(ISBLANK(InfoPro!F166),\"\",InfoPro!F166)","v":"Solar FV"},{"$f":"IF(ISBLANK(InfoPro!I166),\"\",YEAR(InfoPro!I166)-$G$4)","v":1},{"$f":"IF(B173=\"\",\"\",VLOOKUP(D173,Tablas!$B$2:$E$13,2,FALSE))","v":0.26},{"$f":"IF(B173=\"\",\"\",VLOOKUP(D173,Tablas!$B$2:$F$13,5,FALSE))","v":0.15},3382.2360000000003,660753987.99069786,591014300.52835214,528635331.42070878,472840189.10617959,422933979.52252197,378295151.63016278,338367756.37760544,302654522.69911039,270710664.31047446,242138340.1703707,216581699.61571625,193722450.46128464,173275894.86698088,154987383.60195073,138629144.54557315,5085540796.8476896,513690.98958057474]
[{"$f":"IF(ISBLANK(InfoPro!A167),\"\",InfoPro!A167)","v":"SC_2165_A1"},{"$f":"IF(ISBLANK(InfoPro!B167),\"\",InfoPro!B167)","v":"Autogeneración Solar Fotovoltaica 9.9 MW (entrega de excedentes de 0)"},{"$f":"IF(ISBLANK(InfoPro!E167),\"\",InfoPro!E167)","v":0},{"$f":"IF(ISBLANK(InfoPro!F167),\"\",InfoPro!F167)","v":"Solar FV"},{"$f":"IF(ISBLANK(InfoPro!I167),\"\",YEAR(InfoPro!I167)-$G$4)","v":0},{"$f":"IF(B174=\"\",\"\",VLOOKUP(D174,Tablas!$B$2:$E$13,2,FALSE))","v":0.26},{"$f":"IF(B174=\"\",\"\",VLOOKUP(D174,Tablas!$B$2:$F$13,5,FALSE))","v":0.15},0,0,0,0,0,0,0,0,0,0,0,0,0,0,0,0,0,0]
[{"$f":"IF(ISBLANK(InfoPro!A168),\"\",InfoPro!A168)","v":"SC_1820\n_A1"},{"$f":"IF(ISBLANK(InfoPro!B168),\"\",InfoPro!B168)","v":"NAIOT"},{"$f":"IF(ISBLANK(InfoPro!E168),\"\",InfoPro!E168)","v":19.899999999999999},{"$f":"IF(ISBLANK(InfoPro!F168),\"\",InfoPro!F168)","v":"Solar FV"},{"$f":"IF(ISBLANK(InfoPro!I168),\"\",YEAR(InfoPro!I168)-$G$4)","v":1},{"$f":"IF(B175=\"\",\"\",VLOOKUP(D175,Tablas!$B$2:$E$13,2,FALSE))","v":0.26},{"$f":"IF(B175=\"\",\"\",VLOOKUP(D175,Tablas!$B$2:$F$13,5,FALSE))","v":0.15},6798.6360000000004,{"$f":"IF($H175=\"\",\"\",(1/(1+$C$4)^(I$7+$E175))*$H175*$I$5*$I$4)","v":1328182258.6883724},1187998442.4761827,1062610413.6638488,950456541.73868418,850140019.44426143,760411466.40810502,680153368.8802371,608366161.78912091,544155779.77560008,486722522.16064405,435351093.16694474,389401693.35147113,348302051.29827476,311540296.33119392,278658583.48049545,10222450692.653437,513690.98958057468]
[{"$f":"IF(ISBLANK(InfoPro!A169),\"\",InfoPro!A169)","v":"SC_1820\n_A2"},{"$f":"IF(ISBLANK(InfoPro!B169),\"\",InfoPro!B169)","v":"NAIOT"},{"$f":"IF(ISBLANK(InfoPro!E169),\"\",InfoPro!E169)","v":19.899999999999999},{"$f":"IF(ISBLANK(InfoPro!F169),\"\",InfoPro!F169)","v":"Solar FV"},{"$f":"IF(ISBLANK(InfoPro!I169),\"\",YEAR(InfoPro!I169)-$G$4)","v":1},{"$f":"IF(B176=\"\",\"\",VLOOKUP(D176,Tablas!$B$2:$E$13,2,FALSE))","v":0.26},{"$f":"IF(B176=\"\",\"\",VLOOKUP(D176,Tablas!$B$2:$F$13,5,FALSE))","v":0.15},6798.6360000000004,1328182258.6883724,1187998442.4761827,1062610413.6638488,950456541.73868418,850140019.44426143,760411466.40810502,680153368.8802371,608366161.78912091,544155779.77560008,486722522.16064405,435351093.16694474,389401693.35147113,348302051.29827476,311540296.33119392,278658583.48049545,10222450692.653437,513690.98958057468]
[{"$f":"IF(ISBLANK(InfoPro!A170),\"\",InfoPro!A170)","v":"SC_2325_A1"},{"$f":"IF(ISBLANK(InfoPro!B170),\"\",InfoPro!B170)","v":"PROYECTO FOTOVOLTAICO MONTERROSO DE 99,9 MW"},{"$f":"IF(ISBLANK(InfoPro!E170),\"\",InfoPro!E170)","v":99.9},{"$f":"IF(ISBLANK(InfoPro!F170),\"\",InfoPro!F170)","v":"Solar FV"},{"$f":"IF(ISBLANK(InfoPro!I170),\"\",YEAR(InfoPro!I170)-$G$4)","v":3},{"$f":"IF(B177=\"\",\"\",VLOOKUP(D177,Tablas!$B$2:$E$13,2,FALSE))","v":0.26},{"$f":"IF(B177=\"\",\"\",VLOOKUP(D177,Tablas!$B$2:$F$13,5,FALSE))","v":0.15},34129.836000000003,5334411071.6089697,4771387362.7987213,4267788338.8181767,3817341984.6316428,3414438268.9012909,3054059274.5092049,2731716703.4966059,2443395978.0828314,2185506241.5767732,1954835636.4729629,1748511302.7486253,1563963598.1651392,1398894094.9598742,1251246954.3469355,1119183322.3138959,41056680133.431656,410977.77911343001]
[{"$f":"IF(ISBLANK(InfoPro!A171),\"\",InfoPro!A171)","v":"SC_2325_A2"},{"$f":"IF(ISBLANK(InfoPro!B171),\"\",InfoPro!B171)","v":"PROYECTO FOTOVOLTAICO MONTERROSO DE 99,9 MW"},{"$f":"IF(ISBLANK(InfoPro!E171),\"\",InfoPro!E171)","v":99.9},{"$f":"IF(ISBLANK(InfoPro!F171),\"\",InfoPro!F171)","v":"Solar FV"},{"$f":"IF(ISBLANK(InfoPro!I171),\"\",YEAR(InfoPro!I171)-$G$4)","v":3},{"$f":"IF(B178=\"\",\"\",VLOOKUP(D178,Tablas!$B$2:$E$13,2,FALSE))","v":0.26},{"$f":"IF(B178=\"\",\"\",VLOOKUP(D178,Tablas!$B$2:$F$13,5,FALSE))","v":0.15},34129.836000000003,5334411071.6089697,4771387362.7987213,4267788338.8181767,3817341984.6316428,3414438268.9012909,3054059274.5092049,2731716703.4966059,2443395978.0828314,2185506241.5767732,1954835636.4729629,1748511302.7486253,1563963598.1651392,1398894094.9598742,1251246954.3469355,1119183322.3138959,41056680133.431656,410977.77911343001]
[{"$f":"IF(ISBLANK(InfoPro!A173),\"\",InfoPro!A173)","v":""},{"$f":"IF(ISBLANK(InfoPro!B173),\"\",InfoPro!B173)","v":""},{"$f":"IF(ISBLANK(InfoPro!E173),\"\",InfoPro!E173)","v":""},{"$f":"IF(ISBLANK(InfoPro!F173),\"\",InfoPro!F173)","v":""},{"$f":"IF(ISBLANK(InfoPro!I173),\"\",YEAR(InfoPro!I173)-$G$4)","v":""},{"$f":"IF(B179=\"\",\"\",VLOOKUP(D179,Tablas!$B$2:$E$13,2,FALSE))","v":""},{"$f":"IF(B179=\"\",\"\",VLOOKUP(D179,Tablas!$B$2:$F$13,5,FALSE))","v":""},"","","","","","","","","","","","","","","","","",""]
[{"$f":"IF(ISBLANK(InfoPro!A174),\"\",InfoPro!A174)","v":""},{"$f":"IF(ISBLANK(InfoPro!B174),\"\",InfoPro!B174)","v":""},{"$f":"IF(ISBLANK(InfoPro!E174),\"\",InfoPro!E174)","v":""},{"$f":"IF(ISBLANK(InfoPro!F174),\"\",InfoPro!F174)","v":""},{"$f":"IF(ISBLANK(InfoPro!I174),\"\",YEAR(InfoPro!I174)-$G$4)","v":""},{"$f":"IF(B180=\"\",\"\",VLOOKUP(D180,Tablas!$B$2:$E$13,2,FALSE))","v":""},{"$f":"IF(B180=\"\",\"\",VLOOKUP(D180,Tablas!$B$2:$F$13,5,FALSE))","v":""},"","","","","","","","","","","","","","","","","",""]
[{"$f":"IF(ISBLANK(InfoPro!A175),\"\",InfoPro!A175)","v":""},{"$f":"IF(ISBLANK(InfoPro!B175),\"\",InfoPro!B175)","v":""},{"$f":"IF(ISBLANK(InfoPro!E175),\"\",InfoPro!E175)","v":""},{"$f":"IF(ISBLANK(InfoPro!F175),\"\",InfoPro!F175)","v":""},{"$f":"IF(ISBLANK(InfoPro!I175),\"\",YEAR(InfoPro!I175)-$G$4)","v":""},{"$f":"IF(B181=\"\",\"\",VLOOKUP(D181,Tablas!$B$2:$E$13,2,FALSE))","v":""},{"$f":"IF(B181=\"\",\"\",VLOOKUP(D181,Tablas!$B$2:$F$13,5,FALSE))","v":""},"","","","","","","","","","","","","","","","","",""]

{"sheet":"Resumen","index":11,"n_rows":174,"n_cols":23,"rows_kept":174,"cut":false,"hidden":false,"merged":[[2,8,2,14],[2,15,2,21]]}
["Min",{"$f":"ABS(MIN('EC-RE'!G4,'EC-RP'!H4,'EC-Per'!F4,'EC-Mar'!G4,'BT-Flex'!G5,'BT-Confi'!G5))","v":4655621.6826182501},"Año Base",2023,null,null,null,null,null,null,null,null,null,null,"Pesos",1,1,1,0.5,1,1,0.3]
[]
[null,null,null,null,null,null,null,null,"Sin normalizar",null,null,null,null,null,null,"Normalizados"]
["Codigo","Codigo Asociado","Nombre","Capacidad","Fecha Radicación","Hora Radicación","Requiere Expansión","IT_TA","BT_Confi","BT_Flex","EC_RE","EC_RP","EC_Per","EC_Mar","B_Ambiental","BT_Confi","BT_Flex","EC_RE","EC_RP","EC_Per","EC_Mar","B_Ambiental","Valoracion final "]
[{"$f":"IF(ISBLANK(InfoPro!A2),\"\",InfoPro!A2)","v":"SC_44_A1"},{"$f":"IF(ISBLANK(InfoPro!H2),\"\",InfoPro!H2)","v":"SC_44"},{"$f":"IF(ISBLANK(InfoPro!B2),\"\",InfoPro!B2)","v":"El Floral 1"},{"$f":"IF(ISBLANK(InfoPro!E2),\"\",InfoPro!E2)","v":19.899999999999999},{"$f":"IF(ISBLANK(InfoPro!C2),\"\",InfoPro!C2)","v":"2022-04-13"},{"$f":"IF(ISBLANK(InfoPro!D2),\"\",InfoPro!D2)","v":"5:41 pm"},{"$f":"IF(ISBLANK(InfoPro!L2),\"\",InfoPro!L2)","v":"NO"},{"$f":"'IT-TA'!H2","v":0},{"$f":"IFERROR('BT-Confi'!Y9,\"\")","v":459473.15704881458},{"$f":"IFERROR('BT-Flex'!Y9,\"\")","v":0},{"$f":"IFERROR('EC-RE'!Z9,\"\")","v":667975.46071520681},{"$f":"IFERROR('EC-RP'!Z8,\"\")","v":1521388.3015303449},{"$f":"IFERROR('EC-Per'!W8,\"\")","v":-224637.6807775551},{"$f":"IFERROR('EC-Mar'!Y8,\"\")","v":1521388.3015303449},{"$f":"IF(C5=\"\",\"\",(SUMIF(I5:N5,\">0\"))*(H5/100))","v":0},{"$f":"IF(C5=\"\",\"\",I5+$B$1)","v":5115094.8396670651},4655621.6826182501,5323597.1433334574,6177009.9841485955,4430984.0018406948,6177009.9841485955,{"$f":"IF(I5=\"\",\"\",O5+$B$1)","v":4655621.6826182501},{"$f":"IFERROR((+$P$1*P5+$Q$1*Q5+$R$1*R5+$S$1*S5+$T$1*T5+U5*$U$1+$V$1*V5),\"\")","v":30187499.148467839}]
[{"$f":"IF(ISBLANK(InfoPro!A3),\"\",InfoPro!A3)","v":"SC_47_A1"},{"$f":"IF(ISBLANK(InfoPro!H3),\"\",InfoPro!H3)","v":"SC_47"},{"$f":"IF(ISBLANK(InfoPro!B3),\"\",InfoPro!B3)","v":"El Floral II - 19.9 MW"},{"$f":"IF(ISBLANK(InfoPro!E3),\"\",InfoPro!E3)","v":19.899999999999999},{"$f":"IF(ISBLANK(InfoPro!C3),\"\",InfoPro!C3)","v":"2022-04-13"},{"$f":"IF(ISBLANK(InfoPro!D3),\"\",InfoPro!D3)","v":"5:48 pm"},{"$f":"IF(ISBLANK(InfoPro!L3),\"\",InfoPro!L3)","v":"NO"},{"$f":"'IT-TA'!H3","v":0},{"$f":"IFERROR('BT-Confi'!Y10,\"\")","v":459473.15704881458},{"$f":"IFERROR('BT-Flex'!Y10,\"\")","v":0},{"$f":"IFERROR('EC-RE'!Z10,\"\")","v":667975.46071520681},{"$f":"IFERROR('EC-RP'!Z9,\"\")","v":1521388.3015303449},{"$f":"IFERROR('EC-Per'!W9,\"\")","v":-224637.6807775551},{"$f":"IFERROR('EC-Mar'!Y9,\"\")","v":1521388.3015303449},{"$f":"IF(C6=\"\",\"\",(SUMIF(I6:N6,\">0\"))*(H6/100))","v":0},{"$f":"IF(C6=\"\",\"\",I6+$B$1)","v":5115094.8396670651},{"$f":"IF(D6=\"\",\"\",J6+$B$1)","v":4655621.6826182501},{"$f":"IF(E6=\"\",\"\",K6+$B$1)","v":5323597.1433334574},{"$f":"IF(F6=\"\",\"\",L6+$B$1)","v":6177009.9841485955},{"$f":"IF(G6=\"\",\"\",M6+$B$1)","v":4430984.0018406948},{"$f":"IF(H6=\"\",\"\",N6+$B$1)","v":6177009.9841485955},{"$f":"IF(I6=\"\",\"\",O6+$B$1)","v":4655621.6826182501},{"$f":"IFERROR((+$P$1*P6+$Q$1*Q6+$R$1*R6+$S$1*S6+$T$1*T6+U6*$U$1+$V$1*V6),\"\")","v":30187499.148467839}]
[{"$f":"IF(ISBLANK(InfoPro!A4),\"\",InfoPro!A4)","v":"SC_408_A1"},{"$f":"IF(ISBLANK(InfoPro!H4),\"\",InfoPro!H4)","v":"SC_408"},{"$f":"IF(ISBLANK(InfoPro!B4),\"\",InfoPro!B4)","v":"El Jardín 40 MW"},{"$f":"IF(ISBLANK(InfoPro!E4),\"\",InfoPro!E4)","v":40},{"$f":"IF(ISBLANK(InfoPro!C4),\"\",InfoPro!C4)","v":"2022-05-06"},{"$f":"IF(ISBLANK(InfoPro!D4),\"\",InfoPro!D4)","v":"5:54 pm"},{"$f":"IF(ISBLANK(InfoPro!L4),\"\",InfoPro!L4)","v":"NO"},{"$f":"'IT-TA'!H4","v":0},{"$f":"IFERROR('BT-Confi'!Y11,\"\")","v":459473.15704881446},{"$f":"IFERROR('BT-Flex'!Y11,\"\")","v":0},{"$f":"IFERROR('EC-RE'!Z11,\"\")","v":667975.46071520681},{"$f":"IFERROR('EC-RP'!Z10,\"\")","v":1521388.3015303453},{"$f":"IFERROR('EC-Per'!W10,\"\")","v":-709332.11117054638},{"$f":"IFERROR('EC-Mar'!Y10,\"\")","v":1521388.3015303453},0,5115094.8396670651,4655621.6826182501,5323597.1433334574,6177009.9841485955,3946289.571447704,6177009.9841485955,4655621.6826182501,29702804.718074847]
[{"$f":"IF(ISBLANK(InfoPro!A5),\"\",InfoPro!A5)","v":"SC_454_A1"},{"$f":"IF(ISBLANK(InfoPro!H5),\"\",InfoPro!H5)","v":"SC_454"},{"$f":"IF(ISBLANK(InfoPro!B5),\"\",InfoPro!B5)","v":"PARQUE SOLAR SAN RAFAEL - 300 MW"},{"$f":"IF(ISBLANK(InfoPro!E5),\"\",InfoPro!E5)","v":300},{"$f":"IF(ISBLANK(InfoPro!C5),\"\",InfoPro!C5)","v":"2022-05-18"},{"$f":"IF(ISBLANK(InfoPro!D5),\"\",InfoPro!D5)","v":"14:59:00"},{"$f":"IF(ISBLANK(InfoPro!L5),\"\",InfoPro!L5)","v":"SI"},{"$f":"'IT-TA'!H5","v":0},{"$f":"IFERROR('BT-Confi'!Y12,\"\")","v":410977.77911342983},{"$f":"IFERROR('BT-Flex'!Y12,\"\")","v":0},{"$f":"IFERROR('EC-RE'!Z12,\"\")","v":597473.57845725107},{"$f":"IFERROR('EC-RP'!Z11,\"\")","v":1360812.4342847455},{"$f":"IFERROR('EC-Per'!W11,\"\")","v":-57098.791226955676},{"$f":"IFERROR('EC-Mar'!Y11,\"\")","v":1360812.4342847455},0,5066599.4617316797,4655621.6826182501,5253095.2610755013,6016434.1169029959,4598522.8913912941,6016434.1169029959,4655621.6826182501,29995176.976956688]
[{"$f":"IF(ISBLANK(InfoPro!A6),\"\",InfoPro!A6)","v":"SC_454_A2"},{"$f":"IF(ISBLANK(InfoPro!H6),\"\",InfoPro!H6)","v":"SC_454"},{"$f":"IF(ISBLANK(InfoPro!B6),\"\",InfoPro!B6)","v":"PARQUE SOLAR SAN RAFAEL - 300 MW"},{"$f":"IF(ISBLANK(InfoPro!E6),\"\",InfoPro!E6)","v":300},{"$f":"IF(ISBLANK(InfoPro!C6),\"\",InfoPro!C6)","v":"2022-05-18"},{"$f":"IF(ISBLANK(InfoPro!D6),\"\",InfoPro!D6)","v":"14:59:00"},{"$f":"IF(ISBLANK(InfoPro!L6),\"\",InfoPro!L6)","v":"NO"},{"$f":"'IT-TA'!H6","v":0},{"$f":"IFERROR('BT-Confi'!Y13,\"\")","v":410977.77911342983},{"$f":"IFERROR('BT-Flex'!Y13,\"\")","v":0},{"$f":"IFERROR('EC-RE'!Z13,\"\")","v":597473.57845725107},{"$f":"IFERROR('EC-RP'!Z12,\"\")","v":1360812.4342847455},{"$f":"IFERROR('EC-Per'!W12,\"\")","v":-55197.331699796334},{"$f":"IFERROR('EC-Mar'!Y12,\"\")","v":1360812.4342847455},0,5066599.4617316797,4655621.6826182501,5253095.2610755013,6016434.1169029959,4600424.3509184541,6016434.1169029959,4655621.6826182501,29997078.436483849]
[{"$f":"IF(ISBLANK(InfoPro!A7),\"\",InfoPro!A7)","v":"SC_483_A1"},{"$f":"IF(ISBLANK(InfoPro!H7),\"\",InfoPro!H7)","v":"SC_483"},{"$f":"IF(ISBLANK(InfoPro!B7),\"\",InfoPro!B7)","v":"PARQUE SOLAR LOMAS 39.9 MW"},{"$f":"IF(ISBLANK(InfoPro!E7),\"\",InfoPro!E7)","v":39.9},{"$f":"IF(ISBLANK(InfoPro!C7),\"\",InfoPro!C7)","v":"2022-05-21"},{"$f":"IF(ISBLANK(InfoPro!D7),\"\",InfoPro!D7)","v":"2:02 pm"},{"$f":"IF(ISBLANK(InfoPro!L7),\"\",InfoPro!L7)","v":"NO"},{"$f":"'IT-TA'!H7","v":0},{"$f":"IFERROR('BT-Confi'!Y14,\"\")","v":459473.15704881452},{"$f":"IFERROR('BT-Flex'!Y14,\"\")","v":0},{"$f":"IFERROR('EC-RE'!Z14,\"\")","v":667975.46071520657},{"$f":"IFERROR('EC-RP'!Z13,\"\")","v":1521388.3015303451},{"$f":"IFERROR('EC-Per'!W13,\"\")","v":-328394.8392365888},{"$f":"IFERROR('EC-Mar'!Y13,\"\")","v":1521388.3015303451},0,5115094.8396670651,4655621.6826182501,5323597.1433334565,6177009.9841485955,4327226.843381661,6177009.9841485955,4655621.6826182501,30083741.990008805]
[{"$f":"IF(ISBLANK(InfoPro!A8),\"\",InfoPro!A8)","v":"SC_586_A1"},{"$f":"IF(ISBLANK(InfoPro!H8),\"\",InfoPro!H8)","v":"SC_586"},{"$f":"IF(ISBLANK(InfoPro!B8),\"\",InfoPro!B8)","v":"Orquídea del Sucre - Sierra Flor 60 MW"},{"$f":"IF(ISBLANK(InfoPro!E8),\"\",InfoPro!E8)","v":60},{"$f":"IF(ISBLANK(InfoPro!C8),\"\",InfoPro!C8)","v":"2022-06-24"},{"$f":"IF(ISBLANK(InfoPro!D8),\"\",InfoPro!D8)","v":"4:46 pm"},{"$f":"IF(ISBLANK(InfoPro!L8),\"\",InfoPro!L8)","v":"NO"},{"$f":"'IT-TA'!H8","v":0},{"$f":"IFERROR('BT-Confi'!Y15,\"\")","v":367600.8757722986},{"$f":"IFERROR('BT-Flex'!Y15,\"\")","v":0},{"$f":"IFERROR('EC-RE'!Z15,\"\")","v":534412.86087410653},{"$f":"IFERROR('EC-RP'!Z14,\"\")","v":1217184.6460507561},{"$f":"IFERROR('EC-Per'!W14,\"\")","v":-115159.93369088457},{"$f":"IFERROR('EC-Mar'!Y14,\"\")","v":1217184.6460507561},0,5023222.5583905485,4655621.6826182501,5190034.5434923563,5872806.328669006,4540461.748927366,5872806.328669006,4655621.6826182501,29615236.531217504]
[{"$f":"IF(ISBLANK(InfoPro!A9),\"\",InfoPro!A9)","v":"SC_586_A2"},{"$f":"IF(ISBLANK(InfoPro!H9),\"\",InfoPro!H9)","v":"SC_586"},{"$f":"IF(ISBLANK(InfoPro!B9),\"\",InfoPro!B9)","v":"Orquídea del Sucre - Sierra Flor 60 MW"},{"$f":"IF(ISBLANK(InfoPro!E9),\"\",InfoPro!E9)","v":60},{"$f":"IF(ISBLANK(InfoPro!C9),\"\",InfoPro!C9)","v":"2022-06-24"},{"$f":"IF(ISBLANK(InfoPro!D9),\"\",InfoPro!D9)","v":"4:46 pm"},{"$f":"IF(ISBLANK(InfoPro!L9),\"\",InfoPro!L9)","v":"NO"},{"$f":"'IT-TA'!H9","v":0},{"$f":"IFERROR('BT-Confi'!Y16,\"\")","v":367600.8757722986},{"$f":"IFERROR('BT-Flex'!Y16,\"\")","v":0},{"$f":"IFERROR('EC-RE'!Z16,\"\")","v":534412.86087410653},{"$f":"IFERROR('EC-RP'!Z15,\"\")","v":1217184.6460507561},{"$f":"IFERROR('EC-Per'!W15,\"\")","v":-116086.84591040846},{"$f":"IFERROR('EC-Mar'!Y15,\"\")","v":1217184.6460507561},0,5023222.5583905485,4655621.6826182501,5190034.5434923563,5872806.328669006,4539534.8367078416,5872806.328669006,4655621.6826182501,29614309.61899798]
[{"$f":"IF(ISBLANK(InfoPro!A10),\"\",InfoPro!A10)","v":"SC_681_A1"},{"$f":"IF(ISBLANK(InfoPro!H10),\"\",InfoPro!H10)","v":"SC_681"},{"$f":"IF(ISBLANK(InfoPro!B10),\"\",InfoPro!B10)","v":"PARQUE SOLARLAS LAS PALMAS de 90MW"},{"$f":"IF(ISBLANK(InfoPro!E10),\"\",InfoPro!E10)","v":90},{"$f":"IF(ISBLANK(InfoPro!C10),\"\",InfoPro!C10)","v":"2022-06-28"},{"$f":"IF(ISBLANK(InfoPro!D10),\"\",InfoPro!D10)","v":"5:31 pm"},{"$f":"IF(ISBLANK(InfoPro!L10),\"\",InfoPro!L10)","v":"NO"},{"$f":"'IT-TA'!H10","v":0},{"$f":"IFERROR('BT-Confi'!Y17,\"\")","v":459473.15704881458},{"$f":"IFERROR('BT-Flex'!Y17,\"\")","v":0},{"$f":"IFERROR('EC-RE'!Z17,\"\")","v":667975.46071520669},{"$f":"IFERROR('EC-RP'!Z16,\"\")","v":1521388.3015303446},{"$f":"IFERROR('EC-Per'!W16,\"\")","v":-146381.62522296616},{"$f":"IFERROR('EC-Mar'!Y16,\"\")","v":1521388.3015303446},0,5115094.8396670651,4655621.6826182501,5323597.1433334565,6177009.9841485946,4509240.0573952841,6177009.9841485946,4655621.6826182501,30265755.204022422]
[{"$f":"IF(ISBLANK(InfoPro!A11),\"\",InfoPro!A11)","v":"SC_681_A2"},{"$f":"IF(ISBLANK(InfoPro!H11),\"\",InfoPro!H11)","v":"SC_681"},{"$f":"IF(ISBLANK(InfoPro!B11),\"\",InfoPro!B11)","v":"PARQUE SOLARLAS LAS PALMAS de 90MW"},{"$f":"IF(ISBLANK(InfoPro!E11),\"\",InfoPro!E11)","v":90},{"$f":"IF(ISBLANK(InfoPro!C11),\"\",InfoPro!C11)","v":"2022-06-28"},{"$f":"IF(ISBLANK(InfoPro!D11),\"\",InfoPro!D11)","v":"5:31 pm"},{"$f":"IF(ISBLANK(InfoPro!L11),\"\",InfoPro!L11)","v":"NO"},{"$f":"'IT-TA'!H11","v":0},{"$f":"IFERROR('BT-Confi'!Y18,\"\")","v":459473.15704881458},{"$f":"IFERROR('BT-Flex'!Y18,\"\")","v":0},{"$f":"IFERROR('EC-RE'!Z18,\"\")","v":667975.46071520669},{"$f":"IFERROR('EC-RP'!Z17,\"\")","v":1521388.3015303446},{"$f":"IFERROR('EC-Per'!W17,\"\")","v":-150586.48339813214},{"$f":"IFERROR('EC-Mar'!Y17,\"\")","v":1521388.3015303446},0,5115094.8396670651,4655621.6826182501,5323597.1433334565,6177009.9841485946,4505035.1992201181,6177009.9841485946,4655621.6826182501,30261550.345847256]
[{"$f":"IF(ISBLANK(InfoPro!A12),\"\",InfoPro!A12)","v":"SC_720_A1"},{"$f":"IF(ISBLANK(InfoPro!H12),\"\",InfoPro!H12)","v":"SC_720"},{"$f":"IF(ISBLANK(InfoPro!B12),\"\",InfoPro!B12)","v":"El Jazmín"},{"$f":"IF(ISBLANK(InfoPro!E12),\"\",InfoPro!E12)","v":19.899999999999999},{"$f":"IF(ISBLANK(InfoPro!C12),\"\",InfoPro!C12)","v":"2022-07-01"},{"$f":"IF(ISBLANK(InfoPro!D12),\"\",InfoPro!D12)","v":"12:57 pm"},{"$f":"IF(ISBLANK(InfoPro!L12),\"\",InfoPro!L12)","v":"NO"},{"$f":"'IT-TA'!H12","v":0},{"$f":"IFERROR('BT-Confi'!Y19,\"\")","v":459473.15704881458},{"$f":"IFERROR('BT-Flex'!Y19,\"\")","v":0},{"$f":"IFERROR('EC-RE'!Z19,\"\")","v":667975.46071520681},{"$f":"IFERROR('EC-RP'!Z18,\"\")","v":1521388.3015303449},{"$f":"IFERROR('EC-Per'!W18,\"\")","v":-134969.2122542689},{"$f":"IFERROR('EC-Mar'!Y18,\"\")","v":1521388.3015303449},0,5115094.8396670651,4655621.6826182501,5323597.1433334574,6177009.9841485955,4520652.4703639811,6177009.9841485955,4655621.6826182501,30277167.616991125]
[{"$f":"IF(ISBLANK(InfoPro!A13),\"\",InfoPro!A13)","v":"SC_720_A2"},{"$f":"IF(ISBLANK(InfoPro!H13),\"\",InfoPro!H13)","v":"SC_720"},{"$f":"IF(ISBLANK(InfoPro!B13),\"\",InfoPro!B13)","v":"El Jazmín"},{"$f":"IF(ISBLANK(InfoPro!E13),\"\",InfoPro!E13)","v":19.899999999999999},{"$f":"IF(ISBLANK(InfoPro!C13),\"\",InfoPro!C13)","v":"2022-07-01"},{"$f":"IF(ISBLANK(InfoPro!D13),\"\",InfoPro!D13)","v":"12:57 pm"},{"$f":"IF(ISBLANK(InfoPro!L13),\"\",InfoPro!L13)","v":"NO"},{"$f":"'IT-TA'!H13","v":0},{"$f":"IFERROR('BT-Confi'!Y20,\"\")","v":459473.15704881458},{"$f":"IFERROR('BT-Flex'!Y20,\"\")","v":0},{"$f":"IFERROR('EC-RE'!Z20,\"\")","v":667975.46071520681},{"$f":"IFERROR('EC-RP'!Z19,\"\")","v":1521388.3015303449},{"$f":"IFERROR('EC-Per'!W19,\"\")","v":-134572.82777522496},{"$f":"IFERROR('EC-Mar'!Y19,\"\")","v":1521388.3015303449},0,5115094.8396670651,4655621.6826182501,5323597.1433334574,6177009.9841485955,4521048.8548430251,6177009.9841485955,4655621.6826182501,30277564.001470167]
[{"$f":"IF(ISBLANK(InfoPro!A14),\"\",InfoPro!A14)","v":"SC_713_A1"},{"$f":"IF(ISBLANK(InfoPro!H14),\"\",InfoPro!H14)","v":"SC_713"},{"$f":"IF(ISBLANK(InfoPro!B14),\"\",InfoPro!B14)","v":"Crucero - 300MW"},{"$f":"IF(ISBLANK(InfoPro!E14),\"\",InfoPro!E14)","v":300},{"$f":"IF(ISBLANK(InfoPro!C14),\"\",InfoPro!C14)","v":"2022-07-01"},{"$f":"IF(ISBLANK(InfoPro!D14),\"\",InfoPro!D14)","v":"1:56 pm"},{"$f":"IF(ISBLANK(InfoPro!L14),\"\",InfoPro!L14)","v":"NO"},{"$f":"'IT-TA'!H14","v":0},{"$f":"IFERROR('BT-Confi'!Y21,\"\")","v":367600.8757722986},{"$f":"IFERROR('BT-Flex'!Y21,\"\")","v":0},{"$f":"IFERROR('EC-RE'!Z21,\"\")","v":534412.86087410664},{"$f":"IFERROR('EC-RP'!Z20,\"\")","v":1217184.6460507561},{"$f":"IFERROR('EC-Per'!W20,\"\")","v":-118836.51729044222},{"$f":"IFERROR('EC-Mar'!Y20,\"\")","v":1217184.6460507561},{"$f":"IF(C17=\"\",\"\",(SUMIF(I17:N17,\">0\"))*(H17/100))","v":0},5023222.5583905485,4655621.6826182501,5190034.5434923563,5872806.328669006,4536785.1653278079,5872806.328669006,4655621.6826182501,{"$f":"IFERROR((+$P$1*P17+$Q$1*Q17+$R$1*R17+$S$1*S17+$T$1*T17+U17*$U$1+$V$1*V17),\"\")","v":29611559.947617944}]
[{"$f":"IF(ISBLANK(InfoPro!A15),\"\",InfoPro!A15)","v":"SC_836_A1"},{"$f":"IF(ISBLANK(InfoPro!H15),\"\",InfoPro!H15)","v":"SC_836"},{"$f":"IF(ISBLANK(InfoPro!B15),\"\",InfoPro!B15)","v":"BONGO DEL SINÚ DE 19.9 MW"},{"$f":"IF(ISBLANK(InfoPro!E15),\"\",InfoPro!E15)","v":19.899999999999999},{"$f":"IF(ISBLANK(InfoPro!C15),\"\",InfoPro!C15)","v":"2022-07-09"},{"$f":"IF(ISBLANK(InfoPro!D15),\"\",InfoPro!D15)","v":"6:03 pm"},{"$f":"IF(ISBLANK(InfoPro!L15),\"\",InfoPro!L15)","v":"NO"},{"$f":"'IT-TA'!H15","v":0},{"$f":"IFERROR('BT-Confi'!Y22,\"\")","v":459473.15704881458},{"$f":"IFERROR('BT-Flex'!Y22,\"\")","v":0},{"$f":"IFERROR('EC-RE'!Z22,\"\")","v":667975.46071520681},{"$f":"IFERROR('EC-RP'!Z21,\"\")","v":1521388.3015303449},{"$f":"IFERROR('EC-Per'!W21,\"\")","v":-295951.2302307472},{"$f":"IFERROR('EC-Mar'!Y21,\"\")","v":1521388.3015303449},0,5115094.8396670651,4655621.6826182501,5323597.1433334574,6177009.9841485955,4359670.4523875033,6177009.9841485955,4655621.6826182501,30116185.599014647]
[{"$f":"IF(ISBLANK(InfoPro!A16),\"\",InfoPro!A16)","v":"SC_836_A2"},{"$f":"IF(ISBLANK(InfoPro!H16),\"\",InfoPro!H16)","v":"SC_836"},{"$f":"IF(ISBLANK(InfoPro!B16),\"\",InfoPro!B16)","v":"BONGO DEL SINÚ DE 19.9 MW"},{"$f":"IF(ISBLANK(InfoPro!E16),\"\",InfoPro!E16)","v":19.899999999999999},{"$f":"IF(ISBLANK(InfoPro!C16),\"\",InfoPro!C16)","v":"2022-07-09"},{"$f":"IF(ISBLANK(InfoPro!D16),\"\",InfoPro!D16)","v":"6:03 pm"},{"$f":"IF(ISBLANK(InfoPro!L16),\"\",InfoPro!L16)","v":"NO"},{"$f":"'IT-TA'!H16","v":0},{"$f":"IFERROR('BT-Confi'!Y23,\"\")","v":459473.15704881458},{"$f":"IFERROR('BT-Flex'!Y23,\"\")","v":0},{"$f":"IFERROR('EC-RE'!Z23,\"\")","v":667975.46071520681},{"$f":"IFERROR('EC-RP'!Z22,\"\")","v":1521388.3015303449},{"$f":"IFERROR('EC-Per'!W22,\"\")","v":-306053.98306994943},{"$f":"IFERROR('EC-Mar'!Y22,\"\")","v":1521388.3015303449},0,5115094.8396670651,4655621.6826182501,5323597.1433334574,6177009.9841485955,4349567.6995483004,6177009.9841485955,4655621.6826182501,30106082.846175443]
[{"$f":"IF(ISBLANK(InfoPro!A17),\"\",InfoPro!A17)","v":"SC_778_A1"},{"$f":"IF(ISBLANK(InfoPro!H17),\"\",InfoPro!H17)","v":"SC_778"},{"$f":"IF(ISBLANK(InfoPro!B17),\"\",InfoPro!B17)","v":"KOS 19.9"},{"$f":"IF(ISBLANK(InfoPro!E17),\"\",InfoPro!E17)","v":19.899999999999999},{"$f":"IF(ISBLANK(InfoPro!C17),\"\",InfoPro!C17)","v":"2022-07-12"},{"$f":"IF(ISBLANK(InfoPro!D17),\"\",InfoPro!D17)","v":"3:56 pm"},{"$f":"IF(ISBLANK(InfoPro!L17),\"\",InfoPro!L17)","v":"NO"},{"$f":"'IT-TA'!H17","v":0},{"$f":"IFERROR('BT-Confi'!Y24,\"\")","v":459473.15704881458},{"$f":"IFERROR('BT-Flex'!Y24,\"\")","v":0},{"$f":"IFERROR('EC-RE'!Z24,\"\")","v":667975.46071520681},{"$f":"IFERROR('EC-RP'!Z23,\"\")","v":1521388.3015303449},{"$f":"IFERROR('EC-Per'!W23,\"\")","v":-86633.482714474085},{"$f":"IFERROR('EC-Mar'!Y23,\"\")","v":1521388.3015303449},0,5115094.8396670651,4655621.6826182501,5323597.1433334574,6177009.9841485955,4568988.1999037759,6177009.9841485955,4655621.6826182501,30325503.346530918]
[{"$f":"IF(ISBLANK(InfoPro!A18),\"\",InfoPro!A18)","v":"SC_778_A2"},{"$f":"IF(ISBLANK(InfoPro!H18),\"\",InfoPro!H18)","v":"SC_778"},{"$f":"IF(ISBLANK(InfoPro!B18),\"\",InfoPro!B18)","v":"KOS 19.9"},{"$f":"IF(ISBLANK(InfoPro!E18),\"\",InfoPro!E18)","v":19.899999999999999},{"$f":"IF(ISBLANK(InfoPro!C18),\"\",InfoPro!C18)","v":"2022-07-12"},{"$f":"IF(ISBLANK(InfoPro!D18),\"\",InfoPro!D18)","v":"3:56 pm"},{"$f":"IF(ISBLANK(InfoPro!L18),\"\",InfoPro!L18)","v":"NO"},{"$f":"'IT-TA'!H18","v":0},{"$f":"IFERROR('BT-Confi'!Y25,\"\")","v":459473.15704881458},{"$f":"IFERROR('BT-Flex'!Y25,\"\")","v":0},{"$f":"IFERROR('EC-RE'!Z25,\"\")","v":667975.46071520681},{"$f":"IFERROR('EC-RP'!Z24,\"\")","v":1521388.3015303449},{"$f":"IFERROR('EC-Per'!W24,\"\")","v":-83107.621973592511},{"$f":"IFERROR('EC-Mar'!Y24,\"\")","v":1521388.3015303449},0,5115094.8396670651,4655621.6826182501,5323597.1433334574,6177009.9841485955,4572514.0606446574,6177009.9841485955,4655621.6826182501,30329029.207271799]
[{"$f":"IF(ISBLANK(InfoPro!A19),\"\",InfoPro!A19)","v":"SC_942_A1"},{"$f":"IF(ISBLANK(InfoPro!H19),\"\",InfoPro!H19)","v":"SC_942"},{"$f":"IF(ISBLANK(InfoPro!B19),\"\",InfoPro!B19)","v":"PASCUA_60MW"},{"$f":"IF(ISBLANK(InfoPro!E19),\"\",InfoPro!E19)","v":60},{"$f":"IF(ISBLANK(InfoPro!C19),\"\",InfoPro!C19)","v":"2022-07-12"},{"$f":"IF(ISBLANK(InfoPro!D19),\"\",InfoPro!D19)","v":"4:46 pm"},{"$f":"IF(ISBLANK(InfoPro!L19),\"\",InfoPro!L19)","v":"NO"},{"$f":"'IT-TA'!H19","v":0},{"$f":"IFERROR('BT-Confi'!Y26,\"\")","v":410977.77911342977},{"$f":"IFERROR('BT-Flex'!Y26,\"\")","v":0},{"$f":"IFERROR('EC-RE'!Z26,\"\")","v":597473.57845725119},{"$f":"IFERROR('EC-RP'!Z25,\"\")","v":1360812.4342847448},{"$f":"IFERROR('EC-Per'!W25,\"\")","v":-53515.329663263932},{"$f":"IFERROR('EC-Mar'!Y25,\"\")","v":1360812.4342847448},0,5066599.4617316797,4655621.6826182501,5253095.2610755013,6016434.1169029949,4602106.3529549865,6016434.1169029949,4655621.6826182501,29998760.438520383]
[{"$f":"IF(ISBLANK(InfoPro!A20),\"\",InfoPro!A20)","v":"SC_942_A2"},{"$f":"IF(ISBLANK(InfoPro!H20),\"\",InfoPro!H20)","v":"SC_942"},{"$f":"IF(ISBLANK(InfoPro!B20),\"\",InfoPro!B20)","v":"PASCUA_60MW"},{"$f":"IF(ISBLANK(InfoPro!E20),\"\",InfoPro!E20)","v":60},{"$f":"IF(ISBLANK(InfoPro!C20),\"\",InfoPro!C20)","v":"2022-07-12"},{"$f":"IF(ISBLANK(InfoPro!D20),\"\",InfoPro!D20)","v":"4:46 pm"},{"$f":"IF(ISBLANK(InfoPro!L20),\"\",InfoPro!L20)","v":"NO"},{"$f":"'IT-TA'!H20","v":0},{"$f":"IFERROR('BT-Confi'!Y27,\"\")","v":410977.77911342977},{"$f":"IFERROR('BT-Flex'!Y27,\"\")","v":0},{"$f":"IFERROR('EC-RE'!Z27,\"\")","v":597473.57845725119},{"$f":"IFERROR('EC-RP'!Z26,\"\")","v":1360812.4342847448},{"$f":"IFERROR('EC-Per'!W26,\"\")","v":-47666.244535909747},{"$f":"IFERROR('EC-Mar'!Y26,\"\")","v":1360812.4342847448},0,5066599.4617316797,4655621.6826182501,5253095.2610755013,6016434.1169029949,4607955.4380823402,6016434.1169029949,4655621.6826182501,30004609.523647737]
[{"$f":"IF(ISBLANK(InfoPro!A21),\"\",InfoPro!A21)","v":"SC_1763_A1"},{"$f":"IF(ISBLANK(InfoPro!H21),\"\",InfoPro!H21)","v":"SC_1763"},{"$f":"IF(ISBLANK(InfoPro!B21),\"\",InfoPro!B21)","v":"Taurus Solar de 22MW (19,5 MW)"},{"$f":"IF(ISBLANK(InfoPro!E21),\"\",InfoPro!E21)","v":19.5},{"$f":"IF(ISBLANK(InfoPro!C21),\"\",InfoPro!C21)","v":"2022-07-12"},{"$f":"IF(ISBLANK(InfoPro!D21),\"\",InfoPro!D21)","v":"10:01 pm"},{"$f":"IF(ISBLANK(InfoPro!L21),\"\",InfoPro!L21)","v":"NO"},{"$f":"'IT-TA'!H21","v":0},{"$f":"IFERROR('BT-Confi'!Y28,\"\")","v":459473.15704881452},{"$f":"IFERROR('BT-Flex'!Y28,\"\")","v":0},{"$f":"IFERROR('EC-RE'!Z28,\"\")","v":667975.46071520657},{"$f":"IFERROR('EC-RP'!Z27,\"\")","v":1521388.3015303451},{"$f":"IFERROR('EC-Per'!W27,\"\")","v":-67938.508092351796},{"$f":"IFERROR('EC-Mar'!Y27,\"\")","v":1521388.3015303451},0,5115094.8396670651,4655621.6826182501,5323597.1433334565,6177009.9841485955,4587683.1745258979,6177009.9841485955,4655621.6826182501,30344198.321153041]
[{"$f":"IF(ISBLANK(InfoPro!A22),\"\",InfoPro!A22)","v":"SC_1763_A2"},{"$f":"IF(ISBLANK(InfoPro!H22),\"\",InfoPro!H22)","v":"SC_1763"},{"$f":"IF(ISBLANK(InfoPro!B22),\"\",InfoPro!B22)","v":"Taurus Solar de 22MW (19,5 MW)"},{"$f":"IF(ISBLANK(InfoPro!E22),\"\",InfoPro!E22)","v":19.5},{"$f":"IF(ISBLANK(InfoPro!C22),\"\",InfoPro!C22)","v":"2022-07-12"},{"$f":"IF(ISBLANK(InfoPro!D22),\"\",InfoPro!D22)","v":"10:01 pm"},{"$f":"IF(ISBLANK(InfoPro!L22),\"\",InfoPro!L22)","v":"NO"},{"$f":"'IT-TA'!H22","v":0},{"$f":"IFERROR('BT-Confi'!Y29,\"\")","v":459473.15704881452},{"$f":"IFERROR('BT-Flex'!Y29,\"\")","v":0},{"$f":"IFERROR('EC-RE'!Z29,\"\")","v":667975.46071520657},{"$f":"IFERROR('EC-RP'!Z28,\"\")","v":1521388.3015303451},{"$f":"IFERROR('EC-Per'!W28,\"\")","v":-38791.393487721973},{"$f":"IFERROR('EC-Mar'!Y28,\"\")","v":1521388.3015303451},0,5115094.8396670651,4655621.6826182501,5323597.1433334565,6177009.9841485955,4616830.2891305285,6177009.9841485955,4655621.6826182501,30373345.435757671]
[{"$f":"IF(ISBLANK(InfoPro!A23),\"\",InfoPro!A23)","v":"SC_828_A1"},{"$f":"IF(ISBLANK(InfoPro!H23),\"\",InfoPro!H23)","v":"SC_828"},{"$f":"IF(ISBLANK(InfoPro!B23),\"\",InfoPro!B23)","v":"PARQUE SOLAR EL VASCO"},{"$f":"IF(ISBLANK(InfoPro!E23),\"\",InfoPro!E23)","v":60},{"$f":"IF(ISBLANK(InfoPro!C23),\"\",InfoPro!C23)","v":"2022-07-13"},{"$f":"IF(ISBLANK(InfoPro!D23),\"\",InfoPro!D23)","v":"9:28:00 am"},{"$f":"IF(ISBLANK(InfoPro!L23),\"\",InfoPro!L23)","v":"NO"},{"$f":"'IT-TA'!H23","v":0},{"$f":"IFERROR('BT-Confi'!Y30,\"\")","v":410977.77911342977},{"$f":"IFERROR('BT-Flex'!Y30,\"\")","v":0},{"$f":"IFERROR('EC-RE'!Z30,\"\")","v":597473.57845725119},{"$f":"IFERROR('EC-RP'!Z29,\"\")","v":1360812.4342847448},{"$f":"IFERROR('EC-Per'!W29,\"\")","v":-13.751353043784137},{"$f":"IFERROR('EC-Mar'!Y29,\"\")","v":1360812.4342847448},0,5066599.4617316797,4655621.6826182501,5253095.2610755013,6016434.1169029949,4655607.9312652061,6016434.1169029949,4655621.6826182501,30052262.016830601]
[{"$f":"IF(ISBLANK(InfoPro!A24),\"\",InfoPro!A24)","v":"SC_828_A2"},{"$f":"IF(ISBLANK(InfoPro!H24),\"\",InfoPro!H24)","v":"SC_828"},{"$f":"IF(ISBLANK(InfoPro!B24),\"\",InfoPro!B24)","v":"PARQUE SOLAR EL VASCO"},{"$f":"IF(ISBLANK(InfoPro!E24),\"\",InfoPro!E24)","v":60},{"$f":"IF(ISBLANK(InfoPro!C24),\"\",InfoPro!C24)","v":"2022-07-13"},{"$f":"IF(ISBLANK(InfoPro!D24),\"\",InfoPro!D24)","v":"9:28:00 am"},{"$f":"IF(ISBLANK(InfoPro!L24),\"\",InfoPro!L24)","v":"NO"},{"$f":"'IT-TA'!H24","v":0},{"$f":"IFERROR('BT-Confi'!Y31,\"\")","v":410977.77911342977},{"$f":"IFERROR('BT-Flex'!Y31,\"\")","v":0},{"$f":"IFERROR('EC-RE'!Z31,\"\")","v":597473.57845725119},{"$f":"IFERROR('EC-RP'!Z30,\"\")","v":1360812.4342847448},{"$f":"IFERROR('EC-Per'!W30,\"\")","v":-13.751353043784137},{"$f":"IFERROR('EC-Mar'!Y30,\"\")","v":1360812.4342847448},0,5066599.4617316797,4655621.6826182501,5253095.2610755013,6016434.1169029949,4655607.9312652061,6016434.1169029949,4655621.6826182501,30052262.016830601]
[{"$f":"IF(ISBLANK(InfoPro!A25),\"\",InfoPro!A25)","v":"SC_1179_A1"},{"$f":"IF(ISBLANK(InfoPro!H25),\"\",InfoPro!H25)","v":"SC_1179"},{"$f":"IF(ISBLANK(InfoPro!B25),\"\",InfoPro!B25)","v":"Montes 90 MW"},{"$f":"IF(ISBLANK(InfoPro!E25),\"\",InfoPro!E25)","v":90},{"$f":"IF(ISBLANK(InfoPro!C25),\"\",InfoPro!C25)","v":"2022-07-14"},{"$f":"IF(ISBLANK(InfoPro!D25),\"\",InfoPro!D25)","v":"5:28 pm"},{"$f":"IF(ISBLANK(InfoPro!L25),\"\",InfoPro!L25)","v":"NO"},{"$f":"'IT-TA'!H25","v":0},{"$f":"IFERROR('BT-Confi'!Y32,\"\")","v":410977.77911342983},{"$f":"IFERROR('BT-Flex'!Y32,\"\")","v":0},{"$f":"IFERROR('EC-RE'!Z32,\"\")","v":597473.57845725107},{"$f":"IFERROR('EC-RP'!Z31,\"\")","v":1360812.4342847448},{"$f":"IFERROR('EC-Per'!W31,\"\")","v":-98492.597014453888},{"$f":"IFERROR('EC-Mar'!Y31,\"\")","v":1360812.4342847448},0,5066599.4617316797,4655621.6826182501,5253095.2610755013,6016434.1169029949,4557129.0856037959,6016434.1169029949,4655621.6826182501,29953783.171169192]
[{"$f":"IF(ISBLANK(InfoPro!A26),\"\",InfoPro!A26)","v":"SC_1179_A2"},{"$f":"IF(ISBLANK(InfoPro!H26),\"\",InfoPro!H26)","v":"SC_1179"},{"$f":"IF(ISBLANK(InfoPro!B26),\"\",InfoPro!B26)","v":"Montes 90 MW"},{"$f":"IF(ISBLANK(InfoPro!E26),\"\",InfoPro!E26)","v":90},{"$f":"IF(ISBLANK(InfoPro!C26),\"\",InfoPro!C26)","v":"2022-07-14"},{"$f":"IF(ISBLANK(InfoPro!D26),\"\",InfoPro!D26)","v":"5:28 pm"},{"$f":"IF(ISBLANK(InfoPro!L26),\"\",InfoPro!L26)","v":"NO"},{"$f":"'IT-TA'!H26","v":0},{"$f":"IFERROR('BT-Confi'!Y33,\"\")","v":410977.77911342983},{"$f":"IFERROR('BT-Flex'!Y33,\"\")","v":0},{"$f":"IFERROR('EC-RE'!Z33,\"\")","v":597473.57845725107},{"$f":"IFERROR('EC-RP'!Z32,\"\")","v":1360812.4342847448},{"$f":"IFERROR('EC-Per'!W32,\"\")","v":-92263.351618551664},{"$f":"IFERROR('EC-Mar'!Y32,\"\")","v":1360812.4342847448},0,5066599.4617316797,4655621.6826182501,5253095.2610755013,6016434.1169029949,4563358.3309996985,6016434.1169029949,4655621.6826182501,29960012.416565094]
[{"$f":"IF(ISBLANK(InfoPro!A27),\"\",InfoPro!A27)","v":"SC_1206_A1"},{"$f":"IF(ISBLANK(InfoPro!H27),\"\",InfoPro!H27)","v":"SC_1206"},{"$f":"IF(ISBLANK(InfoPro!B27),\"\",InfoPro!B27)","v":"Cerromatoso Solar 300 MW"},{"$f":"IF(ISBLANK(InfoPro!E27),\"\",InfoPro!E27)","v":300},{"$f":"IF(ISBLANK(InfoPro!C27),\"\",InfoPro!C27)","v":"2022-07-15"},{"$f":"IF(ISBLANK(InfoPro!D27),\"\",InfoPro!D27)","v":"8:51 am"},{"$f":"IF(ISBLANK(InfoPro!L27),\"\",InfoPro!L27)","v":"NO"},{"$f":"'IT-TA'!H27","v":0},{"$f":"IFERROR('BT-Confi'!Y34,\"\")","v":328802.21446538338},{"$f":"IFERROR('BT-Flex'!Y34,\"\")","v":0},{"$f":"IFERROR('EC-RE'!Z34,\"\")","v":478007.92564768024},{"$f":"IFERROR('EC-RP'!Z33,\"\")","v":1088716.1413691915},{"$f":"IFERROR('EC-Per'!W33,\"\")","v":-72752.606948080487},{"$f":"IFERROR('EC-Mar'!Y33,\"\")","v":1088716.1413691915},0,4984423.8970836336,4655621.6826182501,5133629.6082659308,5744337.8239874411,4582869.0756701697,5744337.8239874411,4655621.6826182501,29369737.504404616]
[{"$f":"IF(ISBLANK(InfoPro!A28),\"\",InfoPro!A28)","v":"SC_1206_A2"},{"$f":"IF(ISBLANK(InfoPro!H28),\"\",InfoPro!H28)","v":"SC_1206"},{"$f":"IF(ISBLANK(InfoPro!B28),\"\",InfoPro!B28)","v":"Cerromatoso Solar 300 MW"},{"$f":"IF(ISBLANK(InfoPro!E28),\"\",InfoPro!E28)","v":300},{"$f":"IF(ISBLANK(InfoPro!C28),\"\",InfoPro!C28)","v":"2022-07-15"},{"$f":"IF(ISBLANK(InfoPro!D28),\"\",InfoPro!D28)","v":"8:51 am"},{"$f":"IF(ISBLANK(InfoPro!L28),\"\",InfoPro!L28)","v":"NO"},{"$f":"'IT-TA'!H28","v":0},{"$f":"IFERROR('BT-Confi'!Y35,\"\")","v":328802.21446538338},{"$f":"IFERROR('BT-Flex'!Y35,\"\")","v":0},{"$f":"IFERROR('EC-RE'!Z35,\"\")","v":478007.92564768024},{"$f":"IFERROR('EC-RP'!Z34,\"\")","v":1088716.1413691915},{"$f":"IFERROR('EC-Per'!W34,\"\")","v":-112048.60597044422},{"$f":"IFERROR('EC-Mar'!Y34,\"\")","v":1088716.1413691915},0,4984423.8970836336,4655621.6826182501,5133629.6082659308,5744337.8239874411,4543573.076647806,5744337.8239874411,4655621.6826182501,29330441.505382258]
[{"$f":"IF(ISBLANK(InfoPro!A29),\"\",InfoPro!A29)","v":"SC_1372_A1"},{"$f":"IF(ISBLANK(InfoPro!H29),\"\",InfoPro!H29)","v":"SC_1372"},{"$f":"IF(ISBLANK(InfoPro!B29),\"\",InfoPro!B29)","v":"Pétalo del Bolívar I Magangué"},{"$f":"IF(ISBLANK(InfoPro!E29),\"\",InfoPro!E29)","v":9.9},{"$f":"IF(ISBLANK(InfoPro!C29),\"\",InfoPro!C29)","v":"2022-07-15"},{"$f":"IF(ISBLANK(InfoPro!D29),\"\",InfoPro!D29)","v":"09:04:00"},{"$f":"IF(ISBLANK(InfoPro!L29),\"\",InfoPro!L29)","v":"NO"},{"$f":"'IT-TA'!H29","v":0},{"$f":"IFERROR('BT-Confi'!Y36,\"\")","v":459473.15704881464},{"$f":"IFERROR('BT-Flex'!Y36,\"\")","v":0},{"$f":"IFERROR('EC-RE'!Z36,\"\")","v":667975.46071520657},{"$f":"IFERROR('EC-RP'!Z35,\"\")","v":1521388.3015303449},{"$f":"IFERROR('EC-Per'!W35,\"\")","v":-115038.70795023735},{"$f":"IFERROR('EC-Mar'!Y35,\"\")","v":1521388.3015303449},0,5115094.8396670651,4655621.6826182501,5323597.1433334565,6177009.9841485955,4540582.9746680129,6177009.9841485955,4655621.6826182501,30297098.121295154]
[{"$f":"IF(ISBLANK(InfoPro!A30),\"\",InfoPro!A30)","v":"SC_1372_A2"},{"$f":"IF(ISBLANK(InfoPro!H30),\"\",InfoPro!H30)","v":"SC_1372"},{"$f":"IF(ISBLANK(InfoPro!B30),\"\",InfoPro!B30)","v":"Pétalo del Bolívar I Magangué"},{"$f":"IF(ISBLANK(InfoPro!E30),\"\",InfoPro!E30)","v":9.9},{"$f":"IF(ISBLANK(InfoPro!C30),\"\",InfoPro!C30)","v":"2022-07-15"},{"$f":"IF(ISBLANK(InfoPro!D30),\"\",InfoPro!D30)","v":"09:04:00"},{"$f":"IF(ISBLANK(InfoPro!L30),\"\",InfoPro!L30)","v":"NO"},{"$f":"'IT-TA'!H30","v":0},{"$f":"IFERROR('BT-Confi'!Y37,\"\")","v":459473.15704881464},{"$f":"IFERROR('BT-Flex'!Y37,\"\")","v":0},{"$f":"IFERROR('EC-RE'!Z37,\"\")","v":667975.46071520657},{"$f":"IFERROR('EC-RP'!Z36,\"\")","v":1521388.3015303449},{"$f":"IFERROR('EC-Per'!W36,\"\")","v":-113099.93385413097},{"$f":"IFERROR('EC-Mar'!Y36,\"\")","v":1521388.3015303449},0,5115094.8396670651,4655621.6826182501,5323597.1433334565,6177009.9841485955,4542521.7487641191,6177009.9841485955,4655621.6826182501,30299036.895391263]
[{"$f":"IF(ISBLANK(InfoPro!A31),\"\",InfoPro!A31)","v":"SC_692_A1"},{"$f":"IF(ISBLANK(InfoPro!H31),\"\",InfoPro!H31)","v":"SC_692"},{"$f":"IF(ISBLANK(InfoPro!B31),\"\",InfoPro!B31)","v":"TermoJobo"},{"$f":"IF(ISBLANK(InfoPro!E31),\"\",InfoPro!E31)","v":9.9},{"$f":"IF(ISBLANK(InfoPro!C31),\"\",InfoPro!C31)","v":"2022-07-15"},{"$f":"IF(ISBLANK(InfoPro!D31),\"\",InfoPro!D31)","v":"9:28 am"},{"$f":"IF(ISBLANK(InfoPro!L31),\"\",InfoPro!L31)","v":"NO"},{"$f":"'IT-TA'!H31","v":0},{"$f":"IFERROR('BT-Confi'!Y38,\"\")","v":9292538.2858742401},{"$f":"IFERROR('BT-Flex'!Y38,\"\")","v":864410.14744663727},{"$f":"IFERROR('EC-RE'!Z38,\"\")","v":-4655621.6826182501},{"$f":"IFERROR('EC-RP'!Z37,\"\")","v":-3849395.1182351531},{"$f":"IFERROR('EC-Per'!W37,\"\")","v":-847513.16634403984},{"$f":"IFERROR('EC-Mar'!Y37,\"\")","v":-3849395.1182351531},0,13948159.968492489,5520031.8300648872,0,806226.56438309699,3808108.5162742101,806226.56438309699,4655621.6826182501,25882326.666191708]
[{"$f":"IF(ISBLANK(InfoPro!A32),\"\",InfoPro!A32)","v":"SC_1057_A1"},{"$f":"IF(ISBLANK(InfoPro!H32),\"\",InfoPro!H32)","v":"SC_1057"},{"$f":"IF(ISBLANK(InfoPro!B32),\"\",InfoPro!B32)","v":"Río Sinú Solar I 9,9 MW"},{"$f":"IF(ISBLANK(InfoPro!E32),\"\",InfoPro!E32)","v":9.9},{"$f":"IF(ISBLANK(InfoPro!C32),\"\",InfoPro!C32)","v":"2022-07-15"},{"$f":"IF(ISBLANK(InfoPro!D32),\"\",InfoPro!D32)","v":"9:29 am"},{"$f":"IF(ISBLANK(InfoPro!L32),\"\",InfoPro!L32)","v":"NO"},{"$f":"'IT-TA'!H32","v":0},{"$f":"IFERROR('BT-Confi'!Y39,\"\")","v":459473.15704881464},{"$f":"IFERROR('BT-Flex'!Y39,\"\")","v":0},{"$f":"IFERROR('EC-RE'!Z39,\"\")","v":667975.46071520657},{"$f":"IFERROR('EC-RP'!Z38,\"\")","v":1521388.3015303449},{"$f":"IFERROR('EC-Per'!W38,\"\")","v":-76451.96682119988},{"$f":"IFERROR('EC-Mar'!Y38,\"\")","v":1521388.3015303449},0,5115094.8396670651,4655621.6826182501,5323597.1433334565,6177009.9841485955,4579169.7157970499,6177009.9841485955,4655621.6826182501,30335684.862424195]
[{"$f":"IF(ISBLANK(InfoPro!A33),\"\",InfoPro!A33)","v":"SC_1057_A2"},{"$f":"IF(ISBLANK(InfoPro!H33),\"\",InfoPro!H33)","v":"SC_1057"},{"$f":"IF(ISBLANK(InfoPro!B33),\"\",InfoPro!B33)","v":"Río Sinú Solar I 9,9 MW"},{"$f":"IF(ISBLANK(InfoPro!E33),\"\",InfoPro!E33)","v":9.9},{"$f":"IF(ISBLANK(InfoPro!C33),\"\",InfoPro!C33)","v":"2022-07-15"},{"$f":"IF(ISBLANK(InfoPro!D33),\"\",InfoPro!D33)","v":"9:29 am"},{"$f":"IF(ISBLANK(InfoPro!L33),\"\",InfoPro!L33)","v":"NO"},{"$f":"'IT-TA'!H33","v":0},{"$f":"IFERROR('BT-Confi'!Y40,\"\")","v":459473.15704881464},{"$f":"IFERROR('BT-Flex'!Y40,\"\")","v":0},{"$f":"IFERROR('EC-RE'!Z40,\"\")","v":667975.46071520657},{"$f":"IFERROR('EC-RP'!Z39,\"\")","v":1521388.3015303449},{"$f":"IFERROR('EC-Per'!W39,\"\")","v":-82424.776729106103},{"$f":"IFERROR('EC-Mar'!Y39,\"\")","v":1521388.3015303449},0,5115094.8396670651,4655621.6826182501,5323597.1433334565,6177009.9841485955,4573196.9058891442,6177009.9841485955,4655621.6826182501,30329712.052516289]
[{"$f":"IF(ISBLANK(InfoPro!A34),\"\",InfoPro!A34)","v":"SC_1058_A1"},{"$f":"IF(ISBLANK(InfoPro!H34),\"\",InfoPro!H34)","v":"SC_1058"},{"$f":"IF(ISBLANK(InfoPro!B34),\"\",InfoPro!B34)","v":"Río Sinú Solar II 9,9 MW"},{"$f":"IF(ISBLANK(InfoPro!E34),\"\",InfoPro!E34)","v":9.9},{"$f":"IF(ISBLANK(InfoPro!C34),\"\",InfoPro!C34)","v":"2022-07-15"},{"$f":"IF(ISBLANK(InfoPro!D34),\"\",InfoPro!D34)","v":"9:29 am"},{"$f":"IF(ISBLANK(InfoPro!L34),\"\",InfoPro!L34)","v":"NO"},{"$f":"'IT-TA'!H34","v":0},{"$f":"IFERROR('BT-Confi'!Y41,\"\")","v":459473.15704881464},{"$f":"IFERROR('BT-Flex'!Y41,\"\")","v":0},{"$f":"IFERROR('EC-RE'!Z41,\"\")","v":667975.46071520657},{"$f":"IFERROR('EC-RP'!Z40,\"\")","v":1521388.3015303449},{"$f":"IFERROR('EC-Per'!W40,\"\")","v":-76451.96682119988},{"$f":"IFERROR('EC-Mar'!Y40,\"\")","v":1521388.3015303449},0,5115094.8396670651,4655621.6826182501,5323597.1433334565,6177009.9841485955,4579169.7157970499,6177009.9841485955,4655621.6826182501,30335684.862424195]
[{"$f":"IF(ISBLANK(InfoPro!A35),\"\",InfoPro!A35)","v":"SC_1058_A2"},{"$f":"IF(ISBLANK(InfoPro!H35),\"\",InfoPro!H35)","v":"SC_1058"},{"$f":"IF(ISBLANK(InfoPro!B35),\"\",InfoPro!B35)","v":"Río Sinú Solar II 9,9 MW"},{"$f":"IF(ISBLANK(InfoPro!E35),\"\",InfoPro!E35)","v":9.9},{"$f":"IF(ISBLANK(InfoPro!C35),\"\",InfoPro!C35)","v":"2022-07-15"},{"$f":"IF(ISBLANK(InfoPro!D35),\"\",InfoPro!D35)","v":"9:29 am"},{"$f":"IF(ISBLANK(InfoPro!L35),\"\",InfoPro!L35)","v":"NO"},{"$f":"'IT-TA'!H35","v":0},{"$f":"IFERROR('BT-Confi'!Y42,\"\")","v":459473.15704881464},{"$f":"IFERROR('BT-Flex'!Y42,\"\")","v":0},{"$f":"IFERROR('EC-RE'!Z42,\"\")","v":667975.46071520657},{"$f":"IFERROR('EC-RP'!Z41,\"\")","v":1521388.3015303449},{"$f":"IFERROR('EC-Per'!W41,\"\")","v":-82424.776729106103},{"$f":"IFERROR('EC-Mar'!Y41,\"\")","v":1521388.3015303449},0,5115094.8396670651,4655621.6826182501,5323597.1433334565,6177009.9841485955,4573196.9058891442,6177009.9841485955,4655621.6826182501,30329712.052516289]
[{"$f":"IF(ISBLANK(InfoPro!A36),\"\",InfoPro!A36)","v":"SC_855_A1"},{"$f":"IF(ISBLANK(InfoPro!H36),\"\",InfoPro!H36)","v":"SC_855"},{"$f":"IF(ISBLANK(InfoPro!B36),\"\",InfoPro!B36)","v":"El Lirio"},{"$f":"IF(ISBLANK(InfoPro!E36),\"\",InfoPro!E36)","v":19.899999999999999},{"$f":"IF(ISBLANK(InfoPro!C36),\"\",InfoPro!C36)","v":"2022-07-15"},{"$f":"IF(ISBLANK(InfoPro!D36),\"\",InfoPro!D36)","v":"9:30 am"},{"$f":"IF(ISBLANK(InfoPro!L36),\"\",InfoPro!L36)","v":"NO"},{"$f":"'IT-TA'!H36","v":0},{"$f":"IFERROR('BT-Confi'!Y43,\"\")","v":459473.15704881458},{"$f":"IFERROR('BT-Flex'!Y43,\"\")","v":0},{"$f":"IFERROR('EC-RE'!Z43,\"\")","v":667975.46071520681},{"$f":"IFERROR('EC-RP'!Z42,\"\")","v":1521388.3015303449},{"$f":"IFERROR('EC-Per'!W42,\"\")","v":-49137.412691564467},{"$f":"IFERROR('EC-Mar'!Y42,\"\")","v":1521388.3015303449},0,5115094.8396670651,4655621.6826182501,5323597.1433334574,6177009.9841485955,4606484.2699266858,6177009.9841485955,4655621.6826182501,30362999.416553829]
[{"$f":"IF(ISBLANK(InfoPro!A37),\"\",InfoPro!A37)","v":"SC_855_A2"},{"$f":"IF(ISBLANK(InfoPro!H37),\"\",InfoPro!H37)","v":"SC_855"},{"$f":"IF(ISBLANK(InfoPro!B37),\"\",InfoPro!B37)","v":"El Lirio"},{"$f":"IF(ISBLANK(InfoPro!E37),\"\",InfoPro!E37)","v":19.899999999999999},{"$f":"IF(ISBLANK(InfoPro!C37),\"\",InfoPro!C37)","v":"2022-07-15"},{"$f":"IF(ISBLANK(InfoPro!D37),\"\",InfoPro!D37)","v":"9:30 am"},{"$f":"IF(ISBLANK(InfoPro!L37),\"\",InfoPro!L37)","v":"NO"},{"$f":"'IT-TA'!H37","v":0},{"$f":"IFERROR('BT-Confi'!Y44,\"\")","v":459473.15704881458},{"$f":"IFERROR('BT-Flex'!Y44,\"\")","v":0},{"$f":"IFERROR('EC-RE'!Z44,\"\")","v":667975.46071520681},{"$f":"IFERROR('EC-RP'!Z43,\"\")","v":1521388.3015303449},{"$f":"IFERROR('EC-Per'!W43,\"\")","v":-49819.051368421227},{"$f":"IFERROR('EC-Mar'!Y43,\"\")","v":1521388.3015303449},0,5115094.8396670651,4655621.6826182501,5323597.1433334574,6177009.9841485955,4605802.6312498292,6177009.9841485955,4655621.6826182501,30362317.777876973]
[{"$f":"IF(ISBLANK(InfoPro!A38),\"\",InfoPro!A38)","v":"SC_630_A1"},{"$f":"IF(ISBLANK(InfoPro!H38),\"\",InfoPro!H38)","v":"SC_630"},{"$f":"IF(ISBLANK(InfoPro!B38),\"\",InfoPro!B38)","v":"TR Solar 14"},{"$f":"IF(ISBLANK(InfoPro!E38),\"\",InfoPro!E38)","v":99.9},{"$f":"IF(ISBLANK(InfoPro!C38),\"\",InfoPro!C38)","v":"2022-07-15"},{"$f":"IF(ISBLANK(InfoPro!D38),\"\",InfoPro!D38)","v":"12:52 pm"},{"$f":"IF(ISBLANK(InfoPro!L38),\"\",InfoPro!L38)","v":"NO"},{"$f":"'IT-TA'!H38","v":0},{"$f":"IFERROR('BT-Confi'!Y45,\"\")","v":410977.77911343001},{"$f":"IFERROR('BT-Flex'!Y45,\"\")","v":0},{"$f":"IFERROR('EC-RE'!Z45,\"\")","v":597473.57845725131},{"$f":"IFERROR('EC-RP'!Z44,\"\")","v":1360812.434284745},{"$f":"IFERROR('EC-Per'!W44,\"\")","v":-828236.57125186326},{"$f":"IFERROR('EC-Mar'!Y44,\"\")","v":1360812.434284745},0,5066599.4617316797,4655621.6826182501,5253095.2610755013,6016434.1169029949,3827385.111366387,6016434.1169029949,4655621.6826182501,29224039.196931783]
[{"$f":"IF(ISBLANK(InfoPro!A39),\"\",InfoPro!A39)","v":"SC_1269_A1"},{"$f":"IF(ISBLANK(InfoPro!H39),\"\",InfoPro!H39)","v":"SC_1269"},{"$f":"IF(ISBLANK(InfoPro!B39),\"\",InfoPro!B39)","v":"Centro Solar II 4 MW"},{"$f":"IF(ISBLANK(InfoPro!E39),\"\",InfoPro!E39)","v":4},{"$f":"IF(ISBLANK(InfoPro!C39),\"\",InfoPro!C39)","v":"2022-07-15"},{"$f":"IF(ISBLANK(InfoPro!D39),\"\",InfoPro!D39)","v":"2:27 pm"},{"$f":"IF(ISBLANK(InfoPro!L39),\"\",InfoPro!L39)","v":"NO"},{"$f":"'IT-TA'!H39","v":0},{"$f":"IFERROR('BT-Confi'!Y46,\"\")","v":574306.52635108237},{"$f":"IFERROR('BT-Flex'!Y46,\"\")","v":0},{"$f":"IFERROR('EC-RE'!Z46,\"\")","v":834918.5597589938},{"$f":"IFERROR('EC-RP'!Z45,\"\")","v":1901619.7514020146},{"$f":"IFERROR('EC-Per'!W45,\"\")","v":-1416096.9892820411},{"$f":"IFERROR('EC-Mar'!Y45,\"\")","v":1901619.7514020146},0,5229928.2089693323,4655621.6826182501,5490540.2423772439,6557241.434020265,3239524.6933362093,6557241.434020265,4655621.6826182501,29848163.483116906]
[{"$f":"IF(ISBLANK(InfoPro!A40),\"\",InfoPro!A40)","v":"SC_1268_A1"},{"$f":"IF(ISBLANK(InfoPro!H40),\"\",InfoPro!H40)","v":"SC_1268"},{"$f":"IF(ISBLANK(InfoPro!B40),\"\",InfoPro!B40)","v":"Sol de Ayapel II de 7 MW"},{"$f":"IF(ISBLANK(InfoPro!E40),\"\",InfoPro!E40)","v":7},{"$f":"IF(ISBLANK(InfoPro!C40),\"\",InfoPro!C40)","v":"2022-07-15"},{"$f":"IF(ISBLANK(InfoPro!D40),\"\",InfoPro!D40)","v":"2:29 pm"},{"$f":"IF(ISBLANK(InfoPro!L40),\"\",InfoPro!L40)","v":"NO"},{"$f":"'IT-TA'!H40","v":0},{"$f":"IFERROR('BT-Confi'!Y47,\"\")","v":513690.98958057456},{"$f":"IFERROR('BT-Flex'!Y47,\"\")","v":0},{"$f":"IFERROR('EC-RE'!Z47,\"\")","v":746796.5650796009},{"$f":"IFERROR('EC-RP'!Z46,\"\")","v":1700912.1211109255},{"$f":"IFERROR('EC-Per'!W46,\"\")","v":-1290999.7724173469},{"$f":"IFERROR('EC-Mar'!Y46,\"\")","v":1700912.1211109255},0,5169312.6721988246,4655621.6826182501,5402418.2476978507,6356533.8037291756,3364621.9102009032,6356533.8037291756,4655621.6826182501,29523461.723095063]
[{"$f":"IF(ISBLANK(InfoPro!A41),\"\",InfoPro!A41)","v":"SC_1268_A2"},{"$f":"IF(ISBLANK(InfoPro!H41),\"\",InfoPro!H41)","v":"SC_1268"},{"$f":"IF(ISBLANK(InfoPro!B41),\"\",InfoPro!B41)","v":"Sol de Ayapel II de 7 MW"},{"$f":"IF(ISBLANK(InfoPro!E41),\"\",InfoPro!E41)","v":7},{"$f":"IF(ISBLANK(InfoPro!C41),\"\",InfoPro!C41)","v":"2022-07-15"},{"$f":"IF(ISBLANK(InfoPro!D41),\"\",InfoPro!D41)","v":"2:29 pm"},{"$f":"IF(ISBLANK(InfoPro!L41),\"\",InfoPro!L41)","v":"NO"},{"$f":"'IT-TA'!H41","v":0},{"$f":"IFERROR('BT-Confi'!Y48,\"\")","v":513690.98958057456},{"$f":"IFERROR('BT-Flex'!Y48,\"\")","v":0},{"$f":"IFERROR('EC-RE'!Z48,\"\")","v":746796.5650796009},{"$f":"IFERROR('EC-RP'!Z47,\"\")","v":1700912.1211109255},{"$f":"IFERROR('EC-Per'!W47,\"\")","v":-1290622.0109623603},{"$f":"IFERROR('EC-Mar'!Y47,\"\")","v":1700912.1211109255},0,5169312.6721988246,4655621.6826182501,5402418.2476978507,6356533.8037291756,3364999.6716558896,6356533.8037291756,4655621.6826182501,29523839.484550051]
[{"$f":"IF(ISBLANK(InfoPro!A42),\"\",InfoPro!A42)","v":"SC_1118_A1"},{"$f":"IF(ISBLANK(InfoPro!H42),\"\",InfoPro!H42)","v":"SC_1118"},{"$f":"IF(ISBLANK(InfoPro!B42),\"\",InfoPro!B42)","v":"Boston 9,9 MW"},{"$f":"IF(ISBLANK(InfoPro!E42),\"\",InfoPro!E42)","v":9.9},{"$f":"IF(ISBLANK(InfoPro!C42),\"\",InfoPro!C42)","v":"2022-07-15"},{"$f":"IF(ISBLANK(InfoPro!D42),\"\",InfoPro!D42)","v":"3:58 pm"},{"$f":"IF(ISBLANK(InfoPro!L42),\"\",InfoPro!L42)","v":"NO"},{"$f":"'IT-TA'!H42","v":0},{"$f":"IFERROR('BT-Confi'!Y49,\"\")","v":459473.15704881464},{"$f":"IFERROR('BT-Flex'!Y49,\"\")","v":0},{"$f":"IFERROR('EC-RE'!Z49,\"\")","v":667975.46071520657},{"$f":"IFERROR('EC-RP'!Z48,\"\")","v":1521388.3015303449},{"$f":"IFERROR('EC-Per'!W48,\"\")","v":-11934.868757978245},{"$f":"IFERROR('EC-Mar'!Y48,\"\")","v":1521388.3015303449},0,5115094.8396670651,4655621.6826182501,5323597.1433334565,6177009.9841485955,4643686.8138602721,6177009.9841485955,4655621.6826182501,30400201.960487414]
[{"$f":"IF(ISBLANK(InfoPro!A43),\"\",InfoPro!A43)","v":"SC_1118_A2"},{"$f":"IF(ISBLANK(InfoPro!H43),\"\",InfoPro!H43)","v":"SC_1118"},{"$f":"IF(ISBLANK(InfoPro!B43),\"\",InfoPro!B43)","v":"Boston 9,9 MW"},{"$f":"IF(ISBLANK(InfoPro!E43),\"\",InfoPro!E43)","v":9.9},{"$f":"IF(ISBLANK(InfoPro!C43),\"\",InfoPro!C43)","v":"2022-07-15"},{"$f":"IF(ISBLANK(InfoPro!D43),\"\",InfoPro!D43)","v":"3:58 pm"},{"$f":"IF(ISBLANK(InfoPro!L43),\"\",InfoPro!L43)","v":"NO"},{"$f":"'IT-TA'!H43","v":0},{"$f":"IFERROR('BT-Confi'!Y50,\"\")","v":459473.15704881464},{"$f":"IFERROR('BT-Flex'!Y50,\"\")","v":0},{"$f":"IFERROR('EC-RE'!Z50,\"\")","v":667975.46071520657},{"$f":"IFERROR('EC-RP'!Z49,\"\")","v":1521388.3015303449},{"$f":"IFERROR('EC-Per'!W49,\"\")","v":-12307.572096231597},{"$f":"IFERROR('EC-Mar'!Y49,\"\")","v":1521388.3015303449},0,5115094.8396670651,4655621.6826182501,5323597.1433334565,6177009.9841485955,4643314.1105220187,6177009.9841485955,4655621.6826182501,30399829.25714916]
[{"$f":"IF(ISBLANK(InfoPro!A44),\"\",InfoPro!A44)","v":"SC_632_A1"},{"$f":"IF(ISBLANK(InfoPro!H44),\"\",InfoPro!H44)","v":"SC_632"},{"$f":"IF(ISBLANK(InfoPro!B44),\"\",InfoPro!B44)","v":"TR Solar 5"},{"$f":"IF(ISBLANK(InfoPro!E44),\"\",InfoPro!E44)","v":19.899999999999999},{"$f":"IF(ISBLANK(InfoPro!C44),\"\",InfoPro!C44)","v":"2022-07-15"},{"$f":"IF(ISBLANK(InfoPro!D44),\"\",InfoPro!D44)","v":"4:22 pm"},{"$f":"IF(ISBLANK(InfoPro!L44),\"\",InfoPro!L44)","v":"NO"},{"$f":"'IT-TA'!H44","v":0},{"$f":"IFERROR('BT-Confi'!Y51,\"\")","v":410977.77911342995},{"$f":"IFERROR('BT-Flex'!Y51,\"\")","v":0},{"$f":"IFERROR('EC-RE'!Z51,\"\")","v":597473.57845725107},{"$f":"IFERROR('EC-RP'!Z50,\"\")","v":1360812.4342847448},{"$f":"IFERROR('EC-Per'!W50,\"\")","v":-249342.93880324042},{"$f":"IFERROR('EC-Mar'!Y50,\"\")","v":1360812.4342847448},0,5066599.4617316797,4655621.6826182501,5253095.2610755013,6016434.1169029949,4406278.7438150095,6016434.1169029949,4655621.6826182501,29802932.829380404]
[{"$f":"IF(ISBLANK(InfoPro!A45),\"\",InfoPro!A45)","v":"SC_632_A2"},{"$f":"IF(ISBLANK(InfoPro!H45),\"\",InfoPro!H45)","v":"SC_632"},{"$f":"IF(ISBLANK(InfoPro!B45),\"\",InfoPro!B45)","v":"TR Solar 5"},{"$f":"IF(ISBLANK(InfoPro!E45),\"\",InfoPro!E45)","v":19.899999999999999},{"$f":"IF(ISBLANK(InfoPro!C45),\"\",InfoPro!C45)","v":"2022-07-15"},{"$f":"IF(ISBLANK(InfoPro!D45),\"\",InfoPro!D45)","v":"4:22 pm"},{"$f":"IF(ISBLANK(InfoPro!L45),\"\",InfoPro!L45)","v":"NO"},{"$f":"'IT-TA'!H45","v":0},{"$f":"IFERROR('BT-Confi'!Y52,\"\")","v":410977.77911342995},{"$f":"IFERROR('BT-Flex'!Y52,\"\")","v":0},{"$f":"IFERROR('EC-RE'!Z52,\"\")","v":597473.57845725107},{"$f":"IFERROR('EC-RP'!Z51,\"\")","v":1360812.4342847448},{"$f":"IFERROR('EC-Per'!W51,\"\")","v":-227174.41126537864},{"$f":"IFERROR('EC-Mar'!Y51,\"\")","v":1360812.4342847448},0,5066599.4617316797,4655621.6826182501,5253095.2610755013,6016434.1169029949,4428447.2713528713,6016434.1169029949,4655621.6826182501,29825101.356918268]
[{"$f":"IF(ISBLANK(InfoPro!A46),\"\",InfoPro!A46)","v":"SC_1415_A1"},{"$f":"IF(ISBLANK(InfoPro!H46),\"\",InfoPro!H46)","v":"SC_1415"},{"$f":"IF(ISBLANK(InfoPro!B46),\"\",InfoPro!B46)","v":"Efigen C03 99 MW"},{"$f":"IF(ISBLANK(InfoPro!E46),\"\",InfoPro!E46)","v":99},{"$f":"IF(ISBLANK(InfoPro!C46),\"\",InfoPro!C46)","v":"2022-07-16"},{"$f":"IF(ISBLANK(InfoPro!D46),\"\",InfoPro!D46)","v":"1:24 pm"},{"$f":"IF(ISBLANK(InfoPro!L46),\"\",InfoPro!L46)","v":"SI"},{"$f":"'IT-TA'!H46","v":0},{"$f":"IFERROR('BT-Confi'!Y53,\"\")","v":459473.15704881464},{"$f":"IFERROR('BT-Flex'!Y53,\"\")","v":0},{"$f":"IFERROR('EC-RE'!Z53,\"\")","v":667975.46071520646},{"$f":"IFERROR('EC-RP'!Z52,\"\")","v":1521388.3015303449},{"$f":"IFERROR('EC-Per'!W52,\"\")","v":-358.36859447437445},{"$f":"IFERROR('EC-Mar'!Y52,\"\")","v":1521388.3015303449},0,5115094.8396670651,4655621.6826182501,5323597.1433334565,6177009.9841485955,4655263.314023776,6177009.9841485955,4655621.6826182501,30411778.460650921]
[{"$f":"IF(ISBLANK(InfoPro!A47),\"\",InfoPro!A47)","v":"SC_1415_A2"},{"$f":"IF(ISBLANK(InfoPro!H47),\"\",InfoPro!H47)","v":"SC_1415"},{"$f":"IF(ISBLANK(InfoPro!B47),\"\",InfoPro!B47)","v":"Efigen C03 99 MW"},{"$f":"IF(ISBLANK(InfoPro!E47),\"\",InfoPro!E47)","v":99},{"$f":"IF(ISBLANK(InfoPro!C47),\"\",InfoPro!C47)","v":"2022-07-16"},{"$f":"IF(ISBLANK(InfoPro!D47),\"\",InfoPro!D47)","v":"1:24 pm"},{"$f":"IF(ISBLANK(InfoPro!L47),\"\",InfoPro!L47)","v":"SI"},{"$f":"'IT-TA'!H47","v":0},{"$f":"IFERROR('BT-Confi'!Y54,\"\")","v":459473.15704881464},{"$f":"IFERROR('BT-Flex'!Y54,\"\")","v":0},{"$f":"IFERROR('EC-RE'!Z54,\"\")","v":667975.46071520646},{"$f":"IFERROR('EC-RP'!Z53,\"\")","v":1521388.3015303449},{"$f":"IFERROR('EC-Per'!W53,\"\")","v":-358.36859447437445},{"$f":"IFERROR('EC-Mar'!Y53,\"\")","v":1521388.3015303449},0,5115094.8396670651,4655621.6826182501,5323597.1433334565,6177009.9841485955,4655263.314023776,6177009.9841485955,4655621.6826182501,30411778.460650921]
[{"$f":"IF(ISBLANK(InfoPro!A48),\"\",InfoPro!A48)","v":"SC_1420_A1"},{"$f":"IF(ISBLANK(InfoPro!H48),\"\",InfoPro!H48)","v":"SC_1420"},{"$f":"IF(ISBLANK(InfoPro!B48),\"\",InfoPro!B48)","v":"Efigen C04 99 MW"},{"$f":"IF(ISBLANK(InfoPro!E48),\"\",InfoPro!E48)","v":99},{"$f":"IF(ISBLANK(InfoPro!C48),\"\",InfoPro!C48)","v":"2022-07-16"},{"$f":"IF(ISBLANK(InfoPro!D48),\"\",InfoPro!D48)","v":"1:25 pm"},{"$f":"IF(ISBLANK(InfoPro!L48),\"\",InfoPro!L48)","v":"SI"},{"$f":"'IT-TA'!H48","v":0},{"$f":"IFERROR('BT-Confi'!Y55,\"\")","v":459473.15704881464},{"$f":"IFERROR('BT-Flex'!Y55,\"\")","v":0},{"$f":"IFERROR('EC-RE'!Z55,\"\")","v":667975.46071520646},{"$f":"IFERROR('EC-RP'!Z54,\"\")","v":1521388.3015303449},{"$f":"IFERROR('EC-Per'!W54,\"\")","v":-358.36859447437445},{"$f":"IFERROR('EC-Mar'!Y54,\"\")","v":1521388.3015303449},0,5115094.8396670651,4655621.6826182501,5323597.1433334565,6177009.9841485955,4655263.314023776,6177009.9841485955,4655621.6826182501,30411778.460650921]
[{"$f":"IF(ISBLANK(InfoPro!A49),\"\",InfoPro!A49)","v":"SC_1420_A2"},{"$f":"IF(ISBLANK(InfoPro!H49),\"\",InfoPro!H49)","v":"SC_1420"},{"$f":"IF(ISBLANK(InfoPro!B49),\"\",InfoPro!B49)","v":"Efigen C04 99 MW"},{"$f":"IF(ISBLANK(InfoPro!E49),\"\",InfoPro!E49)","v":99},{"$f":"IF(ISBLANK(InfoPro!C49),\"\",InfoPro!C49)","v":"2022-07-16"},{"$f":"IF(ISBLANK(InfoPro!D49),\"\",InfoPro!D49)","v":"1:25 pm"},{"$f":"IF(ISBLANK(InfoPro!L49),\"\",InfoPro!L49)","v":"SI"},{"$f":"'IT-TA'!H49","v":0},{"$f":"IFERROR('BT-Confi'!Y56,\"\")","v":459473.15704881464},{"$f":"IFERROR('BT-Flex'!Y56,\"\")","v":0},{"$f":"IFERROR('EC-RE'!Z56,\"\")","v":667975.46071520646},{"$f":"IFERROR('EC-RP'!Z55,\"\")","v":1521388.3015303449},{"$f":"IFERROR('EC-Per'!W55,\"\")","v":-358.36859447437445},{"$f":"IFERROR('EC-Mar'!Y55,\"\")","v":1521388.3015303449},0,5115094.8396670651,4655621.6826182501,5323597.1433334565,6177009.9841485955,4655263.314023776,6177009.9841485955,4655621.6826182501,30411778.460650921]
[{"$f":"IF(ISBLANK(InfoPro!A50),\"\",InfoPro!A50)","v":"SC_1435_A1"},{"$f":"IF(ISBLANK(InfoPro!H50),\"\",InfoPro!H50)","v":"SC_1435"},{"$f":"IF(ISBLANK(InfoPro!B50),\"\",InfoPro!B50)","v":"Parque Solar Las Brisas"},{"$f":"IF(ISBLANK(InfoPro!E50),\"\",InfoPro!E50)","v":9.9},{"$f":"IF(ISBLANK(InfoPro!C50),\"\",InfoPro!C50)","v":"2022-07-16"},{"$f":"IF(ISBLANK(InfoPro!D50),\"\",InfoPro!D50)","v":"4:03 pm"},{"$f":"IF(ISBLANK(InfoPro!L50),\"\",InfoPro!L50)","v":"NO"},{"$f":"'IT-TA'!H50","v":0},{"$f":"IFERROR('BT-Confi'!Y57,\"\")","v":513690.98958057474},{"$f":"IFERROR('BT-Flex'!Y57,\"\")","v":0},{"$f":"IFERROR('EC-RE'!Z57,\"\")","v":746796.56507960113},{"$f":"IFERROR('EC-RP'!Z56,\"\")","v":1700912.1211109257},{"$f":"IFERROR('EC-Per'!W56,\"\")","v":-125138.25167971419},{"$f":"IFERROR('EC-Mar'!Y56,\"\")","v":1700912.1211109257},0,5169312.6721988246,4655621.6826182501,5402418.2476978516,6356533.8037291756,4530483.4309385363,6356533.8037291756,4655621.6826182501,30689323.243832704]
[{"$f":"IF(ISBLANK(InfoPro!A51),\"\",InfoPro!A51)","v":"SC_978_A1"},{"$f":"IF(ISBLANK(InfoPro!H51),\"\",InfoPro!H51)","v":"SC_978"},{"$f":"IF(ISBLANK(InfoPro!B51),\"\",InfoPro!B51)","v":"Borugo Solar"},{"$f":"IF(ISBLANK(InfoPro!E51),\"\",InfoPro!E51)","v":99.9},{"$f":"IF(ISBLANK(InfoPro!C51),\"\",InfoPro!C51)","v":"2022-07-16"},{"$f":"IF(ISBLANK(InfoPro!D51),\"\",InfoPro!D51)","v":"4:38 pm"},{"$f":"IF(ISBLANK(InfoPro!L51),\"\",InfoPro!L51)","v":"NO"},{"$f":"'IT-TA'!H51","v":0},{"$f":"IFERROR('BT-Confi'!Y58,\"\")","v":410977.77911343001},{"$f":"IFERROR('BT-Flex'!Y58,\"\")","v":0},{"$f":"IFERROR('EC-RE'!Z58,\"\")","v":597473.57845725131},{"$f":"IFERROR('EC-RP'!Z57,\"\")","v":1360812.434284745},{"$f":"IFERROR('EC-Per'!W57,\"\")","v":-133.62753169519968},{"$f":"IFERROR('EC-Mar'!Y57,\"\")","v":1360812.434284745},0,5066599.4617316797,4655621.6826182501,5253095.2610755013,6016434.1169029949,4655488.055086555,6016434.1169029949,4655621.6826182501,30052142.140651949]
[{"$f":"IF(ISBLANK(InfoPro!A52),\"\",InfoPro!A52)","v":"SC_1520_A1"},{"$f":"IF(ISBLANK(InfoPro!H52),\"\",InfoPro!H52)","v":"SC_1520"},{"$f":"IF(ISBLANK(InfoPro!B52),\"\",InfoPro!B52)","v":"Autogenerador Solar Argos Tolcemento - 19.9 MW"},{"$f":"IF(ISBLANK(InfoPro!E52),\"\",InfoPro!E52)","v":19.899999999999999},{"$f":"IF(ISBLANK(InfoPro!C52),\"\",InfoPro!C52)","v":"2022-07-17"},{"$f":"IF(ISBLANK(InfoPro!D52),\"\",InfoPro!D52)","v":"3:57 pm"},{"$f":"IF(ISBLANK(InfoPro!L52),\"\",InfoPro!L52)","v":"NO"},{"$f":"'IT-TA'!H52","v":0},{"$f":"IFERROR('BT-Confi'!Y59,\"\")","v":513690.98958057468},{"$f":"IFERROR('BT-Flex'!Y59,\"\")","v":0},{"$f":"IFERROR('EC-RE'!Z59,\"\")","v":746796.56507960102},{"$f":"IFERROR('EC-RP'!Z58,\"\")","v":1700912.1211109255},{"$f":"IFERROR('EC-Per'!W58,\"\")","v":-121167.46126170435},{"$f":"IFERROR('EC-Mar'!Y58,\"\")","v":1700912.1211109255},0,5169312.6721988246,4655621.6826182501,5402418.2476978507,6356533.8037291756,4534454.2213565456,6356533.8037291756,4655621.6826182501,30693294.034250706]
[{"$f":"IF(ISBLANK(InfoPro!A53),\"\",InfoPro!A53)","v":"SC_1520_A2"},{"$f":"IF(ISBLANK(InfoPro!H53),\"\",InfoPro!H53)","v":"SC_1520"},{"$f":"IF(ISBLANK(InfoPro!B53),\"\",InfoPro!B53)","v":"Autogenerador Solar Argos Tolcemento - 19.9 MW"},{"$f":"IF(ISBLANK(InfoPro!E53),\"\",InfoPro!E53)","v":19.899999999999999},{"$f":"IF(ISBLANK(InfoPro!C53),\"\",InfoPro!C53)","v":"2022-07-17"},{"$f":"IF(ISBLANK(InfoPro!D53),\"\",InfoPro!D53)","v":"3:57 pm"},{"$f":"IF(ISBLANK(InfoPro!L53),\"\",InfoPro!L53)","v":"NO"},{"$f":"'IT-TA'!H53","v":0},{"$f":"IFERROR('BT-Confi'!Y60,\"\")","v":513690.98958057468},{"$f":"IFERROR('BT-Flex'!Y60,\"\")","v":0},{"$f":"IFERROR('EC-RE'!Z60,\"\")","v":746796.56507960102},{"$f":"IFERROR('EC-RP'!Z59,\"\")","v":1700912.1211109255},{"$f":"IFERROR('EC-Per'!W59,\"\")","v":-121167.46126170435},{"$f":"IFERROR('EC-Mar'!Y59,\"\")","v":1700912.1211109255},0,5169312.6721988246,4655621.6826182501,5402418.2476978507,6356533.8037291756,4534454.2213565456,6356533.8037291756,4655621.6826182501,30693294.034250706]
[{"$f":"IF(ISBLANK(InfoPro!A54),\"\",InfoPro!A54)","v":"SC_1527_A1"},{"$f":"IF(ISBLANK(InfoPro!H54),\"\",InfoPro!H54)","v":"SC_1527"},{"$f":"IF(ISBLANK(InfoPro!B54),\"\",InfoPro!B54)","v":"Nueva Montería Solar III _9,9 MW"},{"$f":"IF(ISBLANK(InfoPro!E54),\"\",InfoPro!E54)","v":9.9},{"$f":"IF(ISBLANK(InfoPro!C54),\"\",InfoPro!C54)","v":"2022-07-17"},{"$f":"IF(ISBLANK(InfoPro!D54),\"\",InfoPro!D54)","v":"5:00 pm"},{"$f":"IF(ISBLANK(InfoPro!L54),\"\",InfoPro!L54)","v":"NO"},{"$f":"'IT-TA'!H54","v":0},{"$f":"IFERROR('BT-Confi'!Y61,\"\")","v":459473.15704881464},{"$f":"IFERROR('BT-Flex'!Y61,\"\")","v":0},{"$f":"IFERROR('EC-RE'!Z61,\"\")","v":667975.46071520657},{"$f":"IFERROR('EC-RP'!Z60,\"\")","v":1521388.3015303449},{"$f":"IFERROR('EC-Per'!W60,\"\")","v":-22338.309055569342},{"$f":"IFERROR('EC-Mar'!Y60,\"\")","v":1521388.3015303449},0,5115094.8396670651,4655621.6826182501,5323597.1433334565,6177009.9841485955,4633283.3735626806,6177009.9841485955,4655621.6826182501,30389798.520189822]
[{"$f":"IF(ISBLANK(InfoPro!A55),\"\",InfoPro!A55)","v":"SC_1527_A2"},{"$f":"IF(ISBLANK(InfoPro!H55),\"\",InfoPro!H55)","v":"SC_1527"},{"$f":"IF(ISBLANK(InfoPro!B55),\"\",InfoPro!B55)","v":"Nueva Montería Solar III _9,9 MW"},{"$f":"IF(ISBLANK(InfoPro!E55),\"\",InfoPro!E55)","v":9.9},{"$f":"IF(ISBLANK(InfoPro!C55),\"\",InfoPro!C55)","v":"2022-07-17"},{"$f":"IF(ISBLANK(InfoPro!D55),\"\",InfoPro!D55)","v":"5:00 pm"},{"$f":"IF(ISBLANK(InfoPro!L55),\"\",InfoPro!L55)","v":"NO"},{"$f":"'IT-TA'!H55","v":0},{"$f":"IFERROR('BT-Confi'!Y62,\"\")","v":459473.15704881464},{"$f":"IFERROR('BT-Flex'!Y62,\"\")","v":0},{"$f":"IFERROR('EC-RE'!Z62,\"\")","v":667975.46071520657},{"$f":"IFERROR('EC-RP'!Z61,\"\")","v":1521388.3015303449},{"$f":"IFERROR('EC-Per'!W61,\"\")","v":-22577.221451885587},{"$f":"IFERROR('EC-Mar'!Y61,\"\")","v":1521388.3015303449},0,5115094.8396670651,4655621.6826182501,5323597.1433334565,6177009.9841485955,4633044.4611663641,6177009.9841485955,4655621.6826182501,30389559.607793506]
[{"$f":"IF(ISBLANK(InfoPro!A56),\"\",InfoPro!A56)","v":"SC_1395_A1"},{"$f":"IF(ISBLANK(InfoPro!H56),\"\",InfoPro!H56)","v":"SC_1395"},{"$f":"IF(ISBLANK(InfoPro!B56),\"\",InfoPro!B56)","v":"San Marcos I 19.9"},{"$f":"IF(ISBLANK(InfoPro!E56),\"\",InfoPro!E56)","v":19.899999999999999},{"$f":"IF(ISBLANK(InfoPro!C56),\"\",InfoPro!C56)","v":"2022-07-17"},{"$f":"IF(ISBLANK(InfoPro!D56),\"\",InfoPro!D56)","v":"10:23 pm"},{"$f":"IF(ISBLANK(InfoPro!L56),\"\",InfoPro!L56)","v":"NO"},{"$f":"'IT-TA'!H56","v":0},{"$f":"IFERROR('BT-Confi'!Y63,\"\")","v":410977.77911342995},{"$f":"IFERROR('BT-Flex'!Y63,\"\")","v":0},{"$f":"IFERROR('EC-RE'!Z63,\"\")","v":597473.57845725107},{"$f":"IFERROR('EC-RP'!Z62,\"\")","v":1360812.4342847448},{"$f":"IFERROR('EC-Per'!W62,\"\")","v":15999.834813216179},{"$f":"IFERROR('EC-Mar'!Y62,\"\")","v":1360812.4342847448},0,5066599.4617316797,4655621.6826182501,5253095.2610755013,6016434.1169029949,4671621.5174314659,6016434.1169029949,4655621.6826182501,30068275.602996863]
[{"$f":"IF(ISBLANK(InfoPro!A57),\"\",InfoPro!A57)","v":"SC_1396_A1"},{"$f":"IF(ISBLANK(InfoPro!H57),\"\",InfoPro!H57)","v":"SC_1396"},{"$f":"IF(ISBLANK(InfoPro!B57),\"\",InfoPro!B57)","v":"San Marcos II 19.9"},{"$f":"IF(ISBLANK(InfoPro!E57),\"\",InfoPro!E57)","v":19.899999999999999},{"$f":"IF(ISBLANK(InfoPro!C57),\"\",InfoPro!C57)","v":"2022-07-18"},{"$f":"IF(ISBLANK(InfoPro!D57),\"\",InfoPro!D57)","v":"6:17 am"},{"$f":"IF(ISBLANK(InfoPro!L57),\"\",InfoPro!L57)","v":"NO"},{"$f":"'IT-TA'!H57","v":0},{"$f":"IFERROR('BT-Confi'!Y64,\"\")","v":410977.77911342995},{"$f":"IFERROR('BT-Flex'!Y64,\"\")","v":0},{"$f":"IFERROR('EC-RE'!Z64,\"\")","v":597473.57845725107},{"$f":"IFERROR('EC-RP'!Z63,\"\")","v":1360812.4342847448},{"$f":"IFERROR('EC-Per'!W63,\"\")","v":15999.834813216179},{"$f":"IFERROR('EC-Mar'!Y63,\"\")","v":1360812.4342847448},0,5066599.4617316797,4655621.6826182501,5253095.2610755013,6016434.1169029949,4671621.5174314659,6016434.1169029949,4655621.6826182501,30068275.602996863]
[{"$f":"IF(ISBLANK(InfoPro!A58),\"\",InfoPro!A58)","v":"SC_1359_A1"},{"$f":"IF(ISBLANK(InfoPro!H58),\"\",InfoPro!H58)","v":"SC_1359"},{"$f":"IF(ISBLANK(InfoPro!B58),\"\",InfoPro!B58)","v":"El Corozo_250MW"},{"$f":"IF(ISBLANK(InfoPro!E58),\"\",InfoPro!E58)","v":250},{"$f":"IF(ISBLANK(InfoPro!C58),\"\",InfoPro!C58)","v":"2022-07-18"},{"$f":"IF(ISBLANK(InfoPro!D58),\"\",InfoPro!D58)","v":"9:42 am"},{"$f":"IF(ISBLANK(InfoPro!L58),\"\",InfoPro!L58)","v":"SI"},{"$f":"'IT-TA'!H58","v":0},{"$f":"IFERROR('BT-Confi'!Y65,\"\")","v":367600.87577229884},{"$f":"IFERROR('BT-Flex'!Y65,\"\")","v":0},{"$f":"IFERROR('EC-RE'!Z65,\"\")","v":534412.86087410653},{"$f":"IFERROR('EC-RP'!Z64,\"\")","v":1217184.6460507559},{"$f":"IFERROR('EC-Per'!W64,\"\")","v":-378.46024614790525},{"$f":"IFERROR('EC-Mar'!Y64,\"\")","v":1217184.6460507559},0,5023222.5583905494,4655621.6826182501,5190034.5434923563,5872806.328669006,4655243.2223721026,5872806.328669006,4655621.6826182501,29730018.004662242]
[{"$f":"IF(ISBLANK(InfoPro!A59),\"\",InfoPro!A59)","v":"SC_1359_A2"},{"$f":"IF(ISBLANK(InfoPro!H59),\"\",InfoPro!H59)","v":"SC_1359"},{"$f":"IF(ISBLANK(InfoPro!B59),\"\",InfoPro!B59)","v":"El Corozo_250MW"},{"$f":"IF(ISBLANK(InfoPro!E59),\"\",InfoPro!E59)","v":250},{"$f":"IF(ISBLANK(InfoPro!C59),\"\",InfoPro!C59)","v":"2022-07-18"},{"$f":"IF(ISBLANK(InfoPro!D59),\"\",InfoPro!D59)","v":"9:42 am"},{"$f":"IF(ISBLANK(InfoPro!L59),\"\",InfoPro!L59)","v":"SI"},{"$f":"'IT-TA'!H59","v":0},{"$f":"IFERROR('BT-Confi'!Y66,\"\")","v":367600.87577229884},{"$f":"IFERROR('BT-Flex'!Y66,\"\")","v":0},{"$f":"IFERROR('EC-RE'!Z66,\"\")","v":534412.86087410653},{"$f":"IFERROR('EC-RP'!Z65,\"\")","v":1217184.6460507559},{"$f":"IFERROR('EC-Per'!W65,\"\")","v":-340.61422153311469},{"$f":"IFERROR('EC-Mar'!Y65,\"\")","v":1217184.6460507559},0,5023222.5583905494,4655621.6826182501,5190034.5434923563,5872806.328669006,4655281.0683967173,5872806.328669006,4655621.6826182501,29730055.850686859]
[{"$f":"IF(ISBLANK(InfoPro!A60),\"\",InfoPro!A60)","v":"SC_1598_A1"},{"$f":"IF(ISBLANK(InfoPro!H60),\"\",InfoPro!H60)","v":"SC_1598"},{"$f":"IF(ISBLANK(InfoPro!B60),\"\",InfoPro!B60)","v":"PARQUE SOLAR FOTOVOLTAICO MATIMBA de 150MW"},{"$f":"IF(ISBLANK(InfoPro!E60),\"\",InfoPro!E60)","v":150},{"$f":"IF(ISBLANK(InfoPro!C60),\"\",InfoPro!C60)","v":"2022-07-18"},{"$f":"IF(ISBLANK(InfoPro!D60),\"\",InfoPro!D60)","v":"11:16 am"},{"$f":"IF(ISBLANK(InfoPro!L60),\"\",InfoPro!L60)","v":"NO"},{"$f":"'IT-TA'!H60","v":0},{"$f":"IFERROR('BT-Confi'!Y67,\"\")","v":410977.77911342983},{"$f":"IFERROR('BT-Flex'!Y67,\"\")","v":0},{"$f":"IFERROR('EC-RE'!Z67,\"\")","v":597473.57845725107},{"$f":"IFERROR('EC-RP'!Z66,\"\")","v":1360812.4342847455},{"$f":"IFERROR('EC-Per'!W66,\"\")","v":-269949.63821336237},{"$f":"IFERROR('EC-Mar'!Y66,\"\")","v":1360812.4342847455},0,5066599.4617316797,4655621.6826182501,5253095.2610755013,6016434.1169029959,4385672.0444048876,6016434.1169029959,4655621.6826182501,29782326.129970282]
[{"$f":"IF(ISBLANK(InfoPro!A61),\"\",InfoPro!A61)","v":"SC_1598_A2"},{"$f":"IF(ISBLANK(InfoPro!H61),\"\",InfoPro!H61)","v":"SC_1598"},{"$f":"IF(ISBLANK(InfoPro!B61),\"\",InfoPro!B61)","v":"PARQUE SOLAR FOTOVOLTAICO MATIMBA de 150MW"},{"$f":"IF(ISBLANK(InfoPro!E61),\"\",InfoPro!E61)","v":150},{"$f":"IF(ISBLANK(InfoPro!C61),\"\",InfoPro!C61)","v":"2022-07-18"},{"$f":"IF(ISBLANK(InfoPro!D61),\"\",InfoPro!D61)","v":"11:16 am"},{"$f":"IF(ISBLANK(InfoPro!L61),\"\",InfoPro!L61)","v":"NO"},{"$f":"'IT-TA'!H61","v":0},{"$f":"IFERROR('BT-Confi'!Y68,\"\")","v":410977.77911342983},{"$f":"IFERROR('BT-Flex'!Y68,\"\")","v":0},{"$f":"IFERROR('EC-RE'!Z68,\"\")","v":597473.57845725107},{"$f":"IFERROR('EC-RP'!Z67,\"\")","v":1360812.4342847455},{"$f":"IFERROR('EC-Per'!W67,\"\")","v":-262474.54373827972},{"$f":"IFERROR('EC-Mar'!Y67,\"\")","v":1360812.4342847455},0,5066599.4617316797,4655621.6826182501,5253095.2610755013,6016434.1169029959,4393147.1388799706,6016434.1169029959,4655621.6826182501,29789801.224445365]
[{"$f":"IF(ISBLANK(InfoPro!A62),\"\",InfoPro!A62)","v":"SC_981_A1"},{"$f":"IF(ISBLANK(InfoPro!H62),\"\",InfoPro!H62)","v":"SC_981"},{"$f":"IF(ISBLANK(InfoPro!B62),\"\",InfoPro!B62)","v":"Yaguarundi Solar"},{"$f":"IF(ISBLANK(InfoPro!E62),\"\",InfoPro!E62)","v":40},{"$f":"IF(ISBLANK(InfoPro!C62),\"\",InfoPro!C62)","v":"2022-07-18"},{"$f":"IF(ISBLANK(InfoPro!D62),\"\",InfoPro!D62)","v":"1:43 pm"},{"$f":"IF(ISBLANK(InfoPro!L62),\"\",InfoPro!L62)","v":"NO"},{"$f":"'IT-TA'!H62","v":0},{"$f":"IFERROR('BT-Confi'!Y69,\"\")","v":410977.77911342995},{"$f":"IFERROR('BT-Flex'!Y69,\"\")","v":0},{"$f":"IFERROR('EC-RE'!Z69,\"\")","v":597473.57845725131},{"$f":"IFERROR('EC-RP'!Z68,\"\")","v":1360812.4342847455},{"$f":"IFERROR('EC-Per'!W68,\"\")","v":-178566.60825547689},{"$f":"IFERROR('EC-Mar'!Y68,\"\")","v":1360812.4342847455},0,5066599.4617316797,4655621.6826182501,5253095.2610755013,6016434.1169029959,4477055.0743627734,6016434.1169029959,4655621.6826182501,29873709.159928169]
[{"$f":"IF(ISBLANK(InfoPro!A63),\"\",InfoPro!A63)","v":"SC_981_A2"},{"$f":"IF(ISBLANK(InfoPro!H63),\"\",InfoPro!H63)","v":"SC_981"},{"$f":"IF(ISBLANK(InfoPro!B63),\"\",InfoPro!B63)","v":"Yaguarundi Solar"},{"$f":"IF(ISBLANK(InfoPro!E63),\"\",InfoPro!E63)","v":40},{"$f":"IF(ISBLANK(InfoPro!C63),\"\",InfoPro!C63)","v":"2022-07-18"},{"$f":"IF(ISBLANK(InfoPro!D63),\"\",InfoPro!D63)","v":"1:43 pm"},{"$f":"IF(ISBLANK(InfoPro!L63),\"\",InfoPro!L63)","v":"NO"},{"$f":"'IT-TA'!H63","v":0},{"$f":"IFERROR('BT-Confi'!Y70,\"\")","v":410977.77911342995},{"$f":"IFERROR('BT-Flex'!Y70,\"\")","v":0},{"$f":"IFERROR('EC-RE'!Z70,\"\")","v":597473.57845725131},{"$f":"IFERROR('EC-RP'!Z69,\"\")","v":1360812.4342847455},{"$f":"IFERROR('EC-Per'!W69,\"\")","v":-195356.48142374333},{"$f":"IFERROR('EC-Mar'!Y69,\"\")","v":1360812.4342847455},0,5066599.4617316797,4655621.6826182501,5253095.2610755013,6016434.1169029959,4460265.2011945071,6016434.1169029959,4655621.6826182501,29856919.286759902]
[{"$f":"IF(ISBLANK(InfoPro!A64),\"\",InfoPro!A64)","v":"SC_1634_A1"},{"$f":"IF(ISBLANK(InfoPro!H64),\"\",InfoPro!H64)","v":"SC_1634"},{"$f":"IF(ISBLANK(InfoPro!B64),\"\",InfoPro!B64)","v":"El Tapir Solar 99.9 MW"},{"$f":"IF(ISBLANK(InfoPro!E64),\"\",InfoPro!E64)","v":99.9},{"$f":"IF(ISBLANK(InfoPro!C64),\"\",InfoPro!C64)","v":"2022-07-18"},{"$f":"IF(ISBLANK(InfoPro!D64),\"\",InfoPro!D64)","v":"3:24 pm"},{"$f":"IF(ISBLANK(InfoPro!L64),\"\",InfoPro!L64)","v":"NO"},{"$f":"'IT-TA'!H64","v":0},{"$f":"IFERROR('BT-Confi'!Y71,\"\")","v":410977.77911343001},{"$f":"IFERROR('BT-Flex'!Y71,\"\")","v":0},{"$f":"IFERROR('EC-RE'!Z71,\"\")","v":597473.57845725131},{"$f":"IFERROR('EC-RP'!Z70,\"\")","v":1360812.434284745},{"$f":"IFERROR('EC-Per'!W70,\"\")","v":-140711.27327238576},{"$f":"IFERROR('EC-Mar'!Y70,\"\")","v":1360812.434284745},0,5066599.4617316797,4655621.6826182501,5253095.2610755013,6016434.1169029949,4514910.4093458643,6016434.1169029949,4655621.6826182501,29911564.494911261]
[{"$f":"IF(ISBLANK(InfoPro!A65),\"\",InfoPro!A65)","v":"SC_782_A1"},{"$f":"IF(ISBLANK(InfoPro!H65),\"\",InfoPro!H65)","v":"SC_782"},{"$f":"IF(ISBLANK(InfoPro!B65),\"\",InfoPro!B65)","v":"Parque Solar El Corozo 60 MW"},{"$f":"IF(ISBLANK(InfoPro!E65),\"\",InfoPro!E65)","v":60},{"$f":"IF(ISBLANK(InfoPro!C65),\"\",InfoPro!C65)","v":"2022-07-18"},{"$f":"IF(ISBLANK(InfoPro!D65),\"\",InfoPro!D65)","v":"10:24 pm"},{"$f":"IF(ISBLANK(InfoPro!L65),\"\",InfoPro!L65)","v":"NO"},{"$f":"'IT-TA'!H65","v":0},{"$f":"IFERROR('BT-Confi'!Y72,\"\")","v":410977.77911342977},{"$f":"IFERROR('BT-Flex'!Y72,\"\")","v":0},{"$f":"IFERROR('EC-RE'!Z72,\"\")","v":597473.57845725119},{"$f":"IFERROR('EC-RP'!Z71,\"\")","v":1360812.4342847448},{"$f":"IFERROR('EC-Per'!W71,\"\")","v":-13.31148604578104},{"$f":"IFERROR('EC-Mar'!Y71,\"\")","v":1360812.4342847448},0,5066599.4617316797,4655621.6826182501,5253095.2610755013,6016434.1169029949,4655608.3711322043,6016434.1169029949,4655621.6826182501,30052262.456697598]
[{"$f":"IF(ISBLANK(InfoPro!A66),\"\",InfoPro!A66)","v":"SC_782_A2"},{"$f":"IF(ISBLANK(InfoPro!H66),\"\",InfoPro!H66)","v":"SC_782"},{"$f":"IF(ISBLANK(InfoPro!B66),\"\",InfoPro!B66)","v":"Parque Solar El Corozo 60 MW"},{"$f":"IF(ISBLANK(InfoPro!E66),\"\",InfoPro!E66)","v":60},{"$f":"IF(ISBLANK(InfoPro!C66),\"\",InfoPro!C66)","v":"2022-07-18"},{"$f":"IF(ISBLANK(InfoPro!D66),\"\",InfoPro!D66)","v":"10:24 pm"},{"$f":"IF(ISBLANK(InfoPro!L66),\"\",InfoPro!L66)","v":"NO"},{"$f":"'IT-TA'!H66","v":0},{"$f":"IFERROR('BT-Confi'!Y73,\"\")","v":410977.77911342977},{"$f":"IFERROR('BT-Flex'!Y73,\"\")","v":0},{"$f":"IFERROR('EC-RE'!Z73,\"\")","v":597473.57845725119},{"$f":"IFERROR('EC-RP'!Z72,\"\")","v":1360812.4342847448},{"$f":"IFERROR('EC-Per'!W72,\"\")","v":-15.180259664551704},{"$f":"IFERROR('EC-Mar'!Y72,\"\")","v":1360812.4342847448},0,5066599.4617316797,4655621.6826182501,5253095.2610755013,6016434.1169029949,4655606.5023585856,6016434.1169029949,4655621.6826182501,30052260.587923981]
[{"$f":"IF(ISBLANK(InfoPro!A67),\"\",InfoPro!A67)","v":"SC_1762_A1"},{"$f":"IF(ISBLANK(InfoPro!H67),\"\",InfoPro!H67)","v":"SC_1762"},{"$f":"IF(ISBLANK(InfoPro!B67),\"\",InfoPro!B67)","v":"SPK CERETÉ SOLAR_19.9MW"},{"$f":"IF(ISBLANK(InfoPro!E67),\"\",InfoPro!E67)","v":19.899999999999999},{"$f":"IF(ISBLANK(InfoPro!C67),\"\",InfoPro!C67)","v":"2022-07-19"},{"$f":"IF(ISBLANK(InfoPro!D67),\"\",InfoPro!D67)","v":"4:33 pm"},{"$f":"IF(ISBLANK(InfoPro!L67),\"\",InfoPro!L67)","v":"NO"},{"$f":"'IT-TA'!H67","v":0},{"$f":"IFERROR('BT-Confi'!Y74,\"\")","v":410977.77911342995},{"$f":"IFERROR('BT-Flex'!Y74,\"\")","v":0},{"$f":"IFERROR('EC-RE'!Z74,\"\")","v":597473.57845725107},{"$f":"IFERROR('EC-RP'!Z73,\"\")","v":1360812.4342847448},{"$f":"IFERROR('EC-Per'!W73,\"\")","v":-43951.174142723139},{"$f":"IFERROR('EC-Mar'!Y73,\"\")","v":1360812.4342847448},{"$f":"IF(C70=\"\",\"\",(SUMIF(I70:N70,\">0\"))*(H70/100))","v":0},{"$f":"IF(C70=\"\",\"\",I70+$B$1)","v":5066599.4617316797},{"$f":"IF(D70=\"\",\"\",J70+$B$1)","v":4655621.6826182501},{"$f":"IF(E70=\"\",\"\",K70+$B$1)","v":5253095.2610755013},{"$f":"IF(F70=\"\",\"\",L70+$B$1)","v":6016434.1169029949},{"$f":"IF(G70=\"\",\"\",M70+$B$1)","v":4611670.5084755272},{"$f":"IF(H70=\"\",\"\",N70+$B$1)","v":6016434.1169029949},{"$f":"IF(I70=\"\",\"\",O70+$B$1)","v":4655621.6826182501},{"$f":"IFERROR((+$P$1*P70+$Q$1*Q70+$R$1*R70+$S$1*S70+$T$1*T70+U70*$U$1+$V$1*V70),\"\")","v":30008324.594040923}]
[{"$f":"IF(ISBLANK(InfoPro!A68),\"\",InfoPro!A68)","v":"SC_1762_A2"},{"$f":"IF(ISBLANK(InfoPro!H68),\"\",InfoPro!H68)","v":"SC_1762"},{"$f":"IF(ISBLANK(InfoPro!B68),\"\",InfoPro!B68)","v":"SPK CERETÉ SOLAR_19.9MW"},{"$f":"IF(ISBLANK(InfoPro!E68),\"\",InfoPro!E68)","v":19.899999999999999},{"$f":"IF(ISBLANK(InfoPro!C68),\"\",InfoPro!C68)","v":"2022-07-19"},{"$f":"IF(ISBLANK(InfoPro!D68),\"\",InfoPro!D68)","v":"4:33 pm"},{"$f":"IF(ISBLANK(InfoPro!L68),\"\",InfoPro!L68)","v":"NO"},{"$f":"'IT-TA'!H68","v":0},{"$f":"IFERROR('BT-Confi'!Y75,\"\")","v":410977.77911342995},{"$f":"IFERROR('BT-Flex'!Y75,\"\")","v":0},{"$f":"IFERROR('EC-RE'!Z75,\"\")","v":597473.57845725107},{"$f":"IFERROR('EC-RP'!Z74,\"\")","v":1360812.4342847448},{"$f":"IFERROR('EC-Per'!W74,\"\")","v":-44560.868844741708},{"$f":"IFERROR('EC-Mar'!Y74,\"\")","v":1360812.4342847448},0,5066599.4617316797,4655621.6826182501,5253095.2610755013,6016434.1169029949,4611060.8137735082,6016434.1169029949,4655621.6826182501,30007714.899338905]
[{"$f":"IF(ISBLANK(InfoPro!A69),\"\",InfoPro!A69)","v":"SC_1782_A1"},{"$f":"IF(ISBLANK(InfoPro!H69),\"\",InfoPro!H69)","v":"SC_1782"},{"$f":"IF(ISBLANK(InfoPro!B69),\"\",InfoPro!B69)","v":"Orquídea del Sucre - Toluviejo"},{"$f":"IF(ISBLANK(InfoPro!E69),\"\",InfoPro!E69)","v":112},{"$f":"IF(ISBLANK(InfoPro!C69),\"\",InfoPro!C69)","v":"2022-07-22"},{"$f":"IF(ISBLANK(InfoPro!D69),\"\",InfoPro!D69)","v":"2:20 pm"},{"$f":"IF(ISBLANK(InfoPro!L69),\"\",InfoPro!L69)","v":"NO"},{"$f":"'IT-TA'!H69","v":0},{"$f":"IFERROR('BT-Confi'!Y76,\"\")","v":367600.87577229866},{"$f":"IFERROR('BT-Flex'!Y76,\"\")","v":0},{"$f":"IFERROR('EC-RE'!Z76,\"\")","v":534412.86087410653},{"$f":"IFERROR('EC-RP'!Z75,\"\")","v":1217184.6460507561},{"$f":"IFERROR('EC-Per'!W75,\"\")","v":-406246.66225571081},{"$f":"IFERROR('EC-Mar'!Y75,\"\")","v":1217184.6460507559},0,5023222.5583905485,4655621.6826182501,5190034.5434923563,5872806.328669006,4249375.0203625392,5872806.328669006,4655621.6826182501,29324149.802652676]
[{"$f":"IF(ISBLANK(InfoPro!A70),\"\",InfoPro!A70)","v":"SC_1782_A2"},{"$f":"IF(ISBLANK(InfoPro!H70),\"\",InfoPro!H70)","v":"SC_1782"},{"$f":"IF(ISBLANK(InfoPro!B70),\"\",InfoPro!B70)","v":"Orquídea del Sucre - Toluviejo"},{"$f":"IF(ISBLANK(InfoPro!E70),\"\",InfoPro!E70)","v":112},{"$f":"IF(ISBLANK(InfoPro!C70),\"\",InfoPro!C70)","v":"2022-07-22"},{"$f":"IF(ISBLANK(InfoPro!D70),\"\",InfoPro!D70)","v":"2:20 pm"},{"$f":"IF(ISBLANK(InfoPro!L70),\"\",InfoPro!L70)","v":"NO"},{"$f":"'IT-TA'!H70","v":0},{"$f":"IFERROR('BT-Confi'!Y77,\"\")","v":367600.87577229866},{"$f":"IFERROR('BT-Flex'!Y77,\"\")","v":0},{"$f":"IFERROR('EC-RE'!Z77,\"\")","v":534412.86087410653},{"$f":"IFERROR('EC-RP'!Z76,\"\")","v":1217184.6460507561},{"$f":"IFERROR('EC-Per'!W76,\"\")","v":-391230.15377925697},{"$f":"IFERROR('EC-Mar'!Y76,\"\")","v":1217184.6460507559},0,5023222.5583905485,4655621.6826182501,5190034.5434923563,5872806.328669006,4264391.5288389931,5872806.328669006,4655621.6826182501,29339166.311129134]
[{"$f":"IF(ISBLANK(InfoPro!A71),\"\",InfoPro!A71)","v":"SC_1784_A1"},{"$f":"IF(ISBLANK(InfoPro!H71),\"\",InfoPro!H71)","v":"SC_1784"},{"$f":"IF(ISBLANK(InfoPro!B71),\"\",InfoPro!B71)","v":"Pétalo del Sucre - Sierra Flor 9,9 MW"},{"$f":"IF(ISBLANK(InfoPro!E71),\"\",InfoPro!E71)","v":9.9},{"$f":"IF(ISBLANK(InfoPro!C71),\"\",InfoPro!C71)","v":"2022-07-22"},{"$f":"IF(ISBLANK(InfoPro!D71),\"\",InfoPro!D71)","v":"2:47 pm"},{"$f":"IF(ISBLANK(InfoPro!L71),\"\",InfoPro!L71)","v":"NO"},{"$f":"'IT-TA'!H71","v":0},{"$f":"IFERROR('BT-Confi'!Y78,\"\")","v":410977.77911342995},{"$f":"IFERROR('BT-Flex'!Y78,\"\")","v":0},{"$f":"IFERROR('EC-RE'!Z78,\"\")","v":597473.57845725107},{"$f":"IFERROR('EC-RP'!Z77,\"\")","v":1360812.4342847455},{"$f":"IFERROR('EC-Per'!W77,\"\")","v":-75679.454913611975},{"$f":"IFERROR('EC-Mar'!Y77,\"\")","v":1360812.4342847455},0,5066599.4617316797,4655621.6826182501,5253095.2610755013,6016434.1169029959,4579942.2277046386,6016434.1169029959,4655621.6826182501,29976596.313270032]
[{"$f":"IF(ISBLANK(InfoPro!A72),\"\",InfoPro!A72)","v":"SC_1784_A2"},{"$f":"IF(ISBLANK(InfoPro!H72),\"\",InfoPro!H72)","v":"SC_1784"},{"$f":"IF(ISBLANK(InfoPro!B72),\"\",InfoPro!B72)","v":"Pétalo del Sucre - Sierra Flor 9,9 MW"},{"$f":"IF(ISBLANK(InfoPro!E72),\"\",InfoPro!E72)","v":9.9},{"$f":"IF(ISBLANK(InfoPro!C72),\"\",InfoPro!C72)","v":"2022-07-22"},{"$f":"IF(ISBLANK(InfoPro!D72),\"\",InfoPro!D72)","v":"2:47 pm"},{"$f":"IF(ISBLANK(InfoPro!L72),\"\",InfoPro!L72)","v":"NO"},{"$f":"'IT-TA'!H72","v":0},{"$f":"IFERROR('BT-Confi'!Y79,\"\")","v":410977.77911342995},{"$f":"IFERROR('BT-Flex'!Y79,\"\")","v":0},{"$f":"IFERROR('EC-RE'!Z79,\"\")","v":597473.57845725107},{"$f":"IFERROR('EC-RP'!Z78,\"\")","v":1360812.4342847455},{"$f":"IFERROR('EC-Per'!W78,\"\")","v":-77738.418185979681},{"$f":"IFERROR('EC-Mar'!Y78,\"\")","v":1360812.4342847455},0,5066599.4617316797,4655621.6826182501,5253095.2610755013,6016434.1169029959,4577883.2644322701,6016434.1169029959,4655621.6826182501,29974537.349997666]
[{"$f":"IF(ISBLANK(InfoPro!A73),\"\",InfoPro!A73)","v":"SC_1715_A1"},{"$f":"IF(ISBLANK(InfoPro!H73),\"\",InfoPro!H73)","v":"SC_1715"},{"$f":"IF(ISBLANK(InfoPro!B73),\"\",InfoPro!B73)","v":"Andrómeda Solar de 50 MW (entrega 41 MW)"},{"$f":"IF(ISBLANK(InfoPro!E73),\"\",InfoPro!E73)","v":41},{"$f":"IF(ISBLANK(InfoPro!C73),\"\",InfoPro!C73)","v":"2022-07-22"},{"$f":"IF(ISBLANK(InfoPro!D73),\"\",InfoPro!D73)","v":"5:03 pm"},{"$f":"IF(ISBLANK(InfoPro!L73),\"\",InfoPro!L73)","v":"NO"},{"$f":"'IT-TA'!H73","v":0},{"$f":"IFERROR('BT-Confi'!Y80,\"\")","v":410977.77911342983},{"$f":"IFERROR('BT-Flex'!Y80,\"\")","v":0},{"$f":"IFERROR('EC-RE'!Z80,\"\")","v":597473.57845725107},{"$f":"IFERROR('EC-RP'!Z79,\"\")","v":1360812.4342847452},{"$f":"IFERROR('EC-Per'!W79,\"\")","v":-79706.722548522943},{"$f":"IFERROR('EC-Mar'!Y79,\"\")","v":1360812.4342847455},0,5066599.4617316797,4655621.6826182501,5253095.2610755013,6016434.1169029959,4575914.9600697272,6016434.1169029959,4655621.6826182501,29972569.045635123]
[{"$f":"IF(ISBLANK(InfoPro!A74),\"\",InfoPro!A74)","v":"SC_1715_A2"},{"$f":"IF(ISBLANK(InfoPro!H74),\"\",InfoPro!H74)","v":"SC_1715"},{"$f":"IF(ISBLANK(InfoPro!B74),\"\",InfoPro!B74)","v":"Andrómeda Solar de 50 MW (entrega 41 MW)"},{"$f":"IF(ISBLANK(InfoPro!E74),\"\",InfoPro!E74)","v":41},{"$f":"IF(ISBLANK(InfoPro!C74),\"\",InfoPro!C74)","v":"2022-07-22"},{"$f":"IF(ISBLANK(InfoPro!D74),\"\",InfoPro!D74)","v":"5:03 pm"},{"$f":"IF(ISBLANK(InfoPro!L74),\"\",InfoPro!L74)","v":"NO"},{"$f":"'IT-TA'!H74","v":0},{"$f":"IFERROR('BT-Confi'!Y81,\"\")","v":410977.77911342983},{"$f":"IFERROR('BT-Flex'!Y81,\"\")","v":0},{"$f":"IFERROR('EC-RE'!Z81,\"\")","v":597473.57845725107},{"$f":"IFERROR('EC-RP'!Z80,\"\")","v":1360812.4342847452},{"$f":"IFERROR('EC-Per'!W80,\"\")","v":-44588.212706346538},{"$f":"IFERROR('EC-Mar'!Y80,\"\")","v":1360812.4342847455},0,5066599.4617316797,4655621.6826182501,5253095.2610755013,6016434.1169029959,4611033.4699119031,6016434.1169029959,4655621.6826182501,30007687.555477299]
[{"$f":"IF(ISBLANK(InfoPro!A75),\"\",InfoPro!A75)","v":"SC_1809_A1"},{"$f":"IF(ISBLANK(InfoPro!H75),\"\",InfoPro!H75)","v":"SC_1809"},{"$f":"IF(ISBLANK(InfoPro!B75),\"\",InfoPro!B75)","v":"DSE COVEÑAS"},{"$f":"IF(ISBLANK(InfoPro!E75),\"\",InfoPro!E75)","v":9.9},{"$f":"IF(ISBLANK(InfoPro!C75),\"\",InfoPro!C75)","v":"2022-07-26"},{"$f":"IF(ISBLANK(InfoPro!D75),\"\",InfoPro!D75)","v":"9:37 am"},{"$f":"IF(ISBLANK(InfoPro!L75),\"\",InfoPro!L75)","v":"NO"},{"$f":"'IT-TA'!H75","v":0},{"$f":"IFERROR('BT-Confi'!Y82,\"\")","v":459473.15704881464},{"$f":"IFERROR('BT-Flex'!Y82,\"\")","v":0},{"$f":"IFERROR('EC-RE'!Z82,\"\")","v":667975.46071520657},{"$f":"IFERROR('EC-RP'!Z81,\"\")","v":1521388.3015303449},{"$f":"IFERROR('EC-Per'!W81,\"\")","v":-40131.309771222026},{"$f":"IFERROR('EC-Mar'!Y81,\"\")","v":1521388.3015303449},0,5115094.8396670651,4655621.6826182501,5323597.1433334565,6177009.9841485955,4615490.3728470281,6177009.9841485955,4655621.6826182501,30372005.519474171]
[{"$f":"IF(ISBLANK(InfoPro!A76),\"\",InfoPro!A76)","v":"SC_1809_A2"},{"$f":"IF(ISBLANK(InfoPro!H76),\"\",InfoPro!H76)","v":"SC_1809"},{"$f":"IF(ISBLANK(InfoPro!B76),\"\",InfoPro!B76)","v":"DSE COVEÑAS"},{"$f":"IF(ISBLANK(InfoPro!E76),\"\",InfoPro!E76)","v":9.9},{"$f":"IF(ISBLANK(InfoPro!C76),\"\",InfoPro!C76)","v":"2022-07-26"},{"$f":"IF(ISBLANK(InfoPro!D76),\"\",InfoPro!D76)","v":"9:37 am"},{"$f":"IF(ISBLANK(InfoPro!L76),\"\",InfoPro!L76)","v":"NO"},{"$f":"'IT-TA'!H76","v":0},{"$f":"IFERROR('BT-Confi'!Y83,\"\")","v":459473.15704881464},{"$f":"IFERROR('BT-Flex'!Y83,\"\")","v":0},{"$f":"IFERROR('EC-RE'!Z83,\"\")","v":667975.46071520657},{"$f":"IFERROR('EC-RP'!Z82,\"\")","v":1521388.3015303449},{"$f":"IFERROR('EC-Per'!W82,\"\")","v":-40155.201010853656},{"$f":"IFERROR('EC-Mar'!Y82,\"\")","v":1521388.3015303449},0,5115094.8396670651,4655621.6826182501,5323597.1433334565,6177009.9841485955,4615466.4816073962,6177009.9841485955,4655621.6826182501,30371981.628234539]
[{"$f":"IF(ISBLANK(InfoPro!A77),\"\",InfoPro!A77)","v":"SC_1838_A1"},{"$f":"IF(ISBLANK(InfoPro!H77),\"\",InfoPro!H77)","v":"SC_1838"},{"$f":"IF(ISBLANK(InfoPro!B77),\"\",InfoPro!B77)","v":"Since Solar I 9,9 MW"},{"$f":"IF(ISBLANK(InfoPro!E77),\"\",InfoPro!E77)","v":9.9},{"$f":"IF(ISBLANK(InfoPro!C77),\"\",InfoPro!C77)","v":"2022-07-28"},{"$f":"IF(ISBLANK(InfoPro!D77),\"\",InfoPro!D77)","v":"3:03 pm"},{"$f":"IF(ISBLANK(InfoPro!L77),\"\",InfoPro!L77)","v":"NO"},{"$f":"'IT-TA'!H77","v":0},{"$f":"IFERROR('BT-Confi'!Y84,\"\")","v":459473.15704881464},{"$f":"IFERROR('BT-Flex'!Y84,\"\")","v":0},{"$f":"IFERROR('EC-RE'!Z84,\"\")","v":667975.46071520657},{"$f":"IFERROR('EC-RP'!Z83,\"\")","v":1521388.3015303449},{"$f":"IFERROR('EC-Per'!W83,\"\")","v":-117043.18295533067},{"$f":"IFERROR('EC-Mar'!Y83,\"\")","v":1521388.3015303449},0,5115094.8396670651,4655621.6826182501,5323597.1433334565,6177009.9841485955,4538578.4996629199,6177009.9841485955,4655621.6826182501,30295093.646290064]
[{"$f":"IF(ISBLANK(InfoPro!A78),\"\",InfoPro!A78)","v":"SC_1838_A2"},{"$f":"IF(ISBLANK(InfoPro!H78),\"\",InfoPro!H78)","v":"SC_1838"},{"$f":"IF(ISBLANK(InfoPro!B78),\"\",InfoPro!B78)","v":"Since Solar I 9,9 MW"},{"$f":"IF(ISBLANK(InfoPro!E78),\"\",InfoPro!E78)","v":9.9},{"$f":"IF(ISBLANK(InfoPro!C78),\"\",InfoPro!C78)","v":"2022-07-28"},{"$f":"IF(ISBLANK(InfoPro!D78),\"\",InfoPro!D78)","v":"3:03 pm"},{"$f":"IF(ISBLANK(InfoPro!L78),\"\",InfoPro!L78)","v":"NO"},{"$f":"'IT-TA'!H78","v":0},{"$f":"IFERROR('BT-Confi'!Y85,\"\")","v":459473.15704881464},{"$f":"IFERROR('BT-Flex'!Y85,\"\")","v":0},{"$f":"IFERROR('EC-RE'!Z85,\"\")","v":667975.46071520657},{"$f":"IFERROR('EC-RP'!Z84,\"\")","v":1521388.3015303449},{"$f":"IFERROR('EC-Per'!W84,\"\")","v":-83890.504280506299},{"$f":"IFERROR('EC-Mar'!Y84,\"\")","v":1521388.3015303449},0,5115094.8396670651,4655621.6826182501,5323597.1433334565,6177009.9841485955,4571731.1783377435,6177009.9841485955,4655621.6826182501,30328246.324964888]
[{"$f":"IF(ISBLANK(InfoPro!A79),\"\",InfoPro!A79)","v":"SC_1853_A1"},{"$f":"IF(ISBLANK(InfoPro!H79),\"\",InfoPro!H79)","v":"SC_1853"},{"$f":"IF(ISBLANK(InfoPro!B79),\"\",InfoPro!B79)","v":"Tolú Solar 9,9 MW"},{"$f":"IF(ISBLANK(InfoPro!E79),\"\",InfoPro!E79)","v":9.9},{"$f":"IF(ISBLANK(InfoPro!C79),\"\",InfoPro!C79)","v":"2022-07-28"},{"$f":"IF(ISBLANK(InfoPro!D79),\"\",InfoPro!D79)","v":"3:08 pm"},{"$f":"IF(ISBLANK(InfoPro!L79),\"\",InfoPro!L79)","v":"NO"},{"$f":"'IT-TA'!H79","v":0},{"$f":"IFERROR('BT-Confi'!Y86,\"\")","v":459473.15704881464},{"$f":"IFERROR('BT-Flex'!Y86,\"\")","v":0},{"$f":"IFERROR('EC-RE'!Z86,\"\")","v":667975.46071520657},{"$f":"IFERROR('EC-RP'!Z85,\"\")","v":1521388.3015303449},{"$f":"IFERROR('EC-Per'!W85,\"\")","v":-77705.062339878597},{"$f":"IFERROR('EC-Mar'!Y85,\"\")","v":1521388.3015303449},0,5115094.8396670651,4655621.6826182501,5323597.1433334565,6177009.9841485955,4577916.6202783715,6177009.9841485955,4655621.6826182501,30334431.766905516]
[{"$f":"IF(ISBLANK(InfoPro!A80),\"\",InfoPro!A80)","v":"SC_1853_A2"},{"$f":"IF(ISBLANK(InfoPro!H80),\"\",InfoPro!H80)","v":"SC_1853"},{"$f":"IF(ISBLANK(InfoPro!B80),\"\",InfoPro!B80)","v":"Tolú Solar 9,9 MW"},{"$f":"IF(ISBLANK(InfoPro!E80),\"\",InfoPro!E80)","v":9.9},{"$f":"IF(ISBLANK(InfoPro!C80),\"\",InfoPro!C80)","v":"2022-07-28"},{"$f":"IF(ISBLANK(InfoPro!D80),\"\",InfoPro!D80)","v":"3:08 pm"},{"$f":"IF(ISBLANK(InfoPro!L80),\"\",InfoPro!L80)","v":"NO"},{"$f":"'IT-TA'!H80","v":0},{"$f":"IFERROR('BT-Confi'!Y87,\"\")","v":459473.15704881464},{"$f":"IFERROR('BT-Flex'!Y87,\"\")","v":0},{"$f":"IFERROR('EC-RE'!Z87,\"\")","v":667975.46071520657},{"$f":"IFERROR('EC-RP'!Z86,\"\")","v":1521388.3015303449},{"$f":"IFERROR('EC-Per'!W86,\"\")","v":-79431.204403263488},{"$f":"IFERROR('EC-Mar'!Y86,\"\")","v":1521388.3015303449},{"$f":"IF(C83=\"\",\"\",(SUMIF(I83:N83,\">0\"))*(H83/100))","v":0},{"$f":"IF(C83=\"\",\"\",I83+$B$1)","v":5115094.8396670651},{"$f":"IF(D83=\"\",\"\",J83+$B$1)","v":4655621.6826182501},{"$f":"IF(E83=\"\",\"\",K83+$B$1)","v":5323597.1433334565},{"$f":"IF(F83=\"\",\"\",L83+$B$1)","v":6177009.9841485955},{"$f":"IF(G83=\"\",\"\",M83+$B$1)","v":4576190.4782149866},{"$f":"IF(H83=\"\",\"\",N83+$B$1)","v":6177009.9841485955},{"$f":"IF(I83=\"\",\"\",O83+$B$1)","v":4655621.6826182501},{"$f":"IFERROR((+$P$1*P83+$Q$1*Q83+$R$1*R83+$S$1*S83+$T$1*T83+U83*$U$1+$V$1*V83),\"\")","v":30332705.62484213}]
[{"$f":"IF(ISBLANK(InfoPro!A81),\"\",InfoPro!A81)","v":"SC_1882_A1"},{"$f":"IF(ISBLANK(InfoPro!H81),\"\",InfoPro!H81)","v":"SC_1882"},{"$f":"IF(ISBLANK(InfoPro!B81),\"\",InfoPro!B81)","v":"Proyecto Solar Oviedo"},{"$f":"IF(ISBLANK(InfoPro!E81),\"\",InfoPro!E81)","v":9.9},{"$f":"IF(ISBLANK(InfoPro!C81),\"\",InfoPro!C81)","v":"2022-07-28"},{"$f":"IF(ISBLANK(InfoPro!D81),\"\",InfoPro!D81)","v":"4:24 pm"},{"$f":"IF(ISBLANK(InfoPro!L81),\"\",InfoPro!L81)","v":"NO"},{"$f":"'IT-TA'!H81","v":0},{"$f":"IFERROR('BT-Confi'!Y88,\"\")","v":459473.15704881464},{"$f":"IFERROR('BT-Flex'!Y88,\"\")","v":0},{"$f":"IFERROR('EC-RE'!Z88,\"\")","v":667975.46071520657},{"$f":"IFERROR('EC-RP'!Z87,\"\")","v":1521388.3015303449},{"$f":"IFERROR('EC-Per'!W87,\"\")","v":-117043.18295533067},{"$f":"IFERROR('EC-Mar'!Y87,\"\")","v":1521388.3015303449},0,5115094.8396670651,4655621.6826182501,5323597.1433334565,6177009.9841485955,4538578.4996629199,6177009.9841485955,4655621.6826182501,30295093.646290064]
[{"$f":"IF(ISBLANK(InfoPro!A82),\"\",InfoPro!A82)","v":"SC_1882_A2"},{"$f":"IF(ISBLANK(InfoPro!H82),\"\",InfoPro!H82)","v":"SC_1882"},{"$f":"IF(ISBLANK(InfoPro!B82),\"\",InfoPro!B82)","v":"Proyecto Solar Oviedo"},{"$f":"IF(ISBLANK(InfoPro!E82),\"\",InfoPro!E82)","v":9.9},{"$f":"IF(ISBLANK(InfoPro!C82),\"\",InfoPro!C82)","v":"2022-07-28"},{"$f":"IF(ISBLANK(InfoPro!D82),\"\",InfoPro!D82)","v":"4:24 pm"},{"$f":"IF(ISBLANK(InfoPro!L82),\"\",InfoPro!L82)","v":"NO"},{"$f":"'IT-TA'!H82","v":0},{"$f":"IFERROR('BT-Confi'!Y89,\"\")","v":459473.15704881464},{"$f":"IFERROR('BT-Flex'!Y89,\"\")","v":0},{"$f":"IFERROR('EC-RE'!Z89,\"\")","v":667975.46071520657},{"$f":"IFERROR('EC-RP'!Z88,\"\")","v":1521388.3015303449},{"$f":"IFERROR('EC-Per'!W88,\"\")","v":-83890.504280506299},{"$f":"IFERROR('EC-Mar'!Y88,\"\")","v":1521388.3015303449},0,5115094.8396670651,4655621.6826182501,5323597.1433334565,6177009.9841485955,4571731.1783377435,6177009.9841485955,4655621.6826182501,30328246.324964888]
[{"$f":"IF(ISBLANK(InfoPro!A83),\"\",InfoPro!A83)","v":"SC_1913_A1"},{"$f":"IF(ISBLANK(InfoPro!H83),\"\",InfoPro!H83)","v":"SC_1913"},{"$f":"IF(ISBLANK(InfoPro!B83),\"\",InfoPro!B83)","v":"PS Noe"},{"$f":"IF(ISBLANK(InfoPro!E83),\"\",InfoPro!E83)","v":9.9},{"$f":"IF(ISBLANK(InfoPro!C83),\"\",InfoPro!C83)","v":"2022-07-29"},{"$f":"IF(ISBLANK(InfoPro!D83),\"\",InfoPro!D83)","v":"10:49 am"},{"$f":"IF(ISBLANK(InfoPro!L83),\"\",InfoPro!L83)","v":"NO"},{"$f":"'IT-TA'!H83","v":0},{"$f":"IFERROR('BT-Confi'!Y90,\"\")","v":459473.15704881464},{"$f":"IFERROR('BT-Flex'!Y90,\"\")","v":0},{"$f":"IFERROR('EC-RE'!Z90,\"\")","v":667975.46071520657},{"$f":"IFERROR('EC-RP'!Z89,\"\")","v":1521388.3015303449},{"$f":"IFERROR('EC-Per'!W89,\"\")","v":64496.790509534723},{"$f":"IFERROR('EC-Mar'!Y89,\"\")","v":1521388.3015303449},0,5115094.8396670651,4655621.6826182501,5323597.1433334565,6177009.9841485955,4720118.4731277851,6177009.9841485955,4655621.6826182501,30476633.619754929]
[{"$f":"IF(ISBLANK(InfoPro!A84),\"\",InfoPro!A84)","v":"SC_1913_A2"},{"$f":"IF(ISBLANK(InfoPro!H84),\"\",InfoPro!H84)","v":"SC_1913"},{"$f":"IF(ISBLANK(InfoPro!B84),\"\",InfoPro!B84)","v":"PS Noe"},{"$f":"IF(ISBLANK(InfoPro!E84),\"\",InfoPro!E84)","v":9.9},{"$f":"IF(ISBLANK(InfoPro!C84),\"\",InfoPro!C84)","v":"2022-07-29"},{"$f":"IF(ISBLANK(InfoPro!D84),\"\",InfoPro!D84)","v":"10:49 am"},{"$f":"IF(ISBLANK(InfoPro!L84),\"\",InfoPro!L84)","v":"NO"},{"$f":"'IT-TA'!H84","v":0},{"$f":"IFERROR('BT-Confi'!Y91,\"\")","v":459473.15704881464},{"$f":"IFERROR('BT-Flex'!Y91,\"\")","v":0},{"$f":"IFERROR('EC-RE'!Z91,\"\")","v":667975.46071520657},{"$f":"IFERROR('EC-RP'!Z90,\"\")","v":1521388.3015303449},{"$f":"IFERROR('EC-Per'!W90,\"\")","v":-43919.265814816164},{"$f":"IFERROR('EC-Mar'!Y90,\"\")","v":1521388.3015303449},0,5115094.8396670651,4655621.6826182501,5323597.1433334565,6177009.9841485955,4611702.4168034336,6177009.9841485955,4655621.6826182501,30368217.563430578]
[{"$f":"IF(ISBLANK(InfoPro!A85),\"\",InfoPro!A85)","v":"SC_1491_A1"},{"$f":"IF(ISBLANK(InfoPro!H85),\"\",InfoPro!H85)","v":"SC_1491"},{"$f":"IF(ISBLANK(InfoPro!B85),\"\",InfoPro!B85)","v":"SABANA SOLAR_90MW"},{"$f":"IF(ISBLANK(InfoPro!E85),\"\",InfoPro!E85)","v":90},{"$f":"IF(ISBLANK(InfoPro!C85),\"\",InfoPro!C85)","v":"2022-07-31"},{"$f":"IF(ISBLANK(InfoPro!D85),\"\",InfoPro!D85)","v":"9:17 pm"},{"$f":"IF(ISBLANK(InfoPro!L85),\"\",InfoPro!L85)","v":"NO"},{"$f":"'IT-TA'!H85","v":0},{"$f":"IFERROR('BT-Confi'!Y92,\"\")","v":459473.15704881458},{"$f":"IFERROR('BT-Flex'!Y92,\"\")","v":0},{"$f":"IFERROR('EC-RE'!Z92,\"\")","v":667975.46071520669},{"$f":"IFERROR('EC-RP'!Z91,\"\")","v":1521388.3015303446},{"$f":"IFERROR('EC-Per'!W91,\"\")","v":-147170.03613080975},{"$f":"IFERROR('EC-Mar'!Y91,\"\")","v":1521388.3015303446},0,5115094.8396670651,4655621.6826182501,5323597.1433334565,6177009.9841485946,4508451.64648744,6177009.9841485946,4655621.6826182501,30264966.79311458]
[{"$f":"IF(ISBLANK(InfoPro!A86),\"\",InfoPro!A86)","v":"SC_1491_A2"},{"$f":"IF(ISBLANK(InfoPro!H86),\"\",InfoPro!H86)","v":"SC_1491"},{"$f":"IF(ISBLANK(InfoPro!B86),\"\",InfoPro!B86)","v":"SABANA SOLAR_90MW"},{"$f":"IF(ISBLANK(InfoPro!E86),\"\",InfoPro!E86)","v":90},{"$f":"IF(ISBLANK(InfoPro!C86),\"\",InfoPro!C86)","v":"2022-07-31"},{"$f":"IF(ISBLANK(InfoPro!D86),\"\",InfoPro!D86)","v":"9:17 pm"},{"$f":"IF(ISBLANK(InfoPro!L86),\"\",InfoPro!L86)","v":"NO"},{"$f":"'IT-TA'!H86","v":0},{"$f":"IFERROR('BT-Confi'!Y93,\"\")","v":459473.15704881458},{"$f":"IFERROR('BT-Flex'!Y93,\"\")","v":0},{"$f":"IFERROR('EC-RE'!Z93,\"\")","v":667975.46071520669},{"$f":"IFERROR('EC-RP'!Z92,\"\")","v":1521388.3015303446},{"$f":"IFERROR('EC-Per'!W92,\"\")","v":-151112.09067002786},{"$f":"IFERROR('EC-Mar'!Y92,\"\")","v":1521388.3015303446},0,5115094.8396670651,4655621.6826182501,5323597.1433334565,6177009.9841485946,4504509.5919482224,6177009.9841485946,4655621.6826182501,30261024.738575362]
[{"$f":"IF(ISBLANK(InfoPro!A87),\"\",InfoPro!A87)","v":"SC_1894_A1"},{"$f":"IF(ISBLANK(InfoPro!H87),\"\",InfoPro!H87)","v":"SC_1894"},{"$f":"IF(ISBLANK(InfoPro!B87),\"\",InfoPro!B87)","v":"Aquila Solar"},{"$f":"IF(ISBLANK(InfoPro!E87),\"\",InfoPro!E87)","v":47},{"$f":"IF(ISBLANK(InfoPro!C87),\"\",InfoPro!C87)","v":"2022-08-01"},{"$f":"IF(ISBLANK(InfoPro!D87),\"\",InfoPro!D87)","v":"9:57 am"},{"$f":"IF(ISBLANK(InfoPro!L87),\"\",InfoPro!L87)","v":"NO"},{"$f":"'IT-TA'!H87","v":0},{"$f":"IFERROR('BT-Confi'!Y94,\"\")","v":459473.15704881458},{"$f":"IFERROR('BT-Flex'!Y94,\"\")","v":0},{"$f":"IFERROR('EC-RE'!Z94,\"\")","v":667975.46071520669},{"$f":"IFERROR('EC-RP'!Z93,\"\")","v":1521388.3015303449},{"$f":"IFERROR('EC-Per'!W93,\"\")","v":-64265.526969835177},{"$f":"IFERROR('EC-Mar'!Y93,\"\")","v":1521388.3015303449},0,5115094.8396670651,4655621.6826182501,5323597.1433334565,6177009.9841485955,4591356.155648415,6177009.9841485955,4655621.6826182501,30347871.302275557]
[{"$f":"IF(ISBLANK(InfoPro!A88),\"\",InfoPro!A88)","v":"SC_1894_A2"},{"$f":"IF(ISBLANK(InfoPro!H88),\"\",InfoPro!H88)","v":"SC_1894"},{"$f":"IF(ISBLANK(InfoPro!B88),\"\",InfoPro!B88)","v":"Aquila Solar"},{"$f":"IF(ISBLANK(InfoPro!E88),\"\",InfoPro!E88)","v":47},{"$f":"IF(ISBLANK(InfoPro!C88),\"\",InfoPro!C88)","v":"2022-08-01"},{"$f":"IF(ISBLANK(InfoPro!D88),\"\",InfoPro!D88)","v":"9:57 am"},{"$f":"IF(ISBLANK(InfoPro!L88),\"\",InfoPro!L88)","v":"NO"},{"$f":"'IT-TA'!H88","v":0},{"$f":"IFERROR('BT-Confi'!Y95,\"\")","v":459473.15704881458},{"$f":"IFERROR('BT-Flex'!Y95,\"\")","v":0},{"$f":"IFERROR('EC-RE'!Z95,\"\")","v":667975.46071520669},{"$f":"IFERROR('EC-RP'!Z94,\"\")","v":1521388.3015303449},{"$f":"IFERROR('EC-Per'!W94,\"\")","v":-50440.812154537962},{"$f":"IFERROR('EC-Mar'!Y94,\"\")","v":1521388.3015303449},0,5115094.8396670651,4655621.6826182501,5323597.1433334565,6177009.9841485955,4605180.8704637121,6177009.9841485955,4655621.6826182501,30361696.017090857]
[{"$f":"IF(ISBLANK(InfoPro!A89),\"\",InfoPro!A89)","v":"SC_1887_A1"},{"$f":"IF(ISBLANK(InfoPro!H89),\"\",InfoPro!H89)","v":"SC_1887"},{"$f":"IF(ISBLANK(InfoPro!B89),\"\",InfoPro!B89)","v":"Boston Solar"},{"$f":"IF(ISBLANK(InfoPro!E89),\"\",InfoPro!E89)","v":100},{"$f":"IF(ISBLANK(InfoPro!C89),\"\",InfoPro!C89)","v":"2022-08-01"},{"$f":"IF(ISBLANK(InfoPro!D89),\"\",InfoPro!D89)","v":"11:17 am"},{"$f":"IF(ISBLANK(InfoPro!L89),\"\",InfoPro!L89)","v":"NO"},{"$f":"'IT-TA'!H89","v":0},{"$f":"IFERROR('BT-Confi'!Y96,\"\")","v":410977.77911342977},{"$f":"IFERROR('BT-Flex'!Y96,\"\")","v":0},{"$f":"IFERROR('EC-RE'!Z96,\"\")","v":597473.57845725096},{"$f":"IFERROR('EC-RP'!Z95,\"\")","v":1360812.4342847452},{"$f":"IFERROR('EC-Per'!W95,\"\")","v":-125232.93749190937},{"$f":"IFERROR('EC-Mar'!Y95,\"\")","v":1360812.4342847452},0,5066599.4617316797,4655621.6826182501,5253095.2610755013,6016434.1169029959,4530388.7451263405,6016434.1169029959,4655621.6826182501,29927042.830691736]
[{"$f":"IF(ISBLANK(InfoPro!A90),\"\",InfoPro!A90)","v":"SC_1887_A2"},{"$f":"IF(ISBLANK(InfoPro!H90),\"\",InfoPro!H90)","v":"SC_1887"},{"$f":"IF(ISBLANK(InfoPro!B90),\"\",InfoPro!B90)","v":"Boston Solar"},{"$f":"IF(ISBLANK(InfoPro!E90),\"\",InfoPro!E90)","v":100},{"$f":"IF(ISBLANK(InfoPro!C90),\"\",InfoPro!C90)","v":"2022-08-01"},{"$f":"IF(ISBLANK(InfoPro!D90),\"\",InfoPro!D90)","v":"11:17 am"},{"$f":"IF(ISBLANK(InfoPro!L90),\"\",InfoPro!L90)","v":"NO"},{"$f":"'IT-TA'!H90","v":0},{"$f":"IFERROR('BT-Confi'!Y97,\"\")","v":410977.77911342977},{"$f":"IFERROR('BT-Flex'!Y97,\"\")","v":0},{"$f":"IFERROR('EC-RE'!Z97,\"\")","v":597473.57845725096},{"$f":"IFERROR('EC-RP'!Z96,\"\")","v":1360812.4342847452},{"$f":"IFERROR('EC-Per'!W96,\"\")","v":-127533.96197468959},{"$f":"IFERROR('EC-Mar'!Y96,\"\")","v":1360812.4342847452},0,5066599.4617316797,4655621.6826182501,5253095.2610755013,6016434.1169029959,4528087.7206435604,6016434.1169029959,4655621.6826182501,29924741.806208957]
[{"$f":"IF(ISBLANK(InfoPro!A91),\"\",InfoPro!A91)","v":"SC_2104_A1"},{"$f":"IF(ISBLANK(InfoPro!H91),\"\",InfoPro!H91)","v":"SC_2104"},{"$f":"IF(ISBLANK(InfoPro!B91),\"\",InfoPro!B91)","v":"El Dorado - 300 MW"},{"$f":"IF(ISBLANK(InfoPro!E91),\"\",InfoPro!E91)","v":300},{"$f":"IF(ISBLANK(InfoPro!C91),\"\",InfoPro!C91)","v":"2022-08-03"},{"$f":"IF(ISBLANK(InfoPro!D91),\"\",InfoPro!D91)","v":"5:42 pm"},{"$f":"IF(ISBLANK(InfoPro!L91),\"\",InfoPro!L91)","v":"NO"},{"$f":"'IT-TA'!H91","v":0},{"$f":"IFERROR('BT-Confi'!Y98,\"\")","v":410977.77911342983},{"$f":"IFERROR('BT-Flex'!Y98,\"\")","v":0},{"$f":"IFERROR('EC-RE'!Z98,\"\")","v":597473.57845725107},{"$f":"IFERROR('EC-RP'!Z97,\"\")","v":1360812.4342847455},{"$f":"IFERROR('EC-Per'!W97,\"\")","v":-59050.037704109462},{"$f":"IFERROR('EC-Mar'!Y97,\"\")","v":1360812.4342847455},0,5066599.4617316797,4655621.6826182501,5253095.2610755013,6016434.1169029959,4596571.6449141409,6016434.1169029959,4655621.6826182501,29993225.730479538]
[{"$f":"IF(ISBLANK(InfoPro!A92),\"\",InfoPro!A92)","v":"SC_2104_A2"},{"$f":"IF(ISBLANK(InfoPro!H92),\"\",InfoPro!H92)","v":"SC_2104"},{"$f":"IF(ISBLANK(InfoPro!B92),\"\",InfoPro!B92)","v":"El Dorado - 300 MW"},{"$f":"IF(ISBLANK(InfoPro!E92),\"\",InfoPro!E92)","v":300},{"$f":"IF(ISBLANK(InfoPro!C92),\"\",InfoPro!C92)","v":"2022-08-03"},{"$f":"IF(ISBLANK(InfoPro!D92),\"\",InfoPro!D92)","v":"5:42 pm"},{"$f":"IF(ISBLANK(InfoPro!L92),\"\",InfoPro!L92)","v":"NO"},{"$f":"'IT-TA'!H92","v":0},{"$f":"IFERROR('BT-Confi'!Y99,\"\")","v":410977.77911342983},{"$f":"IFERROR('BT-Flex'!Y99,\"\")","v":0},{"$f":"IFERROR('EC-RE'!Z99,\"\")","v":597473.57845725107},{"$f":"IFERROR('EC-RP'!Z98,\"\")","v":1360812.4342847455},{"$f":"IFERROR('EC-Per'!W98,\"\")","v":-54561.807629895906},{"$f":"IFERROR('EC-Mar'!Y98,\"\")","v":1360812.4342847455},0,5066599.4617316797,4655621.6826182501,5253095.2610755013,6016434.1169029959,4601059.8749883538,6016434.1169029959,4655621.6826182501,29997713.96055375]
[{"$f":"IF(ISBLANK(InfoPro!A93),\"\",InfoPro!A93)","v":"SC_2028_A1"},{"$f":"IF(ISBLANK(InfoPro!H93),\"\",InfoPro!H93)","v":"SC_2028"},{"$f":"IF(ISBLANK(InfoPro!B93),\"\",InfoPro!B93)","v":"Parque Solar Fandango"},{"$f":"IF(ISBLANK(InfoPro!E93),\"\",InfoPro!E93)","v":19.899999999999999},{"$f":"IF(ISBLANK(InfoPro!C93),\"\",InfoPro!C93)","v":"2022-08-05"},{"$f":"IF(ISBLANK(InfoPro!D93),\"\",InfoPro!D93)","v":"11:45 am"},{"$f":"IF(ISBLANK(InfoPro!L93),\"\",InfoPro!L93)","v":"NO"},{"$f":"'IT-TA'!H93","v":0},{"$f":"IFERROR('BT-Confi'!Y100,\"\")","v":459473.15704881458},{"$f":"IFERROR('BT-Flex'!Y100,\"\")","v":0},{"$f":"IFERROR('EC-RE'!Z100,\"\")","v":667975.46071520681},{"$f":"IFERROR('EC-RP'!Z99,\"\")","v":1521388.3015303449},{"$f":"IFERROR('EC-Per'!W99,\"\")","v":-107742.88763219771},{"$f":"IFERROR('EC-Mar'!Y99,\"\")","v":1521388.3015303449},0,5115094.8396670651,4655621.6826182501,5323597.1433334574,6177009.9841485955,4547878.7949860524,6177009.9841485955,4655621.6826182501,30304393.941613197]
[{"$f":"IF(ISBLANK(InfoPro!A94),\"\",InfoPro!A94)","v":"SC_2028_A2"},{"$f":"IF(ISBLANK(InfoPro!H94),\"\",InfoPro!H94)","v":"SC_2028"},{"$f":"IF(ISBLANK(InfoPro!B94),\"\",InfoPro!B94)","v":"Parque Solar Fandango"},{"$f":"IF(ISBLANK(InfoPro!E94),\"\",InfoPro!E94)","v":19.899999999999999},{"$f":"IF(ISBLANK(InfoPro!C94),\"\",InfoPro!C94)","v":"2022-08-05"},{"$f":"IF(ISBLANK(InfoPro!D94),\"\",InfoPro!D94)","v":"11:45 am"},{"$f":"IF(ISBLANK(InfoPro!L94),\"\",InfoPro!L94)","v":"NO"},{"$f":"'IT-TA'!H94","v":0},{"$f":"IFERROR('BT-Confi'!Y101,\"\")","v":459473.15704881458},{"$f":"IFERROR('BT-Flex'!Y101,\"\")","v":0},{"$f":"IFERROR('EC-RE'!Z101,\"\")","v":667975.46071520681},{"$f":"IFERROR('EC-RP'!Z100,\"\")","v":1521388.3015303449},{"$f":"IFERROR('EC-Per'!W100,\"\")","v":-104652.63382255939},{"$f":"IFERROR('EC-Mar'!Y100,\"\")","v":1521388.3015303449},0,5115094.8396670651,4655621.6826182501,5323597.1433334574,6177009.9841485955,4550969.0487956908,6177009.9841485955,4655621.6826182501,30307484.195422836]
[{"$f":"IF(ISBLANK(InfoPro!A95),\"\",InfoPro!A95)","v":"SC_2015_A1"},{"$f":"IF(ISBLANK(InfoPro!H95),\"\",InfoPro!H95)","v":"SC_2015"},{"$f":"IF(ISBLANK(InfoPro!B95),\"\",InfoPro!B95)","v":"Parque Solar El Bongo"},{"$f":"IF(ISBLANK(InfoPro!E95),\"\",InfoPro!E95)","v":19.899999999999999},{"$f":"IF(ISBLANK(InfoPro!C95),\"\",InfoPro!C95)","v":"2022-08-05"},{"$f":"IF(ISBLANK(InfoPro!D95),\"\",InfoPro!D95)","v":"11:51 am"},{"$f":"IF(ISBLANK(InfoPro!L95),\"\",InfoPro!L95)","v":"NO"},{"$f":"'IT-TA'!H95","v":0},{"$f":"IFERROR('BT-Confi'!Y102,\"\")","v":459473.15704881458},{"$f":"IFERROR('BT-Flex'!Y102,\"\")","v":0},{"$f":"IFERROR('EC-RE'!Z102,\"\")","v":667975.46071520681},{"$f":"IFERROR('EC-RP'!Z101,\"\")","v":1521388.3015303449},{"$f":"IFERROR('EC-Per'!W101,\"\")","v":-134960.89234016603},{"$f":"IFERROR('EC-Mar'!Y101,\"\")","v":1521388.3015303449},0,5115094.8396670651,4655621.6826182501,5323597.1433334574,6177009.9841485955,4520660.7902780846,6177009.9841485955,4655621.6826182501,30277175.936905228]
[{"$f":"IF(ISBLANK(InfoPro!A96),\"\",InfoPro!A96)","v":"SC_2015_A2"},{"$f":"IF(ISBLANK(InfoPro!H96),\"\",InfoPro!H96)","v":"SC_2015"},{"$f":"IF(ISBLANK(InfoPro!B96),\"\",InfoPro!B96)","v":"Parque Solar El Bongo"},{"$f":"IF(ISBLANK(InfoPro!E96),\"\",InfoPro!E96)","v":19.899999999999999},{"$f":"IF(ISBLANK(InfoPro!C96),\"\",InfoPro!C96)","v":"2022-08-05"},{"$f":"IF(ISBLANK(InfoPro!D96),\"\",InfoPro!D96)","v":"11:51 am"},{"$f":"IF(ISBLANK(InfoPro!L96),\"\",InfoPro!L96)","v":"NO"},{"$f":"'IT-TA'!H96","v":0},{"$f":"IFERROR('BT-Confi'!Y103,\"\")","v":459473.15704881458},{"$f":"IFERROR('BT-Flex'!Y103,\"\")","v":0},{"$f":"IFERROR('EC-RE'!Z103,\"\")","v":667975.46071520681},{"$f":"IFERROR('EC-RP'!Z102,\"\")","v":1521388.3015303449},{"$f":"IFERROR('EC-Per'!W102,\"\")","v":-134544.89663502242},{"$f":"IFERROR('EC-Mar'!Y102,\"\")","v":1521388.3015303449},0,5115094.8396670651,4655621.6826182501,5323597.1433334574,6177009.9841485955,4521076.7859832281,6177009.9841485955,4655621.6826182501,30277591.93261037]
[{"$f":"IF(ISBLANK(InfoPro!A97),\"\",InfoPro!A97)","v":"SC_2049_A1"},{"$f":"IF(ISBLANK(InfoPro!H97),\"\",InfoPro!H97)","v":"SC_2049"},{"$f":"IF(ISBLANK(InfoPro!B97),\"\",InfoPro!B97)","v":"Parque Solar Sinú"},{"$f":"IF(ISBLANK(InfoPro!E97),\"\",InfoPro!E97)","v":9.9},{"$f":"IF(ISBLANK(InfoPro!C97),\"\",InfoPro!C97)","v":"2022-08-05"},{"$f":"IF(ISBLANK(InfoPro!D97),\"\",InfoPro!D97)","v":"11:55 am"},{"$f":"IF(ISBLANK(InfoPro!L97),\"\",InfoPro!L97)","v":"NO"},{"$f":"'IT-TA'!H97","v":0},{"$f":"IFERROR('BT-Confi'!Y104,\"\")","v":459473.15704881464},{"$f":"IFERROR('BT-Flex'!Y104,\"\")","v":0},{"$f":"IFERROR('EC-RE'!Z104,\"\")","v":667975.46071520657},{"$f":"IFERROR('EC-RP'!Z103,\"\")","v":1521388.3015303449},{"$f":"IFERROR('EC-Per'!W103,\"\")","v":-44644.364937635983},{"$f":"IFERROR('EC-Mar'!Y103,\"\")","v":1521388.3015303449},0,5115094.8396670651,4655621.6826182501,5323597.1433334565,6177009.9841485955,4610977.3176806141,6177009.9841485955,4655621.6826182501,30367492.464307755]
[{"$f":"IF(ISBLANK(InfoPro!A98),\"\",InfoPro!A98)","v":"SC_2049_A2"},{"$f":"IF(ISBLANK(InfoPro!H98),\"\",InfoPro!H98)","v":"SC_2049"},{"$f":"IF(ISBLANK(InfoPro!B98),\"\",InfoPro!B98)","v":"Parque Solar Sinú"},{"$f":"IF(ISBLANK(InfoPro!E98),\"\",InfoPro!E98)","v":9.9},{"$f":"IF(ISBLANK(InfoPro!C98),\"\",InfoPro!C98)","v":"2022-08-05"},{"$f":"IF(ISBLANK(InfoPro!D98),\"\",InfoPro!D98)","v":"11:55 am"},{"$f":"IF(ISBLANK(InfoPro!L98),\"\",InfoPro!L98)","v":"NO"},{"$f":"'IT-TA'!H98","v":0},{"$f":"IFERROR('BT-Confi'!Y105,\"\")","v":459473.15704881464},{"$f":"IFERROR('BT-Flex'!Y105,\"\")","v":0},{"$f":"IFERROR('EC-RE'!Z105,\"\")","v":667975.46071520657},{"$f":"IFERROR('EC-RP'!Z104,\"\")","v":1521388.3015303449},{"$f":"IFERROR('EC-Per'!W104,\"\")","v":-43326.763071951864},{"$f":"IFERROR('EC-Mar'!Y104,\"\")","v":1521388.3015303449},0,5115094.8396670651,4655621.6826182501,5323597.1433334565,6177009.9841485955,4612294.9195462987,6177009.9841485955,4655621.6826182501,30368810.066173442]
[{"$f":"IF(ISBLANK(InfoPro!A99),\"\",InfoPro!A99)","v":"SC_2042_A1"},{"$f":"IF(ISBLANK(InfoPro!H99),\"\",InfoPro!H99)","v":"SC_2042"},{"$f":"IF(ISBLANK(InfoPro!B99),\"\",InfoPro!B99)","v":"Parque Solar La Uvita"},{"$f":"IF(ISBLANK(InfoPro!E99),\"\",InfoPro!E99)","v":19.899999999999999},{"$f":"IF(ISBLANK(InfoPro!C99),\"\",InfoPro!C99)","v":"2022-08-05"},{"$f":"IF(ISBLANK(InfoPro!D99),\"\",InfoPro!D99)","v":"11:58 am"},{"$f":"IF(ISBLANK(InfoPro!L99),\"\",InfoPro!L99)","v":"NO"},{"$f":"'IT-TA'!H99","v":0},{"$f":"IFERROR('BT-Confi'!Y106,\"\")","v":459473.15704881458},{"$f":"IFERROR('BT-Flex'!Y106,\"\")","v":0},{"$f":"IFERROR('EC-RE'!Z106,\"\")","v":667975.46071520681},{"$f":"IFERROR('EC-RP'!Z105,\"\")","v":1521388.3015303449},{"$f":"IFERROR('EC-Per'!W105,\"\")","v":-102929.22304410728},{"$f":"IFERROR('EC-Mar'!Y105,\"\")","v":1521388.3015303449},0,5115094.8396670651,4655621.6826182501,5323597.1433334574,6177009.9841485955,4552692.4595741425,6177009.9841485955,4655621.6826182501,30309207.606201284]
[{"$f":"IF(ISBLANK(InfoPro!A100),\"\",InfoPro!A100)","v":"SC_2042_A2"},{"$f":"IF(ISBLANK(InfoPro!H100),\"\",InfoPro!H100)","v":"SC_2042"},{"$f":"IF(ISBLANK(InfoPro!B100),\"\",InfoPro!B100)","v":"Parque Solar La Uvita"},{"$f":"IF(ISBLANK(InfoPro!E100),\"\",InfoPro!E100)","v":19.899999999999999},{"$f":"IF(ISBLANK(InfoPro!C100),\"\",InfoPro!C100)","v":"2022-08-05"},{"$f":"IF(ISBLANK(InfoPro!D100),\"\",InfoPro!D100)","v":"11:58 am"},{"$f":"IF(ISBLANK(InfoPro!L100),\"\",InfoPro!L100)","v":"NO"},{"$f":"'IT-TA'!H100","v":0},{"$f":"IFERROR('BT-Confi'!Y107,\"\")","v":459473.15704881458},{"$f":"IFERROR('BT-Flex'!Y107,\"\")","v":0},{"$f":"IFERROR('EC-RE'!Z107,\"\")","v":667975.46071520681},{"$f":"IFERROR('EC-RP'!Z106,\"\")","v":1521388.3015303449},{"$f":"IFERROR('EC-Per'!W106,\"\")","v":-105425.19727496899},{"$f":"IFERROR('EC-Mar'!Y106,\"\")","v":1521388.3015303449},0,5115094.8396670651,4655621.6826182501,5323597.1433334574,6177009.9841485955,4550196.4853432812,6177009.9841485955,4655621.6826182501,30306711.631970424]
[{"$f":"IF(ISBLANK(InfoPro!A101),\"\",InfoPro!A101)","v":"SC_2111_A1"},{"$f":"IF(ISBLANK(InfoPro!H101),\"\",InfoPro!H101)","v":"SC_2111"},{"$f":"IF(ISBLANK(InfoPro!B101),\"\",InfoPro!B101)","v":"PROYECTO QUIMARÍ SOLAR_90MW"},{"$f":"IF(ISBLANK(InfoPro!E101),\"\",InfoPro!E101)","v":90},{"$f":"IF(ISBLANK(InfoPro!C101),\"\",InfoPro!C101)","v":"2022-08-07"},{"$f":"IF(ISBLANK(InfoPro!D101),\"\",InfoPro!D101)","v":"12:03 am"},{"$f":"IF(ISBLANK(InfoPro!L101),\"\",InfoPro!L101)","v":"SI"},{"$f":"'IT-TA'!H101","v":0},{"$f":"IFERROR('BT-Confi'!Y108,\"\")","v":459473.15704881458},{"$f":"IFERROR('BT-Flex'!Y108,\"\")","v":0},{"$f":"IFERROR('EC-RE'!Z108,\"\")","v":667975.46071520669},{"$f":"IFERROR('EC-RP'!Z107,\"\")","v":1521388.3015303446},{"$f":"IFERROR('EC-Per'!W107,\"\")","v":-234013.49762978489},{"$f":"IFERROR('EC-Mar'!Y107,\"\")","v":1521388.3015303446},0,5115094.8396670651,4655621.6826182501,5323597.1433334565,6177009.9841485946,4421608.1849884652,6177009.9841485946,4655621.6826182501,30178123.331615604]
[{"$f":"IF(ISBLANK(InfoPro!A102),\"\",InfoPro!A102)","v":"SC_2111_A2"},{"$f":"IF(ISBLANK(InfoPro!H102),\"\",InfoPro!H102)","v":"SC_2111"},{"$f":"IF(ISBLANK(InfoPro!B102),\"\",InfoPro!B102)","v":"PROYECTO QUIMARÍ SOLAR_90MW"},{"$f":"IF(ISBLANK(InfoPro!E102),\"\",InfoPro!E102)","v":90},{"$f":"IF(ISBLANK(InfoPro!C102),\"\",InfoPro!C102)","v":"2022-08-07"},{"$f":"IF(ISBLANK(InfoPro!D102),\"\",InfoPro!D102)","v":"12:03 am"},{"$f":"IF(ISBLANK(InfoPro!L102),\"\",InfoPro!L102)","v":"SI"},{"$f":"'IT-TA'!H102","v":0},{"$f":"IFERROR('BT-Confi'!Y109,\"\")","v":459473.15704881458},{"$f":"IFERROR('BT-Flex'!Y109,\"\")","v":0},{"$f":"IFERROR('EC-RE'!Z109,\"\")","v":667975.46071520669},{"$f":"IFERROR('EC-RP'!Z108,\"\")","v":1521388.3015303446},{"$f":"IFERROR('EC-Per'!W108,\"\")","v":-233960.93690259536},{"$f":"IFERROR('EC-Mar'!Y108,\"\")","v":1521388.3015303446},0,5115094.8396670651,4655621.6826182501,5323597.1433334565,6177009.9841485946,4421660.7457156545,6177009.9841485946,4655621.6826182501,30178175.892342795]
[{"$f":"IF(ISBLANK(InfoPro!A103),\"\",InfoPro!A103)","v":"SC_2173_A1"},{"$f":"IF(ISBLANK(InfoPro!H103),\"\",InfoPro!H103)","v":"SC_2173"},{"$f":"IF(ISBLANK(InfoPro!B103),\"\",InfoPro!B103)","v":"Nueva Montería Solar I 9,9 MW"},{"$f":"IF(ISBLANK(InfoPro!E103),\"\",InfoPro!E103)","v":9.9},{"$f":"IF(ISBLANK(InfoPro!C103),\"\",InfoPro!C103)","v":"2022-08-08"},{"$f":"IF(ISBLANK(InfoPro!D103),\"\",InfoPro!D103)","v":"11:08 am"},{"$f":"IF(ISBLANK(InfoPro!L103),\"\",InfoPro!L103)","v":"NO"},{"$f":"'IT-TA'!H103","v":0},{"$f":"IFERROR('BT-Confi'!Y110,\"\")","v":459473.15704881464},{"$f":"IFERROR('BT-Flex'!Y110,\"\")","v":0},{"$f":"IFERROR('EC-RE'!Z110,\"\")","v":667975.46071520657},{"$f":"IFERROR('EC-RP'!Z109,\"\")","v":1521388.3015303449},{"$f":"IFERROR('EC-Per'!W109,\"\")","v":-129035.39068842483},{"$f":"IFERROR('EC-Mar'!Y109,\"\")","v":1521388.3015303449},0,5115094.8396670651,4655621.6826182501,5323597.1433334565,6177009.9841485955,4526586.2919298252,6177009.9841485955,4655621.6826182501,30283101.438556969]
[{"$f":"IF(ISBLANK(InfoPro!A104),\"\",InfoPro!A104)","v":"SC_2173_A2"},{"$f":"IF(ISBLANK(InfoPro!H104),\"\",InfoPro!H104)","v":"SC_2173"},{"$f":"IF(ISBLANK(InfoPro!B104),\"\",InfoPro!B104)","v":"Nueva Montería Solar I 9,9 MW"},{"$f":"IF(ISBLANK(InfoPro!E104),\"\",InfoPro!E104)","v":9.9},{"$f":"IF(ISBLANK(InfoPro!C104),\"\",InfoPro!C104)","v":"2022-08-08"},{"$f":"IF(ISBLANK(InfoPro!D104),\"\",InfoPro!D104)","v":"11:08 am"},{"$f":"IF(ISBLANK(InfoPro!L104),\"\",InfoPro!L104)","v":"NO"},{"$f":"'IT-TA'!H104","v":0},{"$f":"IFERROR('BT-Confi'!Y111,\"\")","v":459473.15704881464},{"$f":"IFERROR('BT-Flex'!Y111,\"\")","v":0},{"$f":"IFERROR('EC-RE'!Z111,\"\")","v":667975.46071520657},{"$f":"IFERROR('EC-RP'!Z110,\"\")","v":1521388.3015303449},{"$f":"IFERROR('EC-Per'!W110,\"\")","v":-182051.24599298221},{"$f":"IFERROR('EC-Mar'!Y110,\"\")","v":1521388.3015303449},0,5115094.8396670651,4655621.6826182501,5323597.1433334565,6177009.9841485955,4473570.4366252683,6177009.9841485955,4655621.6826182501,30230085.583252411]
[{"$f":"IF(ISBLANK(InfoPro!A105),\"\",InfoPro!A105)","v":"SC_2174_A1"},{"$f":"IF(ISBLANK(InfoPro!H105),\"\",InfoPro!H105)","v":"SC_2174"},{"$f":"IF(ISBLANK(InfoPro!B105),\"\",InfoPro!B105)","v":"Nueva Montería Solar I 9,9 MW"},{"$f":"IF(ISBLANK(InfoPro!E105),\"\",InfoPro!E105)","v":9.9},{"$f":"IF(ISBLANK(InfoPro!C105),\"\",InfoPro!C105)","v":"2022-08-08"},{"$f":"IF(ISBLANK(InfoPro!D105),\"\",InfoPro!D105)","v":"11:10 am"},{"$f":"IF(ISBLANK(InfoPro!L105),\"\",InfoPro!L105)","v":"NO"},{"$f":"'IT-TA'!H105","v":0},{"$f":"IFERROR('BT-Confi'!Y112,\"\")","v":459473.15704881464},{"$f":"IFERROR('BT-Flex'!Y112,\"\")","v":0},{"$f":"IFERROR('EC-RE'!Z112,\"\")","v":667975.46071520657},{"$f":"IFERROR('EC-RP'!Z111,\"\")","v":1521388.3015303449},{"$f":"IFERROR('EC-Per'!W111,\"\")","v":-129035.39068842483},{"$f":"IFERROR('EC-Mar'!Y111,\"\")","v":1521388.3015303449},0,5115094.8396670651,4655621.6826182501,5323597.1433334565,6177009.9841485955,4526586.2919298252,6177009.9841485955,4655621.6826182501,30283101.438556969]
[{"$f":"IF(ISBLANK(InfoPro!A106),\"\",InfoPro!A106)","v":"SC_2174_A2"},{"$f":"IF(ISBLANK(InfoPro!H106),\"\",InfoPro!H106)","v":"SC_2174"},{"$f":"IF(ISBLANK(InfoPro!B106),\"\",InfoPro!B106)","v":"Nueva Montería Solar I 9,9 MW"},{"$f":"IF(ISBLANK(InfoPro!E106),\"\",InfoPro!E106)","v":9.9},{"$f":"IF(ISBLANK(InfoPro!C106),\"\",InfoPro!C106)","v":"2022-08-08"},{"$f":"IF(ISBLANK(InfoPro!D106),\"\",InfoPro!D106)","v":"11:10 am"},{"$f":"IF(ISBLANK(InfoPro!L106),\"\",InfoPro!L106)","v":"NO"},{"$f":"'IT-TA'!H106","v":0},{"$f":"IFERROR('BT-Confi'!Y113,\"\")","v":459473.15704881464},{"$f":"IFERROR('BT-Flex'!Y113,\"\")","v":0},{"$f":"IFERROR('EC-RE'!Z113,\"\")","v":667975.46071520657},{"$f":"IFERROR('EC-RP'!Z112,\"\")","v":1521388.3015303449},{"$f":"IFERROR('EC-Per'!W112,\"\")","v":-182051.24599298221},{"$f":"IFERROR('EC-Mar'!Y112,\"\")","v":1521388.3015303449},0,5115094.8396670651,4655621.6826182501,5323597.1433334565,6177009.9841485955,4473570.4366252683,6177009.9841485955,4655621.6826182501,30230085.583252411]
[{"$f":"IF(ISBLANK(InfoPro!A107),\"\",InfoPro!A107)","v":"SC_2016_A1"},{"$f":"IF(ISBLANK(InfoPro!H107),\"\",InfoPro!H107)","v":"SC_2016"},{"$f":"IF(ISBLANK(InfoPro!B107),\"\",InfoPro!B107)","v":"Hidalgo Solar 80 MW"},{"$f":"IF(ISBLANK(InfoPro!E107),\"\",InfoPro!E107)","v":80},{"$f":"IF(ISBLANK(InfoPro!C107),\"\",InfoPro!C107)","v":"2022-08-08"},{"$f":"IF(ISBLANK(InfoPro!D107),\"\",InfoPro!D107)","v":"4:01 pm"},{"$f":"IF(ISBLANK(InfoPro!L107),\"\",InfoPro!L107)","v":"NO"},{"$f":"'IT-TA'!H107","v":0},{"$f":"IFERROR('BT-Confi'!Y114,\"\")","v":459473.15704881446},{"$f":"IFERROR('BT-Flex'!Y114,\"\")","v":0},{"$f":"IFERROR('EC-RE'!Z114,\"\")","v":667975.46071520681},{"$f":"IFERROR('EC-RP'!Z113,\"\")","v":1521388.3015303453},{"$f":"IFERROR('EC-Per'!W113,\"\")","v":-14393.604521531237},{"$f":"IFERROR('EC-Mar'!Y113,\"\")","v":1521388.3015303453},0,5115094.8396670651,4655621.6826182501,5323597.1433334574,6177009.9841485955,4641228.0780967185,6177009.9841485955,4655621.6826182501,30397743.224723861]
[{"$f":"IF(ISBLANK(InfoPro!A108),\"\",InfoPro!A108)","v":"SC_2016_A2"},{"$f":"IF(ISBLANK(InfoPro!H108),\"\",InfoPro!H108)","v":"SC_2016"},{"$f":"IF(ISBLANK(InfoPro!B108),\"\",InfoPro!B108)","v":"Hidalgo Solar 80 MW"},{"$f":"IF(ISBLANK(InfoPro!E108),\"\",InfoPro!E108)","v":80},{"$f":"IF(ISBLANK(InfoPro!C108),\"\",InfoPro!C108)","v":"2022-08-08"},{"$f":"IF(ISBLANK(InfoPro!D108),\"\",InfoPro!D108)","v":"4:01 pm"},{"$f":"IF(ISBLANK(InfoPro!L108),\"\",InfoPro!L108)","v":"NO"},{"$f":"'IT-TA'!H108","v":0},{"$f":"IFERROR('BT-Confi'!Y115,\"\")","v":459473.15704881446},{"$f":"IFERROR('BT-Flex'!Y115,\"\")","v":0},{"$f":"IFERROR('EC-RE'!Z115,\"\")","v":667975.46071520681},{"$f":"IFERROR('EC-RP'!Z114,\"\")","v":1521388.3015303453},{"$f":"IFERROR('EC-Per'!W114,\"\")","v":-13954.435500778285},{"$f":"IFERROR('EC-Mar'!Y114,\"\")","v":1521388.3015303453},0,5115094.8396670651,4655621.6826182501,5323597.1433334574,6177009.9841485955,4641667.2471174719,6177009.9841485955,4655621.6826182501,30398182.393744614]
[{"$f":"IF(ISBLANK(InfoPro!A109),\"\",InfoPro!A109)","v":"SC_2016_A3"},{"$f":"IF(ISBLANK(InfoPro!H109),\"\",InfoPro!H109)","v":"SC_2016"},{"$f":"IF(ISBLANK(InfoPro!B109),\"\",InfoPro!B109)","v":"Hidalgo Solar 80 MW"},{"$f":"IF(ISBLANK(InfoPro!E109),\"\",InfoPro!E109)","v":80},{"$f":"IF(ISBLANK(InfoPro!C109),\"\",InfoPro!C109)","v":"2022-08-08"},{"$f":"IF(ISBLANK(InfoPro!D109),\"\",InfoPro!D109)","v":"4:01 pm"},{"$f":"IF(ISBLANK(InfoPro!L109),\"\",InfoPro!L109)","v":"NO"},{"$f":"'IT-TA'!H109","v":0},{"$f":"IFERROR('BT-Confi'!Y116,\"\")","v":459473.15704881446},{"$f":"IFERROR('BT-Flex'!Y116,\"\")","v":0},{"$f":"IFERROR('EC-RE'!Z116,\"\")","v":667975.46071520681},{"$f":"IFERROR('EC-RP'!Z115,\"\")","v":1521388.3015303453},{"$f":"IFERROR('EC-Per'!W115,\"\")","v":-13954.435500778285},{"$f":"IFERROR('EC-Mar'!Y115,\"\")","v":1521388.3015303453},0,5115094.8396670651,4655621.6826182501,5323597.1433334574,6177009.9841485955,4641667.2471174719,6177009.9841485955,4655621.6826182501,30398182.393744614]
[{"$f":"IF(ISBLANK(InfoPro!A110),\"\",InfoPro!A110)","v":"SC_2135_A1"},{"$f":"IF(ISBLANK(InfoPro!H110),\"\",InfoPro!H110)","v":"SC_2135"},{"$f":"IF(ISBLANK(InfoPro!B110),\"\",InfoPro!B110)","v":"DSE SIERRAFLOR"},{"$f":"IF(ISBLANK(InfoPro!E110),\"\",InfoPro!E110)","v":99.9},{"$f":"IF(ISBLANK(InfoPro!C110),\"\",InfoPro!C110)","v":"2022-08-09"},{"$f":"IF(ISBLANK(InfoPro!D110),\"\",InfoPro!D110)","v":"1:27 pm"},{"$f":"IF(ISBLANK(InfoPro!L110),\"\",InfoPro!L110)","v":"NO"},{"$f":"'IT-TA'!H110","v":0},{"$f":"IFERROR('BT-Confi'!Y117,\"\")","v":410977.77911343001},{"$f":"IFERROR('BT-Flex'!Y117,\"\")","v":0},{"$f":"IFERROR('EC-RE'!Z117,\"\")","v":597473.57845725131},{"$f":"IFERROR('EC-RP'!Z116,\"\")","v":1360812.434284745},{"$f":"IFERROR('EC-Per'!W116,\"\")","v":-62790.11592333865},{"$f":"IFERROR('EC-Mar'!Y116,\"\")","v":1360812.434284745},0,5066599.4617316797,4655621.6826182501,5253095.2610755013,6016434.1169029949,4592831.5666949116,6016434.1169029949,4655621.6826182501,29989485.652260307]
[{"$f":"IF(ISBLANK(InfoPro!A111),\"\",InfoPro!A111)","v":"SC_2135_A2"},{"$f":"IF(ISBLANK(InfoPro!H111),\"\",InfoPro!H111)","v":"SC_2135"},{"$f":"IF(ISBLANK(InfoPro!B111),\"\",InfoPro!B111)","v":"DSE SIERRAFLOR"},{"$f":"IF(ISBLANK(InfoPro!E111),\"\",InfoPro!E111)","v":99.9},{"$f":"IF(ISBLANK(InfoPro!C111),\"\",InfoPro!C111)","v":"2022-08-09"},{"$f":"IF(ISBLANK(InfoPro!D111),\"\",InfoPro!D111)","v":"1:27 pm"},{"$f":"IF(ISBLANK(InfoPro!L111),\"\",InfoPro!L111)","v":"NO"},{"$f":"'IT-TA'!H111","v":0},{"$f":"IFERROR('BT-Confi'!Y118,\"\")","v":410977.77911343001},{"$f":"IFERROR('BT-Flex'!Y118,\"\")","v":0},{"$f":"IFERROR('EC-RE'!Z118,\"\")","v":597473.57845725131},{"$f":"IFERROR('EC-RP'!Z117,\"\")","v":1360812.434284745},{"$f":"IFERROR('EC-Per'!W117,\"\")","v":-76872.890658252727},{"$f":"IFERROR('EC-Mar'!Y117,\"\")","v":1360812.434284745},0,5066599.4617316797,4655621.6826182501,5253095.2610755013,6016434.1169029949,4578748.7919599973,6016434.1169029949,4655621.6826182501,29975402.877525393]
[{"$f":"IF(ISBLANK(InfoPro!A112),\"\",InfoPro!A112)","v":"SC_1821_A1"},{"$f":"IF(ISBLANK(InfoPro!H112),\"\",InfoPro!H112)","v":"SC_1821"},{"$f":"IF(ISBLANK(InfoPro!B112),\"\",InfoPro!B112)","v":"Balay Solar"},{"$f":"IF(ISBLANK(InfoPro!E112),\"\",InfoPro!E112)","v":70},{"$f":"IF(ISBLANK(InfoPro!C112),\"\",InfoPro!C112)","v":"2022-08-10"},{"$f":"IF(ISBLANK(InfoPro!D112),\"\",InfoPro!D112)","v":"3:11 pm"},{"$f":"IF(ISBLANK(InfoPro!L112),\"\",InfoPro!L112)","v":"NO"},{"$f":"'IT-TA'!H112","v":0},{"$f":"IFERROR('BT-Confi'!Y119,\"\")","v":367600.87577229866},{"$f":"IFERROR('BT-Flex'!Y119,\"\")","v":0},{"$f":"IFERROR('EC-RE'!Z119,\"\")","v":534412.86087410641},{"$f":"IFERROR('EC-RP'!Z118,\"\")","v":1217184.6460507556},{"$f":"IFERROR('EC-Per'!W118,\"\")","v":-69538.015298468847},{"$f":"IFERROR('EC-Mar'!Y118,\"\")","v":1217184.6460507556},0,5023222.5583905485,4655621.6826182501,5190034.5434923563,5872806.328669006,4586083.6673197811,5872806.328669006,4655621.6826182501,29660858.449609924]
[{"$f":"IF(ISBLANK(InfoPro!A113),\"\",InfoPro!A113)","v":"SC_1821_A2"},{"$f":"IF(ISBLANK(InfoPro!H113),\"\",InfoPro!H113)","v":"SC_1821"},{"$f":"IF(ISBLANK(InfoPro!B113),\"\",InfoPro!B113)","v":"Balay Solar"},{"$f":"IF(ISBLANK(InfoPro!E113),\"\",InfoPro!E113)","v":70},{"$f":"IF(ISBLANK(InfoPro!C113),\"\",InfoPro!C113)","v":"2022-08-10"},{"$f":"IF(ISBLANK(InfoPro!D113),\"\",InfoPro!D113)","v":"3:11 pm"},{"$f":"IF(ISBLANK(InfoPro!L113),\"\",InfoPro!L113)","v":"NO"},{"$f":"'IT-TA'!H113","v":0},{"$f":"IFERROR('BT-Confi'!Y120,\"\")","v":367600.87577229866},{"$f":"IFERROR('BT-Flex'!Y120,\"\")","v":0},{"$f":"IFERROR('EC-RE'!Z120,\"\")","v":534412.86087410641},{"$f":"IFERROR('EC-RP'!Z119,\"\")","v":1217184.6460507556},{"$f":"IFERROR('EC-Per'!W119,\"\")","v":81531.1501701487},{"$f":"IFERROR('EC-Mar'!Y119,\"\")","v":1217184.6460507556},0,5023222.5583905485,4655621.6826182501,5190034.5434923563,5872806.328669006,4737152.8327883985,5872806.328669006,4655621.6826182501,29811927.615078535]
[{"$f":"IF(ISBLANK(InfoPro!A114),\"\",InfoPro!A114)","v":"SC_1859_A1"},{"$f":"IF(ISBLANK(InfoPro!H114),\"\",InfoPro!H114)","v":"SC_1859"},{"$f":"IF(ISBLANK(InfoPro!B114),\"\",InfoPro!B114)","v":"PV Altamira_99MW"},{"$f":"IF(ISBLANK(InfoPro!E114),\"\",InfoPro!E114)","v":99},{"$f":"IF(ISBLANK(InfoPro!C114),\"\",InfoPro!C114)","v":"2022-08-10"},{"$f":"IF(ISBLANK(InfoPro!D114),\"\",InfoPro!D114)","v":"3:14 pm"},{"$f":"IF(ISBLANK(InfoPro!L114),\"\",InfoPro!L114)","v":"NO"},{"$f":"'IT-TA'!H114","v":0},{"$f":"IFERROR('BT-Confi'!Y121,\"\")","v":367600.87577229872},{"$f":"IFERROR('BT-Flex'!Y121,\"\")","v":0},{"$f":"IFERROR('EC-RE'!Z121,\"\")","v":534412.86087410641},{"$f":"IFERROR('EC-RP'!Z120,\"\")","v":1217184.6460507559},{"$f":"IFERROR('EC-Per'!W120,\"\")","v":-56061.813229889187},{"$f":"IFERROR('EC-Mar'!Y120,\"\")","v":1217184.6460507559},0,5023222.5583905485,4655621.6826182501,5190034.5434923563,5872806.328669006,4599559.8693883605,5872806.328669006,4655621.6826182501,29674334.651678499]
[{"$f":"IF(ISBLANK(InfoPro!A115),\"\",InfoPro!A115)","v":"SC_1859_A2"},{"$f":"IF(ISBLANK(InfoPro!H115),\"\",InfoPro!H115)","v":"SC_1859"},{"$f":"IF(ISBLANK(InfoPro!B115),\"\",InfoPro!B115)","v":"PV Altamira_99MW"},{"$f":"IF(ISBLANK(InfoPro!E115),\"\",InfoPro!E115)","v":99},{"$f":"IF(ISBLANK(InfoPro!C115),\"\",InfoPro!C115)","v":"2022-08-10"},{"$f":"IF(ISBLANK(InfoPro!D115),\"\",InfoPro!D115)","v":"3:14 pm"},{"$f":"IF(ISBLANK(InfoPro!L115),\"\",InfoPro!L115)","v":"NO"},{"$f":"'IT-TA'!H115","v":0},{"$f":"IFERROR('BT-Confi'!Y122,\"\")","v":367600.87577229872},{"$f":"IFERROR('BT-Flex'!Y122,\"\")","v":0},{"$f":"IFERROR('EC-RE'!Z122,\"\")","v":534412.86087410641},{"$f":"IFERROR('EC-RP'!Z121,\"\")","v":1217184.6460507559},{"$f":"IFERROR('EC-Per'!W121,\"\")","v":-52449.23815302283},{"$f":"IFERROR('EC-Mar'!Y121,\"\")","v":1217184.6460507559},0,5023222.5583905485,4655621.6826182501,5190034.5434923563,5872806.328669006,4603172.4444652274,5872806.328669006,4655621.6826182501,29677947.226755369]
[{"$f":"IF(ISBLANK(InfoPro!A116),\"\",InfoPro!A116)","v":"SC_1843_A1"},{"$f":"IF(ISBLANK(InfoPro!H116),\"\",InfoPro!H116)","v":"SC_1843"},{"$f":"IF(ISBLANK(InfoPro!B116),\"\",InfoPro!B116)","v":"KOS de 19.9 MW"},{"$f":"IF(ISBLANK(InfoPro!E116),\"\",InfoPro!E116)","v":19.899999999999999},{"$f":"IF(ISBLANK(InfoPro!C116),\"\",InfoPro!C116)","v":"2022-08-11"},{"$f":"IF(ISBLANK(InfoPro!D116),\"\",InfoPro!D116)","v":"9:54 am"},{"$f":"IF(ISBLANK(InfoPro!L116),\"\",InfoPro!L116)","v":"NO"},{"$f":"'IT-TA'!H116","v":0},{"$f":"IFERROR('BT-Confi'!Y123,\"\")","v":459473.15704881458},{"$f":"IFERROR('BT-Flex'!Y123,\"\")","v":0},{"$f":"IFERROR('EC-RE'!Z123,\"\")","v":667975.46071520681},{"$f":"IFERROR('EC-RP'!Z122,\"\")","v":1521388.3015303449},{"$f":"IFERROR('EC-Per'!W122,\"\")","v":-84706.234040501557},{"$f":"IFERROR('EC-Mar'!Y122,\"\")","v":1521388.3015303449},0,5115094.8396670651,4655621.6826182501,5323597.1433334574,6177009.9841485955,4570915.4485777486,6177009.9841485955,4655621.6826182501,30327430.59520489]
[{"$f":"IF(ISBLANK(InfoPro!A117),\"\",InfoPro!A117)","v":"SC_1843_A2"},{"$f":"IF(ISBLANK(InfoPro!H117),\"\",InfoPro!H117)","v":"SC_1843"},{"$f":"IF(ISBLANK(InfoPro!B117),\"\",InfoPro!B117)","v":"KOS de 19.9 MW"},{"$f":"IF(ISBLANK(InfoPro!E117),\"\",InfoPro!E117)","v":19.899999999999999},{"$f":"IF(ISBLANK(InfoPro!C117),\"\",InfoPro!C117)","v":"2022-08-11"},{"$f":"IF(ISBLANK(InfoPro!D117),\"\",InfoPro!D117)","v":"9:54 am"},{"$f":"IF(ISBLANK(InfoPro!L117),\"\",InfoPro!L117)","v":"NO"},{"$f":"'IT-TA'!H117","v":0},{"$f":"IFERROR('BT-Confi'!Y124,\"\")","v":459473.15704881458},{"$f":"IFERROR('BT-Flex'!Y124,\"\")","v":0},{"$f":"IFERROR('EC-RE'!Z124,\"\")","v":667975.46071520681},{"$f":"IFERROR('EC-RP'!Z123,\"\")","v":1521388.3015303449},{"$f":"IFERROR('EC-Per'!W123,\"\")","v":-81172.647665095894},{"$f":"IFERROR('EC-Mar'!Y123,\"\")","v":1521388.3015303449},0,5115094.8396670651,4655621.6826182501,5323597.1433334574,6177009.9841485955,4574449.0349531546,6177009.9841485955,4655621.6826182501,30330964.181580298]
[{"$f":"IF(ISBLANK(InfoPro!A118),\"\",InfoPro!A118)","v":"SC_2012_A1"},{"$f":"IF(ISBLANK(InfoPro!H118),\"\",InfoPro!H118)","v":"SC_2012"},{"$f":"IF(ISBLANK(InfoPro!B118),\"\",InfoPro!B118)","v":"Parqu Solar Fotovoltaico Rocio del Sol 50 MW"},{"$f":"IF(ISBLANK(InfoPro!E118),\"\",InfoPro!E118)","v":50},{"$f":"IF(ISBLANK(InfoPro!C118),\"\",InfoPro!C118)","v":"2022-08-11"},{"$f":"IF(ISBLANK(InfoPro!D118),\"\",InfoPro!D118)","v":"20:06:00"},{"$f":"IF(ISBLANK(InfoPro!L118),\"\",InfoPro!L118)","v":"NO"},{"$f":"'IT-TA'!H118","v":0},{"$f":"IFERROR('BT-Confi'!Y125,\"\")","v":410977.77911342977},{"$f":"IFERROR('BT-Flex'!Y125,\"\")","v":0},{"$f":"IFERROR('EC-RE'!Z125,\"\")","v":597473.57845725096},{"$f":"IFERROR('EC-RP'!Z124,\"\")","v":1360812.4342847452},{"$f":"IFERROR('EC-Per'!W124,\"\")","v":-39138.466355385615},{"$f":"IFERROR('EC-Mar'!Y124,\"\")","v":1360812.4342847452},0,5066599.4617316797,4655621.6826182501,5253095.2610755013,6016434.1169029959,4616483.2162628649,6016434.1169029959,4655621.6826182501,30013137.301828261]
[{"$f":"IF(ISBLANK(InfoPro!A119),\"\",InfoPro!A119)","v":"SC_2012_A2"},{"$f":"IF(ISBLANK(InfoPro!H119),\"\",InfoPro!H119)","v":"SC_2012"},{"$f":"IF(ISBLANK(InfoPro!B119),\"\",InfoPro!B119)","v":"Parqu Solar Fotovoltaico Rocio del Sol 50 MW"},{"$f":"IF(ISBLANK(InfoPro!E119),\"\",InfoPro!E119)","v":50},{"$f":"IF(ISBLANK(InfoPro!C119),\"\",InfoPro!C119)","v":"2022-08-11"},{"$f":"IF(ISBLANK(InfoPro!D119),\"\",InfoPro!D119)","v":"20:06:00"},{"$f":"IF(ISBLANK(InfoPro!L119),\"\",InfoPro!L119)","v":"NO"},{"$f":"'IT-TA'!H119","v":0},{"$f":"IFERROR('BT-Confi'!Y126,\"\")","v":410977.77911342977},{"$f":"IFERROR('BT-Flex'!Y126,\"\")","v":0},{"$f":"IFERROR('EC-RE'!Z126,\"\")","v":597473.57845725096},{"$f":"IFERROR('EC-RP'!Z125,\"\")","v":1360812.4342847452},{"$f":"IFERROR('EC-Per'!W125,\"\")","v":-42734.974074529156},{"$f":"IFERROR('EC-Mar'!Y125,\"\")","v":1360812.4342847452},0,5066599.4617316797,4655621.6826182501,5253095.2610755013,6016434.1169029959,4612886.7085437207,6016434.1169029959,4655621.6826182501,30009540.794109117]
[{"$f":"IF(ISBLANK(InfoPro!A120),\"\",InfoPro!A120)","v":"SC_1807_A1"},{"$f":"IF(ISBLANK(InfoPro!H120),\"\",InfoPro!H120)","v":"SC_1807"},{"$f":"IF(ISBLANK(InfoPro!B120),\"\",InfoPro!B120)","v":"Parque Solar Canis 49,9 MW"},{"$f":"IF(ISBLANK(InfoPro!E120),\"\",InfoPro!E120)","v":49.9},{"$f":"IF(ISBLANK(InfoPro!C120),\"\",InfoPro!C120)","v":"2022-08-12"},{"$f":"IF(ISBLANK(InfoPro!D120),\"\",InfoPro!D120)","v":"1:41 pm"},{"$f":"IF(ISBLANK(InfoPro!L120),\"\",InfoPro!L120)","v":"NO"},{"$f":"'IT-TA'!H120","v":0},{"$f":"IFERROR('BT-Confi'!Y127,\"\")","v":459473.15704881458},{"$f":"IFERROR('BT-Flex'!Y127,\"\")","v":0},{"$f":"IFERROR('EC-RE'!Z127,\"\")","v":667975.46071520681},{"$f":"IFERROR('EC-RP'!Z126,\"\")","v":1521388.3015303446},{"$f":"IFERROR('EC-Per'!W126,\"\")","v":-463325.62781027576},{"$f":"IFERROR('EC-Mar'!Y126,\"\")","v":1521388.3015303446},0,5115094.8396670651,4655621.6826182501,5323597.1433334574,6177009.9841485946,4192296.0548079745,6177009.9841485946,4655621.6826182501,29948811.201435115]
[{"$f":"IF(ISBLANK(InfoPro!A121),\"\",InfoPro!A121)","v":"SC_1807_A2"},{"$f":"IF(ISBLANK(InfoPro!H121),\"\",InfoPro!H121)","v":"SC_1807"},{"$f":"IF(ISBLANK(InfoPro!B121),\"\",InfoPro!B121)","v":"Parque Solar Canis 49,9 MW"},{"$f":"IF(ISBLANK(InfoPro!E121),\"\",InfoPro!E121)","v":49.9},{"$f":"IF(ISBLANK(InfoPro!C121),\"\",InfoPro!C121)","v":"2022-08-12"},{"$f":"IF(ISBLANK(InfoPro!D121),\"\",InfoPro!D121)","v":"1:41 pm"},{"$f":"IF(ISBLANK(InfoPro!L121),\"\",InfoPro!L121)","v":"NO"},{"$f":"'IT-TA'!H121","v":0},{"$f":"IFERROR('BT-Confi'!Y128,\"\")","v":459473.15704881458},{"$f":"IFERROR('BT-Flex'!Y128,\"\")","v":0},{"$f":"IFERROR('EC-RE'!Z128,\"\")","v":667975.46071520681},{"$f":"IFERROR('EC-RP'!Z127,\"\")","v":1521388.3015303446},{"$f":"IFERROR('EC-Per'!W127,\"\")","v":-445314.78351594193},{"$f":"IFERROR('EC-Mar'!Y127,\"\")","v":1521388.3015303446},0,5115094.8396670651,4655621.6826182501,5323597.1433334574,6177009.9841485946,4210306.8991023079,6177009.9841485946,4655621.6826182501,29966822.045729447]
[{"$f":"IF(ISBLANK(InfoPro!A122),\"\",InfoPro!A122)","v":"SC_1918_A1"},{"$f":"IF(ISBLANK(InfoPro!H122),\"\",InfoPro!H122)","v":"SC_1918"},{"$f":"IF(ISBLANK(InfoPro!B122),\"\",InfoPro!B122)","v":"Casiopea 40 MW"},{"$f":"IF(ISBLANK(InfoPro!E122),\"\",InfoPro!E122)","v":40},{"$f":"IF(ISBLANK(InfoPro!C122),\"\",InfoPro!C122)","v":"2022-08-16"},{"$f":"IF(ISBLANK(InfoPro!D122),\"\",InfoPro!D122)","v":"11:09 am"},{"$f":"IF(ISBLANK(InfoPro!L122),\"\",InfoPro!L122)","v":"NO"},{"$f":"'IT-TA'!H122","v":0},{"$f":"IFERROR('BT-Confi'!Y129,\"\")","v":459473.15704881446},{"$f":"IFERROR('BT-Flex'!Y129,\"\")","v":0},{"$f":"IFERROR('EC-RE'!Z129,\"\")","v":667975.46071520681},{"$f":"IFERROR('EC-RP'!Z128,\"\")","v":1521388.3015303453},{"$f":"IFERROR('EC-Per'!W128,\"\")","v":-286459.24822863261},{"$f":"IFERROR('EC-Mar'!Y128,\"\")","v":1521388.3015303453},0,5115094.8396670651,4655621.6826182501,5323597.1433334574,6177009.9841485955,4369162.4343896173,6177009.9841485955,4655621.6826182501,30125677.58101676]
[{"$f":"IF(ISBLANK(InfoPro!A123),\"\",InfoPro!A123)","v":"SC_1918_A2"},{"$f":"IF(ISBLANK(InfoPro!H123),\"\",InfoPro!H123)","v":"SC_1918"},{"$f":"IF(ISBLANK(InfoPro!B123),\"\",InfoPro!B123)","v":"Casiopea 40 MW"},{"$f":"IF(ISBLANK(InfoPro!E123),\"\",InfoPro!E123)","v":40},{"$f":"IF(ISBLANK(InfoPro!C123),\"\",InfoPro!C123)","v":"2022-08-16"},{"$f":"IF(ISBLANK(InfoPro!D123),\"\",InfoPro!D123)","v":"11:09 am"},{"$f":"IF(ISBLANK(InfoPro!L123),\"\",InfoPro!L123)","v":"NO"},{"$f":"'IT-TA'!H123","v":0},{"$f":"IFERROR('BT-Confi'!Y130,\"\")","v":459473.15704881446},{"$f":"IFERROR('BT-Flex'!Y130,\"\")","v":0},{"$f":"IFERROR('EC-RE'!Z130,\"\")","v":667975.46071520681},{"$f":"IFERROR('EC-RP'!Z129,\"\")","v":1521388.3015303453},{"$f":"IFERROR('EC-Per'!W129,\"\")","v":-300502.81752459717},{"$f":"IFERROR('EC-Mar'!Y129,\"\")","v":1521388.3015303453},0,5115094.8396670651,4655621.6826182501,5323597.1433334574,6177009.9841485955,4355118.8650936531,6177009.9841485955,4655621.6826182501,30111634.011720795]
[{"$f":"IF(ISBLANK(InfoPro!A124),\"\",InfoPro!A124)","v":"SC_1813_A1"},{"$f":"IF(ISBLANK(InfoPro!H124),\"\",InfoPro!H124)","v":"SC_1813"},{"$f":"IF(ISBLANK(InfoPro!B124),\"\",InfoPro!B124)","v":"Parque de generación Cefeo"},{"$f":"IF(ISBLANK(InfoPro!E124),\"\",InfoPro!E124)","v":19.899999999999999},{"$f":"IF(ISBLANK(InfoPro!C124),\"\",InfoPro!C124)","v":"2022-08-16"},{"$f":"IF(ISBLANK(InfoPro!D124),\"\",InfoPro!D124)","v":"11:40:00"},{"$f":"IF(ISBLANK(InfoPro!L124),\"\",InfoPro!L124)","v":"NO"},{"$f":"'IT-TA'!H124","v":0},{"$f":"IFERROR('BT-Confi'!Y131,\"\")","v":459473.15704881458},{"$f":"IFERROR('BT-Flex'!Y131,\"\")","v":0},{"$f":"IFERROR('EC-RE'!Z131,\"\")","v":667975.46071520681},{"$f":"IFERROR('EC-RP'!Z130,\"\")","v":1521388.3015303449},{"$f":"IFERROR('EC-Per'!W130,\"\")","v":-591504.29314371408},{"$f":"IFERROR('EC-Mar'!Y130,\"\")","v":1521388.3015303449},0,5115094.8396670651,4655621.6826182501,5323597.1433334574,6177009.9841485955,4064117.3894745363,6177009.9841485955,4655621.6826182501,29820632.53610168]
[{"$f":"IF(ISBLANK(InfoPro!A125),\"\",InfoPro!A125)","v":"SC_1813_A2"},{"$f":"IF(ISBLANK(InfoPro!H125),\"\",InfoPro!H125)","v":"SC_1813"},{"$f":"IF(ISBLANK(InfoPro!B125),\"\",InfoPro!B125)","v":"Parque de generación Cefeo"},{"$f":"IF(ISBLANK(InfoPro!E125),\"\",InfoPro!E125)","v":19.899999999999999},{"$f":"IF(ISBLANK(InfoPro!C125),\"\",InfoPro!C125)","v":"2022-08-16"},{"$f":"IF(ISBLANK(InfoPro!D125),\"\",InfoPro!D125)","v":"11:40:00"},{"$f":"IF(ISBLANK(InfoPro!L125),\"\",InfoPro!L125)","v":"NO"},{"$f":"'IT-TA'!H125","v":0},{"$f":"IFERROR('BT-Confi'!Y132,\"\")","v":459473.15704881458},{"$f":"IFERROR('BT-Flex'!Y132,\"\")","v":0},{"$f":"IFERROR('EC-RE'!Z132,\"\")","v":667975.46071520681},{"$f":"IFERROR('EC-RP'!Z131,\"\")","v":1521388.3015303449},{"$f":"IFERROR('EC-Per'!W131,\"\")","v":-577239.20613476052},{"$f":"IFERROR('EC-Mar'!Y131,\"\")","v":1521388.3015303449},0,5115094.8396670651,4655621.6826182501,5323597.1433334574,6177009.9841485955,4078382.4764834894,6177009.9841485955,4655621.6826182501,29834897.623110633]
[{"$f":"IF(ISBLANK(InfoPro!A126),\"\",InfoPro!A126)","v":"SC_1949_A1"},{"$f":"IF(ISBLANK(InfoPro!H126),\"\",InfoPro!H126)","v":"SC_1949"},{"$f":"IF(ISBLANK(InfoPro!B126),\"\",InfoPro!B126)","v":"Solar Planeta Rica"},{"$f":"IF(ISBLANK(InfoPro!E126),\"\",InfoPro!E126)","v":19.899999999999999},{"$f":"IF(ISBLANK(InfoPro!C126),\"\",InfoPro!C126)","v":"2022-08-16"},{"$f":"IF(ISBLANK(InfoPro!D126),\"\",InfoPro!D126)","v":"2:06 pm"},{"$f":"IF(ISBLANK(InfoPro!L126),\"\",InfoPro!L126)","v":"NO"},{"$f":"'IT-TA'!H126","v":0},{"$f":"IFERROR('BT-Confi'!Y133,\"\")","v":410977.77911342995},{"$f":"IFERROR('BT-Flex'!Y133,\"\")","v":0},{"$f":"IFERROR('EC-RE'!Z133,\"\")","v":597473.57845725107},{"$f":"IFERROR('EC-RP'!Z132,\"\")","v":1360812.4342847448},{"$f":"IFERROR('EC-Per'!W132,\"\")","v":-144051.66891633172},{"$f":"IFERROR('EC-Mar'!Y132,\"\")","v":1360812.4342847448},0,5066599.4617316797,4655621.6826182501,5253095.2610755013,6016434.1169029949,4511570.0137019185,6016434.1169029949,4655621.6826182501,29908224.099267315]
[{"$f":"IF(ISBLANK(InfoPro!A127),\"\",InfoPro!A127)","v":"SC_1949_A2"},{"$f":"IF(ISBLANK(InfoPro!H127),\"\",InfoPro!H127)","v":"SC_1949"},{"$f":"IF(ISBLANK(InfoPro!B127),\"\",InfoPro!B127)","v":"Solar Planeta Rica"},{"$f":"IF(ISBLANK(InfoPro!E127),\"\",InfoPro!E127)","v":19.899999999999999},{"$f":"IF(ISBLANK(InfoPro!C127),\"\",InfoPro!C127)","v":"2022-08-16"},{"$f":"IF(ISBLANK(InfoPro!D127),\"\",InfoPro!D127)","v":"2:06 pm"},{"$f":"IF(ISBLANK(InfoPro!L127),\"\",InfoPro!L127)","v":"NO"},{"$f":"'IT-TA'!H127","v":0},{"$f":"IFERROR('BT-Confi'!Y134,\"\")","v":410977.77911342995},{"$f":"IFERROR('BT-Flex'!Y134,\"\")","v":0},{"$f":"IFERROR('EC-RE'!Z134,\"\")","v":597473.57845725107},{"$f":"IFERROR('EC-RP'!Z133,\"\")","v":1360812.4342847448},{"$f":"IFERROR('EC-Per'!W133,\"\")","v":-55281.82128154426},{"$f":"IFERROR('EC-Mar'!Y133,\"\")","v":1360812.4342847448},0,5066599.4617316797,4655621.6826182501,5253095.2610755013,6016434.1169029949,4600339.8613367062,6016434.1169029949,4655621.6826182501,29996993.946902104]
[{"$f":"IF(ISBLANK(InfoPro!A128),\"\",InfoPro!A128)","v":"SC_1970_A1"},{"$f":"IF(ISBLANK(InfoPro!H128),\"\",InfoPro!H128)","v":"SC_1970"},{"$f":"IF(ISBLANK(InfoPro!B128),\"\",InfoPro!B128)","v":"Parque Solar Montería"},{"$f":"IF(ISBLANK(InfoPro!E128),\"\",InfoPro!E128)","v":99},{"$f":"IF(ISBLANK(InfoPro!C128),\"\",InfoPro!C128)","v":"2022-08-16"},{"$f":"IF(ISBLANK(InfoPro!D128),\"\",InfoPro!D128)","v":"2:30 pm"},{"$f":"IF(ISBLANK(InfoPro!L128),\"\",InfoPro!L128)","v":"NO"},{"$f":"'IT-TA'!H128","v":0},{"$f":"IFERROR('BT-Confi'!Y135,\"\")","v":410977.77911342989},{"$f":"IFERROR('BT-Flex'!Y135,\"\")","v":0},{"$f":"IFERROR('EC-RE'!Z135,\"\")","v":597473.57845725084},{"$f":"IFERROR('EC-RP'!Z134,\"\")","v":1360812.434284745},{"$f":"IFERROR('EC-Per'!W134,\"\")","v":-60273.02449105386},{"$f":"IFERROR('EC-Mar'!Y134,\"\")","v":1360812.434284745},0,5066599.4617316797,4655621.6826182501,5253095.2610755013,6016434.1169029949,4595348.6581271961,6016434.1169029949,4655621.6826182501,29992002.743692592]
[{"$f":"IF(ISBLANK(InfoPro!A129),\"\",InfoPro!A129)","v":"SC_1970_A2"},{"$f":"IF(ISBLANK(InfoPro!H129),\"\",InfoPro!H129)","v":"SC_1970"},{"$f":"IF(ISBLANK(InfoPro!B129),\"\",InfoPro!B129)","v":"Parque Solar Montería"},{"$f":"IF(ISBLANK(InfoPro!E129),\"\",InfoPro!E129)","v":99},{"$f":"IF(ISBLANK(InfoPro!C129),\"\",InfoPro!C129)","v":"2022-08-16"},{"$f":"IF(ISBLANK(InfoPro!D129),\"\",InfoPro!D129)","v":"2:30 pm"},{"$f":"IF(ISBLANK(InfoPro!L129),\"\",InfoPro!L129)","v":"NO"},{"$f":"'IT-TA'!H129","v":0},{"$f":"IFERROR('BT-Confi'!Y136,\"\")","v":410977.77911342989},{"$f":"IFERROR('BT-Flex'!Y136,\"\")","v":0},{"$f":"IFERROR('EC-RE'!Z136,\"\")","v":597473.57845725084},{"$f":"IFERROR('EC-RP'!Z135,\"\")","v":1360812.434284745},{"$f":"IFERROR('EC-Per'!W135,\"\")","v":60166.176371055539},{"$f":"IFERROR('EC-Mar'!Y135,\"\")","v":1360812.434284745},0,5066599.4617316797,4655621.6826182501,5253095.2610755013,6016434.1169029949,4715787.8589893058,6016434.1169029949,4655621.6826182501,30112441.944554701]
[{"$f":"IF(ISBLANK(InfoPro!A130),\"\",InfoPro!A130)","v":"SC_2072_A1"},{"$f":"IF(ISBLANK(InfoPro!H130),\"\",InfoPro!H130)","v":"SC_2072"},{"$f":"IF(ISBLANK(InfoPro!B130),\"\",InfoPro!B130)","v":"Porvenir - 9.9 MW"},{"$f":"IF(ISBLANK(InfoPro!E130),\"\",InfoPro!E130)","v":9.9},{"$f":"IF(ISBLANK(InfoPro!C130),\"\",InfoPro!C130)","v":"2022-08-16"},{"$f":"IF(ISBLANK(InfoPro!D130),\"\",InfoPro!D130)","v":"9:50 pm"},{"$f":"IF(ISBLANK(InfoPro!L130),\"\",InfoPro!L130)","v":"NO"},{"$f":"'IT-TA'!H130","v":0},{"$f":"IFERROR('BT-Confi'!Y137,\"\")","v":459473.15704881464},{"$f":"IFERROR('BT-Flex'!Y137,\"\")","v":0},{"$f":"IFERROR('EC-RE'!Z137,\"\")","v":667975.46071520657},{"$f":"IFERROR('EC-RP'!Z136,\"\")","v":1521388.3015303449},{"$f":"IFERROR('EC-Per'!W136,\"\")","v":-254441.70207680581},{"$f":"IFERROR('EC-Mar'!Y136,\"\")","v":1521388.3015303449},0,5115094.8396670651,4655621.6826182501,5323597.1433334565,6177009.9841485955,4401179.9805414444,6177009.9841485955,4655621.6826182501,30157695.127168588]
[{"$f":"IF(ISBLANK(InfoPro!A131),\"\",InfoPro!A131)","v":"SC_2204_A1"},{"$f":"IF(ISBLANK(InfoPro!H131),\"\",InfoPro!H131)","v":"SC_2204"},{"$f":"IF(ISBLANK(InfoPro!B131),\"\",InfoPro!B131)","v":"Parque Solar Ciénaga Grande - 19.9 MW"},{"$f":"IF(ISBLANK(InfoPro!E131),\"\",InfoPro!E131)","v":19.899999999999999},{"$f":"IF(ISBLANK(InfoPro!C131),\"\",InfoPro!C131)","v":"2022-08-17"},{"$f":"IF(ISBLANK(InfoPro!D131),\"\",InfoPro!D131)","v":"16:16:00"},{"$f":"IF(ISBLANK(InfoPro!L131),\"\",InfoPro!L131)","v":"NO"},{"$f":"'IT-TA'!H131","v":0},{"$f":"IFERROR('BT-Confi'!Y138,\"\")","v":459473.15704881458},{"$f":"IFERROR('BT-Flex'!Y138,\"\")","v":0},{"$f":"IFERROR('EC-RE'!Z138,\"\")","v":667975.46071520681},{"$f":"IFERROR('EC-RP'!Z137,\"\")","v":1521388.3015303449},{"$f":"IFERROR('EC-Per'!W137,\"\")","v":-57050.83956255368},{"$f":"IFERROR('EC-Mar'!Y137,\"\")","v":1521388.3015303449},0,5115094.8396670651,4655621.6826182501,5323597.1433334574,6177009.9841485955,4598570.8430556962,6177009.9841485955,4655621.6826182501,30355085.989682838]
[{"$f":"IF(ISBLANK(InfoPro!A132),\"\",InfoPro!A132)","v":"SC_2204_A2"},{"$f":"IF(ISBLANK(InfoPro!H132),\"\",InfoPro!H132)","v":"SC_2204"},{"$f":"IF(ISBLANK(InfoPro!B132),\"\",InfoPro!B132)","v":"Parque Solar Ciénaga Grande - 19.9 MW"},{"$f":"IF(ISBLANK(InfoPro!E132),\"\",InfoPro!E132)","v":19.899999999999999},{"$f":"IF(ISBLANK(InfoPro!C132),\"\",InfoPro!C132)","v":"2022-08-17"},{"$f":"IF(ISBLANK(InfoPro!D132),\"\",InfoPro!D132)","v":"16:16:00"},{"$f":"IF(ISBLANK(InfoPro!L132),\"\",InfoPro!L132)","v":"NO"},{"$f":"'IT-TA'!H132","v":0},{"$f":"IFERROR('BT-Confi'!Y139,\"\")","v":459473.15704881458},{"$f":"IFERROR('BT-Flex'!Y139,\"\")","v":0},{"$f":"IFERROR('EC-RE'!Z139,\"\")","v":667975.46071520681},{"$f":"IFERROR('EC-RP'!Z138,\"\")","v":1521388.3015303449},{"$f":"IFERROR('EC-Per'!W138,\"\")","v":-55862.280405000463},{"$f":"IFERROR('EC-Mar'!Y138,\"\")","v":1521388.3015303449},0,5115094.8396670651,4655621.6826182501,5323597.1433334574,6177009.9841485955,4599759.4022132494,6177009.9841485955,4655621.6826182501,30356274.548840392]
[{"$f":"IF(ISBLANK(InfoPro!A133),\"\",InfoPro!A133)","v":"SC_2166_A1"},{"$f":"IF(ISBLANK(InfoPro!H133),\"\",InfoPro!H133)","v":"SC_2166"},{"$f":"IF(ISBLANK(InfoPro!B133),\"\",InfoPro!B133)","v":"Parque fotovoltaico Delphinus"},{"$f":"IF(ISBLANK(InfoPro!E133),\"\",InfoPro!E133)","v":19.899999999999999},{"$f":"IF(ISBLANK(InfoPro!C133),\"\",InfoPro!C133)","v":"2022-08-19"},{"$f":"IF(ISBLANK(InfoPro!D133),\"\",InfoPro!D133)","v":"2:10 pm"},{"$f":"IF(ISBLANK(InfoPro!L133),\"\",InfoPro!L133)","v":"NO"},{"$f":"'IT-TA'!H133","v":0},{"$f":"IFERROR('BT-Confi'!Y140,\"\")","v":459473.15704881458},{"$f":"IFERROR('BT-Flex'!Y140,\"\")","v":0},{"$f":"IFERROR('EC-RE'!Z140,\"\")","v":667975.46071520681},{"$f":"IFERROR('EC-RP'!Z139,\"\")","v":1521388.3015303449},{"$f":"IFERROR('EC-Per'!W139,\"\")","v":-68342.151559309073},{"$f":"IFERROR('EC-Mar'!Y139,\"\")","v":1521388.3015303449},0,5115094.8396670651,4655621.6826182501,5323597.1433334574,6177009.9841485955,4587279.531058941,6177009.9841485955,4655621.6826182501,30343794.677686084]
[{"$f":"IF(ISBLANK(InfoPro!A134),\"\",InfoPro!A134)","v":"SC_2166_A2"},{"$f":"IF(ISBLANK(InfoPro!H134),\"\",InfoPro!H134)","v":"SC_2166"},{"$f":"IF(ISBLANK(InfoPro!B134),\"\",InfoPro!B134)","v":"Parque fotovoltaico Delphinus"},{"$f":"IF(ISBLANK(InfoPro!E134),\"\",InfoPro!E134)","v":19.899999999999999},{"$f":"IF(ISBLANK(InfoPro!C134),\"\",InfoPro!C134)","v":"2022-08-19"},{"$f":"IF(ISBLANK(InfoPro!D134),\"\",InfoPro!D134)","v":"2:10 pm"},{"$f":"IF(ISBLANK(InfoPro!L134),\"\",InfoPro!L134)","v":"NO"},{"$f":"'IT-TA'!H134","v":0},{"$f":"IFERROR('BT-Confi'!Y141,\"\")","v":459473.15704881458},{"$f":"IFERROR('BT-Flex'!Y141,\"\")","v":0},{"$f":"IFERROR('EC-RE'!Z141,\"\")","v":667975.46071520681},{"$f":"IFERROR('EC-RP'!Z140,\"\")","v":1521388.3015303449},{"$f":"IFERROR('EC-Per'!W140,\"\")","v":-81416.302292394321},{"$f":"IFERROR('EC-Mar'!Y140,\"\")","v":1521388.3015303449},0,5115094.8396670651,4655621.6826182501,5323597.1433334574,6177009.9841485955,4574205.3803258557,6177009.9841485955,4655621.6826182501,30330720.526952997]
[{"$f":"IF(ISBLANK(InfoPro!A135),\"\",InfoPro!A135)","v":"SC_1923_A1"},{"$f":"IF(ISBLANK(InfoPro!H135),\"\",InfoPro!H135)","v":"SC_1923"},{"$f":"IF(ISBLANK(InfoPro!B135),\"\",InfoPro!B135)","v":"Parque Solar Fotovoltaico Chunú I 50 MW"},{"$f":"IF(ISBLANK(InfoPro!E135),\"\",InfoPro!E135)","v":50},{"$f":"IF(ISBLANK(InfoPro!C135),\"\",InfoPro!C135)","v":"2022-08-22"},{"$f":"IF(ISBLANK(InfoPro!D135),\"\",InfoPro!D135)","v":"11:12 am"},{"$f":"IF(ISBLANK(InfoPro!L135),\"\",InfoPro!L135)","v":"NO"},{"$f":"'IT-TA'!H135","v":0},{"$f":"IFERROR('BT-Confi'!Y142,\"\")","v":367600.87577229866},{"$f":"IFERROR('BT-Flex'!Y142,\"\")","v":0},{"$f":"IFERROR('EC-RE'!Z142,\"\")","v":534412.86087410641},{"$f":"IFERROR('EC-RP'!Z141,\"\")","v":1217184.6460507561},{"$f":"IFERROR('EC-Per'!W141,\"\")","v":-93101.220552384664},{"$f":"IFERROR('EC-Mar'!Y141,\"\")","v":1217184.6460507561},0,5023222.5583905485,4655621.6826182501,5190034.5434923563,5872806.328669006,4562520.4620658653,5872806.328669006,4655621.6826182501,29637295.244356003]
[{"$f":"IF(ISBLANK(InfoPro!A136),\"\",InfoPro!A136)","v":"SC_1923_A2"},{"$f":"IF(ISBLANK(InfoPro!H136),\"\",InfoPro!H136)","v":"SC_1923"},{"$f":"IF(ISBLANK(InfoPro!B136),\"\",InfoPro!B136)","v":"Parque Solar Fotovoltaico Chunú I 50 MW"},{"$f":"IF(ISBLANK(InfoPro!E136),\"\",InfoPro!E136)","v":50},{"$f":"IF(ISBLANK(InfoPro!C136),\"\",InfoPro!C136)","v":"2022-08-22"},{"$f":"IF(ISBLANK(InfoPro!D136),\"\",InfoPro!D136)","v":"11:12 am"},{"$f":"IF(ISBLANK(InfoPro!L136),\"\",InfoPro!L136)","v":"NO"},{"$f":"'IT-TA'!H136","v":0},{"$f":"IFERROR('BT-Confi'!Y143,\"\")","v":367600.87577229866},{"$f":"IFERROR('BT-Flex'!Y143,\"\")","v":0},{"$f":"IFERROR('EC-RE'!Z143,\"\")","v":534412.86087410641},{"$f":"IFERROR('EC-RP'!Z142,\"\")","v":1217184.6460507561},{"$f":"IFERROR('EC-Per'!W142,\"\")","v":-91965.839813940984},{"$f":"IFERROR('EC-Mar'!Y142,\"\")","v":1217184.6460507561},0,5023222.5583905485,4655621.6826182501,5190034.5434923563,5872806.328669006,4563655.842804309,5872806.328669006,4655621.6826182501,29638430.625094447]
[{"$f":"IF(ISBLANK(InfoPro!A137),\"\",InfoPro!A137)","v":"SC_1937_A1"},{"$f":"IF(ISBLANK(InfoPro!H137),\"\",InfoPro!H137)","v":"SC_1937"},{"$f":"IF(ISBLANK(InfoPro!B137),\"\",InfoPro!B137)","v":"Parque Solar Fotovoltaico ChInú II 50 MW"},{"$f":"IF(ISBLANK(InfoPro!E137),\"\",InfoPro!E137)","v":50},{"$f":"IF(ISBLANK(InfoPro!C137),\"\",InfoPro!C137)","v":"2022-08-22"},{"$f":"IF(ISBLANK(InfoPro!D137),\"\",InfoPro!D137)","v":"11:14 am"},{"$f":"IF(ISBLANK(InfoPro!L137),\"\",InfoPro!L137)","v":"NO"},{"$f":"'IT-TA'!H137","v":0},{"$f":"IFERROR('BT-Confi'!Y144,\"\")","v":367600.87577229866},{"$f":"IFERROR('BT-Flex'!Y144,\"\")","v":0},{"$f":"IFERROR('EC-RE'!Z144,\"\")","v":534412.86087410641},{"$f":"IFERROR('EC-RP'!Z143,\"\")","v":1217184.6460507561},{"$f":"IFERROR('EC-Per'!W143,\"\")","v":-93101.220552384664},{"$f":"IFERROR('EC-Mar'!Y143,\"\")","v":1217184.6460507561},0,5023222.5583905485,4655621.6826182501,5190034.5434923563,5872806.328669006,4562520.4620658653,5872806.328669006,4655621.6826182501,29637295.244356003]
[{"$f":"IF(ISBLANK(InfoPro!A138),\"\",InfoPro!A138)","v":"SC_1937_A2"},{"$f":"IF(ISBLANK(InfoPro!H138),\"\",InfoPro!H138)","v":"SC_1937"},{"$f":"IF(ISBLANK(InfoPro!B138),\"\",InfoPro!B138)","v":"Parque Solar Fotovoltaico ChInú II 50 MW"},{"$f":"IF(ISBLANK(InfoPro!E138),\"\",InfoPro!E138)","v":50},{"$f":"IF(ISBLANK(InfoPro!C138),\"\",InfoPro!C138)","v":"2022-08-22"},{"$f":"IF(ISBLANK(InfoPro!D138),\"\",InfoPro!D138)","v":"11:14 am"},{"$f":"IF(ISBLANK(InfoPro!L138),\"\",InfoPro!L138)","v":"NO"},{"$f":"'IT-TA'!H138","v":0},{"$f":"IFERROR('BT-Confi'!Y145,\"\")","v":367600.87577229866},{"$f":"IFERROR('BT-Flex'!Y145,\"\")","v":0},{"$f":"IFERROR('EC-RE'!Z145,\"\")","v":534412.86087410641},{"$f":"IFERROR('EC-RP'!Z144,\"\")","v":1217184.6460507561},{"$f":"IFERROR('EC-Per'!W144,\"\")","v":-91965.839813940984},{"$f":"IFERROR('EC-Mar'!Y144,\"\")","v":1217184.6460507561},0,5023222.5583905485,4655621.6826182501,5190034.5434923563,5872806.328669006,4563655.842804309,5872806.328669006,4655621.6826182501,29638430.625094447]
[{"$f":"IF(ISBLANK(InfoPro!A139),\"\",InfoPro!A139)","v":"SC_1810_A1"},{"$f":"IF(ISBLANK(InfoPro!H139),\"\",InfoPro!H139)","v":"SC_1810"},{"$f":"IF(ISBLANK(InfoPro!B139),\"\",InfoPro!B139)","v":"Parque Solar Coveñas 50 MW"},{"$f":"IF(ISBLANK(InfoPro!E139),\"\",InfoPro!E139)","v":50},{"$f":"IF(ISBLANK(InfoPro!C139),\"\",InfoPro!C139)","v":"2022-08-22"},{"$f":"IF(ISBLANK(InfoPro!D139),\"\",InfoPro!D139)","v":"11:29 am"},{"$f":"IF(ISBLANK(InfoPro!L139),\"\",InfoPro!L139)","v":"NO"},{"$f":"'IT-TA'!H139","v":0},{"$f":"IFERROR('BT-Confi'!Y146,\"\")","v":367600.87577229866},{"$f":"IFERROR('BT-Flex'!Y146,\"\")","v":0},{"$f":"IFERROR('EC-RE'!Z146,\"\")","v":534412.86087410641},{"$f":"IFERROR('EC-RP'!Z145,\"\")","v":1217184.6460507561},{"$f":"IFERROR('EC-Per'!W145,\"\")","v":-107293.47978293114},{"$f":"IFERROR('EC-Mar'!Y145,\"\")","v":1217184.6460507561},0,5023222.5583905485,4655621.6826182501,5190034.5434923563,5872806.328669006,4548328.2028353186,5872806.328669006,4655621.6826182501,29623102.985125456]
[{"$f":"IF(ISBLANK(InfoPro!A140),\"\",InfoPro!A140)","v":"SC_1810_A2"},{"$f":"IF(ISBLANK(InfoPro!H140),\"\",InfoPro!H140)","v":"SC_1810"},{"$f":"IF(ISBLANK(InfoPro!B140),\"\",InfoPro!B140)","v":"Parque Solar Coveñas 50 MW"},{"$f":"IF(ISBLANK(InfoPro!E140),\"\",InfoPro!E140)","v":50},{"$f":"IF(ISBLANK(InfoPro!C140),\"\",InfoPro!C140)","v":"2022-08-22"},{"$f":"IF(ISBLANK(InfoPro!D140),\"\",InfoPro!D140)","v":"11:29 am"},{"$f":"IF(ISBLANK(InfoPro!L140),\"\",InfoPro!L140)","v":"NO"},{"$f":"'IT-TA'!H140","v":0},{"$f":"IFERROR('BT-Confi'!Y147,\"\")","v":367600.87577229866},{"$f":"IFERROR('BT-Flex'!Y147,\"\")","v":0},{"$f":"IFERROR('EC-RE'!Z147,\"\")","v":534412.86087410641},{"$f":"IFERROR('EC-RP'!Z146,\"\")","v":1217184.6460507561},{"$f":"IFERROR('EC-Per'!W146,\"\")","v":-129244.17405950961},{"$f":"IFERROR('EC-Mar'!Y146,\"\")","v":1217184.6460507561},0,5023222.5583905485,4655621.6826182501,5190034.5434923563,5872806.328669006,4526377.5085587408,5872806.328669006,4655621.6826182501,29601152.290848877]
[{"$f":"IF(ISBLANK(InfoPro!A141),\"\",InfoPro!A141)","v":"SC_1835_A1"},{"$f":"IF(ISBLANK(InfoPro!H141),\"\",InfoPro!H141)","v":"SC_1835"},{"$f":"IF(ISBLANK(InfoPro!B141),\"\",InfoPro!B141)","v":"Parque Solar Coveñas II 50 MW"},{"$f":"IF(ISBLANK(InfoPro!E141),\"\",InfoPro!E141)","v":50},{"$f":"IF(ISBLANK(InfoPro!C141),\"\",InfoPro!C141)","v":"2022-08-22"},{"$f":"IF(ISBLANK(InfoPro!D141),\"\",InfoPro!D141)","v":"11:30 am"},{"$f":"IF(ISBLANK(InfoPro!L141),\"\",InfoPro!L141)","v":"NO"},{"$f":"'IT-TA'!H141","v":0},{"$f":"IFERROR('BT-Confi'!Y148,\"\")","v":367600.87577229866},{"$f":"IFERROR('BT-Flex'!Y148,\"\")","v":0},{"$f":"IFERROR('EC-RE'!Z148,\"\")","v":534412.86087410641},{"$f":"IFERROR('EC-RP'!Z147,\"\")","v":1217184.6460507561},{"$f":"IFERROR('EC-Per'!W147,\"\")","v":-107293.47978293114},{"$f":"IFERROR('EC-Mar'!Y147,\"\")","v":1217184.6460507561},0,5023222.5583905485,4655621.6826182501,5190034.5434923563,5872806.328669006,4548328.2028353186,5872806.328669006,4655621.6826182501,29623102.985125456]
[{"$f":"IF(ISBLANK(InfoPro!A142),\"\",InfoPro!A142)","v":"SC_1835_A2"},{"$f":"IF(ISBLANK(InfoPro!H142),\"\",InfoPro!H142)","v":"SC_1835"},{"$f":"IF(ISBLANK(InfoPro!B142),\"\",InfoPro!B142)","v":"Parque Solar Coveñas II 50 MW"},{"$f":"IF(ISBLANK(InfoPro!E142),\"\",InfoPro!E142)","v":50},{"$f":"IF(ISBLANK(InfoPro!C142),\"\",InfoPro!C142)","v":"2022-08-22"},{"$f":"IF(ISBLANK(InfoPro!D142),\"\",InfoPro!D142)","v":"11:30 am"},{"$f":"IF(ISBLANK(InfoPro!L142),\"\",InfoPro!L142)","v":"NO"},{"$f":"'IT-TA'!H142","v":0},{"$f":"IFERROR('BT-Confi'!Y149,\"\")","v":367600.87577229866},{"$f":"IFERROR('BT-Flex'!Y149,\"\")","v":0},{"$f":"IFERROR('EC-RE'!Z149,\"\")","v":534412.86087410641},{"$f":"IFERROR('EC-RP'!Z148,\"\")","v":1217184.6460507561},{"$f":"IFERROR('EC-Per'!W148,\"\")","v":-129244.17405950961},{"$f":"IFERROR('EC-Mar'!Y148,\"\")","v":1217184.6460507561},0,5023222.5583905485,4655621.6826182501,5190034.5434923563,5872806.328669006,4526377.5085587408,5872806.328669006,4655621.6826182501,29601152.290848877]
[{"$f":"IF(ISBLANK(InfoPro!A143),\"\",InfoPro!A143)","v":"SC_1873_A1"},{"$f":"IF(ISBLANK(InfoPro!H143),\"\",InfoPro!H143)","v":"SC_1873"},{"$f":"IF(ISBLANK(InfoPro!B143),\"\",InfoPro!B143)","v":"Cusumbo Solar"},{"$f":"IF(ISBLANK(InfoPro!E143),\"\",InfoPro!E143)","v":99.9},{"$f":"IF(ISBLANK(InfoPro!C143),\"\",InfoPro!C143)","v":"2022-08-22"},{"$f":"IF(ISBLANK(InfoPro!D143),\"\",InfoPro!D143)","v":"12:37 pm"},{"$f":"IF(ISBLANK(InfoPro!L143),\"\",InfoPro!L143)","v":"NO"},{"$f":"'IT-TA'!H143","v":0},{"$f":"IFERROR('BT-Confi'!Y150,\"\")","v":410977.77911343001},{"$f":"IFERROR('BT-Flex'!Y150,\"\")","v":0},{"$f":"IFERROR('EC-RE'!Z150,\"\")","v":597473.57845725131},{"$f":"IFERROR('EC-RP'!Z149,\"\")","v":1360812.434284745},{"$f":"IFERROR('EC-Per'!W149,\"\")","v":-392729.4097127539},{"$f":"IFERROR('EC-Mar'!Y149,\"\")","v":1360812.434284745},0,5066599.4617316797,4655621.6826182501,5253095.2610755013,6016434.1169029949,4262892.2729054959,6016434.1169029949,4655621.6826182501,29659546.358470891]
[{"$f":"IF(ISBLANK(InfoPro!A144),\"\",InfoPro!A144)","v":"SC_1873_A2"},{"$f":"IF(ISBLANK(InfoPro!H144),\"\",InfoPro!H144)","v":"SC_1873"},{"$f":"IF(ISBLANK(InfoPro!B144),\"\",InfoPro!B144)","v":"Cusumbo Solar"},{"$f":"IF(ISBLANK(InfoPro!E144),\"\",InfoPro!E144)","v":99.9},{"$f":"IF(ISBLANK(InfoPro!C144),\"\",InfoPro!C144)","v":"2022-08-22"},{"$f":"IF(ISBLANK(InfoPro!D144),\"\",InfoPro!D144)","v":"12:37 pm"},{"$f":"IF(ISBLANK(InfoPro!L144),\"\",InfoPro!L144)","v":"NO"},{"$f":"'IT-TA'!H144","v":0},{"$f":"IFERROR('BT-Confi'!Y151,\"\")","v":410977.77911343001},{"$f":"IFERROR('BT-Flex'!Y151,\"\")","v":0},{"$f":"IFERROR('EC-RE'!Z151,\"\")","v":597473.57845725131},{"$f":"IFERROR('EC-RP'!Z150,\"\")","v":1360812.434284745},{"$f":"IFERROR('EC-Per'!W150,\"\")","v":-554310.71982913651},{"$f":"IFERROR('EC-Mar'!Y150,\"\")","v":1360812.434284745},{"$f":"IF(C147=\"\",\"\",(SUMIF(I147:N147,\">0\"))*(H147/100))","v":0},{"$f":"IF(C147=\"\",\"\",I147+$B$1)","v":5066599.4617316797},{"$f":"IF(D147=\"\",\"\",J147+$B$1)","v":4655621.6826182501},{"$f":"IF(E147=\"\",\"\",K147+$B$1)","v":5253095.2610755013},{"$f":"IF(F147=\"\",\"\",L147+$B$1)","v":6016434.1169029949},{"$f":"IF(G147=\"\",\"\",M147+$B$1)","v":4101310.9627891136},{"$f":"IF(H147=\"\",\"\",N147+$B$1)","v":6016434.1169029949},{"$f":"IF(I147=\"\",\"\",O147+$B$1)","v":4655621.6826182501},{"$f":"IFERROR((+$P$1*P147+$Q$1*Q147+$R$1*R147+$S$1*S147+$T$1*T147+U147*$U$1+$V$1*V147),\"\")","v":29497965.04835451}]
[{"$f":"IF(ISBLANK(InfoPro!A145),\"\",InfoPro!A145)","v":"SC_2067_A1"},{"$f":"IF(ISBLANK(InfoPro!H145),\"\",InfoPro!H145)","v":"SC_2067"},{"$f":"IF(ISBLANK(InfoPro!B145),\"\",InfoPro!B145)","v":"TIERRALTA 70 MW"},{"$f":"IF(ISBLANK(InfoPro!E145),\"\",InfoPro!E145)","v":70},{"$f":"IF(ISBLANK(InfoPro!C145),\"\",InfoPro!C145)","v":"2022-08-22"},{"$f":"IF(ISBLANK(InfoPro!D145),\"\",InfoPro!D145)","v":"9:18 pm"},{"$f":"IF(ISBLANK(InfoPro!L145),\"\",InfoPro!L145)","v":"NO"},{"$f":"'IT-TA'!H145","v":0},{"$f":"IFERROR('BT-Confi'!Y152,\"\")","v":367600.87577229866},{"$f":"IFERROR('BT-Flex'!Y152,\"\")","v":0},{"$f":"IFERROR('EC-RE'!Z152,\"\")","v":534412.86087410641},{"$f":"IFERROR('EC-RP'!Z151,\"\")","v":1217184.6460507556},{"$f":"IFERROR('EC-Per'!W151,\"\")","v":-69538.420791589742},{"$f":"IFERROR('EC-Mar'!Y151,\"\")","v":1217184.6460507556},{"$f":"IF(C148=\"\",\"\",(SUMIF(I148:N148,\">0\"))*(H148/100))","v":0},{"$f":"IF(C148=\"\",\"\",I148+$B$1)","v":5023222.5583905485},{"$f":"IF(D148=\"\",\"\",J148+$B$1)","v":4655621.6826182501},{"$f":"IF(E148=\"\",\"\",K148+$B$1)","v":5190034.5434923563},{"$f":"IF(F148=\"\",\"\",L148+$B$1)","v":5872806.328669006},{"$f":"IF(G148=\"\",\"\",M148+$B$1)","v":4586083.2618266605},{"$f":"IF(H148=\"\",\"\",N148+$B$1)","v":5872806.328669006},{"$f":"IF(I148=\"\",\"\",O148+$B$1)","v":4655621.6826182501},{"$f":"IFERROR((+$P$1*P148+$Q$1*Q148+$R$1*R148+$S$1*S148+$T$1*T148+U148*$U$1+$V$1*V148),\"\")","v":29660858.044116799}]
[{"$f":"IF(ISBLANK(InfoPro!A146),\"\",InfoPro!A146)","v":"SC_2067_A2"},{"$f":"IF(ISBLANK(InfoPro!H146),\"\",InfoPro!H146)","v":"SC_2067"},{"$f":"IF(ISBLANK(InfoPro!B146),\"\",InfoPro!B146)","v":"TIERRALTA 70 MW"},{"$f":"IF(ISBLANK(InfoPro!E146),\"\",InfoPro!E146)","v":70},{"$f":"IF(ISBLANK(InfoPro!C146),\"\",InfoPro!C146)","v":"2022-08-22"},{"$f":"IF(ISBLANK(InfoPro!D146),\"\",InfoPro!D146)","v":"9:18 pm"},{"$f":"IF(ISBLANK(InfoPro!L146),\"\",InfoPro!L146)","v":"NO"},{"$f":"'IT-TA'!H146","v":0},{"$f":"IFERROR('BT-Confi'!Y153,\"\")","v":367600.87577229866},{"$f":"IFERROR('BT-Flex'!Y153,\"\")","v":0},{"$f":"IFERROR('EC-RE'!Z153,\"\")","v":534412.86087410641},{"$f":"IFERROR('EC-RP'!Z152,\"\")","v":1217184.6460507556},{"$f":"IFERROR('EC-Per'!W152,\"\")","v":-62395.253974295265},{"$f":"IFERROR('EC-Mar'!Y152,\"\")","v":1217184.6460507556},0,5023222.5583905485,4655621.6826182501,5190034.5434923563,5872806.328669006,4593226.4286439549,5872806.328669006,4655621.6826182501,29668001.210934091]
[{"$f":"IF(ISBLANK(InfoPro!A147),\"\",InfoPro!A147)","v":"SC_1942_A1"},{"$f":"IF(ISBLANK(InfoPro!H147),\"\",InfoPro!H147)","v":"SC_1942"},{"$f":"IF(ISBLANK(InfoPro!B147),\"\",InfoPro!B147)","v":"San Jorge Fotovoltaico 135 MW"},{"$f":"IF(ISBLANK(InfoPro!E147),\"\",InfoPro!E147)","v":135},{"$f":"IF(ISBLANK(InfoPro!C147),\"\",InfoPro!C147)","v":"2022-08-23"},{"$f":"IF(ISBLANK(InfoPro!D147),\"\",InfoPro!D147)","v":"3:30 pm"},{"$f":"IF(ISBLANK(InfoPro!L147),\"\",InfoPro!L147)","v":"NO"},{"$f":"'IT-TA'!H147","v":0},{"$f":"IFERROR('BT-Confi'!Y154,\"\")","v":459473.15704881458},{"$f":"IFERROR('BT-Flex'!Y154,\"\")","v":0},{"$f":"IFERROR('EC-RE'!Z154,\"\")","v":667975.46071520692},{"$f":"IFERROR('EC-RP'!Z153,\"\")","v":1521388.3015303451},{"$f":"IFERROR('EC-Per'!W153,\"\")","v":-159548.08738395467},{"$f":"IFERROR('EC-Mar'!Y153,\"\")","v":1521388.3015303451},0,5115094.8396670651,4655621.6826182501,5323597.1433334574,6177009.9841485955,4496073.5952342954,6177009.9841485955,4655621.6826182501,30252588.74186144]
[{"$f":"IF(ISBLANK(InfoPro!A148),\"\",InfoPro!A148)","v":"SC_1942_A2"},{"$f":"IF(ISBLANK(InfoPro!H148),\"\",InfoPro!H148)","v":"SC_1942"},{"$f":"IF(ISBLANK(InfoPro!B148),\"\",InfoPro!B148)","v":"San Jorge Fotovoltaico 135 MW"},{"$f":"IF(ISBLANK(InfoPro!E148),\"\",InfoPro!E148)","v":135},{"$f":"IF(ISBLANK(InfoPro!C148),\"\",InfoPro!C148)","v":"2022-08-23"},{"$f":"IF(ISBLANK(InfoPro!D148),\"\",InfoPro!D148)","v":"3:30 pm"},{"$f":"IF(ISBLANK(InfoPro!L148),\"\",InfoPro!L148)","v":"NO"},{"$f":"'IT-TA'!H148","v":0},{"$f":"IFERROR('BT-Confi'!Y155,\"\")","v":459473.15704881458},{"$f":"IFERROR('BT-Flex'!Y155,\"\")","v":0},{"$f":"IFERROR('EC-RE'!Z155,\"\")","v":667975.46071520692},{"$f":"IFERROR('EC-RP'!Z154,\"\")","v":1521388.3015303451},{"$f":"IFERROR('EC-Per'!W154,\"\")","v":-336984.34225476132},{"$f":"IFERROR('EC-Mar'!Y154,\"\")","v":1521388.3015303451},0,5115094.8396670651,4655621.6826182501,5323597.1433334574,6177009.9841485955,4318637.3403634885,6177009.9841485955,4655621.6826182501,30075152.486990631]
[{"$f":"IF(ISBLANK(InfoPro!A149),\"\",InfoPro!A149)","v":"SC_2107_A1"},{"$f":"IF(ISBLANK(InfoPro!H149),\"\",InfoPro!H149)","v":"SC_2107"},{"$f":"IF(ISBLANK(InfoPro!B149),\"\",InfoPro!B149)","v":"Parque Solar Aries"},{"$f":"IF(ISBLANK(InfoPro!E149),\"\",InfoPro!E149)","v":175},{"$f":"IF(ISBLANK(InfoPro!C149),\"\",InfoPro!C149)","v":"2022-08-23"},{"$f":"IF(ISBLANK(InfoPro!D149),\"\",InfoPro!D149)","v":"5:06 pm"},{"$f":"IF(ISBLANK(InfoPro!L149),\"\",InfoPro!L149)","v":"NO"},{"$f":"'IT-TA'!H149","v":0},{"$f":"IFERROR('BT-Confi'!Y156,\"\")","v":410977.77911342989},{"$f":"IFERROR('BT-Flex'!Y156,\"\")","v":0},{"$f":"IFERROR('EC-RE'!Z156,\"\")","v":597473.57845725107},{"$f":"IFERROR('EC-RP'!Z155,\"\")","v":1360812.4342847452},{"$f":"IFERROR('EC-Per'!W155,\"\")","v":-132738.33531494488},{"$f":"IFERROR('EC-Mar'!Y155,\"\")","v":1360812.4342847455},0,5066599.4617316797,4655621.6826182501,5253095.2610755013,6016434.1169029959,4522883.3473033048,6016434.1169029959,4655621.6826182501,29919537.4328687]
[{"$f":"IF(ISBLANK(InfoPro!A150),\"\",InfoPro!A150)","v":"SC_2107_A2"},{"$f":"IF(ISBLANK(InfoPro!H150),\"\",InfoPro!H150)","v":"SC_2107"},{"$f":"IF(ISBLANK(InfoPro!B150),\"\",InfoPro!B150)","v":"Parque Solar Aries"},{"$f":"IF(ISBLANK(InfoPro!E150),\"\",InfoPro!E150)","v":175},{"$f":"IF(ISBLANK(InfoPro!C150),\"\",InfoPro!C150)","v":"2022-08-23"},{"$f":"IF(ISBLANK(InfoPro!D150),\"\",InfoPro!D150)","v":"5:06 pm"},{"$f":"IF(ISBLANK(InfoPro!L150),\"\",InfoPro!L150)","v":"NO"},{"$f":"'IT-TA'!H150","v":0},{"$f":"IFERROR('BT-Confi'!Y157,\"\")","v":410977.77911342989},{"$f":"IFERROR('BT-Flex'!Y157,\"\")","v":0},{"$f":"IFERROR('EC-RE'!Z157,\"\")","v":597473.57845725107},{"$f":"IFERROR('EC-RP'!Z156,\"\")","v":1360812.4342847452},{"$f":"IFERROR('EC-Per'!W156,\"\")","v":-166442.7505114901},{"$f":"IFERROR('EC-Mar'!Y156,\"\")","v":1360812.4342847455},0,5066599.4617316797,4655621.6826182501,5253095.2610755013,6016434.1169029959,4489178.9321067603,6016434.1169029959,4655621.6826182501,29885833.017672155]
[{"$f":"IF(ISBLANK(InfoPro!A151),\"\",InfoPro!A151)","v":"SC_2031\n_A1"},{"$f":"IF(ISBLANK(InfoPro!H151),\"\",InfoPro!H151)","v":"SC_2031\n"},{"$f":"IF(ISBLANK(InfoPro!B151),\"\",InfoPro!B151)","v":"PSF Cispata_70MW"},{"$f":"IF(ISBLANK(InfoPro!E151),\"\",InfoPro!E151)","v":70},{"$f":"IF(ISBLANK(InfoPro!C151),\"\",InfoPro!C151)","v":"2022-08-23"},{"$f":"IF(ISBLANK(InfoPro!D151),\"\",InfoPro!D151)","v":"8:28 pm"},{"$f":"IF(ISBLANK(InfoPro!L151),\"\",InfoPro!L151)","v":"NO"},{"$f":"'IT-TA'!H151","v":0},{"$f":"IFERROR('BT-Confi'!Y158,\"\")","v":410977.77911342989},{"$f":"IFERROR('BT-Flex'!Y158,\"\")","v":0},{"$f":"IFERROR('EC-RE'!Z158,\"\")","v":597473.57845725084},{"$f":"IFERROR('EC-RP'!Z157,\"\")","v":1360812.4342847452},{"$f":"IFERROR('EC-Per'!W157,\"\")","v":-127237.79409743121},{"$f":"IFERROR('EC-Mar'!Y157,\"\")","v":1360812.4342847452},0,5066599.4617316797,4655621.6826182501,5253095.2610755013,6016434.1169029959,4528383.8885208191,6016434.1169029959,4655621.6826182501,29925037.974086214]
[{"$f":"IF(ISBLANK(InfoPro!A152),\"\",InfoPro!A152)","v":"SC_2136_A1"},{"$f":"IF(ISBLANK(InfoPro!H152),\"\",InfoPro!H152)","v":"SC_2136"},{"$f":"IF(ISBLANK(InfoPro!B152),\"\",InfoPro!B152)","v":"Yaguarundi Solar II 40 MW"},{"$f":"IF(ISBLANK(InfoPro!E152),\"\",InfoPro!E152)","v":40},{"$f":"IF(ISBLANK(InfoPro!C152),\"\",InfoPro!C152)","v":"2022-08-24"},{"$f":"IF(ISBLANK(InfoPro!D152),\"\",InfoPro!D152)","v":"4:30 pm"},{"$f":"IF(ISBLANK(InfoPro!L152),\"\",InfoPro!L152)","v":"NO"},{"$f":"'IT-TA'!H152","v":0},{"$f":"IFERROR('BT-Confi'!Y159,\"\")","v":410977.77911342995},{"$f":"IFERROR('BT-Flex'!Y159,\"\")","v":0},{"$f":"IFERROR('EC-RE'!Z159,\"\")","v":597473.57845725131},{"$f":"IFERROR('EC-RP'!Z158,\"\")","v":1360812.4342847455},{"$f":"IFERROR('EC-Per'!W158,\"\")","v":-178566.60825547689},{"$f":"IFERROR('EC-Mar'!Y158,\"\")","v":1360812.4342847455},0,5066599.4617316797,4655621.6826182501,5253095.2610755013,6016434.1169029959,4477055.0743627734,6016434.1169029959,4655621.6826182501,29873709.159928169]
[{"$f":"IF(ISBLANK(InfoPro!A153),\"\",InfoPro!A153)","v":"SC_2136_A2"},{"$f":"IF(ISBLANK(InfoPro!H153),\"\",InfoPro!H153)","v":"SC_2136"},{"$f":"IF(ISBLANK(InfoPro!B153),\"\",InfoPro!B153)","v":"Yaguarundi Solar II 40 MW"},{"$f":"IF(ISBLANK(InfoPro!E153),\"\",InfoPro!E153)","v":40},{"$f":"IF(ISBLANK(InfoPro!C153),\"\",InfoPro!C153)","v":"2022-08-24"},{"$f":"IF(ISBLANK(InfoPro!D153),\"\",InfoPro!D153)","v":"4:30 pm"},{"$f":"IF(ISBLANK(InfoPro!L153),\"\",InfoPro!L153)","v":"NO"},{"$f":"'IT-TA'!H153","v":0},{"$f":"IFERROR('BT-Confi'!Y160,\"\")","v":410977.77911342995},{"$f":"IFERROR('BT-Flex'!Y160,\"\")","v":0},{"$f":"IFERROR('EC-RE'!Z160,\"\")","v":597473.57845725131},{"$f":"IFERROR('EC-RP'!Z159,\"\")","v":1360812.4342847455},{"$f":"IFERROR('EC-Per'!W159,\"\")","v":-128974.46909584542},{"$f":"IFERROR('EC-Mar'!Y159,\"\")","v":1360812.4342847455},0,5066599.4617316797,4655621.6826182501,5253095.2610755013,6016434.1169029959,4526647.2135224044,6016434.1169029959,4655621.6826182501,29923301.2990878]
[{"$f":"IF(ISBLANK(InfoPro!A154),\"\",InfoPro!A154)","v":"SC_2180_A1"},{"$f":"IF(ISBLANK(InfoPro!H154),\"\",InfoPro!H154)","v":"SC_2180"},{"$f":"IF(ISBLANK(InfoPro!B154),\"\",InfoPro!B154)","v":"Yaguarundi Solar III 40 MW"},{"$f":"IF(ISBLANK(InfoPro!E154),\"\",InfoPro!E154)","v":40},{"$f":"IF(ISBLANK(InfoPro!C154),\"\",InfoPro!C154)","v":"2022-08-24"},{"$f":"IF(ISBLANK(InfoPro!D154),\"\",InfoPro!D154)","v":"4:32 pm"},{"$f":"IF(ISBLANK(InfoPro!L154),\"\",InfoPro!L154)","v":"NO"},{"$f":"'IT-TA'!H154","v":0},{"$f":"IFERROR('BT-Confi'!Y161,\"\")","v":410977.77911342995},{"$f":"IFERROR('BT-Flex'!Y161,\"\")","v":0},{"$f":"IFERROR('EC-RE'!Z161,\"\")","v":597473.57845725131},{"$f":"IFERROR('EC-RP'!Z160,\"\")","v":1360812.4342847455},{"$f":"IFERROR('EC-Per'!W160,\"\")","v":-178566.60825547689},{"$f":"IFERROR('EC-Mar'!Y160,\"\")","v":1360812.4342847455},0,5066599.4617316797,4655621.6826182501,5253095.2610755013,6016434.1169029959,4477055.0743627734,6016434.1169029959,4655621.6826182501,29873709.159928169]
[{"$f":"IF(ISBLANK(InfoPro!A155),\"\",InfoPro!A155)","v":"SC_2180_A2"},{"$f":"IF(ISBLANK(InfoPro!H155),\"\",InfoPro!H155)","v":"SC_2180"},{"$f":"IF(ISBLANK(InfoPro!B155),\"\",InfoPro!B155)","v":"Yaguarundi Solar III 40 MW"},{"$f":"IF(ISBLANK(InfoPro!E155),\"\",InfoPro!E155)","v":40},{"$f":"IF(ISBLANK(InfoPro!C155),\"\",InfoPro!C155)","v":"2022-08-24"},{"$f":"IF(ISBLANK(InfoPro!D155),\"\",InfoPro!D155)","v":"4:32 pm"},{"$f":"IF(ISBLANK(InfoPro!L155),\"\",InfoPro!L155)","v":"NO"},{"$f":"'IT-TA'!H155","v":0},{"$f":"IFERROR('BT-Confi'!Y162,\"\")","v":410977.77911342995},{"$f":"IFERROR('BT-Flex'!Y162,\"\")","v":0},{"$f":"IFERROR('EC-RE'!Z162,\"\")","v":597473.57845725131},{"$f":"IFERROR('EC-RP'!Z161,\"\")","v":1360812.4342847455},{"$f":"IFERROR('EC-Per'!W161,\"\")","v":-128974.46909584542},{"$f":"IFERROR('EC-Mar'!Y161,\"\")","v":1360812.4342847455},0,5066599.4617316797,4655621.6826182501,5253095.2610755013,6016434.1169029959,4526647.2135224044,6016434.1169029959,4655621.6826182501,29923301.2990878]
[{"$f":"IF(ISBLANK(InfoPro!A156),\"\",InfoPro!A156)","v":"SC_2185_A1"},{"$f":"IF(ISBLANK(InfoPro!H156),\"\",InfoPro!H156)","v":"SC_2185"},{"$f":"IF(ISBLANK(InfoPro!B156),\"\",InfoPro!B156)","v":"Yaguarundi Solar IV 40 MW"},{"$f":"IF(ISBLANK(InfoPro!E156),\"\",InfoPro!E156)","v":40},{"$f":"IF(ISBLANK(InfoPro!C156),\"\",InfoPro!C156)","v":"2022-08-24"},{"$f":"IF(ISBLANK(InfoPro!D156),\"\",InfoPro!D156)","v":"4:34 pm"},{"$f":"IF(ISBLANK(InfoPro!L156),\"\",InfoPro!L156)","v":"NO"},{"$f":"'IT-TA'!H156","v":0},{"$f":"IFERROR('BT-Confi'!Y163,\"\")","v":410977.77911342995},{"$f":"IFERROR('BT-Flex'!Y163,\"\")","v":0},{"$f":"IFERROR('EC-RE'!Z163,\"\")","v":597473.57845725131},{"$f":"IFERROR('EC-RP'!Z162,\"\")","v":1360812.4342847455},{"$f":"IFERROR('EC-Per'!W162,\"\")","v":-178566.60825547689},{"$f":"IFERROR('EC-Mar'!Y162,\"\")","v":1360812.4342847455},0,5066599.4617316797,4655621.6826182501,5253095.2610755013,6016434.1169029959,4477055.0743627734,6016434.1169029959,4655621.6826182501,29873709.159928169]
[{"$f":"IF(ISBLANK(InfoPro!A157),\"\",InfoPro!A157)","v":"SC_2185_A2"},{"$f":"IF(ISBLANK(InfoPro!H157),\"\",InfoPro!H157)","v":"SC_2185"},{"$f":"IF(ISBLANK(InfoPro!B157),\"\",InfoPro!B157)","v":"Yaguarundi Solar IV 40 MW"},{"$f":"IF(ISBLANK(InfoPro!E157),\"\",InfoPro!E157)","v":40},{"$f":"IF(ISBLANK(InfoPro!C157),\"\",InfoPro!C157)","v":"2022-08-24"},{"$f":"IF(ISBLANK(InfoPro!D157),\"\",InfoPro!D157)","v":"4:34 pm"},{"$f":"IF(ISBLANK(InfoPro!L157),\"\",InfoPro!L157)","v":"NO"},{"$f":"'IT-TA'!H157","v":0},{"$f":"IFERROR('BT-Confi'!Y164,\"\")","v":410977.77911342995},{"$f":"IFERROR('BT-Flex'!Y164,\"\")","v":0},{"$f":"IFERROR('EC-RE'!Z164,\"\")","v":597473.57845725131},{"$f":"IFERROR('EC-RP'!Z163,\"\")","v":1360812.4342847455},{"$f":"IFERROR('EC-Per'!W163,\"\")","v":-128974.46909584542},{"$f":"IFERROR('EC-Mar'!Y163,\"\")","v":1360812.4342847455},0,5066599.4617316797,4655621.6826182501,5253095.2610755013,6016434.1169029959,4526647.2135224044,6016434.1169029959,4655621.6826182501,29923301.2990878]
[{"$f":"IF(ISBLANK(InfoPro!A158),\"\",InfoPro!A158)","v":"SC_1926_A1"},{"$f":"IF(ISBLANK(InfoPro!H158),\"\",InfoPro!H158)","v":"SC_1926"},{"$f":"IF(ISBLANK(InfoPro!B158),\"\",InfoPro!B158)","v":"Bongos I 9.90 MW"},{"$f":"IF(ISBLANK(InfoPro!E158),\"\",InfoPro!E158)","v":9.9},{"$f":"IF(ISBLANK(InfoPro!C158),\"\",InfoPro!C158)","v":"2022-08-24"},{"$f":"IF(ISBLANK(InfoPro!D158),\"\",InfoPro!D158)","v":"9:23 pm"},{"$f":"IF(ISBLANK(InfoPro!L158),\"\",InfoPro!L158)","v":"NO"},{"$f":"'IT-TA'!H158","v":0},{"$f":"IFERROR('BT-Confi'!Y165,\"\")","v":513690.98958057474},{"$f":"IFERROR('BT-Flex'!Y165,\"\")","v":0},{"$f":"IFERROR('EC-RE'!Z165,\"\")","v":746796.56507960113},{"$f":"IFERROR('EC-RP'!Z164,\"\")","v":1700912.1211109257},{"$f":"IFERROR('EC-Per'!W164,\"\")","v":-791963.53517684608},{"$f":"IFERROR('EC-Mar'!Y164,\"\")","v":1700912.1211109257},0,5169312.6721988246,4655621.6826182501,5402418.2476978516,6356533.8037291756,3863658.1474414039,6356533.8037291756,4655621.6826182501,30022497.960335571]
[{"$f":"IF(ISBLANK(InfoPro!A159),\"\",InfoPro!A159)","v":"SC_1926_A2"},{"$f":"IF(ISBLANK(InfoPro!H159),\"\",InfoPro!H159)","v":"SC_1926"},{"$f":"IF(ISBLANK(InfoPro!B159),\"\",InfoPro!B159)","v":"Bongos I 9.90 MW"},{"$f":"IF(ISBLANK(InfoPro!E159),\"\",InfoPro!E159)","v":9.9},{"$f":"IF(ISBLANK(InfoPro!C159),\"\",InfoPro!C159)","v":"2022-08-24"},{"$f":"IF(ISBLANK(InfoPro!D159),\"\",InfoPro!D159)","v":"9:23 pm"},{"$f":"IF(ISBLANK(InfoPro!L159),\"\",InfoPro!L159)","v":"NO"},{"$f":"'IT-TA'!H159","v":0},{"$f":"IFERROR('BT-Confi'!Y166,\"\")","v":513690.98958057474},{"$f":"IFERROR('BT-Flex'!Y166,\"\")","v":0},{"$f":"IFERROR('EC-RE'!Z166,\"\")","v":746796.56507960113},{"$f":"IFERROR('EC-RP'!Z165,\"\")","v":1700912.1211109257},{"$f":"IFERROR('EC-Per'!W165,\"\")","v":-841377.78610693617},{"$f":"IFERROR('EC-Mar'!Y165,\"\")","v":1700912.1211109257},0,5169312.6721988246,4655621.6826182501,5402418.2476978516,6356533.8037291756,3814243.896511314,6356533.8037291756,4655621.6826182501,29973083.709405478]
[{"$f":"IF(ISBLANK(InfoPro!A160),\"\",InfoPro!A160)","v":"SC_1825_A1"},{"$f":"IF(ISBLANK(InfoPro!H160),\"\",InfoPro!H160)","v":"SC_1825"},{"$f":"IF(ISBLANK(InfoPro!B160),\"\",InfoPro!B160)","v":"PROYECTO DE GENERACIÓN ELÉCTRICA EL JOBO_200MW"},{"$f":"IF(ISBLANK(InfoPro!E160),\"\",InfoPro!E160)","v":200},{"$f":"IF(ISBLANK(InfoPro!C160),\"\",InfoPro!C160)","v":"2022-08-26"},{"$f":"IF(ISBLANK(InfoPro!D160),\"\",InfoPro!D160)","v":"3:18 pm"},{"$f":"IF(ISBLANK(InfoPro!L160),\"\",InfoPro!L160)","v":"NO"},{"$f":"'IT-TA'!H160","v":0},{"$f":"IFERROR('BT-Confi'!Y167,\"\")","v":7434482.6452442221},{"$f":"IFERROR('BT-Flex'!Y167,\"\")","v":691570.16542336764},{"$f":"IFERROR('EC-RE'!Z167,\"\")","v":-3724723.8093022057},{"$f":"IFERROR('EC-RP'!Z166,\"\")","v":-3079703.3405512278},{"$f":"IFERROR('EC-Per'!W166,\"\")","v":-417951.21983805922},{"$f":"IFERROR('EC-Mar'!Y166,\"\")","v":-3079703.3405512278},0,12090104.327862471,5347191.8480416182,930897.87331604445,1575918.3420670223,4237670.4627801906,1575918.3420670223,4655621.6826182501,26366428.529886335]
[{"$f":"IF(ISBLANK(InfoPro!A161),\"\",InfoPro!A161)","v":"SC_1897_A1"},{"$f":"IF(ISBLANK(InfoPro!H161),\"\",InfoPro!H161)","v":"SC_1897"},{"$f":"IF(ISBLANK(InfoPro!B161),\"\",InfoPro!B161)","v":"La Florecita 90 MW"},{"$f":"IF(ISBLANK(InfoPro!E161),\"\",InfoPro!E161)","v":90},{"$f":"IF(ISBLANK(InfoPro!C161),\"\",InfoPro!C161)","v":"2022-08-26"},{"$f":"IF(ISBLANK(InfoPro!D161),\"\",InfoPro!D161)","v":"20:37:00"},{"$f":"IF(ISBLANK(InfoPro!L161),\"\",InfoPro!L161)","v":"NO"},{"$f":"'IT-TA'!H161","v":0},{"$f":"IFERROR('BT-Confi'!Y168,\"\")","v":410977.77911342983},{"$f":"IFERROR('BT-Flex'!Y168,\"\")","v":0},{"$f":"IFERROR('EC-RE'!Z168,\"\")","v":597473.57845725107},{"$f":"IFERROR('EC-RP'!Z167,\"\")","v":1360812.4342847448},{"$f":"IFERROR('EC-Per'!W167,\"\")","v":-31445.230758514379},{"$f":"IFERROR('EC-Mar'!Y167,\"\")","v":1360812.4342847448},0,5066599.4617316797,4655621.6826182501,5253095.2610755013,6016434.1169029949,4624176.4518597359,6016434.1169029949,4655621.6826182501,30020830.537425131]
[{"$f":"IF(ISBLANK(InfoPro!A162),\"\",InfoPro!A162)","v":"SC_1897_A2"},{"$f":"IF(ISBLANK(InfoPro!H162),\"\",InfoPro!H162)","v":"SC_1897"},{"$f":"IF(ISBLANK(InfoPro!B162),\"\",InfoPro!B162)","v":"La Florecita 90 MW"},{"$f":"IF(ISBLANK(InfoPro!E162),\"\",InfoPro!E162)","v":90},{"$f":"IF(ISBLANK(InfoPro!C162),\"\",InfoPro!C162)","v":"2022-08-26"},{"$f":"IF(ISBLANK(InfoPro!D162),\"\",InfoPro!D162)","v":"20:37:00"},{"$f":"IF(ISBLANK(InfoPro!L162),\"\",InfoPro!L162)","v":"NO"},{"$f":"'IT-TA'!H162","v":0},{"$f":"IFERROR('BT-Confi'!Y169,\"\")","v":410977.77911342983},{"$f":"IFERROR('BT-Flex'!Y169,\"\")","v":0},{"$f":"IFERROR('EC-RE'!Z169,\"\")","v":597473.57845725107},{"$f":"IFERROR('EC-RP'!Z168,\"\")","v":1360812.4342847448},{"$f":"IFERROR('EC-Per'!W168,\"\")","v":-26927.4999183693},{"$f":"IFERROR('EC-Mar'!Y168,\"\")","v":1360812.4342847448},0,5066599.4617316797,4655621.6826182501,5253095.2610755013,6016434.1169029949,4628694.1826998806,6016434.1169029949,4655621.6826182501,30025348.268265277]
[{"$f":"IF(ISBLANK(InfoPro!A163),\"\",InfoPro!A163)","v":"SC_2014_A1"},{"$f":"IF(ISBLANK(InfoPro!H163),\"\",InfoPro!H163)","v":"SC_2014"},{"$f":"IF(ISBLANK(InfoPro!B163),\"\",InfoPro!B163)","v":"Lotería 2"},{"$f":"IF(ISBLANK(InfoPro!E163),\"\",InfoPro!E163)","v":9.9},{"$f":"IF(ISBLANK(InfoPro!C163),\"\",InfoPro!C163)","v":"2022-08-29"},{"$f":"IF(ISBLANK(InfoPro!D163),\"\",InfoPro!D163)","v":"12:49 pm"},{"$f":"IF(ISBLANK(InfoPro!L163),\"\",InfoPro!L163)","v":"NO"},{"$f":"'IT-TA'!H163","v":0},{"$f":"IFERROR('BT-Confi'!Y170,\"\")","v":513690.98958057474},{"$f":"IFERROR('BT-Flex'!Y170,\"\")","v":0},{"$f":"IFERROR('EC-RE'!Z170,\"\")","v":746796.56507960113},{"$f":"IFERROR('EC-RP'!Z169,\"\")","v":1700912.1211109257},{"$f":"IFERROR('EC-Per'!W169,\"\")","v":850325.77208616876},{"$f":"IFERROR('EC-Mar'!Y169,\"\")","v":1700912.1211109257},0,5169312.6721988246,4655621.6826182501,5402418.2476978516,6356533.8037291756,5505947.4547044188,6356533.8037291756,4655621.6826182501,31664787.267598584]
[{"$f":"IF(ISBLANK(InfoPro!A164),\"\",InfoPro!A164)","v":"SC_2014_A2"},{"$f":"IF(ISBLANK(InfoPro!H164),\"\",InfoPro!H164)","v":"SC_2014"},{"$f":"IF(ISBLANK(InfoPro!B164),\"\",InfoPro!B164)","v":"Lotería 2"},{"$f":"IF(ISBLANK(InfoPro!E164),\"\",InfoPro!E164)","v":9.9},{"$f":"IF(ISBLANK(InfoPro!C164),\"\",InfoPro!C164)","v":"2022-08-29"},{"$f":"IF(ISBLANK(InfoPro!D164),\"\",InfoPro!D164)","v":"12:49 pm"},{"$f":"IF(ISBLANK(InfoPro!L164),\"\",InfoPro!L164)","v":"NO"},{"$f":"'IT-TA'!H164","v":0},{"$f":"IFERROR('BT-Confi'!Y171,\"\")","v":513690.98958057474},{"$f":"IFERROR('BT-Flex'!Y171,\"\")","v":0},{"$f":"IFERROR('EC-RE'!Z171,\"\")","v":746796.56507960113},{"$f":"IFERROR('EC-RP'!Z170,\"\")","v":1700912.1211109257},{"$f":"IFERROR('EC-Per'!W170,\"\")","v":521120.01926813723},{"$f":"IFERROR('EC-Mar'!Y170,\"\")","v":1700912.1211109257},0,5169312.6721988246,4655621.6826182501,5402418.2476978516,6356533.8037291756,5176741.7018863875,6356533.8037291756,4655621.6826182501,31335581.514780555]
[{"$f":"IF(ISBLANK(InfoPro!A165),\"\",InfoPro!A165)","v":"SC_2017_A1"},{"$f":"IF(ISBLANK(InfoPro!H165),\"\",InfoPro!H165)","v":"SC_2017"},{"$f":"IF(ISBLANK(InfoPro!B165),\"\",InfoPro!B165)","v":"LOTERÍA 1"},{"$f":"IF(ISBLANK(InfoPro!E165),\"\",InfoPro!E165)","v":9.9},{"$f":"IF(ISBLANK(InfoPro!C165),\"\",InfoPro!C165)","v":"2022-08-29"},{"$f":"IF(ISBLANK(InfoPro!D165),\"\",InfoPro!D165)","v":"12:58 pm"},{"$f":"IF(ISBLANK(InfoPro!L165),\"\",InfoPro!L165)","v":"NO"},{"$f":"'IT-TA'!H165","v":0},{"$f":"IFERROR('BT-Confi'!Y172,\"\")","v":513690.98958057474},{"$f":"IFERROR('BT-Flex'!Y172,\"\")","v":0},{"$f":"IFERROR('EC-RE'!Z172,\"\")","v":746796.56507960113},{"$f":"IFERROR('EC-RP'!Z171,\"\")","v":1700912.1211109257},{"$f":"IFERROR('EC-Per'!W171,\"\")","v":850325.77208616876},{"$f":"IFERROR('EC-Mar'!Y171,\"\")","v":1700912.1211109257},0,5169312.6721988246,4655621.6826182501,5402418.2476978516,6356533.8037291756,5505947.4547044188,6356533.8037291756,4655621.6826182501,31664787.267598584]
[{"$f":"IF(ISBLANK(InfoPro!A166),\"\",InfoPro!A166)","v":"SC_2017_A2"},{"$f":"IF(ISBLANK(InfoPro!H166),\"\",InfoPro!H166)","v":"SC_2017"},{"$f":"IF(ISBLANK(InfoPro!B166),\"\",InfoPro!B166)","v":"LOTERÍA 1"},{"$f":"IF(ISBLANK(InfoPro!E166),\"\",InfoPro!E166)","v":9.9},{"$f":"IF(ISBLANK(InfoPro!C166),\"\",InfoPro!C166)","v":"2022-08-29"},{"$f":"IF(ISBLANK(InfoPro!D166),\"\",InfoPro!D166)","v":"12:58 pm"},{"$f":"IF(ISBLANK(InfoPro!L166),\"\",InfoPro!L166)","v":"NO"},{"$f":"'IT-TA'!H166","v":0},{"$f":"IFERROR('BT-Confi'!Y173,\"\")","v":513690.98958057474},{"$f":"IFERROR('BT-Flex'!Y173,\"\")","v":0},{"$f":"IFERROR('EC-RE'!Z173,\"\")","v":746796.56507960113},{"$f":"IFERROR('EC-RP'!Z172,\"\")","v":1700912.1211109257},{"$f":"IFERROR('EC-Per'!W172,\"\")","v":521120.01926813723},{"$f":"IFERROR('EC-Mar'!Y172,\"\")","v":1700912.1211109257},0,5169312.6721988246,4655621.6826182501,5402418.2476978516,6356533.8037291756,5176741.7018863875,6356533.8037291756,4655621.6826182501,31335581.514780555]
[{"$f":"IF(ISBLANK(InfoPro!A167),\"\",InfoPro!A167)","v":"SC_2165_A1"},{"$f":"IF(ISBLANK(InfoPro!H167),\"\",InfoPro!H167)","v":"SC_2165"},{"$f":"IF(ISBLANK(InfoPro!B167),\"\",InfoPro!B167)","v":"Autogeneración Solar Fotovoltaica 9.9 MW (entrega de excedentes de 0)"},{"$f":"IF(ISBLANK(InfoPro!E167),\"\",InfoPro!E167)","v":0},{"$f":"IF(ISBLANK(InfoPro!C167),\"\",InfoPro!C167)","v":"2022-08-30"},{"$f":"IF(ISBLANK(InfoPro!D167),\"\",InfoPro!D167)","v":"11:20 am"},{"$f":"IF(ISBLANK(InfoPro!L167),\"\",InfoPro!L167)","v":"NO"},{"$f":"'IT-TA'!H167","v":0},{"$f":"IFERROR('BT-Confi'!Y174,\"\")","v":0},{"$f":"IFERROR('BT-Flex'!Y174,\"\")","v":0},{"$f":"IFERROR('EC-RE'!Z174,\"\")","v":0},{"$f":"IFERROR('EC-RP'!Z173,\"\")","v":0},{"$f":"IFERROR('EC-Per'!W173,\"\")","v":0},{"$f":"IFERROR('EC-Mar'!Y173,\"\")","v":0},0,4655621.6826182501,4655621.6826182501,4655621.6826182501,4655621.6826182501,4655621.6826182501,4655621.6826182501,4655621.6826182501,27002605.759185851]
[{"$f":"IF(ISBLANK(InfoPro!A168),\"\",InfoPro!A168)","v":"SC_1820\n_A1"},{"$f":"IF(ISBLANK(InfoPro!H168),\"\",InfoPro!H168)","v":"SC_1820\n"},{"$f":"IF(ISBLANK(InfoPro!B168),\"\",InfoPro!B168)","v":"NAIOT"},{"$f":"IF(ISBLANK(InfoPro!E168),\"\",InfoPro!E168)","v":19.899999999999999},{"$f":"IF(ISBLANK(InfoPro!C168),\"\",InfoPro!C168)","v":"2022-08-31"},{"$f":"IF(ISBLANK(InfoPro!D168),\"\",InfoPro!D168)","v":"8:46 am"},{"$f":"IF(ISBLANK(InfoPro!L168),\"\",InfoPro!L168)","v":"NO"},{"$f":"'IT-TA'!H168","v":0},{"$f":"IFERROR('BT-Confi'!Y175,\"\")","v":513690.98958057468},{"$f":"IFERROR('BT-Flex'!Y175,\"\")","v":0},{"$f":"IFERROR('EC-RE'!Z175,\"\")","v":746796.56507960102},{"$f":"IFERROR('EC-RP'!Z174,\"\")","v":1700912.1211109255},{"$f":"IFERROR('EC-Per'!W174,\"\")","v":55505.819390346864},{"$f":"IFERROR('EC-Mar'!Y174,\"\")","v":1700912.1211109255},0,5169312.6721988246,4655621.6826182501,5402418.2476978507,6356533.8037291756,4711127.5020085974,6356533.8037291756,4655621.6826182501,30869967.31490276]
[{"$f":"IF(ISBLANK(InfoPro!A169),\"\",InfoPro!A169)","v":"SC_1820\n_A2"},{"$f":"IF(ISBLANK(InfoPro!H169),\"\",InfoPro!H169)","v":"SC_1820\n"},{"$f":"IF(ISBLANK(InfoPro!B169),\"\",InfoPro!B169)","v":"NAIOT"},{"$f":"IF(ISBLANK(InfoPro!E169),\"\",InfoPro!E169)","v":19.899999999999999},{"$f":"IF(ISBLANK(InfoPro!C169),\"\",InfoPro!C169)","v":"2022-08-31"},{"$f":"IF(ISBLANK(InfoPro!D169),\"\",InfoPro!D169)","v":"8:46 am"},{"$f":"IF(ISBLANK(InfoPro!L169),\"\",InfoPro!L169)","v":"NO"},{"$f":"'IT-TA'!H169","v":0},{"$f":"IFERROR('BT-Confi'!Y176,\"\")","v":513690.98958057468},{"$f":"IFERROR('BT-Flex'!Y176,\"\")","v":0},{"$f":"IFERROR('EC-RE'!Z176,\"\")","v":746796.56507960102},{"$f":"IFERROR('EC-RP'!Z175,\"\")","v":1700912.1211109255},{"$f":"IFERROR('EC-Per'!W175,\"\")","v":-128234.00181789976},{"$f":"IFERROR('EC-Mar'!Y175,\"\")","v":1700912.1211109255},0,5169312.6721988246,4655621.6826182501,5402418.2476978507,6356533.8037291756,4527387.6808003504,6356533.8037291756,4655621.6826182501,30686227.49369451]
[{"$f":"IF(ISBLANK(InfoPro!A170),\"\",InfoPro!A170)","v":"SC_2325_A1"},{"$f":"IF(ISBLANK(InfoPro!H170),\"\",InfoPro!H170)","v":"SC_2325"},{"$f":"IF(ISBLANK(InfoPro!B170),\"\",InfoPro!B170)","v":"PROYECTO FOTOVOLTAICO MONTERROSO DE 99,9 MW"},{"$f":"IF(ISBLANK(InfoPro!E170),\"\",InfoPro!E170)","v":99.9},{"$f":"IF(ISBLANK(InfoPro!C170),\"\",InfoPro!C170)","v":"2022-09-01"},{"$f":"IF(ISBLANK(InfoPro!D170),\"\",InfoPro!D170)","v":"2:58 pm"},{"$f":"IF(ISBLANK(InfoPro!L170),\"\",InfoPro!L170)","v":"NO"},{"$f":"'IT-TA'!H170","v":0},{"$f":"IFERROR('BT-Confi'!Y177,\"\")","v":410977.77911343001},{"$f":"IFERROR('BT-Flex'!Y177,\"\")","v":0},{"$f":"IFERROR('EC-RE'!Z177,\"\")","v":597473.57845725131},{"$f":"IFERROR('EC-RP'!Z176,\"\")","v":1360812.434284745},{"$f":"IFERROR('EC-Per'!W176,\"\")","v":-35247.173336527776},{"$f":"IFERROR('EC-Mar'!Y176,\"\")","v":1360812.434284745},0,5066599.4617316797,4655621.6826182501,5253095.2610755013,6016434.1169029949,4620374.5092817228,6016434.1169029949,4655621.6826182501,30017028.59484712]
[{"$f":"IF(ISBLANK(InfoPro!A171),\"\",InfoPro!A171)","v":"SC_2325_A2"},{"$f":"IF(ISBLANK(InfoPro!H171),\"\",InfoPro!H171)","v":"SC_2325"},{"$f":"IF(ISBLANK(InfoPro!B171),\"\",InfoPro!B171)","v":"PROYECTO FOTOVOLTAICO MONTERROSO DE 99,9 MW"},{"$f":"IF(ISBLANK(InfoPro!E171),\"\",InfoPro!E171)","v":99.9},{"$f":"IF(ISBLANK(InfoPro!C171),\"\",InfoPro!C171)","v":"2022-09-01"},{"$f":"IF(ISBLANK(InfoPro!D171),\"\",InfoPro!D171)","v":"2:58 pm"},{"$f":"IF(ISBLANK(InfoPro!L171),\"\",InfoPro!L171)","v":"NO"},{"$f":"'IT-TA'!H171","v":0},{"$f":"IFERROR('BT-Confi'!Y178,\"\")","v":410977.77911343001},{"$f":"IFERROR('BT-Flex'!Y178,\"\")","v":0},{"$f":"IFERROR('EC-RE'!Z178,\"\")","v":597473.57845725131},{"$f":"IFERROR('EC-RP'!Z177,\"\")","v":1360812.434284745},{"$f":"IFERROR('EC-Per'!W177,\"\")","v":-39513.301111487839},{"$f":"IFERROR('EC-Mar'!Y177,\"\")","v":1360812.434284745},0,5066599.4617316797,4655621.6826182501,5253095.2610755013,6016434.1169029949,4616108.3815067625,6016434.1169029949,4655621.6826182501,30012762.467072159]