{"text_format":"1","workbook":"xlsx","n_sheets":13,"sheets":["General","Tablas","InfoPro","Hoja1","IT-TA","EC-RE","EC-RP","EC-Per","EC-Mar","EC-Mar2","BT-Flex","BT-Confi","Resumen"],"not_rendered":{"charts":0,"images":0,"macros":1,"external_links":0,"defined_names":5,"comments":4,"pivot_tables":0},"unopened":[],"bounds":{"document_bytes":16777216,"sheet_cells":100000,"rows_first":2000,"rows_last":500,"rows_between":2000,"halvings":0,"cell_chars":16384,"cell_head_chars":4096},"cells_cut":0,"cells_raw":0,"read":"whole","date_system":"1900"}

{"sheet":"General","index":0,"n_rows":17,"n_cols":5,"rows_kept":17,"cut":false,"hidden":false,"merged":[[2,1,2,2],[0,1,1,5]]}
[null,"Módulo de Ingreso de Información"]
[]
[]
[]
[null,"Código"]
[null,"Nombre",null,null,"Permisos Ambiental obtenida"]
[null,"Fecha Radicación"]
[null,"Hora Radicación"]
[null,"Capacidad (MW)"]
[null,"Tecnología",null,null,"Costo Activos de Uso ($COP)"]
[null,"Barra 1",null,null,"Delta pérdidas (GWh)"]
[null,"Código Asociado",null,null,"Reducción Marginal VPN ($COP)"]
[null,"FPO"]
[null,"FPO 2"]
[null,"Obligaciones"]
[null,"Requiere Expansión"]
[null,"Área Eléctrica"]

{"sheet":"Tablas","index":1,"n_rows":19,"n_cols":23,"rows_kept":19,"cut":false,"hidden":false,"merged":[]}
[null,"Tecnologia","Factor de planta","Iflex","IE-RP","Factor ENFICC","Factor emisiones","Oferta promedio","Comentarios","Area Eléctrica",null,null,null,"FPO",null,"Fecha Radicacion","Hora Radicacion",null,"Gestion Ambiental",null,"Consulta Previa",null,"Permiso Arquelogico"]
[null,"Solar FV",0.26,0,0.31905022790180565,0.15,0,83577.200000000012,"Los parámetros fueron calculados conforme a la metodología presentada en la Circular UPME 057 de 2022.","Altántico",null,"SI",null,"2023-01-01",null,"2022-01-01","00:00:00",null,"No hay avances",null,"No hay avances",null,"No hay avances"]
[null,"Eólico Onshore",0.56999999999999995,0,0.31905022790180565,0.06,0,83577.200000000012,"Los parámetros fueron calculados conforme a la metodología presentada en la Circular UPME 057 de 2022.","Bolívar",null,"NO",null,"2037-12-31",null,"2022-03-31","23:59:59",null,"EIA",null,"Resolución. No Procede",null,"Aprobado"]
[null,"Eólico Offshore",0.56999999999999995,0,0.31905022790180565,0.06,0,83577.200000000012,"Los parámetros fueron calculados conforme a la metodología presentada en la Circular UPME 057 de 2022.","Córdoba - Sucre, Chinú",null,null,null,null,null,null,null,null,"LA",null,"Resolución. Si Procede",null,"No Aplica"]
[null,"Biomasa y Residuos",0.7,0.25,0.31905022790180565,0.83,0.37,83577.200000000012,"Los parámetros fueron calculados conforme a la metodología presentada en la Circular UPME 057 de 2022.","Córdoba - Sucre, Cerromatoso",null,null,null,null,null,null,null,null,"PA",null,"Finalizada"]
[null,"Geotérmica",0.8,0.25,0.31905022790180565,0.7,0,83577.200000000012,"Los parámetros fueron calculados conforme a la metodología presentada en la Circular UPME 057 de 2022.","Guajira - Cesar - Madgalena",null,null,null,null,null,null,null,null,"No Aplica"]
[null,"PCH",0.54,0.61,0.15509303371404598,0.15,0,158280.5,"Los parámetros fueron calculados conforme a la metodología presentada en la Circular UPME 057 de 2022.","Santander"]
[null,"Termica - Ciclo abierto",0.85,0.4,-0.57617415807300276,0.83,0.95,267152.5,"Los parámetros fueron calculados conforme a la metodología presentada en la Circular UPME 057 de 2022.","Norte de Santander"]
[null,"Termica - Ciclo combinado",0.85,0.27,-0.57617415807300276,0.83,0.95,267152.5,"Los parámetros fueron calculados conforme a la metodología presentada en la Circular UPME 057 de 2022.","Boyacá - Casanare"]
[null,"Termica a vapor",0.85,0.25,-0.57617415807300276,0.83,0.37,267152.5,"Los parámetros fueron calculados conforme a la metodología presentada en la Circular UPME 057 de 2022.","Arauca"]
[null,"Termica - diesel",0.85,0.6,-4.2828265705485453,0.83,0.77,709472.9,"Los parámetros fueron calculados conforme a la metodología presentada en la Circular UPME 057 de 2022.","Antioquia"]
[null,"Hidraulica",0.6,0.61,0.15509303371404598,0.31,0,158280.5,"Los parámetros fueron calculados conforme a la metodología presentada en la Circular UPME 057 de 2022.","Chocó"]
[null,"Cogeneracion",0.85,0.1,0.31905022790180565,0.83,0.37,83577.200000000012,"Los parámetros fueron calculados conforme a la metodología presentada en la Circular UPME 057 de 2022.","Bogotá"]
[null,null,null,null,null,null,null,null,null,"Meta - Guaviare"]
[null,null,null,null,null,null,null,null,null,"Caldas - Quidio - Risaralda"]
[null,null,null,null,null,null,null,null,null,"Valle"]
[null,null,null,null,null,null,null,null,null,"Cauca - Nariño"]
[null,null,null,null,null,null,null,null,null,"Tolima - Huila Caquetá"]
[null,null,null,null,null,null,null,null,null,"Putumayo"]

{"sheet":"InfoPro","index":2,"n_rows":278,"n_cols":18,"rows_kept":278,"cut":false,"hidden":false,"merged":[]}
["Código","Nombre","Fecha Radicación","Hora Radicación","Capacidad","Tipo","Barra 1","Código Asociado","FPO","FPO 2","Obligaciones","Requiere Expansión","Area Eléctrica","Permisos Ambiental obtenida","Costo Activos de Uso","Pérdidas reportadas","orden","fila"]
["\tSC_1373_A1","Pétalo del Magdalena II Guacamayal","2022-07-15",44774.76666666667,9.9,"Solar FV","Guacamayal 13.8","\t\nSC_1373","2026-12-31","2026-12-31","NO","NO","Guajira - Cesar - Madgalena","NO",0,0.58801999999999999,185,{"$f":"IF(L2=\"NO\",2,1)","v":2}]
["\tSC_1373_A2","Pétalo del Magdalena II Guacamayal","2022-07-15",44774.76666666667,9.9,"Solar FV","Guacamayal 34.5","\t\nSC_1373","2026-12-31","2026-12-31","NO","NO","Guajira - Cesar - Madgalena","NO",0,0.61402999999999996,184,2]
["SC_1012_A1","PARQUE SOLAR FOTOVOLTAICO TUNA","2022-07-15",44757,100,"Solar FV","San Juan 220","SC_1012","2026-12-31","2026-12-31","NO","NO","Guajira - Cesar - Madgalena","NO",0,-13.02,85,2]
["SC_1012_A2","PARQUE SOLAR FOTOVOLTAICO TUNA","2022-07-15",44757,100,"Solar FV","Valledupar 220","SC_1012","2026-12-31","2026-12-31","NO","NO","Guajira - Cesar - Madgalena","NO",0,-10.68,84,2]
["SC_1077_A1","Nevada I 90 MW","2022-07-18",44760,90,"Eólico Onshore","Cuestecita 220 II","SC_1077","2030-12-31","2030-12-31","NO","NO","Guajira - Cesar - Madgalena","NO",0,-5.6980000000000004,148,2]
["SC_1077_A2","Nevada I 90 MW","2022-07-18",44760,90,"Eólico Onshore","Cuestecitas 500","SC_1077","2030-12-31","2030-12-31","NO","NO","Guajira - Cesar - Madgalena","NO",0,-5.4930000000000003,147,2]
["SC_1135_A1","Parque Eólico Brisas 1","2022-07-18",44760,200,"Eólico Onshore","Colectora 2 500 kV\n","SC_1135","2028-12-31","2028-12-31","NO","SI","Guajira - Cesar - Madgalena","NO",0,-3.14,146,1]
["SC_1135_A2","Parque Eólico Brisas 1","2022-07-18",44760,200,"Eólico Onshore","Colectora 1 Eolica 500","SC_1135","2028-12-31","2028-12-31","NO","NO","Guajira - Cesar - Madgalena","NO",0,-12.42,145,2]
["SC_1154_A1","Parque Eólico Brisas 2","2022-07-18",44760,200,"Eólico Onshore","Colectora 2 500 kV\n","SC_1154","2029-12-31","2029-12-31","NO","SI","Guajira - Cesar - Madgalena","NO",0,-7.9,144,1]
["SC_1154_A2","Parque Eólico Brisas 2","2022-07-18",44760,200,"Eólico Onshore","Colectora 1 Eolica 500","SC_1154","2029-12-31","2029-12-31","NO","SI","Guajira - Cesar - Madgalena","NO",0,-12.55,143,1]
["SC_1161_A1","Parque Eólico Brisas 3","2022-07-18",44760,200,"Eólico Onshore","Colectora 2 500 kV\n","SC_1161","2030-12-31","2030-12-31","NO","SI","Guajira - Cesar - Madgalena","NO",0,-8.43,142,1]
["SC_1161_A2","Parque Eólico Brisas 3","2022-07-18",44760,200,"Eólico Onshore","Colectora 1 Eolica 500","SC_1161","2030-12-31","2030-12-31","NO","SI","Guajira - Cesar - Madgalena","NO",0,-12.59,141,1]
["SC_1211_A1","Planta Solar FV Caracolicitos 69MW","2022-07-18",44760,69,"Solar FV","Copey 110","SC_1211","2026-12-31","2026-12-31","NO","NO","Guajira - Cesar - Madgalena","NO",0,-0.91854999999999998,140,2]
["SC_1211_A2","Planta Solar FV Caracolicitos 69MW","2022-07-18",44760,69,"Solar FV","Copey 220","SC_1211","2026-12-31","2026-12-31","NO","NO","Guajira - Cesar - Madgalena","NO",0,-1.2177100000000001,139,2]
["SC_1218_A1","Las Flores 150 MW","2022-01-22T09:23:00",44583.390972222223,150,"Solar FV","Codazzi GCM 110","SC_1218","2025-12-31","2025-12-31","NO","SI","Guajira - Cesar - Madgalena","NO",34545310000,-19.747730000000001,5,1]
["SC_1223_A1","Parque Eolico Sirius","2022-07-15",44757,100,"Eólico Onshore","San Juan 220","SC_1223","2025-12-31","2025-12-31","NO","NO","Guajira - Cesar - Madgalena","NO",0,-15.44042,83,2]
["SC_1232_A1","La Paz Solar 9,9 MW","2022-07-15",44757,9.9,"Solar FV","La paz 13.8","SC_1232","2025-12-31","2025-12-31","NO","NO","Guajira - Cesar - Madgalena","NO",0,0.76151999999999997,82,2]
["SC_1232_A2","La Paz Solar 9,9 MW","2022-07-15",44757,9.9,"Solar FV","La paz 34.5","SC_1232","2025-12-31","2025-12-31","NO","NO","Guajira - Cesar - Madgalena","NO",0,0.77578000000000003,81,2]
["SC_1239_A1","El Carmen","2022-07-15",44757,104.5,"Eólico Onshore","San Juan 220","SC_1239","2027-12-01","2027-12-01","NO","SI","Guajira - Cesar - Madgalena","NO",42787000000,-45.85635113,80,1]
["SC_1239_A2","El Carmen","2022-07-15",44757,104.5,"Eólico Onshore","San Juan 500 kV","SC_1239","2027-12-01","2027-12-01","NO","SI","Guajira - Cesar - Madgalena","NO",123083000000,-46.026992550000003,79,1]
["SC_1244_A1","Proyecto Maria","2022-07-17",44759,120,"Eólico Onshore","San Juan 220","SC_1244","2026-12-31","2026-12-31","NO","NO","Guajira - Cesar - Madgalena","NO",0,-70.349999999999994,106,2]
["SC_1252_A1","Parque Eólico Neptuno","2022-07-15",44757,150,"Eólico Onshore","San Juan 220","SC_1252","2026-12-31","2026-12-31","NO","SI","Guajira - Cesar - Madgalena","NO",40503820000,-25.3566,78,1]
["SC_1262_A1","Parque Solar Australe de 251 MW (entrega 200 MW)","2022-07-17",44759,200,"Solar FV","La Loma 500","SC_1262","2026-11-19","2026-11-19","NO","NO","Guajira - Cesar - Madgalena","NO",0,-8.49,105,2]
["SC_1262_A2","Parque Solar Australe de 251 MW (entrega 200 MW)","2022-07-17",44759,200,"Solar FV","La Loma 110","SC_1262","2026-11-19","2026-11-19","NO","NO","Guajira - Cesar - Madgalena","NO",0,-11.18,104,2]
["SC_1264_A1","Parque Solar Galus de 133 MW (entrega 110 MW)","2022-07-17",44759,110,"Solar FV","Copey 220","SC_1264","2027-11-25","2027-11-25","NO","NO","Guajira - Cesar - Madgalena","NO",0,-6.63,103,2]
["SC_1264_A2","Parque Solar Galus de 133 MW (entrega 110 MW)","2022-07-17",44759,110,"Solar FV","Copey 110","SC_1264","2027-11-25","2027-11-25","NO","NO","Guajira - Cesar - Madgalena","NO",0,-6.2,102,2]
["SC_1266_A1","Parque Solar Fornax DE 127 MW (Entrega 105 MW)","2022-07-17",44759,105,"Solar FV","Fundacion 220","SC_1266","2027-11-30","2027-11-30","NO","NO","Guajira - Cesar - Madgalena","NO",0,-5.21,101,2]
["SC_1266_A2","Parque Solar Fornax DE 127 MW (Entrega 105 MW)","2022-07-17",44759,105,"Solar FV","Fundacion 110","SC_1266","2027-11-30","2027-11-30","NO","NO","Guajira - Cesar - Madgalena","NO",0,-7.24,100,2]
["SC_1272_A1","Guacamayal Solar de 9,9 MW","2022-07-15",44757,9.9,"Solar FV","Guacamayal 34.5","SC_1272","2024-12-31","2024-12-31","NO","NO","Guajira - Cesar - Madgalena","NO",0,3.5129999999999999,77,2]
["SC_1272_A2","Guacamayal Solar de 9,9 MW","2022-07-15",44757,9.9,"Solar FV","Guacamayal 13.8","SC_1272","2024-12-31","2024-12-31","NO","NO","Guajira - Cesar - Madgalena","NO",0,1.728,76,2]
["SC_1293_A1","Leo Solar II","2022-07-18",44760,80,"Solar FV","San Juan 220","SC_1293","2025-06-30","2025-06-30","NO","NO","Guajira - Cesar - Madgalena","NO",0,-1.93,138,2]
["SC_1293_A2","Leo Solar II","2022-07-18",44760,80,"Solar FV","San Juan 110","SC_1293","2025-06-30","2025-06-30","NO","NO","Guajira - Cesar - Madgalena","NO",0,-6.81,137,2]
["SC_1306_A1","Leo Solar I","2022-07-18",44760,19.899999999999999,"Solar FV","San Juan 110","SC_1306","2025-06-30","2025-06-30","NO","NO","Guajira - Cesar - Madgalena","NO",0,-2.87,136,2]
["SC_1306_A2","Leo Solar I","2022-07-18",44760,19.899999999999999,"Solar FV","SAN JUAN 1 34.5 kV","SC_1306","2025-06-30","2025-06-30","NO","NO","Guajira - Cesar - Madgalena","NO",0,-2.7,135,2]
["SC_1311_A1","Elipse de 200 MW","2022-07-16T15:46:00",44758.656944444447,200,"Eólico Onshore","Cuestecitas 500","SC_1311","2025-12-31","2025-12-31","NO","NO","Guajira - Cesar - Madgalena","NO",0,9.872109,91,2]
["SC_1312_A1","Omega de 300 MW","2022-07-16T15:49:00",44758.65902777778,300,"Eólico Onshore","Cuestecitas 500","SC_1312","2028-12-31","2028-12-31","NO","NO","Guajira - Cesar - Madgalena","NO",0,18.305713000000001,92,2]
["SC_1313_A1","Kappa de 500 MW","2022-07-16T15:50:00",44758.659722222219,500,"Eólico Onshore","Colectora 1 Eolica 500","SC_1313","2027-12-31","2027-12-31","NO","NO","Guajira - Cesar - Madgalena","NO",0,110.777796,93,2]
["SC_1315_A1","Parque Eólico Cordobita - 50MW","2022-07-31T15:53:00",44773.661805555559,50,"Eólico Onshore","Rio Cordoba 110","SC_1315","2027-12-31","2027-12-31","NO","NO","Guajira - Cesar - Madgalena","NO",0,-0.02,174,2]
["SC_1315_A2","Parque Eólico Cordobita - 50MW","2022-07-31T15:53:00",44773.661805555559,50,"Eólico Onshore","Cienaga 110","SC_1315","2027-12-31","2027-12-31","NO","NO","Guajira - Cesar - Madgalena","NO",0,-1.49,173,2]
["SC_1317_A1","EÓLICA BONDA - 70MW","2022-07-31T15:54:00",44773.662499999999,70,"Eólico Onshore","Termocol 220","SC_1317","2027-12-31","2027-12-31","NO","NO","Guajira - Cesar - Madgalena","NO",0,-11,175,2]
["SC_1321_A1","OWF ASTROLABIO - 600 MW","2022-05-10T15:55:00",44691.663194444445,600,"Eólico Offshore","Cuestecitas 500","SC_1321","2034-12-31","2034-12-31","NO","NO","Guajira - Cesar - Madgalena","NO",0,0,14]
["SC_1321_A2","OWF ASTROLABIO - 600 MW","2022-05-10T15:55:00",44691.663194444445,825,"Eólico Offshore","Colectora 1 Eolica 500","SC_1321","2034-12-31","2034-12-31","NO","NO","Guajira - Cesar - Madgalena","NO",0,-174.94091,12,{"$f":"IF(L43=\"NO\",2,1)","v":2}]
["SC_1336_A1","AES Solar 4","2022-07-15",44757,300,"Solar FV","La Loma 500","SC_1336","2026-12-01","2026-12-01","NO","NO","Guajira - Cesar - Madgalena","NO",0,-24.83,75,2]
["SC_1336_A2","AES Solar 4","2022-07-15",44757,300,"Solar FV","El Copey 500","SC_1336","2026-12-01","2026-12-01","NO","NO","Guajira - Cesar - Madgalena","NO",0,-25.51,74,2]
["SC_1345_A1","Parque Eólico Jouttalein_150MW","2022-07-15",44757,150,"Eólico Onshore","Colectora 1 Eolica 500","SC_1345","2025-12-31","2025-12-31","NO","NO","Guajira - Cesar - Madgalena","NO",0,-25.41,73,2]
["SC_1345_A2","Parque Eólico Jouttalein_150MW","2022-07-15",44757,150,"Eólico Onshore","Cuestecitas 500","SC_1345","2025-12-31","2025-12-31","NO","NO","Guajira - Cesar - Madgalena","NO",0,-29.49,72,2]
["SC_1347_A1","AES Solar 5_100MW","2022-07-15",44757,100,"Solar FV","Cuestecitas 110","SC_1347","2026-12-01","2026-12-01","NO","NO","Guajira - Cesar - Madgalena","NO",0,-13.14,71,2]
["SC_1347_A2","AES Solar 5_100MW","2022-07-15",44757,100,"Solar FV","Cuestecita 220","SC_1347","2026-12-01","2026-12-01","NO","NO","Guajira - Cesar - Madgalena","NO",0,-13.09,70,2]
["SC_1355_A1","Barlovento 1","2022-08-09T17:16:00",44782.719444444447,500,"Eólico Offshore","Colectora 2 500 kV\n","SC_1355","2034-12-31","2034-12-31","NO","SI","Guajira - Cesar - Madgalena","NO",34163254699.999996,-97.834270000000004,198,1]
["SC_1356_A1","Sol de Zawady 9,9 MW","2022-07-15",44757,9.9,"Solar FV","Zawady 13.8","SC_1356","2024-12-31","2024-12-31","NO","NO","Guajira - Cesar - Madgalena","NO",0,-0.65,69,2]
["SC_1356_A2","Sol de Zawady 9,9 MW","2022-07-15",44757,9.9,"Solar FV","Zawady 34.5","SC_1356","2024-12-31","2024-12-31","NO","NO","Guajira - Cesar - Madgalena","NO",0,-0.69,68,2]
["SC_1366_A1","PARQUE SOLAR TÁNGARA 100 MW","2022-07-15",44757,100,"Solar FV","Copey 220","SC_1366","2026-12-31","2026-12-31","NO","NO","Guajira - Cesar - Madgalena","NO",0,-7.56,67,2]
["SC_1376_A1","Expansión La Loma I - 100 MW","2022-07-18T18:30:00",44760.770833333336,100,"Solar FV","La Loma 500","SC_1376","2027-12-31","2027-12-31","NO","NO","Guajira - Cesar - Madgalena","NO",0,-5.0599999999999996,152,2]
["SC_1376_A2","Expansión La Loma I - 100 MW","2022-07-18T18:30:00",44760.770833333336,100,"Solar FV","El Copey 500","SC_1376","2027-12-31","2027-12-31","NO","NO","Guajira - Cesar - Madgalena","NO",0,-4.6100000000000003,151,2]
["SC_1377_A1","Eólica Cordobita - 50MW","2022-08-01T18:31:00",44774.771527777775,50,"Eólico Onshore","Rio Cordoba 110","SC_1377","2027-12-31","2027-12-31","NO","NO","Guajira - Cesar - Madgalena","NO",0,-0.02,187,2]
["SC_1377_A2","Eólica Cordobita - 50MW","2022-08-01T18:31:00",44774.771527777775,50,"Eólico Onshore","Cienaga 110","SC_1377","2027-12-31","2027-12-31","NO","NO","Guajira - Cesar - Madgalena","NO",0,-1.49,186,2]
["SC_1380_A1","Parque Eólico Motosira","2022-07-17",44759,300,"Eólico Onshore","Colectora 1 Eolica 500","SC_1380","2026-12-31","2026-12-31","NO","NO","Guajira - Cesar - Madgalena","NO",0,-167.37635,99,2]
["SC_1380_A2","Parque Eólico Motosira","2022-07-17",44759,300,"Eólico Onshore","Colectora 2 500 kV","SC_1380","2026-12-31","2026-12-31","NO","SI","Guajira - Cesar - Madgalena","NO",3445186810262.52,-51.459000000000003,98,1]
["SC_1421_A1","Parque Solar Fotovoltaico SJ Solar 100 MW","2022-07-16",44758,100,"Solar FV","San Juan 220","SC_1421","2026-12-31","2026-12-31","NO","NO","Guajira - Cesar - Madgalena","NO",0,-2.35,90,2]
["SC_1421_A2","Parque Solar Fotovoltaico SJ Solar 100 MW","2022-07-16",44758,100,"Solar FV","San Juan 110","SC_1421","2026-12-31","2026-12-31","NO","NO","Guajira - Cesar - Madgalena","NO",0,-3.86,89,2]
["SC_1479_A1","Oslo I_150MW","2022-07-16",44758,150,"Solar FV","Fundacion 220","SC_1479","2026-12-31","2026-12-31","NO","NO","Guajira - Cesar - Madgalena","NO",0,-69.489999999999995,88,2]
["SC_1479_A2","Oslo I_150MW","2022-07-16",44758,150,"Solar FV","Copey 220","SC_1479","2026-12-31","2026-12-31","NO","NO","Guajira - Cesar - Madgalena","NO",0,-71.489999999999995,87,2]
["SC_1506_A1","Parque Solar Toro Moreno","2022-11-04T17:59:00",44869.749305555553,99.9,"Solar FV","San Juan 220","SC_1506","2021-12-31","2021-12-31","NO","NO","Guajira - Cesar - Madgalena","NO",0,-5.7930000000000001,278,2]
["SC_1506_A2","Parque Solar Toro Moreno","2022-11-04T17:59:00",44869.749305555553,99.9,"Solar FV","San Juan 110","SC_1506","2021-12-31","2021-12-31","NO","NO","Guajira - Cesar - Madgalena","NO",0,-7.3029999999999999,277,2]
["SC_1512_A1","El Flamingo\n  - 200 MW","2022-07-18",44760,200,"Solar FV","Cuestecita 220","SC_1512","2027-06-30","2027-06-30","NO","NO","Guajira - Cesar - Madgalena","NO",0,-50.97,134,2]
["SC_1512_A2","El Flamingo\n  - 200 MW","2022-07-18",44760,200,"Solar FV","Cuestecitas 500","SC_1512","2027-06-30","2027-06-30","NO","NO","Guajira - Cesar - Madgalena","NO",0,-43.35,133,2]
["SC_1518_A1","CHIRIGUANÁ - 300 MW","2022-07-18",44760,300,"Solar FV","La Loma 500","SC_1518","2027-12-31","2027-12-31","NO","NO","Guajira - Cesar - Madgalena","NO",0,-34.770000000000003,132,2]
["SC_1518_A2","CHIRIGUANÁ - 300 MW","2022-07-18",44760,300,"Solar FV","El Copey 500","SC_1518","2027-12-31","2027-12-31","NO","NO","Guajira - Cesar - Madgalena","NO",0,-33.270000000000003,131,2]
["SC_1531_A1","Haticos_56MW","2022-09-01",44760,56,"Solar FV","San Juan 110","SC_1531","2027-12-31","2027-12-31","NO","NO","Guajira - Cesar - Madgalena","NO",0,-14.23,130,2]
["SC_1531_A2","Haticos_56MW","2022-09-01",44760,56,"Solar FV","San Juan 220","SC_1531","2027-12-31","2027-12-31","NO","NO","Guajira - Cesar - Madgalena","NO",0,-13.36,129,2]
["SC_1532_A1","Las Mangas_340.8MW","2022-07-17",44759,340.8,"Solar FV","San Juan 220","SC_1532","2027-12-31","2027-12-31","NO","SI","Guajira - Cesar - Madgalena","NO",32580046749,-123.08,97,1]
["SC_1532_A2","Las Mangas_340.8MW","2022-07-17",44759,340.8,"Solar FV","Nueva subestación San Juan 500 kV","SC_1532","2027-12-31","2027-12-31","NO","SI","Guajira - Cesar - Madgalena","NO",94135819211.660004,-49.82,96,1]
["SC_1534_A1","Parque Eólico Cerrito_378MW","2022-07-17",44759,378,"Eólico Onshore","Colectora 1 Eolica 500","SC_1534","2025-06-30","2025-06-30","NO","NO","Guajira - Cesar - Madgalena","NO",0,-232899,95,2]
["SC_1534_A2","Parque Eólico Cerrito_378MW","2022-07-17",44759,378,"Eólico Onshore","Colectora 2 500 kV\n","SC_1534","2025-06-30","2025-06-30","NO","SI","Guajira - Cesar - Madgalena","NO",3445186810262.52,-93076,94,1]
["SC_1535_A1","Parque Eólico Cerrito 2","2022-07-18",44760,200,"Eólico Onshore","Colectora 1 Eolica 500","SC_1535","2025-06-30","2025-06-30","NO","NO","Guajira - Cesar - Madgalena","NO",0,-112.02798,128,2]
["SC_1535_A2","Parque Eólico Cerrito 2","2022-07-18",44760,200,"Eólico Onshore","Colectora 2 500 kV","SC_1535","2025-06-30","2025-06-30","NO","SI","Guajira - Cesar - Madgalena","NO",3612282882154.1899,-45.54927,127,1]
["SC_1549_A1","Parque Solar Bonda","2022-07-18",44760,9.9,"Solar FV","Bonda 13.8","SC_1549","2025-12-31","2025-12-31","NO","NO","Guajira - Cesar - Madgalena","NO",0,2.4,126,2]
["SC_1549_A2","Parque Solar Bonda","2022-07-18",44760,9.9,"Solar FV","Bonda 34.5","SC_1549","2025-12-31","2025-12-31","NO","NO","Guajira - Cesar - Madgalena","NO",0,2.41,125,2]
["SC_1550_A1","Parque Solar Fonseca","2022-07-18",44760,9.9,"Solar FV","Fonseca 13.8","SC_1550","2025-12-31","2025-12-31","NO","NO","Guajira - Cesar - Madgalena","NO",0,0.26,124,2]
["SC_1550_A2","Parque Solar Fonseca","2022-07-18",44760,9.9,"Solar FV","Fonseca 34.5","SC_1550","2025-12-31","2025-12-31","NO","NO","Guajira - Cesar - Madgalena","NO",0,0.27,123,2]
["SC_1556_A1","Copey Solar I - 100 MW","2022-07-18",44760,100,"Solar FV","Copey 220","SC_1556","2026-12-31","2026-12-31","NO","NO","Guajira - Cesar - Madgalena","NO",0,-7.56,122,2]
["SC_1556_A2","Copey Solar I - 100 MW","2022-07-18",44760,100,"Solar FV","El Copey 500","SC_1556","2026-12-31","2026-12-31","NO","NO","Guajira - Cesar - Madgalena","NO",0,-7.25,121,2]
["SC_1557_A1","Copey Solar II","2022-07-18",44760,100,"Solar FV","Copey 220","SC_1557","2027-12-31","2027-12-31","NO","NO","Guajira - Cesar - Madgalena","NO",0,-7.93,120,2]
["SC_1557_A2","Copey Solar II","2022-07-18",44760,100,"Solar FV","El Copey 500","SC_1557","2027-12-31","2027-12-31","NO","NO","Guajira - Cesar - Madgalena","NO",0,-7.46,119,2]
["SC_1565_A1","Eólica Río Córdoba 50 MW","2022-01-08",44569,50,"Eólico Onshore","Rio Cordoba 110","SC_1565","2025-12-31","2025-12-31","NO","SI","Guajira - Cesar - Madgalena","NO",0,-21,3,1]
["SC_1575_A1","BONDERO 70 MW","2022-03-18T09:23:00",44638.390972222223,70,"Eólico Onshore","Termocol 220","SC_1575","2024-12-31","2024-12-31","NO","NO","Guajira - Cesar - Madgalena","NO",0,-29,7,2]
["SC_1592_A1","Expansión La Loma II - 100 MW","2022-07-18T10:28:00",44760.436111111114,100,"Solar FV","La Loma 500","SC_1592","2028-12-31","2028-12-31","NO","NO","Guajira - Cesar - Madgalena","NO",0,-8.3699999999999992,149,2]
["SC_1593_A1","Parque Solar Camarones 6 MW","2022-07-18",44760,6,"Solar FV","Camarones 34.5","SC_1593","2024-12-31","2024-12-31","NO","NO","Guajira - Cesar - Madgalena","NO",0,-0.11,118,2]
["SC_1593_A2","Parque Solar Camarones 6 MW","2022-07-18",44760,6,"Solar FV","Riohacha 34.5","SC_1593","2024-12-31","2024-12-31","NO","NO","Guajira - Cesar - Madgalena","NO",0,-0.11005,117,2]
["SC_1596_A1","Expansión La Loma III - 100 MW","2022-07-18T10:30:00",44760.4375,100,"Solar FV","La Loma 500","SC_1596","2029-12-31","2029-12-31","NO","NO","Guajira - Cesar - Madgalena","NO",0,-12.23,150,2]
["SC_1656_A1","Parque solar TERRɅ I","2022-07-26T15:58:00",44768.665277777778,19.899999999999999,"Solar FV","Copey 34.5 1","SC_1656","2024-06-30","2024-06-30","NO","NO","Guajira - Cesar - Madgalena","NO",0,-0.27700000000000002,160,2]
["SC_1656_A2","Parque solar TERRɅ I","2022-07-26T15:58:00",44768.665277777778,19.899999999999999,"Solar FV","Copey 110","SC_1656","2024-06-30","2024-06-30","NO","NO","Guajira - Cesar - Madgalena","NO",0,-0.29499999999999998,159,2]
["SC_1698_A1","Barlovento 2_500MW","2022-08-09T18:34:00",44782.773611111108,500,"Eólico Offshore","Colectora 2 500 kV\n","SC_1698","2034-12-31","2034-12-31","NO","SI","Guajira - Cesar - Madgalena","NO",34163254699.999996,-94.092950000000002,199,1]
["SC_1699_A1","PARQUE EOLICO GUAJIRA II de 302.4 MW","2022-08-04T18:35:00",44777.774305555555,302.39999999999998,"Eólico Onshore","Cuestecitas 500","SC_1699","2027-12-31","2027-12-31","NO","NO","Guajira - Cesar - Madgalena","SI",0,31.4,193,2]
["SC_1699_A2","PARQUE EOLICO GUAJIRA II de 302.4 MW","2022-08-04T18:35:00",44777.774305555555,302.39999999999998,"Eólico Onshore","Cuestecita 220 II","SC_1699","2027-12-31","2027-12-31","NO","NO","Guajira - Cesar - Madgalena","SI",0,116.2,192,2]
["SC_1703_A1","Barlovento 3 de 500 MW","2022-08-09T18:39:00",44782.777083333334,500,"Eólico Offshore","Colectora 2 500 kV\n","SC_1703","2034-12-31","2034-12-31","NO","SI","Guajira - Cesar - Madgalena","NO",34163254699.999996,-97.834270000000004,200,1]
["SC_1707_A1","Santa Marta II - 50 MW","2022-02-27T18:47:00",44619.782638888886,50,"Solar FV","Copey 220","SC_1707","2025-12-31","2025-12-31","NO","NO","Guajira - Cesar - Madgalena","NO",0,-4.5129999999999999,6,2]
["SC_1710_A1","Parque Eólico Trupillo_100MW","2022-07-19T18:50:00",44761.784722222219,100,"Eólico Onshore","Colectora 2 500 kV\n","SC_1710","2028-12-31","2028-12-31","NO","SI","Guajira - Cesar - Madgalena","NO",0,-1.1399999999999999,156,1]
["SC_1710_A2","Parque Eólico Trupillo_100MW","2022-07-19T18:50:00",44761.784722222219,100,"Eólico Onshore","Colectora 1 Eolica 500","SC_1710","2028-12-31","2028-12-31","NO","NO","Guajira - Cesar - Madgalena","NO",0,-5.9,155,2]
["SC_1718_A1","Autogeneración Drummond 50 MW","2022-09-03",44760,50,"Solar FV","La Loma 500","SC_1718","2023-12-31","2023-12-31","NO","NO","Guajira - Cesar - Madgalena","NO",0,-2.5179999999999998,116,2]
["SC_1722_A1","PARQUE EÓLICO MONSAUI 9,9 MW","2022-07-18",44760,9.9,"Eólico Onshore","Santa Marta 110","SC_1722","2027-12-31","2027-12-31","NO","NO","Guajira - Cesar - Madgalena","NO",0,-1.857,115,2]
["SC_1722_A2","PARQUE EÓLICO MONSAUI 9,9 MW","2022-07-18",44760,9.9,"Eólico Onshore","Termocol 220","SC_1722","2027-12-31","2027-12-31","NO","NO","Guajira - Cesar - Madgalena","NO",0,1.123,114,2]
["SC_1728_A1","PARQUE SOLAR CAÑAHUATE II - 190 MW","2022-09-03",44760,190,"Solar FV","La Loma 500","SC_1728","2024-12-31","2024-12-31","NO","NO","Guajira - Cesar - Madgalena","NO",0,-16.132999999999999,113,2]
["SC_1729_A1","TR Solar 17","2022-07-18",44760,200,"Solar FV","La Loma 500","SC_1729","2026-12-31","2026-12-31","NO","NO","Guajira - Cesar - Madgalena","NO",0,-15.21,112,2]
["SC_1729_A2","TR Solar 17","2022-07-18",44760,200,"Solar FV","El Copey 500","SC_1729","2026-12-31","2026-12-31","NO","NO","Guajira - Cesar - Madgalena","NO",0,15.42,111,2]
["SC_1746_A1","Parque Solar Nuevo Mundo","2022-09-03T11:38:00",44807.484722222223,99.99,"Solar FV","La Loma 110","SC_1746","2025-12-30","2025-12-30","NO","SI","Guajira - Cesar - Madgalena","NO",15012000000,-3.9569999999999999,276,{"$f":"IF(L107=\"NO\",2,1)","v":1}]
["SC_1746_A2","Parque Solar Nuevo Mundo","2022-09-03T11:38:00",44807.484722222223,99.99,"Solar FV","El Paso 110","SC_1746","2025-12-30","2025-12-30","NO","SI","Guajira - Cesar - Madgalena","NO",20223000000,-2.7610000000000001,275,1]
["SC_1752_A1","OWF BERGANTIN 300","2022-03-26T08:28:00",44646.352777777778,300,"Eólico Offshore","R Cordoba 220","SC_1752","2032-02-08","2032-02-08","NO","NO","Guajira - Cesar - Madgalena","NO",0,-61.601759999999999,9,2]
["SC_1752_A2","OWF BERGANTIN 300","2022-03-26T08:28:00",44646.352777777778,300,"Eólico Offshore","Fundacion 220","SC_1752","2032-02-08","2032-02-08","NO","NO","Guajira - Cesar - Madgalena","NO",0,-56.1706,8,2]
["SC_1756_A1","Barlovento 4_500MW","2022-08-09T16:10:00",44782.673611111109,500,"Eólico Offshore","Colectora 2 500 kV\n","SC_1756","2034-12-31","2034-12-31","NO","SI","Guajira - Cesar - Madgalena","NO",34163254699.999996,-97.834270000000004,197,1]
["SC_1765_A1","PARQUE SOLAR CIUDAD BLANCA - 199 MW","2022-06-25T16:38:00",44737.693055555559,19.899999999999999,"Solar FV","CODAZZI (CESAR) 1 34.5 kV","SC_1765","2026-12-31","2026-12-31","NO","NO","Guajira - Cesar - Madgalena","NO",0,-0.53991999999999996,27,2]
["SC_1765_A2","PARQUE SOLAR CIUDAD BLANCA - 199 MW","2022-06-25T16:38:00",44737.693055555559,19.899999999999999,"Solar FV","CODAZZI (CESAR) 1 13.8 kV","SC_1765","2026-12-31","2026-12-31","NO","NO","Guajira - Cesar - Madgalena","NO",0,-0.53612000000000004,26,2]
["SC_1779_A1","Pétalo del Cesar III El Paso","2022-08-12T14:56:00",44785.62222222222,9.9,"Solar FV","EL PASO 1 13.8 kV","SC_1779","2026-12-31","2026-12-31","NO","NO","Guajira - Cesar - Madgalena","NO",0,-1.0307599999999999,206,2]
["SC_1779_A2","Pétalo del Cesar III El Paso","2022-08-12T14:56:00",44785.62222222222,9.9,"Solar FV","EL PASO 1 34.5 kV","SC_1779","2026-12-31","2026-12-31","NO","NO","Guajira - Cesar - Madgalena","NO",0,-1.03068,205,2]
["SC_1783_A1","Pétalo del Cesar IV La Loma","2022-07-22T22:44:00",44764.947222222225,9.9,"Solar FV","La loma 34.5","SC_1783\n","2026-01-31","2026-01-31","NO","NO","Guajira - Cesar - Madgalena","NO",0,-2.04,158,2]
["SC_1783_A2","Pétalo del Cesar IV La Loma","2022-07-22T22:44:00",44764.947222222225,9.9,"Solar FV","La loma 13.8","SC_1783\n","2026-01-31","2026-01-31","NO","NO","Guajira - Cesar - Madgalena","NO",0,-1.85,157,2]
["SC_1788_A1","DSE COPEY 19.9","2022-07-28T18:07:00",44770.754861111112,19.899999999999999,"Solar FV","Copey 34.5 1","SC_1788","2025-12-31","2025-12-31","NO","NO","Guajira - Cesar - Madgalena","NO",0,-0.5,163,2]
["SC_1811_A1","DSE RIOHACHA","2022-07-27T16:05:00",44769.670138888891,9.9,"Solar FV","Riohacha 34.5","SC_1811","2025-12-31","2025-12-31","NO","NO","Guajira - Cesar - Madgalena","NO",0,-1.77,162,2]
["SC_1811_A2","DSE RIOHACHA","2022-07-27T16:05:00",44769.670138888891,9.9,"Solar FV","Riohacha 110","SC_1811","2025-12-31","2025-12-31","NO","NO","Guajira - Cesar - Madgalena","NO",0,-1.74,161,2]
["SC_1824_A1","PGF ROSARIO II_45MW","2022-08-10T11:28:00",44783.477777777778,45,"Solar FV","Codazzi GCM 110","SC_1824","2026-12-31","2026-12-31","NO","NO","Guajira - Cesar - Madgalena","NO",0,5.399,204,2]
["SC_1824_A2","PGF ROSARIO II_45MW","2022-08-10T11:28:00",44783.477777777778,45,"Solar FV","La Jagua 110","SC_1824","2026-12-31","2026-12-31","NO","NO","Guajira - Cesar - Madgalena","NO",0,5.28,203,2]
["SC_1827_A1","Guatapurí Solar I 9,9 MW","2022-08-01T14:52:00",44774.619444444441,9.9,"Solar FV","Guatapuri 13.8","SC_1827","2025-12-31","2025-12-31","NO","NO","Guajira - Cesar - Madgalena","NO",0,-6.8029099999999998,179,2]
["SC_1827_A2","Guatapurí Solar I 9,9 MW","2022-08-01T14:52:00",44774.619444444441,9.9,"Solar FV","Guatapuri 34.5(1)","SC_1827","2025-12-31","2025-12-31","NO","NO","Guajira - Cesar - Madgalena","NO",0,-6.3133900000000001,178,2]
["SC_1830_A1","Guatapurí Solar II 9,9 MW","2022-08-01T14:55:00",44774.621527777781,9.9,"Solar FV","Guatapuri 13.8","SC_1830","2025-12-31","2025-12-31","NO","NO","Guajira - Cesar - Madgalena","NO",0,-6.8029099999999998,181,2]
["SC_1830_A2","Guatapurí Solar II 9,9 MW","2022-08-01T14:55:00",44774.621527777781,9.9,"Solar FV","Guatapuri 34.5(1)","SC_1830","2025-12-31","2025-12-31","NO","NO","Guajira - Cesar - Madgalena","NO",0,-6.3133900000000001,180,2]
["SC_1840_A1","Granja Solar Asturias 9,9 MW","2022-08-02T12:37:00",44775.525694444441,9.9,"Solar FV","La loma 13.8","SC_1840","2025-12-31","2025-12-31","NO","NO","Guajira - Cesar - Madgalena","NO",0,-0.94,191,2]
["SC_1840_A2","Granja Solar Asturias 9,9 MW","2022-08-02T12:37:00",44775.525694444441,9.9,"Solar FV","La loma 34.5","SC_1840","2025-12-31","2025-12-31","NO","NO","Guajira - Cesar - Madgalena","NO",0,-0.94,190,2]
["SC_1846_A1","PARQUE DE GENERACIÓN SOLAR CYGNUS 50 MW","2022-08-16T13:59:00",44789.582638888889,50,"Solar FV","Guatapurí 110","SC_1846","2025-12-31","2025-12-31","NO","NO","Guajira - Cesar - Madgalena","NO",0,-17.253,220,2]
["SC_1846_A2","PARQUE DE GENERACIÓN SOLAR CYGNUS 50 MW","2022-08-16T13:59:00",44789.582638888889,50,"Solar FV","San Juan 110","SC_1846","2025-12-31","2025-12-31","NO","NO","Guajira - Cesar - Madgalena","NO",0,-18.274000000000001,219,2]
["SC_1854_A1","CATAY 1 - 200 MW","2022-07-03T15:28:00",44745.644444444442,200,"Solar FV","Copey 220","SC_1854","2027-12-31","2027-12-31","NO","NO","Guajira - Cesar - Madgalena","NO",0,-51.858289999999997,35,2]
["SC_1854_A2","CATAY 1 - 200 MW","2022-07-03T15:28:00",44745.644444444442,200,"Solar FV","El Copey 500","SC_1854","2027-12-31","2027-12-31","NO","NO","Guajira - Cesar - Madgalena","NO",0,-39.634438000000003,34,2]
["SC_1856_A1","SIERRA NEVADA DE VERANO","2022-07-29T11:06:00",44771.462500000001,99.9,"Solar FV","Copey 110","SC_1856","2027-12-17","2027-12-17","NO","NO","Guajira - Cesar - Madgalena","NO",0,-0.47799999999999998,167,2]
["SC_1856_A2","SIERRA NEVADA DE VERANO","2022-07-29T11:06:00",44771.462500000001,99.9,"Solar FV","Copey 220","SC_1856","2027-12-17","2027-12-17","NO","NO","Guajira - Cesar - Madgalena","NO",0,-1.034,166,2]
["SC_1857_A1","MILAGROS DE VERANO","2022-07-29T11:14:00",44771.468055555553,99.9,"Solar FV","Copey 110","SC_1857","2028-12-22","2028-12-22","NO","NO","Guajira - Cesar - Madgalena","NO",0,-0.46800000000000003,169,2]
["SC_1857_A2","MILAGROS DE VERANO","2022-07-29T11:14:00",44771.468055555553,99.9,"Solar FV","Copey 220","SC_1857","2028-12-22","2028-12-22","NO","NO","Guajira - Cesar - Madgalena","NO",0,-1.028,168,2]
["SC_1861_A1","Autogenerador CELSIA Solar Cenit Copey","2022-07-29T19:20:00",44771.805555555555,6.6,"Solar FV","Copey 34.5 1","SC_1861","2023-12-31","2023-12-31","NO","NO","Guajira - Cesar - Madgalena","NO",0,0.2,172,2]
["SC_1876_A1","Nevada II 250 MW","2022-08-01T10:33:00",44774.439583333333,250,"Eólico Onshore","Cuestecitas 500","SC_1876","2030-12-31","2030-12-31","NO","NO","Guajira - Cesar - Madgalena","NO",0,-12.984,177,2]
["SC_1876_A2","Nevada II 250 MW","2022-08-01T10:33:00",44774.439583333333,250,"Eólico Onshore","Colectora 1 Eolica 500","SC_1876","2030-12-31","2030-12-31","NO","NO","Guajira - Cesar - Madgalena","NO",0,-18.98,176,2]
["SC_1877_A1","Planta Solar FV Corozal 9,9MW","2022-07-29T10:34:00",44771.44027777778,9.9,"Solar FV","Guacamayal 34.5","SC_1877","2026-12-31","2026-12-31","NO","NO","Guajira - Cesar - Madgalena","NO",0,6.6E-4,165,2]
["SC_1877_A2","Planta Solar FV Corozal 9,9MW","2022-07-29T10:34:00",44771.44027777778,9.9,"Solar FV","Guacamayal 13.8","SC_1877","2026-12-31","2026-12-31","NO","NO","Guajira - Cesar - Madgalena","NO",0,6.6E-4,164,2]
["SC_1889_A1","La Granja","2022-07-29T18:49:00",44771.78402777778,19.899999999999999,"Solar FV","La loma 34.5","SC_1889","2025-12-31","2025-12-31","NO","NO","Guajira - Cesar - Madgalena","NO",0,-1.95,171,2]
["SC_1889_A2","La Granja","2022-07-29T18:49:00",44771.78402777778,19.899999999999999,"Solar FV","La loma 13.8","SC_1889","2025-12-31","2025-12-31","NO","NO","Guajira - Cesar - Madgalena","NO",0,-1.91,170,2]
["SC_1898_A1","Parque Eólico Fenix_70MW","2022-08-18T19:04:00",44791.794444444444,70,"Eólico Onshore","Cuestecita 220","SC_1898","2028-11-16","2028-11-16","NO","NO","Guajira - Cesar - Madgalena","NO",0,-59.7,237,2]
["SC_1898_A2","Parque Eólico Fenix_70MW","2022-08-18T19:04:00",44791.794444444444,70,"Eólico Onshore","Cuestecitas 500","SC_1898","2028-11-16","2028-11-16","NO","NO","Guajira - Cesar - Madgalena","NO",0,-55.77,236,2]
["SC_1904_A1","Parque Solar Fotovoltaico Potreritos","2022-08-22T19:11:00",44795.799305555556,168,"Solar FV","San Juan 220","SC_1904","2024-12-31","2024-12-31","NO","NO","Guajira - Cesar - Madgalena","NO",0,-10.866,255,2]
["SC_1904_A2","Parque Solar Fotovoltaico Potreritos","2022-08-22T19:11:00",44795.799305555556,168,"Solar FV","Valledupar 220","SC_1904","2024-12-31","2024-12-31","NO","NO","Guajira - Cesar - Madgalena","NO",0,-9.3119999999999994,254,2]
["SC_1905_A1","Parque Solar Valle del Cesar","2022-08-16T19:12:00",44789.8,50,"Solar FV","Codazzi GCM 110","SC_1905","2026-12-31","2026-12-31","NO","NO","Guajira - Cesar - Madgalena","NO",0,-1.782,222,2]
["SC_1905_A2","Parque Solar Valle del Cesar","2022-08-16T19:12:00",44789.8,50,"Solar FV","Valledupar 110","SC_1905","2026-12-31","2026-12-31","NO","NO","Guajira - Cesar - Madgalena","NO",0,-2.5110000000000001,221,2]
["SC_1908_A1","Corocoro 500 MW","2022-08-23T09:58:00",44796.415277777778,500,"Solar FV","La Loma 500","SC_1908","2026-12-31","2026-12-31","NO","NO","Guajira - Cesar - Madgalena","NO",0,-256.43,257,2]
["SC_1908_A2","Corocoro 500 MW","2022-08-23T09:58:00",44796.415277777778,500,"Solar FV","Cuestecitas 500","SC_1908","2026-12-31","2026-12-31","NO","NO","Guajira - Cesar - Madgalena","NO",0,-263.52,256,2]
["SC_1912_A1","Draco de 22.5 MW (entrega 19,9 MW)","2022-08-19T10:12:00",44792.425000000003,19.899999999999999,"Solar FV","La jagua 34.5","SC_1912","2025-12-29","2025-12-29","NO","NO","Guajira - Cesar - Madgalena","NO",0,0.22586000000000001,241,2]
["SC_1912_A2","Draco de 22.5 MW (entrega 19,9 MW)","2022-08-19T10:12:00",44792.425000000003,19.899999999999999,"Solar FV","La Jagua 110","SC_1912","2025-12-29","2025-12-29","NO","NO","Guajira - Cesar - Madgalena","NO",0,0.15984000000000001,240,2]
["SC_1920_A1","Parque Solar TERRɅ II 19.9 MW","2022-08-17T14:21:00",44790.597916666666,19.899999999999999,"Solar FV","Copey 34.5 1","SC_1920\n","2024-06-30","2024-06-30","NO","NO","Guajira - Cesar - Madgalena","NO",0,-0.33535999999999999,231,2]
["SC_1920_A2","Parque Solar TERRɅ II 19.9 MW","2022-08-17T14:21:00",44790.597916666666,19.899999999999999,"Solar FV","Copey 110","SC_1920\n","2024-06-30","2024-06-30","NO","NO","Guajira - Cesar - Madgalena","NO",0,-0.35393000000000002,230,2]
["SC_1928_A1","Jacamará 500 MW","2022-08-23T17:59:00",44796.749305555553,500,"Solar FV","La Loma 500","SC_1928","2026-12-31","2026-12-31","NO","NO","Guajira - Cesar - Madgalena","NO",0,-256.43,259,2]
["SC_1928_A2","Jacamará 500 MW","2022-08-23T17:59:00",44796.749305555553,500,"Solar FV","Cuestecitas 500","SC_1928","2026-12-31","2026-12-31","NO","NO","Guajira - Cesar - Madgalena","NO",0,-263.52,258,2]
["SC_1944_A1","MANANTIALES DE VERANO de 99.9 MW","2022-08-02T09:25:00",44775.392361111109,99.9,"Solar FV","Copey 110","SC_1944","2026-12-18","2026-12-18","NO","NO","Guajira - Cesar - Madgalena","NO",0,-0.48099999999999998,189,2]
["SC_1944_A2","MANANTIALES DE VERANO de 99.9 MW","2022-08-02T09:25:00",44775.392361111109,99.9,"Solar FV","Copey 220","SC_1944","2026-12-18","2026-12-18","NO","NO","Guajira - Cesar - Madgalena","NO",0,-1.034,188,2]
["SC_1948_A1","PGF ROSARIO I","2022-08-09T21:43:00",44782.904861111114,95,"Solar FV","Valledupar 110","SC_1948","2026-12-31","2026-12-31","NO","NO","Guajira - Cesar - Madgalena","NO",0,-9.3719999999999999,202,2]
["SC_1948_A2","PGF ROSARIO I","2022-08-09T21:43:00",44782.904861111114,95,"Solar FV","Guatapurí 110","SC_1948","2026-12-31","2026-12-31","NO","NO","Guajira - Cesar - Madgalena","NO",0,-6.548,201,2]
["SC_1967_A1","Solar Valledupar 4","2022-08-16T22:09:00",44789.92291666667,19.899999999999999,"Solar FV","Valledupar34.5_B3","SC_1967","2025-12-31","2025-12-31","NO","NO","Guajira - Cesar - Madgalena","NO",0,-1.1769499999999999,224,2]
["SC_1967_A2","Solar Valledupar 4","2022-08-16T22:09:00",44789.92291666667,19.899999999999999,"Solar FV","Valledupar 13.8 T3","SC_1967","2025-12-31","2025-12-31","NO","NO","Guajira - Cesar - Madgalena","NO",0,-2.6417999999999999,223,2]
["SC_1968_A1","Solar Valledupar 5","2022-08-16T22:10:00",44789.923611111109,19.899999999999999,"Solar FV","Valledupar34.5_B3","SC_1968","2025-12-31","2025-12-31","NO","NO","Guajira - Cesar - Madgalena","NO",0,-1.1769499999999999,226,2]
["SC_1968_A2","Solar Valledupar 5","2022-08-16T22:10:00",44789.923611111109,19.899999999999999,"Solar FV","Valledupar 13.8 T3","SC_1968","2025-12-31","2025-12-31","NO","NO","Guajira - Cesar - Madgalena","NO",0,-2.3440500000000002,225,2]
["SC_1978_A1","Solar El Copey","2022-08-16T22:34:00",44789.94027777778,230,"Solar FV","El Copey 500","SC_1978","2025-12-31","2025-12-31","NO","NO","Guajira - Cesar - Madgalena","NO",0,-10.118,228,2]
["SC_1978_A2","Solar El Copey","2022-08-16T22:34:00",44789.94027777778,230,"Solar FV","La Loma 500","SC_1978","2025-12-31","2025-12-31","NO","NO","Guajira - Cesar - Madgalena","NO",0,-7.8289999999999997,227,2]
["SC_1981_A1","Solar Valledupar 2","2022-08-16T10:07:00",44789.421527777777,19.899999999999999,"Solar FV","Valledupar34.5_B3","SC_1981","2023-12-31","2023-12-31","NO","NO","Guajira - Cesar - Madgalena","NO",0,0.61628000000000005,214,2]
["SC_1981_A2","Solar Valledupar 2","2022-08-16T10:07:00",44789.421527777777,19.899999999999999,"Solar FV","Valledupar 13.8 T3","SC_1981","2023-12-31","2023-12-31","NO","NO","Guajira - Cesar - Madgalena","NO",0,0.37542999999999999,213,2]
["SC_1982_A1","Solar Valledupar 3","2022-08-16T10:08:00",44789.422222222223,19.899999999999999,"Solar FV","Valledupar34.5_B3","SC_1982","2025-12-31","2025-12-31","NO","NO","Guajira - Cesar - Madgalena","NO",0,-1.1769499999999999,216,2]
["SC_1982_A2","Solar Valledupar 3","2022-08-16T10:08:00",44789.422222222223,19.899999999999999,"Solar FV","Valledupar 13.8 T3","SC_1982","2025-12-31","2025-12-31","NO","NO","Guajira - Cesar - Madgalena","NO",0,-2.6417999999999999,215,{"$f":"IF(L171=\"NO\",2,1)","v":2}]
["SC_1989_A1","Solar Valledupar 1","2022-08-16T10:28:00",44789.436111111114,19.899999999999999,"Solar FV","Valledupar34.5_B3","SC_1989","2023-12-31","2023-12-31","NO","NO","Guajira - Cesar - Madgalena","NO",0,0.61628000000000005,218,2]
["SC_1989_A2","Solar Valledupar 1","2022-08-16T10:28:00",44789.436111111114,19.899999999999999,"Solar FV","Valledupar 13.8 T3","SC_1989","2023-12-31","2023-12-31","NO","NO","Guajira - Cesar - Madgalena","NO",0,0.37542999999999999,217,2]
["SC_1992_A1","Parque Solar TERRɅ III","2022-08-17T10:36:00",44790.441666666666,19.899999999999999,"Solar FV","Copey 34.5 1","SC_1992","2024-06-01","2024-06-01","NO","NO","Guajira - Cesar - Madgalena","NO",0,-0.71028999999999998,229,2]
["SC_2005_A1","PARQUE SOLAR CATACA","2022-08-19T14:07:00",44792.588194444441,9.9,"Solar FV","Aracataca 34.5(1)","SC_2005","2024-12-31","2024-12-31","NO","NO","Guajira - Cesar - Madgalena","NO",0,1.3433459999999999,242,2]
["SC_2010_A1","PARQUE SOLAR SAN JUAN_5MW","2022-08-22T14:21:00",44795.597916666666,5,"Solar FV","El reten 34.5","SC_2010","2024-12-31","2024-12-31","NO","NO","Guajira - Cesar - Madgalena","NO",0,0.86680000000000001,248,2]
["SC_2011_A1","PE Vientos de la Manita","2022-08-01T15:21:00",44774.63958333333,9.9,"Eólico Onshore","Ballenas 34.5","SC_2011","2025-12-31","2025-12-31","NO","NO","Guajira - Cesar - Madgalena","NO",0,2.18113,183,2]
["SC_2011_A2","PE Vientos de la Manita","2022-08-01T15:21:00",44774.63958333333,9.9,"Eólico Onshore","Manaure 34.5","SC_2011","2025-12-31","2025-12-31","NO","NO","Guajira - Cesar - Madgalena","NO",0,5.1518300000000004,182,2]
["SC_2020_A1","San Juan Solar I 9,9 MW","2022-08-12T17:06:00",44785.712500000001,9.9,"Solar FV","SAN JUAN 1 34.5 kV","SC_2020","2024-12-31","2024-12-31","NO","NO","Guajira - Cesar - Madgalena","NO",0,-0.57599999999999996,208,2]
["SC_2020_A2","San Juan Solar I 9,9 MW","2022-08-12T17:06:00",44785.712500000001,9.9,"Solar FV","SAN JUAN 1 13.8 kV","SC_2020","2024-12-31","2024-12-31","NO","NO","Guajira - Cesar - Madgalena","NO",0,-0.57899999999999996,207,2]
["SC_2021_A1","San Juan Solar II 9,9 MW","2022-08-12T17:07:00",44785.713194444441,9.9,"Solar FV","SAN JUAN 1 34.5 kV","SC_2021","2024-12-31","2024-12-31","NO","NO","Guajira - Cesar - Madgalena","NO",0,-0.57599999999999996,210,2]
["SC_2021_A2","San Juan Solar II 9,9 MW","2022-08-12T17:07:00",44785.713194444441,9.9,"Solar FV","SAN JUAN 1 13.8 kV","SC_2021","2024-12-31","2024-12-31","NO","NO","Guajira - Cesar - Madgalena","NO",0,-0.57899999999999996,209,2]
["SC_2056_A1","Saturno 200 MW","2022-06-30T10:20:00",44742.430555555555,200,"Solar FV","La Loma 500","SC_2056","2025-12-31","2025-12-31","NO","NO","Guajira - Cesar - Madgalena","NO",0,0.41758200000000001,30,2]
["SC_2057_A1","SABAN II - 305 MW","2022-07-02T10:21:00",44744.431250000001,305,"Solar FV","La Loma 500","SC_2057","2027-12-31","2027-12-31","NO","NO","Guajira - Cesar - Madgalena","NO",0,-33.6,33,2]
["SC_2066_A1","Orquídea del Cesar - La Loma - 62 MW","2022-08-26T14:05:00",44799.586805555555,62,"Solar FV","La Loma 110","SC_2066","2028-12-31","2028-12-31","NO","NO","Guajira - Cesar - Madgalena","NO",0,-12.907,267,2]
["SC_2066_A2","Orquídea del Cesar - La Loma - 62 MW","2022-08-26T14:05:00",44799.586805555555,62,"Solar FV","El Paso 110","SC_2066","2028-12-31","2028-12-31","NO","NO","Guajira - Cesar - Madgalena","NO",0,-17.936,266,2]
["SC_2069_A1","Pétalo del Magdalena - Fundación","2022-08-22T14:09:00",44795.589583333334,9.9,"Solar FV","FUNDACION 2 34.5 kV","SC_2069","2026-12-31","2026-12-31","NO","NO","Guajira - Cesar - Madgalena","NO",0,-1.3,247,2]
["SC_2070_A1","Cactus del Cesar - La Loma","2022-08-26T14:10:00",44799.590277777781,19.899999999999999,"Solar FV","La loma 34.5","SC_2070","2028-06-30","2028-06-30","NO","NO","Guajira - Cesar - Madgalena","NO",0,-4.2229999999999999,269,2]
["SC_2070_A2","Cactus del Cesar - La Loma","2022-08-26T14:10:00",44799.590277777781,19.899999999999999,"Solar FV","La loma 13.8","SC_2070","2028-06-30","2028-06-30","NO","NO","Guajira - Cesar - Madgalena","NO",0,-4.0810000000000004,268,2]
["SC_2077_A1","PARQUE SOLAR GUACAMAYAL 9.9","2022-08-22T14:25:00",44795.600694444445,9.9,"Solar FV","Guacamayal 34.5","SC_2077","2024-12-31","2024-12-31","NO","NO","Guajira - Cesar - Madgalena","NO",0,1.546,249,2]
["SC_2084_A1","Parque Solar Codazzi 1 19,9 MW","2022-08-18T14:40:00",44791.611111111109,19.899999999999999,"Solar FV","Codazzi GCM 110","SC_2084","2026-06-30","2026-06-30","NO","NO","Guajira - Cesar - Madgalena","NO",0,-2.8514250360000002,233,2]
["SC_2084_A2","Parque Solar Codazzi 1 19,9 MW","2022-08-18T14:40:00",44791.611111111109,19.899999999999999,"Solar FV","CODAZZI (CESAR) 1 34.5 kV","SC_2084","2026-06-30","2026-06-30","NO","NO","Guajira - Cesar - Madgalena","NO",0,-3.4330437009999999,232,2]
["SC_2086_A1","PARQUE SOLAR SABANA SOLAR 19.9","2022-08-22T14:42:00",44795.612500000003,19.899999999999999,"Solar FV","SAN JUAN 1 34.5 kV","SC_2086","2024-12-31","2024-12-31","NO","NO","Guajira - Cesar - Madgalena","NO",0,-8.0100000000000005E-2,250,2]
["SC_2103_A1","PARQUE SOLAR PUERTA DEL SOL","2022-08-22T15:27:00",44795.643750000003,19.899999999999999,"Solar FV","FUNDACION 2 34.5 kV","SC_2103","2024-12-31","2024-12-31","NO","NO","Guajira - Cesar - Madgalena","NO",0,0.2737,251,2]
["SC_2125_A1","Expansión Valledupar 100 MW","2022-08-25T17:40:00",44798.736111111109,100,"Solar FV","Valledupar 220","SC_2125","2027-12-31","2027-12-31","NO","NO","Guajira - Cesar - Madgalena","SI",0,-8.61,265,2]
["SC_2125_A2","Expansión Valledupar 100 MW","2022-08-25T17:40:00",44798.736111111109,100,"Solar FV","Valledupar 110","SC_2125","2027-12-31","2027-12-31","NO","NO","Guajira - Cesar - Madgalena","SI",0,-8.43,264,2]
["SC_2129_A2","DSE LA JAGUA DE IBIRICO","2022-08-08T18:04:00",44781.75277777778,9.9,"Solar FV","La jagua 34.5","SC_2129","2025-07-31","2025-07-31","NO","NO","Guajira - Cesar - Madgalena","NO",0,-0.4,194,2]
["SC_2130_A1","Parque Solar Boreal","2022-08-18T18:06:00",44791.754166666666,100,"Solar FV","La Loma 500","SC_2130","2028-11-24","2028-11-24","NO","NO","Guajira - Cesar - Madgalena","NO",0,-18.600000000000001,235,2]
["SC_2130_A2","Parque Solar Boreal","2022-08-18T18:06:00",44791.754166666666,100,"Solar FV","La Loma 110","SC_2130","2028-11-24","2028-11-24","NO","NO","Guajira - Cesar - Madgalena","NO",0,-23.96,234,2]
["SC_2132_A1","El Encanto 9,9 MW","2022-08-22T18:14:00",44795.759722222225,9.9,"Solar FV","EL PASO 1 34.5 kV","SC_2132","2024-12-31","2024-12-31","NO","NO","Guajira - Cesar - Madgalena","NO",0,0,252,2]
["SC_2137_A1","La Unión 9,9","2022-08-22T18:20:00",44795.763888888891,9.9,"Solar FV","EL PASO 1 34.5 kV","SC_2137","2024-12-31","2024-12-31","NO","NO","Guajira - Cesar - Madgalena","NO",0,0,253,2]
["SC_2159_A1","DSE IBIRICO","2022-08-08T19:51:00",44781.82708333333,19.899999999999999,"Solar FV","La jagua 34.5","SC_2159","2025-12-31","2025-12-31","NO","NO","Guajira - Cesar - Madgalena","NO",0,-1.36,196,2]
["SC_2159_A2","DSE IBIRICO","2022-08-08T19:51:00",44781.82708333333,19.899999999999999,"Solar FV","La Jagua 110","SC_2159","2025-12-31","2025-12-31","NO","NO","Guajira - Cesar - Madgalena","NO",0,-1.34,195,2]
["SC_2162_A1","Parque Solar Codazzi 2","2022-08-18T21:30:00",44791.895833333336,9.9,"Solar FV","Codazzi GCM 110","SC_2162","2026-06-30","2026-06-30","NO","NO","Guajira - Cesar - Madgalena","NO",0,-1.22,239,2]
["SC_2162_A2","Parque Solar Codazzi 2","2022-08-18T21:30:00",44791.895833333336,9.9,"Solar FV","CODAZZI (CESAR) 1 34.5 kV","SC_2162","2026-06-30","2026-06-30","NO","NO","Guajira - Cesar - Madgalena","NO",0,-1.62,238,2]
["SC_2200_A1","Parque Eólico Wakuaipa","2022-08-22T08:11:00",44795.34097222222,200,"Eólico Onshore","Colectora 1 Eolica 500","SC_2200","2026-12-31","2026-12-31","NO","NO","Guajira - Cesar - Madgalena","NO",0,-38.36,244,2]
["SC_2200_A2","Parque Eólico Wakuaipa","2022-08-22T08:11:00",44795.34097222222,200,"Eólico Onshore","Cuestecitas 500","SC_2200","2026-12-31","2026-12-31","NO","NO","Guajira - Cesar - Madgalena","NO",0,-34.99,243,2]
["SC_2206_A1","Parque Fotovoltaico Lyra","2022-08-14T08:49:00",44787.367361111108,19.899999999999999,"Solar FV","Cuestecitas 110","SC_2206","2025-12-31","2025-12-31","NO","NO","Guajira - Cesar - Madgalena","NO",0,-5.0880000000000001,212,2]
["SC_2206_A2","Parque Fotovoltaico Lyra","2022-08-14T08:49:00",44787.367361111108,19.899999999999999,"Solar FV","Cuestecitas 34.5","SC_2206","2025-12-31","2025-12-31","NO","NO","Guajira - Cesar - Madgalena","NO",0,-4.7930000000000001,211,2]
["SC_2212_A1","Aguaraní 200 MW","2022-08-25T09:05:00",44798.378472222219,200,"Solar FV","La Loma 500","SC_2212","2027-06-30","2027-06-30","NO","NO","Guajira - Cesar - Madgalena","NO",0,-89.18,263,2]
["SC_2212_A2","Aguaraní 200 MW","2022-08-25T09:05:00",44798.378472222219,200,"Solar FV","Cuestecitas 500","SC_2212","2027-06-30","2027-06-30","NO","NO","Guajira - Cesar - Madgalena","NO",0,-90.64,262,2]
["SC_2227_A1","Generación Solar Fotovoltaica Sabana Solar - 9.9 MW","2022-08-22T11:43:00",44795.488194444442,9.9,"Solar FV","Chiriguana 13.8","SC_2227","2024-12-31","2024-12-31","NO","NO","Guajira - Cesar - Madgalena","NO",0,1.1200000000000001,246,2]
["SC_2227_A2","Generación Solar Fotovoltaica Sabana Solar - 9.9 MW","2022-08-22T11:43:00",44795.488194444442,9.9,"Solar FV","Chiriguana 34.5","SC_2227","2024-12-31","2024-12-31","NO","NO","Guajira - Cesar - Madgalena","NO",0,1.21,245,2]
["SC_2242_A1","Parque Eólico San Juan 100 MW","2022-08-24T15:35:00",44797.649305555555,100,"Solar FV","San Juan 220","SC_2242","2026-12-31","2026-12-31","NO","NO","Guajira - Cesar - Madgalena","NO",0,5.53,261,2]
["SC_2242_A2","Parque Eólico San Juan 100 MW","2022-08-24T15:35:00",44797.649305555555,100,"Solar FV","Valledupar 220","SC_2242","2026-12-31","2026-12-31","NO","NO","Guajira - Cesar - Madgalena","NO",0,9.85,260,2]
["SC_2260_A1","Parque Solar Fotovoltaico Tayrona I","2022-08-28T13:20:00",44801.555555555555,50,"Solar FV","Fundacion 220","SC_2260","2028-12-31","2028-12-31","NO","NO","Guajira - Cesar - Madgalena","NO",0,-8.0969999999999995,270,2]
["SC_2261_A1","Parque Solar Fotovoltaico Tayrona II","2022-08-28T13:31:00",44801.563194444447,50,"Solar FV","Fundacion 220","SC_2261","2028-12-31","2028-12-31","NO","NO","Guajira - Cesar - Madgalena","NO",0,-8.0969999999999995,271,2]
["SC_2271_A1","San Angel 19,9 MW","2022-08-13",44754,19.899999999999999,"Solar FV","EL PASO 1 34.5 kV","\nSC_2271","2024-12-31","2024-12-31","NO","NO","Guajira - Cesar - Madgalena","NO",0,-13.776370999999999,50,2]
["SC_2271_A2","San Angel 19,9 MW","2022-08-13",44754,19.899999999999999,"Solar FV","Bosconia 34.5","\nSC_2271","2024-12-31","2024-12-31","NO","NO","Guajira - Cesar - Madgalena","NO",0,-1.2563789999999999,49,2]
["SC_2275_A1","TERMOCOSTA","2022-09-01T14:58:00",44805.623611111114,93,"Termica - Ciclo abierto","Termocol 220","SC_2275","2025-01-01","2025-01-01","NO","NO","Guajira - Cesar - Madgalena","NO",0,-8.3000000000000004E-2,273,2]
["SC_2275_A2","TERMOCOSTA","2022-09-01T14:58:00",44805.623611111114,93,"Termica - Ciclo abierto","Seccionamiento de línea Termocol - Río Córdoba 220 kV","SC_2275","2025-01-01","2025-01-01","NO","SI","Guajira - Cesar - Madgalena","NO",11199447000,-8.3000000000000004E-2,272,1]
["SC_2292_A1","PARQUE SOLAR LAS PALMERAS","2022-07-15",44757,200,"Solar FV","Copey 220","SC_2292","2025-12-31","2025-12-31","NO","NO","Guajira - Cesar - Madgalena","NO",0,-23.553000000000001,66,2]
["SC_2292_A2","PARQUE SOLAR LAS PALMERAS","2022-07-15",44757,200,"Solar FV","El Copey 500","SC_2292","2025-12-31","2025-12-31","NO","NO","Guajira - Cesar - Madgalena","NO",0,-22.149000000000001,65,2]
["SC_2295_A1","Parque Solar San Jose 200 MW","2022-09-02T11:50:00",44806.493055555555,200,"Solar FV","Copey 220","SC_2295","2025-12-31","2025-12-31","NO","NO","Guajira - Cesar - Madgalena","NO",0,-23.553000000000001,274,2]
["SC_230_A1","Proyecto Solar San Martin 300MW","2022-07-15",44757,300,"Solar FV","La Loma 500","SC_230","2025-06-01","2025-06-01","NO","NO","Guajira - Cesar - Madgalena","NO",0,-46.88,64,2]
["SC_2341_A1","Parque Eólico Neguanje","2022-07-18",44760.939583333333,19.899999999999999,"Eólico Onshore","Santa Marta 110","SC_2341","2027-12-31","2027-12-31","NO","NO","Guajira - Cesar - Madgalena","NO",0,-1857,153,2]
["SC_2341_A2","Parque Eólico Neguanje","2022-07-18",44760.939583333333,19.899999999999999,"Eólico Onshore","Termocol 220","SC_2341","2027-12-31","2027-12-31","NO","NO","Guajira - Cesar - Madgalena","NO",0,-1123,154,2]
["SC_393_A1","Copey del verano 99.9 MW","2022-06-29",44741,99.9,"Solar FV","Copey 220","SC_393","2025-07-25","2025-07-25","NO","NO","Guajira - Cesar - Madgalena","NO",0,-22.361170000000001,29,2]
["SC_393_A2","Copey del verano 99.9 MW","2022-06-29",44741,99.9,"Solar FV","Copey 110","SC_393","2025-07-25","2025-07-25","NO","NO","Guajira - Cesar - Madgalena","NO",0,-21.629180000000002,28,2]
["SC_394_A1","Riohacha de 20 del Verano","2022-07-01",44743,19.899999999999999,"Solar FV","RIOHACHA 2 13.8 kV","SC_394","2025-07-25","2025-07-25","NO","NO","Guajira - Cesar - Madgalena","NO",0,-5.8194100000000004,32,2]
["SC_394_A2","Riohacha de 20 del Verano","2022-07-01",44743,19.899999999999999,"Solar FV","Riohacha 110","SC_394","2025-07-25","2025-07-25","NO","NO","Guajira - Cesar - Madgalena","NO",0,-5.7274000000000003,31,2]
["SC_407_A1","Portugal I 19.9 MW","2022-05-03",44684,19.899999999999999,"Solar FV","Bosconia 34.5","SC_407","2025-07-31","2025-07-31","NO","NO","Guajira - Cesar - Madgalena","NO",0,0.76912000000000003,10,2]
["SC_42_A1","Santa Marta 1 - 50 MW","2022-01-05",44566,50,"Solar FV","Copey 220","SC_42","2025-12-31","2025-12-31","NO","NO","Guajira - Cesar - Madgalena","NO",0,-4.5129999999999999,1,2]
["SC_482_A1","La Santa Maria - 99.9MW","2022-05-21",44702,99.9,"Solar FV","Fundacion 220","SC_482","2025-12-31","2025-12-31","NO","NO","Guajira - Cesar - Madgalena","NO",0,-22.887799999999999,18,2]
["SC_482_A2","La Santa Maria - 99.9MW","2022-05-21",44702,99.9,"Solar FV","Fundacion 110","SC_482","2025-12-31","2025-12-31","NO","NO","Guajira - Cesar - Madgalena","NO",0,-31.275772,17,{"$f":"IF(L235=\"NO\",2,1)","v":2}]
["SC_497_A1","Portugal II - 9.9 MW","2022-05-25",44706,9.9,"Solar FV","Bosconia 34.5","SC_497","2025-07-31","2025-07-31","NO","NO","Guajira - Cesar - Madgalena","NO",0,1.4448700000000001,19,2]
["SC_502_A1","RUBÍ 40 MW","2022-06-07",44719,40,"Solar FV","Codazzi GCM 110","SC_502","2026-07-31","2026-07-31","NO","NO","Guajira - Cesar - Madgalena","NO",0,-2.34,23,2]
["SC_507_A1","PARQUE FOTOVOLTAICO CATAY 2","2022-05-26",44707,100,"Solar FV","Copey 220","SC_507","2027-12-31","2027-12-31","NO","NO","Guajira - Cesar - Madgalena","NO",0,-24.494240000000001,21,2]
["SC_507_A2","PARQUE FOTOVOLTAICO CATAY 2","2022-05-26",44707,100,"Solar FV","El Copey 500","SC_507","2027-12-31","2027-12-31","NO","NO","Guajira - Cesar - Madgalena","NO",0,-23.501439999999999,20,2]
["SC_543_A1","Sabana I 350 MW","2022-06-03",44715,350,"Solar FV","La Loma 500","SC_543","2027-12-31","2027-12-31","NO","NO","Guajira - Cesar - Madgalena","NO",0,-20.49,22,2]
["SC_56_A2","PV LATAMSOLAR LA LOMA 200 MW","2022-01-07",44568,200,"Solar FV","La Loma 110","SC_56","2024-12-31","2024-12-31","NO","NO","Guajira - Cesar - Madgalena","NO",0,-76.19,2,2]
["SC_587_A1","Cactus del Cesar - El Paso","2022-07-13",44755,19.899999999999999,"Solar FV","EL PASO 1 34.5 kV","SC_587","2029-01-31","2029-01-31","NO","NO","Guajira - Cesar - Madgalena","NO",0,-0.19900000000000001,52,2]
["SC_587_A2","Cactus del Cesar - El Paso","2022-07-13",44755,19.899999999999999,"Solar FV","El Paso 110","SC_587","2029-01-31","2029-01-31","NO","NO","Guajira - Cesar - Madgalena","NO",0,-0.22700000000000001,51,2]
["SC_599_A1","La Fortuna - 19,9 MW","2022-06-13",44725,19.899999999999999,"Solar FV","FUNDACION 2 34.5 kV","SC_599","2025-12-31","2025-12-31","NO","NO","Guajira - Cesar - Madgalena","NO",0,-1.96,25,2]
["SC_599_A2","La Fortuna - 19,9 MW","2022-06-13",44725,19.899999999999999,"Solar FV","FUNDACION 2 13.8 kV","SC_599","2025-12-31","2025-12-31","NO","NO","Guajira - Cesar - Madgalena","NO",0,-1.98,24,2]
["SC_623_A1","TR SOLAR 6","2022-07-15",44757,120.3,"Solar FV","Cuestecita 220","SC_623","2026-09-23","2026-09-23","NO","NO","Guajira - Cesar - Madgalena","NO",0,-15.89,63,2]
["SC_623_A2","TR SOLAR 6","2022-07-15",44757,120.3,"Solar FV","Cuestecitas 500","SC_623","2026-09-23","2026-09-23","NO","SI","Guajira - Cesar - Madgalena","NO",10705723360,-13.16,62,1]
["SC_628_A1","TR Solar 13","2022-07-15",44757,110,"Solar FV","Guatapurí 110","SC_628","2026-08-31","2026-08-31","NO","NO","Guajira - Cesar - Madgalena","NO",0,-61.12,61,2]
["SC_628_A2","TR Solar 13","2022-07-15",44757,110,"Solar FV","Valledupar 110","SC_628","2026-08-31","2026-08-31","NO","NO","Guajira - Cesar - Madgalena","NO",0,-58.52,60,2]
["SC_657_A1","TR Solar 7","2022-07-15",44757,99.9,"Solar FV","Fundacion 220","SC_657","2026-08-24","2026-08-24","NO","NO","Guajira - Cesar - Madgalena","NO",0,-6.2,59,2]
["SC_657_A2","TR Solar 7","2022-07-15",44757,99.9,"Solar FV","Fundacion 110","SC_657","2026-08-24","2026-08-24","NO","NO","Guajira - Cesar - Madgalena","NO",0,-6.58,58,2]
["SC_658_A1","TR Solar 8","2022-07-15",44757,200,"Solar FV","La Loma 500","SC_658","2026-12-31","2026-12-31","NO","NO","Guajira - Cesar - Madgalena","NO",0,-15.21,57,2]
["SC_658_A2","TR Solar 8","2022-07-15",44757,200,"Solar FV","El Copey 500","SC_658","2026-12-31","2026-12-31","NO","NO","Guajira - Cesar - Madgalena","NO",0,-15.42,56,2]
["SC_72_A1","Santa Marta III","2022-01-12",44573,50,"Solar FV","Copey 220","SC_72","2025-12-31","2025-12-31","NO","NO","Guajira - Cesar - Madgalena","NO",0,-4.5129999999999999,4,2]
["SC_735_A1","EGINA 60","2022-07-06",44748,60,"Solar FV","Codazzi GCM 110","SC_735","2026-12-31","2026-12-31","NO","NO","Guajira - Cesar - Madgalena","NO",0,-2.51729,41,2]
["SC_735_A2","EGINA 60","2022-07-06",44748,60,"Solar FV","Valledupar 110","SC_735","2026-12-31","2026-12-31","NO","NO","Guajira - Cesar - Madgalena","NO",0,-3.1475,40,2]
["SC_758_A1","JAMAICA 19.9","2022-07-06",44748,19.899999999999999,"Solar FV","FUNDACION 2 34.5 kV","SC_758","2025-12-31","2025-12-31","NO","NO","Guajira - Cesar - Madgalena","NO",0,-0.86190999999999995,39,2]
["SC_758_A2","JAMAICA 19.9","2022-07-06",44748,19.899999999999999,"Solar FV","Fundacion 110","SC_758","2025-12-31","2025-12-31","NO","NO","Guajira - Cesar - Madgalena","NO",0,-0.89695000000000003,38,2]
["SC_768_A1","RODAS 19.9","2022-07-06",44748,19.899999999999999,"Solar FV","Valledupar34.5_B3","SC_768","2025-07-31","2025-07-31","NO","NO","Guajira - Cesar - Madgalena","NO",0,-6.9999999999999999E-4,37,2]
["SC_768_A2","RODAS 19.9","2022-07-06",44748,19.899999999999999,"Solar FV","Guatapuri 34.5(1)","SC_768","2025-07-31","2025-07-31","NO","NO","Guajira - Cesar - Madgalena","NO",0,-5.5000000000000003E-4,36,2]
["SC_807_A2","Parque Solar Fotovoltaico La Villa de 120 MW (entrega 100 MW)","2022-07-08",44750,100,"Solar FV","Cuestecita 220","SC_807","2025-12-31","2025-12-31","NO","NO","Guajira - Cesar - Madgalena","NO",0,-29.48227,42,2]
["SC_821_A1","SPK SOLAR DEL CESAR - 65 MW","2022-07-11",44753,65,"Solar FV","La Loma 110","SC_821","2026-12-31","2026-12-31","NO","NO","Guajira - Cesar - Madgalena","NO",0,-3.9655100000000001,46,2]
["SC_821_A2","SPK SOLAR DEL CESAR - 65 MW","2022-07-11",44753,65,"Solar FV","El Paso 110","SC_821","2026-12-31","2026-12-31","NO","NO","Guajira - Cesar - Madgalena","NO",0,-4.5756199999999998,45,2]
["SC_822_A1","SANTA MARTA IV 50 MW","2022-05-09T15:59:00",44690.665972222225,50,"Solar FV","Copey 220","SC_822","2025-12-31","2025-12-31","NO","NO","Guajira - Cesar - Madgalena","NO",0,-4.5129999999999999,11,2]
["SC_825_A1","OWF GOLETA","2022-05-17T16:23:00",44698.682638888888,325,"Eólico Offshore","R Cordoba 220","SC_825","2032-12-31","2032-12-31","NO","NO","Guajira - Cesar - Madgalena","NO",0,-68.13279,16,2]
["SC_825_A2","OWF GOLETA","2022-05-17T16:23:00",44698.682638888888,325,"Eólico Offshore","Fundacion 220","SC_825","2032-12-31","2032-12-31","NO","NO","Guajira - Cesar - Madgalena","NO",0,-62.436579999999999,15,2]
["SC_833_A1","LOMERO SOLAR","2022-07-09",44751,200,"Solar FV","La Loma 500","SC_833","2027-12-31","2027-12-31","NO","NO","Guajira - Cesar - Madgalena","NO",0,-42.93,43,2]
["SC_846_A1","Parque Eólico El Ahumado_de 50MW a 60MW _Es decir 10MW","2022-07-11",44753,10,"Eólico Onshore","Riohacha 110","SC_846","2025-12-31","2025-12-31","NO","NO","Guajira - Cesar - Madgalena","NO",0,-0.53818999999999995,44,2]
["SC_878_A1","PARQUE SOLAR EL PROGRESO","2022-07-15",44757,19.899999999999999,"Solar FV","Copey 34.5 1","SC_878","2024-12-31","2024-12-31","NO","NO","Guajira - Cesar - Madgalena","NO",0,0.3644,55,2]
["SC_890_A1","Fundación II - 100 MW","2022-07-18",44760,100,"Solar FV","Fundacion 110","SC_890","2027-12-31","2027-12-31","NO","NO","Guajira - Cesar - Madgalena","NO",0,-5.88,110,2]
["SC_890_A2","Fundación II - 100 MW","2022-07-18",44760,100,"Solar FV","Fundacion 220","SC_890","2027-12-31","2027-12-31","NO","NO","Guajira - Cesar - Madgalena","NO",0,-3.89,109,2]
["SC_921_A1","PARQUE SOLAR EL CIELO","2022-07-15",44757,9.9,"Solar FV","Copey 34.5 1","SC_921","2024-12-31","2024-12-31","NO","NO","Guajira - Cesar - Madgalena","NO",0,0.17899999999999999,54,2]
["SC_944_A1","DSE FUNDACION","2022-07-14",44756,99.9,"Solar FV","Fundacion 110","SC_944","2026-02-28","2026-02-28","NO","NO","Guajira - Cesar - Madgalena","NO",0,-3.5199685029999999,53,2]
["SC_951_A1","SANTA ROSA SOLAR_100MW","2022-07-12",44754,100,"Solar FV","Fundacion 110","SC_951","2026-05-31","2026-05-31","NO","NO","Guajira - Cesar - Madgalena","NO",0,-8.0890000000000004,48,2]
["SC_951_A2","SANTA ROSA SOLAR_100MW","2022-07-12",44754,100,"Solar FV","Fundacion 220","SC_951","2026-05-31","2026-05-31","NO","NO","Guajira - Cesar - Madgalena","NO",0,-3.2549999999999999,47,2]
["SC_963_A1","Churuco Solar","2022-07-16",44758,60,"Solar FV","Codazzi GCM 110","SC_963","2026-12-31","2026-12-31","NO","NO","Guajira - Cesar - Madgalena","NO",0,-29.4,86,2]
["SC_984_A1","Eupari","2022-07-18",44760,99,"Eólico Onshore","Guatapurí 110","SC_984","2026-12-31","2026-12-31","NO","NO","Guajira - Cesar - Madgalena","NO",0,12.928000000000001,108,2]
["SC_984_A2","Eupari","2022-07-18",44760,99,"Eólico Onshore","Nueva subestación denominada Euparí 115 kV","SC_984","2026-12-31","2026-12-31","NO","SI","Guajira - Cesar - Madgalena","NO",5588604000,14.131,107,1]

{"sheet":"Hoja1","index":3,"n_rows":158,"n_cols":23,"rows_kept":158,"cut":false,"hidden":true,"merged":[]}
[null,"a","b","c","d","e",null,null,null,null,null,"a","b",null,null,null,null,null,null,"a","b","c","d"]
[null,"SC_170",0,{"$f":"COUNTIF(InfoPro!$H$2:$H$155,Hoja1!B2)","v":0},{"$f":"COUNTIF(InfoPro!$H$2:$H$155,Hoja1!C2)","v":0},{"$f":"IF(E2=0,IF(D2=0,\"NO\",\"SI\"),\"SI\")","v":"NO"},null,null,null,"SC_1753",null,"SC_1753",{"$f":"COUNTIF($J$2:$J$144,L2)","v":2},null,null,null,null,null,null,"SC_9",{"$f":"COUNTIF($B$2:$B$85,T2)","v":0},{"$f":"COUNTIF($C$1:$C$84,T2)","v":0},{"$f":"SUM(U2:V2)","v":0}]
[null,"SC_314","SC_829",{"$f":"COUNTIF(InfoPro!$H$2:$H$155,Hoja1!B3)","v":0},{"$f":"COUNTIF(InfoPro!$H$2:$H$155,Hoja1!C3)","v":0},{"$f":"IF(E3=0,IF(D3=0,\"NO\",\"SI\"),\"SI\")","v":"NO"},null,null,null,"SC_1753",null,"SC_1753",{"$f":"COUNTIF($J$2:$J$144,L3)","v":2},null,null,null,null,null,null,"SC_36",{"$f":"COUNTIF($B$2:$B$85,T3)","v":0},{"$f":"COUNTIF($C$1:$C$84,T3)","v":0},{"$f":"SUM(U3:V3)","v":0}]
[null,"SC_436",0,{"$f":"COUNTIF(InfoPro!$H$2:$H$155,Hoja1!B4)","v":0},{"$f":"COUNTIF(InfoPro!$H$2:$H$155,Hoja1!C4)","v":0},"NO",null,null,null,"SC_1754",null,"SC_1754",2,null,null,null,null,null,null,"SC_57",0,0,0]
[null,"SC_484",0,{"$f":"COUNTIF(InfoPro!$H$2:$H$155,Hoja1!B5)","v":0},{"$f":"COUNTIF(InfoPro!$H$2:$H$155,Hoja1!C5)","v":0},"NO",null,null,null,"SC_1754",null,"SC_1754",2,null,null,null,null,null,null,"SC_128",0,0,0]
[null,"SC_501",0,{"$f":"COUNTIF(InfoPro!$H$2:$H$155,Hoja1!B6)","v":0},{"$f":"COUNTIF(InfoPro!$H$2:$H$155,Hoja1!C6)","v":0},"NO",null,null,null,"SC_1307",null,"SC_1307",2,null,null,null,null,null,null,"SC_193",0,0,0]
[null,"SC_640","SC_1753",{"$f":"COUNTIF(InfoPro!$H$2:$H$155,Hoja1!B7)","v":0},{"$f":"COUNTIF(InfoPro!$H$2:$H$155,Hoja1!C7)","v":0},"NO",null,null,null,"SC_1307",null,"SC_1307",2,null,null,null,null,null,null,"SC_204",0,0,0]
[null,"SC_864","SC_1754",{"$f":"COUNTIF(InfoPro!$H$2:$H$155,Hoja1!B8)","v":0},{"$f":"COUNTIF(InfoPro!$H$2:$H$155,Hoja1!C8)","v":0},"NO",null,null,null,"SC_1607",null,"SC_1607",2,null,null,null,null,null,null,"SC_217",0,0,0]
[null,"SC_646","SC_1307",{"$f":"COUNTIF(InfoPro!$H$2:$H$155,Hoja1!B9)","v":0},{"$f":"COUNTIF(InfoPro!$H$2:$H$155,Hoja1!C9)","v":0},"NO",null,null,null,"SC_1607",null,"SC_1607",2,null,null,null,null,null,null,"SC_919",0,0,0]
[null,"SC_678","SC_1607",{"$f":"COUNTIF(InfoPro!$H$2:$H$155,Hoja1!B10)","v":0},{"$f":"COUNTIF(InfoPro!$H$2:$H$155,Hoja1!C10)","v":0},"NO",null,null,null,"SC_1003",null,"SC_1003",2,null,null,null,null,null,null,"SC_848",0,0,0]
[null,"SC_1003",0,{"$f":"COUNTIF(InfoPro!$H$2:$H$155,Hoja1!B11)","v":0},{"$f":"COUNTIF(InfoPro!$H$2:$H$155,Hoja1!C11)","v":0},"NO",null,null,null,"SC_1003",null,"SC_1003",2,null,null,null,null,null,null,"SC_947",0,0,0]
[null,"SC_577","SC_2068",{"$f":"COUNTIF(InfoPro!$H$2:$H$155,Hoja1!B12)","v":0},{"$f":"COUNTIF(InfoPro!$H$2:$H$155,Hoja1!C12)","v":0},"NO",null,null,null,"SC_2068",null,"SC_2068",2,null,null,null,null,null,null,"SC_955",0,0,0]
[null,"SC_545",0,{"$f":"COUNTIF(InfoPro!$H$2:$H$155,Hoja1!B13)","v":0},{"$f":"COUNTIF(InfoPro!$H$2:$H$155,Hoja1!C13)","v":0},"NO",null,null,null,"SC_2068",null,"SC_2068",2,null,null,null,null,null,null,"SC_956",1,0,1]
[null,"SC_969",0,{"$f":"COUNTIF(InfoPro!$H$2:$H$155,Hoja1!B14)","v":0},{"$f":"COUNTIF(InfoPro!$H$2:$H$155,Hoja1!C14)","v":0},"NO",null,null,null,"SC_969",null,"SC_969",2,null,null,null,null,null,null,"SC_823",0,0,0]
[null,"SC_970",0,{"$f":"COUNTIF(InfoPro!$H$2:$H$155,Hoja1!B15)","v":0},{"$f":"COUNTIF(InfoPro!$H$2:$H$155,Hoja1!C15)","v":0},"NO",null,null,null,"SC_969",null,"SC_969",2,null,null,null,null,null,null,"SC_999",0,0,0]
[null,"SC_385","SC_1372",{"$f":"COUNTIF(InfoPro!$H$2:$H$155,Hoja1!B16)","v":0},{"$f":"COUNTIF(InfoPro!$H$2:$H$155,Hoja1!C16)","v":0},"NO",null,null,null,"SC_970",null,"SC_970",1,null,null,null,null,null,null,"SC_1078",0,0,0]
[null,"SC_537",0,{"$f":"COUNTIF(InfoPro!$H$2:$H$155,Hoja1!B17)","v":0},{"$f":"COUNTIF(InfoPro!$H$2:$H$155,Hoja1!C17)","v":0},"NO",null,null,null,"SC_537",null,"SC_1372",0,null,null,null,null,null,null,"SC_1096",0,0,0]
[null,"SC_765",0,{"$f":"COUNTIF(InfoPro!$H$2:$H$155,Hoja1!B18)","v":0},{"$f":"COUNTIF(InfoPro!$H$2:$H$155,Hoja1!C18)","v":0},"NO",null,null,null,"SC_765",null,"SC_1372",0,null,null,null,null,null,null,"SC_1153",0,0,0]
[null,"SC_784",0,{"$f":"COUNTIF(InfoPro!$H$2:$H$155,Hoja1!B19)","v":0},{"$f":"COUNTIF(InfoPro!$H$2:$H$155,Hoja1!C19)","v":0},"NO",null,null,null,"SC_765",null,"SC_537",1,null,null,null,null,null,null,"SC_1213",0,0,0]
[null,"SC_579","SC_1776",{"$f":"COUNTIF(InfoPro!$H$2:$H$155,Hoja1!B20)","v":0},{"$f":"COUNTIF(InfoPro!$H$2:$H$155,Hoja1!C20)","v":0},"NO",null,null,null,"SC_784",null,"SC_537",1,null,null,null,null,null,null,"SC_1225",0,0,0]
[null,"SC_588",0,{"$f":"COUNTIF(InfoPro!$H$2:$H$155,Hoja1!B21)","v":0},{"$f":"COUNTIF(InfoPro!$H$2:$H$155,Hoja1!C21)","v":0},"NO",null,null,null,"SC_784",null,"SC_765",2,null,null,null,null,null,null,"SC_1257",0,0,0]
[null,"SC_629",0,{"$f":"COUNTIF(InfoPro!$H$2:$H$155,Hoja1!B22)","v":0},{"$f":"COUNTIF(InfoPro!$H$2:$H$155,Hoja1!C22)","v":0},"NO",null,null,null,"SC_1776",null,"SC_765",2,null,null,null,null,null,null,"SC_1282",0,0,0]
[null,"SC_631",0,{"$f":"COUNTIF(InfoPro!$H$2:$H$155,Hoja1!B23)","v":0},{"$f":"COUNTIF(InfoPro!$H$2:$H$155,Hoja1!C23)","v":0},"NO",null,null,null,"SC_1776",null,"SC_784",2,null,null,null,null,null,null,"SC_1283",0,0,0]
[null,"SC_647","SC_1705",{"$f":"COUNTIF(InfoPro!$H$2:$H$155,Hoja1!B24)","v":0},{"$f":"COUNTIF(InfoPro!$H$2:$H$155,Hoja1!C24)","v":0},"NO",null,null,null,"SC_588",null,"SC_784",2,null,null,null,null,null,null,"SC_1381",0,0,0]
[null,"SC_674","SC_1795",{"$f":"COUNTIF(InfoPro!$H$2:$H$155,Hoja1!B25)","v":0},{"$f":"COUNTIF(InfoPro!$H$2:$H$155,Hoja1!C25)","v":0},"NO",null,null,null,"SC_588",null,"SC_1776",2,null,null,null,null,null,null,"SC_1386",0,0,0]
[null,"SC_956","SC_1806",{"$f":"COUNTIF(InfoPro!$H$2:$H$155,Hoja1!B26)","v":0},{"$f":"COUNTIF(InfoPro!$H$2:$H$155,Hoja1!C26)","v":0},"NO",null,null,null,"SC_629",null,"SC_1776",2,null,null,null,null,null,null,"SC_1399",0,0,0]
[null,"SC_960",0,{"$f":"COUNTIF(InfoPro!$H$2:$H$155,Hoja1!B27)","v":0},{"$f":"COUNTIF(InfoPro!$H$2:$H$155,Hoja1!C27)","v":0},"NO",null,null,null,"SC_629",null,"SC_588",2,null,null,null,null,null,null,"SC_1407",0,0,0]
[null,"SC_980",0,{"$f":"COUNTIF(InfoPro!$H$2:$H$155,Hoja1!B28)","v":0},{"$f":"COUNTIF(InfoPro!$H$2:$H$155,Hoja1!C28)","v":0},"NO",null,null,null,"SC_631",null,"SC_588",2,null,null,null,null,null,null,"SC_1415",0,0,0]
[null,"SC_995",0,{"$f":"COUNTIF(InfoPro!$H$2:$H$155,Hoja1!B29)","v":0},{"$f":"COUNTIF(InfoPro!$H$2:$H$155,Hoja1!C29)","v":0},"NO",null,null,null,"SC_631",null,"SC_629",2,null,null,null,null,null,null,"SC_1420",0,0,0]
[null,"SC_997","SC_1909",{"$f":"COUNTIF(InfoPro!$H$2:$H$155,Hoja1!B30)","v":0},{"$f":"COUNTIF(InfoPro!$H$2:$H$155,Hoja1!C30)","v":0},"NO",null,null,null,"SC_1705",null,"SC_629",2,null,null,null,null,null,null,"SC_1541",0,0,0]
[null,"SC_1053","SC_1903",{"$f":"COUNTIF(InfoPro!$H$2:$H$155,Hoja1!B31)","v":0},{"$f":"COUNTIF(InfoPro!$H$2:$H$155,Hoja1!C31)","v":0},"NO",null,null,null,"SC_1705",null,"SC_631",2,null,null,null,null,null,null,"SC_1543",0,0,0]
[null,"SC_1084","SC_1939",{"$f":"COUNTIF(InfoPro!$H$2:$H$155,Hoja1!B32)","v":0},{"$f":"COUNTIF(InfoPro!$H$2:$H$155,Hoja1!C32)","v":0},"NO",null,null,null,"SC_1795",null,"SC_631",2,null,null,null,null,null,null,"SC_1450",0,0,0]
[null,"SC_831",0,{"$f":"COUNTIF(InfoPro!$H$2:$H$155,Hoja1!B33)","v":0},{"$f":"COUNTIF(InfoPro!$H$2:$H$155,Hoja1!C33)","v":0},"NO",null,null,null,"SC_1795",null,"SC_1705",2,null,null,null,null,null,null,"SC_1570",0,0,0]
[null,"SC_1101",0,{"$f":"COUNTIF(InfoPro!$H$2:$H$155,Hoja1!B34)","v":0},{"$f":"COUNTIF(InfoPro!$H$2:$H$155,Hoja1!C34)","v":0},"NO",null,null,null,"SC_960",null,"SC_1795",2,null,null,null,null,null,null,"SC_1566",0,0,0]
[null,"SC_1123",0,{"$f":"COUNTIF(InfoPro!$H$2:$H$155,Hoja1!B35)","v":0},{"$f":"COUNTIF(InfoPro!$H$2:$H$155,Hoja1!C35)","v":0},"NO",null,null,null,"SC_980",null,"SC_1795",2,null,null,null,null,null,null,"SC_1598",0,0,0]
[null,"SC_1143","SC_1896",{"$f":"COUNTIF(InfoPro!$H$2:$H$155,Hoja1!B36)","v":0},{"$f":"COUNTIF(InfoPro!$H$2:$H$155,Hoja1!C36)","v":0},"NO",null,null,null,"SC_980",null,"SC_1806",0,null,null,null,null,null,null,"SC_1602",0,0,0]
[null,"SC_1146","SC_1915",{"$f":"COUNTIF(InfoPro!$H$2:$H$155,Hoja1!B37)","v":0},{"$f":"COUNTIF(InfoPro!$H$2:$H$155,Hoja1!C37)","v":0},"NO",null,null,null,"SC_995",null,"SC_1806",0,null,null,null,null,null,null,"SC_1603",0,0,0]
[null,"SC_1149","SC_2003",{"$f":"COUNTIF(InfoPro!$H$2:$H$155,Hoja1!B38)","v":0},{"$f":"COUNTIF(InfoPro!$H$2:$H$155,Hoja1!C38)","v":0},"NO",null,null,null,"SC_1909",null,"SC_960",1,null,null,null,null,null,null,"SC_1616",0,0,0]
[null,"SC_1151","SC_1929",{"$f":"COUNTIF(InfoPro!$H$2:$H$155,Hoja1!B39)","v":0},{"$f":"COUNTIF(InfoPro!$H$2:$H$155,Hoja1!C39)","v":0},"NO",null,null,null,"SC_1909",null,"SC_980",2,null,null,null,null,null,null,"SC_1651",0,0,0]
[null,"SC_1156","SC_1963",{"$f":"COUNTIF(InfoPro!$H$2:$H$155,Hoja1!B40)","v":0},{"$f":"COUNTIF(InfoPro!$H$2:$H$155,Hoja1!C40)","v":0},"NO",null,null,null,"SC_1903",null,"SC_980",2,null,null,null,null,null,null,"SC_1673",0,0,0]
[null,"SC_1157","SC_1969",{"$f":"COUNTIF(InfoPro!$H$2:$H$155,Hoja1!B41)","v":0},{"$f":"COUNTIF(InfoPro!$H$2:$H$155,Hoja1!C41)","v":0},"NO",null,null,null,"SC_1903",null,"SC_995",1,null,null,null,null,null,null,"SC_1681",0,0,0]
[null,"SC_1159","SC_1975",{"$f":"COUNTIF(InfoPro!$H$2:$H$155,Hoja1!B42)","v":0},{"$f":"COUNTIF(InfoPro!$H$2:$H$155,Hoja1!C42)","v":0},"NO",null,null,null,"SC_1939",null,"SC_1909",2,null,null,null,null,null,null,"SC_1687",0,0,0]
[null,"SC_1163","SC_1976",{"$f":"COUNTIF(InfoPro!$H$2:$H$155,Hoja1!B43)","v":0},{"$f":"COUNTIF(InfoPro!$H$2:$H$155,Hoja1!C43)","v":0},"NO",null,null,null,"SC_831",null,"SC_1909",2,null,null,null,null,null,null,"SC_1688",1,0,1]
[null,"SC_1166","SC_1801",{"$f":"COUNTIF(InfoPro!$H$2:$H$155,Hoja1!B44)","v":0},{"$f":"COUNTIF(InfoPro!$H$2:$H$155,Hoja1!C44)","v":0},"NO",null,null,null,"SC_831",null,"SC_1903",2,null,null,null,null,null,null,"SC_1726",0,0,0]
[null,"SC_1170","SC_1832",{"$f":"COUNTIF(InfoPro!$H$2:$H$155,Hoja1!B45)","v":0},{"$f":"COUNTIF(InfoPro!$H$2:$H$155,Hoja1!C45)","v":0},"NO",null,null,null,"SC_1101",null,"SC_1903",2,null,null,null,null,null,null,"SC_1734",0,0,0]
[null,"SC_1172","SC_1841",{"$f":"COUNTIF(InfoPro!$H$2:$H$155,Hoja1!B46)","v":0},{"$f":"COUNTIF(InfoPro!$H$2:$H$155,Hoja1!C46)","v":0},"NO",null,null,null,"SC_1101",null,"SC_1939",1,null,null,null,null,null,null,"SC_1748",0,0,0]
[null,"SC_1184",0,{"$f":"COUNTIF(InfoPro!$H$2:$H$155,Hoja1!B47)","v":0},{"$f":"COUNTIF(InfoPro!$H$2:$H$155,Hoja1!C47)","v":0},"NO",null,null,null,"SC_1123",null,"SC_831",2,null,null,null,null,null,null,"SC_1001",0,0,0]
[null,"SC_1193","SC_2097",{"$f":"COUNTIF(InfoPro!$H$2:$H$155,Hoja1!B48)","v":0},{"$f":"COUNTIF(InfoPro!$H$2:$H$155,Hoja1!C48)","v":0},"NO",null,null,null,"SC_1896",null,"SC_831",2,null,null,null,null,null,null,"SC_1030",0,0,0]
[null,"SC_1196",0,{"$f":"COUNTIF(InfoPro!$H$2:$H$155,Hoja1!B49)","v":0},{"$f":"COUNTIF(InfoPro!$H$2:$H$155,Hoja1!C49)","v":0},"NO",null,null,null,"SC_1896",null,"SC_1101",2,null,null,null,null,null,null,"SC_1623",0,0,0]
[null,"SC_1209",0,{"$f":"COUNTIF(InfoPro!$H$2:$H$155,Hoja1!B50)","v":0},{"$f":"COUNTIF(InfoPro!$H$2:$H$155,Hoja1!C50)","v":0},"NO",null,null,null,"SC_1915",null,"SC_1101",2,null,null,null,null,null,null,"SC_1639",0,0,0]
[null,"SC_1210","SC_1813",{"$f":"COUNTIF(InfoPro!$H$2:$H$155,Hoja1!B51)","v":0},{"$f":"COUNTIF(InfoPro!$H$2:$H$155,Hoja1!C51)","v":0},"NO",null,null,null,"SC_2003",null,"SC_1123",1,null,null,null,null,null,null,"SC_1646",0,0,0]
[null,"SC_1240","SC_2285",{"$f":"COUNTIF(InfoPro!$H$2:$H$155,Hoja1!B52)","v":0},{"$f":"COUNTIF(InfoPro!$H$2:$H$155,Hoja1!C52)","v":0},"NO",null,null,null,"SC_2003",null,"SC_1896",2,null,null,null,null,null,null,"SC_2269",0,0,0]
[null,"SC_1241",0,{"$f":"COUNTIF(InfoPro!$H$2:$H$155,Hoja1!B53)","v":0},{"$f":"COUNTIF(InfoPro!$H$2:$H$155,Hoja1!C53)","v":0},"NO",null,null,null,"SC_1929",null,"SC_1896",2,null,null,null,null,null,null,"SC_1613",0,0,0]
[null,"SC_1260",0,{"$f":"COUNTIF(InfoPro!$H$2:$H$155,Hoja1!B54)","v":0},{"$f":"COUNTIF(InfoPro!$H$2:$H$155,Hoja1!C54)","v":0},"NO",null,null,null,"SC_1963",null,"SC_1915",1,null,null,null,null,null,null,"SC_1079",0,0,0]
[null,"SC_1290",0,{"$f":"COUNTIF(InfoPro!$H$2:$H$155,Hoja1!B55)","v":0},{"$f":"COUNTIF(InfoPro!$H$2:$H$155,Hoja1!C55)","v":0},"NO",null,null,null,"SC_1963",null,"SC_2003",2,null,null,null,null,null,null,"SC_1659",0,0,0]
[null,"SC_1428",0,{"$f":"COUNTIF(InfoPro!$H$2:$H$155,Hoja1!B56)","v":0},{"$f":"COUNTIF(InfoPro!$H$2:$H$155,Hoja1!C56)","v":0},"NO",null,null,null,"SC_1969",null,"SC_2003",2,null,null,null,null,null,null,"SC_1751",0,0,0]
[null,"SC_1437","SC_2045",{"$f":"COUNTIF(InfoPro!$H$2:$H$155,Hoja1!B57)","v":0},{"$f":"COUNTIF(InfoPro!$H$2:$H$155,Hoja1!C57)","v":0},"NO",null,null,null,"SC_1969",null,"SC_1929",1,null,null,null,null,null,null,"SC_1565",0,0,0]
[null,"SC_1441","SC_2047",{"$f":"COUNTIF(InfoPro!$H$2:$H$155,Hoja1!B58)","v":0},{"$f":"COUNTIF(InfoPro!$H$2:$H$155,Hoja1!C58)","v":0},"NO",null,null,null,"SC_1975",null,"SC_1963",2,null,null,null,null,null,null,"SC_1686",0,0,0]
[null,"SC_1443","SC_2048",{"$f":"COUNTIF(InfoPro!$H$2:$H$155,Hoja1!B59)","v":0},{"$f":"COUNTIF(InfoPro!$H$2:$H$155,Hoja1!C59)","v":0},"NO",null,null,null,"SC_1975",null,"SC_1963",2,null,null,null,null,null,null,"SC_1708",0,0,0]
[null,"SC_1440","SC_2009",{"$f":"COUNTIF(InfoPro!$H$2:$H$155,Hoja1!B60)","v":0},{"$f":"COUNTIF(InfoPro!$H$2:$H$155,Hoja1!C60)","v":0},"NO",null,null,null,"SC_1976",null,"SC_1969",2,null,null,null,null,null,null,"SC_1692",0,0,0]
[null,"SC_1453","SC_2022",{"$f":"COUNTIF(InfoPro!$H$2:$H$155,Hoja1!B61)","v":0},{"$f":"COUNTIF(InfoPro!$H$2:$H$155,Hoja1!C61)","v":0},"NO",null,null,null,"SC_1976",null,"SC_1969",2,null,null,null,null,null,null,"SC_1595",0,0,0]
[null,"SC_1458","SC_2034",{"$f":"COUNTIF(InfoPro!$H$2:$H$155,Hoja1!B62)","v":0},{"$f":"COUNTIF(InfoPro!$H$2:$H$155,Hoja1!C62)","v":0},"NO",null,null,null,"SC_1801",null,"SC_1975",2,null,null,null,null,null,null,"SC_1700",0,0,0]
[null,"SC_1460","SC_2036",{"$f":"COUNTIF(InfoPro!$H$2:$H$155,Hoja1!B63)","v":0},{"$f":"COUNTIF(InfoPro!$H$2:$H$155,Hoja1!C63)","v":0},"NO",null,null,null,"SC_1832",null,"SC_1975",2,null,null,null,null,null,null,"SC_2061",0,0,0]
[null,"SC_1524","SC_2099",{"$f":"COUNTIF(InfoPro!$H$2:$H$155,Hoja1!B64)","v":0},{"$f":"COUNTIF(InfoPro!$H$2:$H$155,Hoja1!C64)","v":0},"NO",null,null,null,"SC_1832",null,"SC_1976",2,null,null,null,null,null,null,"SC_2129",0,0,0]
[null,"SC_1525",0,{"$f":"COUNTIF(InfoPro!$H$2:$H$155,Hoja1!B65)","v":0},{"$f":"COUNTIF(InfoPro!$H$2:$H$155,Hoja1!C65)","v":0},"NO",null,null,null,"SC_1841",null,"SC_1976",2,null,null,null,null,null,null,"SC_1805",0,0,0]
[null,"SC_1486","SC_1945",{"$f":"COUNTIF(InfoPro!$H$2:$H$155,Hoja1!B66)","v":0},{"$f":"COUNTIF(InfoPro!$H$2:$H$155,Hoja1!C66)","v":0},"NO",null,null,null,"SC_1841",null,"SC_1801",1,null,null,null,null,null,null,"SC_1806",0,1,1]
[null,"SC_1488","SC_2012",{"$f":"COUNTIF(InfoPro!$H$2:$H$155,Hoja1!B67)","v":0},{"$f":"COUNTIF(InfoPro!$H$2:$H$155,Hoja1!C67)","v":0},{"$f":"IF(E67=0,IF(D67=0,\"NO\",\"SI\"),\"SI\")","v":"NO"},null,null,null,"SC_1184",null,"SC_1832",{"$f":"COUNTIF($J$2:$J$144,L67)","v":2},null,null,null,null,null,null,"SC_1803",{"$f":"COUNTIF($B$2:$B$85,T67)","v":0},{"$f":"COUNTIF($C$1:$C$84,T67)","v":0},{"$f":"SUM(U67:V67)","v":0}]
[null,"SC_1516","SC_2179",{"$f":"COUNTIF(InfoPro!$H$2:$H$155,Hoja1!B68)","v":0},{"$f":"COUNTIF(InfoPro!$H$2:$H$155,Hoja1!C68)","v":0},"NO",null,null,null,"SC_1184",null,"SC_1832",2,null,null,null,null,null,null,"SC_2274",0,0,0]
[null,"SC_1521",0,{"$f":"COUNTIF(InfoPro!$H$2:$H$155,Hoja1!B69)","v":0},{"$f":"COUNTIF(InfoPro!$H$2:$H$155,Hoja1!C69)","v":0},"NO",null,null,null,"SC_2097",null,"SC_1841",2,null,null,null,null,null,null,"SC_1814",0,0,0]
[null,"SC_1522","SC_2201",{"$f":"COUNTIF(InfoPro!$H$2:$H$155,Hoja1!B70)","v":0},{"$f":"COUNTIF(InfoPro!$H$2:$H$155,Hoja1!C70)","v":0},"NO",null,null,null,"SC_2097",null,"SC_1841",2,null,null,null,null,null,null,"SC_1932",0,0,0]
[null,"SC_1574","SC_2203",{"$f":"COUNTIF(InfoPro!$H$2:$H$155,Hoja1!B71)","v":0},{"$f":"COUNTIF(InfoPro!$H$2:$H$155,Hoja1!C71)","v":0},"NO",null,null,null,"SC_1196",null,"SC_1184",2,null,null,null,null,null,null,"SC_1940",0,0,0]
[null,"SC_1576","SC_2204",{"$f":"COUNTIF(InfoPro!$H$2:$H$155,Hoja1!B72)","v":0},{"$f":"COUNTIF(InfoPro!$H$2:$H$155,Hoja1!C72)","v":0},"NO",null,null,null,"SC_1196",null,"SC_1184",2,null,null,null,null,null,null,"SC_2052",0,0,0]
[null,"SC_1562","SC_2146",{"$f":"COUNTIF(InfoPro!$H$2:$H$155,Hoja1!B73)","v":0},{"$f":"COUNTIF(InfoPro!$H$2:$H$155,Hoja1!C73)","v":0},"NO",null,null,null,"SC_1209",null,"SC_2097",2,null,null,null,null,null,null,"SC_2053",0,0,0]
[null,"SC_1582","SC_2000",{"$f":"COUNTIF(InfoPro!$H$2:$H$155,Hoja1!B74)","v":0},{"$f":"COUNTIF(InfoPro!$H$2:$H$155,Hoja1!C74)","v":0},"NO",null,null,null,"SC_1209",null,"SC_2097",2,null,null,null,null,null,null,"SC_1785",0,0,0]
[null,"SC_1586","SC_2019",{"$f":"COUNTIF(InfoPro!$H$2:$H$155,Hoja1!B75)","v":0},{"$f":"COUNTIF(InfoPro!$H$2:$H$155,Hoja1!C75)","v":0},"NO",null,null,null,"SC_2285",null,"SC_1196",2,null,null,null,null,null,null,"SC_2152",0,0,0]
[null,"SC_1589","SC_2027",{"$f":"COUNTIF(InfoPro!$H$2:$H$155,Hoja1!B76)","v":0},{"$f":"COUNTIF(InfoPro!$H$2:$H$155,Hoja1!C76)","v":0},"NO",null,null,null,"SC_1241",null,"SC_1196",2,null,null,null,null,null,null,"SC_2154",0,0,0]
[null,"SC_1641","SC_2256",{"$f":"COUNTIF(InfoPro!$H$2:$H$155,Hoja1!B77)","v":0},{"$f":"COUNTIF(InfoPro!$H$2:$H$155,Hoja1!C77)","v":0},"NO",null,null,null,"SC_1241",null,"SC_1209",2,null,null,null,null,null,null,"SC_2030",0,0,0]
[null,"SC_1660","SC_2336",{"$f":"COUNTIF(InfoPro!$H$2:$H$155,Hoja1!B78)","v":0},{"$f":"COUNTIF(InfoPro!$H$2:$H$155,Hoja1!C78)","v":0},"NO",null,null,null,"SC_1260",null,"SC_1209",2,null,null,null,null,null,null,"SC_2096",0,0,0]
[null,"SC_1669","SC_2186",{"$f":"COUNTIF(InfoPro!$H$2:$H$155,Hoja1!B79)","v":0},{"$f":"COUNTIF(InfoPro!$H$2:$H$155,Hoja1!C79)","v":0},"NO",null,null,null,"SC_1260",null,"SC_1813",0,null,null,null,null,null,null,"SC_2199",0,0,0]
[null,"SC_1688",0,{"$f":"COUNTIF(InfoPro!$H$2:$H$155,Hoja1!B80)","v":0},{"$f":"COUNTIF(InfoPro!$H$2:$H$155,Hoja1!C80)","v":0},"NO",null,null,null,"SC_1290",null,"SC_1813",0,null,null,null,null,null,null,"SC_2221",0,0,0]
[null,"SC_1690","SC_2192",{"$f":"COUNTIF(InfoPro!$H$2:$H$155,Hoja1!B81)","v":0},{"$f":"COUNTIF(InfoPro!$H$2:$H$155,Hoja1!C81)","v":0},"NO",null,null,null,"SC_1428",null,"SC_2285",1,null,null,null,null,null,null,"SC_1973",0,0,0]
[null,"SC_1701","SC_2216",{"$f":"COUNTIF(InfoPro!$H$2:$H$155,Hoja1!B82)","v":0},{"$f":"COUNTIF(InfoPro!$H$2:$H$155,Hoja1!C82)","v":0},"NO",null,null,null,"SC_1428",null,"SC_1241",2,null,null,null,null,null,null,"SC_1984",0,0,0]
[null,"SC_1736","SC_2187",{"$f":"COUNTIF(InfoPro!$H$2:$H$155,Hoja1!B83)","v":0},{"$f":"COUNTIF(InfoPro!$H$2:$H$155,Hoja1!C83)","v":0},"NO",null,null,null,"SC_2045",null,"SC_1241",2,null,null,null,null,null,null,"SC_2091",0,0,0]
[null,"SC_1739","SC_2122",{"$f":"COUNTIF(InfoPro!$H$2:$H$155,Hoja1!B84)","v":0},{"$f":"COUNTIF(InfoPro!$H$2:$H$155,Hoja1!C84)","v":0},"NO",null,null,null,"SC_2045",null,"SC_1260",2,null,null,null,null,null,null,"SC_2106",0,0,0]
[null,"SC_1741",0,{"$f":"COUNTIF(InfoPro!$H$2:$H$155,Hoja1!B85)","v":0},{"$f":"COUNTIF(InfoPro!$H$2:$H$155,Hoja1!C85)","v":0},"NO",null,null,null,"SC_2047",null,"SC_1260",2,null,null,null,null,null,null,"SC_1996",0,0,0]
[null,null,null,null,null,null,null,null,null,"SC_2047",null,"SC_1290",1,null,null,null,null,null,null,"SC_2243",0,0,0]
[null,null,null,null,null,null,null,null,null,"SC_2048",null,"SC_1428",2,null,null,null,null,null,null,"SC_2148",0,0,0]
[null,null,null,null,null,null,null,null,null,"SC_2048",null,"SC_1428",2,null,null,null,null,null,null,"SC_2050",0,0,0]
[null,null,null,null,null,null,null,null,null,"SC_2009",null,"SC_2045",2,null,null,null,null,null,null,"SC_2093",0,0,0]
[null,null,null,null,null,null,null,null,null,"SC_2009",null,"SC_2045",2,null,null,null,null,null,null,"SC_2092",0,0,0]
[null,null,null,null,null,null,null,null,null,"SC_2022",null,"SC_2047",2,null,null,null,null,null,null,"SC_2141",0,0,0]
[null,null,null,null,null,null,null,null,null,"SC_2022",null,"SC_2047",2,null,null,null,null,null,null,"SC_2073",0,0,0]
[null,null,null,null,null,null,null,null,null,"SC_2034",null,"SC_2048",2,null,null,null,null,null,null,"SC_2181",0,0,0]
[null,null,null,null,null,null,null,null,null,"SC_2034",null,"SC_2048",2,null,null,null,null,null,null,"SC_2164",0,0,0]
[null,null,null,null,null,null,null,null,null,"SC_2036",null,"SC_2009",2,null,null,null,null,null,null,"SC_2182",0,0,0]
[null,null,null,null,null,null,null,null,null,"SC_2036",null,"SC_2009",2,null,null,null,null,null,null,"SC_2230",0,0,0]
[null,null,null,null,null,null,null,null,null,"SC_2099",null,"SC_2022",2,null,null,null,null,null,null,"SC_2244",0,0,0]
[null,null,null,null,null,null,null,null,null,"SC_2099",null,"SC_2022",2,null,null,null,null,null,null,"SC_2161",0,0,0]
[null,null,null,null,null,null,null,null,null,"SC_1525",null,"SC_2034",2,null,null,null,null,null,null,"SC_2196",0,0,0]
[null,null,null,null,null,null,null,null,null,"SC_1525",null,"SC_2034",2,null,null,null,null,null,null,"SC_1890",0,0,0]
[null,null,null,null,null,null,null,null,null,"SC_1945",null,"SC_2036",2,null,null,null,null,null,null,"SC_1893",0,0,0]
[null,null,null,null,null,null,null,null,null,"SC_1945",null,"SC_2036",2,null,null,null,null,null,null,"SC_2082",0,0,0]
[null,null,null,null,null,null,null,null,null,"SC_2179",null,"SC_2099",2,null,null,null,null,null,null,"SC_2142",0,0,0]
[null,null,null,null,null,null,null,null,null,"SC_2179",null,"SC_2099",2,null,null,null,null,null,null,"SC_2197",0,0,0]
[null,null,null,null,null,null,null,null,null,"SC_1521",null,"SC_1525",2,null,null,null,null,null,null,"SC_2282",0,0,0]
[null,null,null,null,null,null,null,null,null,"SC_2201",null,"SC_1525",2,null,null,null,null,null,null,"SC_2134",0,0,0]
[null,null,null,null,null,null,null,null,null,"SC_2201",null,"SC_1945",2,null,null,null,null,null,null,"SC_1871",0,0,0]
[null,null,null,null,null,null,null,null,null,"SC_2203",null,"SC_1945",2]
[null,null,null,null,null,null,null,null,null,"SC_2203",null,"SC_2012",0]
[null,null,null,null,null,null,null,null,null,"SC_2146",null,"SC_2012",0]
[null,null,null,null,null,null,null,null,null,"SC_2146",null,"SC_2179",2]
[null,null,null,null,null,null,null,null,null,"SC_2000",null,"SC_2179",2]
[null,null,null,null,null,null,null,null,null,"SC_2000",null,"SC_1521",1]
[null,null,null,null,null,null,null,null,null,"SC_2019",null,"SC_2201",2]
[null,null,null,null,null,null,null,null,null,"SC_2019",null,"SC_2201",2]
[null,null,null,null,null,null,null,null,null,"SC_2256",null,"SC_2203",2]
[null,null,null,null,null,null,null,null,null,"SC_2256",null,"SC_2203",2]
[null,null,null,null,null,null,null,null,null,"SC_2336",null,"SC_2204",0]
[null,null,null,null,null,null,null,null,null,"SC_2336",null,"SC_2204",0]
[null,null,null,null,null,null,null,null,null,"SC_2186",null,"SC_2146",2]
[null,null,null,null,null,null,null,null,null,"SC_2186",null,"SC_2146",2]
[null,null,null,null,null,null,null,null,null,"SC_1688",null,"SC_2000",2]
[null,null,null,null,null,null,null,null,null,"SC_1688",null,"SC_2000",2]
[null,null,null,null,null,null,null,null,null,"SC_2192",null,"SC_2019",2]
[null,null,null,null,null,null,null,null,null,"SC_2192",null,"SC_2019",2]
[null,null,null,null,null,null,null,null,null,"SC_2216",null,"SC_2027",0]
[null,null,null,null,null,null,null,null,null,"SC_2216",null,"SC_2027",0]
[null,null,null,null,null,null,null,null,null,"SC_2187",null,"SC_2027",0]
[null,null,null,null,null,null,null,null,null,"SC_2187",null,"SC_2256",2]
[null,null,null,null,null,null,null,null,null,"SC_2122",null,"SC_2256",2]
[null,null,null,null,null,null,null,null,null,"SC_2122",null,"SC_2336",{"$f":"COUNTIF($J$2:$J$144,L131)","v":2}]
[null,null,null,null,null,null,null,null,null,"SC_1741",null,"SC_2336",2]
[null,null,null,null,null,null,null,null,null,"SC_1741",null,"SC_2186",2]
[null,null,null,null,null,null,null,null,null,"SC_170",null,"SC_2186",2]
[null,null,null,null,null,null,null,null,null,"SC_170",null,"SC_1688",2]
[null,null,null,null,null,null,null,null,null,"SC_829",null,"SC_1688",2]
[null,null,null,null,null,null,null,null,null,"SC_829",null,"SC_2192",2]
[null,null,null,null,null,null,null,null,null,"SC_436",null,"SC_2192",2]
[null,null,null,null,null,null,null,null,null,"SC_436",null,"SC_2216",2]
[null,null,null,null,null,null,null,null,null,"SC_484",null,"SC_2216",2]
[null,null,null,null,null,null,null,null,null,"SC_501",null,"SC_2187",2]
[null,null,null,null,null,null,null,null,null,"SC_501",null,"SC_2187",2]
[null,null,null,null,null,null,null,null,null,"SC_545",null,"SC_2122",2]
[null,null,null,null,null,null,null,null,null,"SC_545",null,"SC_2122",2]
[null,null,null,null,null,null,null,null,null,null,null,"SC_1741",2]
[null,null,null,null,null,null,null,null,null,null,null,"SC_1741",2]
[null,null,null,null,null,null,null,null,null,null,null,"SC_68",0]
[null,null,null,null,null,null,null,null,null,null,null,"SC_170",2]
[null,null,null,null,null,null,null,null,null,null,null,"SC_170",2]
[null,null,null,null,null,null,null,null,null,null,null,"SC_829",2]
[null,null,null,null,null,null,null,null,null,null,null,"SC_829",2]
[null,null,null,null,null,null,null,null,null,null,null,"SC_436",2]
[null,null,null,null,null,null,null,null,null,null,null,"SC_436",2]
[null,null,null,null,null,null,null,null,null,null,null,"SC_484",1]
[null,null,null,null,null,null,null,null,null,null,null,"SC_501",2]
[null,null,null,null,null,null,null,null,null,null,null,"SC_501",2]
[null,null,null,null,null,null,null,null,null,null,null,"SC_545",2]
[null,null,null,null,null,null,null,null,null,null,null,"SC_545",2]

{"sheet":"IT-TA","index":4,"n_rows":281,"n_cols":10,"rows_kept":281,"cut":false,"hidden":false,"merged":[]}
[null,"Codigo","Nombre","Capacidad","Licencia Ambiental obtenida","Año de entrada","P","Total",null,"Año de Referencia"]
[null,{"$f":"IF(ISBLANK(InfoPro!A2),\"\",InfoPro!A2)","v":"\tSC_1373_A1"},{"$f":"IF(ISBLANK(InfoPro!B2),\"\",InfoPro!B2)","v":"Pétalo del Magdalena II Guacamayal"},{"$f":"IF(ISBLANK(InfoPro!E2),\"\",InfoPro!E2)","v":9.9},{"$f":"IF(ISBLANK(InfoPro!N2),\"\",InfoPro!N2)","v":"NO"},{"$f":"IF(ISBLANK(InfoPro!I2),\"\",YEAR(InfoPro!I2)-$J$2)","v":3},{"$f":"IF(E2=\"SI\",100,IF(E2=\"NO\",0,\"\"))","v":0},{"$f":"IF(G2=\"\",\"\",(G2))","v":0},null,2023]
[null,{"$f":"IF(ISBLANK(InfoPro!A3),\"\",InfoPro!A3)","v":"\tSC_1373_A2"},{"$f":"IF(ISBLANK(InfoPro!B3),\"\",InfoPro!B3)","v":"Pétalo del Magdalena II Guacamayal"},{"$f":"IF(ISBLANK(InfoPro!E3),\"\",InfoPro!E3)","v":9.9},{"$f":"IF(ISBLANK(InfoPro!N3),\"\",InfoPro!N3)","v":"NO"},{"$f":"IF(ISBLANK(InfoPro!I3),\"\",YEAR(InfoPro!I3)-$J$2)","v":3},{"$f":"IF(E3=\"SI\",100,IF(E3=\"NO\",0,\"\"))","v":0},{"$f":"IF(G3=\"\",\"\",(G3))","v":0}]
[null,{"$f":"IF(ISBLANK(InfoPro!A4),\"\",InfoPro!A4)","v":"SC_1012_A1"},{"$f":"IF(ISBLANK(InfoPro!B4),\"\",InfoPro!B4)","v":"PARQUE SOLAR FOTOVOLTAICO TUNA"},{"$f":"IF(ISBLANK(InfoPro!E4),\"\",InfoPro!E4)","v":100},{"$f":"IF(ISBLANK(InfoPro!N4),\"\",InfoPro!N4)","v":"NO"},{"$f":"IF(ISBLANK(InfoPro!I4),\"\",YEAR(InfoPro!I4)-$J$2)","v":3},0,0]
[null,{"$f":"IF(ISBLANK(InfoPro!A5),\"\",InfoPro!A5)","v":"SC_1012_A2"},{"$f":"IF(ISBLANK(InfoPro!B5),\"\",InfoPro!B5)","v":"PARQUE SOLAR FOTOVOLTAICO TUNA"},{"$f":"IF(ISBLANK(InfoPro!E5),\"\",InfoPro!E5)","v":100},{"$f":"IF(ISBLANK(InfoPro!N5),\"\",InfoPro!N5)","v":"NO"},{"$f":"IF(ISBLANK(InfoPro!I5),\"\",YEAR(InfoPro!I5)-$J$2)","v":3},0,0]
[null,{"$f":"IF(ISBLANK(InfoPro!A6),\"\",InfoPro!A6)","v":"SC_1077_A1"},{"$f":"IF(ISBLANK(InfoPro!B6),\"\",InfoPro!B6)","v":"Nevada I 90 MW"},{"$f":"IF(ISBLANK(InfoPro!E6),\"\",InfoPro!E6)","v":90},{"$f":"IF(ISBLANK(InfoPro!N6),\"\",InfoPro!N6)","v":"NO"},{"$f":"IF(ISBLANK(InfoPro!I6),\"\",YEAR(InfoPro!I6)-$J$2)","v":7},0,0]
[null,{"$f":"IF(ISBLANK(InfoPro!A7),\"\",InfoPro!A7)","v":"SC_1077_A2"},{"$f":"IF(ISBLANK(InfoPro!B7),\"\",InfoPro!B7)","v":"Nevada I 90 MW"},{"$f":"IF(ISBLANK(InfoPro!E7),\"\",InfoPro!E7)","v":90},{"$f":"IF(ISBLANK(InfoPro!N7),\"\",InfoPro!N7)","v":"NO"},{"$f":"IF(ISBLANK(InfoPro!I7),\"\",YEAR(InfoPro!I7)-$J$2)","v":7},0,0]
[null,{"$f":"IF(ISBLANK(InfoPro!A8),\"\",InfoPro!A8)","v":"SC_1135_A1"},{"$f":"IF(ISBLANK(InfoPro!B8),\"\",InfoPro!B8)","v":"Parque Eólico Brisas 1"},{"$f":"IF(ISBLANK(InfoPro!E8),\"\",InfoPro!E8)","v":200},{"$f":"IF(ISBLANK(InfoPro!N8),\"\",InfoPro!N8)","v":"NO"},{"$f":"IF(ISBLANK(InfoPro!I8),\"\",YEAR(InfoPro!I8)-$J$2)","v":5},0,0]
[null,{"$f":"IF(ISBLANK(InfoPro!A9),\"\",InfoPro!A9)","v":"SC_1135_A2"},{"$f":"IF(ISBLANK(InfoPro!B9),\"\",InfoPro!B9)","v":"Parque Eólico Brisas 1"},{"$f":"IF(ISBLANK(InfoPro!E9),\"\",InfoPro!E9)","v":200},{"$f":"IF(ISBLANK(InfoPro!N9),\"\",InfoPro!N9)","v":"NO"},{"$f":"IF(ISBLANK(InfoPro!I9),\"\",YEAR(InfoPro!I9)-$J$2)","v":5},0,0]
[null,{"$f":"IF(ISBLANK(InfoPro!A10),\"\",InfoPro!A10)","v":"SC_1154_A1"},{"$f":"IF(ISBLANK(InfoPro!B10),\"\",InfoPro!B10)","v":"Parque Eólico Brisas 2"},{"$f":"IF(ISBLANK(InfoPro!E10),\"\",InfoPro!E10)","v":200},{"$f":"IF(ISBLANK(InfoPro!N10),\"\",InfoPro!N10)","v":"NO"},{"$f":"IF(ISBLANK(InfoPro!I10),\"\",YEAR(InfoPro!I10)-$J$2)","v":6},0,0]
[null,{"$f":"IF(ISBLANK(InfoPro!A11),\"\",InfoPro!A11)","v":"SC_1154_A2"},{"$f":"IF(ISBLANK(InfoPro!B11),\"\",InfoPro!B11)","v":"Parque Eólico Brisas 2"},{"$f":"IF(ISBLANK(InfoPro!E11),\"\",InfoPro!E11)","v":200},{"$f":"IF(ISBLANK(InfoPro!N11),\"\",InfoPro!N11)","v":"NO"},{"$f":"IF(ISBLANK(InfoPro!I11),\"\",YEAR(InfoPro!I11)-$J$2)","v":6},0,0]
[null,{"$f":"IF(ISBLANK(InfoPro!A12),\"\",InfoPro!A12)","v":"SC_1161_A1"},{"$f":"IF(ISBLANK(InfoPro!B12),\"\",InfoPro!B12)","v":"Parque Eólico Brisas 3"},{"$f":"IF(ISBLANK(InfoPro!E12),\"\",InfoPro!E12)","v":200},{"$f":"IF(ISBLANK(InfoPro!N12),\"\",InfoPro!N12)","v":"NO"},{"$f":"IF(ISBLANK(InfoPro!I12),\"\",YEAR(InfoPro!I12)-$J$2)","v":7},0,0]
[null,{"$f":"IF(ISBLANK(InfoPro!A13),\"\",InfoPro!A13)","v":"SC_1161_A2"},{"$f":"IF(ISBLANK(InfoPro!B13),\"\",InfoPro!B13)","v":"Parque Eólico Brisas 3"},{"$f":"IF(ISBLANK(InfoPro!E13),\"\",InfoPro!E13)","v":200},{"$f":"IF(ISBLANK(InfoPro!N13),\"\",InfoPro!N13)","v":"NO"},{"$f":"IF(ISBLANK(InfoPro!I13),\"\",YEAR(InfoPro!I13)-$J$2)","v":7},0,0]
[null,{"$f":"IF(ISBLANK(InfoPro!#REF!),\"\",InfoPro!#REF!)","v":{"$error":"#REF!"}},{"$f":"IF(ISBLANK(InfoPro!#REF!),\"\",InfoPro!#REF!)","v":{"$error":"#REF!"}},{"$f":"IF(ISBLANK(InfoPro!#REF!),\"\",InfoPro!#REF!)","v":{"$error":"#REF!"}},{"$f":"IF(ISBLANK(InfoPro!#REF!),\"\",InfoPro!#REF!)","v":{"$error":"#REF!"}},{"$f":"IF(ISBLANK(InfoPro!#REF!),\"\",YEAR(InfoPro!#REF!)-$J$2)","v":{"$error":"#REF!"}},{"$error":"#REF!"},{"$error":"#REF!"}]
[null,{"$f":"IF(ISBLANK(InfoPro!A14),\"\",InfoPro!A14)","v":"SC_1211_A1"},{"$f":"IF(ISBLANK(InfoPro!B14),\"\",InfoPro!B14)","v":"Planta Solar FV Caracolicitos 69MW"},{"$f":"IF(ISBLANK(InfoPro!E14),\"\",InfoPro!E14)","v":69},{"$f":"IF(ISBLANK(InfoPro!N14),\"\",InfoPro!N14)","v":"NO"},{"$f":"IF(ISBLANK(InfoPro!I14),\"\",YEAR(InfoPro!I14)-$J$2)","v":3},0,0]
[null,{"$f":"IF(ISBLANK(InfoPro!A15),\"\",InfoPro!A15)","v":"SC_1211_A2"},{"$f":"IF(ISBLANK(InfoPro!B15),\"\",InfoPro!B15)","v":"Planta Solar FV Caracolicitos 69MW"},{"$f":"IF(ISBLANK(InfoPro!E15),\"\",InfoPro!E15)","v":69},{"$f":"IF(ISBLANK(InfoPro!N15),\"\",InfoPro!N15)","v":"NO"},{"$f":"IF(ISBLANK(InfoPro!I15),\"\",YEAR(InfoPro!I15)-$J$2)","v":3},0,0]
[null,{"$f":"IF(ISBLANK(InfoPro!A16),\"\",InfoPro!A16)","v":"SC_1218_A1"},{"$f":"IF(ISBLANK(InfoPro!B16),\"\",InfoPro!B16)","v":"Las Flores 150 MW"},{"$f":"IF(ISBLANK(InfoPro!E16),\"\",InfoPro!E16)","v":150},{"$f":"IF(ISBLANK(InfoPro!N16),\"\",InfoPro!N16)","v":"NO"},{"$f":"IF(ISBLANK(InfoPro!I16),\"\",YEAR(InfoPro!I16)-$J$2)","v":2},0,0]
[null,{"$f":"IF(ISBLANK(InfoPro!A17),\"\",InfoPro!A17)","v":"SC_1223_A1"},{"$f":"IF(ISBLANK(InfoPro!B17),\"\",InfoPro!B17)","v":"Parque Eolico Sirius"},{"$f":"IF(ISBLANK(InfoPro!E17),\"\",InfoPro!E17)","v":100},{"$f":"IF(ISBLANK(InfoPro!N17),\"\",InfoPro!N17)","v":"NO"},{"$f":"IF(ISBLANK(InfoPro!I17),\"\",YEAR(InfoPro!I17)-$J$2)","v":2},0,0]
[null,{"$f":"IF(ISBLANK(InfoPro!A18),\"\",InfoPro!A18)","v":"SC_1232_A1"},{"$f":"IF(ISBLANK(InfoPro!B18),\"\",InfoPro!B18)","v":"La Paz Solar 9,9 MW"},{"$f":"IF(ISBLANK(InfoPro!E18),\"\",InfoPro!E18)","v":9.9},{"$f":"IF(ISBLANK(InfoPro!N18),\"\",InfoPro!N18)","v":"NO"},{"$f":"IF(ISBLANK(InfoPro!I18),\"\",YEAR(InfoPro!I18)-$J$2)","v":2},0,0]
[null,{"$f":"IF(ISBLANK(InfoPro!A19),\"\",InfoPro!A19)","v":"SC_1232_A2"},{"$f":"IF(ISBLANK(InfoPro!B19),\"\",InfoPro!B19)","v":"La Paz Solar 9,9 MW"},{"$f":"IF(ISBLANK(InfoPro!E19),\"\",InfoPro!E19)","v":9.9},{"$f":"IF(ISBLANK(InfoPro!N19),\"\",InfoPro!N19)","v":"NO"},{"$f":"IF(ISBLANK(InfoPro!I19),\"\",YEAR(InfoPro!I19)-$J$2)","v":2},0,0]
[null,{"$f":"IF(ISBLANK(InfoPro!A20),\"\",InfoPro!A20)","v":"SC_1239_A1"},{"$f":"IF(ISBLANK(InfoPro!B20),\"\",InfoPro!B20)","v":"El Carmen"},{"$f":"IF(ISBLANK(InfoPro!E20),\"\",InfoPro!E20)","v":104.5},{"$f":"IF(ISBLANK(InfoPro!N20),\"\",InfoPro!N20)","v":"NO"},{"$f":"IF(ISBLANK(InfoPro!I20),\"\",YEAR(InfoPro!I20)-$J$2)","v":4},0,0]
[null,{"$f":"IF(ISBLANK(InfoPro!A21),\"\",InfoPro!A21)","v":"SC_1239_A2"},{"$f":"IF(ISBLANK(InfoPro!B21),\"\",InfoPro!B21)","v":"El Carmen"},{"$f":"IF(ISBLANK(InfoPro!E21),\"\",InfoPro!E21)","v":104.5},{"$f":"IF(ISBLANK(InfoPro!N21),\"\",InfoPro!N21)","v":"NO"},{"$f":"IF(ISBLANK(InfoPro!I21),\"\",YEAR(InfoPro!I21)-$J$2)","v":4},0,0]
[null,{"$f":"IF(ISBLANK(InfoPro!A22),\"\",InfoPro!A22)","v":"SC_1244_A1"},{"$f":"IF(ISBLANK(InfoPro!B22),\"\",InfoPro!B22)","v":"Proyecto Maria"},{"$f":"IF(ISBLANK(InfoPro!E22),\"\",InfoPro!E22)","v":120},{"$f":"IF(ISBLANK(InfoPro!N22),\"\",InfoPro!N22)","v":"NO"},{"$f":"IF(ISBLANK(InfoPro!I22),\"\",YEAR(InfoPro!I22)-$J$2)","v":3},0,0]
[null,{"$f":"IF(ISBLANK(InfoPro!A23),\"\",InfoPro!A23)","v":"SC_1252_A1"},{"$f":"IF(ISBLANK(InfoPro!B23),\"\",InfoPro!B23)","v":"Parque Eólico Neptuno"},{"$f":"IF(ISBLANK(InfoPro!E23),\"\",InfoPro!E23)","v":150},{"$f":"IF(ISBLANK(InfoPro!N23),\"\",InfoPro!N23)","v":"NO"},{"$f":"IF(ISBLANK(InfoPro!I23),\"\",YEAR(InfoPro!I23)-$J$2)","v":3},0,0]
[null,{"$f":"IF(ISBLANK(InfoPro!A24),\"\",InfoPro!A24)","v":"SC_1262_A1"},{"$f":"IF(ISBLANK(InfoPro!B24),\"\",InfoPro!B24)","v":"Parque Solar Australe de 251 MW (entrega 200 MW)"},{"$f":"IF(ISBLANK(InfoPro!E24),\"\",InfoPro!E24)","v":200},{"$f":"IF(ISBLANK(InfoPro!N24),\"\",InfoPro!N24)","v":"NO"},{"$f":"IF(ISBLANK(InfoPro!I24),\"\",YEAR(InfoPro!I24)-$J$2)","v":3},0,0]
[null,{"$f":"IF(ISBLANK(InfoPro!A25),\"\",InfoPro!A25)","v":"SC_1262_A2"},{"$f":"IF(ISBLANK(InfoPro!B25),\"\",InfoPro!B25)","v":"Parque Solar Australe de 251 MW (entrega 200 MW)"},{"$f":"IF(ISBLANK(InfoPro!E25),\"\",InfoPro!E25)","v":200},{"$f":"IF(ISBLANK(InfoPro!N25),\"\",InfoPro!N25)","v":"NO"},{"$f":"IF(ISBLANK(InfoPro!I25),\"\",YEAR(InfoPro!I25)-$J$2)","v":3},0,0]
[null,{"$f":"IF(ISBLANK(InfoPro!A26),\"\",InfoPro!A26)","v":"SC_1264_A1"},{"$f":"IF(ISBLANK(InfoPro!B26),\"\",InfoPro!B26)","v":"Parque Solar Galus de 133 MW (entrega 110 MW)"},{"$f":"IF(ISBLANK(InfoPro!E26),\"\",InfoPro!E26)","v":110},{"$f":"IF(ISBLANK(InfoPro!N26),\"\",InfoPro!N26)","v":"NO"},{"$f":"IF(ISBLANK(InfoPro!I26),\"\",YEAR(InfoPro!I26)-$J$2)","v":4},0,0]
[null,{"$f":"IF(ISBLANK(InfoPro!A27),\"\",InfoPro!A27)","v":"SC_1264_A2"},{"$f":"IF(ISBLANK(InfoPro!B27),\"\",InfoPro!B27)","v":"Parque Solar Galus de 133 MW (entrega 110 MW)"},{"$f":"IF(ISBLANK(InfoPro!E27),\"\",InfoPro!E27)","v":110},{"$f":"IF(ISBLANK(InfoPro!N27),\"\",InfoPro!N27)","v":"NO"},{"$f":"IF(ISBLANK(InfoPro!I27),\"\",YEAR(InfoPro!I27)-$J$2)","v":4},0,0]
[null,{"$f":"IF(ISBLANK(InfoPro!A28),\"\",InfoPro!A28)","v":"SC_1266_A1"},{"$f":"IF(ISBLANK(InfoPro!B28),\"\",InfoPro!B28)","v":"Parque Solar Fornax DE 127 MW (Entrega 105 MW)"},{"$f":"IF(ISBLANK(InfoPro!E28),\"\",InfoPro!E28)","v":105},{"$f":"IF(ISBLANK(InfoPro!N28),\"\",InfoPro!N28)","v":"NO"},{"$f":"IF(ISBLANK(InfoPro!I28),\"\",YEAR(InfoPro!I28)-$J$2)","v":4},0,0]
[null,{"$f":"IF(ISBLANK(InfoPro!A29),\"\",InfoPro!A29)","v":"SC_1266_A2"},{"$f":"IF(ISBLANK(InfoPro!B29),\"\",InfoPro!B29)","v":"Parque Solar Fornax DE 127 MW (Entrega 105 MW)"},{"$f":"IF(ISBLANK(InfoPro!E29),\"\",InfoPro!E29)","v":105},{"$f":"IF(ISBLANK(InfoPro!N29),\"\",InfoPro!N29)","v":"NO"},{"$f":"IF(ISBLANK(InfoPro!I29),\"\",YEAR(InfoPro!I29)-$J$2)","v":4},0,0]
[null,{"$f":"IF(ISBLANK(InfoPro!A30),\"\",InfoPro!A30)","v":"SC_1272_A1"},{"$f":"IF(ISBLANK(InfoPro!B30),\"\",InfoPro!B30)","v":"Guacamayal Solar de 9,9 MW"},{"$f":"IF(ISBLANK(InfoPro!E30),\"\",InfoPro!E30)","v":9.9},{"$f":"IF(ISBLANK(InfoPro!N30),\"\",InfoPro!N30)","v":"NO"},{"$f":"IF(ISBLANK(InfoPro!I30),\"\",YEAR(InfoPro!I30)-$J$2)","v":1},0,0]
[null,{"$f":"IF(ISBLANK(InfoPro!A31),\"\",InfoPro!A31)","v":"SC_1272_A2"},{"$f":"IF(ISBLANK(InfoPro!B31),\"\",InfoPro!B31)","v":"Guacamayal Solar de 9,9 MW"},{"$f":"IF(ISBLANK(InfoPro!E31),\"\",InfoPro!E31)","v":9.9},{"$f":"IF(ISBLANK(InfoPro!N31),\"\",InfoPro!N31)","v":"NO"},{"$f":"IF(ISBLANK(InfoPro!I31),\"\",YEAR(InfoPro!I31)-$J$2)","v":1},0,0]
[null,{"$f":"IF(ISBLANK(InfoPro!A32),\"\",InfoPro!A32)","v":"SC_1293_A1"},{"$f":"IF(ISBLANK(InfoPro!B32),\"\",InfoPro!B32)","v":"Leo Solar II"},{"$f":"IF(ISBLANK(InfoPro!E32),\"\",InfoPro!E32)","v":80},{"$f":"IF(ISBLANK(InfoPro!N32),\"\",InfoPro!N32)","v":"NO"},{"$f":"IF(ISBLANK(InfoPro!I32),\"\",YEAR(InfoPro!I32)-$J$2)","v":2},0,0]
[null,{"$f":"IF(ISBLANK(InfoPro!A33),\"\",InfoPro!A33)","v":"SC_1293_A2"},{"$f":"IF(ISBLANK(InfoPro!B33),\"\",InfoPro!B33)","v":"Leo Solar II"},{"$f":"IF(ISBLANK(InfoPro!E33),\"\",InfoPro!E33)","v":80},{"$f":"IF(ISBLANK(InfoPro!N33),\"\",InfoPro!N33)","v":"NO"},{"$f":"IF(ISBLANK(InfoPro!I33),\"\",YEAR(InfoPro!I33)-$J$2)","v":2},0,0]
[null,{"$f":"IF(ISBLANK(InfoPro!A34),\"\",InfoPro!A34)","v":"SC_1306_A1"},{"$f":"IF(ISBLANK(InfoPro!B34),\"\",InfoPro!B34)","v":"Leo Solar I"},{"$f":"IF(ISBLANK(InfoPro!E34),\"\",InfoPro!E34)","v":19.899999999999999},{"$f":"IF(ISBLANK(InfoPro!N34),\"\",InfoPro!N34)","v":"NO"},{"$f":"IF(ISBLANK(InfoPro!I34),\"\",YEAR(InfoPro!I34)-$J$2)","v":2},0,0]
[null,{"$f":"IF(ISBLANK(InfoPro!A35),\"\",InfoPro!A35)","v":"SC_1306_A2"},{"$f":"IF(ISBLANK(InfoPro!B35),\"\",InfoPro!B35)","v":"Leo Solar I"},{"$f":"IF(ISBLANK(InfoPro!E35),\"\",InfoPro!E35)","v":19.899999999999999},{"$f":"IF(ISBLANK(InfoPro!N35),\"\",InfoPro!N35)","v":"NO"},{"$f":"IF(ISBLANK(InfoPro!I35),\"\",YEAR(InfoPro!I35)-$J$2)","v":2},0,0]
[null,{"$f":"IF(ISBLANK(InfoPro!A36),\"\",InfoPro!A36)","v":"SC_1311_A1"},{"$f":"IF(ISBLANK(InfoPro!B36),\"\",InfoPro!B36)","v":"Elipse de 200 MW"},{"$f":"IF(ISBLANK(InfoPro!E36),\"\",InfoPro!E36)","v":200},{"$f":"IF(ISBLANK(InfoPro!N36),\"\",InfoPro!N36)","v":"NO"},{"$f":"IF(ISBLANK(InfoPro!I36),\"\",YEAR(InfoPro!I36)-$J$2)","v":2},0,0]
[null,{"$f":"IF(ISBLANK(InfoPro!A37),\"\",InfoPro!A37)","v":"SC_1312_A1"},{"$f":"IF(ISBLANK(InfoPro!B37),\"\",InfoPro!B37)","v":"Omega de 300 MW"},{"$f":"IF(ISBLANK(InfoPro!E37),\"\",InfoPro!E37)","v":300},{"$f":"IF(ISBLANK(InfoPro!N37),\"\",InfoPro!N37)","v":"NO"},{"$f":"IF(ISBLANK(InfoPro!I37),\"\",YEAR(InfoPro!I37)-$J$2)","v":5},0,0]
[null,{"$f":"IF(ISBLANK(InfoPro!A38),\"\",InfoPro!A38)","v":"SC_1313_A1"},{"$f":"IF(ISBLANK(InfoPro!B38),\"\",InfoPro!B38)","v":"Kappa de 500 MW"},{"$f":"IF(ISBLANK(InfoPro!E38),\"\",InfoPro!E38)","v":500},{"$f":"IF(ISBLANK(InfoPro!N38),\"\",InfoPro!N38)","v":"NO"},{"$f":"IF(ISBLANK(InfoPro!I38),\"\",YEAR(InfoPro!I38)-$J$2)","v":4},0,0]
[null,{"$f":"IF(ISBLANK(InfoPro!A39),\"\",InfoPro!A39)","v":"SC_1315_A1"},{"$f":"IF(ISBLANK(InfoPro!B39),\"\",InfoPro!B39)","v":"Parque Eólico Cordobita - 50MW"},{"$f":"IF(ISBLANK(InfoPro!E39),\"\",InfoPro!E39)","v":50},{"$f":"IF(ISBLANK(InfoPro!N39),\"\",InfoPro!N39)","v":"NO"},{"$f":"IF(ISBLANK(InfoPro!I39),\"\",YEAR(InfoPro!I39)-$J$2)","v":4},0,0]
[null,{"$f":"IF(ISBLANK(InfoPro!A40),\"\",InfoPro!A40)","v":"SC_1315_A2"},{"$f":"IF(ISBLANK(InfoPro!B40),\"\",InfoPro!B40)","v":"Parque Eólico Cordobita - 50MW"},{"$f":"IF(ISBLANK(InfoPro!E40),\"\",InfoPro!E40)","v":50},{"$f":"IF(ISBLANK(InfoPro!N40),\"\",InfoPro!N40)","v":"NO"},{"$f":"IF(ISBLANK(InfoPro!I40),\"\",YEAR(InfoPro!I40)-$J$2)","v":4},0,0]
[null,{"$f":"IF(ISBLANK(InfoPro!A41),\"\",InfoPro!A41)","v":"SC_1317_A1"},{"$f":"IF(ISBLANK(InfoPro!B41),\"\",InfoPro!B41)","v":"EÓLICA BONDA - 70MW"},{"$f":"IF(ISBLANK(InfoPro!E41),\"\",InfoPro!E41)","v":70},{"$f":"IF(ISBLANK(InfoPro!N41),\"\",InfoPro!N41)","v":"NO"},{"$f":"IF(ISBLANK(InfoPro!I41),\"\",YEAR(InfoPro!I41)-$J$2)","v":4},0,0]
[null,{"$f":"IF(ISBLANK(InfoPro!A42),\"\",InfoPro!A42)","v":"SC_1321_A1"},{"$f":"IF(ISBLANK(InfoPro!B42),\"\",InfoPro!B42)","v":"OWF ASTROLABIO - 600 MW"},{"$f":"IF(ISBLANK(InfoPro!E42),\"\",InfoPro!E42)","v":600},{"$f":"IF(ISBLANK(InfoPro!N42),\"\",InfoPro!N42)","v":"NO"},{"$f":"IF(ISBLANK(InfoPro!I42),\"\",YEAR(InfoPro!I42)-$J$2)","v":11},0,0]
[null,{"$f":"IF(ISBLANK(InfoPro!A43),\"\",InfoPro!A43)","v":"SC_1321_A2"},{"$f":"IF(ISBLANK(InfoPro!B43),\"\",InfoPro!B43)","v":"OWF ASTROLABIO - 600 MW"},{"$f":"IF(ISBLANK(InfoPro!E43),\"\",InfoPro!E43)","v":825},{"$f":"IF(ISBLANK(InfoPro!N43),\"\",InfoPro!N43)","v":"NO"},{"$f":"IF(ISBLANK(InfoPro!I43),\"\",YEAR(InfoPro!I43)-$J$2)","v":11},0,0]
[null,{"$f":"IF(ISBLANK(InfoPro!A44),\"\",InfoPro!A44)","v":"SC_1336_A1"},{"$f":"IF(ISBLANK(InfoPro!B44),\"\",InfoPro!B44)","v":"AES Solar 4"},{"$f":"IF(ISBLANK(InfoPro!E44),\"\",InfoPro!E44)","v":300},{"$f":"IF(ISBLANK(InfoPro!N44),\"\",InfoPro!N44)","v":"NO"},{"$f":"IF(ISBLANK(InfoPro!I44),\"\",YEAR(InfoPro!I44)-$J$2)","v":3},0,0]
[null,{"$f":"IF(ISBLANK(InfoPro!A45),\"\",InfoPro!A45)","v":"SC_1336_A2"},{"$f":"IF(ISBLANK(InfoPro!B45),\"\",InfoPro!B45)","v":"AES Solar 4"},{"$f":"IF(ISBLANK(InfoPro!E45),\"\",InfoPro!E45)","v":300},{"$f":"IF(ISBLANK(InfoPro!N45),\"\",InfoPro!N45)","v":"NO"},{"$f":"IF(ISBLANK(InfoPro!I45),\"\",YEAR(InfoPro!I45)-$J$2)","v":3},0,0]
[null,{"$f":"IF(ISBLANK(InfoPro!A46),\"\",InfoPro!A46)","v":"SC_1345_A1"},{"$f":"IF(ISBLANK(InfoPro!B46),\"\",InfoPro!B46)","v":"Parque Eólico Jouttalein_150MW"},{"$f":"IF(ISBLANK(InfoPro!E46),\"\",InfoPro!E46)","v":150},{"$f":"IF(ISBLANK(InfoPro!N46),\"\",InfoPro!N46)","v":"NO"},{"$f":"IF(ISBLANK(InfoPro!I46),\"\",YEAR(InfoPro!I46)-$J$2)","v":2},0,0]
[null,{"$f":"IF(ISBLANK(InfoPro!A47),\"\",InfoPro!A47)","v":"SC_1345_A2"},{"$f":"IF(ISBLANK(InfoPro!B47),\"\",InfoPro!B47)","v":"Parque Eólico Jouttalein_150MW"},{"$f":"IF(ISBLANK(InfoPro!E47),\"\",InfoPro!E47)","v":150},{"$f":"IF(ISBLANK(InfoPro!N47),\"\",InfoPro!N47)","v":"NO"},{"$f":"IF(ISBLANK(InfoPro!I47),\"\",YEAR(InfoPro!I47)-$J$2)","v":2},0,0]
[null,{"$f":"IF(ISBLANK(InfoPro!A48),\"\",InfoPro!A48)","v":"SC_1347_A1"},{"$f":"IF(ISBLANK(InfoPro!B48),\"\",InfoPro!B48)","v":"AES Solar 5_100MW"},{"$f":"IF(ISBLANK(InfoPro!E48),\"\",InfoPro!E48)","v":100},{"$f":"IF(ISBLANK(InfoPro!N48),\"\",InfoPro!N48)","v":"NO"},{"$f":"IF(ISBLANK(InfoPro!I48),\"\",YEAR(InfoPro!I48)-$J$2)","v":3},0,0]
[null,{"$f":"IF(ISBLANK(InfoPro!A49),\"\",InfoPro!A49)","v":"SC_1347_A2"},{"$f":"IF(ISBLANK(InfoPro!B49),\"\",InfoPro!B49)","v":"AES Solar 5_100MW"},{"$f":"IF(ISBLANK(InfoPro!E49),\"\",InfoPro!E49)","v":100},{"$f":"IF(ISBLANK(InfoPro!N49),\"\",InfoPro!N49)","v":"NO"},{"$f":"IF(ISBLANK(InfoPro!I49),\"\",YEAR(InfoPro!I49)-$J$2)","v":3},0,0]
[null,{"$f":"IF(ISBLANK(InfoPro!A50),\"\",InfoPro!A50)","v":"SC_1355_A1"},{"$f":"IF(ISBLANK(InfoPro!B50),\"\",InfoPro!B50)","v":"Barlovento 1"},{"$f":"IF(ISBLANK(InfoPro!E50),\"\",InfoPro!E50)","v":500},{"$f":"IF(ISBLANK(InfoPro!N50),\"\",InfoPro!N50)","v":"NO"},{"$f":"IF(ISBLANK(InfoPro!I50),\"\",YEAR(InfoPro!I50)-$J$2)","v":11},0,0]
[null,{"$f":"IF(ISBLANK(InfoPro!A51),\"\",InfoPro!A51)","v":"SC_1356_A1"},{"$f":"IF(ISBLANK(InfoPro!B51),\"\",InfoPro!B51)","v":"Sol de Zawady 9,9 MW"},{"$f":"IF(ISBLANK(InfoPro!E51),\"\",InfoPro!E51)","v":9.9},{"$f":"IF(ISBLANK(InfoPro!N51),\"\",InfoPro!N51)","v":"NO"},{"$f":"IF(ISBLANK(InfoPro!I51),\"\",YEAR(InfoPro!I51)-$J$2)","v":1},0,0]
[null,{"$f":"IF(ISBLANK(InfoPro!A52),\"\",InfoPro!A52)","v":"SC_1356_A2"},{"$f":"IF(ISBLANK(InfoPro!B52),\"\",InfoPro!B52)","v":"Sol de Zawady 9,9 MW"},{"$f":"IF(ISBLANK(InfoPro!E52),\"\",InfoPro!E52)","v":9.9},{"$f":"IF(ISBLANK(InfoPro!N52),\"\",InfoPro!N52)","v":"NO"},{"$f":"IF(ISBLANK(InfoPro!I52),\"\",YEAR(InfoPro!I52)-$J$2)","v":1},0,0]
[null,{"$f":"IF(ISBLANK(InfoPro!A53),\"\",InfoPro!A53)","v":"SC_1366_A1"},{"$f":"IF(ISBLANK(InfoPro!B53),\"\",InfoPro!B53)","v":"PARQUE SOLAR TÁNGARA 100 MW"},{"$f":"IF(ISBLANK(InfoPro!E53),\"\",InfoPro!E53)","v":100},{"$f":"IF(ISBLANK(InfoPro!N53),\"\",InfoPro!N53)","v":"NO"},{"$f":"IF(ISBLANK(InfoPro!I53),\"\",YEAR(InfoPro!I53)-$J$2)","v":3},0,0]
[null,{"$f":"IF(ISBLANK(InfoPro!A54),\"\",InfoPro!A54)","v":"SC_1376_A1"},{"$f":"IF(ISBLANK(InfoPro!B54),\"\",InfoPro!B54)","v":"Expansión La Loma I - 100 MW"},{"$f":"IF(ISBLANK(InfoPro!E54),\"\",InfoPro!E54)","v":100},{"$f":"IF(ISBLANK(InfoPro!N54),\"\",InfoPro!N54)","v":"NO"},{"$f":"IF(ISBLANK(InfoPro!I54),\"\",YEAR(InfoPro!I54)-$J$2)","v":4},0,0]
[null,{"$f":"IF(ISBLANK(InfoPro!A55),\"\",InfoPro!A55)","v":"SC_1376_A2"},{"$f":"IF(ISBLANK(InfoPro!B55),\"\",InfoPro!B55)","v":"Expansión La Loma I - 100 MW"},{"$f":"IF(ISBLANK(InfoPro!E55),\"\",InfoPro!E55)","v":100},{"$f":"IF(ISBLANK(InfoPro!N55),\"\",InfoPro!N55)","v":"NO"},{"$f":"IF(ISBLANK(InfoPro!I55),\"\",YEAR(InfoPro!I55)-$J$2)","v":4},0,0]
[null,{"$f":"IF(ISBLANK(InfoPro!A56),\"\",InfoPro!A56)","v":"SC_1377_A1"},{"$f":"IF(ISBLANK(InfoPro!B56),\"\",InfoPro!B56)","v":"Eólica Cordobita - 50MW"},{"$f":"IF(ISBLANK(InfoPro!E56),\"\",InfoPro!E56)","v":50},{"$f":"IF(ISBLANK(InfoPro!N56),\"\",InfoPro!N56)","v":"NO"},{"$f":"IF(ISBLANK(InfoPro!I56),\"\",YEAR(InfoPro!I56)-$J$2)","v":4},0,0]
[null,{"$f":"IF(ISBLANK(InfoPro!A57),\"\",InfoPro!A57)","v":"SC_1377_A2"},{"$f":"IF(ISBLANK(InfoPro!B57),\"\",InfoPro!B57)","v":"Eólica Cordobita - 50MW"},{"$f":"IF(ISBLANK(InfoPro!E57),\"\",InfoPro!E57)","v":50},{"$f":"IF(ISBLANK(InfoPro!N57),\"\",InfoPro!N57)","v":"NO"},{"$f":"IF(ISBLANK(InfoPro!I57),\"\",YEAR(InfoPro!I57)-$J$2)","v":4},0,0]
[null,{"$f":"IF(ISBLANK(InfoPro!A58),\"\",InfoPro!A58)","v":"SC_1380_A1"},{"$f":"IF(ISBLANK(InfoPro!B58),\"\",InfoPro!B58)","v":"Parque Eólico Motosira"},{"$f":"IF(ISBLANK(InfoPro!E58),\"\",InfoPro!E58)","v":300},{"$f":"IF(ISBLANK(InfoPro!N58),\"\",InfoPro!N58)","v":"NO"},{"$f":"IF(ISBLANK(InfoPro!I58),\"\",YEAR(InfoPro!I58)-$J$2)","v":3},0,0]
[null,{"$f":"IF(ISBLANK(InfoPro!A59),\"\",InfoPro!A59)","v":"SC_1380_A2"},{"$f":"IF(ISBLANK(InfoPro!B59),\"\",InfoPro!B59)","v":"Parque Eólico Motosira"},{"$f":"IF(ISBLANK(InfoPro!E59),\"\",InfoPro!E59)","v":300},{"$f":"IF(ISBLANK(InfoPro!N59),\"\",InfoPro!N59)","v":"NO"},{"$f":"IF(ISBLANK(InfoPro!I59),\"\",YEAR(InfoPro!I59)-$J$2)","v":3},0,0]
[null,{"$f":"IF(ISBLANK(InfoPro!A60),\"\",InfoPro!A60)","v":"SC_1421_A1"},{"$f":"IF(ISBLANK(InfoPro!B60),\"\",InfoPro!B60)","v":"Parque Solar Fotovoltaico SJ Solar 100 MW"},{"$f":"IF(ISBLANK(InfoPro!E60),\"\",InfoPro!E60)","v":100},{"$f":"IF(ISBLANK(InfoPro!N60),\"\",InfoPro!N60)","v":"NO"},{"$f":"IF(ISBLANK(InfoPro!I60),\"\",YEAR(InfoPro!I60)-$J$2)","v":3},0,0]
[null,{"$f":"IF(ISBLANK(InfoPro!A61),\"\",InfoPro!A61)","v":"SC_1421_A2"},{"$f":"IF(ISBLANK(InfoPro!B61),\"\",InfoPro!B61)","v":"Parque Solar Fotovoltaico SJ Solar 100 MW"},{"$f":"IF(ISBLANK(InfoPro!E61),\"\",InfoPro!E61)","v":100},{"$f":"IF(ISBLANK(InfoPro!N61),\"\",InfoPro!N61)","v":"NO"},{"$f":"IF(ISBLANK(InfoPro!I61),\"\",YEAR(InfoPro!I61)-$J$2)","v":3},0,0]
[null,{"$f":"IF(ISBLANK(InfoPro!A62),\"\",InfoPro!A62)","v":"SC_1479_A1"},{"$f":"IF(ISBLANK(InfoPro!B62),\"\",InfoPro!B62)","v":"Oslo I_150MW"},{"$f":"IF(ISBLANK(InfoPro!E62),\"\",InfoPro!E62)","v":150},{"$f":"IF(ISBLANK(InfoPro!N62),\"\",InfoPro!N62)","v":"NO"},{"$f":"IF(ISBLANK(InfoPro!I62),\"\",YEAR(InfoPro!I62)-$J$2)","v":3},0,0]
[null,{"$f":"IF(ISBLANK(InfoPro!A63),\"\",InfoPro!A63)","v":"SC_1479_A2"},{"$f":"IF(ISBLANK(InfoPro!B63),\"\",InfoPro!B63)","v":"Oslo I_150MW"},{"$f":"IF(ISBLANK(InfoPro!E63),\"\",InfoPro!E63)","v":150},{"$f":"IF(ISBLANK(InfoPro!N63),\"\",InfoPro!N63)","v":"NO"},{"$f":"IF(ISBLANK(InfoPro!I63),\"\",YEAR(InfoPro!I63)-$J$2)","v":3},0,0]
[null,{"$f":"IF(ISBLANK(InfoPro!A64),\"\",InfoPro!A64)","v":"SC_1506_A1"},{"$f":"IF(ISBLANK(InfoPro!B64),\"\",InfoPro!B64)","v":"Parque Solar Toro Moreno"},{"$f":"IF(ISBLANK(InfoPro!E64),\"\",InfoPro!E64)","v":99.9},{"$f":"IF(ISBLANK(InfoPro!N64),\"\",InfoPro!N64)","v":"NO"},{"$f":"IF(ISBLANK(InfoPro!I64),\"\",YEAR(InfoPro!I64)-$J$2)","v":-2},0,0]
[null,{"$f":"IF(ISBLANK(InfoPro!A65),\"\",InfoPro!A65)","v":"SC_1506_A2"},{"$f":"IF(ISBLANK(InfoPro!B65),\"\",InfoPro!B65)","v":"Parque Solar Toro Moreno"},{"$f":"IF(ISBLANK(InfoPro!E65),\"\",InfoPro!E65)","v":99.9},{"$f":"IF(ISBLANK(InfoPro!N65),\"\",InfoPro!N65)","v":"NO"},{"$f":"IF(ISBLANK(InfoPro!I65),\"\",YEAR(InfoPro!I65)-$J$2)","v":-2},0,0]
[null,{"$f":"IF(ISBLANK(InfoPro!A66),\"\",InfoPro!A66)","v":"SC_1512_A1"},{"$f":"IF(ISBLANK(InfoPro!B66),\"\",InfoPro!B66)","v":"El Flamingo\n  - 200 MW"},{"$f":"IF(ISBLANK(InfoPro!E66),\"\",InfoPro!E66)","v":200},{"$f":"IF(ISBLANK(InfoPro!N66),\"\",InfoPro!N66)","v":"NO"},{"$f":"IF(ISBLANK(InfoPro!I66),\"\",YEAR(InfoPro!I66)-$J$2)","v":4},{"$f":"IF(E67=\"SI\",100,IF(E67=\"NO\",0,\"\"))","v":0},{"$f":"IF(G67=\"\",\"\",(G67))","v":0}]
[null,{"$f":"IF(ISBLANK(InfoPro!A67),\"\",InfoPro!A67)","v":"SC_1512_A2"},{"$f":"IF(ISBLANK(InfoPro!B67),\"\",InfoPro!B67)","v":"El Flamingo\n  - 200 MW"},{"$f":"IF(ISBLANK(InfoPro!E67),\"\",InfoPro!E67)","v":200},{"$f":"IF(ISBLANK(InfoPro!N67),\"\",InfoPro!N67)","v":"NO"},{"$f":"IF(ISBLANK(InfoPro!I67),\"\",YEAR(InfoPro!I67)-$J$2)","v":4},0,0]
[null,{"$f":"IF(ISBLANK(InfoPro!A68),\"\",InfoPro!A68)","v":"SC_1518_A1"},{"$f":"IF(ISBLANK(InfoPro!B68),\"\",InfoPro!B68)","v":"CHIRIGUANÁ - 300 MW"},{"$f":"IF(ISBLANK(InfoPro!E68),\"\",InfoPro!E68)","v":300},{"$f":"IF(ISBLANK(InfoPro!N68),\"\",InfoPro!N68)","v":"NO"},{"$f":"IF(ISBLANK(InfoPro!I68),\"\",YEAR(InfoPro!I68)-$J$2)","v":4},0,0]
[null,{"$f":"IF(ISBLANK(InfoPro!A69),\"\",InfoPro!A69)","v":"SC_1518_A2"},{"$f":"IF(ISBLANK(InfoPro!B69),\"\",InfoPro!B69)","v":"CHIRIGUANÁ - 300 MW"},{"$f":"IF(ISBLANK(InfoPro!E69),\"\",InfoPro!E69)","v":300},{"$f":"IF(ISBLANK(InfoPro!N69),\"\",InfoPro!N69)","v":"NO"},{"$f":"IF(ISBLANK(InfoPro!I69),\"\",YEAR(InfoPro!I69)-$J$2)","v":4},0,0]
[null,{"$f":"IF(ISBLANK(InfoPro!A70),\"\",InfoPro!A70)","v":"SC_1531_A1"},{"$f":"IF(ISBLANK(InfoPro!B70),\"\",InfoPro!B70)","v":"Haticos_56MW"},{"$f":"IF(ISBLANK(InfoPro!E70),\"\",InfoPro!E70)","v":56},{"$f":"IF(ISBLANK(InfoPro!N70),\"\",InfoPro!N70)","v":"NO"},{"$f":"IF(ISBLANK(InfoPro!I70),\"\",YEAR(InfoPro!I70)-$J$2)","v":4},0,0]
[null,{"$f":"IF(ISBLANK(InfoPro!A71),\"\",InfoPro!A71)","v":"SC_1531_A2"},{"$f":"IF(ISBLANK(InfoPro!B71),\"\",InfoPro!B71)","v":"Haticos_56MW"},{"$f":"IF(ISBLANK(InfoPro!E71),\"\",InfoPro!E71)","v":56},{"$f":"IF(ISBLANK(InfoPro!N71),\"\",InfoPro!N71)","v":"NO"},{"$f":"IF(ISBLANK(InfoPro!I71),\"\",YEAR(InfoPro!I71)-$J$2)","v":4},0,0]
[null,{"$f":"IF(ISBLANK(InfoPro!A72),\"\",InfoPro!A72)","v":"SC_1532_A1"},{"$f":"IF(ISBLANK(InfoPro!B72),\"\",InfoPro!B72)","v":"Las Mangas_340.8MW"},{"$f":"IF(ISBLANK(InfoPro!E72),\"\",InfoPro!E72)","v":340.8},{"$f":"IF(ISBLANK(InfoPro!N72),\"\",InfoPro!N72)","v":"NO"},{"$f":"IF(ISBLANK(InfoPro!I72),\"\",YEAR(InfoPro!I72)-$J$2)","v":4},0,0]
[null,{"$f":"IF(ISBLANK(InfoPro!A73),\"\",InfoPro!A73)","v":"SC_1532_A2"},{"$f":"IF(ISBLANK(InfoPro!B73),\"\",InfoPro!B73)","v":"Las Mangas_340.8MW"},{"$f":"IF(ISBLANK(InfoPro!E73),\"\",InfoPro!E73)","v":340.8},{"$f":"IF(ISBLANK(InfoPro!N73),\"\",InfoPro!N73)","v":"NO"},{"$f":"IF(ISBLANK(InfoPro!I73),\"\",YEAR(InfoPro!I73)-$J$2)","v":4},0,0]
[null,{"$f":"IF(ISBLANK(InfoPro!A74),\"\",InfoPro!A74)","v":"SC_1534_A1"},{"$f":"IF(ISBLANK(InfoPro!B74),\"\",InfoPro!B74)","v":"Parque Eólico Cerrito_378MW"},{"$f":"IF(ISBLANK(InfoPro!E74),\"\",InfoPro!E74)","v":378},{"$f":"IF(ISBLANK(InfoPro!N74),\"\",InfoPro!N74)","v":"NO"},{"$f":"IF(ISBLANK(InfoPro!I74),\"\",YEAR(InfoPro!I74)-$J$2)","v":2},0,0]
[null,{"$f":"IF(ISBLANK(InfoPro!A75),\"\",InfoPro!A75)","v":"SC_1534_A2"},{"$f":"IF(ISBLANK(InfoPro!B75),\"\",InfoPro!B75)","v":"Parque Eólico Cerrito_378MW"},{"$f":"IF(ISBLANK(InfoPro!E75),\"\",InfoPro!E75)","v":378},{"$f":"IF(ISBLANK(InfoPro!N75),\"\",InfoPro!N75)","v":"NO"},{"$f":"IF(ISBLANK(InfoPro!I75),\"\",YEAR(InfoPro!I75)-$J$2)","v":2},0,0]
[null,{"$f":"IF(ISBLANK(InfoPro!A76),\"\",InfoPro!A76)","v":"SC_1535_A1"},{"$f":"IF(ISBLANK(InfoPro!B76),\"\",InfoPro!B76)","v":"Parque Eólico Cerrito 2"},{"$f":"IF(ISBLANK(InfoPro!E76),\"\",InfoPro!E76)","v":200},{"$f":"IF(ISBLANK(InfoPro!N76),\"\",InfoPro!N76)","v":"NO"},{"$f":"IF(ISBLANK(InfoPro!I76),\"\",YEAR(InfoPro!I76)-$J$2)","v":2},0,0]
[null,{"$f":"IF(ISBLANK(InfoPro!A77),\"\",InfoPro!A77)","v":"SC_1535_A2"},{"$f":"IF(ISBLANK(InfoPro!B77),\"\",InfoPro!B77)","v":"Parque Eólico Cerrito 2"},{"$f":"IF(ISBLANK(InfoPro!E77),\"\",InfoPro!E77)","v":200},{"$f":"IF(ISBLANK(InfoPro!N77),\"\",InfoPro!N77)","v":"NO"},{"$f":"IF(ISBLANK(InfoPro!I77),\"\",YEAR(InfoPro!I77)-$J$2)","v":2},0,0]
[null,{"$f":"IF(ISBLANK(InfoPro!A78),\"\",InfoPro!A78)","v":"SC_1549_A1"},{"$f":"IF(ISBLANK(InfoPro!B78),\"\",InfoPro!B78)","v":"Parque Solar Bonda"},{"$f":"IF(ISBLANK(InfoPro!E78),\"\",InfoPro!E78)","v":9.9},{"$f":"IF(ISBLANK(InfoPro!N78),\"\",InfoPro!N78)","v":"NO"},{"$f":"IF(ISBLANK(InfoPro!I78),\"\",YEAR(InfoPro!I78)-$J$2)","v":2},0,0]
[null,{"$f":"IF(ISBLANK(InfoPro!A79),\"\",InfoPro!A79)","v":"SC_1549_A2"},{"$f":"IF(ISBLANK(InfoPro!B79),\"\",InfoPro!B79)","v":"Parque Solar Bonda"},{"$f":"IF(ISBLANK(InfoPro!E79),\"\",InfoPro!E79)","v":9.9},{"$f":"IF(ISBLANK(InfoPro!N79),\"\",InfoPro!N79)","v":"NO"},{"$f":"IF(ISBLANK(InfoPro!I79),\"\",YEAR(InfoPro!I79)-$J$2)","v":2},0,0]
[null,{"$f":"IF(ISBLANK(InfoPro!A80),\"\",InfoPro!A80)","v":"SC_1550_A1"},{"$f":"IF(ISBLANK(InfoPro!B80),\"\",InfoPro!B80)","v":"Parque Solar Fonseca"},{"$f":"IF(ISBLANK(InfoPro!E80),\"\",InfoPro!E80)","v":9.9},{"$f":"IF(ISBLANK(InfoPro!N80),\"\",InfoPro!N80)","v":"NO"},{"$f":"IF(ISBLANK(InfoPro!I80),\"\",YEAR(InfoPro!I80)-$J$2)","v":2},0,0]
[null,{"$f":"IF(ISBLANK(InfoPro!A81),\"\",InfoPro!A81)","v":"SC_1550_A2"},{"$f":"IF(ISBLANK(InfoPro!B81),\"\",InfoPro!B81)","v":"Parque Solar Fonseca"},{"$f":"IF(ISBLANK(InfoPro!E81),\"\",InfoPro!E81)","v":9.9},{"$f":"IF(ISBLANK(InfoPro!N81),\"\",InfoPro!N81)","v":"NO"},{"$f":"IF(ISBLANK(InfoPro!I81),\"\",YEAR(InfoPro!I81)-$J$2)","v":2},0,0]
[null,{"$f":"IF(ISBLANK(InfoPro!A82),\"\",InfoPro!A82)","v":"SC_1556_A1"},{"$f":"IF(ISBLANK(InfoPro!B82),\"\",InfoPro!B82)","v":"Copey Solar I - 100 MW"},{"$f":"IF(ISBLANK(InfoPro!E82),\"\",InfoPro!E82)","v":100},{"$f":"IF(ISBLANK(InfoPro!N82),\"\",InfoPro!N82)","v":"NO"},{"$f":"IF(ISBLANK(InfoPro!I82),\"\",YEAR(InfoPro!I82)-$J$2)","v":3},0,0]
[null,{"$f":"IF(ISBLANK(InfoPro!A83),\"\",InfoPro!A83)","v":"SC_1556_A2"},{"$f":"IF(ISBLANK(InfoPro!B83),\"\",InfoPro!B83)","v":"Copey Solar I - 100 MW"},{"$f":"IF(ISBLANK(InfoPro!E83),\"\",InfoPro!E83)","v":100},{"$f":"IF(ISBLANK(InfoPro!N83),\"\",InfoPro!N83)","v":"NO"},{"$f":"IF(ISBLANK(InfoPro!I83),\"\",YEAR(InfoPro!I83)-$J$2)","v":3},0,0]
[null,{"$f":"IF(ISBLANK(InfoPro!A84),\"\",InfoPro!A84)","v":"SC_1557_A1"},{"$f":"IF(ISBLANK(InfoPro!B84),\"\",InfoPro!B84)","v":"Copey Solar II"},{"$f":"IF(ISBLANK(InfoPro!E84),\"\",InfoPro!E84)","v":100},{"$f":"IF(ISBLANK(InfoPro!N84),\"\",InfoPro!N84)","v":"NO"},{"$f":"IF(ISBLANK(InfoPro!I84),\"\",YEAR(InfoPro!I84)-$J$2)","v":4},0,0]
[null,{"$f":"IF(ISBLANK(InfoPro!A85),\"\",InfoPro!A85)","v":"SC_1557_A2"},{"$f":"IF(ISBLANK(InfoPro!B85),\"\",InfoPro!B85)","v":"Copey Solar II"},{"$f":"IF(ISBLANK(InfoPro!E85),\"\",InfoPro!E85)","v":100},{"$f":"IF(ISBLANK(InfoPro!N85),\"\",InfoPro!N85)","v":"NO"},{"$f":"IF(ISBLANK(InfoPro!I85),\"\",YEAR(InfoPro!I85)-$J$2)","v":4},0,0]
[null,{"$f":"IF(ISBLANK(InfoPro!A86),\"\",InfoPro!A86)","v":"SC_1565_A1"},{"$f":"IF(ISBLANK(InfoPro!B86),\"\",InfoPro!B86)","v":"Eólica Río Córdoba 50 MW"},{"$f":"IF(ISBLANK(InfoPro!E86),\"\",InfoPro!E86)","v":50},{"$f":"IF(ISBLANK(InfoPro!N86),\"\",InfoPro!N86)","v":"NO"},{"$f":"IF(ISBLANK(InfoPro!I86),\"\",YEAR(InfoPro!I86)-$J$2)","v":2},0,0]
[null,{"$f":"IF(ISBLANK(InfoPro!A87),\"\",InfoPro!A87)","v":"SC_1575_A1"},{"$f":"IF(ISBLANK(InfoPro!B87),\"\",InfoPro!B87)","v":"BONDERO 70 MW"},{"$f":"IF(ISBLANK(InfoPro!E87),\"\",InfoPro!E87)","v":70},{"$f":"IF(ISBLANK(InfoPro!N87),\"\",InfoPro!N87)","v":"NO"},{"$f":"IF(ISBLANK(InfoPro!I87),\"\",YEAR(InfoPro!I87)-$J$2)","v":1},0,0]
[null,{"$f":"IF(ISBLANK(InfoPro!A88),\"\",InfoPro!A88)","v":"SC_1592_A1"},{"$f":"IF(ISBLANK(InfoPro!B88),\"\",InfoPro!B88)","v":"Expansión La Loma II - 100 MW"},{"$f":"IF(ISBLANK(InfoPro!E88),\"\",InfoPro!E88)","v":100},{"$f":"IF(ISBLANK(InfoPro!N88),\"\",InfoPro!N88)","v":"NO"},{"$f":"IF(ISBLANK(InfoPro!I88),\"\",YEAR(InfoPro!I88)-$J$2)","v":5},0,0]
[null,{"$f":"IF(ISBLANK(InfoPro!A89),\"\",InfoPro!A89)","v":"SC_1593_A1"},{"$f":"IF(ISBLANK(InfoPro!B89),\"\",InfoPro!B89)","v":"Parque Solar Camarones 6 MW"},{"$f":"IF(ISBLANK(InfoPro!E89),\"\",InfoPro!E89)","v":6},{"$f":"IF(ISBLANK(InfoPro!N89),\"\",InfoPro!N89)","v":"NO"},{"$f":"IF(ISBLANK(InfoPro!I89),\"\",YEAR(InfoPro!I89)-$J$2)","v":1},0,0]
[null,{"$f":"IF(ISBLANK(InfoPro!A90),\"\",InfoPro!A90)","v":"SC_1593_A2"},{"$f":"IF(ISBLANK(InfoPro!B90),\"\",InfoPro!B90)","v":"Parque Solar Camarones 6 MW"},{"$f":"IF(ISBLANK(InfoPro!E90),\"\",InfoPro!E90)","v":6},{"$f":"IF(ISBLANK(InfoPro!N90),\"\",InfoPro!N90)","v":"NO"},{"$f":"IF(ISBLANK(InfoPro!I90),\"\",YEAR(InfoPro!I90)-$J$2)","v":1},0,0]
[null,{"$f":"IF(ISBLANK(InfoPro!A91),\"\",InfoPro!A91)","v":"SC_1596_A1"},{"$f":"IF(ISBLANK(InfoPro!B91),\"\",InfoPro!B91)","v":"Expansión La Loma III - 100 MW"},{"$f":"IF(ISBLANK(InfoPro!E91),\"\",InfoPro!E91)","v":100},{"$f":"IF(ISBLANK(InfoPro!N91),\"\",InfoPro!N91)","v":"NO"},{"$f":"IF(ISBLANK(InfoPro!I91),\"\",YEAR(InfoPro!I91)-$J$2)","v":6},0,0]
[null,{"$f":"IF(ISBLANK(InfoPro!A92),\"\",InfoPro!A92)","v":"SC_1656_A1"},{"$f":"IF(ISBLANK(InfoPro!B92),\"\",InfoPro!B92)","v":"Parque solar TERRɅ I"},{"$f":"IF(ISBLANK(InfoPro!E92),\"\",InfoPro!E92)","v":19.899999999999999},{"$f":"IF(ISBLANK(InfoPro!N92),\"\",InfoPro!N92)","v":"NO"},{"$f":"IF(ISBLANK(InfoPro!I92),\"\",YEAR(InfoPro!I92)-$J$2)","v":1},0,0]
[null,{"$f":"IF(ISBLANK(InfoPro!A93),\"\",InfoPro!A93)","v":"SC_1656_A2"},{"$f":"IF(ISBLANK(InfoPro!B93),\"\",InfoPro!B93)","v":"Parque solar TERRɅ I"},{"$f":"IF(ISBLANK(InfoPro!E93),\"\",InfoPro!E93)","v":19.899999999999999},{"$f":"IF(ISBLANK(InfoPro!N93),\"\",InfoPro!N93)","v":"NO"},{"$f":"IF(ISBLANK(InfoPro!I93),\"\",YEAR(InfoPro!I93)-$J$2)","v":1},0,0]
[null,{"$f":"IF(ISBLANK(InfoPro!A94),\"\",InfoPro!A94)","v":"SC_1698_A1"},{"$f":"IF(ISBLANK(InfoPro!B94),\"\",InfoPro!B94)","v":"Barlovento 2_500MW"},{"$f":"IF(ISBLANK(InfoPro!E94),\"\",InfoPro!E94)","v":500},{"$f":"IF(ISBLANK(InfoPro!N94),\"\",InfoPro!N94)","v":"NO"},{"$f":"IF(ISBLANK(InfoPro!I94),\"\",YEAR(InfoPro!I94)-$J$2)","v":11},0,0]
[null,{"$f":"IF(ISBLANK(InfoPro!A95),\"\",InfoPro!A95)","v":"SC_1699_A1"},{"$f":"IF(ISBLANK(InfoPro!B95),\"\",InfoPro!B95)","v":"PARQUE EOLICO GUAJIRA II de 302.4 MW"},{"$f":"IF(ISBLANK(InfoPro!E95),\"\",InfoPro!E95)","v":302.39999999999998},{"$f":"IF(ISBLANK(InfoPro!N95),\"\",InfoPro!N95)","v":"SI"},{"$f":"IF(ISBLANK(InfoPro!I95),\"\",YEAR(InfoPro!I95)-$J$2)","v":4},100,100]
[null,{"$f":"IF(ISBLANK(InfoPro!A96),\"\",InfoPro!A96)","v":"SC_1699_A2"},{"$f":"IF(ISBLANK(InfoPro!B96),\"\",InfoPro!B96)","v":"PARQUE EOLICO GUAJIRA II de 302.4 MW"},{"$f":"IF(ISBLANK(InfoPro!E96),\"\",InfoPro!E96)","v":302.39999999999998},{"$f":"IF(ISBLANK(InfoPro!N96),\"\",InfoPro!N96)","v":"SI"},{"$f":"IF(ISBLANK(InfoPro!I96),\"\",YEAR(InfoPro!I96)-$J$2)","v":4},100,100]
[null,{"$f":"IF(ISBLANK(InfoPro!A97),\"\",InfoPro!A97)","v":"SC_1703_A1"},{"$f":"IF(ISBLANK(InfoPro!B97),\"\",InfoPro!B97)","v":"Barlovento 3 de 500 MW"},{"$f":"IF(ISBLANK(InfoPro!E97),\"\",InfoPro!E97)","v":500},{"$f":"IF(ISBLANK(InfoPro!N97),\"\",InfoPro!N97)","v":"NO"},{"$f":"IF(ISBLANK(InfoPro!I97),\"\",YEAR(InfoPro!I97)-$J$2)","v":11},0,0]
[null,{"$f":"IF(ISBLANK(InfoPro!A98),\"\",InfoPro!A98)","v":"SC_1707_A1"},{"$f":"IF(ISBLANK(InfoPro!B98),\"\",InfoPro!B98)","v":"Santa Marta II - 50 MW"},{"$f":"IF(ISBLANK(InfoPro!E98),\"\",InfoPro!E98)","v":50},{"$f":"IF(ISBLANK(InfoPro!N98),\"\",InfoPro!N98)","v":"NO"},{"$f":"IF(ISBLANK(InfoPro!I98),\"\",YEAR(InfoPro!I98)-$J$2)","v":2},0,0]
[null,{"$f":"IF(ISBLANK(InfoPro!A99),\"\",InfoPro!A99)","v":"SC_1710_A1"},{"$f":"IF(ISBLANK(InfoPro!B99),\"\",InfoPro!B99)","v":"Parque Eólico Trupillo_100MW"},{"$f":"IF(ISBLANK(InfoPro!E99),\"\",InfoPro!E99)","v":100},{"$f":"IF(ISBLANK(InfoPro!N99),\"\",InfoPro!N99)","v":"NO"},{"$f":"IF(ISBLANK(InfoPro!I99),\"\",YEAR(InfoPro!I99)-$J$2)","v":5},0,0]
[null,{"$f":"IF(ISBLANK(InfoPro!A100),\"\",InfoPro!A100)","v":"SC_1710_A2"},{"$f":"IF(ISBLANK(InfoPro!B100),\"\",InfoPro!B100)","v":"Parque Eólico Trupillo_100MW"},{"$f":"IF(ISBLANK(InfoPro!E100),\"\",InfoPro!E100)","v":100},{"$f":"IF(ISBLANK(InfoPro!N100),\"\",InfoPro!N100)","v":"NO"},{"$f":"IF(ISBLANK(InfoPro!I100),\"\",YEAR(InfoPro!I100)-$J$2)","v":5},0,0]
[null,{"$f":"IF(ISBLANK(InfoPro!A101),\"\",InfoPro!A101)","v":"SC_1718_A1"},{"$f":"IF(ISBLANK(InfoPro!B101),\"\",InfoPro!B101)","v":"Autogeneración Drummond 50 MW"},{"$f":"IF(ISBLANK(InfoPro!E101),\"\",InfoPro!E101)","v":50},{"$f":"IF(ISBLANK(InfoPro!N101),\"\",InfoPro!N101)","v":"NO"},{"$f":"IF(ISBLANK(InfoPro!I101),\"\",YEAR(InfoPro!I101)-$J$2)","v":0},0,0]
[null,{"$f":"IF(ISBLANK(InfoPro!A102),\"\",InfoPro!A102)","v":"SC_1722_A1"},{"$f":"IF(ISBLANK(InfoPro!B102),\"\",InfoPro!B102)","v":"PARQUE EÓLICO MONSAUI 9,9 MW"},{"$f":"IF(ISBLANK(InfoPro!E102),\"\",InfoPro!E102)","v":9.9},{"$f":"IF(ISBLANK(InfoPro!N102),\"\",InfoPro!N102)","v":"NO"},{"$f":"IF(ISBLANK(InfoPro!I102),\"\",YEAR(InfoPro!I102)-$J$2)","v":4},0,0]
[null,{"$f":"IF(ISBLANK(InfoPro!A103),\"\",InfoPro!A103)","v":"SC_1722_A2"},{"$f":"IF(ISBLANK(InfoPro!B103),\"\",InfoPro!B103)","v":"PARQUE EÓLICO MONSAUI 9,9 MW"},{"$f":"IF(ISBLANK(InfoPro!E103),\"\",InfoPro!E103)","v":9.9},{"$f":"IF(ISBLANK(InfoPro!N103),\"\",InfoPro!N103)","v":"NO"},{"$f":"IF(ISBLANK(InfoPro!I103),\"\",YEAR(InfoPro!I103)-$J$2)","v":4},0,0]
[null,{"$f":"IF(ISBLANK(InfoPro!A104),\"\",InfoPro!A104)","v":"SC_1728_A1"},{"$f":"IF(ISBLANK(InfoPro!B104),\"\",InfoPro!B104)","v":"PARQUE SOLAR CAÑAHUATE II - 190 MW"},{"$f":"IF(ISBLANK(InfoPro!E104),\"\",InfoPro!E104)","v":190},{"$f":"IF(ISBLANK(InfoPro!N104),\"\",InfoPro!N104)","v":"NO"},{"$f":"IF(ISBLANK(InfoPro!I104),\"\",YEAR(InfoPro!I104)-$J$2)","v":1},0,0]
[null,{"$f":"IF(ISBLANK(InfoPro!A105),\"\",InfoPro!A105)","v":"SC_1729_A1"},{"$f":"IF(ISBLANK(InfoPro!B105),\"\",InfoPro!B105)","v":"TR Solar 17"},{"$f":"IF(ISBLANK(InfoPro!E105),\"\",InfoPro!E105)","v":200},{"$f":"IF(ISBLANK(InfoPro!N105),\"\",InfoPro!N105)","v":"NO"},{"$f":"IF(ISBLANK(InfoPro!I105),\"\",YEAR(InfoPro!I105)-$J$2)","v":3},0,0]
[null,{"$f":"IF(ISBLANK(InfoPro!A106),\"\",InfoPro!A106)","v":"SC_1729_A2"},{"$f":"IF(ISBLANK(InfoPro!B106),\"\",InfoPro!B106)","v":"TR Solar 17"},{"$f":"IF(ISBLANK(InfoPro!E106),\"\",InfoPro!E106)","v":200},{"$f":"IF(ISBLANK(InfoPro!N106),\"\",InfoPro!N106)","v":"NO"},{"$f":"IF(ISBLANK(InfoPro!I106),\"\",YEAR(InfoPro!I106)-$J$2)","v":3},0,0]
[null,{"$f":"IF(ISBLANK(InfoPro!A107),\"\",InfoPro!A107)","v":"SC_1746_A1"},{"$f":"IF(ISBLANK(InfoPro!B107),\"\",InfoPro!B107)","v":"Parque Solar Nuevo Mundo"},{"$f":"IF(ISBLANK(InfoPro!E107),\"\",InfoPro!E107)","v":99.99},{"$f":"IF(ISBLANK(InfoPro!N107),\"\",InfoPro!N107)","v":"NO"},{"$f":"IF(ISBLANK(InfoPro!I107),\"\",YEAR(InfoPro!I107)-$J$2)","v":2},0,0]
[null,{"$f":"IF(ISBLANK(InfoPro!A108),\"\",InfoPro!A108)","v":"SC_1746_A2"},{"$f":"IF(ISBLANK(InfoPro!B108),\"\",InfoPro!B108)","v":"Parque Solar Nuevo Mundo"},{"$f":"IF(ISBLANK(InfoPro!E108),\"\",InfoPro!E108)","v":99.99},{"$f":"IF(ISBLANK(InfoPro!N108),\"\",InfoPro!N108)","v":"NO"},{"$f":"IF(ISBLANK(InfoPro!I108),\"\",YEAR(InfoPro!I108)-$J$2)","v":2},0,0]
[null,{"$f":"IF(ISBLANK(InfoPro!A109),\"\",InfoPro!A109)","v":"SC_1752_A1"},{"$f":"IF(ISBLANK(InfoPro!B109),\"\",InfoPro!B109)","v":"OWF BERGANTIN 300"},{"$f":"IF(ISBLANK(InfoPro!E109),\"\",InfoPro!E109)","v":300},{"$f":"IF(ISBLANK(InfoPro!N109),\"\",InfoPro!N109)","v":"NO"},{"$f":"IF(ISBLANK(InfoPro!I109),\"\",YEAR(InfoPro!I109)-$J$2)","v":9},0,0]
[null,{"$f":"IF(ISBLANK(InfoPro!A110),\"\",InfoPro!A110)","v":"SC_1752_A2"},{"$f":"IF(ISBLANK(InfoPro!B110),\"\",InfoPro!B110)","v":"OWF BERGANTIN 300"},{"$f":"IF(ISBLANK(InfoPro!E110),\"\",InfoPro!E110)","v":300},{"$f":"IF(ISBLANK(InfoPro!N110),\"\",InfoPro!N110)","v":"NO"},{"$f":"IF(ISBLANK(InfoPro!I110),\"\",YEAR(InfoPro!I110)-$J$2)","v":9},0,0]
[null,{"$f":"IF(ISBLANK(InfoPro!A111),\"\",InfoPro!A111)","v":"SC_1756_A1"},{"$f":"IF(ISBLANK(InfoPro!B111),\"\",InfoPro!B111)","v":"Barlovento 4_500MW"},{"$f":"IF(ISBLANK(InfoPro!E111),\"\",InfoPro!E111)","v":500},{"$f":"IF(ISBLANK(InfoPro!N111),\"\",InfoPro!N111)","v":"NO"},{"$f":"IF(ISBLANK(InfoPro!I111),\"\",YEAR(InfoPro!I111)-$J$2)","v":11},0,0]
[null,{"$f":"IF(ISBLANK(InfoPro!A112),\"\",InfoPro!A112)","v":"SC_1765_A1"},{"$f":"IF(ISBLANK(InfoPro!B112),\"\",InfoPro!B112)","v":"PARQUE SOLAR CIUDAD BLANCA - 199 MW"},{"$f":"IF(ISBLANK(InfoPro!E112),\"\",InfoPro!E112)","v":19.899999999999999},{"$f":"IF(ISBLANK(InfoPro!N112),\"\",InfoPro!N112)","v":"NO"},{"$f":"IF(ISBLANK(InfoPro!I112),\"\",YEAR(InfoPro!I112)-$J$2)","v":3},0,0]
[null,{"$f":"IF(ISBLANK(InfoPro!A113),\"\",InfoPro!A113)","v":"SC_1765_A2"},{"$f":"IF(ISBLANK(InfoPro!B113),\"\",InfoPro!B113)","v":"PARQUE SOLAR CIUDAD BLANCA - 199 MW"},{"$f":"IF(ISBLANK(InfoPro!E113),\"\",InfoPro!E113)","v":19.899999999999999},{"$f":"IF(ISBLANK(InfoPro!N113),\"\",InfoPro!N113)","v":"NO"},{"$f":"IF(ISBLANK(InfoPro!I113),\"\",YEAR(InfoPro!I113)-$J$2)","v":3},0,0]
[null,{"$f":"IF(ISBLANK(InfoPro!A114),\"\",InfoPro!A114)","v":"SC_1779_A1"},{"$f":"IF(ISBLANK(InfoPro!B114),\"\",InfoPro!B114)","v":"Pétalo del Cesar III El Paso"},{"$f":"IF(ISBLANK(InfoPro!E114),\"\",InfoPro!E114)","v":9.9},{"$f":"IF(ISBLANK(InfoPro!N114),\"\",InfoPro!N114)","v":"NO"},{"$f":"IF(ISBLANK(InfoPro!I114),\"\",YEAR(InfoPro!I114)-$J$2)","v":3},0,0]
[null,{"$f":"IF(ISBLANK(InfoPro!A115),\"\",InfoPro!A115)","v":"SC_1779_A2"},{"$f":"IF(ISBLANK(InfoPro!B115),\"\",InfoPro!B115)","v":"Pétalo del Cesar III El Paso"},{"$f":"IF(ISBLANK(InfoPro!E115),\"\",InfoPro!E115)","v":9.9},{"$f":"IF(ISBLANK(InfoPro!N115),\"\",InfoPro!N115)","v":"NO"},{"$f":"IF(ISBLANK(InfoPro!I115),\"\",YEAR(InfoPro!I115)-$J$2)","v":3},0,0]
[null,{"$f":"IF(ISBLANK(InfoPro!A116),\"\",InfoPro!A116)","v":"SC_1783_A1"},{"$f":"IF(ISBLANK(InfoPro!B116),\"\",InfoPro!B116)","v":"Pétalo del Cesar IV La Loma"},{"$f":"IF(ISBLANK(InfoPro!E116),\"\",InfoPro!E116)","v":9.9},{"$f":"IF(ISBLANK(InfoPro!N116),\"\",InfoPro!N116)","v":"NO"},{"$f":"IF(ISBLANK(InfoPro!I116),\"\",YEAR(InfoPro!I116)-$J$2)","v":3},0,0]
[null,{"$f":"IF(ISBLANK(InfoPro!A117),\"\",InfoPro!A117)","v":"SC_1783_A2"},{"$f":"IF(ISBLANK(InfoPro!B117),\"\",InfoPro!B117)","v":"Pétalo del Cesar IV La Loma"},{"$f":"IF(ISBLANK(InfoPro!E117),\"\",InfoPro!E117)","v":9.9},{"$f":"IF(ISBLANK(InfoPro!N117),\"\",InfoPro!N117)","v":"NO"},{"$f":"IF(ISBLANK(InfoPro!I117),\"\",YEAR(InfoPro!I117)-$J$2)","v":3},0,0]
[null,{"$f":"IF(ISBLANK(InfoPro!A118),\"\",InfoPro!A118)","v":"SC_1788_A1"},{"$f":"IF(ISBLANK(InfoPro!B118),\"\",InfoPro!B118)","v":"DSE COPEY 19.9"},{"$f":"IF(ISBLANK(InfoPro!E118),\"\",InfoPro!E118)","v":19.899999999999999},{"$f":"IF(ISBLANK(InfoPro!N118),\"\",InfoPro!N118)","v":"NO"},{"$f":"IF(ISBLANK(InfoPro!I118),\"\",YEAR(InfoPro!I118)-$J$2)","v":2},0,0]
[null,{"$f":"IF(ISBLANK(InfoPro!A119),\"\",InfoPro!A119)","v":"SC_1811_A1"},{"$f":"IF(ISBLANK(InfoPro!B119),\"\",InfoPro!B119)","v":"DSE RIOHACHA"},{"$f":"IF(ISBLANK(InfoPro!E119),\"\",InfoPro!E119)","v":9.9},{"$f":"IF(ISBLANK(InfoPro!N119),\"\",InfoPro!N119)","v":"NO"},{"$f":"IF(ISBLANK(InfoPro!I119),\"\",YEAR(InfoPro!I119)-$J$2)","v":2},0,0]
[null,{"$f":"IF(ISBLANK(InfoPro!A120),\"\",InfoPro!A120)","v":"SC_1811_A2"},{"$f":"IF(ISBLANK(InfoPro!B120),\"\",InfoPro!B120)","v":"DSE RIOHACHA"},{"$f":"IF(ISBLANK(InfoPro!E120),\"\",InfoPro!E120)","v":9.9},{"$f":"IF(ISBLANK(InfoPro!N120),\"\",InfoPro!N120)","v":"NO"},{"$f":"IF(ISBLANK(InfoPro!I120),\"\",YEAR(InfoPro!I120)-$J$2)","v":2},0,0]
[null,{"$f":"IF(ISBLANK(InfoPro!A121),\"\",InfoPro!A121)","v":"SC_1824_A1"},{"$f":"IF(ISBLANK(InfoPro!B121),\"\",InfoPro!B121)","v":"PGF ROSARIO II_45MW"},{"$f":"IF(ISBLANK(InfoPro!E121),\"\",InfoPro!E121)","v":45},{"$f":"IF(ISBLANK(InfoPro!N121),\"\",InfoPro!N121)","v":"NO"},{"$f":"IF(ISBLANK(InfoPro!I121),\"\",YEAR(InfoPro!I121)-$J$2)","v":3},0,0]
[null,{"$f":"IF(ISBLANK(InfoPro!A122),\"\",InfoPro!A122)","v":"SC_1824_A2"},{"$f":"IF(ISBLANK(InfoPro!B122),\"\",InfoPro!B122)","v":"PGF ROSARIO II_45MW"},{"$f":"IF(ISBLANK(InfoPro!E122),\"\",InfoPro!E122)","v":45},{"$f":"IF(ISBLANK(InfoPro!N122),\"\",InfoPro!N122)","v":"NO"},{"$f":"IF(ISBLANK(InfoPro!I122),\"\",YEAR(InfoPro!I122)-$J$2)","v":3},0,0]
[null,{"$f":"IF(ISBLANK(InfoPro!A123),\"\",InfoPro!A123)","v":"SC_1827_A1"},{"$f":"IF(ISBLANK(InfoPro!B123),\"\",InfoPro!B123)","v":"Guatapurí Solar I 9,9 MW"},{"$f":"IF(ISBLANK(InfoPro!E123),\"\",InfoPro!E123)","v":9.9},{"$f":"IF(ISBLANK(InfoPro!N123),\"\",InfoPro!N123)","v":"NO"},{"$f":"IF(ISBLANK(InfoPro!I123),\"\",YEAR(InfoPro!I123)-$J$2)","v":2},0,0]
[null,{"$f":"IF(ISBLANK(InfoPro!A124),\"\",InfoPro!A124)","v":"SC_1827_A2"},{"$f":"IF(ISBLANK(InfoPro!B124),\"\",InfoPro!B124)","v":"Guatapurí Solar I 9,9 MW"},{"$f":"IF(ISBLANK(InfoPro!E124),\"\",InfoPro!E124)","v":9.9},{"$f":"IF(ISBLANK(InfoPro!N124),\"\",InfoPro!N124)","v":"NO"},{"$f":"IF(ISBLANK(InfoPro!I124),\"\",YEAR(InfoPro!I124)-$J$2)","v":2},0,0]
[null,{"$f":"IF(ISBLANK(InfoPro!A125),\"\",InfoPro!A125)","v":"SC_1830_A1"},{"$f":"IF(ISBLANK(InfoPro!B125),\"\",InfoPro!B125)","v":"Guatapurí Solar II 9,9 MW"},{"$f":"IF(ISBLANK(InfoPro!E125),\"\",InfoPro!E125)","v":9.9},{"$f":"IF(ISBLANK(InfoPro!N125),\"\",InfoPro!N125)","v":"NO"},{"$f":"IF(ISBLANK(InfoPro!I125),\"\",YEAR(InfoPro!I125)-$J$2)","v":2},0,0]
[null,{"$f":"IF(ISBLANK(InfoPro!A126),\"\",InfoPro!A126)","v":"SC_1830_A2"},{"$f":"IF(ISBLANK(InfoPro!B126),\"\",InfoPro!B126)","v":"Guatapurí Solar II 9,9 MW"},{"$f":"IF(ISBLANK(InfoPro!E126),\"\",InfoPro!E126)","v":9.9},{"$f":"IF(ISBLANK(InfoPro!N126),\"\",InfoPro!N126)","v":"NO"},{"$f":"IF(ISBLANK(InfoPro!I126),\"\",YEAR(InfoPro!I126)-$J$2)","v":2},0,0]
[null,{"$f":"IF(ISBLANK(InfoPro!A127),\"\",InfoPro!A127)","v":"SC_1840_A1"},{"$f":"IF(ISBLANK(InfoPro!B127),\"\",InfoPro!B127)","v":"Granja Solar Asturias 9,9 MW"},{"$f":"IF(ISBLANK(InfoPro!E127),\"\",InfoPro!E127)","v":9.9},{"$f":"IF(ISBLANK(InfoPro!N127),\"\",InfoPro!N127)","v":"NO"},{"$f":"IF(ISBLANK(InfoPro!I127),\"\",YEAR(InfoPro!I127)-$J$2)","v":2},0,0]
[null,{"$f":"IF(ISBLANK(InfoPro!A128),\"\",InfoPro!A128)","v":"SC_1840_A2"},{"$f":"IF(ISBLANK(InfoPro!B128),\"\",InfoPro!B128)","v":"Granja Solar Asturias 9,9 MW"},{"$f":"IF(ISBLANK(InfoPro!E128),\"\",InfoPro!E128)","v":9.9},{"$f":"IF(ISBLANK(InfoPro!N128),\"\",InfoPro!N128)","v":"NO"},{"$f":"IF(ISBLANK(InfoPro!I128),\"\",YEAR(InfoPro!I128)-$J$2)","v":2},0,0]
[null,{"$f":"IF(ISBLANK(InfoPro!A129),\"\",InfoPro!A129)","v":"SC_1846_A1"},{"$f":"IF(ISBLANK(InfoPro!B129),\"\",InfoPro!B129)","v":"PARQUE DE GENERACIÓN SOLAR CYGNUS 50 MW"},{"$f":"IF(ISBLANK(InfoPro!E129),\"\",InfoPro!E129)","v":50},{"$f":"IF(ISBLANK(InfoPro!N129),\"\",InfoPro!N129)","v":"NO"},{"$f":"IF(ISBLANK(InfoPro!I129),\"\",YEAR(InfoPro!I129)-$J$2)","v":2},0,0]
[null,{"$f":"IF(ISBLANK(InfoPro!A130),\"\",InfoPro!A130)","v":"SC_1846_A2"},{"$f":"IF(ISBLANK(InfoPro!B130),\"\",InfoPro!B130)","v":"PARQUE DE GENERACIÓN SOLAR CYGNUS 50 MW"},{"$f":"IF(ISBLANK(InfoPro!E130),\"\",InfoPro!E130)","v":50},{"$f":"IF(ISBLANK(InfoPro!N130),\"\",InfoPro!N130)","v":"NO"},{"$f":"IF(ISBLANK(InfoPro!I130),\"\",YEAR(InfoPro!I130)-$J$2)","v":2},{"$f":"IF(E131=\"SI\",100,IF(E131=\"NO\",0,\"\"))","v":0},{"$f":"IF(G131=\"\",\"\",(G131))","v":0}]
[null,{"$f":"IF(ISBLANK(InfoPro!A131),\"\",InfoPro!A131)","v":"SC_1854_A1"},{"$f":"IF(ISBLANK(InfoPro!B131),\"\",InfoPro!B131)","v":"CATAY 1 - 200 MW"},{"$f":"IF(ISBLANK(InfoPro!E131),\"\",InfoPro!E131)","v":200},{"$f":"IF(ISBLANK(InfoPro!N131),\"\",InfoPro!N131)","v":"NO"},{"$f":"IF(ISBLANK(InfoPro!I131),\"\",YEAR(InfoPro!I131)-$J$2)","v":4},0,0]
[null,{"$f":"IF(ISBLANK(InfoPro!A132),\"\",InfoPro!A132)","v":"SC_1854_A2"},{"$f":"IF(ISBLANK(InfoPro!B132),\"\",InfoPro!B132)","v":"CATAY 1 - 200 MW"},{"$f":"IF(ISBLANK(InfoPro!E132),\"\",InfoPro!E132)","v":200},{"$f":"IF(ISBLANK(InfoPro!N132),\"\",InfoPro!N132)","v":"NO"},{"$f":"IF(ISBLANK(InfoPro!I132),\"\",YEAR(InfoPro!I132)-$J$2)","v":4},0,0]
[null,{"$f":"IF(ISBLANK(InfoPro!A133),\"\",InfoPro!A133)","v":"SC_1856_A1"},{"$f":"IF(ISBLANK(InfoPro!B133),\"\",InfoPro!B133)","v":"SIERRA NEVADA DE VERANO"},{"$f":"IF(ISBLANK(InfoPro!E133),\"\",InfoPro!E133)","v":99.9},{"$f":"IF(ISBLANK(InfoPro!N133),\"\",InfoPro!N133)","v":"NO"},{"$f":"IF(ISBLANK(InfoPro!I133),\"\",YEAR(InfoPro!I133)-$J$2)","v":4},0,0]
[null,{"$f":"IF(ISBLANK(InfoPro!A134),\"\",InfoPro!A134)","v":"SC_1856_A2"},{"$f":"IF(ISBLANK(InfoPro!B134),\"\",InfoPro!B134)","v":"SIERRA NEVADA DE VERANO"},{"$f":"IF(ISBLANK(InfoPro!E134),\"\",InfoPro!E134)","v":99.9},{"$f":"IF(ISBLANK(InfoPro!N134),\"\",InfoPro!N134)","v":"NO"},{"$f":"IF(ISBLANK(InfoPro!I134),\"\",YEAR(InfoPro!I134)-$J$2)","v":4},0,0]
[null,{"$f":"IF(ISBLANK(InfoPro!A135),\"\",InfoPro!A135)","v":"SC_1857_A1"},{"$f":"IF(ISBLANK(InfoPro!B135),\"\",InfoPro!B135)","v":"MILAGROS DE VERANO"},{"$f":"IF(ISBLANK(InfoPro!E135),\"\",InfoPro!E135)","v":99.9},{"$f":"IF(ISBLANK(InfoPro!N135),\"\",InfoPro!N135)","v":"NO"},{"$f":"IF(ISBLANK(InfoPro!I135),\"\",YEAR(InfoPro!I135)-$J$2)","v":5},0,0]
[null,{"$f":"IF(ISBLANK(InfoPro!A136),\"\",InfoPro!A136)","v":"SC_1857_A2"},{"$f":"IF(ISBLANK(InfoPro!B136),\"\",InfoPro!B136)","v":"MILAGROS DE VERANO"},{"$f":"IF(ISBLANK(InfoPro!E136),\"\",InfoPro!E136)","v":99.9},{"$f":"IF(ISBLANK(InfoPro!N136),\"\",InfoPro!N136)","v":"NO"},{"$f":"IF(ISBLANK(InfoPro!I136),\"\",YEAR(InfoPro!I136)-$J$2)","v":5},0,0]
[null,{"$f":"IF(ISBLANK(InfoPro!A137),\"\",InfoPro!A137)","v":"SC_1861_A1"},{"$f":"IF(ISBLANK(InfoPro!B137),\"\",InfoPro!B137)","v":"Autogenerador CELSIA Solar Cenit Copey"},{"$f":"IF(ISBLANK(InfoPro!E137),\"\",InfoPro!E137)","v":6.6},{"$f":"IF(ISBLANK(InfoPro!N137),\"\",InfoPro!N137)","v":"NO"},{"$f":"IF(ISBLANK(InfoPro!I137),\"\",YEAR(InfoPro!I137)-$J$2)","v":0},0,0]
[null,{"$f":"IF(ISBLANK(InfoPro!A138),\"\",InfoPro!A138)","v":"SC_1876_A1"},{"$f":"IF(ISBLANK(InfoPro!B138),\"\",InfoPro!B138)","v":"Nevada II 250 MW"},{"$f":"IF(ISBLANK(InfoPro!E138),\"\",InfoPro!E138)","v":250},{"$f":"IF(ISBLANK(InfoPro!N138),\"\",InfoPro!N138)","v":"NO"},{"$f":"IF(ISBLANK(InfoPro!I138),\"\",YEAR(InfoPro!I138)-$J$2)","v":7},0,0]
[null,{"$f":"IF(ISBLANK(InfoPro!A139),\"\",InfoPro!A139)","v":"SC_1876_A2"},{"$f":"IF(ISBLANK(InfoPro!B139),\"\",InfoPro!B139)","v":"Nevada II 250 MW"},{"$f":"IF(ISBLANK(InfoPro!E139),\"\",InfoPro!E139)","v":250},{"$f":"IF(ISBLANK(InfoPro!N139),\"\",InfoPro!N139)","v":"NO"},{"$f":"IF(ISBLANK(InfoPro!I139),\"\",YEAR(InfoPro!I139)-$J$2)","v":7},0,0]
[null,{"$f":"IF(ISBLANK(InfoPro!A140),\"\",InfoPro!A140)","v":"SC_1877_A1"},{"$f":"IF(ISBLANK(InfoPro!B140),\"\",InfoPro!B140)","v":"Planta Solar FV Corozal 9,9MW"},{"$f":"IF(ISBLANK(InfoPro!E140),\"\",InfoPro!E140)","v":9.9},{"$f":"IF(ISBLANK(InfoPro!N140),\"\",InfoPro!N140)","v":"NO"},{"$f":"IF(ISBLANK(InfoPro!I140),\"\",YEAR(InfoPro!I140)-$J$2)","v":3},0,0]
[null,{"$f":"IF(ISBLANK(InfoPro!A141),\"\",InfoPro!A141)","v":"SC_1877_A2"},{"$f":"IF(ISBLANK(InfoPro!B141),\"\",InfoPro!B141)","v":"Planta Solar FV Corozal 9,9MW"},{"$f":"IF(ISBLANK(InfoPro!E141),\"\",InfoPro!E141)","v":9.9},{"$f":"IF(ISBLANK(InfoPro!N141),\"\",InfoPro!N141)","v":"NO"},{"$f":"IF(ISBLANK(InfoPro!I141),\"\",YEAR(InfoPro!I141)-$J$2)","v":3},0,0]
[null,{"$f":"IF(ISBLANK(InfoPro!A142),\"\",InfoPro!A142)","v":"SC_1889_A1"},{"$f":"IF(ISBLANK(InfoPro!B142),\"\",InfoPro!B142)","v":"La Granja"},{"$f":"IF(ISBLANK(InfoPro!E142),\"\",InfoPro!E142)","v":19.899999999999999},{"$f":"IF(ISBLANK(InfoPro!N142),\"\",InfoPro!N142)","v":"NO"},{"$f":"IF(ISBLANK(InfoPro!I142),\"\",YEAR(InfoPro!I142)-$J$2)","v":2},0,0]
[null,{"$f":"IF(ISBLANK(InfoPro!A143),\"\",InfoPro!A143)","v":"SC_1889_A2"},{"$f":"IF(ISBLANK(InfoPro!B143),\"\",InfoPro!B143)","v":"La Granja"},{"$f":"IF(ISBLANK(InfoPro!E143),\"\",InfoPro!E143)","v":19.899999999999999},{"$f":"IF(ISBLANK(InfoPro!N143),\"\",InfoPro!N143)","v":"NO"},{"$f":"IF(ISBLANK(InfoPro!I143),\"\",YEAR(InfoPro!I143)-$J$2)","v":2},0,0]
[null,{"$f":"IF(ISBLANK(InfoPro!A144),\"\",InfoPro!A144)","v":"SC_1898_A1"},{"$f":"IF(ISBLANK(InfoPro!B144),\"\",InfoPro!B144)","v":"Parque Eólico Fenix_70MW"},{"$f":"IF(ISBLANK(InfoPro!E144),\"\",InfoPro!E144)","v":70},{"$f":"IF(ISBLANK(InfoPro!N144),\"\",InfoPro!N144)","v":"NO"},{"$f":"IF(ISBLANK(InfoPro!I144),\"\",YEAR(InfoPro!I144)-$J$2)","v":5},{"$f":"IF(E145=\"SI\",100,IF(E145=\"NO\",0,\"\"))","v":0},{"$f":"IF(G145=\"\",\"\",(G145))","v":0}]
[null,{"$f":"IF(ISBLANK(InfoPro!A145),\"\",InfoPro!A145)","v":"SC_1898_A2"},{"$f":"IF(ISBLANK(InfoPro!B145),\"\",InfoPro!B145)","v":"Parque Eólico Fenix_70MW"},{"$f":"IF(ISBLANK(InfoPro!E145),\"\",InfoPro!E145)","v":70},{"$f":"IF(ISBLANK(InfoPro!N145),\"\",InfoPro!N145)","v":"NO"},{"$f":"IF(ISBLANK(InfoPro!I145),\"\",YEAR(InfoPro!I145)-$J$2)","v":5},0,0]
[null,{"$f":"IF(ISBLANK(InfoPro!A146),\"\",InfoPro!A146)","v":"SC_1904_A1"},{"$f":"IF(ISBLANK(InfoPro!B146),\"\",InfoPro!B146)","v":"Parque Solar Fotovoltaico Potreritos"},{"$f":"IF(ISBLANK(InfoPro!E146),\"\",InfoPro!E146)","v":168},{"$f":"IF(ISBLANK(InfoPro!N146),\"\",InfoPro!N146)","v":"NO"},{"$f":"IF(ISBLANK(InfoPro!I146),\"\",YEAR(InfoPro!I146)-$J$2)","v":1},0,0]
[null,{"$f":"IF(ISBLANK(InfoPro!A147),\"\",InfoPro!A147)","v":"SC_1904_A2"},{"$f":"IF(ISBLANK(InfoPro!B147),\"\",InfoPro!B147)","v":"Parque Solar Fotovoltaico Potreritos"},{"$f":"IF(ISBLANK(InfoPro!E147),\"\",InfoPro!E147)","v":168},{"$f":"IF(ISBLANK(InfoPro!N147),\"\",InfoPro!N147)","v":"NO"},{"$f":"IF(ISBLANK(InfoPro!I147),\"\",YEAR(InfoPro!I147)-$J$2)","v":1},0,0]
[null,{"$f":"IF(ISBLANK(InfoPro!A148),\"\",InfoPro!A148)","v":"SC_1905_A1"},{"$f":"IF(ISBLANK(InfoPro!B148),\"\",InfoPro!B148)","v":"Parque Solar Valle del Cesar"},{"$f":"IF(ISBLANK(InfoPro!E148),\"\",InfoPro!E148)","v":50},{"$f":"IF(ISBLANK(InfoPro!N148),\"\",InfoPro!N148)","v":"NO"},{"$f":"IF(ISBLANK(InfoPro!I148),\"\",YEAR(InfoPro!I148)-$J$2)","v":3},0,0]
[null,{"$f":"IF(ISBLANK(InfoPro!A149),\"\",InfoPro!A149)","v":"SC_1905_A2"},{"$f":"IF(ISBLANK(InfoPro!B149),\"\",InfoPro!B149)","v":"Parque Solar Valle del Cesar"},{"$f":"IF(ISBLANK(InfoPro!E149),\"\",InfoPro!E149)","v":50},{"$f":"IF(ISBLANK(InfoPro!N149),\"\",InfoPro!N149)","v":"NO"},{"$f":"IF(ISBLANK(InfoPro!I149),\"\",YEAR(InfoPro!I149)-$J$2)","v":3},0,0]
[null,{"$f":"IF(ISBLANK(InfoPro!A150),\"\",InfoPro!A150)","v":"SC_1908_A1"},{"$f":"IF(ISBLANK(InfoPro!B150),\"\",InfoPro!B150)","v":"Corocoro 500 MW"},{"$f":"IF(ISBLANK(InfoPro!E150),\"\",InfoPro!E150)","v":500},{"$f":"IF(ISBLANK(InfoPro!N150),\"\",InfoPro!N150)","v":"NO"},{"$f":"IF(ISBLANK(InfoPro!I150),\"\",YEAR(InfoPro!I150)-$J$2)","v":3},0,0]
[null,{"$f":"IF(ISBLANK(InfoPro!A151),\"\",InfoPro!A151)","v":"SC_1908_A2"},{"$f":"IF(ISBLANK(InfoPro!B151),\"\",InfoPro!B151)","v":"Corocoro 500 MW"},{"$f":"IF(ISBLANK(InfoPro!E151),\"\",InfoPro!E151)","v":500},{"$f":"IF(ISBLANK(InfoPro!N151),\"\",InfoPro!N151)","v":"NO"},{"$f":"IF(ISBLANK(InfoPro!I151),\"\",YEAR(InfoPro!I151)-$J$2)","v":3},{"$f":"IF(E152=\"SI\",100,IF(E152=\"NO\",0,\"\"))","v":0},{"$f":"IF(G152=\"\",\"\",(G152))","v":0}]
[null,{"$f":"IF(ISBLANK(InfoPro!A152),\"\",InfoPro!A152)","v":"SC_1912_A1"},{"$f":"IF(ISBLANK(InfoPro!B152),\"\",InfoPro!B152)","v":"Draco de 22.5 MW (entrega 19,9 MW)"},{"$f":"IF(ISBLANK(InfoPro!E152),\"\",InfoPro!E152)","v":19.899999999999999},{"$f":"IF(ISBLANK(InfoPro!N152),\"\",InfoPro!N152)","v":"NO"},{"$f":"IF(ISBLANK(InfoPro!I152),\"\",YEAR(InfoPro!I152)-$J$2)","v":2},0,0]
[null,{"$f":"IF(ISBLANK(InfoPro!A153),\"\",InfoPro!A153)","v":"SC_1912_A2"},{"$f":"IF(ISBLANK(InfoPro!B153),\"\",InfoPro!B153)","v":"Draco de 22.5 MW (entrega 19,9 MW)"},{"$f":"IF(ISBLANK(InfoPro!E153),\"\",InfoPro!E153)","v":19.899999999999999},{"$f":"IF(ISBLANK(InfoPro!N153),\"\",InfoPro!N153)","v":"NO"},{"$f":"IF(ISBLANK(InfoPro!I153),\"\",YEAR(InfoPro!I153)-$J$2)","v":2},0,0]
[null,{"$f":"IF(ISBLANK(InfoPro!A154),\"\",InfoPro!A154)","v":"SC_1920_A1"},{"$f":"IF(ISBLANK(InfoPro!B154),\"\",InfoPro!B154)","v":"Parque Solar TERRɅ II 19.9 MW"},{"$f":"IF(ISBLANK(InfoPro!E154),\"\",InfoPro!E154)","v":19.899999999999999},{"$f":"IF(ISBLANK(InfoPro!N154),\"\",InfoPro!N154)","v":"NO"},{"$f":"IF(ISBLANK(InfoPro!I154),\"\",YEAR(InfoPro!I154)-$J$2)","v":1},0,0]
[null,{"$f":"IF(ISBLANK(InfoPro!A155),\"\",InfoPro!A155)","v":"SC_1920_A2"},{"$f":"IF(ISBLANK(InfoPro!B155),\"\",InfoPro!B155)","v":"Parque Solar TERRɅ II 19.9 MW"},{"$f":"IF(ISBLANK(InfoPro!E155),\"\",InfoPro!E155)","v":19.899999999999999},{"$f":"IF(ISBLANK(InfoPro!N155),\"\",InfoPro!N155)","v":"NO"},{"$f":"IF(ISBLANK(InfoPro!I155),\"\",YEAR(InfoPro!I155)-$J$2)","v":1},0,0]
[null,{"$f":"IF(ISBLANK(InfoPro!A156),\"\",InfoPro!A156)","v":"SC_1928_A1"},{"$f":"IF(ISBLANK(InfoPro!B156),\"\",InfoPro!B156)","v":"Jacamará 500 MW"},{"$f":"IF(ISBLANK(InfoPro!E156),\"\",InfoPro!E156)","v":500},{"$f":"IF(ISBLANK(InfoPro!N156),\"\",InfoPro!N156)","v":"NO"},{"$f":"IF(ISBLANK(InfoPro!I156),\"\",YEAR(InfoPro!I156)-$J$2)","v":3},0,0]
[null,{"$f":"IF(ISBLANK(InfoPro!A157),\"\",InfoPro!A157)","v":"SC_1928_A2"},{"$f":"IF(ISBLANK(InfoPro!B157),\"\",InfoPro!B157)","v":"Jacamará 500 MW"},{"$f":"IF(ISBLANK(InfoPro!E157),\"\",InfoPro!E157)","v":500},{"$f":"IF(ISBLANK(InfoPro!N157),\"\",InfoPro!N157)","v":"NO"},{"$f":"IF(ISBLANK(InfoPro!I157),\"\",YEAR(InfoPro!I157)-$J$2)","v":3},0,0]
[null,{"$f":"IF(ISBLANK(InfoPro!A158),\"\",InfoPro!A158)","v":"SC_1944_A1"},{"$f":"IF(ISBLANK(InfoPro!B158),\"\",InfoPro!B158)","v":"MANANTIALES DE VERANO de 99.9 MW"},{"$f":"IF(ISBLANK(InfoPro!E158),\"\",InfoPro!E158)","v":99.9},{"$f":"IF(ISBLANK(InfoPro!N158),\"\",InfoPro!N158)","v":"NO"},{"$f":"IF(ISBLANK(InfoPro!I158),\"\",YEAR(InfoPro!I158)-$J$2)","v":3},0,0]
[null,{"$f":"IF(ISBLANK(InfoPro!A159),\"\",InfoPro!A159)","v":"SC_1944_A2"},{"$f":"IF(ISBLANK(InfoPro!B159),\"\",InfoPro!B159)","v":"MANANTIALES DE VERANO de 99.9 MW"},{"$f":"IF(ISBLANK(InfoPro!E159),\"\",InfoPro!E159)","v":99.9},{"$f":"IF(ISBLANK(InfoPro!N159),\"\",InfoPro!N159)","v":"NO"},{"$f":"IF(ISBLANK(InfoPro!I159),\"\",YEAR(InfoPro!I159)-$J$2)","v":3},0,0]
[null,{"$f":"IF(ISBLANK(InfoPro!A160),\"\",InfoPro!A160)","v":"SC_1948_A1"},{"$f":"IF(ISBLANK(InfoPro!B160),\"\",InfoPro!B160)","v":"PGF ROSARIO I"},{"$f":"IF(ISBLANK(InfoPro!E160),\"\",InfoPro!E160)","v":95},{"$f":"IF(ISBLANK(InfoPro!N160),\"\",InfoPro!N160)","v":"NO"},{"$f":"IF(ISBLANK(InfoPro!I160),\"\",YEAR(InfoPro!I160)-$J$2)","v":3},0,0]
[null,{"$f":"IF(ISBLANK(InfoPro!A161),\"\",InfoPro!A161)","v":"SC_1948_A2"},{"$f":"IF(ISBLANK(InfoPro!B161),\"\",InfoPro!B161)","v":"PGF ROSARIO I"},{"$f":"IF(ISBLANK(InfoPro!E161),\"\",InfoPro!E161)","v":95},{"$f":"IF(ISBLANK(InfoPro!N161),\"\",InfoPro!N161)","v":"NO"},{"$f":"IF(ISBLANK(InfoPro!I161),\"\",YEAR(InfoPro!I161)-$J$2)","v":3},0,0]
[null,{"$f":"IF(ISBLANK(InfoPro!A162),\"\",InfoPro!A162)","v":"SC_1967_A1"},{"$f":"IF(ISBLANK(InfoPro!B162),\"\",InfoPro!B162)","v":"Solar Valledupar 4"},{"$f":"IF(ISBLANK(InfoPro!E162),\"\",InfoPro!E162)","v":19.899999999999999},{"$f":"IF(ISBLANK(InfoPro!N162),\"\",InfoPro!N162)","v":"NO"},{"$f":"IF(ISBLANK(InfoPro!I162),\"\",YEAR(InfoPro!I162)-$J$2)","v":2},0,0]
[null,{"$f":"IF(ISBLANK(InfoPro!A163),\"\",InfoPro!A163)","v":"SC_1967_A2"},{"$f":"IF(ISBLANK(InfoPro!B163),\"\",InfoPro!B163)","v":"Solar Valledupar 4"},{"$f":"IF(ISBLANK(InfoPro!E163),\"\",InfoPro!E163)","v":19.899999999999999},{"$f":"IF(ISBLANK(InfoPro!N163),\"\",InfoPro!N163)","v":"NO"},{"$f":"IF(ISBLANK(InfoPro!I163),\"\",YEAR(InfoPro!I163)-$J$2)","v":2},0,0]
[null,{"$f":"IF(ISBLANK(InfoPro!A164),\"\",InfoPro!A164)","v":"SC_1968_A1"},{"$f":"IF(ISBLANK(InfoPro!B164),\"\",InfoPro!B164)","v":"Solar Valledupar 5"},{"$f":"IF(ISBLANK(InfoPro!E164),\"\",InfoPro!E164)","v":19.899999999999999},{"$f":"IF(ISBLANK(InfoPro!N164),\"\",InfoPro!N164)","v":"NO"},{"$f":"IF(ISBLANK(InfoPro!I164),\"\",YEAR(InfoPro!I164)-$J$2)","v":2},0,0]
[null,{"$f":"IF(ISBLANK(InfoPro!A165),\"\",InfoPro!A165)","v":"SC_1968_A2"},{"$f":"IF(ISBLANK(InfoPro!B165),\"\",InfoPro!B165)","v":"Solar Valledupar 5"},{"$f":"IF(ISBLANK(InfoPro!E165),\"\",InfoPro!E165)","v":19.899999999999999},{"$f":"IF(ISBLANK(InfoPro!N165),\"\",InfoPro!N165)","v":"NO"},{"$f":"IF(ISBLANK(InfoPro!I165),\"\",YEAR(InfoPro!I165)-$J$2)","v":2},0,0]
[null,{"$f":"IF(ISBLANK(InfoPro!A166),\"\",InfoPro!A166)","v":"SC_1978_A1"},{"$f":"IF(ISBLANK(InfoPro!B166),\"\",InfoPro!B166)","v":"Solar El Copey"},{"$f":"IF(ISBLANK(InfoPro!E166),\"\",InfoPro!E166)","v":230},{"$f":"IF(ISBLANK(InfoPro!N166),\"\",InfoPro!N166)","v":"NO"},{"$f":"IF(ISBLANK(InfoPro!I166),\"\",YEAR(InfoPro!I166)-$J$2)","v":2},0,0]
[null,{"$f":"IF(ISBLANK(InfoPro!A167),\"\",InfoPro!A167)","v":"SC_1978_A2"},{"$f":"IF(ISBLANK(InfoPro!B167),\"\",InfoPro!B167)","v":"Solar El Copey"},{"$f":"IF(ISBLANK(InfoPro!E167),\"\",InfoPro!E167)","v":230},{"$f":"IF(ISBLANK(InfoPro!N167),\"\",InfoPro!N167)","v":"NO"},{"$f":"IF(ISBLANK(InfoPro!I167),\"\",YEAR(InfoPro!I167)-$J$2)","v":2},0,0]
[null,{"$f":"IF(ISBLANK(InfoPro!A168),\"\",InfoPro!A168)","v":"SC_1981_A1"},{"$f":"IF(ISBLANK(InfoPro!B168),\"\",InfoPro!B168)","v":"Solar Valledupar 2"},{"$f":"IF(ISBLANK(InfoPro!E168),\"\",InfoPro!E168)","v":19.899999999999999},{"$f":"IF(ISBLANK(InfoPro!N168),\"\",InfoPro!N168)","v":"NO"},{"$f":"IF(ISBLANK(InfoPro!I168),\"\",YEAR(InfoPro!I168)-$J$2)","v":0},0,0]
[null,{"$f":"IF(ISBLANK(InfoPro!A169),\"\",InfoPro!A169)","v":"SC_1981_A2"},{"$f":"IF(ISBLANK(InfoPro!B169),\"\",InfoPro!B169)","v":"Solar Valledupar 2"},{"$f":"IF(ISBLANK(InfoPro!E169),\"\",InfoPro!E169)","v":19.899999999999999},{"$f":"IF(ISBLANK(InfoPro!N169),\"\",InfoPro!N169)","v":"NO"},{"$f":"IF(ISBLANK(InfoPro!I169),\"\",YEAR(InfoPro!I169)-$J$2)","v":0},0,0]
[null,{"$f":"IF(ISBLANK(InfoPro!A170),\"\",InfoPro!A170)","v":"SC_1982_A1"},{"$f":"IF(ISBLANK(InfoPro!B170),\"\",InfoPro!B170)","v":"Solar Valledupar 3"},{"$f":"IF(ISBLANK(InfoPro!E170),\"\",InfoPro!E170)","v":19.899999999999999},{"$f":"IF(ISBLANK(InfoPro!N170),\"\",InfoPro!N170)","v":"NO"},{"$f":"IF(ISBLANK(InfoPro!I170),\"\",YEAR(InfoPro!I170)-$J$2)","v":2},0,0]
[null,{"$f":"IF(ISBLANK(InfoPro!A171),\"\",InfoPro!A171)","v":"SC_1982_A2"},{"$f":"IF(ISBLANK(InfoPro!B171),\"\",InfoPro!B171)","v":"Solar Valledupar 3"},{"$f":"IF(ISBLANK(InfoPro!E171),\"\",InfoPro!E171)","v":19.899999999999999},{"$f":"IF(ISBLANK(InfoPro!N171),\"\",InfoPro!N171)","v":"NO"},{"$f":"IF(ISBLANK(InfoPro!I171),\"\",YEAR(InfoPro!I171)-$J$2)","v":2},0,0]
[null,{"$f":"IF(ISBLANK(InfoPro!A172),\"\",InfoPro!A172)","v":"SC_1989_A1"},{"$f":"IF(ISBLANK(InfoPro!B172),\"\",InfoPro!B172)","v":"Solar Valledupar 1"},{"$f":"IF(ISBLANK(InfoPro!E172),\"\",InfoPro!E172)","v":19.899999999999999},{"$f":"IF(ISBLANK(InfoPro!N172),\"\",InfoPro!N172)","v":"NO"},{"$f":"IF(ISBLANK(InfoPro!I172),\"\",YEAR(InfoPro!I172)-$J$2)","v":0},0,0]
[null,{"$f":"IF(ISBLANK(InfoPro!A173),\"\",InfoPro!A173)","v":"SC_1989_A2"},{"$f":"IF(ISBLANK(InfoPro!B173),\"\",InfoPro!B173)","v":"Solar Valledupar 1"},{"$f":"IF(ISBLANK(InfoPro!E173),\"\",InfoPro!E173)","v":19.899999999999999},{"$f":"IF(ISBLANK(InfoPro!N173),\"\",InfoPro!N173)","v":"NO"},{"$f":"IF(ISBLANK(InfoPro!I173),\"\",YEAR(InfoPro!I173)-$J$2)","v":0},0,0]
[null,{"$f":"IF(ISBLANK(InfoPro!A174),\"\",InfoPro!A174)","v":"SC_1992_A1"},{"$f":"IF(ISBLANK(InfoPro!B174),\"\",InfoPro!B174)","v":"Parque Solar TERRɅ III"},{"$f":"IF(ISBLANK(InfoPro!E174),\"\",InfoPro!E174)","v":19.899999999999999},{"$f":"IF(ISBLANK(InfoPro!N174),\"\",InfoPro!N174)","v":"NO"},{"$f":"IF(ISBLANK(InfoPro!I174),\"\",YEAR(InfoPro!I174)-$J$2)","v":1},0,0]
[null,{"$f":"IF(ISBLANK(InfoPro!A175),\"\",InfoPro!A175)","v":"SC_2005_A1"},{"$f":"IF(ISBLANK(InfoPro!B175),\"\",InfoPro!B175)","v":"PARQUE SOLAR CATACA"},{"$f":"IF(ISBLANK(InfoPro!E175),\"\",InfoPro!E175)","v":9.9},{"$f":"IF(ISBLANK(InfoPro!N175),\"\",InfoPro!N175)","v":"NO"},{"$f":"IF(ISBLANK(InfoPro!I175),\"\",YEAR(InfoPro!I175)-$J$2)","v":1},0,0]
[null,{"$f":"IF(ISBLANK(InfoPro!A176),\"\",InfoPro!A176)","v":"SC_2010_A1"},{"$f":"IF(ISBLANK(InfoPro!B176),\"\",InfoPro!B176)","v":"PARQUE SOLAR SAN JUAN_5MW"},{"$f":"IF(ISBLANK(InfoPro!E176),\"\",InfoPro!E176)","v":5},{"$f":"IF(ISBLANK(InfoPro!N176),\"\",InfoPro!N176)","v":"NO"},{"$f":"IF(ISBLANK(InfoPro!I176),\"\",YEAR(InfoPro!I176)-$J$2)","v":1},0,0]
[null,{"$f":"IF(ISBLANK(InfoPro!A177),\"\",InfoPro!A177)","v":"SC_2011_A1"},{"$f":"IF(ISBLANK(InfoPro!B177),\"\",InfoPro!B177)","v":"PE Vientos de la Manita"},{"$f":"IF(ISBLANK(InfoPro!E177),\"\",InfoPro!E177)","v":9.9},{"$f":"IF(ISBLANK(InfoPro!N177),\"\",InfoPro!N177)","v":"NO"},{"$f":"IF(ISBLANK(InfoPro!I177),\"\",YEAR(InfoPro!I177)-$J$2)","v":2},0,0]
[null,{"$f":"IF(ISBLANK(InfoPro!A178),\"\",InfoPro!A178)","v":"SC_2011_A2"},{"$f":"IF(ISBLANK(InfoPro!B178),\"\",InfoPro!B178)","v":"PE Vientos de la Manita"},{"$f":"IF(ISBLANK(InfoPro!E178),\"\",InfoPro!E178)","v":9.9},{"$f":"IF(ISBLANK(InfoPro!N178),\"\",InfoPro!N178)","v":"NO"},{"$f":"IF(ISBLANK(InfoPro!I178),\"\",YEAR(InfoPro!I178)-$J$2)","v":2},0,0]
[null,{"$f":"IF(ISBLANK(InfoPro!A179),\"\",InfoPro!A179)","v":"SC_2020_A1"},{"$f":"IF(ISBLANK(InfoPro!B179),\"\",InfoPro!B179)","v":"San Juan Solar I 9,9 MW"},{"$f":"IF(ISBLANK(InfoPro!E179),\"\",InfoPro!E179)","v":9.9},{"$f":"IF(ISBLANK(InfoPro!N179),\"\",InfoPro!N179)","v":"NO"},{"$f":"IF(ISBLANK(InfoPro!I179),\"\",YEAR(InfoPro!I179)-$J$2)","v":1},0,0]
[null,{"$f":"IF(ISBLANK(InfoPro!A180),\"\",InfoPro!A180)","v":"SC_2020_A2"},{"$f":"IF(ISBLANK(InfoPro!B180),\"\",InfoPro!B180)","v":"San Juan Solar I 9,9 MW"},{"$f":"IF(ISBLANK(InfoPro!E180),\"\",InfoPro!E180)","v":9.9},{"$f":"IF(ISBLANK(InfoPro!N180),\"\",InfoPro!N180)","v":"NO"},{"$f":"IF(ISBLANK(InfoPro!I180),\"\",YEAR(InfoPro!I180)-$J$2)","v":1},0,0]
[null,{"$f":"IF(ISBLANK(InfoPro!A181),\"\",InfoPro!A181)","v":"SC_2021_A1"},{"$f":"IF(ISBLANK(InfoPro!B181),\"\",InfoPro!B181)","v":"San Juan Solar II 9,9 MW"},{"$f":"IF(ISBLANK(InfoPro!E181),\"\",InfoPro!E181)","v":9.9},{"$f":"IF(ISBLANK(InfoPro!N181),\"\",InfoPro!N181)","v":"NO"},{"$f":"IF(ISBLANK(InfoPro!I181),\"\",YEAR(InfoPro!I181)-$J$2)","v":1},0,0]
[null,{"$f":"IF(ISBLANK(InfoPro!A182),\"\",InfoPro!A182)","v":"SC_2021_A2"},{"$f":"IF(ISBLANK(InfoPro!B182),\"\",InfoPro!B182)","v":"San Juan Solar II 9,9 MW"},{"$f":"IF(ISBLANK(InfoPro!E182),\"\",InfoPro!E182)","v":9.9},{"$f":"IF(ISBLANK(InfoPro!N182),\"\",InfoPro!N182)","v":"NO"},{"$f":"IF(ISBLANK(InfoPro!I182),\"\",YEAR(InfoPro!I182)-$J$2)","v":1},0,0]
[null,{"$f":"IF(ISBLANK(InfoPro!A183),\"\",InfoPro!A183)","v":"SC_2056_A1"},{"$f":"IF(ISBLANK(InfoPro!B183),\"\",InfoPro!B183)","v":"Saturno 200 MW"},{"$f":"IF(ISBLANK(InfoPro!E183),\"\",InfoPro!E183)","v":200},{"$f":"IF(ISBLANK(InfoPro!N183),\"\",InfoPro!N183)","v":"NO"},{"$f":"IF(ISBLANK(InfoPro!I183),\"\",YEAR(InfoPro!I183)-$J$2)","v":2},0,0]
[null,{"$f":"IF(ISBLANK(InfoPro!A184),\"\",InfoPro!A184)","v":"SC_2057_A1"},{"$f":"IF(ISBLANK(InfoPro!B184),\"\",InfoPro!B184)","v":"SABAN II - 305 MW"},{"$f":"IF(ISBLANK(InfoPro!E184),\"\",InfoPro!E184)","v":305},{"$f":"IF(ISBLANK(InfoPro!N184),\"\",InfoPro!N184)","v":"NO"},{"$f":"IF(ISBLANK(InfoPro!I184),\"\",YEAR(InfoPro!I184)-$J$2)","v":4},0,0]
[null,{"$f":"IF(ISBLANK(InfoPro!A185),\"\",InfoPro!A185)","v":"SC_2066_A1"},{"$f":"IF(ISBLANK(InfoPro!B185),\"\",InfoPro!B185)","v":"Orquídea del Cesar - La Loma - 62 MW"},{"$f":"IF(ISBLANK(InfoPro!E185),\"\",InfoPro!E185)","v":62},{"$f":"IF(ISBLANK(InfoPro!N185),\"\",InfoPro!N185)","v":"NO"},{"$f":"IF(ISBLANK(InfoPro!I185),\"\",YEAR(InfoPro!I185)-$J$2)","v":5},0,0]
[null,{"$f":"IF(ISBLANK(InfoPro!A186),\"\",InfoPro!A186)","v":"SC_2066_A2"},{"$f":"IF(ISBLANK(InfoPro!B186),\"\",InfoPro!B186)","v":"Orquídea del Cesar - La Loma - 62 MW"},{"$f":"IF(ISBLANK(InfoPro!E186),\"\",InfoPro!E186)","v":62},{"$f":"IF(ISBLANK(InfoPro!N186),\"\",InfoPro!N186)","v":"NO"},{"$f":"IF(ISBLANK(InfoPro!I186),\"\",YEAR(InfoPro!I186)-$J$2)","v":5},0,0]
[null,{"$f":"IF(ISBLANK(InfoPro!A187),\"\",InfoPro!A187)","v":"SC_2069_A1"},{"$f":"IF(ISBLANK(InfoPro!B187),\"\",InfoPro!B187)","v":"Pétalo del Magdalena - Fundación"},{"$f":"IF(ISBLANK(InfoPro!E187),\"\",InfoPro!E187)","v":9.9},{"$f":"IF(ISBLANK(InfoPro!N187),\"\",InfoPro!N187)","v":"NO"},{"$f":"IF(ISBLANK(InfoPro!I187),\"\",YEAR(InfoPro!I187)-$J$2)","v":3},0,0]
[null,{"$f":"IF(ISBLANK(InfoPro!A188),\"\",InfoPro!A188)","v":"SC_2070_A1"},{"$f":"IF(ISBLANK(InfoPro!B188),\"\",InfoPro!B188)","v":"Cactus del Cesar - La Loma"},{"$f":"IF(ISBLANK(InfoPro!E188),\"\",InfoPro!E188)","v":19.899999999999999},{"$f":"IF(ISBLANK(InfoPro!N188),\"\",InfoPro!N188)","v":"NO"},{"$f":"IF(ISBLANK(InfoPro!I188),\"\",YEAR(InfoPro!I188)-$J$2)","v":5},0,0]
[null,{"$f":"IF(ISBLANK(InfoPro!A189),\"\",InfoPro!A189)","v":"SC_2070_A2"},{"$f":"IF(ISBLANK(InfoPro!B189),\"\",InfoPro!B189)","v":"Cactus del Cesar - La Loma"},{"$f":"IF(ISBLANK(InfoPro!E189),\"\",InfoPro!E189)","v":19.899999999999999},{"$f":"IF(ISBLANK(InfoPro!N189),\"\",InfoPro!N189)","v":"NO"},{"$f":"IF(ISBLANK(InfoPro!I189),\"\",YEAR(InfoPro!I189)-$J$2)","v":5},0,0]
[null,{"$f":"IF(ISBLANK(InfoPro!A190),\"\",InfoPro!A190)","v":"SC_2077_A1"},{"$f":"IF(ISBLANK(InfoPro!B190),\"\",InfoPro!B190)","v":"PARQUE SOLAR GUACAMAYAL 9.9"},{"$f":"IF(ISBLANK(InfoPro!E190),\"\",InfoPro!E190)","v":9.9},{"$f":"IF(ISBLANK(InfoPro!N190),\"\",InfoPro!N190)","v":"NO"},{"$f":"IF(ISBLANK(InfoPro!I190),\"\",YEAR(InfoPro!I190)-$J$2)","v":1},0,0]
[null,{"$f":"IF(ISBLANK(InfoPro!A191),\"\",InfoPro!A191)","v":"SC_2084_A1"},{"$f":"IF(ISBLANK(InfoPro!B191),\"\",InfoPro!B191)","v":"Parque Solar Codazzi 1 19,9 MW"},{"$f":"IF(ISBLANK(InfoPro!E191),\"\",InfoPro!E191)","v":19.899999999999999},{"$f":"IF(ISBLANK(InfoPro!N191),\"\",InfoPro!N191)","v":"NO"},{"$f":"IF(ISBLANK(InfoPro!I191),\"\",YEAR(InfoPro!I191)-$J$2)","v":3},0,0]
[null,{"$f":"IF(ISBLANK(InfoPro!A192),\"\",InfoPro!A192)","v":"SC_2084_A2"},{"$f":"IF(ISBLANK(InfoPro!B192),\"\",InfoPro!B192)","v":"Parque Solar Codazzi 1 19,9 MW"},{"$f":"IF(ISBLANK(InfoPro!E192),\"\",InfoPro!E192)","v":19.899999999999999},{"$f":"IF(ISBLANK(InfoPro!N192),\"\",InfoPro!N192)","v":"NO"},{"$f":"IF(ISBLANK(InfoPro!I192),\"\",YEAR(InfoPro!I192)-$J$2)","v":3},0,0]
[null,{"$f":"IF(ISBLANK(InfoPro!A193),\"\",InfoPro!A193)","v":"SC_2086_A1"},{"$f":"IF(ISBLANK(InfoPro!B193),\"\",InfoPro!B193)","v":"PARQUE SOLAR SABANA SOLAR 19.9"},{"$f":"IF(ISBLANK(InfoPro!E193),\"\",InfoPro!E193)","v":19.899999999999999},{"$f":"IF(ISBLANK(InfoPro!N193),\"\",InfoPro!N193)","v":"NO"},{"$f":"IF(ISBLANK(InfoPro!I193),\"\",YEAR(InfoPro!I193)-$J$2)","v":1},0,0]
[null,{"$f":"IF(ISBLANK(InfoPro!A194),\"\",InfoPro!A194)","v":"SC_2103_A1"},{"$f":"IF(ISBLANK(InfoPro!B194),\"\",InfoPro!B194)","v":"PARQUE SOLAR PUERTA DEL SOL"},{"$f":"IF(ISBLANK(InfoPro!E194),\"\",InfoPro!E194)","v":19.899999999999999},{"$f":"IF(ISBLANK(InfoPro!N194),\"\",InfoPro!N194)","v":"NO"},{"$f":"IF(ISBLANK(InfoPro!I194),\"\",YEAR(InfoPro!I194)-$J$2)","v":1},0,0]
[null,{"$f":"IF(ISBLANK(InfoPro!A195),\"\",InfoPro!A195)","v":"SC_2125_A1"},{"$f":"IF(ISBLANK(InfoPro!B195),\"\",InfoPro!B195)","v":"Expansión Valledupar 100 MW"},{"$f":"IF(ISBLANK(InfoPro!E195),\"\",InfoPro!E195)","v":100},{"$f":"IF(ISBLANK(InfoPro!N195),\"\",InfoPro!N195)","v":"SI"},{"$f":"IF(ISBLANK(InfoPro!I195),\"\",YEAR(InfoPro!I195)-$J$2)","v":4},100,100]
[null,{"$f":"IF(ISBLANK(InfoPro!A196),\"\",InfoPro!A196)","v":"SC_2125_A2"},{"$f":"IF(ISBLANK(InfoPro!B196),\"\",InfoPro!B196)","v":"Expansión Valledupar 100 MW"},{"$f":"IF(ISBLANK(InfoPro!E196),\"\",InfoPro!E196)","v":100},{"$f":"IF(ISBLANK(InfoPro!N196),\"\",InfoPro!N196)","v":"SI"},{"$f":"IF(ISBLANK(InfoPro!I196),\"\",YEAR(InfoPro!I196)-$J$2)","v":4},100,100]
[null,{"$f":"IF(ISBLANK(InfoPro!A197),\"\",InfoPro!A197)","v":"SC_2129_A2"},{"$f":"IF(ISBLANK(InfoPro!B197),\"\",InfoPro!B197)","v":"DSE LA JAGUA DE IBIRICO"},{"$f":"IF(ISBLANK(InfoPro!E197),\"\",InfoPro!E197)","v":9.9},{"$f":"IF(ISBLANK(InfoPro!N197),\"\",InfoPro!N197)","v":"NO"},{"$f":"IF(ISBLANK(InfoPro!I197),\"\",YEAR(InfoPro!I197)-$J$2)","v":2},0,0]
[null,{"$f":"IF(ISBLANK(InfoPro!A198),\"\",InfoPro!A198)","v":"SC_2130_A1"},{"$f":"IF(ISBLANK(InfoPro!B198),\"\",InfoPro!B198)","v":"Parque Solar Boreal"},{"$f":"IF(ISBLANK(InfoPro!E198),\"\",InfoPro!E198)","v":100},{"$f":"IF(ISBLANK(InfoPro!N198),\"\",InfoPro!N198)","v":"NO"},{"$f":"IF(ISBLANK(InfoPro!I198),\"\",YEAR(InfoPro!I198)-$J$2)","v":5},0,0]
[null,{"$f":"IF(ISBLANK(InfoPro!A199),\"\",InfoPro!A199)","v":"SC_2130_A2"},{"$f":"IF(ISBLANK(InfoPro!B199),\"\",InfoPro!B199)","v":"Parque Solar Boreal"},{"$f":"IF(ISBLANK(InfoPro!E199),\"\",InfoPro!E199)","v":100},{"$f":"IF(ISBLANK(InfoPro!N199),\"\",InfoPro!N199)","v":"NO"},{"$f":"IF(ISBLANK(InfoPro!I199),\"\",YEAR(InfoPro!I199)-$J$2)","v":5},0,0]
[null,{"$f":"IF(ISBLANK(InfoPro!A200),\"\",InfoPro!A200)","v":"SC_2132_A1"},{"$f":"IF(ISBLANK(InfoPro!B200),\"\",InfoPro!B200)","v":"El Encanto 9,9 MW"},{"$f":"IF(ISBLANK(InfoPro!E200),\"\",InfoPro!E200)","v":9.9},{"$f":"IF(ISBLANK(InfoPro!N200),\"\",InfoPro!N200)","v":"NO"},{"$f":"IF(ISBLANK(InfoPro!I200),\"\",YEAR(InfoPro!I200)-$J$2)","v":1},0,0]
[null,{"$f":"IF(ISBLANK(InfoPro!A201),\"\",InfoPro!A201)","v":"SC_2137_A1"},{"$f":"IF(ISBLANK(InfoPro!B201),\"\",InfoPro!B201)","v":"La Unión 9,9"},{"$f":"IF(ISBLANK(InfoPro!E201),\"\",InfoPro!E201)","v":9.9},{"$f":"IF(ISBLANK(InfoPro!N201),\"\",InfoPro!N201)","v":"NO"},{"$f":"IF(ISBLANK(InfoPro!I201),\"\",YEAR(InfoPro!I201)-$J$2)","v":1},0,0]
[null,{"$f":"IF(ISBLANK(InfoPro!A202),\"\",InfoPro!A202)","v":"SC_2159_A1"},{"$f":"IF(ISBLANK(InfoPro!B202),\"\",InfoPro!B202)","v":"DSE IBIRICO"},{"$f":"IF(ISBLANK(InfoPro!E202),\"\",InfoPro!E202)","v":19.899999999999999},{"$f":"IF(ISBLANK(InfoPro!N202),\"\",InfoPro!N202)","v":"NO"},{"$f":"IF(ISBLANK(InfoPro!I202),\"\",YEAR(InfoPro!I202)-$J$2)","v":2},0,0]
[null,{"$f":"IF(ISBLANK(InfoPro!A203),\"\",InfoPro!A203)","v":"SC_2159_A2"},{"$f":"IF(ISBLANK(InfoPro!B203),\"\",InfoPro!B203)","v":"DSE IBIRICO"},{"$f":"IF(ISBLANK(InfoPro!E203),\"\",InfoPro!E203)","v":19.899999999999999},{"$f":"IF(ISBLANK(InfoPro!N203),\"\",InfoPro!N203)","v":"NO"},{"$f":"IF(ISBLANK(InfoPro!I203),\"\",YEAR(InfoPro!I203)-$J$2)","v":2},0,0]
[null,{"$f":"IF(ISBLANK(InfoPro!A204),\"\",InfoPro!A204)","v":"SC_2162_A1"},{"$f":"IF(ISBLANK(InfoPro!B204),\"\",InfoPro!B204)","v":"Parque Solar Codazzi 2"},{"$f":"IF(ISBLANK(InfoPro!E204),\"\",InfoPro!E204)","v":9.9},{"$f":"IF(ISBLANK(InfoPro!N204),\"\",InfoPro!N204)","v":"NO"},{"$f":"IF(ISBLANK(InfoPro!I204),\"\",YEAR(InfoPro!I204)-$J$2)","v":3},0,0]
[null,{"$f":"IF(ISBLANK(InfoPro!A205),\"\",InfoPro!A205)","v":"SC_2162_A2"},{"$f":"IF(ISBLANK(InfoPro!B205),\"\",InfoPro!B205)","v":"Parque Solar Codazzi 2"},{"$f":"IF(ISBLANK(InfoPro!E205),\"\",InfoPro!E205)","v":9.9},{"$f":"IF(ISBLANK(InfoPro!N205),\"\",InfoPro!N205)","v":"NO"},{"$f":"IF(ISBLANK(InfoPro!I205),\"\",YEAR(InfoPro!I205)-$J$2)","v":3},0,0]
[null,{"$f":"IF(ISBLANK(InfoPro!A206),\"\",InfoPro!A206)","v":"SC_2200_A1"},{"$f":"IF(ISBLANK(InfoPro!B206),\"\",InfoPro!B206)","v":"Parque Eólico Wakuaipa"},{"$f":"IF(ISBLANK(InfoPro!E206),\"\",InfoPro!E206)","v":200},{"$f":"IF(ISBLANK(InfoPro!N206),\"\",InfoPro!N206)","v":"NO"},{"$f":"IF(ISBLANK(InfoPro!I206),\"\",YEAR(InfoPro!I206)-$J$2)","v":3},0,0]
[null,{"$f":"IF(ISBLANK(InfoPro!A207),\"\",InfoPro!A207)","v":"SC_2200_A2"},{"$f":"IF(ISBLANK(InfoPro!B207),\"\",InfoPro!B207)","v":"Parque Eólico Wakuaipa"},{"$f":"IF(ISBLANK(InfoPro!E207),\"\",InfoPro!E207)","v":200},{"$f":"IF(ISBLANK(InfoPro!N207),\"\",InfoPro!N207)","v":"NO"},{"$f":"IF(ISBLANK(InfoPro!I207),\"\",YEAR(InfoPro!I207)-$J$2)","v":3},0,0]
[null,{"$f":"IF(ISBLANK(InfoPro!A208),\"\",InfoPro!A208)","v":"SC_2206_A1"},{"$f":"IF(ISBLANK(InfoPro!B208),\"\",InfoPro!B208)","v":"Parque Fotovoltaico Lyra"},{"$f":"IF(ISBLANK(InfoPro!E208),\"\",InfoPro!E208)","v":19.899999999999999},{"$f":"IF(ISBLANK(InfoPro!N208),\"\",InfoPro!N208)","v":"NO"},{"$f":"IF(ISBLANK(InfoPro!I208),\"\",YEAR(InfoPro!I208)-$J$2)","v":2},0,0]
[null,{"$f":"IF(ISBLANK(InfoPro!A209),\"\",InfoPro!A209)","v":"SC_2206_A2"},{"$f":"IF(ISBLANK(InfoPro!B209),\"\",InfoPro!B209)","v":"Parque Fotovoltaico Lyra"},{"$f":"IF(ISBLANK(InfoPro!E209),\"\",InfoPro!E209)","v":19.899999999999999},{"$f":"IF(ISBLANK(InfoPro!N209),\"\",InfoPro!N209)","v":"NO"},{"$f":"IF(ISBLANK(InfoPro!I209),\"\",YEAR(InfoPro!I209)-$J$2)","v":2},0,0]
[null,{"$f":"IF(ISBLANK(InfoPro!A210),\"\",InfoPro!A210)","v":"SC_2212_A1"},{"$f":"IF(ISBLANK(InfoPro!B210),\"\",InfoPro!B210)","v":"Aguaraní 200 MW"},{"$f":"IF(ISBLANK(InfoPro!E210),\"\",InfoPro!E210)","v":200},{"$f":"IF(ISBLANK(InfoPro!N210),\"\",InfoPro!N210)","v":"NO"},{"$f":"IF(ISBLANK(InfoPro!I210),\"\",YEAR(InfoPro!I210)-$J$2)","v":4},0,0]
[null,{"$f":"IF(ISBLANK(InfoPro!A211),\"\",InfoPro!A211)","v":"SC_2212_A2"},{"$f":"IF(ISBLANK(InfoPro!B211),\"\",InfoPro!B211)","v":"Aguaraní 200 MW"},{"$f":"IF(ISBLANK(InfoPro!E211),\"\",InfoPro!E211)","v":200},{"$f":"IF(ISBLANK(InfoPro!N211),\"\",InfoPro!N211)","v":"NO"},{"$f":"IF(ISBLANK(InfoPro!I211),\"\",YEAR(InfoPro!I211)-$J$2)","v":4},0,0]
[null,{"$f":"IF(ISBLANK(InfoPro!A212),\"\",InfoPro!A212)","v":"SC_2227_A1"},{"$f":"IF(ISBLANK(InfoPro!B212),\"\",InfoPro!B212)","v":"Generación Solar Fotovoltaica Sabana Solar - 9.9 MW"},{"$f":"IF(ISBLANK(InfoPro!E212),\"\",InfoPro!E212)","v":9.9},{"$f":"IF(ISBLANK(InfoPro!N212),\"\",InfoPro!N212)","v":"NO"},{"$f":"IF(ISBLANK(InfoPro!I212),\"\",YEAR(InfoPro!I212)-$J$2)","v":1},0,0]
[null,{"$f":"IF(ISBLANK(InfoPro!A213),\"\",InfoPro!A213)","v":"SC_2227_A2"},{"$f":"IF(ISBLANK(InfoPro!B213),\"\",InfoPro!B213)","v":"Generación Solar Fotovoltaica Sabana Solar - 9.9 MW"},{"$f":"IF(ISBLANK(InfoPro!E213),\"\",InfoPro!E213)","v":9.9},{"$f":"IF(ISBLANK(InfoPro!N213),\"\",InfoPro!N213)","v":"NO"},{"$f":"IF(ISBLANK(InfoPro!I213),\"\",YEAR(InfoPro!I213)-$J$2)","v":1},0,0]
[null,{"$f":"IF(ISBLANK(InfoPro!A214),\"\",InfoPro!A214)","v":"SC_2242_A1"},{"$f":"IF(ISBLANK(InfoPro!B214),\"\",InfoPro!B214)","v":"Parque Eólico San Juan 100 MW"},{"$f":"IF(ISBLANK(InfoPro!E214),\"\",InfoPro!E214)","v":100},{"$f":"IF(ISBLANK(InfoPro!N214),\"\",InfoPro!N214)","v":"NO"},{"$f":"IF(ISBLANK(InfoPro!I214),\"\",YEAR(InfoPro!I214)-$J$2)","v":3},0,0]
[null,{"$f":"IF(ISBLANK(InfoPro!A215),\"\",InfoPro!A215)","v":"SC_2242_A2"},{"$f":"IF(ISBLANK(InfoPro!B215),\"\",InfoPro!B215)","v":"Parque Eólico San Juan 100 MW"},{"$f":"IF(ISBLANK(InfoPro!E215),\"\",InfoPro!E215)","v":100},{"$f":"IF(ISBLANK(InfoPro!N215),\"\",InfoPro!N215)","v":"NO"},{"$f":"IF(ISBLANK(InfoPro!I215),\"\",YEAR(InfoPro!I215)-$J$2)","v":3},{"$f":"IF(E216=\"SI\",100,IF(E216=\"NO\",0,\"\"))","v":0},{"$f":"IF(G216=\"\",\"\",(G216))","v":0}]
[null,{"$f":"IF(ISBLANK(InfoPro!A216),\"\",InfoPro!A216)","v":"SC_2260_A1"},{"$f":"IF(ISBLANK(InfoPro!B216),\"\",InfoPro!B216)","v":"Parque Solar Fotovoltaico Tayrona I"},{"$f":"IF(ISBLANK(InfoPro!E216),\"\",InfoPro!E216)","v":50},{"$f":"IF(ISBLANK(InfoPro!N216),\"\",InfoPro!N216)","v":"NO"},{"$f":"IF(ISBLANK(InfoPro!I216),\"\",YEAR(InfoPro!I216)-$J$2)","v":5},0,0]
[null,{"$f":"IF(ISBLANK(InfoPro!A217),\"\",InfoPro!A217)","v":"SC_2261_A1"},{"$f":"IF(ISBLANK(InfoPro!B217),\"\",InfoPro!B217)","v":"Parque Solar Fotovoltaico Tayrona II"},{"$f":"IF(ISBLANK(InfoPro!E217),\"\",InfoPro!E217)","v":50},{"$f":"IF(ISBLANK(InfoPro!N217),\"\",InfoPro!N217)","v":"NO"},{"$f":"IF(ISBLANK(InfoPro!I217),\"\",YEAR(InfoPro!I217)-$J$2)","v":5},0,0]
[null,{"$f":"IF(ISBLANK(InfoPro!A218),\"\",InfoPro!A218)","v":"SC_2271_A1"},{"$f":"IF(ISBLANK(InfoPro!B218),\"\",InfoPro!B218)","v":"San Angel 19,9 MW"},{"$f":"IF(ISBLANK(InfoPro!E218),\"\",InfoPro!E218)","v":19.899999999999999},{"$f":"IF(ISBLANK(InfoPro!N218),\"\",InfoPro!N218)","v":"NO"},{"$f":"IF(ISBLANK(InfoPro!I218),\"\",YEAR(InfoPro!I218)-$J$2)","v":1},0,0]
[null,{"$f":"IF(ISBLANK(InfoPro!A219),\"\",InfoPro!A219)","v":"SC_2271_A2"},{"$f":"IF(ISBLANK(InfoPro!B219),\"\",InfoPro!B219)","v":"San Angel 19,9 MW"},{"$f":"IF(ISBLANK(InfoPro!E219),\"\",InfoPro!E219)","v":19.899999999999999},{"$f":"IF(ISBLANK(InfoPro!N219),\"\",InfoPro!N219)","v":"NO"},{"$f":"IF(ISBLANK(InfoPro!I219),\"\",YEAR(InfoPro!I219)-$J$2)","v":1},0,0]
[null,{"$f":"IF(ISBLANK(InfoPro!A220),\"\",InfoPro!A220)","v":"SC_2275_A1"},{"$f":"IF(ISBLANK(InfoPro!B220),\"\",InfoPro!B220)","v":"TERMOCOSTA"},{"$f":"IF(ISBLANK(InfoPro!E220),\"\",InfoPro!E220)","v":93},{"$f":"IF(ISBLANK(InfoPro!N220),\"\",InfoPro!N220)","v":"NO"},{"$f":"IF(ISBLANK(InfoPro!I220),\"\",YEAR(InfoPro!I220)-$J$2)","v":2},0,0]
[null,{"$f":"IF(ISBLANK(InfoPro!A221),\"\",InfoPro!A221)","v":"SC_2275_A2"},{"$f":"IF(ISBLANK(InfoPro!B221),\"\",InfoPro!B221)","v":"TERMOCOSTA"},{"$f":"IF(ISBLANK(InfoPro!E221),\"\",InfoPro!E221)","v":93},{"$f":"IF(ISBLANK(InfoPro!N221),\"\",InfoPro!N221)","v":"NO"},{"$f":"IF(ISBLANK(InfoPro!I221),\"\",YEAR(InfoPro!I221)-$J$2)","v":2},0,0]
[null,{"$f":"IF(ISBLANK(InfoPro!A222),\"\",InfoPro!A222)","v":"SC_2292_A1"},{"$f":"IF(ISBLANK(InfoPro!B222),\"\",InfoPro!B222)","v":"PARQUE SOLAR LAS PALMERAS"},{"$f":"IF(ISBLANK(InfoPro!E222),\"\",InfoPro!E222)","v":200},{"$f":"IF(ISBLANK(InfoPro!N222),\"\",InfoPro!N222)","v":"NO"},{"$f":"IF(ISBLANK(InfoPro!I222),\"\",YEAR(InfoPro!I222)-$J$2)","v":2},0,0]
[null,{"$f":"IF(ISBLANK(InfoPro!A223),\"\",InfoPro!A223)","v":"SC_2292_A2"},{"$f":"IF(ISBLANK(InfoPro!B223),\"\",InfoPro!B223)","v":"PARQUE SOLAR LAS PALMERAS"},{"$f":"IF(ISBLANK(InfoPro!E223),\"\",InfoPro!E223)","v":200},{"$f":"IF(ISBLANK(InfoPro!N223),\"\",InfoPro!N223)","v":"NO"},{"$f":"IF(ISBLANK(InfoPro!I223),\"\",YEAR(InfoPro!I223)-$J$2)","v":2},0,0]
[null,{"$f":"IF(ISBLANK(InfoPro!A224),\"\",InfoPro!A224)","v":"SC_2295_A1"},{"$f":"IF(ISBLANK(InfoPro!B224),\"\",InfoPro!B224)","v":"Parque Solar San Jose 200 MW"},{"$f":"IF(ISBLANK(InfoPro!E224),\"\",InfoPro!E224)","v":200},{"$f":"IF(ISBLANK(InfoPro!N224),\"\",InfoPro!N224)","v":"NO"},{"$f":"IF(ISBLANK(InfoPro!I224),\"\",YEAR(InfoPro!I224)-$J$2)","v":2},0,0]
[null,{"$f":"IF(ISBLANK(InfoPro!A225),\"\",InfoPro!A225)","v":"SC_230_A1"},{"$f":"IF(ISBLANK(InfoPro!B225),\"\",InfoPro!B225)","v":"Proyecto Solar San Martin 300MW"},{"$f":"IF(ISBLANK(InfoPro!E225),\"\",InfoPro!E225)","v":300},{"$f":"IF(ISBLANK(InfoPro!N225),\"\",InfoPro!N225)","v":"NO"},{"$f":"IF(ISBLANK(InfoPro!I225),\"\",YEAR(InfoPro!I225)-$J$2)","v":2},0,0]
[null,{"$f":"IF(ISBLANK(InfoPro!A226),\"\",InfoPro!A226)","v":"SC_2341_A1"},{"$f":"IF(ISBLANK(InfoPro!B226),\"\",InfoPro!B226)","v":"Parque Eólico Neguanje"},{"$f":"IF(ISBLANK(InfoPro!E226),\"\",InfoPro!E226)","v":19.899999999999999},{"$f":"IF(ISBLANK(InfoPro!N226),\"\",InfoPro!N226)","v":"NO"},{"$f":"IF(ISBLANK(InfoPro!I226),\"\",YEAR(InfoPro!I226)-$J$2)","v":4},0,0]
[null,{"$f":"IF(ISBLANK(InfoPro!A227),\"\",InfoPro!A227)","v":"SC_2341_A2"},{"$f":"IF(ISBLANK(InfoPro!B227),\"\",InfoPro!B227)","v":"Parque Eólico Neguanje"},{"$f":"IF(ISBLANK(InfoPro!E227),\"\",InfoPro!E227)","v":19.899999999999999},{"$f":"IF(ISBLANK(InfoPro!N227),\"\",InfoPro!N227)","v":"NO"},{"$f":"IF(ISBLANK(InfoPro!I227),\"\",YEAR(InfoPro!I227)-$J$2)","v":4},0,0]
[null,{"$f":"IF(ISBLANK(InfoPro!A228),\"\",InfoPro!A228)","v":"SC_393_A1"},{"$f":"IF(ISBLANK(InfoPro!B228),\"\",InfoPro!B228)","v":"Copey del verano 99.9 MW"},{"$f":"IF(ISBLANK(InfoPro!E228),\"\",InfoPro!E228)","v":99.9},{"$f":"IF(ISBLANK(InfoPro!N228),\"\",InfoPro!N228)","v":"NO"},{"$f":"IF(ISBLANK(InfoPro!I228),\"\",YEAR(InfoPro!I228)-$J$2)","v":2},0,0]
[null,{"$f":"IF(ISBLANK(InfoPro!A229),\"\",InfoPro!A229)","v":"SC_393_A2"},{"$f":"IF(ISBLANK(InfoPro!B229),\"\",InfoPro!B229)","v":"Copey del verano 99.9 MW"},{"$f":"IF(ISBLANK(InfoPro!E229),\"\",InfoPro!E229)","v":99.9},{"$f":"IF(ISBLANK(InfoPro!N229),\"\",InfoPro!N229)","v":"NO"},{"$f":"IF(ISBLANK(InfoPro!I229),\"\",YEAR(InfoPro!I229)-$J$2)","v":2},0,0]
[null,{"$f":"IF(ISBLANK(InfoPro!A230),\"\",InfoPro!A230)","v":"SC_394_A1"},{"$f":"IF(ISBLANK(InfoPro!B230),\"\",InfoPro!B230)","v":"Riohacha de 20 del Verano"},{"$f":"IF(ISBLANK(InfoPro!E230),\"\",InfoPro!E230)","v":19.899999999999999},{"$f":"IF(ISBLANK(InfoPro!N230),\"\",InfoPro!N230)","v":"NO"},{"$f":"IF(ISBLANK(InfoPro!I230),\"\",YEAR(InfoPro!I230)-$J$2)","v":2},0,0]
[null,{"$f":"IF(ISBLANK(InfoPro!A231),\"\",InfoPro!A231)","v":"SC_394_A2"},{"$f":"IF(ISBLANK(InfoPro!B231),\"\",InfoPro!B231)","v":"Riohacha de 20 del Verano"},{"$f":"IF(ISBLANK(InfoPro!E231),\"\",InfoPro!E231)","v":19.899999999999999},{"$f":"IF(ISBLANK(InfoPro!N231),\"\",InfoPro!N231)","v":"NO"},{"$f":"IF(ISBLANK(InfoPro!I231),\"\",YEAR(InfoPro!I231)-$J$2)","v":2},0,0]
[null,{"$f":"IF(ISBLANK(InfoPro!A232),\"\",InfoPro!A232)","v":"SC_407_A1"},{"$f":"IF(ISBLANK(InfoPro!B232),\"\",InfoPro!B232)","v":"Portugal I 19.9 MW"},{"$f":"IF(ISBLANK(InfoPro!E232),\"\",InfoPro!E232)","v":19.899999999999999},{"$f":"IF(ISBLANK(InfoPro!N232),\"\",InfoPro!N232)","v":"NO"},{"$f":"IF(ISBLANK(InfoPro!I232),\"\",YEAR(InfoPro!I232)-$J$2)","v":2},0,0]
[null,{"$f":"IF(ISBLANK(InfoPro!A233),\"\",InfoPro!A233)","v":"SC_42_A1"},{"$f":"IF(ISBLANK(InfoPro!B233),\"\",InfoPro!B233)","v":"Santa Marta 1 - 50 MW"},{"$f":"IF(ISBLANK(InfoPro!E233),\"\",InfoPro!E233)","v":50},{"$f":"IF(ISBLANK(InfoPro!N233),\"\",InfoPro!N233)","v":"NO"},{"$f":"IF(ISBLANK(InfoPro!I233),\"\",YEAR(InfoPro!I233)-$J$2)","v":2},0,0]
[null,{"$f":"IF(ISBLANK(InfoPro!A234),\"\",InfoPro!A234)","v":"SC_482_A1"},{"$f":"IF(ISBLANK(InfoPro!B234),\"\",InfoPro!B234)","v":"La Santa Maria - 99.9MW"},{"$f":"IF(ISBLANK(InfoPro!E234),\"\",InfoPro!E234)","v":99.9},{"$f":"IF(ISBLANK(InfoPro!N234),\"\",InfoPro!N234)","v":"NO"},{"$f":"IF(ISBLANK(InfoPro!I234),\"\",YEAR(InfoPro!I234)-$J$2)","v":2},0,0]
[null,{"$f":"IF(ISBLANK(InfoPro!A235),\"\",InfoPro!A235)","v":"SC_482_A2"},{"$f":"IF(ISBLANK(InfoPro!B235),\"\",InfoPro!B235)","v":"La Santa Maria - 99.9MW"},{"$f":"IF(ISBLANK(InfoPro!E235),\"\",InfoPro!E235)","v":99.9},{"$f":"IF(ISBLANK(InfoPro!N235),\"\",InfoPro!N235)","v":"NO"},{"$f":"IF(ISBLANK(InfoPro!I235),\"\",YEAR(InfoPro!I235)-$J$2)","v":2},0,0]
[null,{"$f":"IF(ISBLANK(InfoPro!A236),\"\",InfoPro!A236)","v":"SC_497_A1"},{"$f":"IF(ISBLANK(InfoPro!B236),\"\",InfoPro!B236)","v":"Portugal II - 9.9 MW"},{"$f":"IF(ISBLANK(InfoPro!E236),\"\",InfoPro!E236)","v":9.9},{"$f":"IF(ISBLANK(InfoPro!N236),\"\",InfoPro!N236)","v":"NO"},{"$f":"IF(ISBLANK(InfoPro!I236),\"\",YEAR(InfoPro!I236)-$J$2)","v":2},0,0]
[null,{"$f":"IF(ISBLANK(InfoPro!A237),\"\",InfoPro!A237)","v":"SC_502_A1"},{"$f":"IF(ISBLANK(InfoPro!B237),\"\",InfoPro!B237)","v":"RUBÍ 40 MW"},{"$f":"IF(ISBLANK(InfoPro!E237),\"\",InfoPro!E237)","v":40},{"$f":"IF(ISBLANK(InfoPro!N237),\"\",InfoPro!N237)","v":"NO"},{"$f":"IF(ISBLANK(InfoPro!I237),\"\",YEAR(InfoPro!I237)-$J$2)","v":3},0,0]
[null,{"$f":"IF(ISBLANK(InfoPro!A238),\"\",InfoPro!A238)","v":"SC_507_A1"},{"$f":"IF(ISBLANK(InfoPro!B238),\"\",InfoPro!B238)","v":"PARQUE FOTOVOLTAICO CATAY 2"},{"$f":"IF(ISBLANK(InfoPro!E238),\"\",InfoPro!E238)","v":100},{"$f":"IF(ISBLANK(InfoPro!N238),\"\",InfoPro!N238)","v":"NO"},{"$f":"IF(ISBLANK(InfoPro!I238),\"\",YEAR(InfoPro!I238)-$J$2)","v":4},0,0]
[null,{"$f":"IF(ISBLANK(InfoPro!A239),\"\",InfoPro!A239)","v":"SC_507_A2"},{"$f":"IF(ISBLANK(InfoPro!B239),\"\",InfoPro!B239)","v":"PARQUE FOTOVOLTAICO CATAY 2"},{"$f":"IF(ISBLANK(InfoPro!E239),\"\",InfoPro!E239)","v":100},{"$f":"IF(ISBLANK(InfoPro!N239),\"\",InfoPro!N239)","v":"NO"},{"$f":"IF(ISBLANK(InfoPro!I239),\"\",YEAR(InfoPro!I239)-$J$2)","v":4},0,0]
[null,{"$f":"IF(ISBLANK(InfoPro!A240),\"\",InfoPro!A240)","v":"SC_543_A1"},{"$f":"IF(ISBLANK(InfoPro!B240),\"\",InfoPro!B240)","v":"Sabana I 350 MW"},{"$f":"IF(ISBLANK(InfoPro!E240),\"\",InfoPro!E240)","v":350},{"$f":"IF(ISBLANK(InfoPro!N240),\"\",InfoPro!N240)","v":"NO"},{"$f":"IF(ISBLANK(InfoPro!I240),\"\",YEAR(InfoPro!I240)-$J$2)","v":4},0,0]
[null,{"$f":"IF(ISBLANK(InfoPro!A241),\"\",InfoPro!A241)","v":"SC_56_A2"},{"$f":"IF(ISBLANK(InfoPro!B241),\"\",InfoPro!B241)","v":"PV LATAMSOLAR LA LOMA 200 MW"},{"$f":"IF(ISBLANK(InfoPro!E241),\"\",InfoPro!E241)","v":200},{"$f":"IF(ISBLANK(InfoPro!N241),\"\",InfoPro!N241)","v":"NO"},{"$f":"IF(ISBLANK(InfoPro!I241),\"\",YEAR(InfoPro!I241)-$J$2)","v":1},0,0]
[null,{"$f":"IF(ISBLANK(InfoPro!A242),\"\",InfoPro!A242)","v":"SC_587_A1"},{"$f":"IF(ISBLANK(InfoPro!B242),\"\",InfoPro!B242)","v":"Cactus del Cesar - El Paso"},{"$f":"IF(ISBLANK(InfoPro!E242),\"\",InfoPro!E242)","v":19.899999999999999},{"$f":"IF(ISBLANK(InfoPro!N242),\"\",InfoPro!N242)","v":"NO"},{"$f":"IF(ISBLANK(InfoPro!I242),\"\",YEAR(InfoPro!I242)-$J$2)","v":6},0,0]
[null,{"$f":"IF(ISBLANK(InfoPro!A243),\"\",InfoPro!A243)","v":"SC_587_A2"},{"$f":"IF(ISBLANK(InfoPro!B243),\"\",InfoPro!B243)","v":"Cactus del Cesar - El Paso"},{"$f":"IF(ISBLANK(InfoPro!E243),\"\",InfoPro!E243)","v":19.899999999999999},{"$f":"IF(ISBLANK(InfoPro!N243),\"\",InfoPro!N243)","v":"NO"},{"$f":"IF(ISBLANK(InfoPro!I243),\"\",YEAR(InfoPro!I243)-$J$2)","v":6},0,0]
[null,{"$f":"IF(ISBLANK(InfoPro!A244),\"\",InfoPro!A244)","v":"SC_599_A1"},{"$f":"IF(ISBLANK(InfoPro!B244),\"\",InfoPro!B244)","v":"La Fortuna - 19,9 MW"},{"$f":"IF(ISBLANK(InfoPro!E244),\"\",InfoPro!E244)","v":19.899999999999999},{"$f":"IF(ISBLANK(InfoPro!N244),\"\",InfoPro!N244)","v":"NO"},{"$f":"IF(ISBLANK(InfoPro!I244),\"\",YEAR(InfoPro!I244)-$J$2)","v":2},0,0]
[null,{"$f":"IF(ISBLANK(InfoPro!A245),\"\",InfoPro!A245)","v":"SC_599_A2"},{"$f":"IF(ISBLANK(InfoPro!B245),\"\",InfoPro!B245)","v":"La Fortuna - 19,9 MW"},{"$f":"IF(ISBLANK(InfoPro!E245),\"\",InfoPro!E245)","v":19.899999999999999},{"$f":"IF(ISBLANK(InfoPro!N245),\"\",InfoPro!N245)","v":"NO"},{"$f":"IF(ISBLANK(InfoPro!I245),\"\",YEAR(InfoPro!I245)-$J$2)","v":2},0,0]
[null,{"$f":"IF(ISBLANK(InfoPro!A246),\"\",InfoPro!A246)","v":"SC_623_A1"},{"$f":"IF(ISBLANK(InfoPro!B246),\"\",InfoPro!B246)","v":"TR SOLAR 6"},{"$f":"IF(ISBLANK(InfoPro!E246),\"\",InfoPro!E246)","v":120.3},{"$f":"IF(ISBLANK(InfoPro!N246),\"\",InfoPro!N246)","v":"NO"},{"$f":"IF(ISBLANK(InfoPro!I246),\"\",YEAR(InfoPro!I246)-$J$2)","v":3},0,0]
[null,{"$f":"IF(ISBLANK(InfoPro!A247),\"\",InfoPro!A247)","v":"SC_623_A2"},{"$f":"IF(ISBLANK(InfoPro!B247),\"\",InfoPro!B247)","v":"TR SOLAR 6"},{"$f":"IF(ISBLANK(InfoPro!E247),\"\",InfoPro!E247)","v":120.3},{"$f":"IF(ISBLANK(InfoPro!N247),\"\",InfoPro!N247)","v":"NO"},{"$f":"IF(ISBLANK(InfoPro!I247),\"\",YEAR(InfoPro!I247)-$J$2)","v":3},0,0]
[null,{"$f":"IF(ISBLANK(InfoPro!A248),\"\",InfoPro!A248)","v":"SC_628_A1"},{"$f":"IF(ISBLANK(InfoPro!B248),\"\",InfoPro!B248)","v":"TR Solar 13"},{"$f":"IF(ISBLANK(InfoPro!E248),\"\",InfoPro!E248)","v":110},{"$f":"IF(ISBLANK(InfoPro!N248),\"\",InfoPro!N248)","v":"NO"},{"$f":"IF(ISBLANK(InfoPro!I248),\"\",YEAR(InfoPro!I248)-$J$2)","v":3},0,0]
[null,{"$f":"IF(ISBLANK(InfoPro!A249),\"\",InfoPro!A249)","v":"SC_628_A2"},{"$f":"IF(ISBLANK(InfoPro!B249),\"\",InfoPro!B249)","v":"TR Solar 13"},{"$f":"IF(ISBLANK(InfoPro!E249),\"\",InfoPro!E249)","v":110},{"$f":"IF(ISBLANK(InfoPro!N249),\"\",InfoPro!N249)","v":"NO"},{"$f":"IF(ISBLANK(InfoPro!I249),\"\",YEAR(InfoPro!I249)-$J$2)","v":3},0,0]
[null,{"$f":"IF(ISBLANK(InfoPro!A250),\"\",InfoPro!A250)","v":"SC_657_A1"},{"$f":"IF(ISBLANK(InfoPro!B250),\"\",InfoPro!B250)","v":"TR Solar 7"},{"$f":"IF(ISBLANK(InfoPro!E250),\"\",InfoPro!E250)","v":99.9},{"$f":"IF(ISBLANK(InfoPro!N250),\"\",InfoPro!N250)","v":"NO"},{"$f":"IF(ISBLANK(InfoPro!I250),\"\",YEAR(InfoPro!I250)-$J$2)","v":3},0,0]
[null,{"$f":"IF(ISBLANK(InfoPro!A251),\"\",InfoPro!A251)","v":"SC_657_A2"},{"$f":"IF(ISBLANK(InfoPro!B251),\"\",InfoPro!B251)","v":"TR Solar 7"},{"$f":"IF(ISBLANK(InfoPro!E251),\"\",InfoPro!E251)","v":99.9},{"$f":"IF(ISBLANK(InfoPro!N251),\"\",InfoPro!N251)","v":"NO"},{"$f":"IF(ISBLANK(InfoPro!I251),\"\",YEAR(InfoPro!I251)-$J$2)","v":3},0,0]
[null,{"$f":"IF(ISBLANK(InfoPro!A252),\"\",InfoPro!A252)","v":"SC_658_A1"},{"$f":"IF(ISBLANK(InfoPro!B252),\"\",InfoPro!B252)","v":"TR Solar 8"},{"$f":"IF(ISBLANK(InfoPro!E252),\"\",InfoPro!E252)","v":200},{"$f":"IF(ISBLANK(InfoPro!N252),\"\",InfoPro!N252)","v":"NO"},{"$f":"IF(ISBLANK(InfoPro!I252),\"\",YEAR(InfoPro!I252)-$J$2)","v":3},0,0]
[null,{"$f":"IF(ISBLANK(InfoPro!A253),\"\",InfoPro!A253)","v":"SC_658_A2"},{"$f":"IF(ISBLANK(InfoPro!B253),\"\",InfoPro!B253)","v":"TR Solar 8"},{"$f":"IF(ISBLANK(InfoPro!E253),\"\",InfoPro!E253)","v":200},{"$f":"IF(ISBLANK(InfoPro!N253),\"\",InfoPro!N253)","v":"NO"},{"$f":"IF(ISBLANK(InfoPro!I253),\"\",YEAR(InfoPro!I253)-$J$2)","v":3},0,0]
[null,{"$f":"IF(ISBLANK(InfoPro!A254),\"\",InfoPro!A254)","v":"SC_72_A1"},{"$f":"IF(ISBLANK(InfoPro!B254),\"\",InfoPro!B254)","v":"Santa Marta III"},{"$f":"IF(ISBLANK(InfoPro!E254),\"\",InfoPro!E254)","v":50},{"$f":"IF(ISBLANK(InfoPro!N254),\"\",InfoPro!N254)","v":"NO"},{"$f":"IF(ISBLANK(InfoPro!I254),\"\",YEAR(InfoPro!I254)-$J$2)","v":2},0,0]
[null,{"$f":"IF(ISBLANK(InfoPro!A255),\"\",InfoPro!A255)","v":"SC_735_A1"},{"$f":"IF(ISBLANK(InfoPro!B255),\"\",InfoPro!B255)","v":"EGINA 60"},{"$f":"IF(ISBLANK(InfoPro!E255),\"\",InfoPro!E255)","v":60},{"$f":"IF(ISBLANK(InfoPro!N255),\"\",InfoPro!N255)","v":"NO"},{"$f":"IF(ISBLANK(InfoPro!I255),\"\",YEAR(InfoPro!I255)-$J$2)","v":3},0,0]
[null,{"$f":"IF(ISBLANK(InfoPro!A256),\"\",InfoPro!A256)","v":"SC_735_A2"},{"$f":"IF(ISBLANK(InfoPro!B256),\"\",InfoPro!B256)","v":"EGINA 60"},{"$f":"IF(ISBLANK(InfoPro!E256),\"\",InfoPro!E256)","v":60},{"$f":"IF(ISBLANK(InfoPro!N256),\"\",InfoPro!N256)","v":"NO"},{"$f":"IF(ISBLANK(InfoPro!I256),\"\",YEAR(InfoPro!I256)-$J$2)","v":3},0,0]
[null,{"$f":"IF(ISBLANK(InfoPro!A257),\"\",InfoPro!A257)","v":"SC_758_A1"},{"$f":"IF(ISBLANK(InfoPro!B257),\"\",InfoPro!B257)","v":"JAMAICA 19.9"},{"$f":"IF(ISBLANK(InfoPro!E257),\"\",InfoPro!E257)","v":19.899999999999999},{"$f":"IF(ISBLANK(InfoPro!N257),\"\",InfoPro!N257)","v":"NO"},{"$f":"IF(ISBLANK(InfoPro!I257),\"\",YEAR(InfoPro!I257)-$J$2)","v":2},0,0]
[null,{"$f":"IF(ISBLANK(InfoPro!A258),\"\",InfoPro!A258)","v":"SC_758_A2"},{"$f":"IF(ISBLANK(InfoPro!B258),\"\",InfoPro!B258)","v":"JAMAICA 19.9"},{"$f":"IF(ISBLANK(InfoPro!E258),\"\",InfoPro!E258)","v":19.899999999999999},{"$f":"IF(ISBLANK(InfoPro!N258),\"\",InfoPro!N258)","v":"NO"},{"$f":"IF(ISBLANK(InfoPro!I258),\"\",YEAR(InfoPro!I258)-$J$2)","v":2},0,0]
[null,{"$f":"IF(ISBLANK(InfoPro!A259),\"\",InfoPro!A259)","v":"SC_768_A1"},{"$f":"IF(ISBLANK(InfoPro!B259),\"\",InfoPro!B259)","v":"RODAS 19.9"},{"$f":"IF(ISBLANK(InfoPro!E259),\"\",InfoPro!E259)","v":19.899999999999999},{"$f":"IF(ISBLANK(InfoPro!N259),\"\",InfoPro!N259)","v":"NO"},{"$f":"IF(ISBLANK(InfoPro!I259),\"\",YEAR(InfoPro!I259)-$J$2)","v":2},0,0]
[null,{"$f":"IF(ISBLANK(InfoPro!A260),\"\",InfoPro!A260)","v":"SC_768_A2"},{"$f":"IF(ISBLANK(InfoPro!B260),\"\",InfoPro!B260)","v":"RODAS 19.9"},{"$f":"IF(ISBLANK(InfoPro!E260),\"\",InfoPro!E260)","v":19.899999999999999},{"$f":"IF(ISBLANK(InfoPro!N260),\"\",InfoPro!N260)","v":"NO"},{"$f":"IF(ISBLANK(InfoPro!I260),\"\",YEAR(InfoPro!I260)-$J$2)","v":2},0,0]
[null,{"$f":"IF(ISBLANK(InfoPro!A261),\"\",InfoPro!A261)","v":"SC_807_A2"},{"$f":"IF(ISBLANK(InfoPro!B261),\"\",InfoPro!B261)","v":"Parque Solar Fotovoltaico La Villa de 120 MW (entrega 100 MW)"},{"$f":"IF(ISBLANK(InfoPro!E261),\"\",InfoPro!E261)","v":100},{"$f":"IF(ISBLANK(InfoPro!N261),\"\",InfoPro!N261)","v":"NO"},{"$f":"IF(ISBLANK(InfoPro!I261),\"\",YEAR(InfoPro!I261)-$J$2)","v":2},0,0]
[null,{"$f":"IF(ISBLANK(InfoPro!A262),\"\",InfoPro!A262)","v":"SC_821_A1"},{"$f":"IF(ISBLANK(InfoPro!B262),\"\",InfoPro!B262)","v":"SPK SOLAR DEL CESAR - 65 MW"},{"$f":"IF(ISBLANK(InfoPro!E262),\"\",InfoPro!E262)","v":65},{"$f":"IF(ISBLANK(InfoPro!N262),\"\",InfoPro!N262)","v":"NO"},{"$f":"IF(ISBLANK(InfoPro!I262),\"\",YEAR(InfoPro!I262)-$J$2)","v":3},0,0]
[null,{"$f":"IF(ISBLANK(InfoPro!A263),\"\",InfoPro!A263)","v":"SC_821_A2"},{"$f":"IF(ISBLANK(InfoPro!B263),\"\",InfoPro!B263)","v":"SPK SOLAR DEL CESAR - 65 MW"},{"$f":"IF(ISBLANK(InfoPro!E263),\"\",InfoPro!E263)","v":65},{"$f":"IF(ISBLANK(InfoPro!N263),\"\",InfoPro!N263)","v":"NO"},{"$f":"IF(ISBLANK(InfoPro!I263),\"\",YEAR(InfoPro!I263)-$J$2)","v":3},0,0]
[null,{"$f":"IF(ISBLANK(InfoPro!A264),\"\",InfoPro!A264)","v":"SC_822_A1"},{"$f":"IF(ISBLANK(InfoPro!B264),\"\",InfoPro!B264)","v":"SANTA MARTA IV 50 MW"},{"$f":"IF(ISBLANK(InfoPro!E264),\"\",InfoPro!E264)","v":50},{"$f":"IF(ISBLANK(InfoPro!N264),\"\",InfoPro!N264)","v":"NO"},{"$f":"IF(ISBLANK(InfoPro!I264),\"\",YEAR(InfoPro!I264)-$J$2)","v":2},0,0]
[null,{"$f":"IF(ISBLANK(InfoPro!A265),\"\",InfoPro!A265)","v":"SC_825_A1"},{"$f":"IF(ISBLANK(InfoPro!B265),\"\",InfoPro!B265)","v":"OWF GOLETA"},{"$f":"IF(ISBLANK(InfoPro!E265),\"\",InfoPro!E265)","v":325},{"$f":"IF(ISBLANK(InfoPro!N265),\"\",InfoPro!N265)","v":"NO"},{"$f":"IF(ISBLANK(InfoPro!I265),\"\",YEAR(InfoPro!I265)-$J$2)","v":9},0,0]
[null,{"$f":"IF(ISBLANK(InfoPro!A266),\"\",InfoPro!A266)","v":"SC_825_A2"},{"$f":"IF(ISBLANK(InfoPro!B266),\"\",InfoPro!B266)","v":"OWF GOLETA"},{"$f":"IF(ISBLANK(InfoPro!E266),\"\",InfoPro!E266)","v":325},{"$f":"IF(ISBLANK(InfoPro!N266),\"\",InfoPro!N266)","v":"NO"},{"$f":"IF(ISBLANK(InfoPro!I266),\"\",YEAR(InfoPro!I266)-$J$2)","v":9},0,0]
[null,{"$f":"IF(ISBLANK(InfoPro!A267),\"\",InfoPro!A267)","v":"SC_833_A1"},{"$f":"IF(ISBLANK(InfoPro!B267),\"\",InfoPro!B267)","v":"LOMERO SOLAR"},{"$f":"IF(ISBLANK(InfoPro!E267),\"\",InfoPro!E267)","v":200},{"$f":"IF(ISBLANK(InfoPro!N267),\"\",InfoPro!N267)","v":"NO"},{"$f":"IF(ISBLANK(InfoPro!I267),\"\",YEAR(InfoPro!I267)-$J$2)","v":4},0,0]
[null,{"$f":"IF(ISBLANK(InfoPro!A268),\"\",InfoPro!A268)","v":"SC_846_A1"},{"$f":"IF(ISBLANK(InfoPro!B268),\"\",InfoPro!B268)","v":"Parque Eólico El Ahumado_de 50MW a 60MW _Es decir 10MW"},{"$f":"IF(ISBLANK(InfoPro!E268),\"\",InfoPro!E268)","v":10},{"$f":"IF(ISBLANK(InfoPro!N268),\"\",InfoPro!N268)","v":"NO"},{"$f":"IF(ISBLANK(InfoPro!I268),\"\",YEAR(InfoPro!I268)-$J$2)","v":2},0,0]
[null,{"$f":"IF(ISBLANK(InfoPro!A269),\"\",InfoPro!A269)","v":"SC_878_A1"},{"$f":"IF(ISBLANK(InfoPro!B269),\"\",InfoPro!B269)","v":"PARQUE SOLAR EL PROGRESO"},{"$f":"IF(ISBLANK(InfoPro!E269),\"\",InfoPro!E269)","v":19.899999999999999},{"$f":"IF(ISBLANK(InfoPro!N269),\"\",InfoPro!N269)","v":"NO"},{"$f":"IF(ISBLANK(InfoPro!I269),\"\",YEAR(InfoPro!I269)-$J$2)","v":1},0,0]
[null,{"$f":"IF(ISBLANK(InfoPro!A270),\"\",InfoPro!A270)","v":"SC_890_A1"},{"$f":"IF(ISBLANK(InfoPro!B270),\"\",InfoPro!B270)","v":"Fundación II - 100 MW"},{"$f":"IF(ISBLANK(InfoPro!E270),\"\",InfoPro!E270)","v":100},{"$f":"IF(ISBLANK(InfoPro!N270),\"\",InfoPro!N270)","v":"NO"},{"$f":"IF(ISBLANK(InfoPro!I270),\"\",YEAR(InfoPro!I270)-$J$2)","v":4},0,0]
[null,{"$f":"IF(ISBLANK(InfoPro!A271),\"\",InfoPro!A271)","v":"SC_890_A2"},{"$f":"IF(ISBLANK(InfoPro!B271),\"\",InfoPro!B271)","v":"Fundación II - 100 MW"},{"$f":"IF(ISBLANK(InfoPro!E271),\"\",InfoPro!E271)","v":100},{"$f":"IF(ISBLANK(InfoPro!N271),\"\",InfoPro!N271)","v":"NO"},{"$f":"IF(ISBLANK(InfoPro!I271),\"\",YEAR(InfoPro!I271)-$J$2)","v":4},0,0]
[null,{"$f":"IF(ISBLANK(InfoPro!A272),\"\",InfoPro!A272)","v":"SC_921_A1"},{"$f":"IF(ISBLANK(InfoPro!B272),\"\",InfoPro!B272)","v":"PARQUE SOLAR EL CIELO"},{"$f":"IF(ISBLANK(InfoPro!E272),\"\",InfoPro!E272)","v":9.9},{"$f":"IF(ISBLANK(InfoPro!N272),\"\",InfoPro!N272)","v":"NO"},{"$f":"IF(ISBLANK(InfoPro!I272),\"\",YEAR(InfoPro!I272)-$J$2)","v":1},0,0]
[null,{"$f":"IF(ISBLANK(InfoPro!A273),\"\",InfoPro!A273)","v":"SC_944_A1"},{"$f":"IF(ISBLANK(InfoPro!B273),\"\",InfoPro!B273)","v":"DSE FUNDACION"},{"$f":"IF(ISBLANK(InfoPro!E273),\"\",InfoPro!E273)","v":99.9},{"$f":"IF(ISBLANK(InfoPro!N273),\"\",InfoPro!N273)","v":"NO"},{"$f":"IF(ISBLANK(InfoPro!I273),\"\",YEAR(InfoPro!I273)-$J$2)","v":3},0,0]
[null,{"$f":"IF(ISBLANK(InfoPro!A274),\"\",InfoPro!A274)","v":"SC_951_A1"},{"$f":"IF(ISBLANK(InfoPro!B274),\"\",InfoPro!B274)","v":"SANTA ROSA SOLAR_100MW"},{"$f":"IF(ISBLANK(InfoPro!E274),\"\",InfoPro!E274)","v":100},{"$f":"IF(ISBLANK(InfoPro!N274),\"\",InfoPro!N274)","v":"NO"},{"$f":"IF(ISBLANK(InfoPro!I274),\"\",YEAR(InfoPro!I274)-$J$2)","v":3},0,0]
[null,{"$f":"IF(ISBLANK(InfoPro!A275),\"\",InfoPro!A275)","v":"SC_951_A2"},{"$f":"IF(ISBLANK(InfoPro!B275),\"\",InfoPro!B275)","v":"SANTA ROSA SOLAR_100MW"},{"$f":"IF(ISBLANK(InfoPro!E275),\"\",InfoPro!E275)","v":100},{"$f":"IF(ISBLANK(InfoPro!N275),\"\",InfoPro!N275)","v":"NO"},{"$f":"IF(ISBLANK(InfoPro!I275),\"\",YEAR(InfoPro!I275)-$J$2)","v":3},0,0]
[null,{"$f":"IF(ISBLANK(InfoPro!A276),\"\",InfoPro!A276)","v":"SC_963_A1"},{"$f":"IF(ISBLANK(InfoPro!B276),\"\",InfoPro!B276)","v":"Churuco Solar"},{"$f":"IF(ISBLANK(InfoPro!E276),\"\",InfoPro!E276)","v":60},{"$f":"IF(ISBLANK(InfoPro!N276),\"\",InfoPro!N276)","v":"NO"},{"$f":"IF(ISBLANK(InfoPro!I276),\"\",YEAR(InfoPro!I276)-$J$2)","v":3},0,0]
[null,{"$f":"IF(ISBLANK(InfoPro!A277),\"\",InfoPro!A277)","v":"SC_984_A1"},{"$f":"IF(ISBLANK(InfoPro!B277),\"\",InfoPro!B277)","v":"Eupari"},{"$f":"IF(ISBLANK(InfoPro!E277),\"\",InfoPro!E277)","v":99},{"$f":"IF(ISBLANK(InfoPro!N277),\"\",InfoPro!N277)","v":"NO"},{"$f":"IF(ISBLANK(InfoPro!I277),\"\",YEAR(InfoPro!I277)-$J$2)","v":3},{"$f":"IF(E278=\"SI\",100,IF(E278=\"NO\",0,\"\"))","v":0},{"$f":"IF(G278=\"\",\"\",(G278))","v":0}]
[null,{"$f":"IF(ISBLANK(InfoPro!A278),\"\",InfoPro!A278)","v":"SC_984_A2"},{"$f":"IF(ISBLANK(InfoPro!B278),\"\",InfoPro!B278)","v":"Eupari"},{"$f":"IF(ISBLANK(InfoPro!E278),\"\",InfoPro!E278)","v":99},{"$f":"IF(ISBLANK(InfoPro!N278),\"\",InfoPro!N278)","v":"NO"},{"$f":"IF(ISBLANK(InfoPro!I278),\"\",YEAR(InfoPro!I278)-$J$2)","v":3},0,0]
[null,{"$f":"IF(ISBLANK(InfoPro!A279),\"\",InfoPro!A279)","v":""},{"$f":"IF(ISBLANK(InfoPro!B279),\"\",InfoPro!B279)","v":""},{"$f":"IF(ISBLANK(InfoPro!E279),\"\",InfoPro!E279)","v":""},{"$f":"IF(ISBLANK(InfoPro!N279),\"\",InfoPro!N279)","v":""},{"$f":"IF(ISBLANK(InfoPro!I279),\"\",YEAR(InfoPro!I279)-$J$2)","v":""},"",""]
[null,{"$f":"IF(ISBLANK(InfoPro!A280),\"\",InfoPro!A280)","v":""},{"$f":"IF(ISBLANK(InfoPro!B280),\"\",InfoPro!B280)","v":""},{"$f":"IF(ISBLANK(InfoPro!E280),\"\",InfoPro!E280)","v":""},{"$f":"IF(ISBLANK(InfoPro!N280),\"\",InfoPro!N280)","v":""},{"$f":"IF(ISBLANK(InfoPro!I280),\"\",YEAR(InfoPro!I280)-$J$2)","v":""},"",""]

{"sheet":"EC-RE","index":5,"n_rows":287,"n_cols":26,"rows_kept":287,"cut":false,"hidden":false,"merged":[]}
[]
[]
[null,"Factor emisiones sistema",0.12728300000000001,"Ton/MWh",null,"Año de Referencia",2023]
[null,"Tasa de descuento",0.11799999999999999,null,null,"Mínimo",{"$f":"MIN(Z9:Z284)","v":{"$error":"#REF!"}}]
[null,"Costo emisiones Ton",91.94,"USD/Ton"]
[null,"TRM",4070,"COP/USD"]
[null,null,null,null,null,null,null,null,null,0,1,2,3,4,5,6,7,8,9,10,11,12,13,14]
["Codigo","Nombre","capacidad","tipo","Año de entrada","FP","Factor emisiones","Produccion media/a MWh/a","Emisiones evitadas Ton/a","Flujo Descontado 0","Flujo Descontado 1","Flujo Descontado 2","Flujo Descontado 3","Flujo Descontado 4","Flujo Descontado 5","Flujo Descontado 6","Flujo Descontado 7","Flujo Descontado 8","Flujo Descontado 9","Flujo Descontado 10","Flujo Descontado 11","Flujo Descontado 12","Flujo Descontado 13","Flujo Descontado 14","VPN","(Beneficio)/kW"]
[{"$f":"IF(ISBLANK(InfoPro!A2),\"\",InfoPro!A2)","v":"\tSC_1373_A1"},{"$f":"IF(ISBLANK(InfoPro!B2),\"\",InfoPro!B2)","v":"Pétalo del Magdalena II Guacamayal"},{"$f":"IF(ISBLANK(InfoPro!E2),\"\",InfoPro!E2)","v":9.9},{"$f":"IF(ISBLANK(InfoPro!F2),\"\",InfoPro!F2)","v":"Solar FV"},{"$f":"IF(ISBLANK(InfoPro!I2),\"\",YEAR(InfoPro!I2)-$G$3)","v":3},{"$f":"IF(B9=\"\",\"\",VLOOKUP(D9,Tablas!$B$2:$E$13,2,FALSE))","v":0.26},{"$f":"IF(B9=\"\",\"\",VLOOKUP(D9,Tablas!$B$2:$G$13,6,FALSE))","v":0},{"$f":"IF(C9=\"\",\"\",+C9*F9*24*365)","v":22548.240000000005},{"$f":"IF(H9=\"\",\"\",+H9*($C$3-G9))","v":2870.0076319200007},{"$f":"IF($I9=\"\",\"\",(1/(1+$C$4)^(J$7+$E9))*$I9*$C$5)","v":188826.15088308635},{"$f":"IF($I9=\"\",\"\",(1/(1+$C$4)^(K$7+$E9))*$I9*$C$5)","v":168896.37824963001},151070.10576889984,135125.31821905175,120863.4331118531,108106.82747035159,96696.625644321655,86490.72061209449,77362.004125308173,69196.783654121798,61893.366416924677,55360.792859503294,49517.703809931394,44291.327200296415,39616.571735506637,{"$f":"IF(X9=\"\",\"\",SUM(J9:X9)*$C$6)","v":5914988426.7267857},{"$f":"IF(C9=0,0,IF(Y9=\"\",\"\",Y9/(C9*1000)))","v":597473.57845725107}]
[{"$f":"IF(ISBLANK(InfoPro!A3),\"\",InfoPro!A3)","v":"\tSC_1373_A2"},{"$f":"IF(ISBLANK(InfoPro!B3),\"\",InfoPro!B3)","v":"Pétalo del Magdalena II Guacamayal"},{"$f":"IF(ISBLANK(InfoPro!E3),\"\",InfoPro!E3)","v":9.9},{"$f":"IF(ISBLANK(InfoPro!F3),\"\",InfoPro!F3)","v":"Solar FV"},{"$f":"IF(ISBLANK(InfoPro!I3),\"\",YEAR(InfoPro!I3)-$G$3)","v":3},{"$f":"IF(B10=\"\",\"\",VLOOKUP(D10,Tablas!$B$2:$E$13,2,FALSE))","v":0.26},{"$f":"IF(B10=\"\",\"\",VLOOKUP(D10,Tablas!$B$2:$G$13,6,FALSE))","v":0},{"$f":"IF(C10=\"\",\"\",+C10*F10*24*365)","v":22548.240000000005},{"$f":"IF(H10=\"\",\"\",+H10*($C$3-G10))","v":2870.0076319200007},188826.15088308635,168896.37824963001,151070.10576889984,135125.31821905175,120863.4331118531,108106.82747035159,96696.625644321655,86490.72061209449,77362.004125308173,69196.783654121798,61893.366416924677,55360.792859503294,49517.703809931394,44291.327200296415,39616.571735506637,{"$f":"IF(X10=\"\",\"\",SUM(J10:X10)*$C$6)","v":5914988426.7267857},{"$f":"IF(C10=0,0,IF(Y10=\"\",\"\",Y10/(C10*1000)))","v":597473.57845725107}]
[{"$f":"IF(ISBLANK(InfoPro!A4),\"\",InfoPro!A4)","v":"SC_1012_A1"},{"$f":"IF(ISBLANK(InfoPro!B4),\"\",InfoPro!B4)","v":"PARQUE SOLAR FOTOVOLTAICO TUNA"},{"$f":"IF(ISBLANK(InfoPro!E4),\"\",InfoPro!E4)","v":100},{"$f":"IF(ISBLANK(InfoPro!F4),\"\",InfoPro!F4)","v":"Solar FV"},{"$f":"IF(ISBLANK(InfoPro!I4),\"\",YEAR(InfoPro!I4)-$G$3)","v":3},{"$f":"IF(B11=\"\",\"\",VLOOKUP(D11,Tablas!$B$2:$E$13,2,FALSE))","v":0.26},{"$f":"IF(B11=\"\",\"\",VLOOKUP(D11,Tablas!$B$2:$G$13,6,FALSE))","v":0},{"$f":"IF(C11=\"\",\"\",+C11*F11*24*365)","v":227760},28989.97608,1907334.8574049121,1706024.0227235351,1525960.6643323214,1364902.2042328457,1220842.7587055864,1091988.1562661775,976733.59236688516,873643.64254640893,781434.38510412257,698957.41064769472,625185.51936287549,559199.92787377059,500178.82636294333,447387.14343733742,400167.39126774372,59747357845.72509,597473.57845725096]
[{"$f":"IF(ISBLANK(InfoPro!A5),\"\",InfoPro!A5)","v":"SC_1012_A2"},{"$f":"IF(ISBLANK(InfoPro!B5),\"\",InfoPro!B5)","v":"PARQUE SOLAR FOTOVOLTAICO TUNA"},{"$f":"IF(ISBLANK(InfoPro!E5),\"\",InfoPro!E5)","v":100},{"$f":"IF(ISBLANK(InfoPro!F5),\"\",InfoPro!F5)","v":"Solar FV"},{"$f":"IF(ISBLANK(InfoPro!I5),\"\",YEAR(InfoPro!I5)-$G$3)","v":3},{"$f":"IF(B12=\"\",\"\",VLOOKUP(D12,Tablas!$B$2:$E$13,2,FALSE))","v":0.26},{"$f":"IF(B12=\"\",\"\",VLOOKUP(D12,Tablas!$B$2:$G$13,6,FALSE))","v":0},227760,28989.97608,1907334.8574049121,1706024.0227235351,1525960.6643323214,1364902.2042328457,1220842.7587055864,1091988.1562661775,976733.59236688516,873643.64254640893,781434.38510412257,698957.41064769472,625185.51936287549,559199.92787377059,500178.82636294333,447387.14343733742,400167.39126774372,59747357845.72509,597473.57845725096]
[{"$f":"IF(ISBLANK(InfoPro!A6),\"\",InfoPro!A6)","v":"SC_1077_A1"},{"$f":"IF(ISBLANK(InfoPro!B6),\"\",InfoPro!B6)","v":"Nevada I 90 MW"},{"$f":"IF(ISBLANK(InfoPro!E6),\"\",InfoPro!E6)","v":90},{"$f":"IF(ISBLANK(InfoPro!F6),\"\",InfoPro!F6)","v":"Eólico Onshore"},{"$f":"IF(ISBLANK(InfoPro!I6),\"\",YEAR(InfoPro!I6)-$G$3)","v":7},{"$f":"IF(B13=\"\",\"\",VLOOKUP(D13,Tablas!$B$2:$E$13,2,FALSE))","v":0.56999999999999995},{"$f":"IF(B13=\"\",\"\",VLOOKUP(D13,Tablas!$B$2:$G$13,6,FALSE))","v":0},449387.99999999994,57199.452803999993,2408816.6739075608,2154576.6314021116,1927170.5110931234,1723766.1101011834,1541830.1521477494,1379096.7371625667,1233539.1208967501,1103344.4730740164,986891.29970842262,882729.24839751562,789561.04507827887,706226.33727931918,631687.24264697614,565015.42276115937,505380.52125327324,75456300314.523727,838403.33682804147]
[{"$f":"IF(ISBLANK(InfoPro!A7),\"\",InfoPro!A7)","v":"SC_1077_A2"},{"$f":"IF(ISBLANK(InfoPro!B7),\"\",InfoPro!B7)","v":"Nevada I 90 MW"},{"$f":"IF(ISBLANK(InfoPro!E7),\"\",InfoPro!E7)","v":90},{"$f":"IF(ISBLANK(InfoPro!F7),\"\",InfoPro!F7)","v":"Eólico Onshore"},{"$f":"IF(ISBLANK(InfoPro!I7),\"\",YEAR(InfoPro!I7)-$G$3)","v":7},{"$f":"IF(B14=\"\",\"\",VLOOKUP(D14,Tablas!$B$2:$E$13,2,FALSE))","v":0.56999999999999995},{"$f":"IF(B14=\"\",\"\",VLOOKUP(D14,Tablas!$B$2:$G$13,6,FALSE))","v":0},449387.99999999994,57199.452803999993,2408816.6739075608,2154576.6314021116,1927170.5110931234,1723766.1101011834,1541830.1521477494,1379096.7371625667,1233539.1208967501,1103344.4730740164,986891.29970842262,882729.24839751562,789561.04507827887,706226.33727931918,631687.24264697614,565015.42276115937,505380.52125327324,75456300314.523727,838403.33682804147]
[{"$f":"IF(ISBLANK(InfoPro!A8),\"\",InfoPro!A8)","v":"SC_1135_A1"},{"$f":"IF(ISBLANK(InfoPro!B8),\"\",InfoPro!B8)","v":"Parque Eólico Brisas 1"},{"$f":"IF(ISBLANK(InfoPro!E8),\"\",InfoPro!E8)","v":200},{"$f":"IF(ISBLANK(InfoPro!F8),\"\",InfoPro!F8)","v":"Eólico Onshore"},{"$f":"IF(ISBLANK(InfoPro!I8),\"\",YEAR(InfoPro!I8)-$G$3)","v":5},{"$f":"IF(B15=\"\",\"\",VLOOKUP(D15,Tablas!$B$2:$E$13,2,FALSE))","v":0.56999999999999995},{"$f":"IF(B15=\"\",\"\",VLOOKUP(D15,Tablas!$B$2:$G$13,6,FALSE))","v":0},998639.99999999988,127109.89511999999,6690750.6051494079,5984571.2031747838,5352925.9420168018,4787948.0697824704,4282601.1357624959,3830591.3557804078,3426289.2269949992,3064659.4159168149,2741198.046437223,2451876.6068311473,2193091.777129828,1961620.5519944793,1754580.100173953,1569391.8606207091,1403749.4281043916,209588090476.29056,1047940.4523814528]
[{"$f":"IF(ISBLANK(InfoPro!A9),\"\",InfoPro!A9)","v":"SC_1135_A2"},{"$f":"IF(ISBLANK(InfoPro!B9),\"\",InfoPro!B9)","v":"Parque Eólico Brisas 1"},{"$f":"IF(ISBLANK(InfoPro!E9),\"\",InfoPro!E9)","v":200},{"$f":"IF(ISBLANK(InfoPro!F9),\"\",InfoPro!F9)","v":"Eólico Onshore"},{"$f":"IF(ISBLANK(InfoPro!I9),\"\",YEAR(InfoPro!I9)-$G$3)","v":5},{"$f":"IF(B16=\"\",\"\",VLOOKUP(D16,Tablas!$B$2:$E$13,2,FALSE))","v":0.56999999999999995},{"$f":"IF(B16=\"\",\"\",VLOOKUP(D16,Tablas!$B$2:$G$13,6,FALSE))","v":0},998639.99999999988,127109.89511999999,6690750.6051494079,5984571.2031747838,5352925.9420168018,4787948.0697824704,4282601.1357624959,3830591.3557804078,3426289.2269949992,3064659.4159168149,2741198.046437223,2451876.6068311473,2193091.777129828,1961620.5519944793,1754580.100173953,1569391.8606207091,1403749.4281043916,209588090476.29056,1047940.4523814528]
[{"$f":"IF(ISBLANK(InfoPro!A10),\"\",InfoPro!A10)","v":"SC_1154_A1"},{"$f":"IF(ISBLANK(InfoPro!B10),\"\",InfoPro!B10)","v":"Parque Eólico Brisas 2"},{"$f":"IF(ISBLANK(InfoPro!E10),\"\",InfoPro!E10)","v":200},{"$f":"IF(ISBLANK(InfoPro!F10),\"\",InfoPro!F10)","v":"Eólico Onshore"},{"$f":"IF(ISBLANK(InfoPro!I10),\"\",YEAR(InfoPro!I10)-$G$3)","v":6},{"$f":"IF(B17=\"\",\"\",VLOOKUP(D17,Tablas!$B$2:$E$13,2,FALSE))","v":0.56999999999999995},{"$f":"IF(B17=\"\",\"\",VLOOKUP(D17,Tablas!$B$2:$G$13,6,FALSE))","v":0},998639.99999999988,127109.89511999999,5984571.2031747838,5352925.9420168018,4787948.0697824704,4282601.1357624959,3830591.3557804078,3426289.2269949992,3064659.4159168149,2741198.046437223,2451876.6068311473,2193091.777129828,1961620.5519944793,1754580.100173953,1569391.8606207091,1403749.4281043916,1255589.8283581317,187466986114.75003,937334.93057375017]
[{"$f":"IF(ISBLANK(InfoPro!A11),\"\",InfoPro!A11)","v":"SC_1154_A2"},{"$f":"IF(ISBLANK(InfoPro!B11),\"\",InfoPro!B11)","v":"Parque Eólico Brisas 2"},{"$f":"IF(ISBLANK(InfoPro!E11),\"\",InfoPro!E11)","v":200},{"$f":"IF(ISBLANK(InfoPro!F11),\"\",InfoPro!F11)","v":"Eólico Onshore"},{"$f":"IF(ISBLANK(InfoPro!I11),\"\",YEAR(InfoPro!I11)-$G$3)","v":6},{"$f":"IF(B18=\"\",\"\",VLOOKUP(D18,Tablas!$B$2:$E$13,2,FALSE))","v":0.56999999999999995},{"$f":"IF(B18=\"\",\"\",VLOOKUP(D18,Tablas!$B$2:$G$13,6,FALSE))","v":0},998639.99999999988,127109.89511999999,5984571.2031747838,5352925.9420168018,4787948.0697824704,4282601.1357624959,3830591.3557804078,3426289.2269949992,3064659.4159168149,2741198.046437223,2451876.6068311473,2193091.777129828,1961620.5519944793,1754580.100173953,1569391.8606207091,1403749.4281043916,1255589.8283581317,187466986114.75003,937334.93057375017]
[{"$f":"IF(ISBLANK(InfoPro!A12),\"\",InfoPro!A12)","v":"SC_1161_A1"},{"$f":"IF(ISBLANK(InfoPro!B12),\"\",InfoPro!B12)","v":"Parque Eólico Brisas 3"},{"$f":"IF(ISBLANK(InfoPro!E12),\"\",InfoPro!E12)","v":200},{"$f":"IF(ISBLANK(InfoPro!F12),\"\",InfoPro!F12)","v":"Eólico Onshore"},{"$f":"IF(ISBLANK(InfoPro!I12),\"\",YEAR(InfoPro!I12)-$G$3)","v":7},{"$f":"IF(B19=\"\",\"\",VLOOKUP(D19,Tablas!$B$2:$E$13,2,FALSE))","v":0.56999999999999995},{"$f":"IF(B19=\"\",\"\",VLOOKUP(D19,Tablas!$B$2:$G$13,6,FALSE))","v":0},998639.99999999988,127109.89511999999,{"$f":"IF($I19=\"\",\"\",(1/(1+$C$4)^(J$7+$E19))*$I19*$C$5)","v":5352925.9420168018},4787948.0697824704,4282601.1357624959,3830591.3557804078,3426289.2269949992,3064659.4159168149,2741198.046437223,2451876.6068311473,2193091.777129828,1961620.5519944793,1754580.100173953,1569391.8606207091,1403749.4281043916,1255589.8283581317,1123067.825007274,167680667365.60825,838403.33682804124]
[{"$f":"IF(ISBLANK(InfoPro!A13),\"\",InfoPro!A13)","v":"SC_1161_A2"},{"$f":"IF(ISBLANK(InfoPro!B13),\"\",InfoPro!B13)","v":"Parque Eólico Brisas 3"},{"$f":"IF(ISBLANK(InfoPro!E13),\"\",InfoPro!E13)","v":200},{"$f":"IF(ISBLANK(InfoPro!F13),\"\",InfoPro!F13)","v":"Eólico Onshore"},{"$f":"IF(ISBLANK(InfoPro!I13),\"\",YEAR(InfoPro!I13)-$G$3)","v":7},{"$f":"IF(B20=\"\",\"\",VLOOKUP(D20,Tablas!$B$2:$E$13,2,FALSE))","v":0.56999999999999995},{"$f":"IF(B20=\"\",\"\",VLOOKUP(D20,Tablas!$B$2:$G$13,6,FALSE))","v":0},998639.99999999988,127109.89511999999,5352925.9420168018,4787948.0697824704,4282601.1357624959,3830591.3557804078,3426289.2269949992,3064659.4159168149,2741198.046437223,2451876.6068311473,2193091.777129828,1961620.5519944793,1754580.100173953,1569391.8606207091,1403749.4281043916,1255589.8283581317,1123067.825007274,167680667365.60825,838403.33682804124]
[{"$f":"IF(ISBLANK(InfoPro!#REF!),\"\",InfoPro!#REF!)","v":{"$error":"#REF!"}},{"$f":"IF(ISBLANK(InfoPro!#REF!),\"\",InfoPro!#REF!)","v":{"$error":"#REF!"}},{"$f":"IF(ISBLANK(InfoPro!#REF!),\"\",InfoPro!#REF!)","v":{"$error":"#REF!"}},{"$f":"IF(ISBLANK(InfoPro!#REF!),\"\",InfoPro!#REF!)","v":{"$error":"#REF!"}},{"$f":"IF(ISBLANK(InfoPro!#REF!),\"\",YEAR(InfoPro!#REF!)-$G$3)","v":{"$error":"#REF!"}},{"$f":"IF(B21=\"\",\"\",VLOOKUP(D21,Tablas!$B$2:$E$13,2,FALSE))","v":{"$error":"#REF!"}},{"$f":"IF(B21=\"\",\"\",VLOOKUP(D21,Tablas!$B$2:$G$13,6,FALSE))","v":{"$error":"#REF!"}},{"$error":"#REF!"},{"$error":"#REF!"},{"$error":"#REF!"},{"$error":"#REF!"},{"$error":"#REF!"},{"$error":"#REF!"},{"$error":"#REF!"},{"$error":"#REF!"},{"$error":"#REF!"},{"$error":"#REF!"},{"$error":"#REF!"},{"$error":"#REF!"},{"$error":"#REF!"},{"$error":"#REF!"},{"$error":"#REF!"},{"$error":"#REF!"},{"$error":"#REF!"},{"$error":"#REF!"},{"$error":"#REF!"}]
[{"$f":"IF(ISBLANK(InfoPro!A14),\"\",InfoPro!A14)","v":"SC_1211_A1"},{"$f":"IF(ISBLANK(InfoPro!B14),\"\",InfoPro!B14)","v":"Planta Solar FV Caracolicitos 69MW"},{"$f":"IF(ISBLANK(InfoPro!E14),\"\",InfoPro!E14)","v":69},{"$f":"IF(ISBLANK(InfoPro!F14),\"\",InfoPro!F14)","v":"Solar FV"},{"$f":"IF(ISBLANK(InfoPro!I14),\"\",YEAR(InfoPro!I14)-$G$3)","v":3},{"$f":"IF(B22=\"\",\"\",VLOOKUP(D22,Tablas!$B$2:$E$13,2,FALSE))","v":0.26},{"$f":"IF(B22=\"\",\"\",VLOOKUP(D22,Tablas!$B$2:$G$13,6,FALSE))","v":0},157154.40000000002,20003.083495200004,1316061.0516093897,1177156.5756792396,1052912.8583893019,941782.52092066361,842381.50350685476,753471.82782366255,673946.17873315094,602814.11335702229,539189.72572184482,482280.61334690946,431378.00836038421,385847.95023290179,345123.39019043098,308697.12897176284,276115.49997474323,41225676913.550339,597473.57845725131]
[{"$f":"IF(ISBLANK(InfoPro!A15),\"\",InfoPro!A15)","v":"SC_1211_A2"},{"$f":"IF(ISBLANK(InfoPro!B15),\"\",InfoPro!B15)","v":"Planta Solar FV Caracolicitos 69MW"},{"$f":"IF(ISBLANK(InfoPro!E15),\"\",InfoPro!E15)","v":69},{"$f":"IF(ISBLANK(InfoPro!F15),\"\",InfoPro!F15)","v":"Solar FV"},{"$f":"IF(ISBLANK(InfoPro!I15),\"\",YEAR(InfoPro!I15)-$G$3)","v":3},{"$f":"IF(B23=\"\",\"\",VLOOKUP(D23,Tablas!$B$2:$E$13,2,FALSE))","v":0.26},{"$f":"IF(B23=\"\",\"\",VLOOKUP(D23,Tablas!$B$2:$G$13,6,FALSE))","v":0},157154.40000000002,20003.083495200004,1316061.0516093897,1177156.5756792396,1052912.8583893019,941782.52092066361,842381.50350685476,753471.82782366255,673946.17873315094,602814.11335702229,539189.72572184482,482280.61334690946,431378.00836038421,385847.95023290179,345123.39019043098,308697.12897176284,276115.49997474323,41225676913.550339,597473.57845725131]
[{"$f":"IF(ISBLANK(InfoPro!A16),\"\",InfoPro!A16)","v":"SC_1218_A1"},{"$f":"IF(ISBLANK(InfoPro!B16),\"\",InfoPro!B16)","v":"Las Flores 150 MW"},{"$f":"IF(ISBLANK(InfoPro!E16),\"\",InfoPro!E16)","v":150},{"$f":"IF(ISBLANK(InfoPro!F16),\"\",InfoPro!F16)","v":"Solar FV"},{"$f":"IF(ISBLANK(InfoPro!I16),\"\",YEAR(InfoPro!I16)-$G$3)","v":2},{"$f":"IF(B24=\"\",\"\",VLOOKUP(D24,Tablas!$B$2:$E$13,2,FALSE))","v":0.26},{"$f":"IF(B24=\"\",\"\",VLOOKUP(D24,Tablas!$B$2:$G$13,6,FALSE))","v":0},341640,43484.964120000004,3198600.5558680375,2861002.2861073683,2559036.0340853026,2288940.9964984823,2047353.3063492686,1831264.13805838,1637982.2343992665,1465100.3885503279,1310465.4638196134,1172151.5776561841,1048436.1159715421,937778.27904431324,838799.89181065594,750268.23954441503,671080.71515600616,100196319107.28098,667975.46071520646]
[{"$f":"IF(ISBLANK(InfoPro!A17),\"\",InfoPro!A17)","v":"SC_1223_A1"},{"$f":"IF(ISBLANK(InfoPro!B17),\"\",InfoPro!B17)","v":"Parque Eolico Sirius"},{"$f":"IF(ISBLANK(InfoPro!E17),\"\",InfoPro!E17)","v":100},{"$f":"IF(ISBLANK(InfoPro!F17),\"\",InfoPro!F17)","v":"Eólico Onshore"},{"$f":"IF(ISBLANK(InfoPro!I17),\"\",YEAR(InfoPro!I17)-$G$3)","v":2},{"$f":"IF(B25=\"\",\"\",VLOOKUP(D25,Tablas!$B$2:$E$13,2,FALSE))","v":0.56999999999999995},{"$f":"IF(B25=\"\",\"\",VLOOKUP(D25,Tablas!$B$2:$G$13,6,FALSE))","v":0},499319.99999999994,63554.947559999993,4674877.7354994388,4181464.8796953838,3740129.5882785185,3345375.3025747039,2992285.6015873919,2676462.9710084009,2393974.0348912352,2141300.567881248,1915295.6778902039,1713144.6134974996,1532329.7079584075,1370599.0232186115,1225938.3034155737,1096545.888564914,980810.27599723963,146440774079.87222,1464407.7407987223]
[{"$f":"IF(ISBLANK(InfoPro!A18),\"\",InfoPro!A18)","v":"SC_1232_A1"},{"$f":"IF(ISBLANK(InfoPro!B18),\"\",InfoPro!B18)","v":"La Paz Solar 9,9 MW"},{"$f":"IF(ISBLANK(InfoPro!E18),\"\",InfoPro!E18)","v":9.9},{"$f":"IF(ISBLANK(InfoPro!F18),\"\",InfoPro!F18)","v":"Solar FV"},{"$f":"IF(ISBLANK(InfoPro!I18),\"\",YEAR(InfoPro!I18)-$G$3)","v":2},{"$f":"IF(B26=\"\",\"\",VLOOKUP(D26,Tablas!$B$2:$E$13,2,FALSE))","v":0.26},{"$f":"IF(B26=\"\",\"\",VLOOKUP(D26,Tablas!$B$2:$G$13,6,FALSE))","v":0},22548.240000000005,2870.0076319200007,211107.63668729048,188826.15088308635,168896.37824963001,151070.10576889984,135125.31821905175,120863.4331118531,108106.82747035159,96696.625644321655,86490.72061209449,77362.004125308173,69196.783654121798,61893.366416924677,55360.792859503294,49517.703809931394,44291.327200296415,6612957061.0805454,667975.46071520657]
[{"$f":"IF(ISBLANK(InfoPro!A19),\"\",InfoPro!A19)","v":"SC_1232_A2"},{"$f":"IF(ISBLANK(InfoPro!B19),\"\",InfoPro!B19)","v":"La Paz Solar 9,9 MW"},{"$f":"IF(ISBLANK(InfoPro!E19),\"\",InfoPro!E19)","v":9.9},{"$f":"IF(ISBLANK(InfoPro!F19),\"\",InfoPro!F19)","v":"Solar FV"},{"$f":"IF(ISBLANK(InfoPro!I19),\"\",YEAR(InfoPro!I19)-$G$3)","v":2},{"$f":"IF(B27=\"\",\"\",VLOOKUP(D27,Tablas!$B$2:$E$13,2,FALSE))","v":0.26},{"$f":"IF(B27=\"\",\"\",VLOOKUP(D27,Tablas!$B$2:$G$13,6,FALSE))","v":0},22548.240000000005,2870.0076319200007,211107.63668729048,188826.15088308635,168896.37824963001,151070.10576889984,135125.31821905175,120863.4331118531,108106.82747035159,96696.625644321655,86490.72061209449,77362.004125308173,69196.783654121798,61893.366416924677,55360.792859503294,49517.703809931394,44291.327200296415,6612957061.0805454,667975.46071520657]
[{"$f":"IF(ISBLANK(InfoPro!A20),\"\",InfoPro!A20)","v":"SC_1239_A1"},{"$f":"IF(ISBLANK(InfoPro!B20),\"\",InfoPro!B20)","v":"El Carmen"},{"$f":"IF(ISBLANK(InfoPro!E20),\"\",InfoPro!E20)","v":104.5},{"$f":"IF(ISBLANK(InfoPro!F20),\"\",InfoPro!F20)","v":"Eólico Onshore"},{"$f":"IF(ISBLANK(InfoPro!I20),\"\",YEAR(InfoPro!I20)-$G$3)","v":4},{"$f":"IF(B28=\"\",\"\",VLOOKUP(D28,Tablas!$B$2:$E$13,2,FALSE))","v":0.56999999999999995},{"$f":"IF(B28=\"\",\"\",VLOOKUP(D28,Tablas!$B$2:$G$13,6,FALSE))","v":0},521789.39999999997,66414.920200199995,3908435.4197510523,3495917.1911905655,3126938.4536588243,2796903.8047037791,2501702.8664613408,2237659.0934359045,2001483.9833952633,1790236.121104887,1601284.5448165357,1432275.9792634491,1281105.5270692746,1145890.4535503353,1024946.7384171153,916768.10234089044,820007.24717432051,122431930992.17751,1171597.4257624641]
[{"$f":"IF(ISBLANK(InfoPro!A21),\"\",InfoPro!A21)","v":"SC_1239_A2"},{"$f":"IF(ISBLANK(InfoPro!B21),\"\",InfoPro!B21)","v":"El Carmen"},{"$f":"IF(ISBLANK(InfoPro!E21),\"\",InfoPro!E21)","v":104.5},{"$f":"IF(ISBLANK(InfoPro!F21),\"\",InfoPro!F21)","v":"Eólico Onshore"},{"$f":"IF(ISBLANK(InfoPro!I21),\"\",YEAR(InfoPro!I21)-$G$3)","v":4},{"$f":"IF(B29=\"\",\"\",VLOOKUP(D29,Tablas!$B$2:$E$13,2,FALSE))","v":0.56999999999999995},{"$f":"IF(B29=\"\",\"\",VLOOKUP(D29,Tablas!$B$2:$G$13,6,FALSE))","v":0},521789.39999999997,66414.920200199995,{"$f":"IF($I29=\"\",\"\",(1/(1+$C$4)^(J$7+$E29))*$I29*$C$5)","v":3908435.4197510523},3495917.1911905655,3126938.4536588243,2796903.8047037791,2501702.8664613408,2237659.0934359045,2001483.9833952633,1790236.121104887,1601284.5448165357,1432275.9792634491,1281105.5270692746,1145890.4535503353,1024946.7384171153,916768.10234089044,820007.24717432051,122431930992.17751,1171597.4257624641]
[{"$f":"IF(ISBLANK(InfoPro!A22),\"\",InfoPro!A22)","v":"SC_1244_A1"},{"$f":"IF(ISBLANK(InfoPro!B22),\"\",InfoPro!B22)","v":"Proyecto Maria"},{"$f":"IF(ISBLANK(InfoPro!E22),\"\",InfoPro!E22)","v":120},{"$f":"IF(ISBLANK(InfoPro!F22),\"\",InfoPro!F22)","v":"Eólico Onshore"},{"$f":"IF(ISBLANK(InfoPro!I22),\"\",YEAR(InfoPro!I22)-$G$3)","v":3},{"$f":"IF(B30=\"\",\"\",VLOOKUP(D30,Tablas!$B$2:$E$13,2,FALSE))","v":0.56999999999999995},{"$f":"IF(B30=\"\",\"\",VLOOKUP(D30,Tablas!$B$2:$G$13,6,FALSE))","v":0},599184,76265.937072000001,5017757.8556344612,4488155.5059342235,4014450.3630896453,3590742.7219048706,3211755.5652100812,2872768.8418694828,2569560.6814574981,2298354.8134682449,2055773.5361969995,1838795.6495500891,1644718.8278623337,1471125.9640986887,1315855.066277897,1176972.3311966876,1052748.060104372,157181510640.29221,1309845.922002435]
[{"$f":"IF(ISBLANK(InfoPro!A23),\"\",InfoPro!A23)","v":"SC_1252_A1"},{"$f":"IF(ISBLANK(InfoPro!B23),\"\",InfoPro!B23)","v":"Parque Eólico Neptuno"},{"$f":"IF(ISBLANK(InfoPro!E23),\"\",InfoPro!E23)","v":150},{"$f":"IF(ISBLANK(InfoPro!F23),\"\",InfoPro!F23)","v":"Eólico Onshore"},{"$f":"IF(ISBLANK(InfoPro!I23),\"\",YEAR(InfoPro!I23)-$G$3)","v":3},{"$f":"IF(B31=\"\",\"\",VLOOKUP(D31,Tablas!$B$2:$E$13,2,FALSE))","v":0.56999999999999995},{"$f":"IF(B31=\"\",\"\",VLOOKUP(D31,Tablas!$B$2:$G$13,6,FALSE))","v":0},748979.99999999988,95332.421339999986,6272197.3195430748,5610194.3824177776,5018062.9538620561,4488428.4023810877,4014694.4565126011,3590961.0523368525,3211950.8518218719,2872943.5168353054,2569716.9202462491,2298494.5619376111,2055898.5348279169,1838907.4551233607,1644818.8328473712,1471215.4139958594,1315935.0751304647,196476888300.3652,1309845.9220024347]
[{"$f":"IF(ISBLANK(InfoPro!A24),\"\",InfoPro!A24)","v":"SC_1262_A1"},{"$f":"IF(ISBLANK(InfoPro!B24),\"\",InfoPro!B24)","v":"Parque Solar Australe de 251 MW (entrega 200 MW)"},{"$f":"IF(ISBLANK(InfoPro!E24),\"\",InfoPro!E24)","v":200},{"$f":"IF(ISBLANK(InfoPro!F24),\"\",InfoPro!F24)","v":"Solar FV"},{"$f":"IF(ISBLANK(InfoPro!I24),\"\",YEAR(InfoPro!I24)-$G$3)","v":3},{"$f":"IF(B32=\"\",\"\",VLOOKUP(D32,Tablas!$B$2:$E$13,2,FALSE))","v":0.26},{"$f":"IF(B32=\"\",\"\",VLOOKUP(D32,Tablas!$B$2:$G$13,6,FALSE))","v":0},455520,57979.952160000001,3814669.7148098242,3412048.0454470702,3051921.3286646428,2729804.4084656914,2441685.5174111729,2183976.3125323551,1953467.1847337703,1747287.2850928179,1562868.7702082451,1397914.8212953894,1250371.038725751,1118399.8557475412,1000357.6527258867,894774.28687467484,800334.78253548744,119494715691.45018,597473.57845725096]
[{"$f":"IF(ISBLANK(InfoPro!A25),\"\",InfoPro!A25)","v":"SC_1262_A2"},{"$f":"IF(ISBLANK(InfoPro!B25),\"\",InfoPro!B25)","v":"Parque Solar Australe de 251 MW (entrega 200 MW)"},{"$f":"IF(ISBLANK(InfoPro!E25),\"\",InfoPro!E25)","v":200},{"$f":"IF(ISBLANK(InfoPro!F25),\"\",InfoPro!F25)","v":"Solar FV"},{"$f":"IF(ISBLANK(InfoPro!I25),\"\",YEAR(InfoPro!I25)-$G$3)","v":3},{"$f":"IF(B33=\"\",\"\",VLOOKUP(D33,Tablas!$B$2:$E$13,2,FALSE))","v":0.26},{"$f":"IF(B33=\"\",\"\",VLOOKUP(D33,Tablas!$B$2:$G$13,6,FALSE))","v":0},455520,57979.952160000001,3814669.7148098242,3412048.0454470702,3051921.3286646428,2729804.4084656914,2441685.5174111729,2183976.3125323551,1953467.1847337703,1747287.2850928179,1562868.7702082451,1397914.8212953894,1250371.038725751,1118399.8557475412,1000357.6527258867,894774.28687467484,800334.78253548744,119494715691.45018,597473.57845725096]
[{"$f":"IF(ISBLANK(InfoPro!A26),\"\",InfoPro!A26)","v":"SC_1264_A1"},{"$f":"IF(ISBLANK(InfoPro!B26),\"\",InfoPro!B26)","v":"Parque Solar Galus de 133 MW (entrega 110 MW)"},{"$f":"IF(ISBLANK(InfoPro!E26),\"\",InfoPro!E26)","v":110},{"$f":"IF(ISBLANK(InfoPro!F26),\"\",InfoPro!F26)","v":"Solar FV"},{"$f":"IF(ISBLANK(InfoPro!I26),\"\",YEAR(InfoPro!I26)-$G$3)","v":4},{"$f":"IF(B34=\"\",\"\",VLOOKUP(D34,Tablas!$B$2:$E$13,2,FALSE))","v":0.26},{"$f":"IF(B34=\"\",\"\",VLOOKUP(D34,Tablas!$B$2:$G$13,6,FALSE))","v":0},250536.00000000003,31888.973688000005,1876626.424995889,1678556.7307655537,1501392.4246561304,1342927.0345761455,1201186.9718927955,1074406.951603574,961008.00680104992,859577.82361453515,768853.15171246429,687704.07129916316,615119.92066114768,550196.70899923774,492125.85778107122,440184.13039451814,393724.62468203774,58785414696.151726,534412.86087410664]
[{"$f":"IF(ISBLANK(InfoPro!A27),\"\",InfoPro!A27)","v":"SC_1264_A2"},{"$f":"IF(ISBLANK(InfoPro!B27),\"\",InfoPro!B27)","v":"Parque Solar Galus de 133 MW (entrega 110 MW)"},{"$f":"IF(ISBLANK(InfoPro!E27),\"\",InfoPro!E27)","v":110},{"$f":"IF(ISBLANK(InfoPro!F27),\"\",InfoPro!F27)","v":"Solar FV"},{"$f":"IF(ISBLANK(InfoPro!I27),\"\",YEAR(InfoPro!I27)-$G$3)","v":4},{"$f":"IF(B35=\"\",\"\",VLOOKUP(D35,Tablas!$B$2:$E$13,2,FALSE))","v":0.26},{"$f":"IF(B35=\"\",\"\",VLOOKUP(D35,Tablas!$B$2:$G$13,6,FALSE))","v":0},250536.00000000003,31888.973688000005,1876626.424995889,1678556.7307655537,1501392.4246561304,1342927.0345761455,1201186.9718927955,1074406.951603574,961008.00680104992,859577.82361453515,768853.15171246429,687704.07129916316,615119.92066114768,550196.70899923774,492125.85778107122,440184.13039451814,393724.62468203774,58785414696.151726,534412.86087410664]
[{"$f":"IF(ISBLANK(InfoPro!A28),\"\",InfoPro!A28)","v":"SC_1266_A1"},{"$f":"IF(ISBLANK(InfoPro!B28),\"\",InfoPro!B28)","v":"Parque Solar Fornax DE 127 MW (Entrega 105 MW)"},{"$f":"IF(ISBLANK(InfoPro!E28),\"\",InfoPro!E28)","v":105},{"$f":"IF(ISBLANK(InfoPro!F28),\"\",InfoPro!F28)","v":"Solar FV"},{"$f":"IF(ISBLANK(InfoPro!I28),\"\",YEAR(InfoPro!I28)-$G$3)","v":4},{"$f":"IF(B36=\"\",\"\",VLOOKUP(D36,Tablas!$B$2:$E$13,2,FALSE))","v":0.26},{"$f":"IF(B36=\"\",\"\",VLOOKUP(D36,Tablas!$B$2:$G$13,6,FALSE))","v":0},239148.00000000003,30439.474884000007,1791325.2238597122,1602258.6975489375,1433147.3144444881,1281884.8966408661,1146587.5640794868,1025570.2719852297,917325.8246737296,820506.1043593291,733905.28118007956,656444.79533101933,587159.9242674592,525187.76768109063,469756.50060920441,420175.76083113096,375828.05083285418,56113350391.781197,534412.86087410664]
[{"$f":"IF(ISBLANK(InfoPro!A29),\"\",InfoPro!A29)","v":"SC_1266_A2"},{"$f":"IF(ISBLANK(InfoPro!B29),\"\",InfoPro!B29)","v":"Parque Solar Fornax DE 127 MW (Entrega 105 MW)"},{"$f":"IF(ISBLANK(InfoPro!E29),\"\",InfoPro!E29)","v":105},{"$f":"IF(ISBLANK(InfoPro!F29),\"\",InfoPro!F29)","v":"Solar FV"},{"$f":"IF(ISBLANK(InfoPro!I29),\"\",YEAR(InfoPro!I29)-$G$3)","v":4},{"$f":"IF(B37=\"\",\"\",VLOOKUP(D37,Tablas!$B$2:$E$13,2,FALSE))","v":0.26},{"$f":"IF(B37=\"\",\"\",VLOOKUP(D37,Tablas!$B$2:$G$13,6,FALSE))","v":0},239148.00000000003,30439.474884000007,1791325.2238597122,1602258.6975489375,1433147.3144444881,1281884.8966408661,1146587.5640794868,1025570.2719852297,917325.8246737296,820506.1043593291,733905.28118007956,656444.79533101933,587159.9242674592,525187.76768109063,469756.50060920441,420175.76083113096,375828.05083285418,56113350391.781197,534412.86087410664]
[{"$f":"IF(ISBLANK(InfoPro!A30),\"\",InfoPro!A30)","v":"SC_1272_A1"},{"$f":"IF(ISBLANK(InfoPro!B30),\"\",InfoPro!B30)","v":"Guacamayal Solar de 9,9 MW"},{"$f":"IF(ISBLANK(InfoPro!E30),\"\",InfoPro!E30)","v":9.9},{"$f":"IF(ISBLANK(InfoPro!F30),\"\",InfoPro!F30)","v":"Solar FV"},{"$f":"IF(ISBLANK(InfoPro!I30),\"\",YEAR(InfoPro!I30)-$G$3)","v":1},{"$f":"IF(B38=\"\",\"\",VLOOKUP(D38,Tablas!$B$2:$E$13,2,FALSE))","v":0.26},{"$f":"IF(B38=\"\",\"\",VLOOKUP(D38,Tablas!$B$2:$G$13,6,FALSE))","v":0},22548.240000000005,2870.0076319200007,236018.33781639076,211107.63668729048,188826.15088308635,168896.37824963001,151070.10576889984,135125.31821905175,120863.4331118531,108106.82747035159,96696.625644321655,86490.72061209449,77362.004125308173,69196.783654121798,61893.366416924677,55360.792859503294,49517.703809931394,7393285994.2880507,746796.56507960113]
[{"$f":"IF(ISBLANK(InfoPro!A31),\"\",InfoPro!A31)","v":"SC_1272_A2"},{"$f":"IF(ISBLANK(InfoPro!B31),\"\",InfoPro!B31)","v":"Guacamayal Solar de 9,9 MW"},{"$f":"IF(ISBLANK(InfoPro!E31),\"\",InfoPro!E31)","v":9.9},{"$f":"IF(ISBLANK(InfoPro!F31),\"\",InfoPro!F31)","v":"Solar FV"},{"$f":"IF(ISBLANK(InfoPro!I31),\"\",YEAR(InfoPro!I31)-$G$3)","v":1},{"$f":"IF(B39=\"\",\"\",VLOOKUP(D39,Tablas!$B$2:$E$13,2,FALSE))","v":0.26},{"$f":"IF(B39=\"\",\"\",VLOOKUP(D39,Tablas!$B$2:$G$13,6,FALSE))","v":0},22548.240000000005,2870.0076319200007,{"$f":"IF($I39=\"\",\"\",(1/(1+$C$4)^(J$7+$E39))*$I39*$C$5)","v":236018.33781639076},211107.63668729048,188826.15088308635,168896.37824963001,151070.10576889984,135125.31821905175,120863.4331118531,108106.82747035159,96696.625644321655,86490.72061209449,77362.004125308173,69196.783654121798,61893.366416924677,55360.792859503294,49517.703809931394,7393285994.2880507,746796.56507960113]
[{"$f":"IF(ISBLANK(InfoPro!A32),\"\",InfoPro!A32)","v":"SC_1293_A1"},{"$f":"IF(ISBLANK(InfoPro!B32),\"\",InfoPro!B32)","v":"Leo Solar II"},{"$f":"IF(ISBLANK(InfoPro!E32),\"\",InfoPro!E32)","v":80},{"$f":"IF(ISBLANK(InfoPro!F32),\"\",InfoPro!F32)","v":"Solar FV"},{"$f":"IF(ISBLANK(InfoPro!I32),\"\",YEAR(InfoPro!I32)-$G$3)","v":2},{"$f":"IF(B40=\"\",\"\",VLOOKUP(D40,Tablas!$B$2:$E$13,2,FALSE))","v":0.26},{"$f":"IF(B40=\"\",\"\",VLOOKUP(D40,Tablas!$B$2:$G$13,6,FALSE))","v":0},182208.00000000003,23191.980864000005,1705920.2964629533,1525867.8859239302,1364819.2181788282,1220768.5314658573,1091921.7633862768,976674.2069644694,873590.52501294226,781386.87389350834,698914.91403712728,625147.50808329822,559165.92851815594,500148.41549030045,447359.94229901652,400143.06109035475,357909.71474987001,53438036857.216545,667975.46071520681]
[{"$f":"IF(ISBLANK(InfoPro!A33),\"\",InfoPro!A33)","v":"SC_1293_A2"},{"$f":"IF(ISBLANK(InfoPro!B33),\"\",InfoPro!B33)","v":"Leo Solar II"},{"$f":"IF(ISBLANK(InfoPro!E33),\"\",InfoPro!E33)","v":80},{"$f":"IF(ISBLANK(InfoPro!F33),\"\",InfoPro!F33)","v":"Solar FV"},{"$f":"IF(ISBLANK(InfoPro!I33),\"\",YEAR(InfoPro!I33)-$G$3)","v":2},{"$f":"IF(B41=\"\",\"\",VLOOKUP(D41,Tablas!$B$2:$E$13,2,FALSE))","v":0.26},{"$f":"IF(B41=\"\",\"\",VLOOKUP(D41,Tablas!$B$2:$G$13,6,FALSE))","v":0},{"$f":"IF(C41=\"\",\"\",+C41*F41*24*365)","v":182208.00000000003},{"$f":"IF(H41=\"\",\"\",+H41*($C$3-G41))","v":23191.980864000005},1705920.2964629533,1525867.8859239302,1364819.2181788282,1220768.5314658573,1091921.7633862768,976674.2069644694,873590.52501294226,781386.87389350834,698914.91403712728,625147.50808329822,559165.92851815594,500148.41549030045,447359.94229901652,400143.06109035475,357909.71474987001,53438036857.216545,667975.46071520681]
[{"$f":"IF(ISBLANK(InfoPro!A34),\"\",InfoPro!A34)","v":"SC_1306_A1"},{"$f":"IF(ISBLANK(InfoPro!B34),\"\",InfoPro!B34)","v":"Leo Solar I"},{"$f":"IF(ISBLANK(InfoPro!E34),\"\",InfoPro!E34)","v":19.899999999999999},{"$f":"IF(ISBLANK(InfoPro!F34),\"\",InfoPro!F34)","v":"Solar FV"},{"$f":"IF(ISBLANK(InfoPro!I34),\"\",YEAR(InfoPro!I34)-$G$3)","v":2},{"$f":"IF(B42=\"\",\"\",VLOOKUP(D42,Tablas!$B$2:$E$13,2,FALSE))","v":0.26},{"$f":"IF(B42=\"\",\"\",VLOOKUP(D42,Tablas!$B$2:$G$13,6,FALSE))","v":0},45324.24,5769.0052399200003,424347.67374515958,379559.63662357756,339498.78052198351,303666.17220213194,271615.53864233627,242947.70898241174,217305.64309696935,194369.98488101017,173855.08486673539,155505.44263572042,139092.52471889125,124411.91835321223,111280.78564688035,99535.58644622573,89030.041544030144,13292711668.232615,667975.46071520681]
[{"$f":"IF(ISBLANK(InfoPro!A35),\"\",InfoPro!A35)","v":"SC_1306_A2"},{"$f":"IF(ISBLANK(InfoPro!B35),\"\",InfoPro!B35)","v":"Leo Solar I"},{"$f":"IF(ISBLANK(InfoPro!E35),\"\",InfoPro!E35)","v":19.899999999999999},{"$f":"IF(ISBLANK(InfoPro!F35),\"\",InfoPro!F35)","v":"Solar FV"},{"$f":"IF(ISBLANK(InfoPro!I35),\"\",YEAR(InfoPro!I35)-$G$3)","v":2},{"$f":"IF(B43=\"\",\"\",VLOOKUP(D43,Tablas!$B$2:$E$13,2,FALSE))","v":0.26},{"$f":"IF(B43=\"\",\"\",VLOOKUP(D43,Tablas!$B$2:$G$13,6,FALSE))","v":0},45324.24,5769.0052399200003,424347.67374515958,379559.63662357756,339498.78052198351,303666.17220213194,271615.53864233627,242947.70898241174,217305.64309696935,194369.98488101017,173855.08486673539,155505.44263572042,139092.52471889125,124411.91835321223,111280.78564688035,99535.58644622573,89030.041544030144,13292711668.232615,667975.46071520681]
[{"$f":"IF(ISBLANK(InfoPro!A36),\"\",InfoPro!A36)","v":"SC_1311_A1"},{"$f":"IF(ISBLANK(InfoPro!B36),\"\",InfoPro!B36)","v":"Elipse de 200 MW"},{"$f":"IF(ISBLANK(InfoPro!E36),\"\",InfoPro!E36)","v":200},{"$f":"IF(ISBLANK(InfoPro!F36),\"\",InfoPro!F36)","v":"Eólico Onshore"},{"$f":"IF(ISBLANK(InfoPro!I36),\"\",YEAR(InfoPro!I36)-$G$3)","v":2},{"$f":"IF(B44=\"\",\"\",VLOOKUP(D44,Tablas!$B$2:$E$13,2,FALSE))","v":0.56999999999999995},{"$f":"IF(B44=\"\",\"\",VLOOKUP(D44,Tablas!$B$2:$G$13,6,FALSE))","v":0},998639.99999999988,127109.89511999999,9349755.4709988777,8362929.7593907677,7480259.176557037,6690750.6051494079,5984571.2031747838,5352925.9420168018,4787948.0697824704,4282601.1357624959,3830591.3557804078,3426289.2269949992,3064659.4159168149,2741198.046437223,2451876.6068311473,2193091.777129828,1961620.5519944793,292881548159.74445,1464407.7407987223]
[{"$f":"IF(ISBLANK(InfoPro!A37),\"\",InfoPro!A37)","v":"SC_1312_A1"},{"$f":"IF(ISBLANK(InfoPro!B37),\"\",InfoPro!B37)","v":"Omega de 300 MW"},{"$f":"IF(ISBLANK(InfoPro!E37),\"\",InfoPro!E37)","v":300},{"$f":"IF(ISBLANK(InfoPro!F37),\"\",InfoPro!F37)","v":"Eólico Onshore"},{"$f":"IF(ISBLANK(InfoPro!I37),\"\",YEAR(InfoPro!I37)-$G$3)","v":5},{"$f":"IF(B45=\"\",\"\",VLOOKUP(D45,Tablas!$B$2:$E$13,2,FALSE))","v":0.56999999999999995},{"$f":"IF(B45=\"\",\"\",VLOOKUP(D45,Tablas!$B$2:$G$13,6,FALSE))","v":0},1497959.9999999998,190664.84267999997,10036125.907724112,8976856.8047621753,8029388.9130252022,7181922.1046737051,6423901.7036437439,5745887.0336706107,5139433.8404924981,4596989.1238752222,4111797.0696558338,3677814.9102467215,3289637.6656947425,2942430.8279917189,2631870.1502609295,2354087.7909310637,2105624.1421565874,314382135714.43585,1047940.4523814529]
[{"$f":"IF(ISBLANK(InfoPro!A38),\"\",InfoPro!A38)","v":"SC_1313_A1"},{"$f":"IF(ISBLANK(InfoPro!B38),\"\",InfoPro!B38)","v":"Kappa de 500 MW"},{"$f":"IF(ISBLANK(InfoPro!E38),\"\",InfoPro!E38)","v":500},{"$f":"IF(ISBLANK(InfoPro!F38),\"\",InfoPro!F38)","v":"Eólico Onshore"},{"$f":"IF(ISBLANK(InfoPro!I38),\"\",YEAR(InfoPro!I38)-$G$3)","v":4},{"$f":"IF(B46=\"\",\"\",VLOOKUP(D46,Tablas!$B$2:$E$13,2,FALSE))","v":0.56999999999999995},{"$f":"IF(B46=\"\",\"\",VLOOKUP(D46,Tablas!$B$2:$G$13,6,FALSE))","v":0},2496600,317774.7378,18700647.941392597,16726876.512873523,14961428.00793696,13382314.855042005,11969870.174456177,10706502.839406241,9576478.3894510213,8565723.0674874987,7661648.5397920376,6852995.1160930581,6129691.5170778697,5482729.4428245714,4904051.3799861986,4386450.2504348829,3923479.6515517738,585798712881.23206,1171597.4257624641]
[{"$f":"IF(ISBLANK(InfoPro!A39),\"\",InfoPro!A39)","v":"SC_1315_A1"},{"$f":"IF(ISBLANK(InfoPro!B39),\"\",InfoPro!B39)","v":"Parque Eólico Cordobita - 50MW"},{"$f":"IF(ISBLANK(InfoPro!E39),\"\",InfoPro!E39)","v":50},{"$f":"IF(ISBLANK(InfoPro!F39),\"\",InfoPro!F39)","v":"Eólico Onshore"},{"$f":"IF(ISBLANK(InfoPro!I39),\"\",YEAR(InfoPro!I39)-$G$3)","v":4},{"$f":"IF(B47=\"\",\"\",VLOOKUP(D47,Tablas!$B$2:$E$13,2,FALSE))","v":0.56999999999999995},{"$f":"IF(B47=\"\",\"\",VLOOKUP(D47,Tablas!$B$2:$G$13,6,FALSE))","v":0},249659.99999999997,31777.473779999997,1870064.7941392593,1672687.651287352,1496142.800793696,1338231.4855042004,1196987.0174456176,1070650.283940624,957647.83894510195,856572.3067487498,766164.85397920373,685299.51160930574,612969.15170778683,548272.944282457,490405.13799861982,438645.02504348825,392347.96515517728,58579871288.123207,1171597.4257624641]
[{"$f":"IF(ISBLANK(InfoPro!A40),\"\",InfoPro!A40)","v":"SC_1315_A2"},{"$f":"IF(ISBLANK(InfoPro!B40),\"\",InfoPro!B40)","v":"Parque Eólico Cordobita - 50MW"},{"$f":"IF(ISBLANK(InfoPro!E40),\"\",InfoPro!E40)","v":50},{"$f":"IF(ISBLANK(InfoPro!F40),\"\",InfoPro!F40)","v":"Eólico Onshore"},{"$f":"IF(ISBLANK(InfoPro!I40),\"\",YEAR(InfoPro!I40)-$G$3)","v":4},{"$f":"IF(B48=\"\",\"\",VLOOKUP(D48,Tablas!$B$2:$E$13,2,FALSE))","v":0.56999999999999995},{"$f":"IF(B48=\"\",\"\",VLOOKUP(D48,Tablas!$B$2:$G$13,6,FALSE))","v":0},249659.99999999997,31777.473779999997,1870064.7941392593,1672687.651287352,1496142.800793696,1338231.4855042004,1196987.0174456176,1070650.283940624,957647.83894510195,856572.3067487498,766164.85397920373,685299.51160930574,612969.15170778683,548272.944282457,490405.13799861982,438645.02504348825,392347.96515517728,58579871288.123207,1171597.4257624641]
[{"$f":"IF(ISBLANK(InfoPro!A41),\"\",InfoPro!A41)","v":"SC_1317_A1"},{"$f":"IF(ISBLANK(InfoPro!B41),\"\",InfoPro!B41)","v":"EÓLICA BONDA - 70MW"},{"$f":"IF(ISBLANK(InfoPro!E41),\"\",InfoPro!E41)","v":70},{"$f":"IF(ISBLANK(InfoPro!F41),\"\",InfoPro!F41)","v":"Eólico Onshore"},{"$f":"IF(ISBLANK(InfoPro!I41),\"\",YEAR(InfoPro!I41)-$G$3)","v":4},{"$f":"IF(B49=\"\",\"\",VLOOKUP(D49,Tablas!$B$2:$E$13,2,FALSE))","v":0.56999999999999995},{"$f":"IF(B49=\"\",\"\",VLOOKUP(D49,Tablas!$B$2:$G$13,6,FALSE))","v":0},349523.99999999994,44488.463291999993,{"$f":"IF($I49=\"\",\"\",(1/(1+$C$4)^(J$7+$E49))*$I49*$C$5)","v":2618090.7117949631},2341762.7118022926,2094599.9211111742,1873524.0797058803,1675781.8244238645,1498910.3975168737,1340706.9745231427,1199201.2294482496,1072630.7955708851,959419.316253028,858156.81239090173,767582.12199543975,686567.19319806772,614103.0350608835,549287.15121724817,82011819803.372467,1171597.4257624638]
[{"$f":"IF(ISBLANK(InfoPro!A42),\"\",InfoPro!A42)","v":"SC_1321_A1"},{"$f":"IF(ISBLANK(InfoPro!B42),\"\",InfoPro!B42)","v":"OWF ASTROLABIO - 600 MW"},{"$f":"IF(ISBLANK(InfoPro!E42),\"\",InfoPro!E42)","v":600},{"$f":"IF(ISBLANK(InfoPro!F42),\"\",InfoPro!F42)","v":"Eólico Offshore"},{"$f":"IF(ISBLANK(InfoPro!I42),\"\",YEAR(InfoPro!I42)-$G$3)","v":11},{"$f":"IF(B50=\"\",\"\",VLOOKUP(D50,Tablas!$B$2:$E$13,2,FALSE))","v":0.56999999999999995},{"$f":"IF(B50=\"\",\"\",VLOOKUP(D50,Tablas!$B$2:$G$13,6,FALSE))","v":0},2995919.9999999995,381329.68535999994,10278867.680984996,9193978.2477504443,8223594.1393116675,7355629.8204934429,6579275.3313894849,5884861.6559834378,5263740.300521859,4708175.5818621274,4211248.2843131749,3766769.4850743958,3369203.4750218214,3013598.8148674611,2695526.6680388739,2411025.642253018,2156552.4528202307,321986033653.3938,536643.38942232297]
[{"$f":"IF(ISBLANK(InfoPro!A43),\"\",InfoPro!A43)","v":"SC_1321_A2"},{"$f":"IF(ISBLANK(InfoPro!B43),\"\",InfoPro!B43)","v":"OWF ASTROLABIO - 600 MW"},{"$f":"IF(ISBLANK(InfoPro!E43),\"\",InfoPro!E43)","v":825},{"$f":"IF(ISBLANK(InfoPro!F43),\"\",InfoPro!F43)","v":"Eólico Offshore"},{"$f":"IF(ISBLANK(InfoPro!I43),\"\",YEAR(InfoPro!I43)-$G$3)","v":11},{"$f":"IF(B51=\"\",\"\",VLOOKUP(D51,Tablas!$B$2:$E$13,2,FALSE))","v":0.56999999999999995},{"$f":"IF(B51=\"\",\"\",VLOOKUP(D51,Tablas!$B$2:$G$13,6,FALSE))","v":0},4119389.9999999995,524328.31736999995,14133443.061354369,12641720.09065686,11307441.941553544,10113991.003178485,9046503.5806605406,8091684.7769772261,7237642.9132175557,6473741.425060425,5790466.3909306154,5179308.0419772938,4632654.7781550046,4143698.3704427597,3706349.168553452,3315160.2580978996,2965259.6226278176,442730796273.41656,536643.38942232309]
[{"$f":"IF(ISBLANK(InfoPro!A44),\"\",InfoPro!A44)","v":"SC_1336_A1"},{"$f":"IF(ISBLANK(InfoPro!B44),\"\",InfoPro!B44)","v":"AES Solar 4"},{"$f":"IF(ISBLANK(InfoPro!E44),\"\",InfoPro!E44)","v":300},{"$f":"IF(ISBLANK(InfoPro!F44),\"\",InfoPro!F44)","v":"Solar FV"},{"$f":"IF(ISBLANK(InfoPro!I44),\"\",YEAR(InfoPro!I44)-$G$3)","v":3},{"$f":"IF(B52=\"\",\"\",VLOOKUP(D52,Tablas!$B$2:$E$13,2,FALSE))","v":0.26},{"$f":"IF(B52=\"\",\"\",VLOOKUP(D52,Tablas!$B$2:$G$13,6,FALSE))","v":0},683280,86969.928240000008,5722004.5722147366,5118072.0681706052,4577881.9929969646,4094706.6126985373,3662528.27611676,3275964.4687985331,2930200.7771006557,2620930.9276392269,2344303.1553123682,2096872.2319430842,1875556.5580886265,1677599.7836213119,1500536.4790888301,1342161.4303120123,1200502.1738032312,179242073537.17532,597473.57845725107]
[{"$f":"IF(ISBLANK(InfoPro!A45),\"\",InfoPro!A45)","v":"SC_1336_A2"},{"$f":"IF(ISBLANK(InfoPro!B45),\"\",InfoPro!B45)","v":"AES Solar 4"},{"$f":"IF(ISBLANK(InfoPro!E45),\"\",InfoPro!E45)","v":300},{"$f":"IF(ISBLANK(InfoPro!F45),\"\",InfoPro!F45)","v":"Solar FV"},{"$f":"IF(ISBLANK(InfoPro!I45),\"\",YEAR(InfoPro!I45)-$G$3)","v":3},{"$f":"IF(B53=\"\",\"\",VLOOKUP(D53,Tablas!$B$2:$E$13,2,FALSE))","v":0.26},{"$f":"IF(B53=\"\",\"\",VLOOKUP(D53,Tablas!$B$2:$G$13,6,FALSE))","v":0},683280,86969.928240000008,5722004.5722147366,5118072.0681706052,4577881.9929969646,4094706.6126985373,3662528.27611676,3275964.4687985331,2930200.7771006557,2620930.9276392269,2344303.1553123682,2096872.2319430842,1875556.5580886265,1677599.7836213119,1500536.4790888301,1342161.4303120123,1200502.1738032312,179242073537.17532,597473.57845725107]
[{"$f":"IF(ISBLANK(InfoPro!A46),\"\",InfoPro!A46)","v":"SC_1345_A1"},{"$f":"IF(ISBLANK(InfoPro!B46),\"\",InfoPro!B46)","v":"Parque Eólico Jouttalein_150MW"},{"$f":"IF(ISBLANK(InfoPro!E46),\"\",InfoPro!E46)","v":150},{"$f":"IF(ISBLANK(InfoPro!F46),\"\",InfoPro!F46)","v":"Eólico Onshore"},{"$f":"IF(ISBLANK(InfoPro!I46),\"\",YEAR(InfoPro!I46)-$G$3)","v":2},{"$f":"IF(B54=\"\",\"\",VLOOKUP(D54,Tablas!$B$2:$E$13,2,FALSE))","v":0.56999999999999995},{"$f":"IF(B54=\"\",\"\",VLOOKUP(D54,Tablas!$B$2:$G$13,6,FALSE))","v":0},748979.99999999988,95332.421339999986,7012316.6032491568,6272197.3195430748,5610194.3824177776,5018062.9538620561,4488428.4023810877,4014694.4565126011,3590961.0523368525,3211950.8518218719,2872943.5168353054,2569716.9202462491,2298494.5619376111,2055898.5348279169,1838907.4551233607,1644818.8328473712,1471215.4139958594,219661161119.80826,1464407.7407987218]
[{"$f":"IF(ISBLANK(InfoPro!A47),\"\",InfoPro!A47)","v":"SC_1345_A2"},{"$f":"IF(ISBLANK(InfoPro!B47),\"\",InfoPro!B47)","v":"Parque Eólico Jouttalein_150MW"},{"$f":"IF(ISBLANK(InfoPro!E47),\"\",InfoPro!E47)","v":150},{"$f":"IF(ISBLANK(InfoPro!F47),\"\",InfoPro!F47)","v":"Eólico Onshore"},{"$f":"IF(ISBLANK(InfoPro!I47),\"\",YEAR(InfoPro!I47)-$G$3)","v":2},{"$f":"IF(B55=\"\",\"\",VLOOKUP(D55,Tablas!$B$2:$E$13,2,FALSE))","v":0.56999999999999995},{"$f":"IF(B55=\"\",\"\",VLOOKUP(D55,Tablas!$B$2:$G$13,6,FALSE))","v":0},748979.99999999988,95332.421339999986,7012316.6032491568,6272197.3195430748,5610194.3824177776,5018062.9538620561,4488428.4023810877,4014694.4565126011,3590961.0523368525,3211950.8518218719,2872943.5168353054,2569716.9202462491,2298494.5619376111,2055898.5348279169,1838907.4551233607,1644818.8328473712,1471215.4139958594,219661161119.80826,1464407.7407987218]
[{"$f":"IF(ISBLANK(InfoPro!A48),\"\",InfoPro!A48)","v":"SC_1347_A1"},{"$f":"IF(ISBLANK(InfoPro!B48),\"\",InfoPro!B48)","v":"AES Solar 5_100MW"},{"$f":"IF(ISBLANK(InfoPro!E48),\"\",InfoPro!E48)","v":100},{"$f":"IF(ISBLANK(InfoPro!F48),\"\",InfoPro!F48)","v":"Solar FV"},{"$f":"IF(ISBLANK(InfoPro!I48),\"\",YEAR(InfoPro!I48)-$G$3)","v":3},{"$f":"IF(B56=\"\",\"\",VLOOKUP(D56,Tablas!$B$2:$E$13,2,FALSE))","v":0.26},{"$f":"IF(B56=\"\",\"\",VLOOKUP(D56,Tablas!$B$2:$G$13,6,FALSE))","v":0},227760,28989.97608,1907334.8574049121,1706024.0227235351,1525960.6643323214,1364902.2042328457,1220842.7587055864,1091988.1562661775,976733.59236688516,873643.64254640893,781434.38510412257,698957.41064769472,625185.51936287549,559199.92787377059,500178.82636294333,447387.14343733742,400167.39126774372,59747357845.72509,597473.57845725096]
[{"$f":"IF(ISBLANK(InfoPro!A49),\"\",InfoPro!A49)","v":"SC_1347_A2"},{"$f":"IF(ISBLANK(InfoPro!B49),\"\",InfoPro!B49)","v":"AES Solar 5_100MW"},{"$f":"IF(ISBLANK(InfoPro!E49),\"\",InfoPro!E49)","v":100},{"$f":"IF(ISBLANK(InfoPro!F49),\"\",InfoPro!F49)","v":"Solar FV"},{"$f":"IF(ISBLANK(InfoPro!I49),\"\",YEAR(InfoPro!I49)-$G$3)","v":3},{"$f":"IF(B57=\"\",\"\",VLOOKUP(D57,Tablas!$B$2:$E$13,2,FALSE))","v":0.26},{"$f":"IF(B57=\"\",\"\",VLOOKUP(D57,Tablas!$B$2:$G$13,6,FALSE))","v":0},227760,28989.97608,1907334.8574049121,1706024.0227235351,1525960.6643323214,1364902.2042328457,1220842.7587055864,1091988.1562661775,976733.59236688516,873643.64254640893,781434.38510412257,698957.41064769472,625185.51936287549,559199.92787377059,500178.82636294333,447387.14343733742,400167.39126774372,59747357845.72509,597473.57845725096]
[{"$f":"IF(ISBLANK(InfoPro!A50),\"\",InfoPro!A50)","v":"SC_1355_A1"},{"$f":"IF(ISBLANK(InfoPro!B50),\"\",InfoPro!B50)","v":"Barlovento 1"},{"$f":"IF(ISBLANK(InfoPro!E50),\"\",InfoPro!E50)","v":500},{"$f":"IF(ISBLANK(InfoPro!F50),\"\",InfoPro!F50)","v":"Eólico Offshore"},{"$f":"IF(ISBLANK(InfoPro!I50),\"\",YEAR(InfoPro!I50)-$G$3)","v":11},{"$f":"IF(B58=\"\",\"\",VLOOKUP(D58,Tablas!$B$2:$E$13,2,FALSE))","v":0.56999999999999995},{"$f":"IF(B58=\"\",\"\",VLOOKUP(D58,Tablas!$B$2:$G$13,6,FALSE))","v":0},2496600,317774.7378,8565723.0674874987,7661648.5397920376,6852995.1160930581,6129691.5170778697,5482729.4428245714,4904051.3799861986,4386450.2504348829,3923479.6515517738,3509373.5702609792,3138974.57089533,2807669.562518185,2511332.3457228849,2246272.2233657287,2009188.0352108488,1797127.0440168593,268321694711.16156,536643.38942232309]
[{"$f":"IF(ISBLANK(InfoPro!A51),\"\",InfoPro!A51)","v":"SC_1356_A1"},{"$f":"IF(ISBLANK(InfoPro!B51),\"\",InfoPro!B51)","v":"Sol de Zawady 9,9 MW"},{"$f":"IF(ISBLANK(InfoPro!E51),\"\",InfoPro!E51)","v":9.9},{"$f":"IF(ISBLANK(InfoPro!F51),\"\",InfoPro!F51)","v":"Solar FV"},{"$f":"IF(ISBLANK(InfoPro!I51),\"\",YEAR(InfoPro!I51)-$G$3)","v":1},{"$f":"IF(B59=\"\",\"\",VLOOKUP(D59,Tablas!$B$2:$E$13,2,FALSE))","v":0.26},{"$f":"IF(B59=\"\",\"\",VLOOKUP(D59,Tablas!$B$2:$G$13,6,FALSE))","v":0},22548.240000000005,2870.0076319200007,{"$f":"IF($I59=\"\",\"\",(1/(1+$C$4)^(J$7+$E59))*$I59*$C$5)","v":236018.33781639076},211107.63668729048,188826.15088308635,168896.37824963001,151070.10576889984,135125.31821905175,120863.4331118531,108106.82747035159,96696.625644321655,86490.72061209449,77362.004125308173,69196.783654121798,61893.366416924677,55360.792859503294,49517.703809931394,7393285994.2880507,746796.56507960113]
[{"$f":"IF(ISBLANK(InfoPro!A52),\"\",InfoPro!A52)","v":"SC_1356_A2"},{"$f":"IF(ISBLANK(InfoPro!B52),\"\",InfoPro!B52)","v":"Sol de Zawady 9,9 MW"},{"$f":"IF(ISBLANK(InfoPro!E52),\"\",InfoPro!E52)","v":9.9},{"$f":"IF(ISBLANK(InfoPro!F52),\"\",InfoPro!F52)","v":"Solar FV"},{"$f":"IF(ISBLANK(InfoPro!I52),\"\",YEAR(InfoPro!I52)-$G$3)","v":1},{"$f":"IF(B60=\"\",\"\",VLOOKUP(D60,Tablas!$B$2:$E$13,2,FALSE))","v":0.26},{"$f":"IF(B60=\"\",\"\",VLOOKUP(D60,Tablas!$B$2:$G$13,6,FALSE))","v":0},22548.240000000005,2870.0076319200007,236018.33781639076,211107.63668729048,188826.15088308635,168896.37824963001,151070.10576889984,135125.31821905175,120863.4331118531,108106.82747035159,96696.625644321655,86490.72061209449,77362.004125308173,69196.783654121798,61893.366416924677,55360.792859503294,49517.703809931394,7393285994.2880507,746796.56507960113]
[{"$f":"IF(ISBLANK(InfoPro!A53),\"\",InfoPro!A53)","v":"SC_1366_A1"},{"$f":"IF(ISBLANK(InfoPro!B53),\"\",InfoPro!B53)","v":"PARQUE SOLAR TÁNGARA 100 MW"},{"$f":"IF(ISBLANK(InfoPro!E53),\"\",InfoPro!E53)","v":100},{"$f":"IF(ISBLANK(InfoPro!F53),\"\",InfoPro!F53)","v":"Solar FV"},{"$f":"IF(ISBLANK(InfoPro!I53),\"\",YEAR(InfoPro!I53)-$G$3)","v":3},{"$f":"IF(B61=\"\",\"\",VLOOKUP(D61,Tablas!$B$2:$E$13,2,FALSE))","v":0.26},{"$f":"IF(B61=\"\",\"\",VLOOKUP(D61,Tablas!$B$2:$G$13,6,FALSE))","v":0},227760,28989.97608,1907334.8574049121,1706024.0227235351,1525960.6643323214,1364902.2042328457,1220842.7587055864,1091988.1562661775,976733.59236688516,873643.64254640893,781434.38510412257,698957.41064769472,625185.51936287549,559199.92787377059,500178.82636294333,447387.14343733742,400167.39126774372,59747357845.72509,597473.57845725096]
[{"$f":"IF(ISBLANK(InfoPro!A54),\"\",InfoPro!A54)","v":"SC_1376_A1"},{"$f":"IF(ISBLANK(InfoPro!B54),\"\",InfoPro!B54)","v":"Expansión La Loma I - 100 MW"},{"$f":"IF(ISBLANK(InfoPro!E54),\"\",InfoPro!E54)","v":100},{"$f":"IF(ISBLANK(InfoPro!F54),\"\",InfoPro!F54)","v":"Solar FV"},{"$f":"IF(ISBLANK(InfoPro!I54),\"\",YEAR(InfoPro!I54)-$G$3)","v":4},{"$f":"IF(B62=\"\",\"\",VLOOKUP(D62,Tablas!$B$2:$E$13,2,FALSE))","v":0.26},{"$f":"IF(B62=\"\",\"\",VLOOKUP(D62,Tablas!$B$2:$G$13,6,FALSE))","v":0},227760,28989.97608,1706024.0227235351,1525960.6643323214,1364902.2042328457,1220842.7587055864,1091988.1562661775,976733.59236688516,873643.64254640893,781434.38510412257,698957.41064769472,625185.51936287549,559199.92787377059,500178.82636294333,447387.14343733742,400167.39126774372,357931.47698367055,53441286087.410645,534412.86087410641]
[{"$f":"IF(ISBLANK(InfoPro!A55),\"\",InfoPro!A55)","v":"SC_1376_A2"},{"$f":"IF(ISBLANK(InfoPro!B55),\"\",InfoPro!B55)","v":"Expansión La Loma I - 100 MW"},{"$f":"IF(ISBLANK(InfoPro!E55),\"\",InfoPro!E55)","v":100},{"$f":"IF(ISBLANK(InfoPro!F55),\"\",InfoPro!F55)","v":"Solar FV"},{"$f":"IF(ISBLANK(InfoPro!I55),\"\",YEAR(InfoPro!I55)-$G$3)","v":4},{"$f":"IF(B63=\"\",\"\",VLOOKUP(D63,Tablas!$B$2:$E$13,2,FALSE))","v":0.26},{"$f":"IF(B63=\"\",\"\",VLOOKUP(D63,Tablas!$B$2:$G$13,6,FALSE))","v":0},227760,28989.97608,1706024.0227235351,1525960.6643323214,1364902.2042328457,1220842.7587055864,1091988.1562661775,976733.59236688516,873643.64254640893,781434.38510412257,698957.41064769472,625185.51936287549,559199.92787377059,500178.82636294333,447387.14343733742,400167.39126774372,357931.47698367055,53441286087.410645,534412.86087410641]
[{"$f":"IF(ISBLANK(InfoPro!A56),\"\",InfoPro!A56)","v":"SC_1377_A1"},{"$f":"IF(ISBLANK(InfoPro!B56),\"\",InfoPro!B56)","v":"Eólica Cordobita - 50MW"},{"$f":"IF(ISBLANK(InfoPro!E56),\"\",InfoPro!E56)","v":50},{"$f":"IF(ISBLANK(InfoPro!F56),\"\",InfoPro!F56)","v":"Eólico Onshore"},{"$f":"IF(ISBLANK(InfoPro!I56),\"\",YEAR(InfoPro!I56)-$G$3)","v":4},{"$f":"IF(B64=\"\",\"\",VLOOKUP(D64,Tablas!$B$2:$E$13,2,FALSE))","v":0.56999999999999995},{"$f":"IF(B64=\"\",\"\",VLOOKUP(D64,Tablas!$B$2:$G$13,6,FALSE))","v":0},249659.99999999997,31777.473779999997,1870064.7941392593,1672687.651287352,1496142.800793696,1338231.4855042004,1196987.0174456176,1070650.283940624,957647.83894510195,856572.3067487498,766164.85397920373,685299.51160930574,612969.15170778683,548272.944282457,490405.13799861982,438645.02504348825,392347.96515517728,58579871288.123207,1171597.4257624641]
[{"$f":"IF(ISBLANK(InfoPro!A57),\"\",InfoPro!A57)","v":"SC_1377_A2"},{"$f":"IF(ISBLANK(InfoPro!B57),\"\",InfoPro!B57)","v":"Eólica Cordobita - 50MW"},{"$f":"IF(ISBLANK(InfoPro!E57),\"\",InfoPro!E57)","v":50},{"$f":"IF(ISBLANK(InfoPro!F57),\"\",InfoPro!F57)","v":"Eólico Onshore"},{"$f":"IF(ISBLANK(InfoPro!I57),\"\",YEAR(InfoPro!I57)-$G$3)","v":4},{"$f":"IF(B65=\"\",\"\",VLOOKUP(D65,Tablas!$B$2:$E$13,2,FALSE))","v":0.56999999999999995},{"$f":"IF(B65=\"\",\"\",VLOOKUP(D65,Tablas!$B$2:$G$13,6,FALSE))","v":0},249659.99999999997,31777.473779999997,1870064.7941392593,1672687.651287352,1496142.800793696,1338231.4855042004,1196987.0174456176,1070650.283940624,957647.83894510195,856572.3067487498,766164.85397920373,685299.51160930574,612969.15170778683,548272.944282457,490405.13799861982,438645.02504348825,392347.96515517728,58579871288.123207,1171597.4257624641]
[{"$f":"IF(ISBLANK(InfoPro!A58),\"\",InfoPro!A58)","v":"SC_1380_A1"},{"$f":"IF(ISBLANK(InfoPro!B58),\"\",InfoPro!B58)","v":"Parque Eólico Motosira"},{"$f":"IF(ISBLANK(InfoPro!E58),\"\",InfoPro!E58)","v":300},{"$f":"IF(ISBLANK(InfoPro!F58),\"\",InfoPro!F58)","v":"Eólico Onshore"},{"$f":"IF(ISBLANK(InfoPro!I58),\"\",YEAR(InfoPro!I58)-$G$3)","v":3},{"$f":"IF(B66=\"\",\"\",VLOOKUP(D66,Tablas!$B$2:$E$13,2,FALSE))","v":0.56999999999999995},{"$f":"IF(B66=\"\",\"\",VLOOKUP(D66,Tablas!$B$2:$G$13,6,FALSE))","v":0},1497959.9999999998,190664.84267999997,12544394.63908615,11220388.764835555,10036125.907724112,8976856.8047621753,8029388.9130252022,7181922.1046737051,6423901.7036437439,5745887.0336706107,5139433.8404924981,4596989.1238752222,4111797.0696558338,3677814.9102467215,3289637.6656947425,2942430.8279917189,2631870.1502609295,392953776600.73041,1309845.9220024347]
[{"$f":"IF(ISBLANK(InfoPro!A59),\"\",InfoPro!A59)","v":"SC_1380_A2"},{"$f":"IF(ISBLANK(InfoPro!B59),\"\",InfoPro!B59)","v":"Parque Eólico Motosira"},{"$f":"IF(ISBLANK(InfoPro!E59),\"\",InfoPro!E59)","v":300},{"$f":"IF(ISBLANK(InfoPro!F59),\"\",InfoPro!F59)","v":"Eólico Onshore"},{"$f":"IF(ISBLANK(InfoPro!I59),\"\",YEAR(InfoPro!I59)-$G$3)","v":3},{"$f":"IF(B67=\"\",\"\",VLOOKUP(D67,Tablas!$B$2:$E$13,2,FALSE))","v":0.56999999999999995},{"$f":"IF(B67=\"\",\"\",VLOOKUP(D67,Tablas!$B$2:$G$13,6,FALSE))","v":0},1497959.9999999998,190664.84267999997,12544394.63908615,11220388.764835555,10036125.907724112,8976856.8047621753,8029388.9130252022,7181922.1046737051,6423901.7036437439,5745887.0336706107,5139433.8404924981,4596989.1238752222,4111797.0696558338,3677814.9102467215,3289637.6656947425,2942430.8279917189,2631870.1502609295,392953776600.73041,1309845.9220024347]
[{"$f":"IF(ISBLANK(InfoPro!A60),\"\",InfoPro!A60)","v":"SC_1421_A1"},{"$f":"IF(ISBLANK(InfoPro!B60),\"\",InfoPro!B60)","v":"Parque Solar Fotovoltaico SJ Solar 100 MW"},{"$f":"IF(ISBLANK(InfoPro!E60),\"\",InfoPro!E60)","v":100},{"$f":"IF(ISBLANK(InfoPro!F60),\"\",InfoPro!F60)","v":"Solar FV"},{"$f":"IF(ISBLANK(InfoPro!I60),\"\",YEAR(InfoPro!I60)-$G$3)","v":3},{"$f":"IF(B68=\"\",\"\",VLOOKUP(D68,Tablas!$B$2:$E$13,2,FALSE))","v":0.26},{"$f":"IF(B68=\"\",\"\",VLOOKUP(D68,Tablas!$B$2:$G$13,6,FALSE))","v":0},227760,28989.97608,1907334.8574049121,1706024.0227235351,1525960.6643323214,1364902.2042328457,1220842.7587055864,1091988.1562661775,976733.59236688516,873643.64254640893,781434.38510412257,698957.41064769472,625185.51936287549,559199.92787377059,500178.82636294333,447387.14343733742,400167.39126774372,59747357845.72509,597473.57845725096]
[{"$f":"IF(ISBLANK(InfoPro!A61),\"\",InfoPro!A61)","v":"SC_1421_A2"},{"$f":"IF(ISBLANK(InfoPro!B61),\"\",InfoPro!B61)","v":"Parque Solar Fotovoltaico SJ Solar 100 MW"},{"$f":"IF(ISBLANK(InfoPro!E61),\"\",InfoPro!E61)","v":100},{"$f":"IF(ISBLANK(InfoPro!F61),\"\",InfoPro!F61)","v":"Solar FV"},{"$f":"IF(ISBLANK(InfoPro!I61),\"\",YEAR(InfoPro!I61)-$G$3)","v":3},{"$f":"IF(B69=\"\",\"\",VLOOKUP(D69,Tablas!$B$2:$E$13,2,FALSE))","v":0.26},{"$f":"IF(B69=\"\",\"\",VLOOKUP(D69,Tablas!$B$2:$G$13,6,FALSE))","v":0},227760,28989.97608,{"$f":"IF($I69=\"\",\"\",(1/(1+$C$4)^(J$7+$E69))*$I69*$C$5)","v":1907334.8574049121},1706024.0227235351,1525960.6643323214,1364902.2042328457,1220842.7587055864,1091988.1562661775,976733.59236688516,873643.64254640893,781434.38510412257,698957.41064769472,625185.51936287549,559199.92787377059,500178.82636294333,447387.14343733742,400167.39126774372,59747357845.72509,597473.57845725096]
[{"$f":"IF(ISBLANK(InfoPro!A62),\"\",InfoPro!A62)","v":"SC_1479_A1"},{"$f":"IF(ISBLANK(InfoPro!B62),\"\",InfoPro!B62)","v":"Oslo I_150MW"},{"$f":"IF(ISBLANK(InfoPro!E62),\"\",InfoPro!E62)","v":150},{"$f":"IF(ISBLANK(InfoPro!F62),\"\",InfoPro!F62)","v":"Solar FV"},{"$f":"IF(ISBLANK(InfoPro!I62),\"\",YEAR(InfoPro!I62)-$G$3)","v":3},{"$f":"IF(B70=\"\",\"\",VLOOKUP(D70,Tablas!$B$2:$E$13,2,FALSE))","v":0.26},{"$f":"IF(B70=\"\",\"\",VLOOKUP(D70,Tablas!$B$2:$G$13,6,FALSE))","v":0},341640,43484.964120000004,2861002.2861073683,2559036.0340853026,2288940.9964984823,2047353.3063492686,1831264.13805838,1637982.2343992665,1465100.3885503279,1310465.4638196134,1172151.5776561841,1048436.1159715421,937778.27904431324,838799.89181065594,750268.23954441503,671080.71515600616,600251.08690161561,89621036768.587662,597473.57845725107]
[{"$f":"IF(ISBLANK(InfoPro!A63),\"\",InfoPro!A63)","v":"SC_1479_A2"},{"$f":"IF(ISBLANK(InfoPro!B63),\"\",InfoPro!B63)","v":"Oslo I_150MW"},{"$f":"IF(ISBLANK(InfoPro!E63),\"\",InfoPro!E63)","v":150},{"$f":"IF(ISBLANK(InfoPro!F63),\"\",InfoPro!F63)","v":"Solar FV"},{"$f":"IF(ISBLANK(InfoPro!I63),\"\",YEAR(InfoPro!I63)-$G$3)","v":3},{"$f":"IF(B71=\"\",\"\",VLOOKUP(D71,Tablas!$B$2:$E$13,2,FALSE))","v":0.26},{"$f":"IF(B71=\"\",\"\",VLOOKUP(D71,Tablas!$B$2:$G$13,6,FALSE))","v":0},341640,43484.964120000004,2861002.2861073683,2559036.0340853026,2288940.9964984823,2047353.3063492686,1831264.13805838,1637982.2343992665,1465100.3885503279,1310465.4638196134,1172151.5776561841,1048436.1159715421,937778.27904431324,838799.89181065594,750268.23954441503,671080.71515600616,600251.08690161561,89621036768.587662,597473.57845725107]
[{"$f":"IF(ISBLANK(InfoPro!A64),\"\",InfoPro!A64)","v":"SC_1506_A1"},{"$f":"IF(ISBLANK(InfoPro!B64),\"\",InfoPro!B64)","v":"Parque Solar Toro Moreno"},{"$f":"IF(ISBLANK(InfoPro!E64),\"\",InfoPro!E64)","v":99.9},{"$f":"IF(ISBLANK(InfoPro!F64),\"\",InfoPro!F64)","v":"Solar FV"},{"$f":"IF(ISBLANK(InfoPro!I64),\"\",YEAR(InfoPro!I64)-$G$3)","v":-2},{"$f":"IF(B72=\"\",\"\",VLOOKUP(D72,Tablas!$B$2:$E$13,2,FALSE))","v":0.26},{"$f":"IF(B72=\"\",\"\",VLOOKUP(D72,Tablas!$B$2:$G$13,6,FALSE))","v":0},227532.24000000002,28960.986103920004,3328138.9648402641,2976868.4837569445,2662673.0623944052,2381639.5906926701,2130267.9702081131,1905427.5225475074,1704317.9987008118,1524434.7036679892,1363537.3020286129,1219621.9159468811,1090896.1681099115,975756.85877451848,872769.99890386255,780652.9507190187,698258.45323704707,104254116114.23122,1043584.7458882004]
[{"$f":"IF(ISBLANK(InfoPro!A65),\"\",InfoPro!A65)","v":"SC_1506_A2"},{"$f":"IF(ISBLANK(InfoPro!B65),\"\",InfoPro!B65)","v":"Parque Solar Toro Moreno"},{"$f":"IF(ISBLANK(InfoPro!E65),\"\",InfoPro!E65)","v":99.9},{"$f":"IF(ISBLANK(InfoPro!F65),\"\",InfoPro!F65)","v":"Solar FV"},{"$f":"IF(ISBLANK(InfoPro!I65),\"\",YEAR(InfoPro!I65)-$G$3)","v":-2},{"$f":"IF(B73=\"\",\"\",VLOOKUP(D73,Tablas!$B$2:$E$13,2,FALSE))","v":0.26},{"$f":"IF(B73=\"\",\"\",VLOOKUP(D73,Tablas!$B$2:$G$13,6,FALSE))","v":0},{"$f":"IF(C73=\"\",\"\",+C73*F73*24*365)","v":227532.24000000002},{"$f":"IF(H73=\"\",\"\",+H73*($C$3-G73))","v":28960.986103920004},3328138.9648402641,2976868.4837569445,2662673.0623944052,2381639.5906926701,2130267.9702081131,1905427.5225475074,1704317.9987008118,1524434.7036679892,1363537.3020286129,1219621.9159468811,1090896.1681099115,975756.85877451848,872769.99890386255,780652.9507190187,698258.45323704707,104254116114.23122,1043584.7458882004]
[{"$f":"IF(ISBLANK(InfoPro!A66),\"\",InfoPro!A66)","v":"SC_1512_A1"},{"$f":"IF(ISBLANK(InfoPro!B66),\"\",InfoPro!B66)","v":"El Flamingo\n  - 200 MW"},{"$f":"IF(ISBLANK(InfoPro!E66),\"\",InfoPro!E66)","v":200},{"$f":"IF(ISBLANK(InfoPro!F66),\"\",InfoPro!F66)","v":"Solar FV"},{"$f":"IF(ISBLANK(InfoPro!I66),\"\",YEAR(InfoPro!I66)-$G$3)","v":4},{"$f":"IF(B74=\"\",\"\",VLOOKUP(D74,Tablas!$B$2:$E$13,2,FALSE))","v":0.26},{"$f":"IF(B74=\"\",\"\",VLOOKUP(D74,Tablas!$B$2:$G$13,6,FALSE))","v":0},455520,57979.952160000001,3412048.0454470702,3051921.3286646428,2729804.4084656914,2441685.5174111729,2183976.3125323551,1953467.1847337703,1747287.2850928179,1562868.7702082451,1397914.8212953894,1250371.038725751,1118399.8557475412,1000357.6527258867,894774.28687467484,800334.78253548744,715862.95396734111,{"$f":"IF(X74=\"\",\"\",SUM(J74:X74)*$C$6)","v":106882572174.82129},{"$f":"IF(C74=0,0,IF(Y74=\"\",\"\",Y74/(C74*1000)))","v":534412.86087410641}]
[{"$f":"IF(ISBLANK(InfoPro!A67),\"\",InfoPro!A67)","v":"SC_1512_A2"},{"$f":"IF(ISBLANK(InfoPro!B67),\"\",InfoPro!B67)","v":"El Flamingo\n  - 200 MW"},{"$f":"IF(ISBLANK(InfoPro!E67),\"\",InfoPro!E67)","v":200},{"$f":"IF(ISBLANK(InfoPro!F67),\"\",InfoPro!F67)","v":"Solar FV"},{"$f":"IF(ISBLANK(InfoPro!I67),\"\",YEAR(InfoPro!I67)-$G$3)","v":4},{"$f":"IF(B75=\"\",\"\",VLOOKUP(D75,Tablas!$B$2:$E$13,2,FALSE))","v":0.26},{"$f":"IF(B75=\"\",\"\",VLOOKUP(D75,Tablas!$B$2:$G$13,6,FALSE))","v":0},455520,57979.952160000001,3412048.0454470702,3051921.3286646428,2729804.4084656914,2441685.5174111729,2183976.3125323551,1953467.1847337703,1747287.2850928179,1562868.7702082451,1397914.8212953894,1250371.038725751,1118399.8557475412,1000357.6527258867,894774.28687467484,800334.78253548744,715862.95396734111,106882572174.82129,534412.86087410641]
[{"$f":"IF(ISBLANK(InfoPro!A68),\"\",InfoPro!A68)","v":"SC_1518_A1"},{"$f":"IF(ISBLANK(InfoPro!B68),\"\",InfoPro!B68)","v":"CHIRIGUANÁ - 300 MW"},{"$f":"IF(ISBLANK(InfoPro!E68),\"\",InfoPro!E68)","v":300},{"$f":"IF(ISBLANK(InfoPro!F68),\"\",InfoPro!F68)","v":"Solar FV"},{"$f":"IF(ISBLANK(InfoPro!I68),\"\",YEAR(InfoPro!I68)-$G$3)","v":4},{"$f":"IF(B76=\"\",\"\",VLOOKUP(D76,Tablas!$B$2:$E$13,2,FALSE))","v":0.26},{"$f":"IF(B76=\"\",\"\",VLOOKUP(D76,Tablas!$B$2:$G$13,6,FALSE))","v":0},683280,86969.928240000008,5118072.0681706052,4577881.9929969646,4094706.6126985373,3662528.27611676,3275964.4687985331,2930200.7771006557,2620930.9276392269,2344303.1553123682,2096872.2319430842,1875556.5580886265,1677599.7836213119,1500536.4790888301,1342161.4303120123,1200502.1738032312,1073794.4309510118,160323858262.23199,534412.86087410664]
[{"$f":"IF(ISBLANK(InfoPro!A69),\"\",InfoPro!A69)","v":"SC_1518_A2"},{"$f":"IF(ISBLANK(InfoPro!B69),\"\",InfoPro!B69)","v":"CHIRIGUANÁ - 300 MW"},{"$f":"IF(ISBLANK(InfoPro!E69),\"\",InfoPro!E69)","v":300},{"$f":"IF(ISBLANK(InfoPro!F69),\"\",InfoPro!F69)","v":"Solar FV"},{"$f":"IF(ISBLANK(InfoPro!I69),\"\",YEAR(InfoPro!I69)-$G$3)","v":4},{"$f":"IF(B77=\"\",\"\",VLOOKUP(D77,Tablas!$B$2:$E$13,2,FALSE))","v":0.26},{"$f":"IF(B77=\"\",\"\",VLOOKUP(D77,Tablas!$B$2:$G$13,6,FALSE))","v":0},683280,86969.928240000008,5118072.0681706052,4577881.9929969646,4094706.6126985373,3662528.27611676,3275964.4687985331,2930200.7771006557,2620930.9276392269,2344303.1553123682,2096872.2319430842,1875556.5580886265,1677599.7836213119,1500536.4790888301,1342161.4303120123,1200502.1738032312,1073794.4309510118,160323858262.23199,534412.86087410664]
[{"$f":"IF(ISBLANK(InfoPro!A70),\"\",InfoPro!A70)","v":"SC_1531_A1"},{"$f":"IF(ISBLANK(InfoPro!B70),\"\",InfoPro!B70)","v":"Haticos_56MW"},{"$f":"IF(ISBLANK(InfoPro!E70),\"\",InfoPro!E70)","v":56},{"$f":"IF(ISBLANK(InfoPro!F70),\"\",InfoPro!F70)","v":"Solar FV"},{"$f":"IF(ISBLANK(InfoPro!I70),\"\",YEAR(InfoPro!I70)-$G$3)","v":4},{"$f":"IF(B78=\"\",\"\",VLOOKUP(D78,Tablas!$B$2:$E$13,2,FALSE))","v":0.26},{"$f":"IF(B78=\"\",\"\",VLOOKUP(D78,Tablas!$B$2:$G$13,6,FALSE))","v":0},127545.60000000001,16234.386604800002,955373.45272517973,854537.97202609992,764345.23437039356,683671.94487512845,611513.36750905949,546970.8117254558,489240.43982598901,437603.2556583088,391416.14996270911,350103.89084321028,313151.95960931154,280100.1427632483,250536.80032490898,224093.73910993652,200441.62711085554,29927120208.949966,534412.86087410653]
[{"$f":"IF(ISBLANK(InfoPro!A71),\"\",InfoPro!A71)","v":"SC_1531_A2"},{"$f":"IF(ISBLANK(InfoPro!B71),\"\",InfoPro!B71)","v":"Haticos_56MW"},{"$f":"IF(ISBLANK(InfoPro!E71),\"\",InfoPro!E71)","v":56},{"$f":"IF(ISBLANK(InfoPro!F71),\"\",InfoPro!F71)","v":"Solar FV"},{"$f":"IF(ISBLANK(InfoPro!I71),\"\",YEAR(InfoPro!I71)-$G$3)","v":4},{"$f":"IF(B79=\"\",\"\",VLOOKUP(D79,Tablas!$B$2:$E$13,2,FALSE))","v":0.26},{"$f":"IF(B79=\"\",\"\",VLOOKUP(D79,Tablas!$B$2:$G$13,6,FALSE))","v":0},127545.60000000001,16234.386604800002,{"$f":"IF($I79=\"\",\"\",(1/(1+$C$4)^(J$7+$E79))*$I79*$C$5)","v":955373.45272517973},854537.97202609992,764345.23437039356,683671.94487512845,611513.36750905949,546970.8117254558,489240.43982598901,437603.2556583088,391416.14996270911,350103.89084321028,313151.95960931154,280100.1427632483,250536.80032490898,224093.73910993652,200441.62711085554,29927120208.949966,534412.86087410653]
[{"$f":"IF(ISBLANK(InfoPro!A72),\"\",InfoPro!A72)","v":"SC_1532_A1"},{"$f":"IF(ISBLANK(InfoPro!B72),\"\",InfoPro!B72)","v":"Las Mangas_340.8MW"},{"$f":"IF(ISBLANK(InfoPro!E72),\"\",InfoPro!E72)","v":340.8},{"$f":"IF(ISBLANK(InfoPro!F72),\"\",InfoPro!F72)","v":"Solar FV"},{"$f":"IF(ISBLANK(InfoPro!I72),\"\",YEAR(InfoPro!I72)-$G$3)","v":4},{"$f":"IF(B80=\"\",\"\",VLOOKUP(D80,Tablas!$B$2:$E$13,2,FALSE))","v":0.26},{"$f":"IF(B80=\"\",\"\",VLOOKUP(D80,Tablas!$B$2:$G$13,6,FALSE))","v":0},776206.08000000007,98797.838480640014,5814129.8694418082,5200473.9440445518,4651586.7120255381,4160632.1216686391,3721495.6365551334,3328708.0827863449,2977377.5337981619,2663128.3844348504,2382046.8554873439,2130632.2499886798,1905753.3541938104,1704609.440244911,1524695.384834446,1363770.4694404707,1219830.4735603496,182127902985.89551,534412.86087410653]
[{"$f":"IF(ISBLANK(InfoPro!A73),\"\",InfoPro!A73)","v":"SC_1532_A2"},{"$f":"IF(ISBLANK(InfoPro!B73),\"\",InfoPro!B73)","v":"Las Mangas_340.8MW"},{"$f":"IF(ISBLANK(InfoPro!E73),\"\",InfoPro!E73)","v":340.8},{"$f":"IF(ISBLANK(InfoPro!F73),\"\",InfoPro!F73)","v":"Solar FV"},{"$f":"IF(ISBLANK(InfoPro!I73),\"\",YEAR(InfoPro!I73)-$G$3)","v":4},{"$f":"IF(B81=\"\",\"\",VLOOKUP(D81,Tablas!$B$2:$E$13,2,FALSE))","v":0.26},{"$f":"IF(B81=\"\",\"\",VLOOKUP(D81,Tablas!$B$2:$G$13,6,FALSE))","v":0},776206.08000000007,98797.838480640014,5814129.8694418082,5200473.9440445518,4651586.7120255381,4160632.1216686391,3721495.6365551334,3328708.0827863449,2977377.5337981619,2663128.3844348504,2382046.8554873439,2130632.2499886798,1905753.3541938104,1704609.440244911,1524695.384834446,1363770.4694404707,1219830.4735603496,182127902985.89551,534412.86087410653]
[{"$f":"IF(ISBLANK(InfoPro!A74),\"\",InfoPro!A74)","v":"SC_1534_A1"},{"$f":"IF(ISBLANK(InfoPro!B74),\"\",InfoPro!B74)","v":"Parque Eólico Cerrito_378MW"},{"$f":"IF(ISBLANK(InfoPro!E74),\"\",InfoPro!E74)","v":378},{"$f":"IF(ISBLANK(InfoPro!F74),\"\",InfoPro!F74)","v":"Eólico Onshore"},{"$f":"IF(ISBLANK(InfoPro!I74),\"\",YEAR(InfoPro!I74)-$G$3)","v":2},{"$f":"IF(B82=\"\",\"\",VLOOKUP(D82,Tablas!$B$2:$E$13,2,FALSE))","v":0.56999999999999995},{"$f":"IF(B82=\"\",\"\",VLOOKUP(D82,Tablas!$B$2:$G$13,6,FALSE))","v":0},1887429.5999999996,240237.70177679998,17671037.840187877,15805937.245248551,14137689.843692802,12645518.64373238,11310839.57400034,10117030.030411756,9049221.851888869,8094116.1465911185,7239817.6624249713,6475686.6390205491,5792206.2960827807,5180864.3077663509,4634046.7869108692,4144943.458775375,3707462.8432695656,553546126021.91675,1464407.7407987216]
[{"$f":"IF(ISBLANK(InfoPro!A75),\"\",InfoPro!A75)","v":"SC_1534_A2"},{"$f":"IF(ISBLANK(InfoPro!B75),\"\",InfoPro!B75)","v":"Parque Eólico Cerrito_378MW"},{"$f":"IF(ISBLANK(InfoPro!E75),\"\",InfoPro!E75)","v":378},{"$f":"IF(ISBLANK(InfoPro!F75),\"\",InfoPro!F75)","v":"Eólico Onshore"},{"$f":"IF(ISBLANK(InfoPro!I75),\"\",YEAR(InfoPro!I75)-$G$3)","v":2},{"$f":"IF(B83=\"\",\"\",VLOOKUP(D83,Tablas!$B$2:$E$13,2,FALSE))","v":0.56999999999999995},{"$f":"IF(B83=\"\",\"\",VLOOKUP(D83,Tablas!$B$2:$G$13,6,FALSE))","v":0},1887429.5999999996,240237.70177679998,17671037.840187877,15805937.245248551,14137689.843692802,12645518.64373238,11310839.57400034,10117030.030411756,9049221.851888869,8094116.1465911185,7239817.6624249713,6475686.6390205491,5792206.2960827807,5180864.3077663509,4634046.7869108692,4144943.458775375,3707462.8432695656,553546126021.91675,1464407.7407987216]
[{"$f":"IF(ISBLANK(InfoPro!A76),\"\",InfoPro!A76)","v":"SC_1535_A1"},{"$f":"IF(ISBLANK(InfoPro!B76),\"\",InfoPro!B76)","v":"Parque Eólico Cerrito 2"},{"$f":"IF(ISBLANK(InfoPro!E76),\"\",InfoPro!E76)","v":200},{"$f":"IF(ISBLANK(InfoPro!F76),\"\",InfoPro!F76)","v":"Eólico Onshore"},{"$f":"IF(ISBLANK(InfoPro!I76),\"\",YEAR(InfoPro!I76)-$G$3)","v":2},{"$f":"IF(B84=\"\",\"\",VLOOKUP(D84,Tablas!$B$2:$E$13,2,FALSE))","v":0.56999999999999995},{"$f":"IF(B84=\"\",\"\",VLOOKUP(D84,Tablas!$B$2:$G$13,6,FALSE))","v":0},998639.99999999988,127109.89511999999,9349755.4709988777,8362929.7593907677,7480259.176557037,6690750.6051494079,5984571.2031747838,5352925.9420168018,4787948.0697824704,4282601.1357624959,3830591.3557804078,3426289.2269949992,3064659.4159168149,2741198.046437223,2451876.6068311473,2193091.777129828,1961620.5519944793,292881548159.74445,1464407.7407987223]
[{"$f":"IF(ISBLANK(InfoPro!A77),\"\",InfoPro!A77)","v":"SC_1535_A2"},{"$f":"IF(ISBLANK(InfoPro!B77),\"\",InfoPro!B77)","v":"Parque Eólico Cerrito 2"},{"$f":"IF(ISBLANK(InfoPro!E77),\"\",InfoPro!E77)","v":200},{"$f":"IF(ISBLANK(InfoPro!F77),\"\",InfoPro!F77)","v":"Eólico Onshore"},{"$f":"IF(ISBLANK(InfoPro!I77),\"\",YEAR(InfoPro!I77)-$G$3)","v":2},{"$f":"IF(B85=\"\",\"\",VLOOKUP(D85,Tablas!$B$2:$E$13,2,FALSE))","v":0.56999999999999995},{"$f":"IF(B85=\"\",\"\",VLOOKUP(D85,Tablas!$B$2:$G$13,6,FALSE))","v":0},998639.99999999988,127109.89511999999,9349755.4709988777,8362929.7593907677,7480259.176557037,6690750.6051494079,5984571.2031747838,5352925.9420168018,4787948.0697824704,4282601.1357624959,3830591.3557804078,3426289.2269949992,3064659.4159168149,2741198.046437223,2451876.6068311473,2193091.777129828,1961620.5519944793,292881548159.74445,1464407.7407987223]
[{"$f":"IF(ISBLANK(InfoPro!A78),\"\",InfoPro!A78)","v":"SC_1549_A1"},{"$f":"IF(ISBLANK(InfoPro!B78),\"\",InfoPro!B78)","v":"Parque Solar Bonda"},{"$f":"IF(ISBLANK(InfoPro!E78),\"\",InfoPro!E78)","v":9.9},{"$f":"IF(ISBLANK(InfoPro!F78),\"\",InfoPro!F78)","v":"Solar FV"},{"$f":"IF(ISBLANK(InfoPro!I78),\"\",YEAR(InfoPro!I78)-$G$3)","v":2},{"$f":"IF(B86=\"\",\"\",VLOOKUP(D86,Tablas!$B$2:$E$13,2,FALSE))","v":0.26},{"$f":"IF(B86=\"\",\"\",VLOOKUP(D86,Tablas!$B$2:$G$13,6,FALSE))","v":0},22548.240000000005,2870.0076319200007,211107.63668729048,188826.15088308635,168896.37824963001,151070.10576889984,135125.31821905175,120863.4331118531,108106.82747035159,96696.625644321655,86490.72061209449,77362.004125308173,69196.783654121798,61893.366416924677,55360.792859503294,49517.703809931394,44291.327200296415,6612957061.0805454,667975.46071520657]
[{"$f":"IF(ISBLANK(InfoPro!A79),\"\",InfoPro!A79)","v":"SC_1549_A2"},{"$f":"IF(ISBLANK(InfoPro!B79),\"\",InfoPro!B79)","v":"Parque Solar Bonda"},{"$f":"IF(ISBLANK(InfoPro!E79),\"\",InfoPro!E79)","v":9.9},{"$f":"IF(ISBLANK(InfoPro!F79),\"\",InfoPro!F79)","v":"Solar FV"},{"$f":"IF(ISBLANK(InfoPro!I79),\"\",YEAR(InfoPro!I79)-$G$3)","v":2},{"$f":"IF(B87=\"\",\"\",VLOOKUP(D87,Tablas!$B$2:$E$13,2,FALSE))","v":0.26},{"$f":"IF(B87=\"\",\"\",VLOOKUP(D87,Tablas!$B$2:$G$13,6,FALSE))","v":0},22548.240000000005,2870.0076319200007,211107.63668729048,188826.15088308635,168896.37824963001,151070.10576889984,135125.31821905175,120863.4331118531,108106.82747035159,96696.625644321655,86490.72061209449,77362.004125308173,69196.783654121798,61893.366416924677,55360.792859503294,49517.703809931394,44291.327200296415,6612957061.0805454,667975.46071520657]
[{"$f":"IF(ISBLANK(InfoPro!A80),\"\",InfoPro!A80)","v":"SC_1550_A1"},{"$f":"IF(ISBLANK(InfoPro!B80),\"\",InfoPro!B80)","v":"Parque Solar Fonseca"},{"$f":"IF(ISBLANK(InfoPro!E80),\"\",InfoPro!E80)","v":9.9},{"$f":"IF(ISBLANK(InfoPro!F80),\"\",InfoPro!F80)","v":"Solar FV"},{"$f":"IF(ISBLANK(InfoPro!I80),\"\",YEAR(InfoPro!I80)-$G$3)","v":2},{"$f":"IF(B88=\"\",\"\",VLOOKUP(D88,Tablas!$B$2:$E$13,2,FALSE))","v":0.26},{"$f":"IF(B88=\"\",\"\",VLOOKUP(D88,Tablas!$B$2:$G$13,6,FALSE))","v":0},22548.240000000005,2870.0076319200007,211107.63668729048,188826.15088308635,168896.37824963001,151070.10576889984,135125.31821905175,120863.4331118531,108106.82747035159,96696.625644321655,86490.72061209449,77362.004125308173,69196.783654121798,61893.366416924677,55360.792859503294,49517.703809931394,44291.327200296415,6612957061.0805454,667975.46071520657]
[{"$f":"IF(ISBLANK(InfoPro!A81),\"\",InfoPro!A81)","v":"SC_1550_A2"},{"$f":"IF(ISBLANK(InfoPro!B81),\"\",InfoPro!B81)","v":"Parque Solar Fonseca"},{"$f":"IF(ISBLANK(InfoPro!E81),\"\",InfoPro!E81)","v":9.9},{"$f":"IF(ISBLANK(InfoPro!F81),\"\",InfoPro!F81)","v":"Solar FV"},{"$f":"IF(ISBLANK(InfoPro!I81),\"\",YEAR(InfoPro!I81)-$G$3)","v":2},{"$f":"IF(B89=\"\",\"\",VLOOKUP(D89,Tablas!$B$2:$E$13,2,FALSE))","v":0.26},{"$f":"IF(B89=\"\",\"\",VLOOKUP(D89,Tablas!$B$2:$G$13,6,FALSE))","v":0},22548.240000000005,2870.0076319200007,{"$f":"IF($I89=\"\",\"\",(1/(1+$C$4)^(J$7+$E89))*$I89*$C$5)","v":211107.63668729048},188826.15088308635,168896.37824963001,151070.10576889984,135125.31821905175,120863.4331118531,108106.82747035159,96696.625644321655,86490.72061209449,77362.004125308173,69196.783654121798,61893.366416924677,55360.792859503294,49517.703809931394,44291.327200296415,6612957061.0805454,667975.46071520657]
[{"$f":"IF(ISBLANK(InfoPro!A82),\"\",InfoPro!A82)","v":"SC_1556_A1"},{"$f":"IF(ISBLANK(InfoPro!B82),\"\",InfoPro!B82)","v":"Copey Solar I - 100 MW"},{"$f":"IF(ISBLANK(InfoPro!E82),\"\",InfoPro!E82)","v":100},{"$f":"IF(ISBLANK(InfoPro!F82),\"\",InfoPro!F82)","v":"Solar FV"},{"$f":"IF(ISBLANK(InfoPro!I82),\"\",YEAR(InfoPro!I82)-$G$3)","v":3},{"$f":"IF(B90=\"\",\"\",VLOOKUP(D90,Tablas!$B$2:$E$13,2,FALSE))","v":0.26},{"$f":"IF(B90=\"\",\"\",VLOOKUP(D90,Tablas!$B$2:$G$13,6,FALSE))","v":0},227760,28989.97608,1907334.8574049121,1706024.0227235351,1525960.6643323214,1364902.2042328457,1220842.7587055864,1091988.1562661775,976733.59236688516,873643.64254640893,781434.38510412257,698957.41064769472,625185.51936287549,559199.92787377059,500178.82636294333,447387.14343733742,400167.39126774372,59747357845.72509,597473.57845725096]
[{"$f":"IF(ISBLANK(InfoPro!A83),\"\",InfoPro!A83)","v":"SC_1556_A2"},{"$f":"IF(ISBLANK(InfoPro!B83),\"\",InfoPro!B83)","v":"Copey Solar I - 100 MW"},{"$f":"IF(ISBLANK(InfoPro!E83),\"\",InfoPro!E83)","v":100},{"$f":"IF(ISBLANK(InfoPro!F83),\"\",InfoPro!F83)","v":"Solar FV"},{"$f":"IF(ISBLANK(InfoPro!I83),\"\",YEAR(InfoPro!I83)-$G$3)","v":3},{"$f":"IF(B91=\"\",\"\",VLOOKUP(D91,Tablas!$B$2:$E$13,2,FALSE))","v":0.26},{"$f":"IF(B91=\"\",\"\",VLOOKUP(D91,Tablas!$B$2:$G$13,6,FALSE))","v":0},227760,28989.97608,1907334.8574049121,1706024.0227235351,1525960.6643323214,1364902.2042328457,1220842.7587055864,1091988.1562661775,976733.59236688516,873643.64254640893,781434.38510412257,698957.41064769472,625185.51936287549,559199.92787377059,500178.82636294333,447387.14343733742,400167.39126774372,59747357845.72509,597473.57845725096]
[{"$f":"IF(ISBLANK(InfoPro!A84),\"\",InfoPro!A84)","v":"SC_1557_A1"},{"$f":"IF(ISBLANK(InfoPro!B84),\"\",InfoPro!B84)","v":"Copey Solar II"},{"$f":"IF(ISBLANK(InfoPro!E84),\"\",InfoPro!E84)","v":100},{"$f":"IF(ISBLANK(InfoPro!F84),\"\",InfoPro!F84)","v":"Solar FV"},{"$f":"IF(ISBLANK(InfoPro!I84),\"\",YEAR(InfoPro!I84)-$G$3)","v":4},{"$f":"IF(B92=\"\",\"\",VLOOKUP(D92,Tablas!$B$2:$E$13,2,FALSE))","v":0.26},{"$f":"IF(B92=\"\",\"\",VLOOKUP(D92,Tablas!$B$2:$G$13,6,FALSE))","v":0},227760,28989.97608,1706024.0227235351,1525960.6643323214,1364902.2042328457,1220842.7587055864,1091988.1562661775,976733.59236688516,873643.64254640893,781434.38510412257,698957.41064769472,625185.51936287549,559199.92787377059,500178.82636294333,447387.14343733742,400167.39126774372,357931.47698367055,53441286087.410645,534412.86087410641]
[{"$f":"IF(ISBLANK(InfoPro!A85),\"\",InfoPro!A85)","v":"SC_1557_A2"},{"$f":"IF(ISBLANK(InfoPro!B85),\"\",InfoPro!B85)","v":"Copey Solar II"},{"$f":"IF(ISBLANK(InfoPro!E85),\"\",InfoPro!E85)","v":100},{"$f":"IF(ISBLANK(InfoPro!F85),\"\",InfoPro!F85)","v":"Solar FV"},{"$f":"IF(ISBLANK(InfoPro!I85),\"\",YEAR(InfoPro!I85)-$G$3)","v":4},{"$f":"IF(B93=\"\",\"\",VLOOKUP(D93,Tablas!$B$2:$E$13,2,FALSE))","v":0.26},{"$f":"IF(B93=\"\",\"\",VLOOKUP(D93,Tablas!$B$2:$G$13,6,FALSE))","v":0},227760,28989.97608,1706024.0227235351,1525960.6643323214,1364902.2042328457,1220842.7587055864,1091988.1562661775,976733.59236688516,873643.64254640893,781434.38510412257,698957.41064769472,625185.51936287549,559199.92787377059,500178.82636294333,447387.14343733742,400167.39126774372,357931.47698367055,53441286087.410645,534412.86087410641]
[{"$f":"IF(ISBLANK(InfoPro!A86),\"\",InfoPro!A86)","v":"SC_1565_A1"},{"$f":"IF(ISBLANK(InfoPro!B86),\"\",InfoPro!B86)","v":"Eólica Río Córdoba 50 MW"},{"$f":"IF(ISBLANK(InfoPro!E86),\"\",InfoPro!E86)","v":50},{"$f":"IF(ISBLANK(InfoPro!F86),\"\",InfoPro!F86)","v":"Eólico Onshore"},{"$f":"IF(ISBLANK(InfoPro!I86),\"\",YEAR(InfoPro!I86)-$G$3)","v":2},{"$f":"IF(B94=\"\",\"\",VLOOKUP(D94,Tablas!$B$2:$E$13,2,FALSE))","v":0.56999999999999995},{"$f":"IF(B94=\"\",\"\",VLOOKUP(D94,Tablas!$B$2:$G$13,6,FALSE))","v":0},249659.99999999997,31777.473779999997,2337438.8677497194,2090732.4398476919,1870064.7941392593,1672687.651287352,1496142.800793696,1338231.4855042004,1196987.0174456176,1070650.283940624,957647.83894510195,856572.3067487498,766164.85397920373,685299.51160930574,612969.15170778683,548272.944282457,490405.13799861982,73220387039.936111,1464407.7407987223]
[{"$f":"IF(ISBLANK(InfoPro!A87),\"\",InfoPro!A87)","v":"SC_1575_A1"},{"$f":"IF(ISBLANK(InfoPro!B87),\"\",InfoPro!B87)","v":"BONDERO 70 MW"},{"$f":"IF(ISBLANK(InfoPro!E87),\"\",InfoPro!E87)","v":70},{"$f":"IF(ISBLANK(InfoPro!F87),\"\",InfoPro!F87)","v":"Eólico Onshore"},{"$f":"IF(ISBLANK(InfoPro!I87),\"\",YEAR(InfoPro!I87)-$G$3)","v":1},{"$f":"IF(B95=\"\",\"\",VLOOKUP(D95,Tablas!$B$2:$E$13,2,FALSE))","v":0.56999999999999995},{"$f":"IF(B95=\"\",\"\",VLOOKUP(D95,Tablas!$B$2:$G$13,6,FALSE))","v":0},{"$f":"IF(C95=\"\",\"\",+C95*F95*24*365)","v":349523.99999999994},44488.463291999993,3658559.3158018598,3272414.4148496063,2927025.4157867683,2618090.7117949631,2341762.7118022926,2094599.9211111742,1873524.0797058803,1675781.8244238645,1498910.3975168737,1340706.9745231427,1199201.2294482496,1072630.7955708851,959419.316253028,858156.81239090173,767582.12199543975,114604549794.90794,1637207.8542129707]
[{"$f":"IF(ISBLANK(InfoPro!A88),\"\",InfoPro!A88)","v":"SC_1592_A1"},{"$f":"IF(ISBLANK(InfoPro!B88),\"\",InfoPro!B88)","v":"Expansión La Loma II - 100 MW"},{"$f":"IF(ISBLANK(InfoPro!E88),\"\",InfoPro!E88)","v":100},{"$f":"IF(ISBLANK(InfoPro!F88),\"\",InfoPro!F88)","v":"Solar FV"},{"$f":"IF(ISBLANK(InfoPro!I88),\"\",YEAR(InfoPro!I88)-$G$3)","v":5},{"$f":"IF(B96=\"\",\"\",VLOOKUP(D96,Tablas!$B$2:$E$13,2,FALSE))","v":0.26},{"$f":"IF(B96=\"\",\"\",VLOOKUP(D96,Tablas!$B$2:$G$13,6,FALSE))","v":0},227760,28989.97608,1525960.6643323214,1364902.2042328457,1220842.7587055864,1091988.1562661775,976733.59236688516,873643.64254640893,781434.38510412257,698957.41064769472,625185.51936287549,559199.92787377059,500178.82636294333,447387.14343733742,400167.39126774372,357931.47698367055,320153.37833959813,47800792564.768021,478007.92564768018]
[{"$f":"IF(ISBLANK(InfoPro!A89),\"\",InfoPro!A89)","v":"SC_1593_A1"},{"$f":"IF(ISBLANK(InfoPro!B89),\"\",InfoPro!B89)","v":"Parque Solar Camarones 6 MW"},{"$f":"IF(ISBLANK(InfoPro!E89),\"\",InfoPro!E89)","v":6},{"$f":"IF(ISBLANK(InfoPro!F89),\"\",InfoPro!F89)","v":"Solar FV"},{"$f":"IF(ISBLANK(InfoPro!I89),\"\",YEAR(InfoPro!I89)-$G$3)","v":1},{"$f":"IF(B97=\"\",\"\",VLOOKUP(D97,Tablas!$B$2:$E$13,2,FALSE))","v":0.26},{"$f":"IF(B97=\"\",\"\",VLOOKUP(D97,Tablas!$B$2:$G$13,6,FALSE))","v":0},13665.599999999999,1739.3985647999998,143041.41685841858,127944.02223472147,114440.09144429471,102361.4413634121,91557.639859939271,81894.132253970718,73250.565522335179,65519.289375970649,58604.015542013105,52418.618552784523,46886.063106247355,41937.444638861678,37511.131161772522,33551.99567242623,30010.729581776599,4480779390.4776039,746796.56507960067]
[{"$f":"IF(ISBLANK(InfoPro!A90),\"\",InfoPro!A90)","v":"SC_1593_A2"},{"$f":"IF(ISBLANK(InfoPro!B90),\"\",InfoPro!B90)","v":"Parque Solar Camarones 6 MW"},{"$f":"IF(ISBLANK(InfoPro!E90),\"\",InfoPro!E90)","v":6},{"$f":"IF(ISBLANK(InfoPro!F90),\"\",InfoPro!F90)","v":"Solar FV"},{"$f":"IF(ISBLANK(InfoPro!I90),\"\",YEAR(InfoPro!I90)-$G$3)","v":1},{"$f":"IF(B98=\"\",\"\",VLOOKUP(D98,Tablas!$B$2:$E$13,2,FALSE))","v":0.26},{"$f":"IF(B98=\"\",\"\",VLOOKUP(D98,Tablas!$B$2:$G$13,6,FALSE))","v":0},13665.599999999999,1739.3985647999998,143041.41685841858,127944.02223472147,114440.09144429471,102361.4413634121,91557.639859939271,81894.132253970718,73250.565522335179,65519.289375970649,58604.015542013105,52418.618552784523,46886.063106247355,41937.444638861678,37511.131161772522,33551.99567242623,30010.729581776599,4480779390.4776039,746796.56507960067]
[{"$f":"IF(ISBLANK(InfoPro!A91),\"\",InfoPro!A91)","v":"SC_1596_A1"},{"$f":"IF(ISBLANK(InfoPro!B91),\"\",InfoPro!B91)","v":"Expansión La Loma III - 100 MW"},{"$f":"IF(ISBLANK(InfoPro!E91),\"\",InfoPro!E91)","v":100},{"$f":"IF(ISBLANK(InfoPro!F91),\"\",InfoPro!F91)","v":"Solar FV"},{"$f":"IF(ISBLANK(InfoPro!I91),\"\",YEAR(InfoPro!I91)-$G$3)","v":6},{"$f":"IF(B99=\"\",\"\",VLOOKUP(D99,Tablas!$B$2:$E$13,2,FALSE))","v":0.26},{"$f":"IF(B99=\"\",\"\",VLOOKUP(D99,Tablas!$B$2:$G$13,6,FALSE))","v":0},227760,28989.97608,{"$f":"IF($I99=\"\",\"\",(1/(1+$C$4)^(J$7+$E99))*$I99*$C$5)","v":1364902.2042328457},1220842.7587055864,1091988.1562661775,976733.59236688516,873643.64254640893,781434.38510412257,698957.41064769472,625185.51936287549,559199.92787377059,500178.82636294333,447387.14343733742,400167.39126774372,357931.47698367055,320153.37833959813,286362.59243255644,42755628412.135979,427556.28412135981]
[{"$f":"IF(ISBLANK(InfoPro!A92),\"\",InfoPro!A92)","v":"SC_1656_A1"},{"$f":"IF(ISBLANK(InfoPro!B92),\"\",InfoPro!B92)","v":"Parque solar TERRɅ I"},{"$f":"IF(ISBLANK(InfoPro!E92),\"\",InfoPro!E92)","v":19.899999999999999},{"$f":"IF(ISBLANK(InfoPro!F92),\"\",InfoPro!F92)","v":"Solar FV"},{"$f":"IF(ISBLANK(InfoPro!I92),\"\",YEAR(InfoPro!I92)-$G$3)","v":1},{"$f":"IF(B100=\"\",\"\",VLOOKUP(D100,Tablas!$B$2:$E$13,2,FALSE))","v":0.26},{"$f":"IF(B100=\"\",\"\",VLOOKUP(D100,Tablas!$B$2:$G$13,6,FALSE))","v":0},45324.24,5769.0052399200003,474420.69924708846,424347.67374515958,379559.63662357756,339498.78052198351,303666.17220213194,271615.53864233627,242947.70898241174,217305.64309696935,194369.98488101017,173855.08486673539,155505.44263572042,139092.52471889125,124411.91835321223,111280.78564688035,99535.58644622573,14861251645.084061,746796.56507960102]
[{"$f":"IF(ISBLANK(InfoPro!A93),\"\",InfoPro!A93)","v":"SC_1656_A2"},{"$f":"IF(ISBLANK(InfoPro!B93),\"\",InfoPro!B93)","v":"Parque solar TERRɅ I"},{"$f":"IF(ISBLANK(InfoPro!E93),\"\",InfoPro!E93)","v":19.899999999999999},{"$f":"IF(ISBLANK(InfoPro!F93),\"\",InfoPro!F93)","v":"Solar FV"},{"$f":"IF(ISBLANK(InfoPro!I93),\"\",YEAR(InfoPro!I93)-$G$3)","v":1},{"$f":"IF(B101=\"\",\"\",VLOOKUP(D101,Tablas!$B$2:$E$13,2,FALSE))","v":0.26},{"$f":"IF(B101=\"\",\"\",VLOOKUP(D101,Tablas!$B$2:$G$13,6,FALSE))","v":0},45324.24,5769.0052399200003,474420.69924708846,424347.67374515958,379559.63662357756,339498.78052198351,303666.17220213194,271615.53864233627,242947.70898241174,217305.64309696935,194369.98488101017,173855.08486673539,155505.44263572042,139092.52471889125,124411.91835321223,111280.78564688035,99535.58644622573,14861251645.084061,746796.56507960102]
[{"$f":"IF(ISBLANK(InfoPro!A94),\"\",InfoPro!A94)","v":"SC_1698_A1"},{"$f":"IF(ISBLANK(InfoPro!B94),\"\",InfoPro!B94)","v":"Barlovento 2_500MW"},{"$f":"IF(ISBLANK(InfoPro!E94),\"\",InfoPro!E94)","v":500},{"$f":"IF(ISBLANK(InfoPro!F94),\"\",InfoPro!F94)","v":"Eólico Offshore"},{"$f":"IF(ISBLANK(InfoPro!I94),\"\",YEAR(InfoPro!I94)-$G$3)","v":11},{"$f":"IF(B102=\"\",\"\",VLOOKUP(D102,Tablas!$B$2:$E$13,2,FALSE))","v":0.56999999999999995},{"$f":"IF(B102=\"\",\"\",VLOOKUP(D102,Tablas!$B$2:$G$13,6,FALSE))","v":0},2496600,317774.7378,8565723.0674874987,7661648.5397920376,6852995.1160930581,6129691.5170778697,5482729.4428245714,4904051.3799861986,4386450.2504348829,3923479.6515517738,3509373.5702609792,3138974.57089533,2807669.562518185,2511332.3457228849,2246272.2233657287,2009188.0352108488,1797127.0440168593,268321694711.16156,536643.38942232309]
[{"$f":"IF(ISBLANK(InfoPro!A95),\"\",InfoPro!A95)","v":"SC_1699_A1"},{"$f":"IF(ISBLANK(InfoPro!B95),\"\",InfoPro!B95)","v":"PARQUE EOLICO GUAJIRA II de 302.4 MW"},{"$f":"IF(ISBLANK(InfoPro!E95),\"\",InfoPro!E95)","v":302.39999999999998},{"$f":"IF(ISBLANK(InfoPro!F95),\"\",InfoPro!F95)","v":"Eólico Onshore"},{"$f":"IF(ISBLANK(InfoPro!I95),\"\",YEAR(InfoPro!I95)-$G$3)","v":4},{"$f":"IF(B103=\"\",\"\",VLOOKUP(D103,Tablas!$B$2:$E$13,2,FALSE))","v":0.56999999999999995},{"$f":"IF(B103=\"\",\"\",VLOOKUP(D103,Tablas!$B$2:$G$13,6,FALSE))","v":0},1509943.6799999997,192190.16142143996,11310151.874954239,10116414.914985903,9048671.6592002716,8093624.0243294025,7239377.4815110937,6475292.9172728928,5791854.1299399761,5180549.3112164382,4633765.0368662234,4144691.4462130801,3707237.4295286951,3315954.7670203,2965970.2746156524,2652925.1114630164,2372920.4932585121,354291061550.56903,1171597.4257624638]
[{"$f":"IF(ISBLANK(InfoPro!A96),\"\",InfoPro!A96)","v":"SC_1699_A2"},{"$f":"IF(ISBLANK(InfoPro!B96),\"\",InfoPro!B96)","v":"PARQUE EOLICO GUAJIRA II de 302.4 MW"},{"$f":"IF(ISBLANK(InfoPro!E96),\"\",InfoPro!E96)","v":302.39999999999998},{"$f":"IF(ISBLANK(InfoPro!F96),\"\",InfoPro!F96)","v":"Eólico Onshore"},{"$f":"IF(ISBLANK(InfoPro!I96),\"\",YEAR(InfoPro!I96)-$G$3)","v":4},{"$f":"IF(B104=\"\",\"\",VLOOKUP(D104,Tablas!$B$2:$E$13,2,FALSE))","v":0.56999999999999995},{"$f":"IF(B104=\"\",\"\",VLOOKUP(D104,Tablas!$B$2:$G$13,6,FALSE))","v":0},1509943.6799999997,192190.16142143996,11310151.874954239,10116414.914985903,9048671.6592002716,8093624.0243294025,7239377.4815110937,6475292.9172728928,5791854.1299399761,5180549.3112164382,4633765.0368662234,4144691.4462130801,3707237.4295286951,3315954.7670203,2965970.2746156524,2652925.1114630164,2372920.4932585121,354291061550.56903,1171597.4257624638]
[{"$f":"IF(ISBLANK(InfoPro!A97),\"\",InfoPro!A97)","v":"SC_1703_A1"},{"$f":"IF(ISBLANK(InfoPro!B97),\"\",InfoPro!B97)","v":"Barlovento 3 de 500 MW"},{"$f":"IF(ISBLANK(InfoPro!E97),\"\",InfoPro!E97)","v":500},{"$f":"IF(ISBLANK(InfoPro!F97),\"\",InfoPro!F97)","v":"Eólico Offshore"},{"$f":"IF(ISBLANK(InfoPro!I97),\"\",YEAR(InfoPro!I97)-$G$3)","v":11},{"$f":"IF(B105=\"\",\"\",VLOOKUP(D105,Tablas!$B$2:$E$13,2,FALSE))","v":0.56999999999999995},{"$f":"IF(B105=\"\",\"\",VLOOKUP(D105,Tablas!$B$2:$G$13,6,FALSE))","v":0},2496600,{"$f":"IF(H105=\"\",\"\",+H105*($C$3-G105))","v":317774.7378},8565723.0674874987,7661648.5397920376,6852995.1160930581,6129691.5170778697,5482729.4428245714,4904051.3799861986,4386450.2504348829,3923479.6515517738,3509373.5702609792,3138974.57089533,2807669.562518185,2511332.3457228849,2246272.2233657287,2009188.0352108488,1797127.0440168593,268321694711.16156,536643.38942232309]
[{"$f":"IF(ISBLANK(InfoPro!A98),\"\",InfoPro!A98)","v":"SC_1707_A1"},{"$f":"IF(ISBLANK(InfoPro!B98),\"\",InfoPro!B98)","v":"Santa Marta II - 50 MW"},{"$f":"IF(ISBLANK(InfoPro!E98),\"\",InfoPro!E98)","v":50},{"$f":"IF(ISBLANK(InfoPro!F98),\"\",InfoPro!F98)","v":"Solar FV"},{"$f":"IF(ISBLANK(InfoPro!I98),\"\",YEAR(InfoPro!I98)-$G$3)","v":2},{"$f":"IF(B106=\"\",\"\",VLOOKUP(D106,Tablas!$B$2:$E$13,2,FALSE))","v":0.26},{"$f":"IF(B106=\"\",\"\",VLOOKUP(D106,Tablas!$B$2:$G$13,6,FALSE))","v":0},113880,14494.98804,1066200.1852893457,953667.42870245606,853012.01136176754,762980.33216616069,682451.10211642284,610421.37935279321,545994.07813308877,488366.79618344258,436821.82127320446,390717.19255206129,349478.70532384736,312592.75968143775,279599.96393688529,250089.41318147167,223693.57171866871,33398773035.760323,667975.46071520646]
[{"$f":"IF(ISBLANK(InfoPro!A99),\"\",InfoPro!A99)","v":"SC_1710_A1"},{"$f":"IF(ISBLANK(InfoPro!B99),\"\",InfoPro!B99)","v":"Parque Eólico Trupillo_100MW"},{"$f":"IF(ISBLANK(InfoPro!E99),\"\",InfoPro!E99)","v":100},{"$f":"IF(ISBLANK(InfoPro!F99),\"\",InfoPro!F99)","v":"Eólico Onshore"},{"$f":"IF(ISBLANK(InfoPro!I99),\"\",YEAR(InfoPro!I99)-$G$3)","v":5},{"$f":"IF(B107=\"\",\"\",VLOOKUP(D107,Tablas!$B$2:$E$13,2,FALSE))","v":0.56999999999999995},{"$f":"IF(B107=\"\",\"\",VLOOKUP(D107,Tablas!$B$2:$G$13,6,FALSE))","v":0},499319.99999999994,63554.947559999993,3345375.3025747039,2992285.6015873919,2676462.9710084009,2393974.0348912352,2141300.567881248,1915295.6778902039,1713144.6134974996,1532329.7079584075,1370599.0232186115,1225938.3034155737,1096545.888564914,980810.27599723963,877290.05008697649,784695.93031035457,701874.71405219578,104794045238.14528,1047940.4523814528]
[{"$f":"IF(ISBLANK(InfoPro!A100),\"\",InfoPro!A100)","v":"SC_1710_A2"},{"$f":"IF(ISBLANK(InfoPro!B100),\"\",InfoPro!B100)","v":"Parque Eólico Trupillo_100MW"},{"$f":"IF(ISBLANK(InfoPro!E100),\"\",InfoPro!E100)","v":100},{"$f":"IF(ISBLANK(InfoPro!F100),\"\",InfoPro!F100)","v":"Eólico Onshore"},{"$f":"IF(ISBLANK(InfoPro!I100),\"\",YEAR(InfoPro!I100)-$G$3)","v":5},{"$f":"IF(B108=\"\",\"\",VLOOKUP(D108,Tablas!$B$2:$E$13,2,FALSE))","v":0.56999999999999995},{"$f":"IF(B108=\"\",\"\",VLOOKUP(D108,Tablas!$B$2:$G$13,6,FALSE))","v":0},499319.99999999994,63554.947559999993,3345375.3025747039,2992285.6015873919,2676462.9710084009,2393974.0348912352,2141300.567881248,1915295.6778902039,1713144.6134974996,1532329.7079584075,1370599.0232186115,1225938.3034155737,1096545.888564914,980810.27599723963,877290.05008697649,784695.93031035457,701874.71405219578,104794045238.14528,1047940.4523814528]
[{"$f":"IF(ISBLANK(InfoPro!A101),\"\",InfoPro!A101)","v":"SC_1718_A1"},{"$f":"IF(ISBLANK(InfoPro!B101),\"\",InfoPro!B101)","v":"Autogeneración Drummond 50 MW"},{"$f":"IF(ISBLANK(InfoPro!E101),\"\",InfoPro!E101)","v":50},{"$f":"IF(ISBLANK(InfoPro!F101),\"\",InfoPro!F101)","v":"Solar FV"},{"$f":"IF(ISBLANK(InfoPro!I101),\"\",YEAR(InfoPro!I101)-$G$3)","v":0},{"$f":"IF(B109=\"\",\"\",VLOOKUP(D109,Tablas!$B$2:$E$13,2,FALSE))","v":0.26},{"$f":"IF(B109=\"\",\"\",VLOOKUP(D109,Tablas!$B$2:$G$13,6,FALSE))","v":0},{"$f":"IF(C109=\"\",\"\",+C109*F109*24*365)","v":113880},{"$f":"IF(H109=\"\",\"\",+H109*($C$3-G109))","v":14494.98804},1332669.2003976,1192011.8071534885,1066200.1852893457,953667.42870245606,853012.01136176754,762980.33216616069,682451.10211642284,610421.37935279321,545994.07813308877,488366.79618344258,436821.82127320446,390717.19255206129,349478.70532384736,312592.75968143775,279599.96393688529,{"$f":"IF(X109=\"\",\"\",SUM(J109:X109)*$C$6)","v":41745927987.949684},{"$f":"IF(C109=0,0,IF(Y109=\"\",\"\",Y109/(C109*1000)))","v":834918.55975899368}]
[{"$f":"IF(ISBLANK(InfoPro!A102),\"\",InfoPro!A102)","v":"SC_1722_A1"},{"$f":"IF(ISBLANK(InfoPro!B102),\"\",InfoPro!B102)","v":"PARQUE EÓLICO MONSAUI 9,9 MW"},{"$f":"IF(ISBLANK(InfoPro!E102),\"\",InfoPro!E102)","v":9.9},{"$f":"IF(ISBLANK(InfoPro!F102),\"\",InfoPro!F102)","v":"Eólico Onshore"},{"$f":"IF(ISBLANK(InfoPro!I102),\"\",YEAR(InfoPro!I102)-$G$3)","v":4},{"$f":"IF(B110=\"\",\"\",VLOOKUP(D110,Tablas!$B$2:$E$13,2,FALSE))","v":0.56999999999999995},{"$f":"IF(B110=\"\",\"\",VLOOKUP(D110,Tablas!$B$2:$G$13,6,FALSE))","v":0},49432.679999999993,6291.9398084399991,370272.82923957339,331192.15495489567,296236.27455715177,264969.83412983164,237003.42945423228,211988.75622024355,189614.27211113015,169601.31673625243,151700.64108788231,135689.30329864254,121367.89203814181,108558.04296792649,97100.217323726712,86851.714958610668,77684.897100725109,11598814515.048393,1171597.4257624641]
[{"$f":"IF(ISBLANK(InfoPro!A103),\"\",InfoPro!A103)","v":"SC_1722_A2"},{"$f":"IF(ISBLANK(InfoPro!B103),\"\",InfoPro!B103)","v":"PARQUE EÓLICO MONSAUI 9,9 MW"},{"$f":"IF(ISBLANK(InfoPro!E103),\"\",InfoPro!E103)","v":9.9},{"$f":"IF(ISBLANK(InfoPro!F103),\"\",InfoPro!F103)","v":"Eólico Onshore"},{"$f":"IF(ISBLANK(InfoPro!I103),\"\",YEAR(InfoPro!I103)-$G$3)","v":4},{"$f":"IF(B111=\"\",\"\",VLOOKUP(D111,Tablas!$B$2:$E$13,2,FALSE))","v":0.56999999999999995},{"$f":"IF(B111=\"\",\"\",VLOOKUP(D111,Tablas!$B$2:$G$13,6,FALSE))","v":0},{"$f":"IF(C111=\"\",\"\",+C111*F111*24*365)","v":49432.679999999993},{"$f":"IF(H111=\"\",\"\",+H111*($C$3-G111))","v":6291.9398084399991},370272.82923957339,331192.15495489567,296236.27455715177,264969.83412983164,237003.42945423228,211988.75622024355,189614.27211113015,169601.31673625243,151700.64108788231,135689.30329864254,121367.89203814181,108558.04296792649,97100.217323726712,86851.714958610668,77684.897100725109,{"$f":"IF(X111=\"\",\"\",SUM(J111:X111)*$C$6)","v":11598814515.048393},{"$f":"IF(C111=0,0,IF(Y111=\"\",\"\",Y111/(C111*1000)))","v":1171597.4257624641}]
[{"$f":"IF(ISBLANK(InfoPro!A104),\"\",InfoPro!A104)","v":"SC_1728_A1"},{"$f":"IF(ISBLANK(InfoPro!B104),\"\",InfoPro!B104)","v":"PARQUE SOLAR CAÑAHUATE II - 190 MW"},{"$f":"IF(ISBLANK(InfoPro!E104),\"\",InfoPro!E104)","v":190},{"$f":"IF(ISBLANK(InfoPro!F104),\"\",InfoPro!F104)","v":"Solar FV"},{"$f":"IF(ISBLANK(InfoPro!I104),\"\",YEAR(InfoPro!I104)-$G$3)","v":1},{"$f":"IF(B112=\"\",\"\",VLOOKUP(D112,Tablas!$B$2:$E$13,2,FALSE))","v":0.26},{"$f":"IF(B112=\"\",\"\",VLOOKUP(D112,Tablas!$B$2:$G$13,6,FALSE))","v":0},432743.99999999994,55080.954551999996,4529644.867183256,4051560.7040995131,3623936.2290693326,3241445.6431747167,2899325.26223141,2593314.1880424065,2319601.241540614,2074777.4969057373,1855793.8254970817,1659922.9208381767,1484725.3316978328,1328019.0802306198,1187852.4867894631,1062479.862960164,950339.7700895922,141891347365.12418,746796.5650796009]
[{"$f":"IF(ISBLANK(InfoPro!A105),\"\",InfoPro!A105)","v":"SC_1729_A1"},{"$f":"IF(ISBLANK(InfoPro!B105),\"\",InfoPro!B105)","v":"TR Solar 17"},{"$f":"IF(ISBLANK(InfoPro!E105),\"\",InfoPro!E105)","v":200},{"$f":"IF(ISBLANK(InfoPro!F105),\"\",InfoPro!F105)","v":"Solar FV"},{"$f":"IF(ISBLANK(InfoPro!I105),\"\",YEAR(InfoPro!I105)-$G$3)","v":3},{"$f":"IF(B113=\"\",\"\",VLOOKUP(D113,Tablas!$B$2:$E$13,2,FALSE))","v":0.26},{"$f":"IF(B113=\"\",\"\",VLOOKUP(D113,Tablas!$B$2:$G$13,6,FALSE))","v":0},455520,57979.952160000001,3814669.7148098242,3412048.0454470702,3051921.3286646428,2729804.4084656914,2441685.5174111729,2183976.3125323551,1953467.1847337703,1747287.2850928179,1562868.7702082451,1397914.8212953894,1250371.038725751,1118399.8557475412,1000357.6527258867,894774.28687467484,800334.78253548744,119494715691.45018,597473.57845725096]
[{"$f":"IF(ISBLANK(InfoPro!A106),\"\",InfoPro!A106)","v":"SC_1729_A2"},{"$f":"IF(ISBLANK(InfoPro!B106),\"\",InfoPro!B106)","v":"TR Solar 17"},{"$f":"IF(ISBLANK(InfoPro!E106),\"\",InfoPro!E106)","v":200},{"$f":"IF(ISBLANK(InfoPro!F106),\"\",InfoPro!F106)","v":"Solar FV"},{"$f":"IF(ISBLANK(InfoPro!I106),\"\",YEAR(InfoPro!I106)-$G$3)","v":3},{"$f":"IF(B114=\"\",\"\",VLOOKUP(D114,Tablas!$B$2:$E$13,2,FALSE))","v":0.26},{"$f":"IF(B114=\"\",\"\",VLOOKUP(D114,Tablas!$B$2:$G$13,6,FALSE))","v":0},455520,57979.952160000001,3814669.7148098242,3412048.0454470702,3051921.3286646428,2729804.4084656914,2441685.5174111729,2183976.3125323551,1953467.1847337703,1747287.2850928179,1562868.7702082451,1397914.8212953894,1250371.038725751,1118399.8557475412,1000357.6527258867,894774.28687467484,800334.78253548744,119494715691.45018,597473.57845725096]
[{"$f":"IF(ISBLANK(InfoPro!A107),\"\",InfoPro!A107)","v":"SC_1746_A1"},{"$f":"IF(ISBLANK(InfoPro!B107),\"\",InfoPro!B107)","v":"Parque Solar Nuevo Mundo"},{"$f":"IF(ISBLANK(InfoPro!E107),\"\",InfoPro!E107)","v":99.99},{"$f":"IF(ISBLANK(InfoPro!F107),\"\",InfoPro!F107)","v":"Solar FV"},{"$f":"IF(ISBLANK(InfoPro!I107),\"\",YEAR(InfoPro!I107)-$G$3)","v":2},{"$f":"IF(B115=\"\",\"\",VLOOKUP(D115,Tablas!$B$2:$E$13,2,FALSE))","v":0.26},{"$f":"IF(B115=\"\",\"\",VLOOKUP(D115,Tablas!$B$2:$G$13,6,FALSE))","v":0},227737.22399999999,28987.077082391999,{"$f":"IF($I115=\"\",\"\",(1/(1+$C$4)^(J$7+$E115))*$I115*$C$5)","v":2132187.1305416333},1907144.1239191717,1705853.4203212627,1525808.0682658879,1364765.7140124221,1220720.6744297158,1091878.957450551,976635.91900764848,873556.27818215417,781356.24166561232,698887.51490662992,625123.00081093912,559144.00788098318,500128.80848030699,447342.40472299367,66790866316.913521,667975.46071520669]
[{"$f":"IF(ISBLANK(InfoPro!A108),\"\",InfoPro!A108)","v":"SC_1746_A2"},{"$f":"IF(ISBLANK(InfoPro!B108),\"\",InfoPro!B108)","v":"Parque Solar Nuevo Mundo"},{"$f":"IF(ISBLANK(InfoPro!E108),\"\",InfoPro!E108)","v":99.99},{"$f":"IF(ISBLANK(InfoPro!F108),\"\",InfoPro!F108)","v":"Solar FV"},{"$f":"IF(ISBLANK(InfoPro!I108),\"\",YEAR(InfoPro!I108)-$G$3)","v":2},{"$f":"IF(B116=\"\",\"\",VLOOKUP(D116,Tablas!$B$2:$E$13,2,FALSE))","v":0.26},{"$f":"IF(B116=\"\",\"\",VLOOKUP(D116,Tablas!$B$2:$G$13,6,FALSE))","v":0},227737.22399999999,28987.077082391999,2132187.1305416333,1907144.1239191717,1705853.4203212627,1525808.0682658879,1364765.7140124221,1220720.6744297158,1091878.957450551,976635.91900764848,873556.27818215417,781356.24166561232,698887.51490662992,625123.00081093912,559144.00788098318,500128.80848030699,447342.40472299367,66790866316.913521,667975.46071520669]
[{"$f":"IF(ISBLANK(InfoPro!A109),\"\",InfoPro!A109)","v":"SC_1752_A1"},{"$f":"IF(ISBLANK(InfoPro!B109),\"\",InfoPro!B109)","v":"OWF BERGANTIN 300"},{"$f":"IF(ISBLANK(InfoPro!E109),\"\",InfoPro!E109)","v":300},{"$f":"IF(ISBLANK(InfoPro!F109),\"\",InfoPro!F109)","v":"Eólico Offshore"},{"$f":"IF(ISBLANK(InfoPro!I109),\"\",YEAR(InfoPro!I109)-$G$3)","v":9},{"$f":"IF(B117=\"\",\"\",VLOOKUP(D117,Tablas!$B$2:$E$13,2,FALSE))","v":0.56999999999999995},{"$f":"IF(B117=\"\",\"\",VLOOKUP(D117,Tablas!$B$2:$G$13,6,FALSE))","v":0},1497959.9999999998,190664.84267999997,6423901.7036437439,5745887.0336706107,5139433.8404924981,4596989.1238752222,4111797.0696558338,3677814.9102467215,3289637.6656947425,2942430.8279917189,2631870.1502609295,2354087.7909310637,2105624.1421565874,1883384.7425371979,1684601.7375109107,1506799.4074337306,1347763.334019437,201229035564.09229,670763.45188030764]
[{"$f":"IF(ISBLANK(InfoPro!A110),\"\",InfoPro!A110)","v":"SC_1752_A2"},{"$f":"IF(ISBLANK(InfoPro!B110),\"\",InfoPro!B110)","v":"OWF BERGANTIN 300"},{"$f":"IF(ISBLANK(InfoPro!E110),\"\",InfoPro!E110)","v":300},{"$f":"IF(ISBLANK(InfoPro!F110),\"\",InfoPro!F110)","v":"Eólico Offshore"},{"$f":"IF(ISBLANK(InfoPro!I110),\"\",YEAR(InfoPro!I110)-$G$3)","v":9},{"$f":"IF(B118=\"\",\"\",VLOOKUP(D118,Tablas!$B$2:$E$13,2,FALSE))","v":0.56999999999999995},{"$f":"IF(B118=\"\",\"\",VLOOKUP(D118,Tablas!$B$2:$G$13,6,FALSE))","v":0},1497959.9999999998,190664.84267999997,6423901.7036437439,5745887.0336706107,5139433.8404924981,4596989.1238752222,4111797.0696558338,3677814.9102467215,3289637.6656947425,2942430.8279917189,2631870.1502609295,2354087.7909310637,2105624.1421565874,1883384.7425371979,1684601.7375109107,1506799.4074337306,1347763.334019437,201229035564.09229,670763.45188030764]
[{"$f":"IF(ISBLANK(InfoPro!A111),\"\",InfoPro!A111)","v":"SC_1756_A1"},{"$f":"IF(ISBLANK(InfoPro!B111),\"\",InfoPro!B111)","v":"Barlovento 4_500MW"},{"$f":"IF(ISBLANK(InfoPro!E111),\"\",InfoPro!E111)","v":500},{"$f":"IF(ISBLANK(InfoPro!F111),\"\",InfoPro!F111)","v":"Eólico Offshore"},{"$f":"IF(ISBLANK(InfoPro!I111),\"\",YEAR(InfoPro!I111)-$G$3)","v":11},{"$f":"IF(B119=\"\",\"\",VLOOKUP(D119,Tablas!$B$2:$E$13,2,FALSE))","v":0.56999999999999995},{"$f":"IF(B119=\"\",\"\",VLOOKUP(D119,Tablas!$B$2:$G$13,6,FALSE))","v":0},2496600,317774.7378,8565723.0674874987,7661648.5397920376,6852995.1160930581,6129691.5170778697,5482729.4428245714,4904051.3799861986,4386450.2504348829,3923479.6515517738,3509373.5702609792,3138974.57089533,2807669.562518185,2511332.3457228849,2246272.2233657287,2009188.0352108488,1797127.0440168593,268321694711.16156,536643.38942232309]
[{"$f":"IF(ISBLANK(InfoPro!A112),\"\",InfoPro!A112)","v":"SC_1765_A1"},{"$f":"IF(ISBLANK(InfoPro!B112),\"\",InfoPro!B112)","v":"PARQUE SOLAR CIUDAD BLANCA - 199 MW"},{"$f":"IF(ISBLANK(InfoPro!E112),\"\",InfoPro!E112)","v":19.899999999999999},{"$f":"IF(ISBLANK(InfoPro!F112),\"\",InfoPro!F112)","v":"Solar FV"},{"$f":"IF(ISBLANK(InfoPro!I112),\"\",YEAR(InfoPro!I112)-$G$3)","v":3},{"$f":"IF(B120=\"\",\"\",VLOOKUP(D120,Tablas!$B$2:$E$13,2,FALSE))","v":0.26},{"$f":"IF(B120=\"\",\"\",VLOOKUP(D120,Tablas!$B$2:$G$13,6,FALSE))","v":0},45324.24,5769.0052399200003,379559.63662357756,339498.78052198351,303666.17220213194,271615.53864233627,242947.70898241174,217305.64309696935,194369.98488101017,173855.08486673539,155505.44263572042,139092.52471889125,124411.91835321223,111280.78564688035,99535.58644622573,89030.041544030144,79633.310862280996,11889724211.299295,597473.57845725107]
[{"$f":"IF(ISBLANK(InfoPro!A113),\"\",InfoPro!A113)","v":"SC_1765_A2"},{"$f":"IF(ISBLANK(InfoPro!B113),\"\",InfoPro!B113)","v":"PARQUE SOLAR CIUDAD BLANCA - 199 MW"},{"$f":"IF(ISBLANK(InfoPro!E113),\"\",InfoPro!E113)","v":19.899999999999999},{"$f":"IF(ISBLANK(InfoPro!F113),\"\",InfoPro!F113)","v":"Solar FV"},{"$f":"IF(ISBLANK(InfoPro!I113),\"\",YEAR(InfoPro!I113)-$G$3)","v":3},{"$f":"IF(B121=\"\",\"\",VLOOKUP(D121,Tablas!$B$2:$E$13,2,FALSE))","v":0.26},{"$f":"IF(B121=\"\",\"\",VLOOKUP(D121,Tablas!$B$2:$G$13,6,FALSE))","v":0},45324.24,5769.0052399200003,379559.63662357756,339498.78052198351,303666.17220213194,271615.53864233627,242947.70898241174,217305.64309696935,194369.98488101017,173855.08486673539,155505.44263572042,139092.52471889125,124411.91835321223,111280.78564688035,99535.58644622573,89030.041544030144,79633.310862280996,11889724211.299295,597473.57845725107]
[{"$f":"IF(ISBLANK(InfoPro!A114),\"\",InfoPro!A114)","v":"SC_1779_A1"},{"$f":"IF(ISBLANK(InfoPro!B114),\"\",InfoPro!B114)","v":"Pétalo del Cesar III El Paso"},{"$f":"IF(ISBLANK(InfoPro!E114),\"\",InfoPro!E114)","v":9.9},{"$f":"IF(ISBLANK(InfoPro!F114),\"\",InfoPro!F114)","v":"Solar FV"},{"$f":"IF(ISBLANK(InfoPro!I114),\"\",YEAR(InfoPro!I114)-$G$3)","v":3},{"$f":"IF(B122=\"\",\"\",VLOOKUP(D122,Tablas!$B$2:$E$13,2,FALSE))","v":0.26},{"$f":"IF(B122=\"\",\"\",VLOOKUP(D122,Tablas!$B$2:$G$13,6,FALSE))","v":0},22548.240000000005,2870.0076319200007,188826.15088308635,168896.37824963001,151070.10576889984,135125.31821905175,120863.4331118531,108106.82747035159,96696.625644321655,86490.72061209449,77362.004125308173,69196.783654121798,61893.366416924677,55360.792859503294,49517.703809931394,44291.327200296415,39616.571735506637,5914988426.7267857,597473.57845725107]
[{"$f":"IF(ISBLANK(InfoPro!A115),\"\",InfoPro!A115)","v":"SC_1779_A2"},{"$f":"IF(ISBLANK(InfoPro!B115),\"\",InfoPro!B115)","v":"Pétalo del Cesar III El Paso"},{"$f":"IF(ISBLANK(InfoPro!E115),\"\",InfoPro!E115)","v":9.9},{"$f":"IF(ISBLANK(InfoPro!F115),\"\",InfoPro!F115)","v":"Solar FV"},{"$f":"IF(ISBLANK(InfoPro!I115),\"\",YEAR(InfoPro!I115)-$G$3)","v":3},{"$f":"IF(B123=\"\",\"\",VLOOKUP(D123,Tablas!$B$2:$E$13,2,FALSE))","v":0.26},{"$f":"IF(B123=\"\",\"\",VLOOKUP(D123,Tablas!$B$2:$G$13,6,FALSE))","v":0},22548.240000000005,2870.0076319200007,188826.15088308635,168896.37824963001,151070.10576889984,135125.31821905175,120863.4331118531,108106.82747035159,96696.625644321655,86490.72061209449,77362.004125308173,69196.783654121798,61893.366416924677,55360.792859503294,49517.703809931394,44291.327200296415,39616.571735506637,5914988426.7267857,597473.57845725107]
[{"$f":"IF(ISBLANK(InfoPro!A116),\"\",InfoPro!A116)","v":"SC_1783_A1"},{"$f":"IF(ISBLANK(InfoPro!B116),\"\",InfoPro!B116)","v":"Pétalo del Cesar IV La Loma"},{"$f":"IF(ISBLANK(InfoPro!E116),\"\",InfoPro!E116)","v":9.9},{"$f":"IF(ISBLANK(InfoPro!F116),\"\",InfoPro!F116)","v":"Solar FV"},{"$f":"IF(ISBLANK(InfoPro!I116),\"\",YEAR(InfoPro!I116)-$G$3)","v":3},{"$f":"IF(B124=\"\",\"\",VLOOKUP(D124,Tablas!$B$2:$E$13,2,FALSE))","v":0.26},{"$f":"IF(B124=\"\",\"\",VLOOKUP(D124,Tablas!$B$2:$G$13,6,FALSE))","v":0},22548.240000000005,2870.0076319200007,188826.15088308635,168896.37824963001,151070.10576889984,135125.31821905175,120863.4331118531,108106.82747035159,96696.625644321655,86490.72061209449,77362.004125308173,69196.783654121798,61893.366416924677,55360.792859503294,49517.703809931394,44291.327200296415,39616.571735506637,5914988426.7267857,597473.57845725107]
[{"$f":"IF(ISBLANK(InfoPro!A117),\"\",InfoPro!A117)","v":"SC_1783_A2"},{"$f":"IF(ISBLANK(InfoPro!B117),\"\",InfoPro!B117)","v":"Pétalo del Cesar IV La Loma"},{"$f":"IF(ISBLANK(InfoPro!E117),\"\",InfoPro!E117)","v":9.9},{"$f":"IF(ISBLANK(InfoPro!F117),\"\",InfoPro!F117)","v":"Solar FV"},{"$f":"IF(ISBLANK(InfoPro!I117),\"\",YEAR(InfoPro!I117)-$G$3)","v":3},{"$f":"IF(B125=\"\",\"\",VLOOKUP(D125,Tablas!$B$2:$E$13,2,FALSE))","v":0.26},{"$f":"IF(B125=\"\",\"\",VLOOKUP(D125,Tablas!$B$2:$G$13,6,FALSE))","v":0},22548.240000000005,2870.0076319200007,188826.15088308635,168896.37824963001,151070.10576889984,135125.31821905175,120863.4331118531,108106.82747035159,96696.625644321655,86490.72061209449,77362.004125308173,69196.783654121798,61893.366416924677,55360.792859503294,49517.703809931394,44291.327200296415,39616.571735506637,5914988426.7267857,597473.57845725107]
[{"$f":"IF(ISBLANK(InfoPro!A118),\"\",InfoPro!A118)","v":"SC_1788_A1"},{"$f":"IF(ISBLANK(InfoPro!B118),\"\",InfoPro!B118)","v":"DSE COPEY 19.9"},{"$f":"IF(ISBLANK(InfoPro!E118),\"\",InfoPro!E118)","v":19.899999999999999},{"$f":"IF(ISBLANK(InfoPro!F118),\"\",InfoPro!F118)","v":"Solar FV"},{"$f":"IF(ISBLANK(InfoPro!I118),\"\",YEAR(InfoPro!I118)-$G$3)","v":2},{"$f":"IF(B126=\"\",\"\",VLOOKUP(D126,Tablas!$B$2:$E$13,2,FALSE))","v":0.26},{"$f":"IF(B126=\"\",\"\",VLOOKUP(D126,Tablas!$B$2:$G$13,6,FALSE))","v":0},45324.24,5769.0052399200003,424347.67374515958,379559.63662357756,339498.78052198351,303666.17220213194,271615.53864233627,242947.70898241174,217305.64309696935,194369.98488101017,173855.08486673539,155505.44263572042,139092.52471889125,124411.91835321223,111280.78564688035,99535.58644622573,89030.041544030144,13292711668.232615,667975.46071520681]
[{"$f":"IF(ISBLANK(InfoPro!A119),\"\",InfoPro!A119)","v":"SC_1811_A1"},{"$f":"IF(ISBLANK(InfoPro!B119),\"\",InfoPro!B119)","v":"DSE RIOHACHA"},{"$f":"IF(ISBLANK(InfoPro!E119),\"\",InfoPro!E119)","v":9.9},{"$f":"IF(ISBLANK(InfoPro!F119),\"\",InfoPro!F119)","v":"Solar FV"},{"$f":"IF(ISBLANK(InfoPro!I119),\"\",YEAR(InfoPro!I119)-$G$3)","v":2},{"$f":"IF(B127=\"\",\"\",VLOOKUP(D127,Tablas!$B$2:$E$13,2,FALSE))","v":0.26},{"$f":"IF(B127=\"\",\"\",VLOOKUP(D127,Tablas!$B$2:$G$13,6,FALSE))","v":0},22548.240000000005,2870.0076319200007,211107.63668729048,188826.15088308635,168896.37824963001,151070.10576889984,135125.31821905175,120863.4331118531,108106.82747035159,96696.625644321655,86490.72061209449,77362.004125308173,69196.783654121798,61893.366416924677,55360.792859503294,49517.703809931394,44291.327200296415,6612957061.0805454,667975.46071520657]
[{"$f":"IF(ISBLANK(InfoPro!A120),\"\",InfoPro!A120)","v":"SC_1811_A2"},{"$f":"IF(ISBLANK(InfoPro!B120),\"\",InfoPro!B120)","v":"DSE RIOHACHA"},{"$f":"IF(ISBLANK(InfoPro!E120),\"\",InfoPro!E120)","v":9.9},{"$f":"IF(ISBLANK(InfoPro!F120),\"\",InfoPro!F120)","v":"Solar FV"},{"$f":"IF(ISBLANK(InfoPro!I120),\"\",YEAR(InfoPro!I120)-$G$3)","v":2},{"$f":"IF(B128=\"\",\"\",VLOOKUP(D128,Tablas!$B$2:$E$13,2,FALSE))","v":0.26},{"$f":"IF(B128=\"\",\"\",VLOOKUP(D128,Tablas!$B$2:$G$13,6,FALSE))","v":0},22548.240000000005,2870.0076319200007,211107.63668729048,188826.15088308635,168896.37824963001,151070.10576889984,135125.31821905175,120863.4331118531,108106.82747035159,96696.625644321655,86490.72061209449,77362.004125308173,69196.783654121798,61893.366416924677,55360.792859503294,49517.703809931394,44291.327200296415,6612957061.0805454,667975.46071520657]
[{"$f":"IF(ISBLANK(InfoPro!A121),\"\",InfoPro!A121)","v":"SC_1824_A1"},{"$f":"IF(ISBLANK(InfoPro!B121),\"\",InfoPro!B121)","v":"PGF ROSARIO II_45MW"},{"$f":"IF(ISBLANK(InfoPro!E121),\"\",InfoPro!E121)","v":45},{"$f":"IF(ISBLANK(InfoPro!F121),\"\",InfoPro!F121)","v":"Solar FV"},{"$f":"IF(ISBLANK(InfoPro!I121),\"\",YEAR(InfoPro!I121)-$G$3)","v":3},{"$f":"IF(B129=\"\",\"\",VLOOKUP(D129,Tablas!$B$2:$E$13,2,FALSE))","v":0.26},{"$f":"IF(B129=\"\",\"\",VLOOKUP(D129,Tablas!$B$2:$G$13,6,FALSE))","v":0},102492,13045.489236000001,858300.68583221058,767710.81022559083,686682.29894954467,614205.9919047805,549379.24141751393,491394.67031977995,439530.11656509835,393139.63914588408,351645.47329685523,314530.83479146264,281333.48371329397,251639.96754319678,225080.47186332449,201324.21454680184,180075.32607048468,26886311030.576298,597473.57845725107]
[{"$f":"IF(ISBLANK(InfoPro!A122),\"\",InfoPro!A122)","v":"SC_1824_A2"},{"$f":"IF(ISBLANK(InfoPro!B122),\"\",InfoPro!B122)","v":"PGF ROSARIO II_45MW"},{"$f":"IF(ISBLANK(InfoPro!E122),\"\",InfoPro!E122)","v":45},{"$f":"IF(ISBLANK(InfoPro!F122),\"\",InfoPro!F122)","v":"Solar FV"},{"$f":"IF(ISBLANK(InfoPro!I122),\"\",YEAR(InfoPro!I122)-$G$3)","v":3},{"$f":"IF(B130=\"\",\"\",VLOOKUP(D130,Tablas!$B$2:$E$13,2,FALSE))","v":0.26},{"$f":"IF(B130=\"\",\"\",VLOOKUP(D130,Tablas!$B$2:$G$13,6,FALSE))","v":0},102492,13045.489236000001,858300.68583221058,767710.81022559083,686682.29894954467,614205.9919047805,549379.24141751393,491394.67031977995,439530.11656509835,393139.63914588408,351645.47329685523,314530.83479146264,281333.48371329397,251639.96754319678,225080.47186332449,201324.21454680184,180075.32607048468,26886311030.576298,597473.57845725107]
[{"$f":"IF(ISBLANK(InfoPro!A123),\"\",InfoPro!A123)","v":"SC_1827_A1"},{"$f":"IF(ISBLANK(InfoPro!B123),\"\",InfoPro!B123)","v":"Guatapurí Solar I 9,9 MW"},{"$f":"IF(ISBLANK(InfoPro!E123),\"\",InfoPro!E123)","v":9.9},{"$f":"IF(ISBLANK(InfoPro!F123),\"\",InfoPro!F123)","v":"Solar FV"},{"$f":"IF(ISBLANK(InfoPro!I123),\"\",YEAR(InfoPro!I123)-$G$3)","v":2},{"$f":"IF(B131=\"\",\"\",VLOOKUP(D131,Tablas!$B$2:$E$13,2,FALSE))","v":0.26},{"$f":"IF(B131=\"\",\"\",VLOOKUP(D131,Tablas!$B$2:$G$13,6,FALSE))","v":0},22548.240000000005,2870.0076319200007,211107.63668729048,188826.15088308635,168896.37824963001,151070.10576889984,135125.31821905175,120863.4331118531,108106.82747035159,96696.625644321655,86490.72061209449,77362.004125308173,69196.783654121798,61893.366416924677,55360.792859503294,49517.703809931394,44291.327200296415,6612957061.0805454,667975.46071520657]
[{"$f":"IF(ISBLANK(InfoPro!A124),\"\",InfoPro!A124)","v":"SC_1827_A2"},{"$f":"IF(ISBLANK(InfoPro!B124),\"\",InfoPro!B124)","v":"Guatapurí Solar I 9,9 MW"},{"$f":"IF(ISBLANK(InfoPro!E124),\"\",InfoPro!E124)","v":9.9},{"$f":"IF(ISBLANK(InfoPro!F124),\"\",InfoPro!F124)","v":"Solar FV"},{"$f":"IF(ISBLANK(InfoPro!I124),\"\",YEAR(InfoPro!I124)-$G$3)","v":2},{"$f":"IF(B132=\"\",\"\",VLOOKUP(D132,Tablas!$B$2:$E$13,2,FALSE))","v":0.26},{"$f":"IF(B132=\"\",\"\",VLOOKUP(D132,Tablas!$B$2:$G$13,6,FALSE))","v":0},22548.240000000005,2870.0076319200007,{"$f":"IF($I132=\"\",\"\",(1/(1+$C$4)^(J$7+$E132))*$I132*$C$5)","v":211107.63668729048},188826.15088308635,168896.37824963001,151070.10576889984,135125.31821905175,120863.4331118531,108106.82747035159,96696.625644321655,86490.72061209449,77362.004125308173,69196.783654121798,61893.366416924677,55360.792859503294,49517.703809931394,44291.327200296415,6612957061.0805454,667975.46071520657]
[{"$f":"IF(ISBLANK(InfoPro!A125),\"\",InfoPro!A125)","v":"SC_1830_A1"},{"$f":"IF(ISBLANK(InfoPro!B125),\"\",InfoPro!B125)","v":"Guatapurí Solar II 9,9 MW"},{"$f":"IF(ISBLANK(InfoPro!E125),\"\",InfoPro!E125)","v":9.9},{"$f":"IF(ISBLANK(InfoPro!F125),\"\",InfoPro!F125)","v":"Solar FV"},{"$f":"IF(ISBLANK(InfoPro!I125),\"\",YEAR(InfoPro!I125)-$G$3)","v":2},{"$f":"IF(B133=\"\",\"\",VLOOKUP(D133,Tablas!$B$2:$E$13,2,FALSE))","v":0.26},{"$f":"IF(B133=\"\",\"\",VLOOKUP(D133,Tablas!$B$2:$G$13,6,FALSE))","v":0},22548.240000000005,2870.0076319200007,211107.63668729048,188826.15088308635,168896.37824963001,151070.10576889984,135125.31821905175,120863.4331118531,108106.82747035159,96696.625644321655,86490.72061209449,77362.004125308173,69196.783654121798,61893.366416924677,55360.792859503294,49517.703809931394,44291.327200296415,6612957061.0805454,667975.46071520657]
[{"$f":"IF(ISBLANK(InfoPro!A126),\"\",InfoPro!A126)","v":"SC_1830_A2"},{"$f":"IF(ISBLANK(InfoPro!B126),\"\",InfoPro!B126)","v":"Guatapurí Solar II 9,9 MW"},{"$f":"IF(ISBLANK(InfoPro!E126),\"\",InfoPro!E126)","v":9.9},{"$f":"IF(ISBLANK(InfoPro!F126),\"\",InfoPro!F126)","v":"Solar FV"},{"$f":"IF(ISBLANK(InfoPro!I126),\"\",YEAR(InfoPro!I126)-$G$3)","v":2},{"$f":"IF(B134=\"\",\"\",VLOOKUP(D134,Tablas!$B$2:$E$13,2,FALSE))","v":0.26},{"$f":"IF(B134=\"\",\"\",VLOOKUP(D134,Tablas!$B$2:$G$13,6,FALSE))","v":0},22548.240000000005,2870.0076319200007,211107.63668729048,188826.15088308635,168896.37824963001,151070.10576889984,135125.31821905175,120863.4331118531,108106.82747035159,96696.625644321655,86490.72061209449,77362.004125308173,69196.783654121798,61893.366416924677,55360.792859503294,49517.703809931394,44291.327200296415,6612957061.0805454,667975.46071520657]
[{"$f":"IF(ISBLANK(InfoPro!A127),\"\",InfoPro!A127)","v":"SC_1840_A1"},{"$f":"IF(ISBLANK(InfoPro!B127),\"\",InfoPro!B127)","v":"Granja Solar Asturias 9,9 MW"},{"$f":"IF(ISBLANK(InfoPro!E127),\"\",InfoPro!E127)","v":9.9},{"$f":"IF(ISBLANK(InfoPro!F127),\"\",InfoPro!F127)","v":"Solar FV"},{"$f":"IF(ISBLANK(InfoPro!I127),\"\",YEAR(InfoPro!I127)-$G$3)","v":2},{"$f":"IF(B135=\"\",\"\",VLOOKUP(D135,Tablas!$B$2:$E$13,2,FALSE))","v":0.26},{"$f":"IF(B135=\"\",\"\",VLOOKUP(D135,Tablas!$B$2:$G$13,6,FALSE))","v":0},22548.240000000005,2870.0076319200007,211107.63668729048,188826.15088308635,168896.37824963001,151070.10576889984,135125.31821905175,120863.4331118531,108106.82747035159,96696.625644321655,86490.72061209449,77362.004125308173,69196.783654121798,61893.366416924677,55360.792859503294,49517.703809931394,44291.327200296415,6612957061.0805454,667975.46071520657]
[{"$f":"IF(ISBLANK(InfoPro!A128),\"\",InfoPro!A128)","v":"SC_1840_A2"},{"$f":"IF(ISBLANK(InfoPro!B128),\"\",InfoPro!B128)","v":"Granja Solar Asturias 9,9 MW"},{"$f":"IF(ISBLANK(InfoPro!E128),\"\",InfoPro!E128)","v":9.9},{"$f":"IF(ISBLANK(InfoPro!F128),\"\",InfoPro!F128)","v":"Solar FV"},{"$f":"IF(ISBLANK(InfoPro!I128),\"\",YEAR(InfoPro!I128)-$G$3)","v":2},{"$f":"IF(B136=\"\",\"\",VLOOKUP(D136,Tablas!$B$2:$E$13,2,FALSE))","v":0.26},{"$f":"IF(B136=\"\",\"\",VLOOKUP(D136,Tablas!$B$2:$G$13,6,FALSE))","v":0},22548.240000000005,2870.0076319200007,211107.63668729048,188826.15088308635,168896.37824963001,151070.10576889984,135125.31821905175,120863.4331118531,108106.82747035159,96696.625644321655,86490.72061209449,77362.004125308173,69196.783654121798,61893.366416924677,55360.792859503294,49517.703809931394,44291.327200296415,6612957061.0805454,667975.46071520657]
[{"$f":"IF(ISBLANK(InfoPro!A129),\"\",InfoPro!A129)","v":"SC_1846_A1"},{"$f":"IF(ISBLANK(InfoPro!B129),\"\",InfoPro!B129)","v":"PARQUE DE GENERACIÓN SOLAR CYGNUS 50 MW"},{"$f":"IF(ISBLANK(InfoPro!E129),\"\",InfoPro!E129)","v":50},{"$f":"IF(ISBLANK(InfoPro!F129),\"\",InfoPro!F129)","v":"Solar FV"},{"$f":"IF(ISBLANK(InfoPro!I129),\"\",YEAR(InfoPro!I129)-$G$3)","v":2},{"$f":"IF(B137=\"\",\"\",VLOOKUP(D137,Tablas!$B$2:$E$13,2,FALSE))","v":0.26},{"$f":"IF(B137=\"\",\"\",VLOOKUP(D137,Tablas!$B$2:$G$13,6,FALSE))","v":0},113880,14494.98804,1066200.1852893457,953667.42870245606,853012.01136176754,762980.33216616069,682451.10211642284,610421.37935279321,545994.07813308877,488366.79618344258,436821.82127320446,390717.19255206129,349478.70532384736,312592.75968143775,279599.96393688529,250089.41318147167,223693.57171866871,33398773035.760323,667975.46071520646]
[{"$f":"IF(ISBLANK(InfoPro!A130),\"\",InfoPro!A130)","v":"SC_1846_A2"},{"$f":"IF(ISBLANK(InfoPro!B130),\"\",InfoPro!B130)","v":"PARQUE DE GENERACIÓN SOLAR CYGNUS 50 MW"},{"$f":"IF(ISBLANK(InfoPro!E130),\"\",InfoPro!E130)","v":50},{"$f":"IF(ISBLANK(InfoPro!F130),\"\",InfoPro!F130)","v":"Solar FV"},{"$f":"IF(ISBLANK(InfoPro!I130),\"\",YEAR(InfoPro!I130)-$G$3)","v":2},{"$f":"IF(B138=\"\",\"\",VLOOKUP(D138,Tablas!$B$2:$E$13,2,FALSE))","v":0.26},{"$f":"IF(B138=\"\",\"\",VLOOKUP(D138,Tablas!$B$2:$G$13,6,FALSE))","v":0},113880,14494.98804,1066200.1852893457,953667.42870245606,853012.01136176754,762980.33216616069,682451.10211642284,610421.37935279321,545994.07813308877,488366.79618344258,436821.82127320446,390717.19255206129,349478.70532384736,312592.75968143775,279599.96393688529,250089.41318147167,223693.57171866871,33398773035.760323,667975.46071520646]
[{"$f":"IF(ISBLANK(InfoPro!A131),\"\",InfoPro!A131)","v":"SC_1854_A1"},{"$f":"IF(ISBLANK(InfoPro!B131),\"\",InfoPro!B131)","v":"CATAY 1 - 200 MW"},{"$f":"IF(ISBLANK(InfoPro!E131),\"\",InfoPro!E131)","v":200},{"$f":"IF(ISBLANK(InfoPro!F131),\"\",InfoPro!F131)","v":"Solar FV"},{"$f":"IF(ISBLANK(InfoPro!I131),\"\",YEAR(InfoPro!I131)-$G$3)","v":4},{"$f":"IF(B139=\"\",\"\",VLOOKUP(D139,Tablas!$B$2:$E$13,2,FALSE))","v":0.26},{"$f":"IF(B139=\"\",\"\",VLOOKUP(D139,Tablas!$B$2:$G$13,6,FALSE))","v":0},455520,57979.952160000001,3412048.0454470702,3051921.3286646428,2729804.4084656914,2441685.5174111729,2183976.3125323551,1953467.1847337703,1747287.2850928179,1562868.7702082451,1397914.8212953894,1250371.038725751,1118399.8557475412,1000357.6527258867,894774.28687467484,800334.78253548744,715862.95396734111,106882572174.82129,534412.86087410641]
[{"$f":"IF(ISBLANK(InfoPro!A132),\"\",InfoPro!A132)","v":"SC_1854_A2"},{"$f":"IF(ISBLANK(InfoPro!B132),\"\",InfoPro!B132)","v":"CATAY 1 - 200 MW"},{"$f":"IF(ISBLANK(InfoPro!E132),\"\",InfoPro!E132)","v":200},{"$f":"IF(ISBLANK(InfoPro!F132),\"\",InfoPro!F132)","v":"Solar FV"},{"$f":"IF(ISBLANK(InfoPro!I132),\"\",YEAR(InfoPro!I132)-$G$3)","v":4},{"$f":"IF(B140=\"\",\"\",VLOOKUP(D140,Tablas!$B$2:$E$13,2,FALSE))","v":0.26},{"$f":"IF(B140=\"\",\"\",VLOOKUP(D140,Tablas!$B$2:$G$13,6,FALSE))","v":0},455520,57979.952160000001,3412048.0454470702,3051921.3286646428,2729804.4084656914,2441685.5174111729,2183976.3125323551,1953467.1847337703,1747287.2850928179,1562868.7702082451,1397914.8212953894,1250371.038725751,1118399.8557475412,1000357.6527258867,894774.28687467484,800334.78253548744,715862.95396734111,106882572174.82129,534412.86087410641]
[{"$f":"IF(ISBLANK(InfoPro!A133),\"\",InfoPro!A133)","v":"SC_1856_A1"},{"$f":"IF(ISBLANK(InfoPro!B133),\"\",InfoPro!B133)","v":"SIERRA NEVADA DE VERANO"},{"$f":"IF(ISBLANK(InfoPro!E133),\"\",InfoPro!E133)","v":99.9},{"$f":"IF(ISBLANK(InfoPro!F133),\"\",InfoPro!F133)","v":"Solar FV"},{"$f":"IF(ISBLANK(InfoPro!I133),\"\",YEAR(InfoPro!I133)-$G$3)","v":4},{"$f":"IF(B141=\"\",\"\",VLOOKUP(D141,Tablas!$B$2:$E$13,2,FALSE))","v":0.26},{"$f":"IF(B141=\"\",\"\",VLOOKUP(D141,Tablas!$B$2:$G$13,6,FALSE))","v":0},227532.24000000002,28960.986103920004,1704317.9987008118,1524434.7036679892,1363537.3020286129,1219621.9159468811,1090896.1681099115,975756.85877451848,872769.99890386255,780652.9507190187,698258.45323704707,624560.33384351269,558640.72794589691,499678.64753658051,446939.75629390014,399767.223876476,357573.54550668696,53387844801.323257,534412.86087410664]
[{"$f":"IF(ISBLANK(InfoPro!A134),\"\",InfoPro!A134)","v":"SC_1856_A2"},{"$f":"IF(ISBLANK(InfoPro!B134),\"\",InfoPro!B134)","v":"SIERRA NEVADA DE VERANO"},{"$f":"IF(ISBLANK(InfoPro!E134),\"\",InfoPro!E134)","v":99.9},{"$f":"IF(ISBLANK(InfoPro!F134),\"\",InfoPro!F134)","v":"Solar FV"},{"$f":"IF(ISBLANK(InfoPro!I134),\"\",YEAR(InfoPro!I134)-$G$3)","v":4},{"$f":"IF(B142=\"\",\"\",VLOOKUP(D142,Tablas!$B$2:$E$13,2,FALSE))","v":0.26},{"$f":"IF(B142=\"\",\"\",VLOOKUP(D142,Tablas!$B$2:$G$13,6,FALSE))","v":0},227532.24000000002,28960.986103920004,1704317.9987008118,1524434.7036679892,1363537.3020286129,1219621.9159468811,1090896.1681099115,975756.85877451848,872769.99890386255,780652.9507190187,698258.45323704707,624560.33384351269,558640.72794589691,499678.64753658051,446939.75629390014,399767.223876476,357573.54550668696,53387844801.323257,534412.86087410664]
[{"$f":"IF(ISBLANK(InfoPro!A135),\"\",InfoPro!A135)","v":"SC_1857_A1"},{"$f":"IF(ISBLANK(InfoPro!B135),\"\",InfoPro!B135)","v":"MILAGROS DE VERANO"},{"$f":"IF(ISBLANK(InfoPro!E135),\"\",InfoPro!E135)","v":99.9},{"$f":"IF(ISBLANK(InfoPro!F135),\"\",InfoPro!F135)","v":"Solar FV"},{"$f":"IF(ISBLANK(InfoPro!I135),\"\",YEAR(InfoPro!I135)-$G$3)","v":5},{"$f":"IF(B143=\"\",\"\",VLOOKUP(D143,Tablas!$B$2:$E$13,2,FALSE))","v":0.26},{"$f":"IF(B143=\"\",\"\",VLOOKUP(D143,Tablas!$B$2:$G$13,6,FALSE))","v":0},227532.24000000002,28960.986103920004,1524434.7036679892,1363537.3020286129,1219621.9159468811,1090896.1681099115,975756.85877451848,872769.99890386255,780652.9507190187,698258.45323704707,624560.33384351269,558640.72794589691,499678.64753658051,446939.75629390014,399767.223876476,357573.54550668696,319833.22496125853,47752991772.203278,478007.92564768047]
[{"$f":"IF(ISBLANK(InfoPro!A136),\"\",InfoPro!A136)","v":"SC_1857_A2"},{"$f":"IF(ISBLANK(InfoPro!B136),\"\",InfoPro!B136)","v":"MILAGROS DE VERANO"},{"$f":"IF(ISBLANK(InfoPro!E136),\"\",InfoPro!E136)","v":99.9},{"$f":"IF(ISBLANK(InfoPro!F136),\"\",InfoPro!F136)","v":"Solar FV"},{"$f":"IF(ISBLANK(InfoPro!I136),\"\",YEAR(InfoPro!I136)-$G$3)","v":5},{"$f":"IF(B144=\"\",\"\",VLOOKUP(D144,Tablas!$B$2:$E$13,2,FALSE))","v":0.26},{"$f":"IF(B144=\"\",\"\",VLOOKUP(D144,Tablas!$B$2:$G$13,6,FALSE))","v":0},227532.24000000002,28960.986103920004,1524434.7036679892,1363537.3020286129,1219621.9159468811,1090896.1681099115,975756.85877451848,872769.99890386255,780652.9507190187,698258.45323704707,624560.33384351269,558640.72794589691,499678.64753658051,446939.75629390014,399767.223876476,357573.54550668696,319833.22496125853,47752991772.203278,478007.92564768047]
[{"$f":"IF(ISBLANK(InfoPro!A137),\"\",InfoPro!A137)","v":"SC_1861_A1"},{"$f":"IF(ISBLANK(InfoPro!B137),\"\",InfoPro!B137)","v":"Autogenerador CELSIA Solar Cenit Copey"},{"$f":"IF(ISBLANK(InfoPro!E137),\"\",InfoPro!E137)","v":6.6},{"$f":"IF(ISBLANK(InfoPro!F137),\"\",InfoPro!F137)","v":"Solar FV"},{"$f":"IF(ISBLANK(InfoPro!I137),\"\",YEAR(InfoPro!I137)-$G$3)","v":0},{"$f":"IF(B145=\"\",\"\",VLOOKUP(D145,Tablas!$B$2:$E$13,2,FALSE))","v":0.26},{"$f":"IF(B145=\"\",\"\",VLOOKUP(D145,Tablas!$B$2:$G$13,6,FALSE))","v":0},15032.16,1913.3384212800001,175912.33445248322,157345.55854426048,140738.42445819362,125884.10058872421,112597.58549975333,100713.40384593321,90083.545479367807,80575.622074568702,72071.218313567719,64464.417096214434,57660.480408062984,51574.669416872093,46131.189102747849,41262.244277949787,36907.195239668858,5510462494.4093599,834918.55975899391]
[{"$f":"IF(ISBLANK(InfoPro!A138),\"\",InfoPro!A138)","v":"SC_1876_A1"},{"$f":"IF(ISBLANK(InfoPro!B138),\"\",InfoPro!B138)","v":"Nevada II 250 MW"},{"$f":"IF(ISBLANK(InfoPro!E138),\"\",InfoPro!E138)","v":250},{"$f":"IF(ISBLANK(InfoPro!F138),\"\",InfoPro!F138)","v":"Eólico Onshore"},{"$f":"IF(ISBLANK(InfoPro!I138),\"\",YEAR(InfoPro!I138)-$G$3)","v":7},{"$f":"IF(B146=\"\",\"\",VLOOKUP(D146,Tablas!$B$2:$E$13,2,FALSE))","v":0.56999999999999995},{"$f":"IF(B146=\"\",\"\",VLOOKUP(D146,Tablas!$B$2:$G$13,6,FALSE))","v":0},1248300,158887.3689,6691157.4275210025,5984935.0872280886,5353251.4197031204,4788239.1947255107,4282861.5337437494,3830824.2698960188,3426497.5580465291,3064845.7585389349,2741364.7214122857,2452025.6899930993,2193225.1252174415,1961739.8257758869,1754686.7851304896,1569487.285447665,1403834.7812590925,209600834207.01035,838403.33682804136]
[{"$f":"IF(ISBLANK(InfoPro!A139),\"\",InfoPro!A139)","v":"SC_1876_A2"},{"$f":"IF(ISBLANK(InfoPro!B139),\"\",InfoPro!B139)","v":"Nevada II 250 MW"},{"$f":"IF(ISBLANK(InfoPro!E139),\"\",InfoPro!E139)","v":250},{"$f":"IF(ISBLANK(InfoPro!F139),\"\",InfoPro!F139)","v":"Eólico Onshore"},{"$f":"IF(ISBLANK(InfoPro!I139),\"\",YEAR(InfoPro!I139)-$G$3)","v":7},{"$f":"IF(B147=\"\",\"\",VLOOKUP(D147,Tablas!$B$2:$E$13,2,FALSE))","v":0.56999999999999995},{"$f":"IF(B147=\"\",\"\",VLOOKUP(D147,Tablas!$B$2:$G$13,6,FALSE))","v":0},1248300,158887.3689,6691157.4275210025,5984935.0872280886,5353251.4197031204,4788239.1947255107,4282861.5337437494,3830824.2698960188,3426497.5580465291,3064845.7585389349,2741364.7214122857,2452025.6899930993,2193225.1252174415,1961739.8257758869,1754686.7851304896,1569487.285447665,1403834.7812590925,209600834207.01035,838403.33682804136]
[{"$f":"IF(ISBLANK(InfoPro!A140),\"\",InfoPro!A140)","v":"SC_1877_A1"},{"$f":"IF(ISBLANK(InfoPro!B140),\"\",InfoPro!B140)","v":"Planta Solar FV Corozal 9,9MW"},{"$f":"IF(ISBLANK(InfoPro!E140),\"\",InfoPro!E140)","v":9.9},{"$f":"IF(ISBLANK(InfoPro!F140),\"\",InfoPro!F140)","v":"Solar FV"},{"$f":"IF(ISBLANK(InfoPro!I140),\"\",YEAR(InfoPro!I140)-$G$3)","v":3},{"$f":"IF(B148=\"\",\"\",VLOOKUP(D148,Tablas!$B$2:$E$13,2,FALSE))","v":0.26},{"$f":"IF(B148=\"\",\"\",VLOOKUP(D148,Tablas!$B$2:$G$13,6,FALSE))","v":0},22548.240000000005,2870.0076319200007,188826.15088308635,168896.37824963001,151070.10576889984,135125.31821905175,120863.4331118531,108106.82747035159,96696.625644321655,86490.72061209449,77362.004125308173,69196.783654121798,61893.366416924677,55360.792859503294,49517.703809931394,44291.327200296415,39616.571735506637,5914988426.7267857,597473.57845725107]
[{"$f":"IF(ISBLANK(InfoPro!A141),\"\",InfoPro!A141)","v":"SC_1877_A2"},{"$f":"IF(ISBLANK(InfoPro!B141),\"\",InfoPro!B141)","v":"Planta Solar FV Corozal 9,9MW"},{"$f":"IF(ISBLANK(InfoPro!E141),\"\",InfoPro!E141)","v":9.9},{"$f":"IF(ISBLANK(InfoPro!F141),\"\",InfoPro!F141)","v":"Solar FV"},{"$f":"IF(ISBLANK(InfoPro!I141),\"\",YEAR(InfoPro!I141)-$G$3)","v":3},{"$f":"IF(B149=\"\",\"\",VLOOKUP(D149,Tablas!$B$2:$E$13,2,FALSE))","v":0.26},{"$f":"IF(B149=\"\",\"\",VLOOKUP(D149,Tablas!$B$2:$G$13,6,FALSE))","v":0},22548.240000000005,2870.0076319200007,{"$f":"IF($I149=\"\",\"\",(1/(1+$C$4)^(J$7+$E149))*$I149*$C$5)","v":188826.15088308635},168896.37824963001,151070.10576889984,135125.31821905175,120863.4331118531,108106.82747035159,96696.625644321655,86490.72061209449,77362.004125308173,69196.783654121798,61893.366416924677,55360.792859503294,49517.703809931394,44291.327200296415,39616.571735506637,5914988426.7267857,597473.57845725107]
[{"$f":"IF(ISBLANK(InfoPro!A142),\"\",InfoPro!A142)","v":"SC_1889_A1"},{"$f":"IF(ISBLANK(InfoPro!B142),\"\",InfoPro!B142)","v":"La Granja"},{"$f":"IF(ISBLANK(InfoPro!E142),\"\",InfoPro!E142)","v":19.899999999999999},{"$f":"IF(ISBLANK(InfoPro!F142),\"\",InfoPro!F142)","v":"Solar FV"},{"$f":"IF(ISBLANK(InfoPro!I142),\"\",YEAR(InfoPro!I142)-$G$3)","v":2},{"$f":"IF(B150=\"\",\"\",VLOOKUP(D150,Tablas!$B$2:$E$13,2,FALSE))","v":0.26},{"$f":"IF(B150=\"\",\"\",VLOOKUP(D150,Tablas!$B$2:$G$13,6,FALSE))","v":0},45324.24,5769.0052399200003,424347.67374515958,379559.63662357756,339498.78052198351,303666.17220213194,271615.53864233627,242947.70898241174,217305.64309696935,194369.98488101017,173855.08486673539,155505.44263572042,139092.52471889125,124411.91835321223,111280.78564688035,99535.58644622573,89030.041544030144,13292711668.232615,667975.46071520681]
[{"$f":"IF(ISBLANK(InfoPro!A143),\"\",InfoPro!A143)","v":"SC_1889_A2"},{"$f":"IF(ISBLANK(InfoPro!B143),\"\",InfoPro!B143)","v":"La Granja"},{"$f":"IF(ISBLANK(InfoPro!E143),\"\",InfoPro!E143)","v":19.899999999999999},{"$f":"IF(ISBLANK(InfoPro!F143),\"\",InfoPro!F143)","v":"Solar FV"},{"$f":"IF(ISBLANK(InfoPro!I143),\"\",YEAR(InfoPro!I143)-$G$3)","v":2},{"$f":"IF(B151=\"\",\"\",VLOOKUP(D151,Tablas!$B$2:$E$13,2,FALSE))","v":0.26},{"$f":"IF(B151=\"\",\"\",VLOOKUP(D151,Tablas!$B$2:$G$13,6,FALSE))","v":0},45324.24,5769.0052399200003,424347.67374515958,379559.63662357756,339498.78052198351,303666.17220213194,271615.53864233627,242947.70898241174,217305.64309696935,194369.98488101017,173855.08486673539,155505.44263572042,139092.52471889125,124411.91835321223,111280.78564688035,99535.58644622573,89030.041544030144,13292711668.232615,667975.46071520681]
[{"$f":"IF(ISBLANK(InfoPro!A144),\"\",InfoPro!A144)","v":"SC_1898_A1"},{"$f":"IF(ISBLANK(InfoPro!B144),\"\",InfoPro!B144)","v":"Parque Eólico Fenix_70MW"},{"$f":"IF(ISBLANK(InfoPro!E144),\"\",InfoPro!E144)","v":70},{"$f":"IF(ISBLANK(InfoPro!F144),\"\",InfoPro!F144)","v":"Eólico Onshore"},{"$f":"IF(ISBLANK(InfoPro!I144),\"\",YEAR(InfoPro!I144)-$G$3)","v":5},{"$f":"IF(B152=\"\",\"\",VLOOKUP(D152,Tablas!$B$2:$E$13,2,FALSE))","v":0.56999999999999995},{"$f":"IF(B152=\"\",\"\",VLOOKUP(D152,Tablas!$B$2:$G$13,6,FALSE))","v":0},{"$f":"IF(C152=\"\",\"\",+C152*F152*24*365)","v":349523.99999999994},{"$f":"IF(H152=\"\",\"\",+H152*($C$3-G152))","v":44488.463291999993},2341762.7118022926,2094599.9211111742,1873524.0797058803,1675781.8244238645,1498910.3975168737,1340706.9745231427,1199201.2294482496,1072630.7955708851,959419.316253028,858156.81239090173,767582.12199543975,686567.19319806772,614103.0350608835,549287.15121724817,491312.29983653704,{"$f":"IF(X152=\"\",\"\",SUM(J152:X152)*$C$6)","v":73355831666.701691},{"$f":"IF(C152=0,0,IF(Y152=\"\",\"\",Y152/(C152*1000)))","v":1047940.4523814528}]
[{"$f":"IF(ISBLANK(InfoPro!A145),\"\",InfoPro!A145)","v":"SC_1898_A2"},{"$f":"IF(ISBLANK(InfoPro!B145),\"\",InfoPro!B145)","v":"Parque Eólico Fenix_70MW"},{"$f":"IF(ISBLANK(InfoPro!E145),\"\",InfoPro!E145)","v":70},{"$f":"IF(ISBLANK(InfoPro!F145),\"\",InfoPro!F145)","v":"Eólico Onshore"},{"$f":"IF(ISBLANK(InfoPro!I145),\"\",YEAR(InfoPro!I145)-$G$3)","v":5},{"$f":"IF(B153=\"\",\"\",VLOOKUP(D153,Tablas!$B$2:$E$13,2,FALSE))","v":0.56999999999999995},{"$f":"IF(B153=\"\",\"\",VLOOKUP(D153,Tablas!$B$2:$G$13,6,FALSE))","v":0},349523.99999999994,44488.463291999993,2341762.7118022926,2094599.9211111742,1873524.0797058803,1675781.8244238645,1498910.3975168737,1340706.9745231427,1199201.2294482496,1072630.7955708851,959419.316253028,858156.81239090173,767582.12199543975,686567.19319806772,614103.0350608835,549287.15121724817,491312.29983653704,73355831666.701691,1047940.4523814528]
[{"$f":"IF(ISBLANK(InfoPro!A146),\"\",InfoPro!A146)","v":"SC_1904_A1"},{"$f":"IF(ISBLANK(InfoPro!B146),\"\",InfoPro!B146)","v":"Parque Solar Fotovoltaico Potreritos"},{"$f":"IF(ISBLANK(InfoPro!E146),\"\",InfoPro!E146)","v":168},{"$f":"IF(ISBLANK(InfoPro!F146),\"\",InfoPro!F146)","v":"Solar FV"},{"$f":"IF(ISBLANK(InfoPro!I146),\"\",YEAR(InfoPro!I146)-$G$3)","v":1},{"$f":"IF(B154=\"\",\"\",VLOOKUP(D154,Tablas!$B$2:$E$13,2,FALSE))","v":0.26},{"$f":"IF(B154=\"\",\"\",VLOOKUP(D154,Tablas!$B$2:$G$13,6,FALSE))","v":0},382636.79999999999,48703.159814400002,4005159.6720357216,3582432.6225722018,3204322.5604402525,2866120.3581755389,2563613.9160782997,2293035.7031111806,2051015.8346253855,1834540.1025271784,1640912.4351763672,1467721.319477967,1312809.766974926,1174248.4498881272,1050311.6725296308,939455.8788279345,840300.42828974477,125461822933.37296,746796.5650796009]
[{"$f":"IF(ISBLANK(InfoPro!A147),\"\",InfoPro!A147)","v":"SC_1904_A2"},{"$f":"IF(ISBLANK(InfoPro!B147),\"\",InfoPro!B147)","v":"Parque Solar Fotovoltaico Potreritos"},{"$f":"IF(ISBLANK(InfoPro!E147),\"\",InfoPro!E147)","v":168},{"$f":"IF(ISBLANK(InfoPro!F147),\"\",InfoPro!F147)","v":"Solar FV"},{"$f":"IF(ISBLANK(InfoPro!I147),\"\",YEAR(InfoPro!I147)-$G$3)","v":1},{"$f":"IF(B155=\"\",\"\",VLOOKUP(D155,Tablas!$B$2:$E$13,2,FALSE))","v":0.26},{"$f":"IF(B155=\"\",\"\",VLOOKUP(D155,Tablas!$B$2:$G$13,6,FALSE))","v":0},382636.79999999999,48703.159814400002,4005159.6720357216,3582432.6225722018,3204322.5604402525,2866120.3581755389,2563613.9160782997,2293035.7031111806,2051015.8346253855,1834540.1025271784,1640912.4351763672,1467721.319477967,1312809.766974926,1174248.4498881272,1050311.6725296308,939455.8788279345,840300.42828974477,125461822933.37296,746796.5650796009]
[{"$f":"IF(ISBLANK(InfoPro!A148),\"\",InfoPro!A148)","v":"SC_1905_A1"},{"$f":"IF(ISBLANK(InfoPro!B148),\"\",InfoPro!B148)","v":"Parque Solar Valle del Cesar"},{"$f":"IF(ISBLANK(InfoPro!E148),\"\",InfoPro!E148)","v":50},{"$f":"IF(ISBLANK(InfoPro!F148),\"\",InfoPro!F148)","v":"Solar FV"},{"$f":"IF(ISBLANK(InfoPro!I148),\"\",YEAR(InfoPro!I148)-$G$3)","v":3},{"$f":"IF(B156=\"\",\"\",VLOOKUP(D156,Tablas!$B$2:$E$13,2,FALSE))","v":0.26},{"$f":"IF(B156=\"\",\"\",VLOOKUP(D156,Tablas!$B$2:$G$13,6,FALSE))","v":0},113880,14494.98804,953667.42870245606,853012.01136176754,762980.33216616069,682451.10211642284,610421.37935279321,545994.07813308877,488366.79618344258,436821.82127320446,390717.19255206129,349478.70532384736,312592.75968143775,279599.96393688529,250089.41318147167,223693.57171866871,200083.69563387186,29873678922.862545,597473.57845725096]
[{"$f":"IF(ISBLANK(InfoPro!A149),\"\",InfoPro!A149)","v":"SC_1905_A2"},{"$f":"IF(ISBLANK(InfoPro!B149),\"\",InfoPro!B149)","v":"Parque Solar Valle del Cesar"},{"$f":"IF(ISBLANK(InfoPro!E149),\"\",InfoPro!E149)","v":50},{"$f":"IF(ISBLANK(InfoPro!F149),\"\",InfoPro!F149)","v":"Solar FV"},{"$f":"IF(ISBLANK(InfoPro!I149),\"\",YEAR(InfoPro!I149)-$G$3)","v":3},{"$f":"IF(B157=\"\",\"\",VLOOKUP(D157,Tablas!$B$2:$E$13,2,FALSE))","v":0.26},{"$f":"IF(B157=\"\",\"\",VLOOKUP(D157,Tablas!$B$2:$G$13,6,FALSE))","v":0},113880,14494.98804,953667.42870245606,853012.01136176754,762980.33216616069,682451.10211642284,610421.37935279321,545994.07813308877,488366.79618344258,436821.82127320446,390717.19255206129,349478.70532384736,312592.75968143775,279599.96393688529,250089.41318147167,223693.57171866871,200083.69563387186,29873678922.862545,597473.57845725096]
[{"$f":"IF(ISBLANK(InfoPro!A150),\"\",InfoPro!A150)","v":"SC_1908_A1"},{"$f":"IF(ISBLANK(InfoPro!B150),\"\",InfoPro!B150)","v":"Corocoro 500 MW"},{"$f":"IF(ISBLANK(InfoPro!E150),\"\",InfoPro!E150)","v":500},{"$f":"IF(ISBLANK(InfoPro!F150),\"\",InfoPro!F150)","v":"Solar FV"},{"$f":"IF(ISBLANK(InfoPro!I150),\"\",YEAR(InfoPro!I150)-$G$3)","v":3},{"$f":"IF(B158=\"\",\"\",VLOOKUP(D158,Tablas!$B$2:$E$13,2,FALSE))","v":0.26},{"$f":"IF(B158=\"\",\"\",VLOOKUP(D158,Tablas!$B$2:$G$13,6,FALSE))","v":0},1138800,144949.88039999999,9536674.2870245595,8530120.1136176754,7629803.3216616055,6824511.0211642273,6104213.7935279319,5459940.7813308872,4883667.961834426,4368218.212732044,3907171.9255206129,3494787.0532384734,3125927.5968143772,2795999.6393688526,2500894.1318147164,2236935.717186687,2000836.9563387183,298736789228.62549,597473.57845725096]
[{"$f":"IF(ISBLANK(InfoPro!A151),\"\",InfoPro!A151)","v":"SC_1908_A2"},{"$f":"IF(ISBLANK(InfoPro!B151),\"\",InfoPro!B151)","v":"Corocoro 500 MW"},{"$f":"IF(ISBLANK(InfoPro!E151),\"\",InfoPro!E151)","v":500},{"$f":"IF(ISBLANK(InfoPro!F151),\"\",InfoPro!F151)","v":"Solar FV"},{"$f":"IF(ISBLANK(InfoPro!I151),\"\",YEAR(InfoPro!I151)-$G$3)","v":3},{"$f":"IF(B159=\"\",\"\",VLOOKUP(D159,Tablas!$B$2:$E$13,2,FALSE))","v":0.26},{"$f":"IF(B159=\"\",\"\",VLOOKUP(D159,Tablas!$B$2:$G$13,6,FALSE))","v":0},1138800,144949.88039999999,9536674.2870245595,8530120.1136176754,7629803.3216616055,6824511.0211642273,6104213.7935279319,5459940.7813308872,4883667.961834426,4368218.212732044,3907171.9255206129,3494787.0532384734,3125927.5968143772,2795999.6393688526,2500894.1318147164,2236935.717186687,2000836.9563387183,298736789228.62549,597473.57845725096]
[{"$f":"IF(ISBLANK(InfoPro!A152),\"\",InfoPro!A152)","v":"SC_1912_A1"},{"$f":"IF(ISBLANK(InfoPro!B152),\"\",InfoPro!B152)","v":"Draco de 22.5 MW (entrega 19,9 MW)"},{"$f":"IF(ISBLANK(InfoPro!E152),\"\",InfoPro!E152)","v":19.899999999999999},{"$f":"IF(ISBLANK(InfoPro!F152),\"\",InfoPro!F152)","v":"Solar FV"},{"$f":"IF(ISBLANK(InfoPro!I152),\"\",YEAR(InfoPro!I152)-$G$3)","v":2},{"$f":"IF(B160=\"\",\"\",VLOOKUP(D160,Tablas!$B$2:$E$13,2,FALSE))","v":0.26},{"$f":"IF(B160=\"\",\"\",VLOOKUP(D160,Tablas!$B$2:$G$13,6,FALSE))","v":0},45324.24,5769.0052399200003,424347.67374515958,379559.63662357756,339498.78052198351,303666.17220213194,271615.53864233627,242947.70898241174,217305.64309696935,194369.98488101017,173855.08486673539,155505.44263572042,139092.52471889125,124411.91835321223,111280.78564688035,99535.58644622573,89030.041544030144,13292711668.232615,667975.46071520681]
[{"$f":"IF(ISBLANK(InfoPro!A153),\"\",InfoPro!A153)","v":"SC_1912_A2"},{"$f":"IF(ISBLANK(InfoPro!B153),\"\",InfoPro!B153)","v":"Draco de 22.5 MW (entrega 19,9 MW)"},{"$f":"IF(ISBLANK(InfoPro!E153),\"\",InfoPro!E153)","v":19.899999999999999},{"$f":"IF(ISBLANK(InfoPro!F153),\"\",InfoPro!F153)","v":"Solar FV"},{"$f":"IF(ISBLANK(InfoPro!I153),\"\",YEAR(InfoPro!I153)-$G$3)","v":2},{"$f":"IF(B161=\"\",\"\",VLOOKUP(D161,Tablas!$B$2:$E$13,2,FALSE))","v":0.26},{"$f":"IF(B161=\"\",\"\",VLOOKUP(D161,Tablas!$B$2:$G$13,6,FALSE))","v":0},45324.24,5769.0052399200003,424347.67374515958,379559.63662357756,339498.78052198351,303666.17220213194,271615.53864233627,242947.70898241174,217305.64309696935,194369.98488101017,173855.08486673539,155505.44263572042,139092.52471889125,124411.91835321223,111280.78564688035,99535.58644622573,89030.041544030144,13292711668.232615,667975.46071520681]
[{"$f":"IF(ISBLANK(InfoPro!A154),\"\",InfoPro!A154)","v":"SC_1920_A1"},{"$f":"IF(ISBLANK(InfoPro!B154),\"\",InfoPro!B154)","v":"Parque Solar TERRɅ II 19.9 MW"},{"$f":"IF(ISBLANK(InfoPro!E154),\"\",InfoPro!E154)","v":19.899999999999999},{"$f":"IF(ISBLANK(InfoPro!F154),\"\",InfoPro!F154)","v":"Solar FV"},{"$f":"IF(ISBLANK(InfoPro!I154),\"\",YEAR(InfoPro!I154)-$G$3)","v":1},{"$f":"IF(B162=\"\",\"\",VLOOKUP(D162,Tablas!$B$2:$E$13,2,FALSE))","v":0.26},{"$f":"IF(B162=\"\",\"\",VLOOKUP(D162,Tablas!$B$2:$G$13,6,FALSE))","v":0},45324.24,5769.0052399200003,474420.69924708846,424347.67374515958,379559.63662357756,339498.78052198351,303666.17220213194,271615.53864233627,242947.70898241174,217305.64309696935,194369.98488101017,173855.08486673539,155505.44263572042,139092.52471889125,124411.91835321223,111280.78564688035,99535.58644622573,14861251645.084061,746796.56507960102]
[{"$f":"IF(ISBLANK(InfoPro!A155),\"\",InfoPro!A155)","v":"SC_1920_A2"},{"$f":"IF(ISBLANK(InfoPro!B155),\"\",InfoPro!B155)","v":"Parque Solar TERRɅ II 19.9 MW"},{"$f":"IF(ISBLANK(InfoPro!E155),\"\",InfoPro!E155)","v":19.899999999999999},{"$f":"IF(ISBLANK(InfoPro!F155),\"\",InfoPro!F155)","v":"Solar FV"},{"$f":"IF(ISBLANK(InfoPro!I155),\"\",YEAR(InfoPro!I155)-$G$3)","v":1},{"$f":"IF(B163=\"\",\"\",VLOOKUP(D163,Tablas!$B$2:$E$13,2,FALSE))","v":0.26},{"$f":"IF(B163=\"\",\"\",VLOOKUP(D163,Tablas!$B$2:$G$13,6,FALSE))","v":0},45324.24,5769.0052399200003,474420.69924708846,424347.67374515958,379559.63662357756,339498.78052198351,303666.17220213194,271615.53864233627,242947.70898241174,217305.64309696935,194369.98488101017,173855.08486673539,155505.44263572042,139092.52471889125,124411.91835321223,111280.78564688035,99535.58644622573,14861251645.084061,746796.56507960102]
[{"$f":"IF(ISBLANK(InfoPro!A156),\"\",InfoPro!A156)","v":"SC_1928_A1"},{"$f":"IF(ISBLANK(InfoPro!B156),\"\",InfoPro!B156)","v":"Jacamará 500 MW"},{"$f":"IF(ISBLANK(InfoPro!E156),\"\",InfoPro!E156)","v":500},{"$f":"IF(ISBLANK(InfoPro!F156),\"\",InfoPro!F156)","v":"Solar FV"},{"$f":"IF(ISBLANK(InfoPro!I156),\"\",YEAR(InfoPro!I156)-$G$3)","v":3},{"$f":"IF(B164=\"\",\"\",VLOOKUP(D164,Tablas!$B$2:$E$13,2,FALSE))","v":0.26},{"$f":"IF(B164=\"\",\"\",VLOOKUP(D164,Tablas!$B$2:$G$13,6,FALSE))","v":0},1138800,144949.88039999999,9536674.2870245595,8530120.1136176754,7629803.3216616055,6824511.0211642273,6104213.7935279319,5459940.7813308872,4883667.961834426,4368218.212732044,3907171.9255206129,3494787.0532384734,3125927.5968143772,2795999.6393688526,2500894.1318147164,2236935.717186687,2000836.9563387183,298736789228.62549,597473.57845725096]
[{"$f":"IF(ISBLANK(InfoPro!A157),\"\",InfoPro!A157)","v":"SC_1928_A2"},{"$f":"IF(ISBLANK(InfoPro!B157),\"\",InfoPro!B157)","v":"Jacamará 500 MW"},{"$f":"IF(ISBLANK(InfoPro!E157),\"\",InfoPro!E157)","v":500},{"$f":"IF(ISBLANK(InfoPro!F157),\"\",InfoPro!F157)","v":"Solar FV"},{"$f":"IF(ISBLANK(InfoPro!I157),\"\",YEAR(InfoPro!I157)-$G$3)","v":3},{"$f":"IF(B165=\"\",\"\",VLOOKUP(D165,Tablas!$B$2:$E$13,2,FALSE))","v":0.26},{"$f":"IF(B165=\"\",\"\",VLOOKUP(D165,Tablas!$B$2:$G$13,6,FALSE))","v":0},1138800,144949.88039999999,{"$f":"IF($I165=\"\",\"\",(1/(1+$C$4)^(J$7+$E165))*$I165*$C$5)","v":9536674.2870245595},8530120.1136176754,7629803.3216616055,6824511.0211642273,6104213.7935279319,5459940.7813308872,4883667.961834426,4368218.212732044,3907171.9255206129,3494787.0532384734,3125927.5968143772,2795999.6393688526,2500894.1318147164,2236935.717186687,2000836.9563387183,298736789228.62549,597473.57845725096]
[{"$f":"IF(ISBLANK(InfoPro!A158),\"\",InfoPro!A158)","v":"SC_1944_A1"},{"$f":"IF(ISBLANK(InfoPro!B158),\"\",InfoPro!B158)","v":"MANANTIALES DE VERANO de 99.9 MW"},{"$f":"IF(ISBLANK(InfoPro!E158),\"\",InfoPro!E158)","v":99.9},{"$f":"IF(ISBLANK(InfoPro!F158),\"\",InfoPro!F158)","v":"Solar FV"},{"$f":"IF(ISBLANK(InfoPro!I158),\"\",YEAR(InfoPro!I158)-$G$3)","v":3},{"$f":"IF(B166=\"\",\"\",VLOOKUP(D166,Tablas!$B$2:$E$13,2,FALSE))","v":0.26},{"$f":"IF(B166=\"\",\"\",VLOOKUP(D166,Tablas!$B$2:$G$13,6,FALSE))","v":0},227532.24000000002,28960.986103920004,1905427.5225475074,1704317.9987008118,1524434.7036679892,1363537.3020286129,1219621.9159468811,1090896.1681099115,975756.85877451848,872769.99890386255,780652.9507190187,698258.45323704707,624560.33384351269,558640.72794589691,499678.64753658051,446939.75629390014,399767.223876476,59687610487.879402,597473.57845725131]
[{"$f":"IF(ISBLANK(InfoPro!A159),\"\",InfoPro!A159)","v":"SC_1944_A2"},{"$f":"IF(ISBLANK(InfoPro!B159),\"\",InfoPro!B159)","v":"MANANTIALES DE VERANO de 99.9 MW"},{"$f":"IF(ISBLANK(InfoPro!E159),\"\",InfoPro!E159)","v":99.9},{"$f":"IF(ISBLANK(InfoPro!F159),\"\",InfoPro!F159)","v":"Solar FV"},{"$f":"IF(ISBLANK(InfoPro!I159),\"\",YEAR(InfoPro!I159)-$G$3)","v":3},{"$f":"IF(B167=\"\",\"\",VLOOKUP(D167,Tablas!$B$2:$E$13,2,FALSE))","v":0.26},{"$f":"IF(B167=\"\",\"\",VLOOKUP(D167,Tablas!$B$2:$G$13,6,FALSE))","v":0},227532.24000000002,28960.986103920004,1905427.5225475074,1704317.9987008118,1524434.7036679892,1363537.3020286129,1219621.9159468811,1090896.1681099115,975756.85877451848,872769.99890386255,780652.9507190187,698258.45323704707,624560.33384351269,558640.72794589691,499678.64753658051,446939.75629390014,399767.223876476,59687610487.879402,597473.57845725131]
[{"$f":"IF(ISBLANK(InfoPro!A160),\"\",InfoPro!A160)","v":"SC_1948_A1"},{"$f":"IF(ISBLANK(InfoPro!B160),\"\",InfoPro!B160)","v":"PGF ROSARIO I"},{"$f":"IF(ISBLANK(InfoPro!E160),\"\",InfoPro!E160)","v":95},{"$f":"IF(ISBLANK(InfoPro!F160),\"\",InfoPro!F160)","v":"Solar FV"},{"$f":"IF(ISBLANK(InfoPro!I160),\"\",YEAR(InfoPro!I160)-$G$3)","v":3},{"$f":"IF(B168=\"\",\"\",VLOOKUP(D168,Tablas!$B$2:$E$13,2,FALSE))","v":0.26},{"$f":"IF(B168=\"\",\"\",VLOOKUP(D168,Tablas!$B$2:$G$13,6,FALSE))","v":0},216371.99999999997,27540.477275999998,1811968.1145346663,1620722.8215873584,1449662.631115705,1296657.0940212032,1159800.620770307,1037388.7484528687,927896.91274854087,829961.46041908837,742362.6658489164,664009.54011530988,593926.24339473154,531239.93148008198,475169.8850447961,425017.78626547049,380159.02170435654,56759989953.438843,597473.57845725096]
[{"$f":"IF(ISBLANK(InfoPro!A161),\"\",InfoPro!A161)","v":"SC_1948_A2"},{"$f":"IF(ISBLANK(InfoPro!B161),\"\",InfoPro!B161)","v":"PGF ROSARIO I"},{"$f":"IF(ISBLANK(InfoPro!E161),\"\",InfoPro!E161)","v":95},{"$f":"IF(ISBLANK(InfoPro!F161),\"\",InfoPro!F161)","v":"Solar FV"},{"$f":"IF(ISBLANK(InfoPro!I161),\"\",YEAR(InfoPro!I161)-$G$3)","v":3},{"$f":"IF(B169=\"\",\"\",VLOOKUP(D169,Tablas!$B$2:$E$13,2,FALSE))","v":0.26},{"$f":"IF(B169=\"\",\"\",VLOOKUP(D169,Tablas!$B$2:$G$13,6,FALSE))","v":0},216371.99999999997,27540.477275999998,1811968.1145346663,1620722.8215873584,1449662.631115705,1296657.0940212032,1159800.620770307,1037388.7484528687,927896.91274854087,829961.46041908837,742362.6658489164,664009.54011530988,593926.24339473154,531239.93148008198,475169.8850447961,425017.78626547049,380159.02170435654,56759989953.438843,597473.57845725096]
[{"$f":"IF(ISBLANK(InfoPro!A162),\"\",InfoPro!A162)","v":"SC_1967_A1"},{"$f":"IF(ISBLANK(InfoPro!B162),\"\",InfoPro!B162)","v":"Solar Valledupar 4"},{"$f":"IF(ISBLANK(InfoPro!E162),\"\",InfoPro!E162)","v":19.899999999999999},{"$f":"IF(ISBLANK(InfoPro!F162),\"\",InfoPro!F162)","v":"Solar FV"},{"$f":"IF(ISBLANK(InfoPro!I162),\"\",YEAR(InfoPro!I162)-$G$3)","v":2},{"$f":"IF(B170=\"\",\"\",VLOOKUP(D170,Tablas!$B$2:$E$13,2,FALSE))","v":0.26},{"$f":"IF(B170=\"\",\"\",VLOOKUP(D170,Tablas!$B$2:$G$13,6,FALSE))","v":0},45324.24,5769.0052399200003,424347.67374515958,379559.63662357756,339498.78052198351,303666.17220213194,271615.53864233627,242947.70898241174,217305.64309696935,194369.98488101017,173855.08486673539,155505.44263572042,139092.52471889125,124411.91835321223,111280.78564688035,99535.58644622573,89030.041544030144,13292711668.232615,667975.46071520681]
[{"$f":"IF(ISBLANK(InfoPro!A163),\"\",InfoPro!A163)","v":"SC_1967_A2"},{"$f":"IF(ISBLANK(InfoPro!B163),\"\",InfoPro!B163)","v":"Solar Valledupar 4"},{"$f":"IF(ISBLANK(InfoPro!E163),\"\",InfoPro!E163)","v":19.899999999999999},{"$f":"IF(ISBLANK(InfoPro!F163),\"\",InfoPro!F163)","v":"Solar FV"},{"$f":"IF(ISBLANK(InfoPro!I163),\"\",YEAR(InfoPro!I163)-$G$3)","v":2},{"$f":"IF(B171=\"\",\"\",VLOOKUP(D171,Tablas!$B$2:$E$13,2,FALSE))","v":0.26},{"$f":"IF(B171=\"\",\"\",VLOOKUP(D171,Tablas!$B$2:$G$13,6,FALSE))","v":0},45324.24,5769.0052399200003,424347.67374515958,379559.63662357756,339498.78052198351,303666.17220213194,271615.53864233627,242947.70898241174,217305.64309696935,194369.98488101017,173855.08486673539,155505.44263572042,139092.52471889125,124411.91835321223,111280.78564688035,99535.58644622573,89030.041544030144,13292711668.232615,667975.46071520681]
[{"$f":"IF(ISBLANK(InfoPro!A164),\"\",InfoPro!A164)","v":"SC_1968_A1"},{"$f":"IF(ISBLANK(InfoPro!B164),\"\",InfoPro!B164)","v":"Solar Valledupar 5"},{"$f":"IF(ISBLANK(InfoPro!E164),\"\",InfoPro!E164)","v":19.899999999999999},{"$f":"IF(ISBLANK(InfoPro!F164),\"\",InfoPro!F164)","v":"Solar FV"},{"$f":"IF(ISBLANK(InfoPro!I164),\"\",YEAR(InfoPro!I164)-$G$3)","v":2},{"$f":"IF(B172=\"\",\"\",VLOOKUP(D172,Tablas!$B$2:$E$13,2,FALSE))","v":0.26},{"$f":"IF(B172=\"\",\"\",VLOOKUP(D172,Tablas!$B$2:$G$13,6,FALSE))","v":0},45324.24,5769.0052399200003,424347.67374515958,379559.63662357756,339498.78052198351,303666.17220213194,271615.53864233627,242947.70898241174,217305.64309696935,194369.98488101017,173855.08486673539,155505.44263572042,139092.52471889125,124411.91835321223,111280.78564688035,99535.58644622573,89030.041544030144,13292711668.232615,667975.46071520681]
[{"$f":"IF(ISBLANK(InfoPro!A165),\"\",InfoPro!A165)","v":"SC_1968_A2"},{"$f":"IF(ISBLANK(InfoPro!B165),\"\",InfoPro!B165)","v":"Solar Valledupar 5"},{"$f":"IF(ISBLANK(InfoPro!E165),\"\",InfoPro!E165)","v":19.899999999999999},{"$f":"IF(ISBLANK(InfoPro!F165),\"\",InfoPro!F165)","v":"Solar FV"},{"$f":"IF(ISBLANK(InfoPro!I165),\"\",YEAR(InfoPro!I165)-$G$3)","v":2},{"$f":"IF(B173=\"\",\"\",VLOOKUP(D173,Tablas!$B$2:$E$13,2,FALSE))","v":0.26},{"$f":"IF(B173=\"\",\"\",VLOOKUP(D173,Tablas!$B$2:$G$13,6,FALSE))","v":0},45324.24,5769.0052399200003,424347.67374515958,379559.63662357756,339498.78052198351,303666.17220213194,271615.53864233627,242947.70898241174,217305.64309696935,194369.98488101017,173855.08486673539,155505.44263572042,139092.52471889125,124411.91835321223,111280.78564688035,99535.58644622573,89030.041544030144,13292711668.232615,667975.46071520681]
[{"$f":"IF(ISBLANK(InfoPro!A166),\"\",InfoPro!A166)","v":"SC_1978_A1"},{"$f":"IF(ISBLANK(InfoPro!B166),\"\",InfoPro!B166)","v":"Solar El Copey"},{"$f":"IF(ISBLANK(InfoPro!E166),\"\",InfoPro!E166)","v":230},{"$f":"IF(ISBLANK(InfoPro!F166),\"\",InfoPro!F166)","v":"Solar FV"},{"$f":"IF(ISBLANK(InfoPro!I166),\"\",YEAR(InfoPro!I166)-$G$3)","v":2},{"$f":"IF(B174=\"\",\"\",VLOOKUP(D174,Tablas!$B$2:$E$13,2,FALSE))","v":0.26},{"$f":"IF(B174=\"\",\"\",VLOOKUP(D174,Tablas!$B$2:$G$13,6,FALSE))","v":0},523848,66676.944984000002,4904520.8523309901,4386870.1720312983,3923855.2522641309,3509709.5279643391,3139275.0697355447,2807938.3450228488,2511572.7594122086,2246487.2624438363,2009380.3778567405,1797299.0857394822,1607602.044489698,1437926.6945346135,1286159.8341096723,1150411.3006347697,1028990.4299058759,153634355964.49753,667975.46071520669]
[{"$f":"IF(ISBLANK(InfoPro!A167),\"\",InfoPro!A167)","v":"SC_1978_A2"},{"$f":"IF(ISBLANK(InfoPro!B167),\"\",InfoPro!B167)","v":"Solar El Copey"},{"$f":"IF(ISBLANK(InfoPro!E167),\"\",InfoPro!E167)","v":230},{"$f":"IF(ISBLANK(InfoPro!F167),\"\",InfoPro!F167)","v":"Solar FV"},{"$f":"IF(ISBLANK(InfoPro!I167),\"\",YEAR(InfoPro!I167)-$G$3)","v":2},{"$f":"IF(B175=\"\",\"\",VLOOKUP(D175,Tablas!$B$2:$E$13,2,FALSE))","v":0.26},{"$f":"IF(B175=\"\",\"\",VLOOKUP(D175,Tablas!$B$2:$G$13,6,FALSE))","v":0},523848,66676.944984000002,4904520.8523309901,4386870.1720312983,3923855.2522641309,3509709.5279643391,3139275.0697355447,2807938.3450228488,2511572.7594122086,2246487.2624438363,2009380.3778567405,1797299.0857394822,1607602.044489698,1437926.6945346135,1286159.8341096723,1150411.3006347697,1028990.4299058759,153634355964.49753,667975.46071520669]
[{"$f":"IF(ISBLANK(InfoPro!A168),\"\",InfoPro!A168)","v":"SC_1981_A1"},{"$f":"IF(ISBLANK(InfoPro!B168),\"\",InfoPro!B168)","v":"Solar Valledupar 2"},{"$f":"IF(ISBLANK(InfoPro!E168),\"\",InfoPro!E168)","v":19.899999999999999},{"$f":"IF(ISBLANK(InfoPro!F168),\"\",InfoPro!F168)","v":"Solar FV"},{"$f":"IF(ISBLANK(InfoPro!I168),\"\",YEAR(InfoPro!I168)-$G$3)","v":0},{"$f":"IF(B176=\"\",\"\",VLOOKUP(D176,Tablas!$B$2:$E$13,2,FALSE))","v":0.26},{"$f":"IF(B176=\"\",\"\",VLOOKUP(D176,Tablas!$B$2:$G$13,6,FALSE))","v":0},45324.24,5769.0052399200003,530402.34175824479,474420.69924708846,424347.67374515958,379559.63662357756,339498.78052198351,303666.17220213194,271615.53864233627,242947.70898241174,217305.64309696935,194369.98488101017,173855.08486673539,155505.44263572042,139092.52471889125,124411.91835321223,111280.78564688035,16614879339.203976,834918.5597589938]
[{"$f":"IF(ISBLANK(InfoPro!A169),\"\",InfoPro!A169)","v":"SC_1981_A2"},{"$f":"IF(ISBLANK(InfoPro!B169),\"\",InfoPro!B169)","v":"Solar Valledupar 2"},{"$f":"IF(ISBLANK(InfoPro!E169),\"\",InfoPro!E169)","v":19.899999999999999},{"$f":"IF(ISBLANK(InfoPro!F169),\"\",InfoPro!F169)","v":"Solar FV"},{"$f":"IF(ISBLANK(InfoPro!I169),\"\",YEAR(InfoPro!I169)-$G$3)","v":0},{"$f":"IF(B177=\"\",\"\",VLOOKUP(D177,Tablas!$B$2:$E$13,2,FALSE))","v":0.26},{"$f":"IF(B177=\"\",\"\",VLOOKUP(D177,Tablas!$B$2:$G$13,6,FALSE))","v":0},45324.24,5769.0052399200003,530402.34175824479,474420.69924708846,424347.67374515958,379559.63662357756,339498.78052198351,303666.17220213194,271615.53864233627,242947.70898241174,217305.64309696935,194369.98488101017,173855.08486673539,155505.44263572042,139092.52471889125,124411.91835321223,111280.78564688035,16614879339.203976,834918.5597589938]
[{"$f":"IF(ISBLANK(InfoPro!A170),\"\",InfoPro!A170)","v":"SC_1982_A1"},{"$f":"IF(ISBLANK(InfoPro!B170),\"\",InfoPro!B170)","v":"Solar Valledupar 3"},{"$f":"IF(ISBLANK(InfoPro!E170),\"\",InfoPro!E170)","v":19.899999999999999},{"$f":"IF(ISBLANK(InfoPro!F170),\"\",InfoPro!F170)","v":"Solar FV"},{"$f":"IF(ISBLANK(InfoPro!I170),\"\",YEAR(InfoPro!I170)-$G$3)","v":2},{"$f":"IF(B178=\"\",\"\",VLOOKUP(D178,Tablas!$B$2:$E$13,2,FALSE))","v":0.26},{"$f":"IF(B178=\"\",\"\",VLOOKUP(D178,Tablas!$B$2:$G$13,6,FALSE))","v":0},45324.24,5769.0052399200003,424347.67374515958,379559.63662357756,339498.78052198351,303666.17220213194,271615.53864233627,242947.70898241174,217305.64309696935,194369.98488101017,173855.08486673539,155505.44263572042,139092.52471889125,124411.91835321223,111280.78564688035,99535.58644622573,89030.041544030144,13292711668.232615,667975.46071520681]
[{"$f":"IF(ISBLANK(InfoPro!A171),\"\",InfoPro!A171)","v":"SC_1982_A2"},{"$f":"IF(ISBLANK(InfoPro!B171),\"\",InfoPro!B171)","v":"Solar Valledupar 3"},{"$f":"IF(ISBLANK(InfoPro!E171),\"\",InfoPro!E171)","v":19.899999999999999},{"$f":"IF(ISBLANK(InfoPro!F171),\"\",InfoPro!F171)","v":"Solar FV"},{"$f":"IF(ISBLANK(InfoPro!I171),\"\",YEAR(InfoPro!I171)-$G$3)","v":2},{"$f":"IF(B179=\"\",\"\",VLOOKUP(D179,Tablas!$B$2:$E$13,2,FALSE))","v":0.26},{"$f":"IF(B179=\"\",\"\",VLOOKUP(D179,Tablas!$B$2:$G$13,6,FALSE))","v":0},45324.24,5769.0052399200003,424347.67374515958,379559.63662357756,339498.78052198351,303666.17220213194,271615.53864233627,242947.70898241174,217305.64309696935,194369.98488101017,173855.08486673539,155505.44263572042,139092.52471889125,124411.91835321223,111280.78564688035,99535.58644622573,89030.041544030144,13292711668.232615,667975.46071520681]
[{"$f":"IF(ISBLANK(InfoPro!A172),\"\",InfoPro!A172)","v":"SC_1989_A1"},{"$f":"IF(ISBLANK(InfoPro!B172),\"\",InfoPro!B172)","v":"Solar Valledupar 1"},{"$f":"IF(ISBLANK(InfoPro!E172),\"\",InfoPro!E172)","v":19.899999999999999},{"$f":"IF(ISBLANK(InfoPro!F172),\"\",InfoPro!F172)","v":"Solar FV"},{"$f":"IF(ISBLANK(InfoPro!I172),\"\",YEAR(InfoPro!I172)-$G$3)","v":0},{"$f":"IF(B180=\"\",\"\",VLOOKUP(D180,Tablas!$B$2:$E$13,2,FALSE))","v":0.26},{"$f":"IF(B180=\"\",\"\",VLOOKUP(D180,Tablas!$B$2:$G$13,6,FALSE))","v":0},45324.24,5769.0052399200003,530402.34175824479,474420.69924708846,424347.67374515958,379559.63662357756,339498.78052198351,303666.17220213194,271615.53864233627,242947.70898241174,217305.64309696935,194369.98488101017,173855.08486673539,155505.44263572042,139092.52471889125,124411.91835321223,111280.78564688035,16614879339.203976,834918.5597589938]
[{"$f":"IF(ISBLANK(InfoPro!A173),\"\",InfoPro!A173)","v":"SC_1989_A2"},{"$f":"IF(ISBLANK(InfoPro!B173),\"\",InfoPro!B173)","v":"Solar Valledupar 1"},{"$f":"IF(ISBLANK(InfoPro!E173),\"\",InfoPro!E173)","v":19.899999999999999},{"$f":"IF(ISBLANK(InfoPro!F173),\"\",InfoPro!F173)","v":"Solar FV"},{"$f":"IF(ISBLANK(InfoPro!I173),\"\",YEAR(InfoPro!I173)-$G$3)","v":0},{"$f":"IF(B181=\"\",\"\",VLOOKUP(D181,Tablas!$B$2:$E$13,2,FALSE))","v":0.26},{"$f":"IF(B181=\"\",\"\",VLOOKUP(D181,Tablas!$B$2:$G$13,6,FALSE))","v":0},45324.24,5769.0052399200003,530402.34175824479,474420.69924708846,424347.67374515958,379559.63662357756,339498.78052198351,303666.17220213194,271615.53864233627,242947.70898241174,217305.64309696935,194369.98488101017,173855.08486673539,155505.44263572042,139092.52471889125,124411.91835321223,111280.78564688035,16614879339.203976,834918.5597589938]
[{"$f":"IF(ISBLANK(InfoPro!A174),\"\",InfoPro!A174)","v":"SC_1992_A1"},{"$f":"IF(ISBLANK(InfoPro!B174),\"\",InfoPro!B174)","v":"Parque Solar TERRɅ III"},{"$f":"IF(ISBLANK(InfoPro!E174),\"\",InfoPro!E174)","v":19.899999999999999},{"$f":"IF(ISBLANK(InfoPro!F174),\"\",InfoPro!F174)","v":"Solar FV"},{"$f":"IF(ISBLANK(InfoPro!I174),\"\",YEAR(InfoPro!I174)-$G$3)","v":1},{"$f":"IF(B182=\"\",\"\",VLOOKUP(D182,Tablas!$B$2:$E$13,2,FALSE))","v":0.26},{"$f":"IF(B182=\"\",\"\",VLOOKUP(D182,Tablas!$B$2:$G$13,6,FALSE))","v":0},45324.24,5769.0052399200003,{"$f":"IF($I182=\"\",\"\",(1/(1+$C$4)^(J$7+$E182))*$I182*$C$5)","v":474420.69924708846},424347.67374515958,379559.63662357756,339498.78052198351,303666.17220213194,271615.53864233627,242947.70898241174,217305.64309696935,194369.98488101017,173855.08486673539,155505.44263572042,139092.52471889125,124411.91835321223,111280.78564688035,99535.58644622573,14861251645.084061,746796.56507960102]
[{"$f":"IF(ISBLANK(InfoPro!A175),\"\",InfoPro!A175)","v":"SC_2005_A1"},{"$f":"IF(ISBLANK(InfoPro!B175),\"\",InfoPro!B175)","v":"PARQUE SOLAR CATACA"},{"$f":"IF(ISBLANK(InfoPro!E175),\"\",InfoPro!E175)","v":9.9},{"$f":"IF(ISBLANK(InfoPro!F175),\"\",InfoPro!F175)","v":"Solar FV"},{"$f":"IF(ISBLANK(InfoPro!I175),\"\",YEAR(InfoPro!I175)-$G$3)","v":1},{"$f":"IF(B183=\"\",\"\",VLOOKUP(D183,Tablas!$B$2:$E$13,2,FALSE))","v":0.26},{"$f":"IF(B183=\"\",\"\",VLOOKUP(D183,Tablas!$B$2:$G$13,6,FALSE))","v":0},22548.240000000005,2870.0076319200007,236018.33781639076,211107.63668729048,188826.15088308635,168896.37824963001,151070.10576889984,135125.31821905175,120863.4331118531,108106.82747035159,96696.625644321655,86490.72061209449,77362.004125308173,69196.783654121798,61893.366416924677,55360.792859503294,49517.703809931394,7393285994.2880507,746796.56507960113]
[{"$f":"IF(ISBLANK(InfoPro!A176),\"\",InfoPro!A176)","v":"SC_2010_A1"},{"$f":"IF(ISBLANK(InfoPro!B176),\"\",InfoPro!B176)","v":"PARQUE SOLAR SAN JUAN_5MW"},{"$f":"IF(ISBLANK(InfoPro!E176),\"\",InfoPro!E176)","v":5},{"$f":"IF(ISBLANK(InfoPro!F176),\"\",InfoPro!F176)","v":"Solar FV"},{"$f":"IF(ISBLANK(InfoPro!I176),\"\",YEAR(InfoPro!I176)-$G$3)","v":1},{"$f":"IF(B184=\"\",\"\",VLOOKUP(D184,Tablas!$B$2:$E$13,2,FALSE))","v":0.26},{"$f":"IF(B184=\"\",\"\",VLOOKUP(D184,Tablas!$B$2:$G$13,6,FALSE))","v":0},11388.000000000002,1449.4988040000003,119201.18071534888,106620.01852893458,95366.742870245638,85301.201136176765,76298.033216616081,68245.110211642299,61042.137935279337,54599.407813308891,48836.679618344271,43682.182127320455,39071.719255206139,34947.870532384746,31259.275968143778,27959.996393688532,25008.941318147172,3733982825.398005,746796.56507960102]
[{"$f":"IF(ISBLANK(InfoPro!A177),\"\",InfoPro!A177)","v":"SC_2011_A1"},{"$f":"IF(ISBLANK(InfoPro!B177),\"\",InfoPro!B177)","v":"PE Vientos de la Manita"},{"$f":"IF(ISBLANK(InfoPro!E177),\"\",InfoPro!E177)","v":9.9},{"$f":"IF(ISBLANK(InfoPro!F177),\"\",InfoPro!F177)","v":"Eólico Onshore"},{"$f":"IF(ISBLANK(InfoPro!I177),\"\",YEAR(InfoPro!I177)-$G$3)","v":2},{"$f":"IF(B185=\"\",\"\",VLOOKUP(D185,Tablas!$B$2:$E$13,2,FALSE))","v":0.56999999999999995},{"$f":"IF(B185=\"\",\"\",VLOOKUP(D185,Tablas!$B$2:$G$13,6,FALSE))","v":0},49432.679999999993,6291.9398084399991,462812.8958144444,413965.02308984293,370272.82923957339,331192.15495489567,296236.27455715177,264969.83412983164,237003.42945423228,211988.75622024355,189614.27211113015,169601.31673625243,151700.64108788231,135689.30329864254,121367.89203814181,108558.04296792649,97100.217323726712,14497636633.907343,1464407.7407987216]
[{"$f":"IF(ISBLANK(InfoPro!A178),\"\",InfoPro!A178)","v":"SC_2011_A2"},{"$f":"IF(ISBLANK(InfoPro!B178),\"\",InfoPro!B178)","v":"PE Vientos de la Manita"},{"$f":"IF(ISBLANK(InfoPro!E178),\"\",InfoPro!E178)","v":9.9},{"$f":"IF(ISBLANK(InfoPro!F178),\"\",InfoPro!F178)","v":"Eólico Onshore"},{"$f":"IF(ISBLANK(InfoPro!I178),\"\",YEAR(InfoPro!I178)-$G$3)","v":2},{"$f":"IF(B186=\"\",\"\",VLOOKUP(D186,Tablas!$B$2:$E$13,2,FALSE))","v":0.56999999999999995},{"$f":"IF(B186=\"\",\"\",VLOOKUP(D186,Tablas!$B$2:$G$13,6,FALSE))","v":0},49432.679999999993,6291.9398084399991,462812.8958144444,413965.02308984293,370272.82923957339,331192.15495489567,296236.27455715177,264969.83412983164,237003.42945423228,211988.75622024355,189614.27211113015,169601.31673625243,151700.64108788231,135689.30329864254,121367.89203814181,108558.04296792649,97100.217323726712,14497636633.907343,1464407.7407987216]
[{"$f":"IF(ISBLANK(InfoPro!A179),\"\",InfoPro!A179)","v":"SC_2020_A1"},{"$f":"IF(ISBLANK(InfoPro!B179),\"\",InfoPro!B179)","v":"San Juan Solar I 9,9 MW"},{"$f":"IF(ISBLANK(InfoPro!E179),\"\",InfoPro!E179)","v":9.9},{"$f":"IF(ISBLANK(InfoPro!F179),\"\",InfoPro!F179)","v":"Solar FV"},{"$f":"IF(ISBLANK(InfoPro!I179),\"\",YEAR(InfoPro!I179)-$G$3)","v":1},{"$f":"IF(B187=\"\",\"\",VLOOKUP(D187,Tablas!$B$2:$E$13,2,FALSE))","v":0.26},{"$f":"IF(B187=\"\",\"\",VLOOKUP(D187,Tablas!$B$2:$G$13,6,FALSE))","v":0},22548.240000000005,2870.0076319200007,236018.33781639076,211107.63668729048,188826.15088308635,168896.37824963001,151070.10576889984,135125.31821905175,120863.4331118531,108106.82747035159,96696.625644321655,86490.72061209449,77362.004125308173,69196.783654121798,61893.366416924677,55360.792859503294,49517.703809931394,7393285994.2880507,746796.56507960113]
[{"$f":"IF(ISBLANK(InfoPro!A180),\"\",InfoPro!A180)","v":"SC_2020_A2"},{"$f":"IF(ISBLANK(InfoPro!B180),\"\",InfoPro!B180)","v":"San Juan Solar I 9,9 MW"},{"$f":"IF(ISBLANK(InfoPro!E180),\"\",InfoPro!E180)","v":9.9},{"$f":"IF(ISBLANK(InfoPro!F180),\"\",InfoPro!F180)","v":"Solar FV"},{"$f":"IF(ISBLANK(InfoPro!I180),\"\",YEAR(InfoPro!I180)-$G$3)","v":1},{"$f":"IF(B188=\"\",\"\",VLOOKUP(D188,Tablas!$B$2:$E$13,2,FALSE))","v":0.26},{"$f":"IF(B188=\"\",\"\",VLOOKUP(D188,Tablas!$B$2:$G$13,6,FALSE))","v":0},22548.240000000005,2870.0076319200007,236018.33781639076,211107.63668729048,188826.15088308635,168896.37824963001,151070.10576889984,135125.31821905175,120863.4331118531,108106.82747035159,96696.625644321655,86490.72061209449,77362.004125308173,69196.783654121798,61893.366416924677,55360.792859503294,49517.703809931394,7393285994.2880507,746796.56507960113]
[{"$f":"IF(ISBLANK(InfoPro!A181),\"\",InfoPro!A181)","v":"SC_2021_A1"},{"$f":"IF(ISBLANK(InfoPro!B181),\"\",InfoPro!B181)","v":"San Juan Solar II 9,9 MW"},{"$f":"IF(ISBLANK(InfoPro!E181),\"\",InfoPro!E181)","v":9.9},{"$f":"IF(ISBLANK(InfoPro!F181),\"\",InfoPro!F181)","v":"Solar FV"},{"$f":"IF(ISBLANK(InfoPro!I181),\"\",YEAR(InfoPro!I181)-$G$3)","v":1},{"$f":"IF(B189=\"\",\"\",VLOOKUP(D189,Tablas!$B$2:$E$13,2,FALSE))","v":0.26},{"$f":"IF(B189=\"\",\"\",VLOOKUP(D189,Tablas!$B$2:$G$13,6,FALSE))","v":0},22548.240000000005,2870.0076319200007,236018.33781639076,211107.63668729048,188826.15088308635,168896.37824963001,151070.10576889984,135125.31821905175,120863.4331118531,108106.82747035159,96696.625644321655,86490.72061209449,77362.004125308173,69196.783654121798,61893.366416924677,55360.792859503294,49517.703809931394,7393285994.2880507,746796.56507960113]
[{"$f":"IF(ISBLANK(InfoPro!A182),\"\",InfoPro!A182)","v":"SC_2021_A2"},{"$f":"IF(ISBLANK(InfoPro!B182),\"\",InfoPro!B182)","v":"San Juan Solar II 9,9 MW"},{"$f":"IF(ISBLANK(InfoPro!E182),\"\",InfoPro!E182)","v":9.9},{"$f":"IF(ISBLANK(InfoPro!F182),\"\",InfoPro!F182)","v":"Solar FV"},{"$f":"IF(ISBLANK(InfoPro!I182),\"\",YEAR(InfoPro!I182)-$G$3)","v":1},{"$f":"IF(B190=\"\",\"\",VLOOKUP(D190,Tablas!$B$2:$E$13,2,FALSE))","v":0.26},{"$f":"IF(B190=\"\",\"\",VLOOKUP(D190,Tablas!$B$2:$G$13,6,FALSE))","v":0},22548.240000000005,2870.0076319200007,236018.33781639076,211107.63668729048,188826.15088308635,168896.37824963001,151070.10576889984,135125.31821905175,120863.4331118531,108106.82747035159,96696.625644321655,86490.72061209449,77362.004125308173,69196.783654121798,61893.366416924677,55360.792859503294,49517.703809931394,7393285994.2880507,746796.56507960113]
[{"$f":"IF(ISBLANK(InfoPro!A183),\"\",InfoPro!A183)","v":"SC_2056_A1"},{"$f":"IF(ISBLANK(InfoPro!B183),\"\",InfoPro!B183)","v":"Saturno 200 MW"},{"$f":"IF(ISBLANK(InfoPro!E183),\"\",InfoPro!E183)","v":200},{"$f":"IF(ISBLANK(InfoPro!F183),\"\",InfoPro!F183)","v":"Solar FV"},{"$f":"IF(ISBLANK(InfoPro!I183),\"\",YEAR(InfoPro!I183)-$G$3)","v":2},{"$f":"IF(B191=\"\",\"\",VLOOKUP(D191,Tablas!$B$2:$E$13,2,FALSE))","v":0.26},{"$f":"IF(B191=\"\",\"\",VLOOKUP(D191,Tablas!$B$2:$G$13,6,FALSE))","v":0},455520,57979.952160000001,4264800.7411573827,3814669.7148098242,3412048.0454470702,3051921.3286646428,2729804.4084656914,2441685.5174111729,2183976.3125323551,1953467.1847337703,1747287.2850928179,1562868.7702082451,1397914.8212953894,1250371.038725751,1118399.8557475412,1000357.6527258867,894774.28687467484,133595092143.04129,667975.46071520646]
[{"$f":"IF(ISBLANK(InfoPro!A184),\"\",InfoPro!A184)","v":"SC_2057_A1"},{"$f":"IF(ISBLANK(InfoPro!B184),\"\",InfoPro!B184)","v":"SABAN II - 305 MW"},{"$f":"IF(ISBLANK(InfoPro!E184),\"\",InfoPro!E184)","v":305},{"$f":"IF(ISBLANK(InfoPro!F184),\"\",InfoPro!F184)","v":"Solar FV"},{"$f":"IF(ISBLANK(InfoPro!I184),\"\",YEAR(InfoPro!I184)-$G$3)","v":4},{"$f":"IF(B192=\"\",\"\",VLOOKUP(D192,Tablas!$B$2:$E$13,2,FALSE))","v":0.26},{"$f":"IF(B192=\"\",\"\",VLOOKUP(D192,Tablas!$B$2:$G$13,6,FALSE))","v":0},694667.99999999988,88419.427043999996,5203373.2693067817,4654180.0262135798,4162951.7229101784,3723570.4140520389,3330563.8766118414,2979037.4567189999,2664613.1097665471,2383374.8745675739,2131820.1024754685,1906815.83405677,1705559.7800150001,1525545.4204069769,1364530.7874838789,1220510.5433666182,1091691.0048001951,162995922566.60242,534412.86087410629]
[{"$f":"IF(ISBLANK(InfoPro!A185),\"\",InfoPro!A185)","v":"SC_2066_A1"},{"$f":"IF(ISBLANK(InfoPro!B185),\"\",InfoPro!B185)","v":"Orquídea del Cesar - La Loma - 62 MW"},{"$f":"IF(ISBLANK(InfoPro!E185),\"\",InfoPro!E185)","v":62},{"$f":"IF(ISBLANK(InfoPro!F185),\"\",InfoPro!F185)","v":"Solar FV"},{"$f":"IF(ISBLANK(InfoPro!I185),\"\",YEAR(InfoPro!I185)-$G$3)","v":5},{"$f":"IF(B193=\"\",\"\",VLOOKUP(D193,Tablas!$B$2:$E$13,2,FALSE))","v":0.26},{"$f":"IF(B193=\"\",\"\",VLOOKUP(D193,Tablas!$B$2:$G$13,6,FALSE))","v":0},141211.20000000001,17973.785169600003,946095.61188603938,846239.3666243644,756922.5103974638,677032.65688503021,605574.82726746902,541659.05837877363,484489.3187645562,433353.59460157074,387615.02200498281,346703.95528173778,310110.87234502489,277380.02893114928,248103.78258600112,221917.5157298758,198495.09457055086,29636491390.156181,478007.92564768036]
[{"$f":"IF(ISBLANK(InfoPro!A186),\"\",InfoPro!A186)","v":"SC_2066_A2"},{"$f":"IF(ISBLANK(InfoPro!B186),\"\",InfoPro!B186)","v":"Orquídea del Cesar - La Loma - 62 MW"},{"$f":"IF(ISBLANK(InfoPro!E186),\"\",InfoPro!E186)","v":62},{"$f":"IF(ISBLANK(InfoPro!F186),\"\",InfoPro!F186)","v":"Solar FV"},{"$f":"IF(ISBLANK(InfoPro!I186),\"\",YEAR(InfoPro!I186)-$G$3)","v":5},{"$f":"IF(B194=\"\",\"\",VLOOKUP(D194,Tablas!$B$2:$E$13,2,FALSE))","v":0.26},{"$f":"IF(B194=\"\",\"\",VLOOKUP(D194,Tablas!$B$2:$G$13,6,FALSE))","v":0},141211.20000000001,17973.785169600003,946095.61188603938,846239.3666243644,756922.5103974638,677032.65688503021,605574.82726746902,541659.05837877363,484489.3187645562,433353.59460157074,387615.02200498281,346703.95528173778,310110.87234502489,277380.02893114928,248103.78258600112,221917.5157298758,198495.09457055086,29636491390.156181,478007.92564768036]
[{"$f":"IF(ISBLANK(InfoPro!A187),\"\",InfoPro!A187)","v":"SC_2069_A1"},{"$f":"IF(ISBLANK(InfoPro!B187),\"\",InfoPro!B187)","v":"Pétalo del Magdalena - Fundación"},{"$f":"IF(ISBLANK(InfoPro!E187),\"\",InfoPro!E187)","v":9.9},{"$f":"IF(ISBLANK(InfoPro!F187),\"\",InfoPro!F187)","v":"Solar FV"},{"$f":"IF(ISBLANK(InfoPro!I187),\"\",YEAR(InfoPro!I187)-$G$3)","v":3},{"$f":"IF(B195=\"\",\"\",VLOOKUP(D195,Tablas!$B$2:$E$13,2,FALSE))","v":0.26},{"$f":"IF(B195=\"\",\"\",VLOOKUP(D195,Tablas!$B$2:$G$13,6,FALSE))","v":0},22548.240000000005,2870.0076319200007,188826.15088308635,168896.37824963001,151070.10576889984,135125.31821905175,120863.4331118531,108106.82747035159,96696.625644321655,86490.72061209449,77362.004125308173,69196.783654121798,61893.366416924677,55360.792859503294,49517.703809931394,44291.327200296415,39616.571735506637,5914988426.7267857,597473.57845725107]
[{"$f":"IF(ISBLANK(InfoPro!A188),\"\",InfoPro!A188)","v":"SC_2070_A1"},{"$f":"IF(ISBLANK(InfoPro!B188),\"\",InfoPro!B188)","v":"Cactus del Cesar - La Loma"},{"$f":"IF(ISBLANK(InfoPro!E188),\"\",InfoPro!E188)","v":19.899999999999999},{"$f":"IF(ISBLANK(InfoPro!F188),\"\",InfoPro!F188)","v":"Solar FV"},{"$f":"IF(ISBLANK(InfoPro!I188),\"\",YEAR(InfoPro!I188)-$G$3)","v":5},{"$f":"IF(B196=\"\",\"\",VLOOKUP(D196,Tablas!$B$2:$E$13,2,FALSE))","v":0.26},{"$f":"IF(B196=\"\",\"\",VLOOKUP(D196,Tablas!$B$2:$G$13,6,FALSE))","v":0},45324.24,5769.0052399200003,303666.17220213194,271615.53864233627,242947.70898241174,217305.64309696935,194369.98488101017,173855.08486673539,155505.44263572042,139092.52471889125,124411.91835321223,111280.78564688035,99535.58644622573,89030.041544030144,79633.310862280996,71228.363919750438,63710.522289580025,9512357720.3888359,478007.92564768018]
[{"$f":"IF(ISBLANK(InfoPro!A189),\"\",InfoPro!A189)","v":"SC_2070_A2"},{"$f":"IF(ISBLANK(InfoPro!B189),\"\",InfoPro!B189)","v":"Cactus del Cesar - La Loma"},{"$f":"IF(ISBLANK(InfoPro!E189),\"\",InfoPro!E189)","v":19.899999999999999},{"$f":"IF(ISBLANK(InfoPro!F189),\"\",InfoPro!F189)","v":"Solar FV"},{"$f":"IF(ISBLANK(InfoPro!I189),\"\",YEAR(InfoPro!I189)-$G$3)","v":5},{"$f":"IF(B197=\"\",\"\",VLOOKUP(D197,Tablas!$B$2:$E$13,2,FALSE))","v":0.26},{"$f":"IF(B197=\"\",\"\",VLOOKUP(D197,Tablas!$B$2:$G$13,6,FALSE))","v":0},45324.24,5769.0052399200003,303666.17220213194,271615.53864233627,242947.70898241174,217305.64309696935,194369.98488101017,173855.08486673539,155505.44263572042,139092.52471889125,124411.91835321223,111280.78564688035,99535.58644622573,89030.041544030144,79633.310862280996,71228.363919750438,63710.522289580025,9512357720.3888359,478007.92564768018]
[{"$f":"IF(ISBLANK(InfoPro!A190),\"\",InfoPro!A190)","v":"SC_2077_A1"},{"$f":"IF(ISBLANK(InfoPro!B190),\"\",InfoPro!B190)","v":"PARQUE SOLAR GUACAMAYAL 9.9"},{"$f":"IF(ISBLANK(InfoPro!E190),\"\",InfoPro!E190)","v":9.9},{"$f":"IF(ISBLANK(InfoPro!F190),\"\",InfoPro!F190)","v":"Solar FV"},{"$f":"IF(ISBLANK(InfoPro!I190),\"\",YEAR(InfoPro!I190)-$G$3)","v":1},{"$f":"IF(B198=\"\",\"\",VLOOKUP(D198,Tablas!$B$2:$E$13,2,FALSE))","v":0.26},{"$f":"IF(B198=\"\",\"\",VLOOKUP(D198,Tablas!$B$2:$G$13,6,FALSE))","v":0},22548.240000000005,2870.0076319200007,236018.33781639076,211107.63668729048,188826.15088308635,168896.37824963001,151070.10576889984,135125.31821905175,120863.4331118531,108106.82747035159,96696.625644321655,86490.72061209449,77362.004125308173,69196.783654121798,61893.366416924677,55360.792859503294,49517.703809931394,7393285994.2880507,746796.56507960113]
[{"$f":"IF(ISBLANK(InfoPro!A191),\"\",InfoPro!A191)","v":"SC_2084_A1"},{"$f":"IF(ISBLANK(InfoPro!B191),\"\",InfoPro!B191)","v":"Parque Solar Codazzi 1 19,9 MW"},{"$f":"IF(ISBLANK(InfoPro!E191),\"\",InfoPro!E191)","v":19.899999999999999},{"$f":"IF(ISBLANK(InfoPro!F191),\"\",InfoPro!F191)","v":"Solar FV"},{"$f":"IF(ISBLANK(InfoPro!I191),\"\",YEAR(InfoPro!I191)-$G$3)","v":3},{"$f":"IF(B199=\"\",\"\",VLOOKUP(D199,Tablas!$B$2:$E$13,2,FALSE))","v":0.26},{"$f":"IF(B199=\"\",\"\",VLOOKUP(D199,Tablas!$B$2:$G$13,6,FALSE))","v":0},45324.24,5769.0052399200003,{"$f":"IF($I199=\"\",\"\",(1/(1+$C$4)^(J$7+$E199))*$I199*$C$5)","v":379559.63662357756},339498.78052198351,303666.17220213194,271615.53864233627,242947.70898241174,217305.64309696935,194369.98488101017,173855.08486673539,155505.44263572042,139092.52471889125,124411.91835321223,111280.78564688035,99535.58644622573,89030.041544030144,79633.310862280996,11889724211.299295,597473.57845725107]
[{"$f":"IF(ISBLANK(InfoPro!A192),\"\",InfoPro!A192)","v":"SC_2084_A2"},{"$f":"IF(ISBLANK(InfoPro!B192),\"\",InfoPro!B192)","v":"Parque Solar Codazzi 1 19,9 MW"},{"$f":"IF(ISBLANK(InfoPro!E192),\"\",InfoPro!E192)","v":19.899999999999999},{"$f":"IF(ISBLANK(InfoPro!F192),\"\",InfoPro!F192)","v":"Solar FV"},{"$f":"IF(ISBLANK(InfoPro!I192),\"\",YEAR(InfoPro!I192)-$G$3)","v":3},{"$f":"IF(B200=\"\",\"\",VLOOKUP(D200,Tablas!$B$2:$E$13,2,FALSE))","v":0.26},{"$f":"IF(B200=\"\",\"\",VLOOKUP(D200,Tablas!$B$2:$G$13,6,FALSE))","v":0},45324.24,5769.0052399200003,379559.63662357756,339498.78052198351,303666.17220213194,271615.53864233627,242947.70898241174,217305.64309696935,194369.98488101017,173855.08486673539,155505.44263572042,139092.52471889125,124411.91835321223,111280.78564688035,99535.58644622573,89030.041544030144,79633.310862280996,11889724211.299295,597473.57845725107]
[{"$f":"IF(ISBLANK(InfoPro!A193),\"\",InfoPro!A193)","v":"SC_2086_A1"},{"$f":"IF(ISBLANK(InfoPro!B193),\"\",InfoPro!B193)","v":"PARQUE SOLAR SABANA SOLAR 19.9"},{"$f":"IF(ISBLANK(InfoPro!E193),\"\",InfoPro!E193)","v":19.899999999999999},{"$f":"IF(ISBLANK(InfoPro!F193),\"\",InfoPro!F193)","v":"Solar FV"},{"$f":"IF(ISBLANK(InfoPro!I193),\"\",YEAR(InfoPro!I193)-$G$3)","v":1},{"$f":"IF(B201=\"\",\"\",VLOOKUP(D201,Tablas!$B$2:$E$13,2,FALSE))","v":0.26},{"$f":"IF(B201=\"\",\"\",VLOOKUP(D201,Tablas!$B$2:$G$13,6,FALSE))","v":0},45324.24,5769.0052399200003,474420.69924708846,424347.67374515958,379559.63662357756,339498.78052198351,303666.17220213194,271615.53864233627,242947.70898241174,217305.64309696935,194369.98488101017,173855.08486673539,155505.44263572042,139092.52471889125,124411.91835321223,111280.78564688035,99535.58644622573,14861251645.084061,746796.56507960102]
[{"$f":"IF(ISBLANK(InfoPro!A194),\"\",InfoPro!A194)","v":"SC_2103_A1"},{"$f":"IF(ISBLANK(InfoPro!B194),\"\",InfoPro!B194)","v":"PARQUE SOLAR PUERTA DEL SOL"},{"$f":"IF(ISBLANK(InfoPro!E194),\"\",InfoPro!E194)","v":19.899999999999999},{"$f":"IF(ISBLANK(InfoPro!F194),\"\",InfoPro!F194)","v":"Solar FV"},{"$f":"IF(ISBLANK(InfoPro!I194),\"\",YEAR(InfoPro!I194)-$G$3)","v":1},{"$f":"IF(B202=\"\",\"\",VLOOKUP(D202,Tablas!$B$2:$E$13,2,FALSE))","v":0.26},{"$f":"IF(B202=\"\",\"\",VLOOKUP(D202,Tablas!$B$2:$G$13,6,FALSE))","v":0},45324.24,5769.0052399200003,474420.69924708846,424347.67374515958,379559.63662357756,339498.78052198351,303666.17220213194,271615.53864233627,242947.70898241174,217305.64309696935,194369.98488101017,173855.08486673539,155505.44263572042,139092.52471889125,124411.91835321223,111280.78564688035,99535.58644622573,14861251645.084061,746796.56507960102]
[{"$f":"IF(ISBLANK(InfoPro!A195),\"\",InfoPro!A195)","v":"SC_2125_A1"},{"$f":"IF(ISBLANK(InfoPro!B195),\"\",InfoPro!B195)","v":"Expansión Valledupar 100 MW"},{"$f":"IF(ISBLANK(InfoPro!E195),\"\",InfoPro!E195)","v":100},{"$f":"IF(ISBLANK(InfoPro!F195),\"\",InfoPro!F195)","v":"Solar FV"},{"$f":"IF(ISBLANK(InfoPro!I195),\"\",YEAR(InfoPro!I195)-$G$3)","v":4},{"$f":"IF(B203=\"\",\"\",VLOOKUP(D203,Tablas!$B$2:$E$13,2,FALSE))","v":0.26},{"$f":"IF(B203=\"\",\"\",VLOOKUP(D203,Tablas!$B$2:$G$13,6,FALSE))","v":0},227760,28989.97608,1706024.0227235351,1525960.6643323214,1364902.2042328457,1220842.7587055864,1091988.1562661775,976733.59236688516,873643.64254640893,781434.38510412257,698957.41064769472,625185.51936287549,559199.92787377059,500178.82636294333,447387.14343733742,400167.39126774372,357931.47698367055,53441286087.410645,534412.86087410641]
[{"$f":"IF(ISBLANK(InfoPro!A196),\"\",InfoPro!A196)","v":"SC_2125_A2"},{"$f":"IF(ISBLANK(InfoPro!B196),\"\",InfoPro!B196)","v":"Expansión Valledupar 100 MW"},{"$f":"IF(ISBLANK(InfoPro!E196),\"\",InfoPro!E196)","v":100},{"$f":"IF(ISBLANK(InfoPro!F196),\"\",InfoPro!F196)","v":"Solar FV"},{"$f":"IF(ISBLANK(InfoPro!I196),\"\",YEAR(InfoPro!I196)-$G$3)","v":4},{"$f":"IF(B204=\"\",\"\",VLOOKUP(D204,Tablas!$B$2:$E$13,2,FALSE))","v":0.26},{"$f":"IF(B204=\"\",\"\",VLOOKUP(D204,Tablas!$B$2:$G$13,6,FALSE))","v":0},227760,28989.97608,1706024.0227235351,1525960.6643323214,1364902.2042328457,1220842.7587055864,1091988.1562661775,976733.59236688516,873643.64254640893,781434.38510412257,698957.41064769472,625185.51936287549,559199.92787377059,500178.82636294333,447387.14343733742,400167.39126774372,357931.47698367055,53441286087.410645,534412.86087410641]
[{"$f":"IF(ISBLANK(InfoPro!A197),\"\",InfoPro!A197)","v":"SC_2129_A2"},{"$f":"IF(ISBLANK(InfoPro!B197),\"\",InfoPro!B197)","v":"DSE LA JAGUA DE IBIRICO"},{"$f":"IF(ISBLANK(InfoPro!E197),\"\",InfoPro!E197)","v":9.9},{"$f":"IF(ISBLANK(InfoPro!F197),\"\",InfoPro!F197)","v":"Solar FV"},{"$f":"IF(ISBLANK(InfoPro!I197),\"\",YEAR(InfoPro!I197)-$G$3)","v":2},{"$f":"IF(B205=\"\",\"\",VLOOKUP(D205,Tablas!$B$2:$E$13,2,FALSE))","v":0.26},{"$f":"IF(B205=\"\",\"\",VLOOKUP(D205,Tablas!$B$2:$G$13,6,FALSE))","v":0},22548.240000000005,2870.0076319200007,211107.63668729048,188826.15088308635,168896.37824963001,151070.10576889984,135125.31821905175,120863.4331118531,108106.82747035159,96696.625644321655,86490.72061209449,77362.004125308173,69196.783654121798,61893.366416924677,55360.792859503294,49517.703809931394,44291.327200296415,6612957061.0805454,667975.46071520657]
[{"$f":"IF(ISBLANK(InfoPro!A198),\"\",InfoPro!A198)","v":"SC_2130_A1"},{"$f":"IF(ISBLANK(InfoPro!B198),\"\",InfoPro!B198)","v":"Parque Solar Boreal"},{"$f":"IF(ISBLANK(InfoPro!E198),\"\",InfoPro!E198)","v":100},{"$f":"IF(ISBLANK(InfoPro!F198),\"\",InfoPro!F198)","v":"Solar FV"},{"$f":"IF(ISBLANK(InfoPro!I198),\"\",YEAR(InfoPro!I198)-$G$3)","v":5},{"$f":"IF(B206=\"\",\"\",VLOOKUP(D206,Tablas!$B$2:$E$13,2,FALSE))","v":0.26},{"$f":"IF(B206=\"\",\"\",VLOOKUP(D206,Tablas!$B$2:$G$13,6,FALSE))","v":0},227760,28989.97608,1525960.6643323214,1364902.2042328457,1220842.7587055864,1091988.1562661775,976733.59236688516,873643.64254640893,781434.38510412257,698957.41064769472,625185.51936287549,559199.92787377059,500178.82636294333,447387.14343733742,400167.39126774372,357931.47698367055,320153.37833959813,47800792564.768021,478007.92564768018]
[{"$f":"IF(ISBLANK(InfoPro!A199),\"\",InfoPro!A199)","v":"SC_2130_A2"},{"$f":"IF(ISBLANK(InfoPro!B199),\"\",InfoPro!B199)","v":"Parque Solar Boreal"},{"$f":"IF(ISBLANK(InfoPro!E199),\"\",InfoPro!E199)","v":100},{"$f":"IF(ISBLANK(InfoPro!F199),\"\",InfoPro!F199)","v":"Solar FV"},{"$f":"IF(ISBLANK(InfoPro!I199),\"\",YEAR(InfoPro!I199)-$G$3)","v":5},{"$f":"IF(B207=\"\",\"\",VLOOKUP(D207,Tablas!$B$2:$E$13,2,FALSE))","v":0.26},{"$f":"IF(B207=\"\",\"\",VLOOKUP(D207,Tablas!$B$2:$G$13,6,FALSE))","v":0},227760,28989.97608,1525960.6643323214,1364902.2042328457,1220842.7587055864,1091988.1562661775,976733.59236688516,873643.64254640893,781434.38510412257,698957.41064769472,625185.51936287549,559199.92787377059,500178.82636294333,447387.14343733742,400167.39126774372,357931.47698367055,320153.37833959813,47800792564.768021,478007.92564768018]
[{"$f":"IF(ISBLANK(InfoPro!A200),\"\",InfoPro!A200)","v":"SC_2132_A1"},{"$f":"IF(ISBLANK(InfoPro!B200),\"\",InfoPro!B200)","v":"El Encanto 9,9 MW"},{"$f":"IF(ISBLANK(InfoPro!E200),\"\",InfoPro!E200)","v":9.9},{"$f":"IF(ISBLANK(InfoPro!F200),\"\",InfoPro!F200)","v":"Solar FV"},{"$f":"IF(ISBLANK(InfoPro!I200),\"\",YEAR(InfoPro!I200)-$G$3)","v":1},{"$f":"IF(B208=\"\",\"\",VLOOKUP(D208,Tablas!$B$2:$E$13,2,FALSE))","v":0.26},{"$f":"IF(B208=\"\",\"\",VLOOKUP(D208,Tablas!$B$2:$G$13,6,FALSE))","v":0},22548.240000000005,2870.0076319200007,236018.33781639076,211107.63668729048,188826.15088308635,168896.37824963001,151070.10576889984,135125.31821905175,120863.4331118531,108106.82747035159,96696.625644321655,86490.72061209449,77362.004125308173,69196.783654121798,61893.366416924677,55360.792859503294,49517.703809931394,7393285994.2880507,746796.56507960113]
[{"$f":"IF(ISBLANK(InfoPro!A201),\"\",InfoPro!A201)","v":"SC_2137_A1"},{"$f":"IF(ISBLANK(InfoPro!B201),\"\",InfoPro!B201)","v":"La Unión 9,9"},{"$f":"IF(ISBLANK(InfoPro!E201),\"\",InfoPro!E201)","v":9.9},{"$f":"IF(ISBLANK(InfoPro!F201),\"\",InfoPro!F201)","v":"Solar FV"},{"$f":"IF(ISBLANK(InfoPro!I201),\"\",YEAR(InfoPro!I201)-$G$3)","v":1},{"$f":"IF(B209=\"\",\"\",VLOOKUP(D209,Tablas!$B$2:$E$13,2,FALSE))","v":0.26},{"$f":"IF(B209=\"\",\"\",VLOOKUP(D209,Tablas!$B$2:$G$13,6,FALSE))","v":0},22548.240000000005,2870.0076319200007,236018.33781639076,211107.63668729048,188826.15088308635,168896.37824963001,151070.10576889984,135125.31821905175,120863.4331118531,108106.82747035159,96696.625644321655,86490.72061209449,77362.004125308173,69196.783654121798,61893.366416924677,55360.792859503294,49517.703809931394,7393285994.2880507,746796.56507960113]
[{"$f":"IF(ISBLANK(InfoPro!A202),\"\",InfoPro!A202)","v":"SC_2159_A1"},{"$f":"IF(ISBLANK(InfoPro!B202),\"\",InfoPro!B202)","v":"DSE IBIRICO"},{"$f":"IF(ISBLANK(InfoPro!E202),\"\",InfoPro!E202)","v":19.899999999999999},{"$f":"IF(ISBLANK(InfoPro!F202),\"\",InfoPro!F202)","v":"Solar FV"},{"$f":"IF(ISBLANK(InfoPro!I202),\"\",YEAR(InfoPro!I202)-$G$3)","v":2},{"$f":"IF(B210=\"\",\"\",VLOOKUP(D210,Tablas!$B$2:$E$13,2,FALSE))","v":0.26},{"$f":"IF(B210=\"\",\"\",VLOOKUP(D210,Tablas!$B$2:$G$13,6,FALSE))","v":0},45324.24,5769.0052399200003,424347.67374515958,379559.63662357756,339498.78052198351,303666.17220213194,271615.53864233627,242947.70898241174,217305.64309696935,194369.98488101017,173855.08486673539,155505.44263572042,139092.52471889125,124411.91835321223,111280.78564688035,99535.58644622573,89030.041544030144,13292711668.232615,667975.46071520681]
[{"$f":"IF(ISBLANK(InfoPro!A203),\"\",InfoPro!A203)","v":"SC_2159_A2"},{"$f":"IF(ISBLANK(InfoPro!B203),\"\",InfoPro!B203)","v":"DSE IBIRICO"},{"$f":"IF(ISBLANK(InfoPro!E203),\"\",InfoPro!E203)","v":19.899999999999999},{"$f":"IF(ISBLANK(InfoPro!F203),\"\",InfoPro!F203)","v":"Solar FV"},{"$f":"IF(ISBLANK(InfoPro!I203),\"\",YEAR(InfoPro!I203)-$G$3)","v":2},{"$f":"IF(B211=\"\",\"\",VLOOKUP(D211,Tablas!$B$2:$E$13,2,FALSE))","v":0.26},{"$f":"IF(B211=\"\",\"\",VLOOKUP(D211,Tablas!$B$2:$G$13,6,FALSE))","v":0},45324.24,5769.0052399200003,424347.67374515958,379559.63662357756,339498.78052198351,303666.17220213194,271615.53864233627,242947.70898241174,217305.64309696935,194369.98488101017,173855.08486673539,155505.44263572042,139092.52471889125,124411.91835321223,111280.78564688035,99535.58644622573,89030.041544030144,13292711668.232615,667975.46071520681]
[{"$f":"IF(ISBLANK(InfoPro!A204),\"\",InfoPro!A204)","v":"SC_2162_A1"},{"$f":"IF(ISBLANK(InfoPro!B204),\"\",InfoPro!B204)","v":"Parque Solar Codazzi 2"},{"$f":"IF(ISBLANK(InfoPro!E204),\"\",InfoPro!E204)","v":9.9},{"$f":"IF(ISBLANK(InfoPro!F204),\"\",InfoPro!F204)","v":"Solar FV"},{"$f":"IF(ISBLANK(InfoPro!I204),\"\",YEAR(InfoPro!I204)-$G$3)","v":3},{"$f":"IF(B212=\"\",\"\",VLOOKUP(D212,Tablas!$B$2:$E$13,2,FALSE))","v":0.26},{"$f":"IF(B212=\"\",\"\",VLOOKUP(D212,Tablas!$B$2:$G$13,6,FALSE))","v":0},22548.240000000005,2870.0076319200007,188826.15088308635,168896.37824963001,151070.10576889984,135125.31821905175,120863.4331118531,108106.82747035159,96696.625644321655,86490.72061209449,77362.004125308173,69196.783654121798,61893.366416924677,55360.792859503294,49517.703809931394,44291.327200296415,39616.571735506637,5914988426.7267857,597473.57845725107]
[{"$f":"IF(ISBLANK(InfoPro!A205),\"\",InfoPro!A205)","v":"SC_2162_A2"},{"$f":"IF(ISBLANK(InfoPro!B205),\"\",InfoPro!B205)","v":"Parque Solar Codazzi 2"},{"$f":"IF(ISBLANK(InfoPro!E205),\"\",InfoPro!E205)","v":9.9},{"$f":"IF(ISBLANK(InfoPro!F205),\"\",InfoPro!F205)","v":"Solar FV"},{"$f":"IF(ISBLANK(InfoPro!I205),\"\",YEAR(InfoPro!I205)-$G$3)","v":3},{"$f":"IF(B213=\"\",\"\",VLOOKUP(D213,Tablas!$B$2:$E$13,2,FALSE))","v":0.26},{"$f":"IF(B213=\"\",\"\",VLOOKUP(D213,Tablas!$B$2:$G$13,6,FALSE))","v":0},22548.240000000005,2870.0076319200007,188826.15088308635,168896.37824963001,151070.10576889984,135125.31821905175,120863.4331118531,108106.82747035159,96696.625644321655,86490.72061209449,77362.004125308173,69196.783654121798,61893.366416924677,55360.792859503294,49517.703809931394,44291.327200296415,39616.571735506637,5914988426.7267857,597473.57845725107]
[{"$f":"IF(ISBLANK(InfoPro!A206),\"\",InfoPro!A206)","v":"SC_2200_A1"},{"$f":"IF(ISBLANK(InfoPro!B206),\"\",InfoPro!B206)","v":"Parque Eólico Wakuaipa"},{"$f":"IF(ISBLANK(InfoPro!E206),\"\",InfoPro!E206)","v":200},{"$f":"IF(ISBLANK(InfoPro!F206),\"\",InfoPro!F206)","v":"Eólico Onshore"},{"$f":"IF(ISBLANK(InfoPro!I206),\"\",YEAR(InfoPro!I206)-$G$3)","v":3},{"$f":"IF(B214=\"\",\"\",VLOOKUP(D214,Tablas!$B$2:$E$13,2,FALSE))","v":0.56999999999999995},{"$f":"IF(B214=\"\",\"\",VLOOKUP(D214,Tablas!$B$2:$G$13,6,FALSE))","v":0},998639.99999999988,127109.89511999999,8362929.7593907677,7480259.176557037,6690750.6051494079,5984571.2031747838,5352925.9420168018,4787948.0697824704,4282601.1357624959,3830591.3557804078,3426289.2269949992,3064659.4159168149,2741198.046437223,2451876.6068311473,2193091.777129828,1961620.5519944793,1754580.100173953,261969184400.48697,1309845.9220024347]
[{"$f":"IF(ISBLANK(InfoPro!A207),\"\",InfoPro!A207)","v":"SC_2200_A2"},{"$f":"IF(ISBLANK(InfoPro!B207),\"\",InfoPro!B207)","v":"Parque Eólico Wakuaipa"},{"$f":"IF(ISBLANK(InfoPro!E207),\"\",InfoPro!E207)","v":200},{"$f":"IF(ISBLANK(InfoPro!F207),\"\",InfoPro!F207)","v":"Eólico Onshore"},{"$f":"IF(ISBLANK(InfoPro!I207),\"\",YEAR(InfoPro!I207)-$G$3)","v":3},{"$f":"IF(B215=\"\",\"\",VLOOKUP(D215,Tablas!$B$2:$E$13,2,FALSE))","v":0.56999999999999995},{"$f":"IF(B215=\"\",\"\",VLOOKUP(D215,Tablas!$B$2:$G$13,6,FALSE))","v":0},998639.99999999988,127109.89511999999,8362929.7593907677,7480259.176557037,6690750.6051494079,5984571.2031747838,5352925.9420168018,4787948.0697824704,4282601.1357624959,3830591.3557804078,3426289.2269949992,3064659.4159168149,2741198.046437223,2451876.6068311473,2193091.777129828,1961620.5519944793,1754580.100173953,261969184400.48697,1309845.9220024347]
[{"$f":"IF(ISBLANK(InfoPro!A208),\"\",InfoPro!A208)","v":"SC_2206_A1"},{"$f":"IF(ISBLANK(InfoPro!B208),\"\",InfoPro!B208)","v":"Parque Fotovoltaico Lyra"},{"$f":"IF(ISBLANK(InfoPro!E208),\"\",InfoPro!E208)","v":19.899999999999999},{"$f":"IF(ISBLANK(InfoPro!F208),\"\",InfoPro!F208)","v":"Solar FV"},{"$f":"IF(ISBLANK(InfoPro!I208),\"\",YEAR(InfoPro!I208)-$G$3)","v":2},{"$f":"IF(B216=\"\",\"\",VLOOKUP(D216,Tablas!$B$2:$E$13,2,FALSE))","v":0.26},{"$f":"IF(B216=\"\",\"\",VLOOKUP(D216,Tablas!$B$2:$G$13,6,FALSE))","v":0},{"$f":"IF(C216=\"\",\"\",+C216*F216*24*365)","v":45324.24},{"$f":"IF(H216=\"\",\"\",+H216*($C$3-G216))","v":5769.0052399200003},{"$f":"IF($I216=\"\",\"\",(1/(1+$C$4)^(J$7+$E216))*$I216*$C$5)","v":424347.67374515958},379559.63662357756,339498.78052198351,303666.17220213194,271615.53864233627,242947.70898241174,217305.64309696935,194369.98488101017,173855.08486673539,155505.44263572042,139092.52471889125,124411.91835321223,111280.78564688035,99535.58644622573,89030.041544030144,{"$f":"IF(X216=\"\",\"\",SUM(J216:X216)*$C$6)","v":13292711668.232615},{"$f":"IF(C216=0,0,IF(Y216=\"\",\"\",Y216/(C216*1000)))","v":667975.46071520681}]
[{"$f":"IF(ISBLANK(InfoPro!A209),\"\",InfoPro!A209)","v":"SC_2206_A2"},{"$f":"IF(ISBLANK(InfoPro!B209),\"\",InfoPro!B209)","v":"Parque Fotovoltaico Lyra"},{"$f":"IF(ISBLANK(InfoPro!E209),\"\",InfoPro!E209)","v":19.899999999999999},{"$f":"IF(ISBLANK(InfoPro!F209),\"\",InfoPro!F209)","v":"Solar FV"},{"$f":"IF(ISBLANK(InfoPro!I209),\"\",YEAR(InfoPro!I209)-$G$3)","v":2},{"$f":"IF(B217=\"\",\"\",VLOOKUP(D217,Tablas!$B$2:$E$13,2,FALSE))","v":0.26},{"$f":"IF(B217=\"\",\"\",VLOOKUP(D217,Tablas!$B$2:$G$13,6,FALSE))","v":0},45324.24,5769.0052399200003,424347.67374515958,379559.63662357756,339498.78052198351,303666.17220213194,271615.53864233627,242947.70898241174,217305.64309696935,194369.98488101017,173855.08486673539,155505.44263572042,139092.52471889125,124411.91835321223,111280.78564688035,99535.58644622573,89030.041544030144,13292711668.232615,667975.46071520681]
[{"$f":"IF(ISBLANK(InfoPro!A210),\"\",InfoPro!A210)","v":"SC_2212_A1"},{"$f":"IF(ISBLANK(InfoPro!B210),\"\",InfoPro!B210)","v":"Aguaraní 200 MW"},{"$f":"IF(ISBLANK(InfoPro!E210),\"\",InfoPro!E210)","v":200},{"$f":"IF(ISBLANK(InfoPro!F210),\"\",InfoPro!F210)","v":"Solar FV"},{"$f":"IF(ISBLANK(InfoPro!I210),\"\",YEAR(InfoPro!I210)-$G$3)","v":4},{"$f":"IF(B218=\"\",\"\",VLOOKUP(D218,Tablas!$B$2:$E$13,2,FALSE))","v":0.26},{"$f":"IF(B218=\"\",\"\",VLOOKUP(D218,Tablas!$B$2:$G$13,6,FALSE))","v":0},455520,57979.952160000001,3412048.0454470702,3051921.3286646428,2729804.4084656914,2441685.5174111729,2183976.3125323551,1953467.1847337703,1747287.2850928179,1562868.7702082451,1397914.8212953894,1250371.038725751,1118399.8557475412,1000357.6527258867,894774.28687467484,800334.78253548744,715862.95396734111,106882572174.82129,534412.86087410641]
[{"$f":"IF(ISBLANK(InfoPro!A211),\"\",InfoPro!A211)","v":"SC_2212_A2"},{"$f":"IF(ISBLANK(InfoPro!B211),\"\",InfoPro!B211)","v":"Aguaraní 200 MW"},{"$f":"IF(ISBLANK(InfoPro!E211),\"\",InfoPro!E211)","v":200},{"$f":"IF(ISBLANK(InfoPro!F211),\"\",InfoPro!F211)","v":"Solar FV"},{"$f":"IF(ISBLANK(InfoPro!I211),\"\",YEAR(InfoPro!I211)-$G$3)","v":4},{"$f":"IF(B219=\"\",\"\",VLOOKUP(D219,Tablas!$B$2:$E$13,2,FALSE))","v":0.26},{"$f":"IF(B219=\"\",\"\",VLOOKUP(D219,Tablas!$B$2:$G$13,6,FALSE))","v":0},455520,57979.952160000001,3412048.0454470702,3051921.3286646428,2729804.4084656914,2441685.5174111729,2183976.3125323551,1953467.1847337703,1747287.2850928179,1562868.7702082451,1397914.8212953894,1250371.038725751,1118399.8557475412,1000357.6527258867,894774.28687467484,800334.78253548744,715862.95396734111,106882572174.82129,534412.86087410641]
[{"$f":"IF(ISBLANK(InfoPro!A212),\"\",InfoPro!A212)","v":"SC_2227_A1"},{"$f":"IF(ISBLANK(InfoPro!B212),\"\",InfoPro!B212)","v":"Generación Solar Fotovoltaica Sabana Solar - 9.9 MW"},{"$f":"IF(ISBLANK(InfoPro!E212),\"\",InfoPro!E212)","v":9.9},{"$f":"IF(ISBLANK(InfoPro!F212),\"\",InfoPro!F212)","v":"Solar FV"},{"$f":"IF(ISBLANK(InfoPro!I212),\"\",YEAR(InfoPro!I212)-$G$3)","v":1},{"$f":"IF(B220=\"\",\"\",VLOOKUP(D220,Tablas!$B$2:$E$13,2,FALSE))","v":0.26},{"$f":"IF(B220=\"\",\"\",VLOOKUP(D220,Tablas!$B$2:$G$13,6,FALSE))","v":0},22548.240000000005,2870.0076319200007,236018.33781639076,211107.63668729048,188826.15088308635,168896.37824963001,151070.10576889984,135125.31821905175,120863.4331118531,108106.82747035159,96696.625644321655,86490.72061209449,77362.004125308173,69196.783654121798,61893.366416924677,55360.792859503294,49517.703809931394,7393285994.2880507,746796.56507960113]
[{"$f":"IF(ISBLANK(InfoPro!A213),\"\",InfoPro!A213)","v":"SC_2227_A2"},{"$f":"IF(ISBLANK(InfoPro!B213),\"\",InfoPro!B213)","v":"Generación Solar Fotovoltaica Sabana Solar - 9.9 MW"},{"$f":"IF(ISBLANK(InfoPro!E213),\"\",InfoPro!E213)","v":9.9},{"$f":"IF(ISBLANK(InfoPro!F213),\"\",InfoPro!F213)","v":"Solar FV"},{"$f":"IF(ISBLANK(InfoPro!I213),\"\",YEAR(InfoPro!I213)-$G$3)","v":1},{"$f":"IF(B221=\"\",\"\",VLOOKUP(D221,Tablas!$B$2:$E$13,2,FALSE))","v":0.26},{"$f":"IF(B221=\"\",\"\",VLOOKUP(D221,Tablas!$B$2:$G$13,6,FALSE))","v":0},22548.240000000005,2870.0076319200007,236018.33781639076,211107.63668729048,188826.15088308635,168896.37824963001,151070.10576889984,135125.31821905175,120863.4331118531,108106.82747035159,96696.625644321655,86490.72061209449,77362.004125308173,69196.783654121798,61893.366416924677,55360.792859503294,49517.703809931394,7393285994.2880507,746796.56507960113]
[{"$f":"IF(ISBLANK(InfoPro!A214),\"\",InfoPro!A214)","v":"SC_2242_A1"},{"$f":"IF(ISBLANK(InfoPro!B214),\"\",InfoPro!B214)","v":"Parque Eólico San Juan 100 MW"},{"$f":"IF(ISBLANK(InfoPro!E214),\"\",InfoPro!E214)","v":100},{"$f":"IF(ISBLANK(InfoPro!F214),\"\",InfoPro!F214)","v":"Solar FV"},{"$f":"IF(ISBLANK(InfoPro!I214),\"\",YEAR(InfoPro!I214)-$G$3)","v":3},{"$f":"IF(B222=\"\",\"\",VLOOKUP(D222,Tablas!$B$2:$E$13,2,FALSE))","v":0.26},{"$f":"IF(B222=\"\",\"\",VLOOKUP(D222,Tablas!$B$2:$G$13,6,FALSE))","v":0},227760,28989.97608,1907334.8574049121,1706024.0227235351,1525960.6643323214,1364902.2042328457,1220842.7587055864,1091988.1562661775,976733.59236688516,873643.64254640893,781434.38510412257,698957.41064769472,625185.51936287549,559199.92787377059,500178.82636294333,447387.14343733742,400167.39126774372,59747357845.72509,597473.57845725096]
[{"$f":"IF(ISBLANK(InfoPro!A215),\"\",InfoPro!A215)","v":"SC_2242_A2"},{"$f":"IF(ISBLANK(InfoPro!B215),\"\",InfoPro!B215)","v":"Parque Eólico San Juan 100 MW"},{"$f":"IF(ISBLANK(InfoPro!E215),\"\",InfoPro!E215)","v":100},{"$f":"IF(ISBLANK(InfoPro!F215),\"\",InfoPro!F215)","v":"Solar FV"},{"$f":"IF(ISBLANK(InfoPro!I215),\"\",YEAR(InfoPro!I215)-$G$3)","v":3},{"$f":"IF(B223=\"\",\"\",VLOOKUP(D223,Tablas!$B$2:$E$13,2,FALSE))","v":0.26},{"$f":"IF(B223=\"\",\"\",VLOOKUP(D223,Tablas!$B$2:$G$13,6,FALSE))","v":0},227760,28989.97608,1907334.8574049121,1706024.0227235351,1525960.6643323214,1364902.2042328457,1220842.7587055864,1091988.1562661775,976733.59236688516,873643.64254640893,781434.38510412257,698957.41064769472,625185.51936287549,559199.92787377059,500178.82636294333,447387.14343733742,400167.39126774372,59747357845.72509,597473.57845725096]
[{"$f":"IF(ISBLANK(InfoPro!A216),\"\",InfoPro!A216)","v":"SC_2260_A1"},{"$f":"IF(ISBLANK(InfoPro!B216),\"\",InfoPro!B216)","v":"Parque Solar Fotovoltaico Tayrona I"},{"$f":"IF(ISBLANK(InfoPro!E216),\"\",InfoPro!E216)","v":50},{"$f":"IF(ISBLANK(InfoPro!F216),\"\",InfoPro!F216)","v":"Solar FV"},{"$f":"IF(ISBLANK(InfoPro!I216),\"\",YEAR(InfoPro!I216)-$G$3)","v":5},{"$f":"IF(B224=\"\",\"\",VLOOKUP(D224,Tablas!$B$2:$E$13,2,FALSE))","v":0.26},{"$f":"IF(B224=\"\",\"\",VLOOKUP(D224,Tablas!$B$2:$G$13,6,FALSE))","v":0},113880,14494.98804,762980.33216616069,682451.10211642284,610421.37935279321,545994.07813308877,488366.79618344258,436821.82127320446,390717.19255206129,349478.70532384736,312592.75968143775,279599.96393688529,250089.41318147167,223693.57171866871,200083.69563387186,178965.73849183528,160076.68916979906,23900396282.38401,478007.92564768018]
[{"$f":"IF(ISBLANK(InfoPro!A217),\"\",InfoPro!A217)","v":"SC_2261_A1"},{"$f":"IF(ISBLANK(InfoPro!B217),\"\",InfoPro!B217)","v":"Parque Solar Fotovoltaico Tayrona II"},{"$f":"IF(ISBLANK(InfoPro!E217),\"\",InfoPro!E217)","v":50},{"$f":"IF(ISBLANK(InfoPro!F217),\"\",InfoPro!F217)","v":"Solar FV"},{"$f":"IF(ISBLANK(InfoPro!I217),\"\",YEAR(InfoPro!I217)-$G$3)","v":5},{"$f":"IF(B225=\"\",\"\",VLOOKUP(D225,Tablas!$B$2:$E$13,2,FALSE))","v":0.26},{"$f":"IF(B225=\"\",\"\",VLOOKUP(D225,Tablas!$B$2:$G$13,6,FALSE))","v":0},113880,14494.98804,762980.33216616069,682451.10211642284,610421.37935279321,545994.07813308877,488366.79618344258,436821.82127320446,390717.19255206129,349478.70532384736,312592.75968143775,279599.96393688529,250089.41318147167,223693.57171866871,200083.69563387186,178965.73849183528,160076.68916979906,23900396282.38401,478007.92564768018]
[{"$f":"IF(ISBLANK(InfoPro!A218),\"\",InfoPro!A218)","v":"SC_2271_A1"},{"$f":"IF(ISBLANK(InfoPro!B218),\"\",InfoPro!B218)","v":"San Angel 19,9 MW"},{"$f":"IF(ISBLANK(InfoPro!E218),\"\",InfoPro!E218)","v":19.899999999999999},{"$f":"IF(ISBLANK(InfoPro!F218),\"\",InfoPro!F218)","v":"Solar FV"},{"$f":"IF(ISBLANK(InfoPro!I218),\"\",YEAR(InfoPro!I218)-$G$3)","v":1},{"$f":"IF(B226=\"\",\"\",VLOOKUP(D226,Tablas!$B$2:$E$13,2,FALSE))","v":0.26},{"$f":"IF(B226=\"\",\"\",VLOOKUP(D226,Tablas!$B$2:$G$13,6,FALSE))","v":0},45324.24,5769.0052399200003,474420.69924708846,424347.67374515958,379559.63662357756,339498.78052198351,303666.17220213194,271615.53864233627,242947.70898241174,217305.64309696935,194369.98488101017,173855.08486673539,155505.44263572042,139092.52471889125,124411.91835321223,111280.78564688035,99535.58644622573,14861251645.084061,746796.56507960102]
[{"$f":"IF(ISBLANK(InfoPro!A219),\"\",InfoPro!A219)","v":"SC_2271_A2"},{"$f":"IF(ISBLANK(InfoPro!B219),\"\",InfoPro!B219)","v":"San Angel 19,9 MW"},{"$f":"IF(ISBLANK(InfoPro!E219),\"\",InfoPro!E219)","v":19.899999999999999},{"$f":"IF(ISBLANK(InfoPro!F219),\"\",InfoPro!F219)","v":"Solar FV"},{"$f":"IF(ISBLANK(InfoPro!I219),\"\",YEAR(InfoPro!I219)-$G$3)","v":1},{"$f":"IF(B227=\"\",\"\",VLOOKUP(D227,Tablas!$B$2:$E$13,2,FALSE))","v":0.26},{"$f":"IF(B227=\"\",\"\",VLOOKUP(D227,Tablas!$B$2:$G$13,6,FALSE))","v":0},45324.24,5769.0052399200003,474420.69924708846,424347.67374515958,379559.63662357756,339498.78052198351,303666.17220213194,271615.53864233627,242947.70898241174,217305.64309696935,194369.98488101017,173855.08486673539,155505.44263572042,139092.52471889125,124411.91835321223,111280.78564688035,99535.58644622573,14861251645.084061,746796.56507960102]
[{"$f":"IF(ISBLANK(InfoPro!A220),\"\",InfoPro!A220)","v":"SC_2275_A1"},{"$f":"IF(ISBLANK(InfoPro!B220),\"\",InfoPro!B220)","v":"TERMOCOSTA"},{"$f":"IF(ISBLANK(InfoPro!E220),\"\",InfoPro!E220)","v":93},{"$f":"IF(ISBLANK(InfoPro!F220),\"\",InfoPro!F220)","v":"Termica - Ciclo abierto"},{"$f":"IF(ISBLANK(InfoPro!I220),\"\",YEAR(InfoPro!I220)-$G$3)","v":2},{"$f":"IF(B228=\"\",\"\",VLOOKUP(D228,Tablas!$B$2:$E$13,2,FALSE))","v":0.85},{"$f":"IF(B228=\"\",\"\",VLOOKUP(D228,Tablas!$B$2:$G$13,6,FALSE))","v":0.95},692477.99999999988,-569713.42272599984,-41906109.559803978,-37483103.362973154,-33526926.084949158,-29988305.979382075,-26823171.71679971,-23992103.503398668,-21459842.131841388,-19194849.849589791,-17168917.575661711,-15356813.573937135,-13735969.207457185,-12286197.859979594,-10989443.524132017,-9829555.9249839168,-8792089.3783398159,-1312710934879.2432,-14115171.34278756]
[{"$f":"IF(ISBLANK(InfoPro!A221),\"\",InfoPro!A221)","v":"SC_2275_A2"},{"$f":"IF(ISBLANK(InfoPro!B221),\"\",InfoPro!B221)","v":"TERMOCOSTA"},{"$f":"IF(ISBLANK(InfoPro!E221),\"\",InfoPro!E221)","v":93},{"$f":"IF(ISBLANK(InfoPro!F221),\"\",InfoPro!F221)","v":"Termica - Ciclo abierto"},{"$f":"IF(ISBLANK(InfoPro!I221),\"\",YEAR(InfoPro!I221)-$G$3)","v":2},{"$f":"IF(B229=\"\",\"\",VLOOKUP(D229,Tablas!$B$2:$E$13,2,FALSE))","v":0.85},{"$f":"IF(B229=\"\",\"\",VLOOKUP(D229,Tablas!$B$2:$G$13,6,FALSE))","v":0.95},692477.99999999988,-569713.42272599984,-41906109.559803978,-37483103.362973154,-33526926.084949158,-29988305.979382075,-26823171.71679971,-23992103.503398668,-21459842.131841388,-19194849.849589791,-17168917.575661711,-15356813.573937135,-13735969.207457185,-12286197.859979594,-10989443.524132017,-9829555.9249839168,-8792089.3783398159,-1312710934879.2432,-14115171.34278756]
[{"$f":"IF(ISBLANK(InfoPro!A222),\"\",InfoPro!A222)","v":"SC_2292_A1"},{"$f":"IF(ISBLANK(InfoPro!B222),\"\",InfoPro!B222)","v":"PARQUE SOLAR LAS PALMERAS"},{"$f":"IF(ISBLANK(InfoPro!E222),\"\",InfoPro!E222)","v":200},{"$f":"IF(ISBLANK(InfoPro!F222),\"\",InfoPro!F222)","v":"Solar FV"},{"$f":"IF(ISBLANK(InfoPro!I222),\"\",YEAR(InfoPro!I222)-$G$3)","v":2},{"$f":"IF(B230=\"\",\"\",VLOOKUP(D230,Tablas!$B$2:$E$13,2,FALSE))","v":0.26},{"$f":"IF(B230=\"\",\"\",VLOOKUP(D230,Tablas!$B$2:$G$13,6,FALSE))","v":0},455520,57979.952160000001,4264800.7411573827,3814669.7148098242,3412048.0454470702,3051921.3286646428,2729804.4084656914,2441685.5174111729,2183976.3125323551,1953467.1847337703,1747287.2850928179,1562868.7702082451,1397914.8212953894,1250371.038725751,1118399.8557475412,1000357.6527258867,894774.28687467484,133595092143.04129,667975.46071520646]
[{"$f":"IF(ISBLANK(InfoPro!A223),\"\",InfoPro!A223)","v":"SC_2292_A2"},{"$f":"IF(ISBLANK(InfoPro!B223),\"\",InfoPro!B223)","v":"PARQUE SOLAR LAS PALMERAS"},{"$f":"IF(ISBLANK(InfoPro!E223),\"\",InfoPro!E223)","v":200},{"$f":"IF(ISBLANK(InfoPro!F223),\"\",InfoPro!F223)","v":"Solar FV"},{"$f":"IF(ISBLANK(InfoPro!I223),\"\",YEAR(InfoPro!I223)-$G$3)","v":2},{"$f":"IF(B231=\"\",\"\",VLOOKUP(D231,Tablas!$B$2:$E$13,2,FALSE))","v":0.26},{"$f":"IF(B231=\"\",\"\",VLOOKUP(D231,Tablas!$B$2:$G$13,6,FALSE))","v":0},455520,57979.952160000001,4264800.7411573827,3814669.7148098242,3412048.0454470702,3051921.3286646428,2729804.4084656914,2441685.5174111729,2183976.3125323551,1953467.1847337703,1747287.2850928179,1562868.7702082451,1397914.8212953894,1250371.038725751,1118399.8557475412,1000357.6527258867,894774.28687467484,133595092143.04129,667975.46071520646]
[{"$f":"IF(ISBLANK(InfoPro!A224),\"\",InfoPro!A224)","v":"SC_2295_A1"},{"$f":"IF(ISBLANK(InfoPro!B224),\"\",InfoPro!B224)","v":"Parque Solar San Jose 200 MW"},{"$f":"IF(ISBLANK(InfoPro!E224),\"\",InfoPro!E224)","v":200},{"$f":"IF(ISBLANK(InfoPro!F224),\"\",InfoPro!F224)","v":"Solar FV"},{"$f":"IF(ISBLANK(InfoPro!I224),\"\",YEAR(InfoPro!I224)-$G$3)","v":2},{"$f":"IF(B232=\"\",\"\",VLOOKUP(D232,Tablas!$B$2:$E$13,2,FALSE))","v":0.26},{"$f":"IF(B232=\"\",\"\",VLOOKUP(D232,Tablas!$B$2:$G$13,6,FALSE))","v":0},455520,57979.952160000001,4264800.7411573827,3814669.7148098242,3412048.0454470702,3051921.3286646428,2729804.4084656914,2441685.5174111729,2183976.3125323551,1953467.1847337703,1747287.2850928179,1562868.7702082451,1397914.8212953894,1250371.038725751,1118399.8557475412,1000357.6527258867,894774.28687467484,133595092143.04129,667975.46071520646]
[{"$f":"IF(ISBLANK(InfoPro!A225),\"\",InfoPro!A225)","v":"SC_230_A1"},{"$f":"IF(ISBLANK(InfoPro!B225),\"\",InfoPro!B225)","v":"Proyecto Solar San Martin 300MW"},{"$f":"IF(ISBLANK(InfoPro!E225),\"\",InfoPro!E225)","v":300},{"$f":"IF(ISBLANK(InfoPro!F225),\"\",InfoPro!F225)","v":"Solar FV"},{"$f":"IF(ISBLANK(InfoPro!I225),\"\",YEAR(InfoPro!I225)-$G$3)","v":2},{"$f":"IF(B233=\"\",\"\",VLOOKUP(D233,Tablas!$B$2:$E$13,2,FALSE))","v":0.26},{"$f":"IF(B233=\"\",\"\",VLOOKUP(D233,Tablas!$B$2:$G$13,6,FALSE))","v":0},683280,86969.928240000008,{"$f":"IF($I233=\"\",\"\",(1/(1+$C$4)^(J$7+$E233))*$I233*$C$5)","v":6397201.111736075},5722004.5722147366,5118072.0681706052,4577881.9929969646,4094706.6126985373,3662528.27611676,3275964.4687985331,2930200.7771006557,2620930.9276392269,2344303.1553123682,2096872.2319430842,1875556.5580886265,1677599.7836213119,1500536.4790888301,1342161.4303120123,200392638214.56195,667975.46071520646]
[{"$f":"IF(ISBLANK(InfoPro!A226),\"\",InfoPro!A226)","v":"SC_2341_A1"},{"$f":"IF(ISBLANK(InfoPro!B226),\"\",InfoPro!B226)","v":"Parque Eólico Neguanje"},{"$f":"IF(ISBLANK(InfoPro!E226),\"\",InfoPro!E226)","v":19.899999999999999},{"$f":"IF(ISBLANK(InfoPro!F226),\"\",InfoPro!F226)","v":"Eólico Onshore"},{"$f":"IF(ISBLANK(InfoPro!I226),\"\",YEAR(InfoPro!I226)-$G$3)","v":4},{"$f":"IF(B234=\"\",\"\",VLOOKUP(D234,Tablas!$B$2:$E$13,2,FALSE))","v":0.56999999999999995},{"$f":"IF(B234=\"\",\"\",VLOOKUP(D234,Tablas!$B$2:$G$13,6,FALSE))","v":0},99364.68,12647.43456444,744285.78806742525,665729.68521236617,595464.83471589105,532616.13123067189,476400.8329433559,426118.81300836848,381143.8399001506,340915.77808600245,304933.61188372312,272749.20562050369,243961.7223796992,218212.63182441794,195181.24492345069,174580.71996730834,156154.4901317606,23314788772.673038,1171597.4257624643]
[{"$f":"IF(ISBLANK(InfoPro!A227),\"\",InfoPro!A227)","v":"SC_2341_A2"},{"$f":"IF(ISBLANK(InfoPro!B227),\"\",InfoPro!B227)","v":"Parque Eólico Neguanje"},{"$f":"IF(ISBLANK(InfoPro!E227),\"\",InfoPro!E227)","v":19.899999999999999},{"$f":"IF(ISBLANK(InfoPro!F227),\"\",InfoPro!F227)","v":"Eólico Onshore"},{"$f":"IF(ISBLANK(InfoPro!I227),\"\",YEAR(InfoPro!I227)-$G$3)","v":4},{"$f":"IF(B235=\"\",\"\",VLOOKUP(D235,Tablas!$B$2:$E$13,2,FALSE))","v":0.56999999999999995},{"$f":"IF(B235=\"\",\"\",VLOOKUP(D235,Tablas!$B$2:$G$13,6,FALSE))","v":0},99364.68,12647.43456444,744285.78806742525,665729.68521236617,595464.83471589105,532616.13123067189,476400.8329433559,426118.81300836848,381143.8399001506,340915.77808600245,304933.61188372312,272749.20562050369,243961.7223796992,218212.63182441794,195181.24492345069,174580.71996730834,156154.4901317606,23314788772.673038,1171597.4257624643]
[{"$f":"IF(ISBLANK(InfoPro!A228),\"\",InfoPro!A228)","v":"SC_393_A1"},{"$f":"IF(ISBLANK(InfoPro!B228),\"\",InfoPro!B228)","v":"Copey del verano 99.9 MW"},{"$f":"IF(ISBLANK(InfoPro!E228),\"\",InfoPro!E228)","v":99.9},{"$f":"IF(ISBLANK(InfoPro!F228),\"\",InfoPro!F228)","v":"Solar FV"},{"$f":"IF(ISBLANK(InfoPro!I228),\"\",YEAR(InfoPro!I228)-$G$3)","v":2},{"$f":"IF(B236=\"\",\"\",VLOOKUP(D236,Tablas!$B$2:$E$13,2,FALSE))","v":0.26},{"$f":"IF(B236=\"\",\"\",VLOOKUP(D236,Tablas!$B$2:$G$13,6,FALSE))","v":0},227532.24000000002,28960.986103920004,2130267.9702081131,1905427.5225475074,1704317.9987008118,1524434.7036679892,1363537.3020286129,1219621.9159468811,1090896.1681099115,975756.85877451848,872769.99890386255,780652.9507190187,698258.45323704707,624560.33384351269,558640.72794589691,499678.64753658051,446939.75629390014,66730748525.449165,667975.46071520681]
[{"$f":"IF(ISBLANK(InfoPro!A229),\"\",InfoPro!A229)","v":"SC_393_A2"},{"$f":"IF(ISBLANK(InfoPro!B229),\"\",InfoPro!B229)","v":"Copey del verano 99.9 MW"},{"$f":"IF(ISBLANK(InfoPro!E229),\"\",InfoPro!E229)","v":99.9},{"$f":"IF(ISBLANK(InfoPro!F229),\"\",InfoPro!F229)","v":"Solar FV"},{"$f":"IF(ISBLANK(InfoPro!I229),\"\",YEAR(InfoPro!I229)-$G$3)","v":2},{"$f":"IF(B237=\"\",\"\",VLOOKUP(D237,Tablas!$B$2:$E$13,2,FALSE))","v":0.26},{"$f":"IF(B237=\"\",\"\",VLOOKUP(D237,Tablas!$B$2:$G$13,6,FALSE))","v":0},227532.24000000002,28960.986103920004,2130267.9702081131,1905427.5225475074,1704317.9987008118,1524434.7036679892,1363537.3020286129,1219621.9159468811,1090896.1681099115,975756.85877451848,872769.99890386255,780652.9507190187,698258.45323704707,624560.33384351269,558640.72794589691,499678.64753658051,446939.75629390014,66730748525.449165,667975.46071520681]
[{"$f":"IF(ISBLANK(InfoPro!A230),\"\",InfoPro!A230)","v":"SC_394_A1"},{"$f":"IF(ISBLANK(InfoPro!B230),\"\",InfoPro!B230)","v":"Riohacha de 20 del Verano"},{"$f":"IF(ISBLANK(InfoPro!E230),\"\",InfoPro!E230)","v":19.899999999999999},{"$f":"IF(ISBLANK(InfoPro!F230),\"\",InfoPro!F230)","v":"Solar FV"},{"$f":"IF(ISBLANK(InfoPro!I230),\"\",YEAR(InfoPro!I230)-$G$3)","v":2},{"$f":"IF(B238=\"\",\"\",VLOOKUP(D238,Tablas!$B$2:$E$13,2,FALSE))","v":0.26},{"$f":"IF(B238=\"\",\"\",VLOOKUP(D238,Tablas!$B$2:$G$13,6,FALSE))","v":0},45324.24,5769.0052399200003,424347.67374515958,379559.63662357756,339498.78052198351,303666.17220213194,271615.53864233627,242947.70898241174,217305.64309696935,194369.98488101017,173855.08486673539,155505.44263572042,139092.52471889125,124411.91835321223,111280.78564688035,99535.58644622573,89030.041544030144,13292711668.232615,667975.46071520681]
[{"$f":"IF(ISBLANK(InfoPro!A231),\"\",InfoPro!A231)","v":"SC_394_A2"},{"$f":"IF(ISBLANK(InfoPro!B231),\"\",InfoPro!B231)","v":"Riohacha de 20 del Verano"},{"$f":"IF(ISBLANK(InfoPro!E231),\"\",InfoPro!E231)","v":19.899999999999999},{"$f":"IF(ISBLANK(InfoPro!F231),\"\",InfoPro!F231)","v":"Solar FV"},{"$f":"IF(ISBLANK(InfoPro!I231),\"\",YEAR(InfoPro!I231)-$G$3)","v":2},{"$f":"IF(B239=\"\",\"\",VLOOKUP(D239,Tablas!$B$2:$E$13,2,FALSE))","v":0.26},{"$f":"IF(B239=\"\",\"\",VLOOKUP(D239,Tablas!$B$2:$G$13,6,FALSE))","v":0},45324.24,5769.0052399200003,424347.67374515958,379559.63662357756,339498.78052198351,303666.17220213194,271615.53864233627,242947.70898241174,217305.64309696935,194369.98488101017,173855.08486673539,155505.44263572042,139092.52471889125,124411.91835321223,111280.78564688035,99535.58644622573,89030.041544030144,13292711668.232615,667975.46071520681]
[{"$f":"IF(ISBLANK(InfoPro!A232),\"\",InfoPro!A232)","v":"SC_407_A1"},{"$f":"IF(ISBLANK(InfoPro!B232),\"\",InfoPro!B232)","v":"Portugal I 19.9 MW"},{"$f":"IF(ISBLANK(InfoPro!E232),\"\",InfoPro!E232)","v":19.899999999999999},{"$f":"IF(ISBLANK(InfoPro!F232),\"\",InfoPro!F232)","v":"Solar FV"},{"$f":"IF(ISBLANK(InfoPro!I232),\"\",YEAR(InfoPro!I232)-$G$3)","v":2},{"$f":"IF(B240=\"\",\"\",VLOOKUP(D240,Tablas!$B$2:$E$13,2,FALSE))","v":0.26},{"$f":"IF(B240=\"\",\"\",VLOOKUP(D240,Tablas!$B$2:$G$13,6,FALSE))","v":0},45324.24,5769.0052399200003,424347.67374515958,379559.63662357756,339498.78052198351,303666.17220213194,271615.53864233627,242947.70898241174,217305.64309696935,194369.98488101017,173855.08486673539,155505.44263572042,139092.52471889125,124411.91835321223,111280.78564688035,99535.58644622573,89030.041544030144,13292711668.232615,667975.46071520681]
[{"$f":"IF(ISBLANK(InfoPro!A233),\"\",InfoPro!A233)","v":"SC_42_A1"},{"$f":"IF(ISBLANK(InfoPro!B233),\"\",InfoPro!B233)","v":"Santa Marta 1 - 50 MW"},{"$f":"IF(ISBLANK(InfoPro!E233),\"\",InfoPro!E233)","v":50},{"$f":"IF(ISBLANK(InfoPro!F233),\"\",InfoPro!F233)","v":"Solar FV"},{"$f":"IF(ISBLANK(InfoPro!I233),\"\",YEAR(InfoPro!I233)-$G$3)","v":2},{"$f":"IF(B241=\"\",\"\",VLOOKUP(D241,Tablas!$B$2:$E$13,2,FALSE))","v":0.26},{"$f":"IF(B241=\"\",\"\",VLOOKUP(D241,Tablas!$B$2:$G$13,6,FALSE))","v":0},113880,14494.98804,1066200.1852893457,953667.42870245606,853012.01136176754,762980.33216616069,682451.10211642284,610421.37935279321,545994.07813308877,488366.79618344258,436821.82127320446,390717.19255206129,349478.70532384736,312592.75968143775,279599.96393688529,250089.41318147167,223693.57171866871,33398773035.760323,667975.46071520646]
[{"$f":"IF(ISBLANK(InfoPro!A234),\"\",InfoPro!A234)","v":"SC_482_A1"},{"$f":"IF(ISBLANK(InfoPro!B234),\"\",InfoPro!B234)","v":"La Santa Maria - 99.9MW"},{"$f":"IF(ISBLANK(InfoPro!E234),\"\",InfoPro!E234)","v":99.9},{"$f":"IF(ISBLANK(InfoPro!F234),\"\",InfoPro!F234)","v":"Solar FV"},{"$f":"IF(ISBLANK(InfoPro!I234),\"\",YEAR(InfoPro!I234)-$G$3)","v":2},{"$f":"IF(B242=\"\",\"\",VLOOKUP(D242,Tablas!$B$2:$E$13,2,FALSE))","v":0.26},{"$f":"IF(B242=\"\",\"\",VLOOKUP(D242,Tablas!$B$2:$G$13,6,FALSE))","v":0},227532.24000000002,28960.986103920004,2130267.9702081131,1905427.5225475074,1704317.9987008118,1524434.7036679892,1363537.3020286129,1219621.9159468811,1090896.1681099115,975756.85877451848,872769.99890386255,780652.9507190187,698258.45323704707,624560.33384351269,558640.72794589691,499678.64753658051,446939.75629390014,66730748525.449165,667975.46071520681]
[{"$f":"IF(ISBLANK(InfoPro!A235),\"\",InfoPro!A235)","v":"SC_482_A2"},{"$f":"IF(ISBLANK(InfoPro!B235),\"\",InfoPro!B235)","v":"La Santa Maria - 99.9MW"},{"$f":"IF(ISBLANK(InfoPro!E235),\"\",InfoPro!E235)","v":99.9},{"$f":"IF(ISBLANK(InfoPro!F235),\"\",InfoPro!F235)","v":"Solar FV"},{"$f":"IF(ISBLANK(InfoPro!I235),\"\",YEAR(InfoPro!I235)-$G$3)","v":2},{"$f":"IF(B243=\"\",\"\",VLOOKUP(D243,Tablas!$B$2:$E$13,2,FALSE))","v":0.26},{"$f":"IF(B243=\"\",\"\",VLOOKUP(D243,Tablas!$B$2:$G$13,6,FALSE))","v":0},227532.24000000002,28960.986103920004,2130267.9702081131,1905427.5225475074,1704317.9987008118,1524434.7036679892,1363537.3020286129,1219621.9159468811,1090896.1681099115,975756.85877451848,872769.99890386255,780652.9507190187,698258.45323704707,624560.33384351269,558640.72794589691,499678.64753658051,446939.75629390014,66730748525.449165,667975.46071520681]
[{"$f":"IF(ISBLANK(InfoPro!A236),\"\",InfoPro!A236)","v":"SC_497_A1"},{"$f":"IF(ISBLANK(InfoPro!B236),\"\",InfoPro!B236)","v":"Portugal II - 9.9 MW"},{"$f":"IF(ISBLANK(InfoPro!E236),\"\",InfoPro!E236)","v":9.9},{"$f":"IF(ISBLANK(InfoPro!F236),\"\",InfoPro!F236)","v":"Solar FV"},{"$f":"IF(ISBLANK(InfoPro!I236),\"\",YEAR(InfoPro!I236)-$G$3)","v":2},{"$f":"IF(B244=\"\",\"\",VLOOKUP(D244,Tablas!$B$2:$E$13,2,FALSE))","v":0.26},{"$f":"IF(B244=\"\",\"\",VLOOKUP(D244,Tablas!$B$2:$G$13,6,FALSE))","v":0},22548.240000000005,2870.0076319200007,211107.63668729048,188826.15088308635,168896.37824963001,151070.10576889984,135125.31821905175,120863.4331118531,108106.82747035159,96696.625644321655,86490.72061209449,77362.004125308173,69196.783654121798,61893.366416924677,55360.792859503294,49517.703809931394,44291.327200296415,6612957061.0805454,667975.46071520657]
[{"$f":"IF(ISBLANK(InfoPro!A237),\"\",InfoPro!A237)","v":"SC_502_A1"},{"$f":"IF(ISBLANK(InfoPro!B237),\"\",InfoPro!B237)","v":"RUBÍ 40 MW"},{"$f":"IF(ISBLANK(InfoPro!E237),\"\",InfoPro!E237)","v":40},{"$f":"IF(ISBLANK(InfoPro!F237),\"\",InfoPro!F237)","v":"Solar FV"},{"$f":"IF(ISBLANK(InfoPro!I237),\"\",YEAR(InfoPro!I237)-$G$3)","v":3},{"$f":"IF(B245=\"\",\"\",VLOOKUP(D245,Tablas!$B$2:$E$13,2,FALSE))","v":0.26},{"$f":"IF(B245=\"\",\"\",VLOOKUP(D245,Tablas!$B$2:$G$13,6,FALSE))","v":0},91104.000000000015,11595.990432000002,762933.94296196511,682409.60908941412,610384.26573292864,545960.88169313839,488337.1034822347,436795.26250647113,390693.43694675417,349457.45701856364,312573.75404164911,279582.96425907797,250074.20774515023,223679.97114950826,200071.53054517737,178954.857374935,160066.95650709752,23898943138.290051,597473.57845725131]
[{"$f":"IF(ISBLANK(InfoPro!A238),\"\",InfoPro!A238)","v":"SC_507_A1"},{"$f":"IF(ISBLANK(InfoPro!B238),\"\",InfoPro!B238)","v":"PARQUE FOTOVOLTAICO CATAY 2"},{"$f":"IF(ISBLANK(InfoPro!E238),\"\",InfoPro!E238)","v":100},{"$f":"IF(ISBLANK(InfoPro!F238),\"\",InfoPro!F238)","v":"Solar FV"},{"$f":"IF(ISBLANK(InfoPro!I238),\"\",YEAR(InfoPro!I238)-$G$3)","v":4},{"$f":"IF(B246=\"\",\"\",VLOOKUP(D246,Tablas!$B$2:$E$13,2,FALSE))","v":0.26},{"$f":"IF(B246=\"\",\"\",VLOOKUP(D246,Tablas!$B$2:$G$13,6,FALSE))","v":0},227760,28989.97608,1706024.0227235351,1525960.6643323214,1364902.2042328457,1220842.7587055864,1091988.1562661775,976733.59236688516,873643.64254640893,781434.38510412257,698957.41064769472,625185.51936287549,559199.92787377059,500178.82636294333,447387.14343733742,400167.39126774372,357931.47698367055,53441286087.410645,534412.86087410641]
[{"$f":"IF(ISBLANK(InfoPro!A239),\"\",InfoPro!A239)","v":"SC_507_A2"},{"$f":"IF(ISBLANK(InfoPro!B239),\"\",InfoPro!B239)","v":"PARQUE FOTOVOLTAICO CATAY 2"},{"$f":"IF(ISBLANK(InfoPro!E239),\"\",InfoPro!E239)","v":100},{"$f":"IF(ISBLANK(InfoPro!F239),\"\",InfoPro!F239)","v":"Solar FV"},{"$f":"IF(ISBLANK(InfoPro!I239),\"\",YEAR(InfoPro!I239)-$G$3)","v":4},{"$f":"IF(B247=\"\",\"\",VLOOKUP(D247,Tablas!$B$2:$E$13,2,FALSE))","v":0.26},{"$f":"IF(B247=\"\",\"\",VLOOKUP(D247,Tablas!$B$2:$G$13,6,FALSE))","v":0},227760,28989.97608,1706024.0227235351,1525960.6643323214,1364902.2042328457,1220842.7587055864,1091988.1562661775,976733.59236688516,873643.64254640893,781434.38510412257,698957.41064769472,625185.51936287549,559199.92787377059,500178.82636294333,447387.14343733742,400167.39126774372,357931.47698367055,53441286087.410645,534412.86087410641]
[{"$f":"IF(ISBLANK(InfoPro!A240),\"\",InfoPro!A240)","v":"SC_543_A1"},{"$f":"IF(ISBLANK(InfoPro!B240),\"\",InfoPro!B240)","v":"Sabana I 350 MW"},{"$f":"IF(ISBLANK(InfoPro!E240),\"\",InfoPro!E240)","v":350},{"$f":"IF(ISBLANK(InfoPro!F240),\"\",InfoPro!F240)","v":"Solar FV"},{"$f":"IF(ISBLANK(InfoPro!I240),\"\",YEAR(InfoPro!I240)-$G$3)","v":4},{"$f":"IF(B248=\"\",\"\",VLOOKUP(D248,Tablas!$B$2:$E$13,2,FALSE))","v":0.26},{"$f":"IF(B248=\"\",\"\",VLOOKUP(D248,Tablas!$B$2:$G$13,6,FALSE))","v":0},797160,101464.91628,5971084.0795323737,5340862.3251631251,4777157.71481496,4272949.6554695526,3821958.5469316216,3418567.5732840984,3057752.7489124308,2735020.3478644295,2446350.9372669314,2188149.3177700643,1957199.747558197,1750625.8922703017,1565855.0020306811,1400585.8694371032,1252760.1694428469,187044501305.93732,534412.86087410664]
[{"$f":"IF(ISBLANK(InfoPro!A241),\"\",InfoPro!A241)","v":"SC_56_A2"},{"$f":"IF(ISBLANK(InfoPro!B241),\"\",InfoPro!B241)","v":"PV LATAMSOLAR LA LOMA 200 MW"},{"$f":"IF(ISBLANK(InfoPro!E241),\"\",InfoPro!E241)","v":200},{"$f":"IF(ISBLANK(InfoPro!F241),\"\",InfoPro!F241)","v":"Solar FV"},{"$f":"IF(ISBLANK(InfoPro!I241),\"\",YEAR(InfoPro!I241)-$G$3)","v":1},{"$f":"IF(B249=\"\",\"\",VLOOKUP(D249,Tablas!$B$2:$E$13,2,FALSE))","v":0.26},{"$f":"IF(B249=\"\",\"\",VLOOKUP(D249,Tablas!$B$2:$G$13,6,FALSE))","v":0},455520,57979.952160000001,4768047.228613954,4264800.7411573827,3814669.7148098242,3412048.0454470702,3051921.3286646428,2729804.4084656914,2441685.5174111729,2183976.3125323551,1953467.1847337703,1747287.2850928179,1562868.7702082451,1397914.8212953894,1250371.038725751,1118399.8557475412,1000357.6527258867,149359313015.9202,746796.56507960102]
[{"$f":"IF(ISBLANK(InfoPro!A242),\"\",InfoPro!A242)","v":"SC_587_A1"},{"$f":"IF(ISBLANK(InfoPro!B242),\"\",InfoPro!B242)","v":"Cactus del Cesar - El Paso"},{"$f":"IF(ISBLANK(InfoPro!E242),\"\",InfoPro!E242)","v":19.899999999999999},{"$f":"IF(ISBLANK(InfoPro!F242),\"\",InfoPro!F242)","v":"Solar FV"},{"$f":"IF(ISBLANK(InfoPro!I242),\"\",YEAR(InfoPro!I242)-$G$3)","v":6},{"$f":"IF(B250=\"\",\"\",VLOOKUP(D250,Tablas!$B$2:$E$13,2,FALSE))","v":0.26},{"$f":"IF(B250=\"\",\"\",VLOOKUP(D250,Tablas!$B$2:$G$13,6,FALSE))","v":0},45324.24,5769.0052399200003,{"$f":"IF($I250=\"\",\"\",(1/(1+$C$4)^(J$7+$E250))*$I250*$C$5)","v":271615.53864233627},242947.70898241174,217305.64309696935,194369.98488101017,173855.08486673539,155505.44263572042,139092.52471889125,124411.91835321223,111280.78564688035,99535.58644622573,89030.041544030144,79633.310862280996,71228.363919750438,63710.522289580025,56986.155894078729,8508370054.0150595,427556.28412135976]
[{"$f":"IF(ISBLANK(InfoPro!A243),\"\",InfoPro!A243)","v":"SC_587_A2"},{"$f":"IF(ISBLANK(InfoPro!B243),\"\",InfoPro!B243)","v":"Cactus del Cesar - El Paso"},{"$f":"IF(ISBLANK(InfoPro!E243),\"\",InfoPro!E243)","v":19.899999999999999},{"$f":"IF(ISBLANK(InfoPro!F243),\"\",InfoPro!F243)","v":"Solar FV"},{"$f":"IF(ISBLANK(InfoPro!I243),\"\",YEAR(InfoPro!I243)-$G$3)","v":6},{"$f":"IF(B251=\"\",\"\",VLOOKUP(D251,Tablas!$B$2:$E$13,2,FALSE))","v":0.26},{"$f":"IF(B251=\"\",\"\",VLOOKUP(D251,Tablas!$B$2:$G$13,6,FALSE))","v":0},45324.24,5769.0052399200003,271615.53864233627,242947.70898241174,217305.64309696935,194369.98488101017,173855.08486673539,155505.44263572042,139092.52471889125,124411.91835321223,111280.78564688035,99535.58644622573,89030.041544030144,79633.310862280996,71228.363919750438,63710.522289580025,56986.155894078729,8508370054.0150595,427556.28412135976]
[{"$f":"IF(ISBLANK(InfoPro!A244),\"\",InfoPro!A244)","v":"SC_599_A1"},{"$f":"IF(ISBLANK(InfoPro!B244),\"\",InfoPro!B244)","v":"La Fortuna - 19,9 MW"},{"$f":"IF(ISBLANK(InfoPro!E244),\"\",InfoPro!E244)","v":19.899999999999999},{"$f":"IF(ISBLANK(InfoPro!F244),\"\",InfoPro!F244)","v":"Solar FV"},{"$f":"IF(ISBLANK(InfoPro!I244),\"\",YEAR(InfoPro!I244)-$G$3)","v":2},{"$f":"IF(B252=\"\",\"\",VLOOKUP(D252,Tablas!$B$2:$E$13,2,FALSE))","v":0.26},{"$f":"IF(B252=\"\",\"\",VLOOKUP(D252,Tablas!$B$2:$G$13,6,FALSE))","v":0},45324.24,5769.0052399200003,424347.67374515958,379559.63662357756,339498.78052198351,303666.17220213194,271615.53864233627,242947.70898241174,217305.64309696935,194369.98488101017,173855.08486673539,155505.44263572042,139092.52471889125,124411.91835321223,111280.78564688035,99535.58644622573,89030.041544030144,13292711668.232615,667975.46071520681]
[{"$f":"IF(ISBLANK(InfoPro!A245),\"\",InfoPro!A245)","v":"SC_599_A2"},{"$f":"IF(ISBLANK(InfoPro!B245),\"\",InfoPro!B245)","v":"La Fortuna - 19,9 MW"},{"$f":"IF(ISBLANK(InfoPro!E245),\"\",InfoPro!E245)","v":19.899999999999999},{"$f":"IF(ISBLANK(InfoPro!F245),\"\",InfoPro!F245)","v":"Solar FV"},{"$f":"IF(ISBLANK(InfoPro!I245),\"\",YEAR(InfoPro!I245)-$G$3)","v":2},{"$f":"IF(B253=\"\",\"\",VLOOKUP(D253,Tablas!$B$2:$E$13,2,FALSE))","v":0.26},{"$f":"IF(B253=\"\",\"\",VLOOKUP(D253,Tablas!$B$2:$G$13,6,FALSE))","v":0},45324.24,5769.0052399200003,424347.67374515958,379559.63662357756,339498.78052198351,303666.17220213194,271615.53864233627,242947.70898241174,217305.64309696935,194369.98488101017,173855.08486673539,155505.44263572042,139092.52471889125,124411.91835321223,111280.78564688035,99535.58644622573,89030.041544030144,13292711668.232615,667975.46071520681]
[{"$f":"IF(ISBLANK(InfoPro!A246),\"\",InfoPro!A246)","v":"SC_623_A1"},{"$f":"IF(ISBLANK(InfoPro!B246),\"\",InfoPro!B246)","v":"TR SOLAR 6"},{"$f":"IF(ISBLANK(InfoPro!E246),\"\",InfoPro!E246)","v":120.3},{"$f":"IF(ISBLANK(InfoPro!F246),\"\",InfoPro!F246)","v":"Solar FV"},{"$f":"IF(ISBLANK(InfoPro!I246),\"\",YEAR(InfoPro!I246)-$G$3)","v":3},{"$f":"IF(B254=\"\",\"\",VLOOKUP(D254,Tablas!$B$2:$E$13,2,FALSE))","v":0.26},{"$f":"IF(B254=\"\",\"\",VLOOKUP(D254,Tablas!$B$2:$G$13,6,FALSE))","v":0},273995.28000000003,34874.941224240007,2294523.8334581098,2052346.899336413,1835730.6791917831,1641977.3516921133,1468673.8387228209,1313661.7519882119,1175010.5116173632,1050993.3019833299,940065.5652802597,840845.76500917692,752098.17979353934,672717.51323214616,601715.12811462092,538206.73355511704,481401.37169509573,71876071488.407303,597473.57845725107]
[{"$f":"IF(ISBLANK(InfoPro!A247),\"\",InfoPro!A247)","v":"SC_623_A2"},{"$f":"IF(ISBLANK(InfoPro!B247),\"\",InfoPro!B247)","v":"TR SOLAR 6"},{"$f":"IF(ISBLANK(InfoPro!E247),\"\",InfoPro!E247)","v":120.3},{"$f":"IF(ISBLANK(InfoPro!F247),\"\",InfoPro!F247)","v":"Solar FV"},{"$f":"IF(ISBLANK(InfoPro!I247),\"\",YEAR(InfoPro!I247)-$G$3)","v":3},{"$f":"IF(B255=\"\",\"\",VLOOKUP(D255,Tablas!$B$2:$E$13,2,FALSE))","v":0.26},{"$f":"IF(B255=\"\",\"\",VLOOKUP(D255,Tablas!$B$2:$G$13,6,FALSE))","v":0},273995.28000000003,34874.941224240007,2294523.8334581098,2052346.899336413,1835730.6791917831,1641977.3516921133,1468673.8387228209,1313661.7519882119,1175010.5116173632,1050993.3019833299,940065.5652802597,840845.76500917692,752098.17979353934,672717.51323214616,601715.12811462092,538206.73355511704,481401.37169509573,71876071488.407303,597473.57845725107]
[{"$f":"IF(ISBLANK(InfoPro!A248),\"\",InfoPro!A248)","v":"SC_628_A1"},{"$f":"IF(ISBLANK(InfoPro!B248),\"\",InfoPro!B248)","v":"TR Solar 13"},{"$f":"IF(ISBLANK(InfoPro!E248),\"\",InfoPro!E248)","v":110},{"$f":"IF(ISBLANK(InfoPro!F248),\"\",InfoPro!F248)","v":"Solar FV"},{"$f":"IF(ISBLANK(InfoPro!I248),\"\",YEAR(InfoPro!I248)-$G$3)","v":3},{"$f":"IF(B256=\"\",\"\",VLOOKUP(D256,Tablas!$B$2:$E$13,2,FALSE))","v":0.26},{"$f":"IF(B256=\"\",\"\",VLOOKUP(D256,Tablas!$B$2:$G$13,6,FALSE))","v":0},250536.00000000003,31888.973688000005,2098068.3431454035,1876626.424995889,1678556.7307655537,1501392.4246561304,1342927.0345761455,1201186.9718927955,1074406.951603574,961008.00680104992,859577.82361453515,768853.15171246429,687704.07129916316,615119.92066114768,550196.70899923774,492125.85778107122,440184.13039451814,65722093630.29763,597473.57845725119]
[{"$f":"IF(ISBLANK(InfoPro!A249),\"\",InfoPro!A249)","v":"SC_628_A2"},{"$f":"IF(ISBLANK(InfoPro!B249),\"\",InfoPro!B249)","v":"TR Solar 13"},{"$f":"IF(ISBLANK(InfoPro!E249),\"\",InfoPro!E249)","v":110},{"$f":"IF(ISBLANK(InfoPro!F249),\"\",InfoPro!F249)","v":"Solar FV"},{"$f":"IF(ISBLANK(InfoPro!I249),\"\",YEAR(InfoPro!I249)-$G$3)","v":3},{"$f":"IF(B257=\"\",\"\",VLOOKUP(D257,Tablas!$B$2:$E$13,2,FALSE))","v":0.26},{"$f":"IF(B257=\"\",\"\",VLOOKUP(D257,Tablas!$B$2:$G$13,6,FALSE))","v":0},250536.00000000003,31888.973688000005,2098068.3431454035,1876626.424995889,1678556.7307655537,1501392.4246561304,1342927.0345761455,1201186.9718927955,1074406.951603574,961008.00680104992,859577.82361453515,768853.15171246429,687704.07129916316,615119.92066114768,550196.70899923774,492125.85778107122,440184.13039451814,65722093630.29763,597473.57845725119]
[{"$f":"IF(ISBLANK(InfoPro!A250),\"\",InfoPro!A250)","v":"SC_657_A1"},{"$f":"IF(ISBLANK(InfoPro!B250),\"\",InfoPro!B250)","v":"TR Solar 7"},{"$f":"IF(ISBLANK(InfoPro!E250),\"\",InfoPro!E250)","v":99.9},{"$f":"IF(ISBLANK(InfoPro!F250),\"\",InfoPro!F250)","v":"Solar FV"},{"$f":"IF(ISBLANK(InfoPro!I250),\"\",YEAR(InfoPro!I250)-$G$3)","v":3},{"$f":"IF(B258=\"\",\"\",VLOOKUP(D258,Tablas!$B$2:$E$13,2,FALSE))","v":0.26},{"$f":"IF(B258=\"\",\"\",VLOOKUP(D258,Tablas!$B$2:$G$13,6,FALSE))","v":0},227532.24000000002,28960.986103920004,1905427.5225475074,1704317.9987008118,1524434.7036679892,1363537.3020286129,1219621.9159468811,1090896.1681099115,975756.85877451848,872769.99890386255,780652.9507190187,698258.45323704707,624560.33384351269,558640.72794589691,499678.64753658051,446939.75629390014,399767.223876476,59687610487.879402,597473.57845725131]
[{"$f":"IF(ISBLANK(InfoPro!A251),\"\",InfoPro!A251)","v":"SC_657_A2"},{"$f":"IF(ISBLANK(InfoPro!B251),\"\",InfoPro!B251)","v":"TR Solar 7"},{"$f":"IF(ISBLANK(InfoPro!E251),\"\",InfoPro!E251)","v":99.9},{"$f":"IF(ISBLANK(InfoPro!F251),\"\",InfoPro!F251)","v":"Solar FV"},{"$f":"IF(ISBLANK(InfoPro!I251),\"\",YEAR(InfoPro!I251)-$G$3)","v":3},{"$f":"IF(B259=\"\",\"\",VLOOKUP(D259,Tablas!$B$2:$E$13,2,FALSE))","v":0.26},{"$f":"IF(B259=\"\",\"\",VLOOKUP(D259,Tablas!$B$2:$G$13,6,FALSE))","v":0},227532.24000000002,28960.986103920004,1905427.5225475074,1704317.9987008118,1524434.7036679892,1363537.3020286129,1219621.9159468811,1090896.1681099115,975756.85877451848,872769.99890386255,780652.9507190187,698258.45323704707,624560.33384351269,558640.72794589691,499678.64753658051,446939.75629390014,399767.223876476,59687610487.879402,597473.57845725131]
[{"$f":"IF(ISBLANK(InfoPro!A252),\"\",InfoPro!A252)","v":"SC_658_A1"},{"$f":"IF(ISBLANK(InfoPro!B252),\"\",InfoPro!B252)","v":"TR Solar 8"},{"$f":"IF(ISBLANK(InfoPro!E252),\"\",InfoPro!E252)","v":200},{"$f":"IF(ISBLANK(InfoPro!F252),\"\",InfoPro!F252)","v":"Solar FV"},{"$f":"IF(ISBLANK(InfoPro!I252),\"\",YEAR(InfoPro!I252)-$G$3)","v":3},{"$f":"IF(B260=\"\",\"\",VLOOKUP(D260,Tablas!$B$2:$E$13,2,FALSE))","v":0.26},{"$f":"IF(B260=\"\",\"\",VLOOKUP(D260,Tablas!$B$2:$G$13,6,FALSE))","v":0},455520,57979.952160000001,3814669.7148098242,3412048.0454470702,3051921.3286646428,2729804.4084656914,2441685.5174111729,2183976.3125323551,1953467.1847337703,1747287.2850928179,1562868.7702082451,1397914.8212953894,1250371.038725751,1118399.8557475412,1000357.6527258867,894774.28687467484,800334.78253548744,119494715691.45018,597473.57845725096]
[{"$f":"IF(ISBLANK(InfoPro!A253),\"\",InfoPro!A253)","v":"SC_658_A2"},{"$f":"IF(ISBLANK(InfoPro!B253),\"\",InfoPro!B253)","v":"TR Solar 8"},{"$f":"IF(ISBLANK(InfoPro!E253),\"\",InfoPro!E253)","v":200},{"$f":"IF(ISBLANK(InfoPro!F253),\"\",InfoPro!F253)","v":"Solar FV"},{"$f":"IF(ISBLANK(InfoPro!I253),\"\",YEAR(InfoPro!I253)-$G$3)","v":3},{"$f":"IF(B261=\"\",\"\",VLOOKUP(D261,Tablas!$B$2:$E$13,2,FALSE))","v":0.26},{"$f":"IF(B261=\"\",\"\",VLOOKUP(D261,Tablas!$B$2:$G$13,6,FALSE))","v":0},455520,57979.952160000001,3814669.7148098242,3412048.0454470702,3051921.3286646428,2729804.4084656914,2441685.5174111729,2183976.3125323551,1953467.1847337703,1747287.2850928179,1562868.7702082451,1397914.8212953894,1250371.038725751,1118399.8557475412,1000357.6527258867,894774.28687467484,800334.78253548744,119494715691.45018,597473.57845725096]
[{"$f":"IF(ISBLANK(InfoPro!A254),\"\",InfoPro!A254)","v":"SC_72_A1"},{"$f":"IF(ISBLANK(InfoPro!B254),\"\",InfoPro!B254)","v":"Santa Marta III"},{"$f":"IF(ISBLANK(InfoPro!E254),\"\",InfoPro!E254)","v":50},{"$f":"IF(ISBLANK(InfoPro!F254),\"\",InfoPro!F254)","v":"Solar FV"},{"$f":"IF(ISBLANK(InfoPro!I254),\"\",YEAR(InfoPro!I254)-$G$3)","v":2},{"$f":"IF(B262=\"\",\"\",VLOOKUP(D262,Tablas!$B$2:$E$13,2,FALSE))","v":0.26},{"$f":"IF(B262=\"\",\"\",VLOOKUP(D262,Tablas!$B$2:$G$13,6,FALSE))","v":0},113880,14494.98804,1066200.1852893457,953667.42870245606,853012.01136176754,762980.33216616069,682451.10211642284,610421.37935279321,545994.07813308877,488366.79618344258,436821.82127320446,390717.19255206129,349478.70532384736,312592.75968143775,279599.96393688529,250089.41318147167,223693.57171866871,33398773035.760323,667975.46071520646]
[{"$f":"IF(ISBLANK(InfoPro!A255),\"\",InfoPro!A255)","v":"SC_735_A1"},{"$f":"IF(ISBLANK(InfoPro!B255),\"\",InfoPro!B255)","v":"EGINA 60"},{"$f":"IF(ISBLANK(InfoPro!E255),\"\",InfoPro!E255)","v":60},{"$f":"IF(ISBLANK(InfoPro!F255),\"\",InfoPro!F255)","v":"Solar FV"},{"$f":"IF(ISBLANK(InfoPro!I255),\"\",YEAR(InfoPro!I255)-$G$3)","v":3},{"$f":"IF(B263=\"\",\"\",VLOOKUP(D263,Tablas!$B$2:$E$13,2,FALSE))","v":0.26},{"$f":"IF(B263=\"\",\"\",VLOOKUP(D263,Tablas!$B$2:$G$13,6,FALSE))","v":0},136656,17393.985648000002,1144400.9144429474,1023614.4136341212,915576.39859939285,818941.3225397073,732505.6552233519,655192.89375970664,586040.15542013117,524186.1855278454,468860.63106247364,419374.44638861681,375111.3116177253,335519.95672426239,300107.29581776599,268432.28606240248,240100.43476064623,35848414707.435074,597473.57845725119]
[{"$f":"IF(ISBLANK(InfoPro!A256),\"\",InfoPro!A256)","v":"SC_735_A2"},{"$f":"IF(ISBLANK(InfoPro!B256),\"\",InfoPro!B256)","v":"EGINA 60"},{"$f":"IF(ISBLANK(InfoPro!E256),\"\",InfoPro!E256)","v":60},{"$f":"IF(ISBLANK(InfoPro!F256),\"\",InfoPro!F256)","v":"Solar FV"},{"$f":"IF(ISBLANK(InfoPro!I256),\"\",YEAR(InfoPro!I256)-$G$3)","v":3},{"$f":"IF(B264=\"\",\"\",VLOOKUP(D264,Tablas!$B$2:$E$13,2,FALSE))","v":0.26},{"$f":"IF(B264=\"\",\"\",VLOOKUP(D264,Tablas!$B$2:$G$13,6,FALSE))","v":0},136656,17393.985648000002,1144400.9144429474,1023614.4136341212,915576.39859939285,818941.3225397073,732505.6552233519,655192.89375970664,586040.15542013117,524186.1855278454,468860.63106247364,419374.44638861681,375111.3116177253,335519.95672426239,300107.29581776599,268432.28606240248,240100.43476064623,35848414707.435074,597473.57845725119]
[{"$f":"IF(ISBLANK(InfoPro!A257),\"\",InfoPro!A257)","v":"SC_758_A1"},{"$f":"IF(ISBLANK(InfoPro!B257),\"\",InfoPro!B257)","v":"JAMAICA 19.9"},{"$f":"IF(ISBLANK(InfoPro!E257),\"\",InfoPro!E257)","v":19.899999999999999},{"$f":"IF(ISBLANK(InfoPro!F257),\"\",InfoPro!F257)","v":"Solar FV"},{"$f":"IF(ISBLANK(InfoPro!I257),\"\",YEAR(InfoPro!I257)-$G$3)","v":2},{"$f":"IF(B265=\"\",\"\",VLOOKUP(D265,Tablas!$B$2:$E$13,2,FALSE))","v":0.26},{"$f":"IF(B265=\"\",\"\",VLOOKUP(D265,Tablas!$B$2:$G$13,6,FALSE))","v":0},45324.24,5769.0052399200003,424347.67374515958,379559.63662357756,339498.78052198351,303666.17220213194,271615.53864233627,242947.70898241174,217305.64309696935,194369.98488101017,173855.08486673539,155505.44263572042,139092.52471889125,124411.91835321223,111280.78564688035,99535.58644622573,89030.041544030144,13292711668.232615,667975.46071520681]
[{"$f":"IF(ISBLANK(InfoPro!A258),\"\",InfoPro!A258)","v":"SC_758_A2"},{"$f":"IF(ISBLANK(InfoPro!B258),\"\",InfoPro!B258)","v":"JAMAICA 19.9"},{"$f":"IF(ISBLANK(InfoPro!E258),\"\",InfoPro!E258)","v":19.899999999999999},{"$f":"IF(ISBLANK(InfoPro!F258),\"\",InfoPro!F258)","v":"Solar FV"},{"$f":"IF(ISBLANK(InfoPro!I258),\"\",YEAR(InfoPro!I258)-$G$3)","v":2},{"$f":"IF(B266=\"\",\"\",VLOOKUP(D266,Tablas!$B$2:$E$13,2,FALSE))","v":0.26},{"$f":"IF(B266=\"\",\"\",VLOOKUP(D266,Tablas!$B$2:$G$13,6,FALSE))","v":0},45324.24,5769.0052399200003,424347.67374515958,379559.63662357756,339498.78052198351,303666.17220213194,271615.53864233627,242947.70898241174,217305.64309696935,194369.98488101017,173855.08486673539,155505.44263572042,139092.52471889125,124411.91835321223,111280.78564688035,99535.58644622573,89030.041544030144,13292711668.232615,667975.46071520681]
[{"$f":"IF(ISBLANK(InfoPro!A259),\"\",InfoPro!A259)","v":"SC_768_A1"},{"$f":"IF(ISBLANK(InfoPro!B259),\"\",InfoPro!B259)","v":"RODAS 19.9"},{"$f":"IF(ISBLANK(InfoPro!E259),\"\",InfoPro!E259)","v":19.899999999999999},{"$f":"IF(ISBLANK(InfoPro!F259),\"\",InfoPro!F259)","v":"Solar FV"},{"$f":"IF(ISBLANK(InfoPro!I259),\"\",YEAR(InfoPro!I259)-$G$3)","v":2},{"$f":"IF(B267=\"\",\"\",VLOOKUP(D267,Tablas!$B$2:$E$13,2,FALSE))","v":0.26},{"$f":"IF(B267=\"\",\"\",VLOOKUP(D267,Tablas!$B$2:$G$13,6,FALSE))","v":0},45324.24,5769.0052399200003,{"$f":"IF($I267=\"\",\"\",(1/(1+$C$4)^(J$7+$E267))*$I267*$C$5)","v":424347.67374515958},379559.63662357756,339498.78052198351,303666.17220213194,271615.53864233627,242947.70898241174,217305.64309696935,194369.98488101017,173855.08486673539,155505.44263572042,139092.52471889125,124411.91835321223,111280.78564688035,99535.58644622573,89030.041544030144,13292711668.232615,667975.46071520681]
[{"$f":"IF(ISBLANK(InfoPro!A260),\"\",InfoPro!A260)","v":"SC_768_A2"},{"$f":"IF(ISBLANK(InfoPro!B260),\"\",InfoPro!B260)","v":"RODAS 19.9"},{"$f":"IF(ISBLANK(InfoPro!E260),\"\",InfoPro!E260)","v":19.899999999999999},{"$f":"IF(ISBLANK(InfoPro!F260),\"\",InfoPro!F260)","v":"Solar FV"},{"$f":"IF(ISBLANK(InfoPro!I260),\"\",YEAR(InfoPro!I260)-$G$3)","v":2},{"$f":"IF(B268=\"\",\"\",VLOOKUP(D268,Tablas!$B$2:$E$13,2,FALSE))","v":0.26},{"$f":"IF(B268=\"\",\"\",VLOOKUP(D268,Tablas!$B$2:$G$13,6,FALSE))","v":0},45324.24,5769.0052399200003,424347.67374515958,379559.63662357756,339498.78052198351,303666.17220213194,271615.53864233627,242947.70898241174,217305.64309696935,194369.98488101017,173855.08486673539,155505.44263572042,139092.52471889125,124411.91835321223,111280.78564688035,99535.58644622573,89030.041544030144,13292711668.232615,667975.46071520681]
[{"$f":"IF(ISBLANK(InfoPro!A261),\"\",InfoPro!A261)","v":"SC_807_A2"},{"$f":"IF(ISBLANK(InfoPro!B261),\"\",InfoPro!B261)","v":"Parque Solar Fotovoltaico La Villa de 120 MW (entrega 100 MW)"},{"$f":"IF(ISBLANK(InfoPro!E261),\"\",InfoPro!E261)","v":100},{"$f":"IF(ISBLANK(InfoPro!F261),\"\",InfoPro!F261)","v":"Solar FV"},{"$f":"IF(ISBLANK(InfoPro!I261),\"\",YEAR(InfoPro!I261)-$G$3)","v":2},{"$f":"IF(B269=\"\",\"\",VLOOKUP(D269,Tablas!$B$2:$E$13,2,FALSE))","v":0.26},{"$f":"IF(B269=\"\",\"\",VLOOKUP(D269,Tablas!$B$2:$G$13,6,FALSE))","v":0},227760,28989.97608,2132400.3705786914,1907334.8574049121,1706024.0227235351,1525960.6643323214,1364902.2042328457,1220842.7587055864,1091988.1562661775,976733.59236688516,873643.64254640893,781434.38510412257,698957.41064769472,625185.51936287549,559199.92787377059,500178.82636294333,447387.14343733742,66797546071.520645,667975.46071520646]
[{"$f":"IF(ISBLANK(InfoPro!A262),\"\",InfoPro!A262)","v":"SC_821_A1"},{"$f":"IF(ISBLANK(InfoPro!B262),\"\",InfoPro!B262)","v":"SPK SOLAR DEL CESAR - 65 MW"},{"$f":"IF(ISBLANK(InfoPro!E262),\"\",InfoPro!E262)","v":65},{"$f":"IF(ISBLANK(InfoPro!F262),\"\",InfoPro!F262)","v":"Solar FV"},{"$f":"IF(ISBLANK(InfoPro!I262),\"\",YEAR(InfoPro!I262)-$G$3)","v":3},{"$f":"IF(B270=\"\",\"\",VLOOKUP(D270,Tablas!$B$2:$E$13,2,FALSE))","v":0.26},{"$f":"IF(B270=\"\",\"\",VLOOKUP(D270,Tablas!$B$2:$G$13,6,FALSE))","v":0},148044,18843.484452000001,1239767.657313193,1108915.6147702979,991874.43181600899,887186.43275134964,793547.79315863119,709792.3015730154,634876.83503847534,567868.36765516584,507932.35031767975,454322.31692100159,406370.58758586901,363479.95311795088,325116.23713591316,290801.64323426929,260108.80432403341,38835782599.721313,597473.57845725096]
[{"$f":"IF(ISBLANK(InfoPro!A263),\"\",InfoPro!A263)","v":"SC_821_A2"},{"$f":"IF(ISBLANK(InfoPro!B263),\"\",InfoPro!B263)","v":"SPK SOLAR DEL CESAR - 65 MW"},{"$f":"IF(ISBLANK(InfoPro!E263),\"\",InfoPro!E263)","v":65},{"$f":"IF(ISBLANK(InfoPro!F263),\"\",InfoPro!F263)","v":"Solar FV"},{"$f":"IF(ISBLANK(InfoPro!I263),\"\",YEAR(InfoPro!I263)-$G$3)","v":3},{"$f":"IF(B271=\"\",\"\",VLOOKUP(D271,Tablas!$B$2:$E$13,2,FALSE))","v":0.26},{"$f":"IF(B271=\"\",\"\",VLOOKUP(D271,Tablas!$B$2:$G$13,6,FALSE))","v":0},148044,18843.484452000001,1239767.657313193,1108915.6147702979,991874.43181600899,887186.43275134964,793547.79315863119,709792.3015730154,634876.83503847534,567868.36765516584,507932.35031767975,454322.31692100159,406370.58758586901,363479.95311795088,325116.23713591316,290801.64323426929,260108.80432403341,38835782599.721313,597473.57845725096]
[{"$f":"IF(ISBLANK(InfoPro!A264),\"\",InfoPro!A264)","v":"SC_822_A1"},{"$f":"IF(ISBLANK(InfoPro!B264),\"\",InfoPro!B264)","v":"SANTA MARTA IV 50 MW"},{"$f":"IF(ISBLANK(InfoPro!E264),\"\",InfoPro!E264)","v":50},{"$f":"IF(ISBLANK(InfoPro!F264),\"\",InfoPro!F264)","v":"Solar FV"},{"$f":"IF(ISBLANK(InfoPro!I264),\"\",YEAR(InfoPro!I264)-$G$3)","v":2},{"$f":"IF(B272=\"\",\"\",VLOOKUP(D272,Tablas!$B$2:$E$13,2,FALSE))","v":0.26},{"$f":"IF(B272=\"\",\"\",VLOOKUP(D272,Tablas!$B$2:$G$13,6,FALSE))","v":0},113880,14494.98804,1066200.1852893457,953667.42870245606,853012.01136176754,762980.33216616069,682451.10211642284,610421.37935279321,545994.07813308877,488366.79618344258,436821.82127320446,390717.19255206129,349478.70532384736,312592.75968143775,279599.96393688529,250089.41318147167,223693.57171866871,33398773035.760323,667975.46071520646]
[{"$f":"IF(ISBLANK(InfoPro!A265),\"\",InfoPro!A265)","v":"SC_825_A1"},{"$f":"IF(ISBLANK(InfoPro!B265),\"\",InfoPro!B265)","v":"OWF GOLETA"},{"$f":"IF(ISBLANK(InfoPro!E265),\"\",InfoPro!E265)","v":325},{"$f":"IF(ISBLANK(InfoPro!F265),\"\",InfoPro!F265)","v":"Eólico Offshore"},{"$f":"IF(ISBLANK(InfoPro!I265),\"\",YEAR(InfoPro!I265)-$G$3)","v":9},{"$f":"IF(B273=\"\",\"\",VLOOKUP(D273,Tablas!$B$2:$E$13,2,FALSE))","v":0.56999999999999995},{"$f":"IF(B273=\"\",\"\",VLOOKUP(D273,Tablas!$B$2:$G$13,6,FALSE))","v":0},1622789.9999999998,206553.57956999997,6959226.8456140561,6224710.9531431627,5567719.993866873,4980071.5508648241,4454446.825460487,3984299.486100615,3563774.1378359706,3187633.3969910285,2851192.6627826737,2550261.7735086526,2281092.8206696361,2040333.4710819642,1824985.2156368198,1632366.0247198748,1460076.9451877235,217998121861.09995,670763.45188030752]
[{"$f":"IF(ISBLANK(InfoPro!A266),\"\",InfoPro!A266)","v":"SC_825_A2"},{"$f":"IF(ISBLANK(InfoPro!B266),\"\",InfoPro!B266)","v":"OWF GOLETA"},{"$f":"IF(ISBLANK(InfoPro!E266),\"\",InfoPro!E266)","v":325},{"$f":"IF(ISBLANK(InfoPro!F266),\"\",InfoPro!F266)","v":"Eólico Offshore"},{"$f":"IF(ISBLANK(InfoPro!I266),\"\",YEAR(InfoPro!I266)-$G$3)","v":9},{"$f":"IF(B274=\"\",\"\",VLOOKUP(D274,Tablas!$B$2:$E$13,2,FALSE))","v":0.56999999999999995},{"$f":"IF(B274=\"\",\"\",VLOOKUP(D274,Tablas!$B$2:$G$13,6,FALSE))","v":0},1622789.9999999998,206553.57956999997,6959226.8456140561,6224710.9531431627,5567719.993866873,4980071.5508648241,4454446.825460487,3984299.486100615,3563774.1378359706,3187633.3969910285,2851192.6627826737,2550261.7735086526,2281092.8206696361,2040333.4710819642,1824985.2156368198,1632366.0247198748,1460076.9451877235,217998121861.09995,670763.45188030752]
[{"$f":"IF(ISBLANK(InfoPro!A267),\"\",InfoPro!A267)","v":"SC_833_A1"},{"$f":"IF(ISBLANK(InfoPro!B267),\"\",InfoPro!B267)","v":"LOMERO SOLAR"},{"$f":"IF(ISBLANK(InfoPro!E267),\"\",InfoPro!E267)","v":200},{"$f":"IF(ISBLANK(InfoPro!F267),\"\",InfoPro!F267)","v":"Solar FV"},{"$f":"IF(ISBLANK(InfoPro!I267),\"\",YEAR(InfoPro!I267)-$G$3)","v":4},{"$f":"IF(B275=\"\",\"\",VLOOKUP(D275,Tablas!$B$2:$E$13,2,FALSE))","v":0.26},{"$f":"IF(B275=\"\",\"\",VLOOKUP(D275,Tablas!$B$2:$G$13,6,FALSE))","v":0},455520,57979.952160000001,3412048.0454470702,3051921.3286646428,2729804.4084656914,2441685.5174111729,2183976.3125323551,1953467.1847337703,1747287.2850928179,1562868.7702082451,1397914.8212953894,1250371.038725751,1118399.8557475412,1000357.6527258867,894774.28687467484,800334.78253548744,715862.95396734111,106882572174.82129,534412.86087410641]
[{"$f":"IF(ISBLANK(InfoPro!A268),\"\",InfoPro!A268)","v":"SC_846_A1"},{"$f":"IF(ISBLANK(InfoPro!B268),\"\",InfoPro!B268)","v":"Parque Eólico El Ahumado_de 50MW a 60MW _Es decir 10MW"},{"$f":"IF(ISBLANK(InfoPro!E268),\"\",InfoPro!E268)","v":10},{"$f":"IF(ISBLANK(InfoPro!F268),\"\",InfoPro!F268)","v":"Eólico Onshore"},{"$f":"IF(ISBLANK(InfoPro!I268),\"\",YEAR(InfoPro!I268)-$G$3)","v":2},{"$f":"IF(B276=\"\",\"\",VLOOKUP(D276,Tablas!$B$2:$E$13,2,FALSE))","v":0.56999999999999995},{"$f":"IF(B276=\"\",\"\",VLOOKUP(D276,Tablas!$B$2:$G$13,6,FALSE))","v":0},49931.999999999993,6355.4947559999991,467487.77354994387,418146.48796953837,374012.95882785186,334537.53025747038,299228.56015873916,267646.29710084008,239397.40348912351,214130.05678812481,191529.56778902037,171314.46134974994,153232.97079584075,137059.90232186113,122593.83034155738,109654.58885649141,98081.027599723966,14644077407.987219,1464407.7407987218]
[{"$f":"IF(ISBLANK(InfoPro!A269),\"\",InfoPro!A269)","v":"SC_878_A1"},{"$f":"IF(ISBLANK(InfoPro!B269),\"\",InfoPro!B269)","v":"PARQUE SOLAR EL PROGRESO"},{"$f":"IF(ISBLANK(InfoPro!E269),\"\",InfoPro!E269)","v":19.899999999999999},{"$f":"IF(ISBLANK(InfoPro!F269),\"\",InfoPro!F269)","v":"Solar FV"},{"$f":"IF(ISBLANK(InfoPro!I269),\"\",YEAR(InfoPro!I269)-$G$3)","v":1},{"$f":"IF(B277=\"\",\"\",VLOOKUP(D277,Tablas!$B$2:$E$13,2,FALSE))","v":0.26},{"$f":"IF(B277=\"\",\"\",VLOOKUP(D277,Tablas!$B$2:$G$13,6,FALSE))","v":0},45324.24,5769.0052399200003,474420.69924708846,424347.67374515958,379559.63662357756,339498.78052198351,303666.17220213194,271615.53864233627,242947.70898241174,217305.64309696935,194369.98488101017,173855.08486673539,155505.44263572042,139092.52471889125,124411.91835321223,111280.78564688035,99535.58644622573,14861251645.084061,746796.56507960102]
[{"$f":"IF(ISBLANK(InfoPro!A270),\"\",InfoPro!A270)","v":"SC_890_A1"},{"$f":"IF(ISBLANK(InfoPro!B270),\"\",InfoPro!B270)","v":"Fundación II - 100 MW"},{"$f":"IF(ISBLANK(InfoPro!E270),\"\",InfoPro!E270)","v":100},{"$f":"IF(ISBLANK(InfoPro!F270),\"\",InfoPro!F270)","v":"Solar FV"},{"$f":"IF(ISBLANK(InfoPro!I270),\"\",YEAR(InfoPro!I270)-$G$3)","v":4},{"$f":"IF(B278=\"\",\"\",VLOOKUP(D278,Tablas!$B$2:$E$13,2,FALSE))","v":0.26},{"$f":"IF(B278=\"\",\"\",VLOOKUP(D278,Tablas!$B$2:$G$13,6,FALSE))","v":0},227760,28989.97608,1706024.0227235351,1525960.6643323214,1364902.2042328457,1220842.7587055864,1091988.1562661775,976733.59236688516,873643.64254640893,781434.38510412257,698957.41064769472,625185.51936287549,559199.92787377059,500178.82636294333,447387.14343733742,400167.39126774372,357931.47698367055,53441286087.410645,534412.86087410641]
[{"$f":"IF(ISBLANK(InfoPro!A271),\"\",InfoPro!A271)","v":"SC_890_A2"},{"$f":"IF(ISBLANK(InfoPro!B271),\"\",InfoPro!B271)","v":"Fundación II - 100 MW"},{"$f":"IF(ISBLANK(InfoPro!E271),\"\",InfoPro!E271)","v":100},{"$f":"IF(ISBLANK(InfoPro!F271),\"\",InfoPro!F271)","v":"Solar FV"},{"$f":"IF(ISBLANK(InfoPro!I271),\"\",YEAR(InfoPro!I271)-$G$3)","v":4},{"$f":"IF(B279=\"\",\"\",VLOOKUP(D279,Tablas!$B$2:$E$13,2,FALSE))","v":0.26},{"$f":"IF(B279=\"\",\"\",VLOOKUP(D279,Tablas!$B$2:$G$13,6,FALSE))","v":0},227760,28989.97608,1706024.0227235351,1525960.6643323214,1364902.2042328457,1220842.7587055864,1091988.1562661775,976733.59236688516,873643.64254640893,781434.38510412257,698957.41064769472,625185.51936287549,559199.92787377059,500178.82636294333,447387.14343733742,400167.39126774372,357931.47698367055,53441286087.410645,534412.86087410641]
[{"$f":"IF(ISBLANK(InfoPro!A272),\"\",InfoPro!A272)","v":"SC_921_A1"},{"$f":"IF(ISBLANK(InfoPro!B272),\"\",InfoPro!B272)","v":"PARQUE SOLAR EL CIELO"},{"$f":"IF(ISBLANK(InfoPro!E272),\"\",InfoPro!E272)","v":9.9},{"$f":"IF(ISBLANK(InfoPro!F272),\"\",InfoPro!F272)","v":"Solar FV"},{"$f":"IF(ISBLANK(InfoPro!I272),\"\",YEAR(InfoPro!I272)-$G$3)","v":1},{"$f":"IF(B280=\"\",\"\",VLOOKUP(D280,Tablas!$B$2:$E$13,2,FALSE))","v":0.26},{"$f":"IF(B280=\"\",\"\",VLOOKUP(D280,Tablas!$B$2:$G$13,6,FALSE))","v":0},{"$f":"IF(C280=\"\",\"\",+C280*F280*24*365)","v":22548.240000000005},{"$f":"IF(H280=\"\",\"\",+H280*($C$3-G280))","v":2870.0076319200007},236018.33781639076,211107.63668729048,188826.15088308635,168896.37824963001,151070.10576889984,135125.31821905175,120863.4331118531,108106.82747035159,96696.625644321655,86490.72061209449,77362.004125308173,69196.783654121798,61893.366416924677,55360.792859503294,49517.703809931394,{"$f":"IF(X280=\"\",\"\",SUM(J280:X280)*$C$6)","v":7393285994.2880507},{"$f":"IF(C280=0,0,IF(Y280=\"\",\"\",Y280/(C280*1000)))","v":746796.56507960113}]
[{"$f":"IF(ISBLANK(InfoPro!A273),\"\",InfoPro!A273)","v":"SC_944_A1"},{"$f":"IF(ISBLANK(InfoPro!B273),\"\",InfoPro!B273)","v":"DSE FUNDACION"},{"$f":"IF(ISBLANK(InfoPro!E273),\"\",InfoPro!E273)","v":99.9},{"$f":"IF(ISBLANK(InfoPro!F273),\"\",InfoPro!F273)","v":"Solar FV"},{"$f":"IF(ISBLANK(InfoPro!I273),\"\",YEAR(InfoPro!I273)-$G$3)","v":3},{"$f":"IF(B281=\"\",\"\",VLOOKUP(D281,Tablas!$B$2:$E$13,2,FALSE))","v":0.26},{"$f":"IF(B281=\"\",\"\",VLOOKUP(D281,Tablas!$B$2:$G$13,6,FALSE))","v":0},227532.24000000002,28960.986103920004,1905427.5225475074,1704317.9987008118,1524434.7036679892,1363537.3020286129,1219621.9159468811,1090896.1681099115,975756.85877451848,872769.99890386255,780652.9507190187,698258.45323704707,624560.33384351269,558640.72794589691,499678.64753658051,446939.75629390014,399767.223876476,59687610487.879402,597473.57845725131]
[{"$f":"IF(ISBLANK(InfoPro!A274),\"\",InfoPro!A274)","v":"SC_951_A1"},{"$f":"IF(ISBLANK(InfoPro!B274),\"\",InfoPro!B274)","v":"SANTA ROSA SOLAR_100MW"},{"$f":"IF(ISBLANK(InfoPro!E274),\"\",InfoPro!E274)","v":100},{"$f":"IF(ISBLANK(InfoPro!F274),\"\",InfoPro!F274)","v":"Solar FV"},{"$f":"IF(ISBLANK(InfoPro!I274),\"\",YEAR(InfoPro!I274)-$G$3)","v":3},{"$f":"IF(B282=\"\",\"\",VLOOKUP(D282,Tablas!$B$2:$E$13,2,FALSE))","v":0.26},{"$f":"IF(B282=\"\",\"\",VLOOKUP(D282,Tablas!$B$2:$G$13,6,FALSE))","v":0},227760,28989.97608,1907334.8574049121,1706024.0227235351,1525960.6643323214,1364902.2042328457,1220842.7587055864,1091988.1562661775,976733.59236688516,873643.64254640893,781434.38510412257,698957.41064769472,625185.51936287549,559199.92787377059,500178.82636294333,447387.14343733742,400167.39126774372,59747357845.72509,597473.57845725096]
[{"$f":"IF(ISBLANK(InfoPro!A275),\"\",InfoPro!A275)","v":"SC_951_A2"},{"$f":"IF(ISBLANK(InfoPro!B275),\"\",InfoPro!B275)","v":"SANTA ROSA SOLAR_100MW"},{"$f":"IF(ISBLANK(InfoPro!E275),\"\",InfoPro!E275)","v":100},{"$f":"IF(ISBLANK(InfoPro!F275),\"\",InfoPro!F275)","v":"Solar FV"},{"$f":"IF(ISBLANK(InfoPro!I275),\"\",YEAR(InfoPro!I275)-$G$3)","v":3},{"$f":"IF(B283=\"\",\"\",VLOOKUP(D283,Tablas!$B$2:$E$13,2,FALSE))","v":0.26},{"$f":"IF(B283=\"\",\"\",VLOOKUP(D283,Tablas!$B$2:$G$13,6,FALSE))","v":0},227760,28989.97608,1907334.8574049121,1706024.0227235351,1525960.6643323214,1364902.2042328457,1220842.7587055864,1091988.1562661775,976733.59236688516,873643.64254640893,781434.38510412257,698957.41064769472,625185.51936287549,559199.92787377059,500178.82636294333,447387.14343733742,400167.39126774372,59747357845.72509,597473.57845725096]
[{"$f":"IF(ISBLANK(InfoPro!A276),\"\",InfoPro!A276)","v":"SC_963_A1"},{"$f":"IF(ISBLANK(InfoPro!B276),\"\",InfoPro!B276)","v":"Churuco Solar"},{"$f":"IF(ISBLANK(InfoPro!E276),\"\",InfoPro!E276)","v":60},{"$f":"IF(ISBLANK(InfoPro!F276),\"\",InfoPro!F276)","v":"Solar FV"},{"$f":"IF(ISBLANK(InfoPro!I276),\"\",YEAR(InfoPro!I276)-$G$3)","v":3},{"$f":"IF(B284=\"\",\"\",VLOOKUP(D284,Tablas!$B$2:$E$13,2,FALSE))","v":0.26},{"$f":"IF(B284=\"\",\"\",VLOOKUP(D284,Tablas!$B$2:$G$13,6,FALSE))","v":0},136656,17393.985648000002,{"$f":"IF($I284=\"\",\"\",(1/(1+$C$4)^(J$7+$E284))*$I284*$C$5)","v":1144400.9144429474},1023614.4136341212,915576.39859939285,818941.3225397073,732505.6552233519,655192.89375970664,586040.15542013117,524186.1855278454,468860.63106247364,419374.44638861681,375111.3116177253,335519.95672426239,300107.29581776599,268432.28606240248,240100.43476064623,35848414707.435074,597473.57845725119]
[{"$f":"IF(ISBLANK(InfoPro!A277),\"\",InfoPro!A277)","v":"SC_984_A1"},{"$f":"IF(ISBLANK(InfoPro!B277),\"\",InfoPro!B277)","v":"Eupari"},{"$f":"IF(ISBLANK(InfoPro!E277),\"\",InfoPro!E277)","v":99},{"$f":"IF(ISBLANK(InfoPro!F277),\"\",InfoPro!F277)","v":"Eólico Onshore"},{"$f":"IF(ISBLANK(InfoPro!I277),\"\",YEAR(InfoPro!I277)-$G$3)","v":3},{"$f":"IF(B285=\"\",\"\",VLOOKUP(D285,Tablas!$B$2:$E$13,2,FALSE))","v":0.56999999999999995},{"$f":"IF(B285=\"\",\"\",VLOOKUP(D285,Tablas!$B$2:$G$13,6,FALSE))","v":0},{"$f":"IF(C285=\"\",\"\",+C285*F285*24*365)","v":494326.79999999987},{"$f":"IF(H285=\"\",\"\",+H285*($C$3-G285))","v":62919.398084399989},4139650.2308984296,3702728.2923957333,3311921.5495489566,2962362.7455715174,2649698.3412983166,2370034.2945423224,2119887.5622024355,1896142.7211113018,1696013.1673625244,1517006.4108788231,1356893.0329864251,1213678.920381418,1085580.429679265,971002.17323726718,868517.14958610665,{"$f":"IF(X285=\"\",\"\",SUM(J285:X285)*$C$6)","v":129674746278.24103},{"$f":"IF(C285=0,0,IF(Y285=\"\",\"\",Y285/(C285*1000)))","v":1309845.9220024347}]
[{"$f":"IF(ISBLANK(InfoPro!A278),\"\",InfoPro!A278)","v":"SC_984_A2"},{"$f":"IF(ISBLANK(InfoPro!B278),\"\",InfoPro!B278)","v":"Eupari"},{"$f":"IF(ISBLANK(InfoPro!E278),\"\",InfoPro!E278)","v":99},{"$f":"IF(ISBLANK(InfoPro!F278),\"\",InfoPro!F278)","v":"Eólico Onshore"},{"$f":"IF(ISBLANK(InfoPro!I278),\"\",YEAR(InfoPro!I278)-$G$3)","v":3},{"$f":"IF(B286=\"\",\"\",VLOOKUP(D286,Tablas!$B$2:$E$13,2,FALSE))","v":0.56999999999999995},{"$f":"IF(B286=\"\",\"\",VLOOKUP(D286,Tablas!$B$2:$G$13,6,FALSE))","v":0},494326.79999999987,62919.398084399989,4139650.2308984296,3702728.2923957333,3311921.5495489566,2962362.7455715174,2649698.3412983166,2370034.2945423224,2119887.5622024355,1896142.7211113018,1696013.1673625244,1517006.4108788231,1356893.0329864251,1213678.920381418,1085580.429679265,971002.17323726718,868517.14958610665,129674746278.24103,1309845.9220024347]
[{"$f":"IF(ISBLANK(InfoPro!A279),\"\",InfoPro!A279)","v":""},{"$f":"IF(ISBLANK(InfoPro!B279),\"\",InfoPro!B279)","v":""},{"$f":"IF(ISBLANK(InfoPro!E279),\"\",InfoPro!E279)","v":""},{"$f":"IF(ISBLANK(InfoPro!F279),\"\",InfoPro!F279)","v":""},{"$f":"IF(ISBLANK(InfoPro!I279),\"\",YEAR(InfoPro!I279)-$G$3)","v":""},{"$f":"IF(B287=\"\",\"\",VLOOKUP(D287,Tablas!$B$2:$E$13,2,FALSE))","v":""},{"$f":"IF(B287=\"\",\"\",VLOOKUP(D287,Tablas!$B$2:$G$13,6,FALSE))","v":""},"","","","","","","","","","","","","","","","","","",""]

{"sheet":"EC-RP","index":6,"n_rows":287,"n_cols":26,"rows_kept":287,"cut":false,"hidden":false,"merged":[]}
[]
[null,"Precio promedio de bolsa",192057,"COP/MWh"]
[null,"Tasa de descuento",0.11799999999999999,null,null,"Año de Referencia",null,2023]
[null,null,null,null,null,"Mínimo",null,{"$f":"MIN(Z8:Z283)","v":{"$error":"#REF!"}}]
[]
[null,null,null,null,null,null,null,null,null,0,1,2,3,4,5,6,7,8,9,10,11,12,13,14]
["Codigo","Nombre","capacidad","Tecnologia","Año de entrada","FP","Precio de oferta","Desviacion","Produccion media/a MWh/a","Flujo Descontado 0","Flujo Descontado 1","Flujo Descontado 2","Flujo Descontado 3","Flujo Descontado 4","Flujo Descontado 5","Flujo Descontado 6","Flujo Descontado 7","Flujo Descontado 8","Flujo Descontado 9","Flujo Descontado 10","Flujo Descontado 11","Flujo Descontado 12","Flujo Descontado 13","Flujo Descontado 14","VPN","Beneficio/kW"]
[{"$f":"IF(ISBLANK(InfoPro!A2),\"\",InfoPro!A2)","v":"\tSC_1373_A1"},{"$f":"IF(ISBLANK(InfoPro!B2),\"\",InfoPro!B2)","v":"Pétalo del Magdalena II Guacamayal"},{"$f":"IF(ISBLANK(InfoPro!E2),\"\",InfoPro!E2)","v":9.9},{"$f":"IF(ISBLANK(InfoPro!F2),\"\",InfoPro!F2)","v":"Solar FV"},{"$f":"IF(ISBLANK(InfoPro!I2),\"\",YEAR(InfoPro!I2)-$H$3)","v":3},{"$f":"IF(B8=\"\",\"\",VLOOKUP(D8,Tablas!$B$2:$E$13,2,FALSE))","v":0.26},{"$f":"IF(B8=\"\",\"\",VLOOKUP(D8,Tablas!$B$2:$H$13,7,FALSE))","v":83577.200000000012},{"$f":"IF(B8=\"\",\"\",($C$2-(G8))/$C$2)","v":0.56483127404885003},{"$f":"IF(C8=\"\",\"\",+C8*F8*24*365)","v":22548.240000000005},{"$f":"IF($I8=\"\",\"\",(1/(1+$C$3)^(J$6+$E8))*$I8*$C$2*$H8)","v":1750395200.8096051},{"$f":"IF($I8=\"\",\"\",(1/(1+$C$3)^(K$6+$E8))*$I8*$C$2*$H8)","v":1565648659.0425806},1400401305.0470312,1252595085.0152338,1120389163.6987782,1002136997.9416621,896365830.00148666,801758345.26072145,717136265.88615537,641445676.10568452,573743896.33782172,513187742.69930387,459023025.67021811,410575157.12899655,{"$f":"IF($I8=\"\",\"\",(1/(1+$C$3)^(X$6+$E8))*$I8*$C$2*$H8)","v":367240748.77369994},{"$f":"IF(X8=\"\",\"\",SUM(J8:X8))","v":13472043099.41898},{"$f":"IF(C8=0,0,IF(Y8=\"\",\"\",Y8/(C8*1000)))","v":1360812.4342847455}]
[{"$f":"IF(ISBLANK(InfoPro!A3),\"\",InfoPro!A3)","v":"\tSC_1373_A2"},{"$f":"IF(ISBLANK(InfoPro!B3),\"\",InfoPro!B3)","v":"Pétalo del Magdalena II Guacamayal"},{"$f":"IF(ISBLANK(InfoPro!E3),\"\",InfoPro!E3)","v":9.9},{"$f":"IF(ISBLANK(InfoPro!F3),\"\",InfoPro!F3)","v":"Solar FV"},{"$f":"IF(ISBLANK(InfoPro!I3),\"\",YEAR(InfoPro!I3)-$H$3)","v":3},{"$f":"IF(B9=\"\",\"\",VLOOKUP(D9,Tablas!$B$2:$E$13,2,FALSE))","v":0.26},{"$f":"IF(B9=\"\",\"\",VLOOKUP(D9,Tablas!$B$2:$H$13,7,FALSE))","v":83577.200000000012},{"$f":"IF(B9=\"\",\"\",($C$2-(G9))/$C$2)","v":0.56483127404885003},{"$f":"IF(C9=\"\",\"\",+C9*F9*24*365)","v":22548.240000000005},1750395200.8096051,1565648659.0425806,1400401305.0470312,1252595085.0152338,1120389163.6987782,1002136997.9416621,896365830.00148666,801758345.26072145,717136265.88615537,641445676.10568452,573743896.33782172,513187742.69930387,459023025.67021811,410575157.12899655,367240748.77369994,{"$f":"IF(X9=\"\",\"\",SUM(J9:X9))","v":13472043099.41898},{"$f":"IF(C9=0,0,IF(Y9=\"\",\"\",Y9/(C9*1000)))","v":1360812.4342847455}]
[{"$f":"IF(ISBLANK(InfoPro!A4),\"\",InfoPro!A4)","v":"SC_1012_A1"},{"$f":"IF(ISBLANK(InfoPro!B4),\"\",InfoPro!B4)","v":"PARQUE SOLAR FOTOVOLTAICO TUNA"},{"$f":"IF(ISBLANK(InfoPro!E4),\"\",InfoPro!E4)","v":100},{"$f":"IF(ISBLANK(InfoPro!F4),\"\",InfoPro!F4)","v":"Solar FV"},{"$f":"IF(ISBLANK(InfoPro!I4),\"\",YEAR(InfoPro!I4)-$H$3)","v":3},{"$f":"IF(B10=\"\",\"\",VLOOKUP(D10,Tablas!$B$2:$E$13,2,FALSE))","v":0.26},{"$f":"IF(B10=\"\",\"\",VLOOKUP(D10,Tablas!$B$2:$H$13,7,FALSE))","v":83577.200000000012},0.56483127404885003,227760,17680759604.137424,15814632919.622025,14145467727.747787,12652475606.214478,11317062259.583614,10122595938.804665,9054200303.0453167,8098569144.0476894,7243800665.5167198,6479249253.5927715,5795392892.3012276,5183714572.7202396,4636596218.8910923,4147223809.3838015,3709502512.8656549,136081243428.47452,{"$f":"IF(C10=0,0,IF(Y10=\"\",\"\",Y10/(C10*1000)))","v":1360812.4342847452}]
[{"$f":"IF(ISBLANK(InfoPro!A5),\"\",InfoPro!A5)","v":"SC_1012_A2"},{"$f":"IF(ISBLANK(InfoPro!B5),\"\",InfoPro!B5)","v":"PARQUE SOLAR FOTOVOLTAICO TUNA"},{"$f":"IF(ISBLANK(InfoPro!E5),\"\",InfoPro!E5)","v":100},{"$f":"IF(ISBLANK(InfoPro!F5),\"\",InfoPro!F5)","v":"Solar FV"},{"$f":"IF(ISBLANK(InfoPro!I5),\"\",YEAR(InfoPro!I5)-$H$3)","v":3},{"$f":"IF(B11=\"\",\"\",VLOOKUP(D11,Tablas!$B$2:$E$13,2,FALSE))","v":0.26},{"$f":"IF(B11=\"\",\"\",VLOOKUP(D11,Tablas!$B$2:$H$13,7,FALSE))","v":83577.200000000012},0.56483127404885003,227760,17680759604.137424,15814632919.622025,14145467727.747787,12652475606.214478,11317062259.583614,10122595938.804665,9054200303.0453167,8098569144.0476894,7243800665.5167198,6479249253.5927715,5795392892.3012276,5183714572.7202396,4636596218.8910923,4147223809.3838015,3709502512.8656549,136081243428.47452,1360812.4342847452]
[{"$f":"IF(ISBLANK(InfoPro!A6),\"\",InfoPro!A6)","v":"SC_1077_A1"},{"$f":"IF(ISBLANK(InfoPro!B6),\"\",InfoPro!B6)","v":"Nevada I 90 MW"},{"$f":"IF(ISBLANK(InfoPro!E6),\"\",InfoPro!E6)","v":90},{"$f":"IF(ISBLANK(InfoPro!F6),\"\",InfoPro!F6)","v":"Eólico Onshore"},{"$f":"IF(ISBLANK(InfoPro!I6),\"\",YEAR(InfoPro!I6)-$H$3)","v":7},{"$f":"IF(B12=\"\",\"\",VLOOKUP(D12,Tablas!$B$2:$E$13,2,FALSE))","v":0.56999999999999995},{"$f":"IF(B12=\"\",\"\",VLOOKUP(D12,Tablas!$B$2:$H$13,7,FALSE))","v":83577.200000000012},0.56483127404885003,449387.99999999994,22329434381.409203,19972660448.487663,17864633674.854794,15979099888.063324,14292575928.500294,12784057181.127275,11434755975.963575,10227867599.251856,9148361001.11973,8182791593.1303473,7319133804.231081,6546631309.6879072,5855663067.6993818,5237623495.2588387,4684815290.9291954,171860104639.71448,1909556.7182190497]
[{"$f":"IF(ISBLANK(InfoPro!A7),\"\",InfoPro!A7)","v":"SC_1077_A2"},{"$f":"IF(ISBLANK(InfoPro!B7),\"\",InfoPro!B7)","v":"Nevada I 90 MW"},{"$f":"IF(ISBLANK(InfoPro!E7),\"\",InfoPro!E7)","v":90},{"$f":"IF(ISBLANK(InfoPro!F7),\"\",InfoPro!F7)","v":"Eólico Onshore"},{"$f":"IF(ISBLANK(InfoPro!I7),\"\",YEAR(InfoPro!I7)-$H$3)","v":7},{"$f":"IF(B13=\"\",\"\",VLOOKUP(D13,Tablas!$B$2:$E$13,2,FALSE))","v":0.56999999999999995},{"$f":"IF(B13=\"\",\"\",VLOOKUP(D13,Tablas!$B$2:$H$13,7,FALSE))","v":83577.200000000012},0.56483127404885003,449387.99999999994,22329434381.409203,19972660448.487663,17864633674.854794,15979099888.063324,14292575928.500294,12784057181.127275,11434755975.963575,10227867599.251856,9148361001.11973,8182791593.1303473,7319133804.231081,6546631309.6879072,5855663067.6993818,5237623495.2588387,4684815290.9291954,171860104639.71448,1909556.7182190497]
[{"$f":"IF(ISBLANK(InfoPro!A8),\"\",InfoPro!A8)","v":"SC_1135_A1"},{"$f":"IF(ISBLANK(InfoPro!B8),\"\",InfoPro!B8)","v":"Parque Eólico Brisas 1"},{"$f":"IF(ISBLANK(InfoPro!E8),\"\",InfoPro!E8)","v":200},{"$f":"IF(ISBLANK(InfoPro!F8),\"\",InfoPro!F8)","v":"Eólico Onshore"},{"$f":"IF(ISBLANK(InfoPro!I8),\"\",YEAR(InfoPro!I8)-$H$3)","v":5},{"$f":"IF(B14=\"\",\"\",VLOOKUP(D14,Tablas!$B$2:$E$13,2,FALSE))","v":0.56999999999999995},{"$f":"IF(B14=\"\",\"\",VLOOKUP(D14,Tablas!$B$2:$H$13,7,FALSE))","v":83577.200000000012},0.56483127404885003,998639.99999999988,62022435421.663368,55476239196.478859,49620965292.020462,44383689885.528145,39699185944.121773,35509110862.362938,31761279841.111763,28409015958.060612,25410568835.474609,22728594665.004128,20329691113.5994,18183981318.067436,16264741787.180178,14548069577.08424,13012584594.887516,477360154292.64545,2386800.7714632275]
[{"$f":"IF(ISBLANK(InfoPro!A9),\"\",InfoPro!A9)","v":"SC_1135_A2"},{"$f":"IF(ISBLANK(InfoPro!B9),\"\",InfoPro!B9)","v":"Parque Eólico Brisas 1"},{"$f":"IF(ISBLANK(InfoPro!E9),\"\",InfoPro!E9)","v":200},{"$f":"IF(ISBLANK(InfoPro!F9),\"\",InfoPro!F9)","v":"Eólico Onshore"},{"$f":"IF(ISBLANK(InfoPro!I9),\"\",YEAR(InfoPro!I9)-$H$3)","v":5},{"$f":"IF(B15=\"\",\"\",VLOOKUP(D15,Tablas!$B$2:$E$13,2,FALSE))","v":0.56999999999999995},{"$f":"IF(B15=\"\",\"\",VLOOKUP(D15,Tablas!$B$2:$H$13,7,FALSE))","v":83577.200000000012},0.56483127404885003,998639.99999999988,62022435421.663368,55476239196.478859,49620965292.020462,44383689885.528145,39699185944.121773,35509110862.362938,31761279841.111763,28409015958.060612,25410568835.474609,22728594665.004128,20329691113.5994,18183981318.067436,16264741787.180178,14548069577.08424,13012584594.887516,477360154292.64545,2386800.7714632275]
[{"$f":"IF(ISBLANK(InfoPro!A10),\"\",InfoPro!A10)","v":"SC_1154_A1"},{"$f":"IF(ISBLANK(InfoPro!B10),\"\",InfoPro!B10)","v":"Parque Eólico Brisas 2"},{"$f":"IF(ISBLANK(InfoPro!E10),\"\",InfoPro!E10)","v":200},{"$f":"IF(ISBLANK(InfoPro!F10),\"\",InfoPro!F10)","v":"Eólico Onshore"},{"$f":"IF(ISBLANK(InfoPro!I10),\"\",YEAR(InfoPro!I10)-$H$3)","v":6},{"$f":"IF(B16=\"\",\"\",VLOOKUP(D16,Tablas!$B$2:$E$13,2,FALSE))","v":0.56999999999999995},{"$f":"IF(B16=\"\",\"\",VLOOKUP(D16,Tablas!$B$2:$H$13,7,FALSE))","v":83577.200000000012},0.56483127404885003,998639.99999999988,55476239196.478859,49620965292.020462,44383689885.528145,39699185944.121773,35509110862.362938,31761279841.111763,28409015958.060612,25410568835.474609,22728594665.004128,20329691113.5994,18183981318.067436,16264741787.180178,14548069577.08424,13012584594.887516,11639163322.797417,426976882193.77954,2134884.4109688979]
[{"$f":"IF(ISBLANK(InfoPro!A11),\"\",InfoPro!A11)","v":"SC_1154_A2"},{"$f":"IF(ISBLANK(InfoPro!B11),\"\",InfoPro!B11)","v":"Parque Eólico Brisas 2"},{"$f":"IF(ISBLANK(InfoPro!E11),\"\",InfoPro!E11)","v":200},{"$f":"IF(ISBLANK(InfoPro!F11),\"\",InfoPro!F11)","v":"Eólico Onshore"},{"$f":"IF(ISBLANK(InfoPro!I11),\"\",YEAR(InfoPro!I11)-$H$3)","v":6},{"$f":"IF(B17=\"\",\"\",VLOOKUP(D17,Tablas!$B$2:$E$13,2,FALSE))","v":0.56999999999999995},{"$f":"IF(B17=\"\",\"\",VLOOKUP(D17,Tablas!$B$2:$H$13,7,FALSE))","v":83577.200000000012},0.56483127404885003,998639.99999999988,55476239196.478859,49620965292.020462,44383689885.528145,39699185944.121773,35509110862.362938,31761279841.111763,28409015958.060612,25410568835.474609,22728594665.004128,20329691113.5994,18183981318.067436,16264741787.180178,14548069577.08424,13012584594.887516,11639163322.797417,426976882193.77954,2134884.4109688979]
[{"$f":"IF(ISBLANK(InfoPro!A12),\"\",InfoPro!A12)","v":"SC_1161_A1"},{"$f":"IF(ISBLANK(InfoPro!B12),\"\",InfoPro!B12)","v":"Parque Eólico Brisas 3"},{"$f":"IF(ISBLANK(InfoPro!E12),\"\",InfoPro!E12)","v":200},{"$f":"IF(ISBLANK(InfoPro!F12),\"\",InfoPro!F12)","v":"Eólico Onshore"},{"$f":"IF(ISBLANK(InfoPro!I12),\"\",YEAR(InfoPro!I12)-$H$3)","v":7},{"$f":"IF(B18=\"\",\"\",VLOOKUP(D18,Tablas!$B$2:$E$13,2,FALSE))","v":0.56999999999999995},{"$f":"IF(B18=\"\",\"\",VLOOKUP(D18,Tablas!$B$2:$H$13,7,FALSE))","v":83577.200000000012},0.56483127404885003,998639.99999999988,{"$f":"IF($I18=\"\",\"\",(1/(1+$C$3)^(J$6+$E18))*$I18*$C$2*$H18)","v":49620965292.020462},44383689885.528145,39699185944.121773,35509110862.362938,31761279841.111763,28409015958.060612,25410568835.474609,22728594665.004128,20329691113.5994,18183981318.067436,16264741787.180178,14548069577.08424,13012584594.887516,11639163322.797417,10410700646.509321,381911343643.81,1909556.71821905]
[{"$f":"IF(ISBLANK(InfoPro!A13),\"\",InfoPro!A13)","v":"SC_1161_A2"},{"$f":"IF(ISBLANK(InfoPro!B13),\"\",InfoPro!B13)","v":"Parque Eólico Brisas 3"},{"$f":"IF(ISBLANK(InfoPro!E13),\"\",InfoPro!E13)","v":200},{"$f":"IF(ISBLANK(InfoPro!F13),\"\",InfoPro!F13)","v":"Eólico Onshore"},{"$f":"IF(ISBLANK(InfoPro!I13),\"\",YEAR(InfoPro!I13)-$H$3)","v":7},{"$f":"IF(B19=\"\",\"\",VLOOKUP(D19,Tablas!$B$2:$E$13,2,FALSE))","v":0.56999999999999995},{"$f":"IF(B19=\"\",\"\",VLOOKUP(D19,Tablas!$B$2:$H$13,7,FALSE))","v":83577.200000000012},0.56483127404885003,998639.99999999988,49620965292.020462,44383689885.528145,39699185944.121773,35509110862.362938,31761279841.111763,28409015958.060612,25410568835.474609,22728594665.004128,20329691113.5994,18183981318.067436,16264741787.180178,14548069577.08424,13012584594.887516,11639163322.797417,10410700646.509321,381911343643.81,1909556.71821905]
[{"$f":"IF(ISBLANK(InfoPro!#REF!),\"\",InfoPro!#REF!)","v":{"$error":"#REF!"}},{"$f":"IF(ISBLANK(InfoPro!#REF!),\"\",InfoPro!#REF!)","v":{"$error":"#REF!"}},{"$f":"IF(ISBLANK(InfoPro!#REF!),\"\",InfoPro!#REF!)","v":{"$error":"#REF!"}},{"$f":"IF(ISBLANK(InfoPro!#REF!),\"\",InfoPro!#REF!)","v":{"$error":"#REF!"}},{"$f":"IF(ISBLANK(InfoPro!#REF!),\"\",YEAR(InfoPro!#REF!)-$H$3)","v":{"$error":"#REF!"}},{"$f":"IF(B20=\"\",\"\",VLOOKUP(D20,Tablas!$B$2:$E$13,2,FALSE))","v":{"$error":"#REF!"}},{"$f":"IF(B20=\"\",\"\",VLOOKUP(D20,Tablas!$B$2:$H$13,7,FALSE))","v":{"$error":"#REF!"}},{"$error":"#REF!"},{"$error":"#REF!"},{"$error":"#REF!"},{"$error":"#REF!"},{"$error":"#REF!"},{"$error":"#REF!"},{"$error":"#REF!"},{"$error":"#REF!"},{"$error":"#REF!"},{"$error":"#REF!"},{"$error":"#REF!"},{"$error":"#REF!"},{"$error":"#REF!"},{"$error":"#REF!"},{"$error":"#REF!"},{"$error":"#REF!"},{"$error":"#REF!"},{"$error":"#REF!"},{"$error":"#REF!"}]
[{"$f":"IF(ISBLANK(InfoPro!A14),\"\",InfoPro!A14)","v":"SC_1211_A1"},{"$f":"IF(ISBLANK(InfoPro!B14),\"\",InfoPro!B14)","v":"Planta Solar FV Caracolicitos 69MW"},{"$f":"IF(ISBLANK(InfoPro!E14),\"\",InfoPro!E14)","v":69},{"$f":"IF(ISBLANK(InfoPro!F14),\"\",InfoPro!F14)","v":"Solar FV"},{"$f":"IF(ISBLANK(InfoPro!I14),\"\",YEAR(InfoPro!I14)-$H$3)","v":3},{"$f":"IF(B21=\"\",\"\",VLOOKUP(D21,Tablas!$B$2:$E$13,2,FALSE))","v":0.26},{"$f":"IF(B21=\"\",\"\",VLOOKUP(D21,Tablas!$B$2:$H$13,7,FALSE))","v":83577.200000000012},0.56483127404885003,157154.40000000002,12199724126.854824,10912096714.5392,9760372732.1459751,8730208168.2879925,7808772959.1126947,6984591197.775219,6247398209.1012707,5588012709.3929071,4998222459.2065372,4470681984.9790134,3998821095.6878471,3576763055.1769662,3199251391.034853,2861584428.4748244,2559556733.8773026,93896057965.647446,1360812.4342847455]
[{"$f":"IF(ISBLANK(InfoPro!A15),\"\",InfoPro!A15)","v":"SC_1211_A2"},{"$f":"IF(ISBLANK(InfoPro!B15),\"\",InfoPro!B15)","v":"Planta Solar FV Caracolicitos 69MW"},{"$f":"IF(ISBLANK(InfoPro!E15),\"\",InfoPro!E15)","v":69},{"$f":"IF(ISBLANK(InfoPro!F15),\"\",InfoPro!F15)","v":"Solar FV"},{"$f":"IF(ISBLANK(InfoPro!I15),\"\",YEAR(InfoPro!I15)-$H$3)","v":3},{"$f":"IF(B22=\"\",\"\",VLOOKUP(D22,Tablas!$B$2:$E$13,2,FALSE))","v":0.26},{"$f":"IF(B22=\"\",\"\",VLOOKUP(D22,Tablas!$B$2:$H$13,7,FALSE))","v":83577.200000000012},0.56483127404885003,157154.40000000002,12199724126.854824,10912096714.5392,9760372732.1459751,8730208168.2879925,7808772959.1126947,6984591197.775219,6247398209.1012707,5588012709.3929071,4998222459.2065372,4470681984.9790134,3998821095.6878471,3576763055.1769662,3199251391.034853,2861584428.4748244,2559556733.8773026,93896057965.647446,1360812.4342847455]
[{"$f":"IF(ISBLANK(InfoPro!A16),\"\",InfoPro!A16)","v":"SC_1218_A1"},{"$f":"IF(ISBLANK(InfoPro!B16),\"\",InfoPro!B16)","v":"Las Flores 150 MW"},{"$f":"IF(ISBLANK(InfoPro!E16),\"\",InfoPro!E16)","v":150},{"$f":"IF(ISBLANK(InfoPro!F16),\"\",InfoPro!F16)","v":"Solar FV"},{"$f":"IF(ISBLANK(InfoPro!I16),\"\",YEAR(InfoPro!I16)-$H$3)","v":2},{"$f":"IF(B23=\"\",\"\",VLOOKUP(D23,Tablas!$B$2:$E$13,2,FALSE))","v":0.26},{"$f":"IF(B23=\"\",\"\",VLOOKUP(D23,Tablas!$B$2:$H$13,7,FALSE))","v":83577.200000000012},0.56483127404885003,341640,29650633856.138458,26521139406.206135,23721949379.433037,21218201591.621681,18978713409.32172,16975593389.375422,15183893908.206997,13581300454.567978,12147853716.071535,10865700998.275078,9718873880.3891582,8693089338.4518414,7775571859.0803595,6954894328.3366385,6220835714.0757027,228208245229.55173,1521388.3015303449]
[{"$f":"IF(ISBLANK(InfoPro!A17),\"\",InfoPro!A17)","v":"SC_1223_A1"},{"$f":"IF(ISBLANK(InfoPro!B17),\"\",InfoPro!B17)","v":"Parque Eolico Sirius"},{"$f":"IF(ISBLANK(InfoPro!E17),\"\",InfoPro!E17)","v":100},{"$f":"IF(ISBLANK(InfoPro!F17),\"\",InfoPro!F17)","v":"Eólico Onshore"},{"$f":"IF(ISBLANK(InfoPro!I17),\"\",YEAR(InfoPro!I17)-$H$3)","v":2},{"$f":"IF(B24=\"\",\"\",VLOOKUP(D24,Tablas!$B$2:$E$13,2,FALSE))","v":0.56999999999999995},{"$f":"IF(B24=\"\",\"\",VLOOKUP(D24,Tablas!$B$2:$H$13,7,FALSE))","v":83577.200000000012},0.56483127404885003,499319.99999999994,43335541789.740814,38761665285.993576,34670541400.709824,31011217710.831684,27738119598.239429,24810482646.010231,22191844942.764072,19849592972.060886,17754555431.181469,15880639920.555882,14204507979.030306,12705284417.737305,11364297332.502064,10164845556.7997,9091990659.0337181,333535127643.19098,3335351.2764319098]
[{"$f":"IF(ISBLANK(InfoPro!A18),\"\",InfoPro!A18)","v":"SC_1232_A1"},{"$f":"IF(ISBLANK(InfoPro!B18),\"\",InfoPro!B18)","v":"La Paz Solar 9,9 MW"},{"$f":"IF(ISBLANK(InfoPro!E18),\"\",InfoPro!E18)","v":9.9},{"$f":"IF(ISBLANK(InfoPro!F18),\"\",InfoPro!F18)","v":"Solar FV"},{"$f":"IF(ISBLANK(InfoPro!I18),\"\",YEAR(InfoPro!I18)-$H$3)","v":2},{"$f":"IF(B25=\"\",\"\",VLOOKUP(D25,Tablas!$B$2:$E$13,2,FALSE))","v":0.26},{"$f":"IF(B25=\"\",\"\",VLOOKUP(D25,Tablas!$B$2:$H$13,7,FALSE))","v":83577.200000000012},0.56483127404885003,22548.240000000005,1956941834.5051382,1750395200.8096051,1565648659.0425806,1400401305.0470312,1252595085.0152338,1120389163.6987782,1002136997.9416621,896365830.00148666,801758345.26072145,717136265.88615537,641445676.10568452,573743896.33782172,513187742.69930387,459023025.67021811,410575157.12899655,15061744185.150415,1521388.3015303449]
[{"$f":"IF(ISBLANK(InfoPro!A19),\"\",InfoPro!A19)","v":"SC_1232_A2"},{"$f":"IF(ISBLANK(InfoPro!B19),\"\",InfoPro!B19)","v":"La Paz Solar 9,9 MW"},{"$f":"IF(ISBLANK(InfoPro!E19),\"\",InfoPro!E19)","v":9.9},{"$f":"IF(ISBLANK(InfoPro!F19),\"\",InfoPro!F19)","v":"Solar FV"},{"$f":"IF(ISBLANK(InfoPro!I19),\"\",YEAR(InfoPro!I19)-$H$3)","v":2},{"$f":"IF(B26=\"\",\"\",VLOOKUP(D26,Tablas!$B$2:$E$13,2,FALSE))","v":0.26},{"$f":"IF(B26=\"\",\"\",VLOOKUP(D26,Tablas!$B$2:$H$13,7,FALSE))","v":83577.200000000012},0.56483127404885003,22548.240000000005,1956941834.5051382,1750395200.8096051,1565648659.0425806,1400401305.0470312,1252595085.0152338,1120389163.6987782,1002136997.9416621,896365830.00148666,801758345.26072145,717136265.88615537,641445676.10568452,573743896.33782172,513187742.69930387,459023025.67021811,410575157.12899655,15061744185.150415,1521388.3015303449]
[{"$f":"IF(ISBLANK(InfoPro!A20),\"\",InfoPro!A20)","v":"SC_1239_A1"},{"$f":"IF(ISBLANK(InfoPro!B20),\"\",InfoPro!B20)","v":"El Carmen"},{"$f":"IF(ISBLANK(InfoPro!E20),\"\",InfoPro!E20)","v":104.5},{"$f":"IF(ISBLANK(InfoPro!F20),\"\",InfoPro!F20)","v":"Eólico Onshore"},{"$f":"IF(ISBLANK(InfoPro!I20),\"\",YEAR(InfoPro!I20)-$H$3)","v":4},{"$f":"IF(B27=\"\",\"\",VLOOKUP(D27,Tablas!$B$2:$E$13,2,FALSE))","v":0.56999999999999995},{"$f":"IF(B27=\"\",\"\",VLOOKUP(D27,Tablas!$B$2:$H$13,7,FALSE))","v":83577.200000000012},0.56483127404885003,521789.39999999997,36230715763.74176,32406722507.819115,28986334980.160206,25926954365.080692,23190477965.188454,20742824655.803627,18553510425.584637,16595268716.980898,14843710838.086668,13277022216.535484,11875690712.464657,10622263606.855686,9501130238.690237,8498327583.8016443,7601366354.0265141,278852320930.82025,2668443.2624958875]
[{"$f":"IF(ISBLANK(InfoPro!A21),\"\",InfoPro!A21)","v":"SC_1239_A2"},{"$f":"IF(ISBLANK(InfoPro!B21),\"\",InfoPro!B21)","v":"El Carmen"},{"$f":"IF(ISBLANK(InfoPro!E21),\"\",InfoPro!E21)","v":104.5},{"$f":"IF(ISBLANK(InfoPro!F21),\"\",InfoPro!F21)","v":"Eólico Onshore"},{"$f":"IF(ISBLANK(InfoPro!I21),\"\",YEAR(InfoPro!I21)-$H$3)","v":4},{"$f":"IF(B28=\"\",\"\",VLOOKUP(D28,Tablas!$B$2:$E$13,2,FALSE))","v":0.56999999999999995},{"$f":"IF(B28=\"\",\"\",VLOOKUP(D28,Tablas!$B$2:$H$13,7,FALSE))","v":83577.200000000012},0.56483127404885003,521789.39999999997,{"$f":"IF($I28=\"\",\"\",(1/(1+$C$3)^(J$6+$E28))*$I28*$C$2*$H28)","v":36230715763.74176},32406722507.819115,28986334980.160206,25926954365.080692,23190477965.188454,20742824655.803627,18553510425.584637,16595268716.980898,14843710838.086668,13277022216.535484,11875690712.464657,10622263606.855686,9501130238.690237,8498327583.8016443,7601366354.0265141,278852320930.82025,2668443.2624958875]
[{"$f":"IF(ISBLANK(InfoPro!A22),\"\",InfoPro!A22)","v":"SC_1244_A1"},{"$f":"IF(ISBLANK(InfoPro!B22),\"\",InfoPro!B22)","v":"Proyecto Maria"},{"$f":"IF(ISBLANK(InfoPro!E22),\"\",InfoPro!E22)","v":120},{"$f":"IF(ISBLANK(InfoPro!F22),\"\",InfoPro!F22)","v":"Eólico Onshore"},{"$f":"IF(ISBLANK(InfoPro!I22),\"\",YEAR(InfoPro!I22)-$H$3)","v":3},{"$f":"IF(B29=\"\",\"\",VLOOKUP(D29,Tablas!$B$2:$E$13,2,FALSE))","v":0.56999999999999995},{"$f":"IF(B29=\"\",\"\",VLOOKUP(D29,Tablas!$B$2:$H$13,7,FALSE))","v":83577.200000000012},0.56483127404885003,599184,46513998343.192299,41604649680.851791,37213461252.998024,33285743517.887321,29772579175.212276,26630213931.316887,23819511566.473064,21305466517.41777,19056767904.667061,17045409574.83637,15246341301.284769,13637156799.002476,12197814668.159641,10910388790.840464,9758845072.3081093,357998348096.44836,2983319.5674704029]
[{"$f":"IF(ISBLANK(InfoPro!A23),\"\",InfoPro!A23)","v":"SC_1252_A1"},{"$f":"IF(ISBLANK(InfoPro!B23),\"\",InfoPro!B23)","v":"Parque Eólico Neptuno"},{"$f":"IF(ISBLANK(InfoPro!E23),\"\",InfoPro!E23)","v":150},{"$f":"IF(ISBLANK(InfoPro!F23),\"\",InfoPro!F23)","v":"Eólico Onshore"},{"$f":"IF(ISBLANK(InfoPro!I23),\"\",YEAR(InfoPro!I23)-$H$3)","v":3},{"$f":"IF(B30=\"\",\"\",VLOOKUP(D30,Tablas!$B$2:$E$13,2,FALSE))","v":0.56999999999999995},{"$f":"IF(B30=\"\",\"\",VLOOKUP(D30,Tablas!$B$2:$H$13,7,FALSE))","v":83577.200000000012},0.56483127404885003,748979.99999999988,58142497928.990364,52005812101.064728,46516826566.247528,41607179397.359146,37215723969.015335,33287767414.146107,29774389458.091328,26631833146.772205,23820959880.833824,21306761968.545456,19057926626.605957,17046445998.753094,15247268335.199547,13637985988.550577,12198556340.385134,447497935120.5603,2983319.567470402]
[{"$f":"IF(ISBLANK(InfoPro!A24),\"\",InfoPro!A24)","v":"SC_1262_A1"},{"$f":"IF(ISBLANK(InfoPro!B24),\"\",InfoPro!B24)","v":"Parque Solar Australe de 251 MW (entrega 200 MW)"},{"$f":"IF(ISBLANK(InfoPro!E24),\"\",InfoPro!E24)","v":200},{"$f":"IF(ISBLANK(InfoPro!F24),\"\",InfoPro!F24)","v":"Solar FV"},{"$f":"IF(ISBLANK(InfoPro!I24),\"\",YEAR(InfoPro!I24)-$H$3)","v":3},{"$f":"IF(B31=\"\",\"\",VLOOKUP(D31,Tablas!$B$2:$E$13,2,FALSE))","v":0.26},{"$f":"IF(B31=\"\",\"\",VLOOKUP(D31,Tablas!$B$2:$H$13,7,FALSE))","v":83577.200000000012},0.56483127404885003,455520,35361519208.274849,31629265839.244049,28290935455.495575,25304951212.428955,22634124519.167229,20245191877.609329,18108400606.090633,16197138288.095379,14487601331.03344,12958498507.185543,11590785784.602455,10367429145.440479,9273192437.7821846,8294447618.7676029,7419005025.7313099,272162486856.94904,1360812.4342847452]
[{"$f":"IF(ISBLANK(InfoPro!A25),\"\",InfoPro!A25)","v":"SC_1262_A2"},{"$f":"IF(ISBLANK(InfoPro!B25),\"\",InfoPro!B25)","v":"Parque Solar Australe de 251 MW (entrega 200 MW)"},{"$f":"IF(ISBLANK(InfoPro!E25),\"\",InfoPro!E25)","v":200},{"$f":"IF(ISBLANK(InfoPro!F25),\"\",InfoPro!F25)","v":"Solar FV"},{"$f":"IF(ISBLANK(InfoPro!I25),\"\",YEAR(InfoPro!I25)-$H$3)","v":3},{"$f":"IF(B32=\"\",\"\",VLOOKUP(D32,Tablas!$B$2:$E$13,2,FALSE))","v":0.26},{"$f":"IF(B32=\"\",\"\",VLOOKUP(D32,Tablas!$B$2:$H$13,7,FALSE))","v":83577.200000000012},0.56483127404885003,455520,35361519208.274849,31629265839.244049,28290935455.495575,25304951212.428955,22634124519.167229,20245191877.609329,18108400606.090633,16197138288.095379,14487601331.03344,12958498507.185543,11590785784.602455,10367429145.440479,9273192437.7821846,8294447618.7676029,7419005025.7313099,272162486856.94904,1360812.4342847452]
[{"$f":"IF(ISBLANK(InfoPro!A26),\"\",InfoPro!A26)","v":"SC_1264_A1"},{"$f":"IF(ISBLANK(InfoPro!B26),\"\",InfoPro!B26)","v":"Parque Solar Galus de 133 MW (entrega 110 MW)"},{"$f":"IF(ISBLANK(InfoPro!E26),\"\",InfoPro!E26)","v":110},{"$f":"IF(ISBLANK(InfoPro!F26),\"\",InfoPro!F26)","v":"Solar FV"},{"$f":"IF(ISBLANK(InfoPro!I26),\"\",YEAR(InfoPro!I26)-$H$3)","v":4},{"$f":"IF(B33=\"\",\"\",VLOOKUP(D33,Tablas!$B$2:$E$13,2,FALSE))","v":0.26},{"$f":"IF(B33=\"\",\"\",VLOOKUP(D33,Tablas!$B$2:$H$13,7,FALSE))","v":83577.200000000012},0.56483127404885003,250536.00000000003,17396096211.584229,15560014500.522568,13917723166.83593,12448768485.541977,11134855532.685133,9959620333.3498516,8908426058.4524593,7968180732.0683918,7127174178.9520493,6374932181.5313511,5702086029.9922647,5100255840.7802019,4561946190.3221827,4080452764.1522212,3649778858.8123627,133890311065.58318,1217184.6460507561]
[{"$f":"IF(ISBLANK(InfoPro!A27),\"\",InfoPro!A27)","v":"SC_1264_A2"},{"$f":"IF(ISBLANK(InfoPro!B27),\"\",InfoPro!B27)","v":"Parque Solar Galus de 133 MW (entrega 110 MW)"},{"$f":"IF(ISBLANK(InfoPro!E27),\"\",InfoPro!E27)","v":110},{"$f":"IF(ISBLANK(InfoPro!F27),\"\",InfoPro!F27)","v":"Solar FV"},{"$f":"IF(ISBLANK(InfoPro!I27),\"\",YEAR(InfoPro!I27)-$H$3)","v":4},{"$f":"IF(B34=\"\",\"\",VLOOKUP(D34,Tablas!$B$2:$E$13,2,FALSE))","v":0.26},{"$f":"IF(B34=\"\",\"\",VLOOKUP(D34,Tablas!$B$2:$H$13,7,FALSE))","v":83577.200000000012},0.56483127404885003,250536.00000000003,17396096211.584229,15560014500.522568,13917723166.83593,12448768485.541977,11134855532.685133,9959620333.3498516,8908426058.4524593,7968180732.0683918,7127174178.9520493,6374932181.5313511,5702086029.9922647,5100255840.7802019,4561946190.3221827,4080452764.1522212,3649778858.8123627,133890311065.58318,1217184.6460507561]
[{"$f":"IF(ISBLANK(InfoPro!A28),\"\",InfoPro!A28)","v":"SC_1266_A1"},{"$f":"IF(ISBLANK(InfoPro!B28),\"\",InfoPro!B28)","v":"Parque Solar Fornax DE 127 MW (Entrega 105 MW)"},{"$f":"IF(ISBLANK(InfoPro!E28),\"\",InfoPro!E28)","v":105},{"$f":"IF(ISBLANK(InfoPro!F28),\"\",InfoPro!F28)","v":"Solar FV"},{"$f":"IF(ISBLANK(InfoPro!I28),\"\",YEAR(InfoPro!I28)-$H$3)","v":4},{"$f":"IF(B35=\"\",\"\",VLOOKUP(D35,Tablas!$B$2:$E$13,2,FALSE))","v":0.26},{"$f":"IF(B35=\"\",\"\",VLOOKUP(D35,Tablas!$B$2:$H$13,7,FALSE))","v":83577.200000000012},0.56483127404885003,239148.00000000003,16605364565.603128,14852741114.135178,13285099386.525206,11882915372.562798,10628725735.7449,9506910318.1975842,8503497601.2500744,7605990698.7925558,6803211716.2724113,6085162536.9162903,5442900301.3562527,4868426029.8356466,4354584999.852993,3894977638.5089378,3483879819.7754364,127804387835.32941,1217184.6460507563]
[{"$f":"IF(ISBLANK(InfoPro!A29),\"\",InfoPro!A29)","v":"SC_1266_A2"},{"$f":"IF(ISBLANK(InfoPro!B29),\"\",InfoPro!B29)","v":"Parque Solar Fornax DE 127 MW (Entrega 105 MW)"},{"$f":"IF(ISBLANK(InfoPro!E29),\"\",InfoPro!E29)","v":105},{"$f":"IF(ISBLANK(InfoPro!F29),\"\",InfoPro!F29)","v":"Solar FV"},{"$f":"IF(ISBLANK(InfoPro!I29),\"\",YEAR(InfoPro!I29)-$H$3)","v":4},{"$f":"IF(B36=\"\",\"\",VLOOKUP(D36,Tablas!$B$2:$E$13,2,FALSE))","v":0.26},{"$f":"IF(B36=\"\",\"\",VLOOKUP(D36,Tablas!$B$2:$H$13,7,FALSE))","v":83577.200000000012},0.56483127404885003,239148.00000000003,16605364565.603128,14852741114.135178,13285099386.525206,11882915372.562798,10628725735.7449,9506910318.1975842,8503497601.2500744,7605990698.7925558,6803211716.2724113,6085162536.9162903,5442900301.3562527,4868426029.8356466,4354584999.852993,3894977638.5089378,3483879819.7754364,127804387835.32941,1217184.6460507563]
[{"$f":"IF(ISBLANK(InfoPro!A30),\"\",InfoPro!A30)","v":"SC_1272_A1"},{"$f":"IF(ISBLANK(InfoPro!B30),\"\",InfoPro!B30)","v":"Guacamayal Solar de 9,9 MW"},{"$f":"IF(ISBLANK(InfoPro!E30),\"\",InfoPro!E30)","v":9.9},{"$f":"IF(ISBLANK(InfoPro!F30),\"\",InfoPro!F30)","v":"Solar FV"},{"$f":"IF(ISBLANK(InfoPro!I30),\"\",YEAR(InfoPro!I30)-$H$3)","v":1},{"$f":"IF(B37=\"\",\"\",VLOOKUP(D37,Tablas!$B$2:$E$13,2,FALSE))","v":0.26},{"$f":"IF(B37=\"\",\"\",VLOOKUP(D37,Tablas!$B$2:$H$13,7,FALSE))","v":83577.200000000012},0.56483127404885003,22548.240000000005,2187860970.9767447,1956941834.5051382,1750395200.8096051,1565648659.0425806,1400401305.0470312,1252595085.0152338,1120389163.6987782,1002136997.9416621,896365830.00148666,801758345.26072145,717136265.88615537,641445676.10568452,573743896.33782172,513187742.69930387,459023025.67021811,16839029998.998165,1700912.1211109257]
[{"$f":"IF(ISBLANK(InfoPro!A31),\"\",InfoPro!A31)","v":"SC_1272_A2"},{"$f":"IF(ISBLANK(InfoPro!B31),\"\",InfoPro!B31)","v":"Guacamayal Solar de 9,9 MW"},{"$f":"IF(ISBLANK(InfoPro!E31),\"\",InfoPro!E31)","v":9.9},{"$f":"IF(ISBLANK(InfoPro!F31),\"\",InfoPro!F31)","v":"Solar FV"},{"$f":"IF(ISBLANK(InfoPro!I31),\"\",YEAR(InfoPro!I31)-$H$3)","v":1},{"$f":"IF(B38=\"\",\"\",VLOOKUP(D38,Tablas!$B$2:$E$13,2,FALSE))","v":0.26},{"$f":"IF(B38=\"\",\"\",VLOOKUP(D38,Tablas!$B$2:$H$13,7,FALSE))","v":83577.200000000012},0.56483127404885003,22548.240000000005,{"$f":"IF($I38=\"\",\"\",(1/(1+$C$3)^(J$6+$E38))*$I38*$C$2*$H38)","v":2187860970.9767447},1956941834.5051382,1750395200.8096051,1565648659.0425806,1400401305.0470312,1252595085.0152338,1120389163.6987782,1002136997.9416621,896365830.00148666,801758345.26072145,717136265.88615537,641445676.10568452,573743896.33782172,513187742.69930387,459023025.67021811,16839029998.998165,1700912.1211109257]
[{"$f":"IF(ISBLANK(InfoPro!A32),\"\",InfoPro!A32)","v":"SC_1293_A1"},{"$f":"IF(ISBLANK(InfoPro!B32),\"\",InfoPro!B32)","v":"Leo Solar II"},{"$f":"IF(ISBLANK(InfoPro!E32),\"\",InfoPro!E32)","v":80},{"$f":"IF(ISBLANK(InfoPro!F32),\"\",InfoPro!F32)","v":"Solar FV"},{"$f":"IF(ISBLANK(InfoPro!I32),\"\",YEAR(InfoPro!I32)-$H$3)","v":2},{"$f":"IF(B39=\"\",\"\",VLOOKUP(D39,Tablas!$B$2:$E$13,2,FALSE))","v":0.26},{"$f":"IF(B39=\"\",\"\",VLOOKUP(D39,Tablas!$B$2:$H$13,7,FALSE))","v":83577.200000000012},0.56483127404885003,182208.00000000003,15813671389.940512,14144607683.309942,12651706335.697622,11316374182.198231,10121980484.971586,9053649807.666893,8098076751.0437317,7243360242.4362545,6478855315.2381525,5795040532.4133768,5183399402.874218,4636314313.8409824,4146971658.1761928,3709276975.112874,3317779047.5070424,121711064122.42763,1521388.3015303453]
[{"$f":"IF(ISBLANK(InfoPro!A33),\"\",InfoPro!A33)","v":"SC_1293_A2"},{"$f":"IF(ISBLANK(InfoPro!B33),\"\",InfoPro!B33)","v":"Leo Solar II"},{"$f":"IF(ISBLANK(InfoPro!E33),\"\",InfoPro!E33)","v":80},{"$f":"IF(ISBLANK(InfoPro!F33),\"\",InfoPro!F33)","v":"Solar FV"},{"$f":"IF(ISBLANK(InfoPro!I33),\"\",YEAR(InfoPro!I33)-$H$3)","v":2},{"$f":"IF(B40=\"\",\"\",VLOOKUP(D40,Tablas!$B$2:$E$13,2,FALSE))","v":0.26},{"$f":"IF(B40=\"\",\"\",VLOOKUP(D40,Tablas!$B$2:$H$13,7,FALSE))","v":83577.200000000012},0.56483127404885003,{"$f":"IF(C40=\"\",\"\",+C40*F40*24*365)","v":182208.00000000003},15813671389.940512,14144607683.309942,12651706335.697622,11316374182.198231,10121980484.971586,9053649807.666893,8098076751.0437317,7243360242.4362545,6478855315.2381525,5795040532.4133768,5183399402.874218,4636314313.8409824,4146971658.1761928,3709276975.112874,3317779047.5070424,121711064122.42763,1521388.3015303453]
[{"$f":"IF(ISBLANK(InfoPro!A34),\"\",InfoPro!A34)","v":"SC_1306_A1"},{"$f":"IF(ISBLANK(InfoPro!B34),\"\",InfoPro!B34)","v":"Leo Solar I"},{"$f":"IF(ISBLANK(InfoPro!E34),\"\",InfoPro!E34)","v":19.899999999999999},{"$f":"IF(ISBLANK(InfoPro!F34),\"\",InfoPro!F34)","v":"Solar FV"},{"$f":"IF(ISBLANK(InfoPro!I34),\"\",YEAR(InfoPro!I34)-$H$3)","v":2},{"$f":"IF(B41=\"\",\"\",VLOOKUP(D41,Tablas!$B$2:$E$13,2,FALSE))","v":0.26},{"$f":"IF(B41=\"\",\"\",VLOOKUP(D41,Tablas!$B$2:$H$13,7,FALSE))","v":83577.200000000012},0.56483127404885003,45324.24,3933650758.2477007,3518471161.2233472,3147111951.0047832,2814948077.8218098,2517842645.6366811,2252095389.6571393,2014396591.8221281,1801785860.3060179,1611615259.6654899,1441516332.4378271,1289370601.4649615,1153283185.5679443,1031559199.9713278,922682647.55932724,825297538.06737649,30275627200.453861,1521388.3015303449]
[{"$f":"IF(ISBLANK(InfoPro!A35),\"\",InfoPro!A35)","v":"SC_1306_A2"},{"$f":"IF(ISBLANK(InfoPro!B35),\"\",InfoPro!B35)","v":"Leo Solar I"},{"$f":"IF(ISBLANK(InfoPro!E35),\"\",InfoPro!E35)","v":19.899999999999999},{"$f":"IF(ISBLANK(InfoPro!F35),\"\",InfoPro!F35)","v":"Solar FV"},{"$f":"IF(ISBLANK(InfoPro!I35),\"\",YEAR(InfoPro!I35)-$H$3)","v":2},{"$f":"IF(B42=\"\",\"\",VLOOKUP(D42,Tablas!$B$2:$E$13,2,FALSE))","v":0.26},{"$f":"IF(B42=\"\",\"\",VLOOKUP(D42,Tablas!$B$2:$H$13,7,FALSE))","v":83577.200000000012},0.56483127404885003,45324.24,3933650758.2477007,3518471161.2233472,3147111951.0047832,2814948077.8218098,2517842645.6366811,2252095389.6571393,2014396591.8221281,1801785860.3060179,1611615259.6654899,1441516332.4378271,1289370601.4649615,1153283185.5679443,1031559199.9713278,922682647.55932724,825297538.06737649,30275627200.453861,1521388.3015303449]
[{"$f":"IF(ISBLANK(InfoPro!A36),\"\",InfoPro!A36)","v":"SC_1311_A1"},{"$f":"IF(ISBLANK(InfoPro!B36),\"\",InfoPro!B36)","v":"Elipse de 200 MW"},{"$f":"IF(ISBLANK(InfoPro!E36),\"\",InfoPro!E36)","v":200},{"$f":"IF(ISBLANK(InfoPro!F36),\"\",InfoPro!F36)","v":"Eólico Onshore"},{"$f":"IF(ISBLANK(InfoPro!I36),\"\",YEAR(InfoPro!I36)-$H$3)","v":2},{"$f":"IF(B43=\"\",\"\",VLOOKUP(D43,Tablas!$B$2:$E$13,2,FALSE))","v":0.56999999999999995},{"$f":"IF(B43=\"\",\"\",VLOOKUP(D43,Tablas!$B$2:$H$13,7,FALSE))","v":83577.200000000012},0.56483127404885003,998639.99999999988,86671083579.481628,77523330571.987152,69341082801.419647,62022435421.663368,55476239196.478859,49620965292.020462,44383689885.528145,39699185944.121773,35509110862.362938,31761279841.111763,28409015958.060612,25410568835.474609,22728594665.004128,20329691113.5994,18183981318.067436,667070255286.38196,3335351.2764319098]
[{"$f":"IF(ISBLANK(InfoPro!A37),\"\",InfoPro!A37)","v":"SC_1312_A1"},{"$f":"IF(ISBLANK(InfoPro!B37),\"\",InfoPro!B37)","v":"Omega de 300 MW"},{"$f":"IF(ISBLANK(InfoPro!E37),\"\",InfoPro!E37)","v":300},{"$f":"IF(ISBLANK(InfoPro!F37),\"\",InfoPro!F37)","v":"Eólico Onshore"},{"$f":"IF(ISBLANK(InfoPro!I37),\"\",YEAR(InfoPro!I37)-$H$3)","v":5},{"$f":"IF(B44=\"\",\"\",VLOOKUP(D44,Tablas!$B$2:$E$13,2,FALSE))","v":0.56999999999999995},{"$f":"IF(B44=\"\",\"\",VLOOKUP(D44,Tablas!$B$2:$H$13,7,FALSE))","v":83577.200000000012},0.56483127404885003,1497959.9999999998,93033653132.495056,83214358794.718292,74431447938.03067,66575534828.292213,59548778916.182655,53263666293.544411,47641919761.667648,42613523937.090912,38115853253.211914,34092891997.506187,30494536670.399094,27275971977.101154,24397112680.770267,21822104365.626354,19518876892.331272,716040231438.96826,2386800.7714632275]
[{"$f":"IF(ISBLANK(InfoPro!A38),\"\",InfoPro!A38)","v":"SC_1313_A1"},{"$f":"IF(ISBLANK(InfoPro!B38),\"\",InfoPro!B38)","v":"Kappa de 500 MW"},{"$f":"IF(ISBLANK(InfoPro!E38),\"\",InfoPro!E38)","v":500},{"$f":"IF(ISBLANK(InfoPro!F38),\"\",InfoPro!F38)","v":"Eólico Onshore"},{"$f":"IF(ISBLANK(InfoPro!I38),\"\",YEAR(InfoPro!I38)-$H$3)","v":4},{"$f":"IF(B45=\"\",\"\",VLOOKUP(D45,Tablas!$B$2:$E$13,2,FALSE))","v":0.56999999999999995},{"$f":"IF(B45=\"\",\"\",VLOOKUP(D45,Tablas!$B$2:$H$13,7,FALSE))","v":83577.200000000012},0.56483127404885003,2496600,173352707003.54913,155056088554.15845,138690597991.19717,124052413230.05113,110959224713.82036,99247964860.304428,88772777155.907364,79403199602.779419,71022539895.151535,63526422088.686539,56821486662.510323,50824227783.998505,45459953295.168594,40661854467.950447,36370173942.710594,1334221631247.9441,2668443.2624958884]
[{"$f":"IF(ISBLANK(InfoPro!A39),\"\",InfoPro!A39)","v":"SC_1315_A1"},{"$f":"IF(ISBLANK(InfoPro!B39),\"\",InfoPro!B39)","v":"Parque Eólico Cordobita - 50MW"},{"$f":"IF(ISBLANK(InfoPro!E39),\"\",InfoPro!E39)","v":50},{"$f":"IF(ISBLANK(InfoPro!F39),\"\",InfoPro!F39)","v":"Eólico Onshore"},{"$f":"IF(ISBLANK(InfoPro!I39),\"\",YEAR(InfoPro!I39)-$H$3)","v":4},{"$f":"IF(B46=\"\",\"\",VLOOKUP(D46,Tablas!$B$2:$E$13,2,FALSE))","v":0.56999999999999995},{"$f":"IF(B46=\"\",\"\",VLOOKUP(D46,Tablas!$B$2:$H$13,7,FALSE))","v":83577.200000000012},0.56483127404885003,249659.99999999997,17335270700.354912,15505608855.415842,13869059799.119715,12405241323.005116,11095922471.382036,9924796486.0304432,8877277715.5907345,7940319960.2779408,7102253989.5151529,6352642208.8686523,5682148666.2510319,5082422778.3998499,4545995329.5168591,4066185446.7950444,3637017394.27106,133422163124.79439,2668443.2624958879]
[{"$f":"IF(ISBLANK(InfoPro!A40),\"\",InfoPro!A40)","v":"SC_1315_A2"},{"$f":"IF(ISBLANK(InfoPro!B40),\"\",InfoPro!B40)","v":"Parque Eólico Cordobita - 50MW"},{"$f":"IF(ISBLANK(InfoPro!E40),\"\",InfoPro!E40)","v":50},{"$f":"IF(ISBLANK(InfoPro!F40),\"\",InfoPro!F40)","v":"Eólico Onshore"},{"$f":"IF(ISBLANK(InfoPro!I40),\"\",YEAR(InfoPro!I40)-$H$3)","v":4},{"$f":"IF(B47=\"\",\"\",VLOOKUP(D47,Tablas!$B$2:$E$13,2,FALSE))","v":0.56999999999999995},{"$f":"IF(B47=\"\",\"\",VLOOKUP(D47,Tablas!$B$2:$H$13,7,FALSE))","v":83577.200000000012},0.56483127404885003,249659.99999999997,17335270700.354912,15505608855.415842,13869059799.119715,12405241323.005116,11095922471.382036,9924796486.0304432,8877277715.5907345,7940319960.2779408,7102253989.5151529,6352642208.8686523,5682148666.2510319,5082422778.3998499,4545995329.5168591,4066185446.7950444,3637017394.27106,133422163124.79439,2668443.2624958879]
[{"$f":"IF(ISBLANK(InfoPro!A41),\"\",InfoPro!A41)","v":"SC_1317_A1"},{"$f":"IF(ISBLANK(InfoPro!B41),\"\",InfoPro!B41)","v":"EÓLICA BONDA - 70MW"},{"$f":"IF(ISBLANK(InfoPro!E41),\"\",InfoPro!E41)","v":70},{"$f":"IF(ISBLANK(InfoPro!F41),\"\",InfoPro!F41)","v":"Eólico Onshore"},{"$f":"IF(ISBLANK(InfoPro!I41),\"\",YEAR(InfoPro!I41)-$H$3)","v":4},{"$f":"IF(B48=\"\",\"\",VLOOKUP(D48,Tablas!$B$2:$E$13,2,FALSE))","v":0.56999999999999995},{"$f":"IF(B48=\"\",\"\",VLOOKUP(D48,Tablas!$B$2:$H$13,7,FALSE))","v":83577.200000000012},0.56483127404885003,349523.99999999994,{"$f":"IF($I48=\"\",\"\",(1/(1+$C$3)^(J$6+$E48))*$I48*$C$2*$H48)","v":24269378980.496876},21707852397.582176,19416683718.767601,17367337852.207161,15534291459.934845,13894715080.442619,12428188801.827028,11116447944.389118,9943155585.3212147,8893699092.4161129,7955008132.7514429,7115391889.7597885,6364393461.3236027,5692659625.5130625,5091824351.9794827,186791028374.71213,2668443.2624958875]
[{"$f":"IF(ISBLANK(InfoPro!A42),\"\",InfoPro!A42)","v":"SC_1321_A1"},{"$f":"IF(ISBLANK(InfoPro!B42),\"\",InfoPro!B42)","v":"OWF ASTROLABIO - 600 MW"},{"$f":"IF(ISBLANK(InfoPro!E42),\"\",InfoPro!E42)","v":600},{"$f":"IF(ISBLANK(InfoPro!F42),\"\",InfoPro!F42)","v":"Eólico Offshore"},{"$f":"IF(ISBLANK(InfoPro!I42),\"\",YEAR(InfoPro!I42)-$H$3)","v":11},{"$f":"IF(B49=\"\",\"\",VLOOKUP(D49,Tablas!$B$2:$E$13,2,FALSE))","v":0.56999999999999995},{"$f":"IF(B49=\"\",\"\",VLOOKUP(D49,Tablas!$B$2:$H$13,7,FALSE))","v":83577.200000000012},0.56483127404885003,2995919.9999999995,95283839523.335297,85227047874.181824,76231706506.423828,68185783995.012375,60989073340.798187,54551943954.202309,48794225361.540535,43644208731.252708,39037753784.662544,34917489968.392258,31232101939.527966,27935690464.694065,24987200773.429401,22349911246.359035,19990976070.088577,733358953533.90088,1222264.9225565016]
[{"$f":"IF(ISBLANK(InfoPro!A43),\"\",InfoPro!A43)","v":"SC_1321_A2"},{"$f":"IF(ISBLANK(InfoPro!B43),\"\",InfoPro!B43)","v":"OWF ASTROLABIO - 600 MW"},{"$f":"IF(ISBLANK(InfoPro!E43),\"\",InfoPro!E43)","v":825},{"$f":"IF(ISBLANK(InfoPro!F43),\"\",InfoPro!F43)","v":"Eólico Offshore"},{"$f":"IF(ISBLANK(InfoPro!I43),\"\",YEAR(InfoPro!I43)-$H$3)","v":11},{"$f":"IF(B50=\"\",\"\",VLOOKUP(D50,Tablas!$B$2:$E$13,2,FALSE))","v":0.56999999999999995},{"$f":"IF(B50=\"\",\"\",VLOOKUP(D50,Tablas!$B$2:$H$13,7,FALSE))","v":83577.200000000012},0.56483127404885003,4119389.9999999995,131015279344.58603,117187190827.00003,104818596446.33275,93755452993.142014,83859975843.597519,75008922937.028168,67092059872.11824,60010787005.472488,53676911453.911011,48011548706.539352,42944140166.850952,38411574388.954346,34357401063.465424,30731127963.743671,27487592096.371799,1008368561109.1139,1222264.9225565016]
[{"$f":"IF(ISBLANK(InfoPro!A44),\"\",InfoPro!A44)","v":"SC_1336_A1"},{"$f":"IF(ISBLANK(InfoPro!B44),\"\",InfoPro!B44)","v":"AES Solar 4"},{"$f":"IF(ISBLANK(InfoPro!E44),\"\",InfoPro!E44)","v":300},{"$f":"IF(ISBLANK(InfoPro!F44),\"\",InfoPro!F44)","v":"Solar FV"},{"$f":"IF(ISBLANK(InfoPro!I44),\"\",YEAR(InfoPro!I44)-$H$3)","v":3},{"$f":"IF(B51=\"\",\"\",VLOOKUP(D51,Tablas!$B$2:$E$13,2,FALSE))","v":0.26},{"$f":"IF(B51=\"\",\"\",VLOOKUP(D51,Tablas!$B$2:$H$13,7,FALSE))","v":83577.200000000012},0.56483127404885003,683280,53042278812.41227,47443898758.866074,42436403183.243362,37957426818.64344,33951186778.750843,30367787816.413994,27162600909.135956,24295707432.14307,21731401996.550156,19437747760.778316,17386178676.903683,15551143718.160719,13909788656.673277,12441671428.151405,11128507538.596966,408243730285.42365,1360812.4342847455]
[{"$f":"IF(ISBLANK(InfoPro!A45),\"\",InfoPro!A45)","v":"SC_1336_A2"},{"$f":"IF(ISBLANK(InfoPro!B45),\"\",InfoPro!B45)","v":"AES Solar 4"},{"$f":"IF(ISBLANK(InfoPro!E45),\"\",InfoPro!E45)","v":300},{"$f":"IF(ISBLANK(InfoPro!F45),\"\",InfoPro!F45)","v":"Solar FV"},{"$f":"IF(ISBLANK(InfoPro!I45),\"\",YEAR(InfoPro!I45)-$H$3)","v":3},{"$f":"IF(B52=\"\",\"\",VLOOKUP(D52,Tablas!$B$2:$E$13,2,FALSE))","v":0.26},{"$f":"IF(B52=\"\",\"\",VLOOKUP(D52,Tablas!$B$2:$H$13,7,FALSE))","v":83577.200000000012},0.56483127404885003,683280,53042278812.41227,47443898758.866074,42436403183.243362,37957426818.64344,33951186778.750843,30367787816.413994,27162600909.135956,24295707432.14307,21731401996.550156,19437747760.778316,17386178676.903683,15551143718.160719,13909788656.673277,12441671428.151405,11128507538.596966,408243730285.42365,1360812.4342847455]
[{"$f":"IF(ISBLANK(InfoPro!A46),\"\",InfoPro!A46)","v":"SC_1345_A1"},{"$f":"IF(ISBLANK(InfoPro!B46),\"\",InfoPro!B46)","v":"Parque Eólico Jouttalein_150MW"},{"$f":"IF(ISBLANK(InfoPro!E46),\"\",InfoPro!E46)","v":150},{"$f":"IF(ISBLANK(InfoPro!F46),\"\",InfoPro!F46)","v":"Eólico Onshore"},{"$f":"IF(ISBLANK(InfoPro!I46),\"\",YEAR(InfoPro!I46)-$H$3)","v":2},{"$f":"IF(B53=\"\",\"\",VLOOKUP(D53,Tablas!$B$2:$E$13,2,FALSE))","v":0.56999999999999995},{"$f":"IF(B53=\"\",\"\",VLOOKUP(D53,Tablas!$B$2:$H$13,7,FALSE))","v":83577.200000000012},0.56483127404885003,748979.99999999988,65003312684.611214,58142497928.990364,52005812101.064728,46516826566.247528,41607179397.359146,37215723969.015335,33287767414.146107,29774389458.091328,26631833146.772205,23820959880.833824,21306761968.545456,19057926626.605957,17046445998.753094,15247268335.199547,13637985988.550577,500302691464.78644,3335351.2764319098]
[{"$f":"IF(ISBLANK(InfoPro!A47),\"\",InfoPro!A47)","v":"SC_1345_A2"},{"$f":"IF(ISBLANK(InfoPro!B47),\"\",InfoPro!B47)","v":"Parque Eólico Jouttalein_150MW"},{"$f":"IF(ISBLANK(InfoPro!E47),\"\",InfoPro!E47)","v":150},{"$f":"IF(ISBLANK(InfoPro!F47),\"\",InfoPro!F47)","v":"Eólico Onshore"},{"$f":"IF(ISBLANK(InfoPro!I47),\"\",YEAR(InfoPro!I47)-$H$3)","v":2},{"$f":"IF(B54=\"\",\"\",VLOOKUP(D54,Tablas!$B$2:$E$13,2,FALSE))","v":0.56999999999999995},{"$f":"IF(B54=\"\",\"\",VLOOKUP(D54,Tablas!$B$2:$H$13,7,FALSE))","v":83577.200000000012},0.56483127404885003,748979.99999999988,65003312684.611214,58142497928.990364,52005812101.064728,46516826566.247528,41607179397.359146,37215723969.015335,33287767414.146107,29774389458.091328,26631833146.772205,23820959880.833824,21306761968.545456,19057926626.605957,17046445998.753094,15247268335.199547,13637985988.550577,500302691464.78644,3335351.2764319098]
[{"$f":"IF(ISBLANK(InfoPro!A48),\"\",InfoPro!A48)","v":"SC_1347_A1"},{"$f":"IF(ISBLANK(InfoPro!B48),\"\",InfoPro!B48)","v":"AES Solar 5_100MW"},{"$f":"IF(ISBLANK(InfoPro!E48),\"\",InfoPro!E48)","v":100},{"$f":"IF(ISBLANK(InfoPro!F48),\"\",InfoPro!F48)","v":"Solar FV"},{"$f":"IF(ISBLANK(InfoPro!I48),\"\",YEAR(InfoPro!I48)-$H$3)","v":3},{"$f":"IF(B55=\"\",\"\",VLOOKUP(D55,Tablas!$B$2:$E$13,2,FALSE))","v":0.26},{"$f":"IF(B55=\"\",\"\",VLOOKUP(D55,Tablas!$B$2:$H$13,7,FALSE))","v":83577.200000000012},0.56483127404885003,227760,17680759604.137424,15814632919.622025,14145467727.747787,12652475606.214478,11317062259.583614,10122595938.804665,9054200303.0453167,8098569144.0476894,7243800665.5167198,6479249253.5927715,5795392892.3012276,5183714572.7202396,4636596218.8910923,4147223809.3838015,3709502512.8656549,136081243428.47452,1360812.4342847452]
[{"$f":"IF(ISBLANK(InfoPro!A49),\"\",InfoPro!A49)","v":"SC_1347_A2"},{"$f":"IF(ISBLANK(InfoPro!B49),\"\",InfoPro!B49)","v":"AES Solar 5_100MW"},{"$f":"IF(ISBLANK(InfoPro!E49),\"\",InfoPro!E49)","v":100},{"$f":"IF(ISBLANK(InfoPro!F49),\"\",InfoPro!F49)","v":"Solar FV"},{"$f":"IF(ISBLANK(InfoPro!I49),\"\",YEAR(InfoPro!I49)-$H$3)","v":3},{"$f":"IF(B56=\"\",\"\",VLOOKUP(D56,Tablas!$B$2:$E$13,2,FALSE))","v":0.26},{"$f":"IF(B56=\"\",\"\",VLOOKUP(D56,Tablas!$B$2:$H$13,7,FALSE))","v":83577.200000000012},0.56483127404885003,227760,17680759604.137424,15814632919.622025,14145467727.747787,12652475606.214478,11317062259.583614,10122595938.804665,9054200303.0453167,8098569144.0476894,7243800665.5167198,6479249253.5927715,5795392892.3012276,5183714572.7202396,4636596218.8910923,4147223809.3838015,3709502512.8656549,136081243428.47452,1360812.4342847452]
[{"$f":"IF(ISBLANK(InfoPro!A50),\"\",InfoPro!A50)","v":"SC_1355_A1"},{"$f":"IF(ISBLANK(InfoPro!B50),\"\",InfoPro!B50)","v":"Barlovento 1"},{"$f":"IF(ISBLANK(InfoPro!E50),\"\",InfoPro!E50)","v":500},{"$f":"IF(ISBLANK(InfoPro!F50),\"\",InfoPro!F50)","v":"Eólico Offshore"},{"$f":"IF(ISBLANK(InfoPro!I50),\"\",YEAR(InfoPro!I50)-$H$3)","v":11},{"$f":"IF(B57=\"\",\"\",VLOOKUP(D57,Tablas!$B$2:$E$13,2,FALSE))","v":0.56999999999999995},{"$f":"IF(B57=\"\",\"\",VLOOKUP(D57,Tablas!$B$2:$H$13,7,FALSE))","v":83577.200000000012},0.56483127404885003,2496600,79403199602.779419,71022539895.151535,63526422088.686539,56821486662.510323,50824227783.998505,45459953295.168594,40661854467.950447,36370173942.710594,32531461487.2188,29097908306.993549,26026751616.273308,23279742053.911728,20822667311.191166,18624926038.63253,16659146725.073818,611132461278.25085,1222264.9225565018]
[{"$f":"IF(ISBLANK(InfoPro!A51),\"\",InfoPro!A51)","v":"SC_1356_A1"},{"$f":"IF(ISBLANK(InfoPro!B51),\"\",InfoPro!B51)","v":"Sol de Zawady 9,9 MW"},{"$f":"IF(ISBLANK(InfoPro!E51),\"\",InfoPro!E51)","v":9.9},{"$f":"IF(ISBLANK(InfoPro!F51),\"\",InfoPro!F51)","v":"Solar FV"},{"$f":"IF(ISBLANK(InfoPro!I51),\"\",YEAR(InfoPro!I51)-$H$3)","v":1},{"$f":"IF(B58=\"\",\"\",VLOOKUP(D58,Tablas!$B$2:$E$13,2,FALSE))","v":0.26},{"$f":"IF(B58=\"\",\"\",VLOOKUP(D58,Tablas!$B$2:$H$13,7,FALSE))","v":83577.200000000012},0.56483127404885003,22548.240000000005,{"$f":"IF($I58=\"\",\"\",(1/(1+$C$3)^(J$6+$E58))*$I58*$C$2*$H58)","v":2187860970.9767447},1956941834.5051382,1750395200.8096051,1565648659.0425806,1400401305.0470312,1252595085.0152338,1120389163.6987782,1002136997.9416621,896365830.00148666,801758345.26072145,717136265.88615537,641445676.10568452,573743896.33782172,513187742.69930387,459023025.67021811,16839029998.998165,1700912.1211109257]
[{"$f":"IF(ISBLANK(InfoPro!A52),\"\",InfoPro!A52)","v":"SC_1356_A2"},{"$f":"IF(ISBLANK(InfoPro!B52),\"\",InfoPro!B52)","v":"Sol de Zawady 9,9 MW"},{"$f":"IF(ISBLANK(InfoPro!E52),\"\",InfoPro!E52)","v":9.9},{"$f":"IF(ISBLANK(InfoPro!F52),\"\",InfoPro!F52)","v":"Solar FV"},{"$f":"IF(ISBLANK(InfoPro!I52),\"\",YEAR(InfoPro!I52)-$H$3)","v":1},{"$f":"IF(B59=\"\",\"\",VLOOKUP(D59,Tablas!$B$2:$E$13,2,FALSE))","v":0.26},{"$f":"IF(B59=\"\",\"\",VLOOKUP(D59,Tablas!$B$2:$H$13,7,FALSE))","v":83577.200000000012},0.56483127404885003,22548.240000000005,2187860970.9767447,1956941834.5051382,1750395200.8096051,1565648659.0425806,1400401305.0470312,1252595085.0152338,1120389163.6987782,1002136997.9416621,896365830.00148666,801758345.26072145,717136265.88615537,641445676.10568452,573743896.33782172,513187742.69930387,459023025.67021811,16839029998.998165,1700912.1211109257]
[{"$f":"IF(ISBLANK(InfoPro!A53),\"\",InfoPro!A53)","v":"SC_1366_A1"},{"$f":"IF(ISBLANK(InfoPro!B53),\"\",InfoPro!B53)","v":"PARQUE SOLAR TÁNGARA 100 MW"},{"$f":"IF(ISBLANK(InfoPro!E53),\"\",InfoPro!E53)","v":100},{"$f":"IF(ISBLANK(InfoPro!F53),\"\",InfoPro!F53)","v":"Solar FV"},{"$f":"IF(ISBLANK(InfoPro!I53),\"\",YEAR(InfoPro!I53)-$H$3)","v":3},{"$f":"IF(B60=\"\",\"\",VLOOKUP(D60,Tablas!$B$2:$E$13,2,FALSE))","v":0.26},{"$f":"IF(B60=\"\",\"\",VLOOKUP(D60,Tablas!$B$2:$H$13,7,FALSE))","v":83577.200000000012},0.56483127404885003,227760,17680759604.137424,15814632919.622025,14145467727.747787,12652475606.214478,11317062259.583614,10122595938.804665,9054200303.0453167,8098569144.0476894,7243800665.5167198,6479249253.5927715,5795392892.3012276,5183714572.7202396,4636596218.8910923,4147223809.3838015,3709502512.8656549,136081243428.47452,1360812.4342847452]
[{"$f":"IF(ISBLANK(InfoPro!A54),\"\",InfoPro!A54)","v":"SC_1376_A1"},{"$f":"IF(ISBLANK(InfoPro!B54),\"\",InfoPro!B54)","v":"Expansión La Loma I - 100 MW"},{"$f":"IF(ISBLANK(InfoPro!E54),\"\",InfoPro!E54)","v":100},{"$f":"IF(ISBLANK(InfoPro!F54),\"\",InfoPro!F54)","v":"Solar FV"},{"$f":"IF(ISBLANK(InfoPro!I54),\"\",YEAR(InfoPro!I54)-$H$3)","v":4},{"$f":"IF(B61=\"\",\"\",VLOOKUP(D61,Tablas!$B$2:$E$13,2,FALSE))","v":0.26},{"$f":"IF(B61=\"\",\"\",VLOOKUP(D61,Tablas!$B$2:$H$13,7,FALSE))","v":83577.200000000012},0.56483127404885003,227760,15814632919.622025,14145467727.747787,12652475606.214478,11317062259.583614,10122595938.804665,9054200303.0453167,8098569144.0476894,7243800665.5167198,6479249253.5927715,5795392892.3012276,5183714572.7202396,4636596218.8910923,4147223809.3838015,3709502512.8656549,3317980780.7385111,121718464605.07561,1217184.6460507561]
[{"$f":"IF(ISBLANK(InfoPro!A55),\"\",InfoPro!A55)","v":"SC_1376_A2"},{"$f":"IF(ISBLANK(InfoPro!B55),\"\",InfoPro!B55)","v":"Expansión La Loma I - 100 MW"},{"$f":"IF(ISBLANK(InfoPro!E55),\"\",InfoPro!E55)","v":100},{"$f":"IF(ISBLANK(InfoPro!F55),\"\",InfoPro!F55)","v":"Solar FV"},{"$f":"IF(ISBLANK(InfoPro!I55),\"\",YEAR(InfoPro!I55)-$H$3)","v":4},{"$f":"IF(B62=\"\",\"\",VLOOKUP(D62,Tablas!$B$2:$E$13,2,FALSE))","v":0.26},{"$f":"IF(B62=\"\",\"\",VLOOKUP(D62,Tablas!$B$2:$H$13,7,FALSE))","v":83577.200000000012},0.56483127404885003,227760,15814632919.622025,14145467727.747787,12652475606.214478,11317062259.583614,10122595938.804665,9054200303.0453167,8098569144.0476894,7243800665.5167198,6479249253.5927715,5795392892.3012276,5183714572.7202396,4636596218.8910923,4147223809.3838015,3709502512.8656549,3317980780.7385111,121718464605.07561,1217184.6460507561]
[{"$f":"IF(ISBLANK(InfoPro!A56),\"\",InfoPro!A56)","v":"SC_1377_A1"},{"$f":"IF(ISBLANK(InfoPro!B56),\"\",InfoPro!B56)","v":"Eólica Cordobita - 50MW"},{"$f":"IF(ISBLANK(InfoPro!E56),\"\",InfoPro!E56)","v":50},{"$f":"IF(ISBLANK(InfoPro!F56),\"\",InfoPro!F56)","v":"Eólico Onshore"},{"$f":"IF(ISBLANK(InfoPro!I56),\"\",YEAR(InfoPro!I56)-$H$3)","v":4},{"$f":"IF(B63=\"\",\"\",VLOOKUP(D63,Tablas!$B$2:$E$13,2,FALSE))","v":0.56999999999999995},{"$f":"IF(B63=\"\",\"\",VLOOKUP(D63,Tablas!$B$2:$H$13,7,FALSE))","v":83577.200000000012},0.56483127404885003,249659.99999999997,17335270700.354912,15505608855.415842,13869059799.119715,12405241323.005116,11095922471.382036,9924796486.0304432,8877277715.5907345,7940319960.2779408,7102253989.5151529,6352642208.8686523,5682148666.2510319,5082422778.3998499,4545995329.5168591,4066185446.7950444,3637017394.27106,133422163124.79439,2668443.2624958879]
[{"$f":"IF(ISBLANK(InfoPro!A57),\"\",InfoPro!A57)","v":"SC_1377_A2"},{"$f":"IF(ISBLANK(InfoPro!B57),\"\",InfoPro!B57)","v":"Eólica Cordobita - 50MW"},{"$f":"IF(ISBLANK(InfoPro!E57),\"\",InfoPro!E57)","v":50},{"$f":"IF(ISBLANK(InfoPro!F57),\"\",InfoPro!F57)","v":"Eólico Onshore"},{"$f":"IF(ISBLANK(InfoPro!I57),\"\",YEAR(InfoPro!I57)-$H$3)","v":4},{"$f":"IF(B64=\"\",\"\",VLOOKUP(D64,Tablas!$B$2:$E$13,2,FALSE))","v":0.56999999999999995},{"$f":"IF(B64=\"\",\"\",VLOOKUP(D64,Tablas!$B$2:$H$13,7,FALSE))","v":83577.200000000012},0.56483127404885003,249659.99999999997,17335270700.354912,15505608855.415842,13869059799.119715,12405241323.005116,11095922471.382036,9924796486.0304432,8877277715.5907345,7940319960.2779408,7102253989.5151529,6352642208.8686523,5682148666.2510319,5082422778.3998499,4545995329.5168591,4066185446.7950444,3637017394.27106,133422163124.79439,2668443.2624958879]
[{"$f":"IF(ISBLANK(InfoPro!A58),\"\",InfoPro!A58)","v":"SC_1380_A1"},{"$f":"IF(ISBLANK(InfoPro!B58),\"\",InfoPro!B58)","v":"Parque Eólico Motosira"},{"$f":"IF(ISBLANK(InfoPro!E58),\"\",InfoPro!E58)","v":300},{"$f":"IF(ISBLANK(InfoPro!F58),\"\",InfoPro!F58)","v":"Eólico Onshore"},{"$f":"IF(ISBLANK(InfoPro!I58),\"\",YEAR(InfoPro!I58)-$H$3)","v":3},{"$f":"IF(B65=\"\",\"\",VLOOKUP(D65,Tablas!$B$2:$E$13,2,FALSE))","v":0.56999999999999995},{"$f":"IF(B65=\"\",\"\",VLOOKUP(D65,Tablas!$B$2:$H$13,7,FALSE))","v":83577.200000000012},0.56483127404885003,1497959.9999999998,116284995857.98073,104011624202.12946,93033653132.495056,83214358794.718292,74431447938.03067,66575534828.292213,59548778916.182655,53263666293.544411,47641919761.667648,42613523937.090912,38115853253.211914,34092891997.506187,30494536670.399094,27275971977.101154,24397112680.770267,894995870241.12061,2983319.567470402]
[{"$f":"IF(ISBLANK(InfoPro!A59),\"\",InfoPro!A59)","v":"SC_1380_A2"},{"$f":"IF(ISBLANK(InfoPro!B59),\"\",InfoPro!B59)","v":"Parque Eólico Motosira"},{"$f":"IF(ISBLANK(InfoPro!E59),\"\",InfoPro!E59)","v":300},{"$f":"IF(ISBLANK(InfoPro!F59),\"\",InfoPro!F59)","v":"Eólico Onshore"},{"$f":"IF(ISBLANK(InfoPro!I59),\"\",YEAR(InfoPro!I59)-$H$3)","v":3},{"$f":"IF(B66=\"\",\"\",VLOOKUP(D66,Tablas!$B$2:$E$13,2,FALSE))","v":0.56999999999999995},{"$f":"IF(B66=\"\",\"\",VLOOKUP(D66,Tablas!$B$2:$H$13,7,FALSE))","v":83577.200000000012},0.56483127404885003,1497959.9999999998,116284995857.98073,104011624202.12946,93033653132.495056,83214358794.718292,74431447938.03067,66575534828.292213,59548778916.182655,53263666293.544411,47641919761.667648,42613523937.090912,38115853253.211914,34092891997.506187,30494536670.399094,27275971977.101154,24397112680.770267,894995870241.12061,2983319.567470402]
[{"$f":"IF(ISBLANK(InfoPro!A60),\"\",InfoPro!A60)","v":"SC_1421_A1"},{"$f":"IF(ISBLANK(InfoPro!B60),\"\",InfoPro!B60)","v":"Parque Solar Fotovoltaico SJ Solar 100 MW"},{"$f":"IF(ISBLANK(InfoPro!E60),\"\",InfoPro!E60)","v":100},{"$f":"IF(ISBLANK(InfoPro!F60),\"\",InfoPro!F60)","v":"Solar FV"},{"$f":"IF(ISBLANK(InfoPro!I60),\"\",YEAR(InfoPro!I60)-$H$3)","v":3},{"$f":"IF(B67=\"\",\"\",VLOOKUP(D67,Tablas!$B$2:$E$13,2,FALSE))","v":0.26},{"$f":"IF(B67=\"\",\"\",VLOOKUP(D67,Tablas!$B$2:$H$13,7,FALSE))","v":83577.200000000012},0.56483127404885003,227760,17680759604.137424,15814632919.622025,14145467727.747787,12652475606.214478,11317062259.583614,10122595938.804665,9054200303.0453167,8098569144.0476894,7243800665.5167198,6479249253.5927715,5795392892.3012276,5183714572.7202396,4636596218.8910923,4147223809.3838015,3709502512.8656549,136081243428.47452,1360812.4342847452]
[{"$f":"IF(ISBLANK(InfoPro!A61),\"\",InfoPro!A61)","v":"SC_1421_A2"},{"$f":"IF(ISBLANK(InfoPro!B61),\"\",InfoPro!B61)","v":"Parque Solar Fotovoltaico SJ Solar 100 MW"},{"$f":"IF(ISBLANK(InfoPro!E61),\"\",InfoPro!E61)","v":100},{"$f":"IF(ISBLANK(InfoPro!F61),\"\",InfoPro!F61)","v":"Solar FV"},{"$f":"IF(ISBLANK(InfoPro!I61),\"\",YEAR(InfoPro!I61)-$H$3)","v":3},{"$f":"IF(B68=\"\",\"\",VLOOKUP(D68,Tablas!$B$2:$E$13,2,FALSE))","v":0.26},{"$f":"IF(B68=\"\",\"\",VLOOKUP(D68,Tablas!$B$2:$H$13,7,FALSE))","v":83577.200000000012},0.56483127404885003,227760,{"$f":"IF($I68=\"\",\"\",(1/(1+$C$3)^(J$6+$E68))*$I68*$C$2*$H68)","v":17680759604.137424},15814632919.622025,14145467727.747787,12652475606.214478,11317062259.583614,10122595938.804665,9054200303.0453167,8098569144.0476894,7243800665.5167198,6479249253.5927715,5795392892.3012276,5183714572.7202396,4636596218.8910923,4147223809.3838015,3709502512.8656549,136081243428.47452,1360812.4342847452]
[{"$f":"IF(ISBLANK(InfoPro!A62),\"\",InfoPro!A62)","v":"SC_1479_A1"},{"$f":"IF(ISBLANK(InfoPro!B62),\"\",InfoPro!B62)","v":"Oslo I_150MW"},{"$f":"IF(ISBLANK(InfoPro!E62),\"\",InfoPro!E62)","v":150},{"$f":"IF(ISBLANK(InfoPro!F62),\"\",InfoPro!F62)","v":"Solar FV"},{"$f":"IF(ISBLANK(InfoPro!I62),\"\",YEAR(InfoPro!I62)-$H$3)","v":3},{"$f":"IF(B69=\"\",\"\",VLOOKUP(D69,Tablas!$B$2:$E$13,2,FALSE))","v":0.26},{"$f":"IF(B69=\"\",\"\",VLOOKUP(D69,Tablas!$B$2:$H$13,7,FALSE))","v":83577.200000000012},0.56483127404885003,341640,26521139406.206135,23721949379.433037,21218201591.621681,18978713409.32172,16975593389.375422,15183893908.206997,13581300454.567978,12147853716.071535,10865700998.275078,9718873880.3891582,8693089338.4518414,7775571859.0803595,6954894328.3366385,6220835714.0757027,5564253769.2984829,204121865142.71182,1360812.4342847455]
[{"$f":"IF(ISBLANK(InfoPro!A63),\"\",InfoPro!A63)","v":"SC_1479_A2"},{"$f":"IF(ISBLANK(InfoPro!B63),\"\",InfoPro!B63)","v":"Oslo I_150MW"},{"$f":"IF(ISBLANK(InfoPro!E63),\"\",InfoPro!E63)","v":150},{"$f":"IF(ISBLANK(InfoPro!F63),\"\",InfoPro!F63)","v":"Solar FV"},{"$f":"IF(ISBLANK(InfoPro!I63),\"\",YEAR(InfoPro!I63)-$H$3)","v":3},{"$f":"IF(B70=\"\",\"\",VLOOKUP(D70,Tablas!$B$2:$E$13,2,FALSE))","v":0.26},{"$f":"IF(B70=\"\",\"\",VLOOKUP(D70,Tablas!$B$2:$H$13,7,FALSE))","v":83577.200000000012},0.56483127404885003,341640,26521139406.206135,23721949379.433037,21218201591.621681,18978713409.32172,16975593389.375422,15183893908.206997,13581300454.567978,12147853716.071535,10865700998.275078,9718873880.3891582,8693089338.4518414,7775571859.0803595,6954894328.3366385,6220835714.0757027,5564253769.2984829,204121865142.71182,1360812.4342847455]
[{"$f":"IF(ISBLANK(InfoPro!A64),\"\",InfoPro!A64)","v":"SC_1506_A1"},{"$f":"IF(ISBLANK(InfoPro!B64),\"\",InfoPro!B64)","v":"Parque Solar Toro Moreno"},{"$f":"IF(ISBLANK(InfoPro!E64),\"\",InfoPro!E64)","v":99.9},{"$f":"IF(ISBLANK(InfoPro!F64),\"\",InfoPro!F64)","v":"Solar FV"},{"$f":"IF(ISBLANK(InfoPro!I64),\"\",YEAR(InfoPro!I64)-$H$3)","v":-2},{"$f":"IF(B71=\"\",\"\",VLOOKUP(D71,Tablas!$B$2:$E$13,2,FALSE))","v":0.26},{"$f":"IF(B71=\"\",\"\",VLOOKUP(D71,Tablas!$B$2:$H$13,7,FALSE))","v":83577.200000000012},0.56483127404885003,227532.24000000002,30851438979.39645,27595204811.624733,24682651888.751999,22077506161.674423,19747322148.18821,17663078844.533287,15798818286.702406,14131322260.020041,12639823130.608265,11305745197.32403,10112473342.86586,9045146102.7422733,8090470574.9036436,7236556864.851202,6472770004.33918,237450328598.526,2376880.1661514114]
[{"$f":"IF(ISBLANK(InfoPro!A65),\"\",InfoPro!A65)","v":"SC_1506_A2"},{"$f":"IF(ISBLANK(InfoPro!B65),\"\",InfoPro!B65)","v":"Parque Solar Toro Moreno"},{"$f":"IF(ISBLANK(InfoPro!E65),\"\",InfoPro!E65)","v":99.9},{"$f":"IF(ISBLANK(InfoPro!F65),\"\",InfoPro!F65)","v":"Solar FV"},{"$f":"IF(ISBLANK(InfoPro!I65),\"\",YEAR(InfoPro!I65)-$H$3)","v":-2},{"$f":"IF(B72=\"\",\"\",VLOOKUP(D72,Tablas!$B$2:$E$13,2,FALSE))","v":0.26},{"$f":"IF(B72=\"\",\"\",VLOOKUP(D72,Tablas!$B$2:$H$13,7,FALSE))","v":83577.200000000012},0.56483127404885003,{"$f":"IF(C72=\"\",\"\",+C72*F72*24*365)","v":227532.24000000002},30851438979.39645,27595204811.624733,24682651888.751999,22077506161.674423,19747322148.18821,17663078844.533287,15798818286.702406,14131322260.020041,12639823130.608265,11305745197.32403,10112473342.86586,9045146102.7422733,8090470574.9036436,7236556864.851202,6472770004.33918,237450328598.526,2376880.1661514114]
[{"$f":"IF(ISBLANK(InfoPro!A66),\"\",InfoPro!A66)","v":"SC_1512_A1"},{"$f":"IF(ISBLANK(InfoPro!B66),\"\",InfoPro!B66)","v":"El Flamingo\n  - 200 MW"},{"$f":"IF(ISBLANK(InfoPro!E66),\"\",InfoPro!E66)","v":200},{"$f":"IF(ISBLANK(InfoPro!F66),\"\",InfoPro!F66)","v":"Solar FV"},{"$f":"IF(ISBLANK(InfoPro!I66),\"\",YEAR(InfoPro!I66)-$H$3)","v":4},{"$f":"IF(B73=\"\",\"\",VLOOKUP(D73,Tablas!$B$2:$E$13,2,FALSE))","v":0.26},{"$f":"IF(B73=\"\",\"\",VLOOKUP(D73,Tablas!$B$2:$H$13,7,FALSE))","v":83577.200000000012},{"$f":"IF(B73=\"\",\"\",($C$2-(G73))/$C$2)","v":0.56483127404885003},455520,31629265839.244049,28290935455.495575,25304951212.428955,22634124519.167229,20245191877.609329,18108400606.090633,16197138288.095379,14487601331.03344,12958498507.185543,11590785784.602455,10367429145.440479,9273192437.7821846,8294447618.7676029,7419005025.7313099,6635961561.4770222,{"$f":"IF(X73=\"\",\"\",SUM(J73:X73))","v":243436929210.15121},{"$f":"IF(C73=0,0,IF(Y73=\"\",\"\",Y73/(C73*1000)))","v":1217184.6460507561}]
[{"$f":"IF(ISBLANK(InfoPro!A67),\"\",InfoPro!A67)","v":"SC_1512_A2"},{"$f":"IF(ISBLANK(InfoPro!B67),\"\",InfoPro!B67)","v":"El Flamingo\n  - 200 MW"},{"$f":"IF(ISBLANK(InfoPro!E67),\"\",InfoPro!E67)","v":200},{"$f":"IF(ISBLANK(InfoPro!F67),\"\",InfoPro!F67)","v":"Solar FV"},{"$f":"IF(ISBLANK(InfoPro!I67),\"\",YEAR(InfoPro!I67)-$H$3)","v":4},{"$f":"IF(B74=\"\",\"\",VLOOKUP(D74,Tablas!$B$2:$E$13,2,FALSE))","v":0.26},{"$f":"IF(B74=\"\",\"\",VLOOKUP(D74,Tablas!$B$2:$H$13,7,FALSE))","v":83577.200000000012},0.56483127404885003,455520,31629265839.244049,28290935455.495575,25304951212.428955,22634124519.167229,20245191877.609329,18108400606.090633,16197138288.095379,14487601331.03344,12958498507.185543,11590785784.602455,10367429145.440479,9273192437.7821846,8294447618.7676029,7419005025.7313099,6635961561.4770222,243436929210.15121,1217184.6460507561]
[{"$f":"IF(ISBLANK(InfoPro!A68),\"\",InfoPro!A68)","v":"SC_1518_A1"},{"$f":"IF(ISBLANK(InfoPro!B68),\"\",InfoPro!B68)","v":"CHIRIGUANÁ - 300 MW"},{"$f":"IF(ISBLANK(InfoPro!E68),\"\",InfoPro!E68)","v":300},{"$f":"IF(ISBLANK(InfoPro!F68),\"\",InfoPro!F68)","v":"Solar FV"},{"$f":"IF(ISBLANK(InfoPro!I68),\"\",YEAR(InfoPro!I68)-$H$3)","v":4},{"$f":"IF(B75=\"\",\"\",VLOOKUP(D75,Tablas!$B$2:$E$13,2,FALSE))","v":0.26},{"$f":"IF(B75=\"\",\"\",VLOOKUP(D75,Tablas!$B$2:$H$13,7,FALSE))","v":83577.200000000012},0.56483127404885003,683280,47443898758.866074,42436403183.243362,37957426818.64344,33951186778.750843,30367787816.413994,27162600909.135956,24295707432.14307,21731401996.550156,19437747760.778316,17386178676.903683,15551143718.160719,13909788656.673277,12441671428.151405,11128507538.596966,9953942342.2155323,365155393815.22681,1217184.6460507561]
[{"$f":"IF(ISBLANK(InfoPro!A69),\"\",InfoPro!A69)","v":"SC_1518_A2"},{"$f":"IF(ISBLANK(InfoPro!B69),\"\",InfoPro!B69)","v":"CHIRIGUANÁ - 300 MW"},{"$f":"IF(ISBLANK(InfoPro!E69),\"\",InfoPro!E69)","v":300},{"$f":"IF(ISBLANK(InfoPro!F69),\"\",InfoPro!F69)","v":"Solar FV"},{"$f":"IF(ISBLANK(InfoPro!I69),\"\",YEAR(InfoPro!I69)-$H$3)","v":4},{"$f":"IF(B76=\"\",\"\",VLOOKUP(D76,Tablas!$B$2:$E$13,2,FALSE))","v":0.26},{"$f":"IF(B76=\"\",\"\",VLOOKUP(D76,Tablas!$B$2:$H$13,7,FALSE))","v":83577.200000000012},0.56483127404885003,683280,47443898758.866074,42436403183.243362,37957426818.64344,33951186778.750843,30367787816.413994,27162600909.135956,24295707432.14307,21731401996.550156,19437747760.778316,17386178676.903683,15551143718.160719,13909788656.673277,12441671428.151405,11128507538.596966,9953942342.2155323,365155393815.22681,1217184.6460507561]
[{"$f":"IF(ISBLANK(InfoPro!A70),\"\",InfoPro!A70)","v":"SC_1531_A1"},{"$f":"IF(ISBLANK(InfoPro!B70),\"\",InfoPro!B70)","v":"Haticos_56MW"},{"$f":"IF(ISBLANK(InfoPro!E70),\"\",InfoPro!E70)","v":56},{"$f":"IF(ISBLANK(InfoPro!F70),\"\",InfoPro!F70)","v":"Solar FV"},{"$f":"IF(ISBLANK(InfoPro!I70),\"\",YEAR(InfoPro!I70)-$H$3)","v":4},{"$f":"IF(B77=\"\",\"\",VLOOKUP(D77,Tablas!$B$2:$E$13,2,FALSE))","v":0.26},{"$f":"IF(B77=\"\",\"\",VLOOKUP(D77,Tablas!$B$2:$H$13,7,FALSE))","v":83577.200000000012},0.56483127404885003,127545.60000000001,8856194434.9883347,7921461927.5387611,7085386339.4801092,6337554865.3668242,5668653725.7306118,5070352169.7053785,4535198720.666707,4056528372.6893635,3628379582.0119524,3245420019.6886873,2902880160.7233343,2596493882.5790114,2322445333.2549291,2077321407.204767,1858069237.2135663,68162340178.842346,1217184.6460507561]
[{"$f":"IF(ISBLANK(InfoPro!A71),\"\",InfoPro!A71)","v":"SC_1531_A2"},{"$f":"IF(ISBLANK(InfoPro!B71),\"\",InfoPro!B71)","v":"Haticos_56MW"},{"$f":"IF(ISBLANK(InfoPro!E71),\"\",InfoPro!E71)","v":56},{"$f":"IF(ISBLANK(InfoPro!F71),\"\",InfoPro!F71)","v":"Solar FV"},{"$f":"IF(ISBLANK(InfoPro!I71),\"\",YEAR(InfoPro!I71)-$H$3)","v":4},{"$f":"IF(B78=\"\",\"\",VLOOKUP(D78,Tablas!$B$2:$E$13,2,FALSE))","v":0.26},{"$f":"IF(B78=\"\",\"\",VLOOKUP(D78,Tablas!$B$2:$H$13,7,FALSE))","v":83577.200000000012},0.56483127404885003,127545.60000000001,{"$f":"IF($I78=\"\",\"\",(1/(1+$C$3)^(J$6+$E78))*$I78*$C$2*$H78)","v":8856194434.9883347},7921461927.5387611,7085386339.4801092,6337554865.3668242,5668653725.7306118,5070352169.7053785,4535198720.666707,4056528372.6893635,3628379582.0119524,3245420019.6886873,2902880160.7233343,2596493882.5790114,2322445333.2549291,2077321407.204767,1858069237.2135663,68162340178.842346,1217184.6460507561]
[{"$f":"IF(ISBLANK(InfoPro!A72),\"\",InfoPro!A72)","v":"SC_1532_A1"},{"$f":"IF(ISBLANK(InfoPro!B72),\"\",InfoPro!B72)","v":"Las Mangas_340.8MW"},{"$f":"IF(ISBLANK(InfoPro!E72),\"\",InfoPro!E72)","v":340.8},{"$f":"IF(ISBLANK(InfoPro!F72),\"\",InfoPro!F72)","v":"Solar FV"},{"$f":"IF(ISBLANK(InfoPro!I72),\"\",YEAR(InfoPro!I72)-$H$3)","v":4},{"$f":"IF(B79=\"\",\"\",VLOOKUP(D79,Tablas!$B$2:$E$13,2,FALSE))","v":0.26},{"$f":"IF(B79=\"\",\"\",VLOOKUP(D79,Tablas!$B$2:$H$13,7,FALSE))","v":83577.200000000012},0.56483127404885003,776206.08000000007,53896268990.071869,48207754016.164459,43119636865.978951,38568548180.660957,34497806959.446304,30856714632.778442,27599923642.914528,24686872668.080978,22081281456.244167,19750698976.962585,17666099263.830582,15801519913.980843,14133738742.379997,12641984563.846155,11307678500.756845,414816527374.0976,1217184.6460507559]
[{"$f":"IF(ISBLANK(InfoPro!A73),\"\",InfoPro!A73)","v":"SC_1532_A2"},{"$f":"IF(ISBLANK(InfoPro!B73),\"\",InfoPro!B73)","v":"Las Mangas_340.8MW"},{"$f":"IF(ISBLANK(InfoPro!E73),\"\",InfoPro!E73)","v":340.8},{"$f":"IF(ISBLANK(InfoPro!F73),\"\",InfoPro!F73)","v":"Solar FV"},{"$f":"IF(ISBLANK(InfoPro!I73),\"\",YEAR(InfoPro!I73)-$H$3)","v":4},{"$f":"IF(B80=\"\",\"\",VLOOKUP(D80,Tablas!$B$2:$E$13,2,FALSE))","v":0.26},{"$f":"IF(B80=\"\",\"\",VLOOKUP(D80,Tablas!$B$2:$H$13,7,FALSE))","v":83577.200000000012},0.56483127404885003,776206.08000000007,53896268990.071869,48207754016.164459,43119636865.978951,38568548180.660957,34497806959.446304,30856714632.778442,27599923642.914528,24686872668.080978,22081281456.244167,19750698976.962585,17666099263.830582,15801519913.980843,14133738742.379997,12641984563.846155,11307678500.756845,414816527374.0976,1217184.6460507559]
[{"$f":"IF(ISBLANK(InfoPro!A74),\"\",InfoPro!A74)","v":"SC_1534_A1"},{"$f":"IF(ISBLANK(InfoPro!B74),\"\",InfoPro!B74)","v":"Parque Eólico Cerrito_378MW"},{"$f":"IF(ISBLANK(InfoPro!E74),\"\",InfoPro!E74)","v":378},{"$f":"IF(ISBLANK(InfoPro!F74),\"\",InfoPro!F74)","v":"Eólico Onshore"},{"$f":"IF(ISBLANK(InfoPro!I74),\"\",YEAR(InfoPro!I74)-$H$3)","v":2},{"$f":"IF(B81=\"\",\"\",VLOOKUP(D81,Tablas!$B$2:$E$13,2,FALSE))","v":0.56999999999999995},{"$f":"IF(B81=\"\",\"\",VLOOKUP(D81,Tablas!$B$2:$H$13,7,FALSE))","v":83577.200000000012},0.56483127404885003,1887429.5999999996,163808347965.22025,146519094781.05573,131054646494.68312,117222402946.94376,104850092081.34505,93783624401.91864,83885173883.648178,75031461434.390152,67112219529.865959,60028818899.701225,53693040160.73455,48025975099.047005,42957043916.857796,38423116204.702858,34367724691.147453,1260762782491.2617,3335351.2764319093]
[{"$f":"IF(ISBLANK(InfoPro!A75),\"\",InfoPro!A75)","v":"SC_1534_A2"},{"$f":"IF(ISBLANK(InfoPro!B75),\"\",InfoPro!B75)","v":"Parque Eólico Cerrito_378MW"},{"$f":"IF(ISBLANK(InfoPro!E75),\"\",InfoPro!E75)","v":378},{"$f":"IF(ISBLANK(InfoPro!F75),\"\",InfoPro!F75)","v":"Eólico Onshore"},{"$f":"IF(ISBLANK(InfoPro!I75),\"\",YEAR(InfoPro!I75)-$H$3)","v":2},{"$f":"IF(B82=\"\",\"\",VLOOKUP(D82,Tablas!$B$2:$E$13,2,FALSE))","v":0.56999999999999995},{"$f":"IF(B82=\"\",\"\",VLOOKUP(D82,Tablas!$B$2:$H$13,7,FALSE))","v":83577.200000000012},0.56483127404885003,1887429.5999999996,163808347965.22025,146519094781.05573,131054646494.68312,117222402946.94376,104850092081.34505,93783624401.91864,83885173883.648178,75031461434.390152,67112219529.865959,60028818899.701225,53693040160.73455,48025975099.047005,42957043916.857796,38423116204.702858,34367724691.147453,1260762782491.2617,3335351.2764319093]
[{"$f":"IF(ISBLANK(InfoPro!A76),\"\",InfoPro!A76)","v":"SC_1535_A1"},{"$f":"IF(ISBLANK(InfoPro!B76),\"\",InfoPro!B76)","v":"Parque Eólico Cerrito 2"},{"$f":"IF(ISBLANK(InfoPro!E76),\"\",InfoPro!E76)","v":200},{"$f":"IF(ISBLANK(InfoPro!F76),\"\",InfoPro!F76)","v":"Eólico Onshore"},{"$f":"IF(ISBLANK(InfoPro!I76),\"\",YEAR(InfoPro!I76)-$H$3)","v":2},{"$f":"IF(B83=\"\",\"\",VLOOKUP(D83,Tablas!$B$2:$E$13,2,FALSE))","v":0.56999999999999995},{"$f":"IF(B83=\"\",\"\",VLOOKUP(D83,Tablas!$B$2:$H$13,7,FALSE))","v":83577.200000000012},0.56483127404885003,998639.99999999988,86671083579.481628,77523330571.987152,69341082801.419647,62022435421.663368,55476239196.478859,49620965292.020462,44383689885.528145,39699185944.121773,35509110862.362938,31761279841.111763,28409015958.060612,25410568835.474609,22728594665.004128,20329691113.5994,18183981318.067436,667070255286.38196,3335351.2764319098]
[{"$f":"IF(ISBLANK(InfoPro!A77),\"\",InfoPro!A77)","v":"SC_1535_A2"},{"$f":"IF(ISBLANK(InfoPro!B77),\"\",InfoPro!B77)","v":"Parque Eólico Cerrito 2"},{"$f":"IF(ISBLANK(InfoPro!E77),\"\",InfoPro!E77)","v":200},{"$f":"IF(ISBLANK(InfoPro!F77),\"\",InfoPro!F77)","v":"Eólico Onshore"},{"$f":"IF(ISBLANK(InfoPro!I77),\"\",YEAR(InfoPro!I77)-$H$3)","v":2},{"$f":"IF(B84=\"\",\"\",VLOOKUP(D84,Tablas!$B$2:$E$13,2,FALSE))","v":0.56999999999999995},{"$f":"IF(B84=\"\",\"\",VLOOKUP(D84,Tablas!$B$2:$H$13,7,FALSE))","v":83577.200000000012},0.56483127404885003,998639.99999999988,86671083579.481628,77523330571.987152,69341082801.419647,62022435421.663368,55476239196.478859,49620965292.020462,44383689885.528145,39699185944.121773,35509110862.362938,31761279841.111763,28409015958.060612,25410568835.474609,22728594665.004128,20329691113.5994,18183981318.067436,667070255286.38196,3335351.2764319098]
[{"$f":"IF(ISBLANK(InfoPro!A78),\"\",InfoPro!A78)","v":"SC_1549_A1"},{"$f":"IF(ISBLANK(InfoPro!B78),\"\",InfoPro!B78)","v":"Parque Solar Bonda"},{"$f":"IF(ISBLANK(InfoPro!E78),\"\",InfoPro!E78)","v":9.9},{"$f":"IF(ISBLANK(InfoPro!F78),\"\",InfoPro!F78)","v":"Solar FV"},{"$f":"IF(ISBLANK(InfoPro!I78),\"\",YEAR(InfoPro!I78)-$H$3)","v":2},{"$f":"IF(B85=\"\",\"\",VLOOKUP(D85,Tablas!$B$2:$E$13,2,FALSE))","v":0.26},{"$f":"IF(B85=\"\",\"\",VLOOKUP(D85,Tablas!$B$2:$H$13,7,FALSE))","v":83577.200000000012},0.56483127404885003,22548.240000000005,1956941834.5051382,1750395200.8096051,1565648659.0425806,1400401305.0470312,1252595085.0152338,1120389163.6987782,1002136997.9416621,896365830.00148666,801758345.26072145,717136265.88615537,641445676.10568452,573743896.33782172,513187742.69930387,459023025.67021811,410575157.12899655,15061744185.150415,1521388.3015303449]
[{"$f":"IF(ISBLANK(InfoPro!A79),\"\",InfoPro!A79)","v":"SC_1549_A2"},{"$f":"IF(ISBLANK(InfoPro!B79),\"\",InfoPro!B79)","v":"Parque Solar Bonda"},{"$f":"IF(ISBLANK(InfoPro!E79),\"\",InfoPro!E79)","v":9.9},{"$f":"IF(ISBLANK(InfoPro!F79),\"\",InfoPro!F79)","v":"Solar FV"},{"$f":"IF(ISBLANK(InfoPro!I79),\"\",YEAR(InfoPro!I79)-$H$3)","v":2},{"$f":"IF(B86=\"\",\"\",VLOOKUP(D86,Tablas!$B$2:$E$13,2,FALSE))","v":0.26},{"$f":"IF(B86=\"\",\"\",VLOOKUP(D86,Tablas!$B$2:$H$13,7,FALSE))","v":83577.200000000012},0.56483127404885003,22548.240000000005,1956941834.5051382,1750395200.8096051,1565648659.0425806,1400401305.0470312,1252595085.0152338,1120389163.6987782,1002136997.9416621,896365830.00148666,801758345.26072145,717136265.88615537,641445676.10568452,573743896.33782172,513187742.69930387,459023025.67021811,410575157.12899655,15061744185.150415,1521388.3015303449]
[{"$f":"IF(ISBLANK(InfoPro!A80),\"\",InfoPro!A80)","v":"SC_1550_A1"},{"$f":"IF(ISBLANK(InfoPro!B80),\"\",InfoPro!B80)","v":"Parque Solar Fonseca"},{"$f":"IF(ISBLANK(InfoPro!E80),\"\",InfoPro!E80)","v":9.9},{"$f":"IF(ISBLANK(InfoPro!F80),\"\",InfoPro!F80)","v":"Solar FV"},{"$f":"IF(ISBLANK(InfoPro!I80),\"\",YEAR(InfoPro!I80)-$H$3)","v":2},{"$f":"IF(B87=\"\",\"\",VLOOKUP(D87,Tablas!$B$2:$E$13,2,FALSE))","v":0.26},{"$f":"IF(B87=\"\",\"\",VLOOKUP(D87,Tablas!$B$2:$H$13,7,FALSE))","v":83577.200000000012},0.56483127404885003,22548.240000000005,1956941834.5051382,1750395200.8096051,1565648659.0425806,1400401305.0470312,1252595085.0152338,1120389163.6987782,1002136997.9416621,896365830.00148666,801758345.26072145,717136265.88615537,641445676.10568452,573743896.33782172,513187742.69930387,459023025.67021811,410575157.12899655,15061744185.150415,1521388.3015303449]
[{"$f":"IF(ISBLANK(InfoPro!A81),\"\",InfoPro!A81)","v":"SC_1550_A2"},{"$f":"IF(ISBLANK(InfoPro!B81),\"\",InfoPro!B81)","v":"Parque Solar Fonseca"},{"$f":"IF(ISBLANK(InfoPro!E81),\"\",InfoPro!E81)","v":9.9},{"$f":"IF(ISBLANK(InfoPro!F81),\"\",InfoPro!F81)","v":"Solar FV"},{"$f":"IF(ISBLANK(InfoPro!I81),\"\",YEAR(InfoPro!I81)-$H$3)","v":2},{"$f":"IF(B88=\"\",\"\",VLOOKUP(D88,Tablas!$B$2:$E$13,2,FALSE))","v":0.26},{"$f":"IF(B88=\"\",\"\",VLOOKUP(D88,Tablas!$B$2:$H$13,7,FALSE))","v":83577.200000000012},0.56483127404885003,22548.240000000005,{"$f":"IF($I88=\"\",\"\",(1/(1+$C$3)^(J$6+$E88))*$I88*$C$2*$H88)","v":1956941834.5051382},1750395200.8096051,1565648659.0425806,1400401305.0470312,1252595085.0152338,1120389163.6987782,1002136997.9416621,896365830.00148666,801758345.26072145,717136265.88615537,641445676.10568452,573743896.33782172,513187742.69930387,459023025.67021811,410575157.12899655,15061744185.150415,1521388.3015303449]
[{"$f":"IF(ISBLANK(InfoPro!A82),\"\",InfoPro!A82)","v":"SC_1556_A1"},{"$f":"IF(ISBLANK(InfoPro!B82),\"\",InfoPro!B82)","v":"Copey Solar I - 100 MW"},{"$f":"IF(ISBLANK(InfoPro!E82),\"\",InfoPro!E82)","v":100},{"$f":"IF(ISBLANK(InfoPro!F82),\"\",InfoPro!F82)","v":"Solar FV"},{"$f":"IF(ISBLANK(InfoPro!I82),\"\",YEAR(InfoPro!I82)-$H$3)","v":3},{"$f":"IF(B89=\"\",\"\",VLOOKUP(D89,Tablas!$B$2:$E$13,2,FALSE))","v":0.26},{"$f":"IF(B89=\"\",\"\",VLOOKUP(D89,Tablas!$B$2:$H$13,7,FALSE))","v":83577.200000000012},0.56483127404885003,227760,17680759604.137424,15814632919.622025,14145467727.747787,12652475606.214478,11317062259.583614,10122595938.804665,9054200303.0453167,8098569144.0476894,7243800665.5167198,6479249253.5927715,5795392892.3012276,5183714572.7202396,4636596218.8910923,4147223809.3838015,3709502512.8656549,136081243428.47452,1360812.4342847452]
[{"$f":"IF(ISBLANK(InfoPro!A83),\"\",InfoPro!A83)","v":"SC_1556_A2"},{"$f":"IF(ISBLANK(InfoPro!B83),\"\",InfoPro!B83)","v":"Copey Solar I - 100 MW"},{"$f":"IF(ISBLANK(InfoPro!E83),\"\",InfoPro!E83)","v":100},{"$f":"IF(ISBLANK(InfoPro!F83),\"\",InfoPro!F83)","v":"Solar FV"},{"$f":"IF(ISBLANK(InfoPro!I83),\"\",YEAR(InfoPro!I83)-$H$3)","v":3},{"$f":"IF(B90=\"\",\"\",VLOOKUP(D90,Tablas!$B$2:$E$13,2,FALSE))","v":0.26},{"$f":"IF(B90=\"\",\"\",VLOOKUP(D90,Tablas!$B$2:$H$13,7,FALSE))","v":83577.200000000012},0.56483127404885003,227760,17680759604.137424,15814632919.622025,14145467727.747787,12652475606.214478,11317062259.583614,10122595938.804665,9054200303.0453167,8098569144.0476894,7243800665.5167198,6479249253.5927715,5795392892.3012276,5183714572.7202396,4636596218.8910923,4147223809.3838015,3709502512.8656549,136081243428.47452,1360812.4342847452]
[{"$f":"IF(ISBLANK(InfoPro!A84),\"\",InfoPro!A84)","v":"SC_1557_A1"},{"$f":"IF(ISBLANK(InfoPro!B84),\"\",InfoPro!B84)","v":"Copey Solar II"},{"$f":"IF(ISBLANK(InfoPro!E84),\"\",InfoPro!E84)","v":100},{"$f":"IF(ISBLANK(InfoPro!F84),\"\",InfoPro!F84)","v":"Solar FV"},{"$f":"IF(ISBLANK(InfoPro!I84),\"\",YEAR(InfoPro!I84)-$H$3)","v":4},{"$f":"IF(B91=\"\",\"\",VLOOKUP(D91,Tablas!$B$2:$E$13,2,FALSE))","v":0.26},{"$f":"IF(B91=\"\",\"\",VLOOKUP(D91,Tablas!$B$2:$H$13,7,FALSE))","v":83577.200000000012},0.56483127404885003,227760,15814632919.622025,14145467727.747787,12652475606.214478,11317062259.583614,10122595938.804665,9054200303.0453167,8098569144.0476894,7243800665.5167198,6479249253.5927715,5795392892.3012276,5183714572.7202396,4636596218.8910923,4147223809.3838015,3709502512.8656549,3317980780.7385111,121718464605.07561,1217184.6460507561]
[{"$f":"IF(ISBLANK(InfoPro!A85),\"\",InfoPro!A85)","v":"SC_1557_A2"},{"$f":"IF(ISBLANK(InfoPro!B85),\"\",InfoPro!B85)","v":"Copey Solar II"},{"$f":"IF(ISBLANK(InfoPro!E85),\"\",InfoPro!E85)","v":100},{"$f":"IF(ISBLANK(InfoPro!F85),\"\",InfoPro!F85)","v":"Solar FV"},{"$f":"IF(ISBLANK(InfoPro!I85),\"\",YEAR(InfoPro!I85)-$H$3)","v":4},{"$f":"IF(B92=\"\",\"\",VLOOKUP(D92,Tablas!$B$2:$E$13,2,FALSE))","v":0.26},{"$f":"IF(B92=\"\",\"\",VLOOKUP(D92,Tablas!$B$2:$H$13,7,FALSE))","v":83577.200000000012},0.56483127404885003,227760,15814632919.622025,14145467727.747787,12652475606.214478,11317062259.583614,10122595938.804665,9054200303.0453167,8098569144.0476894,7243800665.5167198,6479249253.5927715,5795392892.3012276,5183714572.7202396,4636596218.8910923,4147223809.3838015,3709502512.8656549,3317980780.7385111,121718464605.07561,1217184.6460507561]
[{"$f":"IF(ISBLANK(InfoPro!A86),\"\",InfoPro!A86)","v":"SC_1565_A1"},{"$f":"IF(ISBLANK(InfoPro!B86),\"\",InfoPro!B86)","v":"Eólica Río Córdoba 50 MW"},{"$f":"IF(ISBLANK(InfoPro!E86),\"\",InfoPro!E86)","v":50},{"$f":"IF(ISBLANK(InfoPro!F86),\"\",InfoPro!F86)","v":"Eólico Onshore"},{"$f":"IF(ISBLANK(InfoPro!I86),\"\",YEAR(InfoPro!I86)-$H$3)","v":2},{"$f":"IF(B93=\"\",\"\",VLOOKUP(D93,Tablas!$B$2:$E$13,2,FALSE))","v":0.56999999999999995},{"$f":"IF(B93=\"\",\"\",VLOOKUP(D93,Tablas!$B$2:$H$13,7,FALSE))","v":83577.200000000012},0.56483127404885003,249659.99999999997,21667770894.870407,19380832642.996788,17335270700.354912,15505608855.415842,13869059799.119715,12405241323.005116,11095922471.382036,9924796486.0304432,8877277715.5907345,7940319960.2779408,7102253989.5151529,6352642208.8686523,5682148666.2510319,5082422778.3998499,4545995329.5168591,166767563821.59549,3335351.2764319098]
[{"$f":"IF(ISBLANK(InfoPro!A87),\"\",InfoPro!A87)","v":"SC_1575_A1"},{"$f":"IF(ISBLANK(InfoPro!B87),\"\",InfoPro!B87)","v":"BONDERO 70 MW"},{"$f":"IF(ISBLANK(InfoPro!E87),\"\",InfoPro!E87)","v":70},{"$f":"IF(ISBLANK(InfoPro!F87),\"\",InfoPro!F87)","v":"Eólico Onshore"},{"$f":"IF(ISBLANK(InfoPro!I87),\"\",YEAR(InfoPro!I87)-$H$3)","v":1},{"$f":"IF(B94=\"\",\"\",VLOOKUP(D94,Tablas!$B$2:$E$13,2,FALSE))","v":0.56999999999999995},{"$f":"IF(B94=\"\",\"\",VLOOKUP(D94,Tablas!$B$2:$H$13,7,FALSE))","v":83577.200000000012},0.56483127404885003,349523.99999999994,33914395004.651157,30334879252.818565,27133165700.195503,24269378980.496876,21707852397.582176,19416683718.767601,17367337852.207161,15534291459.934845,13894715080.442619,12428188801.827028,11116447944.389118,9943155585.3212147,8893699092.4161129,7955008132.7514429,7115391889.7597885,261024590893.56122,3728922.7270508744]
[{"$f":"IF(ISBLANK(InfoPro!A88),\"\",InfoPro!A88)","v":"SC_1592_A1"},{"$f":"IF(ISBLANK(InfoPro!B88),\"\",InfoPro!B88)","v":"Expansión La Loma II - 100 MW"},{"$f":"IF(ISBLANK(InfoPro!E88),\"\",InfoPro!E88)","v":100},{"$f":"IF(ISBLANK(InfoPro!F88),\"\",InfoPro!F88)","v":"Solar FV"},{"$f":"IF(ISBLANK(InfoPro!I88),\"\",YEAR(InfoPro!I88)-$H$3)","v":5},{"$f":"IF(B95=\"\",\"\",VLOOKUP(D95,Tablas!$B$2:$E$13,2,FALSE))","v":0.26},{"$f":"IF(B95=\"\",\"\",VLOOKUP(D95,Tablas!$B$2:$H$13,7,FALSE))","v":83577.200000000012},0.56483127404885003,227760,14145467727.747787,12652475606.214478,11317062259.583614,10122595938.804665,9054200303.0453167,8098569144.0476894,7243800665.5167198,6479249253.5927715,5795392892.3012276,5183714572.7202396,4636596218.8910923,4147223809.3838015,3709502512.8656549,3317980780.7385111,2967782451.4655743,108871614136.91917,1088716.1413691917]
[{"$f":"IF(ISBLANK(InfoPro!A89),\"\",InfoPro!A89)","v":"SC_1593_A1"},{"$f":"IF(ISBLANK(InfoPro!B89),\"\",InfoPro!B89)","v":"Parque Solar Camarones 6 MW"},{"$f":"IF(ISBLANK(InfoPro!E89),\"\",InfoPro!E89)","v":6},{"$f":"IF(ISBLANK(InfoPro!F89),\"\",InfoPro!F89)","v":"Solar FV"},{"$f":"IF(ISBLANK(InfoPro!I89),\"\",YEAR(InfoPro!I89)-$H$3)","v":1},{"$f":"IF(B96=\"\",\"\",VLOOKUP(D96,Tablas!$B$2:$E$13,2,FALSE))","v":0.26},{"$f":"IF(B96=\"\",\"\",VLOOKUP(D96,Tablas!$B$2:$H$13,7,FALSE))","v":83577.200000000012},0.56483127404885003,13665.599999999999,1325976346.0465114,1186025354.245538,1060845576.2482454,948877975.17732143,848728063.66486728,759148536.37286866,679023735.57501686,607355756.32827985,543252018.18271899,485914148.64286131,434628039.93100315,388754955.21556628,347723573.5380736,311022874.36321431,278195773.13346547,10205472726.665552,1700912.1211109255]
[{"$f":"IF(ISBLANK(InfoPro!A90),\"\",InfoPro!A90)","v":"SC_1593_A2"},{"$f":"IF(ISBLANK(InfoPro!B90),\"\",InfoPro!B90)","v":"Parque Solar Camarones 6 MW"},{"$f":"IF(ISBLANK(InfoPro!E90),\"\",InfoPro!E90)","v":6},{"$f":"IF(ISBLANK(InfoPro!F90),\"\",InfoPro!F90)","v":"Solar FV"},{"$f":"IF(ISBLANK(InfoPro!I90),\"\",YEAR(InfoPro!I90)-$H$3)","v":1},{"$f":"IF(B97=\"\",\"\",VLOOKUP(D97,Tablas!$B$2:$E$13,2,FALSE))","v":0.26},{"$f":"IF(B97=\"\",\"\",VLOOKUP(D97,Tablas!$B$2:$H$13,7,FALSE))","v":83577.200000000012},0.56483127404885003,13665.599999999999,1325976346.0465114,1186025354.245538,1060845576.2482454,948877975.17732143,848728063.66486728,759148536.37286866,679023735.57501686,607355756.32827985,543252018.18271899,485914148.64286131,434628039.93100315,388754955.21556628,347723573.5380736,311022874.36321431,278195773.13346547,10205472726.665552,1700912.1211109255]
[{"$f":"IF(ISBLANK(InfoPro!A91),\"\",InfoPro!A91)","v":"SC_1596_A1"},{"$f":"IF(ISBLANK(InfoPro!B91),\"\",InfoPro!B91)","v":"Expansión La Loma III - 100 MW"},{"$f":"IF(ISBLANK(InfoPro!E91),\"\",InfoPro!E91)","v":100},{"$f":"IF(ISBLANK(InfoPro!F91),\"\",InfoPro!F91)","v":"Solar FV"},{"$f":"IF(ISBLANK(InfoPro!I91),\"\",YEAR(InfoPro!I91)-$H$3)","v":6},{"$f":"IF(B98=\"\",\"\",VLOOKUP(D98,Tablas!$B$2:$E$13,2,FALSE))","v":0.26},{"$f":"IF(B98=\"\",\"\",VLOOKUP(D98,Tablas!$B$2:$H$13,7,FALSE))","v":83577.200000000012},0.56483127404885003,227760,{"$f":"IF($I98=\"\",\"\",(1/(1+$C$3)^(J$6+$E98))*$I98*$C$2*$H98)","v":12652475606.214478},11317062259.583614,10122595938.804665,9054200303.0453167,8098569144.0476894,7243800665.5167198,6479249253.5927715,5795392892.3012276,5183714572.7202396,4636596218.8910923,4147223809.3838015,3709502512.8656549,3317980780.7385111,2967782451.4655743,2654546020.9888849,97380692430.160263,973806.92430160264]
[{"$f":"IF(ISBLANK(InfoPro!A92),\"\",InfoPro!A92)","v":"SC_1656_A1"},{"$f":"IF(ISBLANK(InfoPro!B92),\"\",InfoPro!B92)","v":"Parque solar TERRɅ I"},{"$f":"IF(ISBLANK(InfoPro!E92),\"\",InfoPro!E92)","v":19.899999999999999},{"$f":"IF(ISBLANK(InfoPro!F92),\"\",InfoPro!F92)","v":"Solar FV"},{"$f":"IF(ISBLANK(InfoPro!I92),\"\",YEAR(InfoPro!I92)-$H$3)","v":1},{"$f":"IF(B99=\"\",\"\",VLOOKUP(D99,Tablas!$B$2:$E$13,2,FALSE))","v":0.26},{"$f":"IF(B99=\"\",\"\",VLOOKUP(D99,Tablas!$B$2:$H$13,7,FALSE))","v":83577.200000000012},0.56483127404885003,45324.24,4397821547.7209291,3933650758.2477007,3518471161.2233472,3147111951.0047832,2814948077.8218098,2517842645.6366811,2252095389.6571393,2014396591.8221281,1801785860.3060179,1611615259.6654899,1441516332.4378271,1289370601.4649615,1153283185.5679443,1031559199.9713278,922682647.55932724,33848151210.107414,1700912.1211109255]
[{"$f":"IF(ISBLANK(InfoPro!A93),\"\",InfoPro!A93)","v":"SC_1656_A2"},{"$f":"IF(ISBLANK(InfoPro!B93),\"\",InfoPro!B93)","v":"Parque solar TERRɅ I"},{"$f":"IF(ISBLANK(InfoPro!E93),\"\",InfoPro!E93)","v":19.899999999999999},{"$f":"IF(ISBLANK(InfoPro!F93),\"\",InfoPro!F93)","v":"Solar FV"},{"$f":"IF(ISBLANK(InfoPro!I93),\"\",YEAR(InfoPro!I93)-$H$3)","v":1},{"$f":"IF(B100=\"\",\"\",VLOOKUP(D100,Tablas!$B$2:$E$13,2,FALSE))","v":0.26},{"$f":"IF(B100=\"\",\"\",VLOOKUP(D100,Tablas!$B$2:$H$13,7,FALSE))","v":83577.200000000012},0.56483127404885003,45324.24,4397821547.7209291,3933650758.2477007,3518471161.2233472,3147111951.0047832,2814948077.8218098,2517842645.6366811,2252095389.6571393,2014396591.8221281,1801785860.3060179,1611615259.6654899,1441516332.4378271,1289370601.4649615,1153283185.5679443,1031559199.9713278,922682647.55932724,33848151210.107414,1700912.1211109255]
[{"$f":"IF(ISBLANK(InfoPro!A94),\"\",InfoPro!A94)","v":"SC_1698_A1"},{"$f":"IF(ISBLANK(InfoPro!B94),\"\",InfoPro!B94)","v":"Barlovento 2_500MW"},{"$f":"IF(ISBLANK(InfoPro!E94),\"\",InfoPro!E94)","v":500},{"$f":"IF(ISBLANK(InfoPro!F94),\"\",InfoPro!F94)","v":"Eólico Offshore"},{"$f":"IF(ISBLANK(InfoPro!I94),\"\",YEAR(InfoPro!I94)-$H$3)","v":11},{"$f":"IF(B101=\"\",\"\",VLOOKUP(D101,Tablas!$B$2:$E$13,2,FALSE))","v":0.56999999999999995},{"$f":"IF(B101=\"\",\"\",VLOOKUP(D101,Tablas!$B$2:$H$13,7,FALSE))","v":83577.200000000012},0.56483127404885003,2496600,79403199602.779419,71022539895.151535,63526422088.686539,56821486662.510323,50824227783.998505,45459953295.168594,40661854467.950447,36370173942.710594,32531461487.2188,29097908306.993549,26026751616.273308,23279742053.911728,20822667311.191166,18624926038.63253,16659146725.073818,611132461278.25085,1222264.9225565018]
[{"$f":"IF(ISBLANK(InfoPro!A95),\"\",InfoPro!A95)","v":"SC_1699_A1"},{"$f":"IF(ISBLANK(InfoPro!B95),\"\",InfoPro!B95)","v":"PARQUE EOLICO GUAJIRA II de 302.4 MW"},{"$f":"IF(ISBLANK(InfoPro!E95),\"\",InfoPro!E95)","v":302.39999999999998},{"$f":"IF(ISBLANK(InfoPro!F95),\"\",InfoPro!F95)","v":"Eólico Onshore"},{"$f":"IF(ISBLANK(InfoPro!I95),\"\",YEAR(InfoPro!I95)-$H$3)","v":4},{"$f":"IF(B102=\"\",\"\",VLOOKUP(D102,Tablas!$B$2:$E$13,2,FALSE))","v":0.56999999999999995},{"$f":"IF(B102=\"\",\"\",VLOOKUP(D102,Tablas!$B$2:$H$13,7,FALSE))","v":83577.200000000012},0.56483127404885003,1509943.6799999997,104843717195.74649,93777922357.555008,83880073665.076035,75026899521.534927,67108139106.918541,60025169147.512115,53689775623.892769,48023055119.760986,42954432128.587639,38420780079.23761,34365635133.486237,30738492963.762291,27494179752.917961,24592289582.216431,21996681200.551361,{"$f":"IF(X102=\"\",\"\",SUM(J102:X102))","v":806937242578.75635},2668443.2624958875]
[{"$f":"IF(ISBLANK(InfoPro!A96),\"\",InfoPro!A96)","v":"SC_1699_A2"},{"$f":"IF(ISBLANK(InfoPro!B96),\"\",InfoPro!B96)","v":"PARQUE EOLICO GUAJIRA II de 302.4 MW"},{"$f":"IF(ISBLANK(InfoPro!E96),\"\",InfoPro!E96)","v":302.39999999999998},{"$f":"IF(ISBLANK(InfoPro!F96),\"\",InfoPro!F96)","v":"Eólico Onshore"},{"$f":"IF(ISBLANK(InfoPro!I96),\"\",YEAR(InfoPro!I96)-$H$3)","v":4},{"$f":"IF(B103=\"\",\"\",VLOOKUP(D103,Tablas!$B$2:$E$13,2,FALSE))","v":0.56999999999999995},{"$f":"IF(B103=\"\",\"\",VLOOKUP(D103,Tablas!$B$2:$H$13,7,FALSE))","v":83577.200000000012},0.56483127404885003,1509943.6799999997,{"$f":"IF($I103=\"\",\"\",(1/(1+$C$3)^(J$6+$E103))*$I103*$C$2*$H103)","v":104843717195.74649},93777922357.555008,83880073665.076035,75026899521.534927,67108139106.918541,60025169147.512115,53689775623.892769,48023055119.760986,42954432128.587639,38420780079.23761,34365635133.486237,30738492963.762291,27494179752.917961,24592289582.216431,21996681200.551361,806937242578.75635,2668443.2624958875]
[{"$f":"IF(ISBLANK(InfoPro!A97),\"\",InfoPro!A97)","v":"SC_1703_A1"},{"$f":"IF(ISBLANK(InfoPro!B97),\"\",InfoPro!B97)","v":"Barlovento 3 de 500 MW"},{"$f":"IF(ISBLANK(InfoPro!E97),\"\",InfoPro!E97)","v":500},{"$f":"IF(ISBLANK(InfoPro!F97),\"\",InfoPro!F97)","v":"Eólico Offshore"},{"$f":"IF(ISBLANK(InfoPro!I97),\"\",YEAR(InfoPro!I97)-$H$3)","v":11},{"$f":"IF(B104=\"\",\"\",VLOOKUP(D104,Tablas!$B$2:$E$13,2,FALSE))","v":0.56999999999999995},{"$f":"IF(B104=\"\",\"\",VLOOKUP(D104,Tablas!$B$2:$H$13,7,FALSE))","v":83577.200000000012},0.56483127404885003,2496600,79403199602.779419,71022539895.151535,63526422088.686539,56821486662.510323,50824227783.998505,45459953295.168594,40661854467.950447,36370173942.710594,32531461487.2188,29097908306.993549,26026751616.273308,23279742053.911728,20822667311.191166,18624926038.63253,16659146725.073818,611132461278.25085,1222264.9225565018]
[{"$f":"IF(ISBLANK(InfoPro!A98),\"\",InfoPro!A98)","v":"SC_1707_A1"},{"$f":"IF(ISBLANK(InfoPro!B98),\"\",InfoPro!B98)","v":"Santa Marta II - 50 MW"},{"$f":"IF(ISBLANK(InfoPro!E98),\"\",InfoPro!E98)","v":50},{"$f":"IF(ISBLANK(InfoPro!F98),\"\",InfoPro!F98)","v":"Solar FV"},{"$f":"IF(ISBLANK(InfoPro!I98),\"\",YEAR(InfoPro!I98)-$H$3)","v":2},{"$f":"IF(B105=\"\",\"\",VLOOKUP(D105,Tablas!$B$2:$E$13,2,FALSE))","v":0.26},{"$f":"IF(B105=\"\",\"\",VLOOKUP(D105,Tablas!$B$2:$H$13,7,FALSE))","v":83577.200000000012},0.56483127404885003,113880,9883544618.7128181,8840379802.0687122,7907316459.8110123,7072733863.8738937,6326237803.1072388,5658531129.7918072,5061297969.4023323,4527100151.5226583,4049284572.0238447,3621900332.7583599,3239624626.7963858,2897696446.1506138,2591857286.3601198,2318298109.4455462,2073611904.6919007,76069415076.517242,1521388.3015303449]
[{"$f":"IF(ISBLANK(InfoPro!A99),\"\",InfoPro!A99)","v":"SC_1710_A1"},{"$f":"IF(ISBLANK(InfoPro!B99),\"\",InfoPro!B99)","v":"Parque Eólico Trupillo_100MW"},{"$f":"IF(ISBLANK(InfoPro!E99),\"\",InfoPro!E99)","v":100},{"$f":"IF(ISBLANK(InfoPro!F99),\"\",InfoPro!F99)","v":"Eólico Onshore"},{"$f":"IF(ISBLANK(InfoPro!I99),\"\",YEAR(InfoPro!I99)-$H$3)","v":5},{"$f":"IF(B106=\"\",\"\",VLOOKUP(D106,Tablas!$B$2:$E$13,2,FALSE))","v":0.56999999999999995},{"$f":"IF(B106=\"\",\"\",VLOOKUP(D106,Tablas!$B$2:$H$13,7,FALSE))","v":83577.200000000012},0.56483127404885003,499319.99999999994,31011217710.831684,27738119598.239429,24810482646.010231,22191844942.764072,19849592972.060886,17754555431.181469,15880639920.555882,14204507979.030306,12705284417.737305,11364297332.502064,10164845556.7997,9091990659.0337181,8132370893.5900888,7274034788.54212,6506292297.443758,238680077146.32272,2386800.7714632275]
[{"$f":"IF(ISBLANK(InfoPro!A100),\"\",InfoPro!A100)","v":"SC_1710_A2"},{"$f":"IF(ISBLANK(InfoPro!B100),\"\",InfoPro!B100)","v":"Parque Eólico Trupillo_100MW"},{"$f":"IF(ISBLANK(InfoPro!E100),\"\",InfoPro!E100)","v":100},{"$f":"IF(ISBLANK(InfoPro!F100),\"\",InfoPro!F100)","v":"Eólico Onshore"},{"$f":"IF(ISBLANK(InfoPro!I100),\"\",YEAR(InfoPro!I100)-$H$3)","v":5},{"$f":"IF(B107=\"\",\"\",VLOOKUP(D107,Tablas!$B$2:$E$13,2,FALSE))","v":0.56999999999999995},{"$f":"IF(B107=\"\",\"\",VLOOKUP(D107,Tablas!$B$2:$H$13,7,FALSE))","v":83577.200000000012},0.56483127404885003,499319.99999999994,31011217710.831684,27738119598.239429,24810482646.010231,22191844942.764072,19849592972.060886,17754555431.181469,15880639920.555882,14204507979.030306,12705284417.737305,11364297332.502064,10164845556.7997,9091990659.0337181,8132370893.5900888,7274034788.54212,6506292297.443758,238680077146.32272,2386800.7714632275]
[{"$f":"IF(ISBLANK(InfoPro!A101),\"\",InfoPro!A101)","v":"SC_1718_A1"},{"$f":"IF(ISBLANK(InfoPro!B101),\"\",InfoPro!B101)","v":"Autogeneración Drummond 50 MW"},{"$f":"IF(ISBLANK(InfoPro!E101),\"\",InfoPro!E101)","v":50},{"$f":"IF(ISBLANK(InfoPro!F101),\"\",InfoPro!F101)","v":"Solar FV"},{"$f":"IF(ISBLANK(InfoPro!I101),\"\",YEAR(InfoPro!I101)-$H$3)","v":0},{"$f":"IF(B108=\"\",\"\",VLOOKUP(D108,Tablas!$B$2:$E$13,2,FALSE))","v":0.26},{"$f":"IF(B108=\"\",\"\",VLOOKUP(D108,Tablas!$B$2:$H$13,7,FALSE))","v":83577.200000000012},0.56483127404885003,113880,12353679623.999998,11049802883.72093,9883544618.7128181,8840379802.0687122,7907316459.8110123,7072733863.8738937,6326237803.1072388,5658531129.7918072,5061297969.4023323,4527100151.5226583,4049284572.0238447,3621900332.7583599,3239624626.7963858,2897696446.1506138,2591857286.3601198,95080987570.100739,1901619.7514020149]
[{"$f":"IF(ISBLANK(InfoPro!A102),\"\",InfoPro!A102)","v":"SC_1722_A1"},{"$f":"IF(ISBLANK(InfoPro!B102),\"\",InfoPro!B102)","v":"PARQUE EÓLICO MONSAUI 9,9 MW"},{"$f":"IF(ISBLANK(InfoPro!E102),\"\",InfoPro!E102)","v":9.9},{"$f":"IF(ISBLANK(InfoPro!F102),\"\",InfoPro!F102)","v":"Eólico Onshore"},{"$f":"IF(ISBLANK(InfoPro!I102),\"\",YEAR(InfoPro!I102)-$H$3)","v":4},{"$f":"IF(B109=\"\",\"\",VLOOKUP(D109,Tablas!$B$2:$E$13,2,FALSE))","v":0.56999999999999995},{"$f":"IF(B109=\"\",\"\",VLOOKUP(D109,Tablas!$B$2:$H$13,7,FALSE))","v":83577.200000000012},0.56483127404885003,49432.679999999993,3432383598.6702719,3070110553.3723364,2746073840.2257037,2456237781.9550123,2196992649.333643,1965109704.2340276,1757700987.6869657,1572183352.1350322,1406246289.9240003,1257823157.3559933,1125065435.9177043,1006319710.1231703,900107075.24433815,805104718.46541882,720129444.06566978,26417588298.709286,2668443.2624958875]
[{"$f":"IF(ISBLANK(InfoPro!A103),\"\",InfoPro!A103)","v":"SC_1722_A2"},{"$f":"IF(ISBLANK(InfoPro!B103),\"\",InfoPro!B103)","v":"PARQUE EÓLICO MONSAUI 9,9 MW"},{"$f":"IF(ISBLANK(InfoPro!E103),\"\",InfoPro!E103)","v":9.9},{"$f":"IF(ISBLANK(InfoPro!F103),\"\",InfoPro!F103)","v":"Eólico Onshore"},{"$f":"IF(ISBLANK(InfoPro!I103),\"\",YEAR(InfoPro!I103)-$H$3)","v":4},{"$f":"IF(B110=\"\",\"\",VLOOKUP(D110,Tablas!$B$2:$E$13,2,FALSE))","v":0.56999999999999995},{"$f":"IF(B110=\"\",\"\",VLOOKUP(D110,Tablas!$B$2:$H$13,7,FALSE))","v":83577.200000000012},0.56483127404885003,49432.679999999993,3432383598.6702719,3070110553.3723364,2746073840.2257037,2456237781.9550123,2196992649.333643,1965109704.2340276,1757700987.6869657,1572183352.1350322,1406246289.9240003,1257823157.3559933,1125065435.9177043,1006319710.1231703,900107075.24433815,805104718.46541882,720129444.06566978,26417588298.709286,2668443.2624958875]
[{"$f":"IF(ISBLANK(InfoPro!A104),\"\",InfoPro!A104)","v":"SC_1728_A1"},{"$f":"IF(ISBLANK(InfoPro!B104),\"\",InfoPro!B104)","v":"PARQUE SOLAR CAÑAHUATE II - 190 MW"},{"$f":"IF(ISBLANK(InfoPro!E104),\"\",InfoPro!E104)","v":190},{"$f":"IF(ISBLANK(InfoPro!F104),\"\",InfoPro!F104)","v":"Solar FV"},{"$f":"IF(ISBLANK(InfoPro!I104),\"\",YEAR(InfoPro!I104)-$H$3)","v":1},{"$f":"IF(B111=\"\",\"\",VLOOKUP(D111,Tablas!$B$2:$E$13,2,FALSE))","v":0.26},{"$f":"IF(B111=\"\",\"\",VLOOKUP(D111,Tablas!$B$2:$H$13,7,FALSE))","v":83577.200000000012},0.56483127404885003,432743.99999999994,41989250958.139526,37557469551.108696,33593443247.861095,30047802547.281845,26876388682.720795,24039703651.807507,21502418293.208866,19232932283.728859,17202980575.786102,15387281373.690609,13763221264.481764,12310573581.826263,11011246495.372332,9849057688.1684551,8809532815.893074,323173303011.07581,1700912.1211109252]
[{"$f":"IF(ISBLANK(InfoPro!A105),\"\",InfoPro!A105)","v":"SC_1729_A1"},{"$f":"IF(ISBLANK(InfoPro!B105),\"\",InfoPro!B105)","v":"TR Solar 17"},{"$f":"IF(ISBLANK(InfoPro!E105),\"\",InfoPro!E105)","v":200},{"$f":"IF(ISBLANK(InfoPro!F105),\"\",InfoPro!F105)","v":"Solar FV"},{"$f":"IF(ISBLANK(InfoPro!I105),\"\",YEAR(InfoPro!I105)-$H$3)","v":3},{"$f":"IF(B112=\"\",\"\",VLOOKUP(D112,Tablas!$B$2:$E$13,2,FALSE))","v":0.26},{"$f":"IF(B112=\"\",\"\",VLOOKUP(D112,Tablas!$B$2:$H$13,7,FALSE))","v":83577.200000000012},0.56483127404885003,455520,35361519208.274849,31629265839.244049,28290935455.495575,25304951212.428955,22634124519.167229,20245191877.609329,18108400606.090633,16197138288.095379,14487601331.03344,12958498507.185543,11590785784.602455,10367429145.440479,9273192437.7821846,8294447618.7676029,7419005025.7313099,272162486856.94904,1360812.4342847452]
[{"$f":"IF(ISBLANK(InfoPro!A106),\"\",InfoPro!A106)","v":"SC_1729_A2"},{"$f":"IF(ISBLANK(InfoPro!B106),\"\",InfoPro!B106)","v":"TR Solar 17"},{"$f":"IF(ISBLANK(InfoPro!E106),\"\",InfoPro!E106)","v":200},{"$f":"IF(ISBLANK(InfoPro!F106),\"\",InfoPro!F106)","v":"Solar FV"},{"$f":"IF(ISBLANK(InfoPro!I106),\"\",YEAR(InfoPro!I106)-$H$3)","v":3},{"$f":"IF(B113=\"\",\"\",VLOOKUP(D113,Tablas!$B$2:$E$13,2,FALSE))","v":0.26},{"$f":"IF(B113=\"\",\"\",VLOOKUP(D113,Tablas!$B$2:$H$13,7,FALSE))","v":83577.200000000012},0.56483127404885003,455520,35361519208.274849,31629265839.244049,28290935455.495575,25304951212.428955,22634124519.167229,20245191877.609329,18108400606.090633,16197138288.095379,14487601331.03344,12958498507.185543,11590785784.602455,10367429145.440479,9273192437.7821846,8294447618.7676029,7419005025.7313099,272162486856.94904,1360812.4342847452]
[{"$f":"IF(ISBLANK(InfoPro!A107),\"\",InfoPro!A107)","v":"SC_1746_A1"},{"$f":"IF(ISBLANK(InfoPro!B107),\"\",InfoPro!B107)","v":"Parque Solar Nuevo Mundo"},{"$f":"IF(ISBLANK(InfoPro!E107),\"\",InfoPro!E107)","v":99.99},{"$f":"IF(ISBLANK(InfoPro!F107),\"\",InfoPro!F107)","v":"Solar FV"},{"$f":"IF(ISBLANK(InfoPro!I107),\"\",YEAR(InfoPro!I107)-$H$3)","v":2},{"$f":"IF(B114=\"\",\"\",VLOOKUP(D114,Tablas!$B$2:$E$13,2,FALSE))","v":0.26},{"$f":"IF(B114=\"\",\"\",VLOOKUP(D114,Tablas!$B$2:$H$13,7,FALSE))","v":83577.200000000012},0.56483127404885003,227737.22399999999,19765112528.501892,17678991528.17701,15813051456.330063,14144053180.975014,12651210358.653858,11315930553.357655,10121583679.210785,9053294883.0150108,8097759287.1332836,7243076285.4501677,6478601328.6674118,5794813353.0119963,5183196201.2629681,4636132559.2692022,4146809087.0028634,152123616270.01917,1521388.3015303446]
[{"$f":"IF(ISBLANK(InfoPro!A108),\"\",InfoPro!A108)","v":"SC_1746_A2"},{"$f":"IF(ISBLANK(InfoPro!B108),\"\",InfoPro!B108)","v":"Parque Solar Nuevo Mundo"},{"$f":"IF(ISBLANK(InfoPro!E108),\"\",InfoPro!E108)","v":99.99},{"$f":"IF(ISBLANK(InfoPro!F108),\"\",InfoPro!F108)","v":"Solar FV"},{"$f":"IF(ISBLANK(InfoPro!I108),\"\",YEAR(InfoPro!I108)-$H$3)","v":2},{"$f":"IF(B115=\"\",\"\",VLOOKUP(D115,Tablas!$B$2:$E$13,2,FALSE))","v":0.26},{"$f":"IF(B115=\"\",\"\",VLOOKUP(D115,Tablas!$B$2:$H$13,7,FALSE))","v":83577.200000000012},0.56483127404885003,227737.22399999999,19765112528.501892,17678991528.17701,15813051456.330063,14144053180.975014,12651210358.653858,11315930553.357655,10121583679.210785,9053294883.0150108,8097759287.1332836,7243076285.4501677,6478601328.6674118,5794813353.0119963,5183196201.2629681,4636132559.2692022,4146809087.0028634,152123616270.01917,1521388.3015303446]
[{"$f":"IF(ISBLANK(InfoPro!A109),\"\",InfoPro!A109)","v":"SC_1752_A1"},{"$f":"IF(ISBLANK(InfoPro!B109),\"\",InfoPro!B109)","v":"OWF BERGANTIN 300"},{"$f":"IF(ISBLANK(InfoPro!E109),\"\",InfoPro!E109)","v":300},{"$f":"IF(ISBLANK(InfoPro!F109),\"\",InfoPro!F109)","v":"Eólico Offshore"},{"$f":"IF(ISBLANK(InfoPro!I109),\"\",YEAR(InfoPro!I109)-$H$3)","v":9},{"$f":"IF(B116=\"\",\"\",VLOOKUP(D116,Tablas!$B$2:$E$13,2,FALSE))","v":0.56999999999999995},{"$f":"IF(B116=\"\",\"\",VLOOKUP(D116,Tablas!$B$2:$H$13,7,FALSE))","v":83577.200000000012},0.56483127404885003,1497959.9999999998,59548778916.182655,53263666293.544411,47641919761.667648,42613523937.090912,38115853253.211914,34092891997.506187,30494536670.399094,27275971977.101154,24397112680.770267,21822104365.626354,19518876892.331272,17458744984.196129,15616050969.763983,13967845232.347033,12493600386.714701,458321478318.45374,1527738.2610615124]
[{"$f":"IF(ISBLANK(InfoPro!A110),\"\",InfoPro!A110)","v":"SC_1752_A2"},{"$f":"IF(ISBLANK(InfoPro!B110),\"\",InfoPro!B110)","v":"OWF BERGANTIN 300"},{"$f":"IF(ISBLANK(InfoPro!E110),\"\",InfoPro!E110)","v":300},{"$f":"IF(ISBLANK(InfoPro!F110),\"\",InfoPro!F110)","v":"Eólico Offshore"},{"$f":"IF(ISBLANK(InfoPro!I110),\"\",YEAR(InfoPro!I110)-$H$3)","v":9},{"$f":"IF(B117=\"\",\"\",VLOOKUP(D117,Tablas!$B$2:$E$13,2,FALSE))","v":0.56999999999999995},{"$f":"IF(B117=\"\",\"\",VLOOKUP(D117,Tablas!$B$2:$H$13,7,FALSE))","v":83577.200000000012},0.56483127404885003,1497959.9999999998,59548778916.182655,53263666293.544411,47641919761.667648,42613523937.090912,38115853253.211914,34092891997.506187,30494536670.399094,27275971977.101154,24397112680.770267,21822104365.626354,19518876892.331272,17458744984.196129,15616050969.763983,13967845232.347033,12493600386.714701,458321478318.45374,1527738.2610615124]
[{"$f":"IF(ISBLANK(InfoPro!A111),\"\",InfoPro!A111)","v":"SC_1756_A1"},{"$f":"IF(ISBLANK(InfoPro!B111),\"\",InfoPro!B111)","v":"Barlovento 4_500MW"},{"$f":"IF(ISBLANK(InfoPro!E111),\"\",InfoPro!E111)","v":500},{"$f":"IF(ISBLANK(InfoPro!F111),\"\",InfoPro!F111)","v":"Eólico Offshore"},{"$f":"IF(ISBLANK(InfoPro!I111),\"\",YEAR(InfoPro!I111)-$H$3)","v":11},{"$f":"IF(B118=\"\",\"\",VLOOKUP(D118,Tablas!$B$2:$E$13,2,FALSE))","v":0.56999999999999995},{"$f":"IF(B118=\"\",\"\",VLOOKUP(D118,Tablas!$B$2:$H$13,7,FALSE))","v":83577.200000000012},0.56483127404885003,2496600,79403199602.779419,71022539895.151535,63526422088.686539,56821486662.510323,50824227783.998505,45459953295.168594,40661854467.950447,36370173942.710594,32531461487.2188,29097908306.993549,26026751616.273308,23279742053.911728,20822667311.191166,18624926038.63253,16659146725.073818,611132461278.25085,1222264.9225565018]
[{"$f":"IF(ISBLANK(InfoPro!A112),\"\",InfoPro!A112)","v":"SC_1765_A1"},{"$f":"IF(ISBLANK(InfoPro!B112),\"\",InfoPro!B112)","v":"PARQUE SOLAR CIUDAD BLANCA - 199 MW"},{"$f":"IF(ISBLANK(InfoPro!E112),\"\",InfoPro!E112)","v":19.899999999999999},{"$f":"IF(ISBLANK(InfoPro!F112),\"\",InfoPro!F112)","v":"Solar FV"},{"$f":"IF(ISBLANK(InfoPro!I112),\"\",YEAR(InfoPro!I112)-$H$3)","v":3},{"$f":"IF(B119=\"\",\"\",VLOOKUP(D119,Tablas!$B$2:$E$13,2,FALSE))","v":0.26},{"$f":"IF(B119=\"\",\"\",VLOOKUP(D119,Tablas!$B$2:$H$13,7,FALSE))","v":83577.200000000012},0.56483127404885003,45324.24,3518471161.2233472,3147111951.0047832,2814948077.8218098,2517842645.6366811,2252095389.6571393,2014396591.8221281,1801785860.3060179,1611615259.6654899,1441516332.4378271,1289370601.4649615,1153283185.5679443,1031559199.9713278,922682647.55932724,825297538.06737649,738191000.0602653,27080167442.266422,1360812.4342847448]
[{"$f":"IF(ISBLANK(InfoPro!A113),\"\",InfoPro!A113)","v":"SC_1765_A2"},{"$f":"IF(ISBLANK(InfoPro!B113),\"\",InfoPro!B113)","v":"PARQUE SOLAR CIUDAD BLANCA - 199 MW"},{"$f":"IF(ISBLANK(InfoPro!E113),\"\",InfoPro!E113)","v":19.899999999999999},{"$f":"IF(ISBLANK(InfoPro!F113),\"\",InfoPro!F113)","v":"Solar FV"},{"$f":"IF(ISBLANK(InfoPro!I113),\"\",YEAR(InfoPro!I113)-$H$3)","v":3},{"$f":"IF(B120=\"\",\"\",VLOOKUP(D120,Tablas!$B$2:$E$13,2,FALSE))","v":0.26},{"$f":"IF(B120=\"\",\"\",VLOOKUP(D120,Tablas!$B$2:$H$13,7,FALSE))","v":83577.200000000012},0.56483127404885003,45324.24,{"$f":"IF($I120=\"\",\"\",(1/(1+$C$3)^(J$6+$E120))*$I120*$C$2*$H120)","v":3518471161.2233472},3147111951.0047832,2814948077.8218098,2517842645.6366811,2252095389.6571393,2014396591.8221281,1801785860.3060179,1611615259.6654899,1441516332.4378271,1289370601.4649615,1153283185.5679443,1031559199.9713278,922682647.55932724,825297538.06737649,738191000.0602653,27080167442.266422,1360812.4342847448]
[{"$f":"IF(ISBLANK(InfoPro!A114),\"\",InfoPro!A114)","v":"SC_1779_A1"},{"$f":"IF(ISBLANK(InfoPro!B114),\"\",InfoPro!B114)","v":"Pétalo del Cesar III El Paso"},{"$f":"IF(ISBLANK(InfoPro!E114),\"\",InfoPro!E114)","v":9.9},{"$f":"IF(ISBLANK(InfoPro!F114),\"\",InfoPro!F114)","v":"Solar FV"},{"$f":"IF(ISBLANK(InfoPro!I114),\"\",YEAR(InfoPro!I114)-$H$3)","v":3},{"$f":"IF(B121=\"\",\"\",VLOOKUP(D121,Tablas!$B$2:$E$13,2,FALSE))","v":0.26},{"$f":"IF(B121=\"\",\"\",VLOOKUP(D121,Tablas!$B$2:$H$13,7,FALSE))","v":83577.200000000012},0.56483127404885003,22548.240000000005,1750395200.8096051,1565648659.0425806,1400401305.0470312,1252595085.0152338,1120389163.6987782,1002136997.9416621,896365830.00148666,801758345.26072145,717136265.88615537,641445676.10568452,573743896.33782172,513187742.69930387,459023025.67021811,410575157.12899655,367240748.77369994,13472043099.41898,1360812.4342847455]
[{"$f":"IF(ISBLANK(InfoPro!A115),\"\",InfoPro!A115)","v":"SC_1779_A2"},{"$f":"IF(ISBLANK(InfoPro!B115),\"\",InfoPro!B115)","v":"Pétalo del Cesar III El Paso"},{"$f":"IF(ISBLANK(InfoPro!E115),\"\",InfoPro!E115)","v":9.9},{"$f":"IF(ISBLANK(InfoPro!F115),\"\",InfoPro!F115)","v":"Solar FV"},{"$f":"IF(ISBLANK(InfoPro!I115),\"\",YEAR(InfoPro!I115)-$H$3)","v":3},{"$f":"IF(B122=\"\",\"\",VLOOKUP(D122,Tablas!$B$2:$E$13,2,FALSE))","v":0.26},{"$f":"IF(B122=\"\",\"\",VLOOKUP(D122,Tablas!$B$2:$H$13,7,FALSE))","v":83577.200000000012},0.56483127404885003,22548.240000000005,1750395200.8096051,1565648659.0425806,1400401305.0470312,1252595085.0152338,1120389163.6987782,1002136997.9416621,896365830.00148666,801758345.26072145,717136265.88615537,641445676.10568452,573743896.33782172,513187742.69930387,459023025.67021811,410575157.12899655,367240748.77369994,13472043099.41898,1360812.4342847455]
[{"$f":"IF(ISBLANK(InfoPro!A116),\"\",InfoPro!A116)","v":"SC_1783_A1"},{"$f":"IF(ISBLANK(InfoPro!B116),\"\",InfoPro!B116)","v":"Pétalo del Cesar IV La Loma"},{"$f":"IF(ISBLANK(InfoPro!E116),\"\",InfoPro!E116)","v":9.9},{"$f":"IF(ISBLANK(InfoPro!F116),\"\",InfoPro!F116)","v":"Solar FV"},{"$f":"IF(ISBLANK(InfoPro!I116),\"\",YEAR(InfoPro!I116)-$H$3)","v":3},{"$f":"IF(B123=\"\",\"\",VLOOKUP(D123,Tablas!$B$2:$E$13,2,FALSE))","v":0.26},{"$f":"IF(B123=\"\",\"\",VLOOKUP(D123,Tablas!$B$2:$H$13,7,FALSE))","v":83577.200000000012},0.56483127404885003,22548.240000000005,1750395200.8096051,1565648659.0425806,1400401305.0470312,1252595085.0152338,1120389163.6987782,1002136997.9416621,896365830.00148666,801758345.26072145,717136265.88615537,641445676.10568452,573743896.33782172,513187742.69930387,459023025.67021811,410575157.12899655,367240748.77369994,13472043099.41898,1360812.4342847455]
[{"$f":"IF(ISBLANK(InfoPro!A117),\"\",InfoPro!A117)","v":"SC_1783_A2"},{"$f":"IF(ISBLANK(InfoPro!B117),\"\",InfoPro!B117)","v":"Pétalo del Cesar IV La Loma"},{"$f":"IF(ISBLANK(InfoPro!E117),\"\",InfoPro!E117)","v":9.9},{"$f":"IF(ISBLANK(InfoPro!F117),\"\",InfoPro!F117)","v":"Solar FV"},{"$f":"IF(ISBLANK(InfoPro!I117),\"\",YEAR(InfoPro!I117)-$H$3)","v":3},{"$f":"IF(B124=\"\",\"\",VLOOKUP(D124,Tablas!$B$2:$E$13,2,FALSE))","v":0.26},{"$f":"IF(B124=\"\",\"\",VLOOKUP(D124,Tablas!$B$2:$H$13,7,FALSE))","v":83577.200000000012},0.56483127404885003,22548.240000000005,1750395200.8096051,1565648659.0425806,1400401305.0470312,1252595085.0152338,1120389163.6987782,1002136997.9416621,896365830.00148666,801758345.26072145,717136265.88615537,641445676.10568452,573743896.33782172,513187742.69930387,459023025.67021811,410575157.12899655,367240748.77369994,13472043099.41898,1360812.4342847455]
[{"$f":"IF(ISBLANK(InfoPro!A118),\"\",InfoPro!A118)","v":"SC_1788_A1"},{"$f":"IF(ISBLANK(InfoPro!B118),\"\",InfoPro!B118)","v":"DSE COPEY 19.9"},{"$f":"IF(ISBLANK(InfoPro!E118),\"\",InfoPro!E118)","v":19.899999999999999},{"$f":"IF(ISBLANK(InfoPro!F118),\"\",InfoPro!F118)","v":"Solar FV"},{"$f":"IF(ISBLANK(InfoPro!I118),\"\",YEAR(InfoPro!I118)-$H$3)","v":2},{"$f":"IF(B125=\"\",\"\",VLOOKUP(D125,Tablas!$B$2:$E$13,2,FALSE))","v":0.26},{"$f":"IF(B125=\"\",\"\",VLOOKUP(D125,Tablas!$B$2:$H$13,7,FALSE))","v":83577.200000000012},0.56483127404885003,45324.24,3933650758.2477007,3518471161.2233472,3147111951.0047832,2814948077.8218098,2517842645.6366811,2252095389.6571393,2014396591.8221281,1801785860.3060179,1611615259.6654899,1441516332.4378271,1289370601.4649615,1153283185.5679443,1031559199.9713278,922682647.55932724,825297538.06737649,30275627200.453861,1521388.3015303449]
[{"$f":"IF(ISBLANK(InfoPro!A119),\"\",InfoPro!A119)","v":"SC_1811_A1"},{"$f":"IF(ISBLANK(InfoPro!B119),\"\",InfoPro!B119)","v":"DSE RIOHACHA"},{"$f":"IF(ISBLANK(InfoPro!E119),\"\",InfoPro!E119)","v":9.9},{"$f":"IF(ISBLANK(InfoPro!F119),\"\",InfoPro!F119)","v":"Solar FV"},{"$f":"IF(ISBLANK(InfoPro!I119),\"\",YEAR(InfoPro!I119)-$H$3)","v":2},{"$f":"IF(B126=\"\",\"\",VLOOKUP(D126,Tablas!$B$2:$E$13,2,FALSE))","v":0.26},{"$f":"IF(B126=\"\",\"\",VLOOKUP(D126,Tablas!$B$2:$H$13,7,FALSE))","v":83577.200000000012},0.56483127404885003,22548.240000000005,1956941834.5051382,1750395200.8096051,1565648659.0425806,1400401305.0470312,1252595085.0152338,1120389163.6987782,1002136997.9416621,896365830.00148666,801758345.26072145,717136265.88615537,641445676.10568452,573743896.33782172,513187742.69930387,459023025.67021811,410575157.12899655,15061744185.150415,1521388.3015303449]
[{"$f":"IF(ISBLANK(InfoPro!A120),\"\",InfoPro!A120)","v":"SC_1811_A2"},{"$f":"IF(ISBLANK(InfoPro!B120),\"\",InfoPro!B120)","v":"DSE RIOHACHA"},{"$f":"IF(ISBLANK(InfoPro!E120),\"\",InfoPro!E120)","v":9.9},{"$f":"IF(ISBLANK(InfoPro!F120),\"\",InfoPro!F120)","v":"Solar FV"},{"$f":"IF(ISBLANK(InfoPro!I120),\"\",YEAR(InfoPro!I120)-$H$3)","v":2},{"$f":"IF(B127=\"\",\"\",VLOOKUP(D127,Tablas!$B$2:$E$13,2,FALSE))","v":0.26},{"$f":"IF(B127=\"\",\"\",VLOOKUP(D127,Tablas!$B$2:$H$13,7,FALSE))","v":83577.200000000012},0.56483127404885003,22548.240000000005,1956941834.5051382,1750395200.8096051,1565648659.0425806,1400401305.0470312,1252595085.0152338,1120389163.6987782,1002136997.9416621,896365830.00148666,801758345.26072145,717136265.88615537,641445676.10568452,573743896.33782172,513187742.69930387,459023025.67021811,410575157.12899655,15061744185.150415,1521388.3015303449]
[{"$f":"IF(ISBLANK(InfoPro!A121),\"\",InfoPro!A121)","v":"SC_1824_A1"},{"$f":"IF(ISBLANK(InfoPro!B121),\"\",InfoPro!B121)","v":"PGF ROSARIO II_45MW"},{"$f":"IF(ISBLANK(InfoPro!E121),\"\",InfoPro!E121)","v":45},{"$f":"IF(ISBLANK(InfoPro!F121),\"\",InfoPro!F121)","v":"Solar FV"},{"$f":"IF(ISBLANK(InfoPro!I121),\"\",YEAR(InfoPro!I121)-$H$3)","v":3},{"$f":"IF(B128=\"\",\"\",VLOOKUP(D128,Tablas!$B$2:$E$13,2,FALSE))","v":0.26},{"$f":"IF(B128=\"\",\"\",VLOOKUP(D128,Tablas!$B$2:$H$13,7,FALSE))","v":83577.200000000012},0.56483127404885003,102492,7956341821.8618402,7116584813.8299112,6365460477.4865036,5693614022.7965145,5092678016.8126259,4555168172.4620991,4074390136.3703923,3644356114.8214607,3259710299.4825234,2915662164.1167474,2607926801.535552,2332671557.7241077,2086468298.5009911,1866250714.2227106,1669276130.7895448,61236559542.813515,1360812.4342847448]
[{"$f":"IF(ISBLANK(InfoPro!A122),\"\",InfoPro!A122)","v":"SC_1824_A2"},{"$f":"IF(ISBLANK(InfoPro!B122),\"\",InfoPro!B122)","v":"PGF ROSARIO II_45MW"},{"$f":"IF(ISBLANK(InfoPro!E122),\"\",InfoPro!E122)","v":45},{"$f":"IF(ISBLANK(InfoPro!F122),\"\",InfoPro!F122)","v":"Solar FV"},{"$f":"IF(ISBLANK(InfoPro!I122),\"\",YEAR(InfoPro!I122)-$H$3)","v":3},{"$f":"IF(B129=\"\",\"\",VLOOKUP(D129,Tablas!$B$2:$E$13,2,FALSE))","v":0.26},{"$f":"IF(B129=\"\",\"\",VLOOKUP(D129,Tablas!$B$2:$H$13,7,FALSE))","v":83577.200000000012},0.56483127404885003,102492,7956341821.8618402,7116584813.8299112,6365460477.4865036,5693614022.7965145,5092678016.8126259,4555168172.4620991,4074390136.3703923,3644356114.8214607,3259710299.4825234,2915662164.1167474,2607926801.535552,2332671557.7241077,2086468298.5009911,1866250714.2227106,1669276130.7895448,61236559542.813515,1360812.4342847448]
[{"$f":"IF(ISBLANK(InfoPro!A123),\"\",InfoPro!A123)","v":"SC_1827_A1"},{"$f":"IF(ISBLANK(InfoPro!B123),\"\",InfoPro!B123)","v":"Guatapurí Solar I 9,9 MW"},{"$f":"IF(ISBLANK(InfoPro!E123),\"\",InfoPro!E123)","v":9.9},{"$f":"IF(ISBLANK(InfoPro!F123),\"\",InfoPro!F123)","v":"Solar FV"},{"$f":"IF(ISBLANK(InfoPro!I123),\"\",YEAR(InfoPro!I123)-$H$3)","v":2},{"$f":"IF(B130=\"\",\"\",VLOOKUP(D130,Tablas!$B$2:$E$13,2,FALSE))","v":0.26},{"$f":"IF(B130=\"\",\"\",VLOOKUP(D130,Tablas!$B$2:$H$13,7,FALSE))","v":83577.200000000012},0.56483127404885003,22548.240000000005,1956941834.5051382,1750395200.8096051,1565648659.0425806,1400401305.0470312,1252595085.0152338,1120389163.6987782,1002136997.9416621,896365830.00148666,801758345.26072145,717136265.88615537,641445676.10568452,573743896.33782172,513187742.69930387,459023025.67021811,410575157.12899655,15061744185.150415,1521388.3015303449]
[{"$f":"IF(ISBLANK(InfoPro!A124),\"\",InfoPro!A124)","v":"SC_1827_A2"},{"$f":"IF(ISBLANK(InfoPro!B124),\"\",InfoPro!B124)","v":"Guatapurí Solar I 9,9 MW"},{"$f":"IF(ISBLANK(InfoPro!E124),\"\",InfoPro!E124)","v":9.9},{"$f":"IF(ISBLANK(InfoPro!F124),\"\",InfoPro!F124)","v":"Solar FV"},{"$f":"IF(ISBLANK(InfoPro!I124),\"\",YEAR(InfoPro!I124)-$H$3)","v":2},{"$f":"IF(B131=\"\",\"\",VLOOKUP(D131,Tablas!$B$2:$E$13,2,FALSE))","v":0.26},{"$f":"IF(B131=\"\",\"\",VLOOKUP(D131,Tablas!$B$2:$H$13,7,FALSE))","v":83577.200000000012},0.56483127404885003,22548.240000000005,1956941834.5051382,1750395200.8096051,1565648659.0425806,1400401305.0470312,1252595085.0152338,1120389163.6987782,1002136997.9416621,896365830.00148666,801758345.26072145,717136265.88615537,641445676.10568452,573743896.33782172,513187742.69930387,459023025.67021811,410575157.12899655,15061744185.150415,1521388.3015303449]
[{"$f":"IF(ISBLANK(InfoPro!A125),\"\",InfoPro!A125)","v":"SC_1830_A1"},{"$f":"IF(ISBLANK(InfoPro!B125),\"\",InfoPro!B125)","v":"Guatapurí Solar II 9,9 MW"},{"$f":"IF(ISBLANK(InfoPro!E125),\"\",InfoPro!E125)","v":9.9},{"$f":"IF(ISBLANK(InfoPro!F125),\"\",InfoPro!F125)","v":"Solar FV"},{"$f":"IF(ISBLANK(InfoPro!I125),\"\",YEAR(InfoPro!I125)-$H$3)","v":2},{"$f":"IF(B132=\"\",\"\",VLOOKUP(D132,Tablas!$B$2:$E$13,2,FALSE))","v":0.26},{"$f":"IF(B132=\"\",\"\",VLOOKUP(D132,Tablas!$B$2:$H$13,7,FALSE))","v":83577.200000000012},0.56483127404885003,22548.240000000005,1956941834.5051382,1750395200.8096051,1565648659.0425806,1400401305.0470312,1252595085.0152338,1120389163.6987782,1002136997.9416621,896365830.00148666,801758345.26072145,717136265.88615537,641445676.10568452,573743896.33782172,513187742.69930387,459023025.67021811,410575157.12899655,15061744185.150415,1521388.3015303449]
[{"$f":"IF(ISBLANK(InfoPro!A126),\"\",InfoPro!A126)","v":"SC_1830_A2"},{"$f":"IF(ISBLANK(InfoPro!B126),\"\",InfoPro!B126)","v":"Guatapurí Solar II 9,9 MW"},{"$f":"IF(ISBLANK(InfoPro!E126),\"\",InfoPro!E126)","v":9.9},{"$f":"IF(ISBLANK(InfoPro!F126),\"\",InfoPro!F126)","v":"Solar FV"},{"$f":"IF(ISBLANK(InfoPro!I126),\"\",YEAR(InfoPro!I126)-$H$3)","v":2},{"$f":"IF(B133=\"\",\"\",VLOOKUP(D133,Tablas!$B$2:$E$13,2,FALSE))","v":0.26},{"$f":"IF(B133=\"\",\"\",VLOOKUP(D133,Tablas!$B$2:$H$13,7,FALSE))","v":83577.200000000012},0.56483127404885003,22548.240000000005,1956941834.5051382,1750395200.8096051,1565648659.0425806,1400401305.0470312,1252595085.0152338,1120389163.6987782,1002136997.9416621,896365830.00148666,801758345.26072145,717136265.88615537,641445676.10568452,573743896.33782172,513187742.69930387,459023025.67021811,410575157.12899655,15061744185.150415,1521388.3015303449]
[{"$f":"IF(ISBLANK(InfoPro!A127),\"\",InfoPro!A127)","v":"SC_1840_A1"},{"$f":"IF(ISBLANK(InfoPro!B127),\"\",InfoPro!B127)","v":"Granja Solar Asturias 9,9 MW"},{"$f":"IF(ISBLANK(InfoPro!E127),\"\",InfoPro!E127)","v":9.9},{"$f":"IF(ISBLANK(InfoPro!F127),\"\",InfoPro!F127)","v":"Solar FV"},{"$f":"IF(ISBLANK(InfoPro!I127),\"\",YEAR(InfoPro!I127)-$H$3)","v":2},{"$f":"IF(B134=\"\",\"\",VLOOKUP(D134,Tablas!$B$2:$E$13,2,FALSE))","v":0.26},{"$f":"IF(B134=\"\",\"\",VLOOKUP(D134,Tablas!$B$2:$H$13,7,FALSE))","v":83577.200000000012},0.56483127404885003,22548.240000000005,1956941834.5051382,1750395200.8096051,1565648659.0425806,1400401305.0470312,1252595085.0152338,1120389163.6987782,1002136997.9416621,896365830.00148666,801758345.26072145,717136265.88615537,641445676.10568452,573743896.33782172,513187742.69930387,459023025.67021811,410575157.12899655,15061744185.150415,1521388.3015303449]
[{"$f":"IF(ISBLANK(InfoPro!A128),\"\",InfoPro!A128)","v":"SC_1840_A2"},{"$f":"IF(ISBLANK(InfoPro!B128),\"\",InfoPro!B128)","v":"Granja Solar Asturias 9,9 MW"},{"$f":"IF(ISBLANK(InfoPro!E128),\"\",InfoPro!E128)","v":9.9},{"$f":"IF(ISBLANK(InfoPro!F128),\"\",InfoPro!F128)","v":"Solar FV"},{"$f":"IF(ISBLANK(InfoPro!I128),\"\",YEAR(InfoPro!I128)-$H$3)","v":2},{"$f":"IF(B135=\"\",\"\",VLOOKUP(D135,Tablas!$B$2:$E$13,2,FALSE))","v":0.26},{"$f":"IF(B135=\"\",\"\",VLOOKUP(D135,Tablas!$B$2:$H$13,7,FALSE))","v":83577.200000000012},0.56483127404885003,22548.240000000005,1956941834.5051382,1750395200.8096051,1565648659.0425806,1400401305.0470312,1252595085.0152338,1120389163.6987782,1002136997.9416621,896365830.00148666,801758345.26072145,717136265.88615537,641445676.10568452,573743896.33782172,513187742.69930387,459023025.67021811,410575157.12899655,15061744185.150415,1521388.3015303449]
[{"$f":"IF(ISBLANK(InfoPro!A129),\"\",InfoPro!A129)","v":"SC_1846_A1"},{"$f":"IF(ISBLANK(InfoPro!B129),\"\",InfoPro!B129)","v":"PARQUE DE GENERACIÓN SOLAR CYGNUS 50 MW"},{"$f":"IF(ISBLANK(InfoPro!E129),\"\",InfoPro!E129)","v":50},{"$f":"IF(ISBLANK(InfoPro!F129),\"\",InfoPro!F129)","v":"Solar FV"},{"$f":"IF(ISBLANK(InfoPro!I129),\"\",YEAR(InfoPro!I129)-$H$3)","v":2},{"$f":"IF(B136=\"\",\"\",VLOOKUP(D136,Tablas!$B$2:$E$13,2,FALSE))","v":0.26},{"$f":"IF(B136=\"\",\"\",VLOOKUP(D136,Tablas!$B$2:$H$13,7,FALSE))","v":83577.200000000012},0.56483127404885003,{"$f":"IF(C136=\"\",\"\",+C136*F136*24*365)","v":113880},9883544618.7128181,8840379802.0687122,7907316459.8110123,7072733863.8738937,6326237803.1072388,5658531129.7918072,5061297969.4023323,4527100151.5226583,4049284572.0238447,3621900332.7583599,3239624626.7963858,2897696446.1506138,2591857286.3601198,2318298109.4455462,2073611904.6919007,76069415076.517242,1521388.3015303449]
[{"$f":"IF(ISBLANK(InfoPro!A130),\"\",InfoPro!A130)","v":"SC_1846_A2"},{"$f":"IF(ISBLANK(InfoPro!B130),\"\",InfoPro!B130)","v":"PARQUE DE GENERACIÓN SOLAR CYGNUS 50 MW"},{"$f":"IF(ISBLANK(InfoPro!E130),\"\",InfoPro!E130)","v":50},{"$f":"IF(ISBLANK(InfoPro!F130),\"\",InfoPro!F130)","v":"Solar FV"},{"$f":"IF(ISBLANK(InfoPro!I130),\"\",YEAR(InfoPro!I130)-$H$3)","v":2},{"$f":"IF(B137=\"\",\"\",VLOOKUP(D137,Tablas!$B$2:$E$13,2,FALSE))","v":0.26},{"$f":"IF(B137=\"\",\"\",VLOOKUP(D137,Tablas!$B$2:$H$13,7,FALSE))","v":83577.200000000012},{"$f":"IF(B137=\"\",\"\",($C$2-(G137))/$C$2)","v":0.56483127404885003},113880,{"$f":"IF($I137=\"\",\"\",(1/(1+$C$3)^(J$6+$E137))*$I137*$C$2*$H137)","v":9883544618.7128181},8840379802.0687122,7907316459.8110123,7072733863.8738937,6326237803.1072388,5658531129.7918072,5061297969.4023323,4527100151.5226583,4049284572.0238447,3621900332.7583599,3239624626.7963858,2897696446.1506138,2591857286.3601198,2318298109.4455462,2073611904.6919007,76069415076.517242,{"$f":"IF(C137=0,0,IF(Y137=\"\",\"\",Y137/(C137*1000)))","v":1521388.3015303449}]
[{"$f":"IF(ISBLANK(InfoPro!A131),\"\",InfoPro!A131)","v":"SC_1854_A1"},{"$f":"IF(ISBLANK(InfoPro!B131),\"\",InfoPro!B131)","v":"CATAY 1 - 200 MW"},{"$f":"IF(ISBLANK(InfoPro!E131),\"\",InfoPro!E131)","v":200},{"$f":"IF(ISBLANK(InfoPro!F131),\"\",InfoPro!F131)","v":"Solar FV"},{"$f":"IF(ISBLANK(InfoPro!I131),\"\",YEAR(InfoPro!I131)-$H$3)","v":4},{"$f":"IF(B138=\"\",\"\",VLOOKUP(D138,Tablas!$B$2:$E$13,2,FALSE))","v":0.26},{"$f":"IF(B138=\"\",\"\",VLOOKUP(D138,Tablas!$B$2:$H$13,7,FALSE))","v":83577.200000000012},0.56483127404885003,455520,31629265839.244049,28290935455.495575,25304951212.428955,22634124519.167229,20245191877.609329,18108400606.090633,16197138288.095379,14487601331.03344,12958498507.185543,11590785784.602455,10367429145.440479,9273192437.7821846,8294447618.7676029,7419005025.7313099,6635961561.4770222,243436929210.15121,1217184.6460507561]
[{"$f":"IF(ISBLANK(InfoPro!A132),\"\",InfoPro!A132)","v":"SC_1854_A2"},{"$f":"IF(ISBLANK(InfoPro!B132),\"\",InfoPro!B132)","v":"CATAY 1 - 200 MW"},{"$f":"IF(ISBLANK(InfoPro!E132),\"\",InfoPro!E132)","v":200},{"$f":"IF(ISBLANK(InfoPro!F132),\"\",InfoPro!F132)","v":"Solar FV"},{"$f":"IF(ISBLANK(InfoPro!I132),\"\",YEAR(InfoPro!I132)-$H$3)","v":4},{"$f":"IF(B139=\"\",\"\",VLOOKUP(D139,Tablas!$B$2:$E$13,2,FALSE))","v":0.26},{"$f":"IF(B139=\"\",\"\",VLOOKUP(D139,Tablas!$B$2:$H$13,7,FALSE))","v":83577.200000000012},0.56483127404885003,455520,31629265839.244049,28290935455.495575,25304951212.428955,22634124519.167229,20245191877.609329,18108400606.090633,16197138288.095379,14487601331.03344,12958498507.185543,11590785784.602455,10367429145.440479,9273192437.7821846,8294447618.7676029,7419005025.7313099,6635961561.4770222,243436929210.15121,1217184.6460507561]
[{"$f":"IF(ISBLANK(InfoPro!A133),\"\",InfoPro!A133)","v":"SC_1856_A1"},{"$f":"IF(ISBLANK(InfoPro!B133),\"\",InfoPro!B133)","v":"SIERRA NEVADA DE VERANO"},{"$f":"IF(ISBLANK(InfoPro!E133),\"\",InfoPro!E133)","v":99.9},{"$f":"IF(ISBLANK(InfoPro!F133),\"\",InfoPro!F133)","v":"Solar FV"},{"$f":"IF(ISBLANK(InfoPro!I133),\"\",YEAR(InfoPro!I133)-$H$3)","v":4},{"$f":"IF(B140=\"\",\"\",VLOOKUP(D140,Tablas!$B$2:$E$13,2,FALSE))","v":0.26},{"$f":"IF(B140=\"\",\"\",VLOOKUP(D140,Tablas!$B$2:$H$13,7,FALSE))","v":83577.200000000012},0.56483127404885003,227532.24000000002,15798818286.702406,14131322260.020041,12639823130.608265,11305745197.32403,10112473342.86586,9045146102.7422733,8090470574.9036436,7236556864.851202,6472770004.33918,5789597499.408927,5178530858.147521,4631959622.6722012,4143076585.574419,3705793010.3527899,3314662799.9577727,121596746140.47052,1217184.6460507559]
[{"$f":"IF(ISBLANK(InfoPro!A134),\"\",InfoPro!A134)","v":"SC_1856_A2"},{"$f":"IF(ISBLANK(InfoPro!B134),\"\",InfoPro!B134)","v":"SIERRA NEVADA DE VERANO"},{"$f":"IF(ISBLANK(InfoPro!E134),\"\",InfoPro!E134)","v":99.9},{"$f":"IF(ISBLANK(InfoPro!F134),\"\",InfoPro!F134)","v":"Solar FV"},{"$f":"IF(ISBLANK(InfoPro!I134),\"\",YEAR(InfoPro!I134)-$H$3)","v":4},{"$f":"IF(B141=\"\",\"\",VLOOKUP(D141,Tablas!$B$2:$E$13,2,FALSE))","v":0.26},{"$f":"IF(B141=\"\",\"\",VLOOKUP(D141,Tablas!$B$2:$H$13,7,FALSE))","v":83577.200000000012},0.56483127404885003,227532.24000000002,15798818286.702406,14131322260.020041,12639823130.608265,11305745197.32403,10112473342.86586,9045146102.7422733,8090470574.9036436,7236556864.851202,6472770004.33918,5789597499.408927,5178530858.147521,4631959622.6722012,4143076585.574419,3705793010.3527899,3314662799.9577727,121596746140.47052,1217184.6460507559]
[{"$f":"IF(ISBLANK(InfoPro!A135),\"\",InfoPro!A135)","v":"SC_1857_A1"},{"$f":"IF(ISBLANK(InfoPro!B135),\"\",InfoPro!B135)","v":"MILAGROS DE VERANO"},{"$f":"IF(ISBLANK(InfoPro!E135),\"\",InfoPro!E135)","v":99.9},{"$f":"IF(ISBLANK(InfoPro!F135),\"\",InfoPro!F135)","v":"Solar FV"},{"$f":"IF(ISBLANK(InfoPro!I135),\"\",YEAR(InfoPro!I135)-$H$3)","v":5},{"$f":"IF(B142=\"\",\"\",VLOOKUP(D142,Tablas!$B$2:$E$13,2,FALSE))","v":0.26},{"$f":"IF(B142=\"\",\"\",VLOOKUP(D142,Tablas!$B$2:$H$13,7,FALSE))","v":83577.200000000012},0.56483127404885003,227532.24000000002,14131322260.020041,12639823130.608265,11305745197.32403,10112473342.86586,9045146102.7422733,8090470574.9036436,7236556864.851202,6472770004.33918,5789597499.408927,5178530858.147521,4631959622.6722012,4143076585.574419,3705793010.3527899,3314662799.9577727,2964814669.0141087,{"$f":"IF(X142=\"\",\"\",SUM(J142:X142))","v":108762742522.78221},1088716.1413691912]
[{"$f":"IF(ISBLANK(InfoPro!A136),\"\",InfoPro!A136)","v":"SC_1857_A2"},{"$f":"IF(ISBLANK(InfoPro!B136),\"\",InfoPro!B136)","v":"MILAGROS DE VERANO"},{"$f":"IF(ISBLANK(InfoPro!E136),\"\",InfoPro!E136)","v":99.9},{"$f":"IF(ISBLANK(InfoPro!F136),\"\",InfoPro!F136)","v":"Solar FV"},{"$f":"IF(ISBLANK(InfoPro!I136),\"\",YEAR(InfoPro!I136)-$H$3)","v":5},{"$f":"IF(B143=\"\",\"\",VLOOKUP(D143,Tablas!$B$2:$E$13,2,FALSE))","v":0.26},{"$f":"IF(B143=\"\",\"\",VLOOKUP(D143,Tablas!$B$2:$H$13,7,FALSE))","v":83577.200000000012},0.56483127404885003,227532.24000000002,14131322260.020041,12639823130.608265,11305745197.32403,10112473342.86586,9045146102.7422733,8090470574.9036436,7236556864.851202,6472770004.33918,5789597499.408927,5178530858.147521,4631959622.6722012,4143076585.574419,3705793010.3527899,3314662799.9577727,2964814669.0141087,108762742522.78221,1088716.1413691912]
[{"$f":"IF(ISBLANK(InfoPro!A137),\"\",InfoPro!A137)","v":"SC_1861_A1"},{"$f":"IF(ISBLANK(InfoPro!B137),\"\",InfoPro!B137)","v":"Autogenerador CELSIA Solar Cenit Copey"},{"$f":"IF(ISBLANK(InfoPro!E137),\"\",InfoPro!E137)","v":6.6},{"$f":"IF(ISBLANK(InfoPro!F137),\"\",InfoPro!F137)","v":"Solar FV"},{"$f":"IF(ISBLANK(InfoPro!I137),\"\",YEAR(InfoPro!I137)-$H$3)","v":0},{"$f":"IF(B144=\"\",\"\",VLOOKUP(D144,Tablas!$B$2:$E$13,2,FALSE))","v":0.26},{"$f":"IF(B144=\"\",\"\",VLOOKUP(D144,Tablas!$B$2:$H$13,7,FALSE))","v":83577.200000000012},0.56483127404885003,15032.16,1630685710.3679998,1458573980.6511626,1304627889.6700919,1166930133.87307,1043765772.6950536,933600870.03135395,835063390.01015556,746926109.13251865,668091331.96110785,597577220.00099099,534505563.50714749,478090843.9241035,427630450.73712295,382495930.89188099,342125161.79953581,12550690359.253294,1901619.7514020142]
[{"$f":"IF(ISBLANK(InfoPro!A138),\"\",InfoPro!A138)","v":"SC_1876_A1"},{"$f":"IF(ISBLANK(InfoPro!B138),\"\",InfoPro!B138)","v":"Nevada II 250 MW"},{"$f":"IF(ISBLANK(InfoPro!E138),\"\",InfoPro!E138)","v":250},{"$f":"IF(ISBLANK(InfoPro!F138),\"\",InfoPro!F138)","v":"Eólico Onshore"},{"$f":"IF(ISBLANK(InfoPro!I138),\"\",YEAR(InfoPro!I138)-$H$3)","v":7},{"$f":"IF(B145=\"\",\"\",VLOOKUP(D145,Tablas!$B$2:$E$13,2,FALSE))","v":0.56999999999999995},{"$f":"IF(B145=\"\",\"\",VLOOKUP(D145,Tablas!$B$2:$H$13,7,FALSE))","v":83577.200000000012},0.56483127404885003,1248300,62026206615.025566,55479612356.910179,49623982430.152214,44386388577.953682,39701599801.389709,35511269947.575768,31763211044.343269,28410743331.255161,25412113891.999252,22729976647.584297,20330927233.975224,18185086971.355297,16265730743.6094,14548954153.496775,13013375808.136654,477389179554.76239,1909556.7182190495]
[{"$f":"IF(ISBLANK(InfoPro!A139),\"\",InfoPro!A139)","v":"SC_1876_A2"},{"$f":"IF(ISBLANK(InfoPro!B139),\"\",InfoPro!B139)","v":"Nevada II 250 MW"},{"$f":"IF(ISBLANK(InfoPro!E139),\"\",InfoPro!E139)","v":250},{"$f":"IF(ISBLANK(InfoPro!F139),\"\",InfoPro!F139)","v":"Eólico Onshore"},{"$f":"IF(ISBLANK(InfoPro!I139),\"\",YEAR(InfoPro!I139)-$H$3)","v":7},{"$f":"IF(B146=\"\",\"\",VLOOKUP(D146,Tablas!$B$2:$E$13,2,FALSE))","v":0.56999999999999995},{"$f":"IF(B146=\"\",\"\",VLOOKUP(D146,Tablas!$B$2:$H$13,7,FALSE))","v":83577.200000000012},0.56483127404885003,1248300,62026206615.025566,55479612356.910179,49623982430.152214,44386388577.953682,39701599801.389709,35511269947.575768,31763211044.343269,28410743331.255161,25412113891.999252,22729976647.584297,20330927233.975224,18185086971.355297,16265730743.6094,14548954153.496775,13013375808.136654,477389179554.76239,1909556.7182190495]
[{"$f":"IF(ISBLANK(InfoPro!A140),\"\",InfoPro!A140)","v":"SC_1877_A1"},{"$f":"IF(ISBLANK(InfoPro!B140),\"\",InfoPro!B140)","v":"Planta Solar FV Corozal 9,9MW"},{"$f":"IF(ISBLANK(InfoPro!E140),\"\",InfoPro!E140)","v":9.9},{"$f":"IF(ISBLANK(InfoPro!F140),\"\",InfoPro!F140)","v":"Solar FV"},{"$f":"IF(ISBLANK(InfoPro!I140),\"\",YEAR(InfoPro!I140)-$H$3)","v":3},{"$f":"IF(B147=\"\",\"\",VLOOKUP(D147,Tablas!$B$2:$E$13,2,FALSE))","v":0.26},{"$f":"IF(B147=\"\",\"\",VLOOKUP(D147,Tablas!$B$2:$H$13,7,FALSE))","v":83577.200000000012},0.56483127404885003,22548.240000000005,1750395200.8096051,1565648659.0425806,1400401305.0470312,1252595085.0152338,1120389163.6987782,1002136997.9416621,896365830.00148666,801758345.26072145,717136265.88615537,641445676.10568452,573743896.33782172,513187742.69930387,459023025.67021811,410575157.12899655,367240748.77369994,13472043099.41898,1360812.4342847455]
[{"$f":"IF(ISBLANK(InfoPro!A141),\"\",InfoPro!A141)","v":"SC_1877_A2"},{"$f":"IF(ISBLANK(InfoPro!B141),\"\",InfoPro!B141)","v":"Planta Solar FV Corozal 9,9MW"},{"$f":"IF(ISBLANK(InfoPro!E141),\"\",InfoPro!E141)","v":9.9},{"$f":"IF(ISBLANK(InfoPro!F141),\"\",InfoPro!F141)","v":"Solar FV"},{"$f":"IF(ISBLANK(InfoPro!I141),\"\",YEAR(InfoPro!I141)-$H$3)","v":3},{"$f":"IF(B148=\"\",\"\",VLOOKUP(D148,Tablas!$B$2:$E$13,2,FALSE))","v":0.26},{"$f":"IF(B148=\"\",\"\",VLOOKUP(D148,Tablas!$B$2:$H$13,7,FALSE))","v":83577.200000000012},0.56483127404885003,22548.240000000005,1750395200.8096051,1565648659.0425806,1400401305.0470312,1252595085.0152338,1120389163.6987782,1002136997.9416621,896365830.00148666,801758345.26072145,717136265.88615537,641445676.10568452,573743896.33782172,513187742.69930387,459023025.67021811,410575157.12899655,367240748.77369994,13472043099.41898,1360812.4342847455]
[{"$f":"IF(ISBLANK(InfoPro!A142),\"\",InfoPro!A142)","v":"SC_1889_A1"},{"$f":"IF(ISBLANK(InfoPro!B142),\"\",InfoPro!B142)","v":"La Granja"},{"$f":"IF(ISBLANK(InfoPro!E142),\"\",InfoPro!E142)","v":19.899999999999999},{"$f":"IF(ISBLANK(InfoPro!F142),\"\",InfoPro!F142)","v":"Solar FV"},{"$f":"IF(ISBLANK(InfoPro!I142),\"\",YEAR(InfoPro!I142)-$H$3)","v":2},{"$f":"IF(B149=\"\",\"\",VLOOKUP(D149,Tablas!$B$2:$E$13,2,FALSE))","v":0.26},{"$f":"IF(B149=\"\",\"\",VLOOKUP(D149,Tablas!$B$2:$H$13,7,FALSE))","v":83577.200000000012},0.56483127404885003,45324.24,3933650758.2477007,3518471161.2233472,3147111951.0047832,2814948077.8218098,2517842645.6366811,2252095389.6571393,2014396591.8221281,1801785860.3060179,1611615259.6654899,1441516332.4378271,1289370601.4649615,1153283185.5679443,1031559199.9713278,922682647.55932724,825297538.06737649,30275627200.453861,1521388.3015303449]
[{"$f":"IF(ISBLANK(InfoPro!A143),\"\",InfoPro!A143)","v":"SC_1889_A2"},{"$f":"IF(ISBLANK(InfoPro!B143),\"\",InfoPro!B143)","v":"La Granja"},{"$f":"IF(ISBLANK(InfoPro!E143),\"\",InfoPro!E143)","v":19.899999999999999},{"$f":"IF(ISBLANK(InfoPro!F143),\"\",InfoPro!F143)","v":"Solar FV"},{"$f":"IF(ISBLANK(InfoPro!I143),\"\",YEAR(InfoPro!I143)-$H$3)","v":2},{"$f":"IF(B150=\"\",\"\",VLOOKUP(D150,Tablas!$B$2:$E$13,2,FALSE))","v":0.26},{"$f":"IF(B150=\"\",\"\",VLOOKUP(D150,Tablas!$B$2:$H$13,7,FALSE))","v":83577.200000000012},0.56483127404885003,45324.24,3933650758.2477007,3518471161.2233472,3147111951.0047832,2814948077.8218098,2517842645.6366811,2252095389.6571393,2014396591.8221281,1801785860.3060179,1611615259.6654899,1441516332.4378271,1289370601.4649615,1153283185.5679443,1031559199.9713278,922682647.55932724,825297538.06737649,30275627200.453861,1521388.3015303449]
[{"$f":"IF(ISBLANK(InfoPro!A144),\"\",InfoPro!A144)","v":"SC_1898_A1"},{"$f":"IF(ISBLANK(InfoPro!B144),\"\",InfoPro!B144)","v":"Parque Eólico Fenix_70MW"},{"$f":"IF(ISBLANK(InfoPro!E144),\"\",InfoPro!E144)","v":70},{"$f":"IF(ISBLANK(InfoPro!F144),\"\",InfoPro!F144)","v":"Eólico Onshore"},{"$f":"IF(ISBLANK(InfoPro!I144),\"\",YEAR(InfoPro!I144)-$H$3)","v":5},{"$f":"IF(B151=\"\",\"\",VLOOKUP(D151,Tablas!$B$2:$E$13,2,FALSE))","v":0.56999999999999995},{"$f":"IF(B151=\"\",\"\",VLOOKUP(D151,Tablas!$B$2:$H$13,7,FALSE))","v":83577.200000000012},0.56483127404885003,349523.99999999994,21707852397.582176,19416683718.767601,17367337852.207161,15534291459.934845,13894715080.442619,12428188801.827028,11116447944.389118,9943155585.3212147,8893699092.4161129,7955008132.7514429,7115391889.7597885,6364393461.3236027,5692659625.5130625,5091824351.9794827,4554404608.2106295,167076054002.4259,2386800.771463227]
[{"$f":"IF(ISBLANK(InfoPro!A145),\"\",InfoPro!A145)","v":"SC_1898_A2"},{"$f":"IF(ISBLANK(InfoPro!B145),\"\",InfoPro!B145)","v":"Parque Eólico Fenix_70MW"},{"$f":"IF(ISBLANK(InfoPro!E145),\"\",InfoPro!E145)","v":70},{"$f":"IF(ISBLANK(InfoPro!F145),\"\",InfoPro!F145)","v":"Eólico Onshore"},{"$f":"IF(ISBLANK(InfoPro!I145),\"\",YEAR(InfoPro!I145)-$H$3)","v":5},{"$f":"IF(B152=\"\",\"\",VLOOKUP(D152,Tablas!$B$2:$E$13,2,FALSE))","v":0.56999999999999995},{"$f":"IF(B152=\"\",\"\",VLOOKUP(D152,Tablas!$B$2:$H$13,7,FALSE))","v":83577.200000000012},0.56483127404885003,349523.99999999994,21707852397.582176,19416683718.767601,17367337852.207161,15534291459.934845,13894715080.442619,12428188801.827028,11116447944.389118,9943155585.3212147,8893699092.4161129,7955008132.7514429,7115391889.7597885,6364393461.3236027,5692659625.5130625,5091824351.9794827,4554404608.2106295,167076054002.4259,2386800.771463227]
[{"$f":"IF(ISBLANK(InfoPro!A146),\"\",InfoPro!A146)","v":"SC_1904_A1"},{"$f":"IF(ISBLANK(InfoPro!B146),\"\",InfoPro!B146)","v":"Parque Solar Fotovoltaico Potreritos"},{"$f":"IF(ISBLANK(InfoPro!E146),\"\",InfoPro!E146)","v":168},{"$f":"IF(ISBLANK(InfoPro!F146),\"\",InfoPro!F146)","v":"Solar FV"},{"$f":"IF(ISBLANK(InfoPro!I146),\"\",YEAR(InfoPro!I146)-$H$3)","v":1},{"$f":"IF(B153=\"\",\"\",VLOOKUP(D153,Tablas!$B$2:$E$13,2,FALSE))","v":0.26},{"$f":"IF(B153=\"\",\"\",VLOOKUP(D153,Tablas!$B$2:$H$13,7,FALSE))","v":83577.200000000012},0.56483127404885003,382636.79999999999,37127337689.30233,33208709918.875065,29703676134.950874,26568583304.965,23764385782.616283,21256159018.440327,19012664596.100471,17005961177.191833,15211056509.116131,13605596162.000118,12169585118.068087,10885138746.035856,9736260059.066061,8708640482.170002,7789481647.7370329,285753236346.6355,1700912.1211109257]
[{"$f":"IF(ISBLANK(InfoPro!A147),\"\",InfoPro!A147)","v":"SC_1904_A2"},{"$f":"IF(ISBLANK(InfoPro!B147),\"\",InfoPro!B147)","v":"Parque Solar Fotovoltaico Potreritos"},{"$f":"IF(ISBLANK(InfoPro!E147),\"\",InfoPro!E147)","v":168},{"$f":"IF(ISBLANK(InfoPro!F147),\"\",InfoPro!F147)","v":"Solar FV"},{"$f":"IF(ISBLANK(InfoPro!I147),\"\",YEAR(InfoPro!I147)-$H$3)","v":1},{"$f":"IF(B154=\"\",\"\",VLOOKUP(D154,Tablas!$B$2:$E$13,2,FALSE))","v":0.26},{"$f":"IF(B154=\"\",\"\",VLOOKUP(D154,Tablas!$B$2:$H$13,7,FALSE))","v":83577.200000000012},0.56483127404885003,382636.79999999999,{"$f":"IF($I154=\"\",\"\",(1/(1+$C$3)^(J$6+$E154))*$I154*$C$2*$H154)","v":37127337689.30233},33208709918.875065,29703676134.950874,26568583304.965,23764385782.616283,21256159018.440327,19012664596.100471,17005961177.191833,15211056509.116131,13605596162.000118,12169585118.068087,10885138746.035856,9736260059.066061,8708640482.170002,7789481647.7370329,285753236346.6355,1700912.1211109257]
[{"$f":"IF(ISBLANK(InfoPro!A148),\"\",InfoPro!A148)","v":"SC_1905_A1"},{"$f":"IF(ISBLANK(InfoPro!B148),\"\",InfoPro!B148)","v":"Parque Solar Valle del Cesar"},{"$f":"IF(ISBLANK(InfoPro!E148),\"\",InfoPro!E148)","v":50},{"$f":"IF(ISBLANK(InfoPro!F148),\"\",InfoPro!F148)","v":"Solar FV"},{"$f":"IF(ISBLANK(InfoPro!I148),\"\",YEAR(InfoPro!I148)-$H$3)","v":3},{"$f":"IF(B155=\"\",\"\",VLOOKUP(D155,Tablas!$B$2:$E$13,2,FALSE))","v":0.26},{"$f":"IF(B155=\"\",\"\",VLOOKUP(D155,Tablas!$B$2:$H$13,7,FALSE))","v":83577.200000000012},0.56483127404885003,113880,8840379802.0687122,7907316459.8110123,7072733863.8738937,6326237803.1072388,5658531129.7918072,5061297969.4023323,4527100151.5226583,4049284572.0238447,3621900332.7583599,3239624626.7963858,2897696446.1506138,2591857286.3601198,2318298109.4455462,2073611904.6919007,1854751256.4328275,68040621714.237259,1360812.4342847452]
[{"$f":"IF(ISBLANK(InfoPro!A149),\"\",InfoPro!A149)","v":"SC_1905_A2"},{"$f":"IF(ISBLANK(InfoPro!B149),\"\",InfoPro!B149)","v":"Parque Solar Valle del Cesar"},{"$f":"IF(ISBLANK(InfoPro!E149),\"\",InfoPro!E149)","v":50},{"$f":"IF(ISBLANK(InfoPro!F149),\"\",InfoPro!F149)","v":"Solar FV"},{"$f":"IF(ISBLANK(InfoPro!I149),\"\",YEAR(InfoPro!I149)-$H$3)","v":3},{"$f":"IF(B156=\"\",\"\",VLOOKUP(D156,Tablas!$B$2:$E$13,2,FALSE))","v":0.26},{"$f":"IF(B156=\"\",\"\",VLOOKUP(D156,Tablas!$B$2:$H$13,7,FALSE))","v":83577.200000000012},0.56483127404885003,113880,8840379802.0687122,7907316459.8110123,7072733863.8738937,6326237803.1072388,5658531129.7918072,5061297969.4023323,4527100151.5226583,4049284572.0238447,3621900332.7583599,3239624626.7963858,2897696446.1506138,2591857286.3601198,2318298109.4455462,2073611904.6919007,1854751256.4328275,68040621714.237259,1360812.4342847452]
[{"$f":"IF(ISBLANK(InfoPro!A150),\"\",InfoPro!A150)","v":"SC_1908_A1"},{"$f":"IF(ISBLANK(InfoPro!B150),\"\",InfoPro!B150)","v":"Corocoro 500 MW"},{"$f":"IF(ISBLANK(InfoPro!E150),\"\",InfoPro!E150)","v":500},{"$f":"IF(ISBLANK(InfoPro!F150),\"\",InfoPro!F150)","v":"Solar FV"},{"$f":"IF(ISBLANK(InfoPro!I150),\"\",YEAR(InfoPro!I150)-$H$3)","v":3},{"$f":"IF(B157=\"\",\"\",VLOOKUP(D157,Tablas!$B$2:$E$13,2,FALSE))","v":0.26},{"$f":"IF(B157=\"\",\"\",VLOOKUP(D157,Tablas!$B$2:$H$13,7,FALSE))","v":83577.200000000012},0.56483127404885003,1138800,88403798020.687103,79073164598.110138,70727338638.738937,63262378031.072395,56585311297.918068,50612979694.023323,45271001515.226593,40492845720.238441,36219003327.583595,32396246267.96386,28976964461.506134,25918572863.601196,23182981094.455456,20736119046.919006,18547512564.328278,680406217142.37244,1360812.4342847448]
[{"$f":"IF(ISBLANK(InfoPro!A151),\"\",InfoPro!A151)","v":"SC_1908_A2"},{"$f":"IF(ISBLANK(InfoPro!B151),\"\",InfoPro!B151)","v":"Corocoro 500 MW"},{"$f":"IF(ISBLANK(InfoPro!E151),\"\",InfoPro!E151)","v":500},{"$f":"IF(ISBLANK(InfoPro!F151),\"\",InfoPro!F151)","v":"Solar FV"},{"$f":"IF(ISBLANK(InfoPro!I151),\"\",YEAR(InfoPro!I151)-$H$3)","v":3},{"$f":"IF(B158=\"\",\"\",VLOOKUP(D158,Tablas!$B$2:$E$13,2,FALSE))","v":0.26},{"$f":"IF(B158=\"\",\"\",VLOOKUP(D158,Tablas!$B$2:$H$13,7,FALSE))","v":83577.200000000012},0.56483127404885003,1138800,88403798020.687103,79073164598.110138,70727338638.738937,63262378031.072395,56585311297.918068,50612979694.023323,45271001515.226593,40492845720.238441,36219003327.583595,32396246267.96386,28976964461.506134,25918572863.601196,23182981094.455456,20736119046.919006,18547512564.328278,680406217142.37244,1360812.4342847448]
[{"$f":"IF(ISBLANK(InfoPro!A152),\"\",InfoPro!A152)","v":"SC_1912_A1"},{"$f":"IF(ISBLANK(InfoPro!B152),\"\",InfoPro!B152)","v":"Draco de 22.5 MW (entrega 19,9 MW)"},{"$f":"IF(ISBLANK(InfoPro!E152),\"\",InfoPro!E152)","v":19.899999999999999},{"$f":"IF(ISBLANK(InfoPro!F152),\"\",InfoPro!F152)","v":"Solar FV"},{"$f":"IF(ISBLANK(InfoPro!I152),\"\",YEAR(InfoPro!I152)-$H$3)","v":2},{"$f":"IF(B159=\"\",\"\",VLOOKUP(D159,Tablas!$B$2:$E$13,2,FALSE))","v":0.26},{"$f":"IF(B159=\"\",\"\",VLOOKUP(D159,Tablas!$B$2:$H$13,7,FALSE))","v":83577.200000000012},0.56483127404885003,45324.24,3933650758.2477007,3518471161.2233472,3147111951.0047832,2814948077.8218098,2517842645.6366811,2252095389.6571393,2014396591.8221281,1801785860.3060179,1611615259.6654899,1441516332.4378271,1289370601.4649615,1153283185.5679443,1031559199.9713278,922682647.55932724,825297538.06737649,30275627200.453861,1521388.3015303449]
[{"$f":"IF(ISBLANK(InfoPro!A153),\"\",InfoPro!A153)","v":"SC_1912_A2"},{"$f":"IF(ISBLANK(InfoPro!B153),\"\",InfoPro!B153)","v":"Draco de 22.5 MW (entrega 19,9 MW)"},{"$f":"IF(ISBLANK(InfoPro!E153),\"\",InfoPro!E153)","v":19.899999999999999},{"$f":"IF(ISBLANK(InfoPro!F153),\"\",InfoPro!F153)","v":"Solar FV"},{"$f":"IF(ISBLANK(InfoPro!I153),\"\",YEAR(InfoPro!I153)-$H$3)","v":2},{"$f":"IF(B160=\"\",\"\",VLOOKUP(D160,Tablas!$B$2:$E$13,2,FALSE))","v":0.26},{"$f":"IF(B160=\"\",\"\",VLOOKUP(D160,Tablas!$B$2:$H$13,7,FALSE))","v":83577.200000000012},0.56483127404885003,45324.24,3933650758.2477007,3518471161.2233472,3147111951.0047832,2814948077.8218098,2517842645.6366811,2252095389.6571393,2014396591.8221281,1801785860.3060179,1611615259.6654899,1441516332.4378271,1289370601.4649615,1153283185.5679443,1031559199.9713278,922682647.55932724,825297538.06737649,30275627200.453861,1521388.3015303449]
[{"$f":"IF(ISBLANK(InfoPro!A154),\"\",InfoPro!A154)","v":"SC_1920_A1"},{"$f":"IF(ISBLANK(InfoPro!B154),\"\",InfoPro!B154)","v":"Parque Solar TERRɅ II 19.9 MW"},{"$f":"IF(ISBLANK(InfoPro!E154),\"\",InfoPro!E154)","v":19.899999999999999},{"$f":"IF(ISBLANK(InfoPro!F154),\"\",InfoPro!F154)","v":"Solar FV"},{"$f":"IF(ISBLANK(InfoPro!I154),\"\",YEAR(InfoPro!I154)-$H$3)","v":1},{"$f":"IF(B161=\"\",\"\",VLOOKUP(D161,Tablas!$B$2:$E$13,2,FALSE))","v":0.26},{"$f":"IF(B161=\"\",\"\",VLOOKUP(D161,Tablas!$B$2:$H$13,7,FALSE))","v":83577.200000000012},0.56483127404885003,45324.24,4397821547.7209291,3933650758.2477007,3518471161.2233472,3147111951.0047832,2814948077.8218098,2517842645.6366811,2252095389.6571393,2014396591.8221281,1801785860.3060179,1611615259.6654899,1441516332.4378271,1289370601.4649615,1153283185.5679443,1031559199.9713278,922682647.55932724,33848151210.107414,1700912.1211109255]
[{"$f":"IF(ISBLANK(InfoPro!A155),\"\",InfoPro!A155)","v":"SC_1920_A2"},{"$f":"IF(ISBLANK(InfoPro!B155),\"\",InfoPro!B155)","v":"Parque Solar TERRɅ II 19.9 MW"},{"$f":"IF(ISBLANK(InfoPro!E155),\"\",InfoPro!E155)","v":19.899999999999999},{"$f":"IF(ISBLANK(InfoPro!F155),\"\",InfoPro!F155)","v":"Solar FV"},{"$f":"IF(ISBLANK(InfoPro!I155),\"\",YEAR(InfoPro!I155)-$H$3)","v":1},{"$f":"IF(B162=\"\",\"\",VLOOKUP(D162,Tablas!$B$2:$E$13,2,FALSE))","v":0.26},{"$f":"IF(B162=\"\",\"\",VLOOKUP(D162,Tablas!$B$2:$H$13,7,FALSE))","v":83577.200000000012},0.56483127404885003,45324.24,4397821547.7209291,3933650758.2477007,3518471161.2233472,3147111951.0047832,2814948077.8218098,2517842645.6366811,2252095389.6571393,2014396591.8221281,1801785860.3060179,1611615259.6654899,1441516332.4378271,1289370601.4649615,1153283185.5679443,1031559199.9713278,922682647.55932724,33848151210.107414,1700912.1211109255]
[{"$f":"IF(ISBLANK(InfoPro!A156),\"\",InfoPro!A156)","v":"SC_1928_A1"},{"$f":"IF(ISBLANK(InfoPro!B156),\"\",InfoPro!B156)","v":"Jacamará 500 MW"},{"$f":"IF(ISBLANK(InfoPro!E156),\"\",InfoPro!E156)","v":500},{"$f":"IF(ISBLANK(InfoPro!F156),\"\",InfoPro!F156)","v":"Solar FV"},{"$f":"IF(ISBLANK(InfoPro!I156),\"\",YEAR(InfoPro!I156)-$H$3)","v":3},{"$f":"IF(B163=\"\",\"\",VLOOKUP(D163,Tablas!$B$2:$E$13,2,FALSE))","v":0.26},{"$f":"IF(B163=\"\",\"\",VLOOKUP(D163,Tablas!$B$2:$H$13,7,FALSE))","v":83577.200000000012},0.56483127404885003,1138800,88403798020.687103,79073164598.110138,70727338638.738937,63262378031.072395,56585311297.918068,50612979694.023323,45271001515.226593,40492845720.238441,36219003327.583595,32396246267.96386,28976964461.506134,25918572863.601196,23182981094.455456,20736119046.919006,18547512564.328278,680406217142.37244,1360812.4342847448]
[{"$f":"IF(ISBLANK(InfoPro!A157),\"\",InfoPro!A157)","v":"SC_1928_A2"},{"$f":"IF(ISBLANK(InfoPro!B157),\"\",InfoPro!B157)","v":"Jacamará 500 MW"},{"$f":"IF(ISBLANK(InfoPro!E157),\"\",InfoPro!E157)","v":500},{"$f":"IF(ISBLANK(InfoPro!F157),\"\",InfoPro!F157)","v":"Solar FV"},{"$f":"IF(ISBLANK(InfoPro!I157),\"\",YEAR(InfoPro!I157)-$H$3)","v":3},{"$f":"IF(B164=\"\",\"\",VLOOKUP(D164,Tablas!$B$2:$E$13,2,FALSE))","v":0.26},{"$f":"IF(B164=\"\",\"\",VLOOKUP(D164,Tablas!$B$2:$H$13,7,FALSE))","v":83577.200000000012},0.56483127404885003,1138800,88403798020.687103,79073164598.110138,70727338638.738937,63262378031.072395,56585311297.918068,50612979694.023323,45271001515.226593,40492845720.238441,36219003327.583595,32396246267.96386,28976964461.506134,25918572863.601196,23182981094.455456,20736119046.919006,18547512564.328278,680406217142.37244,1360812.4342847448]
[{"$f":"IF(ISBLANK(InfoPro!A158),\"\",InfoPro!A158)","v":"SC_1944_A1"},{"$f":"IF(ISBLANK(InfoPro!B158),\"\",InfoPro!B158)","v":"MANANTIALES DE VERANO de 99.9 MW"},{"$f":"IF(ISBLANK(InfoPro!E158),\"\",InfoPro!E158)","v":99.9},{"$f":"IF(ISBLANK(InfoPro!F158),\"\",InfoPro!F158)","v":"Solar FV"},{"$f":"IF(ISBLANK(InfoPro!I158),\"\",YEAR(InfoPro!I158)-$H$3)","v":3},{"$f":"IF(B165=\"\",\"\",VLOOKUP(D165,Tablas!$B$2:$E$13,2,FALSE))","v":0.26},{"$f":"IF(B165=\"\",\"\",VLOOKUP(D165,Tablas!$B$2:$H$13,7,FALSE))","v":83577.200000000012},0.56483127404885003,227532.24000000002,17663078844.533287,15798818286.702406,14131322260.020041,12639823130.608265,11305745197.32403,10112473342.86586,9045146102.7422733,8090470574.9036436,7236556864.851202,6472770004.33918,5789597499.408927,5178530858.147521,4631959622.6722012,4143076585.574419,3705793010.3527899,135945162185.04604,1360812.434284745]
[{"$f":"IF(ISBLANK(InfoPro!A159),\"\",InfoPro!A159)","v":"SC_1944_A2"},{"$f":"IF(ISBLANK(InfoPro!B159),\"\",InfoPro!B159)","v":"MANANTIALES DE VERANO de 99.9 MW"},{"$f":"IF(ISBLANK(InfoPro!E159),\"\",InfoPro!E159)","v":99.9},{"$f":"IF(ISBLANK(InfoPro!F159),\"\",InfoPro!F159)","v":"Solar FV"},{"$f":"IF(ISBLANK(InfoPro!I159),\"\",YEAR(InfoPro!I159)-$H$3)","v":3},{"$f":"IF(B166=\"\",\"\",VLOOKUP(D166,Tablas!$B$2:$E$13,2,FALSE))","v":0.26},{"$f":"IF(B166=\"\",\"\",VLOOKUP(D166,Tablas!$B$2:$H$13,7,FALSE))","v":83577.200000000012},0.56483127404885003,227532.24000000002,17663078844.533287,15798818286.702406,14131322260.020041,12639823130.608265,11305745197.32403,10112473342.86586,9045146102.7422733,8090470574.9036436,7236556864.851202,6472770004.33918,5789597499.408927,5178530858.147521,4631959622.6722012,4143076585.574419,3705793010.3527899,135945162185.04604,1360812.434284745]
[{"$f":"IF(ISBLANK(InfoPro!A160),\"\",InfoPro!A160)","v":"SC_1948_A1"},{"$f":"IF(ISBLANK(InfoPro!B160),\"\",InfoPro!B160)","v":"PGF ROSARIO I"},{"$f":"IF(ISBLANK(InfoPro!E160),\"\",InfoPro!E160)","v":95},{"$f":"IF(ISBLANK(InfoPro!F160),\"\",InfoPro!F160)","v":"Solar FV"},{"$f":"IF(ISBLANK(InfoPro!I160),\"\",YEAR(InfoPro!I160)-$H$3)","v":3},{"$f":"IF(B167=\"\",\"\",VLOOKUP(D167,Tablas!$B$2:$E$13,2,FALSE))","v":0.26},{"$f":"IF(B167=\"\",\"\",VLOOKUP(D167,Tablas!$B$2:$H$13,7,FALSE))","v":83577.200000000012},0.56483127404885003,216371.99999999997,16796721623.930548,15023901273.640923,13438194341.360397,12019851825.903753,10751209146.604433,9616466141.8644295,8601490287.8930511,7693640686.8453045,6881610632.2408819,6155286790.9131317,5505623247.6861658,4924528844.0842276,4404766407.946537,3939862618.9146113,3524027387.2223721,129277181257.05077,1360812.434284745]
[{"$f":"IF(ISBLANK(InfoPro!A161),\"\",InfoPro!A161)","v":"SC_1948_A2"},{"$f":"IF(ISBLANK(InfoPro!B161),\"\",InfoPro!B161)","v":"PGF ROSARIO I"},{"$f":"IF(ISBLANK(InfoPro!E161),\"\",InfoPro!E161)","v":95},{"$f":"IF(ISBLANK(InfoPro!F161),\"\",InfoPro!F161)","v":"Solar FV"},{"$f":"IF(ISBLANK(InfoPro!I161),\"\",YEAR(InfoPro!I161)-$H$3)","v":3},{"$f":"IF(B168=\"\",\"\",VLOOKUP(D168,Tablas!$B$2:$E$13,2,FALSE))","v":0.26},{"$f":"IF(B168=\"\",\"\",VLOOKUP(D168,Tablas!$B$2:$H$13,7,FALSE))","v":83577.200000000012},0.56483127404885003,216371.99999999997,16796721623.930548,15023901273.640923,13438194341.360397,12019851825.903753,10751209146.604433,9616466141.8644295,8601490287.8930511,7693640686.8453045,6881610632.2408819,6155286790.9131317,5505623247.6861658,4924528844.0842276,4404766407.946537,3939862618.9146113,3524027387.2223721,129277181257.05077,1360812.434284745]
[{"$f":"IF(ISBLANK(InfoPro!A162),\"\",InfoPro!A162)","v":"SC_1967_A1"},{"$f":"IF(ISBLANK(InfoPro!B162),\"\",InfoPro!B162)","v":"Solar Valledupar 4"},{"$f":"IF(ISBLANK(InfoPro!E162),\"\",InfoPro!E162)","v":19.899999999999999},{"$f":"IF(ISBLANK(InfoPro!F162),\"\",InfoPro!F162)","v":"Solar FV"},{"$f":"IF(ISBLANK(InfoPro!I162),\"\",YEAR(InfoPro!I162)-$H$3)","v":2},{"$f":"IF(B169=\"\",\"\",VLOOKUP(D169,Tablas!$B$2:$E$13,2,FALSE))","v":0.26},{"$f":"IF(B169=\"\",\"\",VLOOKUP(D169,Tablas!$B$2:$H$13,7,FALSE))","v":83577.200000000012},0.56483127404885003,45324.24,3933650758.2477007,3518471161.2233472,3147111951.0047832,2814948077.8218098,2517842645.6366811,2252095389.6571393,2014396591.8221281,1801785860.3060179,1611615259.6654899,1441516332.4378271,1289370601.4649615,1153283185.5679443,1031559199.9713278,922682647.55932724,825297538.06737649,30275627200.453861,1521388.3015303449]
[{"$f":"IF(ISBLANK(InfoPro!A163),\"\",InfoPro!A163)","v":"SC_1967_A2"},{"$f":"IF(ISBLANK(InfoPro!B163),\"\",InfoPro!B163)","v":"Solar Valledupar 4"},{"$f":"IF(ISBLANK(InfoPro!E163),\"\",InfoPro!E163)","v":19.899999999999999},{"$f":"IF(ISBLANK(InfoPro!F163),\"\",InfoPro!F163)","v":"Solar FV"},{"$f":"IF(ISBLANK(InfoPro!I163),\"\",YEAR(InfoPro!I163)-$H$3)","v":2},{"$f":"IF(B170=\"\",\"\",VLOOKUP(D170,Tablas!$B$2:$E$13,2,FALSE))","v":0.26},{"$f":"IF(B170=\"\",\"\",VLOOKUP(D170,Tablas!$B$2:$H$13,7,FALSE))","v":83577.200000000012},0.56483127404885003,45324.24,3933650758.2477007,3518471161.2233472,3147111951.0047832,2814948077.8218098,2517842645.6366811,2252095389.6571393,2014396591.8221281,1801785860.3060179,1611615259.6654899,1441516332.4378271,1289370601.4649615,1153283185.5679443,1031559199.9713278,922682647.55932724,825297538.06737649,30275627200.453861,1521388.3015303449]
[{"$f":"IF(ISBLANK(InfoPro!A164),\"\",InfoPro!A164)","v":"SC_1968_A1"},{"$f":"IF(ISBLANK(InfoPro!B164),\"\",InfoPro!B164)","v":"Solar Valledupar 5"},{"$f":"IF(ISBLANK(InfoPro!E164),\"\",InfoPro!E164)","v":19.899999999999999},{"$f":"IF(ISBLANK(InfoPro!F164),\"\",InfoPro!F164)","v":"Solar FV"},{"$f":"IF(ISBLANK(InfoPro!I164),\"\",YEAR(InfoPro!I164)-$H$3)","v":2},{"$f":"IF(B171=\"\",\"\",VLOOKUP(D171,Tablas!$B$2:$E$13,2,FALSE))","v":0.26},{"$f":"IF(B171=\"\",\"\",VLOOKUP(D171,Tablas!$B$2:$H$13,7,FALSE))","v":83577.200000000012},0.56483127404885003,45324.24,{"$f":"IF($I171=\"\",\"\",(1/(1+$C$3)^(J$6+$E171))*$I171*$C$2*$H171)","v":3933650758.2477007},3518471161.2233472,3147111951.0047832,2814948077.8218098,2517842645.6366811,2252095389.6571393,2014396591.8221281,1801785860.3060179,1611615259.6654899,1441516332.4378271,1289370601.4649615,1153283185.5679443,1031559199.9713278,922682647.55932724,825297538.06737649,{"$f":"IF(X171=\"\",\"\",SUM(J171:X171))","v":30275627200.453861},1521388.3015303449]
[{"$f":"IF(ISBLANK(InfoPro!A165),\"\",InfoPro!A165)","v":"SC_1968_A2"},{"$f":"IF(ISBLANK(InfoPro!B165),\"\",InfoPro!B165)","v":"Solar Valledupar 5"},{"$f":"IF(ISBLANK(InfoPro!E165),\"\",InfoPro!E165)","v":19.899999999999999},{"$f":"IF(ISBLANK(InfoPro!F165),\"\",InfoPro!F165)","v":"Solar FV"},{"$f":"IF(ISBLANK(InfoPro!I165),\"\",YEAR(InfoPro!I165)-$H$3)","v":2},{"$f":"IF(B172=\"\",\"\",VLOOKUP(D172,Tablas!$B$2:$E$13,2,FALSE))","v":0.26},{"$f":"IF(B172=\"\",\"\",VLOOKUP(D172,Tablas!$B$2:$H$13,7,FALSE))","v":83577.200000000012},0.56483127404885003,45324.24,3933650758.2477007,3518471161.2233472,3147111951.0047832,2814948077.8218098,2517842645.6366811,2252095389.6571393,2014396591.8221281,1801785860.3060179,1611615259.6654899,1441516332.4378271,1289370601.4649615,1153283185.5679443,1031559199.9713278,922682647.55932724,825297538.06737649,30275627200.453861,1521388.3015303449]
[{"$f":"IF(ISBLANK(InfoPro!A166),\"\",InfoPro!A166)","v":"SC_1978_A1"},{"$f":"IF(ISBLANK(InfoPro!B166),\"\",InfoPro!B166)","v":"Solar El Copey"},{"$f":"IF(ISBLANK(InfoPro!E166),\"\",InfoPro!E166)","v":230},{"$f":"IF(ISBLANK(InfoPro!F166),\"\",InfoPro!F166)","v":"Solar FV"},{"$f":"IF(ISBLANK(InfoPro!I166),\"\",YEAR(InfoPro!I166)-$H$3)","v":2},{"$f":"IF(B173=\"\",\"\",VLOOKUP(D173,Tablas!$B$2:$E$13,2,FALSE))","v":0.26},{"$f":"IF(B173=\"\",\"\",VLOOKUP(D173,Tablas!$B$2:$H$13,7,FALSE))","v":83577.200000000012},0.56483127404885003,523848,45464305246.078964,40665747089.516075,36373655715.130661,32534575773.819912,29100693894.293301,26029243197.042313,23281970659.250729,20824660697.00423,18626709031.309685,16660741530.688454,14902273283.263376,13329403652.292822,11922543517.256552,10664171303.449511,9538614761.5827446,349919309351.97937,1521388.3015303451]
[{"$f":"IF(ISBLANK(InfoPro!A167),\"\",InfoPro!A167)","v":"SC_1978_A2"},{"$f":"IF(ISBLANK(InfoPro!B167),\"\",InfoPro!B167)","v":"Solar El Copey"},{"$f":"IF(ISBLANK(InfoPro!E167),\"\",InfoPro!E167)","v":230},{"$f":"IF(ISBLANK(InfoPro!F167),\"\",InfoPro!F167)","v":"Solar FV"},{"$f":"IF(ISBLANK(InfoPro!I167),\"\",YEAR(InfoPro!I167)-$H$3)","v":2},{"$f":"IF(B174=\"\",\"\",VLOOKUP(D174,Tablas!$B$2:$E$13,2,FALSE))","v":0.26},{"$f":"IF(B174=\"\",\"\",VLOOKUP(D174,Tablas!$B$2:$H$13,7,FALSE))","v":83577.200000000012},0.56483127404885003,523848,45464305246.078964,40665747089.516075,36373655715.130661,32534575773.819912,29100693894.293301,26029243197.042313,23281970659.250729,20824660697.00423,18626709031.309685,16660741530.688454,14902273283.263376,13329403652.292822,11922543517.256552,10664171303.449511,9538614761.5827446,349919309351.97937,1521388.3015303451]
[{"$f":"IF(ISBLANK(InfoPro!A168),\"\",InfoPro!A168)","v":"SC_1981_A1"},{"$f":"IF(ISBLANK(InfoPro!B168),\"\",InfoPro!B168)","v":"Solar Valledupar 2"},{"$f":"IF(ISBLANK(InfoPro!E168),\"\",InfoPro!E168)","v":19.899999999999999},{"$f":"IF(ISBLANK(InfoPro!F168),\"\",InfoPro!F168)","v":"Solar FV"},{"$f":"IF(ISBLANK(InfoPro!I168),\"\",YEAR(InfoPro!I168)-$H$3)","v":0},{"$f":"IF(B175=\"\",\"\",VLOOKUP(D175,Tablas!$B$2:$E$13,2,FALSE))","v":0.26},{"$f":"IF(B175=\"\",\"\",VLOOKUP(D175,Tablas!$B$2:$H$13,7,FALSE))","v":83577.200000000012},0.56483127404885003,45324.24,4916764490.3519993,4397821547.7209291,3933650758.2477007,3518471161.2233472,3147111951.0047832,2814948077.8218098,2517842645.6366811,2252095389.6571393,2014396591.8221281,1801785860.3060179,1611615259.6654899,1441516332.4378271,1289370601.4649615,1153283185.5679443,1031559199.9713278,37842233052.900085,1901619.7514020144]
[{"$f":"IF(ISBLANK(InfoPro!A169),\"\",InfoPro!A169)","v":"SC_1981_A2"},{"$f":"IF(ISBLANK(InfoPro!B169),\"\",InfoPro!B169)","v":"Solar Valledupar 2"},{"$f":"IF(ISBLANK(InfoPro!E169),\"\",InfoPro!E169)","v":19.899999999999999},{"$f":"IF(ISBLANK(InfoPro!F169),\"\",InfoPro!F169)","v":"Solar FV"},{"$f":"IF(ISBLANK(InfoPro!I169),\"\",YEAR(InfoPro!I169)-$H$3)","v":0},{"$f":"IF(B176=\"\",\"\",VLOOKUP(D176,Tablas!$B$2:$E$13,2,FALSE))","v":0.26},{"$f":"IF(B176=\"\",\"\",VLOOKUP(D176,Tablas!$B$2:$H$13,7,FALSE))","v":83577.200000000012},0.56483127404885003,45324.24,4916764490.3519993,4397821547.7209291,3933650758.2477007,3518471161.2233472,3147111951.0047832,2814948077.8218098,2517842645.6366811,2252095389.6571393,2014396591.8221281,1801785860.3060179,1611615259.6654899,1441516332.4378271,1289370601.4649615,1153283185.5679443,1031559199.9713278,37842233052.900085,1901619.7514020144]
[{"$f":"IF(ISBLANK(InfoPro!A170),\"\",InfoPro!A170)","v":"SC_1982_A1"},{"$f":"IF(ISBLANK(InfoPro!B170),\"\",InfoPro!B170)","v":"Solar Valledupar 3"},{"$f":"IF(ISBLANK(InfoPro!E170),\"\",InfoPro!E170)","v":19.899999999999999},{"$f":"IF(ISBLANK(InfoPro!F170),\"\",InfoPro!F170)","v":"Solar FV"},{"$f":"IF(ISBLANK(InfoPro!I170),\"\",YEAR(InfoPro!I170)-$H$3)","v":2},{"$f":"IF(B177=\"\",\"\",VLOOKUP(D177,Tablas!$B$2:$E$13,2,FALSE))","v":0.26},{"$f":"IF(B177=\"\",\"\",VLOOKUP(D177,Tablas!$B$2:$H$13,7,FALSE))","v":83577.200000000012},0.56483127404885003,45324.24,3933650758.2477007,3518471161.2233472,3147111951.0047832,2814948077.8218098,2517842645.6366811,2252095389.6571393,2014396591.8221281,1801785860.3060179,1611615259.6654899,1441516332.4378271,1289370601.4649615,1153283185.5679443,1031559199.9713278,922682647.55932724,825297538.06737649,30275627200.453861,1521388.3015303449]
[{"$f":"IF(ISBLANK(InfoPro!A171),\"\",InfoPro!A171)","v":"SC_1982_A2"},{"$f":"IF(ISBLANK(InfoPro!B171),\"\",InfoPro!B171)","v":"Solar Valledupar 3"},{"$f":"IF(ISBLANK(InfoPro!E171),\"\",InfoPro!E171)","v":19.899999999999999},{"$f":"IF(ISBLANK(InfoPro!F171),\"\",InfoPro!F171)","v":"Solar FV"},{"$f":"IF(ISBLANK(InfoPro!I171),\"\",YEAR(InfoPro!I171)-$H$3)","v":2},{"$f":"IF(B178=\"\",\"\",VLOOKUP(D178,Tablas!$B$2:$E$13,2,FALSE))","v":0.26},{"$f":"IF(B178=\"\",\"\",VLOOKUP(D178,Tablas!$B$2:$H$13,7,FALSE))","v":83577.200000000012},0.56483127404885003,45324.24,3933650758.2477007,3518471161.2233472,3147111951.0047832,2814948077.8218098,2517842645.6366811,2252095389.6571393,2014396591.8221281,1801785860.3060179,1611615259.6654899,1441516332.4378271,1289370601.4649615,1153283185.5679443,1031559199.9713278,922682647.55932724,825297538.06737649,30275627200.453861,1521388.3015303449]
[{"$f":"IF(ISBLANK(InfoPro!A172),\"\",InfoPro!A172)","v":"SC_1989_A1"},{"$f":"IF(ISBLANK(InfoPro!B172),\"\",InfoPro!B172)","v":"Solar Valledupar 1"},{"$f":"IF(ISBLANK(InfoPro!E172),\"\",InfoPro!E172)","v":19.899999999999999},{"$f":"IF(ISBLANK(InfoPro!F172),\"\",InfoPro!F172)","v":"Solar FV"},{"$f":"IF(ISBLANK(InfoPro!I172),\"\",YEAR(InfoPro!I172)-$H$3)","v":0},{"$f":"IF(B179=\"\",\"\",VLOOKUP(D179,Tablas!$B$2:$E$13,2,FALSE))","v":0.26},{"$f":"IF(B179=\"\",\"\",VLOOKUP(D179,Tablas!$B$2:$H$13,7,FALSE))","v":83577.200000000012},0.56483127404885003,45324.24,4916764490.3519993,4397821547.7209291,3933650758.2477007,3518471161.2233472,3147111951.0047832,2814948077.8218098,2517842645.6366811,2252095389.6571393,2014396591.8221281,1801785860.3060179,1611615259.6654899,1441516332.4378271,1289370601.4649615,1153283185.5679443,1031559199.9713278,37842233052.900085,1901619.7514020144]
[{"$f":"IF(ISBLANK(InfoPro!A173),\"\",InfoPro!A173)","v":"SC_1989_A2"},{"$f":"IF(ISBLANK(InfoPro!B173),\"\",InfoPro!B173)","v":"Solar Valledupar 1"},{"$f":"IF(ISBLANK(InfoPro!E173),\"\",InfoPro!E173)","v":19.899999999999999},{"$f":"IF(ISBLANK(InfoPro!F173),\"\",InfoPro!F173)","v":"Solar FV"},{"$f":"IF(ISBLANK(InfoPro!I173),\"\",YEAR(InfoPro!I173)-$H$3)","v":0},{"$f":"IF(B180=\"\",\"\",VLOOKUP(D180,Tablas!$B$2:$E$13,2,FALSE))","v":0.26},{"$f":"IF(B180=\"\",\"\",VLOOKUP(D180,Tablas!$B$2:$H$13,7,FALSE))","v":83577.200000000012},0.56483127404885003,45324.24,4916764490.3519993,4397821547.7209291,3933650758.2477007,3518471161.2233472,3147111951.0047832,2814948077.8218098,2517842645.6366811,2252095389.6571393,2014396591.8221281,1801785860.3060179,1611615259.6654899,1441516332.4378271,1289370601.4649615,1153283185.5679443,1031559199.9713278,37842233052.900085,1901619.7514020144]
[{"$f":"IF(ISBLANK(InfoPro!A174),\"\",InfoPro!A174)","v":"SC_1992_A1"},{"$f":"IF(ISBLANK(InfoPro!B174),\"\",InfoPro!B174)","v":"Parque Solar TERRɅ III"},{"$f":"IF(ISBLANK(InfoPro!E174),\"\",InfoPro!E174)","v":19.899999999999999},{"$f":"IF(ISBLANK(InfoPro!F174),\"\",InfoPro!F174)","v":"Solar FV"},{"$f":"IF(ISBLANK(InfoPro!I174),\"\",YEAR(InfoPro!I174)-$H$3)","v":1},{"$f":"IF(B181=\"\",\"\",VLOOKUP(D181,Tablas!$B$2:$E$13,2,FALSE))","v":0.26},{"$f":"IF(B181=\"\",\"\",VLOOKUP(D181,Tablas!$B$2:$H$13,7,FALSE))","v":83577.200000000012},0.56483127404885003,45324.24,4397821547.7209291,3933650758.2477007,3518471161.2233472,3147111951.0047832,2814948077.8218098,2517842645.6366811,2252095389.6571393,2014396591.8221281,1801785860.3060179,1611615259.6654899,1441516332.4378271,1289370601.4649615,1153283185.5679443,1031559199.9713278,922682647.55932724,33848151210.107414,1700912.1211109255]
[{"$f":"IF(ISBLANK(InfoPro!A175),\"\",InfoPro!A175)","v":"SC_2005_A1"},{"$f":"IF(ISBLANK(InfoPro!B175),\"\",InfoPro!B175)","v":"PARQUE SOLAR CATACA"},{"$f":"IF(ISBLANK(InfoPro!E175),\"\",InfoPro!E175)","v":9.9},{"$f":"IF(ISBLANK(InfoPro!F175),\"\",InfoPro!F175)","v":"Solar FV"},{"$f":"IF(ISBLANK(InfoPro!I175),\"\",YEAR(InfoPro!I175)-$H$3)","v":1},{"$f":"IF(B182=\"\",\"\",VLOOKUP(D182,Tablas!$B$2:$E$13,2,FALSE))","v":0.26},{"$f":"IF(B182=\"\",\"\",VLOOKUP(D182,Tablas!$B$2:$H$13,7,FALSE))","v":83577.200000000012},0.56483127404885003,22548.240000000005,2187860970.9767447,1956941834.5051382,1750395200.8096051,1565648659.0425806,1400401305.0470312,1252595085.0152338,1120389163.6987782,1002136997.9416621,896365830.00148666,801758345.26072145,717136265.88615537,641445676.10568452,573743896.33782172,513187742.69930387,459023025.67021811,16839029998.998165,1700912.1211109257]
[{"$f":"IF(ISBLANK(InfoPro!A176),\"\",InfoPro!A176)","v":"SC_2010_A1"},{"$f":"IF(ISBLANK(InfoPro!B176),\"\",InfoPro!B176)","v":"PARQUE SOLAR SAN JUAN_5MW"},{"$f":"IF(ISBLANK(InfoPro!E176),\"\",InfoPro!E176)","v":5},{"$f":"IF(ISBLANK(InfoPro!F176),\"\",InfoPro!F176)","v":"Solar FV"},{"$f":"IF(ISBLANK(InfoPro!I176),\"\",YEAR(InfoPro!I176)-$H$3)","v":1},{"$f":"IF(B183=\"\",\"\",VLOOKUP(D183,Tablas!$B$2:$E$13,2,FALSE))","v":0.26},{"$f":"IF(B183=\"\",\"\",VLOOKUP(D183,Tablas!$B$2:$H$13,7,FALSE))","v":83577.200000000012},0.56483127404885003,11388.000000000002,1104980288.3720932,988354461.87128198,884037980.20687139,790731645.98110139,707273386.38738942,632623780.31072414,565853112.97918081,506129796.94023323,452710015.15226591,404928457.20238453,362190033.27583605,323962462.67963862,289769644.6150614,259185728.63601205,231829810.94455463,8504560605.5546293,1700912.1211109259]
[{"$f":"IF(ISBLANK(InfoPro!A177),\"\",InfoPro!A177)","v":"SC_2011_A1"},{"$f":"IF(ISBLANK(InfoPro!B177),\"\",InfoPro!B177)","v":"PE Vientos de la Manita"},{"$f":"IF(ISBLANK(InfoPro!E177),\"\",InfoPro!E177)","v":9.9},{"$f":"IF(ISBLANK(InfoPro!F177),\"\",InfoPro!F177)","v":"Eólico Onshore"},{"$f":"IF(ISBLANK(InfoPro!I177),\"\",YEAR(InfoPro!I177)-$H$3)","v":2},{"$f":"IF(B184=\"\",\"\",VLOOKUP(D184,Tablas!$B$2:$E$13,2,FALSE))","v":0.56999999999999995},{"$f":"IF(B184=\"\",\"\",VLOOKUP(D184,Tablas!$B$2:$H$13,7,FALSE))","v":83577.200000000012},0.56483127404885003,49432.679999999993,4290218637.1843405,3837404863.3133645,3432383598.6702719,3070110553.3723364,2746073840.2257037,2456237781.9550123,2196992649.333643,1965109704.2340276,1757700987.6869657,1572183352.1350322,1406246289.9240003,1257823157.3559933,1125065435.9177043,1006319710.1231703,900107075.24433815,33019977636.675907,3335351.2764319098]
[{"$f":"IF(ISBLANK(InfoPro!A178),\"\",InfoPro!A178)","v":"SC_2011_A2"},{"$f":"IF(ISBLANK(InfoPro!B178),\"\",InfoPro!B178)","v":"PE Vientos de la Manita"},{"$f":"IF(ISBLANK(InfoPro!E178),\"\",InfoPro!E178)","v":9.9},{"$f":"IF(ISBLANK(InfoPro!F178),\"\",InfoPro!F178)","v":"Eólico Onshore"},{"$f":"IF(ISBLANK(InfoPro!I178),\"\",YEAR(InfoPro!I178)-$H$3)","v":2},{"$f":"IF(B185=\"\",\"\",VLOOKUP(D185,Tablas!$B$2:$E$13,2,FALSE))","v":0.56999999999999995},{"$f":"IF(B185=\"\",\"\",VLOOKUP(D185,Tablas!$B$2:$H$13,7,FALSE))","v":83577.200000000012},0.56483127404885003,49432.679999999993,4290218637.1843405,3837404863.3133645,3432383598.6702719,3070110553.3723364,2746073840.2257037,2456237781.9550123,2196992649.333643,1965109704.2340276,1757700987.6869657,1572183352.1350322,1406246289.9240003,1257823157.3559933,1125065435.9177043,1006319710.1231703,900107075.24433815,33019977636.675907,3335351.2764319098]
[{"$f":"IF(ISBLANK(InfoPro!A179),\"\",InfoPro!A179)","v":"SC_2020_A1"},{"$f":"IF(ISBLANK(InfoPro!B179),\"\",InfoPro!B179)","v":"San Juan Solar I 9,9 MW"},{"$f":"IF(ISBLANK(InfoPro!E179),\"\",InfoPro!E179)","v":9.9},{"$f":"IF(ISBLANK(InfoPro!F179),\"\",InfoPro!F179)","v":"Solar FV"},{"$f":"IF(ISBLANK(InfoPro!I179),\"\",YEAR(InfoPro!I179)-$H$3)","v":1},{"$f":"IF(B186=\"\",\"\",VLOOKUP(D186,Tablas!$B$2:$E$13,2,FALSE))","v":0.26},{"$f":"IF(B186=\"\",\"\",VLOOKUP(D186,Tablas!$B$2:$H$13,7,FALSE))","v":83577.200000000012},0.56483127404885003,22548.240000000005,2187860970.9767447,1956941834.5051382,1750395200.8096051,1565648659.0425806,1400401305.0470312,1252595085.0152338,1120389163.6987782,1002136997.9416621,896365830.00148666,801758345.26072145,717136265.88615537,641445676.10568452,573743896.33782172,513187742.69930387,459023025.67021811,16839029998.998165,1700912.1211109257]
[{"$f":"IF(ISBLANK(InfoPro!A180),\"\",InfoPro!A180)","v":"SC_2020_A2"},{"$f":"IF(ISBLANK(InfoPro!B180),\"\",InfoPro!B180)","v":"San Juan Solar I 9,9 MW"},{"$f":"IF(ISBLANK(InfoPro!E180),\"\",InfoPro!E180)","v":9.9},{"$f":"IF(ISBLANK(InfoPro!F180),\"\",InfoPro!F180)","v":"Solar FV"},{"$f":"IF(ISBLANK(InfoPro!I180),\"\",YEAR(InfoPro!I180)-$H$3)","v":1},{"$f":"IF(B187=\"\",\"\",VLOOKUP(D187,Tablas!$B$2:$E$13,2,FALSE))","v":0.26},{"$f":"IF(B187=\"\",\"\",VLOOKUP(D187,Tablas!$B$2:$H$13,7,FALSE))","v":83577.200000000012},0.56483127404885003,22548.240000000005,2187860970.9767447,1956941834.5051382,1750395200.8096051,1565648659.0425806,1400401305.0470312,1252595085.0152338,1120389163.6987782,1002136997.9416621,896365830.00148666,801758345.26072145,717136265.88615537,641445676.10568452,573743896.33782172,513187742.69930387,459023025.67021811,16839029998.998165,1700912.1211109257]
[{"$f":"IF(ISBLANK(InfoPro!A181),\"\",InfoPro!A181)","v":"SC_2021_A1"},{"$f":"IF(ISBLANK(InfoPro!B181),\"\",InfoPro!B181)","v":"San Juan Solar II 9,9 MW"},{"$f":"IF(ISBLANK(InfoPro!E181),\"\",InfoPro!E181)","v":9.9},{"$f":"IF(ISBLANK(InfoPro!F181),\"\",InfoPro!F181)","v":"Solar FV"},{"$f":"IF(ISBLANK(InfoPro!I181),\"\",YEAR(InfoPro!I181)-$H$3)","v":1},{"$f":"IF(B188=\"\",\"\",VLOOKUP(D188,Tablas!$B$2:$E$13,2,FALSE))","v":0.26},{"$f":"IF(B188=\"\",\"\",VLOOKUP(D188,Tablas!$B$2:$H$13,7,FALSE))","v":83577.200000000012},0.56483127404885003,22548.240000000005,{"$f":"IF($I188=\"\",\"\",(1/(1+$C$3)^(J$6+$E188))*$I188*$C$2*$H188)","v":2187860970.9767447},1956941834.5051382,1750395200.8096051,1565648659.0425806,1400401305.0470312,1252595085.0152338,1120389163.6987782,1002136997.9416621,896365830.00148666,801758345.26072145,717136265.88615537,641445676.10568452,573743896.33782172,513187742.69930387,459023025.67021811,16839029998.998165,1700912.1211109257]
[{"$f":"IF(ISBLANK(InfoPro!A182),\"\",InfoPro!A182)","v":"SC_2021_A2"},{"$f":"IF(ISBLANK(InfoPro!B182),\"\",InfoPro!B182)","v":"San Juan Solar II 9,9 MW"},{"$f":"IF(ISBLANK(InfoPro!E182),\"\",InfoPro!E182)","v":9.9},{"$f":"IF(ISBLANK(InfoPro!F182),\"\",InfoPro!F182)","v":"Solar FV"},{"$f":"IF(ISBLANK(InfoPro!I182),\"\",YEAR(InfoPro!I182)-$H$3)","v":1},{"$f":"IF(B189=\"\",\"\",VLOOKUP(D189,Tablas!$B$2:$E$13,2,FALSE))","v":0.26},{"$f":"IF(B189=\"\",\"\",VLOOKUP(D189,Tablas!$B$2:$H$13,7,FALSE))","v":83577.200000000012},0.56483127404885003,22548.240000000005,2187860970.9767447,1956941834.5051382,1750395200.8096051,1565648659.0425806,1400401305.0470312,1252595085.0152338,1120389163.6987782,1002136997.9416621,896365830.00148666,801758345.26072145,717136265.88615537,641445676.10568452,573743896.33782172,513187742.69930387,459023025.67021811,16839029998.998165,1700912.1211109257]
[{"$f":"IF(ISBLANK(InfoPro!A183),\"\",InfoPro!A183)","v":"SC_2056_A1"},{"$f":"IF(ISBLANK(InfoPro!B183),\"\",InfoPro!B183)","v":"Saturno 200 MW"},{"$f":"IF(ISBLANK(InfoPro!E183),\"\",InfoPro!E183)","v":200},{"$f":"IF(ISBLANK(InfoPro!F183),\"\",InfoPro!F183)","v":"Solar FV"},{"$f":"IF(ISBLANK(InfoPro!I183),\"\",YEAR(InfoPro!I183)-$H$3)","v":2},{"$f":"IF(B190=\"\",\"\",VLOOKUP(D190,Tablas!$B$2:$E$13,2,FALSE))","v":0.26},{"$f":"IF(B190=\"\",\"\",VLOOKUP(D190,Tablas!$B$2:$H$13,7,FALSE))","v":83577.200000000012},0.56483127404885003,455520,39534178474.851273,35361519208.274849,31629265839.244049,28290935455.495575,25304951212.428955,22634124519.167229,20245191877.609329,18108400606.090633,16197138288.095379,14487601331.03344,12958498507.185543,11590785784.602455,10367429145.440479,9273192437.7821846,8294447618.7676029,304277660306.06897,1521388.3015303449]
[{"$f":"IF(ISBLANK(InfoPro!A184),\"\",InfoPro!A184)","v":"SC_2057_A1"},{"$f":"IF(ISBLANK(InfoPro!B184),\"\",InfoPro!B184)","v":"SABAN II - 305 MW"},{"$f":"IF(ISBLANK(InfoPro!E184),\"\",InfoPro!E184)","v":305},{"$f":"IF(ISBLANK(InfoPro!F184),\"\",InfoPro!F184)","v":"Solar FV"},{"$f":"IF(ISBLANK(InfoPro!I184),\"\",YEAR(InfoPro!I184)-$H$3)","v":4},{"$f":"IF(B191=\"\",\"\",VLOOKUP(D191,Tablas!$B$2:$E$13,2,FALSE))","v":0.26},{"$f":"IF(B191=\"\",\"\",VLOOKUP(D191,Tablas!$B$2:$H$13,7,FALSE))","v":83577.200000000012},0.56483127404885003,694667.99999999988,48234630404.847176,43143676569.630745,38590050598.954155,34517039891.730019,30873917613.354221,27615310924.288212,24700635889.345448,22093592029.825985,19761710223.457951,17675948321.518742,15810329446.79673,14141618467.617826,12649032618.620594,11313982664.240248,10119841381.252457,371241317045.48047,1217184.6460507556]
[{"$f":"IF(ISBLANK(InfoPro!A185),\"\",InfoPro!A185)","v":"SC_2066_A1"},{"$f":"IF(ISBLANK(InfoPro!B185),\"\",InfoPro!B185)","v":"Orquídea del Cesar - La Loma - 62 MW"},{"$f":"IF(ISBLANK(InfoPro!E185),\"\",InfoPro!E185)","v":62},{"$f":"IF(ISBLANK(InfoPro!F185),\"\",InfoPro!F185)","v":"Solar FV"},{"$f":"IF(ISBLANK(InfoPro!I185),\"\",YEAR(InfoPro!I185)-$H$3)","v":5},{"$f":"IF(B192=\"\",\"\",VLOOKUP(D192,Tablas!$B$2:$E$13,2,FALSE))","v":0.26},{"$f":"IF(B192=\"\",\"\",VLOOKUP(D192,Tablas!$B$2:$H$13,7,FALSE))","v":83577.200000000012},0.56483127404885003,141211.20000000001,8770189991.2036285,7844534875.8529787,7016578600.9418421,6276009482.0588923,5613604187.8880968,5021112869.3095684,4491156412.6203661,4017134537.2275186,3593143593.2267613,3213903035.0865488,2874689655.7124772,2571278761.8179574,2299891557.9767065,2057148084.0578768,1840025119.9086561,67500400764.88987,1088716.1413691915]
[{"$f":"IF(ISBLANK(InfoPro!A186),\"\",InfoPro!A186)","v":"SC_2066_A2"},{"$f":"IF(ISBLANK(InfoPro!B186),\"\",InfoPro!B186)","v":"Orquídea del Cesar - La Loma - 62 MW"},{"$f":"IF(ISBLANK(InfoPro!E186),\"\",InfoPro!E186)","v":62},{"$f":"IF(ISBLANK(InfoPro!F186),\"\",InfoPro!F186)","v":"Solar FV"},{"$f":"IF(ISBLANK(InfoPro!I186),\"\",YEAR(InfoPro!I186)-$H$3)","v":5},{"$f":"IF(B193=\"\",\"\",VLOOKUP(D193,Tablas!$B$2:$E$13,2,FALSE))","v":0.26},{"$f":"IF(B193=\"\",\"\",VLOOKUP(D193,Tablas!$B$2:$H$13,7,FALSE))","v":83577.200000000012},0.56483127404885003,141211.20000000001,8770189991.2036285,7844534875.8529787,7016578600.9418421,6276009482.0588923,5613604187.8880968,5021112869.3095684,4491156412.6203661,4017134537.2275186,3593143593.2267613,3213903035.0865488,2874689655.7124772,2571278761.8179574,2299891557.9767065,2057148084.0578768,1840025119.9086561,67500400764.88987,1088716.1413691915]
[{"$f":"IF(ISBLANK(InfoPro!A187),\"\",InfoPro!A187)","v":"SC_2069_A1"},{"$f":"IF(ISBLANK(InfoPro!B187),\"\",InfoPro!B187)","v":"Pétalo del Magdalena - Fundación"},{"$f":"IF(ISBLANK(InfoPro!E187),\"\",InfoPro!E187)","v":9.9},{"$f":"IF(ISBLANK(InfoPro!F187),\"\",InfoPro!F187)","v":"Solar FV"},{"$f":"IF(ISBLANK(InfoPro!I187),\"\",YEAR(InfoPro!I187)-$H$3)","v":3},{"$f":"IF(B194=\"\",\"\",VLOOKUP(D194,Tablas!$B$2:$E$13,2,FALSE))","v":0.26},{"$f":"IF(B194=\"\",\"\",VLOOKUP(D194,Tablas!$B$2:$H$13,7,FALSE))","v":83577.200000000012},0.56483127404885003,22548.240000000005,1750395200.8096051,1565648659.0425806,1400401305.0470312,1252595085.0152338,1120389163.6987782,1002136997.9416621,896365830.00148666,801758345.26072145,717136265.88615537,641445676.10568452,573743896.33782172,513187742.69930387,459023025.67021811,410575157.12899655,367240748.77369994,13472043099.41898,1360812.4342847455]
[{"$f":"IF(ISBLANK(InfoPro!A188),\"\",InfoPro!A188)","v":"SC_2070_A1"},{"$f":"IF(ISBLANK(InfoPro!B188),\"\",InfoPro!B188)","v":"Cactus del Cesar - La Loma"},{"$f":"IF(ISBLANK(InfoPro!E188),\"\",InfoPro!E188)","v":19.899999999999999},{"$f":"IF(ISBLANK(InfoPro!F188),\"\",InfoPro!F188)","v":"Solar FV"},{"$f":"IF(ISBLANK(InfoPro!I188),\"\",YEAR(InfoPro!I188)-$H$3)","v":5},{"$f":"IF(B195=\"\",\"\",VLOOKUP(D195,Tablas!$B$2:$E$13,2,FALSE))","v":0.26},{"$f":"IF(B195=\"\",\"\",VLOOKUP(D195,Tablas!$B$2:$H$13,7,FALSE))","v":83577.200000000012},0.56483127404885003,45324.24,2814948077.8218098,2517842645.6366811,2252095389.6571393,2014396591.8221281,1801785860.3060179,1611615259.6654899,1441516332.4378271,1289370601.4649615,1153283185.5679443,1031559199.9713278,922682647.55932724,825297538.06737649,738191000.0602653,660278175.36696362,590588707.84164917,21665451213.246902,1088716.141369191]
[{"$f":"IF(ISBLANK(InfoPro!A189),\"\",InfoPro!A189)","v":"SC_2070_A2"},{"$f":"IF(ISBLANK(InfoPro!B189),\"\",InfoPro!B189)","v":"Cactus del Cesar - La Loma"},{"$f":"IF(ISBLANK(InfoPro!E189),\"\",InfoPro!E189)","v":19.899999999999999},{"$f":"IF(ISBLANK(InfoPro!F189),\"\",InfoPro!F189)","v":"Solar FV"},{"$f":"IF(ISBLANK(InfoPro!I189),\"\",YEAR(InfoPro!I189)-$H$3)","v":5},{"$f":"IF(B196=\"\",\"\",VLOOKUP(D196,Tablas!$B$2:$E$13,2,FALSE))","v":0.26},{"$f":"IF(B196=\"\",\"\",VLOOKUP(D196,Tablas!$B$2:$H$13,7,FALSE))","v":83577.200000000012},0.56483127404885003,45324.24,2814948077.8218098,2517842645.6366811,2252095389.6571393,2014396591.8221281,1801785860.3060179,1611615259.6654899,1441516332.4378271,1289370601.4649615,1153283185.5679443,1031559199.9713278,922682647.55932724,825297538.06737649,738191000.0602653,660278175.36696362,590588707.84164917,21665451213.246902,1088716.141369191]
[{"$f":"IF(ISBLANK(InfoPro!A190),\"\",InfoPro!A190)","v":"SC_2077_A1"},{"$f":"IF(ISBLANK(InfoPro!B190),\"\",InfoPro!B190)","v":"PARQUE SOLAR GUACAMAYAL 9.9"},{"$f":"IF(ISBLANK(InfoPro!E190),\"\",InfoPro!E190)","v":9.9},{"$f":"IF(ISBLANK(InfoPro!F190),\"\",InfoPro!F190)","v":"Solar FV"},{"$f":"IF(ISBLANK(InfoPro!I190),\"\",YEAR(InfoPro!I190)-$H$3)","v":1},{"$f":"IF(B197=\"\",\"\",VLOOKUP(D197,Tablas!$B$2:$E$13,2,FALSE))","v":0.26},{"$f":"IF(B197=\"\",\"\",VLOOKUP(D197,Tablas!$B$2:$H$13,7,FALSE))","v":83577.200000000012},0.56483127404885003,22548.240000000005,2187860970.9767447,1956941834.5051382,1750395200.8096051,1565648659.0425806,1400401305.0470312,1252595085.0152338,1120389163.6987782,1002136997.9416621,896365830.00148666,801758345.26072145,717136265.88615537,641445676.10568452,573743896.33782172,513187742.69930387,459023025.67021811,16839029998.998165,1700912.1211109257]
[{"$f":"IF(ISBLANK(InfoPro!A191),\"\",InfoPro!A191)","v":"SC_2084_A1"},{"$f":"IF(ISBLANK(InfoPro!B191),\"\",InfoPro!B191)","v":"Parque Solar Codazzi 1 19,9 MW"},{"$f":"IF(ISBLANK(InfoPro!E191),\"\",InfoPro!E191)","v":19.899999999999999},{"$f":"IF(ISBLANK(InfoPro!F191),\"\",InfoPro!F191)","v":"Solar FV"},{"$f":"IF(ISBLANK(InfoPro!I191),\"\",YEAR(InfoPro!I191)-$H$3)","v":3},{"$f":"IF(B198=\"\",\"\",VLOOKUP(D198,Tablas!$B$2:$E$13,2,FALSE))","v":0.26},{"$f":"IF(B198=\"\",\"\",VLOOKUP(D198,Tablas!$B$2:$H$13,7,FALSE))","v":83577.200000000012},0.56483127404885003,45324.24,3518471161.2233472,3147111951.0047832,2814948077.8218098,2517842645.6366811,2252095389.6571393,2014396591.8221281,1801785860.3060179,1611615259.6654899,1441516332.4378271,1289370601.4649615,1153283185.5679443,1031559199.9713278,922682647.55932724,825297538.06737649,738191000.0602653,27080167442.266422,1360812.4342847448]
[{"$f":"IF(ISBLANK(InfoPro!A192),\"\",InfoPro!A192)","v":"SC_2084_A2"},{"$f":"IF(ISBLANK(InfoPro!B192),\"\",InfoPro!B192)","v":"Parque Solar Codazzi 1 19,9 MW"},{"$f":"IF(ISBLANK(InfoPro!E192),\"\",InfoPro!E192)","v":19.899999999999999},{"$f":"IF(ISBLANK(InfoPro!F192),\"\",InfoPro!F192)","v":"Solar FV"},{"$f":"IF(ISBLANK(InfoPro!I192),\"\",YEAR(InfoPro!I192)-$H$3)","v":3},{"$f":"IF(B199=\"\",\"\",VLOOKUP(D199,Tablas!$B$2:$E$13,2,FALSE))","v":0.26},{"$f":"IF(B199=\"\",\"\",VLOOKUP(D199,Tablas!$B$2:$H$13,7,FALSE))","v":83577.200000000012},0.56483127404885003,45324.24,3518471161.2233472,3147111951.0047832,2814948077.8218098,2517842645.6366811,2252095389.6571393,2014396591.8221281,1801785860.3060179,1611615259.6654899,1441516332.4378271,1289370601.4649615,1153283185.5679443,1031559199.9713278,922682647.55932724,825297538.06737649,738191000.0602653,27080167442.266422,1360812.4342847448]
[{"$f":"IF(ISBLANK(InfoPro!A193),\"\",InfoPro!A193)","v":"SC_2086_A1"},{"$f":"IF(ISBLANK(InfoPro!B193),\"\",InfoPro!B193)","v":"PARQUE SOLAR SABANA SOLAR 19.9"},{"$f":"IF(ISBLANK(InfoPro!E193),\"\",InfoPro!E193)","v":19.899999999999999},{"$f":"IF(ISBLANK(InfoPro!F193),\"\",InfoPro!F193)","v":"Solar FV"},{"$f":"IF(ISBLANK(InfoPro!I193),\"\",YEAR(InfoPro!I193)-$H$3)","v":1},{"$f":"IF(B200=\"\",\"\",VLOOKUP(D200,Tablas!$B$2:$E$13,2,FALSE))","v":0.26},{"$f":"IF(B200=\"\",\"\",VLOOKUP(D200,Tablas!$B$2:$H$13,7,FALSE))","v":83577.200000000012},0.56483127404885003,{"$f":"IF(C200=\"\",\"\",+C200*F200*24*365)","v":45324.24},4397821547.7209291,3933650758.2477007,3518471161.2233472,3147111951.0047832,2814948077.8218098,2517842645.6366811,2252095389.6571393,2014396591.8221281,1801785860.3060179,1611615259.6654899,1441516332.4378271,1289370601.4649615,1153283185.5679443,1031559199.9713278,922682647.55932724,33848151210.107414,1700912.1211109255]
[{"$f":"IF(ISBLANK(InfoPro!A194),\"\",InfoPro!A194)","v":"SC_2103_A1"},{"$f":"IF(ISBLANK(InfoPro!B194),\"\",InfoPro!B194)","v":"PARQUE SOLAR PUERTA DEL SOL"},{"$f":"IF(ISBLANK(InfoPro!E194),\"\",InfoPro!E194)","v":19.899999999999999},{"$f":"IF(ISBLANK(InfoPro!F194),\"\",InfoPro!F194)","v":"Solar FV"},{"$f":"IF(ISBLANK(InfoPro!I194),\"\",YEAR(InfoPro!I194)-$H$3)","v":1},{"$f":"IF(B201=\"\",\"\",VLOOKUP(D201,Tablas!$B$2:$E$13,2,FALSE))","v":0.26},{"$f":"IF(B201=\"\",\"\",VLOOKUP(D201,Tablas!$B$2:$H$13,7,FALSE))","v":83577.200000000012},{"$f":"IF(B201=\"\",\"\",($C$2-(G201))/$C$2)","v":0.56483127404885003},45324.24,4397821547.7209291,3933650758.2477007,3518471161.2233472,3147111951.0047832,2814948077.8218098,2517842645.6366811,2252095389.6571393,2014396591.8221281,1801785860.3060179,1611615259.6654899,1441516332.4378271,1289370601.4649615,1153283185.5679443,1031559199.9713278,922682647.55932724,33848151210.107414,{"$f":"IF(C201=0,0,IF(Y201=\"\",\"\",Y201/(C201*1000)))","v":1700912.1211109255}]
[{"$f":"IF(ISBLANK(InfoPro!A195),\"\",InfoPro!A195)","v":"SC_2125_A1"},{"$f":"IF(ISBLANK(InfoPro!B195),\"\",InfoPro!B195)","v":"Expansión Valledupar 100 MW"},{"$f":"IF(ISBLANK(InfoPro!E195),\"\",InfoPro!E195)","v":100},{"$f":"IF(ISBLANK(InfoPro!F195),\"\",InfoPro!F195)","v":"Solar FV"},{"$f":"IF(ISBLANK(InfoPro!I195),\"\",YEAR(InfoPro!I195)-$H$3)","v":4},{"$f":"IF(B202=\"\",\"\",VLOOKUP(D202,Tablas!$B$2:$E$13,2,FALSE))","v":0.26},{"$f":"IF(B202=\"\",\"\",VLOOKUP(D202,Tablas!$B$2:$H$13,7,FALSE))","v":83577.200000000012},0.56483127404885003,227760,15814632919.622025,14145467727.747787,12652475606.214478,11317062259.583614,10122595938.804665,9054200303.0453167,8098569144.0476894,7243800665.5167198,6479249253.5927715,5795392892.3012276,5183714572.7202396,4636596218.8910923,4147223809.3838015,3709502512.8656549,3317980780.7385111,121718464605.07561,1217184.6460507561]
[{"$f":"IF(ISBLANK(InfoPro!A196),\"\",InfoPro!A196)","v":"SC_2125_A2"},{"$f":"IF(ISBLANK(InfoPro!B196),\"\",InfoPro!B196)","v":"Expansión Valledupar 100 MW"},{"$f":"IF(ISBLANK(InfoPro!E196),\"\",InfoPro!E196)","v":100},{"$f":"IF(ISBLANK(InfoPro!F196),\"\",InfoPro!F196)","v":"Solar FV"},{"$f":"IF(ISBLANK(InfoPro!I196),\"\",YEAR(InfoPro!I196)-$H$3)","v":4},{"$f":"IF(B203=\"\",\"\",VLOOKUP(D203,Tablas!$B$2:$E$13,2,FALSE))","v":0.26},{"$f":"IF(B203=\"\",\"\",VLOOKUP(D203,Tablas!$B$2:$H$13,7,FALSE))","v":83577.200000000012},0.56483127404885003,227760,15814632919.622025,14145467727.747787,12652475606.214478,11317062259.583614,10122595938.804665,9054200303.0453167,8098569144.0476894,7243800665.5167198,6479249253.5927715,5795392892.3012276,5183714572.7202396,4636596218.8910923,4147223809.3838015,3709502512.8656549,3317980780.7385111,121718464605.07561,1217184.6460507561]
[{"$f":"IF(ISBLANK(InfoPro!A197),\"\",InfoPro!A197)","v":"SC_2129_A2"},{"$f":"IF(ISBLANK(InfoPro!B197),\"\",InfoPro!B197)","v":"DSE LA JAGUA DE IBIRICO"},{"$f":"IF(ISBLANK(InfoPro!E197),\"\",InfoPro!E197)","v":9.9},{"$f":"IF(ISBLANK(InfoPro!F197),\"\",InfoPro!F197)","v":"Solar FV"},{"$f":"IF(ISBLANK(InfoPro!I197),\"\",YEAR(InfoPro!I197)-$H$3)","v":2},{"$f":"IF(B204=\"\",\"\",VLOOKUP(D204,Tablas!$B$2:$E$13,2,FALSE))","v":0.26},{"$f":"IF(B204=\"\",\"\",VLOOKUP(D204,Tablas!$B$2:$H$13,7,FALSE))","v":83577.200000000012},0.56483127404885003,22548.240000000005,1956941834.5051382,1750395200.8096051,1565648659.0425806,1400401305.0470312,1252595085.0152338,1120389163.6987782,1002136997.9416621,896365830.00148666,801758345.26072145,717136265.88615537,641445676.10568452,573743896.33782172,513187742.69930387,459023025.67021811,410575157.12899655,15061744185.150415,1521388.3015303449]
[{"$f":"IF(ISBLANK(InfoPro!A198),\"\",InfoPro!A198)","v":"SC_2130_A1"},{"$f":"IF(ISBLANK(InfoPro!B198),\"\",InfoPro!B198)","v":"Parque Solar Boreal"},{"$f":"IF(ISBLANK(InfoPro!E198),\"\",InfoPro!E198)","v":100},{"$f":"IF(ISBLANK(InfoPro!F198),\"\",InfoPro!F198)","v":"Solar FV"},{"$f":"IF(ISBLANK(InfoPro!I198),\"\",YEAR(InfoPro!I198)-$H$3)","v":5},{"$f":"IF(B205=\"\",\"\",VLOOKUP(D205,Tablas!$B$2:$E$13,2,FALSE))","v":0.26},{"$f":"IF(B205=\"\",\"\",VLOOKUP(D205,Tablas!$B$2:$H$13,7,FALSE))","v":83577.200000000012},0.56483127404885003,227760,{"$f":"IF($I205=\"\",\"\",(1/(1+$C$3)^(J$6+$E205))*$I205*$C$2*$H205)","v":14145467727.747787},12652475606.214478,11317062259.583614,10122595938.804665,9054200303.0453167,8098569144.0476894,7243800665.5167198,6479249253.5927715,5795392892.3012276,5183714572.7202396,4636596218.8910923,4147223809.3838015,3709502512.8656549,3317980780.7385111,2967782451.4655743,108871614136.91917,1088716.1413691917]
[{"$f":"IF(ISBLANK(InfoPro!A199),\"\",InfoPro!A199)","v":"SC_2130_A2"},{"$f":"IF(ISBLANK(InfoPro!B199),\"\",InfoPro!B199)","v":"Parque Solar Boreal"},{"$f":"IF(ISBLANK(InfoPro!E199),\"\",InfoPro!E199)","v":100},{"$f":"IF(ISBLANK(InfoPro!F199),\"\",InfoPro!F199)","v":"Solar FV"},{"$f":"IF(ISBLANK(InfoPro!I199),\"\",YEAR(InfoPro!I199)-$H$3)","v":5},{"$f":"IF(B206=\"\",\"\",VLOOKUP(D206,Tablas!$B$2:$E$13,2,FALSE))","v":0.26},{"$f":"IF(B206=\"\",\"\",VLOOKUP(D206,Tablas!$B$2:$H$13,7,FALSE))","v":83577.200000000012},0.56483127404885003,227760,14145467727.747787,12652475606.214478,11317062259.583614,10122595938.804665,9054200303.0453167,8098569144.0476894,7243800665.5167198,6479249253.5927715,5795392892.3012276,5183714572.7202396,4636596218.8910923,4147223809.3838015,3709502512.8656549,3317980780.7385111,2967782451.4655743,108871614136.91917,1088716.1413691917]
[{"$f":"IF(ISBLANK(InfoPro!A200),\"\",InfoPro!A200)","v":"SC_2132_A1"},{"$f":"IF(ISBLANK(InfoPro!B200),\"\",InfoPro!B200)","v":"El Encanto 9,9 MW"},{"$f":"IF(ISBLANK(InfoPro!E200),\"\",InfoPro!E200)","v":9.9},{"$f":"IF(ISBLANK(InfoPro!F200),\"\",InfoPro!F200)","v":"Solar FV"},{"$f":"IF(ISBLANK(InfoPro!I200),\"\",YEAR(InfoPro!I200)-$H$3)","v":1},{"$f":"IF(B207=\"\",\"\",VLOOKUP(D207,Tablas!$B$2:$E$13,2,FALSE))","v":0.26},{"$f":"IF(B207=\"\",\"\",VLOOKUP(D207,Tablas!$B$2:$H$13,7,FALSE))","v":83577.200000000012},0.56483127404885003,22548.240000000005,2187860970.9767447,1956941834.5051382,1750395200.8096051,1565648659.0425806,1400401305.0470312,1252595085.0152338,1120389163.6987782,1002136997.9416621,896365830.00148666,801758345.26072145,717136265.88615537,641445676.10568452,573743896.33782172,513187742.69930387,459023025.67021811,16839029998.998165,1700912.1211109257]
[{"$f":"IF(ISBLANK(InfoPro!A201),\"\",InfoPro!A201)","v":"SC_2137_A1"},{"$f":"IF(ISBLANK(InfoPro!B201),\"\",InfoPro!B201)","v":"La Unión 9,9"},{"$f":"IF(ISBLANK(InfoPro!E201),\"\",InfoPro!E201)","v":9.9},{"$f":"IF(ISBLANK(InfoPro!F201),\"\",InfoPro!F201)","v":"Solar FV"},{"$f":"IF(ISBLANK(InfoPro!I201),\"\",YEAR(InfoPro!I201)-$H$3)","v":1},{"$f":"IF(B208=\"\",\"\",VLOOKUP(D208,Tablas!$B$2:$E$13,2,FALSE))","v":0.26},{"$f":"IF(B208=\"\",\"\",VLOOKUP(D208,Tablas!$B$2:$H$13,7,FALSE))","v":83577.200000000012},0.56483127404885003,22548.240000000005,2187860970.9767447,1956941834.5051382,1750395200.8096051,1565648659.0425806,1400401305.0470312,1252595085.0152338,1120389163.6987782,1002136997.9416621,896365830.00148666,801758345.26072145,717136265.88615537,641445676.10568452,573743896.33782172,513187742.69930387,459023025.67021811,16839029998.998165,1700912.1211109257]
[{"$f":"IF(ISBLANK(InfoPro!A202),\"\",InfoPro!A202)","v":"SC_2159_A1"},{"$f":"IF(ISBLANK(InfoPro!B202),\"\",InfoPro!B202)","v":"DSE IBIRICO"},{"$f":"IF(ISBLANK(InfoPro!E202),\"\",InfoPro!E202)","v":19.899999999999999},{"$f":"IF(ISBLANK(InfoPro!F202),\"\",InfoPro!F202)","v":"Solar FV"},{"$f":"IF(ISBLANK(InfoPro!I202),\"\",YEAR(InfoPro!I202)-$H$3)","v":2},{"$f":"IF(B209=\"\",\"\",VLOOKUP(D209,Tablas!$B$2:$E$13,2,FALSE))","v":0.26},{"$f":"IF(B209=\"\",\"\",VLOOKUP(D209,Tablas!$B$2:$H$13,7,FALSE))","v":83577.200000000012},0.56483127404885003,45324.24,3933650758.2477007,3518471161.2233472,3147111951.0047832,2814948077.8218098,2517842645.6366811,2252095389.6571393,2014396591.8221281,1801785860.3060179,1611615259.6654899,1441516332.4378271,1289370601.4649615,1153283185.5679443,1031559199.9713278,922682647.55932724,825297538.06737649,30275627200.453861,1521388.3015303449]
[{"$f":"IF(ISBLANK(InfoPro!A203),\"\",InfoPro!A203)","v":"SC_2159_A2"},{"$f":"IF(ISBLANK(InfoPro!B203),\"\",InfoPro!B203)","v":"DSE IBIRICO"},{"$f":"IF(ISBLANK(InfoPro!E203),\"\",InfoPro!E203)","v":19.899999999999999},{"$f":"IF(ISBLANK(InfoPro!F203),\"\",InfoPro!F203)","v":"Solar FV"},{"$f":"IF(ISBLANK(InfoPro!I203),\"\",YEAR(InfoPro!I203)-$H$3)","v":2},{"$f":"IF(B210=\"\",\"\",VLOOKUP(D210,Tablas!$B$2:$E$13,2,FALSE))","v":0.26},{"$f":"IF(B210=\"\",\"\",VLOOKUP(D210,Tablas!$B$2:$H$13,7,FALSE))","v":83577.200000000012},0.56483127404885003,45324.24,3933650758.2477007,3518471161.2233472,3147111951.0047832,2814948077.8218098,2517842645.6366811,2252095389.6571393,2014396591.8221281,1801785860.3060179,1611615259.6654899,1441516332.4378271,1289370601.4649615,1153283185.5679443,1031559199.9713278,922682647.55932724,825297538.06737649,30275627200.453861,1521388.3015303449]
[{"$f":"IF(ISBLANK(InfoPro!A204),\"\",InfoPro!A204)","v":"SC_2162_A1"},{"$f":"IF(ISBLANK(InfoPro!B204),\"\",InfoPro!B204)","v":"Parque Solar Codazzi 2"},{"$f":"IF(ISBLANK(InfoPro!E204),\"\",InfoPro!E204)","v":9.9},{"$f":"IF(ISBLANK(InfoPro!F204),\"\",InfoPro!F204)","v":"Solar FV"},{"$f":"IF(ISBLANK(InfoPro!I204),\"\",YEAR(InfoPro!I204)-$H$3)","v":3},{"$f":"IF(B211=\"\",\"\",VLOOKUP(D211,Tablas!$B$2:$E$13,2,FALSE))","v":0.26},{"$f":"IF(B211=\"\",\"\",VLOOKUP(D211,Tablas!$B$2:$H$13,7,FALSE))","v":83577.200000000012},0.56483127404885003,22548.240000000005,1750395200.8096051,1565648659.0425806,1400401305.0470312,1252595085.0152338,1120389163.6987782,1002136997.9416621,896365830.00148666,801758345.26072145,717136265.88615537,641445676.10568452,573743896.33782172,513187742.69930387,459023025.67021811,410575157.12899655,367240748.77369994,{"$f":"IF(X211=\"\",\"\",SUM(J211:X211))","v":13472043099.41898},1360812.4342847455]
[{"$f":"IF(ISBLANK(InfoPro!A205),\"\",InfoPro!A205)","v":"SC_2162_A2"},{"$f":"IF(ISBLANK(InfoPro!B205),\"\",InfoPro!B205)","v":"Parque Solar Codazzi 2"},{"$f":"IF(ISBLANK(InfoPro!E205),\"\",InfoPro!E205)","v":9.9},{"$f":"IF(ISBLANK(InfoPro!F205),\"\",InfoPro!F205)","v":"Solar FV"},{"$f":"IF(ISBLANK(InfoPro!I205),\"\",YEAR(InfoPro!I205)-$H$3)","v":3},{"$f":"IF(B212=\"\",\"\",VLOOKUP(D212,Tablas!$B$2:$E$13,2,FALSE))","v":0.26},{"$f":"IF(B212=\"\",\"\",VLOOKUP(D212,Tablas!$B$2:$H$13,7,FALSE))","v":83577.200000000012},0.56483127404885003,22548.240000000005,1750395200.8096051,1565648659.0425806,1400401305.0470312,1252595085.0152338,1120389163.6987782,1002136997.9416621,896365830.00148666,801758345.26072145,717136265.88615537,641445676.10568452,573743896.33782172,513187742.69930387,459023025.67021811,410575157.12899655,367240748.77369994,13472043099.41898,1360812.4342847455]
[{"$f":"IF(ISBLANK(InfoPro!A206),\"\",InfoPro!A206)","v":"SC_2200_A1"},{"$f":"IF(ISBLANK(InfoPro!B206),\"\",InfoPro!B206)","v":"Parque Eólico Wakuaipa"},{"$f":"IF(ISBLANK(InfoPro!E206),\"\",InfoPro!E206)","v":200},{"$f":"IF(ISBLANK(InfoPro!F206),\"\",InfoPro!F206)","v":"Eólico Onshore"},{"$f":"IF(ISBLANK(InfoPro!I206),\"\",YEAR(InfoPro!I206)-$H$3)","v":3},{"$f":"IF(B213=\"\",\"\",VLOOKUP(D213,Tablas!$B$2:$E$13,2,FALSE))","v":0.56999999999999995},{"$f":"IF(B213=\"\",\"\",VLOOKUP(D213,Tablas!$B$2:$H$13,7,FALSE))","v":83577.200000000012},0.56483127404885003,998639.99999999988,77523330571.987152,69341082801.419647,62022435421.663368,55476239196.478859,49620965292.020462,44383689885.528145,39699185944.121773,35509110862.362938,31761279841.111763,28409015958.060612,25410568835.474609,22728594665.004128,20329691113.5994,18183981318.067436,16264741787.180178,596663913494.08032,2983319.5674704015]
[{"$f":"IF(ISBLANK(InfoPro!A207),\"\",InfoPro!A207)","v":"SC_2200_A2"},{"$f":"IF(ISBLANK(InfoPro!B207),\"\",InfoPro!B207)","v":"Parque Eólico Wakuaipa"},{"$f":"IF(ISBLANK(InfoPro!E207),\"\",InfoPro!E207)","v":200},{"$f":"IF(ISBLANK(InfoPro!F207),\"\",InfoPro!F207)","v":"Eólico Onshore"},{"$f":"IF(ISBLANK(InfoPro!I207),\"\",YEAR(InfoPro!I207)-$H$3)","v":3},{"$f":"IF(B214=\"\",\"\",VLOOKUP(D214,Tablas!$B$2:$E$13,2,FALSE))","v":0.56999999999999995},{"$f":"IF(B214=\"\",\"\",VLOOKUP(D214,Tablas!$B$2:$H$13,7,FALSE))","v":83577.200000000012},0.56483127404885003,998639.99999999988,77523330571.987152,69341082801.419647,62022435421.663368,55476239196.478859,49620965292.020462,44383689885.528145,39699185944.121773,35509110862.362938,31761279841.111763,28409015958.060612,25410568835.474609,22728594665.004128,20329691113.5994,18183981318.067436,16264741787.180178,596663913494.08032,2983319.5674704015]
[{"$f":"IF(ISBLANK(InfoPro!A208),\"\",InfoPro!A208)","v":"SC_2206_A1"},{"$f":"IF(ISBLANK(InfoPro!B208),\"\",InfoPro!B208)","v":"Parque Fotovoltaico Lyra"},{"$f":"IF(ISBLANK(InfoPro!E208),\"\",InfoPro!E208)","v":19.899999999999999},{"$f":"IF(ISBLANK(InfoPro!F208),\"\",InfoPro!F208)","v":"Solar FV"},{"$f":"IF(ISBLANK(InfoPro!I208),\"\",YEAR(InfoPro!I208)-$H$3)","v":2},{"$f":"IF(B215=\"\",\"\",VLOOKUP(D215,Tablas!$B$2:$E$13,2,FALSE))","v":0.26},{"$f":"IF(B215=\"\",\"\",VLOOKUP(D215,Tablas!$B$2:$H$13,7,FALSE))","v":83577.200000000012},0.56483127404885003,45324.24,3933650758.2477007,3518471161.2233472,3147111951.0047832,2814948077.8218098,2517842645.6366811,2252095389.6571393,2014396591.8221281,1801785860.3060179,1611615259.6654899,1441516332.4378271,1289370601.4649615,1153283185.5679443,1031559199.9713278,922682647.55932724,825297538.06737649,30275627200.453861,1521388.3015303449]
[{"$f":"IF(ISBLANK(InfoPro!A209),\"\",InfoPro!A209)","v":"SC_2206_A2"},{"$f":"IF(ISBLANK(InfoPro!B209),\"\",InfoPro!B209)","v":"Parque Fotovoltaico Lyra"},{"$f":"IF(ISBLANK(InfoPro!E209),\"\",InfoPro!E209)","v":19.899999999999999},{"$f":"IF(ISBLANK(InfoPro!F209),\"\",InfoPro!F209)","v":"Solar FV"},{"$f":"IF(ISBLANK(InfoPro!I209),\"\",YEAR(InfoPro!I209)-$H$3)","v":2},{"$f":"IF(B216=\"\",\"\",VLOOKUP(D216,Tablas!$B$2:$E$13,2,FALSE))","v":0.26},{"$f":"IF(B216=\"\",\"\",VLOOKUP(D216,Tablas!$B$2:$H$13,7,FALSE))","v":83577.200000000012},0.56483127404885003,45324.24,3933650758.2477007,3518471161.2233472,3147111951.0047832,2814948077.8218098,2517842645.6366811,2252095389.6571393,2014396591.8221281,1801785860.3060179,1611615259.6654899,1441516332.4378271,1289370601.4649615,1153283185.5679443,1031559199.9713278,922682647.55932724,825297538.06737649,30275627200.453861,1521388.3015303449]
[{"$f":"IF(ISBLANK(InfoPro!A210),\"\",InfoPro!A210)","v":"SC_2212_A1"},{"$f":"IF(ISBLANK(InfoPro!B210),\"\",InfoPro!B210)","v":"Aguaraní 200 MW"},{"$f":"IF(ISBLANK(InfoPro!E210),\"\",InfoPro!E210)","v":200},{"$f":"IF(ISBLANK(InfoPro!F210),\"\",InfoPro!F210)","v":"Solar FV"},{"$f":"IF(ISBLANK(InfoPro!I210),\"\",YEAR(InfoPro!I210)-$H$3)","v":4},{"$f":"IF(B217=\"\",\"\",VLOOKUP(D217,Tablas!$B$2:$E$13,2,FALSE))","v":0.26},{"$f":"IF(B217=\"\",\"\",VLOOKUP(D217,Tablas!$B$2:$H$13,7,FALSE))","v":83577.200000000012},0.56483127404885003,455520,31629265839.244049,28290935455.495575,25304951212.428955,22634124519.167229,20245191877.609329,18108400606.090633,16197138288.095379,14487601331.03344,12958498507.185543,11590785784.602455,10367429145.440479,9273192437.7821846,8294447618.7676029,7419005025.7313099,6635961561.4770222,243436929210.15121,1217184.6460507561]
[{"$f":"IF(ISBLANK(InfoPro!A211),\"\",InfoPro!A211)","v":"SC_2212_A2"},{"$f":"IF(ISBLANK(InfoPro!B211),\"\",InfoPro!B211)","v":"Aguaraní 200 MW"},{"$f":"IF(ISBLANK(InfoPro!E211),\"\",InfoPro!E211)","v":200},{"$f":"IF(ISBLANK(InfoPro!F211),\"\",InfoPro!F211)","v":"Solar FV"},{"$f":"IF(ISBLANK(InfoPro!I211),\"\",YEAR(InfoPro!I211)-$H$3)","v":4},{"$f":"IF(B218=\"\",\"\",VLOOKUP(D218,Tablas!$B$2:$E$13,2,FALSE))","v":0.26},{"$f":"IF(B218=\"\",\"\",VLOOKUP(D218,Tablas!$B$2:$H$13,7,FALSE))","v":83577.200000000012},0.56483127404885003,455520,31629265839.244049,28290935455.495575,25304951212.428955,22634124519.167229,20245191877.609329,18108400606.090633,16197138288.095379,14487601331.03344,12958498507.185543,11590785784.602455,10367429145.440479,9273192437.7821846,8294447618.7676029,7419005025.7313099,6635961561.4770222,243436929210.15121,1217184.6460507561]
[{"$f":"IF(ISBLANK(InfoPro!A212),\"\",InfoPro!A212)","v":"SC_2227_A1"},{"$f":"IF(ISBLANK(InfoPro!B212),\"\",InfoPro!B212)","v":"Generación Solar Fotovoltaica Sabana Solar - 9.9 MW"},{"$f":"IF(ISBLANK(InfoPro!E212),\"\",InfoPro!E212)","v":9.9},{"$f":"IF(ISBLANK(InfoPro!F212),\"\",InfoPro!F212)","v":"Solar FV"},{"$f":"IF(ISBLANK(InfoPro!I212),\"\",YEAR(InfoPro!I212)-$H$3)","v":1},{"$f":"IF(B219=\"\",\"\",VLOOKUP(D219,Tablas!$B$2:$E$13,2,FALSE))","v":0.26},{"$f":"IF(B219=\"\",\"\",VLOOKUP(D219,Tablas!$B$2:$H$13,7,FALSE))","v":83577.200000000012},0.56483127404885003,22548.240000000005,2187860970.9767447,1956941834.5051382,1750395200.8096051,1565648659.0425806,1400401305.0470312,1252595085.0152338,1120389163.6987782,1002136997.9416621,896365830.00148666,801758345.26072145,717136265.88615537,641445676.10568452,573743896.33782172,513187742.69930387,459023025.67021811,16839029998.998165,1700912.1211109257]
[{"$f":"IF(ISBLANK(InfoPro!A213),\"\",InfoPro!A213)","v":"SC_2227_A2"},{"$f":"IF(ISBLANK(InfoPro!B213),\"\",InfoPro!B213)","v":"Generación Solar Fotovoltaica Sabana Solar - 9.9 MW"},{"$f":"IF(ISBLANK(InfoPro!E213),\"\",InfoPro!E213)","v":9.9},{"$f":"IF(ISBLANK(InfoPro!F213),\"\",InfoPro!F213)","v":"Solar FV"},{"$f":"IF(ISBLANK(InfoPro!I213),\"\",YEAR(InfoPro!I213)-$H$3)","v":1},{"$f":"IF(B220=\"\",\"\",VLOOKUP(D220,Tablas!$B$2:$E$13,2,FALSE))","v":0.26},{"$f":"IF(B220=\"\",\"\",VLOOKUP(D220,Tablas!$B$2:$H$13,7,FALSE))","v":83577.200000000012},0.56483127404885003,22548.240000000005,2187860970.9767447,1956941834.5051382,1750395200.8096051,1565648659.0425806,1400401305.0470312,1252595085.0152338,1120389163.6987782,1002136997.9416621,896365830.00148666,801758345.26072145,717136265.88615537,641445676.10568452,573743896.33782172,513187742.69930387,459023025.67021811,16839029998.998165,1700912.1211109257]
[{"$f":"IF(ISBLANK(InfoPro!A214),\"\",InfoPro!A214)","v":"SC_2242_A1"},{"$f":"IF(ISBLANK(InfoPro!B214),\"\",InfoPro!B214)","v":"Parque Eólico San Juan 100 MW"},{"$f":"IF(ISBLANK(InfoPro!E214),\"\",InfoPro!E214)","v":100},{"$f":"IF(ISBLANK(InfoPro!F214),\"\",InfoPro!F214)","v":"Solar FV"},{"$f":"IF(ISBLANK(InfoPro!I214),\"\",YEAR(InfoPro!I214)-$H$3)","v":3},{"$f":"IF(B221=\"\",\"\",VLOOKUP(D221,Tablas!$B$2:$E$13,2,FALSE))","v":0.26},{"$f":"IF(B221=\"\",\"\",VLOOKUP(D221,Tablas!$B$2:$H$13,7,FALSE))","v":83577.200000000012},0.56483127404885003,227760,17680759604.137424,15814632919.622025,14145467727.747787,12652475606.214478,11317062259.583614,10122595938.804665,9054200303.0453167,8098569144.0476894,7243800665.5167198,6479249253.5927715,5795392892.3012276,5183714572.7202396,4636596218.8910923,4147223809.3838015,3709502512.8656549,136081243428.47452,1360812.4342847452]
[{"$f":"IF(ISBLANK(InfoPro!A215),\"\",InfoPro!A215)","v":"SC_2242_A2"},{"$f":"IF(ISBLANK(InfoPro!B215),\"\",InfoPro!B215)","v":"Parque Eólico San Juan 100 MW"},{"$f":"IF(ISBLANK(InfoPro!E215),\"\",InfoPro!E215)","v":100},{"$f":"IF(ISBLANK(InfoPro!F215),\"\",InfoPro!F215)","v":"Solar FV"},{"$f":"IF(ISBLANK(InfoPro!I215),\"\",YEAR(InfoPro!I215)-$H$3)","v":3},{"$f":"IF(B222=\"\",\"\",VLOOKUP(D222,Tablas!$B$2:$E$13,2,FALSE))","v":0.26},{"$f":"IF(B222=\"\",\"\",VLOOKUP(D222,Tablas!$B$2:$H$13,7,FALSE))","v":83577.200000000012},0.56483127404885003,227760,{"$f":"IF($I222=\"\",\"\",(1/(1+$C$3)^(J$6+$E222))*$I222*$C$2*$H222)","v":17680759604.137424},15814632919.622025,14145467727.747787,12652475606.214478,11317062259.583614,10122595938.804665,9054200303.0453167,8098569144.0476894,7243800665.5167198,6479249253.5927715,5795392892.3012276,5183714572.7202396,4636596218.8910923,4147223809.3838015,3709502512.8656549,136081243428.47452,1360812.4342847452]
[{"$f":"IF(ISBLANK(InfoPro!A216),\"\",InfoPro!A216)","v":"SC_2260_A1"},{"$f":"IF(ISBLANK(InfoPro!B216),\"\",InfoPro!B216)","v":"Parque Solar Fotovoltaico Tayrona I"},{"$f":"IF(ISBLANK(InfoPro!E216),\"\",InfoPro!E216)","v":50},{"$f":"IF(ISBLANK(InfoPro!F216),\"\",InfoPro!F216)","v":"Solar FV"},{"$f":"IF(ISBLANK(InfoPro!I216),\"\",YEAR(InfoPro!I216)-$H$3)","v":5},{"$f":"IF(B223=\"\",\"\",VLOOKUP(D223,Tablas!$B$2:$E$13,2,FALSE))","v":0.26},{"$f":"IF(B223=\"\",\"\",VLOOKUP(D223,Tablas!$B$2:$H$13,7,FALSE))","v":83577.200000000012},0.56483127404885003,113880,7072733863.8738937,6326237803.1072388,5658531129.7918072,5061297969.4023323,4527100151.5226583,4049284572.0238447,3621900332.7583599,3239624626.7963858,2897696446.1506138,2591857286.3601198,2318298109.4455462,2073611904.6919007,1854751256.4328275,1658990390.3692555,1483891225.7327871,54435807068.459587,1088716.1413691917]
[{"$f":"IF(ISBLANK(InfoPro!A217),\"\",InfoPro!A217)","v":"SC_2261_A1"},{"$f":"IF(ISBLANK(InfoPro!B217),\"\",InfoPro!B217)","v":"Parque Solar Fotovoltaico Tayrona II"},{"$f":"IF(ISBLANK(InfoPro!E217),\"\",InfoPro!E217)","v":50},{"$f":"IF(ISBLANK(InfoPro!F217),\"\",InfoPro!F217)","v":"Solar FV"},{"$f":"IF(ISBLANK(InfoPro!I217),\"\",YEAR(InfoPro!I217)-$H$3)","v":5},{"$f":"IF(B224=\"\",\"\",VLOOKUP(D224,Tablas!$B$2:$E$13,2,FALSE))","v":0.26},{"$f":"IF(B224=\"\",\"\",VLOOKUP(D224,Tablas!$B$2:$H$13,7,FALSE))","v":83577.200000000012},0.56483127404885003,113880,7072733863.8738937,6326237803.1072388,5658531129.7918072,5061297969.4023323,4527100151.5226583,4049284572.0238447,3621900332.7583599,3239624626.7963858,2897696446.1506138,2591857286.3601198,2318298109.4455462,2073611904.6919007,1854751256.4328275,1658990390.3692555,1483891225.7327871,54435807068.459587,1088716.1413691917]
[{"$f":"IF(ISBLANK(InfoPro!A218),\"\",InfoPro!A218)","v":"SC_2271_A1"},{"$f":"IF(ISBLANK(InfoPro!B218),\"\",InfoPro!B218)","v":"San Angel 19,9 MW"},{"$f":"IF(ISBLANK(InfoPro!E218),\"\",InfoPro!E218)","v":19.899999999999999},{"$f":"IF(ISBLANK(InfoPro!F218),\"\",InfoPro!F218)","v":"Solar FV"},{"$f":"IF(ISBLANK(InfoPro!I218),\"\",YEAR(InfoPro!I218)-$H$3)","v":1},{"$f":"IF(B225=\"\",\"\",VLOOKUP(D225,Tablas!$B$2:$E$13,2,FALSE))","v":0.26},{"$f":"IF(B225=\"\",\"\",VLOOKUP(D225,Tablas!$B$2:$H$13,7,FALSE))","v":83577.200000000012},0.56483127404885003,45324.24,4397821547.7209291,3933650758.2477007,3518471161.2233472,3147111951.0047832,2814948077.8218098,2517842645.6366811,2252095389.6571393,2014396591.8221281,1801785860.3060179,1611615259.6654899,1441516332.4378271,1289370601.4649615,1153283185.5679443,1031559199.9713278,922682647.55932724,33848151210.107414,1700912.1211109255]
[{"$f":"IF(ISBLANK(InfoPro!A219),\"\",InfoPro!A219)","v":"SC_2271_A2"},{"$f":"IF(ISBLANK(InfoPro!B219),\"\",InfoPro!B219)","v":"San Angel 19,9 MW"},{"$f":"IF(ISBLANK(InfoPro!E219),\"\",InfoPro!E219)","v":19.899999999999999},{"$f":"IF(ISBLANK(InfoPro!F219),\"\",InfoPro!F219)","v":"Solar FV"},{"$f":"IF(ISBLANK(InfoPro!I219),\"\",YEAR(InfoPro!I219)-$H$3)","v":1},{"$f":"IF(B226=\"\",\"\",VLOOKUP(D226,Tablas!$B$2:$E$13,2,FALSE))","v":0.26},{"$f":"IF(B226=\"\",\"\",VLOOKUP(D226,Tablas!$B$2:$H$13,7,FALSE))","v":83577.200000000012},0.56483127404885003,45324.24,4397821547.7209291,3933650758.2477007,3518471161.2233472,3147111951.0047832,2814948077.8218098,2517842645.6366811,2252095389.6571393,2014396591.8221281,1801785860.3060179,1611615259.6654899,1441516332.4378271,1289370601.4649615,1153283185.5679443,1031559199.9713278,922682647.55932724,33848151210.107414,1700912.1211109255]
[{"$f":"IF(ISBLANK(InfoPro!A220),\"\",InfoPro!A220)","v":"SC_2275_A1"},{"$f":"IF(ISBLANK(InfoPro!B220),\"\",InfoPro!B220)","v":"TERMOCOSTA"},{"$f":"IF(ISBLANK(InfoPro!E220),\"\",InfoPro!E220)","v":93},{"$f":"IF(ISBLANK(InfoPro!F220),\"\",InfoPro!F220)","v":"Termica - Ciclo abierto"},{"$f":"IF(ISBLANK(InfoPro!I220),\"\",YEAR(InfoPro!I220)-$H$3)","v":2},{"$f":"IF(B227=\"\",\"\",VLOOKUP(D227,Tablas!$B$2:$E$13,2,FALSE))","v":0.85},{"$f":"IF(B227=\"\",\"\",VLOOKUP(D227,Tablas!$B$2:$H$13,7,FALSE))","v":267152.5},-0.39100631583332029,692477.99999999988,-41604114849.382843,-37212982870.646553,-33285315626.696381,-29772196446.061165,-26629871597.55024,-23819205364.535099,-21305192633.752327,-19056522928.222118,-17045190454.581499,-15246145308.212439,-13636981492.139927,-12197657864.168093,-10910248536.822981,-9758719621.487463,-8728729536.2141857,-320209075130.47333,-3443108.3347362722]
[{"$f":"IF(ISBLANK(InfoPro!A221),\"\",InfoPro!A221)","v":"SC_2275_A2"},{"$f":"IF(ISBLANK(InfoPro!B221),\"\",InfoPro!B221)","v":"TERMOCOSTA"},{"$f":"IF(ISBLANK(InfoPro!E221),\"\",InfoPro!E221)","v":93},{"$f":"IF(ISBLANK(InfoPro!F221),\"\",InfoPro!F221)","v":"Termica - Ciclo abierto"},{"$f":"IF(ISBLANK(InfoPro!I221),\"\",YEAR(InfoPro!I221)-$H$3)","v":2},{"$f":"IF(B228=\"\",\"\",VLOOKUP(D228,Tablas!$B$2:$E$13,2,FALSE))","v":0.85},{"$f":"IF(B228=\"\",\"\",VLOOKUP(D228,Tablas!$B$2:$H$13,7,FALSE))","v":267152.5},-0.39100631583332029,692477.99999999988,-41604114849.382843,-37212982870.646553,-33285315626.696381,-29772196446.061165,-26629871597.55024,-23819205364.535099,-21305192633.752327,-19056522928.222118,-17045190454.581499,-15246145308.212439,-13636981492.139927,-12197657864.168093,-10910248536.822981,-9758719621.487463,-8728729536.2141857,-320209075130.47333,-3443108.3347362722]
[{"$f":"IF(ISBLANK(InfoPro!A222),\"\",InfoPro!A222)","v":"SC_2292_A1"},{"$f":"IF(ISBLANK(InfoPro!B222),\"\",InfoPro!B222)","v":"PARQUE SOLAR LAS PALMERAS"},{"$f":"IF(ISBLANK(InfoPro!E222),\"\",InfoPro!E222)","v":200},{"$f":"IF(ISBLANK(InfoPro!F222),\"\",InfoPro!F222)","v":"Solar FV"},{"$f":"IF(ISBLANK(InfoPro!I222),\"\",YEAR(InfoPro!I222)-$H$3)","v":2},{"$f":"IF(B229=\"\",\"\",VLOOKUP(D229,Tablas!$B$2:$E$13,2,FALSE))","v":0.26},{"$f":"IF(B229=\"\",\"\",VLOOKUP(D229,Tablas!$B$2:$H$13,7,FALSE))","v":83577.200000000012},0.56483127404885003,455520,39534178474.851273,35361519208.274849,31629265839.244049,28290935455.495575,25304951212.428955,22634124519.167229,20245191877.609329,18108400606.090633,16197138288.095379,14487601331.03344,12958498507.185543,11590785784.602455,10367429145.440479,9273192437.7821846,8294447618.7676029,304277660306.06897,1521388.3015303449]
[{"$f":"IF(ISBLANK(InfoPro!A223),\"\",InfoPro!A223)","v":"SC_2292_A2"},{"$f":"IF(ISBLANK(InfoPro!B223),\"\",InfoPro!B223)","v":"PARQUE SOLAR LAS PALMERAS"},{"$f":"IF(ISBLANK(InfoPro!E223),\"\",InfoPro!E223)","v":200},{"$f":"IF(ISBLANK(InfoPro!F223),\"\",InfoPro!F223)","v":"Solar FV"},{"$f":"IF(ISBLANK(InfoPro!I223),\"\",YEAR(InfoPro!I223)-$H$3)","v":2},{"$f":"IF(B230=\"\",\"\",VLOOKUP(D230,Tablas!$B$2:$E$13,2,FALSE))","v":0.26},{"$f":"IF(B230=\"\",\"\",VLOOKUP(D230,Tablas!$B$2:$H$13,7,FALSE))","v":83577.200000000012},0.56483127404885003,455520,39534178474.851273,35361519208.274849,31629265839.244049,28290935455.495575,25304951212.428955,22634124519.167229,20245191877.609329,18108400606.090633,16197138288.095379,14487601331.03344,12958498507.185543,11590785784.602455,10367429145.440479,9273192437.7821846,8294447618.7676029,304277660306.06897,1521388.3015303449]
[{"$f":"IF(ISBLANK(InfoPro!A224),\"\",InfoPro!A224)","v":"SC_2295_A1"},{"$f":"IF(ISBLANK(InfoPro!B224),\"\",InfoPro!B224)","v":"Parque Solar San Jose 200 MW"},{"$f":"IF(ISBLANK(InfoPro!E224),\"\",InfoPro!E224)","v":200},{"$f":"IF(ISBLANK(InfoPro!F224),\"\",InfoPro!F224)","v":"Solar FV"},{"$f":"IF(ISBLANK(InfoPro!I224),\"\",YEAR(InfoPro!I224)-$H$3)","v":2},{"$f":"IF(B231=\"\",\"\",VLOOKUP(D231,Tablas!$B$2:$E$13,2,FALSE))","v":0.26},{"$f":"IF(B231=\"\",\"\",VLOOKUP(D231,Tablas!$B$2:$H$13,7,FALSE))","v":83577.200000000012},0.56483127404885003,455520,39534178474.851273,35361519208.274849,31629265839.244049,28290935455.495575,25304951212.428955,22634124519.167229,20245191877.609329,18108400606.090633,16197138288.095379,14487601331.03344,12958498507.185543,11590785784.602455,10367429145.440479,9273192437.7821846,8294447618.7676029,304277660306.06897,1521388.3015303449]
[{"$f":"IF(ISBLANK(InfoPro!A225),\"\",InfoPro!A225)","v":"SC_230_A1"},{"$f":"IF(ISBLANK(InfoPro!B225),\"\",InfoPro!B225)","v":"Proyecto Solar San Martin 300MW"},{"$f":"IF(ISBLANK(InfoPro!E225),\"\",InfoPro!E225)","v":300},{"$f":"IF(ISBLANK(InfoPro!F225),\"\",InfoPro!F225)","v":"Solar FV"},{"$f":"IF(ISBLANK(InfoPro!I225),\"\",YEAR(InfoPro!I225)-$H$3)","v":2},{"$f":"IF(B232=\"\",\"\",VLOOKUP(D232,Tablas!$B$2:$E$13,2,FALSE))","v":0.26},{"$f":"IF(B232=\"\",\"\",VLOOKUP(D232,Tablas!$B$2:$H$13,7,FALSE))","v":83577.200000000012},0.56483127404885003,683280,59301267712.276917,53042278812.41227,47443898758.866074,42436403183.243362,37957426818.64344,33951186778.750843,30367787816.413994,27162600909.135956,24295707432.14307,21731401996.550156,19437747760.778316,17386178676.903683,15551143718.160719,13909788656.673277,12441671428.151405,456416490459.10345,1521388.3015303449]
[{"$f":"IF(ISBLANK(InfoPro!A226),\"\",InfoPro!A226)","v":"SC_2341_A1"},{"$f":"IF(ISBLANK(InfoPro!B226),\"\",InfoPro!B226)","v":"Parque Eólico Neguanje"},{"$f":"IF(ISBLANK(InfoPro!E226),\"\",InfoPro!E226)","v":19.899999999999999},{"$f":"IF(ISBLANK(InfoPro!F226),\"\",InfoPro!F226)","v":"Eólico Onshore"},{"$f":"IF(ISBLANK(InfoPro!I226),\"\",YEAR(InfoPro!I226)-$H$3)","v":4},{"$f":"IF(B233=\"\",\"\",VLOOKUP(D233,Tablas!$B$2:$E$13,2,FALSE))","v":0.56999999999999995},{"$f":"IF(B233=\"\",\"\",VLOOKUP(D233,Tablas!$B$2:$H$13,7,FALSE))","v":83577.200000000012},0.56483127404885003,99364.68,6899437738.7412548,6171232324.4555054,5519885800.0496473,4937286046.556035,4416177143.6100492,3950069001.4401169,3533156530.8051128,3160247344.1906209,2826697087.8270311,2528351599.129724,2261495169.1679111,2022804265.8031404,1809306141.1477101,1618341807.8244278,1447532922.9198818,53102020923.668167,2668443.2624958879]
[{"$f":"IF(ISBLANK(InfoPro!A227),\"\",InfoPro!A227)","v":"SC_2341_A2"},{"$f":"IF(ISBLANK(InfoPro!B227),\"\",InfoPro!B227)","v":"Parque Eólico Neguanje"},{"$f":"IF(ISBLANK(InfoPro!E227),\"\",InfoPro!E227)","v":19.899999999999999},{"$f":"IF(ISBLANK(InfoPro!F227),\"\",InfoPro!F227)","v":"Eólico Onshore"},{"$f":"IF(ISBLANK(InfoPro!I227),\"\",YEAR(InfoPro!I227)-$H$3)","v":4},{"$f":"IF(B234=\"\",\"\",VLOOKUP(D234,Tablas!$B$2:$E$13,2,FALSE))","v":0.56999999999999995},{"$f":"IF(B234=\"\",\"\",VLOOKUP(D234,Tablas!$B$2:$H$13,7,FALSE))","v":83577.200000000012},0.56483127404885003,99364.68,6899437738.7412548,6171232324.4555054,5519885800.0496473,4937286046.556035,4416177143.6100492,3950069001.4401169,3533156530.8051128,3160247344.1906209,2826697087.8270311,2528351599.129724,2261495169.1679111,2022804265.8031404,1809306141.1477101,1618341807.8244278,1447532922.9198818,53102020923.668167,2668443.2624958879]
[{"$f":"IF(ISBLANK(InfoPro!A228),\"\",InfoPro!A228)","v":"SC_393_A1"},{"$f":"IF(ISBLANK(InfoPro!B228),\"\",InfoPro!B228)","v":"Copey del verano 99.9 MW"},{"$f":"IF(ISBLANK(InfoPro!E228),\"\",InfoPro!E228)","v":99.9},{"$f":"IF(ISBLANK(InfoPro!F228),\"\",InfoPro!F228)","v":"Solar FV"},{"$f":"IF(ISBLANK(InfoPro!I228),\"\",YEAR(InfoPro!I228)-$H$3)","v":2},{"$f":"IF(B235=\"\",\"\",VLOOKUP(D235,Tablas!$B$2:$E$13,2,FALSE))","v":0.26},{"$f":"IF(B235=\"\",\"\",VLOOKUP(D235,Tablas!$B$2:$H$13,7,FALSE))","v":83577.200000000012},0.56483127404885003,227532.24000000002,19747322148.18821,17663078844.533287,15798818286.702406,14131322260.020041,12639823130.608265,11305745197.32403,10112473342.86586,9045146102.7422733,8090470574.9036436,7236556864.851202,6472770004.33918,5789597499.408927,5178530858.147521,4631959622.6722012,4143076585.574419,151986691322.8815,1521388.3015303453]
[{"$f":"IF(ISBLANK(InfoPro!A229),\"\",InfoPro!A229)","v":"SC_393_A2"},{"$f":"IF(ISBLANK(InfoPro!B229),\"\",InfoPro!B229)","v":"Copey del verano 99.9 MW"},{"$f":"IF(ISBLANK(InfoPro!E229),\"\",InfoPro!E229)","v":99.9},{"$f":"IF(ISBLANK(InfoPro!F229),\"\",InfoPro!F229)","v":"Solar FV"},{"$f":"IF(ISBLANK(InfoPro!I229),\"\",YEAR(InfoPro!I229)-$H$3)","v":2},{"$f":"IF(B236=\"\",\"\",VLOOKUP(D236,Tablas!$B$2:$E$13,2,FALSE))","v":0.26},{"$f":"IF(B236=\"\",\"\",VLOOKUP(D236,Tablas!$B$2:$H$13,7,FALSE))","v":83577.200000000012},0.56483127404885003,227532.24000000002,19747322148.18821,17663078844.533287,15798818286.702406,14131322260.020041,12639823130.608265,11305745197.32403,10112473342.86586,9045146102.7422733,8090470574.9036436,7236556864.851202,6472770004.33918,5789597499.408927,5178530858.147521,4631959622.6722012,4143076585.574419,151986691322.8815,1521388.3015303453]
[{"$f":"IF(ISBLANK(InfoPro!A230),\"\",InfoPro!A230)","v":"SC_394_A1"},{"$f":"IF(ISBLANK(InfoPro!B230),\"\",InfoPro!B230)","v":"Riohacha de 20 del Verano"},{"$f":"IF(ISBLANK(InfoPro!E230),\"\",InfoPro!E230)","v":19.899999999999999},{"$f":"IF(ISBLANK(InfoPro!F230),\"\",InfoPro!F230)","v":"Solar FV"},{"$f":"IF(ISBLANK(InfoPro!I230),\"\",YEAR(InfoPro!I230)-$H$3)","v":2},{"$f":"IF(B237=\"\",\"\",VLOOKUP(D237,Tablas!$B$2:$E$13,2,FALSE))","v":0.26},{"$f":"IF(B237=\"\",\"\",VLOOKUP(D237,Tablas!$B$2:$H$13,7,FALSE))","v":83577.200000000012},0.56483127404885003,45324.24,3933650758.2477007,3518471161.2233472,3147111951.0047832,2814948077.8218098,2517842645.6366811,2252095389.6571393,2014396591.8221281,1801785860.3060179,1611615259.6654899,1441516332.4378271,1289370601.4649615,1153283185.5679443,1031559199.9713278,922682647.55932724,825297538.06737649,30275627200.453861,1521388.3015303449]
[{"$f":"IF(ISBLANK(InfoPro!A231),\"\",InfoPro!A231)","v":"SC_394_A2"},{"$f":"IF(ISBLANK(InfoPro!B231),\"\",InfoPro!B231)","v":"Riohacha de 20 del Verano"},{"$f":"IF(ISBLANK(InfoPro!E231),\"\",InfoPro!E231)","v":19.899999999999999},{"$f":"IF(ISBLANK(InfoPro!F231),\"\",InfoPro!F231)","v":"Solar FV"},{"$f":"IF(ISBLANK(InfoPro!I231),\"\",YEAR(InfoPro!I231)-$H$3)","v":2},{"$f":"IF(B238=\"\",\"\",VLOOKUP(D238,Tablas!$B$2:$E$13,2,FALSE))","v":0.26},{"$f":"IF(B238=\"\",\"\",VLOOKUP(D238,Tablas!$B$2:$H$13,7,FALSE))","v":83577.200000000012},0.56483127404885003,45324.24,3933650758.2477007,3518471161.2233472,3147111951.0047832,2814948077.8218098,2517842645.6366811,2252095389.6571393,2014396591.8221281,1801785860.3060179,1611615259.6654899,1441516332.4378271,1289370601.4649615,1153283185.5679443,1031559199.9713278,922682647.55932724,825297538.06737649,30275627200.453861,1521388.3015303449]
[{"$f":"IF(ISBLANK(InfoPro!A232),\"\",InfoPro!A232)","v":"SC_407_A1"},{"$f":"IF(ISBLANK(InfoPro!B232),\"\",InfoPro!B232)","v":"Portugal I 19.9 MW"},{"$f":"IF(ISBLANK(InfoPro!E232),\"\",InfoPro!E232)","v":19.899999999999999},{"$f":"IF(ISBLANK(InfoPro!F232),\"\",InfoPro!F232)","v":"Solar FV"},{"$f":"IF(ISBLANK(InfoPro!I232),\"\",YEAR(InfoPro!I232)-$H$3)","v":2},{"$f":"IF(B239=\"\",\"\",VLOOKUP(D239,Tablas!$B$2:$E$13,2,FALSE))","v":0.26},{"$f":"IF(B239=\"\",\"\",VLOOKUP(D239,Tablas!$B$2:$H$13,7,FALSE))","v":83577.200000000012},0.56483127404885003,45324.24,{"$f":"IF($I239=\"\",\"\",(1/(1+$C$3)^(J$6+$E239))*$I239*$C$2*$H239)","v":3933650758.2477007},3518471161.2233472,3147111951.0047832,2814948077.8218098,2517842645.6366811,2252095389.6571393,2014396591.8221281,1801785860.3060179,1611615259.6654899,1441516332.4378271,1289370601.4649615,1153283185.5679443,1031559199.9713278,922682647.55932724,825297538.06737649,30275627200.453861,1521388.3015303449]
[{"$f":"IF(ISBLANK(InfoPro!A233),\"\",InfoPro!A233)","v":"SC_42_A1"},{"$f":"IF(ISBLANK(InfoPro!B233),\"\",InfoPro!B233)","v":"Santa Marta 1 - 50 MW"},{"$f":"IF(ISBLANK(InfoPro!E233),\"\",InfoPro!E233)","v":50},{"$f":"IF(ISBLANK(InfoPro!F233),\"\",InfoPro!F233)","v":"Solar FV"},{"$f":"IF(ISBLANK(InfoPro!I233),\"\",YEAR(InfoPro!I233)-$H$3)","v":2},{"$f":"IF(B240=\"\",\"\",VLOOKUP(D240,Tablas!$B$2:$E$13,2,FALSE))","v":0.26},{"$f":"IF(B240=\"\",\"\",VLOOKUP(D240,Tablas!$B$2:$H$13,7,FALSE))","v":83577.200000000012},0.56483127404885003,113880,9883544618.7128181,8840379802.0687122,7907316459.8110123,7072733863.8738937,6326237803.1072388,5658531129.7918072,5061297969.4023323,4527100151.5226583,4049284572.0238447,3621900332.7583599,3239624626.7963858,2897696446.1506138,2591857286.3601198,2318298109.4455462,2073611904.6919007,{"$f":"IF(X240=\"\",\"\",SUM(J240:X240))","v":76069415076.517242},1521388.3015303449]
[{"$f":"IF(ISBLANK(InfoPro!A234),\"\",InfoPro!A234)","v":"SC_482_A1"},{"$f":"IF(ISBLANK(InfoPro!B234),\"\",InfoPro!B234)","v":"La Santa Maria - 99.9MW"},{"$f":"IF(ISBLANK(InfoPro!E234),\"\",InfoPro!E234)","v":99.9},{"$f":"IF(ISBLANK(InfoPro!F234),\"\",InfoPro!F234)","v":"Solar FV"},{"$f":"IF(ISBLANK(InfoPro!I234),\"\",YEAR(InfoPro!I234)-$H$3)","v":2},{"$f":"IF(B241=\"\",\"\",VLOOKUP(D241,Tablas!$B$2:$E$13,2,FALSE))","v":0.26},{"$f":"IF(B241=\"\",\"\",VLOOKUP(D241,Tablas!$B$2:$H$13,7,FALSE))","v":83577.200000000012},0.56483127404885003,227532.24000000002,19747322148.18821,17663078844.533287,15798818286.702406,14131322260.020041,12639823130.608265,11305745197.32403,10112473342.86586,9045146102.7422733,8090470574.9036436,7236556864.851202,6472770004.33918,5789597499.408927,5178530858.147521,4631959622.6722012,4143076585.574419,151986691322.8815,1521388.3015303453]
[{"$f":"IF(ISBLANK(InfoPro!A235),\"\",InfoPro!A235)","v":"SC_482_A2"},{"$f":"IF(ISBLANK(InfoPro!B235),\"\",InfoPro!B235)","v":"La Santa Maria - 99.9MW"},{"$f":"IF(ISBLANK(InfoPro!E235),\"\",InfoPro!E235)","v":99.9},{"$f":"IF(ISBLANK(InfoPro!F235),\"\",InfoPro!F235)","v":"Solar FV"},{"$f":"IF(ISBLANK(InfoPro!I235),\"\",YEAR(InfoPro!I235)-$H$3)","v":2},{"$f":"IF(B242=\"\",\"\",VLOOKUP(D242,Tablas!$B$2:$E$13,2,FALSE))","v":0.26},{"$f":"IF(B242=\"\",\"\",VLOOKUP(D242,Tablas!$B$2:$H$13,7,FALSE))","v":83577.200000000012},0.56483127404885003,227532.24000000002,19747322148.18821,17663078844.533287,15798818286.702406,14131322260.020041,12639823130.608265,11305745197.32403,10112473342.86586,9045146102.7422733,8090470574.9036436,7236556864.851202,6472770004.33918,5789597499.408927,5178530858.147521,4631959622.6722012,4143076585.574419,151986691322.8815,1521388.3015303453]
[{"$f":"IF(ISBLANK(InfoPro!A236),\"\",InfoPro!A236)","v":"SC_497_A1"},{"$f":"IF(ISBLANK(InfoPro!B236),\"\",InfoPro!B236)","v":"Portugal II - 9.9 MW"},{"$f":"IF(ISBLANK(InfoPro!E236),\"\",InfoPro!E236)","v":9.9},{"$f":"IF(ISBLANK(InfoPro!F236),\"\",InfoPro!F236)","v":"Solar FV"},{"$f":"IF(ISBLANK(InfoPro!I236),\"\",YEAR(InfoPro!I236)-$H$3)","v":2},{"$f":"IF(B243=\"\",\"\",VLOOKUP(D243,Tablas!$B$2:$E$13,2,FALSE))","v":0.26},{"$f":"IF(B243=\"\",\"\",VLOOKUP(D243,Tablas!$B$2:$H$13,7,FALSE))","v":83577.200000000012},0.56483127404885003,22548.240000000005,1956941834.5051382,1750395200.8096051,1565648659.0425806,1400401305.0470312,1252595085.0152338,1120389163.6987782,1002136997.9416621,896365830.00148666,801758345.26072145,717136265.88615537,641445676.10568452,573743896.33782172,513187742.69930387,459023025.67021811,410575157.12899655,15061744185.150415,1521388.3015303449]
[{"$f":"IF(ISBLANK(InfoPro!A237),\"\",InfoPro!A237)","v":"SC_502_A1"},{"$f":"IF(ISBLANK(InfoPro!B237),\"\",InfoPro!B237)","v":"RUBÍ 40 MW"},{"$f":"IF(ISBLANK(InfoPro!E237),\"\",InfoPro!E237)","v":40},{"$f":"IF(ISBLANK(InfoPro!F237),\"\",InfoPro!F237)","v":"Solar FV"},{"$f":"IF(ISBLANK(InfoPro!I237),\"\",YEAR(InfoPro!I237)-$H$3)","v":3},{"$f":"IF(B244=\"\",\"\",VLOOKUP(D244,Tablas!$B$2:$E$13,2,FALSE))","v":0.26},{"$f":"IF(B244=\"\",\"\",VLOOKUP(D244,Tablas!$B$2:$H$13,7,FALSE))","v":83577.200000000012},0.56483127404885003,91104.000000000015,7072303841.6549711,6325853167.8488111,5658187091.0991154,5060990242.4857931,4526824903.8334465,4049038375.5218658,3621680121.2181273,3239427657.6190763,2897520266.2066884,2591699701.437109,2318157156.9204912,2073485829.0880964,1854638487.556437,1658889523.7535212,1483801005.1462622,54432497371.389824,1360812.4342847455]
[{"$f":"IF(ISBLANK(InfoPro!A238),\"\",InfoPro!A238)","v":"SC_507_A1"},{"$f":"IF(ISBLANK(InfoPro!B238),\"\",InfoPro!B238)","v":"PARQUE FOTOVOLTAICO CATAY 2"},{"$f":"IF(ISBLANK(InfoPro!E238),\"\",InfoPro!E238)","v":100},{"$f":"IF(ISBLANK(InfoPro!F238),\"\",InfoPro!F238)","v":"Solar FV"},{"$f":"IF(ISBLANK(InfoPro!I238),\"\",YEAR(InfoPro!I238)-$H$3)","v":4},{"$f":"IF(B245=\"\",\"\",VLOOKUP(D245,Tablas!$B$2:$E$13,2,FALSE))","v":0.26},{"$f":"IF(B245=\"\",\"\",VLOOKUP(D245,Tablas!$B$2:$H$13,7,FALSE))","v":83577.200000000012},0.56483127404885003,227760,15814632919.622025,14145467727.747787,12652475606.214478,11317062259.583614,10122595938.804665,9054200303.0453167,8098569144.0476894,7243800665.5167198,6479249253.5927715,5795392892.3012276,5183714572.7202396,4636596218.8910923,4147223809.3838015,3709502512.8656549,3317980780.7385111,121718464605.07561,1217184.6460507561]
[{"$f":"IF(ISBLANK(InfoPro!A239),\"\",InfoPro!A239)","v":"SC_507_A2"},{"$f":"IF(ISBLANK(InfoPro!B239),\"\",InfoPro!B239)","v":"PARQUE FOTOVOLTAICO CATAY 2"},{"$f":"IF(ISBLANK(InfoPro!E239),\"\",InfoPro!E239)","v":100},{"$f":"IF(ISBLANK(InfoPro!F239),\"\",InfoPro!F239)","v":"Solar FV"},{"$f":"IF(ISBLANK(InfoPro!I239),\"\",YEAR(InfoPro!I239)-$H$3)","v":4},{"$f":"IF(B246=\"\",\"\",VLOOKUP(D246,Tablas!$B$2:$E$13,2,FALSE))","v":0.26},{"$f":"IF(B246=\"\",\"\",VLOOKUP(D246,Tablas!$B$2:$H$13,7,FALSE))","v":83577.200000000012},0.56483127404885003,227760,15814632919.622025,14145467727.747787,12652475606.214478,11317062259.583614,10122595938.804665,9054200303.0453167,8098569144.0476894,7243800665.5167198,6479249253.5927715,5795392892.3012276,5183714572.7202396,4636596218.8910923,4147223809.3838015,3709502512.8656549,3317980780.7385111,121718464605.07561,1217184.6460507561]
[{"$f":"IF(ISBLANK(InfoPro!A240),\"\",InfoPro!A240)","v":"SC_543_A1"},{"$f":"IF(ISBLANK(InfoPro!B240),\"\",InfoPro!B240)","v":"Sabana I 350 MW"},{"$f":"IF(ISBLANK(InfoPro!E240),\"\",InfoPro!E240)","v":350},{"$f":"IF(ISBLANK(InfoPro!F240),\"\",InfoPro!F240)","v":"Solar FV"},{"$f":"IF(ISBLANK(InfoPro!I240),\"\",YEAR(InfoPro!I240)-$H$3)","v":4},{"$f":"IF(B247=\"\",\"\",VLOOKUP(D247,Tablas!$B$2:$E$13,2,FALSE))","v":0.26},{"$f":"IF(B247=\"\",\"\",VLOOKUP(D247,Tablas!$B$2:$H$13,7,FALSE))","v":83577.200000000012},0.56483127404885003,797160,55351215218.677094,49509137047.117256,44283664621.750671,39609717908.542641,35429085785.816322,31689701060.658611,28344992004.166912,25353302329.308517,22677372387.574703,20283875123.054295,18143001004.52084,16228086766.11882,14515283332.843306,12983258795.029793,11612932732.584787,426014626117.76459,1217184.6460507559]
[{"$f":"IF(ISBLANK(InfoPro!A241),\"\",InfoPro!A241)","v":"SC_56_A2"},{"$f":"IF(ISBLANK(InfoPro!B241),\"\",InfoPro!B241)","v":"PV LATAMSOLAR LA LOMA 200 MW"},{"$f":"IF(ISBLANK(InfoPro!E241),\"\",InfoPro!E241)","v":200},{"$f":"IF(ISBLANK(InfoPro!F241),\"\",InfoPro!F241)","v":"Solar FV"},{"$f":"IF(ISBLANK(InfoPro!I241),\"\",YEAR(InfoPro!I241)-$H$3)","v":1},{"$f":"IF(B248=\"\",\"\",VLOOKUP(D248,Tablas!$B$2:$E$13,2,FALSE))","v":0.26},{"$f":"IF(B248=\"\",\"\",VLOOKUP(D248,Tablas!$B$2:$H$13,7,FALSE))","v":83577.200000000012},0.56483127404885003,455520,44199211534.88372,39534178474.851273,35361519208.274849,31629265839.244049,28290935455.495575,25304951212.428955,22634124519.167229,20245191877.609329,18108400606.090633,16197138288.095379,14487601331.03344,12958498507.185543,11590785784.602455,10367429145.440479,9273192437.7821846,340182424222.18512,1700912.1211109257]
[{"$f":"IF(ISBLANK(InfoPro!A242),\"\",InfoPro!A242)","v":"SC_587_A1"},{"$f":"IF(ISBLANK(InfoPro!B242),\"\",InfoPro!B242)","v":"Cactus del Cesar - El Paso"},{"$f":"IF(ISBLANK(InfoPro!E242),\"\",InfoPro!E242)","v":19.899999999999999},{"$f":"IF(ISBLANK(InfoPro!F242),\"\",InfoPro!F242)","v":"Solar FV"},{"$f":"IF(ISBLANK(InfoPro!I242),\"\",YEAR(InfoPro!I242)-$H$3)","v":6},{"$f":"IF(B249=\"\",\"\",VLOOKUP(D249,Tablas!$B$2:$E$13,2,FALSE))","v":0.26},{"$f":"IF(B249=\"\",\"\",VLOOKUP(D249,Tablas!$B$2:$H$13,7,FALSE))","v":83577.200000000012},0.56483127404885003,45324.24,2517842645.6366811,2252095389.6571393,2014396591.8221281,1801785860.3060179,1611615259.6654899,1441516332.4378271,1289370601.4649615,1153283185.5679443,1031559199.9713278,922682647.55932724,825297538.06737649,738191000.0602653,660278175.36696362,590588707.84164917,528254658.17678815,19378757793.601887,973806.9243016023]
[{"$f":"IF(ISBLANK(InfoPro!A243),\"\",InfoPro!A243)","v":"SC_587_A2"},{"$f":"IF(ISBLANK(InfoPro!B243),\"\",InfoPro!B243)","v":"Cactus del Cesar - El Paso"},{"$f":"IF(ISBLANK(InfoPro!E243),\"\",InfoPro!E243)","v":19.899999999999999},{"$f":"IF(ISBLANK(InfoPro!F243),\"\",InfoPro!F243)","v":"Solar FV"},{"$f":"IF(ISBLANK(InfoPro!I243),\"\",YEAR(InfoPro!I243)-$H$3)","v":6},{"$f":"IF(B250=\"\",\"\",VLOOKUP(D250,Tablas!$B$2:$E$13,2,FALSE))","v":0.26},{"$f":"IF(B250=\"\",\"\",VLOOKUP(D250,Tablas!$B$2:$H$13,7,FALSE))","v":83577.200000000012},0.56483127404885003,45324.24,2517842645.6366811,2252095389.6571393,2014396591.8221281,1801785860.3060179,1611615259.6654899,1441516332.4378271,1289370601.4649615,1153283185.5679443,1031559199.9713278,922682647.55932724,825297538.06737649,738191000.0602653,660278175.36696362,590588707.84164917,528254658.17678815,19378757793.601887,973806.9243016023]
[{"$f":"IF(ISBLANK(InfoPro!A244),\"\",InfoPro!A244)","v":"SC_599_A1"},{"$f":"IF(ISBLANK(InfoPro!B244),\"\",InfoPro!B244)","v":"La Fortuna - 19,9 MW"},{"$f":"IF(ISBLANK(InfoPro!E244),\"\",InfoPro!E244)","v":19.899999999999999},{"$f":"IF(ISBLANK(InfoPro!F244),\"\",InfoPro!F244)","v":"Solar FV"},{"$f":"IF(ISBLANK(InfoPro!I244),\"\",YEAR(InfoPro!I244)-$H$3)","v":2},{"$f":"IF(B251=\"\",\"\",VLOOKUP(D251,Tablas!$B$2:$E$13,2,FALSE))","v":0.26},{"$f":"IF(B251=\"\",\"\",VLOOKUP(D251,Tablas!$B$2:$H$13,7,FALSE))","v":83577.200000000012},0.56483127404885003,45324.24,3933650758.2477007,3518471161.2233472,3147111951.0047832,2814948077.8218098,2517842645.6366811,2252095389.6571393,2014396591.8221281,1801785860.3060179,1611615259.6654899,1441516332.4378271,1289370601.4649615,1153283185.5679443,1031559199.9713278,922682647.55932724,825297538.06737649,30275627200.453861,1521388.3015303449]
[{"$f":"IF(ISBLANK(InfoPro!A245),\"\",InfoPro!A245)","v":"SC_599_A2"},{"$f":"IF(ISBLANK(InfoPro!B245),\"\",InfoPro!B245)","v":"La Fortuna - 19,9 MW"},{"$f":"IF(ISBLANK(InfoPro!E245),\"\",InfoPro!E245)","v":19.899999999999999},{"$f":"IF(ISBLANK(InfoPro!F245),\"\",InfoPro!F245)","v":"Solar FV"},{"$f":"IF(ISBLANK(InfoPro!I245),\"\",YEAR(InfoPro!I245)-$H$3)","v":2},{"$f":"IF(B252=\"\",\"\",VLOOKUP(D252,Tablas!$B$2:$E$13,2,FALSE))","v":0.26},{"$f":"IF(B252=\"\",\"\",VLOOKUP(D252,Tablas!$B$2:$H$13,7,FALSE))","v":83577.200000000012},0.56483127404885003,45324.24,3933650758.2477007,3518471161.2233472,3147111951.0047832,2814948077.8218098,2517842645.6366811,2252095389.6571393,2014396591.8221281,1801785860.3060179,1611615259.6654899,1441516332.4378271,1289370601.4649615,1153283185.5679443,1031559199.9713278,922682647.55932724,825297538.06737649,30275627200.453861,1521388.3015303449]
[{"$f":"IF(ISBLANK(InfoPro!A246),\"\",InfoPro!A246)","v":"SC_623_A1"},{"$f":"IF(ISBLANK(InfoPro!B246),\"\",InfoPro!B246)","v":"TR SOLAR 6"},{"$f":"IF(ISBLANK(InfoPro!E246),\"\",InfoPro!E246)","v":120.3},{"$f":"IF(ISBLANK(InfoPro!F246),\"\",InfoPro!F246)","v":"Solar FV"},{"$f":"IF(ISBLANK(InfoPro!I246),\"\",YEAR(InfoPro!I246)-$H$3)","v":3},{"$f":"IF(B253=\"\",\"\",VLOOKUP(D253,Tablas!$B$2:$E$13,2,FALSE))","v":0.26},{"$f":"IF(B253=\"\",\"\",VLOOKUP(D253,Tablas!$B$2:$H$13,7,FALSE))","v":83577.200000000012},0.56483127404885003,273995.28000000003,21269953803.777321,19025003402.305298,17016997676.480591,15220928154.27602,13614425898.279089,12177482914.382011,10892202964.563517,9742578680.2893715,8714292200.6166134,7794536852.0721064,6971857649.4383774,6236008630.9824486,5577825251.325983,4989110242.688714,4462531522.9773836,163705735844.45486,1360812.4342847452]
[{"$f":"IF(ISBLANK(InfoPro!A247),\"\",InfoPro!A247)","v":"SC_623_A2"},{"$f":"IF(ISBLANK(InfoPro!B247),\"\",InfoPro!B247)","v":"TR SOLAR 6"},{"$f":"IF(ISBLANK(InfoPro!E247),\"\",InfoPro!E247)","v":120.3},{"$f":"IF(ISBLANK(InfoPro!F247),\"\",InfoPro!F247)","v":"Solar FV"},{"$f":"IF(ISBLANK(InfoPro!I247),\"\",YEAR(InfoPro!I247)-$H$3)","v":3},{"$f":"IF(B254=\"\",\"\",VLOOKUP(D254,Tablas!$B$2:$E$13,2,FALSE))","v":0.26},{"$f":"IF(B254=\"\",\"\",VLOOKUP(D254,Tablas!$B$2:$H$13,7,FALSE))","v":83577.200000000012},0.56483127404885003,273995.28000000003,21269953803.777321,19025003402.305298,17016997676.480591,15220928154.27602,13614425898.279089,12177482914.382011,10892202964.563517,9742578680.2893715,8714292200.6166134,7794536852.0721064,6971857649.4383774,6236008630.9824486,5577825251.325983,4989110242.688714,4462531522.9773836,163705735844.45486,1360812.4342847452]
[{"$f":"IF(ISBLANK(InfoPro!A248),\"\",InfoPro!A248)","v":"SC_628_A1"},{"$f":"IF(ISBLANK(InfoPro!B248),\"\",InfoPro!B248)","v":"TR Solar 13"},{"$f":"IF(ISBLANK(InfoPro!E248),\"\",InfoPro!E248)","v":110},{"$f":"IF(ISBLANK(InfoPro!F248),\"\",InfoPro!F248)","v":"Solar FV"},{"$f":"IF(ISBLANK(InfoPro!I248),\"\",YEAR(InfoPro!I248)-$H$3)","v":3},{"$f":"IF(B255=\"\",\"\",VLOOKUP(D255,Tablas!$B$2:$E$13,2,FALSE))","v":0.26},{"$f":"IF(B255=\"\",\"\",VLOOKUP(D255,Tablas!$B$2:$H$13,7,FALSE))","v":83577.200000000012},0.56483127404885003,250536.00000000003,19448835564.55117,17396096211.584229,15560014500.522568,13917723166.83593,12448768485.541977,11134855532.685133,9959620333.3498516,8908426058.4524593,7968180732.0683918,7127174178.9520493,6374932181.5313511,5702086029.9922647,5100255840.7802019,4561946190.3221827,4080452764.1522212,149689367771.32199,1360812.4342847455]
[{"$f":"IF(ISBLANK(InfoPro!A249),\"\",InfoPro!A249)","v":"SC_628_A2"},{"$f":"IF(ISBLANK(InfoPro!B249),\"\",InfoPro!B249)","v":"TR Solar 13"},{"$f":"IF(ISBLANK(InfoPro!E249),\"\",InfoPro!E249)","v":110},{"$f":"IF(ISBLANK(InfoPro!F249),\"\",InfoPro!F249)","v":"Solar FV"},{"$f":"IF(ISBLANK(InfoPro!I249),\"\",YEAR(InfoPro!I249)-$H$3)","v":3},{"$f":"IF(B256=\"\",\"\",VLOOKUP(D256,Tablas!$B$2:$E$13,2,FALSE))","v":0.26},{"$f":"IF(B256=\"\",\"\",VLOOKUP(D256,Tablas!$B$2:$H$13,7,FALSE))","v":83577.200000000012},0.56483127404885003,250536.00000000003,{"$f":"IF($I256=\"\",\"\",(1/(1+$C$3)^(J$6+$E256))*$I256*$C$2*$H256)","v":19448835564.55117},17396096211.584229,15560014500.522568,13917723166.83593,12448768485.541977,11134855532.685133,9959620333.3498516,8908426058.4524593,7968180732.0683918,7127174178.9520493,6374932181.5313511,5702086029.9922647,5100255840.7802019,4561946190.3221827,4080452764.1522212,149689367771.32199,1360812.4342847455]
[{"$f":"IF(ISBLANK(InfoPro!A250),\"\",InfoPro!A250)","v":"SC_657_A1"},{"$f":"IF(ISBLANK(InfoPro!B250),\"\",InfoPro!B250)","v":"TR Solar 7"},{"$f":"IF(ISBLANK(InfoPro!E250),\"\",InfoPro!E250)","v":99.9},{"$f":"IF(ISBLANK(InfoPro!F250),\"\",InfoPro!F250)","v":"Solar FV"},{"$f":"IF(ISBLANK(InfoPro!I250),\"\",YEAR(InfoPro!I250)-$H$3)","v":3},{"$f":"IF(B257=\"\",\"\",VLOOKUP(D257,Tablas!$B$2:$E$13,2,FALSE))","v":0.26},{"$f":"IF(B257=\"\",\"\",VLOOKUP(D257,Tablas!$B$2:$H$13,7,FALSE))","v":83577.200000000012},0.56483127404885003,227532.24000000002,17663078844.533287,15798818286.702406,14131322260.020041,12639823130.608265,11305745197.32403,10112473342.86586,9045146102.7422733,8090470574.9036436,7236556864.851202,6472770004.33918,5789597499.408927,5178530858.147521,4631959622.6722012,4143076585.574419,3705793010.3527899,135945162185.04604,1360812.434284745]
[{"$f":"IF(ISBLANK(InfoPro!A251),\"\",InfoPro!A251)","v":"SC_657_A2"},{"$f":"IF(ISBLANK(InfoPro!B251),\"\",InfoPro!B251)","v":"TR Solar 7"},{"$f":"IF(ISBLANK(InfoPro!E251),\"\",InfoPro!E251)","v":99.9},{"$f":"IF(ISBLANK(InfoPro!F251),\"\",InfoPro!F251)","v":"Solar FV"},{"$f":"IF(ISBLANK(InfoPro!I251),\"\",YEAR(InfoPro!I251)-$H$3)","v":3},{"$f":"IF(B258=\"\",\"\",VLOOKUP(D258,Tablas!$B$2:$E$13,2,FALSE))","v":0.26},{"$f":"IF(B258=\"\",\"\",VLOOKUP(D258,Tablas!$B$2:$H$13,7,FALSE))","v":83577.200000000012},0.56483127404885003,227532.24000000002,17663078844.533287,15798818286.702406,14131322260.020041,12639823130.608265,11305745197.32403,10112473342.86586,9045146102.7422733,8090470574.9036436,7236556864.851202,6472770004.33918,5789597499.408927,5178530858.147521,4631959622.6722012,4143076585.574419,3705793010.3527899,135945162185.04604,1360812.434284745]
[{"$f":"IF(ISBLANK(InfoPro!A252),\"\",InfoPro!A252)","v":"SC_658_A1"},{"$f":"IF(ISBLANK(InfoPro!B252),\"\",InfoPro!B252)","v":"TR Solar 8"},{"$f":"IF(ISBLANK(InfoPro!E252),\"\",InfoPro!E252)","v":200},{"$f":"IF(ISBLANK(InfoPro!F252),\"\",InfoPro!F252)","v":"Solar FV"},{"$f":"IF(ISBLANK(InfoPro!I252),\"\",YEAR(InfoPro!I252)-$H$3)","v":3},{"$f":"IF(B259=\"\",\"\",VLOOKUP(D259,Tablas!$B$2:$E$13,2,FALSE))","v":0.26},{"$f":"IF(B259=\"\",\"\",VLOOKUP(D259,Tablas!$B$2:$H$13,7,FALSE))","v":83577.200000000012},0.56483127404885003,455520,35361519208.274849,31629265839.244049,28290935455.495575,25304951212.428955,22634124519.167229,20245191877.609329,18108400606.090633,16197138288.095379,14487601331.03344,12958498507.185543,11590785784.602455,10367429145.440479,9273192437.7821846,8294447618.7676029,7419005025.7313099,272162486856.94904,1360812.4342847452]
[{"$f":"IF(ISBLANK(InfoPro!A253),\"\",InfoPro!A253)","v":"SC_658_A2"},{"$f":"IF(ISBLANK(InfoPro!B253),\"\",InfoPro!B253)","v":"TR Solar 8"},{"$f":"IF(ISBLANK(InfoPro!E253),\"\",InfoPro!E253)","v":200},{"$f":"IF(ISBLANK(InfoPro!F253),\"\",InfoPro!F253)","v":"Solar FV"},{"$f":"IF(ISBLANK(InfoPro!I253),\"\",YEAR(InfoPro!I253)-$H$3)","v":3},{"$f":"IF(B260=\"\",\"\",VLOOKUP(D260,Tablas!$B$2:$E$13,2,FALSE))","v":0.26},{"$f":"IF(B260=\"\",\"\",VLOOKUP(D260,Tablas!$B$2:$H$13,7,FALSE))","v":83577.200000000012},0.56483127404885003,455520,35361519208.274849,31629265839.244049,28290935455.495575,25304951212.428955,22634124519.167229,20245191877.609329,18108400606.090633,16197138288.095379,14487601331.03344,12958498507.185543,11590785784.602455,10367429145.440479,9273192437.7821846,8294447618.7676029,7419005025.7313099,272162486856.94904,1360812.4342847452]
[{"$f":"IF(ISBLANK(InfoPro!A254),\"\",InfoPro!A254)","v":"SC_72_A1"},{"$f":"IF(ISBLANK(InfoPro!B254),\"\",InfoPro!B254)","v":"Santa Marta III"},{"$f":"IF(ISBLANK(InfoPro!E254),\"\",InfoPro!E254)","v":50},{"$f":"IF(ISBLANK(InfoPro!F254),\"\",InfoPro!F254)","v":"Solar FV"},{"$f":"IF(ISBLANK(InfoPro!I254),\"\",YEAR(InfoPro!I254)-$H$3)","v":2},{"$f":"IF(B261=\"\",\"\",VLOOKUP(D261,Tablas!$B$2:$E$13,2,FALSE))","v":0.26},{"$f":"IF(B261=\"\",\"\",VLOOKUP(D261,Tablas!$B$2:$H$13,7,FALSE))","v":83577.200000000012},0.56483127404885003,113880,9883544618.7128181,8840379802.0687122,7907316459.8110123,7072733863.8738937,6326237803.1072388,5658531129.7918072,5061297969.4023323,4527100151.5226583,4049284572.0238447,3621900332.7583599,3239624626.7963858,2897696446.1506138,2591857286.3601198,2318298109.4455462,2073611904.6919007,76069415076.517242,1521388.3015303449]
[{"$f":"IF(ISBLANK(InfoPro!A255),\"\",InfoPro!A255)","v":"SC_735_A1"},{"$f":"IF(ISBLANK(InfoPro!B255),\"\",InfoPro!B255)","v":"EGINA 60"},{"$f":"IF(ISBLANK(InfoPro!E255),\"\",InfoPro!E255)","v":60},{"$f":"IF(ISBLANK(InfoPro!F255),\"\",InfoPro!F255)","v":"Solar FV"},{"$f":"IF(ISBLANK(InfoPro!I255),\"\",YEAR(InfoPro!I255)-$H$3)","v":3},{"$f":"IF(B262=\"\",\"\",VLOOKUP(D262,Tablas!$B$2:$E$13,2,FALSE))","v":0.26},{"$f":"IF(B262=\"\",\"\",VLOOKUP(D262,Tablas!$B$2:$H$13,7,FALSE))","v":83577.200000000012},0.56483127404885003,136656,10608455762.482452,9488779751.7732162,8487280636.6486721,7591485363.7286863,6790237355.7501688,6073557563.2827988,5432520181.8271914,4859141486.4286146,4346280399.3100319,3887549552.155663,3477235735.3807364,3110228743.632144,2781957731.3346553,2488334285.6302814,2225701507.7193933,81648746057.084686,1360812.4342847448]
[{"$f":"IF(ISBLANK(InfoPro!A256),\"\",InfoPro!A256)","v":"SC_735_A2"},{"$f":"IF(ISBLANK(InfoPro!B256),\"\",InfoPro!B256)","v":"EGINA 60"},{"$f":"IF(ISBLANK(InfoPro!E256),\"\",InfoPro!E256)","v":60},{"$f":"IF(ISBLANK(InfoPro!F256),\"\",InfoPro!F256)","v":"Solar FV"},{"$f":"IF(ISBLANK(InfoPro!I256),\"\",YEAR(InfoPro!I256)-$H$3)","v":3},{"$f":"IF(B263=\"\",\"\",VLOOKUP(D263,Tablas!$B$2:$E$13,2,FALSE))","v":0.26},{"$f":"IF(B263=\"\",\"\",VLOOKUP(D263,Tablas!$B$2:$H$13,7,FALSE))","v":83577.200000000012},0.56483127404885003,136656,10608455762.482452,9488779751.7732162,8487280636.6486721,7591485363.7286863,6790237355.7501688,6073557563.2827988,5432520181.8271914,4859141486.4286146,4346280399.3100319,3887549552.155663,3477235735.3807364,3110228743.632144,2781957731.3346553,2488334285.6302814,2225701507.7193933,81648746057.084686,1360812.4342847448]
[{"$f":"IF(ISBLANK(InfoPro!A257),\"\",InfoPro!A257)","v":"SC_758_A1"},{"$f":"IF(ISBLANK(InfoPro!B257),\"\",InfoPro!B257)","v":"JAMAICA 19.9"},{"$f":"IF(ISBLANK(InfoPro!E257),\"\",InfoPro!E257)","v":19.899999999999999},{"$f":"IF(ISBLANK(InfoPro!F257),\"\",InfoPro!F257)","v":"Solar FV"},{"$f":"IF(ISBLANK(InfoPro!I257),\"\",YEAR(InfoPro!I257)-$H$3)","v":2},{"$f":"IF(B264=\"\",\"\",VLOOKUP(D264,Tablas!$B$2:$E$13,2,FALSE))","v":0.26},{"$f":"IF(B264=\"\",\"\",VLOOKUP(D264,Tablas!$B$2:$H$13,7,FALSE))","v":83577.200000000012},0.56483127404885003,{"$f":"IF(C264=\"\",\"\",+C264*F264*24*365)","v":45324.24},3933650758.2477007,3518471161.2233472,3147111951.0047832,2814948077.8218098,2517842645.6366811,2252095389.6571393,2014396591.8221281,1801785860.3060179,1611615259.6654899,1441516332.4378271,1289370601.4649615,1153283185.5679443,1031559199.9713278,922682647.55932724,825297538.06737649,30275627200.453861,1521388.3015303449]
[{"$f":"IF(ISBLANK(InfoPro!A258),\"\",InfoPro!A258)","v":"SC_758_A2"},{"$f":"IF(ISBLANK(InfoPro!B258),\"\",InfoPro!B258)","v":"JAMAICA 19.9"},{"$f":"IF(ISBLANK(InfoPro!E258),\"\",InfoPro!E258)","v":19.899999999999999},{"$f":"IF(ISBLANK(InfoPro!F258),\"\",InfoPro!F258)","v":"Solar FV"},{"$f":"IF(ISBLANK(InfoPro!I258),\"\",YEAR(InfoPro!I258)-$H$3)","v":2},{"$f":"IF(B265=\"\",\"\",VLOOKUP(D265,Tablas!$B$2:$E$13,2,FALSE))","v":0.26},{"$f":"IF(B265=\"\",\"\",VLOOKUP(D265,Tablas!$B$2:$H$13,7,FALSE))","v":83577.200000000012},{"$f":"IF(B265=\"\",\"\",($C$2-(G265))/$C$2)","v":0.56483127404885003},45324.24,3933650758.2477007,3518471161.2233472,3147111951.0047832,2814948077.8218098,2517842645.6366811,2252095389.6571393,2014396591.8221281,1801785860.3060179,1611615259.6654899,1441516332.4378271,1289370601.4649615,1153283185.5679443,1031559199.9713278,922682647.55932724,825297538.06737649,30275627200.453861,{"$f":"IF(C265=0,0,IF(Y265=\"\",\"\",Y265/(C265*1000)))","v":1521388.3015303449}]
[{"$f":"IF(ISBLANK(InfoPro!A259),\"\",InfoPro!A259)","v":"SC_768_A1"},{"$f":"IF(ISBLANK(InfoPro!B259),\"\",InfoPro!B259)","v":"RODAS 19.9"},{"$f":"IF(ISBLANK(InfoPro!E259),\"\",InfoPro!E259)","v":19.899999999999999},{"$f":"IF(ISBLANK(InfoPro!F259),\"\",InfoPro!F259)","v":"Solar FV"},{"$f":"IF(ISBLANK(InfoPro!I259),\"\",YEAR(InfoPro!I259)-$H$3)","v":2},{"$f":"IF(B266=\"\",\"\",VLOOKUP(D266,Tablas!$B$2:$E$13,2,FALSE))","v":0.26},{"$f":"IF(B266=\"\",\"\",VLOOKUP(D266,Tablas!$B$2:$H$13,7,FALSE))","v":83577.200000000012},0.56483127404885003,45324.24,3933650758.2477007,3518471161.2233472,3147111951.0047832,2814948077.8218098,2517842645.6366811,2252095389.6571393,2014396591.8221281,1801785860.3060179,1611615259.6654899,1441516332.4378271,1289370601.4649615,1153283185.5679443,1031559199.9713278,922682647.55932724,825297538.06737649,30275627200.453861,1521388.3015303449]
[{"$f":"IF(ISBLANK(InfoPro!A260),\"\",InfoPro!A260)","v":"SC_768_A2"},{"$f":"IF(ISBLANK(InfoPro!B260),\"\",InfoPro!B260)","v":"RODAS 19.9"},{"$f":"IF(ISBLANK(InfoPro!E260),\"\",InfoPro!E260)","v":19.899999999999999},{"$f":"IF(ISBLANK(InfoPro!F260),\"\",InfoPro!F260)","v":"Solar FV"},{"$f":"IF(ISBLANK(InfoPro!I260),\"\",YEAR(InfoPro!I260)-$H$3)","v":2},{"$f":"IF(B267=\"\",\"\",VLOOKUP(D267,Tablas!$B$2:$E$13,2,FALSE))","v":0.26},{"$f":"IF(B267=\"\",\"\",VLOOKUP(D267,Tablas!$B$2:$H$13,7,FALSE))","v":83577.200000000012},0.56483127404885003,45324.24,3933650758.2477007,3518471161.2233472,3147111951.0047832,2814948077.8218098,2517842645.6366811,2252095389.6571393,2014396591.8221281,1801785860.3060179,1611615259.6654899,1441516332.4378271,1289370601.4649615,1153283185.5679443,1031559199.9713278,922682647.55932724,825297538.06737649,30275627200.453861,1521388.3015303449]
[{"$f":"IF(ISBLANK(InfoPro!A261),\"\",InfoPro!A261)","v":"SC_807_A2"},{"$f":"IF(ISBLANK(InfoPro!B261),\"\",InfoPro!B261)","v":"Parque Solar Fotovoltaico La Villa de 120 MW (entrega 100 MW)"},{"$f":"IF(ISBLANK(InfoPro!E261),\"\",InfoPro!E261)","v":100},{"$f":"IF(ISBLANK(InfoPro!F261),\"\",InfoPro!F261)","v":"Solar FV"},{"$f":"IF(ISBLANK(InfoPro!I261),\"\",YEAR(InfoPro!I261)-$H$3)","v":2},{"$f":"IF(B268=\"\",\"\",VLOOKUP(D268,Tablas!$B$2:$E$13,2,FALSE))","v":0.26},{"$f":"IF(B268=\"\",\"\",VLOOKUP(D268,Tablas!$B$2:$H$13,7,FALSE))","v":83577.200000000012},0.56483127404885003,227760,19767089237.425636,17680759604.137424,15814632919.622025,14145467727.747787,12652475606.214478,11317062259.583614,10122595938.804665,9054200303.0453167,8098569144.0476894,7243800665.5167198,6479249253.5927715,5795392892.3012276,5183714572.7202396,4636596218.8910923,4147223809.3838015,152138830153.03448,1521388.3015303449]
[{"$f":"IF(ISBLANK(InfoPro!A262),\"\",InfoPro!A262)","v":"SC_821_A1"},{"$f":"IF(ISBLANK(InfoPro!B262),\"\",InfoPro!B262)","v":"SPK SOLAR DEL CESAR - 65 MW"},{"$f":"IF(ISBLANK(InfoPro!E262),\"\",InfoPro!E262)","v":65},{"$f":"IF(ISBLANK(InfoPro!F262),\"\",InfoPro!F262)","v":"Solar FV"},{"$f":"IF(ISBLANK(InfoPro!I262),\"\",YEAR(InfoPro!I262)-$H$3)","v":3},{"$f":"IF(B269=\"\",\"\",VLOOKUP(D269,Tablas!$B$2:$E$13,2,FALSE))","v":0.26},{"$f":"IF(B269=\"\",\"\",VLOOKUP(D269,Tablas!$B$2:$H$13,7,FALSE))","v":83577.200000000012},0.56483127404885003,148044,11492493742.689323,10279511397.754316,9194554023.0360603,8224109144.0394115,7356090468.7293491,6579687360.223031,5885230196.9794559,5264069943.6309986,4708470432.5858679,4211512014.8353019,3767005379.9957976,3369414472.2681561,3013787542.2792091,2695695476.0994711,2411176633.3626761,88452808228.508408,1360812.4342847448]
[{"$f":"IF(ISBLANK(InfoPro!A263),\"\",InfoPro!A263)","v":"SC_821_A2"},{"$f":"IF(ISBLANK(InfoPro!B263),\"\",InfoPro!B263)","v":"SPK SOLAR DEL CESAR - 65 MW"},{"$f":"IF(ISBLANK(InfoPro!E263),\"\",InfoPro!E263)","v":65},{"$f":"IF(ISBLANK(InfoPro!F263),\"\",InfoPro!F263)","v":"Solar FV"},{"$f":"IF(ISBLANK(InfoPro!I263),\"\",YEAR(InfoPro!I263)-$H$3)","v":3},{"$f":"IF(B270=\"\",\"\",VLOOKUP(D270,Tablas!$B$2:$E$13,2,FALSE))","v":0.26},{"$f":"IF(B270=\"\",\"\",VLOOKUP(D270,Tablas!$B$2:$H$13,7,FALSE))","v":83577.200000000012},0.56483127404885003,148044,11492493742.689323,10279511397.754316,9194554023.0360603,8224109144.0394115,7356090468.7293491,6579687360.223031,5885230196.9794559,5264069943.6309986,4708470432.5858679,4211512014.8353019,3767005379.9957976,3369414472.2681561,3013787542.2792091,2695695476.0994711,2411176633.3626761,88452808228.508408,1360812.4342847448]
[{"$f":"IF(ISBLANK(InfoPro!A264),\"\",InfoPro!A264)","v":"SC_822_A1"},{"$f":"IF(ISBLANK(InfoPro!B264),\"\",InfoPro!B264)","v":"SANTA MARTA IV 50 MW"},{"$f":"IF(ISBLANK(InfoPro!E264),\"\",InfoPro!E264)","v":50},{"$f":"IF(ISBLANK(InfoPro!F264),\"\",InfoPro!F264)","v":"Solar FV"},{"$f":"IF(ISBLANK(InfoPro!I264),\"\",YEAR(InfoPro!I264)-$H$3)","v":2},{"$f":"IF(B271=\"\",\"\",VLOOKUP(D271,Tablas!$B$2:$E$13,2,FALSE))","v":0.26},{"$f":"IF(B271=\"\",\"\",VLOOKUP(D271,Tablas!$B$2:$H$13,7,FALSE))","v":83577.200000000012},0.56483127404885003,113880,9883544618.7128181,8840379802.0687122,7907316459.8110123,7072733863.8738937,6326237803.1072388,5658531129.7918072,5061297969.4023323,4527100151.5226583,4049284572.0238447,3621900332.7583599,3239624626.7963858,2897696446.1506138,2591857286.3601198,2318298109.4455462,2073611904.6919007,76069415076.517242,1521388.3015303449]
[{"$f":"IF(ISBLANK(InfoPro!A265),\"\",InfoPro!A265)","v":"SC_825_A1"},{"$f":"IF(ISBLANK(InfoPro!B265),\"\",InfoPro!B265)","v":"OWF GOLETA"},{"$f":"IF(ISBLANK(InfoPro!E265),\"\",InfoPro!E265)","v":325},{"$f":"IF(ISBLANK(InfoPro!F265),\"\",InfoPro!F265)","v":"Eólico Offshore"},{"$f":"IF(ISBLANK(InfoPro!I265),\"\",YEAR(InfoPro!I265)-$H$3)","v":9},{"$f":"IF(B272=\"\",\"\",VLOOKUP(D272,Tablas!$B$2:$E$13,2,FALSE))","v":0.56999999999999995},{"$f":"IF(B272=\"\",\"\",VLOOKUP(D272,Tablas!$B$2:$H$13,7,FALSE))","v":83577.200000000012},0.56483127404885003,1622789.9999999998,64511177159.197876,57702305151.339775,51612079741.806618,46164650931.848495,41292174357.64624,36933966330.631706,33035748059.599026,29548969641.859585,26430205404.167789,23640613062.761887,21145449966.692215,18913640399.545803,16917388550.577648,15131832335.04262,13534733752.274258,496514934844.99139,1527738.2610615119]
[{"$f":"IF(ISBLANK(InfoPro!A266),\"\",InfoPro!A266)","v":"SC_825_A2"},{"$f":"IF(ISBLANK(InfoPro!B266),\"\",InfoPro!B266)","v":"OWF GOLETA"},{"$f":"IF(ISBLANK(InfoPro!E266),\"\",InfoPro!E266)","v":325},{"$f":"IF(ISBLANK(InfoPro!F266),\"\",InfoPro!F266)","v":"Eólico Offshore"},{"$f":"IF(ISBLANK(InfoPro!I266),\"\",YEAR(InfoPro!I266)-$H$3)","v":9},{"$f":"IF(B273=\"\",\"\",VLOOKUP(D273,Tablas!$B$2:$E$13,2,FALSE))","v":0.56999999999999995},{"$f":"IF(B273=\"\",\"\",VLOOKUP(D273,Tablas!$B$2:$H$13,7,FALSE))","v":83577.200000000012},0.56483127404885003,1622789.9999999998,{"$f":"IF($I273=\"\",\"\",(1/(1+$C$3)^(J$6+$E273))*$I273*$C$2*$H273)","v":64511177159.197876},57702305151.339775,51612079741.806618,46164650931.848495,41292174357.64624,36933966330.631706,33035748059.599026,29548969641.859585,26430205404.167789,23640613062.761887,21145449966.692215,18913640399.545803,16917388550.577648,15131832335.04262,13534733752.274258,496514934844.99139,1527738.2610615119]
[{"$f":"IF(ISBLANK(InfoPro!A267),\"\",InfoPro!A267)","v":"SC_833_A1"},{"$f":"IF(ISBLANK(InfoPro!B267),\"\",InfoPro!B267)","v":"LOMERO SOLAR"},{"$f":"IF(ISBLANK(InfoPro!E267),\"\",InfoPro!E267)","v":200},{"$f":"IF(ISBLANK(InfoPro!F267),\"\",InfoPro!F267)","v":"Solar FV"},{"$f":"IF(ISBLANK(InfoPro!I267),\"\",YEAR(InfoPro!I267)-$H$3)","v":4},{"$f":"IF(B274=\"\",\"\",VLOOKUP(D274,Tablas!$B$2:$E$13,2,FALSE))","v":0.26},{"$f":"IF(B274=\"\",\"\",VLOOKUP(D274,Tablas!$B$2:$H$13,7,FALSE))","v":83577.200000000012},0.56483127404885003,455520,31629265839.244049,28290935455.495575,25304951212.428955,22634124519.167229,20245191877.609329,18108400606.090633,16197138288.095379,14487601331.03344,12958498507.185543,11590785784.602455,10367429145.440479,9273192437.7821846,8294447618.7676029,7419005025.7313099,6635961561.4770222,243436929210.15121,1217184.6460507561]
[{"$f":"IF(ISBLANK(InfoPro!A268),\"\",InfoPro!A268)","v":"SC_846_A1"},{"$f":"IF(ISBLANK(InfoPro!B268),\"\",InfoPro!B268)","v":"Parque Eólico El Ahumado_de 50MW a 60MW _Es decir 10MW"},{"$f":"IF(ISBLANK(InfoPro!E268),\"\",InfoPro!E268)","v":10},{"$f":"IF(ISBLANK(InfoPro!F268),\"\",InfoPro!F268)","v":"Eólico Onshore"},{"$f":"IF(ISBLANK(InfoPro!I268),\"\",YEAR(InfoPro!I268)-$H$3)","v":2},{"$f":"IF(B275=\"\",\"\",VLOOKUP(D275,Tablas!$B$2:$E$13,2,FALSE))","v":0.56999999999999995},{"$f":"IF(B275=\"\",\"\",VLOOKUP(D275,Tablas!$B$2:$H$13,7,FALSE))","v":83577.200000000012},0.56483127404885003,49931.999999999993,4333554178.974081,3876166528.5993576,3467054140.070982,3101121771.0831685,2773811959.8239431,2481048264.6010227,2219184494.2764068,1984959297.2060885,1775455543.1181471,1588063992.055588,1420450797.9030304,1270528441.7737303,1136429733.2502062,1016484555.67997,909199065.90337181,33353512764.319099,3335351.2764319098]
[{"$f":"IF(ISBLANK(InfoPro!A269),\"\",InfoPro!A269)","v":"SC_878_A1"},{"$f":"IF(ISBLANK(InfoPro!B269),\"\",InfoPro!B269)","v":"PARQUE SOLAR EL PROGRESO"},{"$f":"IF(ISBLANK(InfoPro!E269),\"\",InfoPro!E269)","v":19.899999999999999},{"$f":"IF(ISBLANK(InfoPro!F269),\"\",InfoPro!F269)","v":"Solar FV"},{"$f":"IF(ISBLANK(InfoPro!I269),\"\",YEAR(InfoPro!I269)-$H$3)","v":1},{"$f":"IF(B276=\"\",\"\",VLOOKUP(D276,Tablas!$B$2:$E$13,2,FALSE))","v":0.26},{"$f":"IF(B276=\"\",\"\",VLOOKUP(D276,Tablas!$B$2:$H$13,7,FALSE))","v":83577.200000000012},0.56483127404885003,45324.24,4397821547.7209291,3933650758.2477007,3518471161.2233472,3147111951.0047832,2814948077.8218098,2517842645.6366811,2252095389.6571393,2014396591.8221281,1801785860.3060179,1611615259.6654899,1441516332.4378271,1289370601.4649615,1153283185.5679443,1031559199.9713278,922682647.55932724,33848151210.107414,1700912.1211109255]
[{"$f":"IF(ISBLANK(InfoPro!A270),\"\",InfoPro!A270)","v":"SC_890_A1"},{"$f":"IF(ISBLANK(InfoPro!B270),\"\",InfoPro!B270)","v":"Fundación II - 100 MW"},{"$f":"IF(ISBLANK(InfoPro!E270),\"\",InfoPro!E270)","v":100},{"$f":"IF(ISBLANK(InfoPro!F270),\"\",InfoPro!F270)","v":"Solar FV"},{"$f":"IF(ISBLANK(InfoPro!I270),\"\",YEAR(InfoPro!I270)-$H$3)","v":4},{"$f":"IF(B277=\"\",\"\",VLOOKUP(D277,Tablas!$B$2:$E$13,2,FALSE))","v":0.26},{"$f":"IF(B277=\"\",\"\",VLOOKUP(D277,Tablas!$B$2:$H$13,7,FALSE))","v":83577.200000000012},0.56483127404885003,227760,15814632919.622025,14145467727.747787,12652475606.214478,11317062259.583614,10122595938.804665,9054200303.0453167,8098569144.0476894,7243800665.5167198,6479249253.5927715,5795392892.3012276,5183714572.7202396,4636596218.8910923,4147223809.3838015,3709502512.8656549,3317980780.7385111,121718464605.07561,1217184.6460507561]
[{"$f":"IF(ISBLANK(InfoPro!A271),\"\",InfoPro!A271)","v":"SC_890_A2"},{"$f":"IF(ISBLANK(InfoPro!B271),\"\",InfoPro!B271)","v":"Fundación II - 100 MW"},{"$f":"IF(ISBLANK(InfoPro!E271),\"\",InfoPro!E271)","v":100},{"$f":"IF(ISBLANK(InfoPro!F271),\"\",InfoPro!F271)","v":"Solar FV"},{"$f":"IF(ISBLANK(InfoPro!I271),\"\",YEAR(InfoPro!I271)-$H$3)","v":4},{"$f":"IF(B278=\"\",\"\",VLOOKUP(D278,Tablas!$B$2:$E$13,2,FALSE))","v":0.26},{"$f":"IF(B278=\"\",\"\",VLOOKUP(D278,Tablas!$B$2:$H$13,7,FALSE))","v":83577.200000000012},0.56483127404885003,227760,15814632919.622025,14145467727.747787,12652475606.214478,11317062259.583614,10122595938.804665,9054200303.0453167,8098569144.0476894,7243800665.5167198,6479249253.5927715,5795392892.3012276,5183714572.7202396,4636596218.8910923,4147223809.3838015,3709502512.8656549,3317980780.7385111,121718464605.07561,1217184.6460507561]
[{"$f":"IF(ISBLANK(InfoPro!A272),\"\",InfoPro!A272)","v":"SC_921_A1"},{"$f":"IF(ISBLANK(InfoPro!B272),\"\",InfoPro!B272)","v":"PARQUE SOLAR EL CIELO"},{"$f":"IF(ISBLANK(InfoPro!E272),\"\",InfoPro!E272)","v":9.9},{"$f":"IF(ISBLANK(InfoPro!F272),\"\",InfoPro!F272)","v":"Solar FV"},{"$f":"IF(ISBLANK(InfoPro!I272),\"\",YEAR(InfoPro!I272)-$H$3)","v":1},{"$f":"IF(B279=\"\",\"\",VLOOKUP(D279,Tablas!$B$2:$E$13,2,FALSE))","v":0.26},{"$f":"IF(B279=\"\",\"\",VLOOKUP(D279,Tablas!$B$2:$H$13,7,FALSE))","v":83577.200000000012},0.56483127404885003,22548.240000000005,2187860970.9767447,1956941834.5051382,1750395200.8096051,1565648659.0425806,1400401305.0470312,1252595085.0152338,1120389163.6987782,1002136997.9416621,896365830.00148666,801758345.26072145,717136265.88615537,641445676.10568452,573743896.33782172,513187742.69930387,459023025.67021811,16839029998.998165,1700912.1211109257]
[{"$f":"IF(ISBLANK(InfoPro!A273),\"\",InfoPro!A273)","v":"SC_944_A1"},{"$f":"IF(ISBLANK(InfoPro!B273),\"\",InfoPro!B273)","v":"DSE FUNDACION"},{"$f":"IF(ISBLANK(InfoPro!E273),\"\",InfoPro!E273)","v":99.9},{"$f":"IF(ISBLANK(InfoPro!F273),\"\",InfoPro!F273)","v":"Solar FV"},{"$f":"IF(ISBLANK(InfoPro!I273),\"\",YEAR(InfoPro!I273)-$H$3)","v":3},{"$f":"IF(B280=\"\",\"\",VLOOKUP(D280,Tablas!$B$2:$E$13,2,FALSE))","v":0.26},{"$f":"IF(B280=\"\",\"\",VLOOKUP(D280,Tablas!$B$2:$H$13,7,FALSE))","v":83577.200000000012},0.56483127404885003,227532.24000000002,17663078844.533287,15798818286.702406,14131322260.020041,12639823130.608265,11305745197.32403,10112473342.86586,9045146102.7422733,8090470574.9036436,7236556864.851202,6472770004.33918,5789597499.408927,5178530858.147521,4631959622.6722012,4143076585.574419,3705793010.3527899,{"$f":"IF(X280=\"\",\"\",SUM(J280:X280))","v":135945162185.04604},1360812.434284745]
[{"$f":"IF(ISBLANK(InfoPro!A274),\"\",InfoPro!A274)","v":"SC_951_A1"},{"$f":"IF(ISBLANK(InfoPro!B274),\"\",InfoPro!B274)","v":"SANTA ROSA SOLAR_100MW"},{"$f":"IF(ISBLANK(InfoPro!E274),\"\",InfoPro!E274)","v":100},{"$f":"IF(ISBLANK(InfoPro!F274),\"\",InfoPro!F274)","v":"Solar FV"},{"$f":"IF(ISBLANK(InfoPro!I274),\"\",YEAR(InfoPro!I274)-$H$3)","v":3},{"$f":"IF(B281=\"\",\"\",VLOOKUP(D281,Tablas!$B$2:$E$13,2,FALSE))","v":0.26},{"$f":"IF(B281=\"\",\"\",VLOOKUP(D281,Tablas!$B$2:$H$13,7,FALSE))","v":83577.200000000012},0.56483127404885003,227760,17680759604.137424,15814632919.622025,14145467727.747787,12652475606.214478,11317062259.583614,10122595938.804665,9054200303.0453167,8098569144.0476894,7243800665.5167198,6479249253.5927715,5795392892.3012276,5183714572.7202396,4636596218.8910923,4147223809.3838015,3709502512.8656549,136081243428.47452,1360812.4342847452]
[{"$f":"IF(ISBLANK(InfoPro!A275),\"\",InfoPro!A275)","v":"SC_951_A2"},{"$f":"IF(ISBLANK(InfoPro!B275),\"\",InfoPro!B275)","v":"SANTA ROSA SOLAR_100MW"},{"$f":"IF(ISBLANK(InfoPro!E275),\"\",InfoPro!E275)","v":100},{"$f":"IF(ISBLANK(InfoPro!F275),\"\",InfoPro!F275)","v":"Solar FV"},{"$f":"IF(ISBLANK(InfoPro!I275),\"\",YEAR(InfoPro!I275)-$H$3)","v":3},{"$f":"IF(B282=\"\",\"\",VLOOKUP(D282,Tablas!$B$2:$E$13,2,FALSE))","v":0.26},{"$f":"IF(B282=\"\",\"\",VLOOKUP(D282,Tablas!$B$2:$H$13,7,FALSE))","v":83577.200000000012},0.56483127404885003,227760,17680759604.137424,15814632919.622025,14145467727.747787,12652475606.214478,11317062259.583614,10122595938.804665,9054200303.0453167,8098569144.0476894,7243800665.5167198,6479249253.5927715,5795392892.3012276,5183714572.7202396,4636596218.8910923,4147223809.3838015,3709502512.8656549,136081243428.47452,1360812.4342847452]
[{"$f":"IF(ISBLANK(InfoPro!A276),\"\",InfoPro!A276)","v":"SC_963_A1"},{"$f":"IF(ISBLANK(InfoPro!B276),\"\",InfoPro!B276)","v":"Churuco Solar"},{"$f":"IF(ISBLANK(InfoPro!E276),\"\",InfoPro!E276)","v":60},{"$f":"IF(ISBLANK(InfoPro!F276),\"\",InfoPro!F276)","v":"Solar FV"},{"$f":"IF(ISBLANK(InfoPro!I276),\"\",YEAR(InfoPro!I276)-$H$3)","v":3},{"$f":"IF(B283=\"\",\"\",VLOOKUP(D283,Tablas!$B$2:$E$13,2,FALSE))","v":0.26},{"$f":"IF(B283=\"\",\"\",VLOOKUP(D283,Tablas!$B$2:$H$13,7,FALSE))","v":83577.200000000012},{"$f":"IF(B283=\"\",\"\",($C$2-(G283))/$C$2)","v":0.56483127404885003},{"$f":"IF(C283=\"\",\"\",+C283*F283*24*365)","v":136656},10608455762.482452,9488779751.7732162,8487280636.6486721,7591485363.7286863,6790237355.7501688,6073557563.2827988,5432520181.8271914,4859141486.4286146,4346280399.3100319,3887549552.155663,3477235735.3807364,3110228743.632144,2781957731.3346553,2488334285.6302814,2225701507.7193933,81648746057.084686,{"$f":"IF(C283=0,0,IF(Y283=\"\",\"\",Y283/(C283*1000)))","v":1360812.4342847448}]
[{"$f":"IF(ISBLANK(InfoPro!A277),\"\",InfoPro!A277)","v":"SC_984_A1"},{"$f":"IF(ISBLANK(InfoPro!B277),\"\",InfoPro!B277)","v":"Eupari"},{"$f":"IF(ISBLANK(InfoPro!E277),\"\",InfoPro!E277)","v":99},{"$f":"IF(ISBLANK(InfoPro!F277),\"\",InfoPro!F277)","v":"Eólico Onshore"},{"$f":"IF(ISBLANK(InfoPro!I277),\"\",YEAR(InfoPro!I277)-$H$3)","v":3},{"$f":"IF(B284=\"\",\"\",VLOOKUP(D284,Tablas!$B$2:$E$13,2,FALSE))","v":0.56999999999999995},{"$f":"IF(B284=\"\",\"\",VLOOKUP(D284,Tablas!$B$2:$H$13,7,FALSE))","v":83577.200000000012},0.56483127404885003,494326.79999999987,38374048633.133636,34323835986.702717,30701105533.723366,27460738402.257034,24562377819.550121,21969926493.336426,19651097042.340271,17577009876.869656,15721833521.350319,14062462899.24,12578231573.559929,11250654359.17704,10063197101.231701,9001070752.4433823,8051047184.6541882,{"$f":"IF(X284=\"\",\"\",SUM(J284:X284))","v":295348637179.56976},2983319.5674704015]
[{"$f":"IF(ISBLANK(InfoPro!A278),\"\",InfoPro!A278)","v":"SC_984_A2"},{"$f":"IF(ISBLANK(InfoPro!B278),\"\",InfoPro!B278)","v":"Eupari"},{"$f":"IF(ISBLANK(InfoPro!E278),\"\",InfoPro!E278)","v":99},{"$f":"IF(ISBLANK(InfoPro!F278),\"\",InfoPro!F278)","v":"Eólico Onshore"},{"$f":"IF(ISBLANK(InfoPro!I278),\"\",YEAR(InfoPro!I278)-$H$3)","v":3},{"$f":"IF(B285=\"\",\"\",VLOOKUP(D285,Tablas!$B$2:$E$13,2,FALSE))","v":0.56999999999999995},{"$f":"IF(B285=\"\",\"\",VLOOKUP(D285,Tablas!$B$2:$H$13,7,FALSE))","v":83577.200000000012},0.56483127404885003,494326.79999999987,38374048633.133636,34323835986.702717,30701105533.723366,27460738402.257034,24562377819.550121,21969926493.336426,19651097042.340271,17577009876.869656,15721833521.350319,14062462899.24,12578231573.559929,11250654359.17704,10063197101.231701,9001070752.4433823,8051047184.6541882,295348637179.56976,2983319.5674704015]
[{"$f":"IF(ISBLANK(InfoPro!A279),\"\",InfoPro!A279)","v":""},{"$f":"IF(ISBLANK(InfoPro!B279),\"\",InfoPro!B279)","v":""},{"$f":"IF(ISBLANK(InfoPro!E279),\"\",InfoPro!E279)","v":""},{"$f":"IF(ISBLANK(InfoPro!F279),\"\",InfoPro!F279)","v":""},{"$f":"IF(ISBLANK(InfoPro!I279),\"\",YEAR(InfoPro!I279)-$H$3)","v":""},{"$f":"IF(B286=\"\",\"\",VLOOKUP(D286,Tablas!$B$2:$E$13,2,FALSE))","v":""},{"$f":"IF(B286=\"\",\"\",VLOOKUP(D286,Tablas!$B$2:$H$13,7,FALSE))","v":""},"","","","","","","","","","","","","","","","","","",""]
[{"$f":"IF(ISBLANK(InfoPro!A280),\"\",InfoPro!A280)","v":""},{"$f":"IF(ISBLANK(InfoPro!B280),\"\",InfoPro!B280)","v":""},{"$f":"IF(ISBLANK(InfoPro!E280),\"\",InfoPro!E280)","v":""},{"$f":"IF(ISBLANK(InfoPro!F280),\"\",InfoPro!F280)","v":""},{"$f":"IF(ISBLANK(InfoPro!I280),\"\",YEAR(InfoPro!I280)-$H$3)","v":""},{"$f":"IF(B287=\"\",\"\",VLOOKUP(D287,Tablas!$B$2:$E$13,2,FALSE))","v":""},{"$f":"IF(B287=\"\",\"\",VLOOKUP(D287,Tablas!$B$2:$H$13,7,FALSE))","v":""},"","","","","","","","","","","","","","","","","","",""]

{"sheet":"EC-Per","index":7,"n_rows":287,"n_cols":23,"rows_kept":287,"cut":false,"hidden":false,"merged":[]}
[]
[null,"Precio promedio de bolsa",{"$f":"'EC-RP'!C2*1000","v":192057000},"COP/GWh"]
[null,"Tasa de descuento",0.11799999999999999,null,"Año de Referencia",2023]
[null,null,null,null,"Mínimo",{"$f":"MIN(W8:W283)","v":{"$error":"#REF!"}}]
[]
[null,null,null,null,null,null,0,1,2,3,4,5,6,7,8,9,10,11,12,13,14]
["Codigo","Nombre","capacidad","Tipo","Año de entrada","Pérdidas STN","Flujo Descontado 0","Flujo Descontado 1","Flujo Descontado 2","Flujo Descontado 3","Flujo Descontado 4","Flujo Descontado 5","Flujo Descontado 6","Flujo Descontado 7","Flujo Descontado 8","Flujo Descontado 9","Flujo Descontado 10","Flujo Descontado 11","Flujo Descontado 12","Flujo Descontado 13","Flujo Descontado 14","VPN","Beneficio/kW"]
[{"$f":"IF(ISBLANK(InfoPro!A2),\"\",InfoPro!A2)","v":"\tSC_1373_A1"},{"$f":"IF(ISBLANK(InfoPro!B2),\"\",InfoPro!B2)","v":"Pétalo del Magdalena II Guacamayal"},{"$f":"IF(ISBLANK(InfoPro!E2),\"\",InfoPro!E2)","v":9.9},{"$f":"IF(ISBLANK(InfoPro!F2),\"\",InfoPro!F2)","v":"Solar FV"},{"$f":"IF(ISBLANK(InfoPro!I2),\"\",YEAR(InfoPro!I2)-$F$3)","v":3},{"$f":"IF(ISBLANK(InfoPro!P2),\"\",InfoPro!P2)","v":0.58801999999999999},{"$f":"IF($F8=\"\",\"\",(1/(1+$C$3)^(G$6+$E8))*$F8*$C$2)","v":80815902.615823612},{"$f":"IF($F8=\"\",\"\",(1/(1+$C$3)^(H$6+$E8))*$F8*$C$2)","v":72286138.29680109},{"$f":"IF($F8=\"\",\"\",(1/(1+$C$3)^(I$6+$E8))*$F8*$C$2)","v":64656653.2171745},57832426.848993294,51728467.664573617,46268754.619475506,41385290.35731262,37017254.344644554,33110245.388769738,29615604.104445208,26489806.891274784,23693923.874127716,21193134.055570409,18956291.641833995,16955538.141175307,{"$f":"IF(U8=\"\",\"\",SUM(G8:U8))","v":622005432.06199586},{"$f":"IF(C8=0,0,IF(V8=\"\",\"\",V8/(C8*1000)))","v":62828.831521413726}]
[{"$f":"IF(ISBLANK(InfoPro!A3),\"\",InfoPro!A3)","v":"\tSC_1373_A2"},{"$f":"IF(ISBLANK(InfoPro!B3),\"\",InfoPro!B3)","v":"Pétalo del Magdalena II Guacamayal"},{"$f":"IF(ISBLANK(InfoPro!E3),\"\",InfoPro!E3)","v":9.9},{"$f":"IF(ISBLANK(InfoPro!F3),\"\",InfoPro!F3)","v":"Solar FV"},{"$f":"IF(ISBLANK(InfoPro!I3),\"\",YEAR(InfoPro!I3)-$F$3)","v":3},{"$f":"IF(ISBLANK(InfoPro!P3),\"\",InfoPro!P3)","v":0.61402999999999996},84390647.738502383,75483584.739268675,67516623.201492563,60390539.536218747,54016582.769426443,48315369.203422569,43215893.741880655,38654645.565188423,34574817.142386794,30925596.728431836,27661535.535269983,24741981.695232548,22130573.967113189,19794788.879349899,17705535.670259304,{"$f":"IF(U9=\"\",\"\",SUM(G9:U9))","v":649518716.11344397},{"$f":"IF(C9=0,0,IF(V9=\"\",\"\",V9/(C9*1000)))","v":65607.951122570099}]
[{"$f":"IF(ISBLANK(InfoPro!A4),\"\",InfoPro!A4)","v":"SC_1012_A1"},{"$f":"IF(ISBLANK(InfoPro!B4),\"\",InfoPro!B4)","v":"PARQUE SOLAR FOTOVOLTAICO TUNA"},{"$f":"IF(ISBLANK(InfoPro!E4),\"\",InfoPro!E4)","v":100},{"$f":"IF(ISBLANK(InfoPro!F4),\"\",InfoPro!F4)","v":"Solar FV"},{"$f":"IF(ISBLANK(InfoPro!I4),\"\",YEAR(InfoPro!I4)-$F$3)","v":3},{"$f":"IF(ISBLANK(InfoPro!P4),\"\",InfoPro!P4)","v":-13.02},-1789434121.3870676,-1600567192.6539063,-1431634340.4775553,-1280531610.4450405,-1145377111.3104119,-1024487577.2007263,-916357403.57846713,-819639895.86624968,-733130497.19700348,-655751786.40161312,-586540059.39321399,-524633326.82756174,-469260578.55774754,-419732181.17866498,-375431289.06857342,-13772508971.543802,-137725.08971543802]
[{"$f":"IF(ISBLANK(InfoPro!A5),\"\",InfoPro!A5)","v":"SC_1012_A2"},{"$f":"IF(ISBLANK(InfoPro!B5),\"\",InfoPro!B5)","v":"PARQUE SOLAR FOTOVOLTAICO TUNA"},{"$f":"IF(ISBLANK(InfoPro!E5),\"\",InfoPro!E5)","v":100},{"$f":"IF(ISBLANK(InfoPro!F5),\"\",InfoPro!F5)","v":"Solar FV"},{"$f":"IF(ISBLANK(InfoPro!I5),\"\",YEAR(InfoPro!I5)-$F$3)","v":3},{"$f":"IF(ISBLANK(InfoPro!P5),\"\",InfoPro!P5)","v":-10.68},-1467830753.9488387,-1312907651.1170294,-1174336002.7880406,-1050389984.6046875,-939525925.40669739,-840363081.75912106,-751666441.64500999,-672331343.15296054,-601369716.59477711,-537897778.70731401,-481125025.67738289,-430344387.90463591,-384923423.88607866,-344296443.54747635,-307957462.92260855,-11297265423.662659,-112972.65423662659]
[{"$f":"IF(ISBLANK(InfoPro!A6),\"\",InfoPro!A6)","v":"SC_1077_A1"},{"$f":"IF(ISBLANK(InfoPro!B6),\"\",InfoPro!B6)","v":"Nevada I 90 MW"},{"$f":"IF(ISBLANK(InfoPro!E6),\"\",InfoPro!E6)","v":90},{"$f":"IF(ISBLANK(InfoPro!F6),\"\",InfoPro!F6)","v":"Eólico Onshore"},{"$f":"IF(ISBLANK(InfoPro!I6),\"\",YEAR(InfoPro!I6)-$F$3)","v":7},{"$f":"IF(ISBLANK(InfoPro!P6),\"\",InfoPro!P6)","v":-5.6980000000000004},-501256434.73477173,-448351014.96848989,-401029530.38326472,-358702621.09415448,-320843131.56901121,-286979545.23167372,-256690112.01401946,-229597595.71915874,-205364575.77742288,-183689244.88141578,-164301650.16226816,-146960331.09326309,-131449312.24799924,-117575413.45974886,-105165843.88170743,-3857956357.2183695,-42866.181746870774]
[{"$f":"IF(ISBLANK(InfoPro!A7),\"\",InfoPro!A7)","v":"SC_1077_A2"},{"$f":"IF(ISBLANK(InfoPro!B7),\"\",InfoPro!B7)","v":"Nevada I 90 MW"},{"$f":"IF(ISBLANK(InfoPro!E7),\"\",InfoPro!E7)","v":90},{"$f":"IF(ISBLANK(InfoPro!F7),\"\",InfoPro!F7)","v":"Eólico Onshore"},{"$f":"IF(ISBLANK(InfoPro!I7),\"\",YEAR(InfoPro!I7)-$F$3)","v":7},{"$f":"IF(ISBLANK(InfoPro!P7),\"\",InfoPro!P7)","v":-5.4930000000000003},-483222463.32013005,-432220450.19689631,-386601476.02584642,-345797384.63850307,-309299986.25984186,-276654728.31828427,-247455034.27395734,-221337239.95881698,-197976064.36387923,-177080558.46500823,-158390481.63238662,-141673060.49408463,-126720089.88737449,-113345339.79192707,-101382235.94984536,-3719156593.5767822,-41323.962150853135]
[{"$f":"IF(ISBLANK(InfoPro!A8),\"\",InfoPro!A8)","v":"SC_1135_A1"},{"$f":"IF(ISBLANK(InfoPro!B8),\"\",InfoPro!B8)","v":"Parque Eólico Brisas 1"},{"$f":"IF(ISBLANK(InfoPro!E8),\"\",InfoPro!E8)","v":200},{"$f":"IF(ISBLANK(InfoPro!F8),\"\",InfoPro!F8)","v":"Eólico Onshore"},{"$f":"IF(ISBLANK(InfoPro!I8),\"\",YEAR(InfoPro!I8)-$F$3)","v":5},{"$f":"IF(ISBLANK(InfoPro!P8),\"\",InfoPro!P8)","v":-3.14},-345263581.34404939,-308822523.56355047,-276227659.71695036,-247073040.89172664,-220995564.30386996,-197670451.07680678,-176807201.32093635,-158145976.1367946,-141454361.48192719,-126524473.59743041,-113170369.94403437,-101225733.4025352,-90541800.896722019,-80985510.641075134,-72437844.938349888,-2657346093.2567587,-13286.730466283794]
[{"$f":"IF(ISBLANK(InfoPro!A9),\"\",InfoPro!A9)","v":"SC_1135_A2"},{"$f":"IF(ISBLANK(InfoPro!B9),\"\",InfoPro!B9)","v":"Parque Eólico Brisas 1"},{"$f":"IF(ISBLANK(InfoPro!E9),\"\",InfoPro!E9)","v":200},{"$f":"IF(ISBLANK(InfoPro!F9),\"\",InfoPro!F9)","v":"Eólico Onshore"},{"$f":"IF(ISBLANK(InfoPro!I9),\"\",YEAR(InfoPro!I9)-$F$3)","v":5},{"$f":"IF(ISBLANK(InfoPro!P9),\"\",InfoPro!P9)","v":-12.42},-1365660407.736654,-1221520937.1526423,-1092594755.9504852,-977276168.11313522,-874128951.80065763,-781868472.09361136,-699345681.65797102,-625532810.06974161,-559510563.5686419,-500456675.82168335,-447635667.10347348,-400389684.35015512,-358130308.0055055,-320331223.61852008,-286521666.92175335,-10510903973.96463,-52554.519869823147]
[{"$f":"IF(ISBLANK(InfoPro!A10),\"\",InfoPro!A10)","v":"SC_1154_A1"},{"$f":"IF(ISBLANK(InfoPro!B10),\"\",InfoPro!B10)","v":"Parque Eólico Brisas 2"},{"$f":"IF(ISBLANK(InfoPro!E10),\"\",InfoPro!E10)","v":200},{"$f":"IF(ISBLANK(InfoPro!F10),\"\",InfoPro!F10)","v":"Eólico Onshore"},{"$f":"IF(ISBLANK(InfoPro!I10),\"\",YEAR(InfoPro!I10)-$F$3)","v":6},{"$f":"IF(ISBLANK(InfoPro!P10),\"\",InfoPro!P10)","v":-7.9},-776973865.01657605,-694967678.90570319,-621616886.31994915,-556007948.40782571,-497323746.33973682,-444833404.59726024,-397883188.36964238,-355888361.69019896,-318325904.91073257,-284728000.81460875,-254676208.24204713,-227796250.66372734,-203753354.79760942,-182248081.21431977,-163012595.00386381,-5980035475.2938023,-29900.177376469012]
[{"$f":"IF(ISBLANK(InfoPro!A11),\"\",InfoPro!A11)","v":"SC_1154_A2"},{"$f":"IF(ISBLANK(InfoPro!B11),\"\",InfoPro!B11)","v":"Parque Eólico Brisas 2"},{"$f":"IF(ISBLANK(InfoPro!E11),\"\",InfoPro!E11)","v":200},{"$f":"IF(ISBLANK(InfoPro!F11),\"\",InfoPro!F11)","v":"Eólico Onshore"},{"$f":"IF(ISBLANK(InfoPro!I11),\"\",YEAR(InfoPro!I11)-$F$3)","v":6},{"$f":"IF(ISBLANK(InfoPro!P11),\"\",InfoPro!P11)","v":-12.55},-1234306583.0326619,-1104030932.9451361,-987505306.74877989,-883278449.68584991,-790052280.57768309,-706665725.02476144,-632080254.94164717,-565366954.33063257,-505694950.20629036,-452321064.58523291,-404580558.66299897,-361878853.90250355,-323684126.92531621,-289520685.97971052,-258963046.49347985,-9499929774.0426846,-47499.648870213423]
[{"$f":"IF(ISBLANK(InfoPro!A12),\"\",InfoPro!A12)","v":"SC_1161_A1"},{"$f":"IF(ISBLANK(InfoPro!B12),\"\",InfoPro!B12)","v":"Parque Eólico Brisas 3"},{"$f":"IF(ISBLANK(InfoPro!E12),\"\",InfoPro!E12)","v":200},{"$f":"IF(ISBLANK(InfoPro!F12),\"\",InfoPro!F12)","v":"Eólico Onshore"},{"$f":"IF(ISBLANK(InfoPro!I12),\"\",YEAR(InfoPro!I12)-$F$3)","v":7},{"$f":"IF(ISBLANK(InfoPro!P12),\"\",InfoPro!P12)","v":-8.43},{"$f":"IF($F18=\"\",\"\",(1/(1+$C$3)^(G$6+$E18))*$F18*$C$2)","v":-741592092.80697179},-663320297.68065453,-593309747.47822416,-530688504.00556719,-474676658.3234055,-424576617.46279562,-379764416.33523762,-339681946.63259178,-303830005.93255085,-271762080.44056422,-243078783.93610397,-217422883.66377813,-194474851.21983743,-173948883.02311036,-155589340.80779105,-5707717109.7491827,-28538.585548745912]
[{"$f":"IF(ISBLANK(InfoPro!A13),\"\",InfoPro!A13)","v":"SC_1161_A2"},{"$f":"IF(ISBLANK(InfoPro!B13),\"\",InfoPro!B13)","v":"Parque Eólico Brisas 3"},{"$f":"IF(ISBLANK(InfoPro!E13),\"\",InfoPro!E13)","v":200},{"$f":"IF(ISBLANK(InfoPro!F13),\"\",InfoPro!F13)","v":"Eólico Onshore"},{"$f":"IF(ISBLANK(InfoPro!I13),\"\",YEAR(InfoPro!I13)-$F$3)","v":7},{"$f":"IF(ISBLANK(InfoPro!P13),\"\",InfoPro!P13)","v":-12.59},-1107549756.6357977,-990652734.02128601,-886093679.80437028,-792570375.49585891,-708918046.06069696,-634094853.36377192,-567168920.7189374,-507306726.94001555,-453762725.34885114,-405870058.45156628,-363032252.64004141,-324715789.4812535,-290443461.07446653,-259788426.72134751,-232368896.88850409,-8524336703.6467648,-42621.683518233825]
[{"$f":"IF(ISBLANK(InfoPro!#REF!),\"\",InfoPro!#REF!)","v":{"$error":"#REF!"}},{"$f":"IF(ISBLANK(InfoPro!#REF!),\"\",InfoPro!#REF!)","v":{"$error":"#REF!"}},{"$f":"IF(ISBLANK(InfoPro!#REF!),\"\",InfoPro!#REF!)","v":{"$error":"#REF!"}},{"$f":"IF(ISBLANK(InfoPro!#REF!),\"\",InfoPro!#REF!)","v":{"$error":"#REF!"}},{"$f":"IF(ISBLANK(InfoPro!#REF!),\"\",YEAR(InfoPro!#REF!)-$F$3)","v":{"$error":"#REF!"}},{"$f":"IF(ISBLANK(InfoPro!#REF!),\"\",InfoPro!#REF!)","v":{"$error":"#REF!"}},{"$error":"#REF!"},{"$error":"#REF!"},{"$error":"#REF!"},{"$error":"#REF!"},{"$error":"#REF!"},{"$error":"#REF!"},{"$error":"#REF!"},{"$error":"#REF!"},{"$error":"#REF!"},{"$error":"#REF!"},{"$error":"#REF!"},{"$error":"#REF!"},{"$error":"#REF!"},{"$error":"#REF!"},{"$error":"#REF!"},{"$error":"#REF!"},{"$error":"#REF!"}]
[{"$f":"IF(ISBLANK(InfoPro!A14),\"\",InfoPro!A14)","v":"SC_1211_A1"},{"$f":"IF(ISBLANK(InfoPro!B14),\"\",InfoPro!B14)","v":"Planta Solar FV Caracolicitos 69MW"},{"$f":"IF(ISBLANK(InfoPro!E14),\"\",InfoPro!E14)","v":69},{"$f":"IF(ISBLANK(InfoPro!F14),\"\",InfoPro!F14)","v":"Solar FV"},{"$f":"IF(ISBLANK(InfoPro!I14),\"\",YEAR(InfoPro!I14)-$F$3)","v":3},{"$f":"IF(ISBLANK(InfoPro!P14),\"\",InfoPro!P14)","v":-0.91854999999999998},-126243065.45315596,-112918663.19602503,-101000593.19859126,-90340423.254553899,-80805387.52643463,-72276733.029011294,-64648240.634178266,-57824902.17726142,-51721737.188963711,-46262734.516067728,-41379905.649434462,-37012437.969082706,-33105937.360539097,-29611750.769712962,-26486360.25913503,-971638872.18214738,-14081.722785248512]
[{"$f":"IF(ISBLANK(InfoPro!A15),\"\",InfoPro!A15)","v":"SC_1211_A2"},{"$f":"IF(ISBLANK(InfoPro!B15),\"\",InfoPro!B15)","v":"Planta Solar FV Caracolicitos 69MW"},{"$f":"IF(ISBLANK(InfoPro!E15),\"\",InfoPro!E15)","v":69},{"$f":"IF(ISBLANK(InfoPro!F15),\"\",InfoPro!F15)","v":"Solar FV"},{"$f":"IF(ISBLANK(InfoPro!I15),\"\",YEAR(InfoPro!I15)-$F$3)","v":3},{"$f":"IF(ISBLANK(InfoPro!P15),\"\",InfoPro!P15)","v":-1.2177100000000001},-167358819.0441049,-149694829.19866273,-133895196.0632046,-119763144.95814364,-107122669.90889415,-95816341.600084215,-85703346.690594122,-76657734.070298851,-68566846.21672529,-61329916.115138888,-54856812.2675661,-49066916.160613693,-43888118.211640157,-39255919.688408002,-35112629.417180687,-1288089239.6112599,-18667.959994366087]
[{"$f":"IF(ISBLANK(InfoPro!A16),\"\",InfoPro!A16)","v":"SC_1218_A1"},{"$f":"IF(ISBLANK(InfoPro!B16),\"\",InfoPro!B16)","v":"Las Flores 150 MW"},{"$f":"IF(ISBLANK(InfoPro!E16),\"\",InfoPro!E16)","v":150},{"$f":"IF(ISBLANK(InfoPro!F16),\"\",InfoPro!F16)","v":"Solar FV"},{"$f":"IF(ISBLANK(InfoPro!I16),\"\",YEAR(InfoPro!I16)-$F$3)","v":2},{"$f":"IF(ISBLANK(InfoPro!P16),\"\",InfoPro!P16)","v":-19.747730000000001},-3034336312.1357784,-2714075413.3593726,-2427616648.8008699,-2171392351.3424602,-1942211405.4941504,-1737219504.0198128,-1553863599.3021584,-1389860106.7103384,-1243166463.9627354,-1111955692.2743611,-994593642.46365047,-889618642.63296115,-795723293.94719243,-711738187.78818655,-636617341.49211669,-23353988605.726143,-155693.25737150761]
[{"$f":"IF(ISBLANK(InfoPro!A17),\"\",InfoPro!A17)","v":"SC_1223_A1"},{"$f":"IF(ISBLANK(InfoPro!B17),\"\",InfoPro!B17)","v":"Parque Eolico Sirius"},{"$f":"IF(ISBLANK(InfoPro!E17),\"\",InfoPro!E17)","v":100},{"$f":"IF(ISBLANK(InfoPro!F17),\"\",InfoPro!F17)","v":"Eólico Onshore"},{"$f":"IF(ISBLANK(InfoPro!I17),\"\",YEAR(InfoPro!I17)-$F$3)","v":2},{"$f":"IF(ISBLANK(InfoPro!P17),\"\",InfoPro!P17)","v":-15.44042},-2372496842.960052,-2122090199.4275963,-1898112879.6311238,-1697775384.2854416,-1518582633.5290177,-1358302892.2442021,-1214939975.1737049,-1086708385.6652102,-972011078.41253138,-869419569.24197829,-777656144.22359407,-695577946.53273189,-622162742.87364209,-556496192.19467103,-497760458.13476831,-18260093324.530266,-182600.93324530264]
[{"$f":"IF(ISBLANK(InfoPro!A18),\"\",InfoPro!A18)","v":"SC_1232_A1"},{"$f":"IF(ISBLANK(InfoPro!B18),\"\",InfoPro!B18)","v":"La Paz Solar 9,9 MW"},{"$f":"IF(ISBLANK(InfoPro!E18),\"\",InfoPro!E18)","v":9.9},{"$f":"IF(ISBLANK(InfoPro!F18),\"\",InfoPro!F18)","v":"Solar FV"},{"$f":"IF(ISBLANK(InfoPro!I18),\"\",YEAR(InfoPro!I18)-$F$3)","v":2},{"$f":"IF(ISBLANK(InfoPro!P18),\"\",InfoPro!P18)","v":0.76151999999999997},117011311.59974527,104661280.50066663,93614741.056052446,83734115.434751749,74896346.542711765,66991365.422819123,59920720.413970582,53596350.996395878,47939491.052232444,42879687.882139951,38353924.760411397,34305836.100546874,30685005.456660889,27446337.617764663,24549496.974744774,900586011.81161427,90968.284021375177]
[{"$f":"IF(ISBLANK(InfoPro!A19),\"\",InfoPro!A19)","v":"SC_1232_A2"},{"$f":"IF(ISBLANK(InfoPro!B19),\"\",InfoPro!B19)","v":"La Paz Solar 9,9 MW"},{"$f":"IF(ISBLANK(InfoPro!E19),\"\",InfoPro!E19)","v":9.9},{"$f":"IF(ISBLANK(InfoPro!F19),\"\",InfoPro!F19)","v":"Solar FV"},{"$f":"IF(ISBLANK(InfoPro!I19),\"\",YEAR(InfoPro!I19)-$F$3)","v":2},{"$f":"IF(ISBLANK(InfoPro!P19),\"\",InfoPro!P19)","v":0.77578000000000003},119202431.07580943,106621136.91932867,95367743.219435304,85302095.902893841,76298833.544627771,68245826.068540037,61042778.236619003,54599980.533648491,48837191.890562154,43682640.331450954,39072129.097898886,34948237.117977537,31259603.862233937,27960289.679994579,25009203.649369031,917450121.13038945,92671.729407110048]
[{"$f":"IF(ISBLANK(InfoPro!A20),\"\",InfoPro!A20)","v":"SC_1239_A1"},{"$f":"IF(ISBLANK(InfoPro!B20),\"\",InfoPro!B20)","v":"El Carmen"},{"$f":"IF(ISBLANK(InfoPro!E20),\"\",InfoPro!E20)","v":104.5},{"$f":"IF(ISBLANK(InfoPro!F20),\"\",InfoPro!F20)","v":"Eólico Onshore"},{"$f":"IF(ISBLANK(InfoPro!I20),\"\",YEAR(InfoPro!I20)-$F$3)","v":4},{"$f":"IF(ISBLANK(InfoPro!P20),\"\",InfoPro!P20)","v":-45.85635113},-5637186727.6110516,-5042206375.3229446,-4510023591.5232067,-4034010368.0887361,-3608238254.1044154,-3227404520.6658459,-2886766118.663547,-2582080607.0335846,-2309553315.7724371,-2065790085.6640766,-1847754996.1217144,-1652732554.6705854,-1478293877.165103,-1322266437.5358706,-1182707010.3183098,-43387014840.261429,-415186.74488288449]
[{"$f":"IF(ISBLANK(InfoPro!A21),\"\",InfoPro!A21)","v":"SC_1239_A2"},{"$f":"IF(ISBLANK(InfoPro!B21),\"\",InfoPro!B21)","v":"El Carmen"},{"$f":"IF(ISBLANK(InfoPro!E21),\"\",InfoPro!E21)","v":104.5},{"$f":"IF(ISBLANK(InfoPro!F21),\"\",InfoPro!F21)","v":"Eólico Onshore"},{"$f":"IF(ISBLANK(InfoPro!I21),\"\",YEAR(InfoPro!I21)-$F$3)","v":4},{"$f":"IF(ISBLANK(InfoPro!P21),\"\",InfoPro!P21)","v":-46.026992550000003},{"$f":"IF($F28=\"\",\"\",(1/(1+$C$3)^(G$6+$E28))*$F28*$C$2)","v":-5658163921.048831},-5060969517.932765,-4526806366.6661587,-4049021794.8713408,-3621665290.5825949,-3239414392.2921238,-2897508400.9768553,-2591689088.5302825,-2318147664.1594658,-2073477338.2463915,-1854630892.8858604,-1658882730.6671383,-1483794929.0403738,-1327186877.4958622,-1187108119.4059589,-43548467324.80201,-416731.74473494745]
[{"$f":"IF(ISBLANK(InfoPro!A22),\"\",InfoPro!A22)","v":"SC_1244_A1"},{"$f":"IF(ISBLANK(InfoPro!B22),\"\",InfoPro!B22)","v":"Proyecto Maria"},{"$f":"IF(ISBLANK(InfoPro!E22),\"\",InfoPro!E22)","v":120},{"$f":"IF(ISBLANK(InfoPro!F22),\"\",InfoPro!F22)","v":"Eólico Onshore"},{"$f":"IF(ISBLANK(InfoPro!I22),\"\",YEAR(InfoPro!I22)-$F$3)","v":3},{"$f":"IF(ISBLANK(InfoPro!P22),\"\",InfoPro!P22)","v":-70.349999999999994},-9668716623.6236706,-8648225960.3073978,-7735443613.8706608,-6919001443.5336857,-6188731165.9514189,-5535537715.5200529,-4951285970.9481697,-4428699437.3418331,-3961269621.9515505,-3543174974.911942,-3169208385.4310751,-2834712330.4392447,-2535520868.0136356,-2267907753.1427865,-2028540029.644711,-74415975894.631851,-620133.13245526538]
[{"$f":"IF(ISBLANK(InfoPro!A23),\"\",InfoPro!A23)","v":"SC_1252_A1"},{"$f":"IF(ISBLANK(InfoPro!B23),\"\",InfoPro!B23)","v":"Parque Eólico Neptuno"},{"$f":"IF(ISBLANK(InfoPro!E23),\"\",InfoPro!E23)","v":150},{"$f":"IF(ISBLANK(InfoPro!F23),\"\",InfoPro!F23)","v":"Eólico Onshore"},{"$f":"IF(ISBLANK(InfoPro!I23),\"\",YEAR(InfoPro!I23)-$F$3)","v":3},{"$f":"IF(ISBLANK(InfoPro!P23),\"\",InfoPro!P23)","v":-25.3566},-3484943567.001791,-3117123047.4076843,-2788124371.5632238,-2493850064.0100393,-2230635119.8658671,-1995201359.4506862,-1784616600.5820093,-1596258140.0554645,-1427780089.4950492,-1277084158.7612245,-1142293523.0422404,-1021729448.1594281,-913890382.96907699,-817433258.46965718,-731156760.70631242,-26822119891.539757,-178814.13261026505]
[{"$f":"IF(ISBLANK(InfoPro!A24),\"\",InfoPro!A24)","v":"SC_1262_A1"},{"$f":"IF(ISBLANK(InfoPro!B24),\"\",InfoPro!B24)","v":"Parque Solar Australe de 251 MW (entrega 200 MW)"},{"$f":"IF(ISBLANK(InfoPro!E24),\"\",InfoPro!E24)","v":200},{"$f":"IF(ISBLANK(InfoPro!F24),\"\",InfoPro!F24)","v":"Solar FV"},{"$f":"IF(ISBLANK(InfoPro!I24),\"\",YEAR(InfoPro!I24)-$F$3)","v":3},{"$f":"IF(ISBLANK(InfoPro!P24),\"\",InfoPro!P24)","v":-8.49},-1166842986.9874196,-1043687823.7812341,-933531148.28375149,-835001027.08743417,-746870328.34296453,-668041438.58941364,-597532592.65600514,-534465646.38283104,-478055139.87730873,-427598515.09598279,-382467365.91769487,-342099611.73317969,-305992497.07797825,-273696330.12341523,-244808882.04241076,-8980691333.979023,-44903.456669895117]
[{"$f":"IF(ISBLANK(InfoPro!A25),\"\",InfoPro!A25)","v":"SC_1262_A2"},{"$f":"IF(ISBLANK(InfoPro!B25),\"\",InfoPro!B25)","v":"Parque Solar Australe de 251 MW (entrega 200 MW)"},{"$f":"IF(ISBLANK(InfoPro!E25),\"\",InfoPro!E25)","v":200},{"$f":"IF(ISBLANK(InfoPro!F25),\"\",InfoPro!F25)","v":"Solar FV"},{"$f":"IF(ISBLANK(InfoPro!I25),\"\",YEAR(InfoPro!I25)-$F$3)","v":3},{"$f":"IF(ISBLANK(InfoPro!P25),\"\",InfoPro!P25)","v":-11.18},-1536549422.2048705,-1374373365.1206355,-1229314280.072125,-1099565545.6816859,-983511221.53996968,-879705922.665447,-786856818.12651801,-703807529.63015902,-629523729.5439707,-563080258.98387361,-503649605.5311929,-450491597.0762012,-402944183.43130708,-360415190.90456796,-322374947.14183182,-11826163617.654354,-59130.818088271772]
[{"$f":"IF(ISBLANK(InfoPro!A26),\"\",InfoPro!A26)","v":"SC_1264_A1"},{"$f":"IF(ISBLANK(InfoPro!B26),\"\",InfoPro!B26)","v":"Parque Solar Galus de 133 MW (entrega 110 MW)"},{"$f":"IF(ISBLANK(InfoPro!E26),\"\",InfoPro!E26)","v":110},{"$f":"IF(ISBLANK(InfoPro!F26),\"\",InfoPro!F26)","v":"Solar FV"},{"$f":"IF(ISBLANK(InfoPro!I26),\"\",YEAR(InfoPro!I26)-$F$3)","v":4},{"$f":"IF(ISBLANK(InfoPro!P26),\"\",InfoPro!P26)","v":-6.63},-815035367.68781877,-729011956.78695774,-652067939.8809998,-583245026.72719133,-521686070.41788137,-466624392.14479554,-417374232.68765247,-373322211.70630825,-333919688.46718085,-298675928.86152142,-267151993.61495653,-238955271.56972861,-213734589.95503446,-191175840.74690029,-170998068.64660132,-6272978579.9015303,-57027.077999104818]
[{"$f":"IF(ISBLANK(InfoPro!A27),\"\",InfoPro!A27)","v":"SC_1264_A2"},{"$f":"IF(ISBLANK(InfoPro!B27),\"\",InfoPro!B27)","v":"Parque Solar Galus de 133 MW (entrega 110 MW)"},{"$f":"IF(ISBLANK(InfoPro!E27),\"\",InfoPro!E27)","v":110},{"$f":"IF(ISBLANK(InfoPro!F27),\"\",InfoPro!F27)","v":"Solar FV"},{"$f":"IF(ISBLANK(InfoPro!I27),\"\",YEAR(InfoPro!I27)-$F$3)","v":4},{"$f":"IF(ISBLANK(InfoPro!P27),\"\",InfoPro!P27)","v":-6.2},-762174853.64471745,-681730638.32264531,-609776957.35478115,-545417672.05257714,-487851227.23844111,-436360668.37069875,-390304712.31726176,-349109760.57000172,-312262755.42933959,-279304790.18724471,-249825393.72741035,-223457418.36083221,-199872467.22793573,-178776804.31836829,-159907696.17027575,-5866133815.2925301,-53328.489229932093]
[{"$f":"IF(ISBLANK(InfoPro!A28),\"\",InfoPro!A28)","v":"SC_1266_A1"},{"$f":"IF(ISBLANK(InfoPro!B28),\"\",InfoPro!B28)","v":"Parque Solar Fornax DE 127 MW (Entrega 105 MW)"},{"$f":"IF(ISBLANK(InfoPro!E28),\"\",InfoPro!E28)","v":105},{"$f":"IF(ISBLANK(InfoPro!F28),\"\",InfoPro!F28)","v":"Solar FV"},{"$f":"IF(ISBLANK(InfoPro!I28),\"\",YEAR(InfoPro!I28)-$F$3)","v":4},{"$f":"IF(ISBLANK(InfoPro!P28),\"\",InfoPro!P28)","v":-5.21},-640472739.91757703,-572873649.30015838,-512409346.42232412,-458326785.70869786,-409952402.2439158,-366683722.9373129,-327981863.09240866,-293364814.9305982,-262401444.4817515,-234706122.07670084,-209933919.56771094,-187776314.46127996,-167957347.46089438,-150230185.56430626,-134374047.9108285,-4929444706.0764656,-46947.092438823485]
[{"$f":"IF(ISBLANK(InfoPro!A29),\"\",InfoPro!A29)","v":"SC_1266_A2"},{"$f":"IF(ISBLANK(InfoPro!B29),\"\",InfoPro!B29)","v":"Parque Solar Fornax DE 127 MW (Entrega 105 MW)"},{"$f":"IF(ISBLANK(InfoPro!E29),\"\",InfoPro!E29)","v":105},{"$f":"IF(ISBLANK(InfoPro!F29),\"\",InfoPro!F29)","v":"Solar FV"},{"$f":"IF(ISBLANK(InfoPro!I29),\"\",YEAR(InfoPro!I29)-$F$3)","v":4},{"$f":"IF(ISBLANK(InfoPro!P29),\"\",InfoPro!P29)","v":-7.24},-890023538.77221847,-796085455.07354057,-712062124.39493799,-636907088.00978363,-569684336.32359898,-509556651.45223528,-455775180.18983471,-407670107.50432456,-364642314.40458369,-326155916.28316969,-291731588.80426627,-260940598.21490729,-233399461.73068622,-208765171.49435267,-186730922.62464458,-6850130455.2770844,-65239.337669305569]
[{"$f":"IF(ISBLANK(InfoPro!A30),\"\",InfoPro!A30)","v":"SC_1272_A1"},{"$f":"IF(ISBLANK(InfoPro!B30),\"\",InfoPro!B30)","v":"Guacamayal Solar de 9,9 MW"},{"$f":"IF(ISBLANK(InfoPro!E30),\"\",InfoPro!E30)","v":9.9},{"$f":"IF(ISBLANK(InfoPro!F30),\"\",InfoPro!F30)","v":"Solar FV"},{"$f":"IF(ISBLANK(InfoPro!I30),\"\",YEAR(InfoPro!I30)-$F$3)","v":1},{"$f":"IF(ISBLANK(InfoPro!P30),\"\",InfoPro!P30)","v":3.5129999999999999},603485009.83899832,539789812.02057087,482817363.16687924,431858106.58933741,386277376.19797629,345507492.12699133,309040690.63237149,276422800.20784569,247247585.15907493,221151686.18879685,197810094.98103482,176932106.42310807,158257698.05286947,141554291.63941815,126613856.56477475,4644765969.7900476,469168.27977677248]
[{"$f":"IF(ISBLANK(InfoPro!A31),\"\",InfoPro!A31)","v":"SC_1272_A2"},{"$f":"IF(ISBLANK(InfoPro!B31),\"\",InfoPro!B31)","v":"Guacamayal Solar de 9,9 MW"},{"$f":"IF(ISBLANK(InfoPro!E31),\"\",InfoPro!E31)","v":9.9},{"$f":"IF(ISBLANK(InfoPro!F31),\"\",InfoPro!F31)","v":"Solar FV"},{"$f":"IF(ISBLANK(InfoPro!I31),\"\",YEAR(InfoPro!I31)-$F$3)","v":1},{"$f":"IF(ISBLANK(InfoPro!P31),\"\",InfoPro!P31)","v":1.728},{"$f":"IF($F38=\"\",\"\",(1/(1+$C$3)^(G$6+$E38))*$F38*$C$2)","v":296846597.49552774},265515740.15700155,237491717.4928458,212425507.59646317,190004926.29379535,169950739.08210674,152013183.43658924,135968858.17226228,121617941.12009151,108781700.46519813,97300268.752413377,87030651.835790142,77844947.974767566,69628754.89692986,62279744.988309354,2284701279.7600913,230777.90704647388]
[{"$f":"IF(ISBLANK(InfoPro!A32),\"\",InfoPro!A32)","v":"SC_1293_A1"},{"$f":"IF(ISBLANK(InfoPro!B32),\"\",InfoPro!B32)","v":"Leo Solar II"},{"$f":"IF(ISBLANK(InfoPro!E32),\"\",InfoPro!E32)","v":80},{"$f":"IF(ISBLANK(InfoPro!F32),\"\",InfoPro!F32)","v":"Solar FV"},{"$f":"IF(ISBLANK(InfoPro!I32),\"\",YEAR(InfoPro!I32)-$F$3)","v":2},{"$f":"IF(ISBLANK(InfoPro!P32),\"\",InfoPro!P32)","v":-1.93},-296554038.48553997,-265254059.46828264,-237257656.05392009,-212216150.31656539,-189817665.75721413,-169783243.07443124,-151863365.89841795,-135834853.21862072,-121498079.80198632,-108674489.98388761,-97204373.867520228,-86944878.235706836,-77768227.402242258,-69560131.844581619,-62218364.798373543,-2282449578.2072906,-28530.619727591133]
[{"$f":"IF(ISBLANK(InfoPro!A33),\"\",InfoPro!A33)","v":"SC_1293_A2"},{"$f":"IF(ISBLANK(InfoPro!B33),\"\",InfoPro!B33)","v":"Leo Solar II"},{"$f":"IF(ISBLANK(InfoPro!E33),\"\",InfoPro!E33)","v":80},{"$f":"IF(ISBLANK(InfoPro!F33),\"\",InfoPro!F33)","v":"Solar FV"},{"$f":"IF(ISBLANK(InfoPro!I33),\"\",YEAR(InfoPro!I33)-$F$3)","v":2},{"$f":"IF(ISBLANK(InfoPro!P33),\"\",InfoPro!P33)","v":-6.81},-1046390156.5215166,-935948261.64715278,-837163024.72911692,-748804136.60922813,-669771141.86871922,-599079733.33516932,-535849493.14415866,-479292927.67813838,-428705659.81944394,-383457656.36801791,-342985381.36674237,-306784777.60889304,-274404988.91672003,-245442745.00601083,-219537339.00358742,-8053617423.6226168,-100670.2177952827]
[{"$f":"IF(ISBLANK(InfoPro!A34),\"\",InfoPro!A34)","v":"SC_1306_A1"},{"$f":"IF(ISBLANK(InfoPro!B34),\"\",InfoPro!B34)","v":"Leo Solar I"},{"$f":"IF(ISBLANK(InfoPro!E34),\"\",InfoPro!E34)","v":19.899999999999999},{"$f":"IF(ISBLANK(InfoPro!F34),\"\",InfoPro!F34)","v":"Solar FV"},{"$f":"IF(ISBLANK(InfoPro!I34),\"\",YEAR(InfoPro!I34)-$F$3)","v":2},{"$f":"IF(ISBLANK(InfoPro!P34),\"\",InfoPro!P34)","v":-2.87},-440989684.17279774,-394445155.78962237,-352813198.38069981,-315575311.61064392,-282267720.58197129,-252475599.80498332,-225827906.80231062,-201992761.00385571,-180673310.37911958,-161604034.32837173,-144547436.78745237,-129291088.36086975,-115644980.64478512,-103439159.78961104,-92521609.82970573,-3394108958.2667994,-170558.23910888439]
[{"$f":"IF(ISBLANK(InfoPro!A35),\"\",InfoPro!A35)","v":"SC_1306_A2"},{"$f":"IF(ISBLANK(InfoPro!B35),\"\",InfoPro!B35)","v":"Leo Solar I"},{"$f":"IF(ISBLANK(InfoPro!E35),\"\",InfoPro!E35)","v":19.899999999999999},{"$f":"IF(ISBLANK(InfoPro!F35),\"\",InfoPro!F35)","v":"Solar FV"},{"$f":"IF(ISBLANK(InfoPro!I35),\"\",YEAR(InfoPro!I35)-$F$3)","v":2},{"$f":"IF(ISBLANK(InfoPro!P35),\"\",InfoPro!P35)","v":-2.7},-414868343.99531502,-371080808.58257163,-331914855.6194737,-296882697.33405524,-265548029.81579182,-237520599.11967072,-212451340.89415982,-190028033.00014299,-169971406.97687206,-152031669.92564592,-135985393.49342209,-121632731.21057434,-108794929.5264529,-97312101.544233367,-87041235.728294596,-3193064176.7666755,-160455.48626968218]
[{"$f":"IF(ISBLANK(InfoPro!A36),\"\",InfoPro!A36)","v":"SC_1311_A1"},{"$f":"IF(ISBLANK(InfoPro!B36),\"\",InfoPro!B36)","v":"Elipse de 200 MW"},{"$f":"IF(ISBLANK(InfoPro!E36),\"\",InfoPro!E36)","v":200},{"$f":"IF(ISBLANK(InfoPro!F36),\"\",InfoPro!F36)","v":"Eólico Onshore"},{"$f":"IF(ISBLANK(InfoPro!I36),\"\",YEAR(InfoPro!I36)-$F$3)","v":2},{"$f":"IF(ISBLANK(InfoPro!P36),\"\",InfoPro!P36)","v":9.872109},1516898337.9893498,1356796366.7167714,1213592456.8128543,1085503091.9614084,970932998.1765728,868455275.64988637,776793627.59381604,694806464.75296605,621472687.61445975,555878969.24370301,497208380.36109394,444730214.99203396,397790889.97498566,355805804.98657042,318252061.70534021,11674917628.531809,58374.588142659042]
[{"$f":"IF(ISBLANK(InfoPro!A37),\"\",InfoPro!A37)","v":"SC_1312_A1"},{"$f":"IF(ISBLANK(InfoPro!B37),\"\",InfoPro!B37)","v":"Omega de 300 MW"},{"$f":"IF(ISBLANK(InfoPro!E37),\"\",InfoPro!E37)","v":300},{"$f":"IF(ISBLANK(InfoPro!F37),\"\",InfoPro!F37)","v":"Eólico Onshore"},{"$f":"IF(ISBLANK(InfoPro!I37),\"\",YEAR(InfoPro!I37)-$F$3)","v":5},{"$f":"IF(ISBLANK(InfoPro!P37),\"\",InfoPro!P37)","v":18.305713000000001},2012833130.3937335,1800387415.3790104,1610364414.4713869,1440397508.4717236,1288369864.464869,1152388071.9721546,1030758561.6924464,921966513.14172304,824656988.49885786,737618057.69128621,659765704.55392337,590130326.07685435,527844656.59825975,472132966.54584956,422301401.20380116,15491915581.155876,51639.718603852918]
[{"$f":"IF(ISBLANK(InfoPro!A38),\"\",InfoPro!A38)","v":"SC_1313_A1"},{"$f":"IF(ISBLANK(InfoPro!B38),\"\",InfoPro!B38)","v":"Kappa de 500 MW"},{"$f":"IF(ISBLANK(InfoPro!E38),\"\",InfoPro!E38)","v":500},{"$f":"IF(ISBLANK(InfoPro!F38),\"\",InfoPro!F38)","v":"Eólico Onshore"},{"$f":"IF(ISBLANK(InfoPro!I38),\"\",YEAR(InfoPro!I38)-$F$3)","v":4},{"$f":"IF(ISBLANK(InfoPro!P38),\"\",InfoPro!P38)","v":110.777796},13618072653.771671,12180744770.815449,10895120546.346554,9745188324.1024666,8716626407.9628506,7796624694.0633717,6973725128.8581152,6237679006.1342716,5579319325.7014952,4990446624.0621605,4463726855.1539907,3992600049.3327289,3571198612.9988623,3194274251.3406649,2857132604.0614176,104812479854.70607,209624.95970941213]
[{"$f":"IF(ISBLANK(InfoPro!A39),\"\",InfoPro!A39)","v":"SC_1315_A1"},{"$f":"IF(ISBLANK(InfoPro!B39),\"\",InfoPro!B39)","v":"Parque Eólico Cordobita - 50MW"},{"$f":"IF(ISBLANK(InfoPro!E39),\"\",InfoPro!E39)","v":50},{"$f":"IF(ISBLANK(InfoPro!F39),\"\",InfoPro!F39)","v":"Eólico Onshore"},{"$f":"IF(ISBLANK(InfoPro!I39),\"\",YEAR(InfoPro!I39)-$F$3)","v":4},{"$f":"IF(ISBLANK(InfoPro!P39),\"\",InfoPro!P39)","v":-0.02},-2458628.5601442498,-2199131.0913633718,-1967022.4430799391,-1759411.845330894,-1573713.6362530359,-1407615.0592603183,-1259047.4590879411,-1126160.5179677473,-1007299.2110623858,-900983.19415240234,-805888.36686261406,-720830.38180913613,-644749.8942836636,-576699.36876892997,-515831.27796863148,-18923012.307395261,-378.4602461479052]
[{"$f":"IF(ISBLANK(InfoPro!A40),\"\",InfoPro!A40)","v":"SC_1315_A2"},{"$f":"IF(ISBLANK(InfoPro!B40),\"\",InfoPro!B40)","v":"Parque Eólico Cordobita - 50MW"},{"$f":"IF(ISBLANK(InfoPro!E40),\"\",InfoPro!E40)","v":50},{"$f":"IF(ISBLANK(InfoPro!F40),\"\",InfoPro!F40)","v":"Eólico Onshore"},{"$f":"IF(ISBLANK(InfoPro!I40),\"\",YEAR(InfoPro!I40)-$F$3)","v":4},{"$f":"IF(ISBLANK(InfoPro!P40),\"\",InfoPro!P40)","v":-1.49},-183167827.7307466,-163835266.30657122,-146543172.00945547,-131076182.47715159,-117241665.90085116,-104867321.9148937,-93799035.70205161,-83898958.588597178,-75043791.224147737,-67123247.964353979,-60038683.331264749,-53701863.44478064,-48033867.124132931,-42964102.97328528,-38429430.208663046,-1409764416.9009469,-28195.288338018938]
[{"$f":"IF(ISBLANK(InfoPro!A41),\"\",InfoPro!A41)","v":"SC_1317_A1"},{"$f":"IF(ISBLANK(InfoPro!B41),\"\",InfoPro!B41)","v":"EÓLICA BONDA - 70MW"},{"$f":"IF(ISBLANK(InfoPro!E41),\"\",InfoPro!E41)","v":70},{"$f":"IF(ISBLANK(InfoPro!F41),\"\",InfoPro!F41)","v":"Eólico Onshore"},{"$f":"IF(ISBLANK(InfoPro!I41),\"\",YEAR(InfoPro!I41)-$F$3)","v":4},{"$f":"IF(ISBLANK(InfoPro!P41),\"\",InfoPro!P41)","v":-11},{"$f":"IF($F48=\"\",\"\",(1/(1+$C$3)^(G$6+$E48))*$F48*$C$2)","v":-1352245708.0793374},-1209522100.2498546,-1081862343.6939666,-967676514.9319917,-865542499.93916965,-774188282.59317505,-692476102.49836755,-619388284.88226104,-554014566.0843122,-495540756.78382134,-443238601.77443773,-396456709.99502486,-354612441.85601497,-317184652.8229115,-283707202.88274729,-10407656769.067394,-148680.81098667707]
[{"$f":"IF(ISBLANK(InfoPro!A42),\"\",InfoPro!A42)","v":"SC_1321_A1"},{"$f":"IF(ISBLANK(InfoPro!B42),\"\",InfoPro!B42)","v":"OWF ASTROLABIO - 600 MW"},{"$f":"IF(ISBLANK(InfoPro!E42),\"\",InfoPro!E42)","v":600},{"$f":"IF(ISBLANK(InfoPro!F42),\"\",InfoPro!F42)","v":"Eólico Offshore"},{"$f":"IF(ISBLANK(InfoPro!I42),\"\",YEAR(InfoPro!I42)-$F$3)","v":11},{"$f":"IF(ISBLANK(InfoPro!P42),\"\",InfoPro!P42)","v":0},0,0,0,0,0,0,0,0,0,0,0,0,0,0,0,0,0]
[{"$f":"IF(ISBLANK(InfoPro!A43),\"\",InfoPro!A43)","v":"SC_1321_A2"},{"$f":"IF(ISBLANK(InfoPro!B43),\"\",InfoPro!B43)","v":"OWF ASTROLABIO - 600 MW"},{"$f":"IF(ISBLANK(InfoPro!E43),\"\",InfoPro!E43)","v":825},{"$f":"IF(ISBLANK(InfoPro!F43),\"\",InfoPro!F43)","v":"Eólico Offshore"},{"$f":"IF(ISBLANK(InfoPro!I43),\"\",YEAR(InfoPro!I43)-$F$3)","v":11},{"$f":"IF(ISBLANK(InfoPro!P43),\"\",InfoPro!P43)","v":-174.94091},-9850577290.967453,-8810892031.2767925,-7880940993.9863977,-7049142212.8679771,-6305136147.4668856,-5639656661.4193954,-5044415618.4431095,-4511999658.7147665,-4035777870.0489874,-3609819203.9794164,-3228818608.2105699,-2888030955.4656262,-2583211945.854764,-2310565246.7395029,-2066695211.7526855,-75815679657.194336,-91897.793523871922]
[{"$f":"IF(ISBLANK(InfoPro!A44),\"\",InfoPro!A44)","v":"SC_1336_A1"},{"$f":"IF(ISBLANK(InfoPro!B44),\"\",InfoPro!B44)","v":"AES Solar 4"},{"$f":"IF(ISBLANK(InfoPro!E44),\"\",InfoPro!E44)","v":300},{"$f":"IF(ISBLANK(InfoPro!F44),\"\",InfoPro!F44)","v":"Solar FV"},{"$f":"IF(ISBLANK(InfoPro!I44),\"\",YEAR(InfoPro!I44)-$F$3)","v":3},{"$f":"IF(ISBLANK(InfoPro!P44),\"\",InfoPro!P44)","v":-24.83},-3412569065.5945377,-3052387357.419086,-2730221249.9276261,-2442058363.0837445,-2184309805.9783049,-1953765479.4081438,-1747554096.0716851,-1563107420.4576788,-1398128283.0569582,-1250561970.533952,-1118570635.5402076,-1000510407.4599353,-894910919.01604235,-800456993.75316823,-715972266.32662654,-26265084313.627693,-87550.28104542564]
[{"$f":"IF(ISBLANK(InfoPro!A45),\"\",InfoPro!A45)","v":"SC_1336_A2"},{"$f":"IF(ISBLANK(InfoPro!B45),\"\",InfoPro!B45)","v":"AES Solar 4"},{"$f":"IF(ISBLANK(InfoPro!E45),\"\",InfoPro!E45)","v":300},{"$f":"IF(ISBLANK(InfoPro!F45),\"\",InfoPro!F45)","v":"Solar FV"},{"$f":"IF(ISBLANK(InfoPro!I45),\"\",YEAR(InfoPro!I45)-$F$3)","v":3},{"$f":"IF(ISBLANK(InfoPro!P45),\"\",InfoPro!P45)","v":-25.51},-3506026454.4227414,-3135980728.4639907,-2804991707.0339813,-2508937126.1484628,-2244129808.7195554,-2007271743.0407474,-1795413008.0865362,-1605915034.066669,-1436417740.6678617,-1284810143.7100732,-1149204064.1413894,-1027910611.9332641,-919419151.99755299,-822378490.15881312,-735580044.86477017,-26984385857.456406,-89947.952858188015]
[{"$f":"IF(ISBLANK(InfoPro!A46),\"\",InfoPro!A46)","v":"SC_1345_A1"},{"$f":"IF(ISBLANK(InfoPro!B46),\"\",InfoPro!B46)","v":"Parque Eólico Jouttalein_150MW"},{"$f":"IF(ISBLANK(InfoPro!E46),\"\",InfoPro!E46)","v":150},{"$f":"IF(ISBLANK(InfoPro!F46),\"\",InfoPro!F46)","v":"Eólico Onshore"},{"$f":"IF(ISBLANK(InfoPro!I46),\"\",YEAR(InfoPro!I46)-$F$3)","v":2},{"$f":"IF(ISBLANK(InfoPro!P46),\"\",InfoPro!P46)","v":-25.41},-3904372081.8225756,-3492282720.7715349,-3123687585.6632695,-2793996051.5771642,-2499102013.9330626,-2235332749.4929008,-1999403174.8594818,-1788374932.7902346,-1599619796.7712293,-1430786938.078023,-1279773647.6547611,-1144699148.1706274,-1023881170.0989511,-915815000.08850741,-819154740.68739462,-30050281752.459713,-200335.21168306476]
[{"$f":"IF(ISBLANK(InfoPro!A47),\"\",InfoPro!A47)","v":"SC_1345_A2"},{"$f":"IF(ISBLANK(InfoPro!B47),\"\",InfoPro!B47)","v":"Parque Eólico Jouttalein_150MW"},{"$f":"IF(ISBLANK(InfoPro!E47),\"\",InfoPro!E47)","v":150},{"$f":"IF(ISBLANK(InfoPro!F47),\"\",InfoPro!F47)","v":"Eólico Onshore"},{"$f":"IF(ISBLANK(InfoPro!I47),\"\",YEAR(InfoPro!I47)-$F$3)","v":2},{"$f":"IF(ISBLANK(InfoPro!P47),\"\",InfoPro!P47)","v":-29.49},-4531284246.0821619,-4053027053.7407537,-3625247811.9326963,-3242618794.2152915,-2900374592.3213701,-2594252765.940403,-2320440756.6551013,-2075528404.8793392,-1856465478.4251692,-1660523683.7434435,-1485262686.7114878,-1328499719.7777174,-1188282396.9389243,-1062864397.9775711,-950683719.12126207,-34875356508.462692,-232502.37672308463]
[{"$f":"IF(ISBLANK(InfoPro!A48),\"\",InfoPro!A48)","v":"SC_1347_A1"},{"$f":"IF(ISBLANK(InfoPro!B48),\"\",InfoPro!B48)","v":"AES Solar 5_100MW"},{"$f":"IF(ISBLANK(InfoPro!E48),\"\",InfoPro!E48)","v":100},{"$f":"IF(ISBLANK(InfoPro!F48),\"\",InfoPro!F48)","v":"Solar FV"},{"$f":"IF(ISBLANK(InfoPro!I48),\"\",YEAR(InfoPro!I48)-$F$3)","v":3},{"$f":"IF(ISBLANK(InfoPro!P48),\"\",InfoPro!P48)","v":-13.14},-1805926601.7685153,-1615318964.0147722,-1444829127.0257354,-1292333745.1035202,-1155933582.3823974,-1033929859.0182445,-924803093.9340291,-827194180.62077737,-739887460.30481005,-661795581.66798747,-591945958.55812848,-529468657.02873749,-473585560.84860241,-423600680.54436696,-378891485.281187,-13899444538.101812,-138994.44538101813]
[{"$f":"IF(ISBLANK(InfoPro!A49),\"\",InfoPro!A49)","v":"SC_1347_A2"},{"$f":"IF(ISBLANK(InfoPro!B49),\"\",InfoPro!B49)","v":"AES Solar 5_100MW"},{"$f":"IF(ISBLANK(InfoPro!E49),\"\",InfoPro!E49)","v":100},{"$f":"IF(ISBLANK(InfoPro!F49),\"\",InfoPro!F49)","v":"Solar FV"},{"$f":"IF(ISBLANK(InfoPro!I49),\"\",YEAR(InfoPro!I49)-$F$3)","v":3},{"$f":"IF(ISBLANK(InfoPro!P49),\"\",InfoPro!P49)","v":-13.09},-1799054734.9429119,-1609172392.6144116,-1439331299.2973268,-1287416188.9958203,-1151535052.7690701,-1029995574.9276119,-921284056.2858783,-824046561.97305751,-737072059.00989068,-659277333.64033151,-589693500.57274735,-527453936.11158085,-471783484.89407951,-421988805.80865782,-377449736.85926467,-13846554718.702642,-138465.54718702642]
[{"$f":"IF(ISBLANK(InfoPro!A50),\"\",InfoPro!A50)","v":"SC_1355_A1"},{"$f":"IF(ISBLANK(InfoPro!B50),\"\",InfoPro!B50)","v":"Barlovento 1"},{"$f":"IF(ISBLANK(InfoPro!E50),\"\",InfoPro!E50)","v":500},{"$f":"IF(ISBLANK(InfoPro!F50),\"\",InfoPro!F50)","v":"Eólico Offshore"},{"$f":"IF(ISBLANK(InfoPro!I50),\"\",YEAR(InfoPro!I50)-$F$3)","v":11},{"$f":"IF(ISBLANK(InfoPro!P50),\"\",InfoPro!P50)","v":-97.834270000000004},-5508854608.9098225,-4927419149.2932224,-4407351654.108428,-3942175003.6748018,-3526095709.9059052,-3153931761.9909701,-2821048087.6484532,-2523298826.161407,-2256975694.2409735,-2018761801.6466663,-1805690341.3655336,-1615107639.8618371,-1444640107.2109456,-1292164675.5017402,-1155782357.3360822,-42399297418.856789,-84798.594837713579]
[{"$f":"IF(ISBLANK(InfoPro!A51),\"\",InfoPro!A51)","v":"SC_1356_A1"},{"$f":"IF(ISBLANK(InfoPro!B51),\"\",InfoPro!B51)","v":"Sol de Zawady 9,9 MW"},{"$f":"IF(ISBLANK(InfoPro!E51),\"\",InfoPro!E51)","v":9.9},{"$f":"IF(ISBLANK(InfoPro!F51),\"\",InfoPro!F51)","v":"Solar FV"},{"$f":"IF(ISBLANK(InfoPro!I51),\"\",YEAR(InfoPro!I51)-$F$3)","v":1},{"$f":"IF(ISBLANK(InfoPro!P51),\"\",InfoPro!P51)","v":-0.65},{"$f":"IF($F58=\"\",\"\",(1/(1+$C$3)^(G$6+$E58))*$F58*$C$2)","v":-111661046.51162791},-99875712.443316564,-89334268.732841313,-79905428.204688117,-71471760.469309583,-63928229.400098026,-57180884.973254055,-51145693.178223662,-45747489.425960347,-40919042.420358084,-36600216.833951786,-32737224.359527543,-29281953.809953079,-26191371.923034959,-23426987.408796921,-859407310.09494185,-86808.819201509279]
[{"$f":"IF(ISBLANK(InfoPro!A52),\"\",InfoPro!A52)","v":"SC_1356_A2"},{"$f":"IF(ISBLANK(InfoPro!B52),\"\",InfoPro!B52)","v":"Sol de Zawady 9,9 MW"},{"$f":"IF(ISBLANK(InfoPro!E52),\"\",InfoPro!E52)","v":9.9},{"$f":"IF(ISBLANK(InfoPro!F52),\"\",InfoPro!F52)","v":"Solar FV"},{"$f":"IF(ISBLANK(InfoPro!I52),\"\",YEAR(InfoPro!I52)-$F$3)","v":1},{"$f":"IF(ISBLANK(InfoPro!P52),\"\",InfoPro!P52)","v":-0.69},-118532495.5277281,-106021910.13213603,-94831762.193323836,-84822685.324976608,-75870022.652036324,-67862274.286257893,-60699708.663915835,-54293120.450729728,-48562719.544480972,-43437137.338533968,-38852537.869887277,-34751822.781652309,-31083920.198257878,-27803148.656760182,-24868648.172415193,-912293913.79309213,-92150.900383140615]
[{"$f":"IF(ISBLANK(InfoPro!A53),\"\",InfoPro!A53)","v":"SC_1366_A1"},{"$f":"IF(ISBLANK(InfoPro!B53),\"\",InfoPro!B53)","v":"PARQUE SOLAR TÁNGARA 100 MW"},{"$f":"IF(ISBLANK(InfoPro!E53),\"\",InfoPro!E53)","v":100},{"$f":"IF(ISBLANK(InfoPro!F53),\"\",InfoPro!F53)","v":"Solar FV"},{"$f":"IF(ISBLANK(InfoPro!I53),\"\",YEAR(InfoPro!I53)-$F$3)","v":3},{"$f":"IF(ISBLANK(InfoPro!P53),\"\",InfoPro!P53)","v":-7.56},-1039026264.0312004,-929361595.7345264,-831271552.53535461,-743534483.48421693,-665057677.53507793,-594863754.50364745,-532078492.40040028,-475919939.53524178,-425688675.79180849,-380759101.78158182,-340571647.38960809,-304625802.67406809,-272473884.32385343,-243715460.03922486,-217992361.39465553,-7996940693.1544666,-79969.406931544669]
[{"$f":"IF(ISBLANK(InfoPro!A54),\"\",InfoPro!A54)","v":"SC_1376_A1"},{"$f":"IF(ISBLANK(InfoPro!B54),\"\",InfoPro!B54)","v":"Expansión La Loma I - 100 MW"},{"$f":"IF(ISBLANK(InfoPro!E54),\"\",InfoPro!E54)","v":100},{"$f":"IF(ISBLANK(InfoPro!F54),\"\",InfoPro!F54)","v":"Solar FV"},{"$f":"IF(ISBLANK(InfoPro!I54),\"\",YEAR(InfoPro!I54)-$F$3)","v":4},{"$f":"IF(ISBLANK(InfoPro!P54),\"\",InfoPro!P54)","v":-5.0599999999999996},-622033025.71649516,-556380166.11493313,-497656678.09922457,-445131196.86871612,-398149549.972018,-356126609.9928605,-318539007.14924914,-284918611.04584002,-254846700.39878359,-227948748.12055781,-203889756.81624135,-182370086.59771141,-163121723.25376686,-145904940.29853928,-130505313.32606375,-4787522113.7710009,-47875.22113771001]
[{"$f":"IF(ISBLANK(InfoPro!A55),\"\",InfoPro!A55)","v":"SC_1376_A2"},{"$f":"IF(ISBLANK(InfoPro!B55),\"\",InfoPro!B55)","v":"Expansión La Loma I - 100 MW"},{"$f":"IF(ISBLANK(InfoPro!E55),\"\",InfoPro!E55)","v":100},{"$f":"IF(ISBLANK(InfoPro!F55),\"\",InfoPro!F55)","v":"Solar FV"},{"$f":"IF(ISBLANK(InfoPro!I55),\"\",YEAR(InfoPro!I55)-$F$3)","v":4},{"$f":"IF(ISBLANK(InfoPro!P55),\"\",InfoPro!P55)","v":-4.6100000000000003},-566713883.11324954,-506899716.55925727,-453398673.12992603,-405544430.3487711,-362740993.1563248,-324455271.1595034,-290210439.31977046,-259579999.3915658,-232182468.14987996,-207676626.25212875,-185757268.56183255,-166151403.00700587,-148614850.63238448,-132929204.50123838,-118899109.57176955,-4361754336.8546066,-43617.543368546067]
[{"$f":"IF(ISBLANK(InfoPro!A56),\"\",InfoPro!A56)","v":"SC_1377_A1"},{"$f":"IF(ISBLANK(InfoPro!B56),\"\",InfoPro!B56)","v":"Eólica Cordobita - 50MW"},{"$f":"IF(ISBLANK(InfoPro!E56),\"\",InfoPro!E56)","v":50},{"$f":"IF(ISBLANK(InfoPro!F56),\"\",InfoPro!F56)","v":"Eólico Onshore"},{"$f":"IF(ISBLANK(InfoPro!I56),\"\",YEAR(InfoPro!I56)-$F$3)","v":4},{"$f":"IF(ISBLANK(InfoPro!P56),\"\",InfoPro!P56)","v":-0.02},-2458628.5601442498,-2199131.0913633718,-1967022.4430799391,-1759411.845330894,-1573713.6362530359,-1407615.0592603183,-1259047.4590879411,-1126160.5179677473,-1007299.2110623858,-900983.19415240234,-805888.36686261406,-720830.38180913613,-644749.8942836636,-576699.36876892997,-515831.27796863148,-18923012.307395261,-378.4602461479052]
[{"$f":"IF(ISBLANK(InfoPro!A57),\"\",InfoPro!A57)","v":"SC_1377_A2"},{"$f":"IF(ISBLANK(InfoPro!B57),\"\",InfoPro!B57)","v":"Eólica Cordobita - 50MW"},{"$f":"IF(ISBLANK(InfoPro!E57),\"\",InfoPro!E57)","v":50},{"$f":"IF(ISBLANK(InfoPro!F57),\"\",InfoPro!F57)","v":"Eólico Onshore"},{"$f":"IF(ISBLANK(InfoPro!I57),\"\",YEAR(InfoPro!I57)-$F$3)","v":4},{"$f":"IF(ISBLANK(InfoPro!P57),\"\",InfoPro!P57)","v":-1.49},-183167827.7307466,-163835266.30657122,-146543172.00945547,-131076182.47715159,-117241665.90085116,-104867321.9148937,-93799035.70205161,-83898958.588597178,-75043791.224147737,-67123247.964353979,-60038683.331264749,-53701863.44478064,-48033867.124132931,-42964102.97328528,-38429430.208663046,-1409764416.9009469,-28195.288338018938]
[{"$f":"IF(ISBLANK(InfoPro!A58),\"\",InfoPro!A58)","v":"SC_1380_A1"},{"$f":"IF(ISBLANK(InfoPro!B58),\"\",InfoPro!B58)","v":"Parque Eólico Motosira"},{"$f":"IF(ISBLANK(InfoPro!E58),\"\",InfoPro!E58)","v":300},{"$f":"IF(ISBLANK(InfoPro!F58),\"\",InfoPro!F58)","v":"Eólico Onshore"},{"$f":"IF(ISBLANK(InfoPro!I58),\"\",YEAR(InfoPro!I58)-$F$3)","v":3},{"$f":"IF(ISBLANK(InfoPro!P58),\"\",InfoPro!P58)","v":-167.37635},-23003759739.110928,-20575813720.135002,-18404126762.195885,-16461651844.54015,-14724196640.912479,-13170122219.06304,-11780073541.20129,-10536738408.945696,-9424631850.577549,-8429903265.2750883,-7540163922.4285231,-6744332667.6462641,-6032497913.815979,-5395794198.404274,-4826291769.5923748,-177050098463.84451,-590166.99487948173]
[{"$f":"IF(ISBLANK(InfoPro!A59),\"\",InfoPro!A59)","v":"SC_1380_A2"},{"$f":"IF(ISBLANK(InfoPro!B59),\"\",InfoPro!B59)","v":"Parque Eólico Motosira"},{"$f":"IF(ISBLANK(InfoPro!E59),\"\",InfoPro!E59)","v":300},{"$f":"IF(ISBLANK(InfoPro!F59),\"\",InfoPro!F59)","v":"Eólico Onshore"},{"$f":"IF(ISBLANK(InfoPro!I59),\"\",YEAR(InfoPro!I59)-$F$3)","v":3},{"$f":"IF(ISBLANK(InfoPro!P59),\"\",InfoPro!P59)","v":-51.459000000000003},-7072387899.5742779,-6325928353.8231478,-5658254341.5233889,-5061050394.9225302,-4526878707.4441242,-4049086500.3972483,-3621723166.7238364,-3239466159.8603182,-2897554704.7051158,-2591730505.1029658,-2318184709.394424,-2073510473.5191629,-1854660530.8758168,-1658909240.4971526,-1483818640.8740184,-54433144329.237534,-181443.81443079177]
[{"$f":"IF(ISBLANK(InfoPro!A60),\"\",InfoPro!A60)","v":"SC_1421_A1"},{"$f":"IF(ISBLANK(InfoPro!B60),\"\",InfoPro!B60)","v":"Parque Solar Fotovoltaico SJ Solar 100 MW"},{"$f":"IF(ISBLANK(InfoPro!E60),\"\",InfoPro!E60)","v":100},{"$f":"IF(ISBLANK(InfoPro!F60),\"\",InfoPro!F60)","v":"Solar FV"},{"$f":"IF(ISBLANK(InfoPro!I60),\"\",YEAR(InfoPro!I60)-$F$3)","v":3},{"$f":"IF(ISBLANK(InfoPro!P60),\"\",InfoPro!P60)","v":-2.35},-322977740.80334932,-288888855.81694937,-258397903.2351962,-231125137.06189287,-206730891.82638004,-184911352.25973171,-165394769.46308741,-147938076.4428331,-132323860.86121033,-118357657.29983035,-105865525.31290728,-94691883.106357157,-84697569.86257349,-75758112.578330472,-67762175.830349267,-2485821511.7609787,-24858.215117609787]
[{"$f":"IF(ISBLANK(InfoPro!A61),\"\",InfoPro!A61)","v":"SC_1421_A2"},{"$f":"IF(ISBLANK(InfoPro!B61),\"\",InfoPro!B61)","v":"Parque Solar Fotovoltaico SJ Solar 100 MW"},{"$f":"IF(ISBLANK(InfoPro!E61),\"\",InfoPro!E61)","v":100},{"$f":"IF(ISBLANK(InfoPro!F61),\"\",InfoPro!F61)","v":"Solar FV"},{"$f":"IF(ISBLANK(InfoPro!I61),\"\",YEAR(InfoPro!I61)-$F$3)","v":3},{"$f":"IF(ISBLANK(InfoPro!P61),\"\",InfoPro!P61)","v":-3.86},{"$f":"IF($F68=\"\",\"\",(1/(1+$C$3)^(G$6+$E68))*$F68*$C$2)","v":-530508118.93656528},-474515312.10784018,-424432300.63313079,-379635331.51442826,-339566486.14886248,-303726731.7968359,-271669706.43724144,-242996159.60397264,-217348979.96777523,-194408747.73504046,-173889756.47141367,-155536454.80448452,-139120263.68916324,-124436729.59674709,-111302978.17240347,-4083094057.6159043,-40830.940576159046]
[{"$f":"IF(ISBLANK(InfoPro!A62),\"\",InfoPro!A62)","v":"SC_1479_A1"},{"$f":"IF(ISBLANK(InfoPro!B62),\"\",InfoPro!B62)","v":"Oslo I_150MW"},{"$f":"IF(ISBLANK(InfoPro!E62),\"\",InfoPro!E62)","v":150},{"$f":"IF(ISBLANK(InfoPro!F62),\"\",InfoPro!F62)","v":"Solar FV"},{"$f":"IF(ISBLANK(InfoPro!I62),\"\",YEAR(InfoPro!I62)-$F$3)","v":3},{"$f":"IF(ISBLANK(InfoPro!P62),\"\",InfoPro!P62)","v":-69.489999999999995},-9550520514.2232952,-8542504932.2211943,-7640880976.9420357,-6834419478.4812479,-6113076456.60219,-5467868029.1611729,-4890758523.3999758,-4374560396.6010513,-3912844719.6789379,-3499861108.8362594,-3130466108.0825219,-2800059130.6641521,-2504525161.5958428,-2240183507.6885891,-2003741956.787647,-73506271000.96611,-490041.80667310738]
[{"$f":"IF(ISBLANK(InfoPro!A63),\"\",InfoPro!A63)","v":"SC_1479_A2"},{"$f":"IF(ISBLANK(InfoPro!B63),\"\",InfoPro!B63)","v":"Oslo I_150MW"},{"$f":"IF(ISBLANK(InfoPro!E63),\"\",InfoPro!E63)","v":150},{"$f":"IF(ISBLANK(InfoPro!F63),\"\",InfoPro!F63)","v":"Solar FV"},{"$f":"IF(ISBLANK(InfoPro!I63),\"\",YEAR(InfoPro!I63)-$F$3)","v":3},{"$f":"IF(ISBLANK(InfoPro!P63),\"\",InfoPro!P63)","v":-71.489999999999995},-9825395187.2474232,-8788367788.2356205,-7860794086.078372,-7031121722.7892427,-6289017641.1352797,-5625239392.7864761,-5031520029.3260069,-4500465142.5098457,-4025460771.4757128,-3600591029.9424977,-3220564427.4977627,-2880647967.3504138,-2576608199.7767568,-2304658497.1169553,-2061411893.6645398,-75621863776.932907,-504145.75851288607]
[{"$f":"IF(ISBLANK(InfoPro!A64),\"\",InfoPro!A64)","v":"SC_1506_A1"},{"$f":"IF(ISBLANK(InfoPro!B64),\"\",InfoPro!B64)","v":"Parque Solar Toro Moreno"},{"$f":"IF(ISBLANK(InfoPro!E64),\"\",InfoPro!E64)","v":99.9},{"$f":"IF(ISBLANK(InfoPro!F64),\"\",InfoPro!F64)","v":"Solar FV"},{"$f":"IF(ISBLANK(InfoPro!I64),\"\",YEAR(InfoPro!I64)-$F$3)","v":-2},{"$f":"IF(ISBLANK(InfoPro!P64),\"\",InfoPro!P64)","v":-5.7930000000000001},-1390648194.6987238,-1243871372.7179999,-1112586201,-995157603.7567085,-890123080.28328133,-796174490.41438413,-712141762.44578195,-636978320.6134007,-569748050.63810432,-509613641.0000934,-455826154.74069184,-407715701.91475123,-364683096.52482218,-326192394.02935803,-291764216.48422009,-10703224281.262321,-107139.38219481803]
[{"$f":"IF(ISBLANK(InfoPro!A65),\"\",InfoPro!A65)","v":"SC_1506_A2"},{"$f":"IF(ISBLANK(InfoPro!B65),\"\",InfoPro!B65)","v":"Parque Solar Toro Moreno"},{"$f":"IF(ISBLANK(InfoPro!E65),\"\",InfoPro!E65)","v":99.9},{"$f":"IF(ISBLANK(InfoPro!F65),\"\",InfoPro!F65)","v":"Solar FV"},{"$f":"IF(ISBLANK(InfoPro!I65),\"\",YEAR(InfoPro!I65)-$F$3)","v":-2},{"$f":"IF(ISBLANK(InfoPro!P65),\"\",InfoPro!P65)","v":-7.3029999999999999},-1753133741.7374039,-1568098158.9779997,-1402592271,-1254554804.1144903,-1122142043.0362167,-1003704868.5476002,-897768218.73667276,-803012718.01133525,-718258245.09063983,-642449235.32257593,-574641534.27779603,-513990638.88890523,-459741179.68596172,-411217513.13592297,-367815306.9194302,-13493120477.48295,-135066.27104587539]
[{"$f":"IF(ISBLANK(InfoPro!A66),\"\",InfoPro!A66)","v":"SC_1512_A1"},{"$f":"IF(ISBLANK(InfoPro!B66),\"\",InfoPro!B66)","v":"El Flamingo\n  - 200 MW"},{"$f":"IF(ISBLANK(InfoPro!E66),\"\",InfoPro!E66)","v":200},{"$f":"IF(ISBLANK(InfoPro!F66),\"\",InfoPro!F66)","v":"Solar FV"},{"$f":"IF(ISBLANK(InfoPro!I66),\"\",YEAR(InfoPro!I66)-$F$3)","v":4},{"$f":"IF(ISBLANK(InfoPro!P66),\"\",InfoPro!P66)","v":-50.97},-6265814885.5276203,-5604485586.3395538,-5012956696.1892242,-4483861087.8257837,-4010609201.9908619,-3587306978.5249209,-3208682449.4856176,-2870020080.0408039,-2567102039.3924899,-2296155670.2973976,-2053806502.9493716,-1837036228.0405831,-1643145105.5819168,-1469718341.3076179,-1314596011.9030571,{"$f":"IF(U73=\"\",\"\",SUM(G73:U73))","v":-48225296865.39682},{"$f":"IF(C73=0,0,IF(V73=\"\",\"\",V73/(C73*1000)))","v":-241126.48432698409}]
[{"$f":"IF(ISBLANK(InfoPro!A67),\"\",InfoPro!A67)","v":"SC_1512_A2"},{"$f":"IF(ISBLANK(InfoPro!B67),\"\",InfoPro!B67)","v":"El Flamingo\n  - 200 MW"},{"$f":"IF(ISBLANK(InfoPro!E67),\"\",InfoPro!E67)","v":200},{"$f":"IF(ISBLANK(InfoPro!F67),\"\",InfoPro!F67)","v":"Solar FV"},{"$f":"IF(ISBLANK(InfoPro!I67),\"\",YEAR(InfoPro!I67)-$F$3)","v":4},{"$f":"IF(ISBLANK(InfoPro!P67),\"\",InfoPro!P67)","v":-43.35},-5329077404.1126614,-4766616640.5301085,-4263521145.3757682,-3813525174.7547126,-3411024306.578455,-3051005640.9467402,-2728985367.5731125,-2440952922.6950922,-2183321039.9777212,-1952881073.3253322,-1746763035.174716,-1562399852.5713027,-1397495395.8598411,-1249995881.8066559,-1118064294.9970088,-41015629176.279228,-205078.14588139614]
[{"$f":"IF(ISBLANK(InfoPro!A68),\"\",InfoPro!A68)","v":"SC_1518_A1"},{"$f":"IF(ISBLANK(InfoPro!B68),\"\",InfoPro!B68)","v":"CHIRIGUANÁ - 300 MW"},{"$f":"IF(ISBLANK(InfoPro!E68),\"\",InfoPro!E68)","v":300},{"$f":"IF(ISBLANK(InfoPro!F68),\"\",InfoPro!F68)","v":"Solar FV"},{"$f":"IF(ISBLANK(InfoPro!I68),\"\",YEAR(InfoPro!I68)-$F$3)","v":4},{"$f":"IF(ISBLANK(InfoPro!P68),\"\",InfoPro!P68)","v":-34.770000000000003},-4274325751.8107786,-3823189402.3352227,-3419668517.2944746,-3058737493.1077595,-2735901156.6259031,-2447138780.5240636,-2188854007.6243858,-1957830060.4869289,-1751189678.431958,-1566359283.0339518,-1401036925.7906547,-1253163618.7751832,-1120897691.2121494,-1002591852.6047847,-896772676.74846578,-32897656896.406666,-109658.85632135555]
[{"$f":"IF(ISBLANK(InfoPro!A69),\"\",InfoPro!A69)","v":"SC_1518_A2"},{"$f":"IF(ISBLANK(InfoPro!B69),\"\",InfoPro!B69)","v":"CHIRIGUANÁ - 300 MW"},{"$f":"IF(ISBLANK(InfoPro!E69),\"\",InfoPro!E69)","v":300},{"$f":"IF(ISBLANK(InfoPro!F69),\"\",InfoPro!F69)","v":"Solar FV"},{"$f":"IF(ISBLANK(InfoPro!I69),\"\",YEAR(InfoPro!I69)-$F$3)","v":4},{"$f":"IF(ISBLANK(InfoPro!P69),\"\",InfoPro!P69)","v":-33.270000000000003},-4089928609.7999597,-3658254570.4829698,-3272141834.0634789,-2926781604.7079425,-2617872633.9069252,-2341567651.0795398,-2094425448.1927903,-1873368021.6393478,-1675642237.6022789,-1498785543.4725215,-1340595298.2759588,-1199101340.139498,-1072541449.1408746,-959339399.94711518,-858085330.90081847,-31478430973.352024,-104928.10324450675]
[{"$f":"IF(ISBLANK(InfoPro!A70),\"\",InfoPro!A70)","v":"SC_1531_A1"},{"$f":"IF(ISBLANK(InfoPro!B70),\"\",InfoPro!B70)","v":"Haticos_56MW"},{"$f":"IF(ISBLANK(InfoPro!E70),\"\",InfoPro!E70)","v":56},{"$f":"IF(ISBLANK(InfoPro!F70),\"\",InfoPro!F70)","v":"Solar FV"},{"$f":"IF(ISBLANK(InfoPro!I70),\"\",YEAR(InfoPro!I70)-$F$3)","v":4},{"$f":"IF(ISBLANK(InfoPro!P70),\"\",InfoPro!P70)","v":-14.23},-1749314220.5426338,-1564681771.5050392,-1399536468.2513766,-1251821527.9529312,-1119697252.1940351,-1001518114.6637166,-895812267.14107013,-801263208.53405225,-716693388.67088747,-641049542.63943434,-573389573.0227499,-512870816.65720034,-458739549.78282666,-410321600.87909371,-367013954.27468127,-13463723256.711729,-240423.62958413802]
[{"$f":"IF(ISBLANK(InfoPro!A71),\"\",InfoPro!A71)","v":"SC_1531_A2"},{"$f":"IF(ISBLANK(InfoPro!B71),\"\",InfoPro!B71)","v":"Haticos_56MW"},{"$f":"IF(ISBLANK(InfoPro!E71),\"\",InfoPro!E71)","v":56},{"$f":"IF(ISBLANK(InfoPro!F71),\"\",InfoPro!F71)","v":"Solar FV"},{"$f":"IF(ISBLANK(InfoPro!I71),\"\",YEAR(InfoPro!I71)-$F$3)","v":4},{"$f":"IF(ISBLANK(InfoPro!P71),\"\",InfoPro!P71)","v":-13.36},{"$f":"IF($F78=\"\",\"\",(1/(1+$C$3)^(G$6+$E78))*$F78*$C$2)","v":-1642363878.1763587},-1469019569.0307324,-1313970991.9773993,-1175287112.6810372,-1051240709.0170279,-940286859.58589256,-841043702.67074454,-752275226.00245523,-672875872.98967373,-601856773.69380474,-538333429.06422615,-481514695.04850286,-430692929.38148731,-385235178.33764517,-344575293.68304574,-12640572221.340033,-225724.50395250059]
[{"$f":"IF(ISBLANK(InfoPro!A72),\"\",InfoPro!A72)","v":"SC_1532_A1"},{"$f":"IF(ISBLANK(InfoPro!B72),\"\",InfoPro!B72)","v":"Las Mangas_340.8MW"},{"$f":"IF(ISBLANK(InfoPro!E72),\"\",InfoPro!E72)","v":340.8},{"$f":"IF(ISBLANK(InfoPro!F72),\"\",InfoPro!F72)","v":"Solar FV"},{"$f":"IF(ISBLANK(InfoPro!I72),\"\",YEAR(InfoPro!I72)-$F$3)","v":4},{"$f":"IF(ISBLANK(InfoPro!P72),\"\",InfoPro!P72)","v":-123.08},-15130400159.127712,-13533452736.250191,-12105056114.713945,-10827420496.166321,-9684633717.5011826,-8662463074.6879978,-7748178063.2271891,-6930391827.5735168,-6198919344.877923,-5544650576.8138847,-4959437009.6725273,-4435990169.6534233,-3967790849.4216661,-3549007915.403995,-3174425684.618958,-116452217739.71045,-341702.51684187341]
[{"$f":"IF(ISBLANK(InfoPro!A73),\"\",InfoPro!A73)","v":"SC_1532_A2"},{"$f":"IF(ISBLANK(InfoPro!B73),\"\",InfoPro!B73)","v":"Las Mangas_340.8MW"},{"$f":"IF(ISBLANK(InfoPro!E73),\"\",InfoPro!E73)","v":340.8},{"$f":"IF(ISBLANK(InfoPro!F73),\"\",InfoPro!F73)","v":"Solar FV"},{"$f":"IF(ISBLANK(InfoPro!I73),\"\",YEAR(InfoPro!I73)-$F$3)","v":4},{"$f":"IF(ISBLANK(InfoPro!P73),\"\",InfoPro!P73)","v":-49.82},-6124443743.3193264,-5478035548.5861597,-4899852905.7121286,-4382694906.7192574,-3920120667.906312,-3506369112.6174531,-3136287220.5880618,-2805265850.2576585,-2509182334.756403,-2244349136.6336346,-2007467921.8547716,-1795588481.0865579,-1606071986.6606061,-1436558127.6034045,-1284935713.4198608,-47137223657.721596,-138313.44969988731]
[{"$f":"IF(ISBLANK(InfoPro!A74),\"\",InfoPro!A74)","v":"SC_1534_A1"},{"$f":"IF(ISBLANK(InfoPro!B74),\"\",InfoPro!B74)","v":"Parque Eólico Cerrito_378MW"},{"$f":"IF(ISBLANK(InfoPro!E74),\"\",InfoPro!E74)","v":378},{"$f":"IF(ISBLANK(InfoPro!F74),\"\",InfoPro!F74)","v":"Eólico Onshore"},{"$f":"IF(ISBLANK(InfoPro!I74),\"\",YEAR(InfoPro!I74)-$F$3)","v":2},{"$f":"IF(ISBLANK(InfoPro!P74),\"\",InfoPro!P74)","v":-232899},-35786082388209.203,-32009018236323.09,-28630606651451.777,-25608771602371.898,-22905877998543.738,-20488262968285.996,-18325816608484.789,-16391606984333.445,-14661544708706.121,-13114082923708.52,-11729948947860.93,-10491904246745.02,-9384529737696.7969,-8394033754648.2988,-7508080281438.5488,-275430168038808.25,-728651238.19790542]
[{"$f":"IF(ISBLANK(InfoPro!A75),\"\",InfoPro!A75)","v":"SC_1534_A2"},{"$f":"IF(ISBLANK(InfoPro!B75),\"\",InfoPro!B75)","v":"Parque Eólico Cerrito_378MW"},{"$f":"IF(ISBLANK(InfoPro!E75),\"\",InfoPro!E75)","v":378},{"$f":"IF(ISBLANK(InfoPro!F75),\"\",InfoPro!F75)","v":"Eólico Onshore"},{"$f":"IF(ISBLANK(InfoPro!I75),\"\",YEAR(InfoPro!I75)-$F$3)","v":2},{"$f":"IF(ISBLANK(InfoPro!P75),\"\",InfoPro!P75)","v":-93076},-14301587402114.051,-12792117533196.828,-11441965593199.311,-10234316272986.859,-9154129045605.4219,-8187950845800.9141,-7323748520394.377,-6550758962785.6689,-5859355065103.46,-5240925818518.3027,-4687769068442.1309,-4192995588946.4502,-3750443281705.2334,-3354600430863.3574,-3000537058017.3135,-110073200487679.67,-291198943.08909965]
[{"$f":"IF(ISBLANK(InfoPro!A76),\"\",InfoPro!A76)","v":"SC_1535_A1"},{"$f":"IF(ISBLANK(InfoPro!B76),\"\",InfoPro!B76)","v":"Parque Eólico Cerrito 2"},{"$f":"IF(ISBLANK(InfoPro!E76),\"\",InfoPro!E76)","v":200},{"$f":"IF(ISBLANK(InfoPro!F76),\"\",InfoPro!F76)","v":"Eólico Onshore"},{"$f":"IF(ISBLANK(InfoPro!I76),\"\",YEAR(InfoPro!I76)-$F$3)","v":2},{"$f":"IF(ISBLANK(InfoPro!P76),\"\",InfoPro!P76)","v":-112.02798},-17213652793.977875,-15396827186.026724,-13771759558.163439,-12318210696.031698,-11018077545.645527,-9855167751.0246239,-8814997988.3941174,-7884613585.3256874,-7052427178.287735,-6308074399.1840219,-5642284793.5456362,-5046766362.7420731,-4514102292.2558794,-4037658579.8353128,-3611501413.0906191,-132486122123.53096,-662430.61061765475]
[{"$f":"IF(ISBLANK(InfoPro!A77),\"\",InfoPro!A77)","v":"SC_1535_A2"},{"$f":"IF(ISBLANK(InfoPro!B77),\"\",InfoPro!B77)","v":"Parque Eólico Cerrito 2"},{"$f":"IF(ISBLANK(InfoPro!E77),\"\",InfoPro!E77)","v":200},{"$f":"IF(ISBLANK(InfoPro!F77),\"\",InfoPro!F77)","v":"Eólico Onshore"},{"$f":"IF(ISBLANK(InfoPro!I77),\"\",YEAR(InfoPro!I77)-$F$3)","v":2},{"$f":"IF(ISBLANK(InfoPro!P77),\"\",InfoPro!P77)","v":-45.54927},-6998870450.0353632,-6260170348.8688412,-5599436805.7860832,-5008440792.2952452,-4479821817.7953892,-4006996259.2087564,-3584075366.0185661,-3205791919.5157118,-2867434632.8405294,-2564789474.8126388,-2294087186.7733798,-2051956338.7955098,-1835381340.6042132,-1641664884.2613714,-1468394350.8599026,-53867311968.471481,-269336.55984235741]
[{"$f":"IF(ISBLANK(InfoPro!A78),\"\",InfoPro!A78)","v":"SC_1549_A1"},{"$f":"IF(ISBLANK(InfoPro!B78),\"\",InfoPro!B78)","v":"Parque Solar Bonda"},{"$f":"IF(ISBLANK(InfoPro!E78),\"\",InfoPro!E78)","v":9.9},{"$f":"IF(ISBLANK(InfoPro!F78),\"\",InfoPro!F78)","v":"Solar FV"},{"$f":"IF(ISBLANK(InfoPro!I78),\"\",YEAR(InfoPro!I78)-$F$3)","v":2},{"$f":"IF(ISBLANK(InfoPro!P78),\"\",InfoPro!P78)","v":2.4},368771861.3291688,329849607.6289525,295035427.21730995,263895730.96360466,236042693.16959271,211129421.43970725,188845636.3503643,168913807.11123821,151085695.09055293,135139262.15612966,120875905.32748629,108117983.29828829,96706604.023513675,86499645.817096323,77369987.314039633,2838279268.2370458,286694.87557949958]
[{"$f":"IF(ISBLANK(InfoPro!A79),\"\",InfoPro!A79)","v":"SC_1549_A2"},{"$f":"IF(ISBLANK(InfoPro!B79),\"\",InfoPro!B79)","v":"Parque Solar Bonda"},{"$f":"IF(ISBLANK(InfoPro!E79),\"\",InfoPro!E79)","v":9.9},{"$f":"IF(ISBLANK(InfoPro!F79),\"\",InfoPro!F79)","v":"Solar FV"},{"$f":"IF(ISBLANK(InfoPro!I79),\"\",YEAR(InfoPro!I79)-$F$3)","v":2},{"$f":"IF(ISBLANK(InfoPro!P79),\"\",InfoPro!P79)","v":2.41},370308410.75137371,331223980.99407315,296264741.4973821,264995296.50928634,237026204.39113268,212009127.36237273,189632493.1684908,169617614.64086837,151715218.82009691,135702342.41511357,121379554.93301749,108568474.89536449,97109548.206945002,86860061.00800091,77692362.261181474,2850105431.8546991,287889.43756108073]
[{"$f":"IF(ISBLANK(InfoPro!A80),\"\",InfoPro!A80)","v":"SC_1550_A1"},{"$f":"IF(ISBLANK(InfoPro!B80),\"\",InfoPro!B80)","v":"Parque Solar Fonseca"},{"$f":"IF(ISBLANK(InfoPro!E80),\"\",InfoPro!E80)","v":9.9},{"$f":"IF(ISBLANK(InfoPro!F80),\"\",InfoPro!F80)","v":"Solar FV"},{"$f":"IF(ISBLANK(InfoPro!I80),\"\",YEAR(InfoPro!I80)-$F$3)","v":2},{"$f":"IF(ISBLANK(InfoPro!P80),\"\",InfoPro!P80)","v":0.26},39950284.977326632,35733707.493136525,31962171.281875245,28588704.187723838,25571291.76003921,22872353.989301622,20458277.271289464,18298995.77038414,16367616.968143234,14640086.733580718,13094889.743811017,11712781.523981232,10476548.769213984,9370794.9635187685,8381748.6256876271,307480254.05901325,31058.611521112449]
[{"$f":"IF(ISBLANK(InfoPro!A81),\"\",InfoPro!A81)","v":"SC_1550_A2"},{"$f":"IF(ISBLANK(InfoPro!B81),\"\",InfoPro!B81)","v":"Parque Solar Fonseca"},{"$f":"IF(ISBLANK(InfoPro!E81),\"\",InfoPro!E81)","v":9.9},{"$f":"IF(ISBLANK(InfoPro!F81),\"\",InfoPro!F81)","v":"Solar FV"},{"$f":"IF(ISBLANK(InfoPro!I81),\"\",YEAR(InfoPro!I81)-$F$3)","v":2},{"$f":"IF(ISBLANK(InfoPro!P81),\"\",InfoPro!P81)","v":0.27},{"$f":"IF($F88=\"\",\"\",(1/(1+$C$3)^(G$6+$E88))*$F88*$C$2)","v":41486834.399531499},37108080.85825716,33191485.561947372,29688269.733405523,26554802.981579177,23752059.911967069,21245134.089415986,19002803.300014298,16997140.697687209,15203166.992564591,13598539.349342208,12163273.121057434,10879492.952645291,9731210.1544233374,8704123.5728294589,319306417.67666769,32253.173502693706]
[{"$f":"IF(ISBLANK(InfoPro!A82),\"\",InfoPro!A82)","v":"SC_1556_A1"},{"$f":"IF(ISBLANK(InfoPro!B82),\"\",InfoPro!B82)","v":"Copey Solar I - 100 MW"},{"$f":"IF(ISBLANK(InfoPro!E82),\"\",InfoPro!E82)","v":100},{"$f":"IF(ISBLANK(InfoPro!F82),\"\",InfoPro!F82)","v":"Solar FV"},{"$f":"IF(ISBLANK(InfoPro!I82),\"\",YEAR(InfoPro!I82)-$F$3)","v":3},{"$f":"IF(ISBLANK(InfoPro!P82),\"\",InfoPro!P82)","v":-7.56},-1039026264.0312004,-929361595.7345264,-831271552.53535461,-743534483.48421693,-665057677.53507793,-594863754.50364745,-532078492.40040028,-475919939.53524178,-425688675.79180849,-380759101.78158182,-340571647.38960809,-304625802.67406809,-272473884.32385343,-243715460.03922486,-217992361.39465553,-7996940693.1544666,-79969.406931544669]
[{"$f":"IF(ISBLANK(InfoPro!A83),\"\",InfoPro!A83)","v":"SC_1556_A2"},{"$f":"IF(ISBLANK(InfoPro!B83),\"\",InfoPro!B83)","v":"Copey Solar I - 100 MW"},{"$f":"IF(ISBLANK(InfoPro!E83),\"\",InfoPro!E83)","v":100},{"$f":"IF(ISBLANK(InfoPro!F83),\"\",InfoPro!F83)","v":"Solar FV"},{"$f":"IF(ISBLANK(InfoPro!I83),\"\",YEAR(InfoPro!I83)-$F$3)","v":3},{"$f":"IF(ISBLANK(InfoPro!P83),\"\",InfoPro!P83)","v":-7.25},-996420689.71246076,-891252853.05229056,-797185020.61922228,-713045635.61647797,-637786793.93244898,-570471193.14172542,-510260458.98186541,-456404703.9193787,-408233187.76330835,-365145964.01011485,-326606407.88024586,-292134532.9876976,-261301013.40581182,-233721836.67782807,-209053521.1787371,-7669023812.8796139,-76690.238128796133]
[{"$f":"IF(ISBLANK(InfoPro!A84),\"\",InfoPro!A84)","v":"SC_1557_A1"},{"$f":"IF(ISBLANK(InfoPro!B84),\"\",InfoPro!B84)","v":"Copey Solar II"},{"$f":"IF(ISBLANK(InfoPro!E84),\"\",InfoPro!E84)","v":100},{"$f":"IF(ISBLANK(InfoPro!F84),\"\",InfoPro!F84)","v":"Solar FV"},{"$f":"IF(ISBLANK(InfoPro!I84),\"\",YEAR(InfoPro!I84)-$F$3)","v":4},{"$f":"IF(ISBLANK(InfoPro!P84),\"\",InfoPro!P84)","v":-7.93},-974846224.09719491,-871955477.72557688,-779924398.68119597,-697606796.67369938,-623977456.77432859,-558119370.99671626,-499212317.52836865,-446522645.37421179,-399394137.18623596,-357239836.48142755,-319534737.46102643,-285809246.38732243,-255643333.08347261,-228661299.71688074,-204527101.71456233,-7502974379.8822212,-75029.743798822208]
[{"$f":"IF(ISBLANK(InfoPro!A85),\"\",InfoPro!A85)","v":"SC_1557_A2"},{"$f":"IF(ISBLANK(InfoPro!B85),\"\",InfoPro!B85)","v":"Copey Solar II"},{"$f":"IF(ISBLANK(InfoPro!E85),\"\",InfoPro!E85)","v":100},{"$f":"IF(ISBLANK(InfoPro!F85),\"\",InfoPro!F85)","v":"Solar FV"},{"$f":"IF(ISBLANK(InfoPro!I85),\"\",YEAR(InfoPro!I85)-$F$3)","v":4},{"$f":"IF(ISBLANK(InfoPro!P85),\"\",InfoPro!P85)","v":-7.46},-917068452.93380511,-820275897.07853782,-733699371.26881731,-656260618.3084234,-586995186.32238233,-525040417.10409868,-469624702.23980206,-420057873.20196974,-375722605.7262699,-336066731.41884613,-300596360.83975506,-268869732.41480774,-240491710.56780654,-215108864.55081087,-192405066.68229955,-7058283590.658432,-70582.835906584325]
[{"$f":"IF(ISBLANK(InfoPro!A86),\"\",InfoPro!A86)","v":"SC_1565_A1"},{"$f":"IF(ISBLANK(InfoPro!B86),\"\",InfoPro!B86)","v":"Eólica Río Córdoba 50 MW"},{"$f":"IF(ISBLANK(InfoPro!E86),\"\",InfoPro!E86)","v":50},{"$f":"IF(ISBLANK(InfoPro!F86),\"\",InfoPro!F86)","v":"Eólico Onshore"},{"$f":"IF(ISBLANK(InfoPro!I86),\"\",YEAR(InfoPro!I86)-$F$3)","v":2},{"$f":"IF(ISBLANK(InfoPro!P86),\"\",InfoPro!P86)","v":-21},-3226753786.6302271,-2886184066.7533345,-2581559988.1514621,-2309087645.9315405,-2065373565.2339361,-1847382437.5974386,-1652399318.0656874,-1477995812.2233343,-1321999832.0423381,-1182468543.8661346,-1057664171.6155051,-946032353.86002254,-846182785.20574474,-756871900.89959288,-676987388.99784684,-24834943597.07415,-496698.871941483]
[{"$f":"IF(ISBLANK(InfoPro!A87),\"\",InfoPro!A87)","v":"SC_1575_A1"},{"$f":"IF(ISBLANK(InfoPro!B87),\"\",InfoPro!B87)","v":"BONDERO 70 MW"},{"$f":"IF(ISBLANK(InfoPro!E87),\"\",InfoPro!E87)","v":70},{"$f":"IF(ISBLANK(InfoPro!F87),\"\",InfoPro!F87)","v":"Eólico Onshore"},{"$f":"IF(ISBLANK(InfoPro!I87),\"\",YEAR(InfoPro!I87)-$F$3)","v":1},{"$f":"IF(ISBLANK(InfoPro!P87),\"\",InfoPro!P87)","v":-29},-4981800536.6726294,-4455993324.3941231,-3985682758.849843,-3565011412.2091622,-3188740082.4768891,-2852182542.4659119,-2551147175.7297959,-2281884772.5669017,-2041041835.9274616,-1825618815.6775148,-1632932751.0532334,-1460583856.0404594,-1306425631.5209835,-1168538131.9507904,-1045204053.6232473,-38342787681.158943,-547754.10973084206]
[{"$f":"IF(ISBLANK(InfoPro!A88),\"\",InfoPro!A88)","v":"SC_1592_A1"},{"$f":"IF(ISBLANK(InfoPro!B88),\"\",InfoPro!B88)","v":"Expansión La Loma II - 100 MW"},{"$f":"IF(ISBLANK(InfoPro!E88),\"\",InfoPro!E88)","v":100},{"$f":"IF(ISBLANK(InfoPro!F88),\"\",InfoPro!F88)","v":"Solar FV"},{"$f":"IF(ISBLANK(InfoPro!I88),\"\",YEAR(InfoPro!I88)-$F$3)","v":5},{"$f":"IF(ISBLANK(InfoPro!P88),\"\",InfoPro!P88)","v":-8.3699999999999992},-920336361.73557115,-823198892.42895448,-736313857.27097905,-658599156.77189541,-589086902.30044317,-526911361.62830335,-471298176.76950228,-421554719.82960838,-377061466.75278038,-337264281.53200394,-301667514.78712344,-269827830.7577132,-241348685.82979715,-215875389.82987222,-193090688.57770333,-7083435286.8022509,-70834.352868022514]
[{"$f":"IF(ISBLANK(InfoPro!A89),\"\",InfoPro!A89)","v":"SC_1593_A1"},{"$f":"IF(ISBLANK(InfoPro!B89),\"\",InfoPro!B89)","v":"Parque Solar Camarones 6 MW"},{"$f":"IF(ISBLANK(InfoPro!E89),\"\",InfoPro!E89)","v":6},{"$f":"IF(ISBLANK(InfoPro!F89),\"\",InfoPro!F89)","v":"Solar FV"},{"$f":"IF(ISBLANK(InfoPro!I89),\"\",YEAR(InfoPro!I89)-$F$3)","v":1},{"$f":"IF(ISBLANK(InfoPro!P89),\"\",InfoPro!P89)","v":-0.11},-18896484.794275492,-16902043.644253571,-15118107.016326992,-13522457.080793373,-12095221.002498547,-10818623.436939666,-9676765.149319917,-8655424.9993916973,-7741882.8259317512,-6924761.0249836762,-6193882.8488226105,-5540145.6608431218,-4955407.5678382134,-4432386.0177443773,-3964567.0999502484,-145438160.16991329,-24239.693361652215]
[{"$f":"IF(ISBLANK(InfoPro!A90),\"\",InfoPro!A90)","v":"SC_1593_A2"},{"$f":"IF(ISBLANK(InfoPro!B90),\"\",InfoPro!B90)","v":"Parque Solar Camarones 6 MW"},{"$f":"IF(ISBLANK(InfoPro!E90),\"\",InfoPro!E90)","v":6},{"$f":"IF(ISBLANK(InfoPro!F90),\"\",InfoPro!F90)","v":"Solar FV"},{"$f":"IF(ISBLANK(InfoPro!I90),\"\",YEAR(InfoPro!I90)-$F$3)","v":1},{"$f":"IF(ISBLANK(InfoPro!P90),\"\",InfoPro!P90)","v":-0.11005},-18905074.105545618,-16909726.391364593,-15124978.883152593,-13528603.652193733,-12100718.830226952,-10823540.993047366,-9681163.6789332442,-8659359.2834823281,-7745401.8635799009,-6927908.643631395,-6196698.2501175301,-5542663.9088707771,-4957660.0258235941,-4434400.7386615332,-3966369.1759047708,-145504268.42453593,-24250.711404089321]
[{"$f":"IF(ISBLANK(InfoPro!A91),\"\",InfoPro!A91)","v":"SC_1596_A1"},{"$f":"IF(ISBLANK(InfoPro!B91),\"\",InfoPro!B91)","v":"Expansión La Loma III - 100 MW"},{"$f":"IF(ISBLANK(InfoPro!E91),\"\",InfoPro!E91)","v":100},{"$f":"IF(ISBLANK(InfoPro!F91),\"\",InfoPro!F91)","v":"Solar FV"},{"$f":"IF(ISBLANK(InfoPro!I91),\"\",YEAR(InfoPro!I91)-$F$3)","v":6},{"$f":"IF(ISBLANK(InfoPro!P91),\"\",InfoPro!P91)","v":-12.23},{"$f":"IF($F98=\"\",\"\",(1/(1+$C$3)^(G$6+$E98))*$F98*$C$2)","v":-1202834223.943383},-1075880343.4198418,-962325888.56873143,-860756608.73768461,-769907521.23227596,-688647156.73727751,-615963467.56464887,-550951223.22419405,-492800736.33648849,-440787778.47628671,-394264560.35446036,-352651664.00220066,-315430826.47781813,-282138485.2216621,-252360004.67053854,-9257700488.9674931,-92577.004889674936]
[{"$f":"IF(ISBLANK(InfoPro!A92),\"\",InfoPro!A92)","v":"SC_1656_A1"},{"$f":"IF(ISBLANK(InfoPro!B92),\"\",InfoPro!B92)","v":"Parque solar TERRɅ I"},{"$f":"IF(ISBLANK(InfoPro!E92),\"\",InfoPro!E92)","v":19.899999999999999},{"$f":"IF(ISBLANK(InfoPro!F92),\"\",InfoPro!F92)","v":"Solar FV"},{"$f":"IF(ISBLANK(InfoPro!I92),\"\",YEAR(InfoPro!I92)-$F$3)","v":1},{"$f":"IF(ISBLANK(InfoPro!P92),\"\",InfoPro!P92)","v":-0.27700000000000002},-47584784.436493747,-42562418.995074905,-38070142.213841602,-34052005.55799786,-30457965.615382701,-27243260.836657163,-24367854.057832882,-21795933.862104546,-19495468.570755411,-17437807.308367986,-15597323.173853301,-13951094.073214045,-12478617.239010774,-11161553.881047206,-9983500.7880565356,-366239730.60969061,-18404.006563301034]
[{"$f":"IF(ISBLANK(InfoPro!A93),\"\",InfoPro!A93)","v":"SC_1656_A2"},{"$f":"IF(ISBLANK(InfoPro!B93),\"\",InfoPro!B93)","v":"Parque solar TERRɅ I"},{"$f":"IF(ISBLANK(InfoPro!E93),\"\",InfoPro!E93)","v":19.899999999999999},{"$f":"IF(ISBLANK(InfoPro!F93),\"\",InfoPro!F93)","v":"Solar FV"},{"$f":"IF(ISBLANK(InfoPro!I93),\"\",YEAR(InfoPro!I93)-$F$3)","v":1},{"$f":"IF(ISBLANK(InfoPro!P93),\"\",InfoPro!P93)","v":-0.29499999999999998},-50676936.493738823,-45328207.955043666,-40544014.271058746,-36264771.262127683,-32437183.597609736,-29013581.035429101,-25951324.718630683,-23212276.134732276,-20762322.124089696,-18570950.021547131,-16610867.640024273,-14857663.36317019,-13289502.113747936,-11886853.411223557,-10632248.131684756,-390038702.27385825,-19599.934787631068]
[{"$f":"IF(ISBLANK(InfoPro!A94),\"\",InfoPro!A94)","v":"SC_1698_A1"},{"$f":"IF(ISBLANK(InfoPro!B94),\"\",InfoPro!B94)","v":"Barlovento 2_500MW"},{"$f":"IF(ISBLANK(InfoPro!E94),\"\",InfoPro!E94)","v":500},{"$f":"IF(ISBLANK(InfoPro!F94),\"\",InfoPro!F94)","v":"Eólico Offshore"},{"$f":"IF(ISBLANK(InfoPro!I94),\"\",YEAR(InfoPro!I94)-$F$3)","v":11},{"$f":"IF(ISBLANK(InfoPro!P94),\"\",InfoPro!P94)","v":-94.092950000000002},-5298188265.4556675,-4738987715.0766258,-4238808331.9111147,-3791420690.43928,-3391252853.7023973,-3033320978.2669024,-2713167243.5303245,-2426804332.316927,-2170665771.3031554,-1941561512.7935197,-1736638204.6453669,-1553343653.5289509,-1389395038.9346611,-1242750482.0524695,-1111583615.4315469,-40777888689.388916,-81555.777378777828]
[{"$f":"IF(ISBLANK(InfoPro!A95),\"\",InfoPro!A95)","v":"SC_1699_A1"},{"$f":"IF(ISBLANK(InfoPro!B95),\"\",InfoPro!B95)","v":"PARQUE EOLICO GUAJIRA II de 302.4 MW"},{"$f":"IF(ISBLANK(InfoPro!E95),\"\",InfoPro!E95)","v":302.39999999999998},{"$f":"IF(ISBLANK(InfoPro!F95),\"\",InfoPro!F95)","v":"Eólico Onshore"},{"$f":"IF(ISBLANK(InfoPro!I95),\"\",YEAR(InfoPro!I95)-$F$3)","v":4},{"$f":"IF(ISBLANK(InfoPro!P95),\"\",InfoPro!P95)","v":31.4},3860046839.4264722,3452635813.4404941,3088225235.6355047,2762276597.1695037,2470730408.9172664,2209955643.0386996,1976704510.7680676,1768072013.2093632,1581459761.3679454,1414543614.8192716,1265244735.974304,1131703699.4403436,1012257334.0253518,905418008.96721995,809855106.41075134,29709129322.610558,98244.475273183067]
[{"$f":"IF(ISBLANK(InfoPro!A96),\"\",InfoPro!A96)","v":"SC_1699_A2"},{"$f":"IF(ISBLANK(InfoPro!B96),\"\",InfoPro!B96)","v":"PARQUE EOLICO GUAJIRA II de 302.4 MW"},{"$f":"IF(ISBLANK(InfoPro!E96),\"\",InfoPro!E96)","v":302.39999999999998},{"$f":"IF(ISBLANK(InfoPro!F96),\"\",InfoPro!F96)","v":"Eólico Onshore"},{"$f":"IF(ISBLANK(InfoPro!I96),\"\",YEAR(InfoPro!I96)-$F$3)","v":4},{"$f":"IF(ISBLANK(InfoPro!P96),\"\",InfoPro!P96)","v":116.2},14284631934.438089,12776951640.821194,11428400394.294447,10222182821.372494,9143276226.6301384,8178243494.3024492,7315065737.3009386,6542992609.3926115,5852408416.2724619,5234712358.0254583,4682211411.4717875,4188024518.3110805,3745996885.7880855,3350623332.5474834,2996979724.9977489,109942701505.96646,363567.13460967748]
[{"$f":"IF(ISBLANK(InfoPro!A97),\"\",InfoPro!A97)","v":"SC_1703_A1"},{"$f":"IF(ISBLANK(InfoPro!B97),\"\",InfoPro!B97)","v":"Barlovento 3 de 500 MW"},{"$f":"IF(ISBLANK(InfoPro!E97),\"\",InfoPro!E97)","v":500},{"$f":"IF(ISBLANK(InfoPro!F97),\"\",InfoPro!F97)","v":"Eólico Offshore"},{"$f":"IF(ISBLANK(InfoPro!I97),\"\",YEAR(InfoPro!I97)-$F$3)","v":11},{"$f":"IF(ISBLANK(InfoPro!P97),\"\",InfoPro!P97)","v":-97.834270000000004},-5508854608.9098225,-4927419149.2932224,-4407351654.108428,-3942175003.6748018,-3526095709.9059052,-3153931761.9909701,-2821048087.6484532,-2523298826.161407,-2256975694.2409735,-2018761801.6466663,-1805690341.3655336,-1615107639.8618371,-1444640107.2109456,-1292164675.5017402,-1155782357.3360822,-42399297418.856789,-84798.594837713579]
[{"$f":"IF(ISBLANK(InfoPro!A98),\"\",InfoPro!A98)","v":"SC_1707_A1"},{"$f":"IF(ISBLANK(InfoPro!B98),\"\",InfoPro!B98)","v":"Santa Marta II - 50 MW"},{"$f":"IF(ISBLANK(InfoPro!E98),\"\",InfoPro!E98)","v":50},{"$f":"IF(ISBLANK(InfoPro!F98),\"\",InfoPro!F98)","v":"Solar FV"},{"$f":"IF(ISBLANK(InfoPro!I98),\"\",YEAR(InfoPro!I98)-$F$3)","v":2},{"$f":"IF(ISBLANK(InfoPro!P98),\"\",InfoPro!P98)","v":-4.5129999999999999},-693444754.24105787,-620254699.6789428,-554789534.59654999,-496233930.76614493,-443858614.28098828,-397011282.89891618,-355108482.0204975,-317628338.12209082,-284104059.1431939,-254118120.87942219,-227297066.97622734,-203306857.76048961,-181848709.98254886,-162655375.65523157,-145487813.6451087,-5337147640.6474094,-106742.95281294819]
[{"$f":"IF(ISBLANK(InfoPro!A99),\"\",InfoPro!A99)","v":"SC_1710_A1"},{"$f":"IF(ISBLANK(InfoPro!B99),\"\",InfoPro!B99)","v":"Parque Eólico Trupillo_100MW"},{"$f":"IF(ISBLANK(InfoPro!E99),\"\",InfoPro!E99)","v":100},{"$f":"IF(ISBLANK(InfoPro!F99),\"\",InfoPro!F99)","v":"Eólico Onshore"},{"$f":"IF(ISBLANK(InfoPro!I99),\"\",YEAR(InfoPro!I99)-$F$3)","v":5},{"$f":"IF(ISBLANK(InfoPro!P99),\"\",InfoPro!P99)","v":-1.1399999999999999},-125350472.2077122,-112120279.25555652,-100286475.18386094,-89701677.266423032,-80234058.377838135,-71765705.168012634,-64191149.524161592,-57416055.030555986,-51356042.066686936,-45935636.911168993,-41087331.763120756,-36750743.974168822,-32871864.019829005,-29402382.844211988,-26299090.200547405,-964768963.79385495,-9647.6896379385489]
[{"$f":"IF(ISBLANK(InfoPro!A100),\"\",InfoPro!A100)","v":"SC_1710_A2"},{"$f":"IF(ISBLANK(InfoPro!B100),\"\",InfoPro!B100)","v":"Parque Eólico Trupillo_100MW"},{"$f":"IF(ISBLANK(InfoPro!E100),\"\",InfoPro!E100)","v":100},{"$f":"IF(ISBLANK(InfoPro!F100),\"\",InfoPro!F100)","v":"Eólico Onshore"},{"$f":"IF(ISBLANK(InfoPro!I100),\"\",YEAR(InfoPro!I100)-$F$3)","v":5},{"$f":"IF(ISBLANK(InfoPro!P100),\"\",InfoPro!P100)","v":-5.9},-648743671.95219481,-580271620.70858216,-519026494.37261373,-464245522.69464558,-415246442.48179394,-371419000.43094265,-332217352.80048549,-297153267.26340383,-265790042.27495873,-237737068.22447118,-212644962.63369516,-190201218.81368077,-170126313.78683433,-152170227.00074628,-136109326.47651729,-4993102531.9155674,-49931.025319155677]
[{"$f":"IF(ISBLANK(InfoPro!A101),\"\",InfoPro!A101)","v":"SC_1718_A1"},{"$f":"IF(ISBLANK(InfoPro!B101),\"\",InfoPro!B101)","v":"Autogeneración Drummond 50 MW"},{"$f":"IF(ISBLANK(InfoPro!E101),\"\",InfoPro!E101)","v":50},{"$f":"IF(ISBLANK(InfoPro!F101),\"\",InfoPro!F101)","v":"Solar FV"},{"$f":"IF(ISBLANK(InfoPro!I101),\"\",YEAR(InfoPro!I101)-$F$3)","v":0},{"$f":"IF(ISBLANK(InfoPro!P101),\"\",InfoPro!P101)","v":-2.5179999999999998},-483599525.99999994,-432557715.56350631,-386903144.5111863,-346067213.337376,-309541335.722161,-276870604.40264851,-247648125.58376431,-221509951.32715952,-198130546.80425721,-177218735.96087405,-158514075.09917179,-141783609.21213937,-126818970.67275438,-113433784.14378746,-101461345.3880031,-3722058683.7287889,-74441.173674575781]
[{"$f":"IF(ISBLANK(InfoPro!A102),\"\",InfoPro!A102)","v":"SC_1722_A1"},{"$f":"IF(ISBLANK(InfoPro!B102),\"\",InfoPro!B102)","v":"PARQUE EÓLICO MONSAUI 9,9 MW"},{"$f":"IF(ISBLANK(InfoPro!E102),\"\",InfoPro!E102)","v":9.9},{"$f":"IF(ISBLANK(InfoPro!F102),\"\",InfoPro!F102)","v":"Eólico Onshore"},{"$f":"IF(ISBLANK(InfoPro!I102),\"\",YEAR(InfoPro!I102)-$F$3)","v":4},{"$f":"IF(ISBLANK(InfoPro!P102),\"\",InfoPro!P102)","v":-1.857},-228283661.80939358,-204189321.83308908,-182638033.83997235,-163361389.83897349,-146119311.12609437,-130697058.25232056,-116902556.57631533,-104564004.09330535,-93527731.747142524,-83656289.577050567,-74826734.863193706,-66929100.950978279,-59865027.684238166,-53546536.390195146,-47894934.159387432,-1757001692.7416501,-177474.91845875254]
[{"$f":"IF(ISBLANK(InfoPro!A103),\"\",InfoPro!A103)","v":"SC_1722_A2"},{"$f":"IF(ISBLANK(InfoPro!B103),\"\",InfoPro!B103)","v":"PARQUE EÓLICO MONSAUI 9,9 MW"},{"$f":"IF(ISBLANK(InfoPro!E103),\"\",InfoPro!E103)","v":9.9},{"$f":"IF(ISBLANK(InfoPro!F103),\"\",InfoPro!F103)","v":"Eólico Onshore"},{"$f":"IF(ISBLANK(InfoPro!I103),\"\",YEAR(InfoPro!I103)-$F$3)","v":4},{"$f":"IF(ISBLANK(InfoPro!P103),\"\",InfoPro!P103)","v":1.123},138051993.65209964,123481210.78005333,110448310.17893858,98790975.115329698,88364020.675607949,79037585.577466875,70695514.827787891,63233913.083889015,56559850.701152958,50590206.351657391,45250631.799335778,40474625.938582994,36202706.564027712,32381669.556375414,28963926.257938653,1062527141.0602437,107325.97384446906]
[{"$f":"IF(ISBLANK(InfoPro!A104),\"\",InfoPro!A104)","v":"SC_1728_A1"},{"$f":"IF(ISBLANK(InfoPro!B104),\"\",InfoPro!B104)","v":"PARQUE SOLAR CAÑAHUATE II - 190 MW"},{"$f":"IF(ISBLANK(InfoPro!E104),\"\",InfoPro!E104)","v":190},{"$f":"IF(ISBLANK(InfoPro!F104),\"\",InfoPro!F104)","v":"Solar FV"},{"$f":"IF(ISBLANK(InfoPro!I104),\"\",YEAR(InfoPro!I104)-$F$3)","v":1},{"$f":"IF(ISBLANK(InfoPro!P104),\"\",InfoPro!P104)","v":-16.132999999999999},-2771427174.4186049,-2478915182.8431168,-2217276549.949121,-1983252728.0403588,-1773929094.848264,-1586698653.7104328,-1419229565.0361655,-1269436104.6835113,-1135452687.5523357,-1015610632.8732877,-908417381.81868339,-812537908.60347354,-726778093.56303537,-650069851.1297276,-581457827.48633957,-21330489436.556458,-112265.73387661294]
[{"$f":"IF(ISBLANK(InfoPro!A105),\"\",InfoPro!A105)","v":"SC_1729_A1"},{"$f":"IF(ISBLANK(InfoPro!B105),\"\",InfoPro!B105)","v":"TR Solar 17"},{"$f":"IF(ISBLANK(InfoPro!E105),\"\",InfoPro!E105)","v":200},{"$f":"IF(ISBLANK(InfoPro!F105),\"\",InfoPro!F105)","v":"Solar FV"},{"$f":"IF(ISBLANK(InfoPro!I105),\"\",YEAR(InfoPro!I105)-$F$3)","v":3},{"$f":"IF(ISBLANK(InfoPro!P105),\"\",InfoPro!P105)","v":-15.21},-2090421888.3484869,-1869787019.9897017,-1672439194.9818447,-1495920567.9622939,-1338032708.3741448,-1196809220.3704338,-1070491252.5674722,-957505592.63637936,-856445073.91447198,-766051050.01294446,-685197719.15290201,-612878102.99901807,-548191505.36584806,-490332294.60272622,-438579869.94877124,{"$f":"IF(U112=\"\",\"\",SUM(G112:U112))","v":-16089083061.22744},{"$f":"IF(C112=0,0,IF(V112=\"\",\"\",V112/(C112*1000)))","v":-80445.415306137205}]
[{"$f":"IF(ISBLANK(InfoPro!A106),\"\",InfoPro!A106)","v":"SC_1729_A2"},{"$f":"IF(ISBLANK(InfoPro!B106),\"\",InfoPro!B106)","v":"TR Solar 17"},{"$f":"IF(ISBLANK(InfoPro!E106),\"\",InfoPro!E106)","v":200},{"$f":"IF(ISBLANK(InfoPro!F106),\"\",InfoPro!F106)","v":"Solar FV"},{"$f":"IF(ISBLANK(InfoPro!I106),\"\",YEAR(InfoPro!I106)-$F$3)","v":3},{"$f":"IF(ISBLANK(InfoPro!P106),\"\",InfoPro!P106)","v":15.42},2119283729.0160201,1895602619.8712165,1695530071.4411597,1516574303.6146331,1356506532.7501192,1213333213.5510905,1085271210.6897054,970725590.95680261,868269759.3531332,776627691.72909939,694658042.69150233,621339930.85107541,555760224.37484396,497102168.49270463,444635213.32084501,16311220302.703951,81556.101513519752]
[{"$f":"IF(ISBLANK(InfoPro!A107),\"\",InfoPro!A107)","v":"SC_1746_A1"},{"$f":"IF(ISBLANK(InfoPro!B107),\"\",InfoPro!B107)","v":"Parque Solar Nuevo Mundo"},{"$f":"IF(ISBLANK(InfoPro!E107),\"\",InfoPro!E107)","v":99.99},{"$f":"IF(ISBLANK(InfoPro!F107),\"\",InfoPro!F107)","v":"Solar FV"},{"$f":"IF(ISBLANK(InfoPro!I107),\"\",YEAR(InfoPro!I107)-$F$3)","v":2},{"$f":"IF(ISBLANK(InfoPro!P107),\"\",InfoPro!P107)","v":-3.9569999999999999},{"$f":"IF($F114=\"\",\"\",(1/(1+$C$3)^(G$6+$E114))*$F114*$C$2)","v":-608012606.36646712},-543839540.57823551,-486439660.62453979,-435098086.42624307,-389175390.36336601,-348099633.59871739,-311359242.93266314,-278496639.47465396,-249102539.78054914,-222810858.47991881,-199294148.90869302,-178259524.96305281,-159445013.38376817,-142616291.04093757,-127563766.58402283,-4679612943.505827,-46800.809516009867]
[{"$f":"IF(ISBLANK(InfoPro!A108),\"\",InfoPro!A108)","v":"SC_1746_A2"},{"$f":"IF(ISBLANK(InfoPro!B108),\"\",InfoPro!B108)","v":"Parque Solar Nuevo Mundo"},{"$f":"IF(ISBLANK(InfoPro!E108),\"\",InfoPro!E108)","v":99.99},{"$f":"IF(ISBLANK(InfoPro!F108),\"\",InfoPro!F108)","v":"Solar FV"},{"$f":"IF(ISBLANK(InfoPro!I108),\"\",YEAR(InfoPro!I108)-$F$3)","v":2},{"$f":"IF(ISBLANK(InfoPro!P108),\"\",InfoPro!P108)","v":-2.7610000000000001},-424241295.4707647,-379464486.10980749,-339413672.72791368,-303590047.16271353,-271547448.26718563,-242886805.2479299,-217251167.48473158,-194321258.93088698,-173811501.7270903,-155466459.50544751,-139057656.08716238,-124380729.95273915,-111252889.04538387,-99510634.208751231,-89007722.905859768,-3265203774.8343682,-32655.303278671548]
[{"$f":"IF(ISBLANK(InfoPro!A109),\"\",InfoPro!A109)","v":"SC_1752_A1"},{"$f":"IF(ISBLANK(InfoPro!B109),\"\",InfoPro!B109)","v":"OWF BERGANTIN 300"},{"$f":"IF(ISBLANK(InfoPro!E109),\"\",InfoPro!E109)","v":300},{"$f":"IF(ISBLANK(InfoPro!F109),\"\",InfoPro!F109)","v":"Eólico Offshore"},{"$f":"IF(ISBLANK(InfoPro!I109),\"\",YEAR(InfoPro!I109)-$F$3)","v":9},{"$f":"IF(ISBLANK(InfoPro!P109),\"\",InfoPro!P109)","v":-61.601759999999999},-4335578252.6469955,-3877976970.1672587,-3468673497.4662433,-3102570212.4027219,-2775107524.5104847,-2482207088.1131353,-2220221009.0457382,-1985886412.3843808,-1776284805.3527558,-1588805729.295846,-1421114248.0284853,-1271121867.64623,-1136960525.6227462,-1016959325.2439592,-909623725.62071478,-33369091193.547691,-111230.3039784923]
[{"$f":"IF(ISBLANK(InfoPro!A110),\"\",InfoPro!A110)","v":"SC_1752_A2"},{"$f":"IF(ISBLANK(InfoPro!B110),\"\",InfoPro!B110)","v":"OWF BERGANTIN 300"},{"$f":"IF(ISBLANK(InfoPro!E110),\"\",InfoPro!E110)","v":300},{"$f":"IF(ISBLANK(InfoPro!F110),\"\",InfoPro!F110)","v":"Eólico Offshore"},{"$f":"IF(ISBLANK(InfoPro!I110),\"\",YEAR(InfoPro!I110)-$F$3)","v":9},{"$f":"IF(ISBLANK(InfoPro!P110),\"\",InfoPro!P110)","v":-56.1706},-3953329122.3843818,-3536072560.2722554,-3162855599.5279574,-2829030053.2450423,-2530438330.2728467,-2263361654.9846578,-2024473752.2224128,-1810799420.5924981,-1619677478.1686029,-1448727619.1132405,-1295820768.4376037,-1159052565.6865864,-1036719647.3046392,-927298432.29395294,-829426146.95344615,-30427083151.460117,-101423.61050486706]
[{"$f":"IF(ISBLANK(InfoPro!A111),\"\",InfoPro!A111)","v":"SC_1756_A1"},{"$f":"IF(ISBLANK(InfoPro!B111),\"\",InfoPro!B111)","v":"Barlovento 4_500MW"},{"$f":"IF(ISBLANK(InfoPro!E111),\"\",InfoPro!E111)","v":500},{"$f":"IF(ISBLANK(InfoPro!F111),\"\",InfoPro!F111)","v":"Eólico Offshore"},{"$f":"IF(ISBLANK(InfoPro!I111),\"\",YEAR(InfoPro!I111)-$F$3)","v":11},{"$f":"IF(ISBLANK(InfoPro!P111),\"\",InfoPro!P111)","v":-97.834270000000004},-5508854608.9098225,-4927419149.2932224,-4407351654.108428,-3942175003.6748018,-3526095709.9059052,-3153931761.9909701,-2821048087.6484532,-2523298826.161407,-2256975694.2409735,-2018761801.6466663,-1805690341.3655336,-1615107639.8618371,-1444640107.2109456,-1292164675.5017402,-1155782357.3360822,-42399297418.856789,-84798.594837713579]
[{"$f":"IF(ISBLANK(InfoPro!A112),\"\",InfoPro!A112)","v":"SC_1765_A1"},{"$f":"IF(ISBLANK(InfoPro!B112),\"\",InfoPro!B112)","v":"PARQUE SOLAR CIUDAD BLANCA - 199 MW"},{"$f":"IF(ISBLANK(InfoPro!E112),\"\",InfoPro!E112)","v":19.899999999999999},{"$f":"IF(ISBLANK(InfoPro!F112),\"\",InfoPro!F112)","v":"Solar FV"},{"$f":"IF(ISBLANK(InfoPro!I112),\"\",YEAR(InfoPro!I112)-$F$3)","v":3},{"$f":"IF(ISBLANK(InfoPro!P112),\"\",InfoPro!P112)","v":-0.53991999999999996},-74205166.729593337,-66373136.609654158,-59367742.942445591,-53101737.873386033,-47497082.17655281,-42483973.324286945,-37999976.139791548,-33989245.205538057,-30401829.343057305,-27193049.501840167,-24322942.309338253,-21755762.351823129,-19459536.987319436,-17405668.146081779,-15568576.159286031,-571125425.79999459,-28699.770140703247]
[{"$f":"IF(ISBLANK(InfoPro!A113),\"\",InfoPro!A113)","v":"SC_1765_A2"},{"$f":"IF(ISBLANK(InfoPro!B113),\"\",InfoPro!B113)","v":"PARQUE SOLAR CIUDAD BLANCA - 199 MW"},{"$f":"IF(ISBLANK(InfoPro!E113),\"\",InfoPro!E113)","v":19.899999999999999},{"$f":"IF(ISBLANK(InfoPro!F113),\"\",InfoPro!F113)","v":"Solar FV"},{"$f":"IF(ISBLANK(InfoPro!I113),\"\",YEAR(InfoPro!I113)-$F$3)","v":3},{"$f":"IF(ISBLANK(InfoPro!P113),\"\",InfoPro!P113)","v":-0.53612000000000004},-73682904.850847512,-65905997.183226757,-58949908.035086557,-52728003.609200858,-47162793.925939947,-42184967.733398877,-37732529.278532095,-33750026.188311353,-30187858.844643436,-27001662.65173832,-24151755.502449304,-21602643.562119234,-19322579.214775704,-17283165.666167889,-15459003.279219938,-567105799.52565777,-28497.77887063607]
[{"$f":"IF(ISBLANK(InfoPro!A114),\"\",InfoPro!A114)","v":"SC_1779_A1"},{"$f":"IF(ISBLANK(InfoPro!B114),\"\",InfoPro!B114)","v":"Pétalo del Cesar III El Paso"},{"$f":"IF(ISBLANK(InfoPro!E114),\"\",InfoPro!E114)","v":9.9},{"$f":"IF(ISBLANK(InfoPro!F114),\"\",InfoPro!F114)","v":"Solar FV"},{"$f":"IF(ISBLANK(InfoPro!I114),\"\",YEAR(InfoPro!I114)-$F$3)","v":3},{"$f":"IF(ISBLANK(InfoPro!P114),\"\",InfoPro!P114)","v":-1.0307599999999999},-141664908.98317462,-126712798.73271433,-113338818.18668546,-101376402.67145389,-90676567.684663609,-81106053.385208949,-72545664.924158275,-64888787.946474299,-58040060.775021754,-51914186.739733241,-46434871.860226512,-41533874.651365399,-37150156.217679247,-33229120.051591448,-29721932.06761311,-1090334204.8777642,-110134.76816947114]
[{"$f":"IF(ISBLANK(InfoPro!A115),\"\",InfoPro!A115)","v":"SC_1779_A2"},{"$f":"IF(ISBLANK(InfoPro!B115),\"\",InfoPro!B115)","v":"Pétalo del Cesar III El Paso"},{"$f":"IF(ISBLANK(InfoPro!E115),\"\",InfoPro!E115)","v":9.9},{"$f":"IF(ISBLANK(InfoPro!F115),\"\",InfoPro!F115)","v":"Solar FV"},{"$f":"IF(ISBLANK(InfoPro!I115),\"\",YEAR(InfoPro!I115)-$F$3)","v":3},{"$f":"IF(ISBLANK(InfoPro!P115),\"\",InfoPro!P115)","v":-1.03068},-141653913.99625367,-126702964.21847376,-113330021.66232002,-101368534.58168158,-90669530.037282288,-81099758.530663952,-72540034.463921249,-64883751.756637961,-58035556.132949896,-51910157.542888992,-46431267.927449904,-41530651.097897954,-37147272.89615202,-33226541.052014325,-29719625.270138036,-1090249581.1667259,-110126.2203198713]
[{"$f":"IF(ISBLANK(InfoPro!A116),\"\",InfoPro!A116)","v":"SC_1783_A1"},{"$f":"IF(ISBLANK(InfoPro!B116),\"\",InfoPro!B116)","v":"Pétalo del Cesar IV La Loma"},{"$f":"IF(ISBLANK(InfoPro!E116),\"\",InfoPro!E116)","v":9.9},{"$f":"IF(ISBLANK(InfoPro!F116),\"\",InfoPro!F116)","v":"Solar FV"},{"$f":"IF(ISBLANK(InfoPro!I116),\"\",YEAR(InfoPro!I116)-$F$3)","v":3},{"$f":"IF(ISBLANK(InfoPro!P116),\"\",InfoPro!P116)","v":-2.04},-280372166.48460966,-250780113.13471347,-224311371.31906396,-200636289.19415382,-179460008.22375119,-160518790.89780965,-143576736.04455245,-128422840.82697,-114868372.83271024,-102744519.52836335,-91900285.803545043,-82200613.419986635,-73524698.944531873,-65764489.21693369,-58823335.614430852,-2157904631.4861264,-217970.16479657844]
[{"$f":"IF(ISBLANK(InfoPro!A117),\"\",InfoPro!A117)","v":"SC_1783_A2"},{"$f":"IF(ISBLANK(InfoPro!B117),\"\",InfoPro!B117)","v":"Pétalo del Cesar IV La Loma"},{"$f":"IF(ISBLANK(InfoPro!E117),\"\",InfoPro!E117)","v":9.9},{"$f":"IF(ISBLANK(InfoPro!F117),\"\",InfoPro!F117)","v":"Solar FV"},{"$f":"IF(ISBLANK(InfoPro!I117),\"\",YEAR(InfoPro!I117)-$F$3)","v":3},{"$f":"IF(ISBLANK(InfoPro!P117),\"\",InfoPro!P117)","v":-1.85},-254259072.54731756,-227423141.81334311,-203419625.95111191,-181949575.98489437,-162745595.69310769,-145568511.3534058,-130204392.98157945,-116461889.96563457,-104169847.91201663,-93175177.023270696,-83340945.459097236,-74544673.934791803,-66676810.31734509,-59639365.221238889,-53344691.611126021,-1956923317.7692807,-197669.02199689703]
[{"$f":"IF(ISBLANK(InfoPro!A118),\"\",InfoPro!A118)","v":"SC_1788_A1"},{"$f":"IF(ISBLANK(InfoPro!B118),\"\",InfoPro!B118)","v":"DSE COPEY 19.9"},{"$f":"IF(ISBLANK(InfoPro!E118),\"\",InfoPro!E118)","v":19.899999999999999},{"$f":"IF(ISBLANK(InfoPro!F118),\"\",InfoPro!F118)","v":"Solar FV"},{"$f":"IF(ISBLANK(InfoPro!I118),\"\",YEAR(InfoPro!I118)-$F$3)","v":2},{"$f":"IF(ISBLANK(InfoPro!P118),\"\",InfoPro!P118)","v":-0.5},-76827471.110243514,-68718668.256031781,-61465714.003606245,-54978277.284084298,-49175561.07699848,-43985296.13327235,-39342840.906325892,-35190376.481507957,-31476186.47719853,-28154012.949193683,-25182480.276559643,-22524579.853810061,-20147209.17156535,-18020759.545228403,-16118747.357091591,-591308180.88271761,-29713.978938830031]
[{"$f":"IF(ISBLANK(InfoPro!A119),\"\",InfoPro!A119)","v":"SC_1811_A1"},{"$f":"IF(ISBLANK(InfoPro!B119),\"\",InfoPro!B119)","v":"DSE RIOHACHA"},{"$f":"IF(ISBLANK(InfoPro!E119),\"\",InfoPro!E119)","v":9.9},{"$f":"IF(ISBLANK(InfoPro!F119),\"\",InfoPro!F119)","v":"Solar FV"},{"$f":"IF(ISBLANK(InfoPro!I119),\"\",YEAR(InfoPro!I119)-$F$3)","v":2},{"$f":"IF(ISBLANK(InfoPro!P119),\"\",InfoPro!P119)","v":-1.77},-271969247.73026204,-243264085.62635252,-217588627.57276607,-194623101.5856584,-174081486.21257463,-155707948.31178412,-139273656.80839366,-124573932.74453817,-111425700.12928279,-99665205.840145648,-89145980.17902115,-79737012.682487607,-71321120.467341349,-63793488.790108539,-57060365.644104227,-2093230960.3248205,-211437.47073988087]
[{"$f":"IF(ISBLANK(InfoPro!A120),\"\",InfoPro!A120)","v":"SC_1811_A2"},{"$f":"IF(ISBLANK(InfoPro!B120),\"\",InfoPro!B120)","v":"DSE RIOHACHA"},{"$f":"IF(ISBLANK(InfoPro!E120),\"\",InfoPro!E120)","v":9.9},{"$f":"IF(ISBLANK(InfoPro!F120),\"\",InfoPro!F120)","v":"Solar FV"},{"$f":"IF(ISBLANK(InfoPro!I120),\"\",YEAR(InfoPro!I120)-$F$3)","v":2},{"$f":"IF(ISBLANK(InfoPro!P120),\"\",InfoPro!P120)","v":-1.74},-267359599.46364743,-239140965.53099057,-213900684.73254976,-191324404.94861338,-171130952.54795471,-153068830.54378778,-136913086.3540141,-122462510.1556477,-109537128.9406509,-97975965.063194022,-87635031.362427562,-78385537.891259015,-70112287.917047426,-62712243.217394836,-56093240.802678734,-2057752469.471858,-207853.78479513718]
[{"$f":"IF(ISBLANK(InfoPro!A121),\"\",InfoPro!A121)","v":"SC_1824_A1"},{"$f":"IF(ISBLANK(InfoPro!B121),\"\",InfoPro!B121)","v":"PGF ROSARIO II_45MW"},{"$f":"IF(ISBLANK(InfoPro!E121),\"\",InfoPro!E121)","v":45},{"$f":"IF(ISBLANK(InfoPro!F121),\"\",InfoPro!F121)","v":"Solar FV"},{"$f":"IF(ISBLANK(InfoPro!I121),\"\",YEAR(InfoPro!I121)-$F$3)","v":3},{"$f":"IF(ISBLANK(InfoPro!P121),\"\",InfoPro!P121)","v":5.399},742024179.82863116,663706779.81094015,593655438.1135422,530997708.50942957,474953227.64707488,424823996.106507,379985685.24732292,339879861.58078974,304007031.82539338,271920422.02629107,243220413.26144102,217549564.63456264,194588161.56937626,174050233.96187499,155679994.59917265,5711042698.7223482,126912.05997160774]
[{"$f":"IF(ISBLANK(InfoPro!A122),\"\",InfoPro!A122)","v":"SC_1824_A2"},{"$f":"IF(ISBLANK(InfoPro!B122),\"\",InfoPro!B122)","v":"PGF ROSARIO II_45MW"},{"$f":"IF(ISBLANK(InfoPro!E122),\"\",InfoPro!E122)","v":45},{"$f":"IF(ISBLANK(InfoPro!F122),\"\",InfoPro!F122)","v":"Solar FV"},{"$f":"IF(ISBLANK(InfoPro!I122),\"\",YEAR(InfoPro!I122)-$F$3)","v":3},{"$f":"IF(ISBLANK(InfoPro!P122),\"\",InfoPro!P122)","v":5.28},725669136.78369558,649077939.87808204,580570608.11993015,519293924.97310394,464484727.16735607,415460399.97080147,371610375.64472401,332388529.19921649,297306376.74348533,265926991.72046986,237859563.25623423,212754528.85173011,190299220.79761195,170213972.09088719,152248633.35499752,5585164928.5523252,124114.77619005168]
[{"$f":"IF(ISBLANK(InfoPro!A123),\"\",InfoPro!A123)","v":"SC_1827_A1"},{"$f":"IF(ISBLANK(InfoPro!B123),\"\",InfoPro!B123)","v":"Guatapurí Solar I 9,9 MW"},{"$f":"IF(ISBLANK(InfoPro!E123),\"\",InfoPro!E123)","v":9.9},{"$f":"IF(ISBLANK(InfoPro!F123),\"\",InfoPro!F123)","v":"Solar FV"},{"$f":"IF(ISBLANK(InfoPro!I123),\"\",YEAR(InfoPro!I123)-$F$3)","v":2},{"$f":"IF(ISBLANK(InfoPro!P123),\"\",InfoPro!P123)","v":-6.8029099999999998},-1045300742.9811734,-934973830.93128216,-836291440.9045459,-748024544.63733983,-669073832.41264749,-598456021.83599949,-535291611.66010696,-478793928.13963062,-428259327.4951973,-383058432.46439838,-342628293.79642075,-306465379.06656599,-274119301.49066728,-245187210.63565949,-219308775.1660639,-8045232673.6176987,-812649.76501188881]
[{"$f":"IF(ISBLANK(InfoPro!A124),\"\",InfoPro!A124)","v":"SC_1827_A2"},{"$f":"IF(ISBLANK(InfoPro!B124),\"\",InfoPro!B124)","v":"Guatapurí Solar I 9,9 MW"},{"$f":"IF(ISBLANK(InfoPro!E124),\"\",InfoPro!E124)","v":9.9},{"$f":"IF(ISBLANK(InfoPro!F124),\"\",InfoPro!F124)","v":"Solar FV"},{"$f":"IF(ISBLANK(InfoPro!I124),\"\",YEAR(InfoPro!I124)-$F$3)","v":2},{"$f":"IF(ISBLANK(InfoPro!P124),\"\",InfoPro!P124)","v":-6.3133900000000001},{"$f":"IF($F131=\"\",\"\",(1/(1+$C$3)^(G$6+$E131))*$F131*$C$2)","v":-970083575.66540051},-867695505.96189702,-776114048.26645517,-694198612.04513001,-620928991.09582293,-555392657.50968063,-496773396.69917768,-444341141.94917506,-397442881.88656086,-355494527.62661982,-317973638.30645782,-284412914.40649182,-254394377.82333797,-227544166.21049908,-203527876.75357696,-7466318312.2062826,-754173.56688952353]
[{"$f":"IF(ISBLANK(InfoPro!A125),\"\",InfoPro!A125)","v":"SC_1830_A1"},{"$f":"IF(ISBLANK(InfoPro!B125),\"\",InfoPro!B125)","v":"Guatapurí Solar II 9,9 MW"},{"$f":"IF(ISBLANK(InfoPro!E125),\"\",InfoPro!E125)","v":9.9},{"$f":"IF(ISBLANK(InfoPro!F125),\"\",InfoPro!F125)","v":"Solar FV"},{"$f":"IF(ISBLANK(InfoPro!I125),\"\",YEAR(InfoPro!I125)-$F$3)","v":2},{"$f":"IF(ISBLANK(InfoPro!P125),\"\",InfoPro!P125)","v":-6.8029099999999998},-1045300742.9811734,-934973830.93128216,-836291440.9045459,-748024544.63733983,-669073832.41264749,-598456021.83599949,-535291611.66010696,-478793928.13963062,-428259327.4951973,-383058432.46439838,-342628293.79642075,-306465379.06656599,-274119301.49066728,-245187210.63565949,-219308775.1660639,-8045232673.6176987,-812649.76501188881]
[{"$f":"IF(ISBLANK(InfoPro!A126),\"\",InfoPro!A126)","v":"SC_1830_A2"},{"$f":"IF(ISBLANK(InfoPro!B126),\"\",InfoPro!B126)","v":"Guatapurí Solar II 9,9 MW"},{"$f":"IF(ISBLANK(InfoPro!E126),\"\",InfoPro!E126)","v":9.9},{"$f":"IF(ISBLANK(InfoPro!F126),\"\",InfoPro!F126)","v":"Solar FV"},{"$f":"IF(ISBLANK(InfoPro!I126),\"\",YEAR(InfoPro!I126)-$F$3)","v":2},{"$f":"IF(ISBLANK(InfoPro!P126),\"\",InfoPro!P126)","v":-6.3133900000000001},-970083575.66540051,-867695505.96189702,-776114048.26645517,-694198612.04513001,-620928991.09582293,-555392657.50968063,-496773396.69917768,-444341141.94917506,-397442881.88656086,-355494527.62661982,-317973638.30645782,-284412914.40649182,-254394377.82333797,-227544166.21049908,-203527876.75357696,-7466318312.2062826,-754173.56688952353]
[{"$f":"IF(ISBLANK(InfoPro!A127),\"\",InfoPro!A127)","v":"SC_1840_A1"},{"$f":"IF(ISBLANK(InfoPro!B127),\"\",InfoPro!B127)","v":"Granja Solar Asturias 9,9 MW"},{"$f":"IF(ISBLANK(InfoPro!E127),\"\",InfoPro!E127)","v":9.9},{"$f":"IF(ISBLANK(InfoPro!F127),\"\",InfoPro!F127)","v":"Solar FV"},{"$f":"IF(ISBLANK(InfoPro!I127),\"\",YEAR(InfoPro!I127)-$F$3)","v":2},{"$f":"IF(ISBLANK(InfoPro!P127),\"\",InfoPro!P127)","v":-0.94},-144435645.6872578,-129191096.32133973,-115555542.32677972,-103359161.29407847,-92450054.824757144,-82692356.730552018,-73964540.903892681,-66157907.785234965,-59175230.577133231,-52929544.344484128,-47343062.919932127,-42346210.125162907,-37876753.242542855,-33879027.945029393,-30303245.031332191,-1111659380.0595093,-112288.82626863731]
[{"$f":"IF(ISBLANK(InfoPro!A128),\"\",InfoPro!A128)","v":"SC_1840_A2"},{"$f":"IF(ISBLANK(InfoPro!B128),\"\",InfoPro!B128)","v":"Granja Solar Asturias 9,9 MW"},{"$f":"IF(ISBLANK(InfoPro!E128),\"\",InfoPro!E128)","v":9.9},{"$f":"IF(ISBLANK(InfoPro!F128),\"\",InfoPro!F128)","v":"Solar FV"},{"$f":"IF(ISBLANK(InfoPro!I128),\"\",YEAR(InfoPro!I128)-$F$3)","v":2},{"$f":"IF(ISBLANK(InfoPro!P128),\"\",InfoPro!P128)","v":-0.94},-144435645.6872578,-129191096.32133973,-115555542.32677972,-103359161.29407847,-92450054.824757144,-82692356.730552018,-73964540.903892681,-66157907.785234965,-59175230.577133231,-52929544.344484128,-47343062.919932127,-42346210.125162907,-37876753.242542855,-33879027.945029393,-30303245.031332191,-1111659380.0595093,-112288.82626863731]
[{"$f":"IF(ISBLANK(InfoPro!A129),\"\",InfoPro!A129)","v":"SC_1846_A1"},{"$f":"IF(ISBLANK(InfoPro!B129),\"\",InfoPro!B129)","v":"PARQUE DE GENERACIÓN SOLAR CYGNUS 50 MW"},{"$f":"IF(ISBLANK(InfoPro!E129),\"\",InfoPro!E129)","v":50},{"$f":"IF(ISBLANK(InfoPro!F129),\"\",InfoPro!F129)","v":"Solar FV"},{"$f":"IF(ISBLANK(InfoPro!I129),\"\",YEAR(InfoPro!I129)-$F$3)","v":2},{"$f":"IF(ISBLANK(InfoPro!P129),\"\",InfoPro!P129)","v":-17.253},-2651008718.1300626,-2371206366.8426323,-2120935927.4084373,-1897080435.964613,-1696851910.5229094,-1517756628.3746955,-1357564068.3136814,-1214279130.8709135,-1086117290.5822124,-971482370.82487726,-868946664.4229672,-777233152.43557,-695199599.674034,-621824328.86765122,-556193496.30380249,-20403680089.539059,-408073.60179078119]
[{"$f":"IF(ISBLANK(InfoPro!A130),\"\",InfoPro!A130)","v":"SC_1846_A2"},{"$f":"IF(ISBLANK(InfoPro!B130),\"\",InfoPro!B130)","v":"PARQUE DE GENERACIÓN SOLAR CYGNUS 50 MW"},{"$f":"IF(ISBLANK(InfoPro!E130),\"\",InfoPro!E130)","v":50},{"$f":"IF(ISBLANK(InfoPro!F130),\"\",InfoPro!F130)","v":"Solar FV"},{"$f":"IF(ISBLANK(InfoPro!I130),\"\",YEAR(InfoPro!I130)-$F$3)","v":2},{"$f":"IF(ISBLANK(InfoPro!P130),\"\",InfoPro!P130)","v":-18.274000000000001},-2807890414.1371799,-2511529887.4214497,-2246448915.403801,-2009346078.1787131,-1797268406.2421403,-1607574603.0788379,-1437902149.4443989,-1286137879.646153,-1150391663.3686519,-1028972865.2671307,-920369289.14770186,-823228344.49705017,-736340200.80237043,-658622719.8590076,-589107978.40698349,-21611131394.901573,-432222.62789803144]
[{"$f":"IF(ISBLANK(InfoPro!A131),\"\",InfoPro!A131)","v":"SC_1854_A1"},{"$f":"IF(ISBLANK(InfoPro!B131),\"\",InfoPro!B131)","v":"CATAY 1 - 200 MW"},{"$f":"IF(ISBLANK(InfoPro!E131),\"\",InfoPro!E131)","v":200},{"$f":"IF(ISBLANK(InfoPro!F131),\"\",InfoPro!F131)","v":"Solar FV"},{"$f":"IF(ISBLANK(InfoPro!I131),\"\",YEAR(InfoPro!I131)-$F$3)","v":4},{"$f":"IF(ISBLANK(InfoPro!P131),\"\",InfoPro!P131)","v":-51.858289999999997},-6375013643.7121468,-5702158894.1969118,-5100321014.4873991,-4562004485.2302322,-4080504906.2882218,-3649825497.5744386,-3264602412.8572788,-2920037936.3660827,-2611840730.2022204,-2336172388.3740792,-2089599631.8193915,-1869051549.0334449,-1671781349.7615783,-1495332155.4218056,-1337506400.1983948,-49065752995.523628,-245328.76497761815]
[{"$f":"IF(ISBLANK(InfoPro!A132),\"\",InfoPro!A132)","v":"SC_1854_A2"},{"$f":"IF(ISBLANK(InfoPro!B132),\"\",InfoPro!B132)","v":"CATAY 1 - 200 MW"},{"$f":"IF(ISBLANK(InfoPro!E132),\"\",InfoPro!E132)","v":200},{"$f":"IF(ISBLANK(InfoPro!F132),\"\",InfoPro!F132)","v":"Solar FV"},{"$f":"IF(ISBLANK(InfoPro!I132),\"\",YEAR(InfoPro!I132)-$F$3)","v":4},{"$f":"IF(ISBLANK(InfoPro!P132),\"\",InfoPro!P132)","v":-39.634438000000003},-4872318061.6033268,-4358066244.7256956,-3898091453.2430191,-3486664985.0116453,-3118662777.291275,-2789501589.7059708,-2495081922.8139272,-2231736961.3720288,-1996186906.4150522,-1785498127.3837678,-1597046625.5668766,-1428485353.8165267,-1277714985.5246212,-1142857768.8055646,-1022234140.2554245,-37500147903.534721,-187500.73951767362]
[{"$f":"IF(ISBLANK(InfoPro!A133),\"\",InfoPro!A133)","v":"SC_1856_A1"},{"$f":"IF(ISBLANK(InfoPro!B133),\"\",InfoPro!B133)","v":"SIERRA NEVADA DE VERANO"},{"$f":"IF(ISBLANK(InfoPro!E133),\"\",InfoPro!E133)","v":99.9},{"$f":"IF(ISBLANK(InfoPro!F133),\"\",InfoPro!F133)","v":"Solar FV"},{"$f":"IF(ISBLANK(InfoPro!I133),\"\",YEAR(InfoPro!I133)-$F$3)","v":4},{"$f":"IF(ISBLANK(InfoPro!P133),\"\",InfoPro!P133)","v":-0.47799999999999998},-58761222.587447561,-52559233.083584584,-47011836.389610544,-42049943.103408366,-37611755.906447552,-33641999.916321605,-30091234.272201791,-26915236.379429162,-24074451.144391023,-21533498.340242419,-19260731.968016475,-17227846.125238352,-15409522.47337956,-13783114.913577424,-12328367.54345029,-452259994.1467467,-4527.1270685360032]
[{"$f":"IF(ISBLANK(InfoPro!A134),\"\",InfoPro!A134)","v":"SC_1856_A2"},{"$f":"IF(ISBLANK(InfoPro!B134),\"\",InfoPro!B134)","v":"SIERRA NEVADA DE VERANO"},{"$f":"IF(ISBLANK(InfoPro!E134),\"\",InfoPro!E134)","v":99.9},{"$f":"IF(ISBLANK(InfoPro!F134),\"\",InfoPro!F134)","v":"Solar FV"},{"$f":"IF(ISBLANK(InfoPro!I134),\"\",YEAR(InfoPro!I134)-$F$3)","v":4},{"$f":"IF(ISBLANK(InfoPro!P134),\"\",InfoPro!P134)","v":-1.034},-127111096.55945772,-113695077.42348632,-101695060.30723286,-90961592.403607219,-81360994.994281948,-72773698.563758463,-65092753.634846568,-58222498.778932542,-52077369.211925343,-46580831.137679204,-41664428.566797145,-37266930.739532337,-33333569.53446541,-29815357.365353681,-26668477.070978247,-978319736.29233515,-9792.9903532766275]
[{"$f":"IF(ISBLANK(InfoPro!A135),\"\",InfoPro!A135)","v":"SC_1857_A1"},{"$f":"IF(ISBLANK(InfoPro!B135),\"\",InfoPro!B135)","v":"MILAGROS DE VERANO"},{"$f":"IF(ISBLANK(InfoPro!E135),\"\",InfoPro!E135)","v":99.9},{"$f":"IF(ISBLANK(InfoPro!F135),\"\",InfoPro!F135)","v":"Solar FV"},{"$f":"IF(ISBLANK(InfoPro!I135),\"\",YEAR(InfoPro!I135)-$F$3)","v":5},{"$f":"IF(ISBLANK(InfoPro!P135),\"\",InfoPro!P135)","v":-0.46800000000000003},-51459667.537902907,-46028325.168070585,-41170237.180742919,-36824899.088321038,-32938192.386691451,-29461710.542657822,-26352156.120445289,-23570801.538859829,-21083006.743166219,-18857787.78458517,-16867430.934333786,-15087147.52623773,-13494765.229192963,-12070451.904465975,-10796468.60864578,-396063048.29431951,-3964.5950780212165]
[{"$f":"IF(ISBLANK(InfoPro!A136),\"\",InfoPro!A136)","v":"SC_1857_A2"},{"$f":"IF(ISBLANK(InfoPro!B136),\"\",InfoPro!B136)","v":"MILAGROS DE VERANO"},{"$f":"IF(ISBLANK(InfoPro!E136),\"\",InfoPro!E136)","v":99.9},{"$f":"IF(ISBLANK(InfoPro!F136),\"\",InfoPro!F136)","v":"Solar FV"},{"$f":"IF(ISBLANK(InfoPro!I136),\"\",YEAR(InfoPro!I136)-$F$3)","v":5},{"$f":"IF(ISBLANK(InfoPro!P136),\"\",InfoPro!P136)","v":-1.028},-113035338.09607734,-101104953.57430887,-90433768.850007951,-80888880.903406039,-72351414.045980364,-64715039.397120185,-57884650.623542212,-51775179.448606633,-46310536.179433487,-41422662.056738362,-37050681.624989592,-33140144.566180311,-29642347.554722998,-26513727.687587652,-23715319.935230471,-869984644.54393256,-8708.5550004397646]
[{"$f":"IF(ISBLANK(InfoPro!A137),\"\",InfoPro!A137)","v":"SC_1861_A1"},{"$f":"IF(ISBLANK(InfoPro!B137),\"\",InfoPro!B137)","v":"Autogenerador CELSIA Solar Cenit Copey"},{"$f":"IF(ISBLANK(InfoPro!E137),\"\",InfoPro!E137)","v":6.6},{"$f":"IF(ISBLANK(InfoPro!F137),\"\",InfoPro!F137)","v":"Solar FV"},{"$f":"IF(ISBLANK(InfoPro!I137),\"\",YEAR(InfoPro!I137)-$F$3)","v":0},{"$f":"IF(ISBLANK(InfoPro!P137),\"\",InfoPro!P137)","v":0.2},38411400,34357245.080500901,30730988.444097407,27487467.302412711,24586285.601442501,21991310.913633723,19670224.430799391,17594118.45330894,15737136.362530358,14076150.592603182,12590474.590879412,11261605.179677473,10072992.110623859,9009831.9415240251,8058883.6686261408,295636114.67265999,44793.350707978789]
[{"$f":"IF(ISBLANK(InfoPro!A138),\"\",InfoPro!A138)","v":"SC_1876_A1"},{"$f":"IF(ISBLANK(InfoPro!B138),\"\",InfoPro!B138)","v":"Nevada II 250 MW"},{"$f":"IF(ISBLANK(InfoPro!E138),\"\",InfoPro!E138)","v":250},{"$f":"IF(ISBLANK(InfoPro!F138),\"\",InfoPro!F138)","v":"Eólico Onshore"},{"$f":"IF(ISBLANK(InfoPro!I138),\"\",YEAR(InfoPro!I138)-$F$3)","v":7},{"$f":"IF(ISBLANK(InfoPro!P138),\"\",InfoPro!P138)","v":-12.984},-1142210169.9888163,-1021654892.6554707,-913823696.47179866,-817373610.43989146,-731103408.26466155,-653938647.82170081,-584918289.64373958,-523182727.76720899,-467963083.87049109,-418571631.36895436,-374393230.20478928,-334877665.65723556,-299532795.75781363,-267918421.96584398,-239640806.76730239,-8791103078.6457176,-35164.412314582871]
[{"$f":"IF(ISBLANK(InfoPro!A139),\"\",InfoPro!A139)","v":"SC_1876_A2"},{"$f":"IF(ISBLANK(InfoPro!B139),\"\",InfoPro!B139)","v":"Nevada II 250 MW"},{"$f":"IF(ISBLANK(InfoPro!E139),\"\",InfoPro!E139)","v":250},{"$f":"IF(ISBLANK(InfoPro!F139),\"\",InfoPro!F139)","v":"Eólico Onshore"},{"$f":"IF(ISBLANK(InfoPro!I139),\"\",YEAR(InfoPro!I139)-$F$3)","v":7},{"$f":"IF(ISBLANK(InfoPro!P139),\"\",InfoPro!P139)","v":-18.98},-1669681841.2190182,-1493454240.804131,-1335826691.2380421,-1194836038.6744561,-1068726331.5513923,-955926951.29820418,-855033051.2506299,-764788060.15262067,-684068032.33687019,-611867649.67519677,-547287700.96171451,-489523882.7922312,-437856782.46174544,-391642918.12320703,-350306724.61825317,-12850826897.157715,-51403.307588630858]
[{"$f":"IF(ISBLANK(InfoPro!A140),\"\",InfoPro!A140)","v":"SC_1877_A1"},{"$f":"IF(ISBLANK(InfoPro!B140),\"\",InfoPro!B140)","v":"Planta Solar FV Corozal 9,9MW"},{"$f":"IF(ISBLANK(InfoPro!E140),\"\",InfoPro!E140)","v":9.9},{"$f":"IF(ISBLANK(InfoPro!F140),\"\",InfoPro!F140)","v":"Solar FV"},{"$f":"IF(ISBLANK(InfoPro!I140),\"\",YEAR(InfoPro!I140)-$F$3)","v":3},{"$f":"IF(ISBLANK(InfoPro!P140),\"\",InfoPro!P140)","v":6.6E-4},90708.642097961943,81134.742484760238,72571.326014991268,64911.740621637997,58060.5908959195,51932.549996350179,46451.296955590507,41548.566149902057,37163.29709293566,33240.87396505873,29732.445407029281,26594.316106466264,23787.402599701491,21276.7465113609,19031.079169374691,698145.61606904061,70.519759198892984]
[{"$f":"IF(ISBLANK(InfoPro!A141),\"\",InfoPro!A141)","v":"SC_1877_A2"},{"$f":"IF(ISBLANK(InfoPro!B141),\"\",InfoPro!B141)","v":"Planta Solar FV Corozal 9,9MW"},{"$f":"IF(ISBLANK(InfoPro!E141),\"\",InfoPro!E141)","v":9.9},{"$f":"IF(ISBLANK(InfoPro!F141),\"\",InfoPro!F141)","v":"Solar FV"},{"$f":"IF(ISBLANK(InfoPro!I141),\"\",YEAR(InfoPro!I141)-$F$3)","v":3},{"$f":"IF(ISBLANK(InfoPro!P141),\"\",InfoPro!P141)","v":6.6E-4},{"$f":"IF($F148=\"\",\"\",(1/(1+$C$3)^(G$6+$E148))*$F148*$C$2)","v":90708.642097961943},81134.742484760238,72571.326014991268,64911.740621637997,58060.5908959195,51932.549996350179,46451.296955590507,41548.566149902057,37163.29709293566,33240.87396505873,29732.445407029281,26594.316106466264,23787.402599701491,21276.7465113609,19031.079169374691,698145.61606904061,70.519759198892984]
[{"$f":"IF(ISBLANK(InfoPro!A142),\"\",InfoPro!A142)","v":"SC_1889_A1"},{"$f":"IF(ISBLANK(InfoPro!B142),\"\",InfoPro!B142)","v":"La Granja"},{"$f":"IF(ISBLANK(InfoPro!E142),\"\",InfoPro!E142)","v":19.899999999999999},{"$f":"IF(ISBLANK(InfoPro!F142),\"\",InfoPro!F142)","v":"Solar FV"},{"$f":"IF(ISBLANK(InfoPro!I142),\"\",YEAR(InfoPro!I142)-$F$3)","v":2},{"$f":"IF(ISBLANK(InfoPro!P142),\"\",InfoPro!P142)","v":-1.95},-299627137.32994968,-268002806.19852394,-239716284.61406434,-214415281.40792876,-191784688.20029408,-171542654.91976216,-153437079.53467098,-137242468.27788103,-122757127.26107424,-109800650.50185537,-98211673.078582615,-87845861.429859236,-78574115.769104868,-70280962.226390764,-62863114.692657202,-2306101905.4425993,-115884.51786143715]
[{"$f":"IF(ISBLANK(InfoPro!A143),\"\",InfoPro!A143)","v":"SC_1889_A2"},{"$f":"IF(ISBLANK(InfoPro!B143),\"\",InfoPro!B143)","v":"La Granja"},{"$f":"IF(ISBLANK(InfoPro!E143),\"\",InfoPro!E143)","v":19.899999999999999},{"$f":"IF(ISBLANK(InfoPro!F143),\"\",InfoPro!F143)","v":"Solar FV"},{"$f":"IF(ISBLANK(InfoPro!I143),\"\",YEAR(InfoPro!I143)-$F$3)","v":2},{"$f":"IF(ISBLANK(InfoPro!P143),\"\",InfoPro!P143)","v":-1.91},-293480939.64113021,-262505312.73804134,-234799027.49377581,-210017019.22520199,-187850643.31413418,-168023831.22910035,-150289652.26216492,-134427238.15936041,-120239032.34289837,-107548329.46591987,-96197074.656457841,-86043895.041554436,-76962339.035379633,-68839301.462772489,-61573614.904089876,-2258797250.971982,-113507.39954633075]
[{"$f":"IF(ISBLANK(InfoPro!A144),\"\",InfoPro!A144)","v":"SC_1898_A1"},{"$f":"IF(ISBLANK(InfoPro!B144),\"\",InfoPro!B144)","v":"Parque Eólico Fenix_70MW"},{"$f":"IF(ISBLANK(InfoPro!E144),\"\",InfoPro!E144)","v":70},{"$f":"IF(ISBLANK(InfoPro!F144),\"\",InfoPro!F144)","v":"Eólico Onshore"},{"$f":"IF(ISBLANK(InfoPro!I144),\"\",YEAR(InfoPro!I144)-$F$3)","v":5},{"$f":"IF(ISBLANK(InfoPro!P144),\"\",InfoPro!P144)","v":-59.7},-6564406307.7196655,-5871561992.5936193,-5251844358.3127184,-4697535204.215312,-4201730951.8920503,-3758256665.3775043,-3361589146.1337256,-3006788145.0212216,-2689434834.5449214,-2405576775.0849032,-2151678689.7002711,-1924578434.4367359,-1721447615.7752562,-1539756364.7363648,-1377241828.923404,-50523427314.467667,-721763.24734953814]
[{"$f":"IF(ISBLANK(InfoPro!A145),\"\",InfoPro!A145)","v":"SC_1898_A2"},{"$f":"IF(ISBLANK(InfoPro!B145),\"\",InfoPro!B145)","v":"Parque Eólico Fenix_70MW"},{"$f":"IF(ISBLANK(InfoPro!E145),\"\",InfoPro!E145)","v":70},{"$f":"IF(ISBLANK(InfoPro!F145),\"\",InfoPro!F145)","v":"Eólico Onshore"},{"$f":"IF(ISBLANK(InfoPro!I145),\"\",YEAR(InfoPro!I145)-$F$3)","v":5},{"$f":"IF(ISBLANK(InfoPro!P145),\"\",InfoPro!P145)","v":-55.77},-6132277048.2667627,-5485042082.5284109,-4906119930.7051983,-4388300474.6915903,-3925134592.7473979,-3510853839.6667242,-3140298604.3530631,-2808853850.0474629,-2512391636.8939743,-2247219710.9963994,-2010035519.6747761,-1797885080.209996,-1608126189.8121612,-1438395518.6155288,-1286579175.863622,-47197513255.073082,-674250.18935818691]
[{"$f":"IF(ISBLANK(InfoPro!A146),\"\",InfoPro!A146)","v":"SC_1904_A1"},{"$f":"IF(ISBLANK(InfoPro!B146),\"\",InfoPro!B146)","v":"Parque Solar Fotovoltaico Potreritos"},{"$f":"IF(ISBLANK(InfoPro!E146),\"\",InfoPro!E146)","v":168},{"$f":"IF(ISBLANK(InfoPro!F146),\"\",InfoPro!F146)","v":"Solar FV"},{"$f":"IF(ISBLANK(InfoPro!I146),\"\",YEAR(InfoPro!I146)-$F$3)","v":1},{"$f":"IF(ISBLANK(InfoPro!P146),\"\",InfoPro!P146)","v":-10.866},-1866629125.2236135,-1669614602.1678119,-1493394098.5400825,-1335772896.7263708,-1194787921.9377201,-1068683293.3253309,-955888455.56827474,-854998618.57627439,-764757261.69613099,-684040484.52247834,-611843009.41187716,-547265661.3701942,-489504169.3830002,-437839149.71645814,-391627146.43690366,-14366645894.602518,-85515.749372634033]
[{"$f":"IF(ISBLANK(InfoPro!A147),\"\",InfoPro!A147)","v":"SC_1904_A2"},{"$f":"IF(ISBLANK(InfoPro!B147),\"\",InfoPro!B147)","v":"Parque Solar Fotovoltaico Potreritos"},{"$f":"IF(ISBLANK(InfoPro!E147),\"\",InfoPro!E147)","v":168},{"$f":"IF(ISBLANK(InfoPro!F147),\"\",InfoPro!F147)","v":"Solar FV"},{"$f":"IF(ISBLANK(InfoPro!I147),\"\",YEAR(InfoPro!I147)-$F$3)","v":1},{"$f":"IF(ISBLANK(InfoPro!P147),\"\",InfoPro!P147)","v":-9.3119999999999994},-1599673330.9481215,-1430834821.957175,-1279816477.6003356,-1144737457.6031625,-1023915436.1387858,-915845649.4980197,-819182155.18606412,-732721069.03941345,-655385571.59160411,-586212496.95134532,-524340337.16578311,-468998512.67064679,-419497775.19735849,-375221623.61123306,-335618625.77033377,-12312001340.929384,-73285.722267436809]
[{"$f":"IF(ISBLANK(InfoPro!A148),\"\",InfoPro!A148)","v":"SC_1905_A1"},{"$f":"IF(ISBLANK(InfoPro!B148),\"\",InfoPro!B148)","v":"Parque Solar Valle del Cesar"},{"$f":"IF(ISBLANK(InfoPro!E148),\"\",InfoPro!E148)","v":50},{"$f":"IF(ISBLANK(InfoPro!F148),\"\",InfoPro!F148)","v":"Solar FV"},{"$f":"IF(ISBLANK(InfoPro!I148),\"\",YEAR(InfoPro!I148)-$F$3)","v":3},{"$f":"IF(ISBLANK(InfoPro!P148),\"\",InfoPro!P148)","v":-1.782},-244913333.66449723,-219063804.70885265,-195942580.24047643,-175261699.6784226,-156763595.41898265,-140217884.99014547,-125418501.78009436,-112181128.60473555,-100340902.15092629,-89750359.70565857,-80277602.598979056,-71804653.487458915,-64225987.019194022,-57447215.580674432,-51383913.757311657,-1884993163.38641,-37699.8632677282]
[{"$f":"IF(ISBLANK(InfoPro!A149),\"\",InfoPro!A149)","v":"SC_1905_A2"},{"$f":"IF(ISBLANK(InfoPro!B149),\"\",InfoPro!B149)","v":"Parque Solar Valle del Cesar"},{"$f":"IF(ISBLANK(InfoPro!E149),\"\",InfoPro!E149)","v":50},{"$f":"IF(ISBLANK(InfoPro!F149),\"\",InfoPro!F149)","v":"Solar FV"},{"$f":"IF(ISBLANK(InfoPro!I149),\"\",YEAR(InfoPro!I149)-$F$3)","v":3},{"$f":"IF(ISBLANK(InfoPro!P149),\"\",InfoPro!P149)","v":-2.5110000000000001},-345105151.98179156,-308680815.72611058,-276100908.52067137,-246959667.72868639,-220894157.18129373,-197579747.03156868,-176726070.69013298,-158073408.48849103,-141389453.03085068,-126466415.94888255,-113118440.02583411,-101179284.45960119,-90500254.436137035,-80948349.227313966,-72404605.748939157,-2656126730.226305,-53122.534604526103]
[{"$f":"IF(ISBLANK(InfoPro!A150),\"\",InfoPro!A150)","v":"SC_1908_A1"},{"$f":"IF(ISBLANK(InfoPro!B150),\"\",InfoPro!B150)","v":"Corocoro 500 MW"},{"$f":"IF(ISBLANK(InfoPro!E150),\"\",InfoPro!E150)","v":500},{"$f":"IF(ISBLANK(InfoPro!F150),\"\",InfoPro!F150)","v":"Solar FV"},{"$f":"IF(ISBLANK(InfoPro!I150),\"\",YEAR(InfoPro!I150)-$F$3)","v":3},{"$f":"IF(ISBLANK(InfoPro!P150),\"\",InfoPro!P150)","v":-256.43},-35243056201.78846,-31523306083.8895,-28196159287.915478,-25220178253.94944,-22558298974.910057,-20177369387.218296,-18047736482.306171,-16142876996.696037,-14439067081.123472,-12915086834.636379,-11551956023.825027,-10332697695.729006,-9242126740.365839,-8266660769.5579929,-7394150956.6708355,-271250727770.58203,-542501.45554116403]
[{"$f":"IF(ISBLANK(InfoPro!A151),\"\",InfoPro!A151)","v":"SC_1908_A2"},{"$f":"IF(ISBLANK(InfoPro!B151),\"\",InfoPro!B151)","v":"Corocoro 500 MW"},{"$f":"IF(ISBLANK(InfoPro!E151),\"\",InfoPro!E151)","v":500},{"$f":"IF(ISBLANK(InfoPro!F151),\"\",InfoPro!F151)","v":"Solar FV"},{"$f":"IF(ISBLANK(InfoPro!I151),\"\",YEAR(InfoPro!I151)-$F$3)","v":3},{"$f":"IF(ISBLANK(InfoPro!P151),\"\",InfoPro!P151)","v":-263.52},-36217486917.658981,-32394889908.460632,-28975751259.803783,-25917487710.021275,-23182010474.079857,-20735250871.269997,-18546736020.813953,-16589209320.942713,-14838290984.743036,-13272174404.957996,-11871354566.152054,-10618385121.781801,-9497661110.7171764,-8495224607.0815516,-7598590882.8994217,-278750504161.38422,-557501.00832276838]
[{"$f":"IF(ISBLANK(InfoPro!A152),\"\",InfoPro!A152)","v":"SC_1912_A1"},{"$f":"IF(ISBLANK(InfoPro!B152),\"\",InfoPro!B152)","v":"Draco de 22.5 MW (entrega 19,9 MW)"},{"$f":"IF(ISBLANK(InfoPro!E152),\"\",InfoPro!E152)","v":19.899999999999999},{"$f":"IF(ISBLANK(InfoPro!F152),\"\",InfoPro!F152)","v":"Solar FV"},{"$f":"IF(ISBLANK(InfoPro!I152),\"\",YEAR(InfoPro!I152)-$F$3)","v":2},{"$f":"IF(ISBLANK(InfoPro!P152),\"\",InfoPro!P152)","v":0.22586000000000001},34704505.249919198,31041596.824614678,27765292.329709012,24834787.414766561,22213584.449701756,19869037.969321787,17771948.094205532,15896196.864226777,14218422.955480119,12717730.729409771,11375429.990527524,10174803.211563081,9100897.3269795012,8140337.5017705737,7281160.5561454128,267105731.46834129,13422.398566248306]
[{"$f":"IF(ISBLANK(InfoPro!A153),\"\",InfoPro!A153)","v":"SC_1912_A2"},{"$f":"IF(ISBLANK(InfoPro!B153),\"\",InfoPro!B153)","v":"Draco de 22.5 MW (entrega 19,9 MW)"},{"$f":"IF(ISBLANK(InfoPro!E153),\"\",InfoPro!E153)","v":19.899999999999999},{"$f":"IF(ISBLANK(InfoPro!F153),\"\",InfoPro!F153)","v":"Solar FV"},{"$f":"IF(ISBLANK(InfoPro!I153),\"\",YEAR(InfoPro!I153)-$F$3)","v":2},{"$f":"IF(ISBLANK(InfoPro!P153),\"\",InfoPro!P153)","v":0.15984000000000001},24560205.964522649,21967983.868088238,19649359.452672847,17575455.682176072,15720443.365094874,14061219.467884505,12577119.380934263,11249659.553608464,10062307.293030826,9000274.859598238,8050335.2948105875,7200657.6876660008,6440659.8279660121,5760876.4114186158,5152841.15511504,189029399.26458725,9498.9647871651887]
[{"$f":"IF(ISBLANK(InfoPro!A154),\"\",InfoPro!A154)","v":"SC_1920_A1"},{"$f":"IF(ISBLANK(InfoPro!B154),\"\",InfoPro!B154)","v":"Parque Solar TERRɅ II 19.9 MW"},{"$f":"IF(ISBLANK(InfoPro!E154),\"\",InfoPro!E154)","v":19.899999999999999},{"$f":"IF(ISBLANK(InfoPro!F154),\"\",InfoPro!F154)","v":"Solar FV"},{"$f":"IF(ISBLANK(InfoPro!I154),\"\",YEAR(InfoPro!I154)-$F$3)","v":1},{"$f":"IF(ISBLANK(InfoPro!P154),\"\",InfoPro!P154)","v":-0.33535999999999999},-57610228.550983906,-51529721.423062518,-46090985.172685631,-41226283.696498774,-36875030.139981017,-32983032.325564418,-29501817.822508428,-26388030.252690904,-23602889.313677017,-21111707.793986596,-18883459.565283187,-16890393.171094086,-15107686.199547485,-13513136.135552313,-12086883.842175594,-443401285.40529186,-22281.471628406627]
[{"$f":"IF(ISBLANK(InfoPro!A155),\"\",InfoPro!A155)","v":"SC_1920_A2"},{"$f":"IF(ISBLANK(InfoPro!B155),\"\",InfoPro!B155)","v":"Parque Solar TERRɅ II 19.9 MW"},{"$f":"IF(ISBLANK(InfoPro!E155),\"\",InfoPro!E155)","v":19.899999999999999},{"$f":"IF(ISBLANK(InfoPro!F155),\"\",InfoPro!F155)","v":"Solar FV"},{"$f":"IF(ISBLANK(InfoPro!I155),\"\",YEAR(InfoPro!I155)-$F$3)","v":1},{"$f":"IF(ISBLANK(InfoPro!P155),\"\",InfoPro!P155)","v":-0.35393000000000002},-60800298.756708413,-54383093.700096972,-48643196.51171466,-43509120.314592719,-38916923.358311914,-34809412.663964145,-31135431.720898166,-27849223.363951851,-24909859.896200228,-22280733.359749753,-19929099.606216244,-17825670.488565512,-15944249.09531799,-14261403.48418425,-12756174.851685377,-467953891.17215824,-23515.270913173779]
[{"$f":"IF(ISBLANK(InfoPro!A156),\"\",InfoPro!A156)","v":"SC_1928_A1"},{"$f":"IF(ISBLANK(InfoPro!B156),\"\",InfoPro!B156)","v":"Jacamará 500 MW"},{"$f":"IF(ISBLANK(InfoPro!E156),\"\",InfoPro!E156)","v":500},{"$f":"IF(ISBLANK(InfoPro!F156),\"\",InfoPro!F156)","v":"Solar FV"},{"$f":"IF(ISBLANK(InfoPro!I156),\"\",YEAR(InfoPro!I156)-$F$3)","v":3},{"$f":"IF(ISBLANK(InfoPro!P156),\"\",InfoPro!P156)","v":-256.43},-35243056201.78846,-31523306083.8895,-28196159287.915478,-25220178253.94944,-22558298974.910057,-20177369387.218296,-18047736482.306171,-16142876996.696037,-14439067081.123472,-12915086834.636379,-11551956023.825027,-10332697695.729006,-9242126740.365839,-8266660769.5579929,-7394150956.6708355,-271250727770.58203,-542501.45554116403]
[{"$f":"IF(ISBLANK(InfoPro!A157),\"\",InfoPro!A157)","v":"SC_1928_A2"},{"$f":"IF(ISBLANK(InfoPro!B157),\"\",InfoPro!B157)","v":"Jacamará 500 MW"},{"$f":"IF(ISBLANK(InfoPro!E157),\"\",InfoPro!E157)","v":500},{"$f":"IF(ISBLANK(InfoPro!F157),\"\",InfoPro!F157)","v":"Solar FV"},{"$f":"IF(ISBLANK(InfoPro!I157),\"\",YEAR(InfoPro!I157)-$F$3)","v":3},{"$f":"IF(ISBLANK(InfoPro!P157),\"\",InfoPro!P157)","v":-263.52},{"$f":"IF($F164=\"\",\"\",(1/(1+$C$3)^(G$6+$E164))*$F164*$C$2)","v":-36217486917.658981},-32394889908.460632,-28975751259.803783,-25917487710.021275,-23182010474.079857,-20735250871.269997,-18546736020.813953,-16589209320.942713,-14838290984.743036,-13272174404.957996,-11871354566.152054,-10618385121.781801,-9497661110.7171764,-8495224607.0815516,-7598590882.8994217,-278750504161.38422,-557501.00832276838]
[{"$f":"IF(ISBLANK(InfoPro!A158),\"\",InfoPro!A158)","v":"SC_1944_A1"},{"$f":"IF(ISBLANK(InfoPro!B158),\"\",InfoPro!B158)","v":"MANANTIALES DE VERANO de 99.9 MW"},{"$f":"IF(ISBLANK(InfoPro!E158),\"\",InfoPro!E158)","v":99.9},{"$f":"IF(ISBLANK(InfoPro!F158),\"\",InfoPro!F158)","v":"Solar FV"},{"$f":"IF(ISBLANK(InfoPro!I158),\"\",YEAR(InfoPro!I158)-$F$3)","v":3},{"$f":"IF(ISBLANK(InfoPro!P158),\"\",InfoPro!P158)","v":-0.48099999999999998},-66107358.862302564,-59130016.8714692,-52889102.747289091,-47306889.756072536,-42313854.880208001,-37847812.951885514,-33853142.175210655,-30280091.391064983,-27084160.457124326,-24225546.026050378,-21668645.819365278,-19381615.223045867,-17335970.68250972,-15506234.957522111,-13869619.818892766,-508800062.62001306,-5093.0937199200507]
[{"$f":"IF(ISBLANK(InfoPro!A159),\"\",InfoPro!A159)","v":"SC_1944_A2"},{"$f":"IF(ISBLANK(InfoPro!B159),\"\",InfoPro!B159)","v":"MANANTIALES DE VERANO de 99.9 MW"},{"$f":"IF(ISBLANK(InfoPro!E159),\"\",InfoPro!E159)","v":99.9},{"$f":"IF(ISBLANK(InfoPro!F159),\"\",InfoPro!F159)","v":"Solar FV"},{"$f":"IF(ISBLANK(InfoPro!I159),\"\",YEAR(InfoPro!I159)-$F$3)","v":3},{"$f":"IF(ISBLANK(InfoPro!P159),\"\",InfoPro!P159)","v":-1.034},-142110205.95347372,-127111096.55945772,-113695077.42348632,-101695060.30723286,-90961592.403607219,-81360994.994281948,-72773698.563758463,-65092753.634846568,-58222498.778932542,-52077369.211925343,-46580831.137679204,-41664428.566797145,-37266930.739532337,-33333569.53446541,-29815357.365353681,-1093761465.1748307,-10948.563214963269]
[{"$f":"IF(ISBLANK(InfoPro!A160),\"\",InfoPro!A160)","v":"SC_1948_A1"},{"$f":"IF(ISBLANK(InfoPro!B160),\"\",InfoPro!B160)","v":"PGF ROSARIO I"},{"$f":"IF(ISBLANK(InfoPro!E160),\"\",InfoPro!E160)","v":95},{"$f":"IF(ISBLANK(InfoPro!F160),\"\",InfoPro!F160)","v":"Solar FV"},{"$f":"IF(ISBLANK(InfoPro!I160),\"\",YEAR(InfoPro!I160)-$F$3)","v":3},{"$f":"IF(ISBLANK(InfoPro!P160),\"\",InfoPro!P160)","v":-9.3719999999999999},-1288062717.7910595,-1152113343.2835953,-1030512829.412876,-921746716.82725954,-824460390.72205687,-737442209.94817257,-659608416.76938522,-589989639.32860923,-527718818.71968645,-472020410.30383402,-422200724.77981579,-377639288.7118209,-337781116.91576117,-302129800.46132475,-270241324.20512056,-9913667748.1803799,-104354.39734926715]
[{"$f":"IF(ISBLANK(InfoPro!A161),\"\",InfoPro!A161)","v":"SC_1948_A2"},{"$f":"IF(ISBLANK(InfoPro!B161),\"\",InfoPro!B161)","v":"PGF ROSARIO I"},{"$f":"IF(ISBLANK(InfoPro!E161),\"\",InfoPro!E161)","v":95},{"$f":"IF(ISBLANK(InfoPro!F161),\"\",InfoPro!F161)","v":"Solar FV"},{"$f":"IF(ISBLANK(InfoPro!I161),\"\",YEAR(InfoPro!I161)-$F$3)","v":3},{"$f":"IF(ISBLANK(InfoPro!P161),\"\",InfoPro!P161)","v":-6.548},-899939679.48099208,-804954990.59122741,-719995519.31236792,-644003147.86437213,-576031438.16133463,-515233844.50924391,-460853170.40182817,-412212138.10539192,-368704953.58264047,-329789761.70182514,-294981897.76549655,-263847851.31081986,-235999867.00431117,-211091115.38847145,-188811373.33494768,-6926450748.5152702,-72910.007879108103]
[{"$f":"IF(ISBLANK(InfoPro!A162),\"\",InfoPro!A162)","v":"SC_1967_A1"},{"$f":"IF(ISBLANK(InfoPro!B162),\"\",InfoPro!B162)","v":"Solar Valledupar 4"},{"$f":"IF(ISBLANK(InfoPro!E162),\"\",InfoPro!E162)","v":19.899999999999999},{"$f":"IF(ISBLANK(InfoPro!F162),\"\",InfoPro!F162)","v":"Solar FV"},{"$f":"IF(ISBLANK(InfoPro!I162),\"\",YEAR(InfoPro!I162)-$F$3)","v":2},{"$f":"IF(ISBLANK(InfoPro!P162),\"\",InfoPro!P162)","v":-1.1769499999999999},-180844184.2464022,-161756873.20787317,-144684144.19308874,-129413366.89900602,-115754353.21914673,-103536988.56810977,-92609113.20940052,-82834627.199821576,-74091795.348677605,-66271731.081107013,-59277040.322993748,-53020608.517883494,-47424515.668947682,-42419065.893513136,-37941919.403857894,-1391880326.9798293,-69943.735024112029]
[{"$f":"IF(ISBLANK(InfoPro!A163),\"\",InfoPro!A163)","v":"SC_1967_A2"},{"$f":"IF(ISBLANK(InfoPro!B163),\"\",InfoPro!B163)","v":"Solar Valledupar 4"},{"$f":"IF(ISBLANK(InfoPro!E163),\"\",InfoPro!E163)","v":19.899999999999999},{"$f":"IF(ISBLANK(InfoPro!F163),\"\",InfoPro!F163)","v":"Solar FV"},{"$f":"IF(ISBLANK(InfoPro!I163),\"\",YEAR(InfoPro!I163)-$F$3)","v":2},{"$f":"IF(ISBLANK(InfoPro!P163),\"\",InfoPro!P163)","v":-2.6417999999999999},-405925626.35808259,-363081955.59756953,-324760246.50945395,-290483225.85818779,-259823994.50642914,-232400710.64975777,-207871834.21266347,-185931873.17769545,-166307578.87092614,-148754542.81835976,-133054152.78923053,-119010870.11559084,-106449794.37888268,-95214485.133168772,-85165013.535929114,-3124235904.5119276,-156996.77912120239]
[{"$f":"IF(ISBLANK(InfoPro!A164),\"\",InfoPro!A164)","v":"SC_1968_A1"},{"$f":"IF(ISBLANK(InfoPro!B164),\"\",InfoPro!B164)","v":"Solar Valledupar 5"},{"$f":"IF(ISBLANK(InfoPro!E164),\"\",InfoPro!E164)","v":19.899999999999999},{"$f":"IF(ISBLANK(InfoPro!F164),\"\",InfoPro!F164)","v":"Solar FV"},{"$f":"IF(ISBLANK(InfoPro!I164),\"\",YEAR(InfoPro!I164)-$F$3)","v":2},{"$f":"IF(ISBLANK(InfoPro!P164),\"\",InfoPro!P164)","v":-1.1769499999999999},-180844184.2464022,-161756873.20787317,-144684144.19308874,-129413366.89900602,-115754353.21914673,-103536988.56810977,-92609113.20940052,-82834627.199821576,-74091795.348677605,-66271731.081107013,-59277040.322993748,-53020608.517883494,-47424515.668947682,-42419065.893513136,-37941919.403857894,-1391880326.9798293,-69943.735024112029]
[{"$f":"IF(ISBLANK(InfoPro!A165),\"\",InfoPro!A165)","v":"SC_1968_A2"},{"$f":"IF(ISBLANK(InfoPro!B165),\"\",InfoPro!B165)","v":"Solar Valledupar 5"},{"$f":"IF(ISBLANK(InfoPro!E165),\"\",InfoPro!E165)","v":19.899999999999999},{"$f":"IF(ISBLANK(InfoPro!F165),\"\",InfoPro!F165)","v":"Solar FV"},{"$f":"IF(ISBLANK(InfoPro!I165),\"\",YEAR(InfoPro!I165)-$F$3)","v":2},{"$f":"IF(ISBLANK(InfoPro!P165),\"\",InfoPro!P165)","v":-2.3440500000000002},-360174867.31193262,-322159988.6511026,-288157413.82030648,-257743661.73551562,-230539947.88507658,-206207466.80239412,-184443172.45294645,-164976003.98295748,-147563509.82375443,-131988828.10711491,-118057985.78453928,-105597482.81264696,-94452131.317215532,-84483122.823985279,-75566299.484781101,-2772111882.7962689,-139302.10466312908]
[{"$f":"IF(ISBLANK(InfoPro!A166),\"\",InfoPro!A166)","v":"SC_1978_A1"},{"$f":"IF(ISBLANK(InfoPro!B166),\"\",InfoPro!B166)","v":"Solar El Copey"},{"$f":"IF(ISBLANK(InfoPro!E166),\"\",InfoPro!E166)","v":230},{"$f":"IF(ISBLANK(InfoPro!F166),\"\",InfoPro!F166)","v":"Solar FV"},{"$f":"IF(ISBLANK(InfoPro!I166),\"\",YEAR(InfoPro!I166)-$F$3)","v":2},{"$f":"IF(ISBLANK(InfoPro!P166),\"\",InfoPro!P166)","v":-10.118},-1554680705.3868878,-1390590970.8290589,-1243820188.5769761,-1112540419.1207299,-995116653.95414126,-890086452.55289936,-796141728.58041072,-712112458.4797951,-636952109.55258942,-569724606.03988338,-509592670.87646097,-455807397.92170036,-407698924.79579645,-364668090.15724194,-326178971.51810539,-11965712348.342676,-52024.836297142072]
[{"$f":"IF(ISBLANK(InfoPro!A167),\"\",InfoPro!A167)","v":"SC_1978_A2"},{"$f":"IF(ISBLANK(InfoPro!B167),\"\",InfoPro!B167)","v":"Solar El Copey"},{"$f":"IF(ISBLANK(InfoPro!E167),\"\",InfoPro!E167)","v":230},{"$f":"IF(ISBLANK(InfoPro!F167),\"\",InfoPro!F167)","v":"Solar FV"},{"$f":"IF(ISBLANK(InfoPro!I167),\"\",YEAR(InfoPro!I167)-$F$3)","v":2},{"$f":"IF(ISBLANK(InfoPro!P167),\"\",InfoPro!P167)","v":-7.8289999999999997},-1202964542.6441929,-1075996907.5529456,-962430149.8684665,-860849865.71419203,-769990935.34364212,-688721766.85477841,-616030202.91125083,-551010914.94745159,-492854127.85997456,-440835534.75847471,-394307276.17037094,-352689871.35095787,-315465001.20837027,-282169052.95918626,-252387346.11734012,-9258703496.2615948,-40255.232592441716]
[{"$f":"IF(ISBLANK(InfoPro!A168),\"\",InfoPro!A168)","v":"SC_1981_A1"},{"$f":"IF(ISBLANK(InfoPro!B168),\"\",InfoPro!B168)","v":"Solar Valledupar 2"},{"$f":"IF(ISBLANK(InfoPro!E168),\"\",InfoPro!E168)","v":19.899999999999999},{"$f":"IF(ISBLANK(InfoPro!F168),\"\",InfoPro!F168)","v":"Solar FV"},{"$f":"IF(ISBLANK(InfoPro!I168),\"\",YEAR(InfoPro!I168)-$F$3)","v":0},{"$f":"IF(ISBLANK(InfoPro!P168),\"\",InfoPro!P168)","v":0.61628000000000005},118360887.96000001,105868414.99105547,94694467.791641757,84699881.745654538,75760180.452284917,67764025.449270949,60611829.561065249,54214516.602026165,48492411.987501048,43374250.43604745,38796288.404335827,34701510.200658172,31038917.889676359,27762896.144612126,24832644.136504594,910973123.75233459,45777.543907152489]
[{"$f":"IF(ISBLANK(InfoPro!A169),\"\",InfoPro!A169)","v":"SC_1981_A2"},{"$f":"IF(ISBLANK(InfoPro!B169),\"\",InfoPro!B169)","v":"Solar Valledupar 2"},{"$f":"IF(ISBLANK(InfoPro!E169),\"\",InfoPro!E169)","v":19.899999999999999},{"$f":"IF(ISBLANK(InfoPro!F169),\"\",InfoPro!F169)","v":"Solar FV"},{"$f":"IF(ISBLANK(InfoPro!I169),\"\",YEAR(InfoPro!I169)-$F$3)","v":0},{"$f":"IF(ISBLANK(InfoPro!P169),\"\",InfoPro!P169)","v":0.37542999999999999},72103959.50999999,64493702.602862261,57686674.95783744,51598099.246724017,46152146.016747788,41280989.281527534,36923961.790275075,33026799.454628874,29540965.522923857,26423046.084905062,23634209.378269289,21139722.163031567,18908517.140457574,16912806.029031821,15127733.47856156,{"$f":"IF(U176=\"\",\"\",SUM(G176:U176))","v":554953332.65778375},{"$f":"IF(C176=0,0,IF(V176=\"\",\"\",V176/(C176*1000)))","v":27887.102143607222}]
[{"$f":"IF(ISBLANK(InfoPro!A170),\"\",InfoPro!A170)","v":"SC_1982_A1"},{"$f":"IF(ISBLANK(InfoPro!B170),\"\",InfoPro!B170)","v":"Solar Valledupar 3"},{"$f":"IF(ISBLANK(InfoPro!E170),\"\",InfoPro!E170)","v":19.899999999999999},{"$f":"IF(ISBLANK(InfoPro!F170),\"\",InfoPro!F170)","v":"Solar FV"},{"$f":"IF(ISBLANK(InfoPro!I170),\"\",YEAR(InfoPro!I170)-$F$3)","v":2},{"$f":"IF(ISBLANK(InfoPro!P170),\"\",InfoPro!P170)","v":-1.1769499999999999},-180844184.2464022,-161756873.20787317,-144684144.19308874,-129413366.89900602,-115754353.21914673,-103536988.56810977,-92609113.20940052,-82834627.199821576,-74091795.348677605,-66271731.081107013,-59277040.322993748,-53020608.517883494,-47424515.668947682,-42419065.893513136,-37941919.403857894,-1391880326.9798293,-69943.735024112029]
[{"$f":"IF(ISBLANK(InfoPro!A171),\"\",InfoPro!A171)","v":"SC_1982_A2"},{"$f":"IF(ISBLANK(InfoPro!B171),\"\",InfoPro!B171)","v":"Solar Valledupar 3"},{"$f":"IF(ISBLANK(InfoPro!E171),\"\",InfoPro!E171)","v":19.899999999999999},{"$f":"IF(ISBLANK(InfoPro!F171),\"\",InfoPro!F171)","v":"Solar FV"},{"$f":"IF(ISBLANK(InfoPro!I171),\"\",YEAR(InfoPro!I171)-$F$3)","v":2},{"$f":"IF(ISBLANK(InfoPro!P171),\"\",InfoPro!P171)","v":-2.6417999999999999},-405925626.35808259,-363081955.59756953,-324760246.50945395,-290483225.85818779,-259823994.50642914,-232400710.64975777,-207871834.21266347,-185931873.17769545,-166307578.87092614,-148754542.81835976,-133054152.78923053,-119010870.11559084,-106449794.37888268,-95214485.133168772,-85165013.535929114,-3124235904.5119276,-156996.77912120239]
[{"$f":"IF(ISBLANK(InfoPro!A172),\"\",InfoPro!A172)","v":"SC_1989_A1"},{"$f":"IF(ISBLANK(InfoPro!B172),\"\",InfoPro!B172)","v":"Solar Valledupar 1"},{"$f":"IF(ISBLANK(InfoPro!E172),\"\",InfoPro!E172)","v":19.899999999999999},{"$f":"IF(ISBLANK(InfoPro!F172),\"\",InfoPro!F172)","v":"Solar FV"},{"$f":"IF(ISBLANK(InfoPro!I172),\"\",YEAR(InfoPro!I172)-$F$3)","v":0},{"$f":"IF(ISBLANK(InfoPro!P172),\"\",InfoPro!P172)","v":0.61628000000000005},118360887.96000001,105868414.99105547,94694467.791641757,84699881.745654538,75760180.452284917,67764025.449270949,60611829.561065249,54214516.602026165,48492411.987501048,43374250.43604745,38796288.404335827,34701510.200658172,31038917.889676359,27762896.144612126,24832644.136504594,910973123.75233459,45777.543907152489]
[{"$f":"IF(ISBLANK(InfoPro!A173),\"\",InfoPro!A173)","v":"SC_1989_A2"},{"$f":"IF(ISBLANK(InfoPro!B173),\"\",InfoPro!B173)","v":"Solar Valledupar 1"},{"$f":"IF(ISBLANK(InfoPro!E173),\"\",InfoPro!E173)","v":19.899999999999999},{"$f":"IF(ISBLANK(InfoPro!F173),\"\",InfoPro!F173)","v":"Solar FV"},{"$f":"IF(ISBLANK(InfoPro!I173),\"\",YEAR(InfoPro!I173)-$F$3)","v":0},{"$f":"IF(ISBLANK(InfoPro!P173),\"\",InfoPro!P173)","v":0.37542999999999999},72103959.50999999,64493702.602862261,57686674.95783744,51598099.246724017,46152146.016747788,41280989.281527534,36923961.790275075,33026799.454628874,29540965.522923857,26423046.084905062,23634209.378269289,21139722.163031567,18908517.140457574,16912806.029031821,15127733.47856156,554953332.65778375,27887.102143607222]
[{"$f":"IF(ISBLANK(InfoPro!A174),\"\",InfoPro!A174)","v":"SC_1992_A1"},{"$f":"IF(ISBLANK(InfoPro!B174),\"\",InfoPro!B174)","v":"Parque Solar TERRɅ III"},{"$f":"IF(ISBLANK(InfoPro!E174),\"\",InfoPro!E174)","v":19.899999999999999},{"$f":"IF(ISBLANK(InfoPro!F174),\"\",InfoPro!F174)","v":"Solar FV"},{"$f":"IF(ISBLANK(InfoPro!I174),\"\",YEAR(InfoPro!I174)-$F$3)","v":1},{"$f":"IF(ISBLANK(InfoPro!P174),\"\",InfoPro!P174)","v":-0.71028999999999998},{"$f":"IF($F181=\"\",\"\",(1/(1+$C$3)^(G$6+$E181))*$F181*$C$2)","v":-122018038.04114491},-109139568.90978973,-97620365.751153618,-87316963.999242961,-78101041.144224465,-69857818.554762498,-62484631.98100403,-55889652.934708439,-49990745.022100575,-44714440.985778689,-39995027.715365559,-35773727.831275098,-31997967.648725495,-28620722.404942304,-25599930.594760559,-939120643.51897883,-47191.9921366321]
[{"$f":"IF(ISBLANK(InfoPro!A175),\"\",InfoPro!A175)","v":"SC_2005_A1"},{"$f":"IF(ISBLANK(InfoPro!B175),\"\",InfoPro!B175)","v":"PARQUE SOLAR CATACA"},{"$f":"IF(ISBLANK(InfoPro!E175),\"\",InfoPro!E175)","v":9.9},{"$f":"IF(ISBLANK(InfoPro!F175),\"\",InfoPro!F175)","v":"Solar FV"},{"$f":"IF(ISBLANK(InfoPro!I175),\"\",YEAR(InfoPro!I175)-$F$3)","v":1},{"$f":"IF(ISBLANK(InfoPro!P175),\"\",InfoPro!P175)","v":1.3433459999999999},230768338.74955279,206411752.01212233,184625896.25413451,165139442.08777687,147709697.752931,132119586.54108319,118174943.23889373,105702095.92029853,94545702.969855577,84566818.398797467,75641161.358495072,67657568.299190581,60516608.496592656,54129345.70357126,48416230.504088782,1776125188.2873845,179406.58467549339]
[{"$f":"IF(ISBLANK(InfoPro!A176),\"\",InfoPro!A176)","v":"SC_2010_A1"},{"$f":"IF(ISBLANK(InfoPro!B176),\"\",InfoPro!B176)","v":"PARQUE SOLAR SAN JUAN_5MW"},{"$f":"IF(ISBLANK(InfoPro!E176),\"\",InfoPro!E176)","v":5},{"$f":"IF(ISBLANK(InfoPro!F176),\"\",InfoPro!F176)","v":"Solar FV"},{"$f":"IF(ISBLANK(InfoPro!I176),\"\",YEAR(InfoPro!I176)-$F$3)","v":1},{"$f":"IF(ISBLANK(InfoPro!P176),\"\",InfoPro!P176)","v":0.86680000000000001},148904300.17889091,133188103.91671814,119130683.28865668,106556961.79665178,95310341.499688536,85250752.683084562,76252909.376640946,68204748.995206565,61006036.668342203,54567116.87687137,48807796.848722175,43656347.807443798,39048611.634565122,34927201.819825694,31240788.747607958,1146052702.1389165,229210.5404277833]
[{"$f":"IF(ISBLANK(InfoPro!A177),\"\",InfoPro!A177)","v":"SC_2011_A1"},{"$f":"IF(ISBLANK(InfoPro!B177),\"\",InfoPro!B177)","v":"PE Vientos de la Manita"},{"$f":"IF(ISBLANK(InfoPro!E177),\"\",InfoPro!E177)","v":9.9},{"$f":"IF(ISBLANK(InfoPro!F177),\"\",InfoPro!F177)","v":"Eólico Onshore"},{"$f":"IF(ISBLANK(InfoPro!I177),\"\",YEAR(InfoPro!I177)-$F$3)","v":2},{"$f":"IF(ISBLANK(InfoPro!P177),\"\",InfoPro!P177)","v":2.18113},335141404.12537086,299768697.78655714,268129425.56937137,239829539.86526957,214516583.06374738,191875297.91032866,171623701.1720292,153509571.7102229,137307309.22202405,122815124.52774964,109852526.41122507,98258073.713081479,87887364.680752665,78611238.533768058,70314166.845946372,2579440025.137444,260549.4974886307]
[{"$f":"IF(ISBLANK(InfoPro!A178),\"\",InfoPro!A178)","v":"SC_2011_A2"},{"$f":"IF(ISBLANK(InfoPro!B178),\"\",InfoPro!B178)","v":"PE Vientos de la Manita"},{"$f":"IF(ISBLANK(InfoPro!E178),\"\",InfoPro!E178)","v":9.9},{"$f":"IF(ISBLANK(InfoPro!F178),\"\",InfoPro!F178)","v":"Eólico Onshore"},{"$f":"IF(ISBLANK(InfoPro!I178),\"\",YEAR(InfoPro!I178)-$F$3)","v":2},{"$f":"IF(ISBLANK(InfoPro!P178),\"\",InfoPro!P178)","v":5.1518300000000004},791604140.97977173,708053793.36294448,633321818.75039756,566477476.52092803,506688261.64662617,453209536.35655296,405375256.13287389,362589674.53745431,324319923.55765146,290089377.064089,259471714.72637656,232085612.45650858,207589993.25269106,185679779.29578808,166082092.39337036,6092638451.0340242,615418.02535697212]
[{"$f":"IF(ISBLANK(InfoPro!A179),\"\",InfoPro!A179)","v":"SC_2020_A1"},{"$f":"IF(ISBLANK(InfoPro!B179),\"\",InfoPro!B179)","v":"San Juan Solar I 9,9 MW"},{"$f":"IF(ISBLANK(InfoPro!E179),\"\",InfoPro!E179)","v":9.9},{"$f":"IF(ISBLANK(InfoPro!F179),\"\",InfoPro!F179)","v":"Solar FV"},{"$f":"IF(ISBLANK(InfoPro!I179),\"\",YEAR(InfoPro!I179)-$F$3)","v":1},{"$f":"IF(ISBLANK(InfoPro!P179),\"\",InfoPro!P179)","v":-0.57599999999999996},-98948865.831842586,-88505246.719000518,-79163905.830948606,-70808502.532154396,-63334975.431265108,-56650246.360702246,-50671061.145529747,-45322952.724087425,-40539313.706697166,-36260566.8217327,-32433422.917471122,-29010217.27859671,-25948315.991589185,-23209584.965643283,-20759914.996103115,-761567093.25336409,-76925.969015491326]
[{"$f":"IF(ISBLANK(InfoPro!A180),\"\",InfoPro!A180)","v":"SC_2020_A2"},{"$f":"IF(ISBLANK(InfoPro!B180),\"\",InfoPro!B180)","v":"San Juan Solar I 9,9 MW"},{"$f":"IF(ISBLANK(InfoPro!E180),\"\",InfoPro!E180)","v":9.9},{"$f":"IF(ISBLANK(InfoPro!F180),\"\",InfoPro!F180)","v":"Solar FV"},{"$f":"IF(ISBLANK(InfoPro!I180),\"\",YEAR(InfoPro!I180)-$F$3)","v":1},{"$f":"IF(ISBLANK(InfoPro!P180),\"\",InfoPro!P180)","v":-0.57899999999999996},-99464224.508050084,-88966211.545661986,-79576217.840484783,-71177296.816176027,-63664845.094969615,-56945299.727164239,-50934972.922329374,-45559009.769525386,-40750455.965586215,-36449423.940595895,-32602346.995166287,-29161312.160256069,-26083463.470712047,-23330468.220672674,-20868039.553374488,-765533588.53072524,-77326.625104113657]
[{"$f":"IF(ISBLANK(InfoPro!A181),\"\",InfoPro!A181)","v":"SC_2021_A1"},{"$f":"IF(ISBLANK(InfoPro!B181),\"\",InfoPro!B181)","v":"San Juan Solar II 9,9 MW"},{"$f":"IF(ISBLANK(InfoPro!E181),\"\",InfoPro!E181)","v":9.9},{"$f":"IF(ISBLANK(InfoPro!F181),\"\",InfoPro!F181)","v":"Solar FV"},{"$f":"IF(ISBLANK(InfoPro!I181),\"\",YEAR(InfoPro!I181)-$F$3)","v":1},{"$f":"IF(ISBLANK(InfoPro!P181),\"\",InfoPro!P181)","v":-0.57599999999999996},-98948865.831842586,-88505246.719000518,-79163905.830948606,-70808502.532154396,-63334975.431265108,-56650246.360702246,-50671061.145529747,-45322952.724087425,-40539313.706697166,-36260566.8217327,-32433422.917471122,-29010217.27859671,-25948315.991589185,-23209584.965643283,-20759914.996103115,-761567093.25336409,-76925.969015491326]
[{"$f":"IF(ISBLANK(InfoPro!A182),\"\",InfoPro!A182)","v":"SC_2021_A2"},{"$f":"IF(ISBLANK(InfoPro!B182),\"\",InfoPro!B182)","v":"San Juan Solar II 9,9 MW"},{"$f":"IF(ISBLANK(InfoPro!E182),\"\",InfoPro!E182)","v":9.9},{"$f":"IF(ISBLANK(InfoPro!F182),\"\",InfoPro!F182)","v":"Solar FV"},{"$f":"IF(ISBLANK(InfoPro!I182),\"\",YEAR(InfoPro!I182)-$F$3)","v":1},{"$f":"IF(ISBLANK(InfoPro!P182),\"\",InfoPro!P182)","v":-0.57899999999999996},-99464224.508050084,-88966211.545661986,-79576217.840484783,-71177296.816176027,-63664845.094969615,-56945299.727164239,-50934972.922329374,-45559009.769525386,-40750455.965586215,-36449423.940595895,-32602346.995166287,-29161312.160256069,-26083463.470712047,-23330468.220672674,-20868039.553374488,-765533588.53072524,-77326.625104113657]
[{"$f":"IF(ISBLANK(InfoPro!A183),\"\",InfoPro!A183)","v":"SC_2056_A1"},{"$f":"IF(ISBLANK(InfoPro!B183),\"\",InfoPro!B183)","v":"Saturno 200 MW"},{"$f":"IF(ISBLANK(InfoPro!E183),\"\",InfoPro!E183)","v":200},{"$f":"IF(ISBLANK(InfoPro!F183),\"\",InfoPro!F183)","v":"Solar FV"},{"$f":"IF(ISBLANK(InfoPro!I183),\"\",YEAR(InfoPro!I183)-$F$3)","v":2},{"$f":"IF(ISBLANK(InfoPro!P183),\"\",InfoPro!P183)","v":0.41758200000000001},64163538.082315415,57391357.85538052,51333951.57010781,45915877.969684981,41069658.291310363,36734935.859848268,32857724.382690761,29389735.583802111,26287777.803043034,23513218.070700392,21031500.95769266,18811718.209027424,16826223.800561205,15050289.624831134,13461797.517738042,493839305.57873416,2469.1965278936709]
[{"$f":"IF(ISBLANK(InfoPro!A184),\"\",InfoPro!A184)","v":"SC_2057_A1"},{"$f":"IF(ISBLANK(InfoPro!B184),\"\",InfoPro!B184)","v":"SABAN II - 305 MW"},{"$f":"IF(ISBLANK(InfoPro!E184),\"\",InfoPro!E184)","v":305},{"$f":"IF(ISBLANK(InfoPro!F184),\"\",InfoPro!F184)","v":"Solar FV"},{"$f":"IF(ISBLANK(InfoPro!I184),\"\",YEAR(InfoPro!I184)-$F$3)","v":4},{"$f":"IF(ISBLANK(InfoPro!P184),\"\",InfoPro!P184)","v":-33.6},-4130495981.0423398,-3694540233.4904647,-3304597704.3742981,-2955811900.1559019,-2643838908.9051003,-2364793299.5573349,-2115199731.2677412,-1891949670.1858156,-1692262674.5848083,-1513651766.1760361,-1353892456.3291917,-1210995041.4393487,-1083179822.3965549,-968854939.5318023,-866596546.98730087,-31790660676.424042,-104231.67434893128]
[{"$f":"IF(ISBLANK(InfoPro!A185),\"\",InfoPro!A185)","v":"SC_2066_A1"},{"$f":"IF(ISBLANK(InfoPro!B185),\"\",InfoPro!B185)","v":"Orquídea del Cesar - La Loma - 62 MW"},{"$f":"IF(ISBLANK(InfoPro!E185),\"\",InfoPro!E185)","v":62},{"$f":"IF(ISBLANK(InfoPro!F185),\"\",InfoPro!F185)","v":"Solar FV"},{"$f":"IF(ISBLANK(InfoPro!I185),\"\",YEAR(InfoPro!I185)-$F$3)","v":5},{"$f":"IF(ISBLANK(InfoPro!P185),\"\",InfoPro!P185)","v":-12.907},-1419209249.811352,-1269417933.6416388,-1135436434.3842924,-1015596095.1558967,-908404378.4936465,-812526277.72240281,-726767690.27048576,-650060545.85911071,-581449504.34625292,-520080057.55478799,-465187886.90052593,-416089344.27596229,-372172937.63502896,-332891715.23705631,-297756453.70040822,-10923046504.98885,-176178.16943530404]
[{"$f":"IF(ISBLANK(InfoPro!A186),\"\",InfoPro!A186)","v":"SC_2066_A2"},{"$f":"IF(ISBLANK(InfoPro!B186),\"\",InfoPro!B186)","v":"Orquídea del Cesar - La Loma - 62 MW"},{"$f":"IF(ISBLANK(InfoPro!E186),\"\",InfoPro!E186)","v":62},{"$f":"IF(ISBLANK(InfoPro!F186),\"\",InfoPro!F186)","v":"Solar FV"},{"$f":"IF(ISBLANK(InfoPro!I186),\"\",YEAR(InfoPro!I186)-$F$3)","v":5},{"$f":"IF(ISBLANK(InfoPro!P186),\"\",InfoPro!P186)","v":-17.936},-1972180762.7346718,-1764025726.9540894,-1577840542.8927455,-1411306388.9917223,-1262349185.1446536,-1129113761.3100655,-1009940752.5134758,-903345932.48074758,-808001728.51587439,-722720687.40239227,-646440686.40643322,-578211705.19358957,-517183993.9119764,-462597490.08226871,-413772352.48861259,-15179031697.023319,-244823.0918874729]
[{"$f":"IF(ISBLANK(InfoPro!A187),\"\",InfoPro!A187)","v":"SC_2069_A1"},{"$f":"IF(ISBLANK(InfoPro!B187),\"\",InfoPro!B187)","v":"Pétalo del Magdalena - Fundación"},{"$f":"IF(ISBLANK(InfoPro!E187),\"\",InfoPro!E187)","v":9.9},{"$f":"IF(ISBLANK(InfoPro!F187),\"\",InfoPro!F187)","v":"Solar FV"},{"$f":"IF(ISBLANK(InfoPro!I187),\"\",YEAR(InfoPro!I187)-$F$3)","v":3},{"$f":"IF(ISBLANK(InfoPro!P187),\"\",InfoPro!P187)","v":-1.3},-178668537.46568263,-159810856.40937623,-142943520.93861917,-127856458.80019605,-114361769.94650811,-102291386.35644732,-91494978.851920694,-81838084.840716168,-73200433.667903572,-65474448.719055086,-58563907.619906157,-52382743.846069917,-46853974.817593843,-41908743.128438137,-37485458.969980448,-1375135304.3784134,-138902.55599781955]
[{"$f":"IF(ISBLANK(InfoPro!A188),\"\",InfoPro!A188)","v":"SC_2070_A1"},{"$f":"IF(ISBLANK(InfoPro!B188),\"\",InfoPro!B188)","v":"Cactus del Cesar - La Loma"},{"$f":"IF(ISBLANK(InfoPro!E188),\"\",InfoPro!E188)","v":19.899999999999999},{"$f":"IF(ISBLANK(InfoPro!F188),\"\",InfoPro!F188)","v":"Solar FV"},{"$f":"IF(ISBLANK(InfoPro!I188),\"\",YEAR(InfoPro!I188)-$F$3)","v":5},{"$f":"IF(ISBLANK(InfoPro!P188),\"\",InfoPro!P188)","v":-4.2229999999999999},-464346529.94137603,-415336788.85632914,-371499811.14161825,-332289634.29482853,-297217919.76281619,-265847870.98641875,-237788793.36888984,-212691228.41582274,-190242601.44527978,-170163328.66304097,-152203335.11899906,-136138940.17799556,-121770071.71555954,-108917774.34307653,-97421980.628869906,-3573876608.8609214,-179591.78938999606]
[{"$f":"IF(ISBLANK(InfoPro!A189),\"\",InfoPro!A189)","v":"SC_2070_A2"},{"$f":"IF(ISBLANK(InfoPro!B189),\"\",InfoPro!B189)","v":"Cactus del Cesar - La Loma"},{"$f":"IF(ISBLANK(InfoPro!E189),\"\",InfoPro!E189)","v":19.899999999999999},{"$f":"IF(ISBLANK(InfoPro!F189),\"\",InfoPro!F189)","v":"Solar FV"},{"$f":"IF(ISBLANK(InfoPro!I189),\"\",YEAR(InfoPro!I189)-$F$3)","v":5},{"$f":"IF(ISBLANK(InfoPro!P189),\"\",InfoPro!P189)","v":-4.0810000000000004},-448732699.19269603,-401370929.51046157,-359007987.03976893,-321116267.47743195,-287223852.84206802,-256908634.02689442,-229793053.69131884,-205539404.01727986,-183845620.76679772,-164441521.25831643,-147085439.40815422,-131561215.92858157,-117675506.19730018,-105255372.26949926,-94146129.042485952,-3453703632.669054,-173552.94636527909]
[{"$f":"IF(ISBLANK(InfoPro!A190),\"\",InfoPro!A190)","v":"SC_2077_A1"},{"$f":"IF(ISBLANK(InfoPro!B190),\"\",InfoPro!B190)","v":"PARQUE SOLAR GUACAMAYAL 9.9"},{"$f":"IF(ISBLANK(InfoPro!E190),\"\",InfoPro!E190)","v":9.9},{"$f":"IF(ISBLANK(InfoPro!F190),\"\",InfoPro!F190)","v":"Solar FV"},{"$f":"IF(ISBLANK(InfoPro!I190),\"\",YEAR(InfoPro!I190)-$F$3)","v":1},{"$f":"IF(ISBLANK(InfoPro!P190),\"\",InfoPro!P190)","v":1.546},265581504.47227192,237550540.67287293,212478122.24765027,190051987.6991505,169992833.36238867,152050834.8500793,136002535.64407811,121648064.08235967,108808644.08082262,97324368.58749786,87052208.038906872,77864229.015122414,69646000.90798071,62295170.758480065,55720188.513846219,2044067232.9335082,206471.43767005132]
[{"$f":"IF(ISBLANK(InfoPro!A191),\"\",InfoPro!A191)","v":"SC_2084_A1"},{"$f":"IF(ISBLANK(InfoPro!B191),\"\",InfoPro!B191)","v":"Parque Solar Codazzi 1 19,9 MW"},{"$f":"IF(ISBLANK(InfoPro!E191),\"\",InfoPro!E191)","v":19.899999999999999},{"$f":"IF(ISBLANK(InfoPro!F191),\"\",InfoPro!F191)","v":"Solar FV"},{"$f":"IF(ISBLANK(InfoPro!I191),\"\",YEAR(InfoPro!I191)-$F$3)","v":3},{"$f":"IF(ISBLANK(InfoPro!P191),\"\",InfoPro!P191)","v":-2.8514250360000002},{"$f":"IF($F198=\"\",\"\",(1/(1+$C$3)^(G$6+$E198))*$F198*$C$2)","v":-391892262.21165496},-350529751.53099728,-313532872.56797612,-280440852.02860117,-250841549.22057354,-224366323.09532517,-200685441.05127478,-179503972.31777707,-160558114.77439815,-143611909.45831677,-128454301.84107046,-114896513.27466053,-102769689.87000048,-91922799.525939584,-82220750.917656183,-3016227103.6862221,-151569.20119026242]
[{"$f":"IF(ISBLANK(InfoPro!A192),\"\",InfoPro!A192)","v":"SC_2084_A2"},{"$f":"IF(ISBLANK(InfoPro!B192),\"\",InfoPro!B192)","v":"Parque Solar Codazzi 1 19,9 MW"},{"$f":"IF(ISBLANK(InfoPro!E192),\"\",InfoPro!E192)","v":19.899999999999999},{"$f":"IF(ISBLANK(InfoPro!F192),\"\",InfoPro!F192)","v":"Solar FV"},{"$f":"IF(ISBLANK(InfoPro!I192),\"\",YEAR(InfoPro!I192)-$F$3)","v":3},{"$f":"IF(ISBLANK(InfoPro!P192),\"\",InfoPro!P192)","v":-3.4330437009999999},-471828382.39495707,-422028964.57509583,-377485657.04391396,-337643700.39706081,-302006887.65390056,-270131384.3058145,-241620200.63131887,-216118247.43409559,-193307913.6262036,-172905110.57799965,-154655733.96958825,-138332499.07834372,-123732110.08796398,-110672728.16454737,-98991706.766142547,-3631461226.7069464,-182485.48877924355]
[{"$f":"IF(ISBLANK(InfoPro!A193),\"\",InfoPro!A193)","v":"SC_2086_A1"},{"$f":"IF(ISBLANK(InfoPro!B193),\"\",InfoPro!B193)","v":"PARQUE SOLAR SABANA SOLAR 19.9"},{"$f":"IF(ISBLANK(InfoPro!E193),\"\",InfoPro!E193)","v":19.899999999999999},{"$f":"IF(ISBLANK(InfoPro!F193),\"\",InfoPro!F193)","v":"Solar FV"},{"$f":"IF(ISBLANK(InfoPro!I193),\"\",YEAR(InfoPro!I193)-$F$3)","v":1},{"$f":"IF(ISBLANK(InfoPro!P193),\"\",InfoPro!P193)","v":-8.0100000000000005E-2},-13760076.654740611,-12307760.871861011,-11008730.654616291,-9846807.3833777215,-8807520.0209103059,-7877924.8845351571,-7046444.4405502314,-6302723.1131934086,-5637498.3123375755,-5042485.0736472048,-4510272.8744608285,-4034233.3403048553,-3608437.6925803716,-3227582.9092847691,-2886925.6791455904,-105905423.90554594,-5321.8805982686399]
[{"$f":"IF(ISBLANK(InfoPro!A194),\"\",InfoPro!A194)","v":"SC_2103_A1"},{"$f":"IF(ISBLANK(InfoPro!B194),\"\",InfoPro!B194)","v":"PARQUE SOLAR PUERTA DEL SOL"},{"$f":"IF(ISBLANK(InfoPro!E194),\"\",InfoPro!E194)","v":19.899999999999999},{"$f":"IF(ISBLANK(InfoPro!F194),\"\",InfoPro!F194)","v":"Solar FV"},{"$f":"IF(ISBLANK(InfoPro!I194),\"\",YEAR(InfoPro!I194)-$F$3)","v":1},{"$f":"IF(ISBLANK(InfoPro!P194),\"\",InfoPro!P194)","v":0.2737},47017889.892665483,42055357.685747296,37616599.003351793,33646331.845574059,30095108.985307746,26918702.133548968,24077551.103353284,21536271.112122796,19263212.085977457,17230064.477618475,15411506.688388621,13784889.703388749,12329955.011975627,11028582.300514873,9864563.7750580274,361876585.80459332,18184.753055507201]
[{"$f":"IF(ISBLANK(InfoPro!A195),\"\",InfoPro!A195)","v":"SC_2125_A1"},{"$f":"IF(ISBLANK(InfoPro!B195),\"\",InfoPro!B195)","v":"Expansión Valledupar 100 MW"},{"$f":"IF(ISBLANK(InfoPro!E195),\"\",InfoPro!E195)","v":100},{"$f":"IF(ISBLANK(InfoPro!F195),\"\",InfoPro!F195)","v":"Solar FV"},{"$f":"IF(ISBLANK(InfoPro!I195),\"\",YEAR(InfoPro!I195)-$F$3)","v":4},{"$f":"IF(ISBLANK(InfoPro!P195),\"\",InfoPro!P195)","v":-8.61},-1058439595.1420994,-946725934.83193147,-846803161.74591374,-757426799.41494977,-677483720.40693188,-605978283.011567,-542019931.13735867,-484812102.98511517,-433642310.36235708,-387873265.08260924,-346934941.93435532,-310317479.36883307,-277564829.48911715,-248269078.25502431,-222065365.16549581,-8146356798.3336592,-81463.567983336587]
[{"$f":"IF(ISBLANK(InfoPro!A196),\"\",InfoPro!A196)","v":"SC_2125_A2"},{"$f":"IF(ISBLANK(InfoPro!B196),\"\",InfoPro!B196)","v":"Expansión Valledupar 100 MW"},{"$f":"IF(ISBLANK(InfoPro!E196),\"\",InfoPro!E196)","v":100},{"$f":"IF(ISBLANK(InfoPro!F196),\"\",InfoPro!F196)","v":"Solar FV"},{"$f":"IF(ISBLANK(InfoPro!I196),\"\",YEAR(InfoPro!I196)-$F$3)","v":4},{"$f":"IF(ISBLANK(InfoPro!P196),\"\",InfoPro!P196)","v":-8.43},-1036311938.1008012,-926933755.00966132,-829099959.75819433,-741592092.80697179,-663320297.68065453,-593309747.47822416,-530688504.00556719,-474676658.3234055,-424576617.46279562,-379764416.33523762,-339681946.63259178,-303830005.93255085,-271762080.44056422,-243078783.93610397,-217422883.66377813,-7976049687.5671015,-79760.496875671015]
[{"$f":"IF(ISBLANK(InfoPro!A197),\"\",InfoPro!A197)","v":"SC_2129_A2"},{"$f":"IF(ISBLANK(InfoPro!B197),\"\",InfoPro!B197)","v":"DSE LA JAGUA DE IBIRICO"},{"$f":"IF(ISBLANK(InfoPro!E197),\"\",InfoPro!E197)","v":9.9},{"$f":"IF(ISBLANK(InfoPro!F197),\"\",InfoPro!F197)","v":"Solar FV"},{"$f":"IF(ISBLANK(InfoPro!I197),\"\",YEAR(InfoPro!I197)-$F$3)","v":2},{"$f":"IF(ISBLANK(InfoPro!P197),\"\",InfoPro!P197)","v":-0.4},-61461976.888194814,-54974934.604825422,-49172571.202885002,-43982621.827267446,-39340448.861598782,-35188236.90661788,-31474272.725060716,-28152301.185206365,-25180949.181758825,-22523210.359354947,-20145984.221247718,-18019663.88304805,-16117767.337252282,-14416607.636182722,-12894997.885673273,-473046544.70617425,-47782.479263249923]
[{"$f":"IF(ISBLANK(InfoPro!A198),\"\",InfoPro!A198)","v":"SC_2130_A1"},{"$f":"IF(ISBLANK(InfoPro!B198),\"\",InfoPro!B198)","v":"Parque Solar Boreal"},{"$f":"IF(ISBLANK(InfoPro!E198),\"\",InfoPro!E198)","v":100},{"$f":"IF(ISBLANK(InfoPro!F198),\"\",InfoPro!F198)","v":"Solar FV"},{"$f":"IF(ISBLANK(InfoPro!I198),\"\",YEAR(InfoPro!I198)-$F$3)","v":5},{"$f":"IF(ISBLANK(InfoPro!P198),\"\",InfoPro!P198)","v":-18.600000000000001},-2045191914.967936,-1829330872.0643435,-1636253016.1577315,-1463553681.7153234,-1309082005.1120961,-1170914136.9517853,-1047329281.710005,-936788266.28801882,-837914370.56173432,-749476181.18223119,-670372255.08249652,-599617401.68380713,-536330412.95510489,-479723088.5108273,-429090419.06156307,-15740967304.005007,-157409.67304005008]
[{"$f":"IF(ISBLANK(InfoPro!A199),\"\",InfoPro!A199)","v":"SC_2130_A2"},{"$f":"IF(ISBLANK(InfoPro!B199),\"\",InfoPro!B199)","v":"Parque Solar Boreal"},{"$f":"IF(ISBLANK(InfoPro!E199),\"\",InfoPro!E199)","v":100},{"$f":"IF(ISBLANK(InfoPro!F199),\"\",InfoPro!F199)","v":"Solar FV"},{"$f":"IF(ISBLANK(InfoPro!I199),\"\",YEAR(InfoPro!I199)-$F$3)","v":5},{"$f":"IF(ISBLANK(InfoPro!P199),\"\",InfoPro!P199)","v":-23.96},-2634559047.4533195,-2356492886.8097672,-2107775390.7064109,-1885308936.231137,-1686322840.9938612,-1508338855.9873536,-1349140300.5253613,-1206744454.8527381,-1079377866.594578,-965454263.50141168,-863554797.40734506,-772410373.35182905,-690885843.78517818,-617965871.00642049,-552742281.75887358,-20277074010.965588,-202770.74010965589]
[{"$f":"IF(ISBLANK(InfoPro!A200),\"\",InfoPro!A200)","v":"SC_2132_A1"},{"$f":"IF(ISBLANK(InfoPro!B200),\"\",InfoPro!B200)","v":"El Encanto 9,9 MW"},{"$f":"IF(ISBLANK(InfoPro!E200),\"\",InfoPro!E200)","v":9.9},{"$f":"IF(ISBLANK(InfoPro!F200),\"\",InfoPro!F200)","v":"Solar FV"},{"$f":"IF(ISBLANK(InfoPro!I200),\"\",YEAR(InfoPro!I200)-$F$3)","v":1},{"$f":"IF(ISBLANK(InfoPro!P200),\"\",InfoPro!P200)","v":0},0,0,0,0,0,0,0,0,0,0,0,0,0,0,0,0,0]
[{"$f":"IF(ISBLANK(InfoPro!A201),\"\",InfoPro!A201)","v":"SC_2137_A1"},{"$f":"IF(ISBLANK(InfoPro!B201),\"\",InfoPro!B201)","v":"La Unión 9,9"},{"$f":"IF(ISBLANK(InfoPro!E201),\"\",InfoPro!E201)","v":9.9},{"$f":"IF(ISBLANK(InfoPro!F201),\"\",InfoPro!F201)","v":"Solar FV"},{"$f":"IF(ISBLANK(InfoPro!I201),\"\",YEAR(InfoPro!I201)-$F$3)","v":1},{"$f":"IF(ISBLANK(InfoPro!P201),\"\",InfoPro!P201)","v":0},0,0,0,0,0,0,0,0,0,0,0,0,0,0,0,0,0]
[{"$f":"IF(ISBLANK(InfoPro!A202),\"\",InfoPro!A202)","v":"SC_2159_A1"},{"$f":"IF(ISBLANK(InfoPro!B202),\"\",InfoPro!B202)","v":"DSE IBIRICO"},{"$f":"IF(ISBLANK(InfoPro!E202),\"\",InfoPro!E202)","v":19.899999999999999},{"$f":"IF(ISBLANK(InfoPro!F202),\"\",InfoPro!F202)","v":"Solar FV"},{"$f":"IF(ISBLANK(InfoPro!I202),\"\",YEAR(InfoPro!I202)-$F$3)","v":2},{"$f":"IF(ISBLANK(InfoPro!P202),\"\",InfoPro!P202)","v":-1.36},-208970721.41986236,-186914777.65640646,-167186742.089809,-149540914.21270931,-133757526.12943587,-119640005.48250079,-107012527.26520643,-95717824.02970165,-85615227.217979997,-76578915.221806824,-68496346.352242231,-61266857.202363364,-54800408.946657754,-49016465.963021256,-43842992.811289132,-1608358252.0009921,-80822.022713617698]
[{"$f":"IF(ISBLANK(InfoPro!A203),\"\",InfoPro!A203)","v":"SC_2159_A2"},{"$f":"IF(ISBLANK(InfoPro!B203),\"\",InfoPro!B203)","v":"DSE IBIRICO"},{"$f":"IF(ISBLANK(InfoPro!E203),\"\",InfoPro!E203)","v":19.899999999999999},{"$f":"IF(ISBLANK(InfoPro!F203),\"\",InfoPro!F203)","v":"Solar FV"},{"$f":"IF(ISBLANK(InfoPro!I203),\"\",YEAR(InfoPro!I203)-$F$3)","v":2},{"$f":"IF(ISBLANK(InfoPro!P203),\"\",InfoPro!P203)","v":-1.34},-205897622.5754526,-184166030.92616516,-164728113.52966475,-147341783.12134594,-131790503.68635593,-117880593.63716991,-105438813.62895341,-94310208.970441326,-84356179.758892059,-75452754.703839079,-67489047.141179845,-60365874.008210965,-53994520.579795144,-48295635.581212118,-43198242.917005464,-1584705924.7656837,-79633.463556064511]
[{"$f":"IF(ISBLANK(InfoPro!A204),\"\",InfoPro!A204)","v":"SC_2162_A1"},{"$f":"IF(ISBLANK(InfoPro!B204),\"\",InfoPro!B204)","v":"Parque Solar Codazzi 2"},{"$f":"IF(ISBLANK(InfoPro!E204),\"\",InfoPro!E204)","v":9.9},{"$f":"IF(ISBLANK(InfoPro!F204),\"\",InfoPro!F204)","v":"Solar FV"},{"$f":"IF(ISBLANK(InfoPro!I204),\"\",YEAR(InfoPro!I204)-$F$3)","v":3},{"$f":"IF(ISBLANK(InfoPro!P204),\"\",InfoPro!P204)","v":-1.22},-167673550.54471752,-149976342.16879922,-134146996.5731657,-119988369.02787627,-107324122.56518453,-95996531.811435178,-85864518.614879414,-76801895.004364401,-68695791.59603259,-61445251.874805532,-54959974.84329655,-49159190.378619462,-43970653.290357299,-39329743.551303476,-35178661.494904727,-1290511593.3397419,-130354.70639795373]
[{"$f":"IF(ISBLANK(InfoPro!A205),\"\",InfoPro!A205)","v":"SC_2162_A2"},{"$f":"IF(ISBLANK(InfoPro!B205),\"\",InfoPro!B205)","v":"Parque Solar Codazzi 2"},{"$f":"IF(ISBLANK(InfoPro!E205),\"\",InfoPro!E205)","v":9.9},{"$f":"IF(ISBLANK(InfoPro!F205),\"\",InfoPro!F205)","v":"Solar FV"},{"$f":"IF(ISBLANK(InfoPro!I205),\"\",YEAR(InfoPro!I205)-$F$3)","v":3},{"$f":"IF(ISBLANK(InfoPro!P205),\"\",InfoPro!P205)","v":-1.62},-222648485.14954299,-199148913.37168422,-178129618.40043315,-159328817.88947508,-142512359.47180241,-127470804.53649591,-114016819.80008578,-101982844.18612324,-91219001.955387548,-81591236.096053258,-72979638.7263446,-65276957.715871736,-58387260.926540025,-52224741.436976753,-46712648.870283328,-1713630148.5331004,-173093.95439728285]
[{"$f":"IF(ISBLANK(InfoPro!A206),\"\",InfoPro!A206)","v":"SC_2200_A1"},{"$f":"IF(ISBLANK(InfoPro!B206),\"\",InfoPro!B206)","v":"Parque Eólico Wakuaipa"},{"$f":"IF(ISBLANK(InfoPro!E206),\"\",InfoPro!E206)","v":200},{"$f":"IF(ISBLANK(InfoPro!F206),\"\",InfoPro!F206)","v":"Eólico Onshore"},{"$f":"IF(ISBLANK(InfoPro!I206),\"\",YEAR(InfoPro!I206)-$F$3)","v":3},{"$f":"IF(ISBLANK(InfoPro!P206),\"\",InfoPro!P206)","v":-38.36},-5272096228.6027584,-4715649578.3566704,-4217933433.2349477,-3772749045.827323,-3374551919.3446541,-3018382754.3333225,-2699805683.6612906,-2414853026.5306711,-2159975873.4621391,-1931999886.8176558,-1728085766.3843079,-1545693887.6424937,-1382552672.3099229,-1236630297.2360668,-1106109389.2988076,-40577069443.04303,-202885.34721521515]
[{"$f":"IF(ISBLANK(InfoPro!A207),\"\",InfoPro!A207)","v":"SC_2200_A2"},{"$f":"IF(ISBLANK(InfoPro!B207),\"\",InfoPro!B207)","v":"Parque Eólico Wakuaipa"},{"$f":"IF(ISBLANK(InfoPro!E207),\"\",InfoPro!E207)","v":200},{"$f":"IF(ISBLANK(InfoPro!F207),\"\",InfoPro!F207)","v":"Eólico Onshore"},{"$f":"IF(ISBLANK(InfoPro!I207),\"\",YEAR(InfoPro!I207)-$F$3)","v":3},{"$f":"IF(ISBLANK(InfoPro!P207),\"\",InfoPro!P207)","v":-34.99},-4808932404.5571041,-4301370665.9723654,-3847379844.3402195,-3441305764.1683536,-3078091023.4063993,-2753212006.6246862,-2462622546.1759272,-2202703529.6743531,-1970217826.1845744,-1762269969.7536442,-1576270098.1696281,-1409901697.8261433,-1261092752.9750836,-1127989940.0492697,-1008935545.661243,-37012295615.538994,-185061.47807769498]
[{"$f":"IF(ISBLANK(InfoPro!A208),\"\",InfoPro!A208)","v":"SC_2206_A1"},{"$f":"IF(ISBLANK(InfoPro!B208),\"\",InfoPro!B208)","v":"Parque Fotovoltaico Lyra"},{"$f":"IF(ISBLANK(InfoPro!E208),\"\",InfoPro!E208)","v":19.899999999999999},{"$f":"IF(ISBLANK(InfoPro!F208),\"\",InfoPro!F208)","v":"Solar FV"},{"$f":"IF(ISBLANK(InfoPro!I208),\"\",YEAR(InfoPro!I208)-$F$3)","v":2},{"$f":"IF(ISBLANK(InfoPro!P208),\"\",InfoPro!P208)","v":-5.0880000000000001},{"$f":"IF($F215=\"\",\"\",(1/(1+$C$3)^(G$6+$E215))*$F215*$C$2)","v":-781796346.01783788},-699281168.17337942,-625475105.70069718,-559458949.64284182,-500410509.5195365,-447594373.45217943,-400352749.06277233,-358097271.07582498,-320301673.59197223,-286495235.77099496,-256256919.29427093,-229210124.5923712,-205018000.52984899,-183379249.13224423,-164024373.10576403,-6017152048.6625366,-302369.44968153449]
[{"$f":"IF(ISBLANK(InfoPro!A209),\"\",InfoPro!A209)","v":"SC_2206_A2"},{"$f":"IF(ISBLANK(InfoPro!B209),\"\",InfoPro!B209)","v":"Parque Fotovoltaico Lyra"},{"$f":"IF(ISBLANK(InfoPro!E209),\"\",InfoPro!E209)","v":19.899999999999999},{"$f":"IF(ISBLANK(InfoPro!F209),\"\",InfoPro!F209)","v":"Solar FV"},{"$f":"IF(ISBLANK(InfoPro!I209),\"\",YEAR(InfoPro!I209)-$F$3)","v":2},{"$f":"IF(ISBLANK(InfoPro!P209),\"\",InfoPro!P209)","v":-4.7930000000000001},-736468138.06279433,-658737153.90232062,-589210334.43856943,-527021766.04523212,-471396928.48410743,-421643048.73354876,-377140472.92804003,-337334948.95173532,-301730723.57042509,-269884368.13097066,-241399255.93110076,-215920622.47862324,-193131147.11862546,-172747001.00055945,-154514312.16507998,-5668280221.9417343,-284838.20210762485]
[{"$f":"IF(ISBLANK(InfoPro!A210),\"\",InfoPro!A210)","v":"SC_2212_A1"},{"$f":"IF(ISBLANK(InfoPro!B210),\"\",InfoPro!B210)","v":"Aguaraní 200 MW"},{"$f":"IF(ISBLANK(InfoPro!E210),\"\",InfoPro!E210)","v":200},{"$f":"IF(ISBLANK(InfoPro!F210),\"\",InfoPro!F210)","v":"Solar FV"},{"$f":"IF(ISBLANK(InfoPro!I210),\"\",YEAR(InfoPro!I210)-$F$3)","v":4},{"$f":"IF(ISBLANK(InfoPro!P210),\"\",InfoPro!P210)","v":-89.18},-10963024749.68321,-9805925536.3892765,-8770953073.693449,-7845217418.3304567,-7017189104.0522861,-6276555549.2417603,-5614092620.0731297,-5021549749.618186,-4491547182.1271782,-4017484062.7255626,-3593456227.8403964,-3214182672.486938,-2874939778.6108561,-2571502485.3406591,-2300091668.4621277,-84377711878.675461,-421888.55939337728]
[{"$f":"IF(ISBLANK(InfoPro!A211),\"\",InfoPro!A211)","v":"SC_2212_A2"},{"$f":"IF(ISBLANK(InfoPro!B211),\"\",InfoPro!B211)","v":"Aguaraní 200 MW"},{"$f":"IF(ISBLANK(InfoPro!E211),\"\",InfoPro!E211)","v":200},{"$f":"IF(ISBLANK(InfoPro!F211),\"\",InfoPro!F211)","v":"Solar FV"},{"$f":"IF(ISBLANK(InfoPro!I211),\"\",YEAR(InfoPro!I211)-$F$3)","v":4},{"$f":"IF(ISBLANK(InfoPro!P211),\"\",InfoPro!P211)","v":-90.64},-11142504634.57374,-9966462106.0588017,-8914545712.0382843,-7973654483.0396109,-7132070199.4987583,-6379311448.5677633,-5706003084.5865498,-5103759467.4298315,-4565080024.5347328,-4083255835.8986878,-3652286078.621367,-3266803290.359005,-2922006520.8935637,-2613601539.2607903,-2337747351.7538376,-85759091777.115326,-428795.45888557663]
[{"$f":"IF(ISBLANK(InfoPro!A212),\"\",InfoPro!A212)","v":"SC_2227_A1"},{"$f":"IF(ISBLANK(InfoPro!B212),\"\",InfoPro!B212)","v":"Generación Solar Fotovoltaica Sabana Solar - 9.9 MW"},{"$f":"IF(ISBLANK(InfoPro!E212),\"\",InfoPro!E212)","v":9.9},{"$f":"IF(ISBLANK(InfoPro!F212),\"\",InfoPro!F212)","v":"Solar FV"},{"$f":"IF(ISBLANK(InfoPro!I212),\"\",YEAR(InfoPro!I212)-$F$3)","v":1},{"$f":"IF(ISBLANK(InfoPro!P212),\"\",InfoPro!P212)","v":1.1200000000000001},192400572.45080504,172093535.28694546,153929816.89351121,137683199.36807799,123151341.11634885,110153256.81247659,98527063.338530079,88127963.630170017,78826443.318577826,70506657.708924711,63064989.006193861,56408755.819493614,50455058.872534543,45129748.54430639,40366501.381311625,1480824903.5482078,149578.27308567756]
[{"$f":"IF(ISBLANK(InfoPro!A213),\"\",InfoPro!A213)","v":"SC_2227_A2"},{"$f":"IF(ISBLANK(InfoPro!B213),\"\",InfoPro!B213)","v":"Generación Solar Fotovoltaica Sabana Solar - 9.9 MW"},{"$f":"IF(ISBLANK(InfoPro!E213),\"\",InfoPro!E213)","v":9.9},{"$f":"IF(ISBLANK(InfoPro!F213),\"\",InfoPro!F213)","v":"Solar FV"},{"$f":"IF(ISBLANK(InfoPro!I213),\"\",YEAR(InfoPro!I213)-$F$3)","v":1},{"$f":"IF(ISBLANK(InfoPro!P213),\"\",InfoPro!P213)","v":1.21},207861332.73703042,185922480.08678928,166299177.1795969,148747027.8887271,133047431.027484,119004857.80633633,106444416.64251909,95209674.993308648,85160711.08524926,76172371.274820447,68132711.337048709,60941602.269274339,54509483.246220343,48756246.19518815,43610238.099452727,1599819761.8690455,161597.95574434803]
[{"$f":"IF(ISBLANK(InfoPro!A214),\"\",InfoPro!A214)","v":"SC_2242_A1"},{"$f":"IF(ISBLANK(InfoPro!B214),\"\",InfoPro!B214)","v":"Parque Eólico San Juan 100 MW"},{"$f":"IF(ISBLANK(InfoPro!E214),\"\",InfoPro!E214)","v":100},{"$f":"IF(ISBLANK(InfoPro!F214),\"\",InfoPro!F214)","v":"Solar FV"},{"$f":"IF(ISBLANK(InfoPro!I214),\"\",YEAR(InfoPro!I214)-$F$3)","v":3},{"$f":"IF(ISBLANK(InfoPro!P214),\"\",InfoPro!P214)","v":5.53},760028470.91171145,679810796.87988508,608059746.76197243,543881705.51160324,486477375.23399216,435131820.42396438,389205563.88547802,348126622.43781573,311383383.21808219,278518231.85874969,249121853.18313926,222828133.43751279,199309600.57022613,178273345.76943302,159457375.46460915,5849614025.548173,58496.140255481732]
[{"$f":"IF(ISBLANK(InfoPro!A215),\"\",InfoPro!A215)","v":"SC_2242_A2"},{"$f":"IF(ISBLANK(InfoPro!B215),\"\",InfoPro!B215)","v":"Parque Eólico San Juan 100 MW"},{"$f":"IF(ISBLANK(InfoPro!E215),\"\",InfoPro!E215)","v":100},{"$f":"IF(ISBLANK(InfoPro!F215),\"\",InfoPro!F215)","v":"Solar FV"},{"$f":"IF(ISBLANK(InfoPro!I215),\"\",YEAR(InfoPro!I215)-$F$3)","v":3},{"$f":"IF(ISBLANK(InfoPro!P215),\"\",InfoPro!P215)","v":9.85},1353757764.643826,1210874565.871043,1083072062.4964607,968758553.21687007,866510333.82546532,775053965.8546201,693250416.68570673,620080873.600811,554634055.09911549,496094861.44822496,443734223.12005818,396900020.67983741,355008963.04099953,317539322.9347043,284024439.118698,10419294421.636442,104192.94421636443]
[{"$f":"IF(ISBLANK(InfoPro!A216),\"\",InfoPro!A216)","v":"SC_2260_A1"},{"$f":"IF(ISBLANK(InfoPro!B216),\"\",InfoPro!B216)","v":"Parque Solar Fotovoltaico Tayrona I"},{"$f":"IF(ISBLANK(InfoPro!E216),\"\",InfoPro!E216)","v":50},{"$f":"IF(ISBLANK(InfoPro!F216),\"\",InfoPro!F216)","v":"Solar FV"},{"$f":"IF(ISBLANK(InfoPro!I216),\"\",YEAR(InfoPro!I216)-$F$3)","v":5},{"$f":"IF(ISBLANK(InfoPro!P216),\"\",InfoPro!P216)","v":-8.0969999999999995},-890318222.33846116,-796349036.08091331,-712297885.58221245,-637117965.63704145,-569872956.74153984,-509725363.81175292,-455926085.69924253,-407805085.59860682,-364763046.15260005,-326263905.32432926,-291828180.07542872,-261026994.70074117,-233476739.44610128,-208834292.88560042,-186792748.55599329,-6852398508.6305647,-137047.9701726113]
[{"$f":"IF(ISBLANK(InfoPro!A217),\"\",InfoPro!A217)","v":"SC_2261_A1"},{"$f":"IF(ISBLANK(InfoPro!B217),\"\",InfoPro!B217)","v":"Parque Solar Fotovoltaico Tayrona II"},{"$f":"IF(ISBLANK(InfoPro!E217),\"\",InfoPro!E217)","v":50},{"$f":"IF(ISBLANK(InfoPro!F217),\"\",InfoPro!F217)","v":"Solar FV"},{"$f":"IF(ISBLANK(InfoPro!I217),\"\",YEAR(InfoPro!I217)-$F$3)","v":5},{"$f":"IF(ISBLANK(InfoPro!P217),\"\",InfoPro!P217)","v":-8.0969999999999995},-890318222.33846116,-796349036.08091331,-712297885.58221245,-637117965.63704145,-569872956.74153984,-509725363.81175292,-455926085.69924253,-407805085.59860682,-364763046.15260005,-326263905.32432926,-291828180.07542872,-261026994.70074117,-233476739.44610128,-208834292.88560042,-186792748.55599329,-6852398508.6305647,-137047.9701726113]
[{"$f":"IF(ISBLANK(InfoPro!A218),\"\",InfoPro!A218)","v":"SC_2271_A1"},{"$f":"IF(ISBLANK(InfoPro!B218),\"\",InfoPro!B218)","v":"San Angel 19,9 MW"},{"$f":"IF(ISBLANK(InfoPro!E218),\"\",InfoPro!E218)","v":19.899999999999999},{"$f":"IF(ISBLANK(InfoPro!F218),\"\",InfoPro!F218)","v":"Solar FV"},{"$f":"IF(ISBLANK(InfoPro!I218),\"\",YEAR(InfoPro!I218)-$F$3)","v":1},{"$f":"IF(ISBLANK(InfoPro!P218),\"\",InfoPro!P218)","v":-13.776370999999999},-2366590773.8345261,-2116807490.0129929,-1893387737.0420334,-1693548959.7871497,-1514802289.6128352,-1354921547.0597813,-1211915516.1536505,-1084003145.0390434,-969591364.07785642,-867255245.15013993,-775720255.05379272,-693846381.98013651,-620613937.37042618,-555110856.32417381,-496521338.39371544,-18214636836.892254,-915308.38376342983]
[{"$f":"IF(ISBLANK(InfoPro!A219),\"\",InfoPro!A219)","v":"SC_2271_A2"},{"$f":"IF(ISBLANK(InfoPro!B219),\"\",InfoPro!B219)","v":"San Angel 19,9 MW"},{"$f":"IF(ISBLANK(InfoPro!E219),\"\",InfoPro!E219)","v":19.899999999999999},{"$f":"IF(ISBLANK(InfoPro!F219),\"\",InfoPro!F219)","v":"Solar FV"},{"$f":"IF(ISBLANK(InfoPro!I219),\"\",YEAR(InfoPro!I219)-$F$3)","v":1},{"$f":"IF(ISBLANK(InfoPro!P219),\"\",InfoPro!P219)","v":-1.2563789999999999},-215828606.08497319,-193048842.65203324,-172673383.40968987,-154448464.58827358,-138147106.0718011,-123566284.50071652,-110524404.74124916,-98859038.230097637,-88424900.026920974,-79092039.380072415,-70744221.270190015,-63277478.774767458,-56598818.224300057,-50625061.02352421,-45281807.713349022,-1661140456.6919584,-83474.394808641126]
[{"$f":"IF(ISBLANK(InfoPro!A220),\"\",InfoPro!A220)","v":"SC_2275_A1"},{"$f":"IF(ISBLANK(InfoPro!B220),\"\",InfoPro!B220)","v":"TERMOCOSTA"},{"$f":"IF(ISBLANK(InfoPro!E220),\"\",InfoPro!E220)","v":93},{"$f":"IF(ISBLANK(InfoPro!F220),\"\",InfoPro!F220)","v":"Termica - Ciclo abierto"},{"$f":"IF(ISBLANK(InfoPro!I220),\"\",YEAR(InfoPro!I220)-$F$3)","v":2},{"$f":"IF(ISBLANK(InfoPro!P220),\"\",InfoPro!P220)","v":-8.3000000000000004E-2},-12753360.204300424,-11407298.930501277,-10203308.524598638,-9126394.0291579943,-8163143.1387817478,-7301559.1581232101,-6530911.5904500987,-5841602.4959303206,-5225046.9552149558,-4673566.1495661521,-4180291.7259089015,-3739080.2557324702,-3344436.7224798487,-2991446.0845079152,-2675712.0612772042,-98157158.02653119,-1055.4533121132386]
[{"$f":"IF(ISBLANK(InfoPro!A221),\"\",InfoPro!A221)","v":"SC_2275_A2"},{"$f":"IF(ISBLANK(InfoPro!B221),\"\",InfoPro!B221)","v":"TERMOCOSTA"},{"$f":"IF(ISBLANK(InfoPro!E221),\"\",InfoPro!E221)","v":93},{"$f":"IF(ISBLANK(InfoPro!F221),\"\",InfoPro!F221)","v":"Termica - Ciclo abierto"},{"$f":"IF(ISBLANK(InfoPro!I221),\"\",YEAR(InfoPro!I221)-$F$3)","v":2},{"$f":"IF(ISBLANK(InfoPro!P221),\"\",InfoPro!P221)","v":-8.3000000000000004E-2},-12753360.204300424,-11407298.930501277,-10203308.524598638,-9126394.0291579943,-8163143.1387817478,-7301559.1581232101,-6530911.5904500987,-5841602.4959303206,-5225046.9552149558,-4673566.1495661521,-4180291.7259089015,-3739080.2557324702,-3344436.7224798487,-2991446.0845079152,-2675712.0612772042,-98157158.02653119,-1055.4533121132386]
[{"$f":"IF(ISBLANK(InfoPro!A222),\"\",InfoPro!A222)","v":"SC_2292_A1"},{"$f":"IF(ISBLANK(InfoPro!B222),\"\",InfoPro!B222)","v":"PARQUE SOLAR LAS PALMERAS"},{"$f":"IF(ISBLANK(InfoPro!E222),\"\",InfoPro!E222)","v":200},{"$f":"IF(ISBLANK(InfoPro!F222),\"\",InfoPro!F222)","v":"Solar FV"},{"$f":"IF(ISBLANK(InfoPro!I222),\"\",YEAR(InfoPro!I222)-$F$3)","v":2},{"$f":"IF(ISBLANK(InfoPro!P222),\"\",InfoPro!P222)","v":-23.553000000000001},-3619034854.1191311,-3237061586.8686333,-2895403923.8538756,-2589806729.7440753,-2316463980.0930905,-2071971359.6539273,-1853283863.7333875,-1657677874.5379138,-1482717240.1949141,-1326222933.9847178,-1186245915.9076188,-1061042858.5935768,-949054435.23575735,-848885899.13752902,-759289713.00315642,-27854163168.661304,-139270.81584330651]
[{"$f":"IF(ISBLANK(InfoPro!A223),\"\",InfoPro!A223)","v":"SC_2292_A2"},{"$f":"IF(ISBLANK(InfoPro!B223),\"\",InfoPro!B223)","v":"PARQUE SOLAR LAS PALMERAS"},{"$f":"IF(ISBLANK(InfoPro!E223),\"\",InfoPro!E223)","v":200},{"$f":"IF(ISBLANK(InfoPro!F223),\"\",InfoPro!F223)","v":"Solar FV"},{"$f":"IF(ISBLANK(InfoPro!I223),\"\",YEAR(InfoPro!I223)-$F$3)","v":2},{"$f":"IF(ISBLANK(InfoPro!P223),\"\",InfoPro!P223)","v":-22.149000000000001},-3403303315.2415667,-3044099566.4056959,-2722808198.9317498,-2435427727.1303663,-2178379004.5888786,-1948460648.1116986,-1742809166.4684246,-1558863297.3778396,-1394332108.5669405,-1247166465.6233819,-1115533511.2910392,-997793838.36407816,-892481071.882002,-798283606.33452785,-714028270.42444336,-26193769796.74263,-130968.84898371315]
[{"$f":"IF(ISBLANK(InfoPro!A224),\"\",InfoPro!A224)","v":"SC_2295_A1"},{"$f":"IF(ISBLANK(InfoPro!B224),\"\",InfoPro!B224)","v":"Parque Solar San Jose 200 MW"},{"$f":"IF(ISBLANK(InfoPro!E224),\"\",InfoPro!E224)","v":200},{"$f":"IF(ISBLANK(InfoPro!F224),\"\",InfoPro!F224)","v":"Solar FV"},{"$f":"IF(ISBLANK(InfoPro!I224),\"\",YEAR(InfoPro!I224)-$F$3)","v":2},{"$f":"IF(ISBLANK(InfoPro!P224),\"\",InfoPro!P224)","v":-23.553000000000001},-3619034854.1191311,-3237061586.8686333,-2895403923.8538756,-2589806729.7440753,-2316463980.0930905,-2071971359.6539273,-1853283863.7333875,-1657677874.5379138,-1482717240.1949141,-1326222933.9847178,-1186245915.9076188,-1061042858.5935768,-949054435.23575735,-848885899.13752902,-759289713.00315642,-27854163168.661304,-139270.81584330651]
[{"$f":"IF(ISBLANK(InfoPro!A225),\"\",InfoPro!A225)","v":"SC_230_A1"},{"$f":"IF(ISBLANK(InfoPro!B225),\"\",InfoPro!B225)","v":"Proyecto Solar San Martin 300MW"},{"$f":"IF(ISBLANK(InfoPro!E225),\"\",InfoPro!E225)","v":300},{"$f":"IF(ISBLANK(InfoPro!F225),\"\",InfoPro!F225)","v":"Solar FV"},{"$f":"IF(ISBLANK(InfoPro!I225),\"\",YEAR(InfoPro!I225)-$F$3)","v":2},{"$f":"IF(ISBLANK(InfoPro!P225),\"\",InfoPro!P225)","v":-46.88},{"$f":"IF($F232=\"\",\"\",(1/(1+$C$3)^(G$6+$E232))*$F232*$C$2)","v":-7203343691.2964315},-6443062335.6855402,-5763025344.9781218,-5154763278.1557436,-4610700606.5793781,-4124061365.4556155,-3688784763.3771162,-3299449698.9061866,-2951207244.1021342,-2639720254.1163998,-2361109350.7302322,-2111904607.0932312,-1889002331.9259675,-1689626414.9606149,-1511293752.2009077,-55441055039.563622,-184803.5167985454]
[{"$f":"IF(ISBLANK(InfoPro!A226),\"\",InfoPro!A226)","v":"SC_2341_A1"},{"$f":"IF(ISBLANK(InfoPro!B226),\"\",InfoPro!B226)","v":"Parque Eólico Neguanje"},{"$f":"IF(ISBLANK(InfoPro!E226),\"\",InfoPro!E226)","v":19.899999999999999},{"$f":"IF(ISBLANK(InfoPro!F226),\"\",InfoPro!F226)","v":"Eólico Onshore"},{"$f":"IF(ISBLANK(InfoPro!I226),\"\",YEAR(InfoPro!I226)-$F$3)","v":4},{"$f":"IF(ISBLANK(InfoPro!P226),\"\",InfoPro!P226)","v":-1857},-228283661809.39359,-204189321833.08911,-182638033839.97235,-163361389838.97351,-146119311126.09436,-130697058252.32056,-116902556576.31535,-104564004093.30536,-93527731747.142517,-83656289577.050568,-74826734863.19371,-66929100950.978279,-59865027684.238174,-53546536390.195152,-47894934159.387428,-1757001692741.6501,-88291542.348826647]
[{"$f":"IF(ISBLANK(InfoPro!A227),\"\",InfoPro!A227)","v":"SC_2341_A2"},{"$f":"IF(ISBLANK(InfoPro!B227),\"\",InfoPro!B227)","v":"Parque Eólico Neguanje"},{"$f":"IF(ISBLANK(InfoPro!E227),\"\",InfoPro!E227)","v":19.899999999999999},{"$f":"IF(ISBLANK(InfoPro!F227),\"\",InfoPro!F227)","v":"Eólico Onshore"},{"$f":"IF(ISBLANK(InfoPro!I227),\"\",YEAR(InfoPro!I227)-$F$3)","v":4},{"$f":"IF(ISBLANK(InfoPro!P227),\"\",InfoPro!P227)","v":-1123},-138051993652.09961,-123481210780.05333,-110448310178.93857,-98790975115.329681,-88364020675.607956,-79037585577.466873,-70695514827.787903,-63233913083.889015,-56559850701.152962,-50590206351.657394,-45250631799.335777,-40474625938.582993,-36202706564.02771,-32381669556.37542,-28963926257.938656,-1062527141060.2438,-53393323.671369031]
[{"$f":"IF(ISBLANK(InfoPro!A228),\"\",InfoPro!A228)","v":"SC_393_A1"},{"$f":"IF(ISBLANK(InfoPro!B228),\"\",InfoPro!B228)","v":"Copey del verano 99.9 MW"},{"$f":"IF(ISBLANK(InfoPro!E228),\"\",InfoPro!E228)","v":99.9},{"$f":"IF(ISBLANK(InfoPro!F228),\"\",InfoPro!F228)","v":"Solar FV"},{"$f":"IF(ISBLANK(InfoPro!I228),\"\",YEAR(InfoPro!I228)-$F$3)","v":2},{"$f":"IF(ISBLANK(InfoPro!P228),\"\",InfoPro!P228)","v":-22.361170000000001},-3435904284.3324881,-3073259646.0934606,-2748890560.0120397,-2458757209.3130946,-2199246162.1762924,-1967125368.6728914,-1759503907.578615,-1573795981.7340026,-1407688713.536675,-1259113339.4782429,-1126219444.9715946,-1007351918.5792439,-901030338.62186396,-805930535.43994999,-720868099.67795157,-26444685510.218407,-264711.56666885293]
[{"$f":"IF(ISBLANK(InfoPro!A229),\"\",InfoPro!A229)","v":"SC_393_A2"},{"$f":"IF(ISBLANK(InfoPro!B229),\"\",InfoPro!B229)","v":"Copey del verano 99.9 MW"},{"$f":"IF(ISBLANK(InfoPro!E229),\"\",InfoPro!E229)","v":99.9},{"$f":"IF(ISBLANK(InfoPro!F229),\"\",InfoPro!F229)","v":"Solar FV"},{"$f":"IF(ISBLANK(InfoPro!I229),\"\",YEAR(InfoPro!I229)-$F$3)","v":2},{"$f":"IF(ISBLANK(InfoPro!P229),\"\",InfoPro!P229)","v":-21.629180000000002},-3323430403.1765132,-2972656890.1399951,-2658905984.0250401,-2378270110.934741,-2127254124.2707882,-1902731774.8397033,-1701906775.348572,-1522277974.3726046,-1361608206.057786,-1217896427.6008821,-1089352797.4963169,-974376384.16486311,-871535227.33887577,-779548503.88092649,-697270575.92211664,-25579022159.569729,-256046.26786356085]
[{"$f":"IF(ISBLANK(InfoPro!A230),\"\",InfoPro!A230)","v":"SC_394_A1"},{"$f":"IF(ISBLANK(InfoPro!B230),\"\",InfoPro!B230)","v":"Riohacha de 20 del Verano"},{"$f":"IF(ISBLANK(InfoPro!E230),\"\",InfoPro!E230)","v":19.899999999999999},{"$f":"IF(ISBLANK(InfoPro!F230),\"\",InfoPro!F230)","v":"Solar FV"},{"$f":"IF(ISBLANK(InfoPro!I230),\"\",YEAR(InfoPro!I230)-$F$3)","v":2},{"$f":"IF(ISBLANK(InfoPro!P230),\"\",InfoPro!P230)","v":-5.8194100000000004},-894181107.30732453,-799804210.47166777,-715388381.45945239,-639882273.21954608,-572345503.7741915,-511936944.34185296,-457904243.59736395,-409574457.60050446,-366345668.69454783,-327679488.99333447,-293094355.09242797,-262159530.49412161,-234489741.05019826,-209740376.61019522,-187603199.11466476,-6882129481.8213949,-345835.65235283389]
[{"$f":"IF(ISBLANK(InfoPro!A231),\"\",InfoPro!A231)","v":"SC_394_A2"},{"$f":"IF(ISBLANK(InfoPro!B231),\"\",InfoPro!B231)","v":"Riohacha de 20 del Verano"},{"$f":"IF(ISBLANK(InfoPro!E231),\"\",InfoPro!E231)","v":19.899999999999999},{"$f":"IF(ISBLANK(InfoPro!F231),\"\",InfoPro!F231)","v":"Solar FV"},{"$f":"IF(ISBLANK(InfoPro!I231),\"\",YEAR(InfoPro!I231)-$F$3)","v":2},{"$f":"IF(ISBLANK(InfoPro!P231),\"\",InfoPro!P231)","v":-5.7274000000000003},-880043316.07361734,-787158601.13919282,-704077460.76850879,-629765170.63372886,-563296217.02480221,-503842770.14740807,-450664374.01378191,-403098724.5203774,-360553420.85901374,-322498587.53042382,-288460275.07193542,-258014557.30942348,-230782251.6184468,-206424196.43868229,-184637027.22601277,-6773316950.3753557,-340367.68594851036]
[{"$f":"IF(ISBLANK(InfoPro!A232),\"\",InfoPro!A232)","v":"SC_407_A1"},{"$f":"IF(ISBLANK(InfoPro!B232),\"\",InfoPro!B232)","v":"Portugal I 19.9 MW"},{"$f":"IF(ISBLANK(InfoPro!E232),\"\",InfoPro!E232)","v":19.899999999999999},{"$f":"IF(ISBLANK(InfoPro!F232),\"\",InfoPro!F232)","v":"Solar FV"},{"$f":"IF(ISBLANK(InfoPro!I232),\"\",YEAR(InfoPro!I232)-$F$3)","v":2},{"$f":"IF(ISBLANK(InfoPro!P232),\"\",InfoPro!P232)","v":0.76912000000000003},118179089.16062099,105705804.25815833,94549019.908907264,84569785.249469832,75643815.071082145,67659941.924044862,60518731.595746748,54131244.718914807,48417929.086685866,43307628.878967695,38736698.460615113,34648209.714324787,30991243.036068689,27720253.162852138,24794501.93457257,909573896.16103196,45707.230962865928]
[{"$f":"IF(ISBLANK(InfoPro!A233),\"\",InfoPro!A233)","v":"SC_42_A1"},{"$f":"IF(ISBLANK(InfoPro!B233),\"\",InfoPro!B233)","v":"Santa Marta 1 - 50 MW"},{"$f":"IF(ISBLANK(InfoPro!E233),\"\",InfoPro!E233)","v":50},{"$f":"IF(ISBLANK(InfoPro!F233),\"\",InfoPro!F233)","v":"Solar FV"},{"$f":"IF(ISBLANK(InfoPro!I233),\"\",YEAR(InfoPro!I233)-$F$3)","v":2},{"$f":"IF(ISBLANK(InfoPro!P233),\"\",InfoPro!P233)","v":-4.5129999999999999},-693444754.24105787,-620254699.6789428,-554789534.59654999,-496233930.76614493,-443858614.28098828,-397011282.89891618,-355108482.0204975,-317628338.12209082,-284104059.1431939,-254118120.87942219,-227297066.97622734,-203306857.76048961,-181848709.98254886,-162655375.65523157,-145487813.6451087,{"$f":"IF(U240=\"\",\"\",SUM(G240:U240))","v":-5337147640.6474094},{"$f":"IF(C240=0,0,IF(V240=\"\",\"\",V240/(C240*1000)))","v":-106742.95281294819}]
[{"$f":"IF(ISBLANK(InfoPro!A234),\"\",InfoPro!A234)","v":"SC_482_A1"},{"$f":"IF(ISBLANK(InfoPro!B234),\"\",InfoPro!B234)","v":"La Santa Maria - 99.9MW"},{"$f":"IF(ISBLANK(InfoPro!E234),\"\",InfoPro!E234)","v":99.9},{"$f":"IF(ISBLANK(InfoPro!F234),\"\",InfoPro!F234)","v":"Solar FV"},{"$f":"IF(ISBLANK(InfoPro!I234),\"\",YEAR(InfoPro!I234)-$F$3)","v":2},{"$f":"IF(ISBLANK(InfoPro!P234),\"\",InfoPro!P234)","v":-22.887799999999999},-3516823586.5540628,-3145638270.6208081,-2813629937.9434776,-2516663629.645329,-2251040813.6362514,-2013453321.6782215,-1800942148.1916113,-1610860597.6669157,-1440841321.7056489,-1288766835.1571105,-1152743144.1476836,-1031076157.5560677,-922250588.15390682,-824911080.63855708,-737845331.51928174,-27067486764.814938,-270945.81346161099]
[{"$f":"IF(ISBLANK(InfoPro!A235),\"\",InfoPro!A235)","v":"SC_482_A2"},{"$f":"IF(ISBLANK(InfoPro!B235),\"\",InfoPro!B235)","v":"La Santa Maria - 99.9MW"},{"$f":"IF(ISBLANK(InfoPro!E235),\"\",InfoPro!E235)","v":99.9},{"$f":"IF(ISBLANK(InfoPro!F235),\"\",InfoPro!F235)","v":"Solar FV"},{"$f":"IF(ISBLANK(InfoPro!I235),\"\",YEAR(InfoPro!I235)-$F$3)","v":2},{"$f":"IF(ISBLANK(InfoPro!P235),\"\",InfoPro!P235)","v":-31.275772},-4805676939.5611258,-4298458801.0385752,-3844775313.9879918,-3438976130.5795994,-3076007272.4325576,-2751348186.4334154,-2460955444.037044,-2201212382.8596101,-1968884063.3806887,-1761076979.7680585,-1575203023.0483527,-1408947247.8071136,-1260239040.9723737,-1127226333.6067743,-1008252534.5319983,-36987239694.045273,-370242.63958003279]
[{"$f":"IF(ISBLANK(InfoPro!A236),\"\",InfoPro!A236)","v":"SC_497_A1"},{"$f":"IF(ISBLANK(InfoPro!B236),\"\",InfoPro!B236)","v":"Portugal II - 9.9 MW"},{"$f":"IF(ISBLANK(InfoPro!E236),\"\",InfoPro!E236)","v":9.9},{"$f":"IF(ISBLANK(InfoPro!F236),\"\",InfoPro!F236)","v":"Solar FV"},{"$f":"IF(ISBLANK(InfoPro!I236),\"\",YEAR(InfoPro!I236)-$F$3)","v":2},{"$f":"IF(ISBLANK(InfoPro!P236),\"\",InfoPro!P236)","v":1.4448700000000001},222011416.36611512,198579084.40618527,177619932.38478112,158872926.99890977,142104585.86664557,127106069.64816245,113690581.0806462,101691038.53367282,90957995.110619679,81357777.379802972,72770820.554385483,65090179.386749081,58220196.23143927,52075309.688228332,46578988.987681851,1708726902.6240251,172598.67703272981]
[{"$f":"IF(ISBLANK(InfoPro!A237),\"\",InfoPro!A237)","v":"SC_502_A1"},{"$f":"IF(ISBLANK(InfoPro!B237),\"\",InfoPro!B237)","v":"RUBÍ 40 MW"},{"$f":"IF(ISBLANK(InfoPro!E237),\"\",InfoPro!E237)","v":40},{"$f":"IF(ISBLANK(InfoPro!F237),\"\",InfoPro!F237)","v":"Solar FV"},{"$f":"IF(ISBLANK(InfoPro!I237),\"\",YEAR(InfoPro!I237)-$F$3)","v":3},{"$f":"IF(ISBLANK(InfoPro!P237),\"\",InfoPro!P237)","v":-2.34},-321603367.43822867,-287659541.53687721,-257298337.68951449,-230141625.84035286,-205851185.90371457,-184124495.44160518,-164690961.93345723,-147308552.71328911,-131760780.60222644,-117854007.69429915,-105415033.71583107,-94288938.92292583,-84337154.671668917,-75435737.631188646,-67473826.145964801,-2475243547.8811445,-61881.088697028616]
[{"$f":"IF(ISBLANK(InfoPro!A238),\"\",InfoPro!A238)","v":"SC_507_A1"},{"$f":"IF(ISBLANK(InfoPro!B238),\"\",InfoPro!B238)","v":"PARQUE FOTOVOLTAICO CATAY 2"},{"$f":"IF(ISBLANK(InfoPro!E238),\"\",InfoPro!E238)","v":100},{"$f":"IF(ISBLANK(InfoPro!F238),\"\",InfoPro!F238)","v":"Solar FV"},{"$f":"IF(ISBLANK(InfoPro!I238),\"\",YEAR(InfoPro!I238)-$F$3)","v":4},{"$f":"IF(ISBLANK(InfoPro!P238),\"\",InfoPro!P238)","v":-24.494240000000001},-3011111901.1513844,-2693302237.1658182,-2409035990.3093185,-2154772799.91889,-1927345974.8827279,-1723923054.4568231,-1541970531.7145107,-1379222300.2813158,-1233651431.3786366,-1103444929.6767771,-986981153.55704582,-882809618.56623065,-789632932.52793431,-706290637.32373381,-631744756.10351861,-23175240249.014664,-231752.40249014663]
[{"$f":"IF(ISBLANK(InfoPro!A239),\"\",InfoPro!A239)","v":"SC_507_A2"},{"$f":"IF(ISBLANK(InfoPro!B239),\"\",InfoPro!B239)","v":"PARQUE FOTOVOLTAICO CATAY 2"},{"$f":"IF(ISBLANK(InfoPro!E239),\"\",InfoPro!E239)","v":100},{"$f":"IF(ISBLANK(InfoPro!F239),\"\",InfoPro!F239)","v":"Solar FV"},{"$f":"IF(ISBLANK(InfoPro!I239),\"\",YEAR(InfoPro!I239)-$F$3)","v":4},{"$f":"IF(ISBLANK(InfoPro!P239),\"\",InfoPro!P239)","v":-23.501439999999999},-2889065579.4258237,-2584137369.7905402,-2311392996.2348299,-2067435595.9166639,-1849226829.9791272,-1654049042.9151409,-1479471415.8453851,-1323319692.1693969,-1183649098.5414996,-1058720123.9190518,-946976855.0259856,-847027598.41322517,-757627547.77569318,-677663280.65804398,-606138891.4651556,-22235901918.075558,-222359.01918075557]
[{"$f":"IF(ISBLANK(InfoPro!A240),\"\",InfoPro!A240)","v":"SC_543_A1"},{"$f":"IF(ISBLANK(InfoPro!B240),\"\",InfoPro!B240)","v":"Sabana I 350 MW"},{"$f":"IF(ISBLANK(InfoPro!E240),\"\",InfoPro!E240)","v":350},{"$f":"IF(ISBLANK(InfoPro!F240),\"\",InfoPro!F240)","v":"Solar FV"},{"$f":"IF(ISBLANK(InfoPro!I240),\"\",YEAR(InfoPro!I240)-$F$3)","v":4},{"$f":"IF(ISBLANK(InfoPro!P240),\"\",InfoPro!P240)","v":-20.49},-2518864959.8677835,-2253009803.1017742,-2015214492.9353974,-1802517435.5415006,-1612269620.3412349,-1442101628.2121959,-1289894121.8355956,-1153751450.6579571,-1031978041.7334142,-923057282.40913618,-825632631.85074806,-738490726.16345978,-660546266.69361329,-590828503.30376863,-528469144.27886283,-19386626108.926441,-55390.360311218406]
[{"$f":"IF(ISBLANK(InfoPro!A241),\"\",InfoPro!A241)","v":"SC_56_A2"},{"$f":"IF(ISBLANK(InfoPro!B241),\"\",InfoPro!B241)","v":"PV LATAMSOLAR LA LOMA 200 MW"},{"$f":"IF(ISBLANK(InfoPro!E241),\"\",InfoPro!E241)","v":200},{"$f":"IF(ISBLANK(InfoPro!F241),\"\",InfoPro!F241)","v":"Solar FV"},{"$f":"IF(ISBLANK(InfoPro!I241),\"\",YEAR(InfoPro!I241)-$F$3)","v":1},{"$f":"IF(ISBLANK(InfoPro!P241),\"\",InfoPro!P241)","v":-76.19},-13088392513.416817,-11706970047.778906,-10471350668.854122,-9366145499.8695183,-8377589892.5487652,-7493371996.9130278,-6702479424.7880411,-5995062097.3059397,-5362309568.252183,-4796341295.3955116,-4290108493.1981335,-3837306344.5421586,-3432295478.1235766,-3070031733.563128,-2746003339.501904,-100735758394.05174,-503678.7919702587]
[{"$f":"IF(ISBLANK(InfoPro!A242),\"\",InfoPro!A242)","v":"SC_587_A1"},{"$f":"IF(ISBLANK(InfoPro!B242),\"\",InfoPro!B242)","v":"Cactus del Cesar - El Paso"},{"$f":"IF(ISBLANK(InfoPro!E242),\"\",InfoPro!E242)","v":19.899999999999999},{"$f":"IF(ISBLANK(InfoPro!F242),\"\",InfoPro!F242)","v":"Solar FV"},{"$f":"IF(ISBLANK(InfoPro!I242),\"\",YEAR(InfoPro!I242)-$F$3)","v":6},{"$f":"IF(ISBLANK(InfoPro!P242),\"\",InfoPro!P242)","v":-0.19900000000000001},{"$f":"IF($F249=\"\",\"\",(1/(1+$C$3)^(G$6+$E249))*$F249*$C$2)","v":-19571873.308645397},-17506147.861042395,-15658450.680717707,-14005769.839640168,-12527522.217925014,-11205297.153779088,-10022627.150070738,-8964782.7818164043,-8018589.2502830094,-7172262.2990009049,-6415261.4481224529,-5738158.7192508532,-5132521.2157878829,-4590806.0964113455,-4106266.6336416323,-150636336.65613499,-7569.6651585997488]
[{"$f":"IF(ISBLANK(InfoPro!A243),\"\",InfoPro!A243)","v":"SC_587_A2"},{"$f":"IF(ISBLANK(InfoPro!B243),\"\",InfoPro!B243)","v":"Cactus del Cesar - El Paso"},{"$f":"IF(ISBLANK(InfoPro!E243),\"\",InfoPro!E243)","v":19.899999999999999},{"$f":"IF(ISBLANK(InfoPro!F243),\"\",InfoPro!F243)","v":"Solar FV"},{"$f":"IF(ISBLANK(InfoPro!I243),\"\",YEAR(InfoPro!I243)-$F$3)","v":6},{"$f":"IF(ISBLANK(InfoPro!P243),\"\",InfoPro!P243)","v":-0.22700000000000001},-22325704.72895731,-19969324.444505647,-17861649.771471959,-15976430.922604613,-14290188.660648134,-12781921.878933934,-11432846.045558078,-10226159.253629768,-9146832.9638906699,-8181424.833533695,-7317911.3001195826,-6545537.8355273549,-5854685.0049439669,-5236748.6627405807,-4684032.7931489982,-171831399.1002143,-8634.743673377603]
[{"$f":"IF(ISBLANK(InfoPro!A244),\"\",InfoPro!A244)","v":"SC_599_A1"},{"$f":"IF(ISBLANK(InfoPro!B244),\"\",InfoPro!B244)","v":"La Fortuna - 19,9 MW"},{"$f":"IF(ISBLANK(InfoPro!E244),\"\",InfoPro!E244)","v":19.899999999999999},{"$f":"IF(ISBLANK(InfoPro!F244),\"\",InfoPro!F244)","v":"Solar FV"},{"$f":"IF(ISBLANK(InfoPro!I244),\"\",YEAR(InfoPro!I244)-$F$3)","v":2},{"$f":"IF(ISBLANK(InfoPro!P244),\"\",InfoPro!P244)","v":-1.96},-301163686.75215459,-269377179.56364459,-240945598.89413649,-215514846.95361045,-192768199.42183402,-172422360.84242761,-154223936.35279751,-137946275.80751121,-123386650.99061824,-110363730.76083924,-98715322.684113815,-88296353.026935428,-78977059.952536181,-70641377.417295337,-63185489.639799036,-2317928069.0602541,-116478.79744021378]
[{"$f":"IF(ISBLANK(InfoPro!A245),\"\",InfoPro!A245)","v":"SC_599_A2"},{"$f":"IF(ISBLANK(InfoPro!B245),\"\",InfoPro!B245)","v":"La Fortuna - 19,9 MW"},{"$f":"IF(ISBLANK(InfoPro!E245),\"\",InfoPro!E245)","v":19.899999999999999},{"$f":"IF(ISBLANK(InfoPro!F245),\"\",InfoPro!F245)","v":"Solar FV"},{"$f":"IF(ISBLANK(InfoPro!I245),\"\",YEAR(InfoPro!I245)-$F$3)","v":2},{"$f":"IF(ISBLANK(InfoPro!P245),\"\",InfoPro!P245)","v":-1.98},-304236785.59656429,-272125926.29388583,-243404227.4542807,-217713978.04497385,-194735221.86491397,-174181772.68775851,-155797649.98905054,-139353890.86677152,-124645698.44970617,-111489891.27880698,-99722621.895176202,-89197336.221087843,-79782948.319398791,-71362207.799104467,-63830239.534082696,-2341580396.2955627,-117667.35659776698]
[{"$f":"IF(ISBLANK(InfoPro!A246),\"\",InfoPro!A246)","v":"SC_623_A1"},{"$f":"IF(ISBLANK(InfoPro!B246),\"\",InfoPro!B246)","v":"TR SOLAR 6"},{"$f":"IF(ISBLANK(InfoPro!E246),\"\",InfoPro!E246)","v":120.3},{"$f":"IF(ISBLANK(InfoPro!F246),\"\",InfoPro!F246)","v":"Solar FV"},{"$f":"IF(ISBLANK(InfoPro!I246),\"\",YEAR(InfoPro!I246)-$F$3)","v":3},{"$f":"IF(ISBLANK(InfoPro!P246),\"\",InfoPro!P246)","v":-15.89},-2183879277.1766901,-1953380391.0346065,-1747209652.0881991,-1562799331.0270116,-1397852711.1153953,-1250315484.003037,-1118350164.5823231,-1000313206.2453692,-894734531.52537537,-800299223.18906546,-715831147.75408375,-640278307.4723469,-572699738.34735858,-512253791.00837076,-458187648.48691487,-16808384605.056149,-139720.57028309349]
[{"$f":"IF(ISBLANK(InfoPro!A247),\"\",InfoPro!A247)","v":"SC_623_A2"},{"$f":"IF(ISBLANK(InfoPro!B247),\"\",InfoPro!B247)","v":"TR SOLAR 6"},{"$f":"IF(ISBLANK(InfoPro!E247),\"\",InfoPro!E247)","v":120.3},{"$f":"IF(ISBLANK(InfoPro!F247),\"\",InfoPro!F247)","v":"Solar FV"},{"$f":"IF(ISBLANK(InfoPro!I247),\"\",YEAR(InfoPro!I247)-$F$3)","v":3},{"$f":"IF(ISBLANK(InfoPro!P247),\"\",InfoPro!P247)","v":-13.16},-1808675348.4987564,-1617777592.5749164,-1447028258.1170988,-1294300767.5466001,-1157692994.2277284,-1035503572.6544976,-926210708.99328947,-828453228.07986534,-741013620.82277775,-662802880.8790499,-592846941.75228083,-530274545.39560002,-474306391.23041153,-424245430.43865067,-379468184.64995593,-13920600465.861477,-115715.71459568974]
[{"$f":"IF(ISBLANK(InfoPro!A248),\"\",InfoPro!A248)","v":"SC_628_A1"},{"$f":"IF(ISBLANK(InfoPro!B248),\"\",InfoPro!B248)","v":"TR Solar 13"},{"$f":"IF(ISBLANK(InfoPro!E248),\"\",InfoPro!E248)","v":110},{"$f":"IF(ISBLANK(InfoPro!F248),\"\",InfoPro!F248)","v":"Solar FV"},{"$f":"IF(ISBLANK(InfoPro!I248),\"\",YEAR(InfoPro!I248)-$F$3)","v":3},{"$f":"IF(ISBLANK(InfoPro!P248),\"\",InfoPro!P248)","v":-61.12},-8400170007.6173229,-7513568879.8008261,-6720544615.2064638,-6011220586.0522938,-5376762599.3312111,-4809268872.3892775,-4301671621.0995331,-3847649034.9727478,-3441546542.9094357,-3078306389.0066509,-2753404641.329742,-2462794849.1321483,-2202857646.8087196,-1970355676.930876,-1762393270.95785,-64652515233.545097,-587750.13848677359]
[{"$f":"IF(ISBLANK(InfoPro!A249),\"\",InfoPro!A249)","v":"SC_628_A2"},{"$f":"IF(ISBLANK(InfoPro!B249),\"\",InfoPro!B249)","v":"TR Solar 13"},{"$f":"IF(ISBLANK(InfoPro!E249),\"\",InfoPro!E249)","v":110},{"$f":"IF(ISBLANK(InfoPro!F249),\"\",InfoPro!F249)","v":"Solar FV"},{"$f":"IF(ISBLANK(InfoPro!I249),\"\",YEAR(InfoPro!I249)-$F$3)","v":3},{"$f":"IF(ISBLANK(InfoPro!P249),\"\",InfoPro!P249)","v":-58.52},-8042832932.6859589,-7193947166.9820747,-6434657573.3292274,-5755507668.4519024,-5148039059.4381952,-4604686099.676383,-4118681663.3956919,-3683972865.291316,-3295145675.5736294,-2947357491.568541,-2636276826.0899296,-2358029361.4400091,-2109149697.1735322,-1886538190.6739998,-1687422353.0178893,-61902244624.788277,-562747.67840716615]
[{"$f":"IF(ISBLANK(InfoPro!A250),\"\",InfoPro!A250)","v":"SC_657_A1"},{"$f":"IF(ISBLANK(InfoPro!B250),\"\",InfoPro!B250)","v":"TR Solar 7"},{"$f":"IF(ISBLANK(InfoPro!E250),\"\",InfoPro!E250)","v":99.9},{"$f":"IF(ISBLANK(InfoPro!F250),\"\",InfoPro!F250)","v":"Solar FV"},{"$f":"IF(ISBLANK(InfoPro!I250),\"\",YEAR(InfoPro!I250)-$F$3)","v":3},{"$f":"IF(ISBLANK(InfoPro!P250),\"\",InfoPro!P250)","v":-6.2},-852111486.37479401,-762174853.64471745,-681730638.32264531,-609776957.35478115,-545417672.05257714,-487851227.23844111,-436360668.37069875,-390304712.31726176,-349109760.57000172,-312262755.42933959,-279304790.18724471,-249825393.72741035,-223457418.36083221,-199872467.22793573,-178776804.31836829,-6558337605.4970484,-65649.025080050531]
[{"$f":"IF(ISBLANK(InfoPro!A251),\"\",InfoPro!A251)","v":"SC_657_A2"},{"$f":"IF(ISBLANK(InfoPro!B251),\"\",InfoPro!B251)","v":"TR Solar 7"},{"$f":"IF(ISBLANK(InfoPro!E251),\"\",InfoPro!E251)","v":99.9},{"$f":"IF(ISBLANK(InfoPro!F251),\"\",InfoPro!F251)","v":"Solar FV"},{"$f":"IF(ISBLANK(InfoPro!I251),\"\",YEAR(InfoPro!I251)-$F$3)","v":3},{"$f":"IF(ISBLANK(InfoPro!P251),\"\",InfoPro!P251)","v":-6.58},-904337674.2493782,-808888796.28745818,-723514129.0585494,-647150383.77330005,-578846497.11386418,-517751786.32724881,-463105354.49664474,-414226614.03993267,-370506810.41138887,-331401440.43952495,-296423470.87614042,-265137272.69780001,-237153195.61520576,-212122715.21932533,-189734092.32497796,-6960300232.9307384,-69672.675004311692]
[{"$f":"IF(ISBLANK(InfoPro!A252),\"\",InfoPro!A252)","v":"SC_658_A1"},{"$f":"IF(ISBLANK(InfoPro!B252),\"\",InfoPro!B252)","v":"TR Solar 8"},{"$f":"IF(ISBLANK(InfoPro!E252),\"\",InfoPro!E252)","v":200},{"$f":"IF(ISBLANK(InfoPro!F252),\"\",InfoPro!F252)","v":"Solar FV"},{"$f":"IF(ISBLANK(InfoPro!I252),\"\",YEAR(InfoPro!I252)-$F$3)","v":3},{"$f":"IF(ISBLANK(InfoPro!P252),\"\",InfoPro!P252)","v":-15.21},-2090421888.3484869,-1869787019.9897017,-1672439194.9818447,-1495920567.9622939,-1338032708.3741448,-1196809220.3704338,-1070491252.5674722,-957505592.63637936,-856445073.91447198,-766051050.01294446,-685197719.15290201,-612878102.99901807,-548191505.36584806,-490332294.60272622,-438579869.94877124,-16089083061.22744,-80445.415306137205]
[{"$f":"IF(ISBLANK(InfoPro!A253),\"\",InfoPro!A253)","v":"SC_658_A2"},{"$f":"IF(ISBLANK(InfoPro!B253),\"\",InfoPro!B253)","v":"TR Solar 8"},{"$f":"IF(ISBLANK(InfoPro!E253),\"\",InfoPro!E253)","v":200},{"$f":"IF(ISBLANK(InfoPro!F253),\"\",InfoPro!F253)","v":"Solar FV"},{"$f":"IF(ISBLANK(InfoPro!I253),\"\",YEAR(InfoPro!I253)-$F$3)","v":3},{"$f":"IF(ISBLANK(InfoPro!P253),\"\",InfoPro!P253)","v":-15.42},-2119283729.0160201,-1895602619.8712165,-1695530071.4411597,-1516574303.6146331,-1356506532.7501192,-1213333213.5510905,-1085271210.6897054,-970725590.95680261,-868269759.3531332,-776627691.72909939,-694658042.69150233,-621339930.85107541,-555760224.37484396,-497102168.49270463,-444635213.32084501,-16311220302.703951,-81556.101513519752]
[{"$f":"IF(ISBLANK(InfoPro!A254),\"\",InfoPro!A254)","v":"SC_72_A1"},{"$f":"IF(ISBLANK(InfoPro!B254),\"\",InfoPro!B254)","v":"Santa Marta III"},{"$f":"IF(ISBLANK(InfoPro!E254),\"\",InfoPro!E254)","v":50},{"$f":"IF(ISBLANK(InfoPro!F254),\"\",InfoPro!F254)","v":"Solar FV"},{"$f":"IF(ISBLANK(InfoPro!I254),\"\",YEAR(InfoPro!I254)-$F$3)","v":2},{"$f":"IF(ISBLANK(InfoPro!P254),\"\",InfoPro!P254)","v":-4.5129999999999999},-693444754.24105787,-620254699.6789428,-554789534.59654999,-496233930.76614493,-443858614.28098828,-397011282.89891618,-355108482.0204975,-317628338.12209082,-284104059.1431939,-254118120.87942219,-227297066.97622734,-203306857.76048961,-181848709.98254886,-162655375.65523157,-145487813.6451087,-5337147640.6474094,-106742.95281294819]
[{"$f":"IF(ISBLANK(InfoPro!A255),\"\",InfoPro!A255)","v":"SC_735_A1"},{"$f":"IF(ISBLANK(InfoPro!B255),\"\",InfoPro!B255)","v":"EGINA 60"},{"$f":"IF(ISBLANK(InfoPro!E255),\"\",InfoPro!E255)","v":60},{"$f":"IF(ISBLANK(InfoPro!F255),\"\",InfoPro!F255)","v":"Solar FV"},{"$f":"IF(ISBLANK(InfoPro!I255),\"\",YEAR(InfoPro!I255)-$F$3)","v":3},{"$f":"IF(ISBLANK(InfoPro!P255),\"\",InfoPro!P255)","v":-2.51729},-345969632.82845247,-309454054.4082759,-276792535.24890512,-247578296.28703499,-221447492.20665029,-198074679.97017023,-177168765.62627035,-158469378.91437417,-141743630.51375154,-126783211.55076165,-113401799.24039507,-101432736.35097948,-90726955.591215998,-81151123.069066182,-72585977.700416982,-2662780269.5067201,-44379.671158445337]
[{"$f":"IF(ISBLANK(InfoPro!A256),\"\",InfoPro!A256)","v":"SC_735_A2"},{"$f":"IF(ISBLANK(InfoPro!B256),\"\",InfoPro!B256)","v":"EGINA 60"},{"$f":"IF(ISBLANK(InfoPro!E256),\"\",InfoPro!E256)","v":60},{"$f":"IF(ISBLANK(InfoPro!F256),\"\",InfoPro!F256)","v":"Solar FV"},{"$f":"IF(ISBLANK(InfoPro!I256),\"\",YEAR(InfoPro!I256)-$F$3)","v":3},{"$f":"IF(ISBLANK(InfoPro!P256),\"\",InfoPro!P256)","v":-3.1475},-432584016.67172003,-386926669.65270132,-346088255.50331068,-309560156.97970539,-276887439.15894943,-247663183.5053215,-221523419.95109257,-198142593.87396473,-177229511.51517424,-158523713.34094298,-141792230.17973435,-126826681.73500389,-113440681.33721279,-101467514.61289157,-90758063.160010353,-3329414131.1777358,-55490.235519628928]
[{"$f":"IF(ISBLANK(InfoPro!A257),\"\",InfoPro!A257)","v":"SC_758_A1"},{"$f":"IF(ISBLANK(InfoPro!B257),\"\",InfoPro!B257)","v":"JAMAICA 19.9"},{"$f":"IF(ISBLANK(InfoPro!E257),\"\",InfoPro!E257)","v":19.899999999999999},{"$f":"IF(ISBLANK(InfoPro!F257),\"\",InfoPro!F257)","v":"Solar FV"},{"$f":"IF(ISBLANK(InfoPro!I257),\"\",YEAR(InfoPro!I257)-$F$3)","v":2},{"$f":"IF(ISBLANK(InfoPro!P257),\"\",InfoPro!P257)","v":-0.86190999999999995},-132436731.24925996,-118458614.7131127,-105955827.1136965,-94772653.947850198,-84769815.695751518,-75822733.180457532,-67819976.011142701,-60661874.786353052,-54259279.773124367,-48532450.602079056,-43410063.150339045,-38828321.243594855,-34730162.114127778,-31064545.719255622,-27785819.069101624,-1019308868.3692464,-51221.551174333988]
[{"$f":"IF(ISBLANK(InfoPro!A258),\"\",InfoPro!A258)","v":"SC_758_A2"},{"$f":"IF(ISBLANK(InfoPro!B258),\"\",InfoPro!B258)","v":"JAMAICA 19.9"},{"$f":"IF(ISBLANK(InfoPro!E258),\"\",InfoPro!E258)","v":19.899999999999999},{"$f":"IF(ISBLANK(InfoPro!F258),\"\",InfoPro!F258)","v":"Solar FV"},{"$f":"IF(ISBLANK(InfoPro!I258),\"\",YEAR(InfoPro!I258)-$F$3)","v":2},{"$f":"IF(ISBLANK(InfoPro!P258),\"\",InfoPro!P258)","v":-0.89695000000000003},-137820800.42466584,-123274418.9844954,-110263344.35106926,-98625531.619918823,-88216039.01602757,-78905222.733477265,-70577122.301858023,-63128016.370177127,-56465130.921446443,-50505483.829558551,-45174851.36812035,-40406843.799749866,-36142078.532871082,-32327440.548185229,-28915420.883886602,-1060747745.6855074,-53303.906818367206]
[{"$f":"IF(ISBLANK(InfoPro!A259),\"\",InfoPro!A259)","v":"SC_768_A1"},{"$f":"IF(ISBLANK(InfoPro!B259),\"\",InfoPro!B259)","v":"RODAS 19.9"},{"$f":"IF(ISBLANK(InfoPro!E259),\"\",InfoPro!E259)","v":19.899999999999999},{"$f":"IF(ISBLANK(InfoPro!F259),\"\",InfoPro!F259)","v":"Solar FV"},{"$f":"IF(ISBLANK(InfoPro!I259),\"\",YEAR(InfoPro!I259)-$F$3)","v":2},{"$f":"IF(ISBLANK(InfoPro!P259),\"\",InfoPro!P259)","v":-6.9999999999999999E-4},{"$f":"IF($F266=\"\",\"\",(1/(1+$C$3)^(G$6+$E266))*$F266*$C$2)","v":-107558.45955434092},-96206.135558444483,-86051.999605048739,-76969.588197718025,-68845.78550779786,-61579.41458658129,-55079.977268856252,-49266.527074111138,-44066.661068077941,-39415.61812887116,-35255.472387183501,-31534.411795334083,-28206.09284019149,-25229.063363319761,-22566.246299928229,-827831.4532358048,-41.59957051436205]
[{"$f":"IF(ISBLANK(InfoPro!A260),\"\",InfoPro!A260)","v":"SC_768_A2"},{"$f":"IF(ISBLANK(InfoPro!B260),\"\",InfoPro!B260)","v":"RODAS 19.9"},{"$f":"IF(ISBLANK(InfoPro!E260),\"\",InfoPro!E260)","v":19.899999999999999},{"$f":"IF(ISBLANK(InfoPro!F260),\"\",InfoPro!F260)","v":"Solar FV"},{"$f":"IF(ISBLANK(InfoPro!I260),\"\",YEAR(InfoPro!I260)-$F$3)","v":2},{"$f":"IF(ISBLANK(InfoPro!P260),\"\",InfoPro!P260)","v":-5.5000000000000003E-4},-84510.218221267874,-75590.535081634953,-67612.285403966875,-60476.105012492728,-54093.117184698334,-48383.825746599592,-43277.12499695849,-38709.414129658755,-34623.805124918385,-30969.414244113057,-27700.728304215612,-24777.037839191067,-22161.930088721889,-19822.835499751243,-17730.62209280075,-650438.99897098972,-32.685376832713054]
[{"$f":"IF(ISBLANK(InfoPro!A261),\"\",InfoPro!A261)","v":"SC_807_A2"},{"$f":"IF(ISBLANK(InfoPro!B261),\"\",InfoPro!B261)","v":"Parque Solar Fotovoltaico La Villa de 120 MW (entrega 100 MW)"},{"$f":"IF(ISBLANK(InfoPro!E261),\"\",InfoPro!E261)","v":100},{"$f":"IF(ISBLANK(InfoPro!F261),\"\",InfoPro!F261)","v":"Solar FV"},{"$f":"IF(ISBLANK(InfoPro!I261),\"\",YEAR(InfoPro!I261)-$F$3)","v":2},{"$f":"IF(ISBLANK(InfoPro!P261),\"\",InfoPro!P261)","v":-29.48227},-4530096493.3787985,-4051964663.1295161,-3624297551.9942007,-3241768830.0484796,-2899614338.14712,-2593572753.2621827,-2319832516.3346896,-2074984361.6589353,-1855978856.5822315,-1660088422.703249,-1484873365.5664122,-1328151489.7731774,-1187970921.0851319,-1062585797.0350019,-950434523.2871213,-34866214883.986252,-348662.14883986249]
[{"$f":"IF(ISBLANK(InfoPro!A262),\"\",InfoPro!A262)","v":"SC_821_A1"},{"$f":"IF(ISBLANK(InfoPro!B262),\"\",InfoPro!B262)","v":"SPK SOLAR DEL CESAR - 65 MW"},{"$f":"IF(ISBLANK(InfoPro!E262),\"\",InfoPro!E262)","v":65},{"$f":"IF(ISBLANK(InfoPro!F262),\"\",InfoPro!F262)","v":"Solar FV"},{"$f":"IF(ISBLANK(InfoPro!I262),\"\",YEAR(InfoPro!I262)-$F$3)","v":3},{"$f":"IF(ISBLANK(InfoPro!P262),\"\",InfoPro!P262)","v":-3.9655100000000001},-545009132.31195307,-487485807.07688117,-436033816.70561826,-390012358.41289645,-348848263.33890563,-312028858.08488882,-279095579.68236923,-249638264.4743911,-223290039.78031412,-199722754.72300008,-178642893.31216466,-159787918.88386825,-142923004.36839736,-127838107.66404054,-114345355.69234398,-4194702154.5120325,-64533.879300185115]
[{"$f":"IF(ISBLANK(InfoPro!A263),\"\",InfoPro!A263)","v":"SC_821_A2"},{"$f":"IF(ISBLANK(InfoPro!B263),\"\",InfoPro!B263)","v":"SPK SOLAR DEL CESAR - 65 MW"},{"$f":"IF(ISBLANK(InfoPro!E263),\"\",InfoPro!E263)","v":65},{"$f":"IF(ISBLANK(InfoPro!F263),\"\",InfoPro!F263)","v":"Solar FV"},{"$f":"IF(ISBLANK(InfoPro!I263),\"\",YEAR(InfoPro!I263)-$F$3)","v":3},{"$f":"IF(ISBLANK(InfoPro!P263),\"\",InfoPro!P263)","v":-4.5756199999999998},-628861025.69132817,-562487500.61836159,-503119410.21320355,-450017361.55027157,-402520001.38664722,-360035779.41560578,-322035580.87263489,-288046136.73759824,-257644129.4611792,-230450920.80606368,-206127836.14138076,-184371946.4591957,-164912295.58067593,-147506525.56411085,-131937858.28632458,-4840074308.7845821,-74462.681673608953]
[{"$f":"IF(ISBLANK(InfoPro!A264),\"\",InfoPro!A264)","v":"SC_822_A1"},{"$f":"IF(ISBLANK(InfoPro!B264),\"\",InfoPro!B264)","v":"SANTA MARTA IV 50 MW"},{"$f":"IF(ISBLANK(InfoPro!E264),\"\",InfoPro!E264)","v":50},{"$f":"IF(ISBLANK(InfoPro!F264),\"\",InfoPro!F264)","v":"Solar FV"},{"$f":"IF(ISBLANK(InfoPro!I264),\"\",YEAR(InfoPro!I264)-$F$3)","v":2},{"$f":"IF(ISBLANK(InfoPro!P264),\"\",InfoPro!P264)","v":-4.5129999999999999},-693444754.24105787,-620254699.6789428,-554789534.59654999,-496233930.76614493,-443858614.28098828,-397011282.89891618,-355108482.0204975,-317628338.12209082,-284104059.1431939,-254118120.87942219,-227297066.97622734,-203306857.76048961,-181848709.98254886,-162655375.65523157,-145487813.6451087,-5337147640.6474094,-106742.95281294819]
[{"$f":"IF(ISBLANK(InfoPro!A265),\"\",InfoPro!A265)","v":"SC_825_A1"},{"$f":"IF(ISBLANK(InfoPro!B265),\"\",InfoPro!B265)","v":"OWF GOLETA"},{"$f":"IF(ISBLANK(InfoPro!E265),\"\",InfoPro!E265)","v":325},{"$f":"IF(ISBLANK(InfoPro!F265),\"\",InfoPro!F265)","v":"Eólico Offshore"},{"$f":"IF(ISBLANK(InfoPro!I265),\"\",YEAR(InfoPro!I265)-$F$3)","v":9},{"$f":"IF(ISBLANK(InfoPro!P265),\"\",InfoPro!P265)","v":-68.13279},-4795237061.6710415,-4289120806.5036144,-3836422903.8493881,-3431505280.7239604,-3069324938.0357432,-2745371143.1446719,-2455609251.4710846,-2196430457.4875526,-1964606849.2733033,-1757251206.8634195,-1571781043.7061002,-1405886443.3864939,-1257501291.043376,-1124777541.1836996,-1006062201.4165468,-36906888419.760002,-113559.65667618462]
[{"$f":"IF(ISBLANK(InfoPro!A266),\"\",InfoPro!A266)","v":"SC_825_A2"},{"$f":"IF(ISBLANK(InfoPro!B266),\"\",InfoPro!B266)","v":"OWF GOLETA"},{"$f":"IF(ISBLANK(InfoPro!E266),\"\",InfoPro!E266)","v":325},{"$f":"IF(ISBLANK(InfoPro!F266),\"\",InfoPro!F266)","v":"Eólico Offshore"},{"$f":"IF(ISBLANK(InfoPro!I266),\"\",YEAR(InfoPro!I266)-$F$3)","v":9},{"$f":"IF(ISBLANK(InfoPro!P266),\"\",InfoPro!P266)","v":-62.436579999999999},-4394333512.8355799,-3930530870.1570482,-3515680563.6467352,-3144615888.771677,-2812715464.0176001,-2515845674.4343476,-2250309190.0128336,-2012798917.7216754,-1800356813.7045398,-1610337042.6695347,-1440373025.6435914,-1288347965.691942,-1152368484.5187321,-1030741041.6088839,-921950842.22619295,-33821305297.660912,-104065.55476203357]
[{"$f":"IF(ISBLANK(InfoPro!A267),\"\",InfoPro!A267)","v":"SC_833_A1"},{"$f":"IF(ISBLANK(InfoPro!B267),\"\",InfoPro!B267)","v":"LOMERO SOLAR"},{"$f":"IF(ISBLANK(InfoPro!E267),\"\",InfoPro!E267)","v":200},{"$f":"IF(ISBLANK(InfoPro!F267),\"\",InfoPro!F267)","v":"Solar FV"},{"$f":"IF(ISBLANK(InfoPro!I267),\"\",YEAR(InfoPro!I267)-$F$3)","v":4},{"$f":"IF(ISBLANK(InfoPro!P267),\"\",InfoPro!P267)","v":-42.93},-5277446204.3496323,-4720434887.6114779,-4222213674.0710893,-3776577526.0027637,-3377976320.2171416,-3021445724.7022729,-2702545370.9322658,-2417303551.8177695,-2162167756.5454111,-1933960426.2481318,-1729839379.4706013,-1547262414.5533104,-1383955648.0798841,-1237885195.0625081,-1107231838.1596673,-40618245917.823929,-203091.22958911964]
[{"$f":"IF(ISBLANK(InfoPro!A268),\"\",InfoPro!A268)","v":"SC_846_A1"},{"$f":"IF(ISBLANK(InfoPro!B268),\"\",InfoPro!B268)","v":"Parque Eólico El Ahumado_de 50MW a 60MW _Es decir 10MW"},{"$f":"IF(ISBLANK(InfoPro!E268),\"\",InfoPro!E268)","v":10},{"$f":"IF(ISBLANK(InfoPro!F268),\"\",InfoPro!F268)","v":"Eólico Onshore"},{"$f":"IF(ISBLANK(InfoPro!I268),\"\",YEAR(InfoPro!I268)-$F$3)","v":2},{"$f":"IF(ISBLANK(InfoPro!P268),\"\",InfoPro!P268)","v":-0.53818999999999995},-82695553.353643894,-73967400.137427479,-66160465.23920168,-59177518.103042647,-52931590.432059616,-47344893.051931687,-42347847.094751067,-37878217.437165529,-33880337.600326948,-30304416.458253097,-27105918.120083269,-24245007.26304407,-21686053.008089513,-19397185.159292948,-17349897.280226246,-636472299.7385397,-63647.229973853973]
[{"$f":"IF(ISBLANK(InfoPro!A269),\"\",InfoPro!A269)","v":"SC_878_A1"},{"$f":"IF(ISBLANK(InfoPro!B269),\"\",InfoPro!B269)","v":"PARQUE SOLAR EL PROGRESO"},{"$f":"IF(ISBLANK(InfoPro!E269),\"\",InfoPro!E269)","v":19.899999999999999},{"$f":"IF(ISBLANK(InfoPro!F269),\"\",InfoPro!F269)","v":"Solar FV"},{"$f":"IF(ISBLANK(InfoPro!I269),\"\",YEAR(InfoPro!I269)-$F$3)","v":1},{"$f":"IF(ISBLANK(InfoPro!P269),\"\",InfoPro!P269)","v":0.3644},62598900.536672637,55991860.945145473,50082165.424995951,44796212.365828231,40068168.484640636,35839148.912916489,32056483.821928889,28673062.452530313,25646746.379723001,22939844.704582285,20518644.637372356,18352991.62555667,16415913.797456771,14683286.044236828,13133529.556562459,481796959.69014907,24210.902496992414]
[{"$f":"IF(ISBLANK(InfoPro!A270),\"\",InfoPro!A270)","v":"SC_890_A1"},{"$f":"IF(ISBLANK(InfoPro!B270),\"\",InfoPro!B270)","v":"Fundación II - 100 MW"},{"$f":"IF(ISBLANK(InfoPro!E270),\"\",InfoPro!E270)","v":100},{"$f":"IF(ISBLANK(InfoPro!F270),\"\",InfoPro!F270)","v":"Solar FV"},{"$f":"IF(ISBLANK(InfoPro!I270),\"\",YEAR(InfoPro!I270)-$F$3)","v":4},{"$f":"IF(ISBLANK(InfoPro!P270),\"\",InfoPro!P270)","v":-5.88},-722836796.68240941,-646544540.86083138,-578304598.2655021,-517267082.52728283,-462671809.05839252,-413838827.42253363,-370159952.97185469,-331091192.28251773,-296145968.0523414,-264889059.08080631,-236931179.85760853,-211924132.25188601,-189556468.91939712,-169549614.4180654,-151654395.72277763,-5563365618.3742075,-55633.656183742074]
[{"$f":"IF(ISBLANK(InfoPro!A271),\"\",InfoPro!A271)","v":"SC_890_A2"},{"$f":"IF(ISBLANK(InfoPro!B271),\"\",InfoPro!B271)","v":"Fundación II - 100 MW"},{"$f":"IF(ISBLANK(InfoPro!E271),\"\",InfoPro!E271)","v":100},{"$f":"IF(ISBLANK(InfoPro!F271),\"\",InfoPro!F271)","v":"Solar FV"},{"$f":"IF(ISBLANK(InfoPro!I271),\"\",YEAR(InfoPro!I271)-$F$3)","v":4},{"$f":"IF(ISBLANK(InfoPro!P271),\"\",InfoPro!P271)","v":-3.89},-478203254.94805664,-427730997.27017587,-382585865.17904818,-342205603.91685885,-306087302.25121546,-273781129.02613193,-244884730.79260457,-219038220.74472684,-195919696.55163407,-175241231.26264226,-156745287.35477844,-140201509.26187697,-125403854.43817258,-112168027.22555688,-100329183.56489883,-3680525893.7883787,-36805.258937883787]
[{"$f":"IF(ISBLANK(InfoPro!A272),\"\",InfoPro!A272)","v":"SC_921_A1"},{"$f":"IF(ISBLANK(InfoPro!B272),\"\",InfoPro!B272)","v":"PARQUE SOLAR EL CIELO"},{"$f":"IF(ISBLANK(InfoPro!E272),\"\",InfoPro!E272)","v":9.9},{"$f":"IF(ISBLANK(InfoPro!F272),\"\",InfoPro!F272)","v":"Solar FV"},{"$f":"IF(ISBLANK(InfoPro!I272),\"\",YEAR(InfoPro!I272)-$F$3)","v":1},{"$f":"IF(ISBLANK(InfoPro!P272),\"\",InfoPro!P272)","v":0.17899999999999999},30749734.347048305,27504234.657467175,24601283.235659376,22004725.613291036,19682223.267702177,17604850.865565456,15746736.015711499,14084737.044464668,12598154.780379849,11268474.758837072,10079136.635811338,9015327.9390083533,8063799.5876640016,7212700.8834203947,6451431.9171917681,236667551.5492225,23905.813287800251]
[{"$f":"IF(ISBLANK(InfoPro!A273),\"\",InfoPro!A273)","v":"SC_944_A1"},{"$f":"IF(ISBLANK(InfoPro!B273),\"\",InfoPro!B273)","v":"DSE FUNDACION"},{"$f":"IF(ISBLANK(InfoPro!E273),\"\",InfoPro!E273)","v":99.9},{"$f":"IF(ISBLANK(InfoPro!F273),\"\",InfoPro!F273)","v":"Solar FV"},{"$f":"IF(ISBLANK(InfoPro!I273),\"\",YEAR(InfoPro!I273)-$F$3)","v":3},{"$f":"IF(ISBLANK(InfoPro!P273),\"\",InfoPro!P273)","v":-3.5199685029999999},-483775095.65867561,-432714754.6142,-387043608.77835423,-346192852.21677482,-309653713.96849269,-276971121.61761421,-247738033.64723992,-221590369.98858669,-198202477.62843183,-177283074.80181736,-158571623.25743949,-141835083.41452551,-126865011.99868116,-113474966.00955378,-101498180.68833077,-3723409968.2887182,-37271.371053941126]
[{"$f":"IF(ISBLANK(InfoPro!A274),\"\",InfoPro!A274)","v":"SC_951_A1"},{"$f":"IF(ISBLANK(InfoPro!B274),\"\",InfoPro!B274)","v":"SANTA ROSA SOLAR_100MW"},{"$f":"IF(ISBLANK(InfoPro!E274),\"\",InfoPro!E274)","v":100},{"$f":"IF(ISBLANK(InfoPro!F274),\"\",InfoPro!F274)","v":"Solar FV"},{"$f":"IF(ISBLANK(InfoPro!I274),\"\",YEAR(InfoPro!I274)-$F$3)","v":3},{"$f":"IF(ISBLANK(InfoPro!P274),\"\",InfoPro!P274)","v":-8.0890000000000004},-1111730615.046082,-994392321.15034187,-889438569.90191579,-795562227.10368145,-711594120.84408009,-636488480.18254042,-569309910.71783578,-509221744.82811779,-455475621.49205542,-407402165.91418195,-364402652.87493914,-325941549.9775843,-291539847.92270511,-260769094.74302775,-233246059.69859377,-8556514982.3976803,-85565.149823976797]
[{"$f":"IF(ISBLANK(InfoPro!A275),\"\",InfoPro!A275)","v":"SC_951_A2"},{"$f":"IF(ISBLANK(InfoPro!B275),\"\",InfoPro!B275)","v":"SANTA ROSA SOLAR_100MW"},{"$f":"IF(ISBLANK(InfoPro!E275),\"\",InfoPro!E275)","v":100},{"$f":"IF(ISBLANK(InfoPro!F275),\"\",InfoPro!F275)","v":"Solar FV"},{"$f":"IF(ISBLANK(InfoPro!I275),\"\",YEAR(InfoPro!I275)-$F$3)","v":3},{"$f":"IF(ISBLANK(InfoPro!P275),\"\",InfoPro!P275)","v":-3.2549999999999999},-447358530.34676689,-400141798.16347659,-357908585.11938882,-320132902.61126012,-286344277.82760298,-256121894.30018157,-229089350.89461678,-204909973.96656242,-183282624.29925087,-163937946.60040328,-146635014.8483035,-131158331.70689043,-117315144.63943689,-104933045.29466625,-93857822.267143354,-3443127242.8859506,-34431.272428859505]
[{"$f":"IF(ISBLANK(InfoPro!A276),\"\",InfoPro!A276)","v":"SC_963_A1"},{"$f":"IF(ISBLANK(InfoPro!B276),\"\",InfoPro!B276)","v":"Churuco Solar"},{"$f":"IF(ISBLANK(InfoPro!E276),\"\",InfoPro!E276)","v":60},{"$f":"IF(ISBLANK(InfoPro!F276),\"\",InfoPro!F276)","v":"Solar FV"},{"$f":"IF(ISBLANK(InfoPro!I276),\"\",YEAR(InfoPro!I276)-$F$3)","v":3},{"$f":"IF(ISBLANK(InfoPro!P276),\"\",InfoPro!P276)","v":-29.4},{"$f":"IF($F283=\"\",\"\",(1/(1+$C$3)^(G$6+$E283))*$F283*$C$2)","v":-4040657693.454668},-3614183983.4120469,-3232722704.3041563,-2891522991.3275104,-2586335412.6364136,-2313359045.2919626,-2069194137.112668,-1850799764.8592734,-1655455961.4125886,-1480729840.2617071,-1324445295.4040315,-1184655899.2880428,-1059620661.2594299,-947782344.59698546,-847748072.09032691,-31099213806.711811,-518320.23011186352]
[{"$f":"IF(ISBLANK(InfoPro!A277),\"\",InfoPro!A277)","v":"SC_984_A1"},{"$f":"IF(ISBLANK(InfoPro!B277),\"\",InfoPro!B277)","v":"Eupari"},{"$f":"IF(ISBLANK(InfoPro!E277),\"\",InfoPro!E277)","v":99},{"$f":"IF(ISBLANK(InfoPro!F277),\"\",InfoPro!F277)","v":"Eólico Onshore"},{"$f":"IF(ISBLANK(InfoPro!I277),\"\",YEAR(InfoPro!I277)-$F$3)","v":3},{"$f":"IF(ISBLANK(InfoPro!P277),\"\",InfoPro!P277)","v":12.928000000000001},1776789886.4279578,1589257501.2772431,1421518337.4572837,1271483307.2068727,1137283816.8218899,1017248494.4739623,909882374.3058697,813848277.55444515,727950158.81435192,651118210.03072619,582395536.70011294,520926240.33999372,465944758.80142558,416766331.66496015,372778471.97223634,{"$f":"IF(U284=\"\",\"\",SUM(G284:U284))","v":13675191703.849335},{"$f":"IF(C284=0,0,IF(V284=\"\",\"\",V284/(C284*1000)))","v":138133.24953383167}]
[{"$f":"IF(ISBLANK(InfoPro!A278),\"\",InfoPro!A278)","v":"SC_984_A2"},{"$f":"IF(ISBLANK(InfoPro!B278),\"\",InfoPro!B278)","v":"Eupari"},{"$f":"IF(ISBLANK(InfoPro!E278),\"\",InfoPro!E278)","v":99},{"$f":"IF(ISBLANK(InfoPro!F278),\"\",InfoPro!F278)","v":"Eólico Onshore"},{"$f":"IF(ISBLANK(InfoPro!I278),\"\",YEAR(InfoPro!I278)-$F$3)","v":3},{"$f":"IF(ISBLANK(InfoPro!P278),\"\",InfoPro!P278)","v":14.131},1942127002.2519703,1737144009.1699197,1553796072.6027904,1389799707.1581311,1243112439.318543,1111907369.6945825,994550420.1203779,889579982.21858478,795688713.97011197,711707257.57612872,636589675.82837987,569400425.60677993,509302706.26724505,455548037.80612254,407466939.0036875,14947720758.593351,150987.0783696298]
[{"$f":"IF(ISBLANK(InfoPro!A279),\"\",InfoPro!A279)","v":""},{"$f":"IF(ISBLANK(InfoPro!B279),\"\",InfoPro!B279)","v":""},{"$f":"IF(ISBLANK(InfoPro!E279),\"\",InfoPro!E279)","v":""},{"$f":"IF(ISBLANK(InfoPro!F279),\"\",InfoPro!F279)","v":""},{"$f":"IF(ISBLANK(InfoPro!I279),\"\",YEAR(InfoPro!I279)-$F$3)","v":""},{"$f":"IF(ISBLANK(InfoPro!P279),\"\",InfoPro!P279)","v":""},"","","","","","","","","","","","","","","","",""]
[{"$f":"IF(ISBLANK(InfoPro!A280),\"\",InfoPro!A280)","v":""},{"$f":"IF(ISBLANK(InfoPro!B280),\"\",InfoPro!B280)","v":""},{"$f":"IF(ISBLANK(InfoPro!E280),\"\",InfoPro!E280)","v":""},{"$f":"IF(ISBLANK(InfoPro!F280),\"\",InfoPro!F280)","v":""},{"$f":"IF(ISBLANK(InfoPro!I280),\"\",YEAR(InfoPro!I280)-$F$3)","v":""},{"$f":"IF(ISBLANK(InfoPro!P280),\"\",InfoPro!P280)","v":""},"","","","","","","","","","","","","","","","",""]

{"sheet":"EC-Mar","index":8,"n_rows":286,"n_cols":25,"rows_kept":286,"cut":false,"hidden":false,"merged":[]}
[]
[null,"Precio promedio de bolsa",{"$f":"'EC-RP'!C2","v":192057},"COP/MWh"]
[null,"Tasa de descuento",0.11799999999999999,null,null,"Año de Referencia",2023]
[null,null,null,null,null,"Mínimo",{"$f":"MIN(Y8:Y283)","v":{"$error":"#REF!"}}]
[]
[null,null,null,null,null,null,null,null,0,1,2,3,4,5,6,7,8,9,10,11,12,13,14]
["Codigo","Nombre","capacidad","Tecnologia","Año de entrada","FP","Precio de oferta promedio","Produccion media/a MWh/a","Flujo Descontado 0","Flujo Descontado 1","Flujo Descontado 2","Flujo Descontado 3","Flujo Descontado 4","Flujo Descontado 5","Flujo Descontado 6","Flujo Descontado 7","Flujo Descontado 8","Flujo Descontado 9","Flujo Descontado 10","Flujo Descontado 11","Flujo Descontado 12","Flujo Descontado 13","Flujo Descontado 14","VPN","Beneficio/kW"]
[{"$f":"IF(ISBLANK(InfoPro!A2),\"\",InfoPro!A2)","v":"\tSC_1373_A1"},{"$f":"IF(ISBLANK(InfoPro!B2),\"\",InfoPro!B2)","v":"Pétalo del Magdalena II Guacamayal"},{"$f":"IF(ISBLANK(InfoPro!E2),\"\",InfoPro!E2)","v":9.9},{"$f":"IF(ISBLANK(InfoPro!F2),\"\",InfoPro!F2)","v":"Solar FV"},{"$f":"IF(ISBLANK(InfoPro!I2),\"\",YEAR(InfoPro!I2)-$G$3)","v":3},{"$f":"IF(B8=\"\",\"\",VLOOKUP(D8,Tablas!$B$2:$E$13,2,FALSE))","v":0.26},{"$f":"IF(B8=\"\",\"\",VLOOKUP(D8,Tablas!$B$2:$H$13,7,FALSE))","v":83577.200000000012},{"$f":"IF(C8=\"\",\"\",+C8*F8*24*365)","v":22548.240000000005},{"$f":"IF($H8=\"\",\"\",(1/(1+$C$3)^(I$6+$E8))*$H8*($C$2 - $G8))","v":1750395200.8096051},{"$f":"IF($H8=\"\",\"\",(1/(1+$C$3)^(J$6+$E8))*$H8*($C$2 - $G8))","v":1565648659.0425808},1400401305.0470314,1252595085.0152338,1120389163.6987782,1002136997.9416621,896365830.00148666,801758345.26072145,717136265.88615525,641445676.10568452,573743896.33782172,513187742.69930387,459023025.67021811,410575157.12899649,367240748.77369994,{"$f":"IF(W8=\"\",\"\",SUM(I8:W8))","v":13472043099.41898},{"$f":"IF(C8=0,0,IF(X8=\"\",\"\",X8/(C8*1000)))","v":1360812.4342847455}]
[{"$f":"IF(ISBLANK(InfoPro!A3),\"\",InfoPro!A3)","v":"\tSC_1373_A2"},{"$f":"IF(ISBLANK(InfoPro!B3),\"\",InfoPro!B3)","v":"Pétalo del Magdalena II Guacamayal"},{"$f":"IF(ISBLANK(InfoPro!E3),\"\",InfoPro!E3)","v":9.9},{"$f":"IF(ISBLANK(InfoPro!F3),\"\",InfoPro!F3)","v":"Solar FV"},{"$f":"IF(ISBLANK(InfoPro!I3),\"\",YEAR(InfoPro!I3)-$G$3)","v":3},{"$f":"IF(B9=\"\",\"\",VLOOKUP(D9,Tablas!$B$2:$E$13,2,FALSE))","v":0.26},{"$f":"IF(B9=\"\",\"\",VLOOKUP(D9,Tablas!$B$2:$H$13,7,FALSE))","v":83577.200000000012},{"$f":"IF(C9=\"\",\"\",+C9*F9*24*365)","v":22548.240000000005},1750395200.8096051,1565648659.0425808,1400401305.0470314,1252595085.0152338,1120389163.6987782,1002136997.9416621,896365830.00148666,801758345.26072145,717136265.88615525,641445676.10568452,573743896.33782172,513187742.69930387,459023025.67021811,410575157.12899649,367240748.77369994,{"$f":"IF(W9=\"\",\"\",SUM(I9:W9))","v":13472043099.41898},{"$f":"IF(C9=0,0,IF(X9=\"\",\"\",X9/(C9*1000)))","v":1360812.4342847455}]
[{"$f":"IF(ISBLANK(InfoPro!A4),\"\",InfoPro!A4)","v":"SC_1012_A1"},{"$f":"IF(ISBLANK(InfoPro!B4),\"\",InfoPro!B4)","v":"PARQUE SOLAR FOTOVOLTAICO TUNA"},{"$f":"IF(ISBLANK(InfoPro!E4),\"\",InfoPro!E4)","v":100},{"$f":"IF(ISBLANK(InfoPro!F4),\"\",InfoPro!F4)","v":"Solar FV"},{"$f":"IF(ISBLANK(InfoPro!I4),\"\",YEAR(InfoPro!I4)-$G$3)","v":3},{"$f":"IF(B10=\"\",\"\",VLOOKUP(D10,Tablas!$B$2:$E$13,2,FALSE))","v":0.26},{"$f":"IF(B10=\"\",\"\",VLOOKUP(D10,Tablas!$B$2:$H$13,7,FALSE))","v":83577.200000000012},227760,17680759604.137424,15814632919.622025,14145467727.747787,12652475606.214479,11317062259.583612,10122595938.804665,9054200303.0453167,8098569144.0476894,7243800665.5167198,6479249253.5927715,5795392892.3012276,5183714572.7202396,4636596218.8910923,4147223809.3838015,3709502512.8656549,136081243428.47452,1360812.4342847452]
[{"$f":"IF(ISBLANK(InfoPro!A5),\"\",InfoPro!A5)","v":"SC_1012_A2"},{"$f":"IF(ISBLANK(InfoPro!B5),\"\",InfoPro!B5)","v":"PARQUE SOLAR FOTOVOLTAICO TUNA"},{"$f":"IF(ISBLANK(InfoPro!E5),\"\",InfoPro!E5)","v":100},{"$f":"IF(ISBLANK(InfoPro!F5),\"\",InfoPro!F5)","v":"Solar FV"},{"$f":"IF(ISBLANK(InfoPro!I5),\"\",YEAR(InfoPro!I5)-$G$3)","v":3},{"$f":"IF(B11=\"\",\"\",VLOOKUP(D11,Tablas!$B$2:$E$13,2,FALSE))","v":0.26},{"$f":"IF(B11=\"\",\"\",VLOOKUP(D11,Tablas!$B$2:$H$13,7,FALSE))","v":83577.200000000012},227760,17680759604.137424,15814632919.622025,14145467727.747787,12652475606.214479,11317062259.583612,10122595938.804665,9054200303.0453167,8098569144.0476894,7243800665.5167198,6479249253.5927715,5795392892.3012276,5183714572.7202396,4636596218.8910923,4147223809.3838015,3709502512.8656549,136081243428.47452,1360812.4342847452]
[{"$f":"IF(ISBLANK(InfoPro!A6),\"\",InfoPro!A6)","v":"SC_1077_A1"},{"$f":"IF(ISBLANK(InfoPro!B6),\"\",InfoPro!B6)","v":"Nevada I 90 MW"},{"$f":"IF(ISBLANK(InfoPro!E6),\"\",InfoPro!E6)","v":90},{"$f":"IF(ISBLANK(InfoPro!F6),\"\",InfoPro!F6)","v":"Eólico Onshore"},{"$f":"IF(ISBLANK(InfoPro!I6),\"\",YEAR(InfoPro!I6)-$G$3)","v":7},{"$f":"IF(B12=\"\",\"\",VLOOKUP(D12,Tablas!$B$2:$E$13,2,FALSE))","v":0.56999999999999995},{"$f":"IF(B12=\"\",\"\",VLOOKUP(D12,Tablas!$B$2:$H$13,7,FALSE))","v":83577.200000000012},449387.99999999994,22329434381.409203,19972660448.487663,17864633674.854797,15979099888.063324,14292575928.500294,12784057181.127274,11434755975.963573,10227867599.251856,9148361001.11973,8182791593.1303473,7319133804.231081,6546631309.6879072,5855663067.6993818,5237623495.2588387,4684815290.9291954,171860104639.71448,1909556.7182190497]
[{"$f":"IF(ISBLANK(InfoPro!A7),\"\",InfoPro!A7)","v":"SC_1077_A2"},{"$f":"IF(ISBLANK(InfoPro!B7),\"\",InfoPro!B7)","v":"Nevada I 90 MW"},{"$f":"IF(ISBLANK(InfoPro!E7),\"\",InfoPro!E7)","v":90},{"$f":"IF(ISBLANK(InfoPro!F7),\"\",InfoPro!F7)","v":"Eólico Onshore"},{"$f":"IF(ISBLANK(InfoPro!I7),\"\",YEAR(InfoPro!I7)-$G$3)","v":7},{"$f":"IF(B13=\"\",\"\",VLOOKUP(D13,Tablas!$B$2:$E$13,2,FALSE))","v":0.56999999999999995},{"$f":"IF(B13=\"\",\"\",VLOOKUP(D13,Tablas!$B$2:$H$13,7,FALSE))","v":83577.200000000012},449387.99999999994,22329434381.409203,19972660448.487663,17864633674.854797,15979099888.063324,14292575928.500294,12784057181.127274,11434755975.963573,10227867599.251856,9148361001.11973,8182791593.1303473,7319133804.231081,6546631309.6879072,5855663067.6993818,5237623495.2588387,4684815290.9291954,171860104639.71448,1909556.7182190497]
[{"$f":"IF(ISBLANK(InfoPro!A8),\"\",InfoPro!A8)","v":"SC_1135_A1"},{"$f":"IF(ISBLANK(InfoPro!B8),\"\",InfoPro!B8)","v":"Parque Eólico Brisas 1"},{"$f":"IF(ISBLANK(InfoPro!E8),\"\",InfoPro!E8)","v":200},{"$f":"IF(ISBLANK(InfoPro!F8),\"\",InfoPro!F8)","v":"Eólico Onshore"},{"$f":"IF(ISBLANK(InfoPro!I8),\"\",YEAR(InfoPro!I8)-$G$3)","v":5},{"$f":"IF(B14=\"\",\"\",VLOOKUP(D14,Tablas!$B$2:$E$13,2,FALSE))","v":0.56999999999999995},{"$f":"IF(B14=\"\",\"\",VLOOKUP(D14,Tablas!$B$2:$H$13,7,FALSE))","v":83577.200000000012},998639.99999999988,62022435421.663368,55476239196.478859,49620965292.020454,44383689885.528137,39699185944.121773,35509110862.362938,31761279841.111763,28409015958.060612,25410568835.474609,22728594665.004128,20329691113.5994,18183981318.067436,16264741787.180178,14548069577.084238,13012584594.887516,477360154292.64545,2386800.7714632275]
[{"$f":"IF(ISBLANK(InfoPro!A9),\"\",InfoPro!A9)","v":"SC_1135_A2"},{"$f":"IF(ISBLANK(InfoPro!B9),\"\",InfoPro!B9)","v":"Parque Eólico Brisas 1"},{"$f":"IF(ISBLANK(InfoPro!E9),\"\",InfoPro!E9)","v":200},{"$f":"IF(ISBLANK(InfoPro!F9),\"\",InfoPro!F9)","v":"Eólico Onshore"},{"$f":"IF(ISBLANK(InfoPro!I9),\"\",YEAR(InfoPro!I9)-$G$3)","v":5},{"$f":"IF(B15=\"\",\"\",VLOOKUP(D15,Tablas!$B$2:$E$13,2,FALSE))","v":0.56999999999999995},{"$f":"IF(B15=\"\",\"\",VLOOKUP(D15,Tablas!$B$2:$H$13,7,FALSE))","v":83577.200000000012},998639.99999999988,62022435421.663368,55476239196.478859,49620965292.020454,44383689885.528137,39699185944.121773,35509110862.362938,31761279841.111763,28409015958.060612,25410568835.474609,22728594665.004128,20329691113.5994,18183981318.067436,16264741787.180178,14548069577.084238,13012584594.887516,477360154292.64545,2386800.7714632275]
[{"$f":"IF(ISBLANK(InfoPro!A10),\"\",InfoPro!A10)","v":"SC_1154_A1"},{"$f":"IF(ISBLANK(InfoPro!B10),\"\",InfoPro!B10)","v":"Parque Eólico Brisas 2"},{"$f":"IF(ISBLANK(InfoPro!E10),\"\",InfoPro!E10)","v":200},{"$f":"IF(ISBLANK(InfoPro!F10),\"\",InfoPro!F10)","v":"Eólico Onshore"},{"$f":"IF(ISBLANK(InfoPro!I10),\"\",YEAR(InfoPro!I10)-$G$3)","v":6},{"$f":"IF(B16=\"\",\"\",VLOOKUP(D16,Tablas!$B$2:$E$13,2,FALSE))","v":0.56999999999999995},{"$f":"IF(B16=\"\",\"\",VLOOKUP(D16,Tablas!$B$2:$H$13,7,FALSE))","v":83577.200000000012},998639.99999999988,55476239196.478859,49620965292.020454,44383689885.528137,39699185944.121773,35509110862.362938,31761279841.111763,28409015958.060612,25410568835.474609,22728594665.004128,20329691113.5994,18183981318.067436,16264741787.180178,14548069577.084238,13012584594.887516,11639163322.797419,426976882193.77954,2134884.4109688979]
[{"$f":"IF(ISBLANK(InfoPro!A11),\"\",InfoPro!A11)","v":"SC_1154_A2"},{"$f":"IF(ISBLANK(InfoPro!B11),\"\",InfoPro!B11)","v":"Parque Eólico Brisas 2"},{"$f":"IF(ISBLANK(InfoPro!E11),\"\",InfoPro!E11)","v":200},{"$f":"IF(ISBLANK(InfoPro!F11),\"\",InfoPro!F11)","v":"Eólico Onshore"},{"$f":"IF(ISBLANK(InfoPro!I11),\"\",YEAR(InfoPro!I11)-$G$3)","v":6},{"$f":"IF(B17=\"\",\"\",VLOOKUP(D17,Tablas!$B$2:$E$13,2,FALSE))","v":0.56999999999999995},{"$f":"IF(B17=\"\",\"\",VLOOKUP(D17,Tablas!$B$2:$H$13,7,FALSE))","v":83577.200000000012},998639.99999999988,55476239196.478859,49620965292.020454,44383689885.528137,39699185944.121773,35509110862.362938,31761279841.111763,28409015958.060612,25410568835.474609,22728594665.004128,20329691113.5994,18183981318.067436,16264741787.180178,14548069577.084238,13012584594.887516,11639163322.797419,426976882193.77954,2134884.4109688979]
[{"$f":"IF(ISBLANK(InfoPro!A12),\"\",InfoPro!A12)","v":"SC_1161_A1"},{"$f":"IF(ISBLANK(InfoPro!B12),\"\",InfoPro!B12)","v":"Parque Eólico Brisas 3"},{"$f":"IF(ISBLANK(InfoPro!E12),\"\",InfoPro!E12)","v":200},{"$f":"IF(ISBLANK(InfoPro!F12),\"\",InfoPro!F12)","v":"Eólico Onshore"},{"$f":"IF(ISBLANK(InfoPro!I12),\"\",YEAR(InfoPro!I12)-$G$3)","v":7},{"$f":"IF(B18=\"\",\"\",VLOOKUP(D18,Tablas!$B$2:$E$13,2,FALSE))","v":0.56999999999999995},{"$f":"IF(B18=\"\",\"\",VLOOKUP(D18,Tablas!$B$2:$H$13,7,FALSE))","v":83577.200000000012},998639.99999999988,{"$f":"IF($H18=\"\",\"\",(1/(1+$C$3)^(I$6+$E18))*$H18*($C$2 - $G18))","v":49620965292.020454},44383689885.528137,39699185944.121773,35509110862.362938,31761279841.111763,28409015958.060612,25410568835.474609,22728594665.004128,20329691113.5994,18183981318.067436,16264741787.180178,14548069577.084238,13012584594.887516,11639163322.797419,10410700646.509321,381911343643.80994,1909556.7182190497]
[{"$f":"IF(ISBLANK(InfoPro!A13),\"\",InfoPro!A13)","v":"SC_1161_A2"},{"$f":"IF(ISBLANK(InfoPro!B13),\"\",InfoPro!B13)","v":"Parque Eólico Brisas 3"},{"$f":"IF(ISBLANK(InfoPro!E13),\"\",InfoPro!E13)","v":200},{"$f":"IF(ISBLANK(InfoPro!F13),\"\",InfoPro!F13)","v":"Eólico Onshore"},{"$f":"IF(ISBLANK(InfoPro!I13),\"\",YEAR(InfoPro!I13)-$G$3)","v":7},{"$f":"IF(B19=\"\",\"\",VLOOKUP(D19,Tablas!$B$2:$E$13,2,FALSE))","v":0.56999999999999995},{"$f":"IF(B19=\"\",\"\",VLOOKUP(D19,Tablas!$B$2:$H$13,7,FALSE))","v":83577.200000000012},998639.99999999988,49620965292.020454,44383689885.528137,39699185944.121773,35509110862.362938,31761279841.111763,28409015958.060612,25410568835.474609,22728594665.004128,20329691113.5994,18183981318.067436,16264741787.180178,14548069577.084238,13012584594.887516,11639163322.797419,10410700646.509321,381911343643.80994,1909556.7182190497]
[{"$f":"IF(ISBLANK(InfoPro!#REF!),\"\",InfoPro!#REF!)","v":{"$error":"#REF!"}},{"$f":"IF(ISBLANK(InfoPro!#REF!),\"\",InfoPro!#REF!)","v":{"$error":"#REF!"}},{"$f":"IF(ISBLANK(InfoPro!#REF!),\"\",InfoPro!#REF!)","v":{"$error":"#REF!"}},{"$f":"IF(ISBLANK(InfoPro!#REF!),\"\",InfoPro!#REF!)","v":{"$error":"#REF!"}},{"$f":"IF(ISBLANK(InfoPro!#REF!),\"\",YEAR(InfoPro!#REF!)-$G$3)","v":{"$error":"#REF!"}},{"$f":"IF(B20=\"\",\"\",VLOOKUP(D20,Tablas!$B$2:$E$13,2,FALSE))","v":{"$error":"#REF!"}},{"$f":"IF(B20=\"\",\"\",VLOOKUP(D20,Tablas!$B$2:$H$13,7,FALSE))","v":{"$error":"#REF!"}},{"$error":"#REF!"},{"$error":"#REF!"},{"$error":"#REF!"},{"$error":"#REF!"},{"$error":"#REF!"},{"$error":"#REF!"},{"$error":"#REF!"},{"$error":"#REF!"},{"$error":"#REF!"},{"$error":"#REF!"},{"$error":"#REF!"},{"$error":"#REF!"},{"$error":"#REF!"},{"$error":"#REF!"},{"$error":"#REF!"},{"$error":"#REF!"},{"$error":"#REF!"},{"$error":"#REF!"}]
[{"$f":"IF(ISBLANK(InfoPro!A14),\"\",InfoPro!A14)","v":"SC_1211_A1"},{"$f":"IF(ISBLANK(InfoPro!B14),\"\",InfoPro!B14)","v":"Planta Solar FV Caracolicitos 69MW"},{"$f":"IF(ISBLANK(InfoPro!E14),\"\",InfoPro!E14)","v":69},{"$f":"IF(ISBLANK(InfoPro!F14),\"\",InfoPro!F14)","v":"Solar FV"},{"$f":"IF(ISBLANK(InfoPro!I14),\"\",YEAR(InfoPro!I14)-$G$3)","v":3},{"$f":"IF(B21=\"\",\"\",VLOOKUP(D21,Tablas!$B$2:$E$13,2,FALSE))","v":0.26},{"$f":"IF(B21=\"\",\"\",VLOOKUP(D21,Tablas!$B$2:$H$13,7,FALSE))","v":83577.200000000012},157154.40000000002,12199724126.854824,10912096714.5392,9760372732.1459751,8730208168.2879925,7808772959.1126957,6984591197.775219,6247398209.1012697,5588012709.3929062,4998222459.2065363,4470681984.9790134,3998821095.6878471,3576763055.1769657,3199251391.0348535,2861584428.474824,2559556733.8773026,93896057965.647446,1360812.4342847455]
[{"$f":"IF(ISBLANK(InfoPro!A15),\"\",InfoPro!A15)","v":"SC_1211_A2"},{"$f":"IF(ISBLANK(InfoPro!B15),\"\",InfoPro!B15)","v":"Planta Solar FV Caracolicitos 69MW"},{"$f":"IF(ISBLANK(InfoPro!E15),\"\",InfoPro!E15)","v":69},{"$f":"IF(ISBLANK(InfoPro!F15),\"\",InfoPro!F15)","v":"Solar FV"},{"$f":"IF(ISBLANK(InfoPro!I15),\"\",YEAR(InfoPro!I15)-$G$3)","v":3},{"$f":"IF(B22=\"\",\"\",VLOOKUP(D22,Tablas!$B$2:$E$13,2,FALSE))","v":0.26},{"$f":"IF(B22=\"\",\"\",VLOOKUP(D22,Tablas!$B$2:$H$13,7,FALSE))","v":83577.200000000012},157154.40000000002,12199724126.854824,10912096714.5392,9760372732.1459751,8730208168.2879925,7808772959.1126957,6984591197.775219,6247398209.1012697,5588012709.3929062,4998222459.2065363,4470681984.9790134,3998821095.6878471,3576763055.1769657,3199251391.0348535,2861584428.474824,2559556733.8773026,93896057965.647446,1360812.4342847455]
[{"$f":"IF(ISBLANK(InfoPro!A16),\"\",InfoPro!A16)","v":"SC_1218_A1"},{"$f":"IF(ISBLANK(InfoPro!B16),\"\",InfoPro!B16)","v":"Las Flores 150 MW"},{"$f":"IF(ISBLANK(InfoPro!E16),\"\",InfoPro!E16)","v":150},{"$f":"IF(ISBLANK(InfoPro!F16),\"\",InfoPro!F16)","v":"Solar FV"},{"$f":"IF(ISBLANK(InfoPro!I16),\"\",YEAR(InfoPro!I16)-$G$3)","v":2},{"$f":"IF(B23=\"\",\"\",VLOOKUP(D23,Tablas!$B$2:$E$13,2,FALSE))","v":0.26},{"$f":"IF(B23=\"\",\"\",VLOOKUP(D23,Tablas!$B$2:$H$13,7,FALSE))","v":83577.200000000012},341640,29650633856.138454,26521139406.206135,23721949379.433037,21218201591.621681,18978713409.321716,16975593389.37542,15183893908.206997,13581300454.567976,12147853716.071535,10865700998.275078,9718873880.3891582,8693089338.4518414,7775571859.0803595,6954894328.3366375,6220835714.0757027,228208245229.55173,1521388.3015303449]
[{"$f":"IF(ISBLANK(InfoPro!A17),\"\",InfoPro!A17)","v":"SC_1223_A1"},{"$f":"IF(ISBLANK(InfoPro!B17),\"\",InfoPro!B17)","v":"Parque Eolico Sirius"},{"$f":"IF(ISBLANK(InfoPro!E17),\"\",InfoPro!E17)","v":100},{"$f":"IF(ISBLANK(InfoPro!F17),\"\",InfoPro!F17)","v":"Eólico Onshore"},{"$f":"IF(ISBLANK(InfoPro!I17),\"\",YEAR(InfoPro!I17)-$G$3)","v":2},{"$f":"IF(B24=\"\",\"\",VLOOKUP(D24,Tablas!$B$2:$E$13,2,FALSE))","v":0.56999999999999995},{"$f":"IF(B24=\"\",\"\",VLOOKUP(D24,Tablas!$B$2:$H$13,7,FALSE))","v":83577.200000000012},499319.99999999994,43335541789.740807,38761665285.993576,34670541400.709824,31011217710.831684,27738119598.239429,24810482646.010227,22191844942.764069,19849592972.060886,17754555431.181469,15880639920.555882,14204507979.030306,12705284417.737305,11364297332.502064,10164845556.7997,9091990659.0337181,333535127643.19092,3335351.2764319093]
[{"$f":"IF(ISBLANK(InfoPro!A18),\"\",InfoPro!A18)","v":"SC_1232_A1"},{"$f":"IF(ISBLANK(InfoPro!B18),\"\",InfoPro!B18)","v":"La Paz Solar 9,9 MW"},{"$f":"IF(ISBLANK(InfoPro!E18),\"\",InfoPro!E18)","v":9.9},{"$f":"IF(ISBLANK(InfoPro!F18),\"\",InfoPro!F18)","v":"Solar FV"},{"$f":"IF(ISBLANK(InfoPro!I18),\"\",YEAR(InfoPro!I18)-$G$3)","v":2},{"$f":"IF(B25=\"\",\"\",VLOOKUP(D25,Tablas!$B$2:$E$13,2,FALSE))","v":0.26},{"$f":"IF(B25=\"\",\"\",VLOOKUP(D25,Tablas!$B$2:$H$13,7,FALSE))","v":83577.200000000012},22548.240000000005,1956941834.5051382,1750395200.8096051,1565648659.0425808,1400401305.0470314,1252595085.0152338,1120389163.6987782,1002136997.9416621,896365830.00148666,801758345.26072145,717136265.88615525,641445676.10568452,573743896.33782172,513187742.69930387,459023025.67021811,410575157.12899649,15061744185.150415,1521388.3015303449]
[{"$f":"IF(ISBLANK(InfoPro!A19),\"\",InfoPro!A19)","v":"SC_1232_A2"},{"$f":"IF(ISBLANK(InfoPro!B19),\"\",InfoPro!B19)","v":"La Paz Solar 9,9 MW"},{"$f":"IF(ISBLANK(InfoPro!E19),\"\",InfoPro!E19)","v":9.9},{"$f":"IF(ISBLANK(InfoPro!F19),\"\",InfoPro!F19)","v":"Solar FV"},{"$f":"IF(ISBLANK(InfoPro!I19),\"\",YEAR(InfoPro!I19)-$G$3)","v":2},{"$f":"IF(B26=\"\",\"\",VLOOKUP(D26,Tablas!$B$2:$E$13,2,FALSE))","v":0.26},{"$f":"IF(B26=\"\",\"\",VLOOKUP(D26,Tablas!$B$2:$H$13,7,FALSE))","v":83577.200000000012},22548.240000000005,1956941834.5051382,1750395200.8096051,1565648659.0425808,1400401305.0470314,1252595085.0152338,1120389163.6987782,1002136997.9416621,896365830.00148666,801758345.26072145,717136265.88615525,641445676.10568452,573743896.33782172,513187742.69930387,459023025.67021811,410575157.12899649,15061744185.150415,1521388.3015303449]
[{"$f":"IF(ISBLANK(InfoPro!A20),\"\",InfoPro!A20)","v":"SC_1239_A1"},{"$f":"IF(ISBLANK(InfoPro!B20),\"\",InfoPro!B20)","v":"El Carmen"},{"$f":"IF(ISBLANK(InfoPro!E20),\"\",InfoPro!E20)","v":104.5},{"$f":"IF(ISBLANK(InfoPro!F20),\"\",InfoPro!F20)","v":"Eólico Onshore"},{"$f":"IF(ISBLANK(InfoPro!I20),\"\",YEAR(InfoPro!I20)-$G$3)","v":4},{"$f":"IF(B27=\"\",\"\",VLOOKUP(D27,Tablas!$B$2:$E$13,2,FALSE))","v":0.56999999999999995},{"$f":"IF(B27=\"\",\"\",VLOOKUP(D27,Tablas!$B$2:$H$13,7,FALSE))","v":83577.200000000012},521789.39999999997,36230715763.74176,32406722507.819115,28986334980.16021,25926954365.080692,23190477965.188454,20742824655.803627,18553510425.584637,16595268716.980898,14843710838.08667,13277022216.535484,11875690712.464657,10622263606.855686,9501130238.690237,8498327583.8016443,7601366354.026515,278852320930.82025,2668443.2624958875]
[{"$f":"IF(ISBLANK(InfoPro!A21),\"\",InfoPro!A21)","v":"SC_1239_A2"},{"$f":"IF(ISBLANK(InfoPro!B21),\"\",InfoPro!B21)","v":"El Carmen"},{"$f":"IF(ISBLANK(InfoPro!E21),\"\",InfoPro!E21)","v":104.5},{"$f":"IF(ISBLANK(InfoPro!F21),\"\",InfoPro!F21)","v":"Eólico Onshore"},{"$f":"IF(ISBLANK(InfoPro!I21),\"\",YEAR(InfoPro!I21)-$G$3)","v":4},{"$f":"IF(B28=\"\",\"\",VLOOKUP(D28,Tablas!$B$2:$E$13,2,FALSE))","v":0.56999999999999995},{"$f":"IF(B28=\"\",\"\",VLOOKUP(D28,Tablas!$B$2:$H$13,7,FALSE))","v":83577.200000000012},521789.39999999997,{"$f":"IF($H28=\"\",\"\",(1/(1+$C$3)^(I$6+$E28))*$H28*($C$2 - $G28))","v":36230715763.74176},32406722507.819115,28986334980.16021,25926954365.080692,23190477965.188454,20742824655.803627,18553510425.584637,16595268716.980898,14843710838.08667,13277022216.535484,11875690712.464657,10622263606.855686,9501130238.690237,8498327583.8016443,7601366354.026515,278852320930.82025,2668443.2624958875]
[{"$f":"IF(ISBLANK(InfoPro!A22),\"\",InfoPro!A22)","v":"SC_1244_A1"},{"$f":"IF(ISBLANK(InfoPro!B22),\"\",InfoPro!B22)","v":"Proyecto Maria"},{"$f":"IF(ISBLANK(InfoPro!E22),\"\",InfoPro!E22)","v":120},{"$f":"IF(ISBLANK(InfoPro!F22),\"\",InfoPro!F22)","v":"Eólico Onshore"},{"$f":"IF(ISBLANK(InfoPro!I22),\"\",YEAR(InfoPro!I22)-$G$3)","v":3},{"$f":"IF(B29=\"\",\"\",VLOOKUP(D29,Tablas!$B$2:$E$13,2,FALSE))","v":0.56999999999999995},{"$f":"IF(B29=\"\",\"\",VLOOKUP(D29,Tablas!$B$2:$H$13,7,FALSE))","v":83577.200000000012},599184,46513998343.192299,41604649680.851791,37213461252.998024,33285743517.887321,29772579175.212276,26630213931.316887,23819511566.473064,21305466517.417767,19056767904.667061,17045409574.836369,15246341301.284769,13637156799.002476,12197814668.159641,10910388790.840464,9758845072.3081093,357998348096.44836,2983319.5674704029]
[{"$f":"IF(ISBLANK(InfoPro!A23),\"\",InfoPro!A23)","v":"SC_1252_A1"},{"$f":"IF(ISBLANK(InfoPro!B23),\"\",InfoPro!B23)","v":"Parque Eólico Neptuno"},{"$f":"IF(ISBLANK(InfoPro!E23),\"\",InfoPro!E23)","v":150},{"$f":"IF(ISBLANK(InfoPro!F23),\"\",InfoPro!F23)","v":"Eólico Onshore"},{"$f":"IF(ISBLANK(InfoPro!I23),\"\",YEAR(InfoPro!I23)-$G$3)","v":3},{"$f":"IF(B30=\"\",\"\",VLOOKUP(D30,Tablas!$B$2:$E$13,2,FALSE))","v":0.56999999999999995},{"$f":"IF(B30=\"\",\"\",VLOOKUP(D30,Tablas!$B$2:$H$13,7,FALSE))","v":83577.200000000012},748979.99999999988,58142497928.990364,52005812101.064728,46516826566.247528,41607179397.359146,37215723969.015335,33287767414.146103,29774389458.091328,26631833146.772205,23820959880.833824,21306761968.545456,19057926626.605957,17046445998.753094,15247268335.199549,13637985988.550577,12198556340.385134,447497935120.5603,2983319.567470402]
[{"$f":"IF(ISBLANK(InfoPro!A24),\"\",InfoPro!A24)","v":"SC_1262_A1"},{"$f":"IF(ISBLANK(InfoPro!B24),\"\",InfoPro!B24)","v":"Parque Solar Australe de 251 MW (entrega 200 MW)"},{"$f":"IF(ISBLANK(InfoPro!E24),\"\",InfoPro!E24)","v":200},{"$f":"IF(ISBLANK(InfoPro!F24),\"\",InfoPro!F24)","v":"Solar FV"},{"$f":"IF(ISBLANK(InfoPro!I24),\"\",YEAR(InfoPro!I24)-$G$3)","v":3},{"$f":"IF(B31=\"\",\"\",VLOOKUP(D31,Tablas!$B$2:$E$13,2,FALSE))","v":0.26},{"$f":"IF(B31=\"\",\"\",VLOOKUP(D31,Tablas!$B$2:$H$13,7,FALSE))","v":83577.200000000012},455520,35361519208.274849,31629265839.244049,28290935455.495575,25304951212.428959,22634124519.167225,20245191877.609329,18108400606.090633,16197138288.095379,14487601331.03344,12958498507.185543,11590785784.602455,10367429145.440479,9273192437.7821846,8294447618.7676029,7419005025.7313099,272162486856.94904,1360812.4342847452]
[{"$f":"IF(ISBLANK(InfoPro!A25),\"\",InfoPro!A25)","v":"SC_1262_A2"},{"$f":"IF(ISBLANK(InfoPro!B25),\"\",InfoPro!B25)","v":"Parque Solar Australe de 251 MW (entrega 200 MW)"},{"$f":"IF(ISBLANK(InfoPro!E25),\"\",InfoPro!E25)","v":200},{"$f":"IF(ISBLANK(InfoPro!F25),\"\",InfoPro!F25)","v":"Solar FV"},{"$f":"IF(ISBLANK(InfoPro!I25),\"\",YEAR(InfoPro!I25)-$G$3)","v":3},{"$f":"IF(B32=\"\",\"\",VLOOKUP(D32,Tablas!$B$2:$E$13,2,FALSE))","v":0.26},{"$f":"IF(B32=\"\",\"\",VLOOKUP(D32,Tablas!$B$2:$H$13,7,FALSE))","v":83577.200000000012},455520,35361519208.274849,31629265839.244049,28290935455.495575,25304951212.428959,22634124519.167225,20245191877.609329,18108400606.090633,16197138288.095379,14487601331.03344,12958498507.185543,11590785784.602455,10367429145.440479,9273192437.7821846,8294447618.7676029,7419005025.7313099,272162486856.94904,1360812.4342847452]
[{"$f":"IF(ISBLANK(InfoPro!A26),\"\",InfoPro!A26)","v":"SC_1264_A1"},{"$f":"IF(ISBLANK(InfoPro!B26),\"\",InfoPro!B26)","v":"Parque Solar Galus de 133 MW (entrega 110 MW)"},{"$f":"IF(ISBLANK(InfoPro!E26),\"\",InfoPro!E26)","v":110},{"$f":"IF(ISBLANK(InfoPro!F26),\"\",InfoPro!F26)","v":"Solar FV"},{"$f":"IF(ISBLANK(InfoPro!I26),\"\",YEAR(InfoPro!I26)-$G$3)","v":4},{"$f":"IF(B33=\"\",\"\",VLOOKUP(D33,Tablas!$B$2:$E$13,2,FALSE))","v":0.26},{"$f":"IF(B33=\"\",\"\",VLOOKUP(D33,Tablas!$B$2:$H$13,7,FALSE))","v":83577.200000000012},250536.00000000003,17396096211.584229,15560014500.522568,13917723166.835928,12448768485.541977,11134855532.685133,9959620333.3498516,8908426058.4524593,7968180732.0683918,7127174178.9520493,6374932181.5313511,5702086029.9922647,5100255840.7802019,4561946190.3221827,4080452764.1522212,3649778858.8123627,133890311065.58318,1217184.6460507561]
[{"$f":"IF(ISBLANK(InfoPro!A27),\"\",InfoPro!A27)","v":"SC_1264_A2"},{"$f":"IF(ISBLANK(InfoPro!B27),\"\",InfoPro!B27)","v":"Parque Solar Galus de 133 MW (entrega 110 MW)"},{"$f":"IF(ISBLANK(InfoPro!E27),\"\",InfoPro!E27)","v":110},{"$f":"IF(ISBLANK(InfoPro!F27),\"\",InfoPro!F27)","v":"Solar FV"},{"$f":"IF(ISBLANK(InfoPro!I27),\"\",YEAR(InfoPro!I27)-$G$3)","v":4},{"$f":"IF(B34=\"\",\"\",VLOOKUP(D34,Tablas!$B$2:$E$13,2,FALSE))","v":0.26},{"$f":"IF(B34=\"\",\"\",VLOOKUP(D34,Tablas!$B$2:$H$13,7,FALSE))","v":83577.200000000012},250536.00000000003,17396096211.584229,15560014500.522568,13917723166.835928,12448768485.541977,11134855532.685133,9959620333.3498516,8908426058.4524593,7968180732.0683918,7127174178.9520493,6374932181.5313511,5702086029.9922647,5100255840.7802019,4561946190.3221827,4080452764.1522212,3649778858.8123627,133890311065.58318,1217184.6460507561]
[{"$f":"IF(ISBLANK(InfoPro!A28),\"\",InfoPro!A28)","v":"SC_1266_A1"},{"$f":"IF(ISBLANK(InfoPro!B28),\"\",InfoPro!B28)","v":"Parque Solar Fornax DE 127 MW (Entrega 105 MW)"},{"$f":"IF(ISBLANK(InfoPro!E28),\"\",InfoPro!E28)","v":105},{"$f":"IF(ISBLANK(InfoPro!F28),\"\",InfoPro!F28)","v":"Solar FV"},{"$f":"IF(ISBLANK(InfoPro!I28),\"\",YEAR(InfoPro!I28)-$G$3)","v":4},{"$f":"IF(B35=\"\",\"\",VLOOKUP(D35,Tablas!$B$2:$E$13,2,FALSE))","v":0.26},{"$f":"IF(B35=\"\",\"\",VLOOKUP(D35,Tablas!$B$2:$H$13,7,FALSE))","v":83577.200000000012},239148.00000000003,16605364565.603128,14852741114.135178,13285099386.525206,11882915372.562796,10628725735.7449,9506910318.1975842,8503497601.2500744,7605990698.7925558,6803211716.2724113,6085162536.9162893,5442900301.3562527,4868426029.8356466,4354584999.852993,3894977638.5089378,3483879819.7754364,127804387835.32941,1217184.6460507563]
[{"$f":"IF(ISBLANK(InfoPro!A29),\"\",InfoPro!A29)","v":"SC_1266_A2"},{"$f":"IF(ISBLANK(InfoPro!B29),\"\",InfoPro!B29)","v":"Parque Solar Fornax DE 127 MW (Entrega 105 MW)"},{"$f":"IF(ISBLANK(InfoPro!E29),\"\",InfoPro!E29)","v":105},{"$f":"IF(ISBLANK(InfoPro!F29),\"\",InfoPro!F29)","v":"Solar FV"},{"$f":"IF(ISBLANK(InfoPro!I29),\"\",YEAR(InfoPro!I29)-$G$3)","v":4},{"$f":"IF(B36=\"\",\"\",VLOOKUP(D36,Tablas!$B$2:$E$13,2,FALSE))","v":0.26},{"$f":"IF(B36=\"\",\"\",VLOOKUP(D36,Tablas!$B$2:$H$13,7,FALSE))","v":83577.200000000012},239148.00000000003,16605364565.603128,14852741114.135178,13285099386.525206,11882915372.562796,10628725735.7449,9506910318.1975842,8503497601.2500744,7605990698.7925558,6803211716.2724113,6085162536.9162893,5442900301.3562527,4868426029.8356466,4354584999.852993,3894977638.5089378,3483879819.7754364,127804387835.32941,1217184.6460507563]
[{"$f":"IF(ISBLANK(InfoPro!A30),\"\",InfoPro!A30)","v":"SC_1272_A1"},{"$f":"IF(ISBLANK(InfoPro!B30),\"\",InfoPro!B30)","v":"Guacamayal Solar de 9,9 MW"},{"$f":"IF(ISBLANK(InfoPro!E30),\"\",InfoPro!E30)","v":9.9},{"$f":"IF(ISBLANK(InfoPro!F30),\"\",InfoPro!F30)","v":"Solar FV"},{"$f":"IF(ISBLANK(InfoPro!I30),\"\",YEAR(InfoPro!I30)-$G$3)","v":1},{"$f":"IF(B37=\"\",\"\",VLOOKUP(D37,Tablas!$B$2:$E$13,2,FALSE))","v":0.26},{"$f":"IF(B37=\"\",\"\",VLOOKUP(D37,Tablas!$B$2:$H$13,7,FALSE))","v":83577.200000000012},22548.240000000005,2187860970.9767447,1956941834.5051382,1750395200.8096051,1565648659.0425808,1400401305.0470314,1252595085.0152338,1120389163.6987782,1002136997.9416621,896365830.00148666,801758345.26072145,717136265.88615525,641445676.10568452,573743896.33782172,513187742.69930387,459023025.67021811,16839029998.998165,1700912.1211109257]
[{"$f":"IF(ISBLANK(InfoPro!A31),\"\",InfoPro!A31)","v":"SC_1272_A2"},{"$f":"IF(ISBLANK(InfoPro!B31),\"\",InfoPro!B31)","v":"Guacamayal Solar de 9,9 MW"},{"$f":"IF(ISBLANK(InfoPro!E31),\"\",InfoPro!E31)","v":9.9},{"$f":"IF(ISBLANK(InfoPro!F31),\"\",InfoPro!F31)","v":"Solar FV"},{"$f":"IF(ISBLANK(InfoPro!I31),\"\",YEAR(InfoPro!I31)-$G$3)","v":1},{"$f":"IF(B38=\"\",\"\",VLOOKUP(D38,Tablas!$B$2:$E$13,2,FALSE))","v":0.26},{"$f":"IF(B38=\"\",\"\",VLOOKUP(D38,Tablas!$B$2:$H$13,7,FALSE))","v":83577.200000000012},22548.240000000005,{"$f":"IF($H38=\"\",\"\",(1/(1+$C$3)^(I$6+$E38))*$H38*($C$2 - $G38))","v":2187860970.9767447},1956941834.5051382,1750395200.8096051,1565648659.0425808,1400401305.0470314,1252595085.0152338,1120389163.6987782,1002136997.9416621,896365830.00148666,801758345.26072145,717136265.88615525,641445676.10568452,573743896.33782172,513187742.69930387,459023025.67021811,16839029998.998165,1700912.1211109257]
[{"$f":"IF(ISBLANK(InfoPro!A32),\"\",InfoPro!A32)","v":"SC_1293_A1"},{"$f":"IF(ISBLANK(InfoPro!B32),\"\",InfoPro!B32)","v":"Leo Solar II"},{"$f":"IF(ISBLANK(InfoPro!E32),\"\",InfoPro!E32)","v":80},{"$f":"IF(ISBLANK(InfoPro!F32),\"\",InfoPro!F32)","v":"Solar FV"},{"$f":"IF(ISBLANK(InfoPro!I32),\"\",YEAR(InfoPro!I32)-$G$3)","v":2},{"$f":"IF(B39=\"\",\"\",VLOOKUP(D39,Tablas!$B$2:$E$13,2,FALSE))","v":0.26},{"$f":"IF(B39=\"\",\"\",VLOOKUP(D39,Tablas!$B$2:$H$13,7,FALSE))","v":83577.200000000012},182208.00000000003,15813671389.940512,14144607683.309942,12651706335.697622,11316374182.198231,10121980484.971584,9053649807.666893,8098076751.0437317,7243360242.4362545,6478855315.2381525,5795040532.4133759,5183399402.874218,4636314313.8409824,4146971658.1761928,3709276975.112874,3317779047.5070424,121711064122.42763,1521388.3015303453]
[{"$f":"IF(ISBLANK(InfoPro!A33),\"\",InfoPro!A33)","v":"SC_1293_A2"},{"$f":"IF(ISBLANK(InfoPro!B33),\"\",InfoPro!B33)","v":"Leo Solar II"},{"$f":"IF(ISBLANK(InfoPro!E33),\"\",InfoPro!E33)","v":80},{"$f":"IF(ISBLANK(InfoPro!F33),\"\",InfoPro!F33)","v":"Solar FV"},{"$f":"IF(ISBLANK(InfoPro!I33),\"\",YEAR(InfoPro!I33)-$G$3)","v":2},{"$f":"IF(B40=\"\",\"\",VLOOKUP(D40,Tablas!$B$2:$E$13,2,FALSE))","v":0.26},{"$f":"IF(B40=\"\",\"\",VLOOKUP(D40,Tablas!$B$2:$H$13,7,FALSE))","v":83577.200000000012},{"$f":"IF(C40=\"\",\"\",+C40*F40*24*365)","v":182208.00000000003},15813671389.940512,14144607683.309942,12651706335.697622,11316374182.198231,10121980484.971584,9053649807.666893,8098076751.0437317,7243360242.4362545,6478855315.2381525,5795040532.4133759,5183399402.874218,4636314313.8409824,4146971658.1761928,3709276975.112874,3317779047.5070424,121711064122.42763,1521388.3015303453]
[{"$f":"IF(ISBLANK(InfoPro!A34),\"\",InfoPro!A34)","v":"SC_1306_A1"},{"$f":"IF(ISBLANK(InfoPro!B34),\"\",InfoPro!B34)","v":"Leo Solar I"},{"$f":"IF(ISBLANK(InfoPro!E34),\"\",InfoPro!E34)","v":19.899999999999999},{"$f":"IF(ISBLANK(InfoPro!F34),\"\",InfoPro!F34)","v":"Solar FV"},{"$f":"IF(ISBLANK(InfoPro!I34),\"\",YEAR(InfoPro!I34)-$G$3)","v":2},{"$f":"IF(B41=\"\",\"\",VLOOKUP(D41,Tablas!$B$2:$E$13,2,FALSE))","v":0.26},{"$f":"IF(B41=\"\",\"\",VLOOKUP(D41,Tablas!$B$2:$H$13,7,FALSE))","v":83577.200000000012},45324.24,3933650758.2477012,3518471161.2233467,3147111951.0047827,2814948077.8218098,2517842645.6366811,2252095389.6571388,2014396591.8221281,1801785860.3060181,1611615259.6654902,1441516332.4378271,1289370601.4649615,1153283185.5679443,1031559199.9713277,922682647.55932713,825297538.06737661,30275627200.453861,1521388.3015303449]
[{"$f":"IF(ISBLANK(InfoPro!A35),\"\",InfoPro!A35)","v":"SC_1306_A2"},{"$f":"IF(ISBLANK(InfoPro!B35),\"\",InfoPro!B35)","v":"Leo Solar I"},{"$f":"IF(ISBLANK(InfoPro!E35),\"\",InfoPro!E35)","v":19.899999999999999},{"$f":"IF(ISBLANK(InfoPro!F35),\"\",InfoPro!F35)","v":"Solar FV"},{"$f":"IF(ISBLANK(InfoPro!I35),\"\",YEAR(InfoPro!I35)-$G$3)","v":2},{"$f":"IF(B42=\"\",\"\",VLOOKUP(D42,Tablas!$B$2:$E$13,2,FALSE))","v":0.26},{"$f":"IF(B42=\"\",\"\",VLOOKUP(D42,Tablas!$B$2:$H$13,7,FALSE))","v":83577.200000000012},45324.24,3933650758.2477012,3518471161.2233467,3147111951.0047827,2814948077.8218098,2517842645.6366811,2252095389.6571388,2014396591.8221281,1801785860.3060181,1611615259.6654902,1441516332.4378271,1289370601.4649615,1153283185.5679443,1031559199.9713277,922682647.55932713,825297538.06737661,30275627200.453861,1521388.3015303449]
[{"$f":"IF(ISBLANK(InfoPro!A36),\"\",InfoPro!A36)","v":"SC_1311_A1"},{"$f":"IF(ISBLANK(InfoPro!B36),\"\",InfoPro!B36)","v":"Elipse de 200 MW"},{"$f":"IF(ISBLANK(InfoPro!E36),\"\",InfoPro!E36)","v":200},{"$f":"IF(ISBLANK(InfoPro!F36),\"\",InfoPro!F36)","v":"Eólico Onshore"},{"$f":"IF(ISBLANK(InfoPro!I36),\"\",YEAR(InfoPro!I36)-$G$3)","v":2},{"$f":"IF(B43=\"\",\"\",VLOOKUP(D43,Tablas!$B$2:$E$13,2,FALSE))","v":0.56999999999999995},{"$f":"IF(B43=\"\",\"\",VLOOKUP(D43,Tablas!$B$2:$H$13,7,FALSE))","v":83577.200000000012},998639.99999999988,86671083579.481613,77523330571.987152,69341082801.419647,62022435421.663368,55476239196.478859,49620965292.020454,44383689885.528137,39699185944.121773,35509110862.362938,31761279841.111763,28409015958.060612,25410568835.474609,22728594665.004128,20329691113.5994,18183981318.067436,667070255286.38184,3335351.2764319093]
[{"$f":"IF(ISBLANK(InfoPro!A37),\"\",InfoPro!A37)","v":"SC_1312_A1"},{"$f":"IF(ISBLANK(InfoPro!B37),\"\",InfoPro!B37)","v":"Omega de 300 MW"},{"$f":"IF(ISBLANK(InfoPro!E37),\"\",InfoPro!E37)","v":300},{"$f":"IF(ISBLANK(InfoPro!F37),\"\",InfoPro!F37)","v":"Eólico Onshore"},{"$f":"IF(ISBLANK(InfoPro!I37),\"\",YEAR(InfoPro!I37)-$G$3)","v":5},{"$f":"IF(B44=\"\",\"\",VLOOKUP(D44,Tablas!$B$2:$E$13,2,FALSE))","v":0.56999999999999995},{"$f":"IF(B44=\"\",\"\",VLOOKUP(D44,Tablas!$B$2:$H$13,7,FALSE))","v":83577.200000000012},1497959.9999999998,93033653132.495056,83214358794.718292,74431447938.03067,66575534828.292206,59548778916.182655,53263666293.544411,47641919761.667648,42613523937.090912,38115853253.211914,34092891997.506187,30494536670.399097,27275971977.101154,24397112680.770267,21822104365.626354,19518876892.331272,716040231438.96826,2386800.7714632275]
[{"$f":"IF(ISBLANK(InfoPro!A38),\"\",InfoPro!A38)","v":"SC_1313_A1"},{"$f":"IF(ISBLANK(InfoPro!B38),\"\",InfoPro!B38)","v":"Kappa de 500 MW"},{"$f":"IF(ISBLANK(InfoPro!E38),\"\",InfoPro!E38)","v":500},{"$f":"IF(ISBLANK(InfoPro!F38),\"\",InfoPro!F38)","v":"Eólico Onshore"},{"$f":"IF(ISBLANK(InfoPro!I38),\"\",YEAR(InfoPro!I38)-$G$3)","v":4},{"$f":"IF(B45=\"\",\"\",VLOOKUP(D45,Tablas!$B$2:$E$13,2,FALSE))","v":0.56999999999999995},{"$f":"IF(B45=\"\",\"\",VLOOKUP(D45,Tablas!$B$2:$H$13,7,FALSE))","v":83577.200000000012},2496600,173352707003.54913,155056088554.15845,138690597991.19717,124052413230.05115,110959224713.82036,99247964860.304428,88772777155.907364,79403199602.779419,71022539895.151535,63526422088.686531,56821486662.510323,50824227783.998505,45459953295.168594,40661854467.950447,36370173942.710594,1334221631247.9441,2668443.2624958884]
[{"$f":"IF(ISBLANK(InfoPro!A39),\"\",InfoPro!A39)","v":"SC_1315_A1"},{"$f":"IF(ISBLANK(InfoPro!B39),\"\",InfoPro!B39)","v":"Parque Eólico Cordobita - 50MW"},{"$f":"IF(ISBLANK(InfoPro!E39),\"\",InfoPro!E39)","v":50},{"$f":"IF(ISBLANK(InfoPro!F39),\"\",InfoPro!F39)","v":"Eólico Onshore"},{"$f":"IF(ISBLANK(InfoPro!I39),\"\",YEAR(InfoPro!I39)-$G$3)","v":4},{"$f":"IF(B46=\"\",\"\",VLOOKUP(D46,Tablas!$B$2:$E$13,2,FALSE))","v":0.56999999999999995},{"$f":"IF(B46=\"\",\"\",VLOOKUP(D46,Tablas!$B$2:$H$13,7,FALSE))","v":83577.200000000012},249659.99999999997,17335270700.354912,15505608855.415842,13869059799.119715,12405241323.005114,11095922471.382034,9924796486.0304432,8877277715.5907345,7940319960.2779408,7102253989.5151529,6352642208.8686523,5682148666.2510319,5082422778.3998499,4545995329.5168591,4066185446.7950444,3637017394.2710595,133422163124.79439,2668443.2624958879]
[{"$f":"IF(ISBLANK(InfoPro!A40),\"\",InfoPro!A40)","v":"SC_1315_A2"},{"$f":"IF(ISBLANK(InfoPro!B40),\"\",InfoPro!B40)","v":"Parque Eólico Cordobita - 50MW"},{"$f":"IF(ISBLANK(InfoPro!E40),\"\",InfoPro!E40)","v":50},{"$f":"IF(ISBLANK(InfoPro!F40),\"\",InfoPro!F40)","v":"Eólico Onshore"},{"$f":"IF(ISBLANK(InfoPro!I40),\"\",YEAR(InfoPro!I40)-$G$3)","v":4},{"$f":"IF(B47=\"\",\"\",VLOOKUP(D47,Tablas!$B$2:$E$13,2,FALSE))","v":0.56999999999999995},{"$f":"IF(B47=\"\",\"\",VLOOKUP(D47,Tablas!$B$2:$H$13,7,FALSE))","v":83577.200000000012},249659.99999999997,17335270700.354912,15505608855.415842,13869059799.119715,12405241323.005114,11095922471.382034,9924796486.0304432,8877277715.5907345,7940319960.2779408,7102253989.5151529,6352642208.8686523,5682148666.2510319,5082422778.3998499,4545995329.5168591,4066185446.7950444,3637017394.2710595,133422163124.79439,2668443.2624958879]
[{"$f":"IF(ISBLANK(InfoPro!A41),\"\",InfoPro!A41)","v":"SC_1317_A1"},{"$f":"IF(ISBLANK(InfoPro!B41),\"\",InfoPro!B41)","v":"EÓLICA BONDA - 70MW"},{"$f":"IF(ISBLANK(InfoPro!E41),\"\",InfoPro!E41)","v":70},{"$f":"IF(ISBLANK(InfoPro!F41),\"\",InfoPro!F41)","v":"Eólico Onshore"},{"$f":"IF(ISBLANK(InfoPro!I41),\"\",YEAR(InfoPro!I41)-$G$3)","v":4},{"$f":"IF(B48=\"\",\"\",VLOOKUP(D48,Tablas!$B$2:$E$13,2,FALSE))","v":0.56999999999999995},{"$f":"IF(B48=\"\",\"\",VLOOKUP(D48,Tablas!$B$2:$H$13,7,FALSE))","v":83577.200000000012},349523.99999999994,{"$f":"IF($H48=\"\",\"\",(1/(1+$C$3)^(I$6+$E48))*$H48*($C$2 - $G48))","v":24269378980.496872},21707852397.582176,19416683718.767601,17367337852.207161,15534291459.934845,13894715080.442619,12428188801.827028,11116447944.389118,9943155585.3212147,8893699092.4161129,7955008132.7514429,7115391889.7597885,6364393461.3236027,5692659625.5130625,5091824351.9794827,186791028374.71213,2668443.2624958875]
[{"$f":"IF(ISBLANK(InfoPro!A42),\"\",InfoPro!A42)","v":"SC_1321_A1"},{"$f":"IF(ISBLANK(InfoPro!B42),\"\",InfoPro!B42)","v":"OWF ASTROLABIO - 600 MW"},{"$f":"IF(ISBLANK(InfoPro!E42),\"\",InfoPro!E42)","v":600},{"$f":"IF(ISBLANK(InfoPro!F42),\"\",InfoPro!F42)","v":"Eólico Offshore"},{"$f":"IF(ISBLANK(InfoPro!I42),\"\",YEAR(InfoPro!I42)-$G$3)","v":11},{"$f":"IF(B49=\"\",\"\",VLOOKUP(D49,Tablas!$B$2:$E$13,2,FALSE))","v":0.56999999999999995},{"$f":"IF(B49=\"\",\"\",VLOOKUP(D49,Tablas!$B$2:$H$13,7,FALSE))","v":83577.200000000012},2995919.9999999995,95283839523.335297,85227047874.181824,76231706506.423828,68185783995.012375,60989073340.798195,54551943954.202309,48794225361.540535,43644208731.252708,39037753784.662544,34917489968.39225,31232101939.527966,27935690464.694065,24987200773.429398,22349911246.359035,19990976070.088577,733358953533.901,1222264.9225565016]
[{"$f":"IF(ISBLANK(InfoPro!A43),\"\",InfoPro!A43)","v":"SC_1321_A2"},{"$f":"IF(ISBLANK(InfoPro!B43),\"\",InfoPro!B43)","v":"OWF ASTROLABIO - 600 MW"},{"$f":"IF(ISBLANK(InfoPro!E43),\"\",InfoPro!E43)","v":825},{"$f":"IF(ISBLANK(InfoPro!F43),\"\",InfoPro!F43)","v":"Eólico Offshore"},{"$f":"IF(ISBLANK(InfoPro!I43),\"\",YEAR(InfoPro!I43)-$G$3)","v":11},{"$f":"IF(B50=\"\",\"\",VLOOKUP(D50,Tablas!$B$2:$E$13,2,FALSE))","v":0.56999999999999995},{"$f":"IF(B50=\"\",\"\",VLOOKUP(D50,Tablas!$B$2:$H$13,7,FALSE))","v":83577.200000000012},4119389.9999999995,131015279344.58603,117187190827.00003,104818596446.33276,93755452993.142014,83859975843.597519,75008922937.028168,67092059872.11824,60010787005.472488,53676911453.911003,48011548706.539352,42944140166.850952,38411574388.954338,34357401063.46542,30731127963.743671,27487592096.371799,1008368561109.1139,1222264.9225565016]
[{"$f":"IF(ISBLANK(InfoPro!A44),\"\",InfoPro!A44)","v":"SC_1336_A1"},{"$f":"IF(ISBLANK(InfoPro!B44),\"\",InfoPro!B44)","v":"AES Solar 4"},{"$f":"IF(ISBLANK(InfoPro!E44),\"\",InfoPro!E44)","v":300},{"$f":"IF(ISBLANK(InfoPro!F44),\"\",InfoPro!F44)","v":"Solar FV"},{"$f":"IF(ISBLANK(InfoPro!I44),\"\",YEAR(InfoPro!I44)-$G$3)","v":3},{"$f":"IF(B51=\"\",\"\",VLOOKUP(D51,Tablas!$B$2:$E$13,2,FALSE))","v":0.26},{"$f":"IF(B51=\"\",\"\",VLOOKUP(D51,Tablas!$B$2:$H$13,7,FALSE))","v":83577.200000000012},683280,53042278812.41227,47443898758.866074,42436403183.243362,37957426818.643433,33951186778.750839,30367787816.413994,27162600909.135952,24295707432.14307,21731401996.550156,19437747760.778316,17386178676.903683,15551143718.160719,13909788656.673275,12441671428.151405,11128507538.596966,408243730285.42365,1360812.4342847455]
[{"$f":"IF(ISBLANK(InfoPro!A45),\"\",InfoPro!A45)","v":"SC_1336_A2"},{"$f":"IF(ISBLANK(InfoPro!B45),\"\",InfoPro!B45)","v":"AES Solar 4"},{"$f":"IF(ISBLANK(InfoPro!E45),\"\",InfoPro!E45)","v":300},{"$f":"IF(ISBLANK(InfoPro!F45),\"\",InfoPro!F45)","v":"Solar FV"},{"$f":"IF(ISBLANK(InfoPro!I45),\"\",YEAR(InfoPro!I45)-$G$3)","v":3},{"$f":"IF(B52=\"\",\"\",VLOOKUP(D52,Tablas!$B$2:$E$13,2,FALSE))","v":0.26},{"$f":"IF(B52=\"\",\"\",VLOOKUP(D52,Tablas!$B$2:$H$13,7,FALSE))","v":83577.200000000012},683280,53042278812.41227,47443898758.866074,42436403183.243362,37957426818.643433,33951186778.750839,30367787816.413994,27162600909.135952,24295707432.14307,21731401996.550156,19437747760.778316,17386178676.903683,15551143718.160719,13909788656.673275,12441671428.151405,11128507538.596966,408243730285.42365,1360812.4342847455]
[{"$f":"IF(ISBLANK(InfoPro!A46),\"\",InfoPro!A46)","v":"SC_1345_A1"},{"$f":"IF(ISBLANK(InfoPro!B46),\"\",InfoPro!B46)","v":"Parque Eólico Jouttalein_150MW"},{"$f":"IF(ISBLANK(InfoPro!E46),\"\",InfoPro!E46)","v":150},{"$f":"IF(ISBLANK(InfoPro!F46),\"\",InfoPro!F46)","v":"Eólico Onshore"},{"$f":"IF(ISBLANK(InfoPro!I46),\"\",YEAR(InfoPro!I46)-$G$3)","v":2},{"$f":"IF(B53=\"\",\"\",VLOOKUP(D53,Tablas!$B$2:$E$13,2,FALSE))","v":0.56999999999999995},{"$f":"IF(B53=\"\",\"\",VLOOKUP(D53,Tablas!$B$2:$H$13,7,FALSE))","v":83577.200000000012},748979.99999999988,65003312684.611214,58142497928.990364,52005812101.064728,46516826566.247528,41607179397.359146,37215723969.015335,33287767414.146103,29774389458.091328,26631833146.772205,23820959880.833824,21306761968.545456,19057926626.605957,17046445998.753094,15247268335.199549,13637985988.550577,500302691464.78644,3335351.2764319098]
[{"$f":"IF(ISBLANK(InfoPro!A47),\"\",InfoPro!A47)","v":"SC_1345_A2"},{"$f":"IF(ISBLANK(InfoPro!B47),\"\",InfoPro!B47)","v":"Parque Eólico Jouttalein_150MW"},{"$f":"IF(ISBLANK(InfoPro!E47),\"\",InfoPro!E47)","v":150},{"$f":"IF(ISBLANK(InfoPro!F47),\"\",InfoPro!F47)","v":"Eólico Onshore"},{"$f":"IF(ISBLANK(InfoPro!I47),\"\",YEAR(InfoPro!I47)-$G$3)","v":2},{"$f":"IF(B54=\"\",\"\",VLOOKUP(D54,Tablas!$B$2:$E$13,2,FALSE))","v":0.56999999999999995},{"$f":"IF(B54=\"\",\"\",VLOOKUP(D54,Tablas!$B$2:$H$13,7,FALSE))","v":83577.200000000012},748979.99999999988,65003312684.611214,58142497928.990364,52005812101.064728,46516826566.247528,41607179397.359146,37215723969.015335,33287767414.146103,29774389458.091328,26631833146.772205,23820959880.833824,21306761968.545456,19057926626.605957,17046445998.753094,15247268335.199549,13637985988.550577,500302691464.78644,3335351.2764319098]
[{"$f":"IF(ISBLANK(InfoPro!A48),\"\",InfoPro!A48)","v":"SC_1347_A1"},{"$f":"IF(ISBLANK(InfoPro!B48),\"\",InfoPro!B48)","v":"AES Solar 5_100MW"},{"$f":"IF(ISBLANK(InfoPro!E48),\"\",InfoPro!E48)","v":100},{"$f":"IF(ISBLANK(InfoPro!F48),\"\",InfoPro!F48)","v":"Solar FV"},{"$f":"IF(ISBLANK(InfoPro!I48),\"\",YEAR(InfoPro!I48)-$G$3)","v":3},{"$f":"IF(B55=\"\",\"\",VLOOKUP(D55,Tablas!$B$2:$E$13,2,FALSE))","v":0.26},{"$f":"IF(B55=\"\",\"\",VLOOKUP(D55,Tablas!$B$2:$H$13,7,FALSE))","v":83577.200000000012},227760,17680759604.137424,15814632919.622025,14145467727.747787,12652475606.214479,11317062259.583612,10122595938.804665,9054200303.0453167,8098569144.0476894,7243800665.5167198,6479249253.5927715,5795392892.3012276,5183714572.7202396,4636596218.8910923,4147223809.3838015,3709502512.8656549,136081243428.47452,1360812.4342847452]
[{"$f":"IF(ISBLANK(InfoPro!A49),\"\",InfoPro!A49)","v":"SC_1347_A2"},{"$f":"IF(ISBLANK(InfoPro!B49),\"\",InfoPro!B49)","v":"AES Solar 5_100MW"},{"$f":"IF(ISBLANK(InfoPro!E49),\"\",InfoPro!E49)","v":100},{"$f":"IF(ISBLANK(InfoPro!F49),\"\",InfoPro!F49)","v":"Solar FV"},{"$f":"IF(ISBLANK(InfoPro!I49),\"\",YEAR(InfoPro!I49)-$G$3)","v":3},{"$f":"IF(B56=\"\",\"\",VLOOKUP(D56,Tablas!$B$2:$E$13,2,FALSE))","v":0.26},{"$f":"IF(B56=\"\",\"\",VLOOKUP(D56,Tablas!$B$2:$H$13,7,FALSE))","v":83577.200000000012},227760,17680759604.137424,15814632919.622025,14145467727.747787,12652475606.214479,11317062259.583612,10122595938.804665,9054200303.0453167,8098569144.0476894,7243800665.5167198,6479249253.5927715,5795392892.3012276,5183714572.7202396,4636596218.8910923,4147223809.3838015,3709502512.8656549,136081243428.47452,1360812.4342847452]
[{"$f":"IF(ISBLANK(InfoPro!A50),\"\",InfoPro!A50)","v":"SC_1355_A1"},{"$f":"IF(ISBLANK(InfoPro!B50),\"\",InfoPro!B50)","v":"Barlovento 1"},{"$f":"IF(ISBLANK(InfoPro!E50),\"\",InfoPro!E50)","v":500},{"$f":"IF(ISBLANK(InfoPro!F50),\"\",InfoPro!F50)","v":"Eólico Offshore"},{"$f":"IF(ISBLANK(InfoPro!I50),\"\",YEAR(InfoPro!I50)-$G$3)","v":11},{"$f":"IF(B57=\"\",\"\",VLOOKUP(D57,Tablas!$B$2:$E$13,2,FALSE))","v":0.56999999999999995},{"$f":"IF(B57=\"\",\"\",VLOOKUP(D57,Tablas!$B$2:$H$13,7,FALSE))","v":83577.200000000012},2496600,79403199602.779419,71022539895.151535,63526422088.686531,56821486662.510323,50824227783.998505,45459953295.168594,40661854467.950447,36370173942.710594,32531461487.218796,29097908306.993549,26026751616.273308,23279742053.911728,20822667311.19117,18624926038.63253,16659146725.073818,611132461278.25085,1222264.9225565018]
[{"$f":"IF(ISBLANK(InfoPro!A51),\"\",InfoPro!A51)","v":"SC_1356_A1"},{"$f":"IF(ISBLANK(InfoPro!B51),\"\",InfoPro!B51)","v":"Sol de Zawady 9,9 MW"},{"$f":"IF(ISBLANK(InfoPro!E51),\"\",InfoPro!E51)","v":9.9},{"$f":"IF(ISBLANK(InfoPro!F51),\"\",InfoPro!F51)","v":"Solar FV"},{"$f":"IF(ISBLANK(InfoPro!I51),\"\",YEAR(InfoPro!I51)-$G$3)","v":1},{"$f":"IF(B58=\"\",\"\",VLOOKUP(D58,Tablas!$B$2:$E$13,2,FALSE))","v":0.26},{"$f":"IF(B58=\"\",\"\",VLOOKUP(D58,Tablas!$B$2:$H$13,7,FALSE))","v":83577.200000000012},22548.240000000005,{"$f":"IF($H58=\"\",\"\",(1/(1+$C$3)^(I$6+$E58))*$H58*($C$2 - $G58))","v":2187860970.9767447},1956941834.5051382,1750395200.8096051,1565648659.0425808,1400401305.0470314,1252595085.0152338,1120389163.6987782,1002136997.9416621,896365830.00148666,801758345.26072145,717136265.88615525,641445676.10568452,573743896.33782172,513187742.69930387,459023025.67021811,16839029998.998165,1700912.1211109257]
[{"$f":"IF(ISBLANK(InfoPro!A52),\"\",InfoPro!A52)","v":"SC_1356_A2"},{"$f":"IF(ISBLANK(InfoPro!B52),\"\",InfoPro!B52)","v":"Sol de Zawady 9,9 MW"},{"$f":"IF(ISBLANK(InfoPro!E52),\"\",InfoPro!E52)","v":9.9},{"$f":"IF(ISBLANK(InfoPro!F52),\"\",InfoPro!F52)","v":"Solar FV"},{"$f":"IF(ISBLANK(InfoPro!I52),\"\",YEAR(InfoPro!I52)-$G$3)","v":1},{"$f":"IF(B59=\"\",\"\",VLOOKUP(D59,Tablas!$B$2:$E$13,2,FALSE))","v":0.26},{"$f":"IF(B59=\"\",\"\",VLOOKUP(D59,Tablas!$B$2:$H$13,7,FALSE))","v":83577.200000000012},22548.240000000005,2187860970.9767447,1956941834.5051382,1750395200.8096051,1565648659.0425808,1400401305.0470314,1252595085.0152338,1120389163.6987782,1002136997.9416621,896365830.00148666,801758345.26072145,717136265.88615525,641445676.10568452,573743896.33782172,513187742.69930387,459023025.67021811,16839029998.998165,1700912.1211109257]
[{"$f":"IF(ISBLANK(InfoPro!A53),\"\",InfoPro!A53)","v":"SC_1366_A1"},{"$f":"IF(ISBLANK(InfoPro!B53),\"\",InfoPro!B53)","v":"PARQUE SOLAR TÁNGARA 100 MW"},{"$f":"IF(ISBLANK(InfoPro!E53),\"\",InfoPro!E53)","v":100},{"$f":"IF(ISBLANK(InfoPro!F53),\"\",InfoPro!F53)","v":"Solar FV"},{"$f":"IF(ISBLANK(InfoPro!I53),\"\",YEAR(InfoPro!I53)-$G$3)","v":3},{"$f":"IF(B60=\"\",\"\",VLOOKUP(D60,Tablas!$B$2:$E$13,2,FALSE))","v":0.26},{"$f":"IF(B60=\"\",\"\",VLOOKUP(D60,Tablas!$B$2:$H$13,7,FALSE))","v":83577.200000000012},227760,17680759604.137424,15814632919.622025,14145467727.747787,12652475606.214479,11317062259.583612,10122595938.804665,9054200303.0453167,8098569144.0476894,7243800665.5167198,6479249253.5927715,5795392892.3012276,5183714572.7202396,4636596218.8910923,4147223809.3838015,3709502512.8656549,136081243428.47452,1360812.4342847452]
[{"$f":"IF(ISBLANK(InfoPro!A54),\"\",InfoPro!A54)","v":"SC_1376_A1"},{"$f":"IF(ISBLANK(InfoPro!B54),\"\",InfoPro!B54)","v":"Expansión La Loma I - 100 MW"},{"$f":"IF(ISBLANK(InfoPro!E54),\"\",InfoPro!E54)","v":100},{"$f":"IF(ISBLANK(InfoPro!F54),\"\",InfoPro!F54)","v":"Solar FV"},{"$f":"IF(ISBLANK(InfoPro!I54),\"\",YEAR(InfoPro!I54)-$G$3)","v":4},{"$f":"IF(B61=\"\",\"\",VLOOKUP(D61,Tablas!$B$2:$E$13,2,FALSE))","v":0.26},{"$f":"IF(B61=\"\",\"\",VLOOKUP(D61,Tablas!$B$2:$H$13,7,FALSE))","v":83577.200000000012},227760,15814632919.622025,14145467727.747787,12652475606.214479,11317062259.583612,10122595938.804665,9054200303.0453167,8098569144.0476894,7243800665.5167198,6479249253.5927715,5795392892.3012276,5183714572.7202396,4636596218.8910923,4147223809.3838015,3709502512.8656549,3317980780.7385106,121718464605.07561,1217184.6460507561]
[{"$f":"IF(ISBLANK(InfoPro!A55),\"\",InfoPro!A55)","v":"SC_1376_A2"},{"$f":"IF(ISBLANK(InfoPro!B55),\"\",InfoPro!B55)","v":"Expansión La Loma I - 100 MW"},{"$f":"IF(ISBLANK(InfoPro!E55),\"\",InfoPro!E55)","v":100},{"$f":"IF(ISBLANK(InfoPro!F55),\"\",InfoPro!F55)","v":"Solar FV"},{"$f":"IF(ISBLANK(InfoPro!I55),\"\",YEAR(InfoPro!I55)-$G$3)","v":4},{"$f":"IF(B62=\"\",\"\",VLOOKUP(D62,Tablas!$B$2:$E$13,2,FALSE))","v":0.26},{"$f":"IF(B62=\"\",\"\",VLOOKUP(D62,Tablas!$B$2:$H$13,7,FALSE))","v":83577.200000000012},227760,15814632919.622025,14145467727.747787,12652475606.214479,11317062259.583612,10122595938.804665,9054200303.0453167,8098569144.0476894,7243800665.5167198,6479249253.5927715,5795392892.3012276,5183714572.7202396,4636596218.8910923,4147223809.3838015,3709502512.8656549,3317980780.7385106,121718464605.07561,1217184.6460507561]
[{"$f":"IF(ISBLANK(InfoPro!A56),\"\",InfoPro!A56)","v":"SC_1377_A1"},{"$f":"IF(ISBLANK(InfoPro!B56),\"\",InfoPro!B56)","v":"Eólica Cordobita - 50MW"},{"$f":"IF(ISBLANK(InfoPro!E56),\"\",InfoPro!E56)","v":50},{"$f":"IF(ISBLANK(InfoPro!F56),\"\",InfoPro!F56)","v":"Eólico Onshore"},{"$f":"IF(ISBLANK(InfoPro!I56),\"\",YEAR(InfoPro!I56)-$G$3)","v":4},{"$f":"IF(B63=\"\",\"\",VLOOKUP(D63,Tablas!$B$2:$E$13,2,FALSE))","v":0.56999999999999995},{"$f":"IF(B63=\"\",\"\",VLOOKUP(D63,Tablas!$B$2:$H$13,7,FALSE))","v":83577.200000000012},249659.99999999997,17335270700.354912,15505608855.415842,13869059799.119715,12405241323.005114,11095922471.382034,9924796486.0304432,8877277715.5907345,7940319960.2779408,7102253989.5151529,6352642208.8686523,5682148666.2510319,5082422778.3998499,4545995329.5168591,4066185446.7950444,3637017394.2710595,133422163124.79439,2668443.2624958879]
[{"$f":"IF(ISBLANK(InfoPro!A57),\"\",InfoPro!A57)","v":"SC_1377_A2"},{"$f":"IF(ISBLANK(InfoPro!B57),\"\",InfoPro!B57)","v":"Eólica Cordobita - 50MW"},{"$f":"IF(ISBLANK(InfoPro!E57),\"\",InfoPro!E57)","v":50},{"$f":"IF(ISBLANK(InfoPro!F57),\"\",InfoPro!F57)","v":"Eólico Onshore"},{"$f":"IF(ISBLANK(InfoPro!I57),\"\",YEAR(InfoPro!I57)-$G$3)","v":4},{"$f":"IF(B64=\"\",\"\",VLOOKUP(D64,Tablas!$B$2:$E$13,2,FALSE))","v":0.56999999999999995},{"$f":"IF(B64=\"\",\"\",VLOOKUP(D64,Tablas!$B$2:$H$13,7,FALSE))","v":83577.200000000012},249659.99999999997,17335270700.354912,15505608855.415842,13869059799.119715,12405241323.005114,11095922471.382034,9924796486.0304432,8877277715.5907345,7940319960.2779408,7102253989.5151529,6352642208.8686523,5682148666.2510319,5082422778.3998499,4545995329.5168591,4066185446.7950444,3637017394.2710595,133422163124.79439,2668443.2624958879]
[{"$f":"IF(ISBLANK(InfoPro!A58),\"\",InfoPro!A58)","v":"SC_1380_A1"},{"$f":"IF(ISBLANK(InfoPro!B58),\"\",InfoPro!B58)","v":"Parque Eólico Motosira"},{"$f":"IF(ISBLANK(InfoPro!E58),\"\",InfoPro!E58)","v":300},{"$f":"IF(ISBLANK(InfoPro!F58),\"\",InfoPro!F58)","v":"Eólico Onshore"},{"$f":"IF(ISBLANK(InfoPro!I58),\"\",YEAR(InfoPro!I58)-$G$3)","v":3},{"$f":"IF(B65=\"\",\"\",VLOOKUP(D65,Tablas!$B$2:$E$13,2,FALSE))","v":0.56999999999999995},{"$f":"IF(B65=\"\",\"\",VLOOKUP(D65,Tablas!$B$2:$H$13,7,FALSE))","v":83577.200000000012},1497959.9999999998,116284995857.98073,104011624202.12946,93033653132.495056,83214358794.718292,74431447938.03067,66575534828.292206,59548778916.182655,53263666293.544411,47641919761.667648,42613523937.090912,38115853253.211914,34092891997.506187,30494536670.399097,27275971977.101154,24397112680.770267,894995870241.12061,2983319.567470402]
[{"$f":"IF(ISBLANK(InfoPro!A59),\"\",InfoPro!A59)","v":"SC_1380_A2"},{"$f":"IF(ISBLANK(InfoPro!B59),\"\",InfoPro!B59)","v":"Parque Eólico Motosira"},{"$f":"IF(ISBLANK(InfoPro!E59),\"\",InfoPro!E59)","v":300},{"$f":"IF(ISBLANK(InfoPro!F59),\"\",InfoPro!F59)","v":"Eólico Onshore"},{"$f":"IF(ISBLANK(InfoPro!I59),\"\",YEAR(InfoPro!I59)-$G$3)","v":3},{"$f":"IF(B66=\"\",\"\",VLOOKUP(D66,Tablas!$B$2:$E$13,2,FALSE))","v":0.56999999999999995},{"$f":"IF(B66=\"\",\"\",VLOOKUP(D66,Tablas!$B$2:$H$13,7,FALSE))","v":83577.200000000012},1497959.9999999998,116284995857.98073,104011624202.12946,93033653132.495056,83214358794.718292,74431447938.03067,66575534828.292206,59548778916.182655,53263666293.544411,47641919761.667648,42613523937.090912,38115853253.211914,34092891997.506187,30494536670.399097,27275971977.101154,24397112680.770267,894995870241.12061,2983319.567470402]
[{"$f":"IF(ISBLANK(InfoPro!A60),\"\",InfoPro!A60)","v":"SC_1421_A1"},{"$f":"IF(ISBLANK(InfoPro!B60),\"\",InfoPro!B60)","v":"Parque Solar Fotovoltaico SJ Solar 100 MW"},{"$f":"IF(ISBLANK(InfoPro!E60),\"\",InfoPro!E60)","v":100},{"$f":"IF(ISBLANK(InfoPro!F60),\"\",InfoPro!F60)","v":"Solar FV"},{"$f":"IF(ISBLANK(InfoPro!I60),\"\",YEAR(InfoPro!I60)-$G$3)","v":3},{"$f":"IF(B67=\"\",\"\",VLOOKUP(D67,Tablas!$B$2:$E$13,2,FALSE))","v":0.26},{"$f":"IF(B67=\"\",\"\",VLOOKUP(D67,Tablas!$B$2:$H$13,7,FALSE))","v":83577.200000000012},227760,17680759604.137424,15814632919.622025,14145467727.747787,12652475606.214479,11317062259.583612,10122595938.804665,9054200303.0453167,8098569144.0476894,7243800665.5167198,6479249253.5927715,5795392892.3012276,5183714572.7202396,4636596218.8910923,4147223809.3838015,3709502512.8656549,136081243428.47452,1360812.4342847452]
[{"$f":"IF(ISBLANK(InfoPro!A61),\"\",InfoPro!A61)","v":"SC_1421_A2"},{"$f":"IF(ISBLANK(InfoPro!B61),\"\",InfoPro!B61)","v":"Parque Solar Fotovoltaico SJ Solar 100 MW"},{"$f":"IF(ISBLANK(InfoPro!E61),\"\",InfoPro!E61)","v":100},{"$f":"IF(ISBLANK(InfoPro!F61),\"\",InfoPro!F61)","v":"Solar FV"},{"$f":"IF(ISBLANK(InfoPro!I61),\"\",YEAR(InfoPro!I61)-$G$3)","v":3},{"$f":"IF(B68=\"\",\"\",VLOOKUP(D68,Tablas!$B$2:$E$13,2,FALSE))","v":0.26},{"$f":"IF(B68=\"\",\"\",VLOOKUP(D68,Tablas!$B$2:$H$13,7,FALSE))","v":83577.200000000012},227760,{"$f":"IF($H68=\"\",\"\",(1/(1+$C$3)^(I$6+$E68))*$H68*($C$2 - $G68))","v":17680759604.137424},15814632919.622025,14145467727.747787,12652475606.214479,11317062259.583612,10122595938.804665,9054200303.0453167,8098569144.0476894,7243800665.5167198,6479249253.5927715,5795392892.3012276,5183714572.7202396,4636596218.8910923,4147223809.3838015,3709502512.8656549,136081243428.47452,1360812.4342847452]
[{"$f":"IF(ISBLANK(InfoPro!A62),\"\",InfoPro!A62)","v":"SC_1479_A1"},{"$f":"IF(ISBLANK(InfoPro!B62),\"\",InfoPro!B62)","v":"Oslo I_150MW"},{"$f":"IF(ISBLANK(InfoPro!E62),\"\",InfoPro!E62)","v":150},{"$f":"IF(ISBLANK(InfoPro!F62),\"\",InfoPro!F62)","v":"Solar FV"},{"$f":"IF(ISBLANK(InfoPro!I62),\"\",YEAR(InfoPro!I62)-$G$3)","v":3},{"$f":"IF(B69=\"\",\"\",VLOOKUP(D69,Tablas!$B$2:$E$13,2,FALSE))","v":0.26},{"$f":"IF(B69=\"\",\"\",VLOOKUP(D69,Tablas!$B$2:$H$13,7,FALSE))","v":83577.200000000012},341640,26521139406.206135,23721949379.433037,21218201591.621681,18978713409.321716,16975593389.37542,15183893908.206997,13581300454.567976,12147853716.071535,10865700998.275078,9718873880.3891582,8693089338.4518414,7775571859.0803595,6954894328.3366375,6220835714.0757027,5564253769.2984829,204121865142.71182,1360812.4342847455]
[{"$f":"IF(ISBLANK(InfoPro!A63),\"\",InfoPro!A63)","v":"SC_1479_A2"},{"$f":"IF(ISBLANK(InfoPro!B63),\"\",InfoPro!B63)","v":"Oslo I_150MW"},{"$f":"IF(ISBLANK(InfoPro!E63),\"\",InfoPro!E63)","v":150},{"$f":"IF(ISBLANK(InfoPro!F63),\"\",InfoPro!F63)","v":"Solar FV"},{"$f":"IF(ISBLANK(InfoPro!I63),\"\",YEAR(InfoPro!I63)-$G$3)","v":3},{"$f":"IF(B70=\"\",\"\",VLOOKUP(D70,Tablas!$B$2:$E$13,2,FALSE))","v":0.26},{"$f":"IF(B70=\"\",\"\",VLOOKUP(D70,Tablas!$B$2:$H$13,7,FALSE))","v":83577.200000000012},341640,26521139406.206135,23721949379.433037,21218201591.621681,18978713409.321716,16975593389.37542,15183893908.206997,13581300454.567976,12147853716.071535,10865700998.275078,9718873880.3891582,8693089338.4518414,7775571859.0803595,6954894328.3366375,6220835714.0757027,5564253769.2984829,204121865142.71182,1360812.4342847455]
[{"$f":"IF(ISBLANK(InfoPro!A64),\"\",InfoPro!A64)","v":"SC_1506_A1"},{"$f":"IF(ISBLANK(InfoPro!B64),\"\",InfoPro!B64)","v":"Parque Solar Toro Moreno"},{"$f":"IF(ISBLANK(InfoPro!E64),\"\",InfoPro!E64)","v":99.9},{"$f":"IF(ISBLANK(InfoPro!F64),\"\",InfoPro!F64)","v":"Solar FV"},{"$f":"IF(ISBLANK(InfoPro!I64),\"\",YEAR(InfoPro!I64)-$G$3)","v":-2},{"$f":"IF(B71=\"\",\"\",VLOOKUP(D71,Tablas!$B$2:$E$13,2,FALSE))","v":0.26},{"$f":"IF(B71=\"\",\"\",VLOOKUP(D71,Tablas!$B$2:$H$13,7,FALSE))","v":83577.200000000012},227532.24000000002,30851438979.39645,27595204811.624733,24682651888.751999,22077506161.674419,19747322148.188213,17663078844.533287,15798818286.702406,14131322260.020041,12639823130.608265,11305745197.324032,10112473342.86586,9045146102.7422714,8090470574.9036427,7236556864.851203,6472770004.33918,237450328598.526,2376880.1661514114]
[{"$f":"IF(ISBLANK(InfoPro!A65),\"\",InfoPro!A65)","v":"SC_1506_A2"},{"$f":"IF(ISBLANK(InfoPro!B65),\"\",InfoPro!B65)","v":"Parque Solar Toro Moreno"},{"$f":"IF(ISBLANK(InfoPro!E65),\"\",InfoPro!E65)","v":99.9},{"$f":"IF(ISBLANK(InfoPro!F65),\"\",InfoPro!F65)","v":"Solar FV"},{"$f":"IF(ISBLANK(InfoPro!I65),\"\",YEAR(InfoPro!I65)-$G$3)","v":-2},{"$f":"IF(B72=\"\",\"\",VLOOKUP(D72,Tablas!$B$2:$E$13,2,FALSE))","v":0.26},{"$f":"IF(B72=\"\",\"\",VLOOKUP(D72,Tablas!$B$2:$H$13,7,FALSE))","v":83577.200000000012},{"$f":"IF(C72=\"\",\"\",+C72*F72*24*365)","v":227532.24000000002},30851438979.39645,27595204811.624733,24682651888.751999,22077506161.674419,19747322148.188213,17663078844.533287,15798818286.702406,14131322260.020041,12639823130.608265,11305745197.324032,10112473342.86586,9045146102.7422714,8090470574.9036427,7236556864.851203,6472770004.33918,237450328598.526,2376880.1661514114]
[{"$f":"IF(ISBLANK(InfoPro!A66),\"\",InfoPro!A66)","v":"SC_1512_A1"},{"$f":"IF(ISBLANK(InfoPro!B66),\"\",InfoPro!B66)","v":"El Flamingo\n  - 200 MW"},{"$f":"IF(ISBLANK(InfoPro!E66),\"\",InfoPro!E66)","v":200},{"$f":"IF(ISBLANK(InfoPro!F66),\"\",InfoPro!F66)","v":"Solar FV"},{"$f":"IF(ISBLANK(InfoPro!I66),\"\",YEAR(InfoPro!I66)-$G$3)","v":4},{"$f":"IF(B73=\"\",\"\",VLOOKUP(D73,Tablas!$B$2:$E$13,2,FALSE))","v":0.26},{"$f":"IF(B73=\"\",\"\",VLOOKUP(D73,Tablas!$B$2:$H$13,7,FALSE))","v":83577.200000000012},455520,31629265839.244049,28290935455.495575,25304951212.428959,22634124519.167225,20245191877.609329,18108400606.090633,16197138288.095379,14487601331.03344,12958498507.185543,11590785784.602455,10367429145.440479,9273192437.7821846,8294447618.7676029,7419005025.7313099,6635961561.4770212,{"$f":"IF(W73=\"\",\"\",SUM(I73:W73))","v":243436929210.15121},{"$f":"IF(C73=0,0,IF(X73=\"\",\"\",X73/(C73*1000)))","v":1217184.6460507561}]
[{"$f":"IF(ISBLANK(InfoPro!A67),\"\",InfoPro!A67)","v":"SC_1512_A2"},{"$f":"IF(ISBLANK(InfoPro!B67),\"\",InfoPro!B67)","v":"El Flamingo\n  - 200 MW"},{"$f":"IF(ISBLANK(InfoPro!E67),\"\",InfoPro!E67)","v":200},{"$f":"IF(ISBLANK(InfoPro!F67),\"\",InfoPro!F67)","v":"Solar FV"},{"$f":"IF(ISBLANK(InfoPro!I67),\"\",YEAR(InfoPro!I67)-$G$3)","v":4},{"$f":"IF(B74=\"\",\"\",VLOOKUP(D74,Tablas!$B$2:$E$13,2,FALSE))","v":0.26},{"$f":"IF(B74=\"\",\"\",VLOOKUP(D74,Tablas!$B$2:$H$13,7,FALSE))","v":83577.200000000012},455520,31629265839.244049,28290935455.495575,25304951212.428959,22634124519.167225,20245191877.609329,18108400606.090633,16197138288.095379,14487601331.03344,12958498507.185543,11590785784.602455,10367429145.440479,9273192437.7821846,8294447618.7676029,7419005025.7313099,6635961561.4770212,243436929210.15121,1217184.6460507561]
[{"$f":"IF(ISBLANK(InfoPro!A68),\"\",InfoPro!A68)","v":"SC_1518_A1"},{"$f":"IF(ISBLANK(InfoPro!B68),\"\",InfoPro!B68)","v":"CHIRIGUANÁ - 300 MW"},{"$f":"IF(ISBLANK(InfoPro!E68),\"\",InfoPro!E68)","v":300},{"$f":"IF(ISBLANK(InfoPro!F68),\"\",InfoPro!F68)","v":"Solar FV"},{"$f":"IF(ISBLANK(InfoPro!I68),\"\",YEAR(InfoPro!I68)-$G$3)","v":4},{"$f":"IF(B75=\"\",\"\",VLOOKUP(D75,Tablas!$B$2:$E$13,2,FALSE))","v":0.26},{"$f":"IF(B75=\"\",\"\",VLOOKUP(D75,Tablas!$B$2:$H$13,7,FALSE))","v":83577.200000000012},683280,47443898758.866074,42436403183.243362,37957426818.643433,33951186778.750839,30367787816.413994,27162600909.135952,24295707432.14307,21731401996.550156,19437747760.778316,17386178676.903683,15551143718.160719,13909788656.673275,12441671428.151405,11128507538.596966,9953942342.2155323,365155393815.22681,1217184.6460507561]
[{"$f":"IF(ISBLANK(InfoPro!A69),\"\",InfoPro!A69)","v":"SC_1518_A2"},{"$f":"IF(ISBLANK(InfoPro!B69),\"\",InfoPro!B69)","v":"CHIRIGUANÁ - 300 MW"},{"$f":"IF(ISBLANK(InfoPro!E69),\"\",InfoPro!E69)","v":300},{"$f":"IF(ISBLANK(InfoPro!F69),\"\",InfoPro!F69)","v":"Solar FV"},{"$f":"IF(ISBLANK(InfoPro!I69),\"\",YEAR(InfoPro!I69)-$G$3)","v":4},{"$f":"IF(B76=\"\",\"\",VLOOKUP(D76,Tablas!$B$2:$E$13,2,FALSE))","v":0.26},{"$f":"IF(B76=\"\",\"\",VLOOKUP(D76,Tablas!$B$2:$H$13,7,FALSE))","v":83577.200000000012},683280,47443898758.866074,42436403183.243362,37957426818.643433,33951186778.750839,30367787816.413994,27162600909.135952,24295707432.14307,21731401996.550156,19437747760.778316,17386178676.903683,15551143718.160719,13909788656.673275,12441671428.151405,11128507538.596966,9953942342.2155323,365155393815.22681,1217184.6460507561]
[{"$f":"IF(ISBLANK(InfoPro!A70),\"\",InfoPro!A70)","v":"SC_1531_A1"},{"$f":"IF(ISBLANK(InfoPro!B70),\"\",InfoPro!B70)","v":"Haticos_56MW"},{"$f":"IF(ISBLANK(InfoPro!E70),\"\",InfoPro!E70)","v":56},{"$f":"IF(ISBLANK(InfoPro!F70),\"\",InfoPro!F70)","v":"Solar FV"},{"$f":"IF(ISBLANK(InfoPro!I70),\"\",YEAR(InfoPro!I70)-$G$3)","v":4},{"$f":"IF(B77=\"\",\"\",VLOOKUP(D77,Tablas!$B$2:$E$13,2,FALSE))","v":0.26},{"$f":"IF(B77=\"\",\"\",VLOOKUP(D77,Tablas!$B$2:$H$13,7,FALSE))","v":83577.200000000012},127545.60000000001,8856194434.9883347,7921461927.5387611,7085386339.4801083,6337554865.3668242,5668653725.7306128,5070352169.7053785,4535198720.6667061,4056528372.689363,3628379582.0119524,3245420019.6886873,2902880160.7233343,2596493882.5790114,2322445333.2549291,2077321407.204767,1858069237.2135663,68162340178.842331,1217184.6460507559]
[{"$f":"IF(ISBLANK(InfoPro!A71),\"\",InfoPro!A71)","v":"SC_1531_A2"},{"$f":"IF(ISBLANK(InfoPro!B71),\"\",InfoPro!B71)","v":"Haticos_56MW"},{"$f":"IF(ISBLANK(InfoPro!E71),\"\",InfoPro!E71)","v":56},{"$f":"IF(ISBLANK(InfoPro!F71),\"\",InfoPro!F71)","v":"Solar FV"},{"$f":"IF(ISBLANK(InfoPro!I71),\"\",YEAR(InfoPro!I71)-$G$3)","v":4},{"$f":"IF(B78=\"\",\"\",VLOOKUP(D78,Tablas!$B$2:$E$13,2,FALSE))","v":0.26},{"$f":"IF(B78=\"\",\"\",VLOOKUP(D78,Tablas!$B$2:$H$13,7,FALSE))","v":83577.200000000012},127545.60000000001,{"$f":"IF($H78=\"\",\"\",(1/(1+$C$3)^(I$6+$E78))*$H78*($C$2 - $G78))","v":8856194434.9883347},7921461927.5387611,7085386339.4801083,6337554865.3668242,5668653725.7306128,5070352169.7053785,4535198720.6667061,4056528372.689363,3628379582.0119524,3245420019.6886873,2902880160.7233343,2596493882.5790114,2322445333.2549291,2077321407.204767,1858069237.2135663,68162340178.842331,1217184.6460507559]
[{"$f":"IF(ISBLANK(InfoPro!A72),\"\",InfoPro!A72)","v":"SC_1532_A1"},{"$f":"IF(ISBLANK(InfoPro!B72),\"\",InfoPro!B72)","v":"Las Mangas_340.8MW"},{"$f":"IF(ISBLANK(InfoPro!E72),\"\",InfoPro!E72)","v":340.8},{"$f":"IF(ISBLANK(InfoPro!F72),\"\",InfoPro!F72)","v":"Solar FV"},{"$f":"IF(ISBLANK(InfoPro!I72),\"\",YEAR(InfoPro!I72)-$G$3)","v":4},{"$f":"IF(B79=\"\",\"\",VLOOKUP(D79,Tablas!$B$2:$E$13,2,FALSE))","v":0.26},{"$f":"IF(B79=\"\",\"\",VLOOKUP(D79,Tablas!$B$2:$H$13,7,FALSE))","v":83577.200000000012},776206.08000000007,53896268990.071869,48207754016.164467,43119636865.978943,38568548180.660957,34497806959.446304,30856714632.778442,27599923642.914528,24686872668.080978,22081281456.244167,19750698976.962585,17666099263.830578,15801519913.980843,14133738742.379997,12641984563.846153,11307678500.756845,414816527374.0976,1217184.6460507559]
[{"$f":"IF(ISBLANK(InfoPro!A73),\"\",InfoPro!A73)","v":"SC_1532_A2"},{"$f":"IF(ISBLANK(InfoPro!B73),\"\",InfoPro!B73)","v":"Las Mangas_340.8MW"},{"$f":"IF(ISBLANK(InfoPro!E73),\"\",InfoPro!E73)","v":340.8},{"$f":"IF(ISBLANK(InfoPro!F73),\"\",InfoPro!F73)","v":"Solar FV"},{"$f":"IF(ISBLANK(InfoPro!I73),\"\",YEAR(InfoPro!I73)-$G$3)","v":4},{"$f":"IF(B80=\"\",\"\",VLOOKUP(D80,Tablas!$B$2:$E$13,2,FALSE))","v":0.26},{"$f":"IF(B80=\"\",\"\",VLOOKUP(D80,Tablas!$B$2:$H$13,7,FALSE))","v":83577.200000000012},776206.08000000007,53896268990.071869,48207754016.164467,43119636865.978943,38568548180.660957,34497806959.446304,30856714632.778442,27599923642.914528,24686872668.080978,22081281456.244167,19750698976.962585,17666099263.830578,15801519913.980843,14133738742.379997,12641984563.846153,11307678500.756845,414816527374.0976,1217184.6460507559]
[{"$f":"IF(ISBLANK(InfoPro!A74),\"\",InfoPro!A74)","v":"SC_1534_A1"},{"$f":"IF(ISBLANK(InfoPro!B74),\"\",InfoPro!B74)","v":"Parque Eólico Cerrito_378MW"},{"$f":"IF(ISBLANK(InfoPro!E74),\"\",InfoPro!E74)","v":378},{"$f":"IF(ISBLANK(InfoPro!F74),\"\",InfoPro!F74)","v":"Eólico Onshore"},{"$f":"IF(ISBLANK(InfoPro!I74),\"\",YEAR(InfoPro!I74)-$G$3)","v":2},{"$f":"IF(B81=\"\",\"\",VLOOKUP(D81,Tablas!$B$2:$E$13,2,FALSE))","v":0.56999999999999995},{"$f":"IF(B81=\"\",\"\",VLOOKUP(D81,Tablas!$B$2:$H$13,7,FALSE))","v":83577.200000000012},1887429.5999999996,163808347965.22025,146519094781.05573,131054646494.68312,117222402946.94376,104850092081.34503,93783624401.918655,83885173883.648163,75031461434.390152,67112219529.865952,60028818899.701225,53693040160.73455,48025975099.047005,42957043916.857796,38423116204.702858,34367724691.147453,1260762782491.2617,3335351.2764319093]
[{"$f":"IF(ISBLANK(InfoPro!A75),\"\",InfoPro!A75)","v":"SC_1534_A2"},{"$f":"IF(ISBLANK(InfoPro!B75),\"\",InfoPro!B75)","v":"Parque Eólico Cerrito_378MW"},{"$f":"IF(ISBLANK(InfoPro!E75),\"\",InfoPro!E75)","v":378},{"$f":"IF(ISBLANK(InfoPro!F75),\"\",InfoPro!F75)","v":"Eólico Onshore"},{"$f":"IF(ISBLANK(InfoPro!I75),\"\",YEAR(InfoPro!I75)-$G$3)","v":2},{"$f":"IF(B82=\"\",\"\",VLOOKUP(D82,Tablas!$B$2:$E$13,2,FALSE))","v":0.56999999999999995},{"$f":"IF(B82=\"\",\"\",VLOOKUP(D82,Tablas!$B$2:$H$13,7,FALSE))","v":83577.200000000012},1887429.5999999996,163808347965.22025,146519094781.05573,131054646494.68312,117222402946.94376,104850092081.34503,93783624401.918655,83885173883.648163,75031461434.390152,67112219529.865952,60028818899.701225,53693040160.73455,48025975099.047005,42957043916.857796,38423116204.702858,34367724691.147453,1260762782491.2617,3335351.2764319093]
[{"$f":"IF(ISBLANK(InfoPro!A76),\"\",InfoPro!A76)","v":"SC_1535_A1"},{"$f":"IF(ISBLANK(InfoPro!B76),\"\",InfoPro!B76)","v":"Parque Eólico Cerrito 2"},{"$f":"IF(ISBLANK(InfoPro!E76),\"\",InfoPro!E76)","v":200},{"$f":"IF(ISBLANK(InfoPro!F76),\"\",InfoPro!F76)","v":"Eólico Onshore"},{"$f":"IF(ISBLANK(InfoPro!I76),\"\",YEAR(InfoPro!I76)-$G$3)","v":2},{"$f":"IF(B83=\"\",\"\",VLOOKUP(D83,Tablas!$B$2:$E$13,2,FALSE))","v":0.56999999999999995},{"$f":"IF(B83=\"\",\"\",VLOOKUP(D83,Tablas!$B$2:$H$13,7,FALSE))","v":83577.200000000012},998639.99999999988,86671083579.481613,77523330571.987152,69341082801.419647,62022435421.663368,55476239196.478859,49620965292.020454,44383689885.528137,39699185944.121773,35509110862.362938,31761279841.111763,28409015958.060612,25410568835.474609,22728594665.004128,20329691113.5994,18183981318.067436,667070255286.38184,3335351.2764319093]
[{"$f":"IF(ISBLANK(InfoPro!A77),\"\",InfoPro!A77)","v":"SC_1535_A2"},{"$f":"IF(ISBLANK(InfoPro!B77),\"\",InfoPro!B77)","v":"Parque Eólico Cerrito 2"},{"$f":"IF(ISBLANK(InfoPro!E77),\"\",InfoPro!E77)","v":200},{"$f":"IF(ISBLANK(InfoPro!F77),\"\",InfoPro!F77)","v":"Eólico Onshore"},{"$f":"IF(ISBLANK(InfoPro!I77),\"\",YEAR(InfoPro!I77)-$G$3)","v":2},{"$f":"IF(B84=\"\",\"\",VLOOKUP(D84,Tablas!$B$2:$E$13,2,FALSE))","v":0.56999999999999995},{"$f":"IF(B84=\"\",\"\",VLOOKUP(D84,Tablas!$B$2:$H$13,7,FALSE))","v":83577.200000000012},998639.99999999988,86671083579.481613,77523330571.987152,69341082801.419647,62022435421.663368,55476239196.478859,49620965292.020454,44383689885.528137,39699185944.121773,35509110862.362938,31761279841.111763,28409015958.060612,25410568835.474609,22728594665.004128,20329691113.5994,18183981318.067436,667070255286.38184,3335351.2764319093]
[{"$f":"IF(ISBLANK(InfoPro!A78),\"\",InfoPro!A78)","v":"SC_1549_A1"},{"$f":"IF(ISBLANK(InfoPro!B78),\"\",InfoPro!B78)","v":"Parque Solar Bonda"},{"$f":"IF(ISBLANK(InfoPro!E78),\"\",InfoPro!E78)","v":9.9},{"$f":"IF(ISBLANK(InfoPro!F78),\"\",InfoPro!F78)","v":"Solar FV"},{"$f":"IF(ISBLANK(InfoPro!I78),\"\",YEAR(InfoPro!I78)-$G$3)","v":2},{"$f":"IF(B85=\"\",\"\",VLOOKUP(D85,Tablas!$B$2:$E$13,2,FALSE))","v":0.26},{"$f":"IF(B85=\"\",\"\",VLOOKUP(D85,Tablas!$B$2:$H$13,7,FALSE))","v":83577.200000000012},22548.240000000005,1956941834.5051382,1750395200.8096051,1565648659.0425808,1400401305.0470314,1252595085.0152338,1120389163.6987782,1002136997.9416621,896365830.00148666,801758345.26072145,717136265.88615525,641445676.10568452,573743896.33782172,513187742.69930387,459023025.67021811,410575157.12899649,15061744185.150415,1521388.3015303449]
[{"$f":"IF(ISBLANK(InfoPro!A79),\"\",InfoPro!A79)","v":"SC_1549_A2"},{"$f":"IF(ISBLANK(InfoPro!B79),\"\",InfoPro!B79)","v":"Parque Solar Bonda"},{"$f":"IF(ISBLANK(InfoPro!E79),\"\",InfoPro!E79)","v":9.9},{"$f":"IF(ISBLANK(InfoPro!F79),\"\",InfoPro!F79)","v":"Solar FV"},{"$f":"IF(ISBLANK(InfoPro!I79),\"\",YEAR(InfoPro!I79)-$G$3)","v":2},{"$f":"IF(B86=\"\",\"\",VLOOKUP(D86,Tablas!$B$2:$E$13,2,FALSE))","v":0.26},{"$f":"IF(B86=\"\",\"\",VLOOKUP(D86,Tablas!$B$2:$H$13,7,FALSE))","v":83577.200000000012},22548.240000000005,1956941834.5051382,1750395200.8096051,1565648659.0425808,1400401305.0470314,1252595085.0152338,1120389163.6987782,1002136997.9416621,896365830.00148666,801758345.26072145,717136265.88615525,641445676.10568452,573743896.33782172,513187742.69930387,459023025.67021811,410575157.12899649,15061744185.150415,1521388.3015303449]
[{"$f":"IF(ISBLANK(InfoPro!A80),\"\",InfoPro!A80)","v":"SC_1550_A1"},{"$f":"IF(ISBLANK(InfoPro!B80),\"\",InfoPro!B80)","v":"Parque Solar Fonseca"},{"$f":"IF(ISBLANK(InfoPro!E80),\"\",InfoPro!E80)","v":9.9},{"$f":"IF(ISBLANK(InfoPro!F80),\"\",InfoPro!F80)","v":"Solar FV"},{"$f":"IF(ISBLANK(InfoPro!I80),\"\",YEAR(InfoPro!I80)-$G$3)","v":2},{"$f":"IF(B87=\"\",\"\",VLOOKUP(D87,Tablas!$B$2:$E$13,2,FALSE))","v":0.26},{"$f":"IF(B87=\"\",\"\",VLOOKUP(D87,Tablas!$B$2:$H$13,7,FALSE))","v":83577.200000000012},22548.240000000005,1956941834.5051382,1750395200.8096051,1565648659.0425808,1400401305.0470314,1252595085.0152338,1120389163.6987782,1002136997.9416621,896365830.00148666,801758345.26072145,717136265.88615525,641445676.10568452,573743896.33782172,513187742.69930387,459023025.67021811,410575157.12899649,15061744185.150415,1521388.3015303449]
[{"$f":"IF(ISBLANK(InfoPro!A81),\"\",InfoPro!A81)","v":"SC_1550_A2"},{"$f":"IF(ISBLANK(InfoPro!B81),\"\",InfoPro!B81)","v":"Parque Solar Fonseca"},{"$f":"IF(ISBLANK(InfoPro!E81),\"\",InfoPro!E81)","v":9.9},{"$f":"IF(ISBLANK(InfoPro!F81),\"\",InfoPro!F81)","v":"Solar FV"},{"$f":"IF(ISBLANK(InfoPro!I81),\"\",YEAR(InfoPro!I81)-$G$3)","v":2},{"$f":"IF(B88=\"\",\"\",VLOOKUP(D88,Tablas!$B$2:$E$13,2,FALSE))","v":0.26},{"$f":"IF(B88=\"\",\"\",VLOOKUP(D88,Tablas!$B$2:$H$13,7,FALSE))","v":83577.200000000012},22548.240000000005,{"$f":"IF($H88=\"\",\"\",(1/(1+$C$3)^(I$6+$E88))*$H88*($C$2 - $G88))","v":1956941834.5051382},1750395200.8096051,1565648659.0425808,1400401305.0470314,1252595085.0152338,1120389163.6987782,1002136997.9416621,896365830.00148666,801758345.26072145,717136265.88615525,641445676.10568452,573743896.33782172,513187742.69930387,459023025.67021811,410575157.12899649,15061744185.150415,1521388.3015303449]
[{"$f":"IF(ISBLANK(InfoPro!A82),\"\",InfoPro!A82)","v":"SC_1556_A1"},{"$f":"IF(ISBLANK(InfoPro!B82),\"\",InfoPro!B82)","v":"Copey Solar I - 100 MW"},{"$f":"IF(ISBLANK(InfoPro!E82),\"\",InfoPro!E82)","v":100},{"$f":"IF(ISBLANK(InfoPro!F82),\"\",InfoPro!F82)","v":"Solar FV"},{"$f":"IF(ISBLANK(InfoPro!I82),\"\",YEAR(InfoPro!I82)-$G$3)","v":3},{"$f":"IF(B89=\"\",\"\",VLOOKUP(D89,Tablas!$B$2:$E$13,2,FALSE))","v":0.26},{"$f":"IF(B89=\"\",\"\",VLOOKUP(D89,Tablas!$B$2:$H$13,7,FALSE))","v":83577.200000000012},227760,17680759604.137424,15814632919.622025,14145467727.747787,12652475606.214479,11317062259.583612,10122595938.804665,9054200303.0453167,8098569144.0476894,7243800665.5167198,6479249253.5927715,5795392892.3012276,5183714572.7202396,4636596218.8910923,4147223809.3838015,3709502512.8656549,136081243428.47452,1360812.4342847452]
[{"$f":"IF(ISBLANK(InfoPro!A83),\"\",InfoPro!A83)","v":"SC_1556_A2"},{"$f":"IF(ISBLANK(InfoPro!B83),\"\",InfoPro!B83)","v":"Copey Solar I - 100 MW"},{"$f":"IF(ISBLANK(InfoPro!E83),\"\",InfoPro!E83)","v":100},{"$f":"IF(ISBLANK(InfoPro!F83),\"\",InfoPro!F83)","v":"Solar FV"},{"$f":"IF(ISBLANK(InfoPro!I83),\"\",YEAR(InfoPro!I83)-$G$3)","v":3},{"$f":"IF(B90=\"\",\"\",VLOOKUP(D90,Tablas!$B$2:$E$13,2,FALSE))","v":0.26},{"$f":"IF(B90=\"\",\"\",VLOOKUP(D90,Tablas!$B$2:$H$13,7,FALSE))","v":83577.200000000012},227760,17680759604.137424,15814632919.622025,14145467727.747787,12652475606.214479,11317062259.583612,10122595938.804665,9054200303.0453167,8098569144.0476894,7243800665.5167198,6479249253.5927715,5795392892.3012276,5183714572.7202396,4636596218.8910923,4147223809.3838015,3709502512.8656549,136081243428.47452,1360812.4342847452]
[{"$f":"IF(ISBLANK(InfoPro!A84),\"\",InfoPro!A84)","v":"SC_1557_A1"},{"$f":"IF(ISBLANK(InfoPro!B84),\"\",InfoPro!B84)","v":"Copey Solar II"},{"$f":"IF(ISBLANK(InfoPro!E84),\"\",InfoPro!E84)","v":100},{"$f":"IF(ISBLANK(InfoPro!F84),\"\",InfoPro!F84)","v":"Solar FV"},{"$f":"IF(ISBLANK(InfoPro!I84),\"\",YEAR(InfoPro!I84)-$G$3)","v":4},{"$f":"IF(B91=\"\",\"\",VLOOKUP(D91,Tablas!$B$2:$E$13,2,FALSE))","v":0.26},{"$f":"IF(B91=\"\",\"\",VLOOKUP(D91,Tablas!$B$2:$H$13,7,FALSE))","v":83577.200000000012},227760,15814632919.622025,14145467727.747787,12652475606.214479,11317062259.583612,10122595938.804665,9054200303.0453167,8098569144.0476894,7243800665.5167198,6479249253.5927715,5795392892.3012276,5183714572.7202396,4636596218.8910923,4147223809.3838015,3709502512.8656549,3317980780.7385106,121718464605.07561,1217184.6460507561]
[{"$f":"IF(ISBLANK(InfoPro!A85),\"\",InfoPro!A85)","v":"SC_1557_A2"},{"$f":"IF(ISBLANK(InfoPro!B85),\"\",InfoPro!B85)","v":"Copey Solar II"},{"$f":"IF(ISBLANK(InfoPro!E85),\"\",InfoPro!E85)","v":100},{"$f":"IF(ISBLANK(InfoPro!F85),\"\",InfoPro!F85)","v":"Solar FV"},{"$f":"IF(ISBLANK(InfoPro!I85),\"\",YEAR(InfoPro!I85)-$G$3)","v":4},{"$f":"IF(B92=\"\",\"\",VLOOKUP(D92,Tablas!$B$2:$E$13,2,FALSE))","v":0.26},{"$f":"IF(B92=\"\",\"\",VLOOKUP(D92,Tablas!$B$2:$H$13,7,FALSE))","v":83577.200000000012},227760,15814632919.622025,14145467727.747787,12652475606.214479,11317062259.583612,10122595938.804665,9054200303.0453167,8098569144.0476894,7243800665.5167198,6479249253.5927715,5795392892.3012276,5183714572.7202396,4636596218.8910923,4147223809.3838015,3709502512.8656549,3317980780.7385106,121718464605.07561,1217184.6460507561]
[{"$f":"IF(ISBLANK(InfoPro!A86),\"\",InfoPro!A86)","v":"SC_1565_A1"},{"$f":"IF(ISBLANK(InfoPro!B86),\"\",InfoPro!B86)","v":"Eólica Río Córdoba 50 MW"},{"$f":"IF(ISBLANK(InfoPro!E86),\"\",InfoPro!E86)","v":50},{"$f":"IF(ISBLANK(InfoPro!F86),\"\",InfoPro!F86)","v":"Eólico Onshore"},{"$f":"IF(ISBLANK(InfoPro!I86),\"\",YEAR(InfoPro!I86)-$G$3)","v":2},{"$f":"IF(B93=\"\",\"\",VLOOKUP(D93,Tablas!$B$2:$E$13,2,FALSE))","v":0.56999999999999995},{"$f":"IF(B93=\"\",\"\",VLOOKUP(D93,Tablas!$B$2:$H$13,7,FALSE))","v":83577.200000000012},249659.99999999997,21667770894.870403,19380832642.996788,17335270700.354912,15505608855.415842,13869059799.119715,12405241323.005114,11095922471.382034,9924796486.0304432,8877277715.5907345,7940319960.2779408,7102253989.5151529,6352642208.8686523,5682148666.2510319,5082422778.3998499,4545995329.5168591,166767563821.59546,3335351.2764319093]
[{"$f":"IF(ISBLANK(InfoPro!A87),\"\",InfoPro!A87)","v":"SC_1575_A1"},{"$f":"IF(ISBLANK(InfoPro!B87),\"\",InfoPro!B87)","v":"BONDERO 70 MW"},{"$f":"IF(ISBLANK(InfoPro!E87),\"\",InfoPro!E87)","v":70},{"$f":"IF(ISBLANK(InfoPro!F87),\"\",InfoPro!F87)","v":"Eólico Onshore"},{"$f":"IF(ISBLANK(InfoPro!I87),\"\",YEAR(InfoPro!I87)-$G$3)","v":1},{"$f":"IF(B94=\"\",\"\",VLOOKUP(D94,Tablas!$B$2:$E$13,2,FALSE))","v":0.56999999999999995},{"$f":"IF(B94=\"\",\"\",VLOOKUP(D94,Tablas!$B$2:$H$13,7,FALSE))","v":83577.200000000012},349523.99999999994,33914395004.651157,30334879252.818565,27133165700.195503,24269378980.496872,21707852397.582176,19416683718.767601,17367337852.207161,15534291459.934845,13894715080.442619,12428188801.827028,11116447944.389118,9943155585.3212147,8893699092.4161129,7955008132.7514429,7115391889.7597885,261024590893.56122,3728922.7270508744]
[{"$f":"IF(ISBLANK(InfoPro!A88),\"\",InfoPro!A88)","v":"SC_1592_A1"},{"$f":"IF(ISBLANK(InfoPro!B88),\"\",InfoPro!B88)","v":"Expansión La Loma II - 100 MW"},{"$f":"IF(ISBLANK(InfoPro!E88),\"\",InfoPro!E88)","v":100},{"$f":"IF(ISBLANK(InfoPro!F88),\"\",InfoPro!F88)","v":"Solar FV"},{"$f":"IF(ISBLANK(InfoPro!I88),\"\",YEAR(InfoPro!I88)-$G$3)","v":5},{"$f":"IF(B95=\"\",\"\",VLOOKUP(D95,Tablas!$B$2:$E$13,2,FALSE))","v":0.26},{"$f":"IF(B95=\"\",\"\",VLOOKUP(D95,Tablas!$B$2:$H$13,7,FALSE))","v":83577.200000000012},227760,14145467727.747787,12652475606.214479,11317062259.583612,10122595938.804665,9054200303.0453167,8098569144.0476894,7243800665.5167198,6479249253.5927715,5795392892.3012276,5183714572.7202396,4636596218.8910923,4147223809.3838015,3709502512.8656549,3317980780.7385106,2967782451.4655738,108871614136.91916,1088716.1413691917]
[{"$f":"IF(ISBLANK(InfoPro!A89),\"\",InfoPro!A89)","v":"SC_1593_A1"},{"$f":"IF(ISBLANK(InfoPro!B89),\"\",InfoPro!B89)","v":"Parque Solar Camarones 6 MW"},{"$f":"IF(ISBLANK(InfoPro!E89),\"\",InfoPro!E89)","v":6},{"$f":"IF(ISBLANK(InfoPro!F89),\"\",InfoPro!F89)","v":"Solar FV"},{"$f":"IF(ISBLANK(InfoPro!I89),\"\",YEAR(InfoPro!I89)-$G$3)","v":1},{"$f":"IF(B96=\"\",\"\",VLOOKUP(D96,Tablas!$B$2:$E$13,2,FALSE))","v":0.26},{"$f":"IF(B96=\"\",\"\",VLOOKUP(D96,Tablas!$B$2:$H$13,7,FALSE))","v":83577.200000000012},13665.599999999999,1325976346.0465114,1186025354.245538,1060845576.2482454,948877975.17732131,848728063.66486716,759148536.37286866,679023735.57501674,607355756.32827973,543252018.18271899,485914148.64286131,434628039.93100309,388754955.21556628,347723573.5380736,311022874.36321437,278195773.13346541,10205472726.665552,1700912.1211109255]
[{"$f":"IF(ISBLANK(InfoPro!A90),\"\",InfoPro!A90)","v":"SC_1593_A2"},{"$f":"IF(ISBLANK(InfoPro!B90),\"\",InfoPro!B90)","v":"Parque Solar Camarones 6 MW"},{"$f":"IF(ISBLANK(InfoPro!E90),\"\",InfoPro!E90)","v":6},{"$f":"IF(ISBLANK(InfoPro!F90),\"\",InfoPro!F90)","v":"Solar FV"},{"$f":"IF(ISBLANK(InfoPro!I90),\"\",YEAR(InfoPro!I90)-$G$3)","v":1},{"$f":"IF(B97=\"\",\"\",VLOOKUP(D97,Tablas!$B$2:$E$13,2,FALSE))","v":0.26},{"$f":"IF(B97=\"\",\"\",VLOOKUP(D97,Tablas!$B$2:$H$13,7,FALSE))","v":83577.200000000012},13665.599999999999,1325976346.0465114,1186025354.245538,1060845576.2482454,948877975.17732131,848728063.66486716,759148536.37286866,679023735.57501674,607355756.32827973,543252018.18271899,485914148.64286131,434628039.93100309,388754955.21556628,347723573.5380736,311022874.36321437,278195773.13346541,10205472726.665552,1700912.1211109255]
[{"$f":"IF(ISBLANK(InfoPro!A91),\"\",InfoPro!A91)","v":"SC_1596_A1"},{"$f":"IF(ISBLANK(InfoPro!B91),\"\",InfoPro!B91)","v":"Expansión La Loma III - 100 MW"},{"$f":"IF(ISBLANK(InfoPro!E91),\"\",InfoPro!E91)","v":100},{"$f":"IF(ISBLANK(InfoPro!F91),\"\",InfoPro!F91)","v":"Solar FV"},{"$f":"IF(ISBLANK(InfoPro!I91),\"\",YEAR(InfoPro!I91)-$G$3)","v":6},{"$f":"IF(B98=\"\",\"\",VLOOKUP(D98,Tablas!$B$2:$E$13,2,FALSE))","v":0.26},{"$f":"IF(B98=\"\",\"\",VLOOKUP(D98,Tablas!$B$2:$H$13,7,FALSE))","v":83577.200000000012},227760,{"$f":"IF($H98=\"\",\"\",(1/(1+$C$3)^(I$6+$E98))*$H98*($C$2 - $G98))","v":12652475606.214479},11317062259.583612,10122595938.804665,9054200303.0453167,8098569144.0476894,7243800665.5167198,6479249253.5927715,5795392892.3012276,5183714572.7202396,4636596218.8910923,4147223809.3838015,3709502512.8656549,3317980780.7385106,2967782451.4655738,2654546020.9888854,97380692430.160263,973806.92430160264]
[{"$f":"IF(ISBLANK(InfoPro!A92),\"\",InfoPro!A92)","v":"SC_1656_A1"},{"$f":"IF(ISBLANK(InfoPro!B92),\"\",InfoPro!B92)","v":"Parque solar TERRɅ I"},{"$f":"IF(ISBLANK(InfoPro!E92),\"\",InfoPro!E92)","v":19.899999999999999},{"$f":"IF(ISBLANK(InfoPro!F92),\"\",InfoPro!F92)","v":"Solar FV"},{"$f":"IF(ISBLANK(InfoPro!I92),\"\",YEAR(InfoPro!I92)-$G$3)","v":1},{"$f":"IF(B99=\"\",\"\",VLOOKUP(D99,Tablas!$B$2:$E$13,2,FALSE))","v":0.26},{"$f":"IF(B99=\"\",\"\",VLOOKUP(D99,Tablas!$B$2:$H$13,7,FALSE))","v":83577.200000000012},45324.24,4397821547.7209301,3933650758.2477012,3518471161.2233467,3147111951.0047827,2814948077.8218098,2517842645.6366811,2252095389.6571388,2014396591.8221281,1801785860.3060181,1611615259.6654902,1441516332.4378271,1289370601.4649615,1153283185.5679443,1031559199.9713277,922682647.55932713,33848151210.107414,1700912.1211109255]
[{"$f":"IF(ISBLANK(InfoPro!A93),\"\",InfoPro!A93)","v":"SC_1656_A2"},{"$f":"IF(ISBLANK(InfoPro!B93),\"\",InfoPro!B93)","v":"Parque solar TERRɅ I"},{"$f":"IF(ISBLANK(InfoPro!E93),\"\",InfoPro!E93)","v":19.899999999999999},{"$f":"IF(ISBLANK(InfoPro!F93),\"\",InfoPro!F93)","v":"Solar FV"},{"$f":"IF(ISBLANK(InfoPro!I93),\"\",YEAR(InfoPro!I93)-$G$3)","v":1},{"$f":"IF(B100=\"\",\"\",VLOOKUP(D100,Tablas!$B$2:$E$13,2,FALSE))","v":0.26},{"$f":"IF(B100=\"\",\"\",VLOOKUP(D100,Tablas!$B$2:$H$13,7,FALSE))","v":83577.200000000012},45324.24,4397821547.7209301,3933650758.2477012,3518471161.2233467,3147111951.0047827,2814948077.8218098,2517842645.6366811,2252095389.6571388,2014396591.8221281,1801785860.3060181,1611615259.6654902,1441516332.4378271,1289370601.4649615,1153283185.5679443,1031559199.9713277,922682647.55932713,33848151210.107414,1700912.1211109255]
[{"$f":"IF(ISBLANK(InfoPro!A94),\"\",InfoPro!A94)","v":"SC_1698_A1"},{"$f":"IF(ISBLANK(InfoPro!B94),\"\",InfoPro!B94)","v":"Barlovento 2_500MW"},{"$f":"IF(ISBLANK(InfoPro!E94),\"\",InfoPro!E94)","v":500},{"$f":"IF(ISBLANK(InfoPro!F94),\"\",InfoPro!F94)","v":"Eólico Offshore"},{"$f":"IF(ISBLANK(InfoPro!I94),\"\",YEAR(InfoPro!I94)-$G$3)","v":11},{"$f":"IF(B101=\"\",\"\",VLOOKUP(D101,Tablas!$B$2:$E$13,2,FALSE))","v":0.56999999999999995},{"$f":"IF(B101=\"\",\"\",VLOOKUP(D101,Tablas!$B$2:$H$13,7,FALSE))","v":83577.200000000012},2496600,79403199602.779419,71022539895.151535,63526422088.686531,56821486662.510323,50824227783.998505,45459953295.168594,40661854467.950447,36370173942.710594,32531461487.218796,29097908306.993549,26026751616.273308,23279742053.911728,20822667311.19117,18624926038.63253,16659146725.073818,611132461278.25085,1222264.9225565018]
[{"$f":"IF(ISBLANK(InfoPro!A95),\"\",InfoPro!A95)","v":"SC_1699_A1"},{"$f":"IF(ISBLANK(InfoPro!B95),\"\",InfoPro!B95)","v":"PARQUE EOLICO GUAJIRA II de 302.4 MW"},{"$f":"IF(ISBLANK(InfoPro!E95),\"\",InfoPro!E95)","v":302.39999999999998},{"$f":"IF(ISBLANK(InfoPro!F95),\"\",InfoPro!F95)","v":"Eólico Onshore"},{"$f":"IF(ISBLANK(InfoPro!I95),\"\",YEAR(InfoPro!I95)-$G$3)","v":4},{"$f":"IF(B102=\"\",\"\",VLOOKUP(D102,Tablas!$B$2:$E$13,2,FALSE))","v":0.56999999999999995},{"$f":"IF(B102=\"\",\"\",VLOOKUP(D102,Tablas!$B$2:$H$13,7,FALSE))","v":83577.200000000012},1509943.6799999997,104843717195.74649,93777922357.555008,83880073665.076035,75026899521.534927,67108139106.918533,60025169147.512115,53689775623.892761,48023055119.760986,42954432128.587639,38420780079.23761,34365635133.486237,30738492963.762287,27494179752.917961,24592289582.216427,21996681200.551365,806937242578.75635,2668443.2624958875]
[{"$f":"IF(ISBLANK(InfoPro!A96),\"\",InfoPro!A96)","v":"SC_1699_A2"},{"$f":"IF(ISBLANK(InfoPro!B96),\"\",InfoPro!B96)","v":"PARQUE EOLICO GUAJIRA II de 302.4 MW"},{"$f":"IF(ISBLANK(InfoPro!E96),\"\",InfoPro!E96)","v":302.39999999999998},{"$f":"IF(ISBLANK(InfoPro!F96),\"\",InfoPro!F96)","v":"Eólico Onshore"},{"$f":"IF(ISBLANK(InfoPro!I96),\"\",YEAR(InfoPro!I96)-$G$3)","v":4},{"$f":"IF(B103=\"\",\"\",VLOOKUP(D103,Tablas!$B$2:$E$13,2,FALSE))","v":0.56999999999999995},{"$f":"IF(B103=\"\",\"\",VLOOKUP(D103,Tablas!$B$2:$H$13,7,FALSE))","v":83577.200000000012},1509943.6799999997,104843717195.74649,93777922357.555008,83880073665.076035,75026899521.534927,67108139106.918533,60025169147.512115,53689775623.892761,48023055119.760986,42954432128.587639,38420780079.23761,34365635133.486237,30738492963.762287,27494179752.917961,24592289582.216427,21996681200.551365,806937242578.75635,2668443.2624958875]
[{"$f":"IF(ISBLANK(InfoPro!A97),\"\",InfoPro!A97)","v":"SC_1703_A1"},{"$f":"IF(ISBLANK(InfoPro!B97),\"\",InfoPro!B97)","v":"Barlovento 3 de 500 MW"},{"$f":"IF(ISBLANK(InfoPro!E97),\"\",InfoPro!E97)","v":500},{"$f":"IF(ISBLANK(InfoPro!F97),\"\",InfoPro!F97)","v":"Eólico Offshore"},{"$f":"IF(ISBLANK(InfoPro!I97),\"\",YEAR(InfoPro!I97)-$G$3)","v":11},{"$f":"IF(B104=\"\",\"\",VLOOKUP(D104,Tablas!$B$2:$E$13,2,FALSE))","v":0.56999999999999995},{"$f":"IF(B104=\"\",\"\",VLOOKUP(D104,Tablas!$B$2:$H$13,7,FALSE))","v":83577.200000000012},2496600,79403199602.779419,71022539895.151535,63526422088.686531,56821486662.510323,50824227783.998505,45459953295.168594,40661854467.950447,36370173942.710594,32531461487.218796,29097908306.993549,26026751616.273308,23279742053.911728,20822667311.19117,18624926038.63253,16659146725.073818,611132461278.25085,1222264.9225565018]
[{"$f":"IF(ISBLANK(InfoPro!A98),\"\",InfoPro!A98)","v":"SC_1707_A1"},{"$f":"IF(ISBLANK(InfoPro!B98),\"\",InfoPro!B98)","v":"Santa Marta II - 50 MW"},{"$f":"IF(ISBLANK(InfoPro!E98),\"\",InfoPro!E98)","v":50},{"$f":"IF(ISBLANK(InfoPro!F98),\"\",InfoPro!F98)","v":"Solar FV"},{"$f":"IF(ISBLANK(InfoPro!I98),\"\",YEAR(InfoPro!I98)-$G$3)","v":2},{"$f":"IF(B105=\"\",\"\",VLOOKUP(D105,Tablas!$B$2:$E$13,2,FALSE))","v":0.26},{"$f":"IF(B105=\"\",\"\",VLOOKUP(D105,Tablas!$B$2:$H$13,7,FALSE))","v":83577.200000000012},113880,9883544618.7128162,8840379802.0687122,7907316459.8110123,7072733863.8738937,6326237803.1072397,5658531129.7918062,5061297969.4023323,4527100151.5226583,4049284572.0238447,3621900332.7583599,3239624626.7963858,2897696446.1506138,2591857286.3601198,2318298109.4455462,2073611904.6919007,76069415076.517242,1521388.3015303449]
[{"$f":"IF(ISBLANK(InfoPro!A99),\"\",InfoPro!A99)","v":"SC_1710_A1"},{"$f":"IF(ISBLANK(InfoPro!B99),\"\",InfoPro!B99)","v":"Parque Eólico Trupillo_100MW"},{"$f":"IF(ISBLANK(InfoPro!E99),\"\",InfoPro!E99)","v":100},{"$f":"IF(ISBLANK(InfoPro!F99),\"\",InfoPro!F99)","v":"Eólico Onshore"},{"$f":"IF(ISBLANK(InfoPro!I99),\"\",YEAR(InfoPro!I99)-$G$3)","v":5},{"$f":"IF(B106=\"\",\"\",VLOOKUP(D106,Tablas!$B$2:$E$13,2,FALSE))","v":0.56999999999999995},{"$f":"IF(B106=\"\",\"\",VLOOKUP(D106,Tablas!$B$2:$H$13,7,FALSE))","v":83577.200000000012},499319.99999999994,31011217710.831684,27738119598.239429,24810482646.010227,22191844942.764069,19849592972.060886,17754555431.181469,15880639920.555882,14204507979.030306,12705284417.737305,11364297332.502064,10164845556.7997,9091990659.0337181,8132370893.5900888,7274034788.542119,6506292297.443758,238680077146.32272,2386800.7714632275]
[{"$f":"IF(ISBLANK(InfoPro!A100),\"\",InfoPro!A100)","v":"SC_1710_A2"},{"$f":"IF(ISBLANK(InfoPro!B100),\"\",InfoPro!B100)","v":"Parque Eólico Trupillo_100MW"},{"$f":"IF(ISBLANK(InfoPro!E100),\"\",InfoPro!E100)","v":100},{"$f":"IF(ISBLANK(InfoPro!F100),\"\",InfoPro!F100)","v":"Eólico Onshore"},{"$f":"IF(ISBLANK(InfoPro!I100),\"\",YEAR(InfoPro!I100)-$G$3)","v":5},{"$f":"IF(B107=\"\",\"\",VLOOKUP(D107,Tablas!$B$2:$E$13,2,FALSE))","v":0.56999999999999995},{"$f":"IF(B107=\"\",\"\",VLOOKUP(D107,Tablas!$B$2:$H$13,7,FALSE))","v":83577.200000000012},499319.99999999994,31011217710.831684,27738119598.239429,24810482646.010227,22191844942.764069,19849592972.060886,17754555431.181469,15880639920.555882,14204507979.030306,12705284417.737305,11364297332.502064,10164845556.7997,9091990659.0337181,8132370893.5900888,7274034788.542119,6506292297.443758,238680077146.32272,2386800.7714632275]
[{"$f":"IF(ISBLANK(InfoPro!A101),\"\",InfoPro!A101)","v":"SC_1718_A1"},{"$f":"IF(ISBLANK(InfoPro!B101),\"\",InfoPro!B101)","v":"Autogeneración Drummond 50 MW"},{"$f":"IF(ISBLANK(InfoPro!E101),\"\",InfoPro!E101)","v":50},{"$f":"IF(ISBLANK(InfoPro!F101),\"\",InfoPro!F101)","v":"Solar FV"},{"$f":"IF(ISBLANK(InfoPro!I101),\"\",YEAR(InfoPro!I101)-$G$3)","v":0},{"$f":"IF(B108=\"\",\"\",VLOOKUP(D108,Tablas!$B$2:$E$13,2,FALSE))","v":0.26},{"$f":"IF(B108=\"\",\"\",VLOOKUP(D108,Tablas!$B$2:$H$13,7,FALSE))","v":83577.200000000012},{"$f":"IF(C108=\"\",\"\",+C108*F108*24*365)","v":113880},12353679623.999998,11049802883.72093,9883544618.7128162,8840379802.0687122,7907316459.8110123,7072733863.8738937,6326237803.1072397,5658531129.7918062,5061297969.4023323,4527100151.5226583,4049284572.0238447,3621900332.7583599,3239624626.7963858,2897696446.1506138,2591857286.3601198,{"$f":"IF(W108=\"\",\"\",SUM(I108:W108))","v":95080987570.100739},{"$f":"IF(C108=0,0,IF(X108=\"\",\"\",X108/(C108*1000)))","v":1901619.7514020149}]
[{"$f":"IF(ISBLANK(InfoPro!A102),\"\",InfoPro!A102)","v":"SC_1722_A1"},{"$f":"IF(ISBLANK(InfoPro!B102),\"\",InfoPro!B102)","v":"PARQUE EÓLICO MONSAUI 9,9 MW"},{"$f":"IF(ISBLANK(InfoPro!E102),\"\",InfoPro!E102)","v":9.9},{"$f":"IF(ISBLANK(InfoPro!F102),\"\",InfoPro!F102)","v":"Eólico Onshore"},{"$f":"IF(ISBLANK(InfoPro!I102),\"\",YEAR(InfoPro!I102)-$G$3)","v":4},{"$f":"IF(B109=\"\",\"\",VLOOKUP(D109,Tablas!$B$2:$E$13,2,FALSE))","v":0.56999999999999995},{"$f":"IF(B109=\"\",\"\",VLOOKUP(D109,Tablas!$B$2:$H$13,7,FALSE))","v":83577.200000000012},49432.679999999993,3432383598.6702724,3070110553.3723364,2746073840.2257037,2456237781.9550123,2196992649.333643,1965109704.2340274,1757700987.6869657,1572183352.1350322,1406246289.9240003,1257823157.355993,1125065435.9177041,1006319710.1231701,900107075.24433804,805104718.46541882,720129444.06566978,26417588298.709286,2668443.2624958875]
[{"$f":"IF(ISBLANK(InfoPro!A103),\"\",InfoPro!A103)","v":"SC_1722_A2"},{"$f":"IF(ISBLANK(InfoPro!B103),\"\",InfoPro!B103)","v":"PARQUE EÓLICO MONSAUI 9,9 MW"},{"$f":"IF(ISBLANK(InfoPro!E103),\"\",InfoPro!E103)","v":9.9},{"$f":"IF(ISBLANK(InfoPro!F103),\"\",InfoPro!F103)","v":"Eólico Onshore"},{"$f":"IF(ISBLANK(InfoPro!I103),\"\",YEAR(InfoPro!I103)-$G$3)","v":4},{"$f":"IF(B110=\"\",\"\",VLOOKUP(D110,Tablas!$B$2:$E$13,2,FALSE))","v":0.56999999999999995},{"$f":"IF(B110=\"\",\"\",VLOOKUP(D110,Tablas!$B$2:$H$13,7,FALSE))","v":83577.200000000012},49432.679999999993,3432383598.6702724,3070110553.3723364,2746073840.2257037,2456237781.9550123,2196992649.333643,1965109704.2340274,1757700987.6869657,1572183352.1350322,1406246289.9240003,1257823157.355993,1125065435.9177041,1006319710.1231701,900107075.24433804,805104718.46541882,720129444.06566978,26417588298.709286,2668443.2624958875]
[{"$f":"IF(ISBLANK(InfoPro!A104),\"\",InfoPro!A104)","v":"SC_1728_A1"},{"$f":"IF(ISBLANK(InfoPro!B104),\"\",InfoPro!B104)","v":"PARQUE SOLAR CAÑAHUATE II - 190 MW"},{"$f":"IF(ISBLANK(InfoPro!E104),\"\",InfoPro!E104)","v":190},{"$f":"IF(ISBLANK(InfoPro!F104),\"\",InfoPro!F104)","v":"Solar FV"},{"$f":"IF(ISBLANK(InfoPro!I104),\"\",YEAR(InfoPro!I104)-$G$3)","v":1},{"$f":"IF(B111=\"\",\"\",VLOOKUP(D111,Tablas!$B$2:$E$13,2,FALSE))","v":0.26},{"$f":"IF(B111=\"\",\"\",VLOOKUP(D111,Tablas!$B$2:$H$13,7,FALSE))","v":83577.200000000012},432743.99999999994,41989250958.139526,37557469551.108704,33593443247.861095,30047802547.281845,26876388682.720795,24039703651.807507,21502418293.208866,19232932283.728859,17202980575.786098,15387281373.690609,13763221264.481764,12310573581.826263,11011246495.37233,9849057688.1684551,8809532815.893074,323173303011.07581,1700912.1211109252]
[{"$f":"IF(ISBLANK(InfoPro!A105),\"\",InfoPro!A105)","v":"SC_1729_A1"},{"$f":"IF(ISBLANK(InfoPro!B105),\"\",InfoPro!B105)","v":"TR Solar 17"},{"$f":"IF(ISBLANK(InfoPro!E105),\"\",InfoPro!E105)","v":200},{"$f":"IF(ISBLANK(InfoPro!F105),\"\",InfoPro!F105)","v":"Solar FV"},{"$f":"IF(ISBLANK(InfoPro!I105),\"\",YEAR(InfoPro!I105)-$G$3)","v":3},{"$f":"IF(B112=\"\",\"\",VLOOKUP(D112,Tablas!$B$2:$E$13,2,FALSE))","v":0.26},{"$f":"IF(B112=\"\",\"\",VLOOKUP(D112,Tablas!$B$2:$H$13,7,FALSE))","v":83577.200000000012},455520,35361519208.274849,31629265839.244049,28290935455.495575,25304951212.428959,22634124519.167225,20245191877.609329,18108400606.090633,16197138288.095379,14487601331.03344,12958498507.185543,11590785784.602455,10367429145.440479,9273192437.7821846,8294447618.7676029,7419005025.7313099,272162486856.94904,1360812.4342847452]
[{"$f":"IF(ISBLANK(InfoPro!A106),\"\",InfoPro!A106)","v":"SC_1729_A2"},{"$f":"IF(ISBLANK(InfoPro!B106),\"\",InfoPro!B106)","v":"TR Solar 17"},{"$f":"IF(ISBLANK(InfoPro!E106),\"\",InfoPro!E106)","v":200},{"$f":"IF(ISBLANK(InfoPro!F106),\"\",InfoPro!F106)","v":"Solar FV"},{"$f":"IF(ISBLANK(InfoPro!I106),\"\",YEAR(InfoPro!I106)-$G$3)","v":3},{"$f":"IF(B113=\"\",\"\",VLOOKUP(D113,Tablas!$B$2:$E$13,2,FALSE))","v":0.26},{"$f":"IF(B113=\"\",\"\",VLOOKUP(D113,Tablas!$B$2:$H$13,7,FALSE))","v":83577.200000000012},455520,35361519208.274849,31629265839.244049,28290935455.495575,25304951212.428959,22634124519.167225,20245191877.609329,18108400606.090633,16197138288.095379,14487601331.03344,12958498507.185543,11590785784.602455,10367429145.440479,9273192437.7821846,8294447618.7676029,7419005025.7313099,272162486856.94904,1360812.4342847452]
[{"$f":"IF(ISBLANK(InfoPro!A107),\"\",InfoPro!A107)","v":"SC_1746_A1"},{"$f":"IF(ISBLANK(InfoPro!B107),\"\",InfoPro!B107)","v":"Parque Solar Nuevo Mundo"},{"$f":"IF(ISBLANK(InfoPro!E107),\"\",InfoPro!E107)","v":99.99},{"$f":"IF(ISBLANK(InfoPro!F107),\"\",InfoPro!F107)","v":"Solar FV"},{"$f":"IF(ISBLANK(InfoPro!I107),\"\",YEAR(InfoPro!I107)-$G$3)","v":2},{"$f":"IF(B114=\"\",\"\",VLOOKUP(D114,Tablas!$B$2:$E$13,2,FALSE))","v":0.26},{"$f":"IF(B114=\"\",\"\",VLOOKUP(D114,Tablas!$B$2:$H$13,7,FALSE))","v":83577.200000000012},227737.22399999999,{"$f":"IF($H114=\"\",\"\",(1/(1+$C$3)^(I$6+$E114))*$H114*($C$2 - $G114))","v":19765112528.501892},17678991528.17701,15813051456.330063,14144053180.975012,12651210358.653858,11315930553.357655,10121583679.210783,9053294883.0150127,8097759287.1332846,7243076285.4501677,6478601328.6674118,5794813353.0119963,5183196201.2629671,4636132559.2692022,4146809087.0028634,152123616270.01917,1521388.3015303446]
[{"$f":"IF(ISBLANK(InfoPro!A108),\"\",InfoPro!A108)","v":"SC_1746_A2"},{"$f":"IF(ISBLANK(InfoPro!B108),\"\",InfoPro!B108)","v":"Parque Solar Nuevo Mundo"},{"$f":"IF(ISBLANK(InfoPro!E108),\"\",InfoPro!E108)","v":99.99},{"$f":"IF(ISBLANK(InfoPro!F108),\"\",InfoPro!F108)","v":"Solar FV"},{"$f":"IF(ISBLANK(InfoPro!I108),\"\",YEAR(InfoPro!I108)-$G$3)","v":2},{"$f":"IF(B115=\"\",\"\",VLOOKUP(D115,Tablas!$B$2:$E$13,2,FALSE))","v":0.26},{"$f":"IF(B115=\"\",\"\",VLOOKUP(D115,Tablas!$B$2:$H$13,7,FALSE))","v":83577.200000000012},227737.22399999999,19765112528.501892,17678991528.17701,15813051456.330063,14144053180.975012,12651210358.653858,11315930553.357655,10121583679.210783,9053294883.0150127,8097759287.1332846,7243076285.4501677,6478601328.6674118,5794813353.0119963,5183196201.2629671,4636132559.2692022,4146809087.0028634,152123616270.01917,1521388.3015303446]
[{"$f":"IF(ISBLANK(InfoPro!A109),\"\",InfoPro!A109)","v":"SC_1752_A1"},{"$f":"IF(ISBLANK(InfoPro!B109),\"\",InfoPro!B109)","v":"OWF BERGANTIN 300"},{"$f":"IF(ISBLANK(InfoPro!E109),\"\",InfoPro!E109)","v":300},{"$f":"IF(ISBLANK(InfoPro!F109),\"\",InfoPro!F109)","v":"Eólico Offshore"},{"$f":"IF(ISBLANK(InfoPro!I109),\"\",YEAR(InfoPro!I109)-$G$3)","v":9},{"$f":"IF(B116=\"\",\"\",VLOOKUP(D116,Tablas!$B$2:$E$13,2,FALSE))","v":0.56999999999999995},{"$f":"IF(B116=\"\",\"\",VLOOKUP(D116,Tablas!$B$2:$H$13,7,FALSE))","v":83577.200000000012},1497959.9999999998,59548778916.182655,53263666293.544411,47641919761.667648,42613523937.090912,38115853253.211914,34092891997.506187,30494536670.399097,27275971977.101154,24397112680.770267,21822104365.626354,19518876892.331272,17458744984.196125,15616050969.763983,13967845232.347033,12493600386.714699,458321478318.45374,1527738.2610615124]
[{"$f":"IF(ISBLANK(InfoPro!A110),\"\",InfoPro!A110)","v":"SC_1752_A2"},{"$f":"IF(ISBLANK(InfoPro!B110),\"\",InfoPro!B110)","v":"OWF BERGANTIN 300"},{"$f":"IF(ISBLANK(InfoPro!E110),\"\",InfoPro!E110)","v":300},{"$f":"IF(ISBLANK(InfoPro!F110),\"\",InfoPro!F110)","v":"Eólico Offshore"},{"$f":"IF(ISBLANK(InfoPro!I110),\"\",YEAR(InfoPro!I110)-$G$3)","v":9},{"$f":"IF(B117=\"\",\"\",VLOOKUP(D117,Tablas!$B$2:$E$13,2,FALSE))","v":0.56999999999999995},{"$f":"IF(B117=\"\",\"\",VLOOKUP(D117,Tablas!$B$2:$H$13,7,FALSE))","v":83577.200000000012},1497959.9999999998,59548778916.182655,53263666293.544411,47641919761.667648,42613523937.090912,38115853253.211914,34092891997.506187,30494536670.399097,27275971977.101154,24397112680.770267,21822104365.626354,19518876892.331272,17458744984.196125,15616050969.763983,13967845232.347033,12493600386.714699,458321478318.45374,1527738.2610615124]
[{"$f":"IF(ISBLANK(InfoPro!A111),\"\",InfoPro!A111)","v":"SC_1756_A1"},{"$f":"IF(ISBLANK(InfoPro!B111),\"\",InfoPro!B111)","v":"Barlovento 4_500MW"},{"$f":"IF(ISBLANK(InfoPro!E111),\"\",InfoPro!E111)","v":500},{"$f":"IF(ISBLANK(InfoPro!F111),\"\",InfoPro!F111)","v":"Eólico Offshore"},{"$f":"IF(ISBLANK(InfoPro!I111),\"\",YEAR(InfoPro!I111)-$G$3)","v":11},{"$f":"IF(B118=\"\",\"\",VLOOKUP(D118,Tablas!$B$2:$E$13,2,FALSE))","v":0.56999999999999995},{"$f":"IF(B118=\"\",\"\",VLOOKUP(D118,Tablas!$B$2:$H$13,7,FALSE))","v":83577.200000000012},2496600,79403199602.779419,71022539895.151535,63526422088.686531,56821486662.510323,50824227783.998505,45459953295.168594,40661854467.950447,36370173942.710594,32531461487.218796,29097908306.993549,26026751616.273308,23279742053.911728,20822667311.19117,18624926038.63253,16659146725.073818,611132461278.25085,1222264.9225565018]
[{"$f":"IF(ISBLANK(InfoPro!A112),\"\",InfoPro!A112)","v":"SC_1765_A1"},{"$f":"IF(ISBLANK(InfoPro!B112),\"\",InfoPro!B112)","v":"PARQUE SOLAR CIUDAD BLANCA - 199 MW"},{"$f":"IF(ISBLANK(InfoPro!E112),\"\",InfoPro!E112)","v":19.899999999999999},{"$f":"IF(ISBLANK(InfoPro!F112),\"\",InfoPro!F112)","v":"Solar FV"},{"$f":"IF(ISBLANK(InfoPro!I112),\"\",YEAR(InfoPro!I112)-$G$3)","v":3},{"$f":"IF(B119=\"\",\"\",VLOOKUP(D119,Tablas!$B$2:$E$13,2,FALSE))","v":0.26},{"$f":"IF(B119=\"\",\"\",VLOOKUP(D119,Tablas!$B$2:$H$13,7,FALSE))","v":83577.200000000012},45324.24,3518471161.2233467,3147111951.0047827,2814948077.8218098,2517842645.6366811,2252095389.6571388,2014396591.8221281,1801785860.3060181,1611615259.6654902,1441516332.4378271,1289370601.4649615,1153283185.5679443,1031559199.9713277,922682647.55932713,825297538.06737661,738191000.0602653,27080167442.266422,1360812.4342847448]
[{"$f":"IF(ISBLANK(InfoPro!A113),\"\",InfoPro!A113)","v":"SC_1765_A2"},{"$f":"IF(ISBLANK(InfoPro!B113),\"\",InfoPro!B113)","v":"PARQUE SOLAR CIUDAD BLANCA - 199 MW"},{"$f":"IF(ISBLANK(InfoPro!E113),\"\",InfoPro!E113)","v":19.899999999999999},{"$f":"IF(ISBLANK(InfoPro!F113),\"\",InfoPro!F113)","v":"Solar FV"},{"$f":"IF(ISBLANK(InfoPro!I113),\"\",YEAR(InfoPro!I113)-$G$3)","v":3},{"$f":"IF(B120=\"\",\"\",VLOOKUP(D120,Tablas!$B$2:$E$13,2,FALSE))","v":0.26},{"$f":"IF(B120=\"\",\"\",VLOOKUP(D120,Tablas!$B$2:$H$13,7,FALSE))","v":83577.200000000012},45324.24,3518471161.2233467,3147111951.0047827,2814948077.8218098,2517842645.6366811,2252095389.6571388,2014396591.8221281,1801785860.3060181,1611615259.6654902,1441516332.4378271,1289370601.4649615,1153283185.5679443,1031559199.9713277,922682647.55932713,825297538.06737661,738191000.0602653,27080167442.266422,1360812.4342847448]
[{"$f":"IF(ISBLANK(InfoPro!A114),\"\",InfoPro!A114)","v":"SC_1779_A1"},{"$f":"IF(ISBLANK(InfoPro!B114),\"\",InfoPro!B114)","v":"Pétalo del Cesar III El Paso"},{"$f":"IF(ISBLANK(InfoPro!E114),\"\",InfoPro!E114)","v":9.9},{"$f":"IF(ISBLANK(InfoPro!F114),\"\",InfoPro!F114)","v":"Solar FV"},{"$f":"IF(ISBLANK(InfoPro!I114),\"\",YEAR(InfoPro!I114)-$G$3)","v":3},{"$f":"IF(B121=\"\",\"\",VLOOKUP(D121,Tablas!$B$2:$E$13,2,FALSE))","v":0.26},{"$f":"IF(B121=\"\",\"\",VLOOKUP(D121,Tablas!$B$2:$H$13,7,FALSE))","v":83577.200000000012},22548.240000000005,1750395200.8096051,1565648659.0425808,1400401305.0470314,1252595085.0152338,1120389163.6987782,1002136997.9416621,896365830.00148666,801758345.26072145,717136265.88615525,641445676.10568452,573743896.33782172,513187742.69930387,459023025.67021811,410575157.12899649,367240748.77369994,13472043099.41898,1360812.4342847455]
[{"$f":"IF(ISBLANK(InfoPro!A115),\"\",InfoPro!A115)","v":"SC_1779_A2"},{"$f":"IF(ISBLANK(InfoPro!B115),\"\",InfoPro!B115)","v":"Pétalo del Cesar III El Paso"},{"$f":"IF(ISBLANK(InfoPro!E115),\"\",InfoPro!E115)","v":9.9},{"$f":"IF(ISBLANK(InfoPro!F115),\"\",InfoPro!F115)","v":"Solar FV"},{"$f":"IF(ISBLANK(InfoPro!I115),\"\",YEAR(InfoPro!I115)-$G$3)","v":3},{"$f":"IF(B122=\"\",\"\",VLOOKUP(D122,Tablas!$B$2:$E$13,2,FALSE))","v":0.26},{"$f":"IF(B122=\"\",\"\",VLOOKUP(D122,Tablas!$B$2:$H$13,7,FALSE))","v":83577.200000000012},22548.240000000005,1750395200.8096051,1565648659.0425808,1400401305.0470314,1252595085.0152338,1120389163.6987782,1002136997.9416621,896365830.00148666,801758345.26072145,717136265.88615525,641445676.10568452,573743896.33782172,513187742.69930387,459023025.67021811,410575157.12899649,367240748.77369994,13472043099.41898,1360812.4342847455]
[{"$f":"IF(ISBLANK(InfoPro!A116),\"\",InfoPro!A116)","v":"SC_1783_A1"},{"$f":"IF(ISBLANK(InfoPro!B116),\"\",InfoPro!B116)","v":"Pétalo del Cesar IV La Loma"},{"$f":"IF(ISBLANK(InfoPro!E116),\"\",InfoPro!E116)","v":9.9},{"$f":"IF(ISBLANK(InfoPro!F116),\"\",InfoPro!F116)","v":"Solar FV"},{"$f":"IF(ISBLANK(InfoPro!I116),\"\",YEAR(InfoPro!I116)-$G$3)","v":3},{"$f":"IF(B123=\"\",\"\",VLOOKUP(D123,Tablas!$B$2:$E$13,2,FALSE))","v":0.26},{"$f":"IF(B123=\"\",\"\",VLOOKUP(D123,Tablas!$B$2:$H$13,7,FALSE))","v":83577.200000000012},22548.240000000005,1750395200.8096051,1565648659.0425808,1400401305.0470314,1252595085.0152338,1120389163.6987782,1002136997.9416621,896365830.00148666,801758345.26072145,717136265.88615525,641445676.10568452,573743896.33782172,513187742.69930387,459023025.67021811,410575157.12899649,367240748.77369994,13472043099.41898,1360812.4342847455]
[{"$f":"IF(ISBLANK(InfoPro!A117),\"\",InfoPro!A117)","v":"SC_1783_A2"},{"$f":"IF(ISBLANK(InfoPro!B117),\"\",InfoPro!B117)","v":"Pétalo del Cesar IV La Loma"},{"$f":"IF(ISBLANK(InfoPro!E117),\"\",InfoPro!E117)","v":9.9},{"$f":"IF(ISBLANK(InfoPro!F117),\"\",InfoPro!F117)","v":"Solar FV"},{"$f":"IF(ISBLANK(InfoPro!I117),\"\",YEAR(InfoPro!I117)-$G$3)","v":3},{"$f":"IF(B124=\"\",\"\",VLOOKUP(D124,Tablas!$B$2:$E$13,2,FALSE))","v":0.26},{"$f":"IF(B124=\"\",\"\",VLOOKUP(D124,Tablas!$B$2:$H$13,7,FALSE))","v":83577.200000000012},22548.240000000005,1750395200.8096051,1565648659.0425808,1400401305.0470314,1252595085.0152338,1120389163.6987782,1002136997.9416621,896365830.00148666,801758345.26072145,717136265.88615525,641445676.10568452,573743896.33782172,513187742.69930387,459023025.67021811,410575157.12899649,367240748.77369994,13472043099.41898,1360812.4342847455]
[{"$f":"IF(ISBLANK(InfoPro!A118),\"\",InfoPro!A118)","v":"SC_1788_A1"},{"$f":"IF(ISBLANK(InfoPro!B118),\"\",InfoPro!B118)","v":"DSE COPEY 19.9"},{"$f":"IF(ISBLANK(InfoPro!E118),\"\",InfoPro!E118)","v":19.899999999999999},{"$f":"IF(ISBLANK(InfoPro!F118),\"\",InfoPro!F118)","v":"Solar FV"},{"$f":"IF(ISBLANK(InfoPro!I118),\"\",YEAR(InfoPro!I118)-$G$3)","v":2},{"$f":"IF(B125=\"\",\"\",VLOOKUP(D125,Tablas!$B$2:$E$13,2,FALSE))","v":0.26},{"$f":"IF(B125=\"\",\"\",VLOOKUP(D125,Tablas!$B$2:$H$13,7,FALSE))","v":83577.200000000012},45324.24,3933650758.2477012,3518471161.2233467,3147111951.0047827,2814948077.8218098,2517842645.6366811,2252095389.6571388,2014396591.8221281,1801785860.3060181,1611615259.6654902,1441516332.4378271,1289370601.4649615,1153283185.5679443,1031559199.9713277,922682647.55932713,825297538.06737661,30275627200.453861,1521388.3015303449]
[{"$f":"IF(ISBLANK(InfoPro!A119),\"\",InfoPro!A119)","v":"SC_1811_A1"},{"$f":"IF(ISBLANK(InfoPro!B119),\"\",InfoPro!B119)","v":"DSE RIOHACHA"},{"$f":"IF(ISBLANK(InfoPro!E119),\"\",InfoPro!E119)","v":9.9},{"$f":"IF(ISBLANK(InfoPro!F119),\"\",InfoPro!F119)","v":"Solar FV"},{"$f":"IF(ISBLANK(InfoPro!I119),\"\",YEAR(InfoPro!I119)-$G$3)","v":2},{"$f":"IF(B126=\"\",\"\",VLOOKUP(D126,Tablas!$B$2:$E$13,2,FALSE))","v":0.26},{"$f":"IF(B126=\"\",\"\",VLOOKUP(D126,Tablas!$B$2:$H$13,7,FALSE))","v":83577.200000000012},22548.240000000005,1956941834.5051382,1750395200.8096051,1565648659.0425808,1400401305.0470314,1252595085.0152338,1120389163.6987782,1002136997.9416621,896365830.00148666,801758345.26072145,717136265.88615525,641445676.10568452,573743896.33782172,513187742.69930387,459023025.67021811,410575157.12899649,15061744185.150415,1521388.3015303449]
[{"$f":"IF(ISBLANK(InfoPro!A120),\"\",InfoPro!A120)","v":"SC_1811_A2"},{"$f":"IF(ISBLANK(InfoPro!B120),\"\",InfoPro!B120)","v":"DSE RIOHACHA"},{"$f":"IF(ISBLANK(InfoPro!E120),\"\",InfoPro!E120)","v":9.9},{"$f":"IF(ISBLANK(InfoPro!F120),\"\",InfoPro!F120)","v":"Solar FV"},{"$f":"IF(ISBLANK(InfoPro!I120),\"\",YEAR(InfoPro!I120)-$G$3)","v":2},{"$f":"IF(B127=\"\",\"\",VLOOKUP(D127,Tablas!$B$2:$E$13,2,FALSE))","v":0.26},{"$f":"IF(B127=\"\",\"\",VLOOKUP(D127,Tablas!$B$2:$H$13,7,FALSE))","v":83577.200000000012},22548.240000000005,1956941834.5051382,1750395200.8096051,1565648659.0425808,1400401305.0470314,1252595085.0152338,1120389163.6987782,1002136997.9416621,896365830.00148666,801758345.26072145,717136265.88615525,641445676.10568452,573743896.33782172,513187742.69930387,459023025.67021811,410575157.12899649,15061744185.150415,1521388.3015303449]
[{"$f":"IF(ISBLANK(InfoPro!A121),\"\",InfoPro!A121)","v":"SC_1824_A1"},{"$f":"IF(ISBLANK(InfoPro!B121),\"\",InfoPro!B121)","v":"PGF ROSARIO II_45MW"},{"$f":"IF(ISBLANK(InfoPro!E121),\"\",InfoPro!E121)","v":45},{"$f":"IF(ISBLANK(InfoPro!F121),\"\",InfoPro!F121)","v":"Solar FV"},{"$f":"IF(ISBLANK(InfoPro!I121),\"\",YEAR(InfoPro!I121)-$G$3)","v":3},{"$f":"IF(B128=\"\",\"\",VLOOKUP(D128,Tablas!$B$2:$E$13,2,FALSE))","v":0.26},{"$f":"IF(B128=\"\",\"\",VLOOKUP(D128,Tablas!$B$2:$H$13,7,FALSE))","v":83577.200000000012},102492,7956341821.8618402,7116584813.8299112,6365460477.4865046,5693614022.7965155,5092678016.8126259,4555168172.4620981,4074390136.3703923,3644356114.8214602,3259710299.4825234,2915662164.1167474,2607926801.535552,2332671557.7241077,2086468298.5009911,1866250714.2227108,1669276130.7895448,61236559542.813515,1360812.4342847448]
[{"$f":"IF(ISBLANK(InfoPro!A122),\"\",InfoPro!A122)","v":"SC_1824_A2"},{"$f":"IF(ISBLANK(InfoPro!B122),\"\",InfoPro!B122)","v":"PGF ROSARIO II_45MW"},{"$f":"IF(ISBLANK(InfoPro!E122),\"\",InfoPro!E122)","v":45},{"$f":"IF(ISBLANK(InfoPro!F122),\"\",InfoPro!F122)","v":"Solar FV"},{"$f":"IF(ISBLANK(InfoPro!I122),\"\",YEAR(InfoPro!I122)-$G$3)","v":3},{"$f":"IF(B129=\"\",\"\",VLOOKUP(D129,Tablas!$B$2:$E$13,2,FALSE))","v":0.26},{"$f":"IF(B129=\"\",\"\",VLOOKUP(D129,Tablas!$B$2:$H$13,7,FALSE))","v":83577.200000000012},102492,7956341821.8618402,7116584813.8299112,6365460477.4865046,5693614022.7965155,5092678016.8126259,4555168172.4620981,4074390136.3703923,3644356114.8214602,3259710299.4825234,2915662164.1167474,2607926801.535552,2332671557.7241077,2086468298.5009911,1866250714.2227108,1669276130.7895448,61236559542.813515,1360812.4342847448]
[{"$f":"IF(ISBLANK(InfoPro!A123),\"\",InfoPro!A123)","v":"SC_1827_A1"},{"$f":"IF(ISBLANK(InfoPro!B123),\"\",InfoPro!B123)","v":"Guatapurí Solar I 9,9 MW"},{"$f":"IF(ISBLANK(InfoPro!E123),\"\",InfoPro!E123)","v":9.9},{"$f":"IF(ISBLANK(InfoPro!F123),\"\",InfoPro!F123)","v":"Solar FV"},{"$f":"IF(ISBLANK(InfoPro!I123),\"\",YEAR(InfoPro!I123)-$G$3)","v":2},{"$f":"IF(B130=\"\",\"\",VLOOKUP(D130,Tablas!$B$2:$E$13,2,FALSE))","v":0.26},{"$f":"IF(B130=\"\",\"\",VLOOKUP(D130,Tablas!$B$2:$H$13,7,FALSE))","v":83577.200000000012},22548.240000000005,1956941834.5051382,1750395200.8096051,1565648659.0425808,1400401305.0470314,1252595085.0152338,1120389163.6987782,1002136997.9416621,896365830.00148666,801758345.26072145,717136265.88615525,641445676.10568452,573743896.33782172,513187742.69930387,459023025.67021811,410575157.12899649,15061744185.150415,1521388.3015303449]
[{"$f":"IF(ISBLANK(InfoPro!A124),\"\",InfoPro!A124)","v":"SC_1827_A2"},{"$f":"IF(ISBLANK(InfoPro!B124),\"\",InfoPro!B124)","v":"Guatapurí Solar I 9,9 MW"},{"$f":"IF(ISBLANK(InfoPro!E124),\"\",InfoPro!E124)","v":9.9},{"$f":"IF(ISBLANK(InfoPro!F124),\"\",InfoPro!F124)","v":"Solar FV"},{"$f":"IF(ISBLANK(InfoPro!I124),\"\",YEAR(InfoPro!I124)-$G$3)","v":2},{"$f":"IF(B131=\"\",\"\",VLOOKUP(D131,Tablas!$B$2:$E$13,2,FALSE))","v":0.26},{"$f":"IF(B131=\"\",\"\",VLOOKUP(D131,Tablas!$B$2:$H$13,7,FALSE))","v":83577.200000000012},22548.240000000005,{"$f":"IF($H131=\"\",\"\",(1/(1+$C$3)^(I$6+$E131))*$H131*($C$2 - $G131))","v":1956941834.5051382},1750395200.8096051,1565648659.0425808,1400401305.0470314,1252595085.0152338,1120389163.6987782,1002136997.9416621,896365830.00148666,801758345.26072145,717136265.88615525,641445676.10568452,573743896.33782172,513187742.69930387,459023025.67021811,410575157.12899649,15061744185.150415,1521388.3015303449]
[{"$f":"IF(ISBLANK(InfoPro!A125),\"\",InfoPro!A125)","v":"SC_1830_A1"},{"$f":"IF(ISBLANK(InfoPro!B125),\"\",InfoPro!B125)","v":"Guatapurí Solar II 9,9 MW"},{"$f":"IF(ISBLANK(InfoPro!E125),\"\",InfoPro!E125)","v":9.9},{"$f":"IF(ISBLANK(InfoPro!F125),\"\",InfoPro!F125)","v":"Solar FV"},{"$f":"IF(ISBLANK(InfoPro!I125),\"\",YEAR(InfoPro!I125)-$G$3)","v":2},{"$f":"IF(B132=\"\",\"\",VLOOKUP(D132,Tablas!$B$2:$E$13,2,FALSE))","v":0.26},{"$f":"IF(B132=\"\",\"\",VLOOKUP(D132,Tablas!$B$2:$H$13,7,FALSE))","v":83577.200000000012},22548.240000000005,1956941834.5051382,1750395200.8096051,1565648659.0425808,1400401305.0470314,1252595085.0152338,1120389163.6987782,1002136997.9416621,896365830.00148666,801758345.26072145,717136265.88615525,641445676.10568452,573743896.33782172,513187742.69930387,459023025.67021811,410575157.12899649,15061744185.150415,1521388.3015303449]
[{"$f":"IF(ISBLANK(InfoPro!A126),\"\",InfoPro!A126)","v":"SC_1830_A2"},{"$f":"IF(ISBLANK(InfoPro!B126),\"\",InfoPro!B126)","v":"Guatapurí Solar II 9,9 MW"},{"$f":"IF(ISBLANK(InfoPro!E126),\"\",InfoPro!E126)","v":9.9},{"$f":"IF(ISBLANK(InfoPro!F126),\"\",InfoPro!F126)","v":"Solar FV"},{"$f":"IF(ISBLANK(InfoPro!I126),\"\",YEAR(InfoPro!I126)-$G$3)","v":2},{"$f":"IF(B133=\"\",\"\",VLOOKUP(D133,Tablas!$B$2:$E$13,2,FALSE))","v":0.26},{"$f":"IF(B133=\"\",\"\",VLOOKUP(D133,Tablas!$B$2:$H$13,7,FALSE))","v":83577.200000000012},22548.240000000005,1956941834.5051382,1750395200.8096051,1565648659.0425808,1400401305.0470314,1252595085.0152338,1120389163.6987782,1002136997.9416621,896365830.00148666,801758345.26072145,717136265.88615525,641445676.10568452,573743896.33782172,513187742.69930387,459023025.67021811,410575157.12899649,15061744185.150415,1521388.3015303449]
[{"$f":"IF(ISBLANK(InfoPro!A127),\"\",InfoPro!A127)","v":"SC_1840_A1"},{"$f":"IF(ISBLANK(InfoPro!B127),\"\",InfoPro!B127)","v":"Granja Solar Asturias 9,9 MW"},{"$f":"IF(ISBLANK(InfoPro!E127),\"\",InfoPro!E127)","v":9.9},{"$f":"IF(ISBLANK(InfoPro!F127),\"\",InfoPro!F127)","v":"Solar FV"},{"$f":"IF(ISBLANK(InfoPro!I127),\"\",YEAR(InfoPro!I127)-$G$3)","v":2},{"$f":"IF(B134=\"\",\"\",VLOOKUP(D134,Tablas!$B$2:$E$13,2,FALSE))","v":0.26},{"$f":"IF(B134=\"\",\"\",VLOOKUP(D134,Tablas!$B$2:$H$13,7,FALSE))","v":83577.200000000012},22548.240000000005,1956941834.5051382,1750395200.8096051,1565648659.0425808,1400401305.0470314,1252595085.0152338,1120389163.6987782,1002136997.9416621,896365830.00148666,801758345.26072145,717136265.88615525,641445676.10568452,573743896.33782172,513187742.69930387,459023025.67021811,410575157.12899649,15061744185.150415,1521388.3015303449]
[{"$f":"IF(ISBLANK(InfoPro!A128),\"\",InfoPro!A128)","v":"SC_1840_A2"},{"$f":"IF(ISBLANK(InfoPro!B128),\"\",InfoPro!B128)","v":"Granja Solar Asturias 9,9 MW"},{"$f":"IF(ISBLANK(InfoPro!E128),\"\",InfoPro!E128)","v":9.9},{"$f":"IF(ISBLANK(InfoPro!F128),\"\",InfoPro!F128)","v":"Solar FV"},{"$f":"IF(ISBLANK(InfoPro!I128),\"\",YEAR(InfoPro!I128)-$G$3)","v":2},{"$f":"IF(B135=\"\",\"\",VLOOKUP(D135,Tablas!$B$2:$E$13,2,FALSE))","v":0.26},{"$f":"IF(B135=\"\",\"\",VLOOKUP(D135,Tablas!$B$2:$H$13,7,FALSE))","v":83577.200000000012},22548.240000000005,1956941834.5051382,1750395200.8096051,1565648659.0425808,1400401305.0470314,1252595085.0152338,1120389163.6987782,1002136997.9416621,896365830.00148666,801758345.26072145,717136265.88615525,641445676.10568452,573743896.33782172,513187742.69930387,459023025.67021811,410575157.12899649,15061744185.150415,1521388.3015303449]
[{"$f":"IF(ISBLANK(InfoPro!A129),\"\",InfoPro!A129)","v":"SC_1846_A1"},{"$f":"IF(ISBLANK(InfoPro!B129),\"\",InfoPro!B129)","v":"PARQUE DE GENERACIÓN SOLAR CYGNUS 50 MW"},{"$f":"IF(ISBLANK(InfoPro!E129),\"\",InfoPro!E129)","v":50},{"$f":"IF(ISBLANK(InfoPro!F129),\"\",InfoPro!F129)","v":"Solar FV"},{"$f":"IF(ISBLANK(InfoPro!I129),\"\",YEAR(InfoPro!I129)-$G$3)","v":2},{"$f":"IF(B136=\"\",\"\",VLOOKUP(D136,Tablas!$B$2:$E$13,2,FALSE))","v":0.26},{"$f":"IF(B136=\"\",\"\",VLOOKUP(D136,Tablas!$B$2:$H$13,7,FALSE))","v":83577.200000000012},113880,9883544618.7128162,8840379802.0687122,7907316459.8110123,7072733863.8738937,6326237803.1072397,5658531129.7918062,5061297969.4023323,4527100151.5226583,4049284572.0238447,3621900332.7583599,3239624626.7963858,2897696446.1506138,2591857286.3601198,2318298109.4455462,2073611904.6919007,76069415076.517242,1521388.3015303449]
[{"$f":"IF(ISBLANK(InfoPro!A130),\"\",InfoPro!A130)","v":"SC_1846_A2"},{"$f":"IF(ISBLANK(InfoPro!B130),\"\",InfoPro!B130)","v":"PARQUE DE GENERACIÓN SOLAR CYGNUS 50 MW"},{"$f":"IF(ISBLANK(InfoPro!E130),\"\",InfoPro!E130)","v":50},{"$f":"IF(ISBLANK(InfoPro!F130),\"\",InfoPro!F130)","v":"Solar FV"},{"$f":"IF(ISBLANK(InfoPro!I130),\"\",YEAR(InfoPro!I130)-$G$3)","v":2},{"$f":"IF(B137=\"\",\"\",VLOOKUP(D137,Tablas!$B$2:$E$13,2,FALSE))","v":0.26},{"$f":"IF(B137=\"\",\"\",VLOOKUP(D137,Tablas!$B$2:$H$13,7,FALSE))","v":83577.200000000012},113880,9883544618.7128162,8840379802.0687122,7907316459.8110123,7072733863.8738937,6326237803.1072397,5658531129.7918062,5061297969.4023323,4527100151.5226583,4049284572.0238447,3621900332.7583599,3239624626.7963858,2897696446.1506138,2591857286.3601198,2318298109.4455462,2073611904.6919007,76069415076.517242,1521388.3015303449]
[{"$f":"IF(ISBLANK(InfoPro!A131),\"\",InfoPro!A131)","v":"SC_1854_A1"},{"$f":"IF(ISBLANK(InfoPro!B131),\"\",InfoPro!B131)","v":"CATAY 1 - 200 MW"},{"$f":"IF(ISBLANK(InfoPro!E131),\"\",InfoPro!E131)","v":200},{"$f":"IF(ISBLANK(InfoPro!F131),\"\",InfoPro!F131)","v":"Solar FV"},{"$f":"IF(ISBLANK(InfoPro!I131),\"\",YEAR(InfoPro!I131)-$G$3)","v":4},{"$f":"IF(B138=\"\",\"\",VLOOKUP(D138,Tablas!$B$2:$E$13,2,FALSE))","v":0.26},{"$f":"IF(B138=\"\",\"\",VLOOKUP(D138,Tablas!$B$2:$H$13,7,FALSE))","v":83577.200000000012},455520,31629265839.244049,28290935455.495575,25304951212.428959,22634124519.167225,20245191877.609329,18108400606.090633,16197138288.095379,14487601331.03344,12958498507.185543,11590785784.602455,10367429145.440479,9273192437.7821846,8294447618.7676029,7419005025.7313099,6635961561.4770212,243436929210.15121,1217184.6460507561]
[{"$f":"IF(ISBLANK(InfoPro!A132),\"\",InfoPro!A132)","v":"SC_1854_A2"},{"$f":"IF(ISBLANK(InfoPro!B132),\"\",InfoPro!B132)","v":"CATAY 1 - 200 MW"},{"$f":"IF(ISBLANK(InfoPro!E132),\"\",InfoPro!E132)","v":200},{"$f":"IF(ISBLANK(InfoPro!F132),\"\",InfoPro!F132)","v":"Solar FV"},{"$f":"IF(ISBLANK(InfoPro!I132),\"\",YEAR(InfoPro!I132)-$G$3)","v":4},{"$f":"IF(B139=\"\",\"\",VLOOKUP(D139,Tablas!$B$2:$E$13,2,FALSE))","v":0.26},{"$f":"IF(B139=\"\",\"\",VLOOKUP(D139,Tablas!$B$2:$H$13,7,FALSE))","v":83577.200000000012},455520,31629265839.244049,28290935455.495575,25304951212.428959,22634124519.167225,20245191877.609329,18108400606.090633,16197138288.095379,14487601331.03344,12958498507.185543,11590785784.602455,10367429145.440479,9273192437.7821846,8294447618.7676029,7419005025.7313099,6635961561.4770212,243436929210.15121,1217184.6460507561]
[{"$f":"IF(ISBLANK(InfoPro!A133),\"\",InfoPro!A133)","v":"SC_1856_A1"},{"$f":"IF(ISBLANK(InfoPro!B133),\"\",InfoPro!B133)","v":"SIERRA NEVADA DE VERANO"},{"$f":"IF(ISBLANK(InfoPro!E133),\"\",InfoPro!E133)","v":99.9},{"$f":"IF(ISBLANK(InfoPro!F133),\"\",InfoPro!F133)","v":"Solar FV"},{"$f":"IF(ISBLANK(InfoPro!I133),\"\",YEAR(InfoPro!I133)-$G$3)","v":4},{"$f":"IF(B140=\"\",\"\",VLOOKUP(D140,Tablas!$B$2:$E$13,2,FALSE))","v":0.26},{"$f":"IF(B140=\"\",\"\",VLOOKUP(D140,Tablas!$B$2:$H$13,7,FALSE))","v":83577.200000000012},227532.24000000002,15798818286.702406,14131322260.020041,12639823130.608265,11305745197.324032,10112473342.86586,9045146102.7422714,8090470574.9036427,7236556864.851203,6472770004.33918,5789597499.408927,5178530858.1475201,4631959622.6722012,4143076585.574419,3705793010.3527899,3314662799.9577727,121596746140.47052,1217184.6460507559]
[{"$f":"IF(ISBLANK(InfoPro!A134),\"\",InfoPro!A134)","v":"SC_1856_A2"},{"$f":"IF(ISBLANK(InfoPro!B134),\"\",InfoPro!B134)","v":"SIERRA NEVADA DE VERANO"},{"$f":"IF(ISBLANK(InfoPro!E134),\"\",InfoPro!E134)","v":99.9},{"$f":"IF(ISBLANK(InfoPro!F134),\"\",InfoPro!F134)","v":"Solar FV"},{"$f":"IF(ISBLANK(InfoPro!I134),\"\",YEAR(InfoPro!I134)-$G$3)","v":4},{"$f":"IF(B141=\"\",\"\",VLOOKUP(D141,Tablas!$B$2:$E$13,2,FALSE))","v":0.26},{"$f":"IF(B141=\"\",\"\",VLOOKUP(D141,Tablas!$B$2:$H$13,7,FALSE))","v":83577.200000000012},227532.24000000002,15798818286.702406,14131322260.020041,12639823130.608265,11305745197.324032,10112473342.86586,9045146102.7422714,8090470574.9036427,7236556864.851203,6472770004.33918,5789597499.408927,5178530858.1475201,4631959622.6722012,4143076585.574419,3705793010.3527899,3314662799.9577727,121596746140.47052,1217184.6460507559]
[{"$f":"IF(ISBLANK(InfoPro!A135),\"\",InfoPro!A135)","v":"SC_1857_A1"},{"$f":"IF(ISBLANK(InfoPro!B135),\"\",InfoPro!B135)","v":"MILAGROS DE VERANO"},{"$f":"IF(ISBLANK(InfoPro!E135),\"\",InfoPro!E135)","v":99.9},{"$f":"IF(ISBLANK(InfoPro!F135),\"\",InfoPro!F135)","v":"Solar FV"},{"$f":"IF(ISBLANK(InfoPro!I135),\"\",YEAR(InfoPro!I135)-$G$3)","v":5},{"$f":"IF(B142=\"\",\"\",VLOOKUP(D142,Tablas!$B$2:$E$13,2,FALSE))","v":0.26},{"$f":"IF(B142=\"\",\"\",VLOOKUP(D142,Tablas!$B$2:$H$13,7,FALSE))","v":83577.200000000012},227532.24000000002,14131322260.020041,12639823130.608265,11305745197.324032,10112473342.86586,9045146102.7422714,8090470574.9036427,7236556864.851203,6472770004.33918,5789597499.408927,5178530858.1475201,4631959622.6722012,4143076585.574419,3705793010.3527899,3314662799.9577727,2964814669.0141087,108762742522.78221,1088716.1413691912]
[{"$f":"IF(ISBLANK(InfoPro!A136),\"\",InfoPro!A136)","v":"SC_1857_A2"},{"$f":"IF(ISBLANK(InfoPro!B136),\"\",InfoPro!B136)","v":"MILAGROS DE VERANO"},{"$f":"IF(ISBLANK(InfoPro!E136),\"\",InfoPro!E136)","v":99.9},{"$f":"IF(ISBLANK(InfoPro!F136),\"\",InfoPro!F136)","v":"Solar FV"},{"$f":"IF(ISBLANK(InfoPro!I136),\"\",YEAR(InfoPro!I136)-$G$3)","v":5},{"$f":"IF(B143=\"\",\"\",VLOOKUP(D143,Tablas!$B$2:$E$13,2,FALSE))","v":0.26},{"$f":"IF(B143=\"\",\"\",VLOOKUP(D143,Tablas!$B$2:$H$13,7,FALSE))","v":83577.200000000012},227532.24000000002,14131322260.020041,12639823130.608265,11305745197.324032,10112473342.86586,9045146102.7422714,8090470574.9036427,7236556864.851203,6472770004.33918,5789597499.408927,5178530858.1475201,4631959622.6722012,4143076585.574419,3705793010.3527899,3314662799.9577727,2964814669.0141087,108762742522.78221,1088716.1413691912]
[{"$f":"IF(ISBLANK(InfoPro!A137),\"\",InfoPro!A137)","v":"SC_1861_A1"},{"$f":"IF(ISBLANK(InfoPro!B137),\"\",InfoPro!B137)","v":"Autogenerador CELSIA Solar Cenit Copey"},{"$f":"IF(ISBLANK(InfoPro!E137),\"\",InfoPro!E137)","v":6.6},{"$f":"IF(ISBLANK(InfoPro!F137),\"\",InfoPro!F137)","v":"Solar FV"},{"$f":"IF(ISBLANK(InfoPro!I137),\"\",YEAR(InfoPro!I137)-$G$3)","v":0},{"$f":"IF(B144=\"\",\"\",VLOOKUP(D144,Tablas!$B$2:$E$13,2,FALSE))","v":0.26},{"$f":"IF(B144=\"\",\"\",VLOOKUP(D144,Tablas!$B$2:$H$13,7,FALSE))","v":83577.200000000012},15032.16,1630685710.3679998,1458573980.6511626,1304627889.6700919,1166930133.87307,1043765772.6950536,933600870.03135395,835063390.01015556,746926109.13251853,668091331.96110785,597577220.00099099,534505563.50714749,478090843.92410344,427630450.73712295,382495930.89188099,342125161.79953581,12550690359.253294,1901619.7514020142]
[{"$f":"IF(ISBLANK(InfoPro!A138),\"\",InfoPro!A138)","v":"SC_1876_A1"},{"$f":"IF(ISBLANK(InfoPro!B138),\"\",InfoPro!B138)","v":"Nevada II 250 MW"},{"$f":"IF(ISBLANK(InfoPro!E138),\"\",InfoPro!E138)","v":250},{"$f":"IF(ISBLANK(InfoPro!F138),\"\",InfoPro!F138)","v":"Eólico Onshore"},{"$f":"IF(ISBLANK(InfoPro!I138),\"\",YEAR(InfoPro!I138)-$G$3)","v":7},{"$f":"IF(B145=\"\",\"\",VLOOKUP(D145,Tablas!$B$2:$E$13,2,FALSE))","v":0.56999999999999995},{"$f":"IF(B145=\"\",\"\",VLOOKUP(D145,Tablas!$B$2:$H$13,7,FALSE))","v":83577.200000000012},1248300,62026206615.025574,55479612356.910179,49623982430.152214,44386388577.953682,39701599801.389709,35511269947.575768,31763211044.343266,28410743331.255161,25412113891.999252,22729976647.584297,20330927233.975224,18185086971.355297,16265730743.609398,14548954153.496775,13013375808.136654,477389179554.76245,1909556.7182190497]
[{"$f":"IF(ISBLANK(InfoPro!A139),\"\",InfoPro!A139)","v":"SC_1876_A2"},{"$f":"IF(ISBLANK(InfoPro!B139),\"\",InfoPro!B139)","v":"Nevada II 250 MW"},{"$f":"IF(ISBLANK(InfoPro!E139),\"\",InfoPro!E139)","v":250},{"$f":"IF(ISBLANK(InfoPro!F139),\"\",InfoPro!F139)","v":"Eólico Onshore"},{"$f":"IF(ISBLANK(InfoPro!I139),\"\",YEAR(InfoPro!I139)-$G$3)","v":7},{"$f":"IF(B146=\"\",\"\",VLOOKUP(D146,Tablas!$B$2:$E$13,2,FALSE))","v":0.56999999999999995},{"$f":"IF(B146=\"\",\"\",VLOOKUP(D146,Tablas!$B$2:$H$13,7,FALSE))","v":83577.200000000012},1248300,62026206615.025574,55479612356.910179,49623982430.152214,44386388577.953682,39701599801.389709,35511269947.575768,31763211044.343266,28410743331.255161,25412113891.999252,22729976647.584297,20330927233.975224,18185086971.355297,16265730743.609398,14548954153.496775,13013375808.136654,477389179554.76245,1909556.7182190497]
[{"$f":"IF(ISBLANK(InfoPro!A140),\"\",InfoPro!A140)","v":"SC_1877_A1"},{"$f":"IF(ISBLANK(InfoPro!B140),\"\",InfoPro!B140)","v":"Planta Solar FV Corozal 9,9MW"},{"$f":"IF(ISBLANK(InfoPro!E140),\"\",InfoPro!E140)","v":9.9},{"$f":"IF(ISBLANK(InfoPro!F140),\"\",InfoPro!F140)","v":"Solar FV"},{"$f":"IF(ISBLANK(InfoPro!I140),\"\",YEAR(InfoPro!I140)-$G$3)","v":3},{"$f":"IF(B147=\"\",\"\",VLOOKUP(D147,Tablas!$B$2:$E$13,2,FALSE))","v":0.26},{"$f":"IF(B147=\"\",\"\",VLOOKUP(D147,Tablas!$B$2:$H$13,7,FALSE))","v":83577.200000000012},22548.240000000005,1750395200.8096051,1565648659.0425808,1400401305.0470314,1252595085.0152338,1120389163.6987782,1002136997.9416621,896365830.00148666,801758345.26072145,717136265.88615525,641445676.10568452,573743896.33782172,513187742.69930387,459023025.67021811,410575157.12899649,367240748.77369994,13472043099.41898,1360812.4342847455]
[{"$f":"IF(ISBLANK(InfoPro!A141),\"\",InfoPro!A141)","v":"SC_1877_A2"},{"$f":"IF(ISBLANK(InfoPro!B141),\"\",InfoPro!B141)","v":"Planta Solar FV Corozal 9,9MW"},{"$f":"IF(ISBLANK(InfoPro!E141),\"\",InfoPro!E141)","v":9.9},{"$f":"IF(ISBLANK(InfoPro!F141),\"\",InfoPro!F141)","v":"Solar FV"},{"$f":"IF(ISBLANK(InfoPro!I141),\"\",YEAR(InfoPro!I141)-$G$3)","v":3},{"$f":"IF(B148=\"\",\"\",VLOOKUP(D148,Tablas!$B$2:$E$13,2,FALSE))","v":0.26},{"$f":"IF(B148=\"\",\"\",VLOOKUP(D148,Tablas!$B$2:$H$13,7,FALSE))","v":83577.200000000012},22548.240000000005,{"$f":"IF($H148=\"\",\"\",(1/(1+$C$3)^(I$6+$E148))*$H148*($C$2 - $G148))","v":1750395200.8096051},1565648659.0425808,1400401305.0470314,1252595085.0152338,1120389163.6987782,1002136997.9416621,896365830.00148666,801758345.26072145,717136265.88615525,641445676.10568452,573743896.33782172,513187742.69930387,459023025.67021811,410575157.12899649,367240748.77369994,13472043099.41898,1360812.4342847455]
[{"$f":"IF(ISBLANK(InfoPro!A142),\"\",InfoPro!A142)","v":"SC_1889_A1"},{"$f":"IF(ISBLANK(InfoPro!B142),\"\",InfoPro!B142)","v":"La Granja"},{"$f":"IF(ISBLANK(InfoPro!E142),\"\",InfoPro!E142)","v":19.899999999999999},{"$f":"IF(ISBLANK(InfoPro!F142),\"\",InfoPro!F142)","v":"Solar FV"},{"$f":"IF(ISBLANK(InfoPro!I142),\"\",YEAR(InfoPro!I142)-$G$3)","v":2},{"$f":"IF(B149=\"\",\"\",VLOOKUP(D149,Tablas!$B$2:$E$13,2,FALSE))","v":0.26},{"$f":"IF(B149=\"\",\"\",VLOOKUP(D149,Tablas!$B$2:$H$13,7,FALSE))","v":83577.200000000012},45324.24,3933650758.2477012,3518471161.2233467,3147111951.0047827,2814948077.8218098,2517842645.6366811,2252095389.6571388,2014396591.8221281,1801785860.3060181,1611615259.6654902,1441516332.4378271,1289370601.4649615,1153283185.5679443,1031559199.9713277,922682647.55932713,825297538.06737661,30275627200.453861,1521388.3015303449]
[{"$f":"IF(ISBLANK(InfoPro!A143),\"\",InfoPro!A143)","v":"SC_1889_A2"},{"$f":"IF(ISBLANK(InfoPro!B143),\"\",InfoPro!B143)","v":"La Granja"},{"$f":"IF(ISBLANK(InfoPro!E143),\"\",InfoPro!E143)","v":19.899999999999999},{"$f":"IF(ISBLANK(InfoPro!F143),\"\",InfoPro!F143)","v":"Solar FV"},{"$f":"IF(ISBLANK(InfoPro!I143),\"\",YEAR(InfoPro!I143)-$G$3)","v":2},{"$f":"IF(B150=\"\",\"\",VLOOKUP(D150,Tablas!$B$2:$E$13,2,FALSE))","v":0.26},{"$f":"IF(B150=\"\",\"\",VLOOKUP(D150,Tablas!$B$2:$H$13,7,FALSE))","v":83577.200000000012},45324.24,3933650758.2477012,3518471161.2233467,3147111951.0047827,2814948077.8218098,2517842645.6366811,2252095389.6571388,2014396591.8221281,1801785860.3060181,1611615259.6654902,1441516332.4378271,1289370601.4649615,1153283185.5679443,1031559199.9713277,922682647.55932713,825297538.06737661,30275627200.453861,1521388.3015303449]
[{"$f":"IF(ISBLANK(InfoPro!A144),\"\",InfoPro!A144)","v":"SC_1898_A1"},{"$f":"IF(ISBLANK(InfoPro!B144),\"\",InfoPro!B144)","v":"Parque Eólico Fenix_70MW"},{"$f":"IF(ISBLANK(InfoPro!E144),\"\",InfoPro!E144)","v":70},{"$f":"IF(ISBLANK(InfoPro!F144),\"\",InfoPro!F144)","v":"Eólico Onshore"},{"$f":"IF(ISBLANK(InfoPro!I144),\"\",YEAR(InfoPro!I144)-$G$3)","v":5},{"$f":"IF(B151=\"\",\"\",VLOOKUP(D151,Tablas!$B$2:$E$13,2,FALSE))","v":0.56999999999999995},{"$f":"IF(B151=\"\",\"\",VLOOKUP(D151,Tablas!$B$2:$H$13,7,FALSE))","v":83577.200000000012},{"$f":"IF(C151=\"\",\"\",+C151*F151*24*365)","v":349523.99999999994},21707852397.582176,19416683718.767601,17367337852.207161,15534291459.934845,13894715080.442619,12428188801.827028,11116447944.389118,9943155585.3212147,8893699092.4161129,7955008132.7514429,7115391889.7597885,6364393461.3236027,5692659625.5130625,5091824351.9794827,4554404608.2106304,{"$f":"IF(W151=\"\",\"\",SUM(I151:W151))","v":167076054002.4259},{"$f":"IF(C151=0,0,IF(X151=\"\",\"\",X151/(C151*1000)))","v":2386800.771463227}]
[{"$f":"IF(ISBLANK(InfoPro!A145),\"\",InfoPro!A145)","v":"SC_1898_A2"},{"$f":"IF(ISBLANK(InfoPro!B145),\"\",InfoPro!B145)","v":"Parque Eólico Fenix_70MW"},{"$f":"IF(ISBLANK(InfoPro!E145),\"\",InfoPro!E145)","v":70},{"$f":"IF(ISBLANK(InfoPro!F145),\"\",InfoPro!F145)","v":"Eólico Onshore"},{"$f":"IF(ISBLANK(InfoPro!I145),\"\",YEAR(InfoPro!I145)-$G$3)","v":5},{"$f":"IF(B152=\"\",\"\",VLOOKUP(D152,Tablas!$B$2:$E$13,2,FALSE))","v":0.56999999999999995},{"$f":"IF(B152=\"\",\"\",VLOOKUP(D152,Tablas!$B$2:$H$13,7,FALSE))","v":83577.200000000012},349523.99999999994,21707852397.582176,19416683718.767601,17367337852.207161,15534291459.934845,13894715080.442619,12428188801.827028,11116447944.389118,9943155585.3212147,8893699092.4161129,7955008132.7514429,7115391889.7597885,6364393461.3236027,5692659625.5130625,5091824351.9794827,4554404608.2106304,167076054002.4259,2386800.771463227]
[{"$f":"IF(ISBLANK(InfoPro!A146),\"\",InfoPro!A146)","v":"SC_1904_A1"},{"$f":"IF(ISBLANK(InfoPro!B146),\"\",InfoPro!B146)","v":"Parque Solar Fotovoltaico Potreritos"},{"$f":"IF(ISBLANK(InfoPro!E146),\"\",InfoPro!E146)","v":168},{"$f":"IF(ISBLANK(InfoPro!F146),\"\",InfoPro!F146)","v":"Solar FV"},{"$f":"IF(ISBLANK(InfoPro!I146),\"\",YEAR(InfoPro!I146)-$G$3)","v":1},{"$f":"IF(B153=\"\",\"\",VLOOKUP(D153,Tablas!$B$2:$E$13,2,FALSE))","v":0.26},{"$f":"IF(B153=\"\",\"\",VLOOKUP(D153,Tablas!$B$2:$H$13,7,FALSE))","v":83577.200000000012},382636.79999999999,37127337689.302322,33208709918.875065,29703676134.950871,26568583304.965004,23764385782.616283,21256159018.440323,19012664596.100471,17005961177.191833,15211056509.116131,13605596162.000118,12169585118.068087,10885138746.035856,9736260059.066061,8708640482.170002,7789481647.7370329,285753236346.63544,1700912.1211109252]
[{"$f":"IF(ISBLANK(InfoPro!A147),\"\",InfoPro!A147)","v":"SC_1904_A2"},{"$f":"IF(ISBLANK(InfoPro!B147),\"\",InfoPro!B147)","v":"Parque Solar Fotovoltaico Potreritos"},{"$f":"IF(ISBLANK(InfoPro!E147),\"\",InfoPro!E147)","v":168},{"$f":"IF(ISBLANK(InfoPro!F147),\"\",InfoPro!F147)","v":"Solar FV"},{"$f":"IF(ISBLANK(InfoPro!I147),\"\",YEAR(InfoPro!I147)-$G$3)","v":1},{"$f":"IF(B154=\"\",\"\",VLOOKUP(D154,Tablas!$B$2:$E$13,2,FALSE))","v":0.26},{"$f":"IF(B154=\"\",\"\",VLOOKUP(D154,Tablas!$B$2:$H$13,7,FALSE))","v":83577.200000000012},382636.79999999999,37127337689.302322,33208709918.875065,29703676134.950871,26568583304.965004,23764385782.616283,21256159018.440323,19012664596.100471,17005961177.191833,15211056509.116131,13605596162.000118,12169585118.068087,10885138746.035856,9736260059.066061,8708640482.170002,7789481647.7370329,285753236346.63544,1700912.1211109252]
[{"$f":"IF(ISBLANK(InfoPro!A148),\"\",InfoPro!A148)","v":"SC_1905_A1"},{"$f":"IF(ISBLANK(InfoPro!B148),\"\",InfoPro!B148)","v":"Parque Solar Valle del Cesar"},{"$f":"IF(ISBLANK(InfoPro!E148),\"\",InfoPro!E148)","v":50},{"$f":"IF(ISBLANK(InfoPro!F148),\"\",InfoPro!F148)","v":"Solar FV"},{"$f":"IF(ISBLANK(InfoPro!I148),\"\",YEAR(InfoPro!I148)-$G$3)","v":3},{"$f":"IF(B155=\"\",\"\",VLOOKUP(D155,Tablas!$B$2:$E$13,2,FALSE))","v":0.26},{"$f":"IF(B155=\"\",\"\",VLOOKUP(D155,Tablas!$B$2:$H$13,7,FALSE))","v":83577.200000000012},113880,8840379802.0687122,7907316459.8110123,7072733863.8738937,6326237803.1072397,5658531129.7918062,5061297969.4023323,4527100151.5226583,4049284572.0238447,3621900332.7583599,3239624626.7963858,2897696446.1506138,2591857286.3601198,2318298109.4455462,2073611904.6919007,1854751256.4328275,68040621714.237259,1360812.4342847452]
[{"$f":"IF(ISBLANK(InfoPro!A149),\"\",InfoPro!A149)","v":"SC_1905_A2"},{"$f":"IF(ISBLANK(InfoPro!B149),\"\",InfoPro!B149)","v":"Parque Solar Valle del Cesar"},{"$f":"IF(ISBLANK(InfoPro!E149),\"\",InfoPro!E149)","v":50},{"$f":"IF(ISBLANK(InfoPro!F149),\"\",InfoPro!F149)","v":"Solar FV"},{"$f":"IF(ISBLANK(InfoPro!I149),\"\",YEAR(InfoPro!I149)-$G$3)","v":3},{"$f":"IF(B156=\"\",\"\",VLOOKUP(D156,Tablas!$B$2:$E$13,2,FALSE))","v":0.26},{"$f":"IF(B156=\"\",\"\",VLOOKUP(D156,Tablas!$B$2:$H$13,7,FALSE))","v":83577.200000000012},113880,8840379802.0687122,7907316459.8110123,7072733863.8738937,6326237803.1072397,5658531129.7918062,5061297969.4023323,4527100151.5226583,4049284572.0238447,3621900332.7583599,3239624626.7963858,2897696446.1506138,2591857286.3601198,2318298109.4455462,2073611904.6919007,1854751256.4328275,68040621714.237259,1360812.4342847452]
[{"$f":"IF(ISBLANK(InfoPro!A150),\"\",InfoPro!A150)","v":"SC_1908_A1"},{"$f":"IF(ISBLANK(InfoPro!B150),\"\",InfoPro!B150)","v":"Corocoro 500 MW"},{"$f":"IF(ISBLANK(InfoPro!E150),\"\",InfoPro!E150)","v":500},{"$f":"IF(ISBLANK(InfoPro!F150),\"\",InfoPro!F150)","v":"Solar FV"},{"$f":"IF(ISBLANK(InfoPro!I150),\"\",YEAR(InfoPro!I150)-$G$3)","v":3},{"$f":"IF(B157=\"\",\"\",VLOOKUP(D157,Tablas!$B$2:$E$13,2,FALSE))","v":0.26},{"$f":"IF(B157=\"\",\"\",VLOOKUP(D157,Tablas!$B$2:$H$13,7,FALSE))","v":83577.200000000012},1138800,88403798020.687119,79073164598.110123,70727338638.738937,63262378031.072395,56585311297.918076,50612979694.023323,45271001515.226585,40492845720.238441,36219003327.583595,32396246267.96386,28976964461.506134,25918572863.6012,23182981094.455456,20736119046.91901,18547512564.328278,680406217142.37256,1360812.434284745]
[{"$f":"IF(ISBLANK(InfoPro!A151),\"\",InfoPro!A151)","v":"SC_1908_A2"},{"$f":"IF(ISBLANK(InfoPro!B151),\"\",InfoPro!B151)","v":"Corocoro 500 MW"},{"$f":"IF(ISBLANK(InfoPro!E151),\"\",InfoPro!E151)","v":500},{"$f":"IF(ISBLANK(InfoPro!F151),\"\",InfoPro!F151)","v":"Solar FV"},{"$f":"IF(ISBLANK(InfoPro!I151),\"\",YEAR(InfoPro!I151)-$G$3)","v":3},{"$f":"IF(B158=\"\",\"\",VLOOKUP(D158,Tablas!$B$2:$E$13,2,FALSE))","v":0.26},{"$f":"IF(B158=\"\",\"\",VLOOKUP(D158,Tablas!$B$2:$H$13,7,FALSE))","v":83577.200000000012},1138800,88403798020.687119,79073164598.110123,70727338638.738937,63262378031.072395,56585311297.918076,50612979694.023323,45271001515.226585,40492845720.238441,36219003327.583595,32396246267.96386,28976964461.506134,25918572863.6012,23182981094.455456,20736119046.91901,18547512564.328278,680406217142.37256,1360812.434284745]
[{"$f":"IF(ISBLANK(InfoPro!A152),\"\",InfoPro!A152)","v":"SC_1912_A1"},{"$f":"IF(ISBLANK(InfoPro!B152),\"\",InfoPro!B152)","v":"Draco de 22.5 MW (entrega 19,9 MW)"},{"$f":"IF(ISBLANK(InfoPro!E152),\"\",InfoPro!E152)","v":19.899999999999999},{"$f":"IF(ISBLANK(InfoPro!F152),\"\",InfoPro!F152)","v":"Solar FV"},{"$f":"IF(ISBLANK(InfoPro!I152),\"\",YEAR(InfoPro!I152)-$G$3)","v":2},{"$f":"IF(B159=\"\",\"\",VLOOKUP(D159,Tablas!$B$2:$E$13,2,FALSE))","v":0.26},{"$f":"IF(B159=\"\",\"\",VLOOKUP(D159,Tablas!$B$2:$H$13,7,FALSE))","v":83577.200000000012},45324.24,3933650758.2477012,3518471161.2233467,3147111951.0047827,2814948077.8218098,2517842645.6366811,2252095389.6571388,2014396591.8221281,1801785860.3060181,1611615259.6654902,1441516332.4378271,1289370601.4649615,1153283185.5679443,1031559199.9713277,922682647.55932713,825297538.06737661,30275627200.453861,1521388.3015303449]
[{"$f":"IF(ISBLANK(InfoPro!A153),\"\",InfoPro!A153)","v":"SC_1912_A2"},{"$f":"IF(ISBLANK(InfoPro!B153),\"\",InfoPro!B153)","v":"Draco de 22.5 MW (entrega 19,9 MW)"},{"$f":"IF(ISBLANK(InfoPro!E153),\"\",InfoPro!E153)","v":19.899999999999999},{"$f":"IF(ISBLANK(InfoPro!F153),\"\",InfoPro!F153)","v":"Solar FV"},{"$f":"IF(ISBLANK(InfoPro!I153),\"\",YEAR(InfoPro!I153)-$G$3)","v":2},{"$f":"IF(B160=\"\",\"\",VLOOKUP(D160,Tablas!$B$2:$E$13,2,FALSE))","v":0.26},{"$f":"IF(B160=\"\",\"\",VLOOKUP(D160,Tablas!$B$2:$H$13,7,FALSE))","v":83577.200000000012},45324.24,3933650758.2477012,3518471161.2233467,3147111951.0047827,2814948077.8218098,2517842645.6366811,2252095389.6571388,2014396591.8221281,1801785860.3060181,1611615259.6654902,1441516332.4378271,1289370601.4649615,1153283185.5679443,1031559199.9713277,922682647.55932713,825297538.06737661,30275627200.453861,1521388.3015303449]
[{"$f":"IF(ISBLANK(InfoPro!A154),\"\",InfoPro!A154)","v":"SC_1920_A1"},{"$f":"IF(ISBLANK(InfoPro!B154),\"\",InfoPro!B154)","v":"Parque Solar TERRɅ II 19.9 MW"},{"$f":"IF(ISBLANK(InfoPro!E154),\"\",InfoPro!E154)","v":19.899999999999999},{"$f":"IF(ISBLANK(InfoPro!F154),\"\",InfoPro!F154)","v":"Solar FV"},{"$f":"IF(ISBLANK(InfoPro!I154),\"\",YEAR(InfoPro!I154)-$G$3)","v":1},{"$f":"IF(B161=\"\",\"\",VLOOKUP(D161,Tablas!$B$2:$E$13,2,FALSE))","v":0.26},{"$f":"IF(B161=\"\",\"\",VLOOKUP(D161,Tablas!$B$2:$H$13,7,FALSE))","v":83577.200000000012},45324.24,4397821547.7209301,3933650758.2477012,3518471161.2233467,3147111951.0047827,2814948077.8218098,2517842645.6366811,2252095389.6571388,2014396591.8221281,1801785860.3060181,1611615259.6654902,1441516332.4378271,1289370601.4649615,1153283185.5679443,1031559199.9713277,922682647.55932713,33848151210.107414,1700912.1211109255]
[{"$f":"IF(ISBLANK(InfoPro!A155),\"\",InfoPro!A155)","v":"SC_1920_A2"},{"$f":"IF(ISBLANK(InfoPro!B155),\"\",InfoPro!B155)","v":"Parque Solar TERRɅ II 19.9 MW"},{"$f":"IF(ISBLANK(InfoPro!E155),\"\",InfoPro!E155)","v":19.899999999999999},{"$f":"IF(ISBLANK(InfoPro!F155),\"\",InfoPro!F155)","v":"Solar FV"},{"$f":"IF(ISBLANK(InfoPro!I155),\"\",YEAR(InfoPro!I155)-$G$3)","v":1},{"$f":"IF(B162=\"\",\"\",VLOOKUP(D162,Tablas!$B$2:$E$13,2,FALSE))","v":0.26},{"$f":"IF(B162=\"\",\"\",VLOOKUP(D162,Tablas!$B$2:$H$13,7,FALSE))","v":83577.200000000012},45324.24,4397821547.7209301,3933650758.2477012,3518471161.2233467,3147111951.0047827,2814948077.8218098,2517842645.6366811,2252095389.6571388,2014396591.8221281,1801785860.3060181,1611615259.6654902,1441516332.4378271,1289370601.4649615,1153283185.5679443,1031559199.9713277,922682647.55932713,33848151210.107414,1700912.1211109255]
[{"$f":"IF(ISBLANK(InfoPro!A156),\"\",InfoPro!A156)","v":"SC_1928_A1"},{"$f":"IF(ISBLANK(InfoPro!B156),\"\",InfoPro!B156)","v":"Jacamará 500 MW"},{"$f":"IF(ISBLANK(InfoPro!E156),\"\",InfoPro!E156)","v":500},{"$f":"IF(ISBLANK(InfoPro!F156),\"\",InfoPro!F156)","v":"Solar FV"},{"$f":"IF(ISBLANK(InfoPro!I156),\"\",YEAR(InfoPro!I156)-$G$3)","v":3},{"$f":"IF(B163=\"\",\"\",VLOOKUP(D163,Tablas!$B$2:$E$13,2,FALSE))","v":0.26},{"$f":"IF(B163=\"\",\"\",VLOOKUP(D163,Tablas!$B$2:$H$13,7,FALSE))","v":83577.200000000012},1138800,88403798020.687119,79073164598.110123,70727338638.738937,63262378031.072395,56585311297.918076,50612979694.023323,45271001515.226585,40492845720.238441,36219003327.583595,32396246267.96386,28976964461.506134,25918572863.6012,23182981094.455456,20736119046.91901,18547512564.328278,680406217142.37256,1360812.434284745]
[{"$f":"IF(ISBLANK(InfoPro!A157),\"\",InfoPro!A157)","v":"SC_1928_A2"},{"$f":"IF(ISBLANK(InfoPro!B157),\"\",InfoPro!B157)","v":"Jacamará 500 MW"},{"$f":"IF(ISBLANK(InfoPro!E157),\"\",InfoPro!E157)","v":500},{"$f":"IF(ISBLANK(InfoPro!F157),\"\",InfoPro!F157)","v":"Solar FV"},{"$f":"IF(ISBLANK(InfoPro!I157),\"\",YEAR(InfoPro!I157)-$G$3)","v":3},{"$f":"IF(B164=\"\",\"\",VLOOKUP(D164,Tablas!$B$2:$E$13,2,FALSE))","v":0.26},{"$f":"IF(B164=\"\",\"\",VLOOKUP(D164,Tablas!$B$2:$H$13,7,FALSE))","v":83577.200000000012},1138800,{"$f":"IF($H164=\"\",\"\",(1/(1+$C$3)^(I$6+$E164))*$H164*($C$2 - $G164))","v":88403798020.687119},79073164598.110123,70727338638.738937,63262378031.072395,56585311297.918076,50612979694.023323,45271001515.226585,40492845720.238441,36219003327.583595,32396246267.96386,28976964461.506134,25918572863.6012,23182981094.455456,20736119046.91901,18547512564.328278,680406217142.37256,1360812.434284745]
[{"$f":"IF(ISBLANK(InfoPro!A158),\"\",InfoPro!A158)","v":"SC_1944_A1"},{"$f":"IF(ISBLANK(InfoPro!B158),\"\",InfoPro!B158)","v":"MANANTIALES DE VERANO de 99.9 MW"},{"$f":"IF(ISBLANK(InfoPro!E158),\"\",InfoPro!E158)","v":99.9},{"$f":"IF(ISBLANK(InfoPro!F158),\"\",InfoPro!F158)","v":"Solar FV"},{"$f":"IF(ISBLANK(InfoPro!I158),\"\",YEAR(InfoPro!I158)-$G$3)","v":3},{"$f":"IF(B165=\"\",\"\",VLOOKUP(D165,Tablas!$B$2:$E$13,2,FALSE))","v":0.26},{"$f":"IF(B165=\"\",\"\",VLOOKUP(D165,Tablas!$B$2:$H$13,7,FALSE))","v":83577.200000000012},227532.24000000002,17663078844.533287,15798818286.702406,14131322260.020041,12639823130.608265,11305745197.324032,10112473342.86586,9045146102.7422714,8090470574.9036427,7236556864.851203,6472770004.33918,5789597499.408927,5178530858.1475201,4631959622.6722012,4143076585.574419,3705793010.3527899,135945162185.04604,1360812.434284745]
[{"$f":"IF(ISBLANK(InfoPro!A159),\"\",InfoPro!A159)","v":"SC_1944_A2"},{"$f":"IF(ISBLANK(InfoPro!B159),\"\",InfoPro!B159)","v":"MANANTIALES DE VERANO de 99.9 MW"},{"$f":"IF(ISBLANK(InfoPro!E159),\"\",InfoPro!E159)","v":99.9},{"$f":"IF(ISBLANK(InfoPro!F159),\"\",InfoPro!F159)","v":"Solar FV"},{"$f":"IF(ISBLANK(InfoPro!I159),\"\",YEAR(InfoPro!I159)-$G$3)","v":3},{"$f":"IF(B166=\"\",\"\",VLOOKUP(D166,Tablas!$B$2:$E$13,2,FALSE))","v":0.26},{"$f":"IF(B166=\"\",\"\",VLOOKUP(D166,Tablas!$B$2:$H$13,7,FALSE))","v":83577.200000000012},227532.24000000002,17663078844.533287,15798818286.702406,14131322260.020041,12639823130.608265,11305745197.324032,10112473342.86586,9045146102.7422714,8090470574.9036427,7236556864.851203,6472770004.33918,5789597499.408927,5178530858.1475201,4631959622.6722012,4143076585.574419,3705793010.3527899,135945162185.04604,1360812.434284745]
[{"$f":"IF(ISBLANK(InfoPro!A160),\"\",InfoPro!A160)","v":"SC_1948_A1"},{"$f":"IF(ISBLANK(InfoPro!B160),\"\",InfoPro!B160)","v":"PGF ROSARIO I"},{"$f":"IF(ISBLANK(InfoPro!E160),\"\",InfoPro!E160)","v":95},{"$f":"IF(ISBLANK(InfoPro!F160),\"\",InfoPro!F160)","v":"Solar FV"},{"$f":"IF(ISBLANK(InfoPro!I160),\"\",YEAR(InfoPro!I160)-$G$3)","v":3},{"$f":"IF(B167=\"\",\"\",VLOOKUP(D167,Tablas!$B$2:$E$13,2,FALSE))","v":0.26},{"$f":"IF(B167=\"\",\"\",VLOOKUP(D167,Tablas!$B$2:$H$13,7,FALSE))","v":83577.200000000012},216371.99999999997,16796721623.930548,15023901273.640923,13438194341.360397,12019851825.903753,10751209146.604433,9616466141.8644295,8601490287.8930492,7693640686.8453045,6881610632.2408819,6155286790.9131317,5505623247.6861649,4924528844.0842276,4404766407.946537,3939862618.9146113,3524027387.2223716,129277181257.05077,1360812.434284745]
[{"$f":"IF(ISBLANK(InfoPro!A161),\"\",InfoPro!A161)","v":"SC_1948_A2"},{"$f":"IF(ISBLANK(InfoPro!B161),\"\",InfoPro!B161)","v":"PGF ROSARIO I"},{"$f":"IF(ISBLANK(InfoPro!E161),\"\",InfoPro!E161)","v":95},{"$f":"IF(ISBLANK(InfoPro!F161),\"\",InfoPro!F161)","v":"Solar FV"},{"$f":"IF(ISBLANK(InfoPro!I161),\"\",YEAR(InfoPro!I161)-$G$3)","v":3},{"$f":"IF(B168=\"\",\"\",VLOOKUP(D168,Tablas!$B$2:$E$13,2,FALSE))","v":0.26},{"$f":"IF(B168=\"\",\"\",VLOOKUP(D168,Tablas!$B$2:$H$13,7,FALSE))","v":83577.200000000012},216371.99999999997,16796721623.930548,15023901273.640923,13438194341.360397,12019851825.903753,10751209146.604433,9616466141.8644295,8601490287.8930492,7693640686.8453045,6881610632.2408819,6155286790.9131317,5505623247.6861649,4924528844.0842276,4404766407.946537,3939862618.9146113,3524027387.2223716,129277181257.05077,1360812.434284745]
[{"$f":"IF(ISBLANK(InfoPro!A162),\"\",InfoPro!A162)","v":"SC_1967_A1"},{"$f":"IF(ISBLANK(InfoPro!B162),\"\",InfoPro!B162)","v":"Solar Valledupar 4"},{"$f":"IF(ISBLANK(InfoPro!E162),\"\",InfoPro!E162)","v":19.899999999999999},{"$f":"IF(ISBLANK(InfoPro!F162),\"\",InfoPro!F162)","v":"Solar FV"},{"$f":"IF(ISBLANK(InfoPro!I162),\"\",YEAR(InfoPro!I162)-$G$3)","v":2},{"$f":"IF(B169=\"\",\"\",VLOOKUP(D169,Tablas!$B$2:$E$13,2,FALSE))","v":0.26},{"$f":"IF(B169=\"\",\"\",VLOOKUP(D169,Tablas!$B$2:$H$13,7,FALSE))","v":83577.200000000012},45324.24,3933650758.2477012,3518471161.2233467,3147111951.0047827,2814948077.8218098,2517842645.6366811,2252095389.6571388,2014396591.8221281,1801785860.3060181,1611615259.6654902,1441516332.4378271,1289370601.4649615,1153283185.5679443,1031559199.9713277,922682647.55932713,825297538.06737661,30275627200.453861,1521388.3015303449]
[{"$f":"IF(ISBLANK(InfoPro!A163),\"\",InfoPro!A163)","v":"SC_1967_A2"},{"$f":"IF(ISBLANK(InfoPro!B163),\"\",InfoPro!B163)","v":"Solar Valledupar 4"},{"$f":"IF(ISBLANK(InfoPro!E163),\"\",InfoPro!E163)","v":19.899999999999999},{"$f":"IF(ISBLANK(InfoPro!F163),\"\",InfoPro!F163)","v":"Solar FV"},{"$f":"IF(ISBLANK(InfoPro!I163),\"\",YEAR(InfoPro!I163)-$G$3)","v":2},{"$f":"IF(B170=\"\",\"\",VLOOKUP(D170,Tablas!$B$2:$E$13,2,FALSE))","v":0.26},{"$f":"IF(B170=\"\",\"\",VLOOKUP(D170,Tablas!$B$2:$H$13,7,FALSE))","v":83577.200000000012},45324.24,3933650758.2477012,3518471161.2233467,3147111951.0047827,2814948077.8218098,2517842645.6366811,2252095389.6571388,2014396591.8221281,1801785860.3060181,1611615259.6654902,1441516332.4378271,1289370601.4649615,1153283185.5679443,1031559199.9713277,922682647.55932713,825297538.06737661,30275627200.453861,1521388.3015303449]
[{"$f":"IF(ISBLANK(InfoPro!A164),\"\",InfoPro!A164)","v":"SC_1968_A1"},{"$f":"IF(ISBLANK(InfoPro!B164),\"\",InfoPro!B164)","v":"Solar Valledupar 5"},{"$f":"IF(ISBLANK(InfoPro!E164),\"\",InfoPro!E164)","v":19.899999999999999},{"$f":"IF(ISBLANK(InfoPro!F164),\"\",InfoPro!F164)","v":"Solar FV"},{"$f":"IF(ISBLANK(InfoPro!I164),\"\",YEAR(InfoPro!I164)-$G$3)","v":2},{"$f":"IF(B171=\"\",\"\",VLOOKUP(D171,Tablas!$B$2:$E$13,2,FALSE))","v":0.26},{"$f":"IF(B171=\"\",\"\",VLOOKUP(D171,Tablas!$B$2:$H$13,7,FALSE))","v":83577.200000000012},45324.24,3933650758.2477012,3518471161.2233467,3147111951.0047827,2814948077.8218098,2517842645.6366811,2252095389.6571388,2014396591.8221281,1801785860.3060181,1611615259.6654902,1441516332.4378271,1289370601.4649615,1153283185.5679443,1031559199.9713277,922682647.55932713,825297538.06737661,30275627200.453861,1521388.3015303449]
[{"$f":"IF(ISBLANK(InfoPro!A165),\"\",InfoPro!A165)","v":"SC_1968_A2"},{"$f":"IF(ISBLANK(InfoPro!B165),\"\",InfoPro!B165)","v":"Solar Valledupar 5"},{"$f":"IF(ISBLANK(InfoPro!E165),\"\",InfoPro!E165)","v":19.899999999999999},{"$f":"IF(ISBLANK(InfoPro!F165),\"\",InfoPro!F165)","v":"Solar FV"},{"$f":"IF(ISBLANK(InfoPro!I165),\"\",YEAR(InfoPro!I165)-$G$3)","v":2},{"$f":"IF(B172=\"\",\"\",VLOOKUP(D172,Tablas!$B$2:$E$13,2,FALSE))","v":0.26},{"$f":"IF(B172=\"\",\"\",VLOOKUP(D172,Tablas!$B$2:$H$13,7,FALSE))","v":83577.200000000012},45324.24,3933650758.2477012,3518471161.2233467,3147111951.0047827,2814948077.8218098,2517842645.6366811,2252095389.6571388,2014396591.8221281,1801785860.3060181,1611615259.6654902,1441516332.4378271,1289370601.4649615,1153283185.5679443,1031559199.9713277,922682647.55932713,825297538.06737661,30275627200.453861,1521388.3015303449]
[{"$f":"IF(ISBLANK(InfoPro!A166),\"\",InfoPro!A166)","v":"SC_1978_A1"},{"$f":"IF(ISBLANK(InfoPro!B166),\"\",InfoPro!B166)","v":"Solar El Copey"},{"$f":"IF(ISBLANK(InfoPro!E166),\"\",InfoPro!E166)","v":230},{"$f":"IF(ISBLANK(InfoPro!F166),\"\",InfoPro!F166)","v":"Solar FV"},{"$f":"IF(ISBLANK(InfoPro!I166),\"\",YEAR(InfoPro!I166)-$G$3)","v":2},{"$f":"IF(B173=\"\",\"\",VLOOKUP(D173,Tablas!$B$2:$E$13,2,FALSE))","v":0.26},{"$f":"IF(B173=\"\",\"\",VLOOKUP(D173,Tablas!$B$2:$H$13,7,FALSE))","v":83577.200000000012},523848,45464305246.078964,40665747089.516075,36373655715.130661,32534575773.819912,29100693894.293301,26029243197.042313,23281970659.250729,20824660697.00423,18626709031.309685,16660741530.688454,14902273283.263376,13329403652.292824,11922543517.256552,10664171303.449511,9538614761.5827446,349919309351.97937,1521388.3015303451]
[{"$f":"IF(ISBLANK(InfoPro!A167),\"\",InfoPro!A167)","v":"SC_1978_A2"},{"$f":"IF(ISBLANK(InfoPro!B167),\"\",InfoPro!B167)","v":"Solar El Copey"},{"$f":"IF(ISBLANK(InfoPro!E167),\"\",InfoPro!E167)","v":230},{"$f":"IF(ISBLANK(InfoPro!F167),\"\",InfoPro!F167)","v":"Solar FV"},{"$f":"IF(ISBLANK(InfoPro!I167),\"\",YEAR(InfoPro!I167)-$G$3)","v":2},{"$f":"IF(B174=\"\",\"\",VLOOKUP(D174,Tablas!$B$2:$E$13,2,FALSE))","v":0.26},{"$f":"IF(B174=\"\",\"\",VLOOKUP(D174,Tablas!$B$2:$H$13,7,FALSE))","v":83577.200000000012},523848,45464305246.078964,40665747089.516075,36373655715.130661,32534575773.819912,29100693894.293301,26029243197.042313,23281970659.250729,20824660697.00423,18626709031.309685,16660741530.688454,14902273283.263376,13329403652.292824,11922543517.256552,10664171303.449511,9538614761.5827446,349919309351.97937,1521388.3015303451]
[{"$f":"IF(ISBLANK(InfoPro!A168),\"\",InfoPro!A168)","v":"SC_1981_A1"},{"$f":"IF(ISBLANK(InfoPro!B168),\"\",InfoPro!B168)","v":"Solar Valledupar 2"},{"$f":"IF(ISBLANK(InfoPro!E168),\"\",InfoPro!E168)","v":19.899999999999999},{"$f":"IF(ISBLANK(InfoPro!F168),\"\",InfoPro!F168)","v":"Solar FV"},{"$f":"IF(ISBLANK(InfoPro!I168),\"\",YEAR(InfoPro!I168)-$G$3)","v":0},{"$f":"IF(B175=\"\",\"\",VLOOKUP(D175,Tablas!$B$2:$E$13,2,FALSE))","v":0.26},{"$f":"IF(B175=\"\",\"\",VLOOKUP(D175,Tablas!$B$2:$H$13,7,FALSE))","v":83577.200000000012},45324.24,4916764490.3519993,4397821547.7209301,3933650758.2477012,3518471161.2233467,3147111951.0047827,2814948077.8218098,2517842645.6366811,2252095389.6571388,2014396591.8221281,1801785860.3060181,1611615259.6654902,1441516332.4378271,1289370601.4649615,1153283185.5679443,1031559199.9713277,37842233052.900085,1901619.7514020144]
[{"$f":"IF(ISBLANK(InfoPro!A169),\"\",InfoPro!A169)","v":"SC_1981_A2"},{"$f":"IF(ISBLANK(InfoPro!B169),\"\",InfoPro!B169)","v":"Solar Valledupar 2"},{"$f":"IF(ISBLANK(InfoPro!E169),\"\",InfoPro!E169)","v":19.899999999999999},{"$f":"IF(ISBLANK(InfoPro!F169),\"\",InfoPro!F169)","v":"Solar FV"},{"$f":"IF(ISBLANK(InfoPro!I169),\"\",YEAR(InfoPro!I169)-$G$3)","v":0},{"$f":"IF(B176=\"\",\"\",VLOOKUP(D176,Tablas!$B$2:$E$13,2,FALSE))","v":0.26},{"$f":"IF(B176=\"\",\"\",VLOOKUP(D176,Tablas!$B$2:$H$13,7,FALSE))","v":83577.200000000012},45324.24,4916764490.3519993,4397821547.7209301,3933650758.2477012,3518471161.2233467,3147111951.0047827,2814948077.8218098,2517842645.6366811,2252095389.6571388,2014396591.8221281,1801785860.3060181,1611615259.6654902,1441516332.4378271,1289370601.4649615,1153283185.5679443,1031559199.9713277,37842233052.900085,1901619.7514020144]
[{"$f":"IF(ISBLANK(InfoPro!A170),\"\",InfoPro!A170)","v":"SC_1982_A1"},{"$f":"IF(ISBLANK(InfoPro!B170),\"\",InfoPro!B170)","v":"Solar Valledupar 3"},{"$f":"IF(ISBLANK(InfoPro!E170),\"\",InfoPro!E170)","v":19.899999999999999},{"$f":"IF(ISBLANK(InfoPro!F170),\"\",InfoPro!F170)","v":"Solar FV"},{"$f":"IF(ISBLANK(InfoPro!I170),\"\",YEAR(InfoPro!I170)-$G$3)","v":2},{"$f":"IF(B177=\"\",\"\",VLOOKUP(D177,Tablas!$B$2:$E$13,2,FALSE))","v":0.26},{"$f":"IF(B177=\"\",\"\",VLOOKUP(D177,Tablas!$B$2:$H$13,7,FALSE))","v":83577.200000000012},45324.24,3933650758.2477012,3518471161.2233467,3147111951.0047827,2814948077.8218098,2517842645.6366811,2252095389.6571388,2014396591.8221281,1801785860.3060181,1611615259.6654902,1441516332.4378271,1289370601.4649615,1153283185.5679443,1031559199.9713277,922682647.55932713,825297538.06737661,30275627200.453861,1521388.3015303449]
[{"$f":"IF(ISBLANK(InfoPro!A171),\"\",InfoPro!A171)","v":"SC_1982_A2"},{"$f":"IF(ISBLANK(InfoPro!B171),\"\",InfoPro!B171)","v":"Solar Valledupar 3"},{"$f":"IF(ISBLANK(InfoPro!E171),\"\",InfoPro!E171)","v":19.899999999999999},{"$f":"IF(ISBLANK(InfoPro!F171),\"\",InfoPro!F171)","v":"Solar FV"},{"$f":"IF(ISBLANK(InfoPro!I171),\"\",YEAR(InfoPro!I171)-$G$3)","v":2},{"$f":"IF(B178=\"\",\"\",VLOOKUP(D178,Tablas!$B$2:$E$13,2,FALSE))","v":0.26},{"$f":"IF(B178=\"\",\"\",VLOOKUP(D178,Tablas!$B$2:$H$13,7,FALSE))","v":83577.200000000012},45324.24,3933650758.2477012,3518471161.2233467,3147111951.0047827,2814948077.8218098,2517842645.6366811,2252095389.6571388,2014396591.8221281,1801785860.3060181,1611615259.6654902,1441516332.4378271,1289370601.4649615,1153283185.5679443,1031559199.9713277,922682647.55932713,825297538.06737661,30275627200.453861,1521388.3015303449]
[{"$f":"IF(ISBLANK(InfoPro!A172),\"\",InfoPro!A172)","v":"SC_1989_A1"},{"$f":"IF(ISBLANK(InfoPro!B172),\"\",InfoPro!B172)","v":"Solar Valledupar 1"},{"$f":"IF(ISBLANK(InfoPro!E172),\"\",InfoPro!E172)","v":19.899999999999999},{"$f":"IF(ISBLANK(InfoPro!F172),\"\",InfoPro!F172)","v":"Solar FV"},{"$f":"IF(ISBLANK(InfoPro!I172),\"\",YEAR(InfoPro!I172)-$G$3)","v":0},{"$f":"IF(B179=\"\",\"\",VLOOKUP(D179,Tablas!$B$2:$E$13,2,FALSE))","v":0.26},{"$f":"IF(B179=\"\",\"\",VLOOKUP(D179,Tablas!$B$2:$H$13,7,FALSE))","v":83577.200000000012},45324.24,4916764490.3519993,4397821547.7209301,3933650758.2477012,3518471161.2233467,3147111951.0047827,2814948077.8218098,2517842645.6366811,2252095389.6571388,2014396591.8221281,1801785860.3060181,1611615259.6654902,1441516332.4378271,1289370601.4649615,1153283185.5679443,1031559199.9713277,37842233052.900085,1901619.7514020144]
[{"$f":"IF(ISBLANK(InfoPro!A173),\"\",InfoPro!A173)","v":"SC_1989_A2"},{"$f":"IF(ISBLANK(InfoPro!B173),\"\",InfoPro!B173)","v":"Solar Valledupar 1"},{"$f":"IF(ISBLANK(InfoPro!E173),\"\",InfoPro!E173)","v":19.899999999999999},{"$f":"IF(ISBLANK(InfoPro!F173),\"\",InfoPro!F173)","v":"Solar FV"},{"$f":"IF(ISBLANK(InfoPro!I173),\"\",YEAR(InfoPro!I173)-$G$3)","v":0},{"$f":"IF(B180=\"\",\"\",VLOOKUP(D180,Tablas!$B$2:$E$13,2,FALSE))","v":0.26},{"$f":"IF(B180=\"\",\"\",VLOOKUP(D180,Tablas!$B$2:$H$13,7,FALSE))","v":83577.200000000012},45324.24,4916764490.3519993,4397821547.7209301,3933650758.2477012,3518471161.2233467,3147111951.0047827,2814948077.8218098,2517842645.6366811,2252095389.6571388,2014396591.8221281,1801785860.3060181,1611615259.6654902,1441516332.4378271,1289370601.4649615,1153283185.5679443,1031559199.9713277,37842233052.900085,1901619.7514020144]
[{"$f":"IF(ISBLANK(InfoPro!A174),\"\",InfoPro!A174)","v":"SC_1992_A1"},{"$f":"IF(ISBLANK(InfoPro!B174),\"\",InfoPro!B174)","v":"Parque Solar TERRɅ III"},{"$f":"IF(ISBLANK(InfoPro!E174),\"\",InfoPro!E174)","v":19.899999999999999},{"$f":"IF(ISBLANK(InfoPro!F174),\"\",InfoPro!F174)","v":"Solar FV"},{"$f":"IF(ISBLANK(InfoPro!I174),\"\",YEAR(InfoPro!I174)-$G$3)","v":1},{"$f":"IF(B181=\"\",\"\",VLOOKUP(D181,Tablas!$B$2:$E$13,2,FALSE))","v":0.26},{"$f":"IF(B181=\"\",\"\",VLOOKUP(D181,Tablas!$B$2:$H$13,7,FALSE))","v":83577.200000000012},45324.24,{"$f":"IF($H181=\"\",\"\",(1/(1+$C$3)^(I$6+$E181))*$H181*($C$2 - $G181))","v":4397821547.7209301},3933650758.2477012,3518471161.2233467,3147111951.0047827,2814948077.8218098,2517842645.6366811,2252095389.6571388,2014396591.8221281,1801785860.3060181,1611615259.6654902,1441516332.4378271,1289370601.4649615,1153283185.5679443,1031559199.9713277,922682647.55932713,33848151210.107414,1700912.1211109255]
[{"$f":"IF(ISBLANK(InfoPro!A175),\"\",InfoPro!A175)","v":"SC_2005_A1"},{"$f":"IF(ISBLANK(InfoPro!B175),\"\",InfoPro!B175)","v":"PARQUE SOLAR CATACA"},{"$f":"IF(ISBLANK(InfoPro!E175),\"\",InfoPro!E175)","v":9.9},{"$f":"IF(ISBLANK(InfoPro!F175),\"\",InfoPro!F175)","v":"Solar FV"},{"$f":"IF(ISBLANK(InfoPro!I175),\"\",YEAR(InfoPro!I175)-$G$3)","v":1},{"$f":"IF(B182=\"\",\"\",VLOOKUP(D182,Tablas!$B$2:$E$13,2,FALSE))","v":0.26},{"$f":"IF(B182=\"\",\"\",VLOOKUP(D182,Tablas!$B$2:$H$13,7,FALSE))","v":83577.200000000012},22548.240000000005,2187860970.9767447,1956941834.5051382,1750395200.8096051,1565648659.0425808,1400401305.0470314,1252595085.0152338,1120389163.6987782,1002136997.9416621,896365830.00148666,801758345.26072145,717136265.88615525,641445676.10568452,573743896.33782172,513187742.69930387,459023025.67021811,16839029998.998165,1700912.1211109257]
[{"$f":"IF(ISBLANK(InfoPro!A176),\"\",InfoPro!A176)","v":"SC_2010_A1"},{"$f":"IF(ISBLANK(InfoPro!B176),\"\",InfoPro!B176)","v":"PARQUE SOLAR SAN JUAN_5MW"},{"$f":"IF(ISBLANK(InfoPro!E176),\"\",InfoPro!E176)","v":5},{"$f":"IF(ISBLANK(InfoPro!F176),\"\",InfoPro!F176)","v":"Solar FV"},{"$f":"IF(ISBLANK(InfoPro!I176),\"\",YEAR(InfoPro!I176)-$G$3)","v":1},{"$f":"IF(B183=\"\",\"\",VLOOKUP(D183,Tablas!$B$2:$E$13,2,FALSE))","v":0.26},{"$f":"IF(B183=\"\",\"\",VLOOKUP(D183,Tablas!$B$2:$H$13,7,FALSE))","v":83577.200000000012},11388.000000000002,1104980288.3720932,988354461.87128198,884037980.20687139,790731645.98110139,707273386.38738942,632623780.31072402,565853112.97918081,506129796.94023323,452710015.15226591,404928457.20238453,362190033.27583599,323962462.67963862,289769644.6150614,259185728.63601205,231829810.94455463,8504560605.5546293,1700912.1211109259]
[{"$f":"IF(ISBLANK(InfoPro!A177),\"\",InfoPro!A177)","v":"SC_2011_A1"},{"$f":"IF(ISBLANK(InfoPro!B177),\"\",InfoPro!B177)","v":"PE Vientos de la Manita"},{"$f":"IF(ISBLANK(InfoPro!E177),\"\",InfoPro!E177)","v":9.9},{"$f":"IF(ISBLANK(InfoPro!F177),\"\",InfoPro!F177)","v":"Eólico Onshore"},{"$f":"IF(ISBLANK(InfoPro!I177),\"\",YEAR(InfoPro!I177)-$G$3)","v":2},{"$f":"IF(B184=\"\",\"\",VLOOKUP(D184,Tablas!$B$2:$E$13,2,FALSE))","v":0.56999999999999995},{"$f":"IF(B184=\"\",\"\",VLOOKUP(D184,Tablas!$B$2:$H$13,7,FALSE))","v":83577.200000000012},49432.679999999993,4290218637.1843405,3837404863.313364,3432383598.6702724,3070110553.3723364,2746073840.2257037,2456237781.9550123,2196992649.333643,1965109704.2340274,1757700987.6869657,1572183352.1350322,1406246289.9240003,1257823157.355993,1125065435.9177041,1006319710.1231701,900107075.24433804,33019977636.675903,3335351.2764319093]
[{"$f":"IF(ISBLANK(InfoPro!A178),\"\",InfoPro!A178)","v":"SC_2011_A2"},{"$f":"IF(ISBLANK(InfoPro!B178),\"\",InfoPro!B178)","v":"PE Vientos de la Manita"},{"$f":"IF(ISBLANK(InfoPro!E178),\"\",InfoPro!E178)","v":9.9},{"$f":"IF(ISBLANK(InfoPro!F178),\"\",InfoPro!F178)","v":"Eólico Onshore"},{"$f":"IF(ISBLANK(InfoPro!I178),\"\",YEAR(InfoPro!I178)-$G$3)","v":2},{"$f":"IF(B185=\"\",\"\",VLOOKUP(D185,Tablas!$B$2:$E$13,2,FALSE))","v":0.56999999999999995},{"$f":"IF(B185=\"\",\"\",VLOOKUP(D185,Tablas!$B$2:$H$13,7,FALSE))","v":83577.200000000012},49432.679999999993,4290218637.1843405,3837404863.313364,3432383598.6702724,3070110553.3723364,2746073840.2257037,2456237781.9550123,2196992649.333643,1965109704.2340274,1757700987.6869657,1572183352.1350322,1406246289.9240003,1257823157.355993,1125065435.9177041,1006319710.1231701,900107075.24433804,33019977636.675903,3335351.2764319093]
[{"$f":"IF(ISBLANK(InfoPro!A179),\"\",InfoPro!A179)","v":"SC_2020_A1"},{"$f":"IF(ISBLANK(InfoPro!B179),\"\",InfoPro!B179)","v":"San Juan Solar I 9,9 MW"},{"$f":"IF(ISBLANK(InfoPro!E179),\"\",InfoPro!E179)","v":9.9},{"$f":"IF(ISBLANK(InfoPro!F179),\"\",InfoPro!F179)","v":"Solar FV"},{"$f":"IF(ISBLANK(InfoPro!I179),\"\",YEAR(InfoPro!I179)-$G$3)","v":1},{"$f":"IF(B186=\"\",\"\",VLOOKUP(D186,Tablas!$B$2:$E$13,2,FALSE))","v":0.26},{"$f":"IF(B186=\"\",\"\",VLOOKUP(D186,Tablas!$B$2:$H$13,7,FALSE))","v":83577.200000000012},22548.240000000005,2187860970.9767447,1956941834.5051382,1750395200.8096051,1565648659.0425808,1400401305.0470314,1252595085.0152338,1120389163.6987782,1002136997.9416621,896365830.00148666,801758345.26072145,717136265.88615525,641445676.10568452,573743896.33782172,513187742.69930387,459023025.67021811,16839029998.998165,1700912.1211109257]
[{"$f":"IF(ISBLANK(InfoPro!A180),\"\",InfoPro!A180)","v":"SC_2020_A2"},{"$f":"IF(ISBLANK(InfoPro!B180),\"\",InfoPro!B180)","v":"San Juan Solar I 9,9 MW"},{"$f":"IF(ISBLANK(InfoPro!E180),\"\",InfoPro!E180)","v":9.9},{"$f":"IF(ISBLANK(InfoPro!F180),\"\",InfoPro!F180)","v":"Solar FV"},{"$f":"IF(ISBLANK(InfoPro!I180),\"\",YEAR(InfoPro!I180)-$G$3)","v":1},{"$f":"IF(B187=\"\",\"\",VLOOKUP(D187,Tablas!$B$2:$E$13,2,FALSE))","v":0.26},{"$f":"IF(B187=\"\",\"\",VLOOKUP(D187,Tablas!$B$2:$H$13,7,FALSE))","v":83577.200000000012},22548.240000000005,2187860970.9767447,1956941834.5051382,1750395200.8096051,1565648659.0425808,1400401305.0470314,1252595085.0152338,1120389163.6987782,1002136997.9416621,896365830.00148666,801758345.26072145,717136265.88615525,641445676.10568452,573743896.33782172,513187742.69930387,459023025.67021811,16839029998.998165,1700912.1211109257]
[{"$f":"IF(ISBLANK(InfoPro!A181),\"\",InfoPro!A181)","v":"SC_2021_A1"},{"$f":"IF(ISBLANK(InfoPro!B181),\"\",InfoPro!B181)","v":"San Juan Solar II 9,9 MW"},{"$f":"IF(ISBLANK(InfoPro!E181),\"\",InfoPro!E181)","v":9.9},{"$f":"IF(ISBLANK(InfoPro!F181),\"\",InfoPro!F181)","v":"Solar FV"},{"$f":"IF(ISBLANK(InfoPro!I181),\"\",YEAR(InfoPro!I181)-$G$3)","v":1},{"$f":"IF(B188=\"\",\"\",VLOOKUP(D188,Tablas!$B$2:$E$13,2,FALSE))","v":0.26},{"$f":"IF(B188=\"\",\"\",VLOOKUP(D188,Tablas!$B$2:$H$13,7,FALSE))","v":83577.200000000012},22548.240000000005,2187860970.9767447,1956941834.5051382,1750395200.8096051,1565648659.0425808,1400401305.0470314,1252595085.0152338,1120389163.6987782,1002136997.9416621,896365830.00148666,801758345.26072145,717136265.88615525,641445676.10568452,573743896.33782172,513187742.69930387,459023025.67021811,16839029998.998165,1700912.1211109257]
[{"$f":"IF(ISBLANK(InfoPro!A182),\"\",InfoPro!A182)","v":"SC_2021_A2"},{"$f":"IF(ISBLANK(InfoPro!B182),\"\",InfoPro!B182)","v":"San Juan Solar II 9,9 MW"},{"$f":"IF(ISBLANK(InfoPro!E182),\"\",InfoPro!E182)","v":9.9},{"$f":"IF(ISBLANK(InfoPro!F182),\"\",InfoPro!F182)","v":"Solar FV"},{"$f":"IF(ISBLANK(InfoPro!I182),\"\",YEAR(InfoPro!I182)-$G$3)","v":1},{"$f":"IF(B189=\"\",\"\",VLOOKUP(D189,Tablas!$B$2:$E$13,2,FALSE))","v":0.26},{"$f":"IF(B189=\"\",\"\",VLOOKUP(D189,Tablas!$B$2:$H$13,7,FALSE))","v":83577.200000000012},22548.240000000005,2187860970.9767447,1956941834.5051382,1750395200.8096051,1565648659.0425808,1400401305.0470314,1252595085.0152338,1120389163.6987782,1002136997.9416621,896365830.00148666,801758345.26072145,717136265.88615525,641445676.10568452,573743896.33782172,513187742.69930387,459023025.67021811,16839029998.998165,1700912.1211109257]
[{"$f":"IF(ISBLANK(InfoPro!A183),\"\",InfoPro!A183)","v":"SC_2056_A1"},{"$f":"IF(ISBLANK(InfoPro!B183),\"\",InfoPro!B183)","v":"Saturno 200 MW"},{"$f":"IF(ISBLANK(InfoPro!E183),\"\",InfoPro!E183)","v":200},{"$f":"IF(ISBLANK(InfoPro!F183),\"\",InfoPro!F183)","v":"Solar FV"},{"$f":"IF(ISBLANK(InfoPro!I183),\"\",YEAR(InfoPro!I183)-$G$3)","v":2},{"$f":"IF(B190=\"\",\"\",VLOOKUP(D190,Tablas!$B$2:$E$13,2,FALSE))","v":0.26},{"$f":"IF(B190=\"\",\"\",VLOOKUP(D190,Tablas!$B$2:$H$13,7,FALSE))","v":83577.200000000012},455520,39534178474.851265,35361519208.274849,31629265839.244049,28290935455.495575,25304951212.428959,22634124519.167225,20245191877.609329,18108400606.090633,16197138288.095379,14487601331.03344,12958498507.185543,11590785784.602455,10367429145.440479,9273192437.7821846,8294447618.7676029,304277660306.06897,1521388.3015303449]
[{"$f":"IF(ISBLANK(InfoPro!A184),\"\",InfoPro!A184)","v":"SC_2057_A1"},{"$f":"IF(ISBLANK(InfoPro!B184),\"\",InfoPro!B184)","v":"SABAN II - 305 MW"},{"$f":"IF(ISBLANK(InfoPro!E184),\"\",InfoPro!E184)","v":305},{"$f":"IF(ISBLANK(InfoPro!F184),\"\",InfoPro!F184)","v":"Solar FV"},{"$f":"IF(ISBLANK(InfoPro!I184),\"\",YEAR(InfoPro!I184)-$G$3)","v":4},{"$f":"IF(B191=\"\",\"\",VLOOKUP(D191,Tablas!$B$2:$E$13,2,FALSE))","v":0.26},{"$f":"IF(B191=\"\",\"\",VLOOKUP(D191,Tablas!$B$2:$H$13,7,FALSE))","v":83577.200000000012},694667.99999999988,48234630404.847168,43143676569.630745,38590050598.954155,34517039891.730019,30873917613.354221,27615310924.288216,24700635889.345448,22093592029.825989,19761710223.457951,17675948321.518742,15810329446.796728,14141618467.617826,12649032618.620594,11313982664.240246,10119841381.252457,371241317045.48047,1217184.6460507556]
[{"$f":"IF(ISBLANK(InfoPro!A185),\"\",InfoPro!A185)","v":"SC_2066_A1"},{"$f":"IF(ISBLANK(InfoPro!B185),\"\",InfoPro!B185)","v":"Orquídea del Cesar - La Loma - 62 MW"},{"$f":"IF(ISBLANK(InfoPro!E185),\"\",InfoPro!E185)","v":62},{"$f":"IF(ISBLANK(InfoPro!F185),\"\",InfoPro!F185)","v":"Solar FV"},{"$f":"IF(ISBLANK(InfoPro!I185),\"\",YEAR(InfoPro!I185)-$G$3)","v":5},{"$f":"IF(B192=\"\",\"\",VLOOKUP(D192,Tablas!$B$2:$E$13,2,FALSE))","v":0.26},{"$f":"IF(B192=\"\",\"\",VLOOKUP(D192,Tablas!$B$2:$H$13,7,FALSE))","v":83577.200000000012},141211.20000000001,8770189991.2036285,7844534875.8529778,7016578600.9418411,6276009482.0588923,5613604187.8880968,5021112869.3095684,4491156412.6203661,4017134537.2275186,3593143593.2267609,3213903035.0865493,2874689655.7124767,2571278761.8179574,2299891557.9767065,2057148084.0578768,1840025119.9086561,67500400764.88987,1088716.1413691915]
[{"$f":"IF(ISBLANK(InfoPro!A186),\"\",InfoPro!A186)","v":"SC_2066_A2"},{"$f":"IF(ISBLANK(InfoPro!B186),\"\",InfoPro!B186)","v":"Orquídea del Cesar - La Loma - 62 MW"},{"$f":"IF(ISBLANK(InfoPro!E186),\"\",InfoPro!E186)","v":62},{"$f":"IF(ISBLANK(InfoPro!F186),\"\",InfoPro!F186)","v":"Solar FV"},{"$f":"IF(ISBLANK(InfoPro!I186),\"\",YEAR(InfoPro!I186)-$G$3)","v":5},{"$f":"IF(B193=\"\",\"\",VLOOKUP(D193,Tablas!$B$2:$E$13,2,FALSE))","v":0.26},{"$f":"IF(B193=\"\",\"\",VLOOKUP(D193,Tablas!$B$2:$H$13,7,FALSE))","v":83577.200000000012},141211.20000000001,8770189991.2036285,7844534875.8529778,7016578600.9418411,6276009482.0588923,5613604187.8880968,5021112869.3095684,4491156412.6203661,4017134537.2275186,3593143593.2267609,3213903035.0865493,2874689655.7124767,2571278761.8179574,2299891557.9767065,2057148084.0578768,1840025119.9086561,67500400764.88987,1088716.1413691915]
[{"$f":"IF(ISBLANK(InfoPro!A187),\"\",InfoPro!A187)","v":"SC_2069_A1"},{"$f":"IF(ISBLANK(InfoPro!B187),\"\",InfoPro!B187)","v":"Pétalo del Magdalena - Fundación"},{"$f":"IF(ISBLANK(InfoPro!E187),\"\",InfoPro!E187)","v":9.9},{"$f":"IF(ISBLANK(InfoPro!F187),\"\",InfoPro!F187)","v":"Solar FV"},{"$f":"IF(ISBLANK(InfoPro!I187),\"\",YEAR(InfoPro!I187)-$G$3)","v":3},{"$f":"IF(B194=\"\",\"\",VLOOKUP(D194,Tablas!$B$2:$E$13,2,FALSE))","v":0.26},{"$f":"IF(B194=\"\",\"\",VLOOKUP(D194,Tablas!$B$2:$H$13,7,FALSE))","v":83577.200000000012},22548.240000000005,1750395200.8096051,1565648659.0425808,1400401305.0470314,1252595085.0152338,1120389163.6987782,1002136997.9416621,896365830.00148666,801758345.26072145,717136265.88615525,641445676.10568452,573743896.33782172,513187742.69930387,459023025.67021811,410575157.12899649,367240748.77369994,13472043099.41898,1360812.4342847455]
[{"$f":"IF(ISBLANK(InfoPro!A188),\"\",InfoPro!A188)","v":"SC_2070_A1"},{"$f":"IF(ISBLANK(InfoPro!B188),\"\",InfoPro!B188)","v":"Cactus del Cesar - La Loma"},{"$f":"IF(ISBLANK(InfoPro!E188),\"\",InfoPro!E188)","v":19.899999999999999},{"$f":"IF(ISBLANK(InfoPro!F188),\"\",InfoPro!F188)","v":"Solar FV"},{"$f":"IF(ISBLANK(InfoPro!I188),\"\",YEAR(InfoPro!I188)-$G$3)","v":5},{"$f":"IF(B195=\"\",\"\",VLOOKUP(D195,Tablas!$B$2:$E$13,2,FALSE))","v":0.26},{"$f":"IF(B195=\"\",\"\",VLOOKUP(D195,Tablas!$B$2:$H$13,7,FALSE))","v":83577.200000000012},45324.24,2814948077.8218098,2517842645.6366811,2252095389.6571388,2014396591.8221281,1801785860.3060181,1611615259.6654902,1441516332.4378271,1289370601.4649615,1153283185.5679443,1031559199.9713277,922682647.55932713,825297538.06737661,738191000.0602653,660278175.36696362,590588707.84164917,21665451213.246906,1088716.1413691912]
[{"$f":"IF(ISBLANK(InfoPro!A189),\"\",InfoPro!A189)","v":"SC_2070_A2"},{"$f":"IF(ISBLANK(InfoPro!B189),\"\",InfoPro!B189)","v":"Cactus del Cesar - La Loma"},{"$f":"IF(ISBLANK(InfoPro!E189),\"\",InfoPro!E189)","v":19.899999999999999},{"$f":"IF(ISBLANK(InfoPro!F189),\"\",InfoPro!F189)","v":"Solar FV"},{"$f":"IF(ISBLANK(InfoPro!I189),\"\",YEAR(InfoPro!I189)-$G$3)","v":5},{"$f":"IF(B196=\"\",\"\",VLOOKUP(D196,Tablas!$B$2:$E$13,2,FALSE))","v":0.26},{"$f":"IF(B196=\"\",\"\",VLOOKUP(D196,Tablas!$B$2:$H$13,7,FALSE))","v":83577.200000000012},45324.24,2814948077.8218098,2517842645.6366811,2252095389.6571388,2014396591.8221281,1801785860.3060181,1611615259.6654902,1441516332.4378271,1289370601.4649615,1153283185.5679443,1031559199.9713277,922682647.55932713,825297538.06737661,738191000.0602653,660278175.36696362,590588707.84164917,21665451213.246906,1088716.1413691912]
[{"$f":"IF(ISBLANK(InfoPro!A190),\"\",InfoPro!A190)","v":"SC_2077_A1"},{"$f":"IF(ISBLANK(InfoPro!B190),\"\",InfoPro!B190)","v":"PARQUE SOLAR GUACAMAYAL 9.9"},{"$f":"IF(ISBLANK(InfoPro!E190),\"\",InfoPro!E190)","v":9.9},{"$f":"IF(ISBLANK(InfoPro!F190),\"\",InfoPro!F190)","v":"Solar FV"},{"$f":"IF(ISBLANK(InfoPro!I190),\"\",YEAR(InfoPro!I190)-$G$3)","v":1},{"$f":"IF(B197=\"\",\"\",VLOOKUP(D197,Tablas!$B$2:$E$13,2,FALSE))","v":0.26},{"$f":"IF(B197=\"\",\"\",VLOOKUP(D197,Tablas!$B$2:$H$13,7,FALSE))","v":83577.200000000012},22548.240000000005,2187860970.9767447,1956941834.5051382,1750395200.8096051,1565648659.0425808,1400401305.0470314,1252595085.0152338,1120389163.6987782,1002136997.9416621,896365830.00148666,801758345.26072145,717136265.88615525,641445676.10568452,573743896.33782172,513187742.69930387,459023025.67021811,16839029998.998165,1700912.1211109257]
[{"$f":"IF(ISBLANK(InfoPro!A191),\"\",InfoPro!A191)","v":"SC_2084_A1"},{"$f":"IF(ISBLANK(InfoPro!B191),\"\",InfoPro!B191)","v":"Parque Solar Codazzi 1 19,9 MW"},{"$f":"IF(ISBLANK(InfoPro!E191),\"\",InfoPro!E191)","v":19.899999999999999},{"$f":"IF(ISBLANK(InfoPro!F191),\"\",InfoPro!F191)","v":"Solar FV"},{"$f":"IF(ISBLANK(InfoPro!I191),\"\",YEAR(InfoPro!I191)-$G$3)","v":3},{"$f":"IF(B198=\"\",\"\",VLOOKUP(D198,Tablas!$B$2:$E$13,2,FALSE))","v":0.26},{"$f":"IF(B198=\"\",\"\",VLOOKUP(D198,Tablas!$B$2:$H$13,7,FALSE))","v":83577.200000000012},45324.24,{"$f":"IF($H198=\"\",\"\",(1/(1+$C$3)^(I$6+$E198))*$H198*($C$2 - $G198))","v":3518471161.2233467},3147111951.0047827,2814948077.8218098,2517842645.6366811,2252095389.6571388,2014396591.8221281,1801785860.3060181,1611615259.6654902,1441516332.4378271,1289370601.4649615,1153283185.5679443,1031559199.9713277,922682647.55932713,825297538.06737661,738191000.0602653,27080167442.266422,1360812.4342847448]
[{"$f":"IF(ISBLANK(InfoPro!A192),\"\",InfoPro!A192)","v":"SC_2084_A2"},{"$f":"IF(ISBLANK(InfoPro!B192),\"\",InfoPro!B192)","v":"Parque Solar Codazzi 1 19,9 MW"},{"$f":"IF(ISBLANK(InfoPro!E192),\"\",InfoPro!E192)","v":19.899999999999999},{"$f":"IF(ISBLANK(InfoPro!F192),\"\",InfoPro!F192)","v":"Solar FV"},{"$f":"IF(ISBLANK(InfoPro!I192),\"\",YEAR(InfoPro!I192)-$G$3)","v":3},{"$f":"IF(B199=\"\",\"\",VLOOKUP(D199,Tablas!$B$2:$E$13,2,FALSE))","v":0.26},{"$f":"IF(B199=\"\",\"\",VLOOKUP(D199,Tablas!$B$2:$H$13,7,FALSE))","v":83577.200000000012},45324.24,3518471161.2233467,3147111951.0047827,2814948077.8218098,2517842645.6366811,2252095389.6571388,2014396591.8221281,1801785860.3060181,1611615259.6654902,1441516332.4378271,1289370601.4649615,1153283185.5679443,1031559199.9713277,922682647.55932713,825297538.06737661,738191000.0602653,27080167442.266422,1360812.4342847448]
[{"$f":"IF(ISBLANK(InfoPro!A193),\"\",InfoPro!A193)","v":"SC_2086_A1"},{"$f":"IF(ISBLANK(InfoPro!B193),\"\",InfoPro!B193)","v":"PARQUE SOLAR SABANA SOLAR 19.9"},{"$f":"IF(ISBLANK(InfoPro!E193),\"\",InfoPro!E193)","v":19.899999999999999},{"$f":"IF(ISBLANK(InfoPro!F193),\"\",InfoPro!F193)","v":"Solar FV"},{"$f":"IF(ISBLANK(InfoPro!I193),\"\",YEAR(InfoPro!I193)-$G$3)","v":1},{"$f":"IF(B200=\"\",\"\",VLOOKUP(D200,Tablas!$B$2:$E$13,2,FALSE))","v":0.26},{"$f":"IF(B200=\"\",\"\",VLOOKUP(D200,Tablas!$B$2:$H$13,7,FALSE))","v":83577.200000000012},45324.24,4397821547.7209301,3933650758.2477012,3518471161.2233467,3147111951.0047827,2814948077.8218098,2517842645.6366811,2252095389.6571388,2014396591.8221281,1801785860.3060181,1611615259.6654902,1441516332.4378271,1289370601.4649615,1153283185.5679443,1031559199.9713277,922682647.55932713,33848151210.107414,1700912.1211109255]
[{"$f":"IF(ISBLANK(InfoPro!A194),\"\",InfoPro!A194)","v":"SC_2103_A1"},{"$f":"IF(ISBLANK(InfoPro!B194),\"\",InfoPro!B194)","v":"PARQUE SOLAR PUERTA DEL SOL"},{"$f":"IF(ISBLANK(InfoPro!E194),\"\",InfoPro!E194)","v":19.899999999999999},{"$f":"IF(ISBLANK(InfoPro!F194),\"\",InfoPro!F194)","v":"Solar FV"},{"$f":"IF(ISBLANK(InfoPro!I194),\"\",YEAR(InfoPro!I194)-$G$3)","v":1},{"$f":"IF(B201=\"\",\"\",VLOOKUP(D201,Tablas!$B$2:$E$13,2,FALSE))","v":0.26},{"$f":"IF(B201=\"\",\"\",VLOOKUP(D201,Tablas!$B$2:$H$13,7,FALSE))","v":83577.200000000012},45324.24,4397821547.7209301,3933650758.2477012,3518471161.2233467,3147111951.0047827,2814948077.8218098,2517842645.6366811,2252095389.6571388,2014396591.8221281,1801785860.3060181,1611615259.6654902,1441516332.4378271,1289370601.4649615,1153283185.5679443,1031559199.9713277,922682647.55932713,33848151210.107414,1700912.1211109255]
[{"$f":"IF(ISBLANK(InfoPro!A195),\"\",InfoPro!A195)","v":"SC_2125_A1"},{"$f":"IF(ISBLANK(InfoPro!B195),\"\",InfoPro!B195)","v":"Expansión Valledupar 100 MW"},{"$f":"IF(ISBLANK(InfoPro!E195),\"\",InfoPro!E195)","v":100},{"$f":"IF(ISBLANK(InfoPro!F195),\"\",InfoPro!F195)","v":"Solar FV"},{"$f":"IF(ISBLANK(InfoPro!I195),\"\",YEAR(InfoPro!I195)-$G$3)","v":4},{"$f":"IF(B202=\"\",\"\",VLOOKUP(D202,Tablas!$B$2:$E$13,2,FALSE))","v":0.26},{"$f":"IF(B202=\"\",\"\",VLOOKUP(D202,Tablas!$B$2:$H$13,7,FALSE))","v":83577.200000000012},227760,15814632919.622025,14145467727.747787,12652475606.214479,11317062259.583612,10122595938.804665,9054200303.0453167,8098569144.0476894,7243800665.5167198,6479249253.5927715,5795392892.3012276,5183714572.7202396,4636596218.8910923,4147223809.3838015,3709502512.8656549,3317980780.7385106,121718464605.07561,1217184.6460507561]
[{"$f":"IF(ISBLANK(InfoPro!A196),\"\",InfoPro!A196)","v":"SC_2125_A2"},{"$f":"IF(ISBLANK(InfoPro!B196),\"\",InfoPro!B196)","v":"Expansión Valledupar 100 MW"},{"$f":"IF(ISBLANK(InfoPro!E196),\"\",InfoPro!E196)","v":100},{"$f":"IF(ISBLANK(InfoPro!F196),\"\",InfoPro!F196)","v":"Solar FV"},{"$f":"IF(ISBLANK(InfoPro!I196),\"\",YEAR(InfoPro!I196)-$G$3)","v":4},{"$f":"IF(B203=\"\",\"\",VLOOKUP(D203,Tablas!$B$2:$E$13,2,FALSE))","v":0.26},{"$f":"IF(B203=\"\",\"\",VLOOKUP(D203,Tablas!$B$2:$H$13,7,FALSE))","v":83577.200000000012},227760,15814632919.622025,14145467727.747787,12652475606.214479,11317062259.583612,10122595938.804665,9054200303.0453167,8098569144.0476894,7243800665.5167198,6479249253.5927715,5795392892.3012276,5183714572.7202396,4636596218.8910923,4147223809.3838015,3709502512.8656549,3317980780.7385106,121718464605.07561,1217184.6460507561]
[{"$f":"IF(ISBLANK(InfoPro!A197),\"\",InfoPro!A197)","v":"SC_2129_A2"},{"$f":"IF(ISBLANK(InfoPro!B197),\"\",InfoPro!B197)","v":"DSE LA JAGUA DE IBIRICO"},{"$f":"IF(ISBLANK(InfoPro!E197),\"\",InfoPro!E197)","v":9.9},{"$f":"IF(ISBLANK(InfoPro!F197),\"\",InfoPro!F197)","v":"Solar FV"},{"$f":"IF(ISBLANK(InfoPro!I197),\"\",YEAR(InfoPro!I197)-$G$3)","v":2},{"$f":"IF(B204=\"\",\"\",VLOOKUP(D204,Tablas!$B$2:$E$13,2,FALSE))","v":0.26},{"$f":"IF(B204=\"\",\"\",VLOOKUP(D204,Tablas!$B$2:$H$13,7,FALSE))","v":83577.200000000012},22548.240000000005,1956941834.5051382,1750395200.8096051,1565648659.0425808,1400401305.0470314,1252595085.0152338,1120389163.6987782,1002136997.9416621,896365830.00148666,801758345.26072145,717136265.88615525,641445676.10568452,573743896.33782172,513187742.69930387,459023025.67021811,410575157.12899649,15061744185.150415,1521388.3015303449]
[{"$f":"IF(ISBLANK(InfoPro!A198),\"\",InfoPro!A198)","v":"SC_2130_A1"},{"$f":"IF(ISBLANK(InfoPro!B198),\"\",InfoPro!B198)","v":"Parque Solar Boreal"},{"$f":"IF(ISBLANK(InfoPro!E198),\"\",InfoPro!E198)","v":100},{"$f":"IF(ISBLANK(InfoPro!F198),\"\",InfoPro!F198)","v":"Solar FV"},{"$f":"IF(ISBLANK(InfoPro!I198),\"\",YEAR(InfoPro!I198)-$G$3)","v":5},{"$f":"IF(B205=\"\",\"\",VLOOKUP(D205,Tablas!$B$2:$E$13,2,FALSE))","v":0.26},{"$f":"IF(B205=\"\",\"\",VLOOKUP(D205,Tablas!$B$2:$H$13,7,FALSE))","v":83577.200000000012},227760,14145467727.747787,12652475606.214479,11317062259.583612,10122595938.804665,9054200303.0453167,8098569144.0476894,7243800665.5167198,6479249253.5927715,5795392892.3012276,5183714572.7202396,4636596218.8910923,4147223809.3838015,3709502512.8656549,3317980780.7385106,2967782451.4655738,108871614136.91916,1088716.1413691917]
[{"$f":"IF(ISBLANK(InfoPro!A199),\"\",InfoPro!A199)","v":"SC_2130_A2"},{"$f":"IF(ISBLANK(InfoPro!B199),\"\",InfoPro!B199)","v":"Parque Solar Boreal"},{"$f":"IF(ISBLANK(InfoPro!E199),\"\",InfoPro!E199)","v":100},{"$f":"IF(ISBLANK(InfoPro!F199),\"\",InfoPro!F199)","v":"Solar FV"},{"$f":"IF(ISBLANK(InfoPro!I199),\"\",YEAR(InfoPro!I199)-$G$3)","v":5},{"$f":"IF(B206=\"\",\"\",VLOOKUP(D206,Tablas!$B$2:$E$13,2,FALSE))","v":0.26},{"$f":"IF(B206=\"\",\"\",VLOOKUP(D206,Tablas!$B$2:$H$13,7,FALSE))","v":83577.200000000012},227760,14145467727.747787,12652475606.214479,11317062259.583612,10122595938.804665,9054200303.0453167,8098569144.0476894,7243800665.5167198,6479249253.5927715,5795392892.3012276,5183714572.7202396,4636596218.8910923,4147223809.3838015,3709502512.8656549,3317980780.7385106,2967782451.4655738,108871614136.91916,1088716.1413691917]
[{"$f":"IF(ISBLANK(InfoPro!A200),\"\",InfoPro!A200)","v":"SC_2132_A1"},{"$f":"IF(ISBLANK(InfoPro!B200),\"\",InfoPro!B200)","v":"El Encanto 9,9 MW"},{"$f":"IF(ISBLANK(InfoPro!E200),\"\",InfoPro!E200)","v":9.9},{"$f":"IF(ISBLANK(InfoPro!F200),\"\",InfoPro!F200)","v":"Solar FV"},{"$f":"IF(ISBLANK(InfoPro!I200),\"\",YEAR(InfoPro!I200)-$G$3)","v":1},{"$f":"IF(B207=\"\",\"\",VLOOKUP(D207,Tablas!$B$2:$E$13,2,FALSE))","v":0.26},{"$f":"IF(B207=\"\",\"\",VLOOKUP(D207,Tablas!$B$2:$H$13,7,FALSE))","v":83577.200000000012},22548.240000000005,2187860970.9767447,1956941834.5051382,1750395200.8096051,1565648659.0425808,1400401305.0470314,1252595085.0152338,1120389163.6987782,1002136997.9416621,896365830.00148666,801758345.26072145,717136265.88615525,641445676.10568452,573743896.33782172,513187742.69930387,459023025.67021811,16839029998.998165,1700912.1211109257]
[{"$f":"IF(ISBLANK(InfoPro!A201),\"\",InfoPro!A201)","v":"SC_2137_A1"},{"$f":"IF(ISBLANK(InfoPro!B201),\"\",InfoPro!B201)","v":"La Unión 9,9"},{"$f":"IF(ISBLANK(InfoPro!E201),\"\",InfoPro!E201)","v":9.9},{"$f":"IF(ISBLANK(InfoPro!F201),\"\",InfoPro!F201)","v":"Solar FV"},{"$f":"IF(ISBLANK(InfoPro!I201),\"\",YEAR(InfoPro!I201)-$G$3)","v":1},{"$f":"IF(B208=\"\",\"\",VLOOKUP(D208,Tablas!$B$2:$E$13,2,FALSE))","v":0.26},{"$f":"IF(B208=\"\",\"\",VLOOKUP(D208,Tablas!$B$2:$H$13,7,FALSE))","v":83577.200000000012},22548.240000000005,2187860970.9767447,1956941834.5051382,1750395200.8096051,1565648659.0425808,1400401305.0470314,1252595085.0152338,1120389163.6987782,1002136997.9416621,896365830.00148666,801758345.26072145,717136265.88615525,641445676.10568452,573743896.33782172,513187742.69930387,459023025.67021811,16839029998.998165,1700912.1211109257]
[{"$f":"IF(ISBLANK(InfoPro!A202),\"\",InfoPro!A202)","v":"SC_2159_A1"},{"$f":"IF(ISBLANK(InfoPro!B202),\"\",InfoPro!B202)","v":"DSE IBIRICO"},{"$f":"IF(ISBLANK(InfoPro!E202),\"\",InfoPro!E202)","v":19.899999999999999},{"$f":"IF(ISBLANK(InfoPro!F202),\"\",InfoPro!F202)","v":"Solar FV"},{"$f":"IF(ISBLANK(InfoPro!I202),\"\",YEAR(InfoPro!I202)-$G$3)","v":2},{"$f":"IF(B209=\"\",\"\",VLOOKUP(D209,Tablas!$B$2:$E$13,2,FALSE))","v":0.26},{"$f":"IF(B209=\"\",\"\",VLOOKUP(D209,Tablas!$B$2:$H$13,7,FALSE))","v":83577.200000000012},45324.24,3933650758.2477012,3518471161.2233467,3147111951.0047827,2814948077.8218098,2517842645.6366811,2252095389.6571388,2014396591.8221281,1801785860.3060181,1611615259.6654902,1441516332.4378271,1289370601.4649615,1153283185.5679443,1031559199.9713277,922682647.55932713,825297538.06737661,30275627200.453861,1521388.3015303449]
[{"$f":"IF(ISBLANK(InfoPro!A203),\"\",InfoPro!A203)","v":"SC_2159_A2"},{"$f":"IF(ISBLANK(InfoPro!B203),\"\",InfoPro!B203)","v":"DSE IBIRICO"},{"$f":"IF(ISBLANK(InfoPro!E203),\"\",InfoPro!E203)","v":19.899999999999999},{"$f":"IF(ISBLANK(InfoPro!F203),\"\",InfoPro!F203)","v":"Solar FV"},{"$f":"IF(ISBLANK(InfoPro!I203),\"\",YEAR(InfoPro!I203)-$G$3)","v":2},{"$f":"IF(B210=\"\",\"\",VLOOKUP(D210,Tablas!$B$2:$E$13,2,FALSE))","v":0.26},{"$f":"IF(B210=\"\",\"\",VLOOKUP(D210,Tablas!$B$2:$H$13,7,FALSE))","v":83577.200000000012},45324.24,3933650758.2477012,3518471161.2233467,3147111951.0047827,2814948077.8218098,2517842645.6366811,2252095389.6571388,2014396591.8221281,1801785860.3060181,1611615259.6654902,1441516332.4378271,1289370601.4649615,1153283185.5679443,1031559199.9713277,922682647.55932713,825297538.06737661,30275627200.453861,1521388.3015303449]
[{"$f":"IF(ISBLANK(InfoPro!A204),\"\",InfoPro!A204)","v":"SC_2162_A1"},{"$f":"IF(ISBLANK(InfoPro!B204),\"\",InfoPro!B204)","v":"Parque Solar Codazzi 2"},{"$f":"IF(ISBLANK(InfoPro!E204),\"\",InfoPro!E204)","v":9.9},{"$f":"IF(ISBLANK(InfoPro!F204),\"\",InfoPro!F204)","v":"Solar FV"},{"$f":"IF(ISBLANK(InfoPro!I204),\"\",YEAR(InfoPro!I204)-$G$3)","v":3},{"$f":"IF(B211=\"\",\"\",VLOOKUP(D211,Tablas!$B$2:$E$13,2,FALSE))","v":0.26},{"$f":"IF(B211=\"\",\"\",VLOOKUP(D211,Tablas!$B$2:$H$13,7,FALSE))","v":83577.200000000012},22548.240000000005,1750395200.8096051,1565648659.0425808,1400401305.0470314,1252595085.0152338,1120389163.6987782,1002136997.9416621,896365830.00148666,801758345.26072145,717136265.88615525,641445676.10568452,573743896.33782172,513187742.69930387,459023025.67021811,410575157.12899649,367240748.77369994,13472043099.41898,1360812.4342847455]
[{"$f":"IF(ISBLANK(InfoPro!A205),\"\",InfoPro!A205)","v":"SC_2162_A2"},{"$f":"IF(ISBLANK(InfoPro!B205),\"\",InfoPro!B205)","v":"Parque Solar Codazzi 2"},{"$f":"IF(ISBLANK(InfoPro!E205),\"\",InfoPro!E205)","v":9.9},{"$f":"IF(ISBLANK(InfoPro!F205),\"\",InfoPro!F205)","v":"Solar FV"},{"$f":"IF(ISBLANK(InfoPro!I205),\"\",YEAR(InfoPro!I205)-$G$3)","v":3},{"$f":"IF(B212=\"\",\"\",VLOOKUP(D212,Tablas!$B$2:$E$13,2,FALSE))","v":0.26},{"$f":"IF(B212=\"\",\"\",VLOOKUP(D212,Tablas!$B$2:$H$13,7,FALSE))","v":83577.200000000012},22548.240000000005,1750395200.8096051,1565648659.0425808,1400401305.0470314,1252595085.0152338,1120389163.6987782,1002136997.9416621,896365830.00148666,801758345.26072145,717136265.88615525,641445676.10568452,573743896.33782172,513187742.69930387,459023025.67021811,410575157.12899649,367240748.77369994,13472043099.41898,1360812.4342847455]
[{"$f":"IF(ISBLANK(InfoPro!A206),\"\",InfoPro!A206)","v":"SC_2200_A1"},{"$f":"IF(ISBLANK(InfoPro!B206),\"\",InfoPro!B206)","v":"Parque Eólico Wakuaipa"},{"$f":"IF(ISBLANK(InfoPro!E206),\"\",InfoPro!E206)","v":200},{"$f":"IF(ISBLANK(InfoPro!F206),\"\",InfoPro!F206)","v":"Eólico Onshore"},{"$f":"IF(ISBLANK(InfoPro!I206),\"\",YEAR(InfoPro!I206)-$G$3)","v":3},{"$f":"IF(B213=\"\",\"\",VLOOKUP(D213,Tablas!$B$2:$E$13,2,FALSE))","v":0.56999999999999995},{"$f":"IF(B213=\"\",\"\",VLOOKUP(D213,Tablas!$B$2:$H$13,7,FALSE))","v":83577.200000000012},998639.99999999988,77523330571.987152,69341082801.419647,62022435421.663368,55476239196.478859,49620965292.020454,44383689885.528137,39699185944.121773,35509110862.362938,31761279841.111763,28409015958.060612,25410568835.474609,22728594665.004128,20329691113.5994,18183981318.067436,16264741787.180178,596663913494.08032,2983319.5674704015]
[{"$f":"IF(ISBLANK(InfoPro!A207),\"\",InfoPro!A207)","v":"SC_2200_A2"},{"$f":"IF(ISBLANK(InfoPro!B207),\"\",InfoPro!B207)","v":"Parque Eólico Wakuaipa"},{"$f":"IF(ISBLANK(InfoPro!E207),\"\",InfoPro!E207)","v":200},{"$f":"IF(ISBLANK(InfoPro!F207),\"\",InfoPro!F207)","v":"Eólico Onshore"},{"$f":"IF(ISBLANK(InfoPro!I207),\"\",YEAR(InfoPro!I207)-$G$3)","v":3},{"$f":"IF(B214=\"\",\"\",VLOOKUP(D214,Tablas!$B$2:$E$13,2,FALSE))","v":0.56999999999999995},{"$f":"IF(B214=\"\",\"\",VLOOKUP(D214,Tablas!$B$2:$H$13,7,FALSE))","v":83577.200000000012},998639.99999999988,77523330571.987152,69341082801.419647,62022435421.663368,55476239196.478859,49620965292.020454,44383689885.528137,39699185944.121773,35509110862.362938,31761279841.111763,28409015958.060612,25410568835.474609,22728594665.004128,20329691113.5994,18183981318.067436,16264741787.180178,596663913494.08032,2983319.5674704015]
[{"$f":"IF(ISBLANK(InfoPro!A208),\"\",InfoPro!A208)","v":"SC_2206_A1"},{"$f":"IF(ISBLANK(InfoPro!B208),\"\",InfoPro!B208)","v":"Parque Fotovoltaico Lyra"},{"$f":"IF(ISBLANK(InfoPro!E208),\"\",InfoPro!E208)","v":19.899999999999999},{"$f":"IF(ISBLANK(InfoPro!F208),\"\",InfoPro!F208)","v":"Solar FV"},{"$f":"IF(ISBLANK(InfoPro!I208),\"\",YEAR(InfoPro!I208)-$G$3)","v":2},{"$f":"IF(B215=\"\",\"\",VLOOKUP(D215,Tablas!$B$2:$E$13,2,FALSE))","v":0.26},{"$f":"IF(B215=\"\",\"\",VLOOKUP(D215,Tablas!$B$2:$H$13,7,FALSE))","v":83577.200000000012},{"$f":"IF(C215=\"\",\"\",+C215*F215*24*365)","v":45324.24},{"$f":"IF($H215=\"\",\"\",(1/(1+$C$3)^(I$6+$E215))*$H215*($C$2 - $G215))","v":3933650758.2477012},3518471161.2233467,3147111951.0047827,2814948077.8218098,2517842645.6366811,2252095389.6571388,2014396591.8221281,1801785860.3060181,1611615259.6654902,1441516332.4378271,1289370601.4649615,1153283185.5679443,1031559199.9713277,922682647.55932713,825297538.06737661,{"$f":"IF(W215=\"\",\"\",SUM(I215:W215))","v":30275627200.453861},{"$f":"IF(C215=0,0,IF(X215=\"\",\"\",X215/(C215*1000)))","v":1521388.3015303449}]
[{"$f":"IF(ISBLANK(InfoPro!A209),\"\",InfoPro!A209)","v":"SC_2206_A2"},{"$f":"IF(ISBLANK(InfoPro!B209),\"\",InfoPro!B209)","v":"Parque Fotovoltaico Lyra"},{"$f":"IF(ISBLANK(InfoPro!E209),\"\",InfoPro!E209)","v":19.899999999999999},{"$f":"IF(ISBLANK(InfoPro!F209),\"\",InfoPro!F209)","v":"Solar FV"},{"$f":"IF(ISBLANK(InfoPro!I209),\"\",YEAR(InfoPro!I209)-$G$3)","v":2},{"$f":"IF(B216=\"\",\"\",VLOOKUP(D216,Tablas!$B$2:$E$13,2,FALSE))","v":0.26},{"$f":"IF(B216=\"\",\"\",VLOOKUP(D216,Tablas!$B$2:$H$13,7,FALSE))","v":83577.200000000012},45324.24,3933650758.2477012,3518471161.2233467,3147111951.0047827,2814948077.8218098,2517842645.6366811,2252095389.6571388,2014396591.8221281,1801785860.3060181,1611615259.6654902,1441516332.4378271,1289370601.4649615,1153283185.5679443,1031559199.9713277,922682647.55932713,825297538.06737661,30275627200.453861,1521388.3015303449]
[{"$f":"IF(ISBLANK(InfoPro!A210),\"\",InfoPro!A210)","v":"SC_2212_A1"},{"$f":"IF(ISBLANK(InfoPro!B210),\"\",InfoPro!B210)","v":"Aguaraní 200 MW"},{"$f":"IF(ISBLANK(InfoPro!E210),\"\",InfoPro!E210)","v":200},{"$f":"IF(ISBLANK(InfoPro!F210),\"\",InfoPro!F210)","v":"Solar FV"},{"$f":"IF(ISBLANK(InfoPro!I210),\"\",YEAR(InfoPro!I210)-$G$3)","v":4},{"$f":"IF(B217=\"\",\"\",VLOOKUP(D217,Tablas!$B$2:$E$13,2,FALSE))","v":0.26},{"$f":"IF(B217=\"\",\"\",VLOOKUP(D217,Tablas!$B$2:$H$13,7,FALSE))","v":83577.200000000012},455520,31629265839.244049,28290935455.495575,25304951212.428959,22634124519.167225,20245191877.609329,18108400606.090633,16197138288.095379,14487601331.03344,12958498507.185543,11590785784.602455,10367429145.440479,9273192437.7821846,8294447618.7676029,7419005025.7313099,6635961561.4770212,243436929210.15121,1217184.6460507561]
[{"$f":"IF(ISBLANK(InfoPro!A211),\"\",InfoPro!A211)","v":"SC_2212_A2"},{"$f":"IF(ISBLANK(InfoPro!B211),\"\",InfoPro!B211)","v":"Aguaraní 200 MW"},{"$f":"IF(ISBLANK(InfoPro!E211),\"\",InfoPro!E211)","v":200},{"$f":"IF(ISBLANK(InfoPro!F211),\"\",InfoPro!F211)","v":"Solar FV"},{"$f":"IF(ISBLANK(InfoPro!I211),\"\",YEAR(InfoPro!I211)-$G$3)","v":4},{"$f":"IF(B218=\"\",\"\",VLOOKUP(D218,Tablas!$B$2:$E$13,2,FALSE))","v":0.26},{"$f":"IF(B218=\"\",\"\",VLOOKUP(D218,Tablas!$B$2:$H$13,7,FALSE))","v":83577.200000000012},455520,31629265839.244049,28290935455.495575,25304951212.428959,22634124519.167225,20245191877.609329,18108400606.090633,16197138288.095379,14487601331.03344,12958498507.185543,11590785784.602455,10367429145.440479,9273192437.7821846,8294447618.7676029,7419005025.7313099,6635961561.4770212,243436929210.15121,1217184.6460507561]
[{"$f":"IF(ISBLANK(InfoPro!A212),\"\",InfoPro!A212)","v":"SC_2227_A1"},{"$f":"IF(ISBLANK(InfoPro!B212),\"\",InfoPro!B212)","v":"Generación Solar Fotovoltaica Sabana Solar - 9.9 MW"},{"$f":"IF(ISBLANK(InfoPro!E212),\"\",InfoPro!E212)","v":9.9},{"$f":"IF(ISBLANK(InfoPro!F212),\"\",InfoPro!F212)","v":"Solar FV"},{"$f":"IF(ISBLANK(InfoPro!I212),\"\",YEAR(InfoPro!I212)-$G$3)","v":1},{"$f":"IF(B219=\"\",\"\",VLOOKUP(D219,Tablas!$B$2:$E$13,2,FALSE))","v":0.26},{"$f":"IF(B219=\"\",\"\",VLOOKUP(D219,Tablas!$B$2:$H$13,7,FALSE))","v":83577.200000000012},22548.240000000005,2187860970.9767447,1956941834.5051382,1750395200.8096051,1565648659.0425808,1400401305.0470314,1252595085.0152338,1120389163.6987782,1002136997.9416621,896365830.00148666,801758345.26072145,717136265.88615525,641445676.10568452,573743896.33782172,513187742.69930387,459023025.67021811,16839029998.998165,1700912.1211109257]
[{"$f":"IF(ISBLANK(InfoPro!A213),\"\",InfoPro!A213)","v":"SC_2227_A2"},{"$f":"IF(ISBLANK(InfoPro!B213),\"\",InfoPro!B213)","v":"Generación Solar Fotovoltaica Sabana Solar - 9.9 MW"},{"$f":"IF(ISBLANK(InfoPro!E213),\"\",InfoPro!E213)","v":9.9},{"$f":"IF(ISBLANK(InfoPro!F213),\"\",InfoPro!F213)","v":"Solar FV"},{"$f":"IF(ISBLANK(InfoPro!I213),\"\",YEAR(InfoPro!I213)-$G$3)","v":1},{"$f":"IF(B220=\"\",\"\",VLOOKUP(D220,Tablas!$B$2:$E$13,2,FALSE))","v":0.26},{"$f":"IF(B220=\"\",\"\",VLOOKUP(D220,Tablas!$B$2:$H$13,7,FALSE))","v":83577.200000000012},22548.240000000005,2187860970.9767447,1956941834.5051382,1750395200.8096051,1565648659.0425808,1400401305.0470314,1252595085.0152338,1120389163.6987782,1002136997.9416621,896365830.00148666,801758345.26072145,717136265.88615525,641445676.10568452,573743896.33782172,513187742.69930387,459023025.67021811,16839029998.998165,1700912.1211109257]
[{"$f":"IF(ISBLANK(InfoPro!A214),\"\",InfoPro!A214)","v":"SC_2242_A1"},{"$f":"IF(ISBLANK(InfoPro!B214),\"\",InfoPro!B214)","v":"Parque Eólico San Juan 100 MW"},{"$f":"IF(ISBLANK(InfoPro!E214),\"\",InfoPro!E214)","v":100},{"$f":"IF(ISBLANK(InfoPro!F214),\"\",InfoPro!F214)","v":"Solar FV"},{"$f":"IF(ISBLANK(InfoPro!I214),\"\",YEAR(InfoPro!I214)-$G$3)","v":3},{"$f":"IF(B221=\"\",\"\",VLOOKUP(D221,Tablas!$B$2:$E$13,2,FALSE))","v":0.26},{"$f":"IF(B221=\"\",\"\",VLOOKUP(D221,Tablas!$B$2:$H$13,7,FALSE))","v":83577.200000000012},227760,17680759604.137424,15814632919.622025,14145467727.747787,12652475606.214479,11317062259.583612,10122595938.804665,9054200303.0453167,8098569144.0476894,7243800665.5167198,6479249253.5927715,5795392892.3012276,5183714572.7202396,4636596218.8910923,4147223809.3838015,3709502512.8656549,136081243428.47452,1360812.4342847452]
[{"$f":"IF(ISBLANK(InfoPro!A215),\"\",InfoPro!A215)","v":"SC_2242_A2"},{"$f":"IF(ISBLANK(InfoPro!B215),\"\",InfoPro!B215)","v":"Parque Eólico San Juan 100 MW"},{"$f":"IF(ISBLANK(InfoPro!E215),\"\",InfoPro!E215)","v":100},{"$f":"IF(ISBLANK(InfoPro!F215),\"\",InfoPro!F215)","v":"Solar FV"},{"$f":"IF(ISBLANK(InfoPro!I215),\"\",YEAR(InfoPro!I215)-$G$3)","v":3},{"$f":"IF(B222=\"\",\"\",VLOOKUP(D222,Tablas!$B$2:$E$13,2,FALSE))","v":0.26},{"$f":"IF(B222=\"\",\"\",VLOOKUP(D222,Tablas!$B$2:$H$13,7,FALSE))","v":83577.200000000012},227760,17680759604.137424,15814632919.622025,14145467727.747787,12652475606.214479,11317062259.583612,10122595938.804665,9054200303.0453167,8098569144.0476894,7243800665.5167198,6479249253.5927715,5795392892.3012276,5183714572.7202396,4636596218.8910923,4147223809.3838015,3709502512.8656549,136081243428.47452,1360812.4342847452]
[{"$f":"IF(ISBLANK(InfoPro!A216),\"\",InfoPro!A216)","v":"SC_2260_A1"},{"$f":"IF(ISBLANK(InfoPro!B216),\"\",InfoPro!B216)","v":"Parque Solar Fotovoltaico Tayrona I"},{"$f":"IF(ISBLANK(InfoPro!E216),\"\",InfoPro!E216)","v":50},{"$f":"IF(ISBLANK(InfoPro!F216),\"\",InfoPro!F216)","v":"Solar FV"},{"$f":"IF(ISBLANK(InfoPro!I216),\"\",YEAR(InfoPro!I216)-$G$3)","v":5},{"$f":"IF(B223=\"\",\"\",VLOOKUP(D223,Tablas!$B$2:$E$13,2,FALSE))","v":0.26},{"$f":"IF(B223=\"\",\"\",VLOOKUP(D223,Tablas!$B$2:$H$13,7,FALSE))","v":83577.200000000012},113880,7072733863.8738937,6326237803.1072397,5658531129.7918062,5061297969.4023323,4527100151.5226583,4049284572.0238447,3621900332.7583599,3239624626.7963858,2897696446.1506138,2591857286.3601198,2318298109.4455462,2073611904.6919007,1854751256.4328275,1658990390.3692553,1483891225.7327869,54435807068.459579,1088716.1413691917]
[{"$f":"IF(ISBLANK(InfoPro!A217),\"\",InfoPro!A217)","v":"SC_2261_A1"},{"$f":"IF(ISBLANK(InfoPro!B217),\"\",InfoPro!B217)","v":"Parque Solar Fotovoltaico Tayrona II"},{"$f":"IF(ISBLANK(InfoPro!E217),\"\",InfoPro!E217)","v":50},{"$f":"IF(ISBLANK(InfoPro!F217),\"\",InfoPro!F217)","v":"Solar FV"},{"$f":"IF(ISBLANK(InfoPro!I217),\"\",YEAR(InfoPro!I217)-$G$3)","v":5},{"$f":"IF(B224=\"\",\"\",VLOOKUP(D224,Tablas!$B$2:$E$13,2,FALSE))","v":0.26},{"$f":"IF(B224=\"\",\"\",VLOOKUP(D224,Tablas!$B$2:$H$13,7,FALSE))","v":83577.200000000012},113880,7072733863.8738937,6326237803.1072397,5658531129.7918062,5061297969.4023323,4527100151.5226583,4049284572.0238447,3621900332.7583599,3239624626.7963858,2897696446.1506138,2591857286.3601198,2318298109.4455462,2073611904.6919007,1854751256.4328275,1658990390.3692553,1483891225.7327869,54435807068.459579,1088716.1413691917]
[{"$f":"IF(ISBLANK(InfoPro!A218),\"\",InfoPro!A218)","v":"SC_2271_A1"},{"$f":"IF(ISBLANK(InfoPro!B218),\"\",InfoPro!B218)","v":"San Angel 19,9 MW"},{"$f":"IF(ISBLANK(InfoPro!E218),\"\",InfoPro!E218)","v":19.899999999999999},{"$f":"IF(ISBLANK(InfoPro!F218),\"\",InfoPro!F218)","v":"Solar FV"},{"$f":"IF(ISBLANK(InfoPro!I218),\"\",YEAR(InfoPro!I218)-$G$3)","v":1},{"$f":"IF(B225=\"\",\"\",VLOOKUP(D225,Tablas!$B$2:$E$13,2,FALSE))","v":0.26},{"$f":"IF(B225=\"\",\"\",VLOOKUP(D225,Tablas!$B$2:$H$13,7,FALSE))","v":83577.200000000012},45324.24,4397821547.7209301,3933650758.2477012,3518471161.2233467,3147111951.0047827,2814948077.8218098,2517842645.6366811,2252095389.6571388,2014396591.8221281,1801785860.3060181,1611615259.6654902,1441516332.4378271,1289370601.4649615,1153283185.5679443,1031559199.9713277,922682647.55932713,33848151210.107414,1700912.1211109255]
[{"$f":"IF(ISBLANK(InfoPro!A219),\"\",InfoPro!A219)","v":"SC_2271_A2"},{"$f":"IF(ISBLANK(InfoPro!B219),\"\",InfoPro!B219)","v":"San Angel 19,9 MW"},{"$f":"IF(ISBLANK(InfoPro!E219),\"\",InfoPro!E219)","v":19.899999999999999},{"$f":"IF(ISBLANK(InfoPro!F219),\"\",InfoPro!F219)","v":"Solar FV"},{"$f":"IF(ISBLANK(InfoPro!I219),\"\",YEAR(InfoPro!I219)-$G$3)","v":1},{"$f":"IF(B226=\"\",\"\",VLOOKUP(D226,Tablas!$B$2:$E$13,2,FALSE))","v":0.26},{"$f":"IF(B226=\"\",\"\",VLOOKUP(D226,Tablas!$B$2:$H$13,7,FALSE))","v":83577.200000000012},45324.24,4397821547.7209301,3933650758.2477012,3518471161.2233467,3147111951.0047827,2814948077.8218098,2517842645.6366811,2252095389.6571388,2014396591.8221281,1801785860.3060181,1611615259.6654902,1441516332.4378271,1289370601.4649615,1153283185.5679443,1031559199.9713277,922682647.55932713,33848151210.107414,1700912.1211109255]
[{"$f":"IF(ISBLANK(InfoPro!A220),\"\",InfoPro!A220)","v":"SC_2275_A1"},{"$f":"IF(ISBLANK(InfoPro!B220),\"\",InfoPro!B220)","v":"TERMOCOSTA"},{"$f":"IF(ISBLANK(InfoPro!E220),\"\",InfoPro!E220)","v":93},{"$f":"IF(ISBLANK(InfoPro!F220),\"\",InfoPro!F220)","v":"Termica - Ciclo abierto"},{"$f":"IF(ISBLANK(InfoPro!I220),\"\",YEAR(InfoPro!I220)-$G$3)","v":2},{"$f":"IF(B227=\"\",\"\",VLOOKUP(D227,Tablas!$B$2:$E$13,2,FALSE))","v":0.85},{"$f":"IF(B227=\"\",\"\",VLOOKUP(D227,Tablas!$B$2:$H$13,7,FALSE))","v":267152.5},692477.99999999988,-41604114849.382843,-37212982870.646553,-33285315626.696384,-29772196446.061169,-26629871597.55024,-23819205364.535103,-21305192633.752327,-19056522928.222118,-17045190454.581501,-15246145308.212439,-13636981492.139927,-12197657864.168093,-10910248536.822981,-9758719621.487463,-8728729536.2141857,-320209075130.47333,-3443108.3347362722]
[{"$f":"IF(ISBLANK(InfoPro!A221),\"\",InfoPro!A221)","v":"SC_2275_A2"},{"$f":"IF(ISBLANK(InfoPro!B221),\"\",InfoPro!B221)","v":"TERMOCOSTA"},{"$f":"IF(ISBLANK(InfoPro!E221),\"\",InfoPro!E221)","v":93},{"$f":"IF(ISBLANK(InfoPro!F221),\"\",InfoPro!F221)","v":"Termica - Ciclo abierto"},{"$f":"IF(ISBLANK(InfoPro!I221),\"\",YEAR(InfoPro!I221)-$G$3)","v":2},{"$f":"IF(B228=\"\",\"\",VLOOKUP(D228,Tablas!$B$2:$E$13,2,FALSE))","v":0.85},{"$f":"IF(B228=\"\",\"\",VLOOKUP(D228,Tablas!$B$2:$H$13,7,FALSE))","v":267152.5},692477.99999999988,-41604114849.382843,-37212982870.646553,-33285315626.696384,-29772196446.061169,-26629871597.55024,-23819205364.535103,-21305192633.752327,-19056522928.222118,-17045190454.581501,-15246145308.212439,-13636981492.139927,-12197657864.168093,-10910248536.822981,-9758719621.487463,-8728729536.2141857,-320209075130.47333,-3443108.3347362722]
[{"$f":"IF(ISBLANK(InfoPro!A222),\"\",InfoPro!A222)","v":"SC_2292_A1"},{"$f":"IF(ISBLANK(InfoPro!B222),\"\",InfoPro!B222)","v":"PARQUE SOLAR LAS PALMERAS"},{"$f":"IF(ISBLANK(InfoPro!E222),\"\",InfoPro!E222)","v":200},{"$f":"IF(ISBLANK(InfoPro!F222),\"\",InfoPro!F222)","v":"Solar FV"},{"$f":"IF(ISBLANK(InfoPro!I222),\"\",YEAR(InfoPro!I222)-$G$3)","v":2},{"$f":"IF(B229=\"\",\"\",VLOOKUP(D229,Tablas!$B$2:$E$13,2,FALSE))","v":0.26},{"$f":"IF(B229=\"\",\"\",VLOOKUP(D229,Tablas!$B$2:$H$13,7,FALSE))","v":83577.200000000012},455520,39534178474.851265,35361519208.274849,31629265839.244049,28290935455.495575,25304951212.428959,22634124519.167225,20245191877.609329,18108400606.090633,16197138288.095379,14487601331.03344,12958498507.185543,11590785784.602455,10367429145.440479,9273192437.7821846,8294447618.7676029,304277660306.06897,1521388.3015303449]
[{"$f":"IF(ISBLANK(InfoPro!A223),\"\",InfoPro!A223)","v":"SC_2292_A2"},{"$f":"IF(ISBLANK(InfoPro!B223),\"\",InfoPro!B223)","v":"PARQUE SOLAR LAS PALMERAS"},{"$f":"IF(ISBLANK(InfoPro!E223),\"\",InfoPro!E223)","v":200},{"$f":"IF(ISBLANK(InfoPro!F223),\"\",InfoPro!F223)","v":"Solar FV"},{"$f":"IF(ISBLANK(InfoPro!I223),\"\",YEAR(InfoPro!I223)-$G$3)","v":2},{"$f":"IF(B230=\"\",\"\",VLOOKUP(D230,Tablas!$B$2:$E$13,2,FALSE))","v":0.26},{"$f":"IF(B230=\"\",\"\",VLOOKUP(D230,Tablas!$B$2:$H$13,7,FALSE))","v":83577.200000000012},455520,39534178474.851265,35361519208.274849,31629265839.244049,28290935455.495575,25304951212.428959,22634124519.167225,20245191877.609329,18108400606.090633,16197138288.095379,14487601331.03344,12958498507.185543,11590785784.602455,10367429145.440479,9273192437.7821846,8294447618.7676029,304277660306.06897,1521388.3015303449]
[{"$f":"IF(ISBLANK(InfoPro!A224),\"\",InfoPro!A224)","v":"SC_2295_A1"},{"$f":"IF(ISBLANK(InfoPro!B224),\"\",InfoPro!B224)","v":"Parque Solar San Jose 200 MW"},{"$f":"IF(ISBLANK(InfoPro!E224),\"\",InfoPro!E224)","v":200},{"$f":"IF(ISBLANK(InfoPro!F224),\"\",InfoPro!F224)","v":"Solar FV"},{"$f":"IF(ISBLANK(InfoPro!I224),\"\",YEAR(InfoPro!I224)-$G$3)","v":2},{"$f":"IF(B231=\"\",\"\",VLOOKUP(D231,Tablas!$B$2:$E$13,2,FALSE))","v":0.26},{"$f":"IF(B231=\"\",\"\",VLOOKUP(D231,Tablas!$B$2:$H$13,7,FALSE))","v":83577.200000000012},455520,39534178474.851265,35361519208.274849,31629265839.244049,28290935455.495575,25304951212.428959,22634124519.167225,20245191877.609329,18108400606.090633,16197138288.095379,14487601331.03344,12958498507.185543,11590785784.602455,10367429145.440479,9273192437.7821846,8294447618.7676029,304277660306.06897,1521388.3015303449]
[{"$f":"IF(ISBLANK(InfoPro!A225),\"\",InfoPro!A225)","v":"SC_230_A1"},{"$f":"IF(ISBLANK(InfoPro!B225),\"\",InfoPro!B225)","v":"Proyecto Solar San Martin 300MW"},{"$f":"IF(ISBLANK(InfoPro!E225),\"\",InfoPro!E225)","v":300},{"$f":"IF(ISBLANK(InfoPro!F225),\"\",InfoPro!F225)","v":"Solar FV"},{"$f":"IF(ISBLANK(InfoPro!I225),\"\",YEAR(InfoPro!I225)-$G$3)","v":2},{"$f":"IF(B232=\"\",\"\",VLOOKUP(D232,Tablas!$B$2:$E$13,2,FALSE))","v":0.26},{"$f":"IF(B232=\"\",\"\",VLOOKUP(D232,Tablas!$B$2:$H$13,7,FALSE))","v":83577.200000000012},683280,{"$f":"IF($H232=\"\",\"\",(1/(1+$C$3)^(I$6+$E232))*$H232*($C$2 - $G232))","v":59301267712.276909},53042278812.41227,47443898758.866074,42436403183.243362,37957426818.643433,33951186778.750839,30367787816.413994,27162600909.135952,24295707432.14307,21731401996.550156,19437747760.778316,17386178676.903683,15551143718.160719,13909788656.673275,12441671428.151405,456416490459.10345,1521388.3015303449]
[{"$f":"IF(ISBLANK(InfoPro!A226),\"\",InfoPro!A226)","v":"SC_2341_A1"},{"$f":"IF(ISBLANK(InfoPro!B226),\"\",InfoPro!B226)","v":"Parque Eólico Neguanje"},{"$f":"IF(ISBLANK(InfoPro!E226),\"\",InfoPro!E226)","v":19.899999999999999},{"$f":"IF(ISBLANK(InfoPro!F226),\"\",InfoPro!F226)","v":"Eólico Onshore"},{"$f":"IF(ISBLANK(InfoPro!I226),\"\",YEAR(InfoPro!I226)-$G$3)","v":4},{"$f":"IF(B233=\"\",\"\",VLOOKUP(D233,Tablas!$B$2:$E$13,2,FALSE))","v":0.56999999999999995},{"$f":"IF(B233=\"\",\"\",VLOOKUP(D233,Tablas!$B$2:$H$13,7,FALSE))","v":83577.200000000012},99364.68,6899437738.7412548,6171232324.4555054,5519885800.0496473,4937286046.556035,4416177143.6100492,3950069001.4401164,3533156530.8051128,3160247344.1906209,2826697087.8270311,2528351599.129724,2261495169.1679106,2022804265.8031404,1809306141.1477101,1618341807.8244278,1447532922.9198818,53102020923.668167,2668443.2624958879]
[{"$f":"IF(ISBLANK(InfoPro!A227),\"\",InfoPro!A227)","v":"SC_2341_A2"},{"$f":"IF(ISBLANK(InfoPro!B227),\"\",InfoPro!B227)","v":"Parque Eólico Neguanje"},{"$f":"IF(ISBLANK(InfoPro!E227),\"\",InfoPro!E227)","v":19.899999999999999},{"$f":"IF(ISBLANK(InfoPro!F227),\"\",InfoPro!F227)","v":"Eólico Onshore"},{"$f":"IF(ISBLANK(InfoPro!I227),\"\",YEAR(InfoPro!I227)-$G$3)","v":4},{"$f":"IF(B234=\"\",\"\",VLOOKUP(D234,Tablas!$B$2:$E$13,2,FALSE))","v":0.56999999999999995},{"$f":"IF(B234=\"\",\"\",VLOOKUP(D234,Tablas!$B$2:$H$13,7,FALSE))","v":83577.200000000012},99364.68,6899437738.7412548,6171232324.4555054,5519885800.0496473,4937286046.556035,4416177143.6100492,3950069001.4401164,3533156530.8051128,3160247344.1906209,2826697087.8270311,2528351599.129724,2261495169.1679106,2022804265.8031404,1809306141.1477101,1618341807.8244278,1447532922.9198818,53102020923.668167,2668443.2624958879]
[{"$f":"IF(ISBLANK(InfoPro!A228),\"\",InfoPro!A228)","v":"SC_393_A1"},{"$f":"IF(ISBLANK(InfoPro!B228),\"\",InfoPro!B228)","v":"Copey del verano 99.9 MW"},{"$f":"IF(ISBLANK(InfoPro!E228),\"\",InfoPro!E228)","v":99.9},{"$f":"IF(ISBLANK(InfoPro!F228),\"\",InfoPro!F228)","v":"Solar FV"},{"$f":"IF(ISBLANK(InfoPro!I228),\"\",YEAR(InfoPro!I228)-$G$3)","v":2},{"$f":"IF(B235=\"\",\"\",VLOOKUP(D235,Tablas!$B$2:$E$13,2,FALSE))","v":0.26},{"$f":"IF(B235=\"\",\"\",VLOOKUP(D235,Tablas!$B$2:$H$13,7,FALSE))","v":83577.200000000012},227532.24000000002,19747322148.188213,17663078844.533287,15798818286.702406,14131322260.020041,12639823130.608265,11305745197.324032,10112473342.86586,9045146102.7422714,8090470574.9036427,7236556864.851203,6472770004.33918,5789597499.408927,5178530858.1475201,4631959622.6722012,4143076585.574419,151986691322.8815,1521388.3015303453]
[{"$f":"IF(ISBLANK(InfoPro!A229),\"\",InfoPro!A229)","v":"SC_393_A2"},{"$f":"IF(ISBLANK(InfoPro!B229),\"\",InfoPro!B229)","v":"Copey del verano 99.9 MW"},{"$f":"IF(ISBLANK(InfoPro!E229),\"\",InfoPro!E229)","v":99.9},{"$f":"IF(ISBLANK(InfoPro!F229),\"\",InfoPro!F229)","v":"Solar FV"},{"$f":"IF(ISBLANK(InfoPro!I229),\"\",YEAR(InfoPro!I229)-$G$3)","v":2},{"$f":"IF(B236=\"\",\"\",VLOOKUP(D236,Tablas!$B$2:$E$13,2,FALSE))","v":0.26},{"$f":"IF(B236=\"\",\"\",VLOOKUP(D236,Tablas!$B$2:$H$13,7,FALSE))","v":83577.200000000012},227532.24000000002,19747322148.188213,17663078844.533287,15798818286.702406,14131322260.020041,12639823130.608265,11305745197.324032,10112473342.86586,9045146102.7422714,8090470574.9036427,7236556864.851203,6472770004.33918,5789597499.408927,5178530858.1475201,4631959622.6722012,4143076585.574419,151986691322.8815,1521388.3015303453]
[{"$f":"IF(ISBLANK(InfoPro!A230),\"\",InfoPro!A230)","v":"SC_394_A1"},{"$f":"IF(ISBLANK(InfoPro!B230),\"\",InfoPro!B230)","v":"Riohacha de 20 del Verano"},{"$f":"IF(ISBLANK(InfoPro!E230),\"\",InfoPro!E230)","v":19.899999999999999},{"$f":"IF(ISBLANK(InfoPro!F230),\"\",InfoPro!F230)","v":"Solar FV"},{"$f":"IF(ISBLANK(InfoPro!I230),\"\",YEAR(InfoPro!I230)-$G$3)","v":2},{"$f":"IF(B237=\"\",\"\",VLOOKUP(D237,Tablas!$B$2:$E$13,2,FALSE))","v":0.26},{"$f":"IF(B237=\"\",\"\",VLOOKUP(D237,Tablas!$B$2:$H$13,7,FALSE))","v":83577.200000000012},45324.24,3933650758.2477012,3518471161.2233467,3147111951.0047827,2814948077.8218098,2517842645.6366811,2252095389.6571388,2014396591.8221281,1801785860.3060181,1611615259.6654902,1441516332.4378271,1289370601.4649615,1153283185.5679443,1031559199.9713277,922682647.55932713,825297538.06737661,30275627200.453861,1521388.3015303449]
[{"$f":"IF(ISBLANK(InfoPro!A231),\"\",InfoPro!A231)","v":"SC_394_A2"},{"$f":"IF(ISBLANK(InfoPro!B231),\"\",InfoPro!B231)","v":"Riohacha de 20 del Verano"},{"$f":"IF(ISBLANK(InfoPro!E231),\"\",InfoPro!E231)","v":19.899999999999999},{"$f":"IF(ISBLANK(InfoPro!F231),\"\",InfoPro!F231)","v":"Solar FV"},{"$f":"IF(ISBLANK(InfoPro!I231),\"\",YEAR(InfoPro!I231)-$G$3)","v":2},{"$f":"IF(B238=\"\",\"\",VLOOKUP(D238,Tablas!$B$2:$E$13,2,FALSE))","v":0.26},{"$f":"IF(B238=\"\",\"\",VLOOKUP(D238,Tablas!$B$2:$H$13,7,FALSE))","v":83577.200000000012},45324.24,3933650758.2477012,3518471161.2233467,3147111951.0047827,2814948077.8218098,2517842645.6366811,2252095389.6571388,2014396591.8221281,1801785860.3060181,1611615259.6654902,1441516332.4378271,1289370601.4649615,1153283185.5679443,1031559199.9713277,922682647.55932713,825297538.06737661,30275627200.453861,1521388.3015303449]
[{"$f":"IF(ISBLANK(InfoPro!A232),\"\",InfoPro!A232)","v":"SC_407_A1"},{"$f":"IF(ISBLANK(InfoPro!B232),\"\",InfoPro!B232)","v":"Portugal I 19.9 MW"},{"$f":"IF(ISBLANK(InfoPro!E232),\"\",InfoPro!E232)","v":19.899999999999999},{"$f":"IF(ISBLANK(InfoPro!F232),\"\",InfoPro!F232)","v":"Solar FV"},{"$f":"IF(ISBLANK(InfoPro!I232),\"\",YEAR(InfoPro!I232)-$G$3)","v":2},{"$f":"IF(B239=\"\",\"\",VLOOKUP(D239,Tablas!$B$2:$E$13,2,FALSE))","v":0.26},{"$f":"IF(B239=\"\",\"\",VLOOKUP(D239,Tablas!$B$2:$H$13,7,FALSE))","v":83577.200000000012},45324.24,3933650758.2477012,3518471161.2233467,3147111951.0047827,2814948077.8218098,2517842645.6366811,2252095389.6571388,2014396591.8221281,1801785860.3060181,1611615259.6654902,1441516332.4378271,1289370601.4649615,1153283185.5679443,1031559199.9713277,922682647.55932713,825297538.06737661,30275627200.453861,1521388.3015303449]
[{"$f":"IF(ISBLANK(InfoPro!A233),\"\",InfoPro!A233)","v":"SC_42_A1"},{"$f":"IF(ISBLANK(InfoPro!B233),\"\",InfoPro!B233)","v":"Santa Marta 1 - 50 MW"},{"$f":"IF(ISBLANK(InfoPro!E233),\"\",InfoPro!E233)","v":50},{"$f":"IF(ISBLANK(InfoPro!F233),\"\",InfoPro!F233)","v":"Solar FV"},{"$f":"IF(ISBLANK(InfoPro!I233),\"\",YEAR(InfoPro!I233)-$G$3)","v":2},{"$f":"IF(B240=\"\",\"\",VLOOKUP(D240,Tablas!$B$2:$E$13,2,FALSE))","v":0.26},{"$f":"IF(B240=\"\",\"\",VLOOKUP(D240,Tablas!$B$2:$H$13,7,FALSE))","v":83577.200000000012},113880,9883544618.7128162,8840379802.0687122,7907316459.8110123,7072733863.8738937,6326237803.1072397,5658531129.7918062,5061297969.4023323,4527100151.5226583,4049284572.0238447,3621900332.7583599,3239624626.7963858,2897696446.1506138,2591857286.3601198,2318298109.4455462,2073611904.6919007,76069415076.517242,1521388.3015303449]
[{"$f":"IF(ISBLANK(InfoPro!A234),\"\",InfoPro!A234)","v":"SC_482_A1"},{"$f":"IF(ISBLANK(InfoPro!B234),\"\",InfoPro!B234)","v":"La Santa Maria - 99.9MW"},{"$f":"IF(ISBLANK(InfoPro!E234),\"\",InfoPro!E234)","v":99.9},{"$f":"IF(ISBLANK(InfoPro!F234),\"\",InfoPro!F234)","v":"Solar FV"},{"$f":"IF(ISBLANK(InfoPro!I234),\"\",YEAR(InfoPro!I234)-$G$3)","v":2},{"$f":"IF(B241=\"\",\"\",VLOOKUP(D241,Tablas!$B$2:$E$13,2,FALSE))","v":0.26},{"$f":"IF(B241=\"\",\"\",VLOOKUP(D241,Tablas!$B$2:$H$13,7,FALSE))","v":83577.200000000012},227532.24000000002,19747322148.188213,17663078844.533287,15798818286.702406,14131322260.020041,12639823130.608265,11305745197.324032,10112473342.86586,9045146102.7422714,8090470574.9036427,7236556864.851203,6472770004.33918,5789597499.408927,5178530858.1475201,4631959622.6722012,4143076585.574419,151986691322.8815,1521388.3015303453]
[{"$f":"IF(ISBLANK(InfoPro!A235),\"\",InfoPro!A235)","v":"SC_482_A2"},{"$f":"IF(ISBLANK(InfoPro!B235),\"\",InfoPro!B235)","v":"La Santa Maria - 99.9MW"},{"$f":"IF(ISBLANK(InfoPro!E235),\"\",InfoPro!E235)","v":99.9},{"$f":"IF(ISBLANK(InfoPro!F235),\"\",InfoPro!F235)","v":"Solar FV"},{"$f":"IF(ISBLANK(InfoPro!I235),\"\",YEAR(InfoPro!I235)-$G$3)","v":2},{"$f":"IF(B242=\"\",\"\",VLOOKUP(D242,Tablas!$B$2:$E$13,2,FALSE))","v":0.26},{"$f":"IF(B242=\"\",\"\",VLOOKUP(D242,Tablas!$B$2:$H$13,7,FALSE))","v":83577.200000000012},227532.24000000002,19747322148.188213,17663078844.533287,15798818286.702406,14131322260.020041,12639823130.608265,11305745197.324032,10112473342.86586,9045146102.7422714,8090470574.9036427,7236556864.851203,6472770004.33918,5789597499.408927,5178530858.1475201,4631959622.6722012,4143076585.574419,151986691322.8815,1521388.3015303453]
[{"$f":"IF(ISBLANK(InfoPro!A236),\"\",InfoPro!A236)","v":"SC_497_A1"},{"$f":"IF(ISBLANK(InfoPro!B236),\"\",InfoPro!B236)","v":"Portugal II - 9.9 MW"},{"$f":"IF(ISBLANK(InfoPro!E236),\"\",InfoPro!E236)","v":9.9},{"$f":"IF(ISBLANK(InfoPro!F236),\"\",InfoPro!F236)","v":"Solar FV"},{"$f":"IF(ISBLANK(InfoPro!I236),\"\",YEAR(InfoPro!I236)-$G$3)","v":2},{"$f":"IF(B243=\"\",\"\",VLOOKUP(D243,Tablas!$B$2:$E$13,2,FALSE))","v":0.26},{"$f":"IF(B243=\"\",\"\",VLOOKUP(D243,Tablas!$B$2:$H$13,7,FALSE))","v":83577.200000000012},22548.240000000005,1956941834.5051382,1750395200.8096051,1565648659.0425808,1400401305.0470314,1252595085.0152338,1120389163.6987782,1002136997.9416621,896365830.00148666,801758345.26072145,717136265.88615525,641445676.10568452,573743896.33782172,513187742.69930387,459023025.67021811,410575157.12899649,15061744185.150415,1521388.3015303449]
[{"$f":"IF(ISBLANK(InfoPro!A237),\"\",InfoPro!A237)","v":"SC_502_A1"},{"$f":"IF(ISBLANK(InfoPro!B237),\"\",InfoPro!B237)","v":"RUBÍ 40 MW"},{"$f":"IF(ISBLANK(InfoPro!E237),\"\",InfoPro!E237)","v":40},{"$f":"IF(ISBLANK(InfoPro!F237),\"\",InfoPro!F237)","v":"Solar FV"},{"$f":"IF(ISBLANK(InfoPro!I237),\"\",YEAR(InfoPro!I237)-$G$3)","v":3},{"$f":"IF(B244=\"\",\"\",VLOOKUP(D244,Tablas!$B$2:$E$13,2,FALSE))","v":0.26},{"$f":"IF(B244=\"\",\"\",VLOOKUP(D244,Tablas!$B$2:$H$13,7,FALSE))","v":83577.200000000012},91104.000000000015,7072303841.6549711,6325853167.8488111,5658187091.0991154,5060990242.4857922,4526824903.8334465,4049038375.5218658,3621680121.2181273,3239427657.6190763,2897520266.2066879,2591699701.437109,2318157156.9204912,2073485829.0880964,1854638487.556437,1658889523.7535212,1483801005.1462622,54432497371.389824,1360812.4342847455]
[{"$f":"IF(ISBLANK(InfoPro!A238),\"\",InfoPro!A238)","v":"SC_507_A1"},{"$f":"IF(ISBLANK(InfoPro!B238),\"\",InfoPro!B238)","v":"PARQUE FOTOVOLTAICO CATAY 2"},{"$f":"IF(ISBLANK(InfoPro!E238),\"\",InfoPro!E238)","v":100},{"$f":"IF(ISBLANK(InfoPro!F238),\"\",InfoPro!F238)","v":"Solar FV"},{"$f":"IF(ISBLANK(InfoPro!I238),\"\",YEAR(InfoPro!I238)-$G$3)","v":4},{"$f":"IF(B245=\"\",\"\",VLOOKUP(D245,Tablas!$B$2:$E$13,2,FALSE))","v":0.26},{"$f":"IF(B245=\"\",\"\",VLOOKUP(D245,Tablas!$B$2:$H$13,7,FALSE))","v":83577.200000000012},227760,15814632919.622025,14145467727.747787,12652475606.214479,11317062259.583612,10122595938.804665,9054200303.0453167,8098569144.0476894,7243800665.5167198,6479249253.5927715,5795392892.3012276,5183714572.7202396,4636596218.8910923,4147223809.3838015,3709502512.8656549,3317980780.7385106,121718464605.07561,1217184.6460507561]
[{"$f":"IF(ISBLANK(InfoPro!A239),\"\",InfoPro!A239)","v":"SC_507_A2"},{"$f":"IF(ISBLANK(InfoPro!B239),\"\",InfoPro!B239)","v":"PARQUE FOTOVOLTAICO CATAY 2"},{"$f":"IF(ISBLANK(InfoPro!E239),\"\",InfoPro!E239)","v":100},{"$f":"IF(ISBLANK(InfoPro!F239),\"\",InfoPro!F239)","v":"Solar FV"},{"$f":"IF(ISBLANK(InfoPro!I239),\"\",YEAR(InfoPro!I239)-$G$3)","v":4},{"$f":"IF(B246=\"\",\"\",VLOOKUP(D246,Tablas!$B$2:$E$13,2,FALSE))","v":0.26},{"$f":"IF(B246=\"\",\"\",VLOOKUP(D246,Tablas!$B$2:$H$13,7,FALSE))","v":83577.200000000012},227760,15814632919.622025,14145467727.747787,12652475606.214479,11317062259.583612,10122595938.804665,9054200303.0453167,8098569144.0476894,7243800665.5167198,6479249253.5927715,5795392892.3012276,5183714572.7202396,4636596218.8910923,4147223809.3838015,3709502512.8656549,3317980780.7385106,121718464605.07561,1217184.6460507561]
[{"$f":"IF(ISBLANK(InfoPro!A240),\"\",InfoPro!A240)","v":"SC_543_A1"},{"$f":"IF(ISBLANK(InfoPro!B240),\"\",InfoPro!B240)","v":"Sabana I 350 MW"},{"$f":"IF(ISBLANK(InfoPro!E240),\"\",InfoPro!E240)","v":350},{"$f":"IF(ISBLANK(InfoPro!F240),\"\",InfoPro!F240)","v":"Solar FV"},{"$f":"IF(ISBLANK(InfoPro!I240),\"\",YEAR(InfoPro!I240)-$G$3)","v":4},{"$f":"IF(B247=\"\",\"\",VLOOKUP(D247,Tablas!$B$2:$E$13,2,FALSE))","v":0.26},{"$f":"IF(B247=\"\",\"\",VLOOKUP(D247,Tablas!$B$2:$H$13,7,FALSE))","v":83577.200000000012},797160,55351215218.677086,49509137047.117256,44283664621.750679,39609717908.542648,35429085785.816322,31689701060.658607,28344992004.166912,25353302329.308517,22677372387.574703,20283875123.054295,18143001004.52084,16228086766.11882,14515283332.843306,12983258795.029793,11612932732.584787,426014626117.76459,1217184.6460507559]
[{"$f":"IF(ISBLANK(InfoPro!A241),\"\",InfoPro!A241)","v":"SC_56_A2"},{"$f":"IF(ISBLANK(InfoPro!B241),\"\",InfoPro!B241)","v":"PV LATAMSOLAR LA LOMA 200 MW"},{"$f":"IF(ISBLANK(InfoPro!E241),\"\",InfoPro!E241)","v":200},{"$f":"IF(ISBLANK(InfoPro!F241),\"\",InfoPro!F241)","v":"Solar FV"},{"$f":"IF(ISBLANK(InfoPro!I241),\"\",YEAR(InfoPro!I241)-$G$3)","v":1},{"$f":"IF(B248=\"\",\"\",VLOOKUP(D248,Tablas!$B$2:$E$13,2,FALSE))","v":0.26},{"$f":"IF(B248=\"\",\"\",VLOOKUP(D248,Tablas!$B$2:$H$13,7,FALSE))","v":83577.200000000012},455520,44199211534.88372,39534178474.851265,35361519208.274849,31629265839.244049,28290935455.495575,25304951212.428959,22634124519.167225,20245191877.609329,18108400606.090633,16197138288.095379,14487601331.03344,12958498507.185543,11590785784.602455,10367429145.440479,9273192437.7821846,340182424222.18512,1700912.1211109257]
[{"$f":"IF(ISBLANK(InfoPro!A242),\"\",InfoPro!A242)","v":"SC_587_A1"},{"$f":"IF(ISBLANK(InfoPro!B242),\"\",InfoPro!B242)","v":"Cactus del Cesar - El Paso"},{"$f":"IF(ISBLANK(InfoPro!E242),\"\",InfoPro!E242)","v":19.899999999999999},{"$f":"IF(ISBLANK(InfoPro!F242),\"\",InfoPro!F242)","v":"Solar FV"},{"$f":"IF(ISBLANK(InfoPro!I242),\"\",YEAR(InfoPro!I242)-$G$3)","v":6},{"$f":"IF(B249=\"\",\"\",VLOOKUP(D249,Tablas!$B$2:$E$13,2,FALSE))","v":0.26},{"$f":"IF(B249=\"\",\"\",VLOOKUP(D249,Tablas!$B$2:$H$13,7,FALSE))","v":83577.200000000012},45324.24,{"$f":"IF($H249=\"\",\"\",(1/(1+$C$3)^(I$6+$E249))*$H249*($C$2 - $G249))","v":2517842645.6366811},2252095389.6571388,2014396591.8221281,1801785860.3060181,1611615259.6654902,1441516332.4378271,1289370601.4649615,1153283185.5679443,1031559199.9713277,922682647.55932713,825297538.06737661,738191000.0602653,660278175.36696362,590588707.84164917,528254658.17678815,19378757793.601887,973806.9243016023]
[{"$f":"IF(ISBLANK(InfoPro!A243),\"\",InfoPro!A243)","v":"SC_587_A2"},{"$f":"IF(ISBLANK(InfoPro!B243),\"\",InfoPro!B243)","v":"Cactus del Cesar - El Paso"},{"$f":"IF(ISBLANK(InfoPro!E243),\"\",InfoPro!E243)","v":19.899999999999999},{"$f":"IF(ISBLANK(InfoPro!F243),\"\",InfoPro!F243)","v":"Solar FV"},{"$f":"IF(ISBLANK(InfoPro!I243),\"\",YEAR(InfoPro!I243)-$G$3)","v":6},{"$f":"IF(B250=\"\",\"\",VLOOKUP(D250,Tablas!$B$2:$E$13,2,FALSE))","v":0.26},{"$f":"IF(B250=\"\",\"\",VLOOKUP(D250,Tablas!$B$2:$H$13,7,FALSE))","v":83577.200000000012},45324.24,2517842645.6366811,2252095389.6571388,2014396591.8221281,1801785860.3060181,1611615259.6654902,1441516332.4378271,1289370601.4649615,1153283185.5679443,1031559199.9713277,922682647.55932713,825297538.06737661,738191000.0602653,660278175.36696362,590588707.84164917,528254658.17678815,19378757793.601887,973806.9243016023]
[{"$f":"IF(ISBLANK(InfoPro!A244),\"\",InfoPro!A244)","v":"SC_599_A1"},{"$f":"IF(ISBLANK(InfoPro!B244),\"\",InfoPro!B244)","v":"La Fortuna - 19,9 MW"},{"$f":"IF(ISBLANK(InfoPro!E244),\"\",InfoPro!E244)","v":19.899999999999999},{"$f":"IF(ISBLANK(InfoPro!F244),\"\",InfoPro!F244)","v":"Solar FV"},{"$f":"IF(ISBLANK(InfoPro!I244),\"\",YEAR(InfoPro!I244)-$G$3)","v":2},{"$f":"IF(B251=\"\",\"\",VLOOKUP(D251,Tablas!$B$2:$E$13,2,FALSE))","v":0.26},{"$f":"IF(B251=\"\",\"\",VLOOKUP(D251,Tablas!$B$2:$H$13,7,FALSE))","v":83577.200000000012},45324.24,3933650758.2477012,3518471161.2233467,3147111951.0047827,2814948077.8218098,2517842645.6366811,2252095389.6571388,2014396591.8221281,1801785860.3060181,1611615259.6654902,1441516332.4378271,1289370601.4649615,1153283185.5679443,1031559199.9713277,922682647.55932713,825297538.06737661,30275627200.453861,1521388.3015303449]
[{"$f":"IF(ISBLANK(InfoPro!A245),\"\",InfoPro!A245)","v":"SC_599_A2"},{"$f":"IF(ISBLANK(InfoPro!B245),\"\",InfoPro!B245)","v":"La Fortuna - 19,9 MW"},{"$f":"IF(ISBLANK(InfoPro!E245),\"\",InfoPro!E245)","v":19.899999999999999},{"$f":"IF(ISBLANK(InfoPro!F245),\"\",InfoPro!F245)","v":"Solar FV"},{"$f":"IF(ISBLANK(InfoPro!I245),\"\",YEAR(InfoPro!I245)-$G$3)","v":2},{"$f":"IF(B252=\"\",\"\",VLOOKUP(D252,Tablas!$B$2:$E$13,2,FALSE))","v":0.26},{"$f":"IF(B252=\"\",\"\",VLOOKUP(D252,Tablas!$B$2:$H$13,7,FALSE))","v":83577.200000000012},45324.24,3933650758.2477012,3518471161.2233467,3147111951.0047827,2814948077.8218098,2517842645.6366811,2252095389.6571388,2014396591.8221281,1801785860.3060181,1611615259.6654902,1441516332.4378271,1289370601.4649615,1153283185.5679443,1031559199.9713277,922682647.55932713,825297538.06737661,30275627200.453861,1521388.3015303449]
[{"$f":"IF(ISBLANK(InfoPro!A246),\"\",InfoPro!A246)","v":"SC_623_A1"},{"$f":"IF(ISBLANK(InfoPro!B246),\"\",InfoPro!B246)","v":"TR SOLAR 6"},{"$f":"IF(ISBLANK(InfoPro!E246),\"\",InfoPro!E246)","v":120.3},{"$f":"IF(ISBLANK(InfoPro!F246),\"\",InfoPro!F246)","v":"Solar FV"},{"$f":"IF(ISBLANK(InfoPro!I246),\"\",YEAR(InfoPro!I246)-$G$3)","v":3},{"$f":"IF(B253=\"\",\"\",VLOOKUP(D253,Tablas!$B$2:$E$13,2,FALSE))","v":0.26},{"$f":"IF(B253=\"\",\"\",VLOOKUP(D253,Tablas!$B$2:$H$13,7,FALSE))","v":83577.200000000012},273995.28000000003,21269953803.777325,19025003402.305298,17016997676.480591,15220928154.276018,13614425898.279089,12177482914.382013,10892202964.563517,9742578680.2893715,8714292200.6166134,7794536852.0721054,6971857649.4383774,6236008630.9824486,5577825251.325984,4989110242.688714,4462531522.9773836,163705735844.45486,1360812.4342847452]
[{"$f":"IF(ISBLANK(InfoPro!A247),\"\",InfoPro!A247)","v":"SC_623_A2"},{"$f":"IF(ISBLANK(InfoPro!B247),\"\",InfoPro!B247)","v":"TR SOLAR 6"},{"$f":"IF(ISBLANK(InfoPro!E247),\"\",InfoPro!E247)","v":120.3},{"$f":"IF(ISBLANK(InfoPro!F247),\"\",InfoPro!F247)","v":"Solar FV"},{"$f":"IF(ISBLANK(InfoPro!I247),\"\",YEAR(InfoPro!I247)-$G$3)","v":3},{"$f":"IF(B254=\"\",\"\",VLOOKUP(D254,Tablas!$B$2:$E$13,2,FALSE))","v":0.26},{"$f":"IF(B254=\"\",\"\",VLOOKUP(D254,Tablas!$B$2:$H$13,7,FALSE))","v":83577.200000000012},273995.28000000003,21269953803.777325,19025003402.305298,17016997676.480591,15220928154.276018,13614425898.279089,12177482914.382013,10892202964.563517,9742578680.2893715,8714292200.6166134,7794536852.0721054,6971857649.4383774,6236008630.9824486,5577825251.325984,4989110242.688714,4462531522.9773836,163705735844.45486,1360812.4342847452]
[{"$f":"IF(ISBLANK(InfoPro!A248),\"\",InfoPro!A248)","v":"SC_628_A1"},{"$f":"IF(ISBLANK(InfoPro!B248),\"\",InfoPro!B248)","v":"TR Solar 13"},{"$f":"IF(ISBLANK(InfoPro!E248),\"\",InfoPro!E248)","v":110},{"$f":"IF(ISBLANK(InfoPro!F248),\"\",InfoPro!F248)","v":"Solar FV"},{"$f":"IF(ISBLANK(InfoPro!I248),\"\",YEAR(InfoPro!I248)-$G$3)","v":3},{"$f":"IF(B255=\"\",\"\",VLOOKUP(D255,Tablas!$B$2:$E$13,2,FALSE))","v":0.26},{"$f":"IF(B255=\"\",\"\",VLOOKUP(D255,Tablas!$B$2:$H$13,7,FALSE))","v":83577.200000000012},250536.00000000003,19448835564.551167,17396096211.584229,15560014500.522568,13917723166.835928,12448768485.541977,11134855532.685133,9959620333.3498516,8908426058.4524593,7968180732.0683918,7127174178.9520493,6374932181.5313511,5702086029.9922647,5100255840.7802019,4561946190.3221827,4080452764.1522212,149689367771.32196,1360812.434284745]
[{"$f":"IF(ISBLANK(InfoPro!A249),\"\",InfoPro!A249)","v":"SC_628_A2"},{"$f":"IF(ISBLANK(InfoPro!B249),\"\",InfoPro!B249)","v":"TR Solar 13"},{"$f":"IF(ISBLANK(InfoPro!E249),\"\",InfoPro!E249)","v":110},{"$f":"IF(ISBLANK(InfoPro!F249),\"\",InfoPro!F249)","v":"Solar FV"},{"$f":"IF(ISBLANK(InfoPro!I249),\"\",YEAR(InfoPro!I249)-$G$3)","v":3},{"$f":"IF(B256=\"\",\"\",VLOOKUP(D256,Tablas!$B$2:$E$13,2,FALSE))","v":0.26},{"$f":"IF(B256=\"\",\"\",VLOOKUP(D256,Tablas!$B$2:$H$13,7,FALSE))","v":83577.200000000012},250536.00000000003,19448835564.551167,17396096211.584229,15560014500.522568,13917723166.835928,12448768485.541977,11134855532.685133,9959620333.3498516,8908426058.4524593,7968180732.0683918,7127174178.9520493,6374932181.5313511,5702086029.9922647,5100255840.7802019,4561946190.3221827,4080452764.1522212,149689367771.32196,1360812.434284745]
[{"$f":"IF(ISBLANK(InfoPro!A250),\"\",InfoPro!A250)","v":"SC_657_A1"},{"$f":"IF(ISBLANK(InfoPro!B250),\"\",InfoPro!B250)","v":"TR Solar 7"},{"$f":"IF(ISBLANK(InfoPro!E250),\"\",InfoPro!E250)","v":99.9},{"$f":"IF(ISBLANK(InfoPro!F250),\"\",InfoPro!F250)","v":"Solar FV"},{"$f":"IF(ISBLANK(InfoPro!I250),\"\",YEAR(InfoPro!I250)-$G$3)","v":3},{"$f":"IF(B257=\"\",\"\",VLOOKUP(D257,Tablas!$B$2:$E$13,2,FALSE))","v":0.26},{"$f":"IF(B257=\"\",\"\",VLOOKUP(D257,Tablas!$B$2:$H$13,7,FALSE))","v":83577.200000000012},227532.24000000002,17663078844.533287,15798818286.702406,14131322260.020041,12639823130.608265,11305745197.324032,10112473342.86586,9045146102.7422714,8090470574.9036427,7236556864.851203,6472770004.33918,5789597499.408927,5178530858.1475201,4631959622.6722012,4143076585.574419,3705793010.3527899,135945162185.04604,1360812.434284745]
[{"$f":"IF(ISBLANK(InfoPro!A251),\"\",InfoPro!A251)","v":"SC_657_A2"},{"$f":"IF(ISBLANK(InfoPro!B251),\"\",InfoPro!B251)","v":"TR Solar 7"},{"$f":"IF(ISBLANK(InfoPro!E251),\"\",InfoPro!E251)","v":99.9},{"$f":"IF(ISBLANK(InfoPro!F251),\"\",InfoPro!F251)","v":"Solar FV"},{"$f":"IF(ISBLANK(InfoPro!I251),\"\",YEAR(InfoPro!I251)-$G$3)","v":3},{"$f":"IF(B258=\"\",\"\",VLOOKUP(D258,Tablas!$B$2:$E$13,2,FALSE))","v":0.26},{"$f":"IF(B258=\"\",\"\",VLOOKUP(D258,Tablas!$B$2:$H$13,7,FALSE))","v":83577.200000000012},227532.24000000002,17663078844.533287,15798818286.702406,14131322260.020041,12639823130.608265,11305745197.324032,10112473342.86586,9045146102.7422714,8090470574.9036427,7236556864.851203,6472770004.33918,5789597499.408927,5178530858.1475201,4631959622.6722012,4143076585.574419,3705793010.3527899,135945162185.04604,1360812.434284745]
[{"$f":"IF(ISBLANK(InfoPro!A252),\"\",InfoPro!A252)","v":"SC_658_A1"},{"$f":"IF(ISBLANK(InfoPro!B252),\"\",InfoPro!B252)","v":"TR Solar 8"},{"$f":"IF(ISBLANK(InfoPro!E252),\"\",InfoPro!E252)","v":200},{"$f":"IF(ISBLANK(InfoPro!F252),\"\",InfoPro!F252)","v":"Solar FV"},{"$f":"IF(ISBLANK(InfoPro!I252),\"\",YEAR(InfoPro!I252)-$G$3)","v":3},{"$f":"IF(B259=\"\",\"\",VLOOKUP(D259,Tablas!$B$2:$E$13,2,FALSE))","v":0.26},{"$f":"IF(B259=\"\",\"\",VLOOKUP(D259,Tablas!$B$2:$H$13,7,FALSE))","v":83577.200000000012},455520,35361519208.274849,31629265839.244049,28290935455.495575,25304951212.428959,22634124519.167225,20245191877.609329,18108400606.090633,16197138288.095379,14487601331.03344,12958498507.185543,11590785784.602455,10367429145.440479,9273192437.7821846,8294447618.7676029,7419005025.7313099,272162486856.94904,1360812.4342847452]
[{"$f":"IF(ISBLANK(InfoPro!A253),\"\",InfoPro!A253)","v":"SC_658_A2"},{"$f":"IF(ISBLANK(InfoPro!B253),\"\",InfoPro!B253)","v":"TR Solar 8"},{"$f":"IF(ISBLANK(InfoPro!E253),\"\",InfoPro!E253)","v":200},{"$f":"IF(ISBLANK(InfoPro!F253),\"\",InfoPro!F253)","v":"Solar FV"},{"$f":"IF(ISBLANK(InfoPro!I253),\"\",YEAR(InfoPro!I253)-$G$3)","v":3},{"$f":"IF(B260=\"\",\"\",VLOOKUP(D260,Tablas!$B$2:$E$13,2,FALSE))","v":0.26},{"$f":"IF(B260=\"\",\"\",VLOOKUP(D260,Tablas!$B$2:$H$13,7,FALSE))","v":83577.200000000012},455520,35361519208.274849,31629265839.244049,28290935455.495575,25304951212.428959,22634124519.167225,20245191877.609329,18108400606.090633,16197138288.095379,14487601331.03344,12958498507.185543,11590785784.602455,10367429145.440479,9273192437.7821846,8294447618.7676029,7419005025.7313099,272162486856.94904,1360812.4342847452]
[{"$f":"IF(ISBLANK(InfoPro!A254),\"\",InfoPro!A254)","v":"SC_72_A1"},{"$f":"IF(ISBLANK(InfoPro!B254),\"\",InfoPro!B254)","v":"Santa Marta III"},{"$f":"IF(ISBLANK(InfoPro!E254),\"\",InfoPro!E254)","v":50},{"$f":"IF(ISBLANK(InfoPro!F254),\"\",InfoPro!F254)","v":"Solar FV"},{"$f":"IF(ISBLANK(InfoPro!I254),\"\",YEAR(InfoPro!I254)-$G$3)","v":2},{"$f":"IF(B261=\"\",\"\",VLOOKUP(D261,Tablas!$B$2:$E$13,2,FALSE))","v":0.26},{"$f":"IF(B261=\"\",\"\",VLOOKUP(D261,Tablas!$B$2:$H$13,7,FALSE))","v":83577.200000000012},113880,9883544618.7128162,8840379802.0687122,7907316459.8110123,7072733863.8738937,6326237803.1072397,5658531129.7918062,5061297969.4023323,4527100151.5226583,4049284572.0238447,3621900332.7583599,3239624626.7963858,2897696446.1506138,2591857286.3601198,2318298109.4455462,2073611904.6919007,76069415076.517242,1521388.3015303449]
[{"$f":"IF(ISBLANK(InfoPro!A255),\"\",InfoPro!A255)","v":"SC_735_A1"},{"$f":"IF(ISBLANK(InfoPro!B255),\"\",InfoPro!B255)","v":"EGINA 60"},{"$f":"IF(ISBLANK(InfoPro!E255),\"\",InfoPro!E255)","v":60},{"$f":"IF(ISBLANK(InfoPro!F255),\"\",InfoPro!F255)","v":"Solar FV"},{"$f":"IF(ISBLANK(InfoPro!I255),\"\",YEAR(InfoPro!I255)-$G$3)","v":3},{"$f":"IF(B262=\"\",\"\",VLOOKUP(D262,Tablas!$B$2:$E$13,2,FALSE))","v":0.26},{"$f":"IF(B262=\"\",\"\",VLOOKUP(D262,Tablas!$B$2:$H$13,7,FALSE))","v":83577.200000000012},136656,10608455762.482454,9488779751.7732162,8487280636.6486731,7591485363.7286873,6790237355.7501688,6073557563.2827988,5432520181.8271904,4859141486.4286137,4346280399.3100319,3887549552.1556635,3477235735.3807364,3110228743.632144,2781957731.3346548,2488334285.6302814,2225701507.7193933,81648746057.084686,1360812.4342847448]
[{"$f":"IF(ISBLANK(InfoPro!A256),\"\",InfoPro!A256)","v":"SC_735_A2"},{"$f":"IF(ISBLANK(InfoPro!B256),\"\",InfoPro!B256)","v":"EGINA 60"},{"$f":"IF(ISBLANK(InfoPro!E256),\"\",InfoPro!E256)","v":60},{"$f":"IF(ISBLANK(InfoPro!F256),\"\",InfoPro!F256)","v":"Solar FV"},{"$f":"IF(ISBLANK(InfoPro!I256),\"\",YEAR(InfoPro!I256)-$G$3)","v":3},{"$f":"IF(B263=\"\",\"\",VLOOKUP(D263,Tablas!$B$2:$E$13,2,FALSE))","v":0.26},{"$f":"IF(B263=\"\",\"\",VLOOKUP(D263,Tablas!$B$2:$H$13,7,FALSE))","v":83577.200000000012},136656,10608455762.482454,9488779751.7732162,8487280636.6486731,7591485363.7286873,6790237355.7501688,6073557563.2827988,5432520181.8271904,4859141486.4286137,4346280399.3100319,3887549552.1556635,3477235735.3807364,3110228743.632144,2781957731.3346548,2488334285.6302814,2225701507.7193933,81648746057.084686,1360812.4342847448]
[{"$f":"IF(ISBLANK(InfoPro!A257),\"\",InfoPro!A257)","v":"SC_758_A1"},{"$f":"IF(ISBLANK(InfoPro!B257),\"\",InfoPro!B257)","v":"JAMAICA 19.9"},{"$f":"IF(ISBLANK(InfoPro!E257),\"\",InfoPro!E257)","v":19.899999999999999},{"$f":"IF(ISBLANK(InfoPro!F257),\"\",InfoPro!F257)","v":"Solar FV"},{"$f":"IF(ISBLANK(InfoPro!I257),\"\",YEAR(InfoPro!I257)-$G$3)","v":2},{"$f":"IF(B264=\"\",\"\",VLOOKUP(D264,Tablas!$B$2:$E$13,2,FALSE))","v":0.26},{"$f":"IF(B264=\"\",\"\",VLOOKUP(D264,Tablas!$B$2:$H$13,7,FALSE))","v":83577.200000000012},45324.24,3933650758.2477012,3518471161.2233467,3147111951.0047827,2814948077.8218098,2517842645.6366811,2252095389.6571388,2014396591.8221281,1801785860.3060181,1611615259.6654902,1441516332.4378271,1289370601.4649615,1153283185.5679443,1031559199.9713277,922682647.55932713,825297538.06737661,30275627200.453861,1521388.3015303449]
[{"$f":"IF(ISBLANK(InfoPro!A258),\"\",InfoPro!A258)","v":"SC_758_A2"},{"$f":"IF(ISBLANK(InfoPro!B258),\"\",InfoPro!B258)","v":"JAMAICA 19.9"},{"$f":"IF(ISBLANK(InfoPro!E258),\"\",InfoPro!E258)","v":19.899999999999999},{"$f":"IF(ISBLANK(InfoPro!F258),\"\",InfoPro!F258)","v":"Solar FV"},{"$f":"IF(ISBLANK(InfoPro!I258),\"\",YEAR(InfoPro!I258)-$G$3)","v":2},{"$f":"IF(B265=\"\",\"\",VLOOKUP(D265,Tablas!$B$2:$E$13,2,FALSE))","v":0.26},{"$f":"IF(B265=\"\",\"\",VLOOKUP(D265,Tablas!$B$2:$H$13,7,FALSE))","v":83577.200000000012},45324.24,3933650758.2477012,3518471161.2233467,3147111951.0047827,2814948077.8218098,2517842645.6366811,2252095389.6571388,2014396591.8221281,1801785860.3060181,1611615259.6654902,1441516332.4378271,1289370601.4649615,1153283185.5679443,1031559199.9713277,922682647.55932713,825297538.06737661,30275627200.453861,1521388.3015303449]
[{"$f":"IF(ISBLANK(InfoPro!A259),\"\",InfoPro!A259)","v":"SC_768_A1"},{"$f":"IF(ISBLANK(InfoPro!B259),\"\",InfoPro!B259)","v":"RODAS 19.9"},{"$f":"IF(ISBLANK(InfoPro!E259),\"\",InfoPro!E259)","v":19.899999999999999},{"$f":"IF(ISBLANK(InfoPro!F259),\"\",InfoPro!F259)","v":"Solar FV"},{"$f":"IF(ISBLANK(InfoPro!I259),\"\",YEAR(InfoPro!I259)-$G$3)","v":2},{"$f":"IF(B266=\"\",\"\",VLOOKUP(D266,Tablas!$B$2:$E$13,2,FALSE))","v":0.26},{"$f":"IF(B266=\"\",\"\",VLOOKUP(D266,Tablas!$B$2:$H$13,7,FALSE))","v":83577.200000000012},45324.24,{"$f":"IF($H266=\"\",\"\",(1/(1+$C$3)^(I$6+$E266))*$H266*($C$2 - $G266))","v":3933650758.2477012},3518471161.2233467,3147111951.0047827,2814948077.8218098,2517842645.6366811,2252095389.6571388,2014396591.8221281,1801785860.3060181,1611615259.6654902,1441516332.4378271,1289370601.4649615,1153283185.5679443,1031559199.9713277,922682647.55932713,825297538.06737661,30275627200.453861,1521388.3015303449]
[{"$f":"IF(ISBLANK(InfoPro!A260),\"\",InfoPro!A260)","v":"SC_768_A2"},{"$f":"IF(ISBLANK(InfoPro!B260),\"\",InfoPro!B260)","v":"RODAS 19.9"},{"$f":"IF(ISBLANK(InfoPro!E260),\"\",InfoPro!E260)","v":19.899999999999999},{"$f":"IF(ISBLANK(InfoPro!F260),\"\",InfoPro!F260)","v":"Solar FV"},{"$f":"IF(ISBLANK(InfoPro!I260),\"\",YEAR(InfoPro!I260)-$G$3)","v":2},{"$f":"IF(B267=\"\",\"\",VLOOKUP(D267,Tablas!$B$2:$E$13,2,FALSE))","v":0.26},{"$f":"IF(B267=\"\",\"\",VLOOKUP(D267,Tablas!$B$2:$H$13,7,FALSE))","v":83577.200000000012},45324.24,3933650758.2477012,3518471161.2233467,3147111951.0047827,2814948077.8218098,2517842645.6366811,2252095389.6571388,2014396591.8221281,1801785860.3060181,1611615259.6654902,1441516332.4378271,1289370601.4649615,1153283185.5679443,1031559199.9713277,922682647.55932713,825297538.06737661,30275627200.453861,1521388.3015303449]
[{"$f":"IF(ISBLANK(InfoPro!A261),\"\",InfoPro!A261)","v":"SC_807_A2"},{"$f":"IF(ISBLANK(InfoPro!B261),\"\",InfoPro!B261)","v":"Parque Solar Fotovoltaico La Villa de 120 MW (entrega 100 MW)"},{"$f":"IF(ISBLANK(InfoPro!E261),\"\",InfoPro!E261)","v":100},{"$f":"IF(ISBLANK(InfoPro!F261),\"\",InfoPro!F261)","v":"Solar FV"},{"$f":"IF(ISBLANK(InfoPro!I261),\"\",YEAR(InfoPro!I261)-$G$3)","v":2},{"$f":"IF(B268=\"\",\"\",VLOOKUP(D268,Tablas!$B$2:$E$13,2,FALSE))","v":0.26},{"$f":"IF(B268=\"\",\"\",VLOOKUP(D268,Tablas!$B$2:$H$13,7,FALSE))","v":83577.200000000012},227760,19767089237.425632,17680759604.137424,15814632919.622025,14145467727.747787,12652475606.214479,11317062259.583612,10122595938.804665,9054200303.0453167,8098569144.0476894,7243800665.5167198,6479249253.5927715,5795392892.3012276,5183714572.7202396,4636596218.8910923,4147223809.3838015,152138830153.03448,1521388.3015303449]
[{"$f":"IF(ISBLANK(InfoPro!A262),\"\",InfoPro!A262)","v":"SC_821_A1"},{"$f":"IF(ISBLANK(InfoPro!B262),\"\",InfoPro!B262)","v":"SPK SOLAR DEL CESAR - 65 MW"},{"$f":"IF(ISBLANK(InfoPro!E262),\"\",InfoPro!E262)","v":65},{"$f":"IF(ISBLANK(InfoPro!F262),\"\",InfoPro!F262)","v":"Solar FV"},{"$f":"IF(ISBLANK(InfoPro!I262),\"\",YEAR(InfoPro!I262)-$G$3)","v":3},{"$f":"IF(B269=\"\",\"\",VLOOKUP(D269,Tablas!$B$2:$E$13,2,FALSE))","v":0.26},{"$f":"IF(B269=\"\",\"\",VLOOKUP(D269,Tablas!$B$2:$H$13,7,FALSE))","v":83577.200000000012},148044,11492493742.689325,10279511397.754316,9194554023.0360603,8224109144.0394115,7356090468.7293482,6579687360.223031,5885230196.9794559,5264069943.6309977,4708470432.5858679,4211512014.8353019,3767005379.9957976,3369414472.2681561,3013787542.2792091,2695695476.0994716,2411176633.3626761,88452808228.508408,1360812.4342847448]
[{"$f":"IF(ISBLANK(InfoPro!A263),\"\",InfoPro!A263)","v":"SC_821_A2"},{"$f":"IF(ISBLANK(InfoPro!B263),\"\",InfoPro!B263)","v":"SPK SOLAR DEL CESAR - 65 MW"},{"$f":"IF(ISBLANK(InfoPro!E263),\"\",InfoPro!E263)","v":65},{"$f":"IF(ISBLANK(InfoPro!F263),\"\",InfoPro!F263)","v":"Solar FV"},{"$f":"IF(ISBLANK(InfoPro!I263),\"\",YEAR(InfoPro!I263)-$G$3)","v":3},{"$f":"IF(B270=\"\",\"\",VLOOKUP(D270,Tablas!$B$2:$E$13,2,FALSE))","v":0.26},{"$f":"IF(B270=\"\",\"\",VLOOKUP(D270,Tablas!$B$2:$H$13,7,FALSE))","v":83577.200000000012},148044,11492493742.689325,10279511397.754316,9194554023.0360603,8224109144.0394115,7356090468.7293482,6579687360.223031,5885230196.9794559,5264069943.6309977,4708470432.5858679,4211512014.8353019,3767005379.9957976,3369414472.2681561,3013787542.2792091,2695695476.0994716,2411176633.3626761,88452808228.508408,1360812.4342847448]
[{"$f":"IF(ISBLANK(InfoPro!A264),\"\",InfoPro!A264)","v":"SC_822_A1"},{"$f":"IF(ISBLANK(InfoPro!B264),\"\",InfoPro!B264)","v":"SANTA MARTA IV 50 MW"},{"$f":"IF(ISBLANK(InfoPro!E264),\"\",InfoPro!E264)","v":50},{"$f":"IF(ISBLANK(InfoPro!F264),\"\",InfoPro!F264)","v":"Solar FV"},{"$f":"IF(ISBLANK(InfoPro!I264),\"\",YEAR(InfoPro!I264)-$G$3)","v":2},{"$f":"IF(B271=\"\",\"\",VLOOKUP(D271,Tablas!$B$2:$E$13,2,FALSE))","v":0.26},{"$f":"IF(B271=\"\",\"\",VLOOKUP(D271,Tablas!$B$2:$H$13,7,FALSE))","v":83577.200000000012},113880,9883544618.7128162,8840379802.0687122,7907316459.8110123,7072733863.8738937,6326237803.1072397,5658531129.7918062,5061297969.4023323,4527100151.5226583,4049284572.0238447,3621900332.7583599,3239624626.7963858,2897696446.1506138,2591857286.3601198,2318298109.4455462,2073611904.6919007,76069415076.517242,1521388.3015303449]
[{"$f":"IF(ISBLANK(InfoPro!A265),\"\",InfoPro!A265)","v":"SC_825_A1"},{"$f":"IF(ISBLANK(InfoPro!B265),\"\",InfoPro!B265)","v":"OWF GOLETA"},{"$f":"IF(ISBLANK(InfoPro!E265),\"\",InfoPro!E265)","v":325},{"$f":"IF(ISBLANK(InfoPro!F265),\"\",InfoPro!F265)","v":"Eólico Offshore"},{"$f":"IF(ISBLANK(InfoPro!I265),\"\",YEAR(InfoPro!I265)-$G$3)","v":9},{"$f":"IF(B272=\"\",\"\",VLOOKUP(D272,Tablas!$B$2:$E$13,2,FALSE))","v":0.56999999999999995},{"$f":"IF(B272=\"\",\"\",VLOOKUP(D272,Tablas!$B$2:$H$13,7,FALSE))","v":83577.200000000012},1622789.9999999998,64511177159.197876,57702305151.339783,51612079741.806618,46164650931.848495,41292174357.64624,36933966330.631706,33035748059.599026,29548969641.859585,26430205404.167789,23640613062.761887,21145449966.692211,18913640399.545803,16917388550.577648,15131832335.04262,13534733752.274258,496514934844.99139,1527738.2610615119]
[{"$f":"IF(ISBLANK(InfoPro!A266),\"\",InfoPro!A266)","v":"SC_825_A2"},{"$f":"IF(ISBLANK(InfoPro!B266),\"\",InfoPro!B266)","v":"OWF GOLETA"},{"$f":"IF(ISBLANK(InfoPro!E266),\"\",InfoPro!E266)","v":325},{"$f":"IF(ISBLANK(InfoPro!F266),\"\",InfoPro!F266)","v":"Eólico Offshore"},{"$f":"IF(ISBLANK(InfoPro!I266),\"\",YEAR(InfoPro!I266)-$G$3)","v":9},{"$f":"IF(B273=\"\",\"\",VLOOKUP(D273,Tablas!$B$2:$E$13,2,FALSE))","v":0.56999999999999995},{"$f":"IF(B273=\"\",\"\",VLOOKUP(D273,Tablas!$B$2:$H$13,7,FALSE))","v":83577.200000000012},1622789.9999999998,64511177159.197876,57702305151.339783,51612079741.806618,46164650931.848495,41292174357.64624,36933966330.631706,33035748059.599026,29548969641.859585,26430205404.167789,23640613062.761887,21145449966.692211,18913640399.545803,16917388550.577648,15131832335.04262,13534733752.274258,496514934844.99139,1527738.2610615119]
[{"$f":"IF(ISBLANK(InfoPro!A267),\"\",InfoPro!A267)","v":"SC_833_A1"},{"$f":"IF(ISBLANK(InfoPro!B267),\"\",InfoPro!B267)","v":"LOMERO SOLAR"},{"$f":"IF(ISBLANK(InfoPro!E267),\"\",InfoPro!E267)","v":200},{"$f":"IF(ISBLANK(InfoPro!F267),\"\",InfoPro!F267)","v":"Solar FV"},{"$f":"IF(ISBLANK(InfoPro!I267),\"\",YEAR(InfoPro!I267)-$G$3)","v":4},{"$f":"IF(B274=\"\",\"\",VLOOKUP(D274,Tablas!$B$2:$E$13,2,FALSE))","v":0.26},{"$f":"IF(B274=\"\",\"\",VLOOKUP(D274,Tablas!$B$2:$H$13,7,FALSE))","v":83577.200000000012},455520,31629265839.244049,28290935455.495575,25304951212.428959,22634124519.167225,20245191877.609329,18108400606.090633,16197138288.095379,14487601331.03344,12958498507.185543,11590785784.602455,10367429145.440479,9273192437.7821846,8294447618.7676029,7419005025.7313099,6635961561.4770212,243436929210.15121,1217184.6460507561]
[{"$f":"IF(ISBLANK(InfoPro!A268),\"\",InfoPro!A268)","v":"SC_846_A1"},{"$f":"IF(ISBLANK(InfoPro!B268),\"\",InfoPro!B268)","v":"Parque Eólico El Ahumado_de 50MW a 60MW _Es decir 10MW"},{"$f":"IF(ISBLANK(InfoPro!E268),\"\",InfoPro!E268)","v":10},{"$f":"IF(ISBLANK(InfoPro!F268),\"\",InfoPro!F268)","v":"Eólico Onshore"},{"$f":"IF(ISBLANK(InfoPro!I268),\"\",YEAR(InfoPro!I268)-$G$3)","v":2},{"$f":"IF(B275=\"\",\"\",VLOOKUP(D275,Tablas!$B$2:$E$13,2,FALSE))","v":0.56999999999999995},{"$f":"IF(B275=\"\",\"\",VLOOKUP(D275,Tablas!$B$2:$H$13,7,FALSE))","v":83577.200000000012},49931.999999999993,4333554178.974081,3876166528.5993576,3467054140.070982,3101121771.0831685,2773811959.8239431,2481048264.6010227,2219184494.2764068,1984959297.2060888,1775455543.1181469,1588063992.0555882,1420450797.9030304,1270528441.7737305,1136429733.2502062,1016484555.6799699,909199065.90337181,33353512764.319092,3335351.2764319093]
[{"$f":"IF(ISBLANK(InfoPro!A269),\"\",InfoPro!A269)","v":"SC_878_A1"},{"$f":"IF(ISBLANK(InfoPro!B269),\"\",InfoPro!B269)","v":"PARQUE SOLAR EL PROGRESO"},{"$f":"IF(ISBLANK(InfoPro!E269),\"\",InfoPro!E269)","v":19.899999999999999},{"$f":"IF(ISBLANK(InfoPro!F269),\"\",InfoPro!F269)","v":"Solar FV"},{"$f":"IF(ISBLANK(InfoPro!I269),\"\",YEAR(InfoPro!I269)-$G$3)","v":1},{"$f":"IF(B276=\"\",\"\",VLOOKUP(D276,Tablas!$B$2:$E$13,2,FALSE))","v":0.26},{"$f":"IF(B276=\"\",\"\",VLOOKUP(D276,Tablas!$B$2:$H$13,7,FALSE))","v":83577.200000000012},45324.24,4397821547.7209301,3933650758.2477012,3518471161.2233467,3147111951.0047827,2814948077.8218098,2517842645.6366811,2252095389.6571388,2014396591.8221281,1801785860.3060181,1611615259.6654902,1441516332.4378271,1289370601.4649615,1153283185.5679443,1031559199.9713277,922682647.55932713,33848151210.107414,1700912.1211109255]
[{"$f":"IF(ISBLANK(InfoPro!A270),\"\",InfoPro!A270)","v":"SC_890_A1"},{"$f":"IF(ISBLANK(InfoPro!B270),\"\",InfoPro!B270)","v":"Fundación II - 100 MW"},{"$f":"IF(ISBLANK(InfoPro!E270),\"\",InfoPro!E270)","v":100},{"$f":"IF(ISBLANK(InfoPro!F270),\"\",InfoPro!F270)","v":"Solar FV"},{"$f":"IF(ISBLANK(InfoPro!I270),\"\",YEAR(InfoPro!I270)-$G$3)","v":4},{"$f":"IF(B277=\"\",\"\",VLOOKUP(D277,Tablas!$B$2:$E$13,2,FALSE))","v":0.26},{"$f":"IF(B277=\"\",\"\",VLOOKUP(D277,Tablas!$B$2:$H$13,7,FALSE))","v":83577.200000000012},227760,15814632919.622025,14145467727.747787,12652475606.214479,11317062259.583612,10122595938.804665,9054200303.0453167,8098569144.0476894,7243800665.5167198,6479249253.5927715,5795392892.3012276,5183714572.7202396,4636596218.8910923,4147223809.3838015,3709502512.8656549,3317980780.7385106,121718464605.07561,1217184.6460507561]
[{"$f":"IF(ISBLANK(InfoPro!A271),\"\",InfoPro!A271)","v":"SC_890_A2"},{"$f":"IF(ISBLANK(InfoPro!B271),\"\",InfoPro!B271)","v":"Fundación II - 100 MW"},{"$f":"IF(ISBLANK(InfoPro!E271),\"\",InfoPro!E271)","v":100},{"$f":"IF(ISBLANK(InfoPro!F271),\"\",InfoPro!F271)","v":"Solar FV"},{"$f":"IF(ISBLANK(InfoPro!I271),\"\",YEAR(InfoPro!I271)-$G$3)","v":4},{"$f":"IF(B278=\"\",\"\",VLOOKUP(D278,Tablas!$B$2:$E$13,2,FALSE))","v":0.26},{"$f":"IF(B278=\"\",\"\",VLOOKUP(D278,Tablas!$B$2:$H$13,7,FALSE))","v":83577.200000000012},227760,15814632919.622025,14145467727.747787,12652475606.214479,11317062259.583612,10122595938.804665,9054200303.0453167,8098569144.0476894,7243800665.5167198,6479249253.5927715,5795392892.3012276,5183714572.7202396,4636596218.8910923,4147223809.3838015,3709502512.8656549,3317980780.7385106,121718464605.07561,1217184.6460507561]
[{"$f":"IF(ISBLANK(InfoPro!A272),\"\",InfoPro!A272)","v":"SC_921_A1"},{"$f":"IF(ISBLANK(InfoPro!B272),\"\",InfoPro!B272)","v":"PARQUE SOLAR EL CIELO"},{"$f":"IF(ISBLANK(InfoPro!E272),\"\",InfoPro!E272)","v":9.9},{"$f":"IF(ISBLANK(InfoPro!F272),\"\",InfoPro!F272)","v":"Solar FV"},{"$f":"IF(ISBLANK(InfoPro!I272),\"\",YEAR(InfoPro!I272)-$G$3)","v":1},{"$f":"IF(B279=\"\",\"\",VLOOKUP(D279,Tablas!$B$2:$E$13,2,FALSE))","v":0.26},{"$f":"IF(B279=\"\",\"\",VLOOKUP(D279,Tablas!$B$2:$H$13,7,FALSE))","v":83577.200000000012},{"$f":"IF(C279=\"\",\"\",+C279*F279*24*365)","v":22548.240000000005},2187860970.9767447,1956941834.5051382,1750395200.8096051,1565648659.0425808,1400401305.0470314,1252595085.0152338,1120389163.6987782,1002136997.9416621,896365830.00148666,801758345.26072145,717136265.88615525,641445676.10568452,573743896.33782172,513187742.69930387,459023025.67021811,{"$f":"IF(W279=\"\",\"\",SUM(I279:W279))","v":16839029998.998165},{"$f":"IF(C279=0,0,IF(X279=\"\",\"\",X279/(C279*1000)))","v":1700912.1211109257}]
[{"$f":"IF(ISBLANK(InfoPro!A273),\"\",InfoPro!A273)","v":"SC_944_A1"},{"$f":"IF(ISBLANK(InfoPro!B273),\"\",InfoPro!B273)","v":"DSE FUNDACION"},{"$f":"IF(ISBLANK(InfoPro!E273),\"\",InfoPro!E273)","v":99.9},{"$f":"IF(ISBLANK(InfoPro!F273),\"\",InfoPro!F273)","v":"Solar FV"},{"$f":"IF(ISBLANK(InfoPro!I273),\"\",YEAR(InfoPro!I273)-$G$3)","v":3},{"$f":"IF(B280=\"\",\"\",VLOOKUP(D280,Tablas!$B$2:$E$13,2,FALSE))","v":0.26},{"$f":"IF(B280=\"\",\"\",VLOOKUP(D280,Tablas!$B$2:$H$13,7,FALSE))","v":83577.200000000012},227532.24000000002,17663078844.533287,15798818286.702406,14131322260.020041,12639823130.608265,11305745197.324032,10112473342.86586,9045146102.7422714,8090470574.9036427,7236556864.851203,6472770004.33918,5789597499.408927,5178530858.1475201,4631959622.6722012,4143076585.574419,3705793010.3527899,135945162185.04604,1360812.434284745]
[{"$f":"IF(ISBLANK(InfoPro!A274),\"\",InfoPro!A274)","v":"SC_951_A1"},{"$f":"IF(ISBLANK(InfoPro!B274),\"\",InfoPro!B274)","v":"SANTA ROSA SOLAR_100MW"},{"$f":"IF(ISBLANK(InfoPro!E274),\"\",InfoPro!E274)","v":100},{"$f":"IF(ISBLANK(InfoPro!F274),\"\",InfoPro!F274)","v":"Solar FV"},{"$f":"IF(ISBLANK(InfoPro!I274),\"\",YEAR(InfoPro!I274)-$G$3)","v":3},{"$f":"IF(B281=\"\",\"\",VLOOKUP(D281,Tablas!$B$2:$E$13,2,FALSE))","v":0.26},{"$f":"IF(B281=\"\",\"\",VLOOKUP(D281,Tablas!$B$2:$H$13,7,FALSE))","v":83577.200000000012},227760,17680759604.137424,15814632919.622025,14145467727.747787,12652475606.214479,11317062259.583612,10122595938.804665,9054200303.0453167,8098569144.0476894,7243800665.5167198,6479249253.5927715,5795392892.3012276,5183714572.7202396,4636596218.8910923,4147223809.3838015,3709502512.8656549,136081243428.47452,1360812.4342847452]
[{"$f":"IF(ISBLANK(InfoPro!A275),\"\",InfoPro!A275)","v":"SC_951_A2"},{"$f":"IF(ISBLANK(InfoPro!B275),\"\",InfoPro!B275)","v":"SANTA ROSA SOLAR_100MW"},{"$f":"IF(ISBLANK(InfoPro!E275),\"\",InfoPro!E275)","v":100},{"$f":"IF(ISBLANK(InfoPro!F275),\"\",InfoPro!F275)","v":"Solar FV"},{"$f":"IF(ISBLANK(InfoPro!I275),\"\",YEAR(InfoPro!I275)-$G$3)","v":3},{"$f":"IF(B282=\"\",\"\",VLOOKUP(D282,Tablas!$B$2:$E$13,2,FALSE))","v":0.26},{"$f":"IF(B282=\"\",\"\",VLOOKUP(D282,Tablas!$B$2:$H$13,7,FALSE))","v":83577.200000000012},227760,17680759604.137424,15814632919.622025,14145467727.747787,12652475606.214479,11317062259.583612,10122595938.804665,9054200303.0453167,8098569144.0476894,7243800665.5167198,6479249253.5927715,5795392892.3012276,5183714572.7202396,4636596218.8910923,4147223809.3838015,3709502512.8656549,136081243428.47452,1360812.4342847452]
[{"$f":"IF(ISBLANK(InfoPro!A276),\"\",InfoPro!A276)","v":"SC_963_A1"},{"$f":"IF(ISBLANK(InfoPro!B276),\"\",InfoPro!B276)","v":"Churuco Solar"},{"$f":"IF(ISBLANK(InfoPro!E276),\"\",InfoPro!E276)","v":60},{"$f":"IF(ISBLANK(InfoPro!F276),\"\",InfoPro!F276)","v":"Solar FV"},{"$f":"IF(ISBLANK(InfoPro!I276),\"\",YEAR(InfoPro!I276)-$G$3)","v":3},{"$f":"IF(B283=\"\",\"\",VLOOKUP(D283,Tablas!$B$2:$E$13,2,FALSE))","v":0.26},{"$f":"IF(B283=\"\",\"\",VLOOKUP(D283,Tablas!$B$2:$H$13,7,FALSE))","v":83577.200000000012},136656,{"$f":"IF($H283=\"\",\"\",(1/(1+$C$3)^(I$6+$E283))*$H283*($C$2 - $G283))","v":10608455762.482454},9488779751.7732162,8487280636.6486731,7591485363.7286873,6790237355.7501688,6073557563.2827988,5432520181.8271904,4859141486.4286137,4346280399.3100319,3887549552.1556635,3477235735.3807364,3110228743.632144,2781957731.3346548,2488334285.6302814,2225701507.7193933,81648746057.084686,1360812.4342847448]
[{"$f":"IF(ISBLANK(InfoPro!A277),\"\",InfoPro!A277)","v":"SC_984_A1"},{"$f":"IF(ISBLANK(InfoPro!B277),\"\",InfoPro!B277)","v":"Eupari"},{"$f":"IF(ISBLANK(InfoPro!E277),\"\",InfoPro!E277)","v":99},{"$f":"IF(ISBLANK(InfoPro!F277),\"\",InfoPro!F277)","v":"Eólico Onshore"},{"$f":"IF(ISBLANK(InfoPro!I277),\"\",YEAR(InfoPro!I277)-$G$3)","v":3},{"$f":"IF(B284=\"\",\"\",VLOOKUP(D284,Tablas!$B$2:$E$13,2,FALSE))","v":0.56999999999999995},{"$f":"IF(B284=\"\",\"\",VLOOKUP(D284,Tablas!$B$2:$H$13,7,FALSE))","v":83577.200000000012},{"$f":"IF(C284=\"\",\"\",+C284*F284*24*365)","v":494326.79999999987},38374048633.133636,34323835986.702721,30701105533.723366,27460738402.257034,24562377819.550121,21969926493.336426,19651097042.340275,17577009876.869652,15721833521.350319,14062462899.24,12578231573.559929,11250654359.17704,10063197101.231701,9001070752.4433804,8051047184.6541872,{"$f":"IF(W284=\"\",\"\",SUM(I284:W284))","v":295348637179.56976},{"$f":"IF(C284=0,0,IF(X284=\"\",\"\",X284/(C284*1000)))","v":2983319.5674704015}]
[{"$f":"IF(ISBLANK(InfoPro!A278),\"\",InfoPro!A278)","v":"SC_984_A2"},{"$f":"IF(ISBLANK(InfoPro!B278),\"\",InfoPro!B278)","v":"Eupari"},{"$f":"IF(ISBLANK(InfoPro!E278),\"\",InfoPro!E278)","v":99},{"$f":"IF(ISBLANK(InfoPro!F278),\"\",InfoPro!F278)","v":"Eólico Onshore"},{"$f":"IF(ISBLANK(InfoPro!I278),\"\",YEAR(InfoPro!I278)-$G$3)","v":3},{"$f":"IF(B285=\"\",\"\",VLOOKUP(D285,Tablas!$B$2:$E$13,2,FALSE))","v":0.56999999999999995},{"$f":"IF(B285=\"\",\"\",VLOOKUP(D285,Tablas!$B$2:$H$13,7,FALSE))","v":83577.200000000012},494326.79999999987,38374048633.133636,34323835986.702721,30701105533.723366,27460738402.257034,24562377819.550121,21969926493.336426,19651097042.340275,17577009876.869652,15721833521.350319,14062462899.24,12578231573.559929,11250654359.17704,10063197101.231701,9001070752.4433804,8051047184.6541872,295348637179.56976,2983319.5674704015]
[{"$f":"IF(ISBLANK(InfoPro!A279),\"\",InfoPro!A279)","v":""},{"$f":"IF(ISBLANK(InfoPro!B279),\"\",InfoPro!B279)","v":""},{"$f":"IF(ISBLANK(InfoPro!E279),\"\",InfoPro!E279)","v":""},{"$f":"IF(ISBLANK(InfoPro!F279),\"\",InfoPro!F279)","v":""},{"$f":"IF(ISBLANK(InfoPro!I279),\"\",YEAR(InfoPro!I279)-$G$3)","v":""},{"$f":"IF(B286=\"\",\"\",VLOOKUP(D286,Tablas!$B$2:$E$13,2,FALSE))","v":""},{"$f":"IF(B286=\"\",\"\",VLOOKUP(D286,Tablas!$B$2:$H$13,7,FALSE))","v":""},"","","","","","","","","","","","","","","","","",""]

{"sheet":"EC-Mar2","index":9,"n_rows":118,"n_cols":8,"rows_kept":118,"cut":false,"hidden":true,"merged":[]}
[]
[null,"Precio promedio de bolsa",162532,"$/MWh"]
[null,"Tasa de descuento",0.11799999999999999]
[null,"Costo emisiones Ton",80.2,"USD/Ton"]
[null,"TRM",3600]
[]
["Codigo","Nombre","capacidad","Tipo","Costos de conexión/activos de uso - SIN","VPN","Beneficio - Costo","(Beneficio - Costo)/kW"]
[{"$f":"IF(ISBLANK(InfoPro!A2),\"\",InfoPro!A2)","v":"\tSC_1373_A1"},{"$f":"IF(ISBLANK(InfoPro!B2),\"\",InfoPro!B2)","v":"Pétalo del Magdalena II Guacamayal"},{"$f":"IF(ISBLANK(InfoPro!E2),\"\",InfoPro!E2)","v":9.9},{"$f":"IF(ISBLANK(InfoPro!F2),\"\",InfoPro!F2)","v":"Solar FV"},{"$f":"IF(ISBLANK(InfoPro!#REF!),\"\",InfoPro!#REF!)","v":{"$error":"#REF!"}},{"$f":"IF(ISBLANK(InfoPro!O2),\"\",InfoPro!O2)","v":0},{"$f":"IF(F8=\"\",\"\",F8-E8)","v":{"$error":"#REF!"}},{"$f":"IF(G8=\"\",\"\",G8/(C8*1000))","v":{"$error":"#REF!"}}]
[{"$f":"IF(ISBLANK(InfoPro!#REF!),\"\",InfoPro!#REF!)","v":{"$error":"#REF!"}},{"$f":"IF(ISBLANK(InfoPro!#REF!),\"\",InfoPro!#REF!)","v":{"$error":"#REF!"}},{"$f":"IF(ISBLANK(InfoPro!#REF!),\"\",InfoPro!#REF!)","v":{"$error":"#REF!"}},{"$f":"IF(ISBLANK(InfoPro!#REF!),\"\",InfoPro!#REF!)","v":{"$error":"#REF!"}},{"$f":"IF(ISBLANK(InfoPro!#REF!),\"\",InfoPro!#REF!)","v":{"$error":"#REF!"}},{"$f":"IF(ISBLANK(InfoPro!#REF!),\"\",InfoPro!#REF!)","v":{"$error":"#REF!"}},{"$f":"IF(F9=\"\",\"\",F9-E9)","v":{"$error":"#REF!"}},{"$f":"IF(G9=\"\",\"\",G9/(C9*1000))","v":{"$error":"#REF!"}}]
[{"$f":"IF(ISBLANK(InfoPro!#REF!),\"\",InfoPro!#REF!)","v":{"$error":"#REF!"}},{"$f":"IF(ISBLANK(InfoPro!#REF!),\"\",InfoPro!#REF!)","v":{"$error":"#REF!"}},{"$f":"IF(ISBLANK(InfoPro!#REF!),\"\",InfoPro!#REF!)","v":{"$error":"#REF!"}},{"$f":"IF(ISBLANK(InfoPro!#REF!),\"\",InfoPro!#REF!)","v":{"$error":"#REF!"}},{"$f":"IF(ISBLANK(InfoPro!#REF!),\"\",InfoPro!#REF!)","v":{"$error":"#REF!"}},{"$f":"IF(ISBLANK(InfoPro!#REF!),\"\",InfoPro!#REF!)","v":{"$error":"#REF!"}},{"$error":"#REF!"},{"$error":"#REF!"}]
[{"$f":"IF(ISBLANK(InfoPro!A3),\"\",InfoPro!A3)","v":"\tSC_1373_A2"},{"$f":"IF(ISBLANK(InfoPro!B3),\"\",InfoPro!B3)","v":"Pétalo del Magdalena II Guacamayal"},{"$f":"IF(ISBLANK(InfoPro!E3),\"\",InfoPro!E3)","v":9.9},{"$f":"IF(ISBLANK(InfoPro!F3),\"\",InfoPro!F3)","v":"Solar FV"},{"$f":"IF(ISBLANK(InfoPro!#REF!),\"\",InfoPro!#REF!)","v":{"$error":"#REF!"}},{"$f":"IF(ISBLANK(InfoPro!O3),\"\",InfoPro!O3)","v":0},{"$error":"#REF!"},{"$error":"#REF!"}]
[{"$f":"IF(ISBLANK(InfoPro!A4),\"\",InfoPro!A4)","v":"SC_1012_A1"},{"$f":"IF(ISBLANK(InfoPro!B4),\"\",InfoPro!B4)","v":"PARQUE SOLAR FOTOVOLTAICO TUNA"},{"$f":"IF(ISBLANK(InfoPro!E4),\"\",InfoPro!E4)","v":100},{"$f":"IF(ISBLANK(InfoPro!F4),\"\",InfoPro!F4)","v":"Solar FV"},{"$f":"IF(ISBLANK(InfoPro!#REF!),\"\",InfoPro!#REF!)","v":{"$error":"#REF!"}},{"$f":"IF(ISBLANK(InfoPro!O4),\"\",InfoPro!O4)","v":0},{"$error":"#REF!"},{"$error":"#REF!"}]
[{"$f":"IF(ISBLANK(InfoPro!A5),\"\",InfoPro!A5)","v":"SC_1012_A2"},{"$f":"IF(ISBLANK(InfoPro!B5),\"\",InfoPro!B5)","v":"PARQUE SOLAR FOTOVOLTAICO TUNA"},{"$f":"IF(ISBLANK(InfoPro!E5),\"\",InfoPro!E5)","v":100},{"$f":"IF(ISBLANK(InfoPro!F5),\"\",InfoPro!F5)","v":"Solar FV"},{"$f":"IF(ISBLANK(InfoPro!#REF!),\"\",InfoPro!#REF!)","v":{"$error":"#REF!"}},{"$f":"IF(ISBLANK(InfoPro!O5),\"\",InfoPro!O5)","v":0},{"$error":"#REF!"},{"$error":"#REF!"}]
[{"$f":"IF(ISBLANK(InfoPro!A6),\"\",InfoPro!A6)","v":"SC_1077_A1"},{"$f":"IF(ISBLANK(InfoPro!B6),\"\",InfoPro!B6)","v":"Nevada I 90 MW"},{"$f":"IF(ISBLANK(InfoPro!E6),\"\",InfoPro!E6)","v":90},{"$f":"IF(ISBLANK(InfoPro!F6),\"\",InfoPro!F6)","v":"Eólico Onshore"},{"$f":"IF(ISBLANK(InfoPro!#REF!),\"\",InfoPro!#REF!)","v":{"$error":"#REF!"}},{"$f":"IF(ISBLANK(InfoPro!O6),\"\",InfoPro!O6)","v":0},{"$error":"#REF!"},{"$error":"#REF!"}]
[{"$f":"IF(ISBLANK(InfoPro!A7),\"\",InfoPro!A7)","v":"SC_1077_A2"},{"$f":"IF(ISBLANK(InfoPro!B7),\"\",InfoPro!B7)","v":"Nevada I 90 MW"},{"$f":"IF(ISBLANK(InfoPro!E7),\"\",InfoPro!E7)","v":90},{"$f":"IF(ISBLANK(InfoPro!F7),\"\",InfoPro!F7)","v":"Eólico Onshore"},{"$f":"IF(ISBLANK(InfoPro!#REF!),\"\",InfoPro!#REF!)","v":{"$error":"#REF!"}},{"$f":"IF(ISBLANK(InfoPro!O7),\"\",InfoPro!O7)","v":0},{"$error":"#REF!"},{"$error":"#REF!"}]
[{"$f":"IF(ISBLANK(InfoPro!A8),\"\",InfoPro!A8)","v":"SC_1135_A1"},{"$f":"IF(ISBLANK(InfoPro!B8),\"\",InfoPro!B8)","v":"Parque Eólico Brisas 1"},{"$f":"IF(ISBLANK(InfoPro!E8),\"\",InfoPro!E8)","v":200},{"$f":"IF(ISBLANK(InfoPro!F8),\"\",InfoPro!F8)","v":"Eólico Onshore"},{"$f":"IF(ISBLANK(InfoPro!#REF!),\"\",InfoPro!#REF!)","v":{"$error":"#REF!"}},{"$f":"IF(ISBLANK(InfoPro!O8),\"\",InfoPro!O8)","v":0},{"$error":"#REF!"},{"$error":"#REF!"}]
[{"$f":"IF(ISBLANK(InfoPro!A9),\"\",InfoPro!A9)","v":"SC_1135_A2"},{"$f":"IF(ISBLANK(InfoPro!B9),\"\",InfoPro!B9)","v":"Parque Eólico Brisas 1"},{"$f":"IF(ISBLANK(InfoPro!E9),\"\",InfoPro!E9)","v":200},{"$f":"IF(ISBLANK(InfoPro!F9),\"\",InfoPro!F9)","v":"Eólico Onshore"},{"$f":"IF(ISBLANK(InfoPro!#REF!),\"\",InfoPro!#REF!)","v":{"$error":"#REF!"}},{"$f":"IF(ISBLANK(InfoPro!O9),\"\",InfoPro!O9)","v":0},{"$error":"#REF!"},{"$error":"#REF!"}]
[{"$f":"IF(ISBLANK(InfoPro!A10),\"\",InfoPro!A10)","v":"SC_1154_A1"},{"$f":"IF(ISBLANK(InfoPro!B10),\"\",InfoPro!B10)","v":"Parque Eólico Brisas 2"},{"$f":"IF(ISBLANK(InfoPro!E10),\"\",InfoPro!E10)","v":200},{"$f":"IF(ISBLANK(InfoPro!F10),\"\",InfoPro!F10)","v":"Eólico Onshore"},{"$f":"IF(ISBLANK(InfoPro!#REF!),\"\",InfoPro!#REF!)","v":{"$error":"#REF!"}},{"$f":"IF(ISBLANK(InfoPro!O10),\"\",InfoPro!O10)","v":0},{"$error":"#REF!"},{"$error":"#REF!"}]
[{"$f":"IF(ISBLANK(InfoPro!A11),\"\",InfoPro!A11)","v":"SC_1154_A2"},{"$f":"IF(ISBLANK(InfoPro!B11),\"\",InfoPro!B11)","v":"Parque Eólico Brisas 2"},{"$f":"IF(ISBLANK(InfoPro!E11),\"\",InfoPro!E11)","v":200},{"$f":"IF(ISBLANK(InfoPro!F11),\"\",InfoPro!F11)","v":"Eólico Onshore"},{"$f":"IF(ISBLANK(InfoPro!#REF!),\"\",InfoPro!#REF!)","v":{"$error":"#REF!"}},{"$f":"IF(ISBLANK(InfoPro!O11),\"\",InfoPro!O11)","v":0},{"$error":"#REF!"},{"$error":"#REF!"}]
[{"$f":"IF(ISBLANK(InfoPro!A12),\"\",InfoPro!A12)","v":"SC_1161_A1"},{"$f":"IF(ISBLANK(InfoPro!B12),\"\",InfoPro!B12)","v":"Parque Eólico Brisas 3"},{"$f":"IF(ISBLANK(InfoPro!E12),\"\",InfoPro!E12)","v":200},{"$f":"IF(ISBLANK(InfoPro!F12),\"\",InfoPro!F12)","v":"Eólico Onshore"},{"$f":"IF(ISBLANK(InfoPro!#REF!),\"\",InfoPro!#REF!)","v":{"$error":"#REF!"}},{"$f":"IF(ISBLANK(InfoPro!O12),\"\",InfoPro!O12)","v":0},{"$error":"#REF!"},{"$error":"#REF!"}]
[{"$f":"IF(ISBLANK(InfoPro!A13),\"\",InfoPro!A13)","v":"SC_1161_A2"},{"$f":"IF(ISBLANK(InfoPro!B13),\"\",InfoPro!B13)","v":"Parque Eólico Brisas 3"},{"$f":"IF(ISBLANK(InfoPro!E13),\"\",InfoPro!E13)","v":200},{"$f":"IF(ISBLANK(InfoPro!F13),\"\",InfoPro!F13)","v":"Eólico Onshore"},{"$f":"IF(ISBLANK(InfoPro!#REF!),\"\",InfoPro!#REF!)","v":{"$error":"#REF!"}},{"$f":"IF(ISBLANK(InfoPro!O13),\"\",InfoPro!O13)","v":0},{"$error":"#REF!"},{"$error":"#REF!"}]
[{"$f":"IF(ISBLANK(InfoPro!#REF!),\"\",InfoPro!#REF!)","v":{"$error":"#REF!"}},{"$f":"IF(ISBLANK(InfoPro!#REF!),\"\",InfoPro!#REF!)","v":{"$error":"#REF!"}},{"$f":"IF(ISBLANK(InfoPro!#REF!),\"\",InfoPro!#REF!)","v":{"$error":"#REF!"}},{"$f":"IF(ISBLANK(InfoPro!#REF!),\"\",InfoPro!#REF!)","v":{"$error":"#REF!"}},{"$f":"IF(ISBLANK(InfoPro!#REF!),\"\",InfoPro!#REF!)","v":{"$error":"#REF!"}},{"$f":"IF(ISBLANK(InfoPro!#REF!),\"\",InfoPro!#REF!)","v":{"$error":"#REF!"}},{"$error":"#REF!"},{"$error":"#REF!"}]
[{"$f":"IF(ISBLANK(InfoPro!A14),\"\",InfoPro!A14)","v":"SC_1211_A1"},{"$f":"IF(ISBLANK(InfoPro!B14),\"\",InfoPro!B14)","v":"Planta Solar FV Caracolicitos 69MW"},{"$f":"IF(ISBLANK(InfoPro!E14),\"\",InfoPro!E14)","v":69},{"$f":"IF(ISBLANK(InfoPro!F14),\"\",InfoPro!F14)","v":"Solar FV"},{"$f":"IF(ISBLANK(InfoPro!O14),\"\",InfoPro!O14)","v":0},{"$f":"IF(ISBLANK(InfoPro!#REF!),\"\",InfoPro!#REF!)","v":{"$error":"#REF!"}},{"$error":"#REF!"},{"$error":"#REF!"}]
[{"$f":"IF(ISBLANK(InfoPro!A15),\"\",InfoPro!A15)","v":"SC_1211_A2"},{"$f":"IF(ISBLANK(InfoPro!B15),\"\",InfoPro!B15)","v":"Planta Solar FV Caracolicitos 69MW"},{"$f":"IF(ISBLANK(InfoPro!E15),\"\",InfoPro!E15)","v":69},{"$f":"IF(ISBLANK(InfoPro!F15),\"\",InfoPro!F15)","v":"Solar FV"},{"$f":"IF(ISBLANK(InfoPro!O15),\"\",InfoPro!O15)","v":0},{"$f":"IF(ISBLANK(InfoPro!#REF!),\"\",InfoPro!#REF!)","v":{"$error":"#REF!"}},{"$error":"#REF!"},{"$error":"#REF!"}]
[{"$f":"IF(ISBLANK(InfoPro!A16),\"\",InfoPro!A16)","v":"SC_1218_A1"},{"$f":"IF(ISBLANK(InfoPro!B16),\"\",InfoPro!B16)","v":"Las Flores 150 MW"},{"$f":"IF(ISBLANK(InfoPro!E16),\"\",InfoPro!E16)","v":150},{"$f":"IF(ISBLANK(InfoPro!F16),\"\",InfoPro!F16)","v":"Solar FV"},{"$f":"IF(ISBLANK(InfoPro!O16),\"\",InfoPro!O16)","v":34545310000},{"$f":"IF(ISBLANK(InfoPro!#REF!),\"\",InfoPro!#REF!)","v":{"$error":"#REF!"}},{"$error":"#REF!"},{"$error":"#REF!"}]
[{"$f":"IF(ISBLANK(InfoPro!A17),\"\",InfoPro!A17)","v":"SC_1223_A1"},{"$f":"IF(ISBLANK(InfoPro!B17),\"\",InfoPro!B17)","v":"Parque Eolico Sirius"},{"$f":"IF(ISBLANK(InfoPro!E17),\"\",InfoPro!E17)","v":100},{"$f":"IF(ISBLANK(InfoPro!F17),\"\",InfoPro!F17)","v":"Eólico Onshore"},{"$f":"IF(ISBLANK(InfoPro!O17),\"\",InfoPro!O17)","v":0},{"$f":"IF(ISBLANK(InfoPro!#REF!),\"\",InfoPro!#REF!)","v":{"$error":"#REF!"}},{"$error":"#REF!"},{"$error":"#REF!"}]
[{"$f":"IF(ISBLANK(InfoPro!A18),\"\",InfoPro!A18)","v":"SC_1232_A1"},{"$f":"IF(ISBLANK(InfoPro!B18),\"\",InfoPro!B18)","v":"La Paz Solar 9,9 MW"},{"$f":"IF(ISBLANK(InfoPro!E18),\"\",InfoPro!E18)","v":9.9},{"$f":"IF(ISBLANK(InfoPro!F18),\"\",InfoPro!F18)","v":"Solar FV"},{"$f":"IF(ISBLANK(InfoPro!O18),\"\",InfoPro!O18)","v":0},{"$f":"IF(ISBLANK(InfoPro!#REF!),\"\",InfoPro!#REF!)","v":{"$error":"#REF!"}},{"$error":"#REF!"},{"$error":"#REF!"}]
[{"$f":"IF(ISBLANK(InfoPro!A19),\"\",InfoPro!A19)","v":"SC_1232_A2"},{"$f":"IF(ISBLANK(InfoPro!B19),\"\",InfoPro!B19)","v":"La Paz Solar 9,9 MW"},{"$f":"IF(ISBLANK(InfoPro!E19),\"\",InfoPro!E19)","v":9.9},{"$f":"IF(ISBLANK(InfoPro!F19),\"\",InfoPro!F19)","v":"Solar FV"},{"$f":"IF(ISBLANK(InfoPro!O19),\"\",InfoPro!O19)","v":0},{"$f":"IF(ISBLANK(InfoPro!#REF!),\"\",InfoPro!#REF!)","v":{"$error":"#REF!"}},{"$error":"#REF!"},{"$error":"#REF!"}]
[{"$f":"IF(ISBLANK(InfoPro!A20),\"\",InfoPro!A20)","v":"SC_1239_A1"},{"$f":"IF(ISBLANK(InfoPro!B20),\"\",InfoPro!B20)","v":"El Carmen"},{"$f":"IF(ISBLANK(InfoPro!E20),\"\",InfoPro!E20)","v":104.5},{"$f":"IF(ISBLANK(InfoPro!F20),\"\",InfoPro!F20)","v":"Eólico Onshore"},{"$f":"IF(ISBLANK(InfoPro!O20),\"\",InfoPro!O20)","v":42787000000},{"$f":"IF(ISBLANK(InfoPro!#REF!),\"\",InfoPro!#REF!)","v":{"$error":"#REF!"}},{"$error":"#REF!"},{"$error":"#REF!"}]
[{"$f":"IF(ISBLANK(InfoPro!A21),\"\",InfoPro!A21)","v":"SC_1239_A2"},{"$f":"IF(ISBLANK(InfoPro!B21),\"\",InfoPro!B21)","v":"El Carmen"},{"$f":"IF(ISBLANK(InfoPro!E21),\"\",InfoPro!E21)","v":104.5},{"$f":"IF(ISBLANK(InfoPro!F21),\"\",InfoPro!F21)","v":"Eólico Onshore"},{"$f":"IF(ISBLANK(InfoPro!O21),\"\",InfoPro!O21)","v":123083000000},{"$f":"IF(ISBLANK(InfoPro!#REF!),\"\",InfoPro!#REF!)","v":{"$error":"#REF!"}},{"$error":"#REF!"},{"$error":"#REF!"}]
[{"$f":"IF(ISBLANK(InfoPro!A22),\"\",InfoPro!A22)","v":"SC_1244_A1"},{"$f":"IF(ISBLANK(InfoPro!B22),\"\",InfoPro!B22)","v":"Proyecto Maria"},{"$f":"IF(ISBLANK(InfoPro!E22),\"\",InfoPro!E22)","v":120},{"$f":"IF(ISBLANK(InfoPro!F22),\"\",InfoPro!F22)","v":"Eólico Onshore"},{"$f":"IF(ISBLANK(InfoPro!O22),\"\",InfoPro!O22)","v":0},{"$f":"IF(ISBLANK(InfoPro!#REF!),\"\",InfoPro!#REF!)","v":{"$error":"#REF!"}},{"$error":"#REF!"},{"$error":"#REF!"}]
[{"$f":"IF(ISBLANK(InfoPro!A23),\"\",InfoPro!A23)","v":"SC_1252_A1"},{"$f":"IF(ISBLANK(InfoPro!B23),\"\",InfoPro!B23)","v":"Parque Eólico Neptuno"},{"$f":"IF(ISBLANK(InfoPro!E23),\"\",InfoPro!E23)","v":150},{"$f":"IF(ISBLANK(InfoPro!F23),\"\",InfoPro!F23)","v":"Eólico Onshore"},{"$f":"IF(ISBLANK(InfoPro!O23),\"\",InfoPro!O23)","v":40503820000},{"$f":"IF(ISBLANK(InfoPro!#REF!),\"\",InfoPro!#REF!)","v":{"$error":"#REF!"}},{"$error":"#REF!"},{"$error":"#REF!"}]
[{"$f":"IF(ISBLANK(InfoPro!A24),\"\",InfoPro!A24)","v":"SC_1262_A1"},{"$f":"IF(ISBLANK(InfoPro!B24),\"\",InfoPro!B24)","v":"Parque Solar Australe de 251 MW (entrega 200 MW)"},{"$f":"IF(ISBLANK(InfoPro!E24),\"\",InfoPro!E24)","v":200},{"$f":"IF(ISBLANK(InfoPro!F24),\"\",InfoPro!F24)","v":"Solar FV"},{"$f":"IF(ISBLANK(InfoPro!O24),\"\",InfoPro!O24)","v":0},{"$f":"IF(ISBLANK(InfoPro!#REF!),\"\",InfoPro!#REF!)","v":{"$error":"#REF!"}},{"$error":"#REF!"},{"$error":"#REF!"}]
[{"$f":"IF(ISBLANK(InfoPro!A25),\"\",InfoPro!A25)","v":"SC_1262_A2"},{"$f":"IF(ISBLANK(InfoPro!B25),\"\",InfoPro!B25)","v":"Parque Solar Australe de 251 MW (entrega 200 MW)"},{"$f":"IF(ISBLANK(InfoPro!E25),\"\",InfoPro!E25)","v":200},{"$f":"IF(ISBLANK(InfoPro!F25),\"\",InfoPro!F25)","v":"Solar FV"},{"$f":"IF(ISBLANK(InfoPro!O25),\"\",InfoPro!O25)","v":0},{"$f":"IF(ISBLANK(InfoPro!#REF!),\"\",InfoPro!#REF!)","v":{"$error":"#REF!"}},{"$error":"#REF!"},{"$error":"#REF!"}]
[{"$f":"IF(ISBLANK(InfoPro!A26),\"\",InfoPro!A26)","v":"SC_1264_A1"},{"$f":"IF(ISBLANK(InfoPro!B26),\"\",InfoPro!B26)","v":"Parque Solar Galus de 133 MW (entrega 110 MW)"},{"$f":"IF(ISBLANK(InfoPro!E26),\"\",InfoPro!E26)","v":110},{"$f":"IF(ISBLANK(InfoPro!F26),\"\",InfoPro!F26)","v":"Solar FV"},{"$f":"IF(ISBLANK(InfoPro!O26),\"\",InfoPro!O26)","v":0},{"$f":"IF(ISBLANK(InfoPro!#REF!),\"\",InfoPro!#REF!)","v":{"$error":"#REF!"}},{"$error":"#REF!"},{"$error":"#REF!"}]
[{"$f":"IF(ISBLANK(InfoPro!A27),\"\",InfoPro!A27)","v":"SC_1264_A2"},{"$f":"IF(ISBLANK(InfoPro!B27),\"\",InfoPro!B27)","v":"Parque Solar Galus de 133 MW (entrega 110 MW)"},{"$f":"IF(ISBLANK(InfoPro!E27),\"\",InfoPro!E27)","v":110},{"$f":"IF(ISBLANK(InfoPro!F27),\"\",InfoPro!F27)","v":"Solar FV"},{"$f":"IF(ISBLANK(InfoPro!O27),\"\",InfoPro!O27)","v":0},{"$f":"IF(ISBLANK(InfoPro!#REF!),\"\",InfoPro!#REF!)","v":{"$error":"#REF!"}},{"$error":"#REF!"},{"$error":"#REF!"}]
[{"$f":"IF(ISBLANK(InfoPro!A28),\"\",InfoPro!A28)","v":"SC_1266_A1"},{"$f":"IF(ISBLANK(InfoPro!B28),\"\",InfoPro!B28)","v":"Parque Solar Fornax DE 127 MW (Entrega 105 MW)"},{"$f":"IF(ISBLANK(InfoPro!E28),\"\",InfoPro!E28)","v":105},{"$f":"IF(ISBLANK(InfoPro!F28),\"\",InfoPro!F28)","v":"Solar FV"},{"$f":"IF(ISBLANK(InfoPro!O28),\"\",InfoPro!O28)","v":0},{"$f":"IF(ISBLANK(InfoPro!#REF!),\"\",InfoPro!#REF!)","v":{"$error":"#REF!"}},{"$error":"#REF!"},{"$error":"#REF!"}]
[{"$f":"IF(ISBLANK(InfoPro!A29),\"\",InfoPro!A29)","v":"SC_1266_A2"},{"$f":"IF(ISBLANK(InfoPro!B29),\"\",InfoPro!B29)","v":"Parque Solar Fornax DE 127 MW (Entrega 105 MW)"},{"$f":"IF(ISBLANK(InfoPro!E29),\"\",InfoPro!E29)","v":105},{"$f":"IF(ISBLANK(InfoPro!F29),\"\",InfoPro!F29)","v":"Solar FV"},{"$f":"IF(ISBLANK(InfoPro!O29),\"\",InfoPro!O29)","v":0},{"$f":"IF(ISBLANK(InfoPro!#REF!),\"\",InfoPro!#REF!)","v":{"$error":"#REF!"}},{"$error":"#REF!"},{"$error":"#REF!"}]
[{"$f":"IF(ISBLANK(InfoPro!A30),\"\",InfoPro!A30)","v":"SC_1272_A1"},{"$f":"IF(ISBLANK(InfoPro!B30),\"\",InfoPro!B30)","v":"Guacamayal Solar de 9,9 MW"},{"$f":"IF(ISBLANK(InfoPro!E30),\"\",InfoPro!E30)","v":9.9},{"$f":"IF(ISBLANK(InfoPro!F30),\"\",InfoPro!F30)","v":"Solar FV"},{"$f":"IF(ISBLANK(InfoPro!O30),\"\",InfoPro!O30)","v":0},{"$f":"IF(ISBLANK(InfoPro!#REF!),\"\",InfoPro!#REF!)","v":{"$error":"#REF!"}},{"$error":"#REF!"},{"$error":"#REF!"}]
[{"$f":"IF(ISBLANK(InfoPro!A31),\"\",InfoPro!A31)","v":"SC_1272_A2"},{"$f":"IF(ISBLANK(InfoPro!B31),\"\",InfoPro!B31)","v":"Guacamayal Solar de 9,9 MW"},{"$f":"IF(ISBLANK(InfoPro!E31),\"\",InfoPro!E31)","v":9.9},{"$f":"IF(ISBLANK(InfoPro!F31),\"\",InfoPro!F31)","v":"Solar FV"},{"$f":"IF(ISBLANK(InfoPro!O31),\"\",InfoPro!O31)","v":0},{"$f":"IF(ISBLANK(InfoPro!#REF!),\"\",InfoPro!#REF!)","v":{"$error":"#REF!"}},{"$error":"#REF!"},{"$error":"#REF!"}]
[{"$f":"IF(ISBLANK(InfoPro!A32),\"\",InfoPro!A32)","v":"SC_1293_A1"},{"$f":"IF(ISBLANK(InfoPro!B32),\"\",InfoPro!B32)","v":"Leo Solar II"},{"$f":"IF(ISBLANK(InfoPro!E32),\"\",InfoPro!E32)","v":80},{"$f":"IF(ISBLANK(InfoPro!F32),\"\",InfoPro!F32)","v":"Solar FV"},{"$f":"IF(ISBLANK(InfoPro!O32),\"\",InfoPro!O32)","v":0},{"$f":"IF(ISBLANK(InfoPro!#REF!),\"\",InfoPro!#REF!)","v":{"$error":"#REF!"}},{"$error":"#REF!"},{"$error":"#REF!"}]
[{"$f":"IF(ISBLANK(InfoPro!A33),\"\",InfoPro!A33)","v":"SC_1293_A2"},{"$f":"IF(ISBLANK(InfoPro!B33),\"\",InfoPro!B33)","v":"Leo Solar II"},{"$f":"IF(ISBLANK(InfoPro!E33),\"\",InfoPro!E33)","v":80},{"$f":"IF(ISBLANK(InfoPro!F33),\"\",InfoPro!F33)","v":"Solar FV"},{"$f":"IF(ISBLANK(InfoPro!O33),\"\",InfoPro!O33)","v":0},{"$f":"IF(ISBLANK(InfoPro!#REF!),\"\",InfoPro!#REF!)","v":{"$error":"#REF!"}},{"$error":"#REF!"},{"$error":"#REF!"}]
[{"$f":"IF(ISBLANK(InfoPro!A34),\"\",InfoPro!A34)","v":"SC_1306_A1"},{"$f":"IF(ISBLANK(InfoPro!B34),\"\",InfoPro!B34)","v":"Leo Solar I"},{"$f":"IF(ISBLANK(InfoPro!E34),\"\",InfoPro!E34)","v":19.899999999999999},{"$f":"IF(ISBLANK(InfoPro!F34),\"\",InfoPro!F34)","v":"Solar FV"},{"$f":"IF(ISBLANK(InfoPro!O34),\"\",InfoPro!O34)","v":0},{"$f":"IF(ISBLANK(InfoPro!#REF!),\"\",InfoPro!#REF!)","v":{"$error":"#REF!"}},{"$error":"#REF!"},{"$error":"#REF!"}]
[{"$f":"IF(ISBLANK(InfoPro!A35),\"\",InfoPro!A35)","v":"SC_1306_A2"},{"$f":"IF(ISBLANK(InfoPro!B35),\"\",InfoPro!B35)","v":"Leo Solar I"},{"$f":"IF(ISBLANK(InfoPro!E35),\"\",InfoPro!E35)","v":19.899999999999999},{"$f":"IF(ISBLANK(InfoPro!F35),\"\",InfoPro!F35)","v":"Solar FV"},{"$f":"IF(ISBLANK(InfoPro!O35),\"\",InfoPro!O35)","v":0},{"$f":"IF(ISBLANK(InfoPro!#REF!),\"\",InfoPro!#REF!)","v":{"$error":"#REF!"}},{"$error":"#REF!"},{"$error":"#REF!"}]
[{"$f":"IF(ISBLANK(InfoPro!A36),\"\",InfoPro!A36)","v":"SC_1311_A1"},{"$f":"IF(ISBLANK(InfoPro!B36),\"\",InfoPro!B36)","v":"Elipse de 200 MW"},{"$f":"IF(ISBLANK(InfoPro!E36),\"\",InfoPro!E36)","v":200},{"$f":"IF(ISBLANK(InfoPro!F36),\"\",InfoPro!F36)","v":"Eólico Onshore"},{"$f":"IF(ISBLANK(InfoPro!O36),\"\",InfoPro!O36)","v":0},{"$f":"IF(ISBLANK(InfoPro!#REF!),\"\",InfoPro!#REF!)","v":{"$error":"#REF!"}},{"$error":"#REF!"},{"$error":"#REF!"}]
[{"$f":"IF(ISBLANK(InfoPro!A37),\"\",InfoPro!A37)","v":"SC_1312_A1"},{"$f":"IF(ISBLANK(InfoPro!B37),\"\",InfoPro!B37)","v":"Omega de 300 MW"},{"$f":"IF(ISBLANK(InfoPro!E37),\"\",InfoPro!E37)","v":300},{"$f":"IF(ISBLANK(InfoPro!F37),\"\",InfoPro!F37)","v":"Eólico Onshore"},{"$f":"IF(ISBLANK(InfoPro!O37),\"\",InfoPro!O37)","v":0},{"$f":"IF(ISBLANK(InfoPro!#REF!),\"\",InfoPro!#REF!)","v":{"$error":"#REF!"}},{"$error":"#REF!"},{"$error":"#REF!"}]
[{"$f":"IF(ISBLANK(InfoPro!A38),\"\",InfoPro!A38)","v":"SC_1313_A1"},{"$f":"IF(ISBLANK(InfoPro!B38),\"\",InfoPro!B38)","v":"Kappa de 500 MW"},{"$f":"IF(ISBLANK(InfoPro!E38),\"\",InfoPro!E38)","v":500},{"$f":"IF(ISBLANK(InfoPro!F38),\"\",InfoPro!F38)","v":"Eólico Onshore"},{"$f":"IF(ISBLANK(InfoPro!O38),\"\",InfoPro!O38)","v":0},{"$f":"IF(ISBLANK(InfoPro!#REF!),\"\",InfoPro!#REF!)","v":{"$error":"#REF!"}},{"$error":"#REF!"},{"$error":"#REF!"}]
[{"$f":"IF(ISBLANK(InfoPro!A39),\"\",InfoPro!A39)","v":"SC_1315_A1"},{"$f":"IF(ISBLANK(InfoPro!B39),\"\",InfoPro!B39)","v":"Parque Eólico Cordobita - 50MW"},{"$f":"IF(ISBLANK(InfoPro!E39),\"\",InfoPro!E39)","v":50},{"$f":"IF(ISBLANK(InfoPro!F39),\"\",InfoPro!F39)","v":"Eólico Onshore"},{"$f":"IF(ISBLANK(InfoPro!O39),\"\",InfoPro!O39)","v":0},{"$f":"IF(ISBLANK(InfoPro!#REF!),\"\",InfoPro!#REF!)","v":{"$error":"#REF!"}},{"$error":"#REF!"},{"$error":"#REF!"}]
[{"$f":"IF(ISBLANK(InfoPro!A40),\"\",InfoPro!A40)","v":"SC_1315_A2"},{"$f":"IF(ISBLANK(InfoPro!B40),\"\",InfoPro!B40)","v":"Parque Eólico Cordobita - 50MW"},{"$f":"IF(ISBLANK(InfoPro!E40),\"\",InfoPro!E40)","v":50},{"$f":"IF(ISBLANK(InfoPro!F40),\"\",InfoPro!F40)","v":"Eólico Onshore"},{"$f":"IF(ISBLANK(InfoPro!O40),\"\",InfoPro!O40)","v":0},{"$f":"IF(ISBLANK(InfoPro!#REF!),\"\",InfoPro!#REF!)","v":{"$error":"#REF!"}},{"$error":"#REF!"},{"$error":"#REF!"}]
[{"$f":"IF(ISBLANK(InfoPro!A41),\"\",InfoPro!A41)","v":"SC_1317_A1"},{"$f":"IF(ISBLANK(InfoPro!B41),\"\",InfoPro!B41)","v":"EÓLICA BONDA - 70MW"},{"$f":"IF(ISBLANK(InfoPro!E41),\"\",InfoPro!E41)","v":70},{"$f":"IF(ISBLANK(InfoPro!F41),\"\",InfoPro!F41)","v":"Eólico Onshore"},{"$f":"IF(ISBLANK(InfoPro!O41),\"\",InfoPro!O41)","v":0},{"$f":"IF(ISBLANK(InfoPro!#REF!),\"\",InfoPro!#REF!)","v":{"$error":"#REF!"}},{"$error":"#REF!"},{"$error":"#REF!"}]
[{"$f":"IF(ISBLANK(InfoPro!A42),\"\",InfoPro!A42)","v":"SC_1321_A1"},{"$f":"IF(ISBLANK(InfoPro!B42),\"\",InfoPro!B42)","v":"OWF ASTROLABIO - 600 MW"},{"$f":"IF(ISBLANK(InfoPro!E42),\"\",InfoPro!E42)","v":600},{"$f":"IF(ISBLANK(InfoPro!F42),\"\",InfoPro!F42)","v":"Eólico Offshore"},{"$f":"IF(ISBLANK(InfoPro!O42),\"\",InfoPro!O42)","v":0},{"$f":"IF(ISBLANK(InfoPro!#REF!),\"\",InfoPro!#REF!)","v":{"$error":"#REF!"}},{"$error":"#REF!"},{"$error":"#REF!"}]
[{"$f":"IF(ISBLANK(InfoPro!A43),\"\",InfoPro!A43)","v":"SC_1321_A2"},{"$f":"IF(ISBLANK(InfoPro!B43),\"\",InfoPro!B43)","v":"OWF ASTROLABIO - 600 MW"},{"$f":"IF(ISBLANK(InfoPro!E43),\"\",InfoPro!E43)","v":825},{"$f":"IF(ISBLANK(InfoPro!F43),\"\",InfoPro!F43)","v":"Eólico Offshore"},{"$f":"IF(ISBLANK(InfoPro!O43),\"\",InfoPro!O43)","v":0},{"$f":"IF(ISBLANK(InfoPro!#REF!),\"\",InfoPro!#REF!)","v":{"$error":"#REF!"}},{"$error":"#REF!"},{"$error":"#REF!"}]
[{"$f":"IF(ISBLANK(InfoPro!A44),\"\",InfoPro!A44)","v":"SC_1336_A1"},{"$f":"IF(ISBLANK(InfoPro!B44),\"\",InfoPro!B44)","v":"AES Solar 4"},{"$f":"IF(ISBLANK(InfoPro!E44),\"\",InfoPro!E44)","v":300},{"$f":"IF(ISBLANK(InfoPro!F44),\"\",InfoPro!F44)","v":"Solar FV"},{"$f":"IF(ISBLANK(InfoPro!O44),\"\",InfoPro!O44)","v":0},{"$f":"IF(ISBLANK(InfoPro!#REF!),\"\",InfoPro!#REF!)","v":{"$error":"#REF!"}},{"$error":"#REF!"},{"$error":"#REF!"}]
[{"$f":"IF(ISBLANK(InfoPro!A45),\"\",InfoPro!A45)","v":"SC_1336_A2"},{"$f":"IF(ISBLANK(InfoPro!B45),\"\",InfoPro!B45)","v":"AES Solar 4"},{"$f":"IF(ISBLANK(InfoPro!E45),\"\",InfoPro!E45)","v":300},{"$f":"IF(ISBLANK(InfoPro!F45),\"\",InfoPro!F45)","v":"Solar FV"},{"$f":"IF(ISBLANK(InfoPro!O45),\"\",InfoPro!O45)","v":0},{"$f":"IF(ISBLANK(InfoPro!#REF!),\"\",InfoPro!#REF!)","v":{"$error":"#REF!"}},{"$error":"#REF!"},{"$error":"#REF!"}]
[{"$f":"IF(ISBLANK(InfoPro!A46),\"\",InfoPro!A46)","v":"SC_1345_A1"},{"$f":"IF(ISBLANK(InfoPro!B46),\"\",InfoPro!B46)","v":"Parque Eólico Jouttalein_150MW"},{"$f":"IF(ISBLANK(InfoPro!E46),\"\",InfoPro!E46)","v":150},{"$f":"IF(ISBLANK(InfoPro!F46),\"\",InfoPro!F46)","v":"Eólico Onshore"},{"$f":"IF(ISBLANK(InfoPro!O46),\"\",InfoPro!O46)","v":0},{"$f":"IF(ISBLANK(InfoPro!#REF!),\"\",InfoPro!#REF!)","v":{"$error":"#REF!"}},{"$error":"#REF!"},{"$error":"#REF!"}]
[{"$f":"IF(ISBLANK(InfoPro!A47),\"\",InfoPro!A47)","v":"SC_1345_A2"},{"$f":"IF(ISBLANK(InfoPro!B47),\"\",InfoPro!B47)","v":"Parque Eólico Jouttalein_150MW"},{"$f":"IF(ISBLANK(InfoPro!E47),\"\",InfoPro!E47)","v":150},{"$f":"IF(ISBLANK(InfoPro!F47),\"\",InfoPro!F47)","v":"Eólico Onshore"},{"$f":"IF(ISBLANK(InfoPro!O47),\"\",InfoPro!O47)","v":0},{"$f":"IF(ISBLANK(InfoPro!#REF!),\"\",InfoPro!#REF!)","v":{"$error":"#REF!"}},{"$error":"#REF!"},{"$error":"#REF!"}]
[{"$f":"IF(ISBLANK(InfoPro!A48),\"\",InfoPro!A48)","v":"SC_1347_A1"},{"$f":"IF(ISBLANK(InfoPro!B48),\"\",InfoPro!B48)","v":"AES Solar 5_100MW"},{"$f":"IF(ISBLANK(InfoPro!E48),\"\",InfoPro!E48)","v":100},{"$f":"IF(ISBLANK(InfoPro!F48),\"\",InfoPro!F48)","v":"Solar FV"},{"$f":"IF(ISBLANK(InfoPro!O48),\"\",InfoPro!O48)","v":0},{"$f":"IF(ISBLANK(InfoPro!#REF!),\"\",InfoPro!#REF!)","v":{"$error":"#REF!"}},{"$error":"#REF!"},{"$error":"#REF!"}]
[{"$f":"IF(ISBLANK(InfoPro!A49),\"\",InfoPro!A49)","v":"SC_1347_A2"},{"$f":"IF(ISBLANK(InfoPro!B49),\"\",InfoPro!B49)","v":"AES Solar 5_100MW"},{"$f":"IF(ISBLANK(InfoPro!E49),\"\",InfoPro!E49)","v":100},{"$f":"IF(ISBLANK(InfoPro!F49),\"\",InfoPro!F49)","v":"Solar FV"},{"$f":"IF(ISBLANK(InfoPro!O49),\"\",InfoPro!O49)","v":0},{"$f":"IF(ISBLANK(InfoPro!#REF!),\"\",InfoPro!#REF!)","v":{"$error":"#REF!"}},{"$error":"#REF!"},{"$error":"#REF!"}]
[{"$f":"IF(ISBLANK(InfoPro!A50),\"\",InfoPro!A50)","v":"SC_1355_A1"},{"$f":"IF(ISBLANK(InfoPro!B50),\"\",InfoPro!B50)","v":"Barlovento 1"},{"$f":"IF(ISBLANK(InfoPro!E50),\"\",InfoPro!E50)","v":500},{"$f":"IF(ISBLANK(InfoPro!F50),\"\",InfoPro!F50)","v":"Eólico Offshore"},{"$f":"IF(ISBLANK(InfoPro!O50),\"\",InfoPro!O50)","v":34163254699.999996},{"$f":"IF(ISBLANK(InfoPro!#REF!),\"\",InfoPro!#REF!)","v":{"$error":"#REF!"}},{"$error":"#REF!"},{"$error":"#REF!"}]
[{"$f":"IF(ISBLANK(InfoPro!A51),\"\",InfoPro!A51)","v":"SC_1356_A1"},{"$f":"IF(ISBLANK(InfoPro!B51),\"\",InfoPro!B51)","v":"Sol de Zawady 9,9 MW"},{"$f":"IF(ISBLANK(InfoPro!E51),\"\",InfoPro!E51)","v":9.9},{"$f":"IF(ISBLANK(InfoPro!F51),\"\",InfoPro!F51)","v":"Solar FV"},{"$f":"IF(ISBLANK(InfoPro!O51),\"\",InfoPro!O51)","v":0},{"$f":"IF(ISBLANK(InfoPro!#REF!),\"\",InfoPro!#REF!)","v":{"$error":"#REF!"}},{"$error":"#REF!"},{"$error":"#REF!"}]
[{"$f":"IF(ISBLANK(InfoPro!A52),\"\",InfoPro!A52)","v":"SC_1356_A2"},{"$f":"IF(ISBLANK(InfoPro!B52),\"\",InfoPro!B52)","v":"Sol de Zawady 9,9 MW"},{"$f":"IF(ISBLANK(InfoPro!E52),\"\",InfoPro!E52)","v":9.9},{"$f":"IF(ISBLANK(InfoPro!F52),\"\",InfoPro!F52)","v":"Solar FV"},{"$f":"IF(ISBLANK(InfoPro!O52),\"\",InfoPro!O52)","v":0},{"$f":"IF(ISBLANK(InfoPro!#REF!),\"\",InfoPro!#REF!)","v":{"$error":"#REF!"}},{"$error":"#REF!"},{"$error":"#REF!"}]
[{"$f":"IF(ISBLANK(InfoPro!A53),\"\",InfoPro!A53)","v":"SC_1366_A1"},{"$f":"IF(ISBLANK(InfoPro!B53),\"\",InfoPro!B53)","v":"PARQUE SOLAR TÁNGARA 100 MW"},{"$f":"IF(ISBLANK(InfoPro!E53),\"\",InfoPro!E53)","v":100},{"$f":"IF(ISBLANK(InfoPro!F53),\"\",InfoPro!F53)","v":"Solar FV"},{"$f":"IF(ISBLANK(InfoPro!O53),\"\",InfoPro!O53)","v":0},{"$f":"IF(ISBLANK(InfoPro!#REF!),\"\",InfoPro!#REF!)","v":{"$error":"#REF!"}},{"$error":"#REF!"},{"$error":"#REF!"}]
[{"$f":"IF(ISBLANK(InfoPro!A54),\"\",InfoPro!A54)","v":"SC_1376_A1"},{"$f":"IF(ISBLANK(InfoPro!B54),\"\",InfoPro!B54)","v":"Expansión La Loma I - 100 MW"},{"$f":"IF(ISBLANK(InfoPro!E54),\"\",InfoPro!E54)","v":100},{"$f":"IF(ISBLANK(InfoPro!F54),\"\",InfoPro!F54)","v":"Solar FV"},{"$f":"IF(ISBLANK(InfoPro!O54),\"\",InfoPro!O54)","v":0},{"$f":"IF(ISBLANK(InfoPro!#REF!),\"\",InfoPro!#REF!)","v":{"$error":"#REF!"}},{"$error":"#REF!"},{"$error":"#REF!"}]
[{"$f":"IF(ISBLANK(InfoPro!A55),\"\",InfoPro!A55)","v":"SC_1376_A2"},{"$f":"IF(ISBLANK(InfoPro!B55),\"\",InfoPro!B55)","v":"Expansión La Loma I - 100 MW"},{"$f":"IF(ISBLANK(InfoPro!E55),\"\",InfoPro!E55)","v":100},{"$f":"IF(ISBLANK(InfoPro!F55),\"\",InfoPro!F55)","v":"Solar FV"},{"$f":"IF(ISBLANK(InfoPro!O55),\"\",InfoPro!O55)","v":0},{"$f":"IF(ISBLANK(InfoPro!#REF!),\"\",InfoPro!#REF!)","v":{"$error":"#REF!"}},{"$error":"#REF!"},{"$error":"#REF!"}]
[{"$f":"IF(ISBLANK(InfoPro!A56),\"\",InfoPro!A56)","v":"SC_1377_A1"},{"$f":"IF(ISBLANK(InfoPro!B56),\"\",InfoPro!B56)","v":"Eólica Cordobita - 50MW"},{"$f":"IF(ISBLANK(InfoPro!E56),\"\",InfoPro!E56)","v":50},{"$f":"IF(ISBLANK(InfoPro!F56),\"\",InfoPro!F56)","v":"Eólico Onshore"},{"$f":"IF(ISBLANK(InfoPro!O56),\"\",InfoPro!O56)","v":0},{"$f":"IF(ISBLANK(InfoPro!#REF!),\"\",InfoPro!#REF!)","v":{"$error":"#REF!"}},{"$error":"#REF!"},{"$error":"#REF!"}]
[{"$f":"IF(ISBLANK(InfoPro!A57),\"\",InfoPro!A57)","v":"SC_1377_A2"},{"$f":"IF(ISBLANK(InfoPro!B57),\"\",InfoPro!B57)","v":"Eólica Cordobita - 50MW"},{"$f":"IF(ISBLANK(InfoPro!E57),\"\",InfoPro!E57)","v":50},{"$f":"IF(ISBLANK(InfoPro!F57),\"\",InfoPro!F57)","v":"Eólico Onshore"},{"$f":"IF(ISBLANK(InfoPro!O57),\"\",InfoPro!O57)","v":0},{"$f":"IF(ISBLANK(InfoPro!#REF!),\"\",InfoPro!#REF!)","v":{"$error":"#REF!"}},{"$error":"#REF!"},{"$error":"#REF!"}]
[{"$f":"IF(ISBLANK(InfoPro!A58),\"\",InfoPro!A58)","v":"SC_1380_A1"},{"$f":"IF(ISBLANK(InfoPro!B58),\"\",InfoPro!B58)","v":"Parque Eólico Motosira"},{"$f":"IF(ISBLANK(InfoPro!E58),\"\",InfoPro!E58)","v":300},{"$f":"IF(ISBLANK(InfoPro!F58),\"\",InfoPro!F58)","v":"Eólico Onshore"},{"$f":"IF(ISBLANK(InfoPro!O58),\"\",InfoPro!O58)","v":0},{"$f":"IF(ISBLANK(InfoPro!#REF!),\"\",InfoPro!#REF!)","v":{"$error":"#REF!"}},{"$error":"#REF!"},{"$error":"#REF!"}]
[{"$f":"IF(ISBLANK(InfoPro!A59),\"\",InfoPro!A59)","v":"SC_1380_A2"},{"$f":"IF(ISBLANK(InfoPro!B59),\"\",InfoPro!B59)","v":"Parque Eólico Motosira"},{"$f":"IF(ISBLANK(InfoPro!E59),\"\",InfoPro!E59)","v":300},{"$f":"IF(ISBLANK(InfoPro!F59),\"\",InfoPro!F59)","v":"Eólico Onshore"},{"$f":"IF(ISBLANK(InfoPro!O59),\"\",InfoPro!O59)","v":3445186810262.52},{"$f":"IF(ISBLANK(InfoPro!#REF!),\"\",InfoPro!#REF!)","v":{"$error":"#REF!"}},{"$error":"#REF!"},{"$error":"#REF!"}]
[{"$f":"IF(ISBLANK(InfoPro!A60),\"\",InfoPro!A60)","v":"SC_1421_A1"},{"$f":"IF(ISBLANK(InfoPro!B60),\"\",InfoPro!B60)","v":"Parque Solar Fotovoltaico SJ Solar 100 MW"},{"$f":"IF(ISBLANK(InfoPro!E60),\"\",InfoPro!E60)","v":100},{"$f":"IF(ISBLANK(InfoPro!F60),\"\",InfoPro!F60)","v":"Solar FV"},{"$f":"IF(ISBLANK(InfoPro!O60),\"\",InfoPro!O60)","v":0},{"$f":"IF(ISBLANK(InfoPro!#REF!),\"\",InfoPro!#REF!)","v":{"$error":"#REF!"}},{"$error":"#REF!"},{"$error":"#REF!"}]
[{"$f":"IF(ISBLANK(InfoPro!A61),\"\",InfoPro!A61)","v":"SC_1421_A2"},{"$f":"IF(ISBLANK(InfoPro!B61),\"\",InfoPro!B61)","v":"Parque Solar Fotovoltaico SJ Solar 100 MW"},{"$f":"IF(ISBLANK(InfoPro!E61),\"\",InfoPro!E61)","v":100},{"$f":"IF(ISBLANK(InfoPro!F61),\"\",InfoPro!F61)","v":"Solar FV"},{"$f":"IF(ISBLANK(InfoPro!O61),\"\",InfoPro!O61)","v":0},{"$f":"IF(ISBLANK(InfoPro!#REF!),\"\",InfoPro!#REF!)","v":{"$error":"#REF!"}},{"$error":"#REF!"},{"$error":"#REF!"}]
[{"$f":"IF(ISBLANK(InfoPro!A62),\"\",InfoPro!A62)","v":"SC_1479_A1"},{"$f":"IF(ISBLANK(InfoPro!B62),\"\",InfoPro!B62)","v":"Oslo I_150MW"},{"$f":"IF(ISBLANK(InfoPro!E62),\"\",InfoPro!E62)","v":150},{"$f":"IF(ISBLANK(InfoPro!F62),\"\",InfoPro!F62)","v":"Solar FV"},{"$f":"IF(ISBLANK(InfoPro!O62),\"\",InfoPro!O62)","v":0},{"$f":"IF(ISBLANK(InfoPro!#REF!),\"\",InfoPro!#REF!)","v":{"$error":"#REF!"}},{"$error":"#REF!"},{"$error":"#REF!"}]
[{"$f":"IF(ISBLANK(InfoPro!A63),\"\",InfoPro!A63)","v":"SC_1479_A2"},{"$f":"IF(ISBLANK(InfoPro!B63),\"\",InfoPro!B63)","v":"Oslo I_150MW"},{"$f":"IF(ISBLANK(InfoPro!E63),\"\",InfoPro!E63)","v":150},{"$f":"IF(ISBLANK(InfoPro!F63),\"\",InfoPro!F63)","v":"Solar FV"},{"$f":"IF(ISBLANK(InfoPro!O63),\"\",InfoPro!O63)","v":0},{"$f":"IF(ISBLANK(InfoPro!#REF!),\"\",InfoPro!#REF!)","v":{"$error":"#REF!"}},{"$error":"#REF!"},{"$error":"#REF!"}]
[{"$f":"IF(ISBLANK(InfoPro!A64),\"\",InfoPro!A64)","v":"SC_1506_A1"},{"$f":"IF(ISBLANK(InfoPro!B64),\"\",InfoPro!B64)","v":"Parque Solar Toro Moreno"},{"$f":"IF(ISBLANK(InfoPro!E64),\"\",InfoPro!E64)","v":99.9},{"$f":"IF(ISBLANK(InfoPro!F64),\"\",InfoPro!F64)","v":"Solar FV"},{"$f":"IF(ISBLANK(InfoPro!O64),\"\",InfoPro!O64)","v":0},{"$f":"IF(ISBLANK(InfoPro!#REF!),\"\",InfoPro!#REF!)","v":{"$error":"#REF!"}},{"$f":"IF(F73=\"\",\"\",F73-E73)","v":{"$error":"#REF!"}},{"$f":"IF(G73=\"\",\"\",G73/(C73*1000))","v":{"$error":"#REF!"}}]
[{"$f":"IF(ISBLANK(InfoPro!A65),\"\",InfoPro!A65)","v":"SC_1506_A2"},{"$f":"IF(ISBLANK(InfoPro!B65),\"\",InfoPro!B65)","v":"Parque Solar Toro Moreno"},{"$f":"IF(ISBLANK(InfoPro!E65),\"\",InfoPro!E65)","v":99.9},{"$f":"IF(ISBLANK(InfoPro!F65),\"\",InfoPro!F65)","v":"Solar FV"},{"$f":"IF(ISBLANK(InfoPro!O65),\"\",InfoPro!O65)","v":0},{"$f":"IF(ISBLANK(InfoPro!#REF!),\"\",InfoPro!#REF!)","v":{"$error":"#REF!"}},{"$error":"#REF!"},{"$error":"#REF!"}]
[{"$f":"IF(ISBLANK(InfoPro!A66),\"\",InfoPro!A66)","v":"SC_1512_A1"},{"$f":"IF(ISBLANK(InfoPro!B66),\"\",InfoPro!B66)","v":"El Flamingo\n  - 200 MW"},{"$f":"IF(ISBLANK(InfoPro!E66),\"\",InfoPro!E66)","v":200},{"$f":"IF(ISBLANK(InfoPro!F66),\"\",InfoPro!F66)","v":"Solar FV"},{"$f":"IF(ISBLANK(InfoPro!O66),\"\",InfoPro!O66)","v":0},{"$f":"IF(ISBLANK(InfoPro!#REF!),\"\",InfoPro!#REF!)","v":{"$error":"#REF!"}},{"$error":"#REF!"},{"$error":"#REF!"}]
[{"$f":"IF(ISBLANK(InfoPro!A67),\"\",InfoPro!A67)","v":"SC_1512_A2"},{"$f":"IF(ISBLANK(InfoPro!B67),\"\",InfoPro!B67)","v":"El Flamingo\n  - 200 MW"},{"$f":"IF(ISBLANK(InfoPro!E67),\"\",InfoPro!E67)","v":200},{"$f":"IF(ISBLANK(InfoPro!F67),\"\",InfoPro!F67)","v":"Solar FV"},{"$f":"IF(ISBLANK(InfoPro!O67),\"\",InfoPro!O67)","v":0},{"$f":"IF(ISBLANK(InfoPro!#REF!),\"\",InfoPro!#REF!)","v":{"$error":"#REF!"}},{"$error":"#REF!"},{"$error":"#REF!"}]
[{"$f":"IF(ISBLANK(InfoPro!A68),\"\",InfoPro!A68)","v":"SC_1518_A1"},{"$f":"IF(ISBLANK(InfoPro!B68),\"\",InfoPro!B68)","v":"CHIRIGUANÁ - 300 MW"},{"$f":"IF(ISBLANK(InfoPro!E68),\"\",InfoPro!E68)","v":300},{"$f":"IF(ISBLANK(InfoPro!F68),\"\",InfoPro!F68)","v":"Solar FV"},{"$f":"IF(ISBLANK(InfoPro!O68),\"\",InfoPro!O68)","v":0},{"$f":"IF(ISBLANK(InfoPro!#REF!),\"\",InfoPro!#REF!)","v":{"$error":"#REF!"}},{"$error":"#REF!"},{"$error":"#REF!"}]
[{"$f":"IF(ISBLANK(InfoPro!A69),\"\",InfoPro!A69)","v":"SC_1518_A2"},{"$f":"IF(ISBLANK(InfoPro!B69),\"\",InfoPro!B69)","v":"CHIRIGUANÁ - 300 MW"},{"$f":"IF(ISBLANK(InfoPro!E69),\"\",InfoPro!E69)","v":300},{"$f":"IF(ISBLANK(InfoPro!F69),\"\",InfoPro!F69)","v":"Solar FV"},{"$f":"IF(ISBLANK(InfoPro!O69),\"\",InfoPro!O69)","v":0},{"$f":"IF(ISBLANK(InfoPro!#REF!),\"\",InfoPro!#REF!)","v":{"$error":"#REF!"}},{"$error":"#REF!"},{"$error":"#REF!"}]
[{"$f":"IF(ISBLANK(InfoPro!A70),\"\",InfoPro!A70)","v":"SC_1531_A1"},{"$f":"IF(ISBLANK(InfoPro!B70),\"\",InfoPro!B70)","v":"Haticos_56MW"},{"$f":"IF(ISBLANK(InfoPro!E70),\"\",InfoPro!E70)","v":56},{"$f":"IF(ISBLANK(InfoPro!F70),\"\",InfoPro!F70)","v":"Solar FV"},{"$f":"IF(ISBLANK(InfoPro!O70),\"\",InfoPro!O70)","v":0},{"$f":"IF(ISBLANK(InfoPro!#REF!),\"\",InfoPro!#REF!)","v":{"$error":"#REF!"}},{"$error":"#REF!"},{"$error":"#REF!"}]
[{"$f":"IF(ISBLANK(InfoPro!A71),\"\",InfoPro!A71)","v":"SC_1531_A2"},{"$f":"IF(ISBLANK(InfoPro!B71),\"\",InfoPro!B71)","v":"Haticos_56MW"},{"$f":"IF(ISBLANK(InfoPro!E71),\"\",InfoPro!E71)","v":56},{"$f":"IF(ISBLANK(InfoPro!F71),\"\",InfoPro!F71)","v":"Solar FV"},{"$f":"IF(ISBLANK(InfoPro!O71),\"\",InfoPro!O71)","v":0},{"$f":"IF(ISBLANK(InfoPro!#REF!),\"\",InfoPro!#REF!)","v":{"$error":"#REF!"}},{"$error":"#REF!"},{"$error":"#REF!"}]
[{"$f":"IF(ISBLANK(InfoPro!A72),\"\",InfoPro!A72)","v":"SC_1532_A1"},{"$f":"IF(ISBLANK(InfoPro!B72),\"\",InfoPro!B72)","v":"Las Mangas_340.8MW"},{"$f":"IF(ISBLANK(InfoPro!E72),\"\",InfoPro!E72)","v":340.8},{"$f":"IF(ISBLANK(InfoPro!F72),\"\",InfoPro!F72)","v":"Solar FV"},{"$f":"IF(ISBLANK(InfoPro!O72),\"\",InfoPro!O72)","v":32580046749},{"$f":"IF(ISBLANK(InfoPro!#REF!),\"\",InfoPro!#REF!)","v":{"$error":"#REF!"}},{"$error":"#REF!"},{"$error":"#REF!"}]
[{"$f":"IF(ISBLANK(InfoPro!A73),\"\",InfoPro!A73)","v":"SC_1532_A2"},{"$f":"IF(ISBLANK(InfoPro!B73),\"\",InfoPro!B73)","v":"Las Mangas_340.8MW"},{"$f":"IF(ISBLANK(InfoPro!E73),\"\",InfoPro!E73)","v":340.8},{"$f":"IF(ISBLANK(InfoPro!F73),\"\",InfoPro!F73)","v":"Solar FV"},{"$f":"IF(ISBLANK(InfoPro!O73),\"\",InfoPro!O73)","v":94135819211.660004},{"$f":"IF(ISBLANK(InfoPro!#REF!),\"\",InfoPro!#REF!)","v":{"$error":"#REF!"}},{"$error":"#REF!"},{"$error":"#REF!"}]
[{"$f":"IF(ISBLANK(InfoPro!A74),\"\",InfoPro!A74)","v":"SC_1534_A1"},{"$f":"IF(ISBLANK(InfoPro!B74),\"\",InfoPro!B74)","v":"Parque Eólico Cerrito_378MW"},{"$f":"IF(ISBLANK(InfoPro!E74),\"\",InfoPro!E74)","v":378},{"$f":"IF(ISBLANK(InfoPro!F74),\"\",InfoPro!F74)","v":"Eólico Onshore"},{"$f":"IF(ISBLANK(InfoPro!O74),\"\",InfoPro!O74)","v":0},{"$f":"IF(ISBLANK(InfoPro!#REF!),\"\",InfoPro!#REF!)","v":{"$error":"#REF!"}},{"$error":"#REF!"},{"$error":"#REF!"}]
[{"$f":"IF(ISBLANK(InfoPro!A75),\"\",InfoPro!A75)","v":"SC_1534_A2"},{"$f":"IF(ISBLANK(InfoPro!B75),\"\",InfoPro!B75)","v":"Parque Eólico Cerrito_378MW"},{"$f":"IF(ISBLANK(InfoPro!E75),\"\",InfoPro!E75)","v":378},{"$f":"IF(ISBLANK(InfoPro!F75),\"\",InfoPro!F75)","v":"Eólico Onshore"},{"$f":"IF(ISBLANK(InfoPro!O75),\"\",InfoPro!O75)","v":3445186810262.52},{"$f":"IF(ISBLANK(InfoPro!#REF!),\"\",InfoPro!#REF!)","v":{"$error":"#REF!"}},{"$error":"#REF!"},{"$error":"#REF!"}]
[{"$f":"IF(ISBLANK(InfoPro!A76),\"\",InfoPro!A76)","v":"SC_1535_A1"},{"$f":"IF(ISBLANK(InfoPro!B76),\"\",InfoPro!B76)","v":"Parque Eólico Cerrito 2"},{"$f":"IF(ISBLANK(InfoPro!E76),\"\",InfoPro!E76)","v":200},{"$f":"IF(ISBLANK(InfoPro!F76),\"\",InfoPro!F76)","v":"Eólico Onshore"},{"$f":"IF(ISBLANK(InfoPro!O76),\"\",InfoPro!O76)","v":0},{"$f":"IF(ISBLANK(InfoPro!#REF!),\"\",InfoPro!#REF!)","v":{"$error":"#REF!"}},{"$error":"#REF!"},{"$error":"#REF!"}]
[{"$f":"IF(ISBLANK(InfoPro!A77),\"\",InfoPro!A77)","v":"SC_1535_A2"},{"$f":"IF(ISBLANK(InfoPro!B77),\"\",InfoPro!B77)","v":"Parque Eólico Cerrito 2"},{"$f":"IF(ISBLANK(InfoPro!E77),\"\",InfoPro!E77)","v":200},{"$f":"IF(ISBLANK(InfoPro!F77),\"\",InfoPro!F77)","v":"Eólico Onshore"},{"$f":"IF(ISBLANK(InfoPro!O77),\"\",InfoPro!O77)","v":3612282882154.1899},{"$f":"IF(ISBLANK(InfoPro!#REF!),\"\",InfoPro!#REF!)","v":{"$error":"#REF!"}},{"$error":"#REF!"},{"$error":"#REF!"}]
[{"$f":"IF(ISBLANK(InfoPro!A78),\"\",InfoPro!A78)","v":"SC_1549_A1"},{"$f":"IF(ISBLANK(InfoPro!B78),\"\",InfoPro!B78)","v":"Parque Solar Bonda"},{"$f":"IF(ISBLANK(InfoPro!E78),\"\",InfoPro!E78)","v":9.9},{"$f":"IF(ISBLANK(InfoPro!F78),\"\",InfoPro!F78)","v":"Solar FV"},{"$f":"IF(ISBLANK(InfoPro!O78),\"\",InfoPro!O78)","v":0},{"$f":"IF(ISBLANK(InfoPro!#REF!),\"\",InfoPro!#REF!)","v":{"$error":"#REF!"}},{"$error":"#REF!"},{"$error":"#REF!"}]
[{"$f":"IF(ISBLANK(InfoPro!A79),\"\",InfoPro!A79)","v":"SC_1549_A2"},{"$f":"IF(ISBLANK(InfoPro!B79),\"\",InfoPro!B79)","v":"Parque Solar Bonda"},{"$f":"IF(ISBLANK(InfoPro!E79),\"\",InfoPro!E79)","v":9.9},{"$f":"IF(ISBLANK(InfoPro!F79),\"\",InfoPro!F79)","v":"Solar FV"},{"$f":"IF(ISBLANK(InfoPro!O79),\"\",InfoPro!O79)","v":0},{"$f":"IF(ISBLANK(InfoPro!#REF!),\"\",InfoPro!#REF!)","v":{"$error":"#REF!"}},{"$error":"#REF!"},{"$error":"#REF!"}]
[{"$f":"IF(ISBLANK(InfoPro!A80),\"\",InfoPro!A80)","v":"SC_1550_A1"},{"$f":"IF(ISBLANK(InfoPro!B80),\"\",InfoPro!B80)","v":"Parque Solar Fonseca"},{"$f":"IF(ISBLANK(InfoPro!E80),\"\",InfoPro!E80)","v":9.9},{"$f":"IF(ISBLANK(InfoPro!F80),\"\",InfoPro!F80)","v":"Solar FV"},{"$f":"IF(ISBLANK(InfoPro!O80),\"\",InfoPro!O80)","v":0},{"$f":"IF(ISBLANK(InfoPro!#REF!),\"\",InfoPro!#REF!)","v":{"$error":"#REF!"}},{"$error":"#REF!"},{"$error":"#REF!"}]
[{"$f":"IF(ISBLANK(InfoPro!A81),\"\",InfoPro!A81)","v":"SC_1550_A2"},{"$f":"IF(ISBLANK(InfoPro!B81),\"\",InfoPro!B81)","v":"Parque Solar Fonseca"},{"$f":"IF(ISBLANK(InfoPro!E81),\"\",InfoPro!E81)","v":9.9},{"$f":"IF(ISBLANK(InfoPro!F81),\"\",InfoPro!F81)","v":"Solar FV"},{"$f":"IF(ISBLANK(InfoPro!O81),\"\",InfoPro!O81)","v":0},{"$f":"IF(ISBLANK(InfoPro!#REF!),\"\",InfoPro!#REF!)","v":{"$error":"#REF!"}},{"$error":"#REF!"},{"$error":"#REF!"}]
[{"$f":"IF(ISBLANK(InfoPro!A82),\"\",InfoPro!A82)","v":"SC_1556_A1"},{"$f":"IF(ISBLANK(InfoPro!B82),\"\",InfoPro!B82)","v":"Copey Solar I - 100 MW"},{"$f":"IF(ISBLANK(InfoPro!E82),\"\",InfoPro!E82)","v":100},{"$f":"IF(ISBLANK(InfoPro!F82),\"\",InfoPro!F82)","v":"Solar FV"},{"$f":"IF(ISBLANK(InfoPro!O82),\"\",InfoPro!O82)","v":0},{"$f":"IF(ISBLANK(InfoPro!#REF!),\"\",InfoPro!#REF!)","v":{"$error":"#REF!"}},{"$error":"#REF!"},{"$error":"#REF!"}]
[{"$f":"IF(ISBLANK(InfoPro!A83),\"\",InfoPro!A83)","v":"SC_1556_A2"},{"$f":"IF(ISBLANK(InfoPro!B83),\"\",InfoPro!B83)","v":"Copey Solar I - 100 MW"},{"$f":"IF(ISBLANK(InfoPro!E83),\"\",InfoPro!E83)","v":100},{"$f":"IF(ISBLANK(InfoPro!F83),\"\",InfoPro!F83)","v":"Solar FV"},{"$f":"IF(ISBLANK(InfoPro!O83),\"\",InfoPro!O83)","v":0},{"$f":"IF(ISBLANK(InfoPro!#REF!),\"\",InfoPro!#REF!)","v":{"$error":"#REF!"}},{"$error":"#REF!"},{"$error":"#REF!"}]
[{"$f":"IF(ISBLANK(InfoPro!A84),\"\",InfoPro!A84)","v":"SC_1557_A1"},{"$f":"IF(ISBLANK(InfoPro!B84),\"\",InfoPro!B84)","v":"Copey Solar II"},{"$f":"IF(ISBLANK(InfoPro!E84),\"\",InfoPro!E84)","v":100},{"$f":"IF(ISBLANK(InfoPro!F84),\"\",InfoPro!F84)","v":"Solar FV"},{"$f":"IF(ISBLANK(InfoPro!O84),\"\",InfoPro!O84)","v":0},{"$f":"IF(ISBLANK(InfoPro!#REF!),\"\",InfoPro!#REF!)","v":{"$error":"#REF!"}},{"$error":"#REF!"},{"$error":"#REF!"}]
[]
[null,null,null,null,null,{"$f":"AVERAGE(F8:F87)","v":{"$error":"#REF!"}}]
[null,null,null,null,null,{"$f":"_xlfn.STDEV.S(F8:F87)","v":{"$error":"#REF!"}}]
[]
[]
[]
[]
[]
[null,null,null,null,null,3734000000]
[null,null,null,null,null,3734000000]
[null,null,null,null,null,5633917333.333333]
[null,null,null,null,null,5633917333.333333]
[null,null,null,null,null,1637200000]
[null,null,null,null,null,1637200000]
[null,null,null,null,null,58886066.666666672]
[null,null,null,null,null,58886066.666666672]
[null,null,null,null,null,48829000000]
[null,null,null,null,null,48829000000]
[null,null,null,null,null,43241330000]
[null,null,null,null,null,43241330000]
[]
[null,null,null,null,"PROM",{"$f":"AVERAGE(F102:F113)","v":17189055566.666668}]
[null,null,null,null,"DESVI",{"$f":"_xlfn.STDEV.S(F102:F113)","v":21446210707.69149}]
[]
[null,null,null,null,null,{"$f":"F116+F115","v":38635266274.358154}]

{"sheet":"BT-Flex","index":10,"n_rows":287,"n_cols":25,"rows_kept":287,"cut":false,"hidden":false,"merged":[]}
[]
[]
[null,"CEE",67453,"COP/MWh"]
[null,"Tasa de descuento",0.11799999999999999,null,null,"Año de Referencia",2023]
[null,null,null,null,null,"Mínimo",{"$f":"MIN(Y9:Y284)","v":{"$error":"#REF!"}}]
[]
[null,null,null,null,null,null,null,null,0,1,2,3,4,5,6,7,8,9,10,11,12,13,14]
["Codigo","Nombre","capacidad","Tecnologia","Año de entrada","FP","Factor de Flexibilidad","Produccion media/a MWh/a","Flujo Descontado 0","Flujo Descontado 1","Flujo Descontado 2","Flujo Descontado 3","Flujo Descontado 4","Flujo Descontado 5","Flujo Descontado 6","Flujo Descontado 7","Flujo Descontado 8","Flujo Descontado 9","Flujo Descontado 10","Flujo Descontado 11","Flujo Descontado 12","Flujo Descontado 13","Flujo Descontado 14","VPN","Beneficio/kW"]
[{"$f":"IF(ISBLANK(InfoPro!A2),\"\",InfoPro!A2)","v":"\tSC_1373_A1"},{"$f":"IF(ISBLANK(InfoPro!B2),\"\",InfoPro!B2)","v":"Pétalo del Magdalena II Guacamayal"},{"$f":"IF(ISBLANK(InfoPro!E2),\"\",InfoPro!E2)","v":9.9},{"$f":"IF(ISBLANK(InfoPro!F2),\"\",InfoPro!F2)","v":"Solar FV"},{"$f":"IF(ISBLANK(InfoPro!I2),\"\",YEAR(InfoPro!I2)-$G$4)","v":3},{"$f":"IF(B9=\"\",\"\",VLOOKUP(D9,Tablas!$B$2:$E$13,2,FALSE))","v":0.26},{"$f":"IF(B9=\"\",\"\",VLOOKUP(D9,Tablas!$B$2:$F$13,3,FALSE))","v":0},{"$f":"IF(C9=\"\",\"\",+C9*F9*24*365)","v":22548.240000000005},{"$f":"IF($H9=\"\",\"\",(1/(1+$C$4)^(I$7+$E9))*$H9*$G9*$C$3)","v":0},{"$f":"IF($H9=\"\",\"\",(1/(1+$C$4)^(J$7+$E9))*$H9*$G9*$C$3)","v":0},0,0,0,0,0,0,0,0,0,0,0,0,0,{"$f":"IF(W9=\"\",\"\",SUM(I9:W9))","v":0},{"$f":"IF(C9=0,0,IF(X9=\"\",\"\",X9/(C9*1000)))","v":0}]
[{"$f":"IF(ISBLANK(InfoPro!A3),\"\",InfoPro!A3)","v":"\tSC_1373_A2"},{"$f":"IF(ISBLANK(InfoPro!B3),\"\",InfoPro!B3)","v":"Pétalo del Magdalena II Guacamayal"},{"$f":"IF(ISBLANK(InfoPro!E3),\"\",InfoPro!E3)","v":9.9},{"$f":"IF(ISBLANK(InfoPro!F3),\"\",InfoPro!F3)","v":"Solar FV"},{"$f":"IF(ISBLANK(InfoPro!I3),\"\",YEAR(InfoPro!I3)-$G$4)","v":3},{"$f":"IF(B10=\"\",\"\",VLOOKUP(D10,Tablas!$B$2:$E$13,2,FALSE))","v":0.26},{"$f":"IF(B10=\"\",\"\",VLOOKUP(D10,Tablas!$B$2:$F$13,3,FALSE))","v":0},{"$f":"IF(C10=\"\",\"\",+C10*F10*24*365)","v":22548.240000000005},0,0,0,0,0,0,0,0,0,0,0,0,0,0,0,{"$f":"IF(W10=\"\",\"\",SUM(I10:W10))","v":0},{"$f":"IF(C10=0,0,IF(X10=\"\",\"\",X10/(C10*1000)))","v":0}]
[{"$f":"IF(ISBLANK(InfoPro!A4),\"\",InfoPro!A4)","v":"SC_1012_A1"},{"$f":"IF(ISBLANK(InfoPro!B4),\"\",InfoPro!B4)","v":"PARQUE SOLAR FOTOVOLTAICO TUNA"},{"$f":"IF(ISBLANK(InfoPro!E4),\"\",InfoPro!E4)","v":100},{"$f":"IF(ISBLANK(InfoPro!F4),\"\",InfoPro!F4)","v":"Solar FV"},{"$f":"IF(ISBLANK(InfoPro!I4),\"\",YEAR(InfoPro!I4)-$G$4)","v":3},{"$f":"IF(B11=\"\",\"\",VLOOKUP(D11,Tablas!$B$2:$E$13,2,FALSE))","v":0.26},{"$f":"IF(B11=\"\",\"\",VLOOKUP(D11,Tablas!$B$2:$F$13,3,FALSE))","v":0},227760,0,0,0,0,0,0,0,0,0,0,0,0,0,0,0,0,0]
[{"$f":"IF(ISBLANK(InfoPro!A5),\"\",InfoPro!A5)","v":"SC_1012_A2"},{"$f":"IF(ISBLANK(InfoPro!B5),\"\",InfoPro!B5)","v":"PARQUE SOLAR FOTOVOLTAICO TUNA"},{"$f":"IF(ISBLANK(InfoPro!E5),\"\",InfoPro!E5)","v":100},{"$f":"IF(ISBLANK(InfoPro!F5),\"\",InfoPro!F5)","v":"Solar FV"},{"$f":"IF(ISBLANK(InfoPro!I5),\"\",YEAR(InfoPro!I5)-$G$4)","v":3},{"$f":"IF(B12=\"\",\"\",VLOOKUP(D12,Tablas!$B$2:$E$13,2,FALSE))","v":0.26},{"$f":"IF(B12=\"\",\"\",VLOOKUP(D12,Tablas!$B$2:$F$13,3,FALSE))","v":0},227760,0,0,0,0,0,0,0,0,0,0,0,0,0,0,0,0,0]
[{"$f":"IF(ISBLANK(InfoPro!A6),\"\",InfoPro!A6)","v":"SC_1077_A1"},{"$f":"IF(ISBLANK(InfoPro!B6),\"\",InfoPro!B6)","v":"Nevada I 90 MW"},{"$f":"IF(ISBLANK(InfoPro!E6),\"\",InfoPro!E6)","v":90},{"$f":"IF(ISBLANK(InfoPro!F6),\"\",InfoPro!F6)","v":"Eólico Onshore"},{"$f":"IF(ISBLANK(InfoPro!I6),\"\",YEAR(InfoPro!I6)-$G$4)","v":7},{"$f":"IF(B13=\"\",\"\",VLOOKUP(D13,Tablas!$B$2:$E$13,2,FALSE))","v":0.56999999999999995},{"$f":"IF(B13=\"\",\"\",VLOOKUP(D13,Tablas!$B$2:$F$13,3,FALSE))","v":0},449387.99999999994,0,0,0,0,0,0,0,0,0,0,0,0,0,0,0,0,0]
[{"$f":"IF(ISBLANK(InfoPro!A7),\"\",InfoPro!A7)","v":"SC_1077_A2"},{"$f":"IF(ISBLANK(InfoPro!B7),\"\",InfoPro!B7)","v":"Nevada I 90 MW"},{"$f":"IF(ISBLANK(InfoPro!E7),\"\",InfoPro!E7)","v":90},{"$f":"IF(ISBLANK(InfoPro!F7),\"\",InfoPro!F7)","v":"Eólico Onshore"},{"$f":"IF(ISBLANK(InfoPro!I7),\"\",YEAR(InfoPro!I7)-$G$4)","v":7},{"$f":"IF(B14=\"\",\"\",VLOOKUP(D14,Tablas!$B$2:$E$13,2,FALSE))","v":0.56999999999999995},{"$f":"IF(B14=\"\",\"\",VLOOKUP(D14,Tablas!$B$2:$F$13,3,FALSE))","v":0},449387.99999999994,0,0,0,0,0,0,0,0,0,0,0,0,0,0,0,0,0]
[{"$f":"IF(ISBLANK(InfoPro!A8),\"\",InfoPro!A8)","v":"SC_1135_A1"},{"$f":"IF(ISBLANK(InfoPro!B8),\"\",InfoPro!B8)","v":"Parque Eólico Brisas 1"},{"$f":"IF(ISBLANK(InfoPro!E8),\"\",InfoPro!E8)","v":200},{"$f":"IF(ISBLANK(InfoPro!F8),\"\",InfoPro!F8)","v":"Eólico Onshore"},{"$f":"IF(ISBLANK(InfoPro!I8),\"\",YEAR(InfoPro!I8)-$G$4)","v":5},{"$f":"IF(B15=\"\",\"\",VLOOKUP(D15,Tablas!$B$2:$E$13,2,FALSE))","v":0.56999999999999995},{"$f":"IF(B15=\"\",\"\",VLOOKUP(D15,Tablas!$B$2:$F$13,3,FALSE))","v":0},998639.99999999988,0,0,0,0,0,0,0,0,0,0,0,0,0,0,0,0,0]
[{"$f":"IF(ISBLANK(InfoPro!A9),\"\",InfoPro!A9)","v":"SC_1135_A2"},{"$f":"IF(ISBLANK(InfoPro!B9),\"\",InfoPro!B9)","v":"Parque Eólico Brisas 1"},{"$f":"IF(ISBLANK(InfoPro!E9),\"\",InfoPro!E9)","v":200},{"$f":"IF(ISBLANK(InfoPro!F9),\"\",InfoPro!F9)","v":"Eólico Onshore"},{"$f":"IF(ISBLANK(InfoPro!I9),\"\",YEAR(InfoPro!I9)-$G$4)","v":5},{"$f":"IF(B16=\"\",\"\",VLOOKUP(D16,Tablas!$B$2:$E$13,2,FALSE))","v":0.56999999999999995},{"$f":"IF(B16=\"\",\"\",VLOOKUP(D16,Tablas!$B$2:$F$13,3,FALSE))","v":0},998639.99999999988,0,0,0,0,0,0,0,0,0,0,0,0,0,0,0,0,0]
[{"$f":"IF(ISBLANK(InfoPro!A10),\"\",InfoPro!A10)","v":"SC_1154_A1"},{"$f":"IF(ISBLANK(InfoPro!B10),\"\",InfoPro!B10)","v":"Parque Eólico Brisas 2"},{"$f":"IF(ISBLANK(InfoPro!E10),\"\",InfoPro!E10)","v":200},{"$f":"IF(ISBLANK(InfoPro!F10),\"\",InfoPro!F10)","v":"Eólico Onshore"},{"$f":"IF(ISBLANK(InfoPro!I10),\"\",YEAR(InfoPro!I10)-$G$4)","v":6},{"$f":"IF(B17=\"\",\"\",VLOOKUP(D17,Tablas!$B$2:$E$13,2,FALSE))","v":0.56999999999999995},{"$f":"IF(B17=\"\",\"\",VLOOKUP(D17,Tablas!$B$2:$F$13,3,FALSE))","v":0},998639.99999999988,0,0,0,0,0,0,0,0,0,0,0,0,0,0,0,0,0]
[{"$f":"IF(ISBLANK(InfoPro!A11),\"\",InfoPro!A11)","v":"SC_1154_A2"},{"$f":"IF(ISBLANK(InfoPro!B11),\"\",InfoPro!B11)","v":"Parque Eólico Brisas 2"},{"$f":"IF(ISBLANK(InfoPro!E11),\"\",InfoPro!E11)","v":200},{"$f":"IF(ISBLANK(InfoPro!F11),\"\",InfoPro!F11)","v":"Eólico Onshore"},{"$f":"IF(ISBLANK(InfoPro!I11),\"\",YEAR(InfoPro!I11)-$G$4)","v":6},{"$f":"IF(B18=\"\",\"\",VLOOKUP(D18,Tablas!$B$2:$E$13,2,FALSE))","v":0.56999999999999995},{"$f":"IF(B18=\"\",\"\",VLOOKUP(D18,Tablas!$B$2:$F$13,3,FALSE))","v":0},998639.99999999988,0,0,0,0,0,0,0,0,0,0,0,0,0,0,0,0,0]
[{"$f":"IF(ISBLANK(InfoPro!A12),\"\",InfoPro!A12)","v":"SC_1161_A1"},{"$f":"IF(ISBLANK(InfoPro!B12),\"\",InfoPro!B12)","v":"Parque Eólico Brisas 3"},{"$f":"IF(ISBLANK(InfoPro!E12),\"\",InfoPro!E12)","v":200},{"$f":"IF(ISBLANK(InfoPro!F12),\"\",InfoPro!F12)","v":"Eólico Onshore"},{"$f":"IF(ISBLANK(InfoPro!I12),\"\",YEAR(InfoPro!I12)-$G$4)","v":7},{"$f":"IF(B19=\"\",\"\",VLOOKUP(D19,Tablas!$B$2:$E$13,2,FALSE))","v":0.56999999999999995},{"$f":"IF(B19=\"\",\"\",VLOOKUP(D19,Tablas!$B$2:$F$13,3,FALSE))","v":0},998639.99999999988,{"$f":"IF($H19=\"\",\"\",(1/(1+$C$4)^(I$7+$E19))*$H19*$G19*$C$3)","v":0},0,0,0,0,0,0,0,0,0,0,0,0,0,0,0,0]
[{"$f":"IF(ISBLANK(InfoPro!A13),\"\",InfoPro!A13)","v":"SC_1161_A2"},{"$f":"IF(ISBLANK(InfoPro!B13),\"\",InfoPro!B13)","v":"Parque Eólico Brisas 3"},{"$f":"IF(ISBLANK(InfoPro!E13),\"\",InfoPro!E13)","v":200},{"$f":"IF(ISBLANK(InfoPro!F13),\"\",InfoPro!F13)","v":"Eólico Onshore"},{"$f":"IF(ISBLANK(InfoPro!I13),\"\",YEAR(InfoPro!I13)-$G$4)","v":7},{"$f":"IF(B20=\"\",\"\",VLOOKUP(D20,Tablas!$B$2:$E$13,2,FALSE))","v":0.56999999999999995},{"$f":"IF(B20=\"\",\"\",VLOOKUP(D20,Tablas!$B$2:$F$13,3,FALSE))","v":0},998639.99999999988,0,0,0,0,0,0,0,0,0,0,0,0,0,0,0,0,0]
[{"$f":"IF(ISBLANK(InfoPro!#REF!),\"\",InfoPro!#REF!)","v":{"$error":"#REF!"}},{"$f":"IF(ISBLANK(InfoPro!#REF!),\"\",InfoPro!#REF!)","v":{"$error":"#REF!"}},{"$f":"IF(ISBLANK(InfoPro!#REF!),\"\",InfoPro!#REF!)","v":{"$error":"#REF!"}},{"$f":"IF(ISBLANK(InfoPro!#REF!),\"\",InfoPro!#REF!)","v":{"$error":"#REF!"}},{"$f":"IF(ISBLANK(InfoPro!#REF!),\"\",YEAR(InfoPro!#REF!)-$G$4)","v":{"$error":"#REF!"}},{"$f":"IF(B21=\"\",\"\",VLOOKUP(D21,Tablas!$B$2:$E$13,2,FALSE))","v":{"$error":"#REF!"}},{"$f":"IF(B21=\"\",\"\",VLOOKUP(D21,Tablas!$B$2:$F$13,3,FALSE))","v":{"$error":"#REF!"}},{"$error":"#REF!"},{"$error":"#REF!"},{"$error":"#REF!"},{"$error":"#REF!"},{"$error":"#REF!"},{"$error":"#REF!"},{"$error":"#REF!"},{"$error":"#REF!"},{"$error":"#REF!"},{"$error":"#REF!"},{"$error":"#REF!"},{"$error":"#REF!"},{"$error":"#REF!"},{"$error":"#REF!"},{"$error":"#REF!"},{"$error":"#REF!"},{"$error":"#REF!"},{"$error":"#REF!"}]
[{"$f":"IF(ISBLANK(InfoPro!A14),\"\",InfoPro!A14)","v":"SC_1211_A1"},{"$f":"IF(ISBLANK(InfoPro!B14),\"\",InfoPro!B14)","v":"Planta Solar FV Caracolicitos 69MW"},{"$f":"IF(ISBLANK(InfoPro!E14),\"\",InfoPro!E14)","v":69},{"$f":"IF(ISBLANK(InfoPro!F14),\"\",InfoPro!F14)","v":"Solar FV"},{"$f":"IF(ISBLANK(InfoPro!I14),\"\",YEAR(InfoPro!I14)-$G$4)","v":3},{"$f":"IF(B22=\"\",\"\",VLOOKUP(D22,Tablas!$B$2:$E$13,2,FALSE))","v":0.26},{"$f":"IF(B22=\"\",\"\",VLOOKUP(D22,Tablas!$B$2:$F$13,3,FALSE))","v":0},157154.40000000002,0,0,0,0,0,0,0,0,0,0,0,0,0,0,0,0,0]
[{"$f":"IF(ISBLANK(InfoPro!A15),\"\",InfoPro!A15)","v":"SC_1211_A2"},{"$f":"IF(ISBLANK(InfoPro!B15),\"\",InfoPro!B15)","v":"Planta Solar FV Caracolicitos 69MW"},{"$f":"IF(ISBLANK(InfoPro!E15),\"\",InfoPro!E15)","v":69},{"$f":"IF(ISBLANK(InfoPro!F15),\"\",InfoPro!F15)","v":"Solar FV"},{"$f":"IF(ISBLANK(InfoPro!I15),\"\",YEAR(InfoPro!I15)-$G$4)","v":3},{"$f":"IF(B23=\"\",\"\",VLOOKUP(D23,Tablas!$B$2:$E$13,2,FALSE))","v":0.26},{"$f":"IF(B23=\"\",\"\",VLOOKUP(D23,Tablas!$B$2:$F$13,3,FALSE))","v":0},157154.40000000002,0,0,0,0,0,0,0,0,0,0,0,0,0,0,0,0,0]
[{"$f":"IF(ISBLANK(InfoPro!A16),\"\",InfoPro!A16)","v":"SC_1218_A1"},{"$f":"IF(ISBLANK(InfoPro!B16),\"\",InfoPro!B16)","v":"Las Flores 150 MW"},{"$f":"IF(ISBLANK(InfoPro!E16),\"\",InfoPro!E16)","v":150},{"$f":"IF(ISBLANK(InfoPro!F16),\"\",InfoPro!F16)","v":"Solar FV"},{"$f":"IF(ISBLANK(InfoPro!I16),\"\",YEAR(InfoPro!I16)-$G$4)","v":2},{"$f":"IF(B24=\"\",\"\",VLOOKUP(D24,Tablas!$B$2:$E$13,2,FALSE))","v":0.26},{"$f":"IF(B24=\"\",\"\",VLOOKUP(D24,Tablas!$B$2:$F$13,3,FALSE))","v":0},341640,0,0,0,0,0,0,0,0,0,0,0,0,0,0,0,0,0]
[{"$f":"IF(ISBLANK(InfoPro!A17),\"\",InfoPro!A17)","v":"SC_1223_A1"},{"$f":"IF(ISBLANK(InfoPro!B17),\"\",InfoPro!B17)","v":"Parque Eolico Sirius"},{"$f":"IF(ISBLANK(InfoPro!E17),\"\",InfoPro!E17)","v":100},{"$f":"IF(ISBLANK(InfoPro!F17),\"\",InfoPro!F17)","v":"Eólico Onshore"},{"$f":"IF(ISBLANK(InfoPro!I17),\"\",YEAR(InfoPro!I17)-$G$4)","v":2},{"$f":"IF(B25=\"\",\"\",VLOOKUP(D25,Tablas!$B$2:$E$13,2,FALSE))","v":0.56999999999999995},{"$f":"IF(B25=\"\",\"\",VLOOKUP(D25,Tablas!$B$2:$F$13,3,FALSE))","v":0},499319.99999999994,0,0,0,0,0,0,0,0,0,0,0,0,0,0,0,0,0]
[{"$f":"IF(ISBLANK(InfoPro!A18),\"\",InfoPro!A18)","v":"SC_1232_A1"},{"$f":"IF(ISBLANK(InfoPro!B18),\"\",InfoPro!B18)","v":"La Paz Solar 9,9 MW"},{"$f":"IF(ISBLANK(InfoPro!E18),\"\",InfoPro!E18)","v":9.9},{"$f":"IF(ISBLANK(InfoPro!F18),\"\",InfoPro!F18)","v":"Solar FV"},{"$f":"IF(ISBLANK(InfoPro!I18),\"\",YEAR(InfoPro!I18)-$G$4)","v":2},{"$f":"IF(B26=\"\",\"\",VLOOKUP(D26,Tablas!$B$2:$E$13,2,FALSE))","v":0.26},{"$f":"IF(B26=\"\",\"\",VLOOKUP(D26,Tablas!$B$2:$F$13,3,FALSE))","v":0},22548.240000000005,0,0,0,0,0,0,0,0,0,0,0,0,0,0,0,0,0]
[{"$f":"IF(ISBLANK(InfoPro!A19),\"\",InfoPro!A19)","v":"SC_1232_A2"},{"$f":"IF(ISBLANK(InfoPro!B19),\"\",InfoPro!B19)","v":"La Paz Solar 9,9 MW"},{"$f":"IF(ISBLANK(InfoPro!E19),\"\",InfoPro!E19)","v":9.9},{"$f":"IF(ISBLANK(InfoPro!F19),\"\",InfoPro!F19)","v":"Solar FV"},{"$f":"IF(ISBLANK(InfoPro!I19),\"\",YEAR(InfoPro!I19)-$G$4)","v":2},{"$f":"IF(B27=\"\",\"\",VLOOKUP(D27,Tablas!$B$2:$E$13,2,FALSE))","v":0.26},{"$f":"IF(B27=\"\",\"\",VLOOKUP(D27,Tablas!$B$2:$F$13,3,FALSE))","v":0},22548.240000000005,0,0,0,0,0,0,0,0,0,0,0,0,0,0,0,0,0]
[{"$f":"IF(ISBLANK(InfoPro!A20),\"\",InfoPro!A20)","v":"SC_1239_A1"},{"$f":"IF(ISBLANK(InfoPro!B20),\"\",InfoPro!B20)","v":"El Carmen"},{"$f":"IF(ISBLANK(InfoPro!E20),\"\",InfoPro!E20)","v":104.5},{"$f":"IF(ISBLANK(InfoPro!F20),\"\",InfoPro!F20)","v":"Eólico Onshore"},{"$f":"IF(ISBLANK(InfoPro!I20),\"\",YEAR(InfoPro!I20)-$G$4)","v":4},{"$f":"IF(B28=\"\",\"\",VLOOKUP(D28,Tablas!$B$2:$E$13,2,FALSE))","v":0.56999999999999995},{"$f":"IF(B28=\"\",\"\",VLOOKUP(D28,Tablas!$B$2:$F$13,3,FALSE))","v":0},521789.39999999997,0,0,0,0,0,0,0,0,0,0,0,0,0,0,0,0,0]
[{"$f":"IF(ISBLANK(InfoPro!A21),\"\",InfoPro!A21)","v":"SC_1239_A2"},{"$f":"IF(ISBLANK(InfoPro!B21),\"\",InfoPro!B21)","v":"El Carmen"},{"$f":"IF(ISBLANK(InfoPro!E21),\"\",InfoPro!E21)","v":104.5},{"$f":"IF(ISBLANK(InfoPro!F21),\"\",InfoPro!F21)","v":"Eólico Onshore"},{"$f":"IF(ISBLANK(InfoPro!I21),\"\",YEAR(InfoPro!I21)-$G$4)","v":4},{"$f":"IF(B29=\"\",\"\",VLOOKUP(D29,Tablas!$B$2:$E$13,2,FALSE))","v":0.56999999999999995},{"$f":"IF(B29=\"\",\"\",VLOOKUP(D29,Tablas!$B$2:$F$13,3,FALSE))","v":0},521789.39999999997,{"$f":"IF($H29=\"\",\"\",(1/(1+$C$4)^(I$7+$E29))*$H29*$G29*$C$3)","v":0},0,0,0,0,0,0,0,0,0,0,0,0,0,0,0,0]
[{"$f":"IF(ISBLANK(InfoPro!A22),\"\",InfoPro!A22)","v":"SC_1244_A1"},{"$f":"IF(ISBLANK(InfoPro!B22),\"\",InfoPro!B22)","v":"Proyecto Maria"},{"$f":"IF(ISBLANK(InfoPro!E22),\"\",InfoPro!E22)","v":120},{"$f":"IF(ISBLANK(InfoPro!F22),\"\",InfoPro!F22)","v":"Eólico Onshore"},{"$f":"IF(ISBLANK(InfoPro!I22),\"\",YEAR(InfoPro!I22)-$G$4)","v":3},{"$f":"IF(B30=\"\",\"\",VLOOKUP(D30,Tablas!$B$2:$E$13,2,FALSE))","v":0.56999999999999995},{"$f":"IF(B30=\"\",\"\",VLOOKUP(D30,Tablas!$B$2:$F$13,3,FALSE))","v":0},599184,0,0,0,0,0,0,0,0,0,0,0,0,0,0,0,0,0]
[{"$f":"IF(ISBLANK(InfoPro!A23),\"\",InfoPro!A23)","v":"SC_1252_A1"},{"$f":"IF(ISBLANK(InfoPro!B23),\"\",InfoPro!B23)","v":"Parque Eólico Neptuno"},{"$f":"IF(ISBLANK(InfoPro!E23),\"\",InfoPro!E23)","v":150},{"$f":"IF(ISBLANK(InfoPro!F23),\"\",InfoPro!F23)","v":"Eólico Onshore"},{"$f":"IF(ISBLANK(InfoPro!I23),\"\",YEAR(InfoPro!I23)-$G$4)","v":3},{"$f":"IF(B31=\"\",\"\",VLOOKUP(D31,Tablas!$B$2:$E$13,2,FALSE))","v":0.56999999999999995},{"$f":"IF(B31=\"\",\"\",VLOOKUP(D31,Tablas!$B$2:$F$13,3,FALSE))","v":0},748979.99999999988,0,0,0,0,0,0,0,0,0,0,0,0,0,0,0,0,0]
[{"$f":"IF(ISBLANK(InfoPro!A24),\"\",InfoPro!A24)","v":"SC_1262_A1"},{"$f":"IF(ISBLANK(InfoPro!B24),\"\",InfoPro!B24)","v":"Parque Solar Australe de 251 MW (entrega 200 MW)"},{"$f":"IF(ISBLANK(InfoPro!E24),\"\",InfoPro!E24)","v":200},{"$f":"IF(ISBLANK(InfoPro!F24),\"\",InfoPro!F24)","v":"Solar FV"},{"$f":"IF(ISBLANK(InfoPro!I24),\"\",YEAR(InfoPro!I24)-$G$4)","v":3},{"$f":"IF(B32=\"\",\"\",VLOOKUP(D32,Tablas!$B$2:$E$13,2,FALSE))","v":0.26},{"$f":"IF(B32=\"\",\"\",VLOOKUP(D32,Tablas!$B$2:$F$13,3,FALSE))","v":0},455520,0,0,0,0,0,0,0,0,0,0,0,0,0,0,0,0,0]
[{"$f":"IF(ISBLANK(InfoPro!A25),\"\",InfoPro!A25)","v":"SC_1262_A2"},{"$f":"IF(ISBLANK(InfoPro!B25),\"\",InfoPro!B25)","v":"Parque Solar Australe de 251 MW (entrega 200 MW)"},{"$f":"IF(ISBLANK(InfoPro!E25),\"\",InfoPro!E25)","v":200},{"$f":"IF(ISBLANK(InfoPro!F25),\"\",InfoPro!F25)","v":"Solar FV"},{"$f":"IF(ISBLANK(InfoPro!I25),\"\",YEAR(InfoPro!I25)-$G$4)","v":3},{"$f":"IF(B33=\"\",\"\",VLOOKUP(D33,Tablas!$B$2:$E$13,2,FALSE))","v":0.26},{"$f":"IF(B33=\"\",\"\",VLOOKUP(D33,Tablas!$B$2:$F$13,3,FALSE))","v":0},455520,{"$f":"IF($H33=\"\",\"\",(1/(1+$C$4)^(I$7+$E33))*$H33*$G33*$C$3)","v":0},0,0,0,0,0,0,0,0,0,0,0,0,0,0,0,0]
[{"$f":"IF(ISBLANK(InfoPro!A26),\"\",InfoPro!A26)","v":"SC_1264_A1"},{"$f":"IF(ISBLANK(InfoPro!B26),\"\",InfoPro!B26)","v":"Parque Solar Galus de 133 MW (entrega 110 MW)"},{"$f":"IF(ISBLANK(InfoPro!E26),\"\",InfoPro!E26)","v":110},{"$f":"IF(ISBLANK(InfoPro!F26),\"\",InfoPro!F26)","v":"Solar FV"},{"$f":"IF(ISBLANK(InfoPro!I26),\"\",YEAR(InfoPro!I26)-$G$4)","v":4},{"$f":"IF(B34=\"\",\"\",VLOOKUP(D34,Tablas!$B$2:$E$13,2,FALSE))","v":0.26},{"$f":"IF(B34=\"\",\"\",VLOOKUP(D34,Tablas!$B$2:$F$13,3,FALSE))","v":0},250536.00000000003,0,0,0,0,0,0,0,0,0,0,0,0,0,0,0,0,0]
[{"$f":"IF(ISBLANK(InfoPro!A27),\"\",InfoPro!A27)","v":"SC_1264_A2"},{"$f":"IF(ISBLANK(InfoPro!B27),\"\",InfoPro!B27)","v":"Parque Solar Galus de 133 MW (entrega 110 MW)"},{"$f":"IF(ISBLANK(InfoPro!E27),\"\",InfoPro!E27)","v":110},{"$f":"IF(ISBLANK(InfoPro!F27),\"\",InfoPro!F27)","v":"Solar FV"},{"$f":"IF(ISBLANK(InfoPro!I27),\"\",YEAR(InfoPro!I27)-$G$4)","v":4},{"$f":"IF(B35=\"\",\"\",VLOOKUP(D35,Tablas!$B$2:$E$13,2,FALSE))","v":0.26},{"$f":"IF(B35=\"\",\"\",VLOOKUP(D35,Tablas!$B$2:$F$13,3,FALSE))","v":0},250536.00000000003,0,0,0,0,0,0,0,0,0,0,0,0,0,0,0,0,0]
[{"$f":"IF(ISBLANK(InfoPro!A28),\"\",InfoPro!A28)","v":"SC_1266_A1"},{"$f":"IF(ISBLANK(InfoPro!B28),\"\",InfoPro!B28)","v":"Parque Solar Fornax DE 127 MW (Entrega 105 MW)"},{"$f":"IF(ISBLANK(InfoPro!E28),\"\",InfoPro!E28)","v":105},{"$f":"IF(ISBLANK(InfoPro!F28),\"\",InfoPro!F28)","v":"Solar FV"},{"$f":"IF(ISBLANK(InfoPro!I28),\"\",YEAR(InfoPro!I28)-$G$4)","v":4},{"$f":"IF(B36=\"\",\"\",VLOOKUP(D36,Tablas!$B$2:$E$13,2,FALSE))","v":0.26},{"$f":"IF(B36=\"\",\"\",VLOOKUP(D36,Tablas!$B$2:$F$13,3,FALSE))","v":0},239148.00000000003,0,0,0,0,0,0,0,0,0,0,0,0,0,0,0,0,0]
[{"$f":"IF(ISBLANK(InfoPro!A29),\"\",InfoPro!A29)","v":"SC_1266_A2"},{"$f":"IF(ISBLANK(InfoPro!B29),\"\",InfoPro!B29)","v":"Parque Solar Fornax DE 127 MW (Entrega 105 MW)"},{"$f":"IF(ISBLANK(InfoPro!E29),\"\",InfoPro!E29)","v":105},{"$f":"IF(ISBLANK(InfoPro!F29),\"\",InfoPro!F29)","v":"Solar FV"},{"$f":"IF(ISBLANK(InfoPro!I29),\"\",YEAR(InfoPro!I29)-$G$4)","v":4},{"$f":"IF(B37=\"\",\"\",VLOOKUP(D37,Tablas!$B$2:$E$13,2,FALSE))","v":0.26},{"$f":"IF(B37=\"\",\"\",VLOOKUP(D37,Tablas!$B$2:$F$13,3,FALSE))","v":0},239148.00000000003,0,0,0,0,0,0,0,0,0,0,0,0,0,0,0,0,0]
[{"$f":"IF(ISBLANK(InfoPro!A30),\"\",InfoPro!A30)","v":"SC_1272_A1"},{"$f":"IF(ISBLANK(InfoPro!B30),\"\",InfoPro!B30)","v":"Guacamayal Solar de 9,9 MW"},{"$f":"IF(ISBLANK(InfoPro!E30),\"\",InfoPro!E30)","v":9.9},{"$f":"IF(ISBLANK(InfoPro!F30),\"\",InfoPro!F30)","v":"Solar FV"},{"$f":"IF(ISBLANK(InfoPro!I30),\"\",YEAR(InfoPro!I30)-$G$4)","v":1},{"$f":"IF(B38=\"\",\"\",VLOOKUP(D38,Tablas!$B$2:$E$13,2,FALSE))","v":0.26},{"$f":"IF(B38=\"\",\"\",VLOOKUP(D38,Tablas!$B$2:$F$13,3,FALSE))","v":0},22548.240000000005,0,0,0,0,0,0,0,0,0,0,0,0,0,0,0,0,0]
[{"$f":"IF(ISBLANK(InfoPro!A31),\"\",InfoPro!A31)","v":"SC_1272_A2"},{"$f":"IF(ISBLANK(InfoPro!B31),\"\",InfoPro!B31)","v":"Guacamayal Solar de 9,9 MW"},{"$f":"IF(ISBLANK(InfoPro!E31),\"\",InfoPro!E31)","v":9.9},{"$f":"IF(ISBLANK(InfoPro!F31),\"\",InfoPro!F31)","v":"Solar FV"},{"$f":"IF(ISBLANK(InfoPro!I31),\"\",YEAR(InfoPro!I31)-$G$4)","v":1},{"$f":"IF(B39=\"\",\"\",VLOOKUP(D39,Tablas!$B$2:$E$13,2,FALSE))","v":0.26},{"$f":"IF(B39=\"\",\"\",VLOOKUP(D39,Tablas!$B$2:$F$13,3,FALSE))","v":0},22548.240000000005,{"$f":"IF($H39=\"\",\"\",(1/(1+$C$4)^(I$7+$E39))*$H39*$G39*$C$3)","v":0},0,0,0,0,0,0,0,0,0,0,0,0,0,0,0,0]
[{"$f":"IF(ISBLANK(InfoPro!A32),\"\",InfoPro!A32)","v":"SC_1293_A1"},{"$f":"IF(ISBLANK(InfoPro!B32),\"\",InfoPro!B32)","v":"Leo Solar II"},{"$f":"IF(ISBLANK(InfoPro!E32),\"\",InfoPro!E32)","v":80},{"$f":"IF(ISBLANK(InfoPro!F32),\"\",InfoPro!F32)","v":"Solar FV"},{"$f":"IF(ISBLANK(InfoPro!I32),\"\",YEAR(InfoPro!I32)-$G$4)","v":2},{"$f":"IF(B40=\"\",\"\",VLOOKUP(D40,Tablas!$B$2:$E$13,2,FALSE))","v":0.26},{"$f":"IF(B40=\"\",\"\",VLOOKUP(D40,Tablas!$B$2:$F$13,3,FALSE))","v":0},182208.00000000003,0,0,0,0,0,0,0,0,0,0,0,0,0,0,0,0,0]
[{"$f":"IF(ISBLANK(InfoPro!A33),\"\",InfoPro!A33)","v":"SC_1293_A2"},{"$f":"IF(ISBLANK(InfoPro!B33),\"\",InfoPro!B33)","v":"Leo Solar II"},{"$f":"IF(ISBLANK(InfoPro!E33),\"\",InfoPro!E33)","v":80},{"$f":"IF(ISBLANK(InfoPro!F33),\"\",InfoPro!F33)","v":"Solar FV"},{"$f":"IF(ISBLANK(InfoPro!I33),\"\",YEAR(InfoPro!I33)-$G$4)","v":2},{"$f":"IF(B41=\"\",\"\",VLOOKUP(D41,Tablas!$B$2:$E$13,2,FALSE))","v":0.26},{"$f":"IF(B41=\"\",\"\",VLOOKUP(D41,Tablas!$B$2:$F$13,3,FALSE))","v":0},{"$f":"IF(C41=\"\",\"\",+C41*F41*24*365)","v":182208.00000000003},0,0,0,0,0,0,0,0,0,0,0,0,0,0,0,0,0]
[{"$f":"IF(ISBLANK(InfoPro!A34),\"\",InfoPro!A34)","v":"SC_1306_A1"},{"$f":"IF(ISBLANK(InfoPro!B34),\"\",InfoPro!B34)","v":"Leo Solar I"},{"$f":"IF(ISBLANK(InfoPro!E34),\"\",InfoPro!E34)","v":19.899999999999999},{"$f":"IF(ISBLANK(InfoPro!F34),\"\",InfoPro!F34)","v":"Solar FV"},{"$f":"IF(ISBLANK(InfoPro!I34),\"\",YEAR(InfoPro!I34)-$G$4)","v":2},{"$f":"IF(B42=\"\",\"\",VLOOKUP(D42,Tablas!$B$2:$E$13,2,FALSE))","v":0.26},{"$f":"IF(B42=\"\",\"\",VLOOKUP(D42,Tablas!$B$2:$F$13,3,FALSE))","v":0},45324.24,0,0,0,0,0,0,0,0,0,0,0,0,0,0,0,0,0]
[{"$f":"IF(ISBLANK(InfoPro!A35),\"\",InfoPro!A35)","v":"SC_1306_A2"},{"$f":"IF(ISBLANK(InfoPro!B35),\"\",InfoPro!B35)","v":"Leo Solar I"},{"$f":"IF(ISBLANK(InfoPro!E35),\"\",InfoPro!E35)","v":19.899999999999999},{"$f":"IF(ISBLANK(InfoPro!F35),\"\",InfoPro!F35)","v":"Solar FV"},{"$f":"IF(ISBLANK(InfoPro!I35),\"\",YEAR(InfoPro!I35)-$G$4)","v":2},{"$f":"IF(B43=\"\",\"\",VLOOKUP(D43,Tablas!$B$2:$E$13,2,FALSE))","v":0.26},{"$f":"IF(B43=\"\",\"\",VLOOKUP(D43,Tablas!$B$2:$F$13,3,FALSE))","v":0},45324.24,0,0,0,0,0,0,0,0,0,0,0,0,0,0,0,0,0]
[{"$f":"IF(ISBLANK(InfoPro!A36),\"\",InfoPro!A36)","v":"SC_1311_A1"},{"$f":"IF(ISBLANK(InfoPro!B36),\"\",InfoPro!B36)","v":"Elipse de 200 MW"},{"$f":"IF(ISBLANK(InfoPro!E36),\"\",InfoPro!E36)","v":200},{"$f":"IF(ISBLANK(InfoPro!F36),\"\",InfoPro!F36)","v":"Eólico Onshore"},{"$f":"IF(ISBLANK(InfoPro!I36),\"\",YEAR(InfoPro!I36)-$G$4)","v":2},{"$f":"IF(B44=\"\",\"\",VLOOKUP(D44,Tablas!$B$2:$E$13,2,FALSE))","v":0.56999999999999995},{"$f":"IF(B44=\"\",\"\",VLOOKUP(D44,Tablas!$B$2:$F$13,3,FALSE))","v":0},998639.99999999988,0,0,0,0,0,0,0,0,0,0,0,0,0,0,0,0,0]
[{"$f":"IF(ISBLANK(InfoPro!A37),\"\",InfoPro!A37)","v":"SC_1312_A1"},{"$f":"IF(ISBLANK(InfoPro!B37),\"\",InfoPro!B37)","v":"Omega de 300 MW"},{"$f":"IF(ISBLANK(InfoPro!E37),\"\",InfoPro!E37)","v":300},{"$f":"IF(ISBLANK(InfoPro!F37),\"\",InfoPro!F37)","v":"Eólico Onshore"},{"$f":"IF(ISBLANK(InfoPro!I37),\"\",YEAR(InfoPro!I37)-$G$4)","v":5},{"$f":"IF(B45=\"\",\"\",VLOOKUP(D45,Tablas!$B$2:$E$13,2,FALSE))","v":0.56999999999999995},{"$f":"IF(B45=\"\",\"\",VLOOKUP(D45,Tablas!$B$2:$F$13,3,FALSE))","v":0},1497959.9999999998,0,0,0,0,0,0,0,0,0,0,0,0,0,0,0,0,0]
[{"$f":"IF(ISBLANK(InfoPro!A38),\"\",InfoPro!A38)","v":"SC_1313_A1"},{"$f":"IF(ISBLANK(InfoPro!B38),\"\",InfoPro!B38)","v":"Kappa de 500 MW"},{"$f":"IF(ISBLANK(InfoPro!E38),\"\",InfoPro!E38)","v":500},{"$f":"IF(ISBLANK(InfoPro!F38),\"\",InfoPro!F38)","v":"Eólico Onshore"},{"$f":"IF(ISBLANK(InfoPro!I38),\"\",YEAR(InfoPro!I38)-$G$4)","v":4},{"$f":"IF(B46=\"\",\"\",VLOOKUP(D46,Tablas!$B$2:$E$13,2,FALSE))","v":0.56999999999999995},{"$f":"IF(B46=\"\",\"\",VLOOKUP(D46,Tablas!$B$2:$F$13,3,FALSE))","v":0},2496600,0,0,0,0,0,0,0,0,0,0,0,0,0,0,0,0,0]
[{"$f":"IF(ISBLANK(InfoPro!A39),\"\",InfoPro!A39)","v":"SC_1315_A1"},{"$f":"IF(ISBLANK(InfoPro!B39),\"\",InfoPro!B39)","v":"Parque Eólico Cordobita - 50MW"},{"$f":"IF(ISBLANK(InfoPro!E39),\"\",InfoPro!E39)","v":50},{"$f":"IF(ISBLANK(InfoPro!F39),\"\",InfoPro!F39)","v":"Eólico Onshore"},{"$f":"IF(ISBLANK(InfoPro!I39),\"\",YEAR(InfoPro!I39)-$G$4)","v":4},{"$f":"IF(B47=\"\",\"\",VLOOKUP(D47,Tablas!$B$2:$E$13,2,FALSE))","v":0.56999999999999995},{"$f":"IF(B47=\"\",\"\",VLOOKUP(D47,Tablas!$B$2:$F$13,3,FALSE))","v":0},249659.99999999997,0,0,0,0,0,0,0,0,0,0,0,0,0,0,0,0,0]
[{"$f":"IF(ISBLANK(InfoPro!A40),\"\",InfoPro!A40)","v":"SC_1315_A2"},{"$f":"IF(ISBLANK(InfoPro!B40),\"\",InfoPro!B40)","v":"Parque Eólico Cordobita - 50MW"},{"$f":"IF(ISBLANK(InfoPro!E40),\"\",InfoPro!E40)","v":50},{"$f":"IF(ISBLANK(InfoPro!F40),\"\",InfoPro!F40)","v":"Eólico Onshore"},{"$f":"IF(ISBLANK(InfoPro!I40),\"\",YEAR(InfoPro!I40)-$G$4)","v":4},{"$f":"IF(B48=\"\",\"\",VLOOKUP(D48,Tablas!$B$2:$E$13,2,FALSE))","v":0.56999999999999995},{"$f":"IF(B48=\"\",\"\",VLOOKUP(D48,Tablas!$B$2:$F$13,3,FALSE))","v":0},249659.99999999997,0,0,0,0,0,0,0,0,0,0,0,0,0,0,0,0,0]
[{"$f":"IF(ISBLANK(InfoPro!A41),\"\",InfoPro!A41)","v":"SC_1317_A1"},{"$f":"IF(ISBLANK(InfoPro!B41),\"\",InfoPro!B41)","v":"EÓLICA BONDA - 70MW"},{"$f":"IF(ISBLANK(InfoPro!E41),\"\",InfoPro!E41)","v":70},{"$f":"IF(ISBLANK(InfoPro!F41),\"\",InfoPro!F41)","v":"Eólico Onshore"},{"$f":"IF(ISBLANK(InfoPro!I41),\"\",YEAR(InfoPro!I41)-$G$4)","v":4},{"$f":"IF(B49=\"\",\"\",VLOOKUP(D49,Tablas!$B$2:$E$13,2,FALSE))","v":0.56999999999999995},{"$f":"IF(B49=\"\",\"\",VLOOKUP(D49,Tablas!$B$2:$F$13,3,FALSE))","v":0},349523.99999999994,{"$f":"IF($H49=\"\",\"\",(1/(1+$C$4)^(I$7+$E49))*$H49*$G49*$C$3)","v":0},0,0,0,0,0,0,0,0,0,0,0,0,0,0,0,0]
[{"$f":"IF(ISBLANK(InfoPro!A42),\"\",InfoPro!A42)","v":"SC_1321_A1"},{"$f":"IF(ISBLANK(InfoPro!B42),\"\",InfoPro!B42)","v":"OWF ASTROLABIO - 600 MW"},{"$f":"IF(ISBLANK(InfoPro!E42),\"\",InfoPro!E42)","v":600},{"$f":"IF(ISBLANK(InfoPro!F42),\"\",InfoPro!F42)","v":"Eólico Offshore"},{"$f":"IF(ISBLANK(InfoPro!I42),\"\",YEAR(InfoPro!I42)-$G$4)","v":11},{"$f":"IF(B50=\"\",\"\",VLOOKUP(D50,Tablas!$B$2:$E$13,2,FALSE))","v":0.56999999999999995},{"$f":"IF(B50=\"\",\"\",VLOOKUP(D50,Tablas!$B$2:$F$13,3,FALSE))","v":0},2995919.9999999995,0,0,0,0,0,0,0,0,0,0,0,0,0,0,0,0,0]
[{"$f":"IF(ISBLANK(InfoPro!A43),\"\",InfoPro!A43)","v":"SC_1321_A2"},{"$f":"IF(ISBLANK(InfoPro!B43),\"\",InfoPro!B43)","v":"OWF ASTROLABIO - 600 MW"},{"$f":"IF(ISBLANK(InfoPro!E43),\"\",InfoPro!E43)","v":825},{"$f":"IF(ISBLANK(InfoPro!F43),\"\",InfoPro!F43)","v":"Eólico Offshore"},{"$f":"IF(ISBLANK(InfoPro!I43),\"\",YEAR(InfoPro!I43)-$G$4)","v":11},{"$f":"IF(B51=\"\",\"\",VLOOKUP(D51,Tablas!$B$2:$E$13,2,FALSE))","v":0.56999999999999995},{"$f":"IF(B51=\"\",\"\",VLOOKUP(D51,Tablas!$B$2:$F$13,3,FALSE))","v":0},4119389.9999999995,0,0,0,0,0,0,0,0,0,0,0,0,0,0,0,0,0]
[{"$f":"IF(ISBLANK(InfoPro!A44),\"\",InfoPro!A44)","v":"SC_1336_A1"},{"$f":"IF(ISBLANK(InfoPro!B44),\"\",InfoPro!B44)","v":"AES Solar 4"},{"$f":"IF(ISBLANK(InfoPro!E44),\"\",InfoPro!E44)","v":300},{"$f":"IF(ISBLANK(InfoPro!F44),\"\",InfoPro!F44)","v":"Solar FV"},{"$f":"IF(ISBLANK(InfoPro!I44),\"\",YEAR(InfoPro!I44)-$G$4)","v":3},{"$f":"IF(B52=\"\",\"\",VLOOKUP(D52,Tablas!$B$2:$E$13,2,FALSE))","v":0.26},{"$f":"IF(B52=\"\",\"\",VLOOKUP(D52,Tablas!$B$2:$F$13,3,FALSE))","v":0},683280,0,0,0,0,0,0,0,0,0,0,0,0,0,0,0,0,0]
[{"$f":"IF(ISBLANK(InfoPro!A45),\"\",InfoPro!A45)","v":"SC_1336_A2"},{"$f":"IF(ISBLANK(InfoPro!B45),\"\",InfoPro!B45)","v":"AES Solar 4"},{"$f":"IF(ISBLANK(InfoPro!E45),\"\",InfoPro!E45)","v":300},{"$f":"IF(ISBLANK(InfoPro!F45),\"\",InfoPro!F45)","v":"Solar FV"},{"$f":"IF(ISBLANK(InfoPro!I45),\"\",YEAR(InfoPro!I45)-$G$4)","v":3},{"$f":"IF(B53=\"\",\"\",VLOOKUP(D53,Tablas!$B$2:$E$13,2,FALSE))","v":0.26},{"$f":"IF(B53=\"\",\"\",VLOOKUP(D53,Tablas!$B$2:$F$13,3,FALSE))","v":0},683280,0,0,0,0,0,0,0,0,0,0,0,0,0,0,0,0,0]
[{"$f":"IF(ISBLANK(InfoPro!A46),\"\",InfoPro!A46)","v":"SC_1345_A1"},{"$f":"IF(ISBLANK(InfoPro!B46),\"\",InfoPro!B46)","v":"Parque Eólico Jouttalein_150MW"},{"$f":"IF(ISBLANK(InfoPro!E46),\"\",InfoPro!E46)","v":150},{"$f":"IF(ISBLANK(InfoPro!F46),\"\",InfoPro!F46)","v":"Eólico Onshore"},{"$f":"IF(ISBLANK(InfoPro!I46),\"\",YEAR(InfoPro!I46)-$G$4)","v":2},{"$f":"IF(B54=\"\",\"\",VLOOKUP(D54,Tablas!$B$2:$E$13,2,FALSE))","v":0.56999999999999995},{"$f":"IF(B54=\"\",\"\",VLOOKUP(D54,Tablas!$B$2:$F$13,3,FALSE))","v":0},748979.99999999988,0,0,0,0,0,0,0,0,0,0,0,0,0,0,0,0,0]
[{"$f":"IF(ISBLANK(InfoPro!A47),\"\",InfoPro!A47)","v":"SC_1345_A2"},{"$f":"IF(ISBLANK(InfoPro!B47),\"\",InfoPro!B47)","v":"Parque Eólico Jouttalein_150MW"},{"$f":"IF(ISBLANK(InfoPro!E47),\"\",InfoPro!E47)","v":150},{"$f":"IF(ISBLANK(InfoPro!F47),\"\",InfoPro!F47)","v":"Eólico Onshore"},{"$f":"IF(ISBLANK(InfoPro!I47),\"\",YEAR(InfoPro!I47)-$G$4)","v":2},{"$f":"IF(B55=\"\",\"\",VLOOKUP(D55,Tablas!$B$2:$E$13,2,FALSE))","v":0.56999999999999995},{"$f":"IF(B55=\"\",\"\",VLOOKUP(D55,Tablas!$B$2:$F$13,3,FALSE))","v":0},748979.99999999988,0,0,0,0,0,0,0,0,0,0,0,0,0,0,0,0,0]
[{"$f":"IF(ISBLANK(InfoPro!A48),\"\",InfoPro!A48)","v":"SC_1347_A1"},{"$f":"IF(ISBLANK(InfoPro!B48),\"\",InfoPro!B48)","v":"AES Solar 5_100MW"},{"$f":"IF(ISBLANK(InfoPro!E48),\"\",InfoPro!E48)","v":100},{"$f":"IF(ISBLANK(InfoPro!F48),\"\",InfoPro!F48)","v":"Solar FV"},{"$f":"IF(ISBLANK(InfoPro!I48),\"\",YEAR(InfoPro!I48)-$G$4)","v":3},{"$f":"IF(B56=\"\",\"\",VLOOKUP(D56,Tablas!$B$2:$E$13,2,FALSE))","v":0.26},{"$f":"IF(B56=\"\",\"\",VLOOKUP(D56,Tablas!$B$2:$F$13,3,FALSE))","v":0},227760,0,0,0,0,0,0,0,0,0,0,0,0,0,0,0,0,0]
[{"$f":"IF(ISBLANK(InfoPro!A49),\"\",InfoPro!A49)","v":"SC_1347_A2"},{"$f":"IF(ISBLANK(InfoPro!B49),\"\",InfoPro!B49)","v":"AES Solar 5_100MW"},{"$f":"IF(ISBLANK(InfoPro!E49),\"\",InfoPro!E49)","v":100},{"$f":"IF(ISBLANK(InfoPro!F49),\"\",InfoPro!F49)","v":"Solar FV"},{"$f":"IF(ISBLANK(InfoPro!I49),\"\",YEAR(InfoPro!I49)-$G$4)","v":3},{"$f":"IF(B57=\"\",\"\",VLOOKUP(D57,Tablas!$B$2:$E$13,2,FALSE))","v":0.26},{"$f":"IF(B57=\"\",\"\",VLOOKUP(D57,Tablas!$B$2:$F$13,3,FALSE))","v":0},227760,0,0,0,0,0,0,0,0,0,0,0,0,0,0,0,0,0]
[{"$f":"IF(ISBLANK(InfoPro!A50),\"\",InfoPro!A50)","v":"SC_1355_A1"},{"$f":"IF(ISBLANK(InfoPro!B50),\"\",InfoPro!B50)","v":"Barlovento 1"},{"$f":"IF(ISBLANK(InfoPro!E50),\"\",InfoPro!E50)","v":500},{"$f":"IF(ISBLANK(InfoPro!F50),\"\",InfoPro!F50)","v":"Eólico Offshore"},{"$f":"IF(ISBLANK(InfoPro!I50),\"\",YEAR(InfoPro!I50)-$G$4)","v":11},{"$f":"IF(B58=\"\",\"\",VLOOKUP(D58,Tablas!$B$2:$E$13,2,FALSE))","v":0.56999999999999995},{"$f":"IF(B58=\"\",\"\",VLOOKUP(D58,Tablas!$B$2:$F$13,3,FALSE))","v":0},2496600,0,0,0,0,0,0,0,0,0,0,0,0,0,0,0,0,0]
[{"$f":"IF(ISBLANK(InfoPro!A51),\"\",InfoPro!A51)","v":"SC_1356_A1"},{"$f":"IF(ISBLANK(InfoPro!B51),\"\",InfoPro!B51)","v":"Sol de Zawady 9,9 MW"},{"$f":"IF(ISBLANK(InfoPro!E51),\"\",InfoPro!E51)","v":9.9},{"$f":"IF(ISBLANK(InfoPro!F51),\"\",InfoPro!F51)","v":"Solar FV"},{"$f":"IF(ISBLANK(InfoPro!I51),\"\",YEAR(InfoPro!I51)-$G$4)","v":1},{"$f":"IF(B59=\"\",\"\",VLOOKUP(D59,Tablas!$B$2:$E$13,2,FALSE))","v":0.26},{"$f":"IF(B59=\"\",\"\",VLOOKUP(D59,Tablas!$B$2:$F$13,3,FALSE))","v":0},22548.240000000005,{"$f":"IF($H59=\"\",\"\",(1/(1+$C$4)^(I$7+$E59))*$H59*$G59*$C$3)","v":0},0,0,0,0,0,0,0,0,0,0,0,0,0,0,0,0]
[{"$f":"IF(ISBLANK(InfoPro!A52),\"\",InfoPro!A52)","v":"SC_1356_A2"},{"$f":"IF(ISBLANK(InfoPro!B52),\"\",InfoPro!B52)","v":"Sol de Zawady 9,9 MW"},{"$f":"IF(ISBLANK(InfoPro!E52),\"\",InfoPro!E52)","v":9.9},{"$f":"IF(ISBLANK(InfoPro!F52),\"\",InfoPro!F52)","v":"Solar FV"},{"$f":"IF(ISBLANK(InfoPro!I52),\"\",YEAR(InfoPro!I52)-$G$4)","v":1},{"$f":"IF(B60=\"\",\"\",VLOOKUP(D60,Tablas!$B$2:$E$13,2,FALSE))","v":0.26},{"$f":"IF(B60=\"\",\"\",VLOOKUP(D60,Tablas!$B$2:$F$13,3,FALSE))","v":0},22548.240000000005,0,0,0,0,0,0,0,0,0,0,0,0,0,0,0,0,0]
[{"$f":"IF(ISBLANK(InfoPro!A53),\"\",InfoPro!A53)","v":"SC_1366_A1"},{"$f":"IF(ISBLANK(InfoPro!B53),\"\",InfoPro!B53)","v":"PARQUE SOLAR TÁNGARA 100 MW"},{"$f":"IF(ISBLANK(InfoPro!E53),\"\",InfoPro!E53)","v":100},{"$f":"IF(ISBLANK(InfoPro!F53),\"\",InfoPro!F53)","v":"Solar FV"},{"$f":"IF(ISBLANK(InfoPro!I53),\"\",YEAR(InfoPro!I53)-$G$4)","v":3},{"$f":"IF(B61=\"\",\"\",VLOOKUP(D61,Tablas!$B$2:$E$13,2,FALSE))","v":0.26},{"$f":"IF(B61=\"\",\"\",VLOOKUP(D61,Tablas!$B$2:$F$13,3,FALSE))","v":0},227760,0,0,0,0,0,0,0,0,0,0,0,0,0,0,0,0,0]
[{"$f":"IF(ISBLANK(InfoPro!A54),\"\",InfoPro!A54)","v":"SC_1376_A1"},{"$f":"IF(ISBLANK(InfoPro!B54),\"\",InfoPro!B54)","v":"Expansión La Loma I - 100 MW"},{"$f":"IF(ISBLANK(InfoPro!E54),\"\",InfoPro!E54)","v":100},{"$f":"IF(ISBLANK(InfoPro!F54),\"\",InfoPro!F54)","v":"Solar FV"},{"$f":"IF(ISBLANK(InfoPro!I54),\"\",YEAR(InfoPro!I54)-$G$4)","v":4},{"$f":"IF(B62=\"\",\"\",VLOOKUP(D62,Tablas!$B$2:$E$13,2,FALSE))","v":0.26},{"$f":"IF(B62=\"\",\"\",VLOOKUP(D62,Tablas!$B$2:$F$13,3,FALSE))","v":0},227760,0,0,0,0,0,0,0,0,0,0,0,0,0,0,0,0,0]
[{"$f":"IF(ISBLANK(InfoPro!A55),\"\",InfoPro!A55)","v":"SC_1376_A2"},{"$f":"IF(ISBLANK(InfoPro!B55),\"\",InfoPro!B55)","v":"Expansión La Loma I - 100 MW"},{"$f":"IF(ISBLANK(InfoPro!E55),\"\",InfoPro!E55)","v":100},{"$f":"IF(ISBLANK(InfoPro!F55),\"\",InfoPro!F55)","v":"Solar FV"},{"$f":"IF(ISBLANK(InfoPro!I55),\"\",YEAR(InfoPro!I55)-$G$4)","v":4},{"$f":"IF(B63=\"\",\"\",VLOOKUP(D63,Tablas!$B$2:$E$13,2,FALSE))","v":0.26},{"$f":"IF(B63=\"\",\"\",VLOOKUP(D63,Tablas!$B$2:$F$13,3,FALSE))","v":0},227760,0,0,0,0,0,0,0,0,0,0,0,0,0,0,0,0,0]
[{"$f":"IF(ISBLANK(InfoPro!A56),\"\",InfoPro!A56)","v":"SC_1377_A1"},{"$f":"IF(ISBLANK(InfoPro!B56),\"\",InfoPro!B56)","v":"Eólica Cordobita - 50MW"},{"$f":"IF(ISBLANK(InfoPro!E56),\"\",InfoPro!E56)","v":50},{"$f":"IF(ISBLANK(InfoPro!F56),\"\",InfoPro!F56)","v":"Eólico Onshore"},{"$f":"IF(ISBLANK(InfoPro!I56),\"\",YEAR(InfoPro!I56)-$G$4)","v":4},{"$f":"IF(B64=\"\",\"\",VLOOKUP(D64,Tablas!$B$2:$E$13,2,FALSE))","v":0.56999999999999995},{"$f":"IF(B64=\"\",\"\",VLOOKUP(D64,Tablas!$B$2:$F$13,3,FALSE))","v":0},249659.99999999997,0,0,0,0,0,0,0,0,0,0,0,0,0,0,0,0,0]
[{"$f":"IF(ISBLANK(InfoPro!A57),\"\",InfoPro!A57)","v":"SC_1377_A2"},{"$f":"IF(ISBLANK(InfoPro!B57),\"\",InfoPro!B57)","v":"Eólica Cordobita - 50MW"},{"$f":"IF(ISBLANK(InfoPro!E57),\"\",InfoPro!E57)","v":50},{"$f":"IF(ISBLANK(InfoPro!F57),\"\",InfoPro!F57)","v":"Eólico Onshore"},{"$f":"IF(ISBLANK(InfoPro!I57),\"\",YEAR(InfoPro!I57)-$G$4)","v":4},{"$f":"IF(B65=\"\",\"\",VLOOKUP(D65,Tablas!$B$2:$E$13,2,FALSE))","v":0.56999999999999995},{"$f":"IF(B65=\"\",\"\",VLOOKUP(D65,Tablas!$B$2:$F$13,3,FALSE))","v":0},249659.99999999997,0,0,0,0,0,0,0,0,0,0,0,0,0,0,0,0,0]
[{"$f":"IF(ISBLANK(InfoPro!A58),\"\",InfoPro!A58)","v":"SC_1380_A1"},{"$f":"IF(ISBLANK(InfoPro!B58),\"\",InfoPro!B58)","v":"Parque Eólico Motosira"},{"$f":"IF(ISBLANK(InfoPro!E58),\"\",InfoPro!E58)","v":300},{"$f":"IF(ISBLANK(InfoPro!F58),\"\",InfoPro!F58)","v":"Eólico Onshore"},{"$f":"IF(ISBLANK(InfoPro!I58),\"\",YEAR(InfoPro!I58)-$G$4)","v":3},{"$f":"IF(B66=\"\",\"\",VLOOKUP(D66,Tablas!$B$2:$E$13,2,FALSE))","v":0.56999999999999995},{"$f":"IF(B66=\"\",\"\",VLOOKUP(D66,Tablas!$B$2:$F$13,3,FALSE))","v":0},1497959.9999999998,0,0,0,0,0,0,0,0,0,0,0,0,0,0,0,0,0]
[{"$f":"IF(ISBLANK(InfoPro!A59),\"\",InfoPro!A59)","v":"SC_1380_A2"},{"$f":"IF(ISBLANK(InfoPro!B59),\"\",InfoPro!B59)","v":"Parque Eólico Motosira"},{"$f":"IF(ISBLANK(InfoPro!E59),\"\",InfoPro!E59)","v":300},{"$f":"IF(ISBLANK(InfoPro!F59),\"\",InfoPro!F59)","v":"Eólico Onshore"},{"$f":"IF(ISBLANK(InfoPro!I59),\"\",YEAR(InfoPro!I59)-$G$4)","v":3},{"$f":"IF(B67=\"\",\"\",VLOOKUP(D67,Tablas!$B$2:$E$13,2,FALSE))","v":0.56999999999999995},{"$f":"IF(B67=\"\",\"\",VLOOKUP(D67,Tablas!$B$2:$F$13,3,FALSE))","v":0},1497959.9999999998,0,0,0,0,0,0,0,0,0,0,0,0,0,0,0,0,0]
[{"$f":"IF(ISBLANK(InfoPro!A60),\"\",InfoPro!A60)","v":"SC_1421_A1"},{"$f":"IF(ISBLANK(InfoPro!B60),\"\",InfoPro!B60)","v":"Parque Solar Fotovoltaico SJ Solar 100 MW"},{"$f":"IF(ISBLANK(InfoPro!E60),\"\",InfoPro!E60)","v":100},{"$f":"IF(ISBLANK(InfoPro!F60),\"\",InfoPro!F60)","v":"Solar FV"},{"$f":"IF(ISBLANK(InfoPro!I60),\"\",YEAR(InfoPro!I60)-$G$4)","v":3},{"$f":"IF(B68=\"\",\"\",VLOOKUP(D68,Tablas!$B$2:$E$13,2,FALSE))","v":0.26},{"$f":"IF(B68=\"\",\"\",VLOOKUP(D68,Tablas!$B$2:$F$13,3,FALSE))","v":0},227760,0,0,0,0,0,0,0,0,0,0,0,0,0,0,0,0,0]
[{"$f":"IF(ISBLANK(InfoPro!A61),\"\",InfoPro!A61)","v":"SC_1421_A2"},{"$f":"IF(ISBLANK(InfoPro!B61),\"\",InfoPro!B61)","v":"Parque Solar Fotovoltaico SJ Solar 100 MW"},{"$f":"IF(ISBLANK(InfoPro!E61),\"\",InfoPro!E61)","v":100},{"$f":"IF(ISBLANK(InfoPro!F61),\"\",InfoPro!F61)","v":"Solar FV"},{"$f":"IF(ISBLANK(InfoPro!I61),\"\",YEAR(InfoPro!I61)-$G$4)","v":3},{"$f":"IF(B69=\"\",\"\",VLOOKUP(D69,Tablas!$B$2:$E$13,2,FALSE))","v":0.26},{"$f":"IF(B69=\"\",\"\",VLOOKUP(D69,Tablas!$B$2:$F$13,3,FALSE))","v":0},227760,{"$f":"IF($H69=\"\",\"\",(1/(1+$C$4)^(I$7+$E69))*$H69*$G69*$C$3)","v":0},0,0,0,0,0,0,0,0,0,0,0,0,0,0,0,0]
[{"$f":"IF(ISBLANK(InfoPro!A62),\"\",InfoPro!A62)","v":"SC_1479_A1"},{"$f":"IF(ISBLANK(InfoPro!B62),\"\",InfoPro!B62)","v":"Oslo I_150MW"},{"$f":"IF(ISBLANK(InfoPro!E62),\"\",InfoPro!E62)","v":150},{"$f":"IF(ISBLANK(InfoPro!F62),\"\",InfoPro!F62)","v":"Solar FV"},{"$f":"IF(ISBLANK(InfoPro!I62),\"\",YEAR(InfoPro!I62)-$G$4)","v":3},{"$f":"IF(B70=\"\",\"\",VLOOKUP(D70,Tablas!$B$2:$E$13,2,FALSE))","v":0.26},{"$f":"IF(B70=\"\",\"\",VLOOKUP(D70,Tablas!$B$2:$F$13,3,FALSE))","v":0},341640,0,0,0,0,0,0,0,0,0,0,0,0,0,0,0,0,0]
[{"$f":"IF(ISBLANK(InfoPro!A63),\"\",InfoPro!A63)","v":"SC_1479_A2"},{"$f":"IF(ISBLANK(InfoPro!B63),\"\",InfoPro!B63)","v":"Oslo I_150MW"},{"$f":"IF(ISBLANK(InfoPro!E63),\"\",InfoPro!E63)","v":150},{"$f":"IF(ISBLANK(InfoPro!F63),\"\",InfoPro!F63)","v":"Solar FV"},{"$f":"IF(ISBLANK(InfoPro!I63),\"\",YEAR(InfoPro!I63)-$G$4)","v":3},{"$f":"IF(B71=\"\",\"\",VLOOKUP(D71,Tablas!$B$2:$E$13,2,FALSE))","v":0.26},{"$f":"IF(B71=\"\",\"\",VLOOKUP(D71,Tablas!$B$2:$F$13,3,FALSE))","v":0},341640,0,0,0,0,0,0,0,0,0,0,0,0,0,0,0,0,0]
[{"$f":"IF(ISBLANK(InfoPro!A64),\"\",InfoPro!A64)","v":"SC_1506_A1"},{"$f":"IF(ISBLANK(InfoPro!B64),\"\",InfoPro!B64)","v":"Parque Solar Toro Moreno"},{"$f":"IF(ISBLANK(InfoPro!E64),\"\",InfoPro!E64)","v":99.9},{"$f":"IF(ISBLANK(InfoPro!F64),\"\",InfoPro!F64)","v":"Solar FV"},{"$f":"IF(ISBLANK(InfoPro!I64),\"\",YEAR(InfoPro!I64)-$G$4)","v":-2},{"$f":"IF(B72=\"\",\"\",VLOOKUP(D72,Tablas!$B$2:$E$13,2,FALSE))","v":0.26},{"$f":"IF(B72=\"\",\"\",VLOOKUP(D72,Tablas!$B$2:$F$13,3,FALSE))","v":0},227532.24000000002,0,0,0,0,0,0,0,0,0,0,0,0,0,0,0,0,0]
[{"$f":"IF(ISBLANK(InfoPro!A65),\"\",InfoPro!A65)","v":"SC_1506_A2"},{"$f":"IF(ISBLANK(InfoPro!B65),\"\",InfoPro!B65)","v":"Parque Solar Toro Moreno"},{"$f":"IF(ISBLANK(InfoPro!E65),\"\",InfoPro!E65)","v":99.9},{"$f":"IF(ISBLANK(InfoPro!F65),\"\",InfoPro!F65)","v":"Solar FV"},{"$f":"IF(ISBLANK(InfoPro!I65),\"\",YEAR(InfoPro!I65)-$G$4)","v":-2},{"$f":"IF(B73=\"\",\"\",VLOOKUP(D73,Tablas!$B$2:$E$13,2,FALSE))","v":0.26},{"$f":"IF(B73=\"\",\"\",VLOOKUP(D73,Tablas!$B$2:$F$13,3,FALSE))","v":0},{"$f":"IF(C73=\"\",\"\",+C73*F73*24*365)","v":227532.24000000002},0,0,0,0,0,0,0,0,0,0,0,0,0,0,0,0,0]
[{"$f":"IF(ISBLANK(InfoPro!A66),\"\",InfoPro!A66)","v":"SC_1512_A1"},{"$f":"IF(ISBLANK(InfoPro!B66),\"\",InfoPro!B66)","v":"El Flamingo\n  - 200 MW"},{"$f":"IF(ISBLANK(InfoPro!E66),\"\",InfoPro!E66)","v":200},{"$f":"IF(ISBLANK(InfoPro!F66),\"\",InfoPro!F66)","v":"Solar FV"},{"$f":"IF(ISBLANK(InfoPro!I66),\"\",YEAR(InfoPro!I66)-$G$4)","v":4},{"$f":"IF(B74=\"\",\"\",VLOOKUP(D74,Tablas!$B$2:$E$13,2,FALSE))","v":0.26},{"$f":"IF(B74=\"\",\"\",VLOOKUP(D74,Tablas!$B$2:$F$13,3,FALSE))","v":0},455520,0,0,0,0,0,0,0,0,0,0,0,0,0,0,0,{"$f":"IF(W74=\"\",\"\",SUM(I74:W74))","v":0},{"$f":"IF(C74=0,0,IF(X74=\"\",\"\",X74/(C74*1000)))","v":0}]
[{"$f":"IF(ISBLANK(InfoPro!A67),\"\",InfoPro!A67)","v":"SC_1512_A2"},{"$f":"IF(ISBLANK(InfoPro!B67),\"\",InfoPro!B67)","v":"El Flamingo\n  - 200 MW"},{"$f":"IF(ISBLANK(InfoPro!E67),\"\",InfoPro!E67)","v":200},{"$f":"IF(ISBLANK(InfoPro!F67),\"\",InfoPro!F67)","v":"Solar FV"},{"$f":"IF(ISBLANK(InfoPro!I67),\"\",YEAR(InfoPro!I67)-$G$4)","v":4},{"$f":"IF(B75=\"\",\"\",VLOOKUP(D75,Tablas!$B$2:$E$13,2,FALSE))","v":0.26},{"$f":"IF(B75=\"\",\"\",VLOOKUP(D75,Tablas!$B$2:$F$13,3,FALSE))","v":0},455520,0,0,0,0,0,0,0,0,0,0,0,0,0,0,0,0,0]
[{"$f":"IF(ISBLANK(InfoPro!A68),\"\",InfoPro!A68)","v":"SC_1518_A1"},{"$f":"IF(ISBLANK(InfoPro!B68),\"\",InfoPro!B68)","v":"CHIRIGUANÁ - 300 MW"},{"$f":"IF(ISBLANK(InfoPro!E68),\"\",InfoPro!E68)","v":300},{"$f":"IF(ISBLANK(InfoPro!F68),\"\",InfoPro!F68)","v":"Solar FV"},{"$f":"IF(ISBLANK(InfoPro!I68),\"\",YEAR(InfoPro!I68)-$G$4)","v":4},{"$f":"IF(B76=\"\",\"\",VLOOKUP(D76,Tablas!$B$2:$E$13,2,FALSE))","v":0.26},{"$f":"IF(B76=\"\",\"\",VLOOKUP(D76,Tablas!$B$2:$F$13,3,FALSE))","v":0},683280,0,0,0,0,0,0,0,0,0,0,0,0,0,0,0,0,0]
[{"$f":"IF(ISBLANK(InfoPro!A69),\"\",InfoPro!A69)","v":"SC_1518_A2"},{"$f":"IF(ISBLANK(InfoPro!B69),\"\",InfoPro!B69)","v":"CHIRIGUANÁ - 300 MW"},{"$f":"IF(ISBLANK(InfoPro!E69),\"\",InfoPro!E69)","v":300},{"$f":"IF(ISBLANK(InfoPro!F69),\"\",InfoPro!F69)","v":"Solar FV"},{"$f":"IF(ISBLANK(InfoPro!I69),\"\",YEAR(InfoPro!I69)-$G$4)","v":4},{"$f":"IF(B77=\"\",\"\",VLOOKUP(D77,Tablas!$B$2:$E$13,2,FALSE))","v":0.26},{"$f":"IF(B77=\"\",\"\",VLOOKUP(D77,Tablas!$B$2:$F$13,3,FALSE))","v":0},683280,0,0,0,0,0,0,0,0,0,0,0,0,0,0,0,0,0]
[{"$f":"IF(ISBLANK(InfoPro!A70),\"\",InfoPro!A70)","v":"SC_1531_A1"},{"$f":"IF(ISBLANK(InfoPro!B70),\"\",InfoPro!B70)","v":"Haticos_56MW"},{"$f":"IF(ISBLANK(InfoPro!E70),\"\",InfoPro!E70)","v":56},{"$f":"IF(ISBLANK(InfoPro!F70),\"\",InfoPro!F70)","v":"Solar FV"},{"$f":"IF(ISBLANK(InfoPro!I70),\"\",YEAR(InfoPro!I70)-$G$4)","v":4},{"$f":"IF(B78=\"\",\"\",VLOOKUP(D78,Tablas!$B$2:$E$13,2,FALSE))","v":0.26},{"$f":"IF(B78=\"\",\"\",VLOOKUP(D78,Tablas!$B$2:$F$13,3,FALSE))","v":0},127545.60000000001,0,0,0,0,0,0,0,0,0,0,0,0,0,0,0,0,0]
[{"$f":"IF(ISBLANK(InfoPro!A71),\"\",InfoPro!A71)","v":"SC_1531_A2"},{"$f":"IF(ISBLANK(InfoPro!B71),\"\",InfoPro!B71)","v":"Haticos_56MW"},{"$f":"IF(ISBLANK(InfoPro!E71),\"\",InfoPro!E71)","v":56},{"$f":"IF(ISBLANK(InfoPro!F71),\"\",InfoPro!F71)","v":"Solar FV"},{"$f":"IF(ISBLANK(InfoPro!I71),\"\",YEAR(InfoPro!I71)-$G$4)","v":4},{"$f":"IF(B79=\"\",\"\",VLOOKUP(D79,Tablas!$B$2:$E$13,2,FALSE))","v":0.26},{"$f":"IF(B79=\"\",\"\",VLOOKUP(D79,Tablas!$B$2:$F$13,3,FALSE))","v":0},127545.60000000001,{"$f":"IF($H79=\"\",\"\",(1/(1+$C$4)^(I$7+$E79))*$H79*$G79*$C$3)","v":0},0,0,0,0,0,0,0,0,0,0,0,0,0,0,0,0]
[{"$f":"IF(ISBLANK(InfoPro!A72),\"\",InfoPro!A72)","v":"SC_1532_A1"},{"$f":"IF(ISBLANK(InfoPro!B72),\"\",InfoPro!B72)","v":"Las Mangas_340.8MW"},{"$f":"IF(ISBLANK(InfoPro!E72),\"\",InfoPro!E72)","v":340.8},{"$f":"IF(ISBLANK(InfoPro!F72),\"\",InfoPro!F72)","v":"Solar FV"},{"$f":"IF(ISBLANK(InfoPro!I72),\"\",YEAR(InfoPro!I72)-$G$4)","v":4},{"$f":"IF(B80=\"\",\"\",VLOOKUP(D80,Tablas!$B$2:$E$13,2,FALSE))","v":0.26},{"$f":"IF(B80=\"\",\"\",VLOOKUP(D80,Tablas!$B$2:$F$13,3,FALSE))","v":0},776206.08000000007,0,0,0,0,0,0,0,0,0,0,0,0,0,0,0,0,0]
[{"$f":"IF(ISBLANK(InfoPro!A73),\"\",InfoPro!A73)","v":"SC_1532_A2"},{"$f":"IF(ISBLANK(InfoPro!B73),\"\",InfoPro!B73)","v":"Las Mangas_340.8MW"},{"$f":"IF(ISBLANK(InfoPro!E73),\"\",InfoPro!E73)","v":340.8},{"$f":"IF(ISBLANK(InfoPro!F73),\"\",InfoPro!F73)","v":"Solar FV"},{"$f":"IF(ISBLANK(InfoPro!I73),\"\",YEAR(InfoPro!I73)-$G$4)","v":4},{"$f":"IF(B81=\"\",\"\",VLOOKUP(D81,Tablas!$B$2:$E$13,2,FALSE))","v":0.26},{"$f":"IF(B81=\"\",\"\",VLOOKUP(D81,Tablas!$B$2:$F$13,3,FALSE))","v":0},776206.08000000007,0,0,0,0,0,0,0,0,0,0,0,0,0,0,0,0,0]
[{"$f":"IF(ISBLANK(InfoPro!A74),\"\",InfoPro!A74)","v":"SC_1534_A1"},{"$f":"IF(ISBLANK(InfoPro!B74),\"\",InfoPro!B74)","v":"Parque Eólico Cerrito_378MW"},{"$f":"IF(ISBLANK(InfoPro!E74),\"\",InfoPro!E74)","v":378},{"$f":"IF(ISBLANK(InfoPro!F74),\"\",InfoPro!F74)","v":"Eólico Onshore"},{"$f":"IF(ISBLANK(InfoPro!I74),\"\",YEAR(InfoPro!I74)-$G$4)","v":2},{"$f":"IF(B82=\"\",\"\",VLOOKUP(D82,Tablas!$B$2:$E$13,2,FALSE))","v":0.56999999999999995},{"$f":"IF(B82=\"\",\"\",VLOOKUP(D82,Tablas!$B$2:$F$13,3,FALSE))","v":0},1887429.5999999996,0,0,0,0,0,0,0,0,0,0,0,0,0,0,0,0,0]
[{"$f":"IF(ISBLANK(InfoPro!A75),\"\",InfoPro!A75)","v":"SC_1534_A2"},{"$f":"IF(ISBLANK(InfoPro!B75),\"\",InfoPro!B75)","v":"Parque Eólico Cerrito_378MW"},{"$f":"IF(ISBLANK(InfoPro!E75),\"\",InfoPro!E75)","v":378},{"$f":"IF(ISBLANK(InfoPro!F75),\"\",InfoPro!F75)","v":"Eólico Onshore"},{"$f":"IF(ISBLANK(InfoPro!I75),\"\",YEAR(InfoPro!I75)-$G$4)","v":2},{"$f":"IF(B83=\"\",\"\",VLOOKUP(D83,Tablas!$B$2:$E$13,2,FALSE))","v":0.56999999999999995},{"$f":"IF(B83=\"\",\"\",VLOOKUP(D83,Tablas!$B$2:$F$13,3,FALSE))","v":0},1887429.5999999996,0,0,0,0,0,0,0,0,0,0,0,0,0,0,0,0,0]
[{"$f":"IF(ISBLANK(InfoPro!A76),\"\",InfoPro!A76)","v":"SC_1535_A1"},{"$f":"IF(ISBLANK(InfoPro!B76),\"\",InfoPro!B76)","v":"Parque Eólico Cerrito 2"},{"$f":"IF(ISBLANK(InfoPro!E76),\"\",InfoPro!E76)","v":200},{"$f":"IF(ISBLANK(InfoPro!F76),\"\",InfoPro!F76)","v":"Eólico Onshore"},{"$f":"IF(ISBLANK(InfoPro!I76),\"\",YEAR(InfoPro!I76)-$G$4)","v":2},{"$f":"IF(B84=\"\",\"\",VLOOKUP(D84,Tablas!$B$2:$E$13,2,FALSE))","v":0.56999999999999995},{"$f":"IF(B84=\"\",\"\",VLOOKUP(D84,Tablas!$B$2:$F$13,3,FALSE))","v":0},998639.99999999988,0,0,0,0,0,0,0,0,0,0,0,0,0,0,0,0,0]
[{"$f":"IF(ISBLANK(InfoPro!A77),\"\",InfoPro!A77)","v":"SC_1535_A2"},{"$f":"IF(ISBLANK(InfoPro!B77),\"\",InfoPro!B77)","v":"Parque Eólico Cerrito 2"},{"$f":"IF(ISBLANK(InfoPro!E77),\"\",InfoPro!E77)","v":200},{"$f":"IF(ISBLANK(InfoPro!F77),\"\",InfoPro!F77)","v":"Eólico Onshore"},{"$f":"IF(ISBLANK(InfoPro!I77),\"\",YEAR(InfoPro!I77)-$G$4)","v":2},{"$f":"IF(B85=\"\",\"\",VLOOKUP(D85,Tablas!$B$2:$E$13,2,FALSE))","v":0.56999999999999995},{"$f":"IF(B85=\"\",\"\",VLOOKUP(D85,Tablas!$B$2:$F$13,3,FALSE))","v":0},998639.99999999988,0,0,0,0,0,0,0,0,0,0,0,0,0,0,0,0,0]
[{"$f":"IF(ISBLANK(InfoPro!A78),\"\",InfoPro!A78)","v":"SC_1549_A1"},{"$f":"IF(ISBLANK(InfoPro!B78),\"\",InfoPro!B78)","v":"Parque Solar Bonda"},{"$f":"IF(ISBLANK(InfoPro!E78),\"\",InfoPro!E78)","v":9.9},{"$f":"IF(ISBLANK(InfoPro!F78),\"\",InfoPro!F78)","v":"Solar FV"},{"$f":"IF(ISBLANK(InfoPro!I78),\"\",YEAR(InfoPro!I78)-$G$4)","v":2},{"$f":"IF(B86=\"\",\"\",VLOOKUP(D86,Tablas!$B$2:$E$13,2,FALSE))","v":0.26},{"$f":"IF(B86=\"\",\"\",VLOOKUP(D86,Tablas!$B$2:$F$13,3,FALSE))","v":0},22548.240000000005,0,0,0,0,0,0,0,0,0,0,0,0,0,0,0,0,0]
[{"$f":"IF(ISBLANK(InfoPro!A79),\"\",InfoPro!A79)","v":"SC_1549_A2"},{"$f":"IF(ISBLANK(InfoPro!B79),\"\",InfoPro!B79)","v":"Parque Solar Bonda"},{"$f":"IF(ISBLANK(InfoPro!E79),\"\",InfoPro!E79)","v":9.9},{"$f":"IF(ISBLANK(InfoPro!F79),\"\",InfoPro!F79)","v":"Solar FV"},{"$f":"IF(ISBLANK(InfoPro!I79),\"\",YEAR(InfoPro!I79)-$G$4)","v":2},{"$f":"IF(B87=\"\",\"\",VLOOKUP(D87,Tablas!$B$2:$E$13,2,FALSE))","v":0.26},{"$f":"IF(B87=\"\",\"\",VLOOKUP(D87,Tablas!$B$2:$F$13,3,FALSE))","v":0},22548.240000000005,0,0,0,0,0,0,0,0,0,0,0,0,0,0,0,0,0]
[{"$f":"IF(ISBLANK(InfoPro!A80),\"\",InfoPro!A80)","v":"SC_1550_A1"},{"$f":"IF(ISBLANK(InfoPro!B80),\"\",InfoPro!B80)","v":"Parque Solar Fonseca"},{"$f":"IF(ISBLANK(InfoPro!E80),\"\",InfoPro!E80)","v":9.9},{"$f":"IF(ISBLANK(InfoPro!F80),\"\",InfoPro!F80)","v":"Solar FV"},{"$f":"IF(ISBLANK(InfoPro!I80),\"\",YEAR(InfoPro!I80)-$G$4)","v":2},{"$f":"IF(B88=\"\",\"\",VLOOKUP(D88,Tablas!$B$2:$E$13,2,FALSE))","v":0.26},{"$f":"IF(B88=\"\",\"\",VLOOKUP(D88,Tablas!$B$2:$F$13,3,FALSE))","v":0},22548.240000000005,0,0,0,0,0,0,0,0,0,0,0,0,0,0,0,0,0]
[{"$f":"IF(ISBLANK(InfoPro!A81),\"\",InfoPro!A81)","v":"SC_1550_A2"},{"$f":"IF(ISBLANK(InfoPro!B81),\"\",InfoPro!B81)","v":"Parque Solar Fonseca"},{"$f":"IF(ISBLANK(InfoPro!E81),\"\",InfoPro!E81)","v":9.9},{"$f":"IF(ISBLANK(InfoPro!F81),\"\",InfoPro!F81)","v":"Solar FV"},{"$f":"IF(ISBLANK(InfoPro!I81),\"\",YEAR(InfoPro!I81)-$G$4)","v":2},{"$f":"IF(B89=\"\",\"\",VLOOKUP(D89,Tablas!$B$2:$E$13,2,FALSE))","v":0.26},{"$f":"IF(B89=\"\",\"\",VLOOKUP(D89,Tablas!$B$2:$F$13,3,FALSE))","v":0},22548.240000000005,0,0,0,0,0,0,0,0,0,0,0,0,0,0,0,0,0]
[{"$f":"IF(ISBLANK(InfoPro!A82),\"\",InfoPro!A82)","v":"SC_1556_A1"},{"$f":"IF(ISBLANK(InfoPro!B82),\"\",InfoPro!B82)","v":"Copey Solar I - 100 MW"},{"$f":"IF(ISBLANK(InfoPro!E82),\"\",InfoPro!E82)","v":100},{"$f":"IF(ISBLANK(InfoPro!F82),\"\",InfoPro!F82)","v":"Solar FV"},{"$f":"IF(ISBLANK(InfoPro!I82),\"\",YEAR(InfoPro!I82)-$G$4)","v":3},{"$f":"IF(B90=\"\",\"\",VLOOKUP(D90,Tablas!$B$2:$E$13,2,FALSE))","v":0.26},{"$f":"IF(B90=\"\",\"\",VLOOKUP(D90,Tablas!$B$2:$F$13,3,FALSE))","v":0},227760,0,0,0,0,0,0,0,0,0,0,0,0,0,0,0,0,0]
[{"$f":"IF(ISBLANK(InfoPro!A83),\"\",InfoPro!A83)","v":"SC_1556_A2"},{"$f":"IF(ISBLANK(InfoPro!B83),\"\",InfoPro!B83)","v":"Copey Solar I - 100 MW"},{"$f":"IF(ISBLANK(InfoPro!E83),\"\",InfoPro!E83)","v":100},{"$f":"IF(ISBLANK(InfoPro!F83),\"\",InfoPro!F83)","v":"Solar FV"},{"$f":"IF(ISBLANK(InfoPro!I83),\"\",YEAR(InfoPro!I83)-$G$4)","v":3},{"$f":"IF(B91=\"\",\"\",VLOOKUP(D91,Tablas!$B$2:$E$13,2,FALSE))","v":0.26},{"$f":"IF(B91=\"\",\"\",VLOOKUP(D91,Tablas!$B$2:$F$13,3,FALSE))","v":0},227760,0,0,0,0,0,0,0,0,0,0,0,0,0,0,0,0,0]
[{"$f":"IF(ISBLANK(InfoPro!A84),\"\",InfoPro!A84)","v":"SC_1557_A1"},{"$f":"IF(ISBLANK(InfoPro!B84),\"\",InfoPro!B84)","v":"Copey Solar II"},{"$f":"IF(ISBLANK(InfoPro!E84),\"\",InfoPro!E84)","v":100},{"$f":"IF(ISBLANK(InfoPro!F84),\"\",InfoPro!F84)","v":"Solar FV"},{"$f":"IF(ISBLANK(InfoPro!I84),\"\",YEAR(InfoPro!I84)-$G$4)","v":4},{"$f":"IF(B92=\"\",\"\",VLOOKUP(D92,Tablas!$B$2:$E$13,2,FALSE))","v":0.26},{"$f":"IF(B92=\"\",\"\",VLOOKUP(D92,Tablas!$B$2:$F$13,3,FALSE))","v":0},227760,0,0,0,0,0,0,0,0,0,0,0,0,0,0,0,0,0]
[{"$f":"IF(ISBLANK(InfoPro!A85),\"\",InfoPro!A85)","v":"SC_1557_A2"},{"$f":"IF(ISBLANK(InfoPro!B85),\"\",InfoPro!B85)","v":"Copey Solar II"},{"$f":"IF(ISBLANK(InfoPro!E85),\"\",InfoPro!E85)","v":100},{"$f":"IF(ISBLANK(InfoPro!F85),\"\",InfoPro!F85)","v":"Solar FV"},{"$f":"IF(ISBLANK(InfoPro!I85),\"\",YEAR(InfoPro!I85)-$G$4)","v":4},{"$f":"IF(B93=\"\",\"\",VLOOKUP(D93,Tablas!$B$2:$E$13,2,FALSE))","v":0.26},{"$f":"IF(B93=\"\",\"\",VLOOKUP(D93,Tablas!$B$2:$F$13,3,FALSE))","v":0},{"$f":"IF(C93=\"\",\"\",+C93*F93*24*365)","v":227760},0,0,0,0,0,0,0,0,0,0,0,0,0,0,0,{"$f":"IF(W93=\"\",\"\",SUM(I93:W93))","v":0},{"$f":"IF(C93=0,0,IF(X93=\"\",\"\",X93/(C93*1000)))","v":0}]
[{"$f":"IF(ISBLANK(InfoPro!A86),\"\",InfoPro!A86)","v":"SC_1565_A1"},{"$f":"IF(ISBLANK(InfoPro!B86),\"\",InfoPro!B86)","v":"Eólica Río Córdoba 50 MW"},{"$f":"IF(ISBLANK(InfoPro!E86),\"\",InfoPro!E86)","v":50},{"$f":"IF(ISBLANK(InfoPro!F86),\"\",InfoPro!F86)","v":"Eólico Onshore"},{"$f":"IF(ISBLANK(InfoPro!I86),\"\",YEAR(InfoPro!I86)-$G$4)","v":2},{"$f":"IF(B94=\"\",\"\",VLOOKUP(D94,Tablas!$B$2:$E$13,2,FALSE))","v":0.56999999999999995},{"$f":"IF(B94=\"\",\"\",VLOOKUP(D94,Tablas!$B$2:$F$13,3,FALSE))","v":0},249659.99999999997,0,0,0,0,0,0,0,0,0,0,0,0,0,0,0,0,0]
[{"$f":"IF(ISBLANK(InfoPro!A87),\"\",InfoPro!A87)","v":"SC_1575_A1"},{"$f":"IF(ISBLANK(InfoPro!B87),\"\",InfoPro!B87)","v":"BONDERO 70 MW"},{"$f":"IF(ISBLANK(InfoPro!E87),\"\",InfoPro!E87)","v":70},{"$f":"IF(ISBLANK(InfoPro!F87),\"\",InfoPro!F87)","v":"Eólico Onshore"},{"$f":"IF(ISBLANK(InfoPro!I87),\"\",YEAR(InfoPro!I87)-$G$4)","v":1},{"$f":"IF(B95=\"\",\"\",VLOOKUP(D95,Tablas!$B$2:$E$13,2,FALSE))","v":0.56999999999999995},{"$f":"IF(B95=\"\",\"\",VLOOKUP(D95,Tablas!$B$2:$F$13,3,FALSE))","v":0},349523.99999999994,{"$f":"IF($H95=\"\",\"\",(1/(1+$C$4)^(I$7+$E95))*$H95*$G95*$C$3)","v":0},0,0,0,0,0,0,0,0,0,0,0,0,0,0,0,0]
[{"$f":"IF(ISBLANK(InfoPro!A88),\"\",InfoPro!A88)","v":"SC_1592_A1"},{"$f":"IF(ISBLANK(InfoPro!B88),\"\",InfoPro!B88)","v":"Expansión La Loma II - 100 MW"},{"$f":"IF(ISBLANK(InfoPro!E88),\"\",InfoPro!E88)","v":100},{"$f":"IF(ISBLANK(InfoPro!F88),\"\",InfoPro!F88)","v":"Solar FV"},{"$f":"IF(ISBLANK(InfoPro!I88),\"\",YEAR(InfoPro!I88)-$G$4)","v":5},{"$f":"IF(B96=\"\",\"\",VLOOKUP(D96,Tablas!$B$2:$E$13,2,FALSE))","v":0.26},{"$f":"IF(B96=\"\",\"\",VLOOKUP(D96,Tablas!$B$2:$F$13,3,FALSE))","v":0},227760,0,0,0,0,0,0,0,0,0,0,0,0,0,0,0,0,0]
[{"$f":"IF(ISBLANK(InfoPro!A89),\"\",InfoPro!A89)","v":"SC_1593_A1"},{"$f":"IF(ISBLANK(InfoPro!B89),\"\",InfoPro!B89)","v":"Parque Solar Camarones 6 MW"},{"$f":"IF(ISBLANK(InfoPro!E89),\"\",InfoPro!E89)","v":6},{"$f":"IF(ISBLANK(InfoPro!F89),\"\",InfoPro!F89)","v":"Solar FV"},{"$f":"IF(ISBLANK(InfoPro!I89),\"\",YEAR(InfoPro!I89)-$G$4)","v":1},{"$f":"IF(B97=\"\",\"\",VLOOKUP(D97,Tablas!$B$2:$E$13,2,FALSE))","v":0.26},{"$f":"IF(B97=\"\",\"\",VLOOKUP(D97,Tablas!$B$2:$F$13,3,FALSE))","v":0},13665.599999999999,0,0,0,0,0,0,0,0,0,0,0,0,0,0,0,0,0]
[{"$f":"IF(ISBLANK(InfoPro!A90),\"\",InfoPro!A90)","v":"SC_1593_A2"},{"$f":"IF(ISBLANK(InfoPro!B90),\"\",InfoPro!B90)","v":"Parque Solar Camarones 6 MW"},{"$f":"IF(ISBLANK(InfoPro!E90),\"\",InfoPro!E90)","v":6},{"$f":"IF(ISBLANK(InfoPro!F90),\"\",InfoPro!F90)","v":"Solar FV"},{"$f":"IF(ISBLANK(InfoPro!I90),\"\",YEAR(InfoPro!I90)-$G$4)","v":1},{"$f":"IF(B98=\"\",\"\",VLOOKUP(D98,Tablas!$B$2:$E$13,2,FALSE))","v":0.26},{"$f":"IF(B98=\"\",\"\",VLOOKUP(D98,Tablas!$B$2:$F$13,3,FALSE))","v":0},13665.599999999999,0,0,0,0,0,0,0,0,0,0,0,0,0,0,0,0,0]
[{"$f":"IF(ISBLANK(InfoPro!A91),\"\",InfoPro!A91)","v":"SC_1596_A1"},{"$f":"IF(ISBLANK(InfoPro!B91),\"\",InfoPro!B91)","v":"Expansión La Loma III - 100 MW"},{"$f":"IF(ISBLANK(InfoPro!E91),\"\",InfoPro!E91)","v":100},{"$f":"IF(ISBLANK(InfoPro!F91),\"\",InfoPro!F91)","v":"Solar FV"},{"$f":"IF(ISBLANK(InfoPro!I91),\"\",YEAR(InfoPro!I91)-$G$4)","v":6},{"$f":"IF(B99=\"\",\"\",VLOOKUP(D99,Tablas!$B$2:$E$13,2,FALSE))","v":0.26},{"$f":"IF(B99=\"\",\"\",VLOOKUP(D99,Tablas!$B$2:$F$13,3,FALSE))","v":0},227760,0,0,0,0,0,0,0,0,0,0,0,0,0,0,0,0,0]
[{"$f":"IF(ISBLANK(InfoPro!A92),\"\",InfoPro!A92)","v":"SC_1656_A1"},{"$f":"IF(ISBLANK(InfoPro!B92),\"\",InfoPro!B92)","v":"Parque solar TERRɅ I"},{"$f":"IF(ISBLANK(InfoPro!E92),\"\",InfoPro!E92)","v":19.899999999999999},{"$f":"IF(ISBLANK(InfoPro!F92),\"\",InfoPro!F92)","v":"Solar FV"},{"$f":"IF(ISBLANK(InfoPro!I92),\"\",YEAR(InfoPro!I92)-$G$4)","v":1},{"$f":"IF(B100=\"\",\"\",VLOOKUP(D100,Tablas!$B$2:$E$13,2,FALSE))","v":0.26},{"$f":"IF(B100=\"\",\"\",VLOOKUP(D100,Tablas!$B$2:$F$13,3,FALSE))","v":0},45324.24,0,0,0,0,0,0,0,0,0,0,0,0,0,0,0,0,0]
[{"$f":"IF(ISBLANK(InfoPro!A93),\"\",InfoPro!A93)","v":"SC_1656_A2"},{"$f":"IF(ISBLANK(InfoPro!B93),\"\",InfoPro!B93)","v":"Parque solar TERRɅ I"},{"$f":"IF(ISBLANK(InfoPro!E93),\"\",InfoPro!E93)","v":19.899999999999999},{"$f":"IF(ISBLANK(InfoPro!F93),\"\",InfoPro!F93)","v":"Solar FV"},{"$f":"IF(ISBLANK(InfoPro!I93),\"\",YEAR(InfoPro!I93)-$G$4)","v":1},{"$f":"IF(B101=\"\",\"\",VLOOKUP(D101,Tablas!$B$2:$E$13,2,FALSE))","v":0.26},{"$f":"IF(B101=\"\",\"\",VLOOKUP(D101,Tablas!$B$2:$F$13,3,FALSE))","v":0},45324.24,0,0,0,0,0,0,0,0,0,0,0,0,0,0,0,0,0]
[{"$f":"IF(ISBLANK(InfoPro!A94),\"\",InfoPro!A94)","v":"SC_1698_A1"},{"$f":"IF(ISBLANK(InfoPro!B94),\"\",InfoPro!B94)","v":"Barlovento 2_500MW"},{"$f":"IF(ISBLANK(InfoPro!E94),\"\",InfoPro!E94)","v":500},{"$f":"IF(ISBLANK(InfoPro!F94),\"\",InfoPro!F94)","v":"Eólico Offshore"},{"$f":"IF(ISBLANK(InfoPro!I94),\"\",YEAR(InfoPro!I94)-$G$4)","v":11},{"$f":"IF(B102=\"\",\"\",VLOOKUP(D102,Tablas!$B$2:$E$13,2,FALSE))","v":0.56999999999999995},{"$f":"IF(B102=\"\",\"\",VLOOKUP(D102,Tablas!$B$2:$F$13,3,FALSE))","v":0},2496600,0,0,0,0,0,0,0,0,0,0,0,0,0,0,0,0,0]
[{"$f":"IF(ISBLANK(InfoPro!A95),\"\",InfoPro!A95)","v":"SC_1699_A1"},{"$f":"IF(ISBLANK(InfoPro!B95),\"\",InfoPro!B95)","v":"PARQUE EOLICO GUAJIRA II de 302.4 MW"},{"$f":"IF(ISBLANK(InfoPro!E95),\"\",InfoPro!E95)","v":302.39999999999998},{"$f":"IF(ISBLANK(InfoPro!F95),\"\",InfoPro!F95)","v":"Eólico Onshore"},{"$f":"IF(ISBLANK(InfoPro!I95),\"\",YEAR(InfoPro!I95)-$G$4)","v":4},{"$f":"IF(B103=\"\",\"\",VLOOKUP(D103,Tablas!$B$2:$E$13,2,FALSE))","v":0.56999999999999995},{"$f":"IF(B103=\"\",\"\",VLOOKUP(D103,Tablas!$B$2:$F$13,3,FALSE))","v":0},1509943.6799999997,0,0,0,0,0,0,0,0,0,0,0,0,0,0,0,0,0]
[{"$f":"IF(ISBLANK(InfoPro!A96),\"\",InfoPro!A96)","v":"SC_1699_A2"},{"$f":"IF(ISBLANK(InfoPro!B96),\"\",InfoPro!B96)","v":"PARQUE EOLICO GUAJIRA II de 302.4 MW"},{"$f":"IF(ISBLANK(InfoPro!E96),\"\",InfoPro!E96)","v":302.39999999999998},{"$f":"IF(ISBLANK(InfoPro!F96),\"\",InfoPro!F96)","v":"Eólico Onshore"},{"$f":"IF(ISBLANK(InfoPro!I96),\"\",YEAR(InfoPro!I96)-$G$4)","v":4},{"$f":"IF(B104=\"\",\"\",VLOOKUP(D104,Tablas!$B$2:$E$13,2,FALSE))","v":0.56999999999999995},{"$f":"IF(B104=\"\",\"\",VLOOKUP(D104,Tablas!$B$2:$F$13,3,FALSE))","v":0},1509943.6799999997,0,0,0,0,0,0,0,0,0,0,0,0,0,0,0,0,0]
[{"$f":"IF(ISBLANK(InfoPro!A97),\"\",InfoPro!A97)","v":"SC_1703_A1"},{"$f":"IF(ISBLANK(InfoPro!B97),\"\",InfoPro!B97)","v":"Barlovento 3 de 500 MW"},{"$f":"IF(ISBLANK(InfoPro!E97),\"\",InfoPro!E97)","v":500},{"$f":"IF(ISBLANK(InfoPro!F97),\"\",InfoPro!F97)","v":"Eólico Offshore"},{"$f":"IF(ISBLANK(InfoPro!I97),\"\",YEAR(InfoPro!I97)-$G$4)","v":11},{"$f":"IF(B105=\"\",\"\",VLOOKUP(D105,Tablas!$B$2:$E$13,2,FALSE))","v":0.56999999999999995},{"$f":"IF(B105=\"\",\"\",VLOOKUP(D105,Tablas!$B$2:$F$13,3,FALSE))","v":0},2496600,0,0,0,0,0,0,0,0,0,0,0,0,0,0,0,0,0]
[{"$f":"IF(ISBLANK(InfoPro!A98),\"\",InfoPro!A98)","v":"SC_1707_A1"},{"$f":"IF(ISBLANK(InfoPro!B98),\"\",InfoPro!B98)","v":"Santa Marta II - 50 MW"},{"$f":"IF(ISBLANK(InfoPro!E98),\"\",InfoPro!E98)","v":50},{"$f":"IF(ISBLANK(InfoPro!F98),\"\",InfoPro!F98)","v":"Solar FV"},{"$f":"IF(ISBLANK(InfoPro!I98),\"\",YEAR(InfoPro!I98)-$G$4)","v":2},{"$f":"IF(B106=\"\",\"\",VLOOKUP(D106,Tablas!$B$2:$E$13,2,FALSE))","v":0.26},{"$f":"IF(B106=\"\",\"\",VLOOKUP(D106,Tablas!$B$2:$F$13,3,FALSE))","v":0},113880,0,0,0,0,0,0,0,0,0,0,0,0,0,0,0,0,0]
[{"$f":"IF(ISBLANK(InfoPro!A99),\"\",InfoPro!A99)","v":"SC_1710_A1"},{"$f":"IF(ISBLANK(InfoPro!B99),\"\",InfoPro!B99)","v":"Parque Eólico Trupillo_100MW"},{"$f":"IF(ISBLANK(InfoPro!E99),\"\",InfoPro!E99)","v":100},{"$f":"IF(ISBLANK(InfoPro!F99),\"\",InfoPro!F99)","v":"Eólico Onshore"},{"$f":"IF(ISBLANK(InfoPro!I99),\"\",YEAR(InfoPro!I99)-$G$4)","v":5},{"$f":"IF(B107=\"\",\"\",VLOOKUP(D107,Tablas!$B$2:$E$13,2,FALSE))","v":0.56999999999999995},{"$f":"IF(B107=\"\",\"\",VLOOKUP(D107,Tablas!$B$2:$F$13,3,FALSE))","v":0},499319.99999999994,0,0,0,0,0,0,0,0,0,0,0,0,0,0,0,0,0]
[{"$f":"IF(ISBLANK(InfoPro!A100),\"\",InfoPro!A100)","v":"SC_1710_A2"},{"$f":"IF(ISBLANK(InfoPro!B100),\"\",InfoPro!B100)","v":"Parque Eólico Trupillo_100MW"},{"$f":"IF(ISBLANK(InfoPro!E100),\"\",InfoPro!E100)","v":100},{"$f":"IF(ISBLANK(InfoPro!F100),\"\",InfoPro!F100)","v":"Eólico Onshore"},{"$f":"IF(ISBLANK(InfoPro!I100),\"\",YEAR(InfoPro!I100)-$G$4)","v":5},{"$f":"IF(B108=\"\",\"\",VLOOKUP(D108,Tablas!$B$2:$E$13,2,FALSE))","v":0.56999999999999995},{"$f":"IF(B108=\"\",\"\",VLOOKUP(D108,Tablas!$B$2:$F$13,3,FALSE))","v":0},499319.99999999994,0,0,0,0,0,0,0,0,0,0,0,0,0,0,0,0,0]
[{"$f":"IF(ISBLANK(InfoPro!A101),\"\",InfoPro!A101)","v":"SC_1718_A1"},{"$f":"IF(ISBLANK(InfoPro!B101),\"\",InfoPro!B101)","v":"Autogeneración Drummond 50 MW"},{"$f":"IF(ISBLANK(InfoPro!E101),\"\",InfoPro!E101)","v":50},{"$f":"IF(ISBLANK(InfoPro!F101),\"\",InfoPro!F101)","v":"Solar FV"},{"$f":"IF(ISBLANK(InfoPro!I101),\"\",YEAR(InfoPro!I101)-$G$4)","v":0},{"$f":"IF(B109=\"\",\"\",VLOOKUP(D109,Tablas!$B$2:$E$13,2,FALSE))","v":0.26},{"$f":"IF(B109=\"\",\"\",VLOOKUP(D109,Tablas!$B$2:$F$13,3,FALSE))","v":0},113880,0,0,0,0,0,0,0,0,0,0,0,0,0,0,0,0,0]
[{"$f":"IF(ISBLANK(InfoPro!A102),\"\",InfoPro!A102)","v":"SC_1722_A1"},{"$f":"IF(ISBLANK(InfoPro!B102),\"\",InfoPro!B102)","v":"PARQUE EÓLICO MONSAUI 9,9 MW"},{"$f":"IF(ISBLANK(InfoPro!E102),\"\",InfoPro!E102)","v":9.9},{"$f":"IF(ISBLANK(InfoPro!F102),\"\",InfoPro!F102)","v":"Eólico Onshore"},{"$f":"IF(ISBLANK(InfoPro!I102),\"\",YEAR(InfoPro!I102)-$G$4)","v":4},{"$f":"IF(B110=\"\",\"\",VLOOKUP(D110,Tablas!$B$2:$E$13,2,FALSE))","v":0.56999999999999995},{"$f":"IF(B110=\"\",\"\",VLOOKUP(D110,Tablas!$B$2:$F$13,3,FALSE))","v":0},49432.679999999993,0,0,0,0,0,0,0,0,0,0,0,0,0,0,0,0,0]
[{"$f":"IF(ISBLANK(InfoPro!A103),\"\",InfoPro!A103)","v":"SC_1722_A2"},{"$f":"IF(ISBLANK(InfoPro!B103),\"\",InfoPro!B103)","v":"PARQUE EÓLICO MONSAUI 9,9 MW"},{"$f":"IF(ISBLANK(InfoPro!E103),\"\",InfoPro!E103)","v":9.9},{"$f":"IF(ISBLANK(InfoPro!F103),\"\",InfoPro!F103)","v":"Eólico Onshore"},{"$f":"IF(ISBLANK(InfoPro!I103),\"\",YEAR(InfoPro!I103)-$G$4)","v":4},{"$f":"IF(B111=\"\",\"\",VLOOKUP(D111,Tablas!$B$2:$E$13,2,FALSE))","v":0.56999999999999995},{"$f":"IF(B111=\"\",\"\",VLOOKUP(D111,Tablas!$B$2:$F$13,3,FALSE))","v":0},49432.679999999993,0,0,0,0,0,0,0,0,0,0,0,0,0,0,0,0,0]
[{"$f":"IF(ISBLANK(InfoPro!A104),\"\",InfoPro!A104)","v":"SC_1728_A1"},{"$f":"IF(ISBLANK(InfoPro!B104),\"\",InfoPro!B104)","v":"PARQUE SOLAR CAÑAHUATE II - 190 MW"},{"$f":"IF(ISBLANK(InfoPro!E104),\"\",InfoPro!E104)","v":190},{"$f":"IF(ISBLANK(InfoPro!F104),\"\",InfoPro!F104)","v":"Solar FV"},{"$f":"IF(ISBLANK(InfoPro!I104),\"\",YEAR(InfoPro!I104)-$G$4)","v":1},{"$f":"IF(B112=\"\",\"\",VLOOKUP(D112,Tablas!$B$2:$E$13,2,FALSE))","v":0.26},{"$f":"IF(B112=\"\",\"\",VLOOKUP(D112,Tablas!$B$2:$F$13,3,FALSE))","v":0},432743.99999999994,{"$f":"IF($H112=\"\",\"\",(1/(1+$C$4)^(I$7+$E112))*$H112*$G112*$C$3)","v":0},0,0,0,0,0,0,0,0,0,0,0,0,0,0,0,0]
[{"$f":"IF(ISBLANK(InfoPro!A105),\"\",InfoPro!A105)","v":"SC_1729_A1"},{"$f":"IF(ISBLANK(InfoPro!B105),\"\",InfoPro!B105)","v":"TR Solar 17"},{"$f":"IF(ISBLANK(InfoPro!E105),\"\",InfoPro!E105)","v":200},{"$f":"IF(ISBLANK(InfoPro!F105),\"\",InfoPro!F105)","v":"Solar FV"},{"$f":"IF(ISBLANK(InfoPro!I105),\"\",YEAR(InfoPro!I105)-$G$4)","v":3},{"$f":"IF(B113=\"\",\"\",VLOOKUP(D113,Tablas!$B$2:$E$13,2,FALSE))","v":0.26},{"$f":"IF(B113=\"\",\"\",VLOOKUP(D113,Tablas!$B$2:$F$13,3,FALSE))","v":0},455520,0,0,0,0,0,0,0,0,0,0,0,0,0,0,0,0,0]
[{"$f":"IF(ISBLANK(InfoPro!A106),\"\",InfoPro!A106)","v":"SC_1729_A2"},{"$f":"IF(ISBLANK(InfoPro!B106),\"\",InfoPro!B106)","v":"TR Solar 17"},{"$f":"IF(ISBLANK(InfoPro!E106),\"\",InfoPro!E106)","v":200},{"$f":"IF(ISBLANK(InfoPro!F106),\"\",InfoPro!F106)","v":"Solar FV"},{"$f":"IF(ISBLANK(InfoPro!I106),\"\",YEAR(InfoPro!I106)-$G$4)","v":3},{"$f":"IF(B114=\"\",\"\",VLOOKUP(D114,Tablas!$B$2:$E$13,2,FALSE))","v":0.26},{"$f":"IF(B114=\"\",\"\",VLOOKUP(D114,Tablas!$B$2:$F$13,3,FALSE))","v":0},455520,0,0,0,0,0,0,0,0,0,0,0,0,0,0,0,0,0]
[{"$f":"IF(ISBLANK(InfoPro!A107),\"\",InfoPro!A107)","v":"SC_1746_A1"},{"$f":"IF(ISBLANK(InfoPro!B107),\"\",InfoPro!B107)","v":"Parque Solar Nuevo Mundo"},{"$f":"IF(ISBLANK(InfoPro!E107),\"\",InfoPro!E107)","v":99.99},{"$f":"IF(ISBLANK(InfoPro!F107),\"\",InfoPro!F107)","v":"Solar FV"},{"$f":"IF(ISBLANK(InfoPro!I107),\"\",YEAR(InfoPro!I107)-$G$4)","v":2},{"$f":"IF(B115=\"\",\"\",VLOOKUP(D115,Tablas!$B$2:$E$13,2,FALSE))","v":0.26},{"$f":"IF(B115=\"\",\"\",VLOOKUP(D115,Tablas!$B$2:$F$13,3,FALSE))","v":0},227737.22399999999,0,0,0,0,0,0,0,0,0,0,0,0,0,0,0,0,0]
[{"$f":"IF(ISBLANK(InfoPro!A108),\"\",InfoPro!A108)","v":"SC_1746_A2"},{"$f":"IF(ISBLANK(InfoPro!B108),\"\",InfoPro!B108)","v":"Parque Solar Nuevo Mundo"},{"$f":"IF(ISBLANK(InfoPro!E108),\"\",InfoPro!E108)","v":99.99},{"$f":"IF(ISBLANK(InfoPro!F108),\"\",InfoPro!F108)","v":"Solar FV"},{"$f":"IF(ISBLANK(InfoPro!I108),\"\",YEAR(InfoPro!I108)-$G$4)","v":2},{"$f":"IF(B116=\"\",\"\",VLOOKUP(D116,Tablas!$B$2:$E$13,2,FALSE))","v":0.26},{"$f":"IF(B116=\"\",\"\",VLOOKUP(D116,Tablas!$B$2:$F$13,3,FALSE))","v":0},227737.22399999999,0,0,0,0,0,0,0,0,0,0,0,0,0,0,0,0,0]
[{"$f":"IF(ISBLANK(InfoPro!A109),\"\",InfoPro!A109)","v":"SC_1752_A1"},{"$f":"IF(ISBLANK(InfoPro!B109),\"\",InfoPro!B109)","v":"OWF BERGANTIN 300"},{"$f":"IF(ISBLANK(InfoPro!E109),\"\",InfoPro!E109)","v":300},{"$f":"IF(ISBLANK(InfoPro!F109),\"\",InfoPro!F109)","v":"Eólico Offshore"},{"$f":"IF(ISBLANK(InfoPro!I109),\"\",YEAR(InfoPro!I109)-$G$4)","v":9},{"$f":"IF(B117=\"\",\"\",VLOOKUP(D117,Tablas!$B$2:$E$13,2,FALSE))","v":0.56999999999999995},{"$f":"IF(B117=\"\",\"\",VLOOKUP(D117,Tablas!$B$2:$F$13,3,FALSE))","v":0},1497959.9999999998,0,0,0,0,0,0,0,0,0,0,0,0,0,0,0,0,0]
[{"$f":"IF(ISBLANK(InfoPro!A110),\"\",InfoPro!A110)","v":"SC_1752_A2"},{"$f":"IF(ISBLANK(InfoPro!B110),\"\",InfoPro!B110)","v":"OWF BERGANTIN 300"},{"$f":"IF(ISBLANK(InfoPro!E110),\"\",InfoPro!E110)","v":300},{"$f":"IF(ISBLANK(InfoPro!F110),\"\",InfoPro!F110)","v":"Eólico Offshore"},{"$f":"IF(ISBLANK(InfoPro!I110),\"\",YEAR(InfoPro!I110)-$G$4)","v":9},{"$f":"IF(B118=\"\",\"\",VLOOKUP(D118,Tablas!$B$2:$E$13,2,FALSE))","v":0.56999999999999995},{"$f":"IF(B118=\"\",\"\",VLOOKUP(D118,Tablas!$B$2:$F$13,3,FALSE))","v":0},1497959.9999999998,0,0,0,0,0,0,0,0,0,0,0,0,0,0,0,0,0]
[{"$f":"IF(ISBLANK(InfoPro!A111),\"\",InfoPro!A111)","v":"SC_1756_A1"},{"$f":"IF(ISBLANK(InfoPro!B111),\"\",InfoPro!B111)","v":"Barlovento 4_500MW"},{"$f":"IF(ISBLANK(InfoPro!E111),\"\",InfoPro!E111)","v":500},{"$f":"IF(ISBLANK(InfoPro!F111),\"\",InfoPro!F111)","v":"Eólico Offshore"},{"$f":"IF(ISBLANK(InfoPro!I111),\"\",YEAR(InfoPro!I111)-$G$4)","v":11},{"$f":"IF(B119=\"\",\"\",VLOOKUP(D119,Tablas!$B$2:$E$13,2,FALSE))","v":0.56999999999999995},{"$f":"IF(B119=\"\",\"\",VLOOKUP(D119,Tablas!$B$2:$F$13,3,FALSE))","v":0},2496600,0,0,0,0,0,0,0,0,0,0,0,0,0,0,0,0,0]
[{"$f":"IF(ISBLANK(InfoPro!A112),\"\",InfoPro!A112)","v":"SC_1765_A1"},{"$f":"IF(ISBLANK(InfoPro!B112),\"\",InfoPro!B112)","v":"PARQUE SOLAR CIUDAD BLANCA - 199 MW"},{"$f":"IF(ISBLANK(InfoPro!E112),\"\",InfoPro!E112)","v":19.899999999999999},{"$f":"IF(ISBLANK(InfoPro!F112),\"\",InfoPro!F112)","v":"Solar FV"},{"$f":"IF(ISBLANK(InfoPro!I112),\"\",YEAR(InfoPro!I112)-$G$4)","v":3},{"$f":"IF(B120=\"\",\"\",VLOOKUP(D120,Tablas!$B$2:$E$13,2,FALSE))","v":0.26},{"$f":"IF(B120=\"\",\"\",VLOOKUP(D120,Tablas!$B$2:$F$13,3,FALSE))","v":0},45324.24,0,0,0,0,0,0,0,0,0,0,0,0,0,0,0,0,0]
[{"$f":"IF(ISBLANK(InfoPro!A113),\"\",InfoPro!A113)","v":"SC_1765_A2"},{"$f":"IF(ISBLANK(InfoPro!B113),\"\",InfoPro!B113)","v":"PARQUE SOLAR CIUDAD BLANCA - 199 MW"},{"$f":"IF(ISBLANK(InfoPro!E113),\"\",InfoPro!E113)","v":19.899999999999999},{"$f":"IF(ISBLANK(InfoPro!F113),\"\",InfoPro!F113)","v":"Solar FV"},{"$f":"IF(ISBLANK(InfoPro!I113),\"\",YEAR(InfoPro!I113)-$G$4)","v":3},{"$f":"IF(B121=\"\",\"\",VLOOKUP(D121,Tablas!$B$2:$E$13,2,FALSE))","v":0.26},{"$f":"IF(B121=\"\",\"\",VLOOKUP(D121,Tablas!$B$2:$F$13,3,FALSE))","v":0},45324.24,0,0,0,0,0,0,0,0,0,0,0,0,0,0,0,0,0]
[{"$f":"IF(ISBLANK(InfoPro!A114),\"\",InfoPro!A114)","v":"SC_1779_A1"},{"$f":"IF(ISBLANK(InfoPro!B114),\"\",InfoPro!B114)","v":"Pétalo del Cesar III El Paso"},{"$f":"IF(ISBLANK(InfoPro!E114),\"\",InfoPro!E114)","v":9.9},{"$f":"IF(ISBLANK(InfoPro!F114),\"\",InfoPro!F114)","v":"Solar FV"},{"$f":"IF(ISBLANK(InfoPro!I114),\"\",YEAR(InfoPro!I114)-$G$4)","v":3},{"$f":"IF(B122=\"\",\"\",VLOOKUP(D122,Tablas!$B$2:$E$13,2,FALSE))","v":0.26},{"$f":"IF(B122=\"\",\"\",VLOOKUP(D122,Tablas!$B$2:$F$13,3,FALSE))","v":0},22548.240000000005,0,0,0,0,0,0,0,0,0,0,0,0,0,0,0,0,0]
[{"$f":"IF(ISBLANK(InfoPro!A115),\"\",InfoPro!A115)","v":"SC_1779_A2"},{"$f":"IF(ISBLANK(InfoPro!B115),\"\",InfoPro!B115)","v":"Pétalo del Cesar III El Paso"},{"$f":"IF(ISBLANK(InfoPro!E115),\"\",InfoPro!E115)","v":9.9},{"$f":"IF(ISBLANK(InfoPro!F115),\"\",InfoPro!F115)","v":"Solar FV"},{"$f":"IF(ISBLANK(InfoPro!I115),\"\",YEAR(InfoPro!I115)-$G$4)","v":3},{"$f":"IF(B123=\"\",\"\",VLOOKUP(D123,Tablas!$B$2:$E$13,2,FALSE))","v":0.26},{"$f":"IF(B123=\"\",\"\",VLOOKUP(D123,Tablas!$B$2:$F$13,3,FALSE))","v":0},22548.240000000005,0,0,0,0,0,0,0,0,0,0,0,0,0,0,0,0,0]
[{"$f":"IF(ISBLANK(InfoPro!A116),\"\",InfoPro!A116)","v":"SC_1783_A1"},{"$f":"IF(ISBLANK(InfoPro!B116),\"\",InfoPro!B116)","v":"Pétalo del Cesar IV La Loma"},{"$f":"IF(ISBLANK(InfoPro!E116),\"\",InfoPro!E116)","v":9.9},{"$f":"IF(ISBLANK(InfoPro!F116),\"\",InfoPro!F116)","v":"Solar FV"},{"$f":"IF(ISBLANK(InfoPro!I116),\"\",YEAR(InfoPro!I116)-$G$4)","v":3},{"$f":"IF(B124=\"\",\"\",VLOOKUP(D124,Tablas!$B$2:$E$13,2,FALSE))","v":0.26},{"$f":"IF(B124=\"\",\"\",VLOOKUP(D124,Tablas!$B$2:$F$13,3,FALSE))","v":0},22548.240000000005,0,0,0,0,0,0,0,0,0,0,0,0,0,0,0,0,0]
[{"$f":"IF(ISBLANK(InfoPro!A117),\"\",InfoPro!A117)","v":"SC_1783_A2"},{"$f":"IF(ISBLANK(InfoPro!B117),\"\",InfoPro!B117)","v":"Pétalo del Cesar IV La Loma"},{"$f":"IF(ISBLANK(InfoPro!E117),\"\",InfoPro!E117)","v":9.9},{"$f":"IF(ISBLANK(InfoPro!F117),\"\",InfoPro!F117)","v":"Solar FV"},{"$f":"IF(ISBLANK(InfoPro!I117),\"\",YEAR(InfoPro!I117)-$G$4)","v":3},{"$f":"IF(B125=\"\",\"\",VLOOKUP(D125,Tablas!$B$2:$E$13,2,FALSE))","v":0.26},{"$f":"IF(B125=\"\",\"\",VLOOKUP(D125,Tablas!$B$2:$F$13,3,FALSE))","v":0},22548.240000000005,0,0,0,0,0,0,0,0,0,0,0,0,0,0,0,0,0]
[{"$f":"IF(ISBLANK(InfoPro!A118),\"\",InfoPro!A118)","v":"SC_1788_A1"},{"$f":"IF(ISBLANK(InfoPro!B118),\"\",InfoPro!B118)","v":"DSE COPEY 19.9"},{"$f":"IF(ISBLANK(InfoPro!E118),\"\",InfoPro!E118)","v":19.899999999999999},{"$f":"IF(ISBLANK(InfoPro!F118),\"\",InfoPro!F118)","v":"Solar FV"},{"$f":"IF(ISBLANK(InfoPro!I118),\"\",YEAR(InfoPro!I118)-$G$4)","v":2},{"$f":"IF(B126=\"\",\"\",VLOOKUP(D126,Tablas!$B$2:$E$13,2,FALSE))","v":0.26},{"$f":"IF(B126=\"\",\"\",VLOOKUP(D126,Tablas!$B$2:$F$13,3,FALSE))","v":0},45324.24,0,0,0,0,0,0,0,0,0,0,0,0,0,0,0,0,0]
[{"$f":"IF(ISBLANK(InfoPro!A119),\"\",InfoPro!A119)","v":"SC_1811_A1"},{"$f":"IF(ISBLANK(InfoPro!B119),\"\",InfoPro!B119)","v":"DSE RIOHACHA"},{"$f":"IF(ISBLANK(InfoPro!E119),\"\",InfoPro!E119)","v":9.9},{"$f":"IF(ISBLANK(InfoPro!F119),\"\",InfoPro!F119)","v":"Solar FV"},{"$f":"IF(ISBLANK(InfoPro!I119),\"\",YEAR(InfoPro!I119)-$G$4)","v":2},{"$f":"IF(B127=\"\",\"\",VLOOKUP(D127,Tablas!$B$2:$E$13,2,FALSE))","v":0.26},{"$f":"IF(B127=\"\",\"\",VLOOKUP(D127,Tablas!$B$2:$F$13,3,FALSE))","v":0},22548.240000000005,0,0,0,0,0,0,0,0,0,0,0,0,0,0,0,0,0]
[{"$f":"IF(ISBLANK(InfoPro!A120),\"\",InfoPro!A120)","v":"SC_1811_A2"},{"$f":"IF(ISBLANK(InfoPro!B120),\"\",InfoPro!B120)","v":"DSE RIOHACHA"},{"$f":"IF(ISBLANK(InfoPro!E120),\"\",InfoPro!E120)","v":9.9},{"$f":"IF(ISBLANK(InfoPro!F120),\"\",InfoPro!F120)","v":"Solar FV"},{"$f":"IF(ISBLANK(InfoPro!I120),\"\",YEAR(InfoPro!I120)-$G$4)","v":2},{"$f":"IF(B128=\"\",\"\",VLOOKUP(D128,Tablas!$B$2:$E$13,2,FALSE))","v":0.26},{"$f":"IF(B128=\"\",\"\",VLOOKUP(D128,Tablas!$B$2:$F$13,3,FALSE))","v":0},22548.240000000005,0,0,0,0,0,0,0,0,0,0,0,0,0,0,0,0,0]
[{"$f":"IF(ISBLANK(InfoPro!A121),\"\",InfoPro!A121)","v":"SC_1824_A1"},{"$f":"IF(ISBLANK(InfoPro!B121),\"\",InfoPro!B121)","v":"PGF ROSARIO II_45MW"},{"$f":"IF(ISBLANK(InfoPro!E121),\"\",InfoPro!E121)","v":45},{"$f":"IF(ISBLANK(InfoPro!F121),\"\",InfoPro!F121)","v":"Solar FV"},{"$f":"IF(ISBLANK(InfoPro!I121),\"\",YEAR(InfoPro!I121)-$G$4)","v":3},{"$f":"IF(B129=\"\",\"\",VLOOKUP(D129,Tablas!$B$2:$E$13,2,FALSE))","v":0.26},{"$f":"IF(B129=\"\",\"\",VLOOKUP(D129,Tablas!$B$2:$F$13,3,FALSE))","v":0},102492,{"$f":"IF($H129=\"\",\"\",(1/(1+$C$4)^(I$7+$E129))*$H129*$G129*$C$3)","v":0},0,0,0,0,0,0,0,0,0,0,0,0,0,0,0,0]
[{"$f":"IF(ISBLANK(InfoPro!A122),\"\",InfoPro!A122)","v":"SC_1824_A2"},{"$f":"IF(ISBLANK(InfoPro!B122),\"\",InfoPro!B122)","v":"PGF ROSARIO II_45MW"},{"$f":"IF(ISBLANK(InfoPro!E122),\"\",InfoPro!E122)","v":45},{"$f":"IF(ISBLANK(InfoPro!F122),\"\",InfoPro!F122)","v":"Solar FV"},{"$f":"IF(ISBLANK(InfoPro!I122),\"\",YEAR(InfoPro!I122)-$G$4)","v":3},{"$f":"IF(B130=\"\",\"\",VLOOKUP(D130,Tablas!$B$2:$E$13,2,FALSE))","v":0.26},{"$f":"IF(B130=\"\",\"\",VLOOKUP(D130,Tablas!$B$2:$F$13,3,FALSE))","v":0},102492,0,0,0,0,0,0,0,0,0,0,0,0,0,0,0,0,0]
[{"$f":"IF(ISBLANK(InfoPro!A123),\"\",InfoPro!A123)","v":"SC_1827_A1"},{"$f":"IF(ISBLANK(InfoPro!B123),\"\",InfoPro!B123)","v":"Guatapurí Solar I 9,9 MW"},{"$f":"IF(ISBLANK(InfoPro!E123),\"\",InfoPro!E123)","v":9.9},{"$f":"IF(ISBLANK(InfoPro!F123),\"\",InfoPro!F123)","v":"Solar FV"},{"$f":"IF(ISBLANK(InfoPro!I123),\"\",YEAR(InfoPro!I123)-$G$4)","v":2},{"$f":"IF(B131=\"\",\"\",VLOOKUP(D131,Tablas!$B$2:$E$13,2,FALSE))","v":0.26},{"$f":"IF(B131=\"\",\"\",VLOOKUP(D131,Tablas!$B$2:$F$13,3,FALSE))","v":0},22548.240000000005,0,0,0,0,0,0,0,0,0,0,0,0,0,0,0,0,0]
[{"$f":"IF(ISBLANK(InfoPro!A124),\"\",InfoPro!A124)","v":"SC_1827_A2"},{"$f":"IF(ISBLANK(InfoPro!B124),\"\",InfoPro!B124)","v":"Guatapurí Solar I 9,9 MW"},{"$f":"IF(ISBLANK(InfoPro!E124),\"\",InfoPro!E124)","v":9.9},{"$f":"IF(ISBLANK(InfoPro!F124),\"\",InfoPro!F124)","v":"Solar FV"},{"$f":"IF(ISBLANK(InfoPro!I124),\"\",YEAR(InfoPro!I124)-$G$4)","v":2},{"$f":"IF(B132=\"\",\"\",VLOOKUP(D132,Tablas!$B$2:$E$13,2,FALSE))","v":0.26},{"$f":"IF(B132=\"\",\"\",VLOOKUP(D132,Tablas!$B$2:$F$13,3,FALSE))","v":0},22548.240000000005,0,0,0,0,0,0,0,0,0,0,0,0,0,0,0,0,0]
[{"$f":"IF(ISBLANK(InfoPro!A125),\"\",InfoPro!A125)","v":"SC_1830_A1"},{"$f":"IF(ISBLANK(InfoPro!B125),\"\",InfoPro!B125)","v":"Guatapurí Solar II 9,9 MW"},{"$f":"IF(ISBLANK(InfoPro!E125),\"\",InfoPro!E125)","v":9.9},{"$f":"IF(ISBLANK(InfoPro!F125),\"\",InfoPro!F125)","v":"Solar FV"},{"$f":"IF(ISBLANK(InfoPro!I125),\"\",YEAR(InfoPro!I125)-$G$4)","v":2},{"$f":"IF(B133=\"\",\"\",VLOOKUP(D133,Tablas!$B$2:$E$13,2,FALSE))","v":0.26},{"$f":"IF(B133=\"\",\"\",VLOOKUP(D133,Tablas!$B$2:$F$13,3,FALSE))","v":0},22548.240000000005,0,0,0,0,0,0,0,0,0,0,0,0,0,0,0,0,0]
[{"$f":"IF(ISBLANK(InfoPro!A126),\"\",InfoPro!A126)","v":"SC_1830_A2"},{"$f":"IF(ISBLANK(InfoPro!B126),\"\",InfoPro!B126)","v":"Guatapurí Solar II 9,9 MW"},{"$f":"IF(ISBLANK(InfoPro!E126),\"\",InfoPro!E126)","v":9.9},{"$f":"IF(ISBLANK(InfoPro!F126),\"\",InfoPro!F126)","v":"Solar FV"},{"$f":"IF(ISBLANK(InfoPro!I126),\"\",YEAR(InfoPro!I126)-$G$4)","v":2},{"$f":"IF(B134=\"\",\"\",VLOOKUP(D134,Tablas!$B$2:$E$13,2,FALSE))","v":0.26},{"$f":"IF(B134=\"\",\"\",VLOOKUP(D134,Tablas!$B$2:$F$13,3,FALSE))","v":0},22548.240000000005,0,0,0,0,0,0,0,0,0,0,0,0,0,0,0,0,0]
[{"$f":"IF(ISBLANK(InfoPro!A127),\"\",InfoPro!A127)","v":"SC_1840_A1"},{"$f":"IF(ISBLANK(InfoPro!B127),\"\",InfoPro!B127)","v":"Granja Solar Asturias 9,9 MW"},{"$f":"IF(ISBLANK(InfoPro!E127),\"\",InfoPro!E127)","v":9.9},{"$f":"IF(ISBLANK(InfoPro!F127),\"\",InfoPro!F127)","v":"Solar FV"},{"$f":"IF(ISBLANK(InfoPro!I127),\"\",YEAR(InfoPro!I127)-$G$4)","v":2},{"$f":"IF(B135=\"\",\"\",VLOOKUP(D135,Tablas!$B$2:$E$13,2,FALSE))","v":0.26},{"$f":"IF(B135=\"\",\"\",VLOOKUP(D135,Tablas!$B$2:$F$13,3,FALSE))","v":0},22548.240000000005,0,0,0,0,0,0,0,0,0,0,0,0,0,0,0,0,0]
[{"$f":"IF(ISBLANK(InfoPro!A128),\"\",InfoPro!A128)","v":"SC_1840_A2"},{"$f":"IF(ISBLANK(InfoPro!B128),\"\",InfoPro!B128)","v":"Granja Solar Asturias 9,9 MW"},{"$f":"IF(ISBLANK(InfoPro!E128),\"\",InfoPro!E128)","v":9.9},{"$f":"IF(ISBLANK(InfoPro!F128),\"\",InfoPro!F128)","v":"Solar FV"},{"$f":"IF(ISBLANK(InfoPro!I128),\"\",YEAR(InfoPro!I128)-$G$4)","v":2},{"$f":"IF(B136=\"\",\"\",VLOOKUP(D136,Tablas!$B$2:$E$13,2,FALSE))","v":0.26},{"$f":"IF(B136=\"\",\"\",VLOOKUP(D136,Tablas!$B$2:$F$13,3,FALSE))","v":0},22548.240000000005,0,0,0,0,0,0,0,0,0,0,0,0,0,0,0,0,0]
[{"$f":"IF(ISBLANK(InfoPro!A129),\"\",InfoPro!A129)","v":"SC_1846_A1"},{"$f":"IF(ISBLANK(InfoPro!B129),\"\",InfoPro!B129)","v":"PARQUE DE GENERACIÓN SOLAR CYGNUS 50 MW"},{"$f":"IF(ISBLANK(InfoPro!E129),\"\",InfoPro!E129)","v":50},{"$f":"IF(ISBLANK(InfoPro!F129),\"\",InfoPro!F129)","v":"Solar FV"},{"$f":"IF(ISBLANK(InfoPro!I129),\"\",YEAR(InfoPro!I129)-$G$4)","v":2},{"$f":"IF(B137=\"\",\"\",VLOOKUP(D137,Tablas!$B$2:$E$13,2,FALSE))","v":0.26},{"$f":"IF(B137=\"\",\"\",VLOOKUP(D137,Tablas!$B$2:$F$13,3,FALSE))","v":0},113880,0,0,0,0,0,0,0,0,0,0,0,0,0,0,0,0,0]
[{"$f":"IF(ISBLANK(InfoPro!A130),\"\",InfoPro!A130)","v":"SC_1846_A2"},{"$f":"IF(ISBLANK(InfoPro!B130),\"\",InfoPro!B130)","v":"PARQUE DE GENERACIÓN SOLAR CYGNUS 50 MW"},{"$f":"IF(ISBLANK(InfoPro!E130),\"\",InfoPro!E130)","v":50},{"$f":"IF(ISBLANK(InfoPro!F130),\"\",InfoPro!F130)","v":"Solar FV"},{"$f":"IF(ISBLANK(InfoPro!I130),\"\",YEAR(InfoPro!I130)-$G$4)","v":2},{"$f":"IF(B138=\"\",\"\",VLOOKUP(D138,Tablas!$B$2:$E$13,2,FALSE))","v":0.26},{"$f":"IF(B138=\"\",\"\",VLOOKUP(D138,Tablas!$B$2:$F$13,3,FALSE))","v":0},113880,0,0,0,0,0,0,0,0,0,0,0,0,0,0,0,0,0]
[{"$f":"IF(ISBLANK(InfoPro!A131),\"\",InfoPro!A131)","v":"SC_1854_A1"},{"$f":"IF(ISBLANK(InfoPro!B131),\"\",InfoPro!B131)","v":"CATAY 1 - 200 MW"},{"$f":"IF(ISBLANK(InfoPro!E131),\"\",InfoPro!E131)","v":200},{"$f":"IF(ISBLANK(InfoPro!F131),\"\",InfoPro!F131)","v":"Solar FV"},{"$f":"IF(ISBLANK(InfoPro!I131),\"\",YEAR(InfoPro!I131)-$G$4)","v":4},{"$f":"IF(B139=\"\",\"\",VLOOKUP(D139,Tablas!$B$2:$E$13,2,FALSE))","v":0.26},{"$f":"IF(B139=\"\",\"\",VLOOKUP(D139,Tablas!$B$2:$F$13,3,FALSE))","v":0},455520,0,0,0,0,0,0,0,0,0,0,0,0,0,0,0,0,0]
[{"$f":"IF(ISBLANK(InfoPro!A132),\"\",InfoPro!A132)","v":"SC_1854_A2"},{"$f":"IF(ISBLANK(InfoPro!B132),\"\",InfoPro!B132)","v":"CATAY 1 - 200 MW"},{"$f":"IF(ISBLANK(InfoPro!E132),\"\",InfoPro!E132)","v":200},{"$f":"IF(ISBLANK(InfoPro!F132),\"\",InfoPro!F132)","v":"Solar FV"},{"$f":"IF(ISBLANK(InfoPro!I132),\"\",YEAR(InfoPro!I132)-$G$4)","v":4},{"$f":"IF(B140=\"\",\"\",VLOOKUP(D140,Tablas!$B$2:$E$13,2,FALSE))","v":0.26},{"$f":"IF(B140=\"\",\"\",VLOOKUP(D140,Tablas!$B$2:$F$13,3,FALSE))","v":0},455520,0,0,0,0,0,0,0,0,0,0,0,0,0,0,0,0,0]
[{"$f":"IF(ISBLANK(InfoPro!A133),\"\",InfoPro!A133)","v":"SC_1856_A1"},{"$f":"IF(ISBLANK(InfoPro!B133),\"\",InfoPro!B133)","v":"SIERRA NEVADA DE VERANO"},{"$f":"IF(ISBLANK(InfoPro!E133),\"\",InfoPro!E133)","v":99.9},{"$f":"IF(ISBLANK(InfoPro!F133),\"\",InfoPro!F133)","v":"Solar FV"},{"$f":"IF(ISBLANK(InfoPro!I133),\"\",YEAR(InfoPro!I133)-$G$4)","v":4},{"$f":"IF(B141=\"\",\"\",VLOOKUP(D141,Tablas!$B$2:$E$13,2,FALSE))","v":0.26},{"$f":"IF(B141=\"\",\"\",VLOOKUP(D141,Tablas!$B$2:$F$13,3,FALSE))","v":0},227532.24000000002,0,0,0,0,0,0,0,0,0,0,0,0,0,0,0,0,0]
[{"$f":"IF(ISBLANK(InfoPro!A134),\"\",InfoPro!A134)","v":"SC_1856_A2"},{"$f":"IF(ISBLANK(InfoPro!B134),\"\",InfoPro!B134)","v":"SIERRA NEVADA DE VERANO"},{"$f":"IF(ISBLANK(InfoPro!E134),\"\",InfoPro!E134)","v":99.9},{"$f":"IF(ISBLANK(InfoPro!F134),\"\",InfoPro!F134)","v":"Solar FV"},{"$f":"IF(ISBLANK(InfoPro!I134),\"\",YEAR(InfoPro!I134)-$G$4)","v":4},{"$f":"IF(B142=\"\",\"\",VLOOKUP(D142,Tablas!$B$2:$E$13,2,FALSE))","v":0.26},{"$f":"IF(B142=\"\",\"\",VLOOKUP(D142,Tablas!$B$2:$F$13,3,FALSE))","v":0},227532.24000000002,0,0,0,0,0,0,0,0,0,0,0,0,0,0,0,0,0]
[{"$f":"IF(ISBLANK(InfoPro!A135),\"\",InfoPro!A135)","v":"SC_1857_A1"},{"$f":"IF(ISBLANK(InfoPro!B135),\"\",InfoPro!B135)","v":"MILAGROS DE VERANO"},{"$f":"IF(ISBLANK(InfoPro!E135),\"\",InfoPro!E135)","v":99.9},{"$f":"IF(ISBLANK(InfoPro!F135),\"\",InfoPro!F135)","v":"Solar FV"},{"$f":"IF(ISBLANK(InfoPro!I135),\"\",YEAR(InfoPro!I135)-$G$4)","v":5},{"$f":"IF(B143=\"\",\"\",VLOOKUP(D143,Tablas!$B$2:$E$13,2,FALSE))","v":0.26},{"$f":"IF(B143=\"\",\"\",VLOOKUP(D143,Tablas!$B$2:$F$13,3,FALSE))","v":0},227532.24000000002,0,0,0,0,0,0,0,0,0,0,0,0,0,0,0,0,0]
[{"$f":"IF(ISBLANK(InfoPro!A136),\"\",InfoPro!A136)","v":"SC_1857_A2"},{"$f":"IF(ISBLANK(InfoPro!B136),\"\",InfoPro!B136)","v":"MILAGROS DE VERANO"},{"$f":"IF(ISBLANK(InfoPro!E136),\"\",InfoPro!E136)","v":99.9},{"$f":"IF(ISBLANK(InfoPro!F136),\"\",InfoPro!F136)","v":"Solar FV"},{"$f":"IF(ISBLANK(InfoPro!I136),\"\",YEAR(InfoPro!I136)-$G$4)","v":5},{"$f":"IF(B144=\"\",\"\",VLOOKUP(D144,Tablas!$B$2:$E$13,2,FALSE))","v":0.26},{"$f":"IF(B144=\"\",\"\",VLOOKUP(D144,Tablas!$B$2:$F$13,3,FALSE))","v":0},227532.24000000002,0,0,0,0,0,0,0,0,0,0,0,0,0,0,0,0,0]
[{"$f":"IF(ISBLANK(InfoPro!A137),\"\",InfoPro!A137)","v":"SC_1861_A1"},{"$f":"IF(ISBLANK(InfoPro!B137),\"\",InfoPro!B137)","v":"Autogenerador CELSIA Solar Cenit Copey"},{"$f":"IF(ISBLANK(InfoPro!E137),\"\",InfoPro!E137)","v":6.6},{"$f":"IF(ISBLANK(InfoPro!F137),\"\",InfoPro!F137)","v":"Solar FV"},{"$f":"IF(ISBLANK(InfoPro!I137),\"\",YEAR(InfoPro!I137)-$G$4)","v":0},{"$f":"IF(B145=\"\",\"\",VLOOKUP(D145,Tablas!$B$2:$E$13,2,FALSE))","v":0.26},{"$f":"IF(B145=\"\",\"\",VLOOKUP(D145,Tablas!$B$2:$F$13,3,FALSE))","v":0},15032.16,0,0,0,0,0,0,0,0,0,0,0,0,0,0,0,0,0]
[{"$f":"IF(ISBLANK(InfoPro!A138),\"\",InfoPro!A138)","v":"SC_1876_A1"},{"$f":"IF(ISBLANK(InfoPro!B138),\"\",InfoPro!B138)","v":"Nevada II 250 MW"},{"$f":"IF(ISBLANK(InfoPro!E138),\"\",InfoPro!E138)","v":250},{"$f":"IF(ISBLANK(InfoPro!F138),\"\",InfoPro!F138)","v":"Eólico Onshore"},{"$f":"IF(ISBLANK(InfoPro!I138),\"\",YEAR(InfoPro!I138)-$G$4)","v":7},{"$f":"IF(B146=\"\",\"\",VLOOKUP(D146,Tablas!$B$2:$E$13,2,FALSE))","v":0.56999999999999995},{"$f":"IF(B146=\"\",\"\",VLOOKUP(D146,Tablas!$B$2:$F$13,3,FALSE))","v":0},1248300,{"$f":"IF($H146=\"\",\"\",(1/(1+$C$4)^(I$7+$E146))*$H146*$G146*$C$3)","v":0},0,0,0,0,0,0,0,0,0,0,0,0,0,0,0,0]
[{"$f":"IF(ISBLANK(InfoPro!A139),\"\",InfoPro!A139)","v":"SC_1876_A2"},{"$f":"IF(ISBLANK(InfoPro!B139),\"\",InfoPro!B139)","v":"Nevada II 250 MW"},{"$f":"IF(ISBLANK(InfoPro!E139),\"\",InfoPro!E139)","v":250},{"$f":"IF(ISBLANK(InfoPro!F139),\"\",InfoPro!F139)","v":"Eólico Onshore"},{"$f":"IF(ISBLANK(InfoPro!I139),\"\",YEAR(InfoPro!I139)-$G$4)","v":7},{"$f":"IF(B147=\"\",\"\",VLOOKUP(D147,Tablas!$B$2:$E$13,2,FALSE))","v":0.56999999999999995},{"$f":"IF(B147=\"\",\"\",VLOOKUP(D147,Tablas!$B$2:$F$13,3,FALSE))","v":0},1248300,0,0,0,0,0,0,0,0,0,0,0,0,0,0,0,0,0]
[{"$f":"IF(ISBLANK(InfoPro!A140),\"\",InfoPro!A140)","v":"SC_1877_A1"},{"$f":"IF(ISBLANK(InfoPro!B140),\"\",InfoPro!B140)","v":"Planta Solar FV Corozal 9,9MW"},{"$f":"IF(ISBLANK(InfoPro!E140),\"\",InfoPro!E140)","v":9.9},{"$f":"IF(ISBLANK(InfoPro!F140),\"\",InfoPro!F140)","v":"Solar FV"},{"$f":"IF(ISBLANK(InfoPro!I140),\"\",YEAR(InfoPro!I140)-$G$4)","v":3},{"$f":"IF(B148=\"\",\"\",VLOOKUP(D148,Tablas!$B$2:$E$13,2,FALSE))","v":0.26},{"$f":"IF(B148=\"\",\"\",VLOOKUP(D148,Tablas!$B$2:$F$13,3,FALSE))","v":0},22548.240000000005,0,0,0,0,0,0,0,0,0,0,0,0,0,0,0,0,0]
[{"$f":"IF(ISBLANK(InfoPro!A141),\"\",InfoPro!A141)","v":"SC_1877_A2"},{"$f":"IF(ISBLANK(InfoPro!B141),\"\",InfoPro!B141)","v":"Planta Solar FV Corozal 9,9MW"},{"$f":"IF(ISBLANK(InfoPro!E141),\"\",InfoPro!E141)","v":9.9},{"$f":"IF(ISBLANK(InfoPro!F141),\"\",InfoPro!F141)","v":"Solar FV"},{"$f":"IF(ISBLANK(InfoPro!I141),\"\",YEAR(InfoPro!I141)-$G$4)","v":3},{"$f":"IF(B149=\"\",\"\",VLOOKUP(D149,Tablas!$B$2:$E$13,2,FALSE))","v":0.26},{"$f":"IF(B149=\"\",\"\",VLOOKUP(D149,Tablas!$B$2:$F$13,3,FALSE))","v":0},{"$f":"IF(C149=\"\",\"\",+C149*F149*24*365)","v":22548.240000000005},0,0,0,0,0,0,0,0,0,0,0,0,0,0,0,{"$f":"IF(W149=\"\",\"\",SUM(I149:W149))","v":0},{"$f":"IF(C149=0,0,IF(X149=\"\",\"\",X149/(C149*1000)))","v":0}]
[{"$f":"IF(ISBLANK(InfoPro!A142),\"\",InfoPro!A142)","v":"SC_1889_A1"},{"$f":"IF(ISBLANK(InfoPro!B142),\"\",InfoPro!B142)","v":"La Granja"},{"$f":"IF(ISBLANK(InfoPro!E142),\"\",InfoPro!E142)","v":19.899999999999999},{"$f":"IF(ISBLANK(InfoPro!F142),\"\",InfoPro!F142)","v":"Solar FV"},{"$f":"IF(ISBLANK(InfoPro!I142),\"\",YEAR(InfoPro!I142)-$G$4)","v":2},{"$f":"IF(B150=\"\",\"\",VLOOKUP(D150,Tablas!$B$2:$E$13,2,FALSE))","v":0.26},{"$f":"IF(B150=\"\",\"\",VLOOKUP(D150,Tablas!$B$2:$F$13,3,FALSE))","v":0},45324.24,0,0,0,0,0,0,0,0,0,0,0,0,0,0,0,0,0]
[{"$f":"IF(ISBLANK(InfoPro!A143),\"\",InfoPro!A143)","v":"SC_1889_A2"},{"$f":"IF(ISBLANK(InfoPro!B143),\"\",InfoPro!B143)","v":"La Granja"},{"$f":"IF(ISBLANK(InfoPro!E143),\"\",InfoPro!E143)","v":19.899999999999999},{"$f":"IF(ISBLANK(InfoPro!F143),\"\",InfoPro!F143)","v":"Solar FV"},{"$f":"IF(ISBLANK(InfoPro!I143),\"\",YEAR(InfoPro!I143)-$G$4)","v":2},{"$f":"IF(B151=\"\",\"\",VLOOKUP(D151,Tablas!$B$2:$E$13,2,FALSE))","v":0.26},{"$f":"IF(B151=\"\",\"\",VLOOKUP(D151,Tablas!$B$2:$F$13,3,FALSE))","v":0},45324.24,0,0,0,0,0,0,0,0,0,0,0,0,0,0,0,0,0]
[{"$f":"IF(ISBLANK(InfoPro!A144),\"\",InfoPro!A144)","v":"SC_1898_A1"},{"$f":"IF(ISBLANK(InfoPro!B144),\"\",InfoPro!B144)","v":"Parque Eólico Fenix_70MW"},{"$f":"IF(ISBLANK(InfoPro!E144),\"\",InfoPro!E144)","v":70},{"$f":"IF(ISBLANK(InfoPro!F144),\"\",InfoPro!F144)","v":"Eólico Onshore"},{"$f":"IF(ISBLANK(InfoPro!I144),\"\",YEAR(InfoPro!I144)-$G$4)","v":5},{"$f":"IF(B152=\"\",\"\",VLOOKUP(D152,Tablas!$B$2:$E$13,2,FALSE))","v":0.56999999999999995},{"$f":"IF(B152=\"\",\"\",VLOOKUP(D152,Tablas!$B$2:$F$13,3,FALSE))","v":0},349523.99999999994,0,0,0,0,0,0,0,0,0,0,0,0,0,0,0,0,0]
[{"$f":"IF(ISBLANK(InfoPro!A145),\"\",InfoPro!A145)","v":"SC_1898_A2"},{"$f":"IF(ISBLANK(InfoPro!B145),\"\",InfoPro!B145)","v":"Parque Eólico Fenix_70MW"},{"$f":"IF(ISBLANK(InfoPro!E145),\"\",InfoPro!E145)","v":70},{"$f":"IF(ISBLANK(InfoPro!F145),\"\",InfoPro!F145)","v":"Eólico Onshore"},{"$f":"IF(ISBLANK(InfoPro!I145),\"\",YEAR(InfoPro!I145)-$G$4)","v":5},{"$f":"IF(B153=\"\",\"\",VLOOKUP(D153,Tablas!$B$2:$E$13,2,FALSE))","v":0.56999999999999995},{"$f":"IF(B153=\"\",\"\",VLOOKUP(D153,Tablas!$B$2:$F$13,3,FALSE))","v":0},349523.99999999994,0,0,0,0,0,0,0,0,0,0,0,0,0,0,0,0,0]
[{"$f":"IF(ISBLANK(InfoPro!A146),\"\",InfoPro!A146)","v":"SC_1904_A1"},{"$f":"IF(ISBLANK(InfoPro!B146),\"\",InfoPro!B146)","v":"Parque Solar Fotovoltaico Potreritos"},{"$f":"IF(ISBLANK(InfoPro!E146),\"\",InfoPro!E146)","v":168},{"$f":"IF(ISBLANK(InfoPro!F146),\"\",InfoPro!F146)","v":"Solar FV"},{"$f":"IF(ISBLANK(InfoPro!I146),\"\",YEAR(InfoPro!I146)-$G$4)","v":1},{"$f":"IF(B154=\"\",\"\",VLOOKUP(D154,Tablas!$B$2:$E$13,2,FALSE))","v":0.26},{"$f":"IF(B154=\"\",\"\",VLOOKUP(D154,Tablas!$B$2:$F$13,3,FALSE))","v":0},382636.79999999999,0,0,0,0,0,0,0,0,0,0,0,0,0,0,0,0,0]
[{"$f":"IF(ISBLANK(InfoPro!A147),\"\",InfoPro!A147)","v":"SC_1904_A2"},{"$f":"IF(ISBLANK(InfoPro!B147),\"\",InfoPro!B147)","v":"Parque Solar Fotovoltaico Potreritos"},{"$f":"IF(ISBLANK(InfoPro!E147),\"\",InfoPro!E147)","v":168},{"$f":"IF(ISBLANK(InfoPro!F147),\"\",InfoPro!F147)","v":"Solar FV"},{"$f":"IF(ISBLANK(InfoPro!I147),\"\",YEAR(InfoPro!I147)-$G$4)","v":1},{"$f":"IF(B155=\"\",\"\",VLOOKUP(D155,Tablas!$B$2:$E$13,2,FALSE))","v":0.26},{"$f":"IF(B155=\"\",\"\",VLOOKUP(D155,Tablas!$B$2:$F$13,3,FALSE))","v":0},382636.79999999999,0,0,0,0,0,0,0,0,0,0,0,0,0,0,0,0,0]
[{"$f":"IF(ISBLANK(InfoPro!A148),\"\",InfoPro!A148)","v":"SC_1905_A1"},{"$f":"IF(ISBLANK(InfoPro!B148),\"\",InfoPro!B148)","v":"Parque Solar Valle del Cesar"},{"$f":"IF(ISBLANK(InfoPro!E148),\"\",InfoPro!E148)","v":50},{"$f":"IF(ISBLANK(InfoPro!F148),\"\",InfoPro!F148)","v":"Solar FV"},{"$f":"IF(ISBLANK(InfoPro!I148),\"\",YEAR(InfoPro!I148)-$G$4)","v":3},{"$f":"IF(B156=\"\",\"\",VLOOKUP(D156,Tablas!$B$2:$E$13,2,FALSE))","v":0.26},{"$f":"IF(B156=\"\",\"\",VLOOKUP(D156,Tablas!$B$2:$F$13,3,FALSE))","v":0},113880,0,0,0,0,0,0,0,0,0,0,0,0,0,0,0,0,0]
[{"$f":"IF(ISBLANK(InfoPro!A149),\"\",InfoPro!A149)","v":"SC_1905_A2"},{"$f":"IF(ISBLANK(InfoPro!B149),\"\",InfoPro!B149)","v":"Parque Solar Valle del Cesar"},{"$f":"IF(ISBLANK(InfoPro!E149),\"\",InfoPro!E149)","v":50},{"$f":"IF(ISBLANK(InfoPro!F149),\"\",InfoPro!F149)","v":"Solar FV"},{"$f":"IF(ISBLANK(InfoPro!I149),\"\",YEAR(InfoPro!I149)-$G$4)","v":3},{"$f":"IF(B157=\"\",\"\",VLOOKUP(D157,Tablas!$B$2:$E$13,2,FALSE))","v":0.26},{"$f":"IF(B157=\"\",\"\",VLOOKUP(D157,Tablas!$B$2:$F$13,3,FALSE))","v":0},113880,0,0,0,0,0,0,0,0,0,0,0,0,0,0,0,0,0]
[{"$f":"IF(ISBLANK(InfoPro!A150),\"\",InfoPro!A150)","v":"SC_1908_A1"},{"$f":"IF(ISBLANK(InfoPro!B150),\"\",InfoPro!B150)","v":"Corocoro 500 MW"},{"$f":"IF(ISBLANK(InfoPro!E150),\"\",InfoPro!E150)","v":500},{"$f":"IF(ISBLANK(InfoPro!F150),\"\",InfoPro!F150)","v":"Solar FV"},{"$f":"IF(ISBLANK(InfoPro!I150),\"\",YEAR(InfoPro!I150)-$G$4)","v":3},{"$f":"IF(B158=\"\",\"\",VLOOKUP(D158,Tablas!$B$2:$E$13,2,FALSE))","v":0.26},{"$f":"IF(B158=\"\",\"\",VLOOKUP(D158,Tablas!$B$2:$F$13,3,FALSE))","v":0},1138800,0,0,0,0,0,0,0,0,0,0,0,0,0,0,0,0,0]
[{"$f":"IF(ISBLANK(InfoPro!A151),\"\",InfoPro!A151)","v":"SC_1908_A2"},{"$f":"IF(ISBLANK(InfoPro!B151),\"\",InfoPro!B151)","v":"Corocoro 500 MW"},{"$f":"IF(ISBLANK(InfoPro!E151),\"\",InfoPro!E151)","v":500},{"$f":"IF(ISBLANK(InfoPro!F151),\"\",InfoPro!F151)","v":"Solar FV"},{"$f":"IF(ISBLANK(InfoPro!I151),\"\",YEAR(InfoPro!I151)-$G$4)","v":3},{"$f":"IF(B159=\"\",\"\",VLOOKUP(D159,Tablas!$B$2:$E$13,2,FALSE))","v":0.26},{"$f":"IF(B159=\"\",\"\",VLOOKUP(D159,Tablas!$B$2:$F$13,3,FALSE))","v":0},1138800,0,0,0,0,0,0,0,0,0,0,0,0,0,0,0,0,0]
[{"$f":"IF(ISBLANK(InfoPro!A152),\"\",InfoPro!A152)","v":"SC_1912_A1"},{"$f":"IF(ISBLANK(InfoPro!B152),\"\",InfoPro!B152)","v":"Draco de 22.5 MW (entrega 19,9 MW)"},{"$f":"IF(ISBLANK(InfoPro!E152),\"\",InfoPro!E152)","v":19.899999999999999},{"$f":"IF(ISBLANK(InfoPro!F152),\"\",InfoPro!F152)","v":"Solar FV"},{"$f":"IF(ISBLANK(InfoPro!I152),\"\",YEAR(InfoPro!I152)-$G$4)","v":2},{"$f":"IF(B160=\"\",\"\",VLOOKUP(D160,Tablas!$B$2:$E$13,2,FALSE))","v":0.26},{"$f":"IF(B160=\"\",\"\",VLOOKUP(D160,Tablas!$B$2:$F$13,3,FALSE))","v":0},45324.24,{"$f":"IF($H160=\"\",\"\",(1/(1+$C$4)^(I$7+$E160))*$H160*$G160*$C$3)","v":0},0,0,0,0,0,0,0,0,0,0,0,0,0,0,0,0]
[{"$f":"IF(ISBLANK(InfoPro!A153),\"\",InfoPro!A153)","v":"SC_1912_A2"},{"$f":"IF(ISBLANK(InfoPro!B153),\"\",InfoPro!B153)","v":"Draco de 22.5 MW (entrega 19,9 MW)"},{"$f":"IF(ISBLANK(InfoPro!E153),\"\",InfoPro!E153)","v":19.899999999999999},{"$f":"IF(ISBLANK(InfoPro!F153),\"\",InfoPro!F153)","v":"Solar FV"},{"$f":"IF(ISBLANK(InfoPro!I153),\"\",YEAR(InfoPro!I153)-$G$4)","v":2},{"$f":"IF(B161=\"\",\"\",VLOOKUP(D161,Tablas!$B$2:$E$13,2,FALSE))","v":0.26},{"$f":"IF(B161=\"\",\"\",VLOOKUP(D161,Tablas!$B$2:$F$13,3,FALSE))","v":0},45324.24,0,0,0,0,0,0,0,0,0,0,0,0,0,0,0,0,0]
[{"$f":"IF(ISBLANK(InfoPro!A154),\"\",InfoPro!A154)","v":"SC_1920_A1"},{"$f":"IF(ISBLANK(InfoPro!B154),\"\",InfoPro!B154)","v":"Parque Solar TERRɅ II 19.9 MW"},{"$f":"IF(ISBLANK(InfoPro!E154),\"\",InfoPro!E154)","v":19.899999999999999},{"$f":"IF(ISBLANK(InfoPro!F154),\"\",InfoPro!F154)","v":"Solar FV"},{"$f":"IF(ISBLANK(InfoPro!I154),\"\",YEAR(InfoPro!I154)-$G$4)","v":1},{"$f":"IF(B162=\"\",\"\",VLOOKUP(D162,Tablas!$B$2:$E$13,2,FALSE))","v":0.26},{"$f":"IF(B162=\"\",\"\",VLOOKUP(D162,Tablas!$B$2:$F$13,3,FALSE))","v":0},45324.24,0,0,0,0,0,0,0,0,0,0,0,0,0,0,0,0,0]
[{"$f":"IF(ISBLANK(InfoPro!A155),\"\",InfoPro!A155)","v":"SC_1920_A2"},{"$f":"IF(ISBLANK(InfoPro!B155),\"\",InfoPro!B155)","v":"Parque Solar TERRɅ II 19.9 MW"},{"$f":"IF(ISBLANK(InfoPro!E155),\"\",InfoPro!E155)","v":19.899999999999999},{"$f":"IF(ISBLANK(InfoPro!F155),\"\",InfoPro!F155)","v":"Solar FV"},{"$f":"IF(ISBLANK(InfoPro!I155),\"\",YEAR(InfoPro!I155)-$G$4)","v":1},{"$f":"IF(B163=\"\",\"\",VLOOKUP(D163,Tablas!$B$2:$E$13,2,FALSE))","v":0.26},{"$f":"IF(B163=\"\",\"\",VLOOKUP(D163,Tablas!$B$2:$F$13,3,FALSE))","v":0},45324.24,0,0,0,0,0,0,0,0,0,0,0,0,0,0,0,0,0]
[{"$f":"IF(ISBLANK(InfoPro!A156),\"\",InfoPro!A156)","v":"SC_1928_A1"},{"$f":"IF(ISBLANK(InfoPro!B156),\"\",InfoPro!B156)","v":"Jacamará 500 MW"},{"$f":"IF(ISBLANK(InfoPro!E156),\"\",InfoPro!E156)","v":500},{"$f":"IF(ISBLANK(InfoPro!F156),\"\",InfoPro!F156)","v":"Solar FV"},{"$f":"IF(ISBLANK(InfoPro!I156),\"\",YEAR(InfoPro!I156)-$G$4)","v":3},{"$f":"IF(B164=\"\",\"\",VLOOKUP(D164,Tablas!$B$2:$E$13,2,FALSE))","v":0.26},{"$f":"IF(B164=\"\",\"\",VLOOKUP(D164,Tablas!$B$2:$F$13,3,FALSE))","v":0},1138800,0,0,0,0,0,0,0,0,0,0,0,0,0,0,0,0,0]
[{"$f":"IF(ISBLANK(InfoPro!A157),\"\",InfoPro!A157)","v":"SC_1928_A2"},{"$f":"IF(ISBLANK(InfoPro!B157),\"\",InfoPro!B157)","v":"Jacamará 500 MW"},{"$f":"IF(ISBLANK(InfoPro!E157),\"\",InfoPro!E157)","v":500},{"$f":"IF(ISBLANK(InfoPro!F157),\"\",InfoPro!F157)","v":"Solar FV"},{"$f":"IF(ISBLANK(InfoPro!I157),\"\",YEAR(InfoPro!I157)-$G$4)","v":3},{"$f":"IF(B165=\"\",\"\",VLOOKUP(D165,Tablas!$B$2:$E$13,2,FALSE))","v":0.26},{"$f":"IF(B165=\"\",\"\",VLOOKUP(D165,Tablas!$B$2:$F$13,3,FALSE))","v":0},1138800,0,0,0,0,0,0,0,0,0,0,0,0,0,0,0,0,0]
[{"$f":"IF(ISBLANK(InfoPro!A158),\"\",InfoPro!A158)","v":"SC_1944_A1"},{"$f":"IF(ISBLANK(InfoPro!B158),\"\",InfoPro!B158)","v":"MANANTIALES DE VERANO de 99.9 MW"},{"$f":"IF(ISBLANK(InfoPro!E158),\"\",InfoPro!E158)","v":99.9},{"$f":"IF(ISBLANK(InfoPro!F158),\"\",InfoPro!F158)","v":"Solar FV"},{"$f":"IF(ISBLANK(InfoPro!I158),\"\",YEAR(InfoPro!I158)-$G$4)","v":3},{"$f":"IF(B166=\"\",\"\",VLOOKUP(D166,Tablas!$B$2:$E$13,2,FALSE))","v":0.26},{"$f":"IF(B166=\"\",\"\",VLOOKUP(D166,Tablas!$B$2:$F$13,3,FALSE))","v":0},227532.24000000002,0,0,0,0,0,0,0,0,0,0,0,0,0,0,0,0,0]
[{"$f":"IF(ISBLANK(InfoPro!A159),\"\",InfoPro!A159)","v":"SC_1944_A2"},{"$f":"IF(ISBLANK(InfoPro!B159),\"\",InfoPro!B159)","v":"MANANTIALES DE VERANO de 99.9 MW"},{"$f":"IF(ISBLANK(InfoPro!E159),\"\",InfoPro!E159)","v":99.9},{"$f":"IF(ISBLANK(InfoPro!F159),\"\",InfoPro!F159)","v":"Solar FV"},{"$f":"IF(ISBLANK(InfoPro!I159),\"\",YEAR(InfoPro!I159)-$G$4)","v":3},{"$f":"IF(B167=\"\",\"\",VLOOKUP(D167,Tablas!$B$2:$E$13,2,FALSE))","v":0.26},{"$f":"IF(B167=\"\",\"\",VLOOKUP(D167,Tablas!$B$2:$F$13,3,FALSE))","v":0},227532.24000000002,0,0,0,0,0,0,0,0,0,0,0,0,0,0,0,0,0]
[{"$f":"IF(ISBLANK(InfoPro!A160),\"\",InfoPro!A160)","v":"SC_1948_A1"},{"$f":"IF(ISBLANK(InfoPro!B160),\"\",InfoPro!B160)","v":"PGF ROSARIO I"},{"$f":"IF(ISBLANK(InfoPro!E160),\"\",InfoPro!E160)","v":95},{"$f":"IF(ISBLANK(InfoPro!F160),\"\",InfoPro!F160)","v":"Solar FV"},{"$f":"IF(ISBLANK(InfoPro!I160),\"\",YEAR(InfoPro!I160)-$G$4)","v":3},{"$f":"IF(B168=\"\",\"\",VLOOKUP(D168,Tablas!$B$2:$E$13,2,FALSE))","v":0.26},{"$f":"IF(B168=\"\",\"\",VLOOKUP(D168,Tablas!$B$2:$F$13,3,FALSE))","v":0},216371.99999999997,0,0,0,0,0,0,0,0,0,0,0,0,0,0,0,0,0]
[{"$f":"IF(ISBLANK(InfoPro!A161),\"\",InfoPro!A161)","v":"SC_1948_A2"},{"$f":"IF(ISBLANK(InfoPro!B161),\"\",InfoPro!B161)","v":"PGF ROSARIO I"},{"$f":"IF(ISBLANK(InfoPro!E161),\"\",InfoPro!E161)","v":95},{"$f":"IF(ISBLANK(InfoPro!F161),\"\",InfoPro!F161)","v":"Solar FV"},{"$f":"IF(ISBLANK(InfoPro!I161),\"\",YEAR(InfoPro!I161)-$G$4)","v":3},{"$f":"IF(B169=\"\",\"\",VLOOKUP(D169,Tablas!$B$2:$E$13,2,FALSE))","v":0.26},{"$f":"IF(B169=\"\",\"\",VLOOKUP(D169,Tablas!$B$2:$F$13,3,FALSE))","v":0},216371.99999999997,0,0,0,0,0,0,0,0,0,0,0,0,0,0,0,0,0]
[{"$f":"IF(ISBLANK(InfoPro!A162),\"\",InfoPro!A162)","v":"SC_1967_A1"},{"$f":"IF(ISBLANK(InfoPro!B162),\"\",InfoPro!B162)","v":"Solar Valledupar 4"},{"$f":"IF(ISBLANK(InfoPro!E162),\"\",InfoPro!E162)","v":19.899999999999999},{"$f":"IF(ISBLANK(InfoPro!F162),\"\",InfoPro!F162)","v":"Solar FV"},{"$f":"IF(ISBLANK(InfoPro!I162),\"\",YEAR(InfoPro!I162)-$G$4)","v":2},{"$f":"IF(B170=\"\",\"\",VLOOKUP(D170,Tablas!$B$2:$E$13,2,FALSE))","v":0.26},{"$f":"IF(B170=\"\",\"\",VLOOKUP(D170,Tablas!$B$2:$F$13,3,FALSE))","v":0},45324.24,0,0,0,0,0,0,0,0,0,0,0,0,0,0,0,0,0]
[{"$f":"IF(ISBLANK(InfoPro!A163),\"\",InfoPro!A163)","v":"SC_1967_A2"},{"$f":"IF(ISBLANK(InfoPro!B163),\"\",InfoPro!B163)","v":"Solar Valledupar 4"},{"$f":"IF(ISBLANK(InfoPro!E163),\"\",InfoPro!E163)","v":19.899999999999999},{"$f":"IF(ISBLANK(InfoPro!F163),\"\",InfoPro!F163)","v":"Solar FV"},{"$f":"IF(ISBLANK(InfoPro!I163),\"\",YEAR(InfoPro!I163)-$G$4)","v":2},{"$f":"IF(B171=\"\",\"\",VLOOKUP(D171,Tablas!$B$2:$E$13,2,FALSE))","v":0.26},{"$f":"IF(B171=\"\",\"\",VLOOKUP(D171,Tablas!$B$2:$F$13,3,FALSE))","v":0},45324.24,0,0,0,0,0,0,0,0,0,0,0,0,0,0,0,0,0]
[{"$f":"IF(ISBLANK(InfoPro!A164),\"\",InfoPro!A164)","v":"SC_1968_A1"},{"$f":"IF(ISBLANK(InfoPro!B164),\"\",InfoPro!B164)","v":"Solar Valledupar 5"},{"$f":"IF(ISBLANK(InfoPro!E164),\"\",InfoPro!E164)","v":19.899999999999999},{"$f":"IF(ISBLANK(InfoPro!F164),\"\",InfoPro!F164)","v":"Solar FV"},{"$f":"IF(ISBLANK(InfoPro!I164),\"\",YEAR(InfoPro!I164)-$G$4)","v":2},{"$f":"IF(B172=\"\",\"\",VLOOKUP(D172,Tablas!$B$2:$E$13,2,FALSE))","v":0.26},{"$f":"IF(B172=\"\",\"\",VLOOKUP(D172,Tablas!$B$2:$F$13,3,FALSE))","v":0},45324.24,0,0,0,0,0,0,0,0,0,0,0,0,0,0,0,0,0]
[{"$f":"IF(ISBLANK(InfoPro!A165),\"\",InfoPro!A165)","v":"SC_1968_A2"},{"$f":"IF(ISBLANK(InfoPro!B165),\"\",InfoPro!B165)","v":"Solar Valledupar 5"},{"$f":"IF(ISBLANK(InfoPro!E165),\"\",InfoPro!E165)","v":19.899999999999999},{"$f":"IF(ISBLANK(InfoPro!F165),\"\",InfoPro!F165)","v":"Solar FV"},{"$f":"IF(ISBLANK(InfoPro!I165),\"\",YEAR(InfoPro!I165)-$G$4)","v":2},{"$f":"IF(B173=\"\",\"\",VLOOKUP(D173,Tablas!$B$2:$E$13,2,FALSE))","v":0.26},{"$f":"IF(B173=\"\",\"\",VLOOKUP(D173,Tablas!$B$2:$F$13,3,FALSE))","v":0},45324.24,0,0,0,0,0,0,0,0,0,0,0,0,0,0,0,0,0]
[{"$f":"IF(ISBLANK(InfoPro!A166),\"\",InfoPro!A166)","v":"SC_1978_A1"},{"$f":"IF(ISBLANK(InfoPro!B166),\"\",InfoPro!B166)","v":"Solar El Copey"},{"$f":"IF(ISBLANK(InfoPro!E166),\"\",InfoPro!E166)","v":230},{"$f":"IF(ISBLANK(InfoPro!F166),\"\",InfoPro!F166)","v":"Solar FV"},{"$f":"IF(ISBLANK(InfoPro!I166),\"\",YEAR(InfoPro!I166)-$G$4)","v":2},{"$f":"IF(B174=\"\",\"\",VLOOKUP(D174,Tablas!$B$2:$E$13,2,FALSE))","v":0.26},{"$f":"IF(B174=\"\",\"\",VLOOKUP(D174,Tablas!$B$2:$F$13,3,FALSE))","v":0},523848,0,0,0,0,0,0,0,0,0,0,0,0,0,0,0,0,0]
[{"$f":"IF(ISBLANK(InfoPro!A167),\"\",InfoPro!A167)","v":"SC_1978_A2"},{"$f":"IF(ISBLANK(InfoPro!B167),\"\",InfoPro!B167)","v":"Solar El Copey"},{"$f":"IF(ISBLANK(InfoPro!E167),\"\",InfoPro!E167)","v":230},{"$f":"IF(ISBLANK(InfoPro!F167),\"\",InfoPro!F167)","v":"Solar FV"},{"$f":"IF(ISBLANK(InfoPro!I167),\"\",YEAR(InfoPro!I167)-$G$4)","v":2},{"$f":"IF(B175=\"\",\"\",VLOOKUP(D175,Tablas!$B$2:$E$13,2,FALSE))","v":0.26},{"$f":"IF(B175=\"\",\"\",VLOOKUP(D175,Tablas!$B$2:$F$13,3,FALSE))","v":0},523848,0,0,0,0,0,0,0,0,0,0,0,0,0,0,0,0,0]
[{"$f":"IF(ISBLANK(InfoPro!A168),\"\",InfoPro!A168)","v":"SC_1981_A1"},{"$f":"IF(ISBLANK(InfoPro!B168),\"\",InfoPro!B168)","v":"Solar Valledupar 2"},{"$f":"IF(ISBLANK(InfoPro!E168),\"\",InfoPro!E168)","v":19.899999999999999},{"$f":"IF(ISBLANK(InfoPro!F168),\"\",InfoPro!F168)","v":"Solar FV"},{"$f":"IF(ISBLANK(InfoPro!I168),\"\",YEAR(InfoPro!I168)-$G$4)","v":0},{"$f":"IF(B176=\"\",\"\",VLOOKUP(D176,Tablas!$B$2:$E$13,2,FALSE))","v":0.26},{"$f":"IF(B176=\"\",\"\",VLOOKUP(D176,Tablas!$B$2:$F$13,3,FALSE))","v":0},45324.24,0,0,0,0,0,0,0,0,0,0,0,0,0,0,0,0,0]
[{"$f":"IF(ISBLANK(InfoPro!A169),\"\",InfoPro!A169)","v":"SC_1981_A2"},{"$f":"IF(ISBLANK(InfoPro!B169),\"\",InfoPro!B169)","v":"Solar Valledupar 2"},{"$f":"IF(ISBLANK(InfoPro!E169),\"\",InfoPro!E169)","v":19.899999999999999},{"$f":"IF(ISBLANK(InfoPro!F169),\"\",InfoPro!F169)","v":"Solar FV"},{"$f":"IF(ISBLANK(InfoPro!I169),\"\",YEAR(InfoPro!I169)-$G$4)","v":0},{"$f":"IF(B177=\"\",\"\",VLOOKUP(D177,Tablas!$B$2:$E$13,2,FALSE))","v":0.26},{"$f":"IF(B177=\"\",\"\",VLOOKUP(D177,Tablas!$B$2:$F$13,3,FALSE))","v":0},45324.24,{"$f":"IF($H177=\"\",\"\",(1/(1+$C$4)^(I$7+$E177))*$H177*$G177*$C$3)","v":0},0,0,0,0,0,0,0,0,0,0,0,0,0,0,0,0]
[{"$f":"IF(ISBLANK(InfoPro!A170),\"\",InfoPro!A170)","v":"SC_1982_A1"},{"$f":"IF(ISBLANK(InfoPro!B170),\"\",InfoPro!B170)","v":"Solar Valledupar 3"},{"$f":"IF(ISBLANK(InfoPro!E170),\"\",InfoPro!E170)","v":19.899999999999999},{"$f":"IF(ISBLANK(InfoPro!F170),\"\",InfoPro!F170)","v":"Solar FV"},{"$f":"IF(ISBLANK(InfoPro!I170),\"\",YEAR(InfoPro!I170)-$G$4)","v":2},{"$f":"IF(B178=\"\",\"\",VLOOKUP(D178,Tablas!$B$2:$E$13,2,FALSE))","v":0.26},{"$f":"IF(B178=\"\",\"\",VLOOKUP(D178,Tablas!$B$2:$F$13,3,FALSE))","v":0},45324.24,0,0,0,0,0,0,0,0,0,0,0,0,0,0,0,0,0]
[{"$f":"IF(ISBLANK(InfoPro!A171),\"\",InfoPro!A171)","v":"SC_1982_A2"},{"$f":"IF(ISBLANK(InfoPro!B171),\"\",InfoPro!B171)","v":"Solar Valledupar 3"},{"$f":"IF(ISBLANK(InfoPro!E171),\"\",InfoPro!E171)","v":19.899999999999999},{"$f":"IF(ISBLANK(InfoPro!F171),\"\",InfoPro!F171)","v":"Solar FV"},{"$f":"IF(ISBLANK(InfoPro!I171),\"\",YEAR(InfoPro!I171)-$G$4)","v":2},{"$f":"IF(B179=\"\",\"\",VLOOKUP(D179,Tablas!$B$2:$E$13,2,FALSE))","v":0.26},{"$f":"IF(B179=\"\",\"\",VLOOKUP(D179,Tablas!$B$2:$F$13,3,FALSE))","v":0},45324.24,0,0,0,0,0,0,0,0,0,0,0,0,0,0,0,0,0]
[{"$f":"IF(ISBLANK(InfoPro!A172),\"\",InfoPro!A172)","v":"SC_1989_A1"},{"$f":"IF(ISBLANK(InfoPro!B172),\"\",InfoPro!B172)","v":"Solar Valledupar 1"},{"$f":"IF(ISBLANK(InfoPro!E172),\"\",InfoPro!E172)","v":19.899999999999999},{"$f":"IF(ISBLANK(InfoPro!F172),\"\",InfoPro!F172)","v":"Solar FV"},{"$f":"IF(ISBLANK(InfoPro!I172),\"\",YEAR(InfoPro!I172)-$G$4)","v":0},{"$f":"IF(B180=\"\",\"\",VLOOKUP(D180,Tablas!$B$2:$E$13,2,FALSE))","v":0.26},{"$f":"IF(B180=\"\",\"\",VLOOKUP(D180,Tablas!$B$2:$F$13,3,FALSE))","v":0},45324.24,0,0,0,0,0,0,0,0,0,0,0,0,0,0,0,0,0]
[{"$f":"IF(ISBLANK(InfoPro!A173),\"\",InfoPro!A173)","v":"SC_1989_A2"},{"$f":"IF(ISBLANK(InfoPro!B173),\"\",InfoPro!B173)","v":"Solar Valledupar 1"},{"$f":"IF(ISBLANK(InfoPro!E173),\"\",InfoPro!E173)","v":19.899999999999999},{"$f":"IF(ISBLANK(InfoPro!F173),\"\",InfoPro!F173)","v":"Solar FV"},{"$f":"IF(ISBLANK(InfoPro!I173),\"\",YEAR(InfoPro!I173)-$G$4)","v":0},{"$f":"IF(B181=\"\",\"\",VLOOKUP(D181,Tablas!$B$2:$E$13,2,FALSE))","v":0.26},{"$f":"IF(B181=\"\",\"\",VLOOKUP(D181,Tablas!$B$2:$F$13,3,FALSE))","v":0},45324.24,0,0,0,0,0,0,0,0,0,0,0,0,0,0,0,0,0]
[{"$f":"IF(ISBLANK(InfoPro!A174),\"\",InfoPro!A174)","v":"SC_1992_A1"},{"$f":"IF(ISBLANK(InfoPro!B174),\"\",InfoPro!B174)","v":"Parque Solar TERRɅ III"},{"$f":"IF(ISBLANK(InfoPro!E174),\"\",InfoPro!E174)","v":19.899999999999999},{"$f":"IF(ISBLANK(InfoPro!F174),\"\",InfoPro!F174)","v":"Solar FV"},{"$f":"IF(ISBLANK(InfoPro!I174),\"\",YEAR(InfoPro!I174)-$G$4)","v":1},{"$f":"IF(B182=\"\",\"\",VLOOKUP(D182,Tablas!$B$2:$E$13,2,FALSE))","v":0.26},{"$f":"IF(B182=\"\",\"\",VLOOKUP(D182,Tablas!$B$2:$F$13,3,FALSE))","v":0},45324.24,0,0,0,0,0,0,0,0,0,0,0,0,0,0,0,0,0]
[{"$f":"IF(ISBLANK(InfoPro!A175),\"\",InfoPro!A175)","v":"SC_2005_A1"},{"$f":"IF(ISBLANK(InfoPro!B175),\"\",InfoPro!B175)","v":"PARQUE SOLAR CATACA"},{"$f":"IF(ISBLANK(InfoPro!E175),\"\",InfoPro!E175)","v":9.9},{"$f":"IF(ISBLANK(InfoPro!F175),\"\",InfoPro!F175)","v":"Solar FV"},{"$f":"IF(ISBLANK(InfoPro!I175),\"\",YEAR(InfoPro!I175)-$G$4)","v":1},{"$f":"IF(B183=\"\",\"\",VLOOKUP(D183,Tablas!$B$2:$E$13,2,FALSE))","v":0.26},{"$f":"IF(B183=\"\",\"\",VLOOKUP(D183,Tablas!$B$2:$F$13,3,FALSE))","v":0},22548.240000000005,0,0,0,0,0,0,0,0,0,0,0,0,0,0,0,0,0]
[{"$f":"IF(ISBLANK(InfoPro!A176),\"\",InfoPro!A176)","v":"SC_2010_A1"},{"$f":"IF(ISBLANK(InfoPro!B176),\"\",InfoPro!B176)","v":"PARQUE SOLAR SAN JUAN_5MW"},{"$f":"IF(ISBLANK(InfoPro!E176),\"\",InfoPro!E176)","v":5},{"$f":"IF(ISBLANK(InfoPro!F176),\"\",InfoPro!F176)","v":"Solar FV"},{"$f":"IF(ISBLANK(InfoPro!I176),\"\",YEAR(InfoPro!I176)-$G$4)","v":1},{"$f":"IF(B184=\"\",\"\",VLOOKUP(D184,Tablas!$B$2:$E$13,2,FALSE))","v":0.26},{"$f":"IF(B184=\"\",\"\",VLOOKUP(D184,Tablas!$B$2:$F$13,3,FALSE))","v":0},11388.000000000002,0,0,0,0,0,0,0,0,0,0,0,0,0,0,0,0,0]
[{"$f":"IF(ISBLANK(InfoPro!A177),\"\",InfoPro!A177)","v":"SC_2011_A1"},{"$f":"IF(ISBLANK(InfoPro!B177),\"\",InfoPro!B177)","v":"PE Vientos de la Manita"},{"$f":"IF(ISBLANK(InfoPro!E177),\"\",InfoPro!E177)","v":9.9},{"$f":"IF(ISBLANK(InfoPro!F177),\"\",InfoPro!F177)","v":"Eólico Onshore"},{"$f":"IF(ISBLANK(InfoPro!I177),\"\",YEAR(InfoPro!I177)-$G$4)","v":2},{"$f":"IF(B185=\"\",\"\",VLOOKUP(D185,Tablas!$B$2:$E$13,2,FALSE))","v":0.56999999999999995},{"$f":"IF(B185=\"\",\"\",VLOOKUP(D185,Tablas!$B$2:$F$13,3,FALSE))","v":0},49432.679999999993,0,0,0,0,0,0,0,0,0,0,0,0,0,0,0,0,0]
[{"$f":"IF(ISBLANK(InfoPro!A178),\"\",InfoPro!A178)","v":"SC_2011_A2"},{"$f":"IF(ISBLANK(InfoPro!B178),\"\",InfoPro!B178)","v":"PE Vientos de la Manita"},{"$f":"IF(ISBLANK(InfoPro!E178),\"\",InfoPro!E178)","v":9.9},{"$f":"IF(ISBLANK(InfoPro!F178),\"\",InfoPro!F178)","v":"Eólico Onshore"},{"$f":"IF(ISBLANK(InfoPro!I178),\"\",YEAR(InfoPro!I178)-$G$4)","v":2},{"$f":"IF(B186=\"\",\"\",VLOOKUP(D186,Tablas!$B$2:$E$13,2,FALSE))","v":0.56999999999999995},{"$f":"IF(B186=\"\",\"\",VLOOKUP(D186,Tablas!$B$2:$F$13,3,FALSE))","v":0},49432.679999999993,0,0,0,0,0,0,0,0,0,0,0,0,0,0,0,0,0]
[{"$f":"IF(ISBLANK(InfoPro!A179),\"\",InfoPro!A179)","v":"SC_2020_A1"},{"$f":"IF(ISBLANK(InfoPro!B179),\"\",InfoPro!B179)","v":"San Juan Solar I 9,9 MW"},{"$f":"IF(ISBLANK(InfoPro!E179),\"\",InfoPro!E179)","v":9.9},{"$f":"IF(ISBLANK(InfoPro!F179),\"\",InfoPro!F179)","v":"Solar FV"},{"$f":"IF(ISBLANK(InfoPro!I179),\"\",YEAR(InfoPro!I179)-$G$4)","v":1},{"$f":"IF(B187=\"\",\"\",VLOOKUP(D187,Tablas!$B$2:$E$13,2,FALSE))","v":0.26},{"$f":"IF(B187=\"\",\"\",VLOOKUP(D187,Tablas!$B$2:$F$13,3,FALSE))","v":0},22548.240000000005,0,0,0,0,0,0,0,0,0,0,0,0,0,0,0,0,0]
[{"$f":"IF(ISBLANK(InfoPro!A180),\"\",InfoPro!A180)","v":"SC_2020_A2"},{"$f":"IF(ISBLANK(InfoPro!B180),\"\",InfoPro!B180)","v":"San Juan Solar I 9,9 MW"},{"$f":"IF(ISBLANK(InfoPro!E180),\"\",InfoPro!E180)","v":9.9},{"$f":"IF(ISBLANK(InfoPro!F180),\"\",InfoPro!F180)","v":"Solar FV"},{"$f":"IF(ISBLANK(InfoPro!I180),\"\",YEAR(InfoPro!I180)-$G$4)","v":1},{"$f":"IF(B188=\"\",\"\",VLOOKUP(D188,Tablas!$B$2:$E$13,2,FALSE))","v":0.26},{"$f":"IF(B188=\"\",\"\",VLOOKUP(D188,Tablas!$B$2:$F$13,3,FALSE))","v":0},22548.240000000005,0,0,0,0,0,0,0,0,0,0,0,0,0,0,0,0,0]
[{"$f":"IF(ISBLANK(InfoPro!A181),\"\",InfoPro!A181)","v":"SC_2021_A1"},{"$f":"IF(ISBLANK(InfoPro!B181),\"\",InfoPro!B181)","v":"San Juan Solar II 9,9 MW"},{"$f":"IF(ISBLANK(InfoPro!E181),\"\",InfoPro!E181)","v":9.9},{"$f":"IF(ISBLANK(InfoPro!F181),\"\",InfoPro!F181)","v":"Solar FV"},{"$f":"IF(ISBLANK(InfoPro!I181),\"\",YEAR(InfoPro!I181)-$G$4)","v":1},{"$f":"IF(B189=\"\",\"\",VLOOKUP(D189,Tablas!$B$2:$E$13,2,FALSE))","v":0.26},{"$f":"IF(B189=\"\",\"\",VLOOKUP(D189,Tablas!$B$2:$F$13,3,FALSE))","v":0},22548.240000000005,0,0,0,0,0,0,0,0,0,0,0,0,0,0,0,0,0]
[{"$f":"IF(ISBLANK(InfoPro!A182),\"\",InfoPro!A182)","v":"SC_2021_A2"},{"$f":"IF(ISBLANK(InfoPro!B182),\"\",InfoPro!B182)","v":"San Juan Solar II 9,9 MW"},{"$f":"IF(ISBLANK(InfoPro!E182),\"\",InfoPro!E182)","v":9.9},{"$f":"IF(ISBLANK(InfoPro!F182),\"\",InfoPro!F182)","v":"Solar FV"},{"$f":"IF(ISBLANK(InfoPro!I182),\"\",YEAR(InfoPro!I182)-$G$4)","v":1},{"$f":"IF(B190=\"\",\"\",VLOOKUP(D190,Tablas!$B$2:$E$13,2,FALSE))","v":0.26},{"$f":"IF(B190=\"\",\"\",VLOOKUP(D190,Tablas!$B$2:$F$13,3,FALSE))","v":0},22548.240000000005,0,0,0,0,0,0,0,0,0,0,0,0,0,0,0,0,0]
[{"$f":"IF(ISBLANK(InfoPro!A183),\"\",InfoPro!A183)","v":"SC_2056_A1"},{"$f":"IF(ISBLANK(InfoPro!B183),\"\",InfoPro!B183)","v":"Saturno 200 MW"},{"$f":"IF(ISBLANK(InfoPro!E183),\"\",InfoPro!E183)","v":200},{"$f":"IF(ISBLANK(InfoPro!F183),\"\",InfoPro!F183)","v":"Solar FV"},{"$f":"IF(ISBLANK(InfoPro!I183),\"\",YEAR(InfoPro!I183)-$G$4)","v":2},{"$f":"IF(B191=\"\",\"\",VLOOKUP(D191,Tablas!$B$2:$E$13,2,FALSE))","v":0.26},{"$f":"IF(B191=\"\",\"\",VLOOKUP(D191,Tablas!$B$2:$F$13,3,FALSE))","v":0},455520,0,0,0,0,0,0,0,0,0,0,0,0,0,0,0,0,0]
[{"$f":"IF(ISBLANK(InfoPro!A184),\"\",InfoPro!A184)","v":"SC_2057_A1"},{"$f":"IF(ISBLANK(InfoPro!B184),\"\",InfoPro!B184)","v":"SABAN II - 305 MW"},{"$f":"IF(ISBLANK(InfoPro!E184),\"\",InfoPro!E184)","v":305},{"$f":"IF(ISBLANK(InfoPro!F184),\"\",InfoPro!F184)","v":"Solar FV"},{"$f":"IF(ISBLANK(InfoPro!I184),\"\",YEAR(InfoPro!I184)-$G$4)","v":4},{"$f":"IF(B192=\"\",\"\",VLOOKUP(D192,Tablas!$B$2:$E$13,2,FALSE))","v":0.26},{"$f":"IF(B192=\"\",\"\",VLOOKUP(D192,Tablas!$B$2:$F$13,3,FALSE))","v":0},694667.99999999988,0,0,0,0,0,0,0,0,0,0,0,0,0,0,0,0,0]
[{"$f":"IF(ISBLANK(InfoPro!A185),\"\",InfoPro!A185)","v":"SC_2066_A1"},{"$f":"IF(ISBLANK(InfoPro!B185),\"\",InfoPro!B185)","v":"Orquídea del Cesar - La Loma - 62 MW"},{"$f":"IF(ISBLANK(InfoPro!E185),\"\",InfoPro!E185)","v":62},{"$f":"IF(ISBLANK(InfoPro!F185),\"\",InfoPro!F185)","v":"Solar FV"},{"$f":"IF(ISBLANK(InfoPro!I185),\"\",YEAR(InfoPro!I185)-$G$4)","v":5},{"$f":"IF(B193=\"\",\"\",VLOOKUP(D193,Tablas!$B$2:$E$13,2,FALSE))","v":0.26},{"$f":"IF(B193=\"\",\"\",VLOOKUP(D193,Tablas!$B$2:$F$13,3,FALSE))","v":0},141211.20000000001,0,0,0,0,0,0,0,0,0,0,0,0,0,0,0,0,0]
[{"$f":"IF(ISBLANK(InfoPro!A186),\"\",InfoPro!A186)","v":"SC_2066_A2"},{"$f":"IF(ISBLANK(InfoPro!B186),\"\",InfoPro!B186)","v":"Orquídea del Cesar - La Loma - 62 MW"},{"$f":"IF(ISBLANK(InfoPro!E186),\"\",InfoPro!E186)","v":62},{"$f":"IF(ISBLANK(InfoPro!F186),\"\",InfoPro!F186)","v":"Solar FV"},{"$f":"IF(ISBLANK(InfoPro!I186),\"\",YEAR(InfoPro!I186)-$G$4)","v":5},{"$f":"IF(B194=\"\",\"\",VLOOKUP(D194,Tablas!$B$2:$E$13,2,FALSE))","v":0.26},{"$f":"IF(B194=\"\",\"\",VLOOKUP(D194,Tablas!$B$2:$F$13,3,FALSE))","v":0},141211.20000000001,{"$f":"IF($H194=\"\",\"\",(1/(1+$C$4)^(I$7+$E194))*$H194*$G194*$C$3)","v":0},0,0,0,0,0,0,0,0,0,0,0,0,0,0,0,0]
[{"$f":"IF(ISBLANK(InfoPro!A187),\"\",InfoPro!A187)","v":"SC_2069_A1"},{"$f":"IF(ISBLANK(InfoPro!B187),\"\",InfoPro!B187)","v":"Pétalo del Magdalena - Fundación"},{"$f":"IF(ISBLANK(InfoPro!E187),\"\",InfoPro!E187)","v":9.9},{"$f":"IF(ISBLANK(InfoPro!F187),\"\",InfoPro!F187)","v":"Solar FV"},{"$f":"IF(ISBLANK(InfoPro!I187),\"\",YEAR(InfoPro!I187)-$G$4)","v":3},{"$f":"IF(B195=\"\",\"\",VLOOKUP(D195,Tablas!$B$2:$E$13,2,FALSE))","v":0.26},{"$f":"IF(B195=\"\",\"\",VLOOKUP(D195,Tablas!$B$2:$F$13,3,FALSE))","v":0},22548.240000000005,0,0,0,0,0,0,0,0,0,0,0,0,0,0,0,0,0]
[{"$f":"IF(ISBLANK(InfoPro!A188),\"\",InfoPro!A188)","v":"SC_2070_A1"},{"$f":"IF(ISBLANK(InfoPro!B188),\"\",InfoPro!B188)","v":"Cactus del Cesar - La Loma"},{"$f":"IF(ISBLANK(InfoPro!E188),\"\",InfoPro!E188)","v":19.899999999999999},{"$f":"IF(ISBLANK(InfoPro!F188),\"\",InfoPro!F188)","v":"Solar FV"},{"$f":"IF(ISBLANK(InfoPro!I188),\"\",YEAR(InfoPro!I188)-$G$4)","v":5},{"$f":"IF(B196=\"\",\"\",VLOOKUP(D196,Tablas!$B$2:$E$13,2,FALSE))","v":0.26},{"$f":"IF(B196=\"\",\"\",VLOOKUP(D196,Tablas!$B$2:$F$13,3,FALSE))","v":0},45324.24,0,0,0,0,0,0,0,0,0,0,0,0,0,0,0,0,0]
[{"$f":"IF(ISBLANK(InfoPro!A189),\"\",InfoPro!A189)","v":"SC_2070_A2"},{"$f":"IF(ISBLANK(InfoPro!B189),\"\",InfoPro!B189)","v":"Cactus del Cesar - La Loma"},{"$f":"IF(ISBLANK(InfoPro!E189),\"\",InfoPro!E189)","v":19.899999999999999},{"$f":"IF(ISBLANK(InfoPro!F189),\"\",InfoPro!F189)","v":"Solar FV"},{"$f":"IF(ISBLANK(InfoPro!I189),\"\",YEAR(InfoPro!I189)-$G$4)","v":5},{"$f":"IF(B197=\"\",\"\",VLOOKUP(D197,Tablas!$B$2:$E$13,2,FALSE))","v":0.26},{"$f":"IF(B197=\"\",\"\",VLOOKUP(D197,Tablas!$B$2:$F$13,3,FALSE))","v":0},45324.24,0,0,0,0,0,0,0,0,0,0,0,0,0,0,0,0,0]
[{"$f":"IF(ISBLANK(InfoPro!A190),\"\",InfoPro!A190)","v":"SC_2077_A1"},{"$f":"IF(ISBLANK(InfoPro!B190),\"\",InfoPro!B190)","v":"PARQUE SOLAR GUACAMAYAL 9.9"},{"$f":"IF(ISBLANK(InfoPro!E190),\"\",InfoPro!E190)","v":9.9},{"$f":"IF(ISBLANK(InfoPro!F190),\"\",InfoPro!F190)","v":"Solar FV"},{"$f":"IF(ISBLANK(InfoPro!I190),\"\",YEAR(InfoPro!I190)-$G$4)","v":1},{"$f":"IF(B198=\"\",\"\",VLOOKUP(D198,Tablas!$B$2:$E$13,2,FALSE))","v":0.26},{"$f":"IF(B198=\"\",\"\",VLOOKUP(D198,Tablas!$B$2:$F$13,3,FALSE))","v":0},22548.240000000005,0,0,0,0,0,0,0,0,0,0,0,0,0,0,0,0,0]
[{"$f":"IF(ISBLANK(InfoPro!A191),\"\",InfoPro!A191)","v":"SC_2084_A1"},{"$f":"IF(ISBLANK(InfoPro!B191),\"\",InfoPro!B191)","v":"Parque Solar Codazzi 1 19,9 MW"},{"$f":"IF(ISBLANK(InfoPro!E191),\"\",InfoPro!E191)","v":19.899999999999999},{"$f":"IF(ISBLANK(InfoPro!F191),\"\",InfoPro!F191)","v":"Solar FV"},{"$f":"IF(ISBLANK(InfoPro!I191),\"\",YEAR(InfoPro!I191)-$G$4)","v":3},{"$f":"IF(B199=\"\",\"\",VLOOKUP(D199,Tablas!$B$2:$E$13,2,FALSE))","v":0.26},{"$f":"IF(B199=\"\",\"\",VLOOKUP(D199,Tablas!$B$2:$F$13,3,FALSE))","v":0},45324.24,0,0,0,0,0,0,0,0,0,0,0,0,0,0,0,0,0]
[{"$f":"IF(ISBLANK(InfoPro!A192),\"\",InfoPro!A192)","v":"SC_2084_A2"},{"$f":"IF(ISBLANK(InfoPro!B192),\"\",InfoPro!B192)","v":"Parque Solar Codazzi 1 19,9 MW"},{"$f":"IF(ISBLANK(InfoPro!E192),\"\",InfoPro!E192)","v":19.899999999999999},{"$f":"IF(ISBLANK(InfoPro!F192),\"\",InfoPro!F192)","v":"Solar FV"},{"$f":"IF(ISBLANK(InfoPro!I192),\"\",YEAR(InfoPro!I192)-$G$4)","v":3},{"$f":"IF(B200=\"\",\"\",VLOOKUP(D200,Tablas!$B$2:$E$13,2,FALSE))","v":0.26},{"$f":"IF(B200=\"\",\"\",VLOOKUP(D200,Tablas!$B$2:$F$13,3,FALSE))","v":0},45324.24,0,0,0,0,0,0,0,0,0,0,0,0,0,0,0,0,0]
[{"$f":"IF(ISBLANK(InfoPro!A193),\"\",InfoPro!A193)","v":"SC_2086_A1"},{"$f":"IF(ISBLANK(InfoPro!B193),\"\",InfoPro!B193)","v":"PARQUE SOLAR SABANA SOLAR 19.9"},{"$f":"IF(ISBLANK(InfoPro!E193),\"\",InfoPro!E193)","v":19.899999999999999},{"$f":"IF(ISBLANK(InfoPro!F193),\"\",InfoPro!F193)","v":"Solar FV"},{"$f":"IF(ISBLANK(InfoPro!I193),\"\",YEAR(InfoPro!I193)-$G$4)","v":1},{"$f":"IF(B201=\"\",\"\",VLOOKUP(D201,Tablas!$B$2:$E$13,2,FALSE))","v":0.26},{"$f":"IF(B201=\"\",\"\",VLOOKUP(D201,Tablas!$B$2:$F$13,3,FALSE))","v":0},45324.24,0,0,0,0,0,0,0,0,0,0,0,0,0,0,0,0,0]
[{"$f":"IF(ISBLANK(InfoPro!A194),\"\",InfoPro!A194)","v":"SC_2103_A1"},{"$f":"IF(ISBLANK(InfoPro!B194),\"\",InfoPro!B194)","v":"PARQUE SOLAR PUERTA DEL SOL"},{"$f":"IF(ISBLANK(InfoPro!E194),\"\",InfoPro!E194)","v":19.899999999999999},{"$f":"IF(ISBLANK(InfoPro!F194),\"\",InfoPro!F194)","v":"Solar FV"},{"$f":"IF(ISBLANK(InfoPro!I194),\"\",YEAR(InfoPro!I194)-$G$4)","v":1},{"$f":"IF(B202=\"\",\"\",VLOOKUP(D202,Tablas!$B$2:$E$13,2,FALSE))","v":0.26},{"$f":"IF(B202=\"\",\"\",VLOOKUP(D202,Tablas!$B$2:$F$13,3,FALSE))","v":0},45324.24,0,0,0,0,0,0,0,0,0,0,0,0,0,0,0,0,0]
[{"$f":"IF(ISBLANK(InfoPro!A195),\"\",InfoPro!A195)","v":"SC_2125_A1"},{"$f":"IF(ISBLANK(InfoPro!B195),\"\",InfoPro!B195)","v":"Expansión Valledupar 100 MW"},{"$f":"IF(ISBLANK(InfoPro!E195),\"\",InfoPro!E195)","v":100},{"$f":"IF(ISBLANK(InfoPro!F195),\"\",InfoPro!F195)","v":"Solar FV"},{"$f":"IF(ISBLANK(InfoPro!I195),\"\",YEAR(InfoPro!I195)-$G$4)","v":4},{"$f":"IF(B203=\"\",\"\",VLOOKUP(D203,Tablas!$B$2:$E$13,2,FALSE))","v":0.26},{"$f":"IF(B203=\"\",\"\",VLOOKUP(D203,Tablas!$B$2:$F$13,3,FALSE))","v":0},227760,0,0,0,0,0,0,0,0,0,0,0,0,0,0,0,0,0]
[{"$f":"IF(ISBLANK(InfoPro!A196),\"\",InfoPro!A196)","v":"SC_2125_A2"},{"$f":"IF(ISBLANK(InfoPro!B196),\"\",InfoPro!B196)","v":"Expansión Valledupar 100 MW"},{"$f":"IF(ISBLANK(InfoPro!E196),\"\",InfoPro!E196)","v":100},{"$f":"IF(ISBLANK(InfoPro!F196),\"\",InfoPro!F196)","v":"Solar FV"},{"$f":"IF(ISBLANK(InfoPro!I196),\"\",YEAR(InfoPro!I196)-$G$4)","v":4},{"$f":"IF(B204=\"\",\"\",VLOOKUP(D204,Tablas!$B$2:$E$13,2,FALSE))","v":0.26},{"$f":"IF(B204=\"\",\"\",VLOOKUP(D204,Tablas!$B$2:$F$13,3,FALSE))","v":0},227760,0,0,0,0,0,0,0,0,0,0,0,0,0,0,0,0,0]
[{"$f":"IF(ISBLANK(InfoPro!A197),\"\",InfoPro!A197)","v":"SC_2129_A2"},{"$f":"IF(ISBLANK(InfoPro!B197),\"\",InfoPro!B197)","v":"DSE LA JAGUA DE IBIRICO"},{"$f":"IF(ISBLANK(InfoPro!E197),\"\",InfoPro!E197)","v":9.9},{"$f":"IF(ISBLANK(InfoPro!F197),\"\",InfoPro!F197)","v":"Solar FV"},{"$f":"IF(ISBLANK(InfoPro!I197),\"\",YEAR(InfoPro!I197)-$G$4)","v":2},{"$f":"IF(B205=\"\",\"\",VLOOKUP(D205,Tablas!$B$2:$E$13,2,FALSE))","v":0.26},{"$f":"IF(B205=\"\",\"\",VLOOKUP(D205,Tablas!$B$2:$F$13,3,FALSE))","v":0},22548.240000000005,0,0,0,0,0,0,0,0,0,0,0,0,0,0,0,0,0]
[{"$f":"IF(ISBLANK(InfoPro!A198),\"\",InfoPro!A198)","v":"SC_2130_A1"},{"$f":"IF(ISBLANK(InfoPro!B198),\"\",InfoPro!B198)","v":"Parque Solar Boreal"},{"$f":"IF(ISBLANK(InfoPro!E198),\"\",InfoPro!E198)","v":100},{"$f":"IF(ISBLANK(InfoPro!F198),\"\",InfoPro!F198)","v":"Solar FV"},{"$f":"IF(ISBLANK(InfoPro!I198),\"\",YEAR(InfoPro!I198)-$G$4)","v":5},{"$f":"IF(B206=\"\",\"\",VLOOKUP(D206,Tablas!$B$2:$E$13,2,FALSE))","v":0.26},{"$f":"IF(B206=\"\",\"\",VLOOKUP(D206,Tablas!$B$2:$F$13,3,FALSE))","v":0},227760,0,0,0,0,0,0,0,0,0,0,0,0,0,0,0,0,0]
[{"$f":"IF(ISBLANK(InfoPro!A199),\"\",InfoPro!A199)","v":"SC_2130_A2"},{"$f":"IF(ISBLANK(InfoPro!B199),\"\",InfoPro!B199)","v":"Parque Solar Boreal"},{"$f":"IF(ISBLANK(InfoPro!E199),\"\",InfoPro!E199)","v":100},{"$f":"IF(ISBLANK(InfoPro!F199),\"\",InfoPro!F199)","v":"Solar FV"},{"$f":"IF(ISBLANK(InfoPro!I199),\"\",YEAR(InfoPro!I199)-$G$4)","v":5},{"$f":"IF(B207=\"\",\"\",VLOOKUP(D207,Tablas!$B$2:$E$13,2,FALSE))","v":0.26},{"$f":"IF(B207=\"\",\"\",VLOOKUP(D207,Tablas!$B$2:$F$13,3,FALSE))","v":0},227760,0,0,0,0,0,0,0,0,0,0,0,0,0,0,0,0,0]
[{"$f":"IF(ISBLANK(InfoPro!A200),\"\",InfoPro!A200)","v":"SC_2132_A1"},{"$f":"IF(ISBLANK(InfoPro!B200),\"\",InfoPro!B200)","v":"El Encanto 9,9 MW"},{"$f":"IF(ISBLANK(InfoPro!E200),\"\",InfoPro!E200)","v":9.9},{"$f":"IF(ISBLANK(InfoPro!F200),\"\",InfoPro!F200)","v":"Solar FV"},{"$f":"IF(ISBLANK(InfoPro!I200),\"\",YEAR(InfoPro!I200)-$G$4)","v":1},{"$f":"IF(B208=\"\",\"\",VLOOKUP(D208,Tablas!$B$2:$E$13,2,FALSE))","v":0.26},{"$f":"IF(B208=\"\",\"\",VLOOKUP(D208,Tablas!$B$2:$F$13,3,FALSE))","v":0},22548.240000000005,0,0,0,0,0,0,0,0,0,0,0,0,0,0,0,0,0]
[{"$f":"IF(ISBLANK(InfoPro!A201),\"\",InfoPro!A201)","v":"SC_2137_A1"},{"$f":"IF(ISBLANK(InfoPro!B201),\"\",InfoPro!B201)","v":"La Unión 9,9"},{"$f":"IF(ISBLANK(InfoPro!E201),\"\",InfoPro!E201)","v":9.9},{"$f":"IF(ISBLANK(InfoPro!F201),\"\",InfoPro!F201)","v":"Solar FV"},{"$f":"IF(ISBLANK(InfoPro!I201),\"\",YEAR(InfoPro!I201)-$G$4)","v":1},{"$f":"IF(B209=\"\",\"\",VLOOKUP(D209,Tablas!$B$2:$E$13,2,FALSE))","v":0.26},{"$f":"IF(B209=\"\",\"\",VLOOKUP(D209,Tablas!$B$2:$F$13,3,FALSE))","v":0},22548.240000000005,0,0,0,0,0,0,0,0,0,0,0,0,0,0,0,0,0]
[{"$f":"IF(ISBLANK(InfoPro!A202),\"\",InfoPro!A202)","v":"SC_2159_A1"},{"$f":"IF(ISBLANK(InfoPro!B202),\"\",InfoPro!B202)","v":"DSE IBIRICO"},{"$f":"IF(ISBLANK(InfoPro!E202),\"\",InfoPro!E202)","v":19.899999999999999},{"$f":"IF(ISBLANK(InfoPro!F202),\"\",InfoPro!F202)","v":"Solar FV"},{"$f":"IF(ISBLANK(InfoPro!I202),\"\",YEAR(InfoPro!I202)-$G$4)","v":2},{"$f":"IF(B210=\"\",\"\",VLOOKUP(D210,Tablas!$B$2:$E$13,2,FALSE))","v":0.26},{"$f":"IF(B210=\"\",\"\",VLOOKUP(D210,Tablas!$B$2:$F$13,3,FALSE))","v":0},45324.24,0,0,0,0,0,0,0,0,0,0,0,0,0,0,0,0,0]
[{"$f":"IF(ISBLANK(InfoPro!A203),\"\",InfoPro!A203)","v":"SC_2159_A2"},{"$f":"IF(ISBLANK(InfoPro!B203),\"\",InfoPro!B203)","v":"DSE IBIRICO"},{"$f":"IF(ISBLANK(InfoPro!E203),\"\",InfoPro!E203)","v":19.899999999999999},{"$f":"IF(ISBLANK(InfoPro!F203),\"\",InfoPro!F203)","v":"Solar FV"},{"$f":"IF(ISBLANK(InfoPro!I203),\"\",YEAR(InfoPro!I203)-$G$4)","v":2},{"$f":"IF(B211=\"\",\"\",VLOOKUP(D211,Tablas!$B$2:$E$13,2,FALSE))","v":0.26},{"$f":"IF(B211=\"\",\"\",VLOOKUP(D211,Tablas!$B$2:$F$13,3,FALSE))","v":0},45324.24,{"$f":"IF($H211=\"\",\"\",(1/(1+$C$4)^(I$7+$E211))*$H211*$G211*$C$3)","v":0},0,0,0,0,0,0,0,0,0,0,0,0,0,0,0,0]
[{"$f":"IF(ISBLANK(InfoPro!A204),\"\",InfoPro!A204)","v":"SC_2162_A1"},{"$f":"IF(ISBLANK(InfoPro!B204),\"\",InfoPro!B204)","v":"Parque Solar Codazzi 2"},{"$f":"IF(ISBLANK(InfoPro!E204),\"\",InfoPro!E204)","v":9.9},{"$f":"IF(ISBLANK(InfoPro!F204),\"\",InfoPro!F204)","v":"Solar FV"},{"$f":"IF(ISBLANK(InfoPro!I204),\"\",YEAR(InfoPro!I204)-$G$4)","v":3},{"$f":"IF(B212=\"\",\"\",VLOOKUP(D212,Tablas!$B$2:$E$13,2,FALSE))","v":0.26},{"$f":"IF(B212=\"\",\"\",VLOOKUP(D212,Tablas!$B$2:$F$13,3,FALSE))","v":0},22548.240000000005,0,0,0,0,0,0,0,0,0,0,0,0,0,0,0,0,0]
[{"$f":"IF(ISBLANK(InfoPro!A205),\"\",InfoPro!A205)","v":"SC_2162_A2"},{"$f":"IF(ISBLANK(InfoPro!B205),\"\",InfoPro!B205)","v":"Parque Solar Codazzi 2"},{"$f":"IF(ISBLANK(InfoPro!E205),\"\",InfoPro!E205)","v":9.9},{"$f":"IF(ISBLANK(InfoPro!F205),\"\",InfoPro!F205)","v":"Solar FV"},{"$f":"IF(ISBLANK(InfoPro!I205),\"\",YEAR(InfoPro!I205)-$G$4)","v":3},{"$f":"IF(B213=\"\",\"\",VLOOKUP(D213,Tablas!$B$2:$E$13,2,FALSE))","v":0.26},{"$f":"IF(B213=\"\",\"\",VLOOKUP(D213,Tablas!$B$2:$F$13,3,FALSE))","v":0},{"$f":"IF(C213=\"\",\"\",+C213*F213*24*365)","v":22548.240000000005},0,0,0,0,0,0,0,0,0,0,0,0,0,0,0,{"$f":"IF(W213=\"\",\"\",SUM(I213:W213))","v":0},{"$f":"IF(C213=0,0,IF(X213=\"\",\"\",X213/(C213*1000)))","v":0}]
[{"$f":"IF(ISBLANK(InfoPro!A206),\"\",InfoPro!A206)","v":"SC_2200_A1"},{"$f":"IF(ISBLANK(InfoPro!B206),\"\",InfoPro!B206)","v":"Parque Eólico Wakuaipa"},{"$f":"IF(ISBLANK(InfoPro!E206),\"\",InfoPro!E206)","v":200},{"$f":"IF(ISBLANK(InfoPro!F206),\"\",InfoPro!F206)","v":"Eólico Onshore"},{"$f":"IF(ISBLANK(InfoPro!I206),\"\",YEAR(InfoPro!I206)-$G$4)","v":3},{"$f":"IF(B214=\"\",\"\",VLOOKUP(D214,Tablas!$B$2:$E$13,2,FALSE))","v":0.56999999999999995},{"$f":"IF(B214=\"\",\"\",VLOOKUP(D214,Tablas!$B$2:$F$13,3,FALSE))","v":0},998639.99999999988,0,0,0,0,0,0,0,0,0,0,0,0,0,0,0,0,0]
[{"$f":"IF(ISBLANK(InfoPro!A207),\"\",InfoPro!A207)","v":"SC_2200_A2"},{"$f":"IF(ISBLANK(InfoPro!B207),\"\",InfoPro!B207)","v":"Parque Eólico Wakuaipa"},{"$f":"IF(ISBLANK(InfoPro!E207),\"\",InfoPro!E207)","v":200},{"$f":"IF(ISBLANK(InfoPro!F207),\"\",InfoPro!F207)","v":"Eólico Onshore"},{"$f":"IF(ISBLANK(InfoPro!I207),\"\",YEAR(InfoPro!I207)-$G$4)","v":3},{"$f":"IF(B215=\"\",\"\",VLOOKUP(D215,Tablas!$B$2:$E$13,2,FALSE))","v":0.56999999999999995},{"$f":"IF(B215=\"\",\"\",VLOOKUP(D215,Tablas!$B$2:$F$13,3,FALSE))","v":0},998639.99999999988,0,0,0,0,0,0,0,0,0,0,0,0,0,0,0,0,0]
[{"$f":"IF(ISBLANK(InfoPro!A208),\"\",InfoPro!A208)","v":"SC_2206_A1"},{"$f":"IF(ISBLANK(InfoPro!B208),\"\",InfoPro!B208)","v":"Parque Fotovoltaico Lyra"},{"$f":"IF(ISBLANK(InfoPro!E208),\"\",InfoPro!E208)","v":19.899999999999999},{"$f":"IF(ISBLANK(InfoPro!F208),\"\",InfoPro!F208)","v":"Solar FV"},{"$f":"IF(ISBLANK(InfoPro!I208),\"\",YEAR(InfoPro!I208)-$G$4)","v":2},{"$f":"IF(B216=\"\",\"\",VLOOKUP(D216,Tablas!$B$2:$E$13,2,FALSE))","v":0.26},{"$f":"IF(B216=\"\",\"\",VLOOKUP(D216,Tablas!$B$2:$F$13,3,FALSE))","v":0},45324.24,0,0,0,0,0,0,0,0,0,0,0,0,0,0,0,0,0]
[{"$f":"IF(ISBLANK(InfoPro!A209),\"\",InfoPro!A209)","v":"SC_2206_A2"},{"$f":"IF(ISBLANK(InfoPro!B209),\"\",InfoPro!B209)","v":"Parque Fotovoltaico Lyra"},{"$f":"IF(ISBLANK(InfoPro!E209),\"\",InfoPro!E209)","v":19.899999999999999},{"$f":"IF(ISBLANK(InfoPro!F209),\"\",InfoPro!F209)","v":"Solar FV"},{"$f":"IF(ISBLANK(InfoPro!I209),\"\",YEAR(InfoPro!I209)-$G$4)","v":2},{"$f":"IF(B217=\"\",\"\",VLOOKUP(D217,Tablas!$B$2:$E$13,2,FALSE))","v":0.26},{"$f":"IF(B217=\"\",\"\",VLOOKUP(D217,Tablas!$B$2:$F$13,3,FALSE))","v":0},45324.24,0,0,0,0,0,0,0,0,0,0,0,0,0,0,0,0,0]
[{"$f":"IF(ISBLANK(InfoPro!A210),\"\",InfoPro!A210)","v":"SC_2212_A1"},{"$f":"IF(ISBLANK(InfoPro!B210),\"\",InfoPro!B210)","v":"Aguaraní 200 MW"},{"$f":"IF(ISBLANK(InfoPro!E210),\"\",InfoPro!E210)","v":200},{"$f":"IF(ISBLANK(InfoPro!F210),\"\",InfoPro!F210)","v":"Solar FV"},{"$f":"IF(ISBLANK(InfoPro!I210),\"\",YEAR(InfoPro!I210)-$G$4)","v":4},{"$f":"IF(B218=\"\",\"\",VLOOKUP(D218,Tablas!$B$2:$E$13,2,FALSE))","v":0.26},{"$f":"IF(B218=\"\",\"\",VLOOKUP(D218,Tablas!$B$2:$F$13,3,FALSE))","v":0},455520,0,0,0,0,0,0,0,0,0,0,0,0,0,0,0,0,0]
[{"$f":"IF(ISBLANK(InfoPro!A211),\"\",InfoPro!A211)","v":"SC_2212_A2"},{"$f":"IF(ISBLANK(InfoPro!B211),\"\",InfoPro!B211)","v":"Aguaraní 200 MW"},{"$f":"IF(ISBLANK(InfoPro!E211),\"\",InfoPro!E211)","v":200},{"$f":"IF(ISBLANK(InfoPro!F211),\"\",InfoPro!F211)","v":"Solar FV"},{"$f":"IF(ISBLANK(InfoPro!I211),\"\",YEAR(InfoPro!I211)-$G$4)","v":4},{"$f":"IF(B219=\"\",\"\",VLOOKUP(D219,Tablas!$B$2:$E$13,2,FALSE))","v":0.26},{"$f":"IF(B219=\"\",\"\",VLOOKUP(D219,Tablas!$B$2:$F$13,3,FALSE))","v":0},455520,0,0,0,0,0,0,0,0,0,0,0,0,0,0,0,0,0]
[{"$f":"IF(ISBLANK(InfoPro!A212),\"\",InfoPro!A212)","v":"SC_2227_A1"},{"$f":"IF(ISBLANK(InfoPro!B212),\"\",InfoPro!B212)","v":"Generación Solar Fotovoltaica Sabana Solar - 9.9 MW"},{"$f":"IF(ISBLANK(InfoPro!E212),\"\",InfoPro!E212)","v":9.9},{"$f":"IF(ISBLANK(InfoPro!F212),\"\",InfoPro!F212)","v":"Solar FV"},{"$f":"IF(ISBLANK(InfoPro!I212),\"\",YEAR(InfoPro!I212)-$G$4)","v":1},{"$f":"IF(B220=\"\",\"\",VLOOKUP(D220,Tablas!$B$2:$E$13,2,FALSE))","v":0.26},{"$f":"IF(B220=\"\",\"\",VLOOKUP(D220,Tablas!$B$2:$F$13,3,FALSE))","v":0},22548.240000000005,0,0,0,0,0,0,0,0,0,0,0,0,0,0,0,0,0]
[{"$f":"IF(ISBLANK(InfoPro!A213),\"\",InfoPro!A213)","v":"SC_2227_A2"},{"$f":"IF(ISBLANK(InfoPro!B213),\"\",InfoPro!B213)","v":"Generación Solar Fotovoltaica Sabana Solar - 9.9 MW"},{"$f":"IF(ISBLANK(InfoPro!E213),\"\",InfoPro!E213)","v":9.9},{"$f":"IF(ISBLANK(InfoPro!F213),\"\",InfoPro!F213)","v":"Solar FV"},{"$f":"IF(ISBLANK(InfoPro!I213),\"\",YEAR(InfoPro!I213)-$G$4)","v":1},{"$f":"IF(B221=\"\",\"\",VLOOKUP(D221,Tablas!$B$2:$E$13,2,FALSE))","v":0.26},{"$f":"IF(B221=\"\",\"\",VLOOKUP(D221,Tablas!$B$2:$F$13,3,FALSE))","v":0},22548.240000000005,0,0,0,0,0,0,0,0,0,0,0,0,0,0,0,0,0]
[{"$f":"IF(ISBLANK(InfoPro!A214),\"\",InfoPro!A214)","v":"SC_2242_A1"},{"$f":"IF(ISBLANK(InfoPro!B214),\"\",InfoPro!B214)","v":"Parque Eólico San Juan 100 MW"},{"$f":"IF(ISBLANK(InfoPro!E214),\"\",InfoPro!E214)","v":100},{"$f":"IF(ISBLANK(InfoPro!F214),\"\",InfoPro!F214)","v":"Solar FV"},{"$f":"IF(ISBLANK(InfoPro!I214),\"\",YEAR(InfoPro!I214)-$G$4)","v":3},{"$f":"IF(B222=\"\",\"\",VLOOKUP(D222,Tablas!$B$2:$E$13,2,FALSE))","v":0.26},{"$f":"IF(B222=\"\",\"\",VLOOKUP(D222,Tablas!$B$2:$F$13,3,FALSE))","v":0},227760,0,0,0,0,0,0,0,0,0,0,0,0,0,0,0,0,0]
[{"$f":"IF(ISBLANK(InfoPro!A215),\"\",InfoPro!A215)","v":"SC_2242_A2"},{"$f":"IF(ISBLANK(InfoPro!B215),\"\",InfoPro!B215)","v":"Parque Eólico San Juan 100 MW"},{"$f":"IF(ISBLANK(InfoPro!E215),\"\",InfoPro!E215)","v":100},{"$f":"IF(ISBLANK(InfoPro!F215),\"\",InfoPro!F215)","v":"Solar FV"},{"$f":"IF(ISBLANK(InfoPro!I215),\"\",YEAR(InfoPro!I215)-$G$4)","v":3},{"$f":"IF(B223=\"\",\"\",VLOOKUP(D223,Tablas!$B$2:$E$13,2,FALSE))","v":0.26},{"$f":"IF(B223=\"\",\"\",VLOOKUP(D223,Tablas!$B$2:$F$13,3,FALSE))","v":0},227760,0,0,0,0,0,0,0,0,0,0,0,0,0,0,0,0,0]
[{"$f":"IF(ISBLANK(InfoPro!A216),\"\",InfoPro!A216)","v":"SC_2260_A1"},{"$f":"IF(ISBLANK(InfoPro!B216),\"\",InfoPro!B216)","v":"Parque Solar Fotovoltaico Tayrona I"},{"$f":"IF(ISBLANK(InfoPro!E216),\"\",InfoPro!E216)","v":50},{"$f":"IF(ISBLANK(InfoPro!F216),\"\",InfoPro!F216)","v":"Solar FV"},{"$f":"IF(ISBLANK(InfoPro!I216),\"\",YEAR(InfoPro!I216)-$G$4)","v":5},{"$f":"IF(B224=\"\",\"\",VLOOKUP(D224,Tablas!$B$2:$E$13,2,FALSE))","v":0.26},{"$f":"IF(B224=\"\",\"\",VLOOKUP(D224,Tablas!$B$2:$F$13,3,FALSE))","v":0},113880,0,0,0,0,0,0,0,0,0,0,0,0,0,0,0,0,0]
[{"$f":"IF(ISBLANK(InfoPro!A217),\"\",InfoPro!A217)","v":"SC_2261_A1"},{"$f":"IF(ISBLANK(InfoPro!B217),\"\",InfoPro!B217)","v":"Parque Solar Fotovoltaico Tayrona II"},{"$f":"IF(ISBLANK(InfoPro!E217),\"\",InfoPro!E217)","v":50},{"$f":"IF(ISBLANK(InfoPro!F217),\"\",InfoPro!F217)","v":"Solar FV"},{"$f":"IF(ISBLANK(InfoPro!I217),\"\",YEAR(InfoPro!I217)-$G$4)","v":5},{"$f":"IF(B225=\"\",\"\",VLOOKUP(D225,Tablas!$B$2:$E$13,2,FALSE))","v":0.26},{"$f":"IF(B225=\"\",\"\",VLOOKUP(D225,Tablas!$B$2:$F$13,3,FALSE))","v":0},113880,0,0,0,0,0,0,0,0,0,0,0,0,0,0,0,0,0]
[{"$f":"IF(ISBLANK(InfoPro!A218),\"\",InfoPro!A218)","v":"SC_2271_A1"},{"$f":"IF(ISBLANK(InfoPro!B218),\"\",InfoPro!B218)","v":"San Angel 19,9 MW"},{"$f":"IF(ISBLANK(InfoPro!E218),\"\",InfoPro!E218)","v":19.899999999999999},{"$f":"IF(ISBLANK(InfoPro!F218),\"\",InfoPro!F218)","v":"Solar FV"},{"$f":"IF(ISBLANK(InfoPro!I218),\"\",YEAR(InfoPro!I218)-$G$4)","v":1},{"$f":"IF(B226=\"\",\"\",VLOOKUP(D226,Tablas!$B$2:$E$13,2,FALSE))","v":0.26},{"$f":"IF(B226=\"\",\"\",VLOOKUP(D226,Tablas!$B$2:$F$13,3,FALSE))","v":0},45324.24,0,0,0,0,0,0,0,0,0,0,0,0,0,0,0,0,0]
[{"$f":"IF(ISBLANK(InfoPro!A219),\"\",InfoPro!A219)","v":"SC_2271_A2"},{"$f":"IF(ISBLANK(InfoPro!B219),\"\",InfoPro!B219)","v":"San Angel 19,9 MW"},{"$f":"IF(ISBLANK(InfoPro!E219),\"\",InfoPro!E219)","v":19.899999999999999},{"$f":"IF(ISBLANK(InfoPro!F219),\"\",InfoPro!F219)","v":"Solar FV"},{"$f":"IF(ISBLANK(InfoPro!I219),\"\",YEAR(InfoPro!I219)-$G$4)","v":1},{"$f":"IF(B227=\"\",\"\",VLOOKUP(D227,Tablas!$B$2:$E$13,2,FALSE))","v":0.26},{"$f":"IF(B227=\"\",\"\",VLOOKUP(D227,Tablas!$B$2:$F$13,3,FALSE))","v":0},45324.24,0,0,0,0,0,0,0,0,0,0,0,0,0,0,0,0,0]
[{"$f":"IF(ISBLANK(InfoPro!A220),\"\",InfoPro!A220)","v":"SC_2275_A1"},{"$f":"IF(ISBLANK(InfoPro!B220),\"\",InfoPro!B220)","v":"TERMOCOSTA"},{"$f":"IF(ISBLANK(InfoPro!E220),\"\",InfoPro!E220)","v":93},{"$f":"IF(ISBLANK(InfoPro!F220),\"\",InfoPro!F220)","v":"Termica - Ciclo abierto"},{"$f":"IF(ISBLANK(InfoPro!I220),\"\",YEAR(InfoPro!I220)-$G$4)","v":2},{"$f":"IF(B228=\"\",\"\",VLOOKUP(D228,Tablas!$B$2:$E$13,2,FALSE))","v":0.85},{"$f":"IF(B228=\"\",\"\",VLOOKUP(D228,Tablas!$B$2:$F$13,3,FALSE))","v":0.4},692477.99999999988,{"$f":"IF($H228=\"\",\"\",(1/(1+$C$4)^(I$7+$E228))*$H228*$G228*$C$3)","v":14948018770.421244},13370320903.775711,11959142132.178633,10696907094.971943,9567895433.7852821,8558046005.1746712,7654781757.7590981,6846853092.8077803,6124197757.4309301,5477815525.430171,4899656105.0359316,4382518877.491889,3919963217.7923875,3506228280.672977,3136161252.8380823,115048506207.56673,1237080.7119093197]
[{"$f":"IF(ISBLANK(InfoPro!A221),\"\",InfoPro!A221)","v":"SC_2275_A2"},{"$f":"IF(ISBLANK(InfoPro!B221),\"\",InfoPro!B221)","v":"TERMOCOSTA"},{"$f":"IF(ISBLANK(InfoPro!E221),\"\",InfoPro!E221)","v":93},{"$f":"IF(ISBLANK(InfoPro!F221),\"\",InfoPro!F221)","v":"Termica - Ciclo abierto"},{"$f":"IF(ISBLANK(InfoPro!I221),\"\",YEAR(InfoPro!I221)-$G$4)","v":2},{"$f":"IF(B229=\"\",\"\",VLOOKUP(D229,Tablas!$B$2:$E$13,2,FALSE))","v":0.85},{"$f":"IF(B229=\"\",\"\",VLOOKUP(D229,Tablas!$B$2:$F$13,3,FALSE))","v":0.4},692477.99999999988,14948018770.421244,13370320903.775711,11959142132.178633,10696907094.971943,9567895433.7852821,8558046005.1746712,7654781757.7590981,6846853092.8077803,6124197757.4309301,5477815525.430171,4899656105.0359316,4382518877.491889,3919963217.7923875,3506228280.672977,3136161252.8380823,115048506207.56673,1237080.7119093197]
[{"$f":"IF(ISBLANK(InfoPro!A222),\"\",InfoPro!A222)","v":"SC_2292_A1"},{"$f":"IF(ISBLANK(InfoPro!B222),\"\",InfoPro!B222)","v":"PARQUE SOLAR LAS PALMERAS"},{"$f":"IF(ISBLANK(InfoPro!E222),\"\",InfoPro!E222)","v":200},{"$f":"IF(ISBLANK(InfoPro!F222),\"\",InfoPro!F222)","v":"Solar FV"},{"$f":"IF(ISBLANK(InfoPro!I222),\"\",YEAR(InfoPro!I222)-$G$4)","v":2},{"$f":"IF(B230=\"\",\"\",VLOOKUP(D230,Tablas!$B$2:$E$13,2,FALSE))","v":0.26},{"$f":"IF(B230=\"\",\"\",VLOOKUP(D230,Tablas!$B$2:$F$13,3,FALSE))","v":0},455520,0,0,0,0,0,0,0,0,0,0,0,0,0,0,0,0,0]
[{"$f":"IF(ISBLANK(InfoPro!A223),\"\",InfoPro!A223)","v":"SC_2292_A2"},{"$f":"IF(ISBLANK(InfoPro!B223),\"\",InfoPro!B223)","v":"PARQUE SOLAR LAS PALMERAS"},{"$f":"IF(ISBLANK(InfoPro!E223),\"\",InfoPro!E223)","v":200},{"$f":"IF(ISBLANK(InfoPro!F223),\"\",InfoPro!F223)","v":"Solar FV"},{"$f":"IF(ISBLANK(InfoPro!I223),\"\",YEAR(InfoPro!I223)-$G$4)","v":2},{"$f":"IF(B231=\"\",\"\",VLOOKUP(D231,Tablas!$B$2:$E$13,2,FALSE))","v":0.26},{"$f":"IF(B231=\"\",\"\",VLOOKUP(D231,Tablas!$B$2:$F$13,3,FALSE))","v":0},455520,0,0,0,0,0,0,0,0,0,0,0,0,0,0,0,0,0]
[{"$f":"IF(ISBLANK(InfoPro!A224),\"\",InfoPro!A224)","v":"SC_2295_A1"},{"$f":"IF(ISBLANK(InfoPro!B224),\"\",InfoPro!B224)","v":"Parque Solar San Jose 200 MW"},{"$f":"IF(ISBLANK(InfoPro!E224),\"\",InfoPro!E224)","v":200},{"$f":"IF(ISBLANK(InfoPro!F224),\"\",InfoPro!F224)","v":"Solar FV"},{"$f":"IF(ISBLANK(InfoPro!I224),\"\",YEAR(InfoPro!I224)-$G$4)","v":2},{"$f":"IF(B232=\"\",\"\",VLOOKUP(D232,Tablas!$B$2:$E$13,2,FALSE))","v":0.26},{"$f":"IF(B232=\"\",\"\",VLOOKUP(D232,Tablas!$B$2:$F$13,3,FALSE))","v":0},455520,0,0,0,0,0,0,0,0,0,0,0,0,0,0,0,0,0]
[{"$f":"IF(ISBLANK(InfoPro!A225),\"\",InfoPro!A225)","v":"SC_230_A1"},{"$f":"IF(ISBLANK(InfoPro!B225),\"\",InfoPro!B225)","v":"Proyecto Solar San Martin 300MW"},{"$f":"IF(ISBLANK(InfoPro!E225),\"\",InfoPro!E225)","v":300},{"$f":"IF(ISBLANK(InfoPro!F225),\"\",InfoPro!F225)","v":"Solar FV"},{"$f":"IF(ISBLANK(InfoPro!I225),\"\",YEAR(InfoPro!I225)-$G$4)","v":2},{"$f":"IF(B233=\"\",\"\",VLOOKUP(D233,Tablas!$B$2:$E$13,2,FALSE))","v":0.26},{"$f":"IF(B233=\"\",\"\",VLOOKUP(D233,Tablas!$B$2:$F$13,3,FALSE))","v":0},683280,0,0,0,0,0,0,0,0,0,0,0,0,0,0,0,0,0]
[{"$f":"IF(ISBLANK(InfoPro!A226),\"\",InfoPro!A226)","v":"SC_2341_A1"},{"$f":"IF(ISBLANK(InfoPro!B226),\"\",InfoPro!B226)","v":"Parque Eólico Neguanje"},{"$f":"IF(ISBLANK(InfoPro!E226),\"\",InfoPro!E226)","v":19.899999999999999},{"$f":"IF(ISBLANK(InfoPro!F226),\"\",InfoPro!F226)","v":"Eólico Onshore"},{"$f":"IF(ISBLANK(InfoPro!I226),\"\",YEAR(InfoPro!I226)-$G$4)","v":4},{"$f":"IF(B234=\"\",\"\",VLOOKUP(D234,Tablas!$B$2:$E$13,2,FALSE))","v":0.56999999999999995},{"$f":"IF(B234=\"\",\"\",VLOOKUP(D234,Tablas!$B$2:$F$13,3,FALSE))","v":0},99364.68,0,0,0,0,0,0,0,0,0,0,0,0,0,0,0,0,0]
[{"$f":"IF(ISBLANK(InfoPro!A227),\"\",InfoPro!A227)","v":"SC_2341_A2"},{"$f":"IF(ISBLANK(InfoPro!B227),\"\",InfoPro!B227)","v":"Parque Eólico Neguanje"},{"$f":"IF(ISBLANK(InfoPro!E227),\"\",InfoPro!E227)","v":19.899999999999999},{"$f":"IF(ISBLANK(InfoPro!F227),\"\",InfoPro!F227)","v":"Eólico Onshore"},{"$f":"IF(ISBLANK(InfoPro!I227),\"\",YEAR(InfoPro!I227)-$G$4)","v":4},{"$f":"IF(B235=\"\",\"\",VLOOKUP(D235,Tablas!$B$2:$E$13,2,FALSE))","v":0.56999999999999995},{"$f":"IF(B235=\"\",\"\",VLOOKUP(D235,Tablas!$B$2:$F$13,3,FALSE))","v":0},99364.68,0,0,0,0,0,0,0,0,0,0,0,0,0,0,0,0,0]
[{"$f":"IF(ISBLANK(InfoPro!A228),\"\",InfoPro!A228)","v":"SC_393_A1"},{"$f":"IF(ISBLANK(InfoPro!B228),\"\",InfoPro!B228)","v":"Copey del verano 99.9 MW"},{"$f":"IF(ISBLANK(InfoPro!E228),\"\",InfoPro!E228)","v":99.9},{"$f":"IF(ISBLANK(InfoPro!F228),\"\",InfoPro!F228)","v":"Solar FV"},{"$f":"IF(ISBLANK(InfoPro!I228),\"\",YEAR(InfoPro!I228)-$G$4)","v":2},{"$f":"IF(B236=\"\",\"\",VLOOKUP(D236,Tablas!$B$2:$E$13,2,FALSE))","v":0.26},{"$f":"IF(B236=\"\",\"\",VLOOKUP(D236,Tablas!$B$2:$F$13,3,FALSE))","v":0},227532.24000000002,0,0,0,0,0,0,0,0,0,0,0,0,0,0,0,0,0]
[{"$f":"IF(ISBLANK(InfoPro!A229),\"\",InfoPro!A229)","v":"SC_393_A2"},{"$f":"IF(ISBLANK(InfoPro!B229),\"\",InfoPro!B229)","v":"Copey del verano 99.9 MW"},{"$f":"IF(ISBLANK(InfoPro!E229),\"\",InfoPro!E229)","v":99.9},{"$f":"IF(ISBLANK(InfoPro!F229),\"\",InfoPro!F229)","v":"Solar FV"},{"$f":"IF(ISBLANK(InfoPro!I229),\"\",YEAR(InfoPro!I229)-$G$4)","v":2},{"$f":"IF(B237=\"\",\"\",VLOOKUP(D237,Tablas!$B$2:$E$13,2,FALSE))","v":0.26},{"$f":"IF(B237=\"\",\"\",VLOOKUP(D237,Tablas!$B$2:$F$13,3,FALSE))","v":0},227532.24000000002,0,0,0,0,0,0,0,0,0,0,0,0,0,0,0,0,0]
[{"$f":"IF(ISBLANK(InfoPro!A230),\"\",InfoPro!A230)","v":"SC_394_A1"},{"$f":"IF(ISBLANK(InfoPro!B230),\"\",InfoPro!B230)","v":"Riohacha de 20 del Verano"},{"$f":"IF(ISBLANK(InfoPro!E230),\"\",InfoPro!E230)","v":19.899999999999999},{"$f":"IF(ISBLANK(InfoPro!F230),\"\",InfoPro!F230)","v":"Solar FV"},{"$f":"IF(ISBLANK(InfoPro!I230),\"\",YEAR(InfoPro!I230)-$G$4)","v":2},{"$f":"IF(B238=\"\",\"\",VLOOKUP(D238,Tablas!$B$2:$E$13,2,FALSE))","v":0.26},{"$f":"IF(B238=\"\",\"\",VLOOKUP(D238,Tablas!$B$2:$F$13,3,FALSE))","v":0},45324.24,0,0,0,0,0,0,0,0,0,0,0,0,0,0,0,0,0]
[{"$f":"IF(ISBLANK(InfoPro!A231),\"\",InfoPro!A231)","v":"SC_394_A2"},{"$f":"IF(ISBLANK(InfoPro!B231),\"\",InfoPro!B231)","v":"Riohacha de 20 del Verano"},{"$f":"IF(ISBLANK(InfoPro!E231),\"\",InfoPro!E231)","v":19.899999999999999},{"$f":"IF(ISBLANK(InfoPro!F231),\"\",InfoPro!F231)","v":"Solar FV"},{"$f":"IF(ISBLANK(InfoPro!I231),\"\",YEAR(InfoPro!I231)-$G$4)","v":2},{"$f":"IF(B239=\"\",\"\",VLOOKUP(D239,Tablas!$B$2:$E$13,2,FALSE))","v":0.26},{"$f":"IF(B239=\"\",\"\",VLOOKUP(D239,Tablas!$B$2:$F$13,3,FALSE))","v":0},45324.24,0,0,0,0,0,0,0,0,0,0,0,0,0,0,0,0,0]
[{"$f":"IF(ISBLANK(InfoPro!A232),\"\",InfoPro!A232)","v":"SC_407_A1"},{"$f":"IF(ISBLANK(InfoPro!B232),\"\",InfoPro!B232)","v":"Portugal I 19.9 MW"},{"$f":"IF(ISBLANK(InfoPro!E232),\"\",InfoPro!E232)","v":19.899999999999999},{"$f":"IF(ISBLANK(InfoPro!F232),\"\",InfoPro!F232)","v":"Solar FV"},{"$f":"IF(ISBLANK(InfoPro!I232),\"\",YEAR(InfoPro!I232)-$G$4)","v":2},{"$f":"IF(B240=\"\",\"\",VLOOKUP(D240,Tablas!$B$2:$E$13,2,FALSE))","v":0.26},{"$f":"IF(B240=\"\",\"\",VLOOKUP(D240,Tablas!$B$2:$F$13,3,FALSE))","v":0},45324.24,0,0,0,0,0,0,0,0,0,0,0,0,0,0,0,0,0]
[{"$f":"IF(ISBLANK(InfoPro!A233),\"\",InfoPro!A233)","v":"SC_42_A1"},{"$f":"IF(ISBLANK(InfoPro!B233),\"\",InfoPro!B233)","v":"Santa Marta 1 - 50 MW"},{"$f":"IF(ISBLANK(InfoPro!E233),\"\",InfoPro!E233)","v":50},{"$f":"IF(ISBLANK(InfoPro!F233),\"\",InfoPro!F233)","v":"Solar FV"},{"$f":"IF(ISBLANK(InfoPro!I233),\"\",YEAR(InfoPro!I233)-$G$4)","v":2},{"$f":"IF(B241=\"\",\"\",VLOOKUP(D241,Tablas!$B$2:$E$13,2,FALSE))","v":0.26},{"$f":"IF(B241=\"\",\"\",VLOOKUP(D241,Tablas!$B$2:$F$13,3,FALSE))","v":0},113880,0,0,0,0,0,0,0,0,0,0,0,0,0,0,0,0,0]
[{"$f":"IF(ISBLANK(InfoPro!A234),\"\",InfoPro!A234)","v":"SC_482_A1"},{"$f":"IF(ISBLANK(InfoPro!B234),\"\",InfoPro!B234)","v":"La Santa Maria - 99.9MW"},{"$f":"IF(ISBLANK(InfoPro!E234),\"\",InfoPro!E234)","v":99.9},{"$f":"IF(ISBLANK(InfoPro!F234),\"\",InfoPro!F234)","v":"Solar FV"},{"$f":"IF(ISBLANK(InfoPro!I234),\"\",YEAR(InfoPro!I234)-$G$4)","v":2},{"$f":"IF(B242=\"\",\"\",VLOOKUP(D242,Tablas!$B$2:$E$13,2,FALSE))","v":0.26},{"$f":"IF(B242=\"\",\"\",VLOOKUP(D242,Tablas!$B$2:$F$13,3,FALSE))","v":0},227532.24000000002,0,0,0,0,0,0,0,0,0,0,0,0,0,0,0,0,0]
[{"$f":"IF(ISBLANK(InfoPro!A235),\"\",InfoPro!A235)","v":"SC_482_A2"},{"$f":"IF(ISBLANK(InfoPro!B235),\"\",InfoPro!B235)","v":"La Santa Maria - 99.9MW"},{"$f":"IF(ISBLANK(InfoPro!E235),\"\",InfoPro!E235)","v":99.9},{"$f":"IF(ISBLANK(InfoPro!F235),\"\",InfoPro!F235)","v":"Solar FV"},{"$f":"IF(ISBLANK(InfoPro!I235),\"\",YEAR(InfoPro!I235)-$G$4)","v":2},{"$f":"IF(B243=\"\",\"\",VLOOKUP(D243,Tablas!$B$2:$E$13,2,FALSE))","v":0.26},{"$f":"IF(B243=\"\",\"\",VLOOKUP(D243,Tablas!$B$2:$F$13,3,FALSE))","v":0},227532.24000000002,0,0,0,0,0,0,0,0,0,0,0,0,0,0,0,0,0]
[{"$f":"IF(ISBLANK(InfoPro!A236),\"\",InfoPro!A236)","v":"SC_497_A1"},{"$f":"IF(ISBLANK(InfoPro!B236),\"\",InfoPro!B236)","v":"Portugal II - 9.9 MW"},{"$f":"IF(ISBLANK(InfoPro!E236),\"\",InfoPro!E236)","v":9.9},{"$f":"IF(ISBLANK(InfoPro!F236),\"\",InfoPro!F236)","v":"Solar FV"},{"$f":"IF(ISBLANK(InfoPro!I236),\"\",YEAR(InfoPro!I236)-$G$4)","v":2},{"$f":"IF(B244=\"\",\"\",VLOOKUP(D244,Tablas!$B$2:$E$13,2,FALSE))","v":0.26},{"$f":"IF(B244=\"\",\"\",VLOOKUP(D244,Tablas!$B$2:$F$13,3,FALSE))","v":0},22548.240000000005,0,0,0,0,0,0,0,0,0,0,0,0,0,0,0,0,0]
[{"$f":"IF(ISBLANK(InfoPro!A237),\"\",InfoPro!A237)","v":"SC_502_A1"},{"$f":"IF(ISBLANK(InfoPro!B237),\"\",InfoPro!B237)","v":"RUBÍ 40 MW"},{"$f":"IF(ISBLANK(InfoPro!E237),\"\",InfoPro!E237)","v":40},{"$f":"IF(ISBLANK(InfoPro!F237),\"\",InfoPro!F237)","v":"Solar FV"},{"$f":"IF(ISBLANK(InfoPro!I237),\"\",YEAR(InfoPro!I237)-$G$4)","v":3},{"$f":"IF(B245=\"\",\"\",VLOOKUP(D245,Tablas!$B$2:$E$13,2,FALSE))","v":0.26},{"$f":"IF(B245=\"\",\"\",VLOOKUP(D245,Tablas!$B$2:$F$13,3,FALSE))","v":0},91104.000000000015,{"$f":"IF($H245=\"\",\"\",(1/(1+$C$4)^(I$7+$E245))*$H245*$G245*$C$3)","v":0},0,0,0,0,0,0,0,0,0,0,0,0,0,0,0,0]
[{"$f":"IF(ISBLANK(InfoPro!A238),\"\",InfoPro!A238)","v":"SC_507_A1"},{"$f":"IF(ISBLANK(InfoPro!B238),\"\",InfoPro!B238)","v":"PARQUE FOTOVOLTAICO CATAY 2"},{"$f":"IF(ISBLANK(InfoPro!E238),\"\",InfoPro!E238)","v":100},{"$f":"IF(ISBLANK(InfoPro!F238),\"\",InfoPro!F238)","v":"Solar FV"},{"$f":"IF(ISBLANK(InfoPro!I238),\"\",YEAR(InfoPro!I238)-$G$4)","v":4},{"$f":"IF(B246=\"\",\"\",VLOOKUP(D246,Tablas!$B$2:$E$13,2,FALSE))","v":0.26},{"$f":"IF(B246=\"\",\"\",VLOOKUP(D246,Tablas!$B$2:$F$13,3,FALSE))","v":0},227760,0,0,0,0,0,0,0,0,0,0,0,0,0,0,0,0,0]
[{"$f":"IF(ISBLANK(InfoPro!A239),\"\",InfoPro!A239)","v":"SC_507_A2"},{"$f":"IF(ISBLANK(InfoPro!B239),\"\",InfoPro!B239)","v":"PARQUE FOTOVOLTAICO CATAY 2"},{"$f":"IF(ISBLANK(InfoPro!E239),\"\",InfoPro!E239)","v":100},{"$f":"IF(ISBLANK(InfoPro!F239),\"\",InfoPro!F239)","v":"Solar FV"},{"$f":"IF(ISBLANK(InfoPro!I239),\"\",YEAR(InfoPro!I239)-$G$4)","v":4},{"$f":"IF(B247=\"\",\"\",VLOOKUP(D247,Tablas!$B$2:$E$13,2,FALSE))","v":0.26},{"$f":"IF(B247=\"\",\"\",VLOOKUP(D247,Tablas!$B$2:$F$13,3,FALSE))","v":0},227760,0,0,0,0,0,0,0,0,0,0,0,0,0,0,0,0,0]
[{"$f":"IF(ISBLANK(InfoPro!A240),\"\",InfoPro!A240)","v":"SC_543_A1"},{"$f":"IF(ISBLANK(InfoPro!B240),\"\",InfoPro!B240)","v":"Sabana I 350 MW"},{"$f":"IF(ISBLANK(InfoPro!E240),\"\",InfoPro!E240)","v":350},{"$f":"IF(ISBLANK(InfoPro!F240),\"\",InfoPro!F240)","v":"Solar FV"},{"$f":"IF(ISBLANK(InfoPro!I240),\"\",YEAR(InfoPro!I240)-$G$4)","v":4},{"$f":"IF(B248=\"\",\"\",VLOOKUP(D248,Tablas!$B$2:$E$13,2,FALSE))","v":0.26},{"$f":"IF(B248=\"\",\"\",VLOOKUP(D248,Tablas!$B$2:$F$13,3,FALSE))","v":0},797160,0,0,0,0,0,0,0,0,0,0,0,0,0,0,0,0,0]
[{"$f":"IF(ISBLANK(InfoPro!A241),\"\",InfoPro!A241)","v":"SC_56_A2"},{"$f":"IF(ISBLANK(InfoPro!B241),\"\",InfoPro!B241)","v":"PV LATAMSOLAR LA LOMA 200 MW"},{"$f":"IF(ISBLANK(InfoPro!E241),\"\",InfoPro!E241)","v":200},{"$f":"IF(ISBLANK(InfoPro!F241),\"\",InfoPro!F241)","v":"Solar FV"},{"$f":"IF(ISBLANK(InfoPro!I241),\"\",YEAR(InfoPro!I241)-$G$4)","v":1},{"$f":"IF(B249=\"\",\"\",VLOOKUP(D249,Tablas!$B$2:$E$13,2,FALSE))","v":0.26},{"$f":"IF(B249=\"\",\"\",VLOOKUP(D249,Tablas!$B$2:$F$13,3,FALSE))","v":0},455520,0,0,0,0,0,0,0,0,0,0,0,0,0,0,0,0,0]
[{"$f":"IF(ISBLANK(InfoPro!A242),\"\",InfoPro!A242)","v":"SC_587_A1"},{"$f":"IF(ISBLANK(InfoPro!B242),\"\",InfoPro!B242)","v":"Cactus del Cesar - El Paso"},{"$f":"IF(ISBLANK(InfoPro!E242),\"\",InfoPro!E242)","v":19.899999999999999},{"$f":"IF(ISBLANK(InfoPro!F242),\"\",InfoPro!F242)","v":"Solar FV"},{"$f":"IF(ISBLANK(InfoPro!I242),\"\",YEAR(InfoPro!I242)-$G$4)","v":6},{"$f":"IF(B250=\"\",\"\",VLOOKUP(D250,Tablas!$B$2:$E$13,2,FALSE))","v":0.26},{"$f":"IF(B250=\"\",\"\",VLOOKUP(D250,Tablas!$B$2:$F$13,3,FALSE))","v":0},45324.24,0,0,0,0,0,0,0,0,0,0,0,0,0,0,0,0,0]
[{"$f":"IF(ISBLANK(InfoPro!A243),\"\",InfoPro!A243)","v":"SC_587_A2"},{"$f":"IF(ISBLANK(InfoPro!B243),\"\",InfoPro!B243)","v":"Cactus del Cesar - El Paso"},{"$f":"IF(ISBLANK(InfoPro!E243),\"\",InfoPro!E243)","v":19.899999999999999},{"$f":"IF(ISBLANK(InfoPro!F243),\"\",InfoPro!F243)","v":"Solar FV"},{"$f":"IF(ISBLANK(InfoPro!I243),\"\",YEAR(InfoPro!I243)-$G$4)","v":6},{"$f":"IF(B251=\"\",\"\",VLOOKUP(D251,Tablas!$B$2:$E$13,2,FALSE))","v":0.26},{"$f":"IF(B251=\"\",\"\",VLOOKUP(D251,Tablas!$B$2:$F$13,3,FALSE))","v":0},45324.24,0,0,0,0,0,0,0,0,0,0,0,0,0,0,0,0,0]
[{"$f":"IF(ISBLANK(InfoPro!A244),\"\",InfoPro!A244)","v":"SC_599_A1"},{"$f":"IF(ISBLANK(InfoPro!B244),\"\",InfoPro!B244)","v":"La Fortuna - 19,9 MW"},{"$f":"IF(ISBLANK(InfoPro!E244),\"\",InfoPro!E244)","v":19.899999999999999},{"$f":"IF(ISBLANK(InfoPro!F244),\"\",InfoPro!F244)","v":"Solar FV"},{"$f":"IF(ISBLANK(InfoPro!I244),\"\",YEAR(InfoPro!I244)-$G$4)","v":2},{"$f":"IF(B252=\"\",\"\",VLOOKUP(D252,Tablas!$B$2:$E$13,2,FALSE))","v":0.26},{"$f":"IF(B252=\"\",\"\",VLOOKUP(D252,Tablas!$B$2:$F$13,3,FALSE))","v":0},45324.24,0,0,0,0,0,0,0,0,0,0,0,0,0,0,0,0,0]
[{"$f":"IF(ISBLANK(InfoPro!A245),\"\",InfoPro!A245)","v":"SC_599_A2"},{"$f":"IF(ISBLANK(InfoPro!B245),\"\",InfoPro!B245)","v":"La Fortuna - 19,9 MW"},{"$f":"IF(ISBLANK(InfoPro!E245),\"\",InfoPro!E245)","v":19.899999999999999},{"$f":"IF(ISBLANK(InfoPro!F245),\"\",InfoPro!F245)","v":"Solar FV"},{"$f":"IF(ISBLANK(InfoPro!I245),\"\",YEAR(InfoPro!I245)-$G$4)","v":2},{"$f":"IF(B253=\"\",\"\",VLOOKUP(D253,Tablas!$B$2:$E$13,2,FALSE))","v":0.26},{"$f":"IF(B253=\"\",\"\",VLOOKUP(D253,Tablas!$B$2:$F$13,3,FALSE))","v":0},45324.24,0,0,0,0,0,0,0,0,0,0,0,0,0,0,0,0,0]
[{"$f":"IF(ISBLANK(InfoPro!A246),\"\",InfoPro!A246)","v":"SC_623_A1"},{"$f":"IF(ISBLANK(InfoPro!B246),\"\",InfoPro!B246)","v":"TR SOLAR 6"},{"$f":"IF(ISBLANK(InfoPro!E246),\"\",InfoPro!E246)","v":120.3},{"$f":"IF(ISBLANK(InfoPro!F246),\"\",InfoPro!F246)","v":"Solar FV"},{"$f":"IF(ISBLANK(InfoPro!I246),\"\",YEAR(InfoPro!I246)-$G$4)","v":3},{"$f":"IF(B254=\"\",\"\",VLOOKUP(D254,Tablas!$B$2:$E$13,2,FALSE))","v":0.26},{"$f":"IF(B254=\"\",\"\",VLOOKUP(D254,Tablas!$B$2:$F$13,3,FALSE))","v":0},273995.28000000003,0,0,0,0,0,0,0,0,0,0,0,0,0,0,0,0,0]
[{"$f":"IF(ISBLANK(InfoPro!A247),\"\",InfoPro!A247)","v":"SC_623_A2"},{"$f":"IF(ISBLANK(InfoPro!B247),\"\",InfoPro!B247)","v":"TR SOLAR 6"},{"$f":"IF(ISBLANK(InfoPro!E247),\"\",InfoPro!E247)","v":120.3},{"$f":"IF(ISBLANK(InfoPro!F247),\"\",InfoPro!F247)","v":"Solar FV"},{"$f":"IF(ISBLANK(InfoPro!I247),\"\",YEAR(InfoPro!I247)-$G$4)","v":3},{"$f":"IF(B255=\"\",\"\",VLOOKUP(D255,Tablas!$B$2:$E$13,2,FALSE))","v":0.26},{"$f":"IF(B255=\"\",\"\",VLOOKUP(D255,Tablas!$B$2:$F$13,3,FALSE))","v":0},273995.28000000003,0,0,0,0,0,0,0,0,0,0,0,0,0,0,0,0,0]
[{"$f":"IF(ISBLANK(InfoPro!A248),\"\",InfoPro!A248)","v":"SC_628_A1"},{"$f":"IF(ISBLANK(InfoPro!B248),\"\",InfoPro!B248)","v":"TR Solar 13"},{"$f":"IF(ISBLANK(InfoPro!E248),\"\",InfoPro!E248)","v":110},{"$f":"IF(ISBLANK(InfoPro!F248),\"\",InfoPro!F248)","v":"Solar FV"},{"$f":"IF(ISBLANK(InfoPro!I248),\"\",YEAR(InfoPro!I248)-$G$4)","v":3},{"$f":"IF(B256=\"\",\"\",VLOOKUP(D256,Tablas!$B$2:$E$13,2,FALSE))","v":0.26},{"$f":"IF(B256=\"\",\"\",VLOOKUP(D256,Tablas!$B$2:$F$13,3,FALSE))","v":0},250536.00000000003,0,0,0,0,0,0,0,0,0,0,0,0,0,0,0,0,0]
[{"$f":"IF(ISBLANK(InfoPro!A249),\"\",InfoPro!A249)","v":"SC_628_A2"},{"$f":"IF(ISBLANK(InfoPro!B249),\"\",InfoPro!B249)","v":"TR Solar 13"},{"$f":"IF(ISBLANK(InfoPro!E249),\"\",InfoPro!E249)","v":110},{"$f":"IF(ISBLANK(InfoPro!F249),\"\",InfoPro!F249)","v":"Solar FV"},{"$f":"IF(ISBLANK(InfoPro!I249),\"\",YEAR(InfoPro!I249)-$G$4)","v":3},{"$f":"IF(B257=\"\",\"\",VLOOKUP(D257,Tablas!$B$2:$E$13,2,FALSE))","v":0.26},{"$f":"IF(B257=\"\",\"\",VLOOKUP(D257,Tablas!$B$2:$F$13,3,FALSE))","v":0},250536.00000000003,0,0,0,0,0,0,0,0,0,0,0,0,0,0,0,0,0]
[{"$f":"IF(ISBLANK(InfoPro!A250),\"\",InfoPro!A250)","v":"SC_657_A1"},{"$f":"IF(ISBLANK(InfoPro!B250),\"\",InfoPro!B250)","v":"TR Solar 7"},{"$f":"IF(ISBLANK(InfoPro!E250),\"\",InfoPro!E250)","v":99.9},{"$f":"IF(ISBLANK(InfoPro!F250),\"\",InfoPro!F250)","v":"Solar FV"},{"$f":"IF(ISBLANK(InfoPro!I250),\"\",YEAR(InfoPro!I250)-$G$4)","v":3},{"$f":"IF(B258=\"\",\"\",VLOOKUP(D258,Tablas!$B$2:$E$13,2,FALSE))","v":0.26},{"$f":"IF(B258=\"\",\"\",VLOOKUP(D258,Tablas!$B$2:$F$13,3,FALSE))","v":0},227532.24000000002,0,0,0,0,0,0,0,0,0,0,0,0,0,0,0,0,0]
[{"$f":"IF(ISBLANK(InfoPro!A251),\"\",InfoPro!A251)","v":"SC_657_A2"},{"$f":"IF(ISBLANK(InfoPro!B251),\"\",InfoPro!B251)","v":"TR Solar 7"},{"$f":"IF(ISBLANK(InfoPro!E251),\"\",InfoPro!E251)","v":99.9},{"$f":"IF(ISBLANK(InfoPro!F251),\"\",InfoPro!F251)","v":"Solar FV"},{"$f":"IF(ISBLANK(InfoPro!I251),\"\",YEAR(InfoPro!I251)-$G$4)","v":3},{"$f":"IF(B259=\"\",\"\",VLOOKUP(D259,Tablas!$B$2:$E$13,2,FALSE))","v":0.26},{"$f":"IF(B259=\"\",\"\",VLOOKUP(D259,Tablas!$B$2:$F$13,3,FALSE))","v":0},227532.24000000002,0,0,0,0,0,0,0,0,0,0,0,0,0,0,0,0,0]
[{"$f":"IF(ISBLANK(InfoPro!A252),\"\",InfoPro!A252)","v":"SC_658_A1"},{"$f":"IF(ISBLANK(InfoPro!B252),\"\",InfoPro!B252)","v":"TR Solar 8"},{"$f":"IF(ISBLANK(InfoPro!E252),\"\",InfoPro!E252)","v":200},{"$f":"IF(ISBLANK(InfoPro!F252),\"\",InfoPro!F252)","v":"Solar FV"},{"$f":"IF(ISBLANK(InfoPro!I252),\"\",YEAR(InfoPro!I252)-$G$4)","v":3},{"$f":"IF(B260=\"\",\"\",VLOOKUP(D260,Tablas!$B$2:$E$13,2,FALSE))","v":0.26},{"$f":"IF(B260=\"\",\"\",VLOOKUP(D260,Tablas!$B$2:$F$13,3,FALSE))","v":0},455520,0,0,0,0,0,0,0,0,0,0,0,0,0,0,0,0,0]
[{"$f":"IF(ISBLANK(InfoPro!A253),\"\",InfoPro!A253)","v":"SC_658_A2"},{"$f":"IF(ISBLANK(InfoPro!B253),\"\",InfoPro!B253)","v":"TR Solar 8"},{"$f":"IF(ISBLANK(InfoPro!E253),\"\",InfoPro!E253)","v":200},{"$f":"IF(ISBLANK(InfoPro!F253),\"\",InfoPro!F253)","v":"Solar FV"},{"$f":"IF(ISBLANK(InfoPro!I253),\"\",YEAR(InfoPro!I253)-$G$4)","v":3},{"$f":"IF(B261=\"\",\"\",VLOOKUP(D261,Tablas!$B$2:$E$13,2,FALSE))","v":0.26},{"$f":"IF(B261=\"\",\"\",VLOOKUP(D261,Tablas!$B$2:$F$13,3,FALSE))","v":0},455520,0,0,0,0,0,0,0,0,0,0,0,0,0,0,0,0,0]
[{"$f":"IF(ISBLANK(InfoPro!A254),\"\",InfoPro!A254)","v":"SC_72_A1"},{"$f":"IF(ISBLANK(InfoPro!B254),\"\",InfoPro!B254)","v":"Santa Marta III"},{"$f":"IF(ISBLANK(InfoPro!E254),\"\",InfoPro!E254)","v":50},{"$f":"IF(ISBLANK(InfoPro!F254),\"\",InfoPro!F254)","v":"Solar FV"},{"$f":"IF(ISBLANK(InfoPro!I254),\"\",YEAR(InfoPro!I254)-$G$4)","v":2},{"$f":"IF(B262=\"\",\"\",VLOOKUP(D262,Tablas!$B$2:$E$13,2,FALSE))","v":0.26},{"$f":"IF(B262=\"\",\"\",VLOOKUP(D262,Tablas!$B$2:$F$13,3,FALSE))","v":0},113880,{"$f":"IF($H262=\"\",\"\",(1/(1+$C$4)^(I$7+$E262))*$H262*$G262*$C$3)","v":0},0,0,0,0,0,0,0,0,0,0,0,0,0,0,0,0]
[{"$f":"IF(ISBLANK(InfoPro!A255),\"\",InfoPro!A255)","v":"SC_735_A1"},{"$f":"IF(ISBLANK(InfoPro!B255),\"\",InfoPro!B255)","v":"EGINA 60"},{"$f":"IF(ISBLANK(InfoPro!E255),\"\",InfoPro!E255)","v":60},{"$f":"IF(ISBLANK(InfoPro!F255),\"\",InfoPro!F255)","v":"Solar FV"},{"$f":"IF(ISBLANK(InfoPro!I255),\"\",YEAR(InfoPro!I255)-$G$4)","v":3},{"$f":"IF(B263=\"\",\"\",VLOOKUP(D263,Tablas!$B$2:$E$13,2,FALSE))","v":0.26},{"$f":"IF(B263=\"\",\"\",VLOOKUP(D263,Tablas!$B$2:$F$13,3,FALSE))","v":0},136656,0,0,0,0,0,0,0,0,0,0,0,0,0,0,0,0,0]
[{"$f":"IF(ISBLANK(InfoPro!A256),\"\",InfoPro!A256)","v":"SC_735_A2"},{"$f":"IF(ISBLANK(InfoPro!B256),\"\",InfoPro!B256)","v":"EGINA 60"},{"$f":"IF(ISBLANK(InfoPro!E256),\"\",InfoPro!E256)","v":60},{"$f":"IF(ISBLANK(InfoPro!F256),\"\",InfoPro!F256)","v":"Solar FV"},{"$f":"IF(ISBLANK(InfoPro!I256),\"\",YEAR(InfoPro!I256)-$G$4)","v":3},{"$f":"IF(B264=\"\",\"\",VLOOKUP(D264,Tablas!$B$2:$E$13,2,FALSE))","v":0.26},{"$f":"IF(B264=\"\",\"\",VLOOKUP(D264,Tablas!$B$2:$F$13,3,FALSE))","v":0},136656,0,0,0,0,0,0,0,0,0,0,0,0,0,0,0,0,0]
[{"$f":"IF(ISBLANK(InfoPro!A257),\"\",InfoPro!A257)","v":"SC_758_A1"},{"$f":"IF(ISBLANK(InfoPro!B257),\"\",InfoPro!B257)","v":"JAMAICA 19.9"},{"$f":"IF(ISBLANK(InfoPro!E257),\"\",InfoPro!E257)","v":19.899999999999999},{"$f":"IF(ISBLANK(InfoPro!F257),\"\",InfoPro!F257)","v":"Solar FV"},{"$f":"IF(ISBLANK(InfoPro!I257),\"\",YEAR(InfoPro!I257)-$G$4)","v":2},{"$f":"IF(B265=\"\",\"\",VLOOKUP(D265,Tablas!$B$2:$E$13,2,FALSE))","v":0.26},{"$f":"IF(B265=\"\",\"\",VLOOKUP(D265,Tablas!$B$2:$F$13,3,FALSE))","v":0},45324.24,0,0,0,0,0,0,0,0,0,0,0,0,0,0,0,0,0]
[{"$f":"IF(ISBLANK(InfoPro!A258),\"\",InfoPro!A258)","v":"SC_758_A2"},{"$f":"IF(ISBLANK(InfoPro!B258),\"\",InfoPro!B258)","v":"JAMAICA 19.9"},{"$f":"IF(ISBLANK(InfoPro!E258),\"\",InfoPro!E258)","v":19.899999999999999},{"$f":"IF(ISBLANK(InfoPro!F258),\"\",InfoPro!F258)","v":"Solar FV"},{"$f":"IF(ISBLANK(InfoPro!I258),\"\",YEAR(InfoPro!I258)-$G$4)","v":2},{"$f":"IF(B266=\"\",\"\",VLOOKUP(D266,Tablas!$B$2:$E$13,2,FALSE))","v":0.26},{"$f":"IF(B266=\"\",\"\",VLOOKUP(D266,Tablas!$B$2:$F$13,3,FALSE))","v":0},45324.24,0,0,0,0,0,0,0,0,0,0,0,0,0,0,0,0,0]
[{"$f":"IF(ISBLANK(InfoPro!A259),\"\",InfoPro!A259)","v":"SC_768_A1"},{"$f":"IF(ISBLANK(InfoPro!B259),\"\",InfoPro!B259)","v":"RODAS 19.9"},{"$f":"IF(ISBLANK(InfoPro!E259),\"\",InfoPro!E259)","v":19.899999999999999},{"$f":"IF(ISBLANK(InfoPro!F259),\"\",InfoPro!F259)","v":"Solar FV"},{"$f":"IF(ISBLANK(InfoPro!I259),\"\",YEAR(InfoPro!I259)-$G$4)","v":2},{"$f":"IF(B267=\"\",\"\",VLOOKUP(D267,Tablas!$B$2:$E$13,2,FALSE))","v":0.26},{"$f":"IF(B267=\"\",\"\",VLOOKUP(D267,Tablas!$B$2:$F$13,3,FALSE))","v":0},45324.24,0,0,0,0,0,0,0,0,0,0,0,0,0,0,0,0,0]
[{"$f":"IF(ISBLANK(InfoPro!A260),\"\",InfoPro!A260)","v":"SC_768_A2"},{"$f":"IF(ISBLANK(InfoPro!B260),\"\",InfoPro!B260)","v":"RODAS 19.9"},{"$f":"IF(ISBLANK(InfoPro!E260),\"\",InfoPro!E260)","v":19.899999999999999},{"$f":"IF(ISBLANK(InfoPro!F260),\"\",InfoPro!F260)","v":"Solar FV"},{"$f":"IF(ISBLANK(InfoPro!I260),\"\",YEAR(InfoPro!I260)-$G$4)","v":2},{"$f":"IF(B268=\"\",\"\",VLOOKUP(D268,Tablas!$B$2:$E$13,2,FALSE))","v":0.26},{"$f":"IF(B268=\"\",\"\",VLOOKUP(D268,Tablas!$B$2:$F$13,3,FALSE))","v":0},45324.24,0,0,0,0,0,0,0,0,0,0,0,0,0,0,0,0,0]
[{"$f":"IF(ISBLANK(InfoPro!A261),\"\",InfoPro!A261)","v":"SC_807_A2"},{"$f":"IF(ISBLANK(InfoPro!B261),\"\",InfoPro!B261)","v":"Parque Solar Fotovoltaico La Villa de 120 MW (entrega 100 MW)"},{"$f":"IF(ISBLANK(InfoPro!E261),\"\",InfoPro!E261)","v":100},{"$f":"IF(ISBLANK(InfoPro!F261),\"\",InfoPro!F261)","v":"Solar FV"},{"$f":"IF(ISBLANK(InfoPro!I261),\"\",YEAR(InfoPro!I261)-$G$4)","v":2},{"$f":"IF(B269=\"\",\"\",VLOOKUP(D269,Tablas!$B$2:$E$13,2,FALSE))","v":0.26},{"$f":"IF(B269=\"\",\"\",VLOOKUP(D269,Tablas!$B$2:$F$13,3,FALSE))","v":0},227760,0,0,0,0,0,0,0,0,0,0,0,0,0,0,0,0,0]
[{"$f":"IF(ISBLANK(InfoPro!A262),\"\",InfoPro!A262)","v":"SC_821_A1"},{"$f":"IF(ISBLANK(InfoPro!B262),\"\",InfoPro!B262)","v":"SPK SOLAR DEL CESAR - 65 MW"},{"$f":"IF(ISBLANK(InfoPro!E262),\"\",InfoPro!E262)","v":65},{"$f":"IF(ISBLANK(InfoPro!F262),\"\",InfoPro!F262)","v":"Solar FV"},{"$f":"IF(ISBLANK(InfoPro!I262),\"\",YEAR(InfoPro!I262)-$G$4)","v":3},{"$f":"IF(B270=\"\",\"\",VLOOKUP(D270,Tablas!$B$2:$E$13,2,FALSE))","v":0.26},{"$f":"IF(B270=\"\",\"\",VLOOKUP(D270,Tablas!$B$2:$F$13,3,FALSE))","v":0},148044,0,0,0,0,0,0,0,0,0,0,0,0,0,0,0,0,0]
[{"$f":"IF(ISBLANK(InfoPro!A263),\"\",InfoPro!A263)","v":"SC_821_A2"},{"$f":"IF(ISBLANK(InfoPro!B263),\"\",InfoPro!B263)","v":"SPK SOLAR DEL CESAR - 65 MW"},{"$f":"IF(ISBLANK(InfoPro!E263),\"\",InfoPro!E263)","v":65},{"$f":"IF(ISBLANK(InfoPro!F263),\"\",InfoPro!F263)","v":"Solar FV"},{"$f":"IF(ISBLANK(InfoPro!I263),\"\",YEAR(InfoPro!I263)-$G$4)","v":3},{"$f":"IF(B271=\"\",\"\",VLOOKUP(D271,Tablas!$B$2:$E$13,2,FALSE))","v":0.26},{"$f":"IF(B271=\"\",\"\",VLOOKUP(D271,Tablas!$B$2:$F$13,3,FALSE))","v":0},148044,0,0,0,0,0,0,0,0,0,0,0,0,0,0,0,0,0]
[{"$f":"IF(ISBLANK(InfoPro!A264),\"\",InfoPro!A264)","v":"SC_822_A1"},{"$f":"IF(ISBLANK(InfoPro!B264),\"\",InfoPro!B264)","v":"SANTA MARTA IV 50 MW"},{"$f":"IF(ISBLANK(InfoPro!E264),\"\",InfoPro!E264)","v":50},{"$f":"IF(ISBLANK(InfoPro!F264),\"\",InfoPro!F264)","v":"Solar FV"},{"$f":"IF(ISBLANK(InfoPro!I264),\"\",YEAR(InfoPro!I264)-$G$4)","v":2},{"$f":"IF(B272=\"\",\"\",VLOOKUP(D272,Tablas!$B$2:$E$13,2,FALSE))","v":0.26},{"$f":"IF(B272=\"\",\"\",VLOOKUP(D272,Tablas!$B$2:$F$13,3,FALSE))","v":0},113880,0,0,0,0,0,0,0,0,0,0,0,0,0,0,0,0,0]
[{"$f":"IF(ISBLANK(InfoPro!A265),\"\",InfoPro!A265)","v":"SC_825_A1"},{"$f":"IF(ISBLANK(InfoPro!B265),\"\",InfoPro!B265)","v":"OWF GOLETA"},{"$f":"IF(ISBLANK(InfoPro!E265),\"\",InfoPro!E265)","v":325},{"$f":"IF(ISBLANK(InfoPro!F265),\"\",InfoPro!F265)","v":"Eólico Offshore"},{"$f":"IF(ISBLANK(InfoPro!I265),\"\",YEAR(InfoPro!I265)-$G$4)","v":9},{"$f":"IF(B273=\"\",\"\",VLOOKUP(D273,Tablas!$B$2:$E$13,2,FALSE))","v":0.56999999999999995},{"$f":"IF(B273=\"\",\"\",VLOOKUP(D273,Tablas!$B$2:$F$13,3,FALSE))","v":0},1622789.9999999998,0,0,0,0,0,0,0,0,0,0,0,0,0,0,0,0,0]
[{"$f":"IF(ISBLANK(InfoPro!A266),\"\",InfoPro!A266)","v":"SC_825_A2"},{"$f":"IF(ISBLANK(InfoPro!B266),\"\",InfoPro!B266)","v":"OWF GOLETA"},{"$f":"IF(ISBLANK(InfoPro!E266),\"\",InfoPro!E266)","v":325},{"$f":"IF(ISBLANK(InfoPro!F266),\"\",InfoPro!F266)","v":"Eólico Offshore"},{"$f":"IF(ISBLANK(InfoPro!I266),\"\",YEAR(InfoPro!I266)-$G$4)","v":9},{"$f":"IF(B274=\"\",\"\",VLOOKUP(D274,Tablas!$B$2:$E$13,2,FALSE))","v":0.56999999999999995},{"$f":"IF(B274=\"\",\"\",VLOOKUP(D274,Tablas!$B$2:$F$13,3,FALSE))","v":0},1622789.9999999998,0,0,0,0,0,0,0,0,0,0,0,0,0,0,0,0,0]
[{"$f":"IF(ISBLANK(InfoPro!A267),\"\",InfoPro!A267)","v":"SC_833_A1"},{"$f":"IF(ISBLANK(InfoPro!B267),\"\",InfoPro!B267)","v":"LOMERO SOLAR"},{"$f":"IF(ISBLANK(InfoPro!E267),\"\",InfoPro!E267)","v":200},{"$f":"IF(ISBLANK(InfoPro!F267),\"\",InfoPro!F267)","v":"Solar FV"},{"$f":"IF(ISBLANK(InfoPro!I267),\"\",YEAR(InfoPro!I267)-$G$4)","v":4},{"$f":"IF(B275=\"\",\"\",VLOOKUP(D275,Tablas!$B$2:$E$13,2,FALSE))","v":0.26},{"$f":"IF(B275=\"\",\"\",VLOOKUP(D275,Tablas!$B$2:$F$13,3,FALSE))","v":0},455520,0,0,0,0,0,0,0,0,0,0,0,0,0,0,0,0,0]
[{"$f":"IF(ISBLANK(InfoPro!A268),\"\",InfoPro!A268)","v":"SC_846_A1"},{"$f":"IF(ISBLANK(InfoPro!B268),\"\",InfoPro!B268)","v":"Parque Eólico El Ahumado_de 50MW a 60MW _Es decir 10MW"},{"$f":"IF(ISBLANK(InfoPro!E268),\"\",InfoPro!E268)","v":10},{"$f":"IF(ISBLANK(InfoPro!F268),\"\",InfoPro!F268)","v":"Eólico Onshore"},{"$f":"IF(ISBLANK(InfoPro!I268),\"\",YEAR(InfoPro!I268)-$G$4)","v":2},{"$f":"IF(B276=\"\",\"\",VLOOKUP(D276,Tablas!$B$2:$E$13,2,FALSE))","v":0.56999999999999995},{"$f":"IF(B276=\"\",\"\",VLOOKUP(D276,Tablas!$B$2:$F$13,3,FALSE))","v":0},49931.999999999993,0,0,0,0,0,0,0,0,0,0,0,0,0,0,0,0,0]
[{"$f":"IF(ISBLANK(InfoPro!A269),\"\",InfoPro!A269)","v":"SC_878_A1"},{"$f":"IF(ISBLANK(InfoPro!B269),\"\",InfoPro!B269)","v":"PARQUE SOLAR EL PROGRESO"},{"$f":"IF(ISBLANK(InfoPro!E269),\"\",InfoPro!E269)","v":19.899999999999999},{"$f":"IF(ISBLANK(InfoPro!F269),\"\",InfoPro!F269)","v":"Solar FV"},{"$f":"IF(ISBLANK(InfoPro!I269),\"\",YEAR(InfoPro!I269)-$G$4)","v":1},{"$f":"IF(B277=\"\",\"\",VLOOKUP(D277,Tablas!$B$2:$E$13,2,FALSE))","v":0.26},{"$f":"IF(B277=\"\",\"\",VLOOKUP(D277,Tablas!$B$2:$F$13,3,FALSE))","v":0},{"$f":"IF(C277=\"\",\"\",+C277*F277*24*365)","v":45324.24},0,0,0,0,0,0,0,0,0,0,0,0,0,0,0,{"$f":"IF(W277=\"\",\"\",SUM(I277:W277))","v":0},{"$f":"IF(C277=0,0,IF(X277=\"\",\"\",X277/(C277*1000)))","v":0}]
[{"$f":"IF(ISBLANK(InfoPro!A270),\"\",InfoPro!A270)","v":"SC_890_A1"},{"$f":"IF(ISBLANK(InfoPro!B270),\"\",InfoPro!B270)","v":"Fundación II - 100 MW"},{"$f":"IF(ISBLANK(InfoPro!E270),\"\",InfoPro!E270)","v":100},{"$f":"IF(ISBLANK(InfoPro!F270),\"\",InfoPro!F270)","v":"Solar FV"},{"$f":"IF(ISBLANK(InfoPro!I270),\"\",YEAR(InfoPro!I270)-$G$4)","v":4},{"$f":"IF(B278=\"\",\"\",VLOOKUP(D278,Tablas!$B$2:$E$13,2,FALSE))","v":0.26},{"$f":"IF(B278=\"\",\"\",VLOOKUP(D278,Tablas!$B$2:$F$13,3,FALSE))","v":0},227760,0,0,0,0,0,0,0,0,0,0,0,0,0,0,0,0,0]
[{"$f":"IF(ISBLANK(InfoPro!A271),\"\",InfoPro!A271)","v":"SC_890_A2"},{"$f":"IF(ISBLANK(InfoPro!B271),\"\",InfoPro!B271)","v":"Fundación II - 100 MW"},{"$f":"IF(ISBLANK(InfoPro!E271),\"\",InfoPro!E271)","v":100},{"$f":"IF(ISBLANK(InfoPro!F271),\"\",InfoPro!F271)","v":"Solar FV"},{"$f":"IF(ISBLANK(InfoPro!I271),\"\",YEAR(InfoPro!I271)-$G$4)","v":4},{"$f":"IF(B279=\"\",\"\",VLOOKUP(D279,Tablas!$B$2:$E$13,2,FALSE))","v":0.26},{"$f":"IF(B279=\"\",\"\",VLOOKUP(D279,Tablas!$B$2:$F$13,3,FALSE))","v":0},227760,{"$f":"IF($H279=\"\",\"\",(1/(1+$C$4)^(I$7+$E279))*$H279*$G279*$C$3)","v":0},0,0,0,0,0,0,0,0,0,0,0,0,0,0,0,0]
[{"$f":"IF(ISBLANK(InfoPro!A272),\"\",InfoPro!A272)","v":"SC_921_A1"},{"$f":"IF(ISBLANK(InfoPro!B272),\"\",InfoPro!B272)","v":"PARQUE SOLAR EL CIELO"},{"$f":"IF(ISBLANK(InfoPro!E272),\"\",InfoPro!E272)","v":9.9},{"$f":"IF(ISBLANK(InfoPro!F272),\"\",InfoPro!F272)","v":"Solar FV"},{"$f":"IF(ISBLANK(InfoPro!I272),\"\",YEAR(InfoPro!I272)-$G$4)","v":1},{"$f":"IF(B280=\"\",\"\",VLOOKUP(D280,Tablas!$B$2:$E$13,2,FALSE))","v":0.26},{"$f":"IF(B280=\"\",\"\",VLOOKUP(D280,Tablas!$B$2:$F$13,3,FALSE))","v":0},22548.240000000005,0,0,0,0,0,0,0,0,0,0,0,0,0,0,0,0,0]
[{"$f":"IF(ISBLANK(InfoPro!A273),\"\",InfoPro!A273)","v":"SC_944_A1"},{"$f":"IF(ISBLANK(InfoPro!B273),\"\",InfoPro!B273)","v":"DSE FUNDACION"},{"$f":"IF(ISBLANK(InfoPro!E273),\"\",InfoPro!E273)","v":99.9},{"$f":"IF(ISBLANK(InfoPro!F273),\"\",InfoPro!F273)","v":"Solar FV"},{"$f":"IF(ISBLANK(InfoPro!I273),\"\",YEAR(InfoPro!I273)-$G$4)","v":3},{"$f":"IF(B281=\"\",\"\",VLOOKUP(D281,Tablas!$B$2:$E$13,2,FALSE))","v":0.26},{"$f":"IF(B281=\"\",\"\",VLOOKUP(D281,Tablas!$B$2:$F$13,3,FALSE))","v":0},227532.24000000002,0,0,0,0,0,0,0,0,0,0,0,0,0,0,0,0,0]
[{"$f":"IF(ISBLANK(InfoPro!A274),\"\",InfoPro!A274)","v":"SC_951_A1"},{"$f":"IF(ISBLANK(InfoPro!B274),\"\",InfoPro!B274)","v":"SANTA ROSA SOLAR_100MW"},{"$f":"IF(ISBLANK(InfoPro!E274),\"\",InfoPro!E274)","v":100},{"$f":"IF(ISBLANK(InfoPro!F274),\"\",InfoPro!F274)","v":"Solar FV"},{"$f":"IF(ISBLANK(InfoPro!I274),\"\",YEAR(InfoPro!I274)-$G$4)","v":3},{"$f":"IF(B282=\"\",\"\",VLOOKUP(D282,Tablas!$B$2:$E$13,2,FALSE))","v":0.26},{"$f":"IF(B282=\"\",\"\",VLOOKUP(D282,Tablas!$B$2:$F$13,3,FALSE))","v":0},227760,0,0,0,0,0,0,0,0,0,0,0,0,0,0,0,0,0]
[{"$f":"IF(ISBLANK(InfoPro!A275),\"\",InfoPro!A275)","v":"SC_951_A2"},{"$f":"IF(ISBLANK(InfoPro!B275),\"\",InfoPro!B275)","v":"SANTA ROSA SOLAR_100MW"},{"$f":"IF(ISBLANK(InfoPro!E275),\"\",InfoPro!E275)","v":100},{"$f":"IF(ISBLANK(InfoPro!F275),\"\",InfoPro!F275)","v":"Solar FV"},{"$f":"IF(ISBLANK(InfoPro!I275),\"\",YEAR(InfoPro!I275)-$G$4)","v":3},{"$f":"IF(B283=\"\",\"\",VLOOKUP(D283,Tablas!$B$2:$E$13,2,FALSE))","v":0.26},{"$f":"IF(B283=\"\",\"\",VLOOKUP(D283,Tablas!$B$2:$F$13,3,FALSE))","v":0},227760,0,0,0,0,0,0,0,0,0,0,0,0,0,0,0,0,0]
[{"$f":"IF(ISBLANK(InfoPro!A276),\"\",InfoPro!A276)","v":"SC_963_A1"},{"$f":"IF(ISBLANK(InfoPro!B276),\"\",InfoPro!B276)","v":"Churuco Solar"},{"$f":"IF(ISBLANK(InfoPro!E276),\"\",InfoPro!E276)","v":60},{"$f":"IF(ISBLANK(InfoPro!F276),\"\",InfoPro!F276)","v":"Solar FV"},{"$f":"IF(ISBLANK(InfoPro!I276),\"\",YEAR(InfoPro!I276)-$G$4)","v":3},{"$f":"IF(B284=\"\",\"\",VLOOKUP(D284,Tablas!$B$2:$E$13,2,FALSE))","v":0.26},{"$f":"IF(B284=\"\",\"\",VLOOKUP(D284,Tablas!$B$2:$F$13,3,FALSE))","v":0},136656,0,0,0,0,0,0,0,0,0,0,0,0,0,0,0,0,0]
[{"$f":"IF(ISBLANK(InfoPro!A277),\"\",InfoPro!A277)","v":"SC_984_A1"},{"$f":"IF(ISBLANK(InfoPro!B277),\"\",InfoPro!B277)","v":"Eupari"},{"$f":"IF(ISBLANK(InfoPro!E277),\"\",InfoPro!E277)","v":99},{"$f":"IF(ISBLANK(InfoPro!F277),\"\",InfoPro!F277)","v":"Eólico Onshore"},{"$f":"IF(ISBLANK(InfoPro!I277),\"\",YEAR(InfoPro!I277)-$G$4)","v":3},{"$f":"IF(B285=\"\",\"\",VLOOKUP(D285,Tablas!$B$2:$E$13,2,FALSE))","v":0.56999999999999995},{"$f":"IF(B285=\"\",\"\",VLOOKUP(D285,Tablas!$B$2:$F$13,3,FALSE))","v":0},{"$f":"IF(C285=\"\",\"\",+C285*F285*24*365)","v":494326.79999999987},0,0,0,0,0,0,0,0,0,0,0,0,0,0,0,{"$f":"IF(W285=\"\",\"\",SUM(I285:W285))","v":0},{"$f":"IF(C285=0,0,IF(X285=\"\",\"\",X285/(C285*1000)))","v":0}]
[{"$f":"IF(ISBLANK(InfoPro!A278),\"\",InfoPro!A278)","v":"SC_984_A2"},{"$f":"IF(ISBLANK(InfoPro!B278),\"\",InfoPro!B278)","v":"Eupari"},{"$f":"IF(ISBLANK(InfoPro!E278),\"\",InfoPro!E278)","v":99},{"$f":"IF(ISBLANK(InfoPro!F278),\"\",InfoPro!F278)","v":"Eólico Onshore"},{"$f":"IF(ISBLANK(InfoPro!I278),\"\",YEAR(InfoPro!I278)-$G$4)","v":3},{"$f":"IF(B286=\"\",\"\",VLOOKUP(D286,Tablas!$B$2:$E$13,2,FALSE))","v":0.56999999999999995},{"$f":"IF(B286=\"\",\"\",VLOOKUP(D286,Tablas!$B$2:$F$13,3,FALSE))","v":0},494326.79999999987,0,0,0,0,0,0,0,0,0,0,0,0,0,0,0,0,0]
[{"$f":"IF(ISBLANK(InfoPro!A279),\"\",InfoPro!A279)","v":""},{"$f":"IF(ISBLANK(InfoPro!B279),\"\",InfoPro!B279)","v":""},{"$f":"IF(ISBLANK(InfoPro!E279),\"\",InfoPro!E279)","v":""},{"$f":"IF(ISBLANK(InfoPro!F279),\"\",InfoPro!F279)","v":""},{"$f":"IF(ISBLANK(InfoPro!I279),\"\",YEAR(InfoPro!I279)-$G$4)","v":""},{"$f":"IF(B287=\"\",\"\",VLOOKUP(D287,Tablas!$B$2:$E$13,2,FALSE))","v":""},{"$f":"IF(B287=\"\",\"\",VLOOKUP(D287,Tablas!$B$2:$F$13,3,FALSE))","v":""},"","","","","","","","","","","","","","","","","",""]

{"sheet":"BT-Confi","index":11,"n_rows":287,"n_cols":25,"rows_kept":287,"cut":false,"hidden":false,"merged":[]}
[]
[null,null,null,null,null,null,null,"CR1",2033920,"COP/MWh"]
[null,"Precio promedio de bolsa",{"$f":"'EC-RP'!C2","v":192057},"COP/MWh",null,null,null,"PE",884380,"COP/MWh"]
[null,"Tasa de descuento",0.11799999999999999,null,null,"Año de Referencia",2023,"Proba",0.19,"UPME Plan de expansion"]
[null,null,null,null,null,"Mínimo",{"$f":"MIN(Y9:Y284)","v":{"$error":"#REF!"}},"CR1-PE",{"$f":"((I2-I3))","v":1149540},"COP/MWh"]
[]
[null,null,null,null,null,null,null,null,0,1,2,3,4,5,6,7,8,9,10,11,12,13,14]
["Codigo","Nombre","capacidad","Tecnologia","Año de entrada","FP","Factor ENFICC","ENFICC/a MWh/a","Flujo Descontado 0","Flujo Descontado 1","Flujo Descontado 2","Flujo Descontado 3","Flujo Descontado 4","Flujo Descontado 5","Flujo Descontado 6","Flujo Descontado 7","Flujo Descontado 8","Flujo Descontado 9","Flujo Descontado 10","Flujo Descontado 11","Flujo Descontado 12","Flujo Descontado 13","Flujo Descontado 14","VPN","Beneficio/kW"]
[{"$f":"IF(ISBLANK(InfoPro!A2),\"\",InfoPro!A2)","v":"\tSC_1373_A1"},{"$f":"IF(ISBLANK(InfoPro!B2),\"\",InfoPro!B2)","v":"Pétalo del Magdalena II Guacamayal"},{"$f":"IF(ISBLANK(InfoPro!E2),\"\",InfoPro!E2)","v":9.9},{"$f":"IF(ISBLANK(InfoPro!F2),\"\",InfoPro!F2)","v":"Solar FV"},{"$f":"IF(ISBLANK(InfoPro!I2),\"\",YEAR(InfoPro!I2)-$G$4)","v":3},{"$f":"IF(B9=\"\",\"\",VLOOKUP(D9,Tablas!$B$2:$E$13,2,FALSE))","v":0.26},{"$f":"IF(B9=\"\",\"\",VLOOKUP(D9,Tablas!$B$2:$F$13,5,FALSE))","v":0.15},{"$f":"IF(C9=\"\",\"\",+C9*G9*F9*24*365)","v":3382.2360000000003},{"$f":"IF($H9=\"\",\"\",(1/(1+$C$4)^(I$7+$E9))*$H9*$I$5*$I$4)","v":528635331.42070878},{"$f":"IF($H9=\"\",\"\",(1/(1+$C$4)^(J$7+$E9))*$H9*$I$5*$I$4)","v":472840189.10617959},422933979.52252197,378295151.63016278,338367756.37760544,302654522.69911039,270710664.31047446,242138340.1703707,216581699.61571625,193722450.46128464,173275894.86698088,154987383.60195073,138629144.54557315,{"$f":"IF($H9=\"\",\"\",(1/(1+$C$4)^(V$7+$E9))*$H9*$I$5*$I$4)","v":123997445.92627291},110910058.96804376,{"$f":"IF(W9=\"\",\"\",SUM(I9:W9))","v":4068680013.2229567},{"$f":"IF(C9=0,0,IF(X9=\"\",\"\",X9/(C9*1000)))","v":410977.77911342995}]
[{"$f":"IF(ISBLANK(InfoPro!A3),\"\",InfoPro!A3)","v":"\tSC_1373_A2"},{"$f":"IF(ISBLANK(InfoPro!B3),\"\",InfoPro!B3)","v":"Pétalo del Magdalena II Guacamayal"},{"$f":"IF(ISBLANK(InfoPro!E3),\"\",InfoPro!E3)","v":9.9},{"$f":"IF(ISBLANK(InfoPro!F3),\"\",InfoPro!F3)","v":"Solar FV"},{"$f":"IF(ISBLANK(InfoPro!I3),\"\",YEAR(InfoPro!I3)-$G$4)","v":3},{"$f":"IF(B10=\"\",\"\",VLOOKUP(D10,Tablas!$B$2:$E$13,2,FALSE))","v":0.26},{"$f":"IF(B10=\"\",\"\",VLOOKUP(D10,Tablas!$B$2:$F$13,5,FALSE))","v":0.15},{"$f":"IF(C10=\"\",\"\",+C10*G10*F10*24*365)","v":3382.2360000000003},528635331.42070878,472840189.10617959,422933979.52252197,378295151.63016278,338367756.37760544,302654522.69911039,270710664.31047446,242138340.1703707,216581699.61571625,193722450.46128464,173275894.86698088,154987383.60195073,138629144.54557315,123997445.92627291,110910058.96804376,{"$f":"IF(W10=\"\",\"\",SUM(I10:W10))","v":4068680013.2229567},{"$f":"IF(C10=0,0,IF(X10=\"\",\"\",X10/(C10*1000)))","v":410977.77911342995}]
[{"$f":"IF(ISBLANK(InfoPro!A4),\"\",InfoPro!A4)","v":"SC_1012_A1"},{"$f":"IF(ISBLANK(InfoPro!B4),\"\",InfoPro!B4)","v":"PARQUE SOLAR FOTOVOLTAICO TUNA"},{"$f":"IF(ISBLANK(InfoPro!E4),\"\",InfoPro!E4)","v":100},{"$f":"IF(ISBLANK(InfoPro!F4),\"\",InfoPro!F4)","v":"Solar FV"},{"$f":"IF(ISBLANK(InfoPro!I4),\"\",YEAR(InfoPro!I4)-$G$4)","v":3},{"$f":"IF(B11=\"\",\"\",VLOOKUP(D11,Tablas!$B$2:$E$13,2,FALSE))","v":0.26},{"$f":"IF(B11=\"\",\"\",VLOOKUP(D11,Tablas!$B$2:$F$13,5,FALSE))","v":0.15},34164,5339750822.4314003,4776163526.3250456,4272060399.2173939,3821163147.7794213,3417856125.0263171,3057116390.900105,2734451154.651257,2445841819.9027338,2187693935.5122848,1956792428.901865,1750261564.3129382,1565529127.2924316,1400294389.3492234,1252499453.8007362,1120303625.9398358,41097777911.342979,410977.77911342977]
[{"$f":"IF(ISBLANK(InfoPro!A5),\"\",InfoPro!A5)","v":"SC_1012_A2"},{"$f":"IF(ISBLANK(InfoPro!B5),\"\",InfoPro!B5)","v":"PARQUE SOLAR FOTOVOLTAICO TUNA"},{"$f":"IF(ISBLANK(InfoPro!E5),\"\",InfoPro!E5)","v":100},{"$f":"IF(ISBLANK(InfoPro!F5),\"\",InfoPro!F5)","v":"Solar FV"},{"$f":"IF(ISBLANK(InfoPro!I5),\"\",YEAR(InfoPro!I5)-$G$4)","v":3},{"$f":"IF(B12=\"\",\"\",VLOOKUP(D12,Tablas!$B$2:$E$13,2,FALSE))","v":0.26},{"$f":"IF(B12=\"\",\"\",VLOOKUP(D12,Tablas!$B$2:$F$13,5,FALSE))","v":0.15},34164,5339750822.4314003,4776163526.3250456,4272060399.2173939,3821163147.7794213,3417856125.0263171,3057116390.900105,2734451154.651257,2445841819.9027338,2187693935.5122848,1956792428.901865,1750261564.3129382,1565529127.2924316,1400294389.3492234,1252499453.8007362,1120303625.9398358,41097777911.342979,410977.77911342977]
[{"$f":"IF(ISBLANK(InfoPro!A6),\"\",InfoPro!A6)","v":"SC_1077_A1"},{"$f":"IF(ISBLANK(InfoPro!B6),\"\",InfoPro!B6)","v":"Nevada I 90 MW"},{"$f":"IF(ISBLANK(InfoPro!E6),\"\",InfoPro!E6)","v":90},{"$f":"IF(ISBLANK(InfoPro!F6),\"\",InfoPro!F6)","v":"Eólico Onshore"},{"$f":"IF(ISBLANK(InfoPro!I6),\"\",YEAR(InfoPro!I6)-$G$4)","v":7},{"$f":"IF(B13=\"\",\"\",VLOOKUP(D13,Tablas!$B$2:$E$13,2,FALSE))","v":0.56999999999999995},{"$f":"IF(B13=\"\",\"\",VLOOKUP(D13,Tablas!$B$2:$F$13,5,FALSE))","v":0.06},26963.279999999995,2697477218.6746159,2412770320.8180823,2158112988.2093759,1930333620.9386189,1726595367.5658493,1544360793.8871639,1381360280.7577493,1235563757.3861804,1105155418.0556176,988511107.38427317,884178092.4725163,790856970.01119518,707385483.01538062,632724045.63093078,565942795.73428524,20761328260.541836,230681.4251171315]
[{"$f":"IF(ISBLANK(InfoPro!A7),\"\",InfoPro!A7)","v":"SC_1077_A2"},{"$f":"IF(ISBLANK(InfoPro!B7),\"\",InfoPro!B7)","v":"Nevada I 90 MW"},{"$f":"IF(ISBLANK(InfoPro!E7),\"\",InfoPro!E7)","v":90},{"$f":"IF(ISBLANK(InfoPro!F7),\"\",InfoPro!F7)","v":"Eólico Onshore"},{"$f":"IF(ISBLANK(InfoPro!I7),\"\",YEAR(InfoPro!I7)-$G$4)","v":7},{"$f":"IF(B14=\"\",\"\",VLOOKUP(D14,Tablas!$B$2:$E$13,2,FALSE))","v":0.56999999999999995},{"$f":"IF(B14=\"\",\"\",VLOOKUP(D14,Tablas!$B$2:$F$13,5,FALSE))","v":0.06},26963.279999999995,2697477218.6746159,2412770320.8180823,2158112988.2093759,1930333620.9386189,1726595367.5658493,1544360793.8871639,1381360280.7577493,1235563757.3861804,1105155418.0556176,988511107.38427317,884178092.4725163,790856970.01119518,707385483.01538062,632724045.63093078,565942795.73428524,20761328260.541836,230681.4251171315]
[{"$f":"IF(ISBLANK(InfoPro!A8),\"\",InfoPro!A8)","v":"SC_1135_A1"},{"$f":"IF(ISBLANK(InfoPro!B8),\"\",InfoPro!B8)","v":"Parque Eólico Brisas 1"},{"$f":"IF(ISBLANK(InfoPro!E8),\"\",InfoPro!E8)","v":200},{"$f":"IF(ISBLANK(InfoPro!F8),\"\",InfoPro!F8)","v":"Eólico Onshore"},{"$f":"IF(ISBLANK(InfoPro!I8),\"\",YEAR(InfoPro!I8)-$G$4)","v":5},{"$f":"IF(B15=\"\",\"\",VLOOKUP(D15,Tablas!$B$2:$E$13,2,FALSE))","v":0.56999999999999995},{"$f":"IF(B15=\"\",\"\",VLOOKUP(D15,Tablas!$B$2:$F$13,5,FALSE))","v":0.06},59918.400000000001,7492536700.1658907,6701732289.951601,5994393819.2769251,5361711824.0401831,4795806640.4652805,4289630268.7524872,3836878594.5907769,3431912875.3048091,3069689512.7949996,2745697238.6359568,2455900929.0124836,2196691349.7428298,1964840205.4944811,1757459933.358212,1571967740.0341794,57666849921.621094,288334.24960810546]
[{"$f":"IF(ISBLANK(InfoPro!A9),\"\",InfoPro!A9)","v":"SC_1135_A2"},{"$f":"IF(ISBLANK(InfoPro!B9),\"\",InfoPro!B9)","v":"Parque Eólico Brisas 1"},{"$f":"IF(ISBLANK(InfoPro!E9),\"\",InfoPro!E9)","v":200},{"$f":"IF(ISBLANK(InfoPro!F9),\"\",InfoPro!F9)","v":"Eólico Onshore"},{"$f":"IF(ISBLANK(InfoPro!I9),\"\",YEAR(InfoPro!I9)-$G$4)","v":5},{"$f":"IF(B16=\"\",\"\",VLOOKUP(D16,Tablas!$B$2:$E$13,2,FALSE))","v":0.56999999999999995},{"$f":"IF(B16=\"\",\"\",VLOOKUP(D16,Tablas!$B$2:$F$13,5,FALSE))","v":0.06},59918.400000000001,7492536700.1658907,6701732289.951601,5994393819.2769251,5361711824.0401831,4795806640.4652805,4289630268.7524872,3836878594.5907769,3431912875.3048091,3069689512.7949996,2745697238.6359568,2455900929.0124836,2196691349.7428298,1964840205.4944811,1757459933.358212,1571967740.0341794,57666849921.621094,288334.24960810546]
[{"$f":"IF(ISBLANK(InfoPro!A10),\"\",InfoPro!A10)","v":"SC_1154_A1"},{"$f":"IF(ISBLANK(InfoPro!B10),\"\",InfoPro!B10)","v":"Parque Eólico Brisas 2"},{"$f":"IF(ISBLANK(InfoPro!E10),\"\",InfoPro!E10)","v":200},{"$f":"IF(ISBLANK(InfoPro!F10),\"\",InfoPro!F10)","v":"Eólico Onshore"},{"$f":"IF(ISBLANK(InfoPro!I10),\"\",YEAR(InfoPro!I10)-$G$4)","v":6},{"$f":"IF(B17=\"\",\"\",VLOOKUP(D17,Tablas!$B$2:$E$13,2,FALSE))","v":0.56999999999999995},{"$f":"IF(B17=\"\",\"\",VLOOKUP(D17,Tablas!$B$2:$F$13,5,FALSE))","v":0.06},59918.400000000001,6701732289.951601,5994393819.2769251,5361711824.0401831,4795806640.4652805,4289630268.7524872,3836878594.5907769,3431912875.3048091,3069689512.7949996,2745697238.6359568,2455900929.0124836,2196691349.7428298,1964840205.4944811,1757459933.358212,1571967740.0341794,1406053434.7354019,51580366656.190613,257901.83328095305]
[{"$f":"IF(ISBLANK(InfoPro!A11),\"\",InfoPro!A11)","v":"SC_1154_A2"},{"$f":"IF(ISBLANK(InfoPro!B11),\"\",InfoPro!B11)","v":"Parque Eólico Brisas 2"},{"$f":"IF(ISBLANK(InfoPro!E11),\"\",InfoPro!E11)","v":200},{"$f":"IF(ISBLANK(InfoPro!F11),\"\",InfoPro!F11)","v":"Eólico Onshore"},{"$f":"IF(ISBLANK(InfoPro!I11),\"\",YEAR(InfoPro!I11)-$G$4)","v":6},{"$f":"IF(B18=\"\",\"\",VLOOKUP(D18,Tablas!$B$2:$E$13,2,FALSE))","v":0.56999999999999995},{"$f":"IF(B18=\"\",\"\",VLOOKUP(D18,Tablas!$B$2:$F$13,5,FALSE))","v":0.06},59918.400000000001,6701732289.951601,5994393819.2769251,5361711824.0401831,4795806640.4652805,4289630268.7524872,3836878594.5907769,3431912875.3048091,3069689512.7949996,2745697238.6359568,2455900929.0124836,2196691349.7428298,1964840205.4944811,1757459933.358212,1571967740.0341794,1406053434.7354019,51580366656.190613,257901.83328095305]
[{"$f":"IF(ISBLANK(InfoPro!A12),\"\",InfoPro!A12)","v":"SC_1161_A1"},{"$f":"IF(ISBLANK(InfoPro!B12),\"\",InfoPro!B12)","v":"Parque Eólico Brisas 3"},{"$f":"IF(ISBLANK(InfoPro!E12),\"\",InfoPro!E12)","v":200},{"$f":"IF(ISBLANK(InfoPro!F12),\"\",InfoPro!F12)","v":"Eólico Onshore"},{"$f":"IF(ISBLANK(InfoPro!I12),\"\",YEAR(InfoPro!I12)-$G$4)","v":7},{"$f":"IF(B19=\"\",\"\",VLOOKUP(D19,Tablas!$B$2:$E$13,2,FALSE))","v":0.56999999999999995},{"$f":"IF(B19=\"\",\"\",VLOOKUP(D19,Tablas!$B$2:$F$13,5,FALSE))","v":0.06},59918.400000000001,{"$f":"IF($H19=\"\",\"\",(1/(1+$C$4)^(I$7+$E19))*$H19*$I$5*$I$4)","v":5994393819.2769251},5361711824.0401831,4795806640.4652805,4289630268.7524872,3836878594.5907769,3431912875.3048091,3069689512.7949996,2745697238.6359568,2455900929.0124836,2196691349.7428298,1964840205.4944811,1757459933.358212,1571967740.0341794,1406053434.7354019,1257650657.1873009,46136285023.426315,230681.42511713158]
[{"$f":"IF(ISBLANK(InfoPro!A13),\"\",InfoPro!A13)","v":"SC_1161_A2"},{"$f":"IF(ISBLANK(InfoPro!B13),\"\",InfoPro!B13)","v":"Parque Eólico Brisas 3"},{"$f":"IF(ISBLANK(InfoPro!E13),\"\",InfoPro!E13)","v":200},{"$f":"IF(ISBLANK(InfoPro!F13),\"\",InfoPro!F13)","v":"Eólico Onshore"},{"$f":"IF(ISBLANK(InfoPro!I13),\"\",YEAR(InfoPro!I13)-$G$4)","v":7},{"$f":"IF(B20=\"\",\"\",VLOOKUP(D20,Tablas!$B$2:$E$13,2,FALSE))","v":0.56999999999999995},{"$f":"IF(B20=\"\",\"\",VLOOKUP(D20,Tablas!$B$2:$F$13,5,FALSE))","v":0.06},59918.400000000001,5994393819.2769251,5361711824.0401831,4795806640.4652805,4289630268.7524872,3836878594.5907769,3431912875.3048091,3069689512.7949996,2745697238.6359568,2455900929.0124836,2196691349.7428298,1964840205.4944811,1757459933.358212,1571967740.0341794,1406053434.7354019,1257650657.1873009,46136285023.426315,230681.42511713158]
[{"$f":"IF(ISBLANK(InfoPro!#REF!),\"\",InfoPro!#REF!)","v":{"$error":"#REF!"}},{"$f":"IF(ISBLANK(InfoPro!#REF!),\"\",InfoPro!#REF!)","v":{"$error":"#REF!"}},{"$f":"IF(ISBLANK(InfoPro!#REF!),\"\",InfoPro!#REF!)","v":{"$error":"#REF!"}},{"$f":"IF(ISBLANK(InfoPro!#REF!),\"\",InfoPro!#REF!)","v":{"$error":"#REF!"}},{"$f":"IF(ISBLANK(InfoPro!#REF!),\"\",YEAR(InfoPro!#REF!)-$G$4)","v":{"$error":"#REF!"}},{"$f":"IF(B21=\"\",\"\",VLOOKUP(D21,Tablas!$B$2:$E$13,2,FALSE))","v":{"$error":"#REF!"}},{"$f":"IF(B21=\"\",\"\",VLOOKUP(D21,Tablas!$B$2:$F$13,5,FALSE))","v":{"$error":"#REF!"}},{"$error":"#REF!"},{"$error":"#REF!"},{"$error":"#REF!"},{"$error":"#REF!"},{"$error":"#REF!"},{"$error":"#REF!"},{"$error":"#REF!"},{"$error":"#REF!"},{"$error":"#REF!"},{"$error":"#REF!"},{"$error":"#REF!"},{"$error":"#REF!"},{"$error":"#REF!"},{"$error":"#REF!"},{"$error":"#REF!"},{"$error":"#REF!"},{"$error":"#REF!"},{"$error":"#REF!"}]
[{"$f":"IF(ISBLANK(InfoPro!A14),\"\",InfoPro!A14)","v":"SC_1211_A1"},{"$f":"IF(ISBLANK(InfoPro!B14),\"\",InfoPro!B14)","v":"Planta Solar FV Caracolicitos 69MW"},{"$f":"IF(ISBLANK(InfoPro!E14),\"\",InfoPro!E14)","v":69},{"$f":"IF(ISBLANK(InfoPro!F14),\"\",InfoPro!F14)","v":"Solar FV"},{"$f":"IF(ISBLANK(InfoPro!I14),\"\",YEAR(InfoPro!I14)-$G$4)","v":3},{"$f":"IF(B22=\"\",\"\",VLOOKUP(D22,Tablas!$B$2:$E$13,2,FALSE))","v":0.26},{"$f":"IF(B22=\"\",\"\",VLOOKUP(D22,Tablas!$B$2:$F$13,5,FALSE))","v":0.15},23573.16,3684428067.4776669,3295552833.1642809,2947721675.4600019,2636602571.9678011,2358320726.2681584,2109410309.7210722,1886771296.709367,1687630855.7328863,1509508815.5034766,1350186775.9422867,1207680479.3759274,1080215097.8317778,966203128.65096414,864224623.12250793,773009501.89848661,28357466758.826664,410977.77911342989]
[{"$f":"IF(ISBLANK(InfoPro!A15),\"\",InfoPro!A15)","v":"SC_1211_A2"},{"$f":"IF(ISBLANK(InfoPro!B15),\"\",InfoPro!B15)","v":"Planta Solar FV Caracolicitos 69MW"},{"$f":"IF(ISBLANK(InfoPro!E15),\"\",InfoPro!E15)","v":69},{"$f":"IF(ISBLANK(InfoPro!F15),\"\",InfoPro!F15)","v":"Solar FV"},{"$f":"IF(ISBLANK(InfoPro!I15),\"\",YEAR(InfoPro!I15)-$G$4)","v":3},{"$f":"IF(B23=\"\",\"\",VLOOKUP(D23,Tablas!$B$2:$E$13,2,FALSE))","v":0.26},{"$f":"IF(B23=\"\",\"\",VLOOKUP(D23,Tablas!$B$2:$F$13,5,FALSE))","v":0.15},23573.16,3684428067.4776669,3295552833.1642809,2947721675.4600019,2636602571.9678011,2358320726.2681584,2109410309.7210722,1886771296.709367,1687630855.7328863,1509508815.5034766,1350186775.9422867,1207680479.3759274,1080215097.8317778,966203128.65096414,864224623.12250793,773009501.89848661,28357466758.826664,410977.77911342989]
[{"$f":"IF(ISBLANK(InfoPro!A16),\"\",InfoPro!A16)","v":"SC_1218_A1"},{"$f":"IF(ISBLANK(InfoPro!B16),\"\",InfoPro!B16)","v":"Las Flores 150 MW"},{"$f":"IF(ISBLANK(InfoPro!E16),\"\",InfoPro!E16)","v":150},{"$f":"IF(ISBLANK(InfoPro!F16),\"\",InfoPro!F16)","v":"Solar FV"},{"$f":"IF(ISBLANK(InfoPro!I16),\"\",YEAR(InfoPro!I16)-$G$4)","v":2},{"$f":"IF(B24=\"\",\"\",VLOOKUP(D24,Tablas!$B$2:$E$13,2,FALSE))","v":0.26},{"$f":"IF(B24=\"\",\"\",VLOOKUP(D24,Tablas!$B$2:$F$13,5,FALSE))","v":0.15},51246,8954762129.2174568,8009626233.6471004,7164245289.4875679,6408090598.8260899,5731744721.6691322,5126784187.5394754,4585674586.3501568,4101676731.9768844,3668762729.8541012,3281540903.2684274,2935188643.3527975,2625392346.4694076,2348293690.9386473,2100441584.0238349,1878749180.7011042,68920973557.322189,459473.15704881458]
[{"$f":"IF(ISBLANK(InfoPro!A17),\"\",InfoPro!A17)","v":"SC_1223_A1"},{"$f":"IF(ISBLANK(InfoPro!B17),\"\",InfoPro!B17)","v":"Parque Eolico Sirius"},{"$f":"IF(ISBLANK(InfoPro!E17),\"\",InfoPro!E17)","v":100},{"$f":"IF(ISBLANK(InfoPro!F17),\"\",InfoPro!F17)","v":"Eólico Onshore"},{"$f":"IF(ISBLANK(InfoPro!I17),\"\",YEAR(InfoPro!I17)-$G$4)","v":2},{"$f":"IF(B25=\"\",\"\",VLOOKUP(D25,Tablas!$B$2:$E$13,2,FALSE))","v":0.56999999999999995},{"$f":"IF(B25=\"\",\"\",VLOOKUP(D25,Tablas!$B$2:$F$13,5,FALSE))","v":0.06},29959.200000000001,5235091706.3117447,4682550721.209075,4188328015.3927326,3746268350.0829453,3350866144.9758005,2997196909.6384625,2680855912.0200915,2397903320.2326403,2144815134.3762436,1918439297.2953885,1715956437.6524045,1534844756.3974998,1372848619.3179784,1227950464.5062418,1098345674.8714149,40292261464.280655,402922.61464280653]
[{"$f":"IF(ISBLANK(InfoPro!A18),\"\",InfoPro!A18)","v":"SC_1232_A1"},{"$f":"IF(ISBLANK(InfoPro!B18),\"\",InfoPro!B18)","v":"La Paz Solar 9,9 MW"},{"$f":"IF(ISBLANK(InfoPro!E18),\"\",InfoPro!E18)","v":9.9},{"$f":"IF(ISBLANK(InfoPro!F18),\"\",InfoPro!F18)","v":"Solar FV"},{"$f":"IF(ISBLANK(InfoPro!I18),\"\",YEAR(InfoPro!I18)-$G$4)","v":2},{"$f":"IF(B26=\"\",\"\",VLOOKUP(D26,Tablas!$B$2:$E$13,2,FALSE))","v":0.26},{"$f":"IF(B26=\"\",\"\",VLOOKUP(D26,Tablas!$B$2:$F$13,5,FALSE))","v":0.15},3382.2360000000003,591014300.52835214,528635331.42070878,472840189.10617959,422933979.52252197,378295151.63016278,338367756.37760544,302654522.69911039,270710664.31047446,242138340.1703707,216581699.61571625,193722450.46128464,173275894.86698088,154987383.60195073,138629144.54557315,123997445.92627291,4548784254.7832651,459473.15704881464]
[{"$f":"IF(ISBLANK(InfoPro!A19),\"\",InfoPro!A19)","v":"SC_1232_A2"},{"$f":"IF(ISBLANK(InfoPro!B19),\"\",InfoPro!B19)","v":"La Paz Solar 9,9 MW"},{"$f":"IF(ISBLANK(InfoPro!E19),\"\",InfoPro!E19)","v":9.9},{"$f":"IF(ISBLANK(InfoPro!F19),\"\",InfoPro!F19)","v":"Solar FV"},{"$f":"IF(ISBLANK(InfoPro!I19),\"\",YEAR(InfoPro!I19)-$G$4)","v":2},{"$f":"IF(B27=\"\",\"\",VLOOKUP(D27,Tablas!$B$2:$E$13,2,FALSE))","v":0.26},{"$f":"IF(B27=\"\",\"\",VLOOKUP(D27,Tablas!$B$2:$F$13,5,FALSE))","v":0.15},3382.2360000000003,591014300.52835214,528635331.42070878,472840189.10617959,422933979.52252197,378295151.63016278,338367756.37760544,302654522.69911039,270710664.31047446,242138340.1703707,216581699.61571625,193722450.46128464,173275894.86698088,154987383.60195073,138629144.54557315,123997445.92627291,4548784254.7832651,459473.15704881464]
[{"$f":"IF(ISBLANK(InfoPro!A20),\"\",InfoPro!A20)","v":"SC_1239_A1"},{"$f":"IF(ISBLANK(InfoPro!B20),\"\",InfoPro!B20)","v":"El Carmen"},{"$f":"IF(ISBLANK(InfoPro!E20),\"\",InfoPro!E20)","v":104.5},{"$f":"IF(ISBLANK(InfoPro!F20),\"\",InfoPro!F20)","v":"Eólico Onshore"},{"$f":"IF(ISBLANK(InfoPro!I20),\"\",YEAR(InfoPro!I20)-$G$4)","v":4},{"$f":"IF(B28=\"\",\"\",VLOOKUP(D28,Tablas!$B$2:$E$13,2,FALSE))","v":0.56999999999999995},{"$f":"IF(B28=\"\",\"\",VLOOKUP(D28,Tablas!$B$2:$F$13,5,FALSE))","v":0.06},31307.363999999994,4376802776.0854044,3914850425.8366771,3501655121.4997115,3132070770.5721927,2801494428.0609956,2505808969.6431088,2241331815.4231744,2004769065.6736801,1793174477.3467622,1603912770.4353869,1434626807.1872873,1283208235.4090226,1147771230.2406285,1026629007.3708663,918272815.17966557,33686378715.964561,322357.69106186181]
[{"$f":"IF(ISBLANK(InfoPro!A21),\"\",InfoPro!A21)","v":"SC_1239_A2"},{"$f":"IF(ISBLANK(InfoPro!B21),\"\",InfoPro!B21)","v":"El Carmen"},{"$f":"IF(ISBLANK(InfoPro!E21),\"\",InfoPro!E21)","v":104.5},{"$f":"IF(ISBLANK(InfoPro!F21),\"\",InfoPro!F21)","v":"Eólico Onshore"},{"$f":"IF(ISBLANK(InfoPro!I21),\"\",YEAR(InfoPro!I21)-$G$4)","v":4},{"$f":"IF(B29=\"\",\"\",VLOOKUP(D29,Tablas!$B$2:$E$13,2,FALSE))","v":0.56999999999999995},{"$f":"IF(B29=\"\",\"\",VLOOKUP(D29,Tablas!$B$2:$F$13,5,FALSE))","v":0.06},31307.363999999994,{"$f":"IF($H29=\"\",\"\",(1/(1+$C$4)^(I$7+$E29))*$H29*$I$5*$I$4)","v":4376802776.0854044},3914850425.8366771,3501655121.4997115,3132070770.5721927,2801494428.0609956,2505808969.6431088,2241331815.4231744,2004769065.6736801,1793174477.3467622,1603912770.4353869,1434626807.1872873,1283208235.4090226,1147771230.2406285,1026629007.3708663,918272815.17966557,33686378715.964561,322357.69106186181]
[{"$f":"IF(ISBLANK(InfoPro!A22),\"\",InfoPro!A22)","v":"SC_1244_A1"},{"$f":"IF(ISBLANK(InfoPro!B22),\"\",InfoPro!B22)","v":"Proyecto Maria"},{"$f":"IF(ISBLANK(InfoPro!E22),\"\",InfoPro!E22)","v":120},{"$f":"IF(ISBLANK(InfoPro!F22),\"\",InfoPro!F22)","v":"Eólico Onshore"},{"$f":"IF(ISBLANK(InfoPro!I22),\"\",YEAR(InfoPro!I22)-$G$4)","v":3},{"$f":"IF(B30=\"\",\"\",VLOOKUP(D30,Tablas!$B$2:$E$13,2,FALSE))","v":0.56999999999999995},{"$f":"IF(B30=\"\",\"\",VLOOKUP(D30,Tablas!$B$2:$F$13,5,FALSE))","v":0.06},35951.039999999994,5619060865.4508886,5025993618.4712782,4495522020.099534,4021039373.9709601,3596636291.5661545,3217027094.4241095,2877483984.2791677,2573778161.251492,2302127156.7544656,2059147725.1828852,1841813707.6769993,1647418343.1815741,1473540557.40749,1318014809.8456976,1178904123.2966883,43247507832.85939,360395.89860716159]
[{"$f":"IF(ISBLANK(InfoPro!A23),\"\",InfoPro!A23)","v":"SC_1252_A1"},{"$f":"IF(ISBLANK(InfoPro!B23),\"\",InfoPro!B23)","v":"Parque Eólico Neptuno"},{"$f":"IF(ISBLANK(InfoPro!E23),\"\",InfoPro!E23)","v":150},{"$f":"IF(ISBLANK(InfoPro!F23),\"\",InfoPro!F23)","v":"Eólico Onshore"},{"$f":"IF(ISBLANK(InfoPro!I23),\"\",YEAR(InfoPro!I23)-$G$4)","v":3},{"$f":"IF(B31=\"\",\"\",VLOOKUP(D31,Tablas!$B$2:$E$13,2,FALSE))","v":0.56999999999999995},{"$f":"IF(B31=\"\",\"\",VLOOKUP(D31,Tablas!$B$2:$F$13,5,FALSE))","v":0.06},44938.8,7023826081.813612,6282492023.0890989,5619402525.1244183,5026299217.4637022,4495795364.4576941,4021283868.0301375,3596854980.3489609,3217222701.5643654,2877658945.9430823,2573934656.4786072,2302267134.5962496,2059272928.9769681,1841925696.7593634,1647518512.3071225,1473630154.1208611,54059384791.074234,360395.89860716154]
[{"$f":"IF(ISBLANK(InfoPro!A24),\"\",InfoPro!A24)","v":"SC_1262_A1"},{"$f":"IF(ISBLANK(InfoPro!B24),\"\",InfoPro!B24)","v":"Parque Solar Australe de 251 MW (entrega 200 MW)"},{"$f":"IF(ISBLANK(InfoPro!E24),\"\",InfoPro!E24)","v":200},{"$f":"IF(ISBLANK(InfoPro!F24),\"\",InfoPro!F24)","v":"Solar FV"},{"$f":"IF(ISBLANK(InfoPro!I24),\"\",YEAR(InfoPro!I24)-$G$4)","v":3},{"$f":"IF(B32=\"\",\"\",VLOOKUP(D32,Tablas!$B$2:$E$13,2,FALSE))","v":0.26},{"$f":"IF(B32=\"\",\"\",VLOOKUP(D32,Tablas!$B$2:$F$13,5,FALSE))","v":0.15},68328,10679501644.862801,9552327052.6500912,8544120798.4347878,7642326295.5588427,6835712250.0526342,6114232781.80021,5468902309.3025141,4891683639.8054676,4375387871.0245695,3913584857.80373,3500523128.6258764,3131058254.5848632,2800588778.6984468,2504998907.6014724,2240607251.8796716,82195555822.685959,410977.77911342977]
[{"$f":"IF(ISBLANK(InfoPro!A25),\"\",InfoPro!A25)","v":"SC_1262_A2"},{"$f":"IF(ISBLANK(InfoPro!B25),\"\",InfoPro!B25)","v":"Parque Solar Australe de 251 MW (entrega 200 MW)"},{"$f":"IF(ISBLANK(InfoPro!E25),\"\",InfoPro!E25)","v":200},{"$f":"IF(ISBLANK(InfoPro!F25),\"\",InfoPro!F25)","v":"Solar FV"},{"$f":"IF(ISBLANK(InfoPro!I25),\"\",YEAR(InfoPro!I25)-$G$4)","v":3},{"$f":"IF(B33=\"\",\"\",VLOOKUP(D33,Tablas!$B$2:$E$13,2,FALSE))","v":0.26},{"$f":"IF(B33=\"\",\"\",VLOOKUP(D33,Tablas!$B$2:$F$13,5,FALSE))","v":0.15},68328,10679501644.862801,9552327052.6500912,8544120798.4347878,7642326295.5588427,6835712250.0526342,6114232781.80021,5468902309.3025141,4891683639.8054676,4375387871.0245695,3913584857.80373,3500523128.6258764,3131058254.5848632,2800588778.6984468,2504998907.6014724,2240607251.8796716,82195555822.685959,410977.77911342977]
[{"$f":"IF(ISBLANK(InfoPro!A26),\"\",InfoPro!A26)","v":"SC_1264_A1"},{"$f":"IF(ISBLANK(InfoPro!B26),\"\",InfoPro!B26)","v":"Parque Solar Galus de 133 MW (entrega 110 MW)"},{"$f":"IF(ISBLANK(InfoPro!E26),\"\",InfoPro!E26)","v":110},{"$f":"IF(ISBLANK(InfoPro!F26),\"\",InfoPro!F26)","v":"Solar FV"},{"$f":"IF(ISBLANK(InfoPro!I26),\"\",YEAR(InfoPro!I26)-$G$4)","v":4},{"$f":"IF(B34=\"\",\"\",VLOOKUP(D34,Tablas!$B$2:$E$13,2,FALSE))","v":0.26},{"$f":"IF(B34=\"\",\"\",VLOOKUP(D34,Tablas!$B$2:$F$13,5,FALSE))","v":0.15},37580.400000000001,5253779878.95755,4699266439.1391325,4203279462.5573645,3759641737.5289488,3362828029.9901147,3007896270.1163826,2690426001.8930073,2406463329.0635138,2152471671.7920513,1925287720.7442319,1722082040.0216749,1540323828.2841458,1377749399.18081,1232333988.5338194,1102266537.1501069,40436096334.952866,367600.87577229878]
[{"$f":"IF(ISBLANK(InfoPro!A27),\"\",InfoPro!A27)","v":"SC_1264_A2"},{"$f":"IF(ISBLANK(InfoPro!B27),\"\",InfoPro!B27)","v":"Parque Solar Galus de 133 MW (entrega 110 MW)"},{"$f":"IF(ISBLANK(InfoPro!E27),\"\",InfoPro!E27)","v":110},{"$f":"IF(ISBLANK(InfoPro!F27),\"\",InfoPro!F27)","v":"Solar FV"},{"$f":"IF(ISBLANK(InfoPro!I27),\"\",YEAR(InfoPro!I27)-$G$4)","v":4},{"$f":"IF(B35=\"\",\"\",VLOOKUP(D35,Tablas!$B$2:$E$13,2,FALSE))","v":0.26},{"$f":"IF(B35=\"\",\"\",VLOOKUP(D35,Tablas!$B$2:$F$13,5,FALSE))","v":0.15},37580.400000000001,5253779878.95755,4699266439.1391325,4203279462.5573645,3759641737.5289488,3362828029.9901147,3007896270.1163826,2690426001.8930073,2406463329.0635138,2152471671.7920513,1925287720.7442319,1722082040.0216749,1540323828.2841458,1377749399.18081,1232333988.5338194,1102266537.1501069,40436096334.952866,367600.87577229878]
[{"$f":"IF(ISBLANK(InfoPro!A28),\"\",InfoPro!A28)","v":"SC_1266_A1"},{"$f":"IF(ISBLANK(InfoPro!B28),\"\",InfoPro!B28)","v":"Parque Solar Fornax DE 127 MW (Entrega 105 MW)"},{"$f":"IF(ISBLANK(InfoPro!E28),\"\",InfoPro!E28)","v":105},{"$f":"IF(ISBLANK(InfoPro!F28),\"\",InfoPro!F28)","v":"Solar FV"},{"$f":"IF(ISBLANK(InfoPro!I28),\"\",YEAR(InfoPro!I28)-$G$4)","v":4},{"$f":"IF(B36=\"\",\"\",VLOOKUP(D36,Tablas!$B$2:$E$13,2,FALSE))","v":0.26},{"$f":"IF(B36=\"\",\"\",VLOOKUP(D36,Tablas!$B$2:$F$13,5,FALSE))","v":0.15},35872.199999999997,5014971702.6412973,4485663419.1782618,4012221305.1683927,3588748931.2776322,3209972210.4451098,2871173712.3838191,2568133910.8978705,2297078632.287899,2054632050.3469579,1837774642.5285847,1643805583.657053,1470309108.8166845,1315124426.4907727,1176318807.2368274,1052163512.7341925,38598091956.091347,367600.87577229855]
[{"$f":"IF(ISBLANK(InfoPro!A29),\"\",InfoPro!A29)","v":"SC_1266_A2"},{"$f":"IF(ISBLANK(InfoPro!B29),\"\",InfoPro!B29)","v":"Parque Solar Fornax DE 127 MW (Entrega 105 MW)"},{"$f":"IF(ISBLANK(InfoPro!E29),\"\",InfoPro!E29)","v":105},{"$f":"IF(ISBLANK(InfoPro!F29),\"\",InfoPro!F29)","v":"Solar FV"},{"$f":"IF(ISBLANK(InfoPro!I29),\"\",YEAR(InfoPro!I29)-$G$4)","v":4},{"$f":"IF(B37=\"\",\"\",VLOOKUP(D37,Tablas!$B$2:$E$13,2,FALSE))","v":0.26},{"$f":"IF(B37=\"\",\"\",VLOOKUP(D37,Tablas!$B$2:$F$13,5,FALSE))","v":0.15},35872.199999999997,5014971702.6412973,4485663419.1782618,4012221305.1683927,3588748931.2776322,3209972210.4451098,2871173712.3838191,2568133910.8978705,2297078632.287899,2054632050.3469579,1837774642.5285847,1643805583.657053,1470309108.8166845,1315124426.4907727,1176318807.2368274,1052163512.7341925,38598091956.091347,367600.87577229855]
[{"$f":"IF(ISBLANK(InfoPro!A30),\"\",InfoPro!A30)","v":"SC_1272_A1"},{"$f":"IF(ISBLANK(InfoPro!B30),\"\",InfoPro!B30)","v":"Guacamayal Solar de 9,9 MW"},{"$f":"IF(ISBLANK(InfoPro!E30),\"\",InfoPro!E30)","v":9.9},{"$f":"IF(ISBLANK(InfoPro!F30),\"\",InfoPro!F30)","v":"Solar FV"},{"$f":"IF(ISBLANK(InfoPro!I30),\"\",YEAR(InfoPro!I30)-$G$4)","v":1},{"$f":"IF(B38=\"\",\"\",VLOOKUP(D38,Tablas!$B$2:$E$13,2,FALSE))","v":0.26},{"$f":"IF(B38=\"\",\"\",VLOOKUP(D38,Tablas!$B$2:$F$13,5,FALSE))","v":0.15},3382.2360000000003,660753987.99069786,591014300.52835214,528635331.42070878,472840189.10617959,422933979.52252197,378295151.63016278,338367756.37760544,302654522.69911039,270710664.31047446,242138340.1703707,216581699.61571625,193722450.46128464,173275894.86698088,154987383.60195073,138629144.54557315,5085540796.8476896,513690.98958057474]
[{"$f":"IF(ISBLANK(InfoPro!A31),\"\",InfoPro!A31)","v":"SC_1272_A2"},{"$f":"IF(ISBLANK(InfoPro!B31),\"\",InfoPro!B31)","v":"Guacamayal Solar de 9,9 MW"},{"$f":"IF(ISBLANK(InfoPro!E31),\"\",InfoPro!E31)","v":9.9},{"$f":"IF(ISBLANK(InfoPro!F31),\"\",InfoPro!F31)","v":"Solar FV"},{"$f":"IF(ISBLANK(InfoPro!I31),\"\",YEAR(InfoPro!I31)-$G$4)","v":1},{"$f":"IF(B39=\"\",\"\",VLOOKUP(D39,Tablas!$B$2:$E$13,2,FALSE))","v":0.26},{"$f":"IF(B39=\"\",\"\",VLOOKUP(D39,Tablas!$B$2:$F$13,5,FALSE))","v":0.15},3382.2360000000003,{"$f":"IF($H39=\"\",\"\",(1/(1+$C$4)^(I$7+$E39))*$H39*$I$5*$I$4)","v":660753987.99069786},591014300.52835214,528635331.42070878,472840189.10617959,422933979.52252197,378295151.63016278,338367756.37760544,302654522.69911039,270710664.31047446,242138340.1703707,216581699.61571625,193722450.46128464,173275894.86698088,154987383.60195073,138629144.54557315,5085540796.8476896,513690.98958057474]
[{"$f":"IF(ISBLANK(InfoPro!A32),\"\",InfoPro!A32)","v":"SC_1293_A1"},{"$f":"IF(ISBLANK(InfoPro!B32),\"\",InfoPro!B32)","v":"Leo Solar II"},{"$f":"IF(ISBLANK(InfoPro!E32),\"\",InfoPro!E32)","v":80},{"$f":"IF(ISBLANK(InfoPro!F32),\"\",InfoPro!F32)","v":"Solar FV"},{"$f":"IF(ISBLANK(InfoPro!I32),\"\",YEAR(InfoPro!I32)-$G$4)","v":2},{"$f":"IF(B40=\"\",\"\",VLOOKUP(D40,Tablas!$B$2:$E$13,2,FALSE))","v":0.26},{"$f":"IF(B40=\"\",\"\",VLOOKUP(D40,Tablas!$B$2:$F$13,5,FALSE))","v":0.15},27331.199999999997,4775873135.5826435,4271800657.9451203,3820930821.0600362,3417648319.3739152,3056930518.2235374,2734284900.0210533,2445693112.7200837,2187560923.721005,1956673455.9221869,1750155148.4098279,1565433943.1214917,1400209251.4503505,1252423301.833945,1120235511.4793785,1001999563.0405889,36757852563.905159,459473.15704881446]
[{"$f":"IF(ISBLANK(InfoPro!A33),\"\",InfoPro!A33)","v":"SC_1293_A2"},{"$f":"IF(ISBLANK(InfoPro!B33),\"\",InfoPro!B33)","v":"Leo Solar II"},{"$f":"IF(ISBLANK(InfoPro!E33),\"\",InfoPro!E33)","v":80},{"$f":"IF(ISBLANK(InfoPro!F33),\"\",InfoPro!F33)","v":"Solar FV"},{"$f":"IF(ISBLANK(InfoPro!I33),\"\",YEAR(InfoPro!I33)-$G$4)","v":2},{"$f":"IF(B41=\"\",\"\",VLOOKUP(D41,Tablas!$B$2:$E$13,2,FALSE))","v":0.26},{"$f":"IF(B41=\"\",\"\",VLOOKUP(D41,Tablas!$B$2:$F$13,5,FALSE))","v":0.15},{"$f":"IF(C41=\"\",\"\",+C41*G41*F41*24*365)","v":27331.199999999997},4775873135.5826435,4271800657.9451203,3820930821.0600362,3417648319.3739152,3056930518.2235374,2734284900.0210533,2445693112.7200837,2187560923.721005,1956673455.9221869,1750155148.4098279,1565433943.1214917,1400209251.4503505,1252423301.833945,1120235511.4793785,1001999563.0405889,36757852563.905159,459473.15704881446]
[{"$f":"IF(ISBLANK(InfoPro!A34),\"\",InfoPro!A34)","v":"SC_1306_A1"},{"$f":"IF(ISBLANK(InfoPro!B34),\"\",InfoPro!B34)","v":"Leo Solar I"},{"$f":"IF(ISBLANK(InfoPro!E34),\"\",InfoPro!E34)","v":19.899999999999999},{"$f":"IF(ISBLANK(InfoPro!F34),\"\",InfoPro!F34)","v":"Solar FV"},{"$f":"IF(ISBLANK(InfoPro!I34),\"\",YEAR(InfoPro!I34)-$G$4)","v":2},{"$f":"IF(B42=\"\",\"\",VLOOKUP(D42,Tablas!$B$2:$E$13,2,FALSE))","v":0.26},{"$f":"IF(B42=\"\",\"\",VLOOKUP(D42,Tablas!$B$2:$F$13,5,FALSE))","v":0.15},6798.6360000000004,1187998442.4761827,1062610413.6638488,950456541.73868418,850140019.44426143,760411466.40810502,680153368.8802371,608366161.78912091,544155779.77560008,486722522.16064405,435351093.16694474,389401693.35147113,348302051.29827476,311540296.33119392,278658583.48049545,249247391.30634654,9143515825.27141,459473.15704881458]
[{"$f":"IF(ISBLANK(InfoPro!A35),\"\",InfoPro!A35)","v":"SC_1306_A2"},{"$f":"IF(ISBLANK(InfoPro!B35),\"\",InfoPro!B35)","v":"Leo Solar I"},{"$f":"IF(ISBLANK(InfoPro!E35),\"\",InfoPro!E35)","v":19.899999999999999},{"$f":"IF(ISBLANK(InfoPro!F35),\"\",InfoPro!F35)","v":"Solar FV"},{"$f":"IF(ISBLANK(InfoPro!I35),\"\",YEAR(InfoPro!I35)-$G$4)","v":2},{"$f":"IF(B43=\"\",\"\",VLOOKUP(D43,Tablas!$B$2:$E$13,2,FALSE))","v":0.26},{"$f":"IF(B43=\"\",\"\",VLOOKUP(D43,Tablas!$B$2:$F$13,5,FALSE))","v":0.15},6798.6360000000004,1187998442.4761827,1062610413.6638488,950456541.73868418,850140019.44426143,760411466.40810502,680153368.8802371,608366161.78912091,544155779.77560008,486722522.16064405,435351093.16694474,389401693.35147113,348302051.29827476,311540296.33119392,278658583.48049545,249247391.30634654,9143515825.27141,459473.15704881458]
[{"$f":"IF(ISBLANK(InfoPro!A36),\"\",InfoPro!A36)","v":"SC_1311_A1"},{"$f":"IF(ISBLANK(InfoPro!B36),\"\",InfoPro!B36)","v":"Elipse de 200 MW"},{"$f":"IF(ISBLANK(InfoPro!E36),\"\",InfoPro!E36)","v":200},{"$f":"IF(ISBLANK(InfoPro!F36),\"\",InfoPro!F36)","v":"Eólico Onshore"},{"$f":"IF(ISBLANK(InfoPro!I36),\"\",YEAR(InfoPro!I36)-$G$4)","v":2},{"$f":"IF(B44=\"\",\"\",VLOOKUP(D44,Tablas!$B$2:$E$13,2,FALSE))","v":0.56999999999999995},{"$f":"IF(B44=\"\",\"\",VLOOKUP(D44,Tablas!$B$2:$F$13,5,FALSE))","v":0.06},59918.400000000001,10470183412.623489,9365101442.4181499,8376656030.7854652,7492536700.1658907,6701732289.951601,5994393819.2769251,5361711824.0401831,4795806640.4652805,4289630268.7524872,3836878594.5907769,3431912875.3048091,3069689512.7949996,2745697238.6359568,2455900929.0124836,2196691349.7428298,80584522928.56131,402922.61464280653]
[{"$f":"IF(ISBLANK(InfoPro!A37),\"\",InfoPro!A37)","v":"SC_1312_A1"},{"$f":"IF(ISBLANK(InfoPro!B37),\"\",InfoPro!B37)","v":"Omega de 300 MW"},{"$f":"IF(ISBLANK(InfoPro!E37),\"\",InfoPro!E37)","v":300},{"$f":"IF(ISBLANK(InfoPro!F37),\"\",InfoPro!F37)","v":"Eólico Onshore"},{"$f":"IF(ISBLANK(InfoPro!I37),\"\",YEAR(InfoPro!I37)-$G$4)","v":5},{"$f":"IF(B45=\"\",\"\",VLOOKUP(D45,Tablas!$B$2:$E$13,2,FALSE))","v":0.56999999999999995},{"$f":"IF(B45=\"\",\"\",VLOOKUP(D45,Tablas!$B$2:$F$13,5,FALSE))","v":0.06},89877.6,11238805050.248837,10052598434.927404,8991590728.9153881,8042567736.0602751,7193709960.6979218,6434445403.1287308,5755317891.8861647,5147869312.9572144,4604534269.1924992,4118545857.9539361,3683851393.5187268,3295037024.6142449,2947260308.2417221,2636189900.0373182,2357951610.0512695,86500274882.431641,288334.24960810546]
[{"$f":"IF(ISBLANK(InfoPro!A38),\"\",InfoPro!A38)","v":"SC_1313_A1"},{"$f":"IF(ISBLANK(InfoPro!B38),\"\",InfoPro!B38)","v":"Kappa de 500 MW"},{"$f":"IF(ISBLANK(InfoPro!E38),\"\",InfoPro!E38)","v":500},{"$f":"IF(ISBLANK(InfoPro!F38),\"\",InfoPro!F38)","v":"Eólico Onshore"},{"$f":"IF(ISBLANK(InfoPro!I38),\"\",YEAR(InfoPro!I38)-$G$4)","v":4},{"$f":"IF(B46=\"\",\"\",VLOOKUP(D46,Tablas!$B$2:$E$13,2,FALSE))","v":0.56999999999999995},{"$f":"IF(B46=\"\",\"\",VLOOKUP(D46,Tablas!$B$2:$F$13,5,FALSE))","v":0.06},149796,20941640076.963661,18731341750.414726,16754330724.879002,14985984548.19231,13404279560.100458,11989516601.1632,10724075671.881218,9592196486.4769421,8579782188.262023,7674223781.9874983,6864243096.5898924,6139752322.5312099,5491728374.3570738,4912100513.7362032,4393649833.3955297,161178845530.931,322357.69106186199]
[{"$f":"IF(ISBLANK(InfoPro!A39),\"\",InfoPro!A39)","v":"SC_1315_A1"},{"$f":"IF(ISBLANK(InfoPro!B39),\"\",InfoPro!B39)","v":"Parque Eólico Cordobita - 50MW"},{"$f":"IF(ISBLANK(InfoPro!E39),\"\",InfoPro!E39)","v":50},{"$f":"IF(ISBLANK(InfoPro!F39),\"\",InfoPro!F39)","v":"Eólico Onshore"},{"$f":"IF(ISBLANK(InfoPro!I39),\"\",YEAR(InfoPro!I39)-$G$4)","v":4},{"$f":"IF(B47=\"\",\"\",VLOOKUP(D47,Tablas!$B$2:$E$13,2,FALSE))","v":0.56999999999999995},{"$f":"IF(B47=\"\",\"\",VLOOKUP(D47,Tablas!$B$2:$F$13,5,FALSE))","v":0.06},14979.6,2094164007.6963663,1873134175.0414727,1675433072.4879003,1498598454.8192313,1340427956.0100458,1198951660.1163201,1072407567.1881218,959219648.64769423,857978218.82620227,767422378.1987499,686424309.65898919,613975232.2531209,549172837.43570745,491210051.37362027,439364983.339553,16117884553.093094,322357.69106186187]
[{"$f":"IF(ISBLANK(InfoPro!A40),\"\",InfoPro!A40)","v":"SC_1315_A2"},{"$f":"IF(ISBLANK(InfoPro!B40),\"\",InfoPro!B40)","v":"Parque Eólico Cordobita - 50MW"},{"$f":"IF(ISBLANK(InfoPro!E40),\"\",InfoPro!E40)","v":50},{"$f":"IF(ISBLANK(InfoPro!F40),\"\",InfoPro!F40)","v":"Eólico Onshore"},{"$f":"IF(ISBLANK(InfoPro!I40),\"\",YEAR(InfoPro!I40)-$G$4)","v":4},{"$f":"IF(B48=\"\",\"\",VLOOKUP(D48,Tablas!$B$2:$E$13,2,FALSE))","v":0.56999999999999995},{"$f":"IF(B48=\"\",\"\",VLOOKUP(D48,Tablas!$B$2:$F$13,5,FALSE))","v":0.06},14979.6,2094164007.6963663,1873134175.0414727,1675433072.4879003,1498598454.8192313,1340427956.0100458,1198951660.1163201,1072407567.1881218,959219648.64769423,857978218.82620227,767422378.1987499,686424309.65898919,613975232.2531209,549172837.43570745,491210051.37362027,439364983.339553,16117884553.093094,322357.69106186187]
[{"$f":"IF(ISBLANK(InfoPro!A41),\"\",InfoPro!A41)","v":"SC_1317_A1"},{"$f":"IF(ISBLANK(InfoPro!B41),\"\",InfoPro!B41)","v":"EÓLICA BONDA - 70MW"},{"$f":"IF(ISBLANK(InfoPro!E41),\"\",InfoPro!E41)","v":70},{"$f":"IF(ISBLANK(InfoPro!F41),\"\",InfoPro!F41)","v":"Eólico Onshore"},{"$f":"IF(ISBLANK(InfoPro!I41),\"\",YEAR(InfoPro!I41)-$G$4)","v":4},{"$f":"IF(B49=\"\",\"\",VLOOKUP(D49,Tablas!$B$2:$E$13,2,FALSE))","v":0.56999999999999995},{"$f":"IF(B49=\"\",\"\",VLOOKUP(D49,Tablas!$B$2:$F$13,5,FALSE))","v":0.06},20971.439999999995,{"$f":"IF($H49=\"\",\"\",(1/(1+$C$4)^(I$7+$E49))*$H49*$I$5*$I$4)","v":2931829610.7749119},2622387845.0580611,2345606301.4830599,2098037836.7469232,1876599138.4140639,1678532324.1628478,1501370594.06337,1342907508.1067715,1201169506.356683,1074391329.4782495,960994033.5225848,859565325.15436912,768841972.40999019,687694071.92306817,615110976.67537403,22565038374.330322,322357.69106186175]
[{"$f":"IF(ISBLANK(InfoPro!A42),\"\",InfoPro!A42)","v":"SC_1321_A1"},{"$f":"IF(ISBLANK(InfoPro!B42),\"\",InfoPro!B42)","v":"OWF ASTROLABIO - 600 MW"},{"$f":"IF(ISBLANK(InfoPro!E42),\"\",InfoPro!E42)","v":600},{"$f":"IF(ISBLANK(InfoPro!F42),\"\",InfoPro!F42)","v":"Eólico Offshore"},{"$f":"IF(ISBLANK(InfoPro!I42),\"\",YEAR(InfoPro!I42)-$G$4)","v":11},{"$f":"IF(B50=\"\",\"\",VLOOKUP(D50,Tablas!$B$2:$E$13,2,FALSE))","v":0.56999999999999995},{"$f":"IF(B50=\"\",\"\",VLOOKUP(D50,Tablas!$B$2:$F$13,5,FALSE))","v":0.06},179755.2,11510635783.772329,10295738625.914429,9209068538.3849983,8237091715.9078722,7367702787.0374537,6590074049.2284899,5894520616.4834442,5272379800.0746365,4715903220.1025391,4218160304.2062054,3772951971.561902,3374733427.1573367,3018545104.7918935,2699950898.7405133,2414982914.7947345,88592439758.158783,147654.06626359798]
[{"$f":"IF(ISBLANK(InfoPro!A43),\"\",InfoPro!A43)","v":"SC_1321_A2"},{"$f":"IF(ISBLANK(InfoPro!B43),\"\",InfoPro!B43)","v":"OWF ASTROLABIO - 600 MW"},{"$f":"IF(ISBLANK(InfoPro!E43),\"\",InfoPro!E43)","v":825},{"$f":"IF(ISBLANK(InfoPro!F43),\"\",InfoPro!F43)","v":"Eólico Offshore"},{"$f":"IF(ISBLANK(InfoPro!I43),\"\",YEAR(InfoPro!I43)-$G$4)","v":11},{"$f":"IF(B51=\"\",\"\",VLOOKUP(D51,Tablas!$B$2:$E$13,2,FALSE))","v":0.56999999999999995},{"$f":"IF(B51=\"\",\"\",VLOOKUP(D51,Tablas!$B$2:$F$13,5,FALSE))","v":0.06},247163.39999999994,15827124202.686947,14156640610.632334,12662469240.279369,11326001109.373318,10130591332.176495,9061351817.6891708,8104965847.6647329,7249522225.102622,6484366927.6409893,5799970418.2835312,5187808960.8976145,4640258462.3413372,4150499519.0888519,3712432485.7682047,3320601507.8427582,121814604667.46828,147654.06626359792]
[{"$f":"IF(ISBLANK(InfoPro!A44),\"\",InfoPro!A44)","v":"SC_1336_A1"},{"$f":"IF(ISBLANK(InfoPro!B44),\"\",InfoPro!B44)","v":"AES Solar 4"},{"$f":"IF(ISBLANK(InfoPro!E44),\"\",InfoPro!E44)","v":300},{"$f":"IF(ISBLANK(InfoPro!F44),\"\",InfoPro!F44)","v":"Solar FV"},{"$f":"IF(ISBLANK(InfoPro!I44),\"\",YEAR(InfoPro!I44)-$G$4)","v":3},{"$f":"IF(B52=\"\",\"\",VLOOKUP(D52,Tablas!$B$2:$E$13,2,FALSE))","v":0.26},{"$f":"IF(B52=\"\",\"\",VLOOKUP(D52,Tablas!$B$2:$F$13,5,FALSE))","v":0.15},102492,16019252467.294201,14328490578.975136,12816181197.65218,11463489443.338264,10253568375.078951,9171349172.7003136,8203353463.9537687,7337525459.7082024,6563081806.5368547,5870377286.705595,5250784692.9388151,4696587381.8772945,4200883168.0476699,3757498361.4022083,3360910877.8195071,123293333734.02895,410977.77911342983]
[{"$f":"IF(ISBLANK(InfoPro!A45),\"\",InfoPro!A45)","v":"SC_1336_A2"},{"$f":"IF(ISBLANK(InfoPro!B45),\"\",InfoPro!B45)","v":"AES Solar 4"},{"$f":"IF(ISBLANK(InfoPro!E45),\"\",InfoPro!E45)","v":300},{"$f":"IF(ISBLANK(InfoPro!F45),\"\",InfoPro!F45)","v":"Solar FV"},{"$f":"IF(ISBLANK(InfoPro!I45),\"\",YEAR(InfoPro!I45)-$G$4)","v":3},{"$f":"IF(B53=\"\",\"\",VLOOKUP(D53,Tablas!$B$2:$E$13,2,FALSE))","v":0.26},{"$f":"IF(B53=\"\",\"\",VLOOKUP(D53,Tablas!$B$2:$F$13,5,FALSE))","v":0.15},102492,16019252467.294201,14328490578.975136,12816181197.65218,11463489443.338264,10253568375.078951,9171349172.7003136,8203353463.9537687,7337525459.7082024,6563081806.5368547,5870377286.705595,5250784692.9388151,4696587381.8772945,4200883168.0476699,3757498361.4022083,3360910877.8195071,123293333734.02895,410977.77911342983]
[{"$f":"IF(ISBLANK(InfoPro!A46),\"\",InfoPro!A46)","v":"SC_1345_A1"},{"$f":"IF(ISBLANK(InfoPro!B46),\"\",InfoPro!B46)","v":"Parque Eólico Jouttalein_150MW"},{"$f":"IF(ISBLANK(InfoPro!E46),\"\",InfoPro!E46)","v":150},{"$f":"IF(ISBLANK(InfoPro!F46),\"\",InfoPro!F46)","v":"Eólico Onshore"},{"$f":"IF(ISBLANK(InfoPro!I46),\"\",YEAR(InfoPro!I46)-$G$4)","v":2},{"$f":"IF(B54=\"\",\"\",VLOOKUP(D54,Tablas!$B$2:$E$13,2,FALSE))","v":0.56999999999999995},{"$f":"IF(B54=\"\",\"\",VLOOKUP(D54,Tablas!$B$2:$F$13,5,FALSE))","v":0.06},44938.8,7852637559.4676161,7023826081.813612,6282492023.0890989,5619402525.1244183,5026299217.4637022,4495795364.4576941,4021283868.0301375,3596854980.3489609,3217222701.5643654,2877658945.9430823,2573934656.4786072,2302267134.5962496,2059272928.9769681,1841925696.7593634,1647518512.3071225,60438392196.420998,402922.61464280664]
[{"$f":"IF(ISBLANK(InfoPro!A47),\"\",InfoPro!A47)","v":"SC_1345_A2"},{"$f":"IF(ISBLANK(InfoPro!B47),\"\",InfoPro!B47)","v":"Parque Eólico Jouttalein_150MW"},{"$f":"IF(ISBLANK(InfoPro!E47),\"\",InfoPro!E47)","v":150},{"$f":"IF(ISBLANK(InfoPro!F47),\"\",InfoPro!F47)","v":"Eólico Onshore"},{"$f":"IF(ISBLANK(InfoPro!I47),\"\",YEAR(InfoPro!I47)-$G$4)","v":2},{"$f":"IF(B55=\"\",\"\",VLOOKUP(D55,Tablas!$B$2:$E$13,2,FALSE))","v":0.56999999999999995},{"$f":"IF(B55=\"\",\"\",VLOOKUP(D55,Tablas!$B$2:$F$13,5,FALSE))","v":0.06},44938.8,7852637559.4676161,7023826081.813612,6282492023.0890989,5619402525.1244183,5026299217.4637022,4495795364.4576941,4021283868.0301375,3596854980.3489609,3217222701.5643654,2877658945.9430823,2573934656.4786072,2302267134.5962496,2059272928.9769681,1841925696.7593634,1647518512.3071225,60438392196.420998,402922.61464280664]
[{"$f":"IF(ISBLANK(InfoPro!A48),\"\",InfoPro!A48)","v":"SC_1347_A1"},{"$f":"IF(ISBLANK(InfoPro!B48),\"\",InfoPro!B48)","v":"AES Solar 5_100MW"},{"$f":"IF(ISBLANK(InfoPro!E48),\"\",InfoPro!E48)","v":100},{"$f":"IF(ISBLANK(InfoPro!F48),\"\",InfoPro!F48)","v":"Solar FV"},{"$f":"IF(ISBLANK(InfoPro!I48),\"\",YEAR(InfoPro!I48)-$G$4)","v":3},{"$f":"IF(B56=\"\",\"\",VLOOKUP(D56,Tablas!$B$2:$E$13,2,FALSE))","v":0.26},{"$f":"IF(B56=\"\",\"\",VLOOKUP(D56,Tablas!$B$2:$F$13,5,FALSE))","v":0.15},34164,5339750822.4314003,4776163526.3250456,4272060399.2173939,3821163147.7794213,3417856125.0263171,3057116390.900105,2734451154.651257,2445841819.9027338,2187693935.5122848,1956792428.901865,1750261564.3129382,1565529127.2924316,1400294389.3492234,1252499453.8007362,1120303625.9398358,41097777911.342979,410977.77911342977]
[{"$f":"IF(ISBLANK(InfoPro!A49),\"\",InfoPro!A49)","v":"SC_1347_A2"},{"$f":"IF(ISBLANK(InfoPro!B49),\"\",InfoPro!B49)","v":"AES Solar 5_100MW"},{"$f":"IF(ISBLANK(InfoPro!E49),\"\",InfoPro!E49)","v":100},{"$f":"IF(ISBLANK(InfoPro!F49),\"\",InfoPro!F49)","v":"Solar FV"},{"$f":"IF(ISBLANK(InfoPro!I49),\"\",YEAR(InfoPro!I49)-$G$4)","v":3},{"$f":"IF(B57=\"\",\"\",VLOOKUP(D57,Tablas!$B$2:$E$13,2,FALSE))","v":0.26},{"$f":"IF(B57=\"\",\"\",VLOOKUP(D57,Tablas!$B$2:$F$13,5,FALSE))","v":0.15},34164,5339750822.4314003,4776163526.3250456,4272060399.2173939,3821163147.7794213,3417856125.0263171,3057116390.900105,2734451154.651257,2445841819.9027338,2187693935.5122848,1956792428.901865,1750261564.3129382,1565529127.2924316,1400294389.3492234,1252499453.8007362,1120303625.9398358,41097777911.342979,410977.77911342977]
[{"$f":"IF(ISBLANK(InfoPro!A50),\"\",InfoPro!A50)","v":"SC_1355_A1"},{"$f":"IF(ISBLANK(InfoPro!B50),\"\",InfoPro!B50)","v":"Barlovento 1"},{"$f":"IF(ISBLANK(InfoPro!E50),\"\",InfoPro!E50)","v":500},{"$f":"IF(ISBLANK(InfoPro!F50),\"\",InfoPro!F50)","v":"Eólico Offshore"},{"$f":"IF(ISBLANK(InfoPro!I50),\"\",YEAR(InfoPro!I50)-$G$4)","v":11},{"$f":"IF(B58=\"\",\"\",VLOOKUP(D58,Tablas!$B$2:$E$13,2,FALSE))","v":0.56999999999999995},{"$f":"IF(B58=\"\",\"\",VLOOKUP(D58,Tablas!$B$2:$F$13,5,FALSE))","v":0.06},149796,9592196486.4769421,8579782188.262023,7674223781.9874983,6864243096.5898924,6139752322.5312099,5491728374.3570738,4912100513.7362032,4393649833.3955297,3929919350.0854492,3515133586.8385053,3144126642.9682522,2812277855.964447,2515454253.9932442,2249959082.283761,2012485762.3289452,73827033131.798996,147654.06626359798]
[{"$f":"IF(ISBLANK(InfoPro!A51),\"\",InfoPro!A51)","v":"SC_1356_A1"},{"$f":"IF(ISBLANK(InfoPro!B51),\"\",InfoPro!B51)","v":"Sol de Zawady 9,9 MW"},{"$f":"IF(ISBLANK(InfoPro!E51),\"\",InfoPro!E51)","v":9.9},{"$f":"IF(ISBLANK(InfoPro!F51),\"\",InfoPro!F51)","v":"Solar FV"},{"$f":"IF(ISBLANK(InfoPro!I51),\"\",YEAR(InfoPro!I51)-$G$4)","v":1},{"$f":"IF(B59=\"\",\"\",VLOOKUP(D59,Tablas!$B$2:$E$13,2,FALSE))","v":0.26},{"$f":"IF(B59=\"\",\"\",VLOOKUP(D59,Tablas!$B$2:$F$13,5,FALSE))","v":0.15},3382.2360000000003,{"$f":"IF($H59=\"\",\"\",(1/(1+$C$4)^(I$7+$E59))*$H59*$I$5*$I$4)","v":660753987.99069786},591014300.52835214,528635331.42070878,472840189.10617959,422933979.52252197,378295151.63016278,338367756.37760544,302654522.69911039,270710664.31047446,242138340.1703707,216581699.61571625,193722450.46128464,173275894.86698088,154987383.60195073,138629144.54557315,5085540796.8476896,513690.98958057474]
[{"$f":"IF(ISBLANK(InfoPro!A52),\"\",InfoPro!A52)","v":"SC_1356_A2"},{"$f":"IF(ISBLANK(InfoPro!B52),\"\",InfoPro!B52)","v":"Sol de Zawady 9,9 MW"},{"$f":"IF(ISBLANK(InfoPro!E52),\"\",InfoPro!E52)","v":9.9},{"$f":"IF(ISBLANK(InfoPro!F52),\"\",InfoPro!F52)","v":"Solar FV"},{"$f":"IF(ISBLANK(InfoPro!I52),\"\",YEAR(InfoPro!I52)-$G$4)","v":1},{"$f":"IF(B60=\"\",\"\",VLOOKUP(D60,Tablas!$B$2:$E$13,2,FALSE))","v":0.26},{"$f":"IF(B60=\"\",\"\",VLOOKUP(D60,Tablas!$B$2:$F$13,5,FALSE))","v":0.15},3382.2360000000003,660753987.99069786,591014300.52835214,528635331.42070878,472840189.10617959,422933979.52252197,378295151.63016278,338367756.37760544,302654522.69911039,270710664.31047446,242138340.1703707,216581699.61571625,193722450.46128464,173275894.86698088,154987383.60195073,138629144.54557315,5085540796.8476896,513690.98958057474]
[{"$f":"IF(ISBLANK(InfoPro!A53),\"\",InfoPro!A53)","v":"SC_1366_A1"},{"$f":"IF(ISBLANK(InfoPro!B53),\"\",InfoPro!B53)","v":"PARQUE SOLAR TÁNGARA 100 MW"},{"$f":"IF(ISBLANK(InfoPro!E53),\"\",InfoPro!E53)","v":100},{"$f":"IF(ISBLANK(InfoPro!F53),\"\",InfoPro!F53)","v":"Solar FV"},{"$f":"IF(ISBLANK(InfoPro!I53),\"\",YEAR(InfoPro!I53)-$G$4)","v":3},{"$f":"IF(B61=\"\",\"\",VLOOKUP(D61,Tablas!$B$2:$E$13,2,FALSE))","v":0.26},{"$f":"IF(B61=\"\",\"\",VLOOKUP(D61,Tablas!$B$2:$F$13,5,FALSE))","v":0.15},34164,5339750822.4314003,4776163526.3250456,4272060399.2173939,3821163147.7794213,3417856125.0263171,3057116390.900105,2734451154.651257,2445841819.9027338,2187693935.5122848,1956792428.901865,1750261564.3129382,1565529127.2924316,1400294389.3492234,1252499453.8007362,1120303625.9398358,41097777911.342979,410977.77911342977]
[{"$f":"IF(ISBLANK(InfoPro!A54),\"\",InfoPro!A54)","v":"SC_1376_A1"},{"$f":"IF(ISBLANK(InfoPro!B54),\"\",InfoPro!B54)","v":"Expansión La Loma I - 100 MW"},{"$f":"IF(ISBLANK(InfoPro!E54),\"\",InfoPro!E54)","v":100},{"$f":"IF(ISBLANK(InfoPro!F54),\"\",InfoPro!F54)","v":"Solar FV"},{"$f":"IF(ISBLANK(InfoPro!I54),\"\",YEAR(InfoPro!I54)-$G$4)","v":4},{"$f":"IF(B62=\"\",\"\",VLOOKUP(D62,Tablas!$B$2:$E$13,2,FALSE))","v":0.26},{"$f":"IF(B62=\"\",\"\",VLOOKUP(D62,Tablas!$B$2:$F$13,5,FALSE))","v":0.15},34164,4776163526.3250456,4272060399.2173939,3821163147.7794213,3417856125.0263171,3057116390.900105,2734451154.651257,2445841819.9027338,2187693935.5122848,1956792428.901865,1750261564.3129382,1565529127.2924316,1400294389.3492234,1252499453.8007362,1120303625.9398358,1002060488.3182788,36760087577.229866,367600.87577229866]
[{"$f":"IF(ISBLANK(InfoPro!A55),\"\",InfoPro!A55)","v":"SC_1376_A2"},{"$f":"IF(ISBLANK(InfoPro!B55),\"\",InfoPro!B55)","v":"Expansión La Loma I - 100 MW"},{"$f":"IF(ISBLANK(InfoPro!E55),\"\",InfoPro!E55)","v":100},{"$f":"IF(ISBLANK(InfoPro!F55),\"\",InfoPro!F55)","v":"Solar FV"},{"$f":"IF(ISBLANK(InfoPro!I55),\"\",YEAR(InfoPro!I55)-$G$4)","v":4},{"$f":"IF(B63=\"\",\"\",VLOOKUP(D63,Tablas!$B$2:$E$13,2,FALSE))","v":0.26},{"$f":"IF(B63=\"\",\"\",VLOOKUP(D63,Tablas!$B$2:$F$13,5,FALSE))","v":0.15},{"$f":"IF(C63=\"\",\"\",+C63*G63*F63*24*365)","v":34164},4776163526.3250456,4272060399.2173939,3821163147.7794213,3417856125.0263171,3057116390.900105,2734451154.651257,2445841819.9027338,2187693935.5122848,1956792428.901865,1750261564.3129382,1565529127.2924316,1400294389.3492234,1252499453.8007362,1120303625.9398358,1002060488.3182788,36760087577.229866,367600.87577229866]
[{"$f":"IF(ISBLANK(InfoPro!A56),\"\",InfoPro!A56)","v":"SC_1377_A1"},{"$f":"IF(ISBLANK(InfoPro!B56),\"\",InfoPro!B56)","v":"Eólica Cordobita - 50MW"},{"$f":"IF(ISBLANK(InfoPro!E56),\"\",InfoPro!E56)","v":50},{"$f":"IF(ISBLANK(InfoPro!F56),\"\",InfoPro!F56)","v":"Eólico Onshore"},{"$f":"IF(ISBLANK(InfoPro!I56),\"\",YEAR(InfoPro!I56)-$G$4)","v":4},{"$f":"IF(B64=\"\",\"\",VLOOKUP(D64,Tablas!$B$2:$E$13,2,FALSE))","v":0.56999999999999995},{"$f":"IF(B64=\"\",\"\",VLOOKUP(D64,Tablas!$B$2:$F$13,5,FALSE))","v":0.06},{"$f":"IF(C64=\"\",\"\",+C64*G64*F64*24*365)","v":14979.6},2094164007.6963663,1873134175.0414727,1675433072.4879003,1498598454.8192313,1340427956.0100458,1198951660.1163201,1072407567.1881218,959219648.64769423,857978218.82620227,767422378.1987499,686424309.65898919,613975232.2531209,549172837.43570745,491210051.37362027,439364983.339553,16117884553.093094,322357.69106186187]
[{"$f":"IF(ISBLANK(InfoPro!A57),\"\",InfoPro!A57)","v":"SC_1377_A2"},{"$f":"IF(ISBLANK(InfoPro!B57),\"\",InfoPro!B57)","v":"Eólica Cordobita - 50MW"},{"$f":"IF(ISBLANK(InfoPro!E57),\"\",InfoPro!E57)","v":50},{"$f":"IF(ISBLANK(InfoPro!F57),\"\",InfoPro!F57)","v":"Eólico Onshore"},{"$f":"IF(ISBLANK(InfoPro!I57),\"\",YEAR(InfoPro!I57)-$G$4)","v":4},{"$f":"IF(B65=\"\",\"\",VLOOKUP(D65,Tablas!$B$2:$E$13,2,FALSE))","v":0.56999999999999995},{"$f":"IF(B65=\"\",\"\",VLOOKUP(D65,Tablas!$B$2:$F$13,5,FALSE))","v":0.06},14979.6,2094164007.6963663,1873134175.0414727,1675433072.4879003,1498598454.8192313,1340427956.0100458,1198951660.1163201,1072407567.1881218,959219648.64769423,857978218.82620227,767422378.1987499,686424309.65898919,613975232.2531209,549172837.43570745,491210051.37362027,439364983.339553,16117884553.093094,322357.69106186187]
[{"$f":"IF(ISBLANK(InfoPro!A58),\"\",InfoPro!A58)","v":"SC_1380_A1"},{"$f":"IF(ISBLANK(InfoPro!B58),\"\",InfoPro!B58)","v":"Parque Eólico Motosira"},{"$f":"IF(ISBLANK(InfoPro!E58),\"\",InfoPro!E58)","v":300},{"$f":"IF(ISBLANK(InfoPro!F58),\"\",InfoPro!F58)","v":"Eólico Onshore"},{"$f":"IF(ISBLANK(InfoPro!I58),\"\",YEAR(InfoPro!I58)-$G$4)","v":3},{"$f":"IF(B66=\"\",\"\",VLOOKUP(D66,Tablas!$B$2:$E$13,2,FALSE))","v":0.56999999999999995},{"$f":"IF(B66=\"\",\"\",VLOOKUP(D66,Tablas!$B$2:$F$13,5,FALSE))","v":0.06},89877.6,14047652163.627224,12564984046.178198,11238805050.248837,10052598434.927404,8991590728.9153881,8042567736.0602751,7193709960.6979218,6434445403.1287308,5755317891.8861647,5147869312.9572144,4604534269.1924992,4118545857.9539361,3683851393.5187268,3295037024.6142449,2947260308.2417221,108118769582.14847,360395.89860716154]
[{"$f":"IF(ISBLANK(InfoPro!A59),\"\",InfoPro!A59)","v":"SC_1380_A2"},{"$f":"IF(ISBLANK(InfoPro!B59),\"\",InfoPro!B59)","v":"Parque Eólico Motosira"},{"$f":"IF(ISBLANK(InfoPro!E59),\"\",InfoPro!E59)","v":300},{"$f":"IF(ISBLANK(InfoPro!F59),\"\",InfoPro!F59)","v":"Eólico Onshore"},{"$f":"IF(ISBLANK(InfoPro!I59),\"\",YEAR(InfoPro!I59)-$G$4)","v":3},{"$f":"IF(B67=\"\",\"\",VLOOKUP(D67,Tablas!$B$2:$E$13,2,FALSE))","v":0.56999999999999995},{"$f":"IF(B67=\"\",\"\",VLOOKUP(D67,Tablas!$B$2:$F$13,5,FALSE))","v":0.06},89877.6,14047652163.627224,12564984046.178198,11238805050.248837,10052598434.927404,8991590728.9153881,8042567736.0602751,7193709960.6979218,6434445403.1287308,5755317891.8861647,5147869312.9572144,4604534269.1924992,4118545857.9539361,3683851393.5187268,3295037024.6142449,2947260308.2417221,108118769582.14847,360395.89860716154]
[{"$f":"IF(ISBLANK(InfoPro!A60),\"\",InfoPro!A60)","v":"SC_1421_A1"},{"$f":"IF(ISBLANK(InfoPro!B60),\"\",InfoPro!B60)","v":"Parque Solar Fotovoltaico SJ Solar 100 MW"},{"$f":"IF(ISBLANK(InfoPro!E60),\"\",InfoPro!E60)","v":100},{"$f":"IF(ISBLANK(InfoPro!F60),\"\",InfoPro!F60)","v":"Solar FV"},{"$f":"IF(ISBLANK(InfoPro!I60),\"\",YEAR(InfoPro!I60)-$G$4)","v":3},{"$f":"IF(B68=\"\",\"\",VLOOKUP(D68,Tablas!$B$2:$E$13,2,FALSE))","v":0.26},{"$f":"IF(B68=\"\",\"\",VLOOKUP(D68,Tablas!$B$2:$F$13,5,FALSE))","v":0.15},34164,5339750822.4314003,4776163526.3250456,4272060399.2173939,3821163147.7794213,3417856125.0263171,3057116390.900105,2734451154.651257,2445841819.9027338,2187693935.5122848,1956792428.901865,1750261564.3129382,1565529127.2924316,1400294389.3492234,1252499453.8007362,1120303625.9398358,41097777911.342979,410977.77911342977]
[{"$f":"IF(ISBLANK(InfoPro!A61),\"\",InfoPro!A61)","v":"SC_1421_A2"},{"$f":"IF(ISBLANK(InfoPro!B61),\"\",InfoPro!B61)","v":"Parque Solar Fotovoltaico SJ Solar 100 MW"},{"$f":"IF(ISBLANK(InfoPro!E61),\"\",InfoPro!E61)","v":100},{"$f":"IF(ISBLANK(InfoPro!F61),\"\",InfoPro!F61)","v":"Solar FV"},{"$f":"IF(ISBLANK(InfoPro!I61),\"\",YEAR(InfoPro!I61)-$G$4)","v":3},{"$f":"IF(B69=\"\",\"\",VLOOKUP(D69,Tablas!$B$2:$E$13,2,FALSE))","v":0.26},{"$f":"IF(B69=\"\",\"\",VLOOKUP(D69,Tablas!$B$2:$F$13,5,FALSE))","v":0.15},34164,{"$f":"IF($H69=\"\",\"\",(1/(1+$C$4)^(I$7+$E69))*$H69*$I$5*$I$4)","v":5339750822.4314003},4776163526.3250456,4272060399.2173939,3821163147.7794213,3417856125.0263171,3057116390.900105,2734451154.651257,2445841819.9027338,2187693935.5122848,1956792428.901865,1750261564.3129382,1565529127.2924316,1400294389.3492234,1252499453.8007362,1120303625.9398358,41097777911.342979,410977.77911342977]
[{"$f":"IF(ISBLANK(InfoPro!A62),\"\",InfoPro!A62)","v":"SC_1479_A1"},{"$f":"IF(ISBLANK(InfoPro!B62),\"\",InfoPro!B62)","v":"Oslo I_150MW"},{"$f":"IF(ISBLANK(InfoPro!E62),\"\",InfoPro!E62)","v":150},{"$f":"IF(ISBLANK(InfoPro!F62),\"\",InfoPro!F62)","v":"Solar FV"},{"$f":"IF(ISBLANK(InfoPro!I62),\"\",YEAR(InfoPro!I62)-$G$4)","v":3},{"$f":"IF(B70=\"\",\"\",VLOOKUP(D70,Tablas!$B$2:$E$13,2,FALSE))","v":0.26},{"$f":"IF(B70=\"\",\"\",VLOOKUP(D70,Tablas!$B$2:$F$13,5,FALSE))","v":0.15},51246,8009626233.6471004,7164245289.4875679,6408090598.8260899,5731744721.6691322,5126784187.5394754,4585674586.3501568,4101676731.9768844,3668762729.8541012,3281540903.2684274,2935188643.3527975,2625392346.4694076,2348293690.9386473,2100441584.0238349,1878749180.7011042,1680455438.9097536,61646666867.014473,410977.77911342983]
[{"$f":"IF(ISBLANK(InfoPro!A63),\"\",InfoPro!A63)","v":"SC_1479_A2"},{"$f":"IF(ISBLANK(InfoPro!B63),\"\",InfoPro!B63)","v":"Oslo I_150MW"},{"$f":"IF(ISBLANK(InfoPro!E63),\"\",InfoPro!E63)","v":150},{"$f":"IF(ISBLANK(InfoPro!F63),\"\",InfoPro!F63)","v":"Solar FV"},{"$f":"IF(ISBLANK(InfoPro!I63),\"\",YEAR(InfoPro!I63)-$G$4)","v":3},{"$f":"IF(B71=\"\",\"\",VLOOKUP(D71,Tablas!$B$2:$E$13,2,FALSE))","v":0.26},{"$f":"IF(B71=\"\",\"\",VLOOKUP(D71,Tablas!$B$2:$F$13,5,FALSE))","v":0.15},51246,8009626233.6471004,7164245289.4875679,6408090598.8260899,5731744721.6691322,5126784187.5394754,4585674586.3501568,4101676731.9768844,3668762729.8541012,3281540903.2684274,2935188643.3527975,2625392346.4694076,2348293690.9386473,2100441584.0238349,1878749180.7011042,1680455438.9097536,61646666867.014473,410977.77911342983]
[{"$f":"IF(ISBLANK(InfoPro!A64),\"\",InfoPro!A64)","v":"SC_1506_A1"},{"$f":"IF(ISBLANK(InfoPro!B64),\"\",InfoPro!B64)","v":"Parque Solar Toro Moreno"},{"$f":"IF(ISBLANK(InfoPro!E64),\"\",InfoPro!E64)","v":99.9},{"$f":"IF(ISBLANK(InfoPro!F64),\"\",InfoPro!F64)","v":"Solar FV"},{"$f":"IF(ISBLANK(InfoPro!I64),\"\",YEAR(InfoPro!I64)-$G$4)","v":-2},{"$f":"IF(B72=\"\",\"\",VLOOKUP(D72,Tablas!$B$2:$E$13,2,FALSE))","v":0.26},{"$f":"IF(B72=\"\",\"\",VLOOKUP(D72,Tablas!$B$2:$F$13,5,FALSE))","v":0.15},34129.836000000003,9317416239.5644054,8334003792.0969639,7454386218.333601,6667608424.2697697,5963871578.0588274,5334411071.6089697,4771387362.7987213,4267788338.8181767,3817341984.6316428,3414438268.9012909,3054059274.5092049,2731716703.4966059,2443395978.0828314,2185506241.5767732,1954835636.4729629,71712167113.220749,717839.51064285031]
[{"$f":"IF(ISBLANK(InfoPro!A65),\"\",InfoPro!A65)","v":"SC_1506_A2"},{"$f":"IF(ISBLANK(InfoPro!B65),\"\",InfoPro!B65)","v":"Parque Solar Toro Moreno"},{"$f":"IF(ISBLANK(InfoPro!E65),\"\",InfoPro!E65)","v":99.9},{"$f":"IF(ISBLANK(InfoPro!F65),\"\",InfoPro!F65)","v":"Solar FV"},{"$f":"IF(ISBLANK(InfoPro!I65),\"\",YEAR(InfoPro!I65)-$G$4)","v":-2},{"$f":"IF(B73=\"\",\"\",VLOOKUP(D73,Tablas!$B$2:$E$13,2,FALSE))","v":0.26},{"$f":"IF(B73=\"\",\"\",VLOOKUP(D73,Tablas!$B$2:$F$13,5,FALSE))","v":0.15},{"$f":"IF(C73=\"\",\"\",+C73*G73*F73*24*365)","v":34129.836000000003},9317416239.5644054,8334003792.0969639,7454386218.333601,6667608424.2697697,5963871578.0588274,5334411071.6089697,4771387362.7987213,4267788338.8181767,3817341984.6316428,3414438268.9012909,3054059274.5092049,2731716703.4966059,2443395978.0828314,2185506241.5767732,1954835636.4729629,71712167113.220749,717839.51064285031]
[{"$f":"IF(ISBLANK(InfoPro!A66),\"\",InfoPro!A66)","v":"SC_1512_A1"},{"$f":"IF(ISBLANK(InfoPro!B66),\"\",InfoPro!B66)","v":"El Flamingo\n  - 200 MW"},{"$f":"IF(ISBLANK(InfoPro!E66),\"\",InfoPro!E66)","v":200},{"$f":"IF(ISBLANK(InfoPro!F66),\"\",InfoPro!F66)","v":"Solar FV"},{"$f":"IF(ISBLANK(InfoPro!I66),\"\",YEAR(InfoPro!I66)-$G$4)","v":4},{"$f":"IF(B74=\"\",\"\",VLOOKUP(D74,Tablas!$B$2:$E$13,2,FALSE))","v":0.26},{"$f":"IF(B74=\"\",\"\",VLOOKUP(D74,Tablas!$B$2:$F$13,5,FALSE))","v":0.15},68328,9552327052.6500912,8544120798.4347878,7642326295.5588427,6835712250.0526342,6114232781.80021,5468902309.3025141,4891683639.8054676,4375387871.0245695,3913584857.80373,3500523128.6258764,3131058254.5848632,2800588778.6984468,2504998907.6014724,2240607251.8796716,2004120976.6365576,{"$f":"IF(W74=\"\",\"\",SUM(I74:W74))","v":73520175154.459732},{"$f":"IF(C74=0,0,IF(X74=\"\",\"\",X74/(C74*1000)))","v":367600.87577229866}]
[{"$f":"IF(ISBLANK(InfoPro!A67),\"\",InfoPro!A67)","v":"SC_1512_A2"},{"$f":"IF(ISBLANK(InfoPro!B67),\"\",InfoPro!B67)","v":"El Flamingo\n  - 200 MW"},{"$f":"IF(ISBLANK(InfoPro!E67),\"\",InfoPro!E67)","v":200},{"$f":"IF(ISBLANK(InfoPro!F67),\"\",InfoPro!F67)","v":"Solar FV"},{"$f":"IF(ISBLANK(InfoPro!I67),\"\",YEAR(InfoPro!I67)-$G$4)","v":4},{"$f":"IF(B75=\"\",\"\",VLOOKUP(D75,Tablas!$B$2:$E$13,2,FALSE))","v":0.26},{"$f":"IF(B75=\"\",\"\",VLOOKUP(D75,Tablas!$B$2:$F$13,5,FALSE))","v":0.15},68328,9552327052.6500912,8544120798.4347878,7642326295.5588427,6835712250.0526342,6114232781.80021,5468902309.3025141,4891683639.8054676,4375387871.0245695,3913584857.80373,3500523128.6258764,3131058254.5848632,2800588778.6984468,2504998907.6014724,2240607251.8796716,2004120976.6365576,73520175154.459732,367600.87577229866]
[{"$f":"IF(ISBLANK(InfoPro!A68),\"\",InfoPro!A68)","v":"SC_1518_A1"},{"$f":"IF(ISBLANK(InfoPro!B68),\"\",InfoPro!B68)","v":"CHIRIGUANÁ - 300 MW"},{"$f":"IF(ISBLANK(InfoPro!E68),\"\",InfoPro!E68)","v":300},{"$f":"IF(ISBLANK(InfoPro!F68),\"\",InfoPro!F68)","v":"Solar FV"},{"$f":"IF(ISBLANK(InfoPro!I68),\"\",YEAR(InfoPro!I68)-$G$4)","v":4},{"$f":"IF(B76=\"\",\"\",VLOOKUP(D76,Tablas!$B$2:$E$13,2,FALSE))","v":0.26},{"$f":"IF(B76=\"\",\"\",VLOOKUP(D76,Tablas!$B$2:$F$13,5,FALSE))","v":0.15},102492,14328490578.975136,12816181197.65218,11463489443.338264,10253568375.078951,9171349172.7003136,8203353463.9537687,7337525459.7082024,6563081806.5368547,5870377286.705595,5250784692.9388151,4696587381.8772945,4200883168.0476699,3757498361.4022083,3360910877.8195071,3006181464.9548364,110280262731.68958,367600.8757722986]
[{"$f":"IF(ISBLANK(InfoPro!A69),\"\",InfoPro!A69)","v":"SC_1518_A2"},{"$f":"IF(ISBLANK(InfoPro!B69),\"\",InfoPro!B69)","v":"CHIRIGUANÁ - 300 MW"},{"$f":"IF(ISBLANK(InfoPro!E69),\"\",InfoPro!E69)","v":300},{"$f":"IF(ISBLANK(InfoPro!F69),\"\",InfoPro!F69)","v":"Solar FV"},{"$f":"IF(ISBLANK(InfoPro!I69),\"\",YEAR(InfoPro!I69)-$G$4)","v":4},{"$f":"IF(B77=\"\",\"\",VLOOKUP(D77,Tablas!$B$2:$E$13,2,FALSE))","v":0.26},{"$f":"IF(B77=\"\",\"\",VLOOKUP(D77,Tablas!$B$2:$F$13,5,FALSE))","v":0.15},102492,14328490578.975136,12816181197.65218,11463489443.338264,10253568375.078951,9171349172.7003136,8203353463.9537687,7337525459.7082024,6563081806.5368547,5870377286.705595,5250784692.9388151,4696587381.8772945,4200883168.0476699,3757498361.4022083,3360910877.8195071,3006181464.9548364,110280262731.68958,367600.8757722986]
[{"$f":"IF(ISBLANK(InfoPro!A70),\"\",InfoPro!A70)","v":"SC_1531_A1"},{"$f":"IF(ISBLANK(InfoPro!B70),\"\",InfoPro!B70)","v":"Haticos_56MW"},{"$f":"IF(ISBLANK(InfoPro!E70),\"\",InfoPro!E70)","v":56},{"$f":"IF(ISBLANK(InfoPro!F70),\"\",InfoPro!F70)","v":"Solar FV"},{"$f":"IF(ISBLANK(InfoPro!I70),\"\",YEAR(InfoPro!I70)-$G$4)","v":4},{"$f":"IF(B78=\"\",\"\",VLOOKUP(D78,Tablas!$B$2:$E$13,2,FALSE))","v":0.26},{"$f":"IF(B78=\"\",\"\",VLOOKUP(D78,Tablas!$B$2:$F$13,5,FALSE))","v":0.15},19131.84,2674651574.7420259,2392353823.5617404,2139851362.7564762,1913999430.0147376,1711985178.9040585,1531292646.6047039,1369671419.1455309,1225108603.8868794,1095803760.1850443,980146476.01524556,876696311.28376174,784164858.03556514,701399694.12841237,627370030.52630806,561153873.4582361,20585649043.248726,367600.87577229866]
[{"$f":"IF(ISBLANK(InfoPro!A71),\"\",InfoPro!A71)","v":"SC_1531_A2"},{"$f":"IF(ISBLANK(InfoPro!B71),\"\",InfoPro!B71)","v":"Haticos_56MW"},{"$f":"IF(ISBLANK(InfoPro!E71),\"\",InfoPro!E71)","v":56},{"$f":"IF(ISBLANK(InfoPro!F71),\"\",InfoPro!F71)","v":"Solar FV"},{"$f":"IF(ISBLANK(InfoPro!I71),\"\",YEAR(InfoPro!I71)-$G$4)","v":4},{"$f":"IF(B79=\"\",\"\",VLOOKUP(D79,Tablas!$B$2:$E$13,2,FALSE))","v":0.26},{"$f":"IF(B79=\"\",\"\",VLOOKUP(D79,Tablas!$B$2:$F$13,5,FALSE))","v":0.15},19131.84,{"$f":"IF($H79=\"\",\"\",(1/(1+$C$4)^(I$7+$E79))*$H79*$I$5*$I$4)","v":2674651574.7420259},2392353823.5617404,2139851362.7564762,1913999430.0147376,1711985178.9040585,1531292646.6047039,1369671419.1455309,1225108603.8868794,1095803760.1850443,980146476.01524556,876696311.28376174,784164858.03556514,701399694.12841237,627370030.52630806,561153873.4582361,20585649043.248726,367600.87577229866]
[{"$f":"IF(ISBLANK(InfoPro!A72),\"\",InfoPro!A72)","v":"SC_1532_A1"},{"$f":"IF(ISBLANK(InfoPro!B72),\"\",InfoPro!B72)","v":"Las Mangas_340.8MW"},{"$f":"IF(ISBLANK(InfoPro!E72),\"\",InfoPro!E72)","v":340.8},{"$f":"IF(ISBLANK(InfoPro!F72),\"\",InfoPro!F72)","v":"Solar FV"},{"$f":"IF(ISBLANK(InfoPro!I72),\"\",YEAR(InfoPro!I72)-$G$4)","v":4},{"$f":"IF(B80=\"\",\"\",VLOOKUP(D80,Tablas!$B$2:$E$13,2,FALSE))","v":0.26},{"$f":"IF(B80=\"\",\"\",VLOOKUP(D80,Tablas!$B$2:$F$13,5,FALSE))","v":0.15},116430.91199999998,16277165297.715752,14559181840.532875,13022524007.632267,11648053674.089687,10418652660.187555,9319009535.0514812,8335428922.2285147,7455660932.2258654,6668748597.6975546,5964891411.1784925,5335323265.8126059,4772203278.902153,4268518138.5529079,3817994757.20296,3415022144.1886935,125278378463.19934,367600.87577229855]
[{"$f":"IF(ISBLANK(InfoPro!A73),\"\",InfoPro!A73)","v":"SC_1532_A2"},{"$f":"IF(ISBLANK(InfoPro!B73),\"\",InfoPro!B73)","v":"Las Mangas_340.8MW"},{"$f":"IF(ISBLANK(InfoPro!E73),\"\",InfoPro!E73)","v":340.8},{"$f":"IF(ISBLANK(InfoPro!F73),\"\",InfoPro!F73)","v":"Solar FV"},{"$f":"IF(ISBLANK(InfoPro!I73),\"\",YEAR(InfoPro!I73)-$G$4)","v":4},{"$f":"IF(B81=\"\",\"\",VLOOKUP(D81,Tablas!$B$2:$E$13,2,FALSE))","v":0.26},{"$f":"IF(B81=\"\",\"\",VLOOKUP(D81,Tablas!$B$2:$F$13,5,FALSE))","v":0.15},116430.91199999998,16277165297.715752,14559181840.532875,13022524007.632267,11648053674.089687,10418652660.187555,9319009535.0514812,8335428922.2285147,7455660932.2258654,6668748597.6975546,5964891411.1784925,5335323265.8126059,4772203278.902153,4268518138.5529079,3817994757.20296,3415022144.1886935,125278378463.19934,367600.87577229855]
[{"$f":"IF(ISBLANK(InfoPro!A74),\"\",InfoPro!A74)","v":"SC_1534_A1"},{"$f":"IF(ISBLANK(InfoPro!B74),\"\",InfoPro!B74)","v":"Parque Eólico Cerrito_378MW"},{"$f":"IF(ISBLANK(InfoPro!E74),\"\",InfoPro!E74)","v":378},{"$f":"IF(ISBLANK(InfoPro!F74),\"\",InfoPro!F74)","v":"Eólico Onshore"},{"$f":"IF(ISBLANK(InfoPro!I74),\"\",YEAR(InfoPro!I74)-$G$4)","v":2},{"$f":"IF(B82=\"\",\"\",VLOOKUP(D82,Tablas!$B$2:$E$13,2,FALSE))","v":0.56999999999999995},{"$f":"IF(B82=\"\",\"\",VLOOKUP(D82,Tablas!$B$2:$F$13,5,FALSE))","v":0.06},113245.77599999998,19788646649.858391,17700041726.1703,15831879898.184525,14160894363.313532,12666274028.008526,11329404318.433386,10133635347.435946,9064074550.4793797,8107401207.9421978,7251700543.7765665,6486315334.326088,5801713179.1825476,5189367781.0219574,4641652755.8335943,4151746651.013947,152304748334.9809,402922.61464280658]
[{"$f":"IF(ISBLANK(InfoPro!A75),\"\",InfoPro!A75)","v":"SC_1534_A2"},{"$f":"IF(ISBLANK(InfoPro!B75),\"\",InfoPro!B75)","v":"Parque Eólico Cerrito_378MW"},{"$f":"IF(ISBLANK(InfoPro!E75),\"\",InfoPro!E75)","v":378},{"$f":"IF(ISBLANK(InfoPro!F75),\"\",InfoPro!F75)","v":"Eólico Onshore"},{"$f":"IF(ISBLANK(InfoPro!I75),\"\",YEAR(InfoPro!I75)-$G$4)","v":2},{"$f":"IF(B83=\"\",\"\",VLOOKUP(D83,Tablas!$B$2:$E$13,2,FALSE))","v":0.56999999999999995},{"$f":"IF(B83=\"\",\"\",VLOOKUP(D83,Tablas!$B$2:$F$13,5,FALSE))","v":0.06},113245.77599999998,19788646649.858391,17700041726.1703,15831879898.184525,14160894363.313532,12666274028.008526,11329404318.433386,10133635347.435946,9064074550.4793797,8107401207.9421978,7251700543.7765665,6486315334.326088,5801713179.1825476,5189367781.0219574,4641652755.8335943,4151746651.013947,152304748334.9809,402922.61464280658]
[{"$f":"IF(ISBLANK(InfoPro!A76),\"\",InfoPro!A76)","v":"SC_1535_A1"},{"$f":"IF(ISBLANK(InfoPro!B76),\"\",InfoPro!B76)","v":"Parque Eólico Cerrito 2"},{"$f":"IF(ISBLANK(InfoPro!E76),\"\",InfoPro!E76)","v":200},{"$f":"IF(ISBLANK(InfoPro!F76),\"\",InfoPro!F76)","v":"Eólico Onshore"},{"$f":"IF(ISBLANK(InfoPro!I76),\"\",YEAR(InfoPro!I76)-$G$4)","v":2},{"$f":"IF(B84=\"\",\"\",VLOOKUP(D84,Tablas!$B$2:$E$13,2,FALSE))","v":0.56999999999999995},{"$f":"IF(B84=\"\",\"\",VLOOKUP(D84,Tablas!$B$2:$F$13,5,FALSE))","v":0.06},59918.400000000001,10470183412.623489,9365101442.4181499,8376656030.7854652,7492536700.1658907,6701732289.951601,5994393819.2769251,5361711824.0401831,4795806640.4652805,4289630268.7524872,3836878594.5907769,3431912875.3048091,3069689512.7949996,2745697238.6359568,2455900929.0124836,2196691349.7428298,80584522928.56131,402922.61464280653]
[{"$f":"IF(ISBLANK(InfoPro!A77),\"\",InfoPro!A77)","v":"SC_1535_A2"},{"$f":"IF(ISBLANK(InfoPro!B77),\"\",InfoPro!B77)","v":"Parque Eólico Cerrito 2"},{"$f":"IF(ISBLANK(InfoPro!E77),\"\",InfoPro!E77)","v":200},{"$f":"IF(ISBLANK(InfoPro!F77),\"\",InfoPro!F77)","v":"Eólico Onshore"},{"$f":"IF(ISBLANK(InfoPro!I77),\"\",YEAR(InfoPro!I77)-$G$4)","v":2},{"$f":"IF(B85=\"\",\"\",VLOOKUP(D85,Tablas!$B$2:$E$13,2,FALSE))","v":0.56999999999999995},{"$f":"IF(B85=\"\",\"\",VLOOKUP(D85,Tablas!$B$2:$F$13,5,FALSE))","v":0.06},59918.400000000001,10470183412.623489,9365101442.4181499,8376656030.7854652,7492536700.1658907,6701732289.951601,5994393819.2769251,5361711824.0401831,4795806640.4652805,4289630268.7524872,3836878594.5907769,3431912875.3048091,3069689512.7949996,2745697238.6359568,2455900929.0124836,2196691349.7428298,80584522928.56131,402922.61464280653]
[{"$f":"IF(ISBLANK(InfoPro!A78),\"\",InfoPro!A78)","v":"SC_1549_A1"},{"$f":"IF(ISBLANK(InfoPro!B78),\"\",InfoPro!B78)","v":"Parque Solar Bonda"},{"$f":"IF(ISBLANK(InfoPro!E78),\"\",InfoPro!E78)","v":9.9},{"$f":"IF(ISBLANK(InfoPro!F78),\"\",InfoPro!F78)","v":"Solar FV"},{"$f":"IF(ISBLANK(InfoPro!I78),\"\",YEAR(InfoPro!I78)-$G$4)","v":2},{"$f":"IF(B86=\"\",\"\",VLOOKUP(D86,Tablas!$B$2:$E$13,2,FALSE))","v":0.26},{"$f":"IF(B86=\"\",\"\",VLOOKUP(D86,Tablas!$B$2:$F$13,5,FALSE))","v":0.15},3382.2360000000003,591014300.52835214,528635331.42070878,472840189.10617959,422933979.52252197,378295151.63016278,338367756.37760544,302654522.69911039,270710664.31047446,242138340.1703707,216581699.61571625,193722450.46128464,173275894.86698088,154987383.60195073,138629144.54557315,123997445.92627291,4548784254.7832651,459473.15704881464]
[{"$f":"IF(ISBLANK(InfoPro!A79),\"\",InfoPro!A79)","v":"SC_1549_A2"},{"$f":"IF(ISBLANK(InfoPro!B79),\"\",InfoPro!B79)","v":"Parque Solar Bonda"},{"$f":"IF(ISBLANK(InfoPro!E79),\"\",InfoPro!E79)","v":9.9},{"$f":"IF(ISBLANK(InfoPro!F79),\"\",InfoPro!F79)","v":"Solar FV"},{"$f":"IF(ISBLANK(InfoPro!I79),\"\",YEAR(InfoPro!I79)-$G$4)","v":2},{"$f":"IF(B87=\"\",\"\",VLOOKUP(D87,Tablas!$B$2:$E$13,2,FALSE))","v":0.26},{"$f":"IF(B87=\"\",\"\",VLOOKUP(D87,Tablas!$B$2:$F$13,5,FALSE))","v":0.15},3382.2360000000003,591014300.52835214,528635331.42070878,472840189.10617959,422933979.52252197,378295151.63016278,338367756.37760544,302654522.69911039,270710664.31047446,242138340.1703707,216581699.61571625,193722450.46128464,173275894.86698088,154987383.60195073,138629144.54557315,123997445.92627291,4548784254.7832651,459473.15704881464]
[{"$f":"IF(ISBLANK(InfoPro!A80),\"\",InfoPro!A80)","v":"SC_1550_A1"},{"$f":"IF(ISBLANK(InfoPro!B80),\"\",InfoPro!B80)","v":"Parque Solar Fonseca"},{"$f":"IF(ISBLANK(InfoPro!E80),\"\",InfoPro!E80)","v":9.9},{"$f":"IF(ISBLANK(InfoPro!F80),\"\",InfoPro!F80)","v":"Solar FV"},{"$f":"IF(ISBLANK(InfoPro!I80),\"\",YEAR(InfoPro!I80)-$G$4)","v":2},{"$f":"IF(B88=\"\",\"\",VLOOKUP(D88,Tablas!$B$2:$E$13,2,FALSE))","v":0.26},{"$f":"IF(B88=\"\",\"\",VLOOKUP(D88,Tablas!$B$2:$F$13,5,FALSE))","v":0.15},3382.2360000000003,591014300.52835214,528635331.42070878,472840189.10617959,422933979.52252197,378295151.63016278,338367756.37760544,302654522.69911039,270710664.31047446,242138340.1703707,216581699.61571625,193722450.46128464,173275894.86698088,154987383.60195073,138629144.54557315,123997445.92627291,4548784254.7832651,459473.15704881464]
[{"$f":"IF(ISBLANK(InfoPro!A81),\"\",InfoPro!A81)","v":"SC_1550_A2"},{"$f":"IF(ISBLANK(InfoPro!B81),\"\",InfoPro!B81)","v":"Parque Solar Fonseca"},{"$f":"IF(ISBLANK(InfoPro!E81),\"\",InfoPro!E81)","v":9.9},{"$f":"IF(ISBLANK(InfoPro!F81),\"\",InfoPro!F81)","v":"Solar FV"},{"$f":"IF(ISBLANK(InfoPro!I81),\"\",YEAR(InfoPro!I81)-$G$4)","v":2},{"$f":"IF(B89=\"\",\"\",VLOOKUP(D89,Tablas!$B$2:$E$13,2,FALSE))","v":0.26},{"$f":"IF(B89=\"\",\"\",VLOOKUP(D89,Tablas!$B$2:$F$13,5,FALSE))","v":0.15},3382.2360000000003,{"$f":"IF($H89=\"\",\"\",(1/(1+$C$4)^(I$7+$E89))*$H89*$I$5*$I$4)","v":591014300.52835214},528635331.42070878,472840189.10617959,422933979.52252197,378295151.63016278,338367756.37760544,302654522.69911039,270710664.31047446,242138340.1703707,216581699.61571625,193722450.46128464,173275894.86698088,154987383.60195073,138629144.54557315,123997445.92627291,4548784254.7832651,459473.15704881464]
[{"$f":"IF(ISBLANK(InfoPro!A82),\"\",InfoPro!A82)","v":"SC_1556_A1"},{"$f":"IF(ISBLANK(InfoPro!B82),\"\",InfoPro!B82)","v":"Copey Solar I - 100 MW"},{"$f":"IF(ISBLANK(InfoPro!E82),\"\",InfoPro!E82)","v":100},{"$f":"IF(ISBLANK(InfoPro!F82),\"\",InfoPro!F82)","v":"Solar FV"},{"$f":"IF(ISBLANK(InfoPro!I82),\"\",YEAR(InfoPro!I82)-$G$4)","v":3},{"$f":"IF(B90=\"\",\"\",VLOOKUP(D90,Tablas!$B$2:$E$13,2,FALSE))","v":0.26},{"$f":"IF(B90=\"\",\"\",VLOOKUP(D90,Tablas!$B$2:$F$13,5,FALSE))","v":0.15},34164,5339750822.4314003,4776163526.3250456,4272060399.2173939,3821163147.7794213,3417856125.0263171,3057116390.900105,2734451154.651257,2445841819.9027338,2187693935.5122848,1956792428.901865,1750261564.3129382,1565529127.2924316,1400294389.3492234,1252499453.8007362,1120303625.9398358,41097777911.342979,410977.77911342977]
[{"$f":"IF(ISBLANK(InfoPro!A83),\"\",InfoPro!A83)","v":"SC_1556_A2"},{"$f":"IF(ISBLANK(InfoPro!B83),\"\",InfoPro!B83)","v":"Copey Solar I - 100 MW"},{"$f":"IF(ISBLANK(InfoPro!E83),\"\",InfoPro!E83)","v":100},{"$f":"IF(ISBLANK(InfoPro!F83),\"\",InfoPro!F83)","v":"Solar FV"},{"$f":"IF(ISBLANK(InfoPro!I83),\"\",YEAR(InfoPro!I83)-$G$4)","v":3},{"$f":"IF(B91=\"\",\"\",VLOOKUP(D91,Tablas!$B$2:$E$13,2,FALSE))","v":0.26},{"$f":"IF(B91=\"\",\"\",VLOOKUP(D91,Tablas!$B$2:$F$13,5,FALSE))","v":0.15},34164,5339750822.4314003,4776163526.3250456,4272060399.2173939,3821163147.7794213,3417856125.0263171,3057116390.900105,2734451154.651257,2445841819.9027338,2187693935.5122848,1956792428.901865,1750261564.3129382,1565529127.2924316,1400294389.3492234,1252499453.8007362,1120303625.9398358,41097777911.342979,410977.77911342977]
[{"$f":"IF(ISBLANK(InfoPro!A84),\"\",InfoPro!A84)","v":"SC_1557_A1"},{"$f":"IF(ISBLANK(InfoPro!B84),\"\",InfoPro!B84)","v":"Copey Solar II"},{"$f":"IF(ISBLANK(InfoPro!E84),\"\",InfoPro!E84)","v":100},{"$f":"IF(ISBLANK(InfoPro!F84),\"\",InfoPro!F84)","v":"Solar FV"},{"$f":"IF(ISBLANK(InfoPro!I84),\"\",YEAR(InfoPro!I84)-$G$4)","v":4},{"$f":"IF(B92=\"\",\"\",VLOOKUP(D92,Tablas!$B$2:$E$13,2,FALSE))","v":0.26},{"$f":"IF(B92=\"\",\"\",VLOOKUP(D92,Tablas!$B$2:$F$13,5,FALSE))","v":0.15},34164,4776163526.3250456,4272060399.2173939,3821163147.7794213,3417856125.0263171,3057116390.900105,2734451154.651257,2445841819.9027338,2187693935.5122848,1956792428.901865,1750261564.3129382,1565529127.2924316,1400294389.3492234,1252499453.8007362,1120303625.9398358,1002060488.3182788,36760087577.229866,367600.87577229866]
[{"$f":"IF(ISBLANK(InfoPro!A85),\"\",InfoPro!A85)","v":"SC_1557_A2"},{"$f":"IF(ISBLANK(InfoPro!B85),\"\",InfoPro!B85)","v":"Copey Solar II"},{"$f":"IF(ISBLANK(InfoPro!E85),\"\",InfoPro!E85)","v":100},{"$f":"IF(ISBLANK(InfoPro!F85),\"\",InfoPro!F85)","v":"Solar FV"},{"$f":"IF(ISBLANK(InfoPro!I85),\"\",YEAR(InfoPro!I85)-$G$4)","v":4},{"$f":"IF(B93=\"\",\"\",VLOOKUP(D93,Tablas!$B$2:$E$13,2,FALSE))","v":0.26},{"$f":"IF(B93=\"\",\"\",VLOOKUP(D93,Tablas!$B$2:$F$13,5,FALSE))","v":0.15},34164,4776163526.3250456,4272060399.2173939,3821163147.7794213,3417856125.0263171,3057116390.900105,2734451154.651257,2445841819.9027338,2187693935.5122848,1956792428.901865,1750261564.3129382,1565529127.2924316,1400294389.3492234,1252499453.8007362,1120303625.9398358,1002060488.3182788,36760087577.229866,367600.87577229866]
[{"$f":"IF(ISBLANK(InfoPro!A86),\"\",InfoPro!A86)","v":"SC_1565_A1"},{"$f":"IF(ISBLANK(InfoPro!B86),\"\",InfoPro!B86)","v":"Eólica Río Córdoba 50 MW"},{"$f":"IF(ISBLANK(InfoPro!E86),\"\",InfoPro!E86)","v":50},{"$f":"IF(ISBLANK(InfoPro!F86),\"\",InfoPro!F86)","v":"Eólico Onshore"},{"$f":"IF(ISBLANK(InfoPro!I86),\"\",YEAR(InfoPro!I86)-$G$4)","v":2},{"$f":"IF(B94=\"\",\"\",VLOOKUP(D94,Tablas!$B$2:$E$13,2,FALSE))","v":0.56999999999999995},{"$f":"IF(B94=\"\",\"\",VLOOKUP(D94,Tablas!$B$2:$F$13,5,FALSE))","v":0.06},14979.6,2617545853.1558723,2341275360.6045375,2094164007.6963663,1873134175.0414727,1675433072.4879003,1498598454.8192313,1340427956.0100458,1198951660.1163201,1072407567.1881218,959219648.64769423,857978218.82620227,767422378.1987499,686424309.65898919,613975232.2531209,549172837.43570745,20146130732.140327,402922.61464280653]
[{"$f":"IF(ISBLANK(InfoPro!A87),\"\",InfoPro!A87)","v":"SC_1575_A1"},{"$f":"IF(ISBLANK(InfoPro!B87),\"\",InfoPro!B87)","v":"BONDERO 70 MW"},{"$f":"IF(ISBLANK(InfoPro!E87),\"\",InfoPro!E87)","v":70},{"$f":"IF(ISBLANK(InfoPro!F87),\"\",InfoPro!F87)","v":"Eólico Onshore"},{"$f":"IF(ISBLANK(InfoPro!I87),\"\",YEAR(InfoPro!I87)-$G$4)","v":1},{"$f":"IF(B95=\"\",\"\",VLOOKUP(D95,Tablas!$B$2:$E$13,2,FALSE))","v":0.56999999999999995},{"$f":"IF(B95=\"\",\"\",VLOOKUP(D95,Tablas!$B$2:$F$13,5,FALSE))","v":0.06},20971.439999999995,4096982769.35957,3664564194.41822,3277785504.8463511,2931829610.7749119,2622387845.0580611,2345606301.4830599,2098037836.7469232,1876599138.4140639,1678532324.1628478,1501370594.06337,1342907508.1067715,1201169506.356683,1074391329.4782495,960994033.5225848,859565325.15436912,31532723821.946033,450467.48317065759]
[{"$f":"IF(ISBLANK(InfoPro!A88),\"\",InfoPro!A88)","v":"SC_1592_A1"},{"$f":"IF(ISBLANK(InfoPro!B88),\"\",InfoPro!B88)","v":"Expansión La Loma II - 100 MW"},{"$f":"IF(ISBLANK(InfoPro!E88),\"\",InfoPro!E88)","v":100},{"$f":"IF(ISBLANK(InfoPro!F88),\"\",InfoPro!F88)","v":"Solar FV"},{"$f":"IF(ISBLANK(InfoPro!I88),\"\",YEAR(InfoPro!I88)-$G$4)","v":5},{"$f":"IF(B96=\"\",\"\",VLOOKUP(D96,Tablas!$B$2:$E$13,2,FALSE))","v":0.26},{"$f":"IF(B96=\"\",\"\",VLOOKUP(D96,Tablas!$B$2:$F$13,5,FALSE))","v":0.15},34164,4272060399.2173939,3821163147.7794213,3417856125.0263171,3057116390.900105,2734451154.651257,2445841819.9027338,2187693935.5122848,1956792428.901865,1750261564.3129382,1565529127.2924316,1400294389.3492234,1252499453.8007362,1120303625.9398358,1002060488.3182788,896297395.63352334,32880221446.538338,328802.21446538338]
[{"$f":"IF(ISBLANK(InfoPro!A89),\"\",InfoPro!A89)","v":"SC_1593_A1"},{"$f":"IF(ISBLANK(InfoPro!B89),\"\",InfoPro!B89)","v":"Parque Solar Camarones 6 MW"},{"$f":"IF(ISBLANK(InfoPro!E89),\"\",InfoPro!E89)","v":6},{"$f":"IF(ISBLANK(InfoPro!F89),\"\",InfoPro!F89)","v":"Solar FV"},{"$f":"IF(ISBLANK(InfoPro!I89),\"\",YEAR(InfoPro!I89)-$G$4)","v":1},{"$f":"IF(B97=\"\",\"\",VLOOKUP(D97,Tablas!$B$2:$E$13,2,FALSE))","v":0.26},{"$f":"IF(B97=\"\",\"\",VLOOKUP(D97,Tablas!$B$2:$F$13,5,FALSE))","v":0.15},2049.8399999999997,400456962.41860461,358190485.16869825,320385049.34588403,286569811.5795027,256323623.95304358,229269788.86676529,205071367.50157899,183426983.45400622,164067069.27907535,146750509.19416401,131261636.13073707,117407545.73411188,105015693.85877629,93931747.637545869,84017663.360953391,3082145937.4834466,513690.98958057445]
[{"$f":"IF(ISBLANK(InfoPro!A90),\"\",InfoPro!A90)","v":"SC_1593_A2"},{"$f":"IF(ISBLANK(InfoPro!B90),\"\",InfoPro!B90)","v":"Parque Solar Camarones 6 MW"},{"$f":"IF(ISBLANK(InfoPro!E90),\"\",InfoPro!E90)","v":6},{"$f":"IF(ISBLANK(InfoPro!F90),\"\",InfoPro!F90)","v":"Solar FV"},{"$f":"IF(ISBLANK(InfoPro!I90),\"\",YEAR(InfoPro!I90)-$G$4)","v":1},{"$f":"IF(B98=\"\",\"\",VLOOKUP(D98,Tablas!$B$2:$E$13,2,FALSE))","v":0.26},{"$f":"IF(B98=\"\",\"\",VLOOKUP(D98,Tablas!$B$2:$F$13,5,FALSE))","v":0.15},2049.8399999999997,400456962.41860461,358190485.16869825,320385049.34588403,286569811.5795027,256323623.95304358,229269788.86676529,205071367.50157899,183426983.45400622,164067069.27907535,146750509.19416401,131261636.13073707,117407545.73411188,105015693.85877629,93931747.637545869,84017663.360953391,3082145937.4834466,513690.98958057445]
[{"$f":"IF(ISBLANK(InfoPro!A91),\"\",InfoPro!A91)","v":"SC_1596_A1"},{"$f":"IF(ISBLANK(InfoPro!B91),\"\",InfoPro!B91)","v":"Expansión La Loma III - 100 MW"},{"$f":"IF(ISBLANK(InfoPro!E91),\"\",InfoPro!E91)","v":100},{"$f":"IF(ISBLANK(InfoPro!F91),\"\",InfoPro!F91)","v":"Solar FV"},{"$f":"IF(ISBLANK(InfoPro!I91),\"\",YEAR(InfoPro!I91)-$G$4)","v":6},{"$f":"IF(B99=\"\",\"\",VLOOKUP(D99,Tablas!$B$2:$E$13,2,FALSE))","v":0.26},{"$f":"IF(B99=\"\",\"\",VLOOKUP(D99,Tablas!$B$2:$F$13,5,FALSE))","v":0.15},34164,{"$f":"IF($H99=\"\",\"\",(1/(1+$C$4)^(I$7+$E99))*$H99*$I$5*$I$4)","v":3821163147.7794213},3417856125.0263171,3057116390.900105,2734451154.651257,2445841819.9027338,2187693935.5122848,1956792428.901865,1750261564.3129382,1565529127.2924316,1400294389.3492234,1252499453.8007362,1120303625.9398358,1002060488.3182788,896297395.63352334,801697133.84036064,29409858181.161308,294098.58181161305]
[{"$f":"IF(ISBLANK(InfoPro!A92),\"\",InfoPro!A92)","v":"SC_1656_A1"},{"$f":"IF(ISBLANK(InfoPro!B92),\"\",InfoPro!B92)","v":"Parque solar TERRɅ I"},{"$f":"IF(ISBLANK(InfoPro!E92),\"\",InfoPro!E92)","v":19.899999999999999},{"$f":"IF(ISBLANK(InfoPro!F92),\"\",InfoPro!F92)","v":"Solar FV"},{"$f":"IF(ISBLANK(InfoPro!I92),\"\",YEAR(InfoPro!I92)-$G$4)","v":1},{"$f":"IF(B100=\"\",\"\",VLOOKUP(D100,Tablas!$B$2:$E$13,2,FALSE))","v":0.26},{"$f":"IF(B100=\"\",\"\",VLOOKUP(D100,Tablas!$B$2:$F$13,5,FALSE))","v":0.15},6798.6360000000004,1328182258.6883724,1187998442.4761827,1062610413.6638488,950456541.73868418,850140019.44426143,760411466.40810502,680153368.8802371,608366161.78912091,544155779.77560008,486722522.16064405,435351093.16694474,389401693.35147113,348302051.29827476,311540296.33119392,278658583.48049545,10222450692.653437,513690.98958057468]
[{"$f":"IF(ISBLANK(InfoPro!A93),\"\",InfoPro!A93)","v":"SC_1656_A2"},{"$f":"IF(ISBLANK(InfoPro!B93),\"\",InfoPro!B93)","v":"Parque solar TERRɅ I"},{"$f":"IF(ISBLANK(InfoPro!E93),\"\",InfoPro!E93)","v":19.899999999999999},{"$f":"IF(ISBLANK(InfoPro!F93),\"\",InfoPro!F93)","v":"Solar FV"},{"$f":"IF(ISBLANK(InfoPro!I93),\"\",YEAR(InfoPro!I93)-$G$4)","v":1},{"$f":"IF(B101=\"\",\"\",VLOOKUP(D101,Tablas!$B$2:$E$13,2,FALSE))","v":0.26},{"$f":"IF(B101=\"\",\"\",VLOOKUP(D101,Tablas!$B$2:$F$13,5,FALSE))","v":0.15},6798.6360000000004,1328182258.6883724,1187998442.4761827,1062610413.6638488,950456541.73868418,850140019.44426143,760411466.40810502,680153368.8802371,608366161.78912091,544155779.77560008,486722522.16064405,435351093.16694474,389401693.35147113,348302051.29827476,311540296.33119392,278658583.48049545,10222450692.653437,513690.98958057468]
[{"$f":"IF(ISBLANK(InfoPro!A94),\"\",InfoPro!A94)","v":"SC_1698_A1"},{"$f":"IF(ISBLANK(InfoPro!B94),\"\",InfoPro!B94)","v":"Barlovento 2_500MW"},{"$f":"IF(ISBLANK(InfoPro!E94),\"\",InfoPro!E94)","v":500},{"$f":"IF(ISBLANK(InfoPro!F94),\"\",InfoPro!F94)","v":"Eólico Offshore"},{"$f":"IF(ISBLANK(InfoPro!I94),\"\",YEAR(InfoPro!I94)-$G$4)","v":11},{"$f":"IF(B102=\"\",\"\",VLOOKUP(D102,Tablas!$B$2:$E$13,2,FALSE))","v":0.56999999999999995},{"$f":"IF(B102=\"\",\"\",VLOOKUP(D102,Tablas!$B$2:$F$13,5,FALSE))","v":0.06},149796,9592196486.4769421,8579782188.262023,7674223781.9874983,6864243096.5898924,6139752322.5312099,5491728374.3570738,4912100513.7362032,4393649833.3955297,3929919350.0854492,3515133586.8385053,3144126642.9682522,2812277855.964447,2515454253.9932442,2249959082.283761,2012485762.3289452,73827033131.798996,147654.06626359798]
[{"$f":"IF(ISBLANK(InfoPro!A95),\"\",InfoPro!A95)","v":"SC_1699_A1"},{"$f":"IF(ISBLANK(InfoPro!B95),\"\",InfoPro!B95)","v":"PARQUE EOLICO GUAJIRA II de 302.4 MW"},{"$f":"IF(ISBLANK(InfoPro!E95),\"\",InfoPro!E95)","v":302.39999999999998},{"$f":"IF(ISBLANK(InfoPro!F95),\"\",InfoPro!F95)","v":"Eólico Onshore"},{"$f":"IF(ISBLANK(InfoPro!I95),\"\",YEAR(InfoPro!I95)-$G$4)","v":4},{"$f":"IF(B103=\"\",\"\",VLOOKUP(D103,Tablas!$B$2:$E$13,2,FALSE))","v":0.56999999999999995},{"$f":"IF(B103=\"\",\"\",VLOOKUP(D103,Tablas!$B$2:$F$13,5,FALSE))","v":0.06},90596.62079999999,12665503918.547621,11328715490.650826,10133019222.40682,9063523454.7467098,8106908277.9487562,7251259640.383503,6485920966.3537598,5801360435.0212536,5189052267.4608707,4641370543.3460388,4151494224.8175669,3713322204.6668754,3321397320.8111577,2970838390.7076554,2657279419.2376161,97480965777.107025,322357.69106186187]
[{"$f":"IF(ISBLANK(InfoPro!A96),\"\",InfoPro!A96)","v":"SC_1699_A2"},{"$f":"IF(ISBLANK(InfoPro!B96),\"\",InfoPro!B96)","v":"PARQUE EOLICO GUAJIRA II de 302.4 MW"},{"$f":"IF(ISBLANK(InfoPro!E96),\"\",InfoPro!E96)","v":302.39999999999998},{"$f":"IF(ISBLANK(InfoPro!F96),\"\",InfoPro!F96)","v":"Eólico Onshore"},{"$f":"IF(ISBLANK(InfoPro!I96),\"\",YEAR(InfoPro!I96)-$G$4)","v":4},{"$f":"IF(B104=\"\",\"\",VLOOKUP(D104,Tablas!$B$2:$E$13,2,FALSE))","v":0.56999999999999995},{"$f":"IF(B104=\"\",\"\",VLOOKUP(D104,Tablas!$B$2:$F$13,5,FALSE))","v":0.06},90596.62079999999,12665503918.547621,11328715490.650826,10133019222.40682,9063523454.7467098,8106908277.9487562,7251259640.383503,6485920966.3537598,5801360435.0212536,5189052267.4608707,4641370543.3460388,4151494224.8175669,3713322204.6668754,3321397320.8111577,2970838390.7076554,2657279419.2376161,97480965777.107025,322357.69106186187]
[{"$f":"IF(ISBLANK(InfoPro!A97),\"\",InfoPro!A97)","v":"SC_1703_A1"},{"$f":"IF(ISBLANK(InfoPro!B97),\"\",InfoPro!B97)","v":"Barlovento 3 de 500 MW"},{"$f":"IF(ISBLANK(InfoPro!E97),\"\",InfoPro!E97)","v":500},{"$f":"IF(ISBLANK(InfoPro!F97),\"\",InfoPro!F97)","v":"Eólico Offshore"},{"$f":"IF(ISBLANK(InfoPro!I97),\"\",YEAR(InfoPro!I97)-$G$4)","v":11},{"$f":"IF(B105=\"\",\"\",VLOOKUP(D105,Tablas!$B$2:$E$13,2,FALSE))","v":0.56999999999999995},{"$f":"IF(B105=\"\",\"\",VLOOKUP(D105,Tablas!$B$2:$F$13,5,FALSE))","v":0.06},{"$f":"IF(C105=\"\",\"\",+C105*G105*F105*24*365)","v":149796},9592196486.4769421,8579782188.262023,7674223781.9874983,6864243096.5898924,6139752322.5312099,5491728374.3570738,4912100513.7362032,4393649833.3955297,3929919350.0854492,3515133586.8385053,3144126642.9682522,2812277855.964447,2515454253.9932442,2249959082.283761,2012485762.3289452,73827033131.798996,147654.06626359798]
[{"$f":"IF(ISBLANK(InfoPro!A98),\"\",InfoPro!A98)","v":"SC_1707_A1"},{"$f":"IF(ISBLANK(InfoPro!B98),\"\",InfoPro!B98)","v":"Santa Marta II - 50 MW"},{"$f":"IF(ISBLANK(InfoPro!E98),\"\",InfoPro!E98)","v":50},{"$f":"IF(ISBLANK(InfoPro!F98),\"\",InfoPro!F98)","v":"Solar FV"},{"$f":"IF(ISBLANK(InfoPro!I98),\"\",YEAR(InfoPro!I98)-$G$4)","v":2},{"$f":"IF(B106=\"\",\"\",VLOOKUP(D106,Tablas!$B$2:$E$13,2,FALSE))","v":0.26},{"$f":"IF(B106=\"\",\"\",VLOOKUP(D106,Tablas!$B$2:$F$13,5,FALSE))","v":0.15},17082,2984920709.7391524,2669875411.2157001,2388081763.1625228,2136030199.6086969,1910581573.8897107,1708928062.5131586,1528558195.4500525,1367225577.3256285,1222920909.9513669,1093846967.7561424,978396214.4509325,875130782.15646911,782764563.6462158,700147194.67461169,626249726.90036809,22973657852.440727,459473.15704881452]
[{"$f":"IF(ISBLANK(InfoPro!A99),\"\",InfoPro!A99)","v":"SC_1710_A1"},{"$f":"IF(ISBLANK(InfoPro!B99),\"\",InfoPro!B99)","v":"Parque Eólico Trupillo_100MW"},{"$f":"IF(ISBLANK(InfoPro!E99),\"\",InfoPro!E99)","v":100},{"$f":"IF(ISBLANK(InfoPro!F99),\"\",InfoPro!F99)","v":"Eólico Onshore"},{"$f":"IF(ISBLANK(InfoPro!I99),\"\",YEAR(InfoPro!I99)-$G$4)","v":5},{"$f":"IF(B107=\"\",\"\",VLOOKUP(D107,Tablas!$B$2:$E$13,2,FALSE))","v":0.56999999999999995},{"$f":"IF(B107=\"\",\"\",VLOOKUP(D107,Tablas!$B$2:$F$13,5,FALSE))","v":0.06},29959.200000000001,3746268350.0829453,3350866144.9758005,2997196909.6384625,2680855912.0200915,2397903320.2326403,2144815134.3762436,1918439297.2953885,1715956437.6524045,1534844756.3974998,1372848619.3179784,1227950464.5062418,1098345674.8714149,982420102.74724054,878729966.679106,785983870.01708972,28833424960.810547,288334.24960810546]
[{"$f":"IF(ISBLANK(InfoPro!A100),\"\",InfoPro!A100)","v":"SC_1710_A2"},{"$f":"IF(ISBLANK(InfoPro!B100),\"\",InfoPro!B100)","v":"Parque Eólico Trupillo_100MW"},{"$f":"IF(ISBLANK(InfoPro!E100),\"\",InfoPro!E100)","v":100},{"$f":"IF(ISBLANK(InfoPro!F100),\"\",InfoPro!F100)","v":"Eólico Onshore"},{"$f":"IF(ISBLANK(InfoPro!I100),\"\",YEAR(InfoPro!I100)-$G$4)","v":5},{"$f":"IF(B108=\"\",\"\",VLOOKUP(D108,Tablas!$B$2:$E$13,2,FALSE))","v":0.56999999999999995},{"$f":"IF(B108=\"\",\"\",VLOOKUP(D108,Tablas!$B$2:$F$13,5,FALSE))","v":0.06},29959.200000000001,3746268350.0829453,3350866144.9758005,2997196909.6384625,2680855912.0200915,2397903320.2326403,2144815134.3762436,1918439297.2953885,1715956437.6524045,1534844756.3974998,1372848619.3179784,1227950464.5062418,1098345674.8714149,982420102.74724054,878729966.679106,785983870.01708972,28833424960.810547,288334.24960810546]
[{"$f":"IF(ISBLANK(InfoPro!A101),\"\",InfoPro!A101)","v":"SC_1718_A1"},{"$f":"IF(ISBLANK(InfoPro!B101),\"\",InfoPro!B101)","v":"Autogeneración Drummond 50 MW"},{"$f":"IF(ISBLANK(InfoPro!E101),\"\",InfoPro!E101)","v":50},{"$f":"IF(ISBLANK(InfoPro!F101),\"\",InfoPro!F101)","v":"Solar FV"},{"$f":"IF(ISBLANK(InfoPro!I101),\"\",YEAR(InfoPro!I101)-$G$4)","v":0},{"$f":"IF(B109=\"\",\"\",VLOOKUP(D109,Tablas!$B$2:$E$13,2,FALSE))","v":0.26},{"$f":"IF(B109=\"\",\"\",VLOOKUP(D109,Tablas!$B$2:$F$13,5,FALSE))","v":0.15},17082,{"$f":"IF($H109=\"\",\"\",(1/(1+$C$4)^(I$7+$E109))*$H109*$I$5*$I$4)","v":3730924033.1999998},3337141353.4883723,2984920709.7391524,2669875411.2157001,2388081763.1625228,2136030199.6086969,1910581573.8897107,1708928062.5131586,1528558195.4500525,1367225577.3256285,1222920909.9513669,1093846967.7561424,978396214.4509325,875130782.15646911,782764563.6462158,28715326317.554119,574306.52635108237]
[{"$f":"IF(ISBLANK(InfoPro!A102),\"\",InfoPro!A102)","v":"SC_1722_A1"},{"$f":"IF(ISBLANK(InfoPro!B102),\"\",InfoPro!B102)","v":"PARQUE EÓLICO MONSAUI 9,9 MW"},{"$f":"IF(ISBLANK(InfoPro!E102),\"\",InfoPro!E102)","v":9.9},{"$f":"IF(ISBLANK(InfoPro!F102),\"\",InfoPro!F102)","v":"Eólico Onshore"},{"$f":"IF(ISBLANK(InfoPro!I102),\"\",YEAR(InfoPro!I102)-$G$4)","v":4},{"$f":"IF(B110=\"\",\"\",VLOOKUP(D110,Tablas!$B$2:$E$13,2,FALSE))","v":0.56999999999999995},{"$f":"IF(B110=\"\",\"\",VLOOKUP(D110,Tablas!$B$2:$F$13,5,FALSE))","v":0.06},2965.9607999999994,414644473.52388042,370880566.65821153,331735748.35260421,296722494.05420768,265404735.28998902,237392428.70303136,212336698.30324808,189925490.43224341,169879687.32758802,151949630.88335243,135912013.31247985,121567095.98611794,108736221.81227005,97259590.17197679,86994266.70123148,3191341141.5124321,322357.69106186181]
[{"$f":"IF(ISBLANK(InfoPro!A103),\"\",InfoPro!A103)","v":"SC_1722_A2"},{"$f":"IF(ISBLANK(InfoPro!B103),\"\",InfoPro!B103)","v":"PARQUE EÓLICO MONSAUI 9,9 MW"},{"$f":"IF(ISBLANK(InfoPro!E103),\"\",InfoPro!E103)","v":9.9},{"$f":"IF(ISBLANK(InfoPro!F103),\"\",InfoPro!F103)","v":"Eólico Onshore"},{"$f":"IF(ISBLANK(InfoPro!I103),\"\",YEAR(InfoPro!I103)-$G$4)","v":4},{"$f":"IF(B111=\"\",\"\",VLOOKUP(D111,Tablas!$B$2:$E$13,2,FALSE))","v":0.56999999999999995},{"$f":"IF(B111=\"\",\"\",VLOOKUP(D111,Tablas!$B$2:$F$13,5,FALSE))","v":0.06},2965.9607999999994,414644473.52388042,370880566.65821153,331735748.35260421,296722494.05420768,265404735.28998902,237392428.70303136,212336698.30324808,189925490.43224341,169879687.32758802,151949630.88335243,135912013.31247985,121567095.98611794,108736221.81227005,97259590.17197679,86994266.70123148,3191341141.5124321,322357.69106186181]
[{"$f":"IF(ISBLANK(InfoPro!A104),\"\",InfoPro!A104)","v":"SC_1728_A1"},{"$f":"IF(ISBLANK(InfoPro!B104),\"\",InfoPro!B104)","v":"PARQUE SOLAR CAÑAHUATE II - 190 MW"},{"$f":"IF(ISBLANK(InfoPro!E104),\"\",InfoPro!E104)","v":190},{"$f":"IF(ISBLANK(InfoPro!F104),\"\",InfoPro!F104)","v":"Solar FV"},{"$f":"IF(ISBLANK(InfoPro!I104),\"\",YEAR(InfoPro!I104)-$G$4)","v":1},{"$f":"IF(B112=\"\",\"\",VLOOKUP(D112,Tablas!$B$2:$E$13,2,FALSE))","v":0.26},{"$f":"IF(B112=\"\",\"\",VLOOKUP(D112,Tablas!$B$2:$F$13,5,FALSE))","v":0.15},64911.6,12681137143.255816,11342698697.00878,10145526562.619661,9074710700.0175877,8116914758.5130482,7260209980.7809019,6493926637.5500021,5808521142.7101984,5195457193.8373871,4647099457.8151951,4156618477.4733415,3717905614.9135427,3325496972.1945829,2974505341.8556199,2660559339.7635245,97601288020.309189,513690.98958057468]
[{"$f":"IF(ISBLANK(InfoPro!A105),\"\",InfoPro!A105)","v":"SC_1729_A1"},{"$f":"IF(ISBLANK(InfoPro!B105),\"\",InfoPro!B105)","v":"TR Solar 17"},{"$f":"IF(ISBLANK(InfoPro!E105),\"\",InfoPro!E105)","v":200},{"$f":"IF(ISBLANK(InfoPro!F105),\"\",InfoPro!F105)","v":"Solar FV"},{"$f":"IF(ISBLANK(InfoPro!I105),\"\",YEAR(InfoPro!I105)-$G$4)","v":3},{"$f":"IF(B113=\"\",\"\",VLOOKUP(D113,Tablas!$B$2:$E$13,2,FALSE))","v":0.26},{"$f":"IF(B113=\"\",\"\",VLOOKUP(D113,Tablas!$B$2:$F$13,5,FALSE))","v":0.15},68328,10679501644.862801,9552327052.6500912,8544120798.4347878,7642326295.5588427,6835712250.0526342,6114232781.80021,5468902309.3025141,4891683639.8054676,4375387871.0245695,3913584857.80373,3500523128.6258764,3131058254.5848632,2800588778.6984468,2504998907.6014724,2240607251.8796716,82195555822.685959,410977.77911342977]
[{"$f":"IF(ISBLANK(InfoPro!A106),\"\",InfoPro!A106)","v":"SC_1729_A2"},{"$f":"IF(ISBLANK(InfoPro!B106),\"\",InfoPro!B106)","v":"TR Solar 17"},{"$f":"IF(ISBLANK(InfoPro!E106),\"\",InfoPro!E106)","v":200},{"$f":"IF(ISBLANK(InfoPro!F106),\"\",InfoPro!F106)","v":"Solar FV"},{"$f":"IF(ISBLANK(InfoPro!I106),\"\",YEAR(InfoPro!I106)-$G$4)","v":3},{"$f":"IF(B114=\"\",\"\",VLOOKUP(D114,Tablas!$B$2:$E$13,2,FALSE))","v":0.26},{"$f":"IF(B114=\"\",\"\",VLOOKUP(D114,Tablas!$B$2:$F$13,5,FALSE))","v":0.15},68328,10679501644.862801,9552327052.6500912,8544120798.4347878,7642326295.5588427,6835712250.0526342,6114232781.80021,5468902309.3025141,4891683639.8054676,4375387871.0245695,3913584857.80373,3500523128.6258764,3131058254.5848632,2800588778.6984468,2504998907.6014724,2240607251.8796716,82195555822.685959,410977.77911342977]
[{"$f":"IF(ISBLANK(InfoPro!A107),\"\",InfoPro!A107)","v":"SC_1746_A1"},{"$f":"IF(ISBLANK(InfoPro!B107),\"\",InfoPro!B107)","v":"Parque Solar Nuevo Mundo"},{"$f":"IF(ISBLANK(InfoPro!E107),\"\",InfoPro!E107)","v":99.99},{"$f":"IF(ISBLANK(InfoPro!F107),\"\",InfoPro!F107)","v":"Solar FV"},{"$f":"IF(ISBLANK(InfoPro!I107),\"\",YEAR(InfoPro!I107)-$G$4)","v":2},{"$f":"IF(B115=\"\",\"\",VLOOKUP(D115,Tablas!$B$2:$E$13,2,FALSE))","v":0.26},{"$f":"IF(B115=\"\",\"\",VLOOKUP(D115,Tablas!$B$2:$F$13,5,FALSE))","v":0.15},34160.583599999998,5969244435.3363571,5339216847.3491573,4775685909.9724131,4271633193.1774712,3820781031.464643,3417514339.4138141,3056810679.2610145,2734177709.5357909,2445597235.7207437,2187475166.1187334,1956596749.6589746,1750086538.1565068,1565372574.3797023,1400154359.9102883,1252374203.8553562,45942720973.310959,459473.15704881446]
[{"$f":"IF(ISBLANK(InfoPro!A108),\"\",InfoPro!A108)","v":"SC_1746_A2"},{"$f":"IF(ISBLANK(InfoPro!B108),\"\",InfoPro!B108)","v":"Parque Solar Nuevo Mundo"},{"$f":"IF(ISBLANK(InfoPro!E108),\"\",InfoPro!E108)","v":99.99},{"$f":"IF(ISBLANK(InfoPro!F108),\"\",InfoPro!F108)","v":"Solar FV"},{"$f":"IF(ISBLANK(InfoPro!I108),\"\",YEAR(InfoPro!I108)-$G$4)","v":2},{"$f":"IF(B116=\"\",\"\",VLOOKUP(D116,Tablas!$B$2:$E$13,2,FALSE))","v":0.26},{"$f":"IF(B116=\"\",\"\",VLOOKUP(D116,Tablas!$B$2:$F$13,5,FALSE))","v":0.15},{"$f":"IF(C116=\"\",\"\",+C116*G116*F116*24*365)","v":34160.583599999998},5969244435.3363571,5339216847.3491573,4775685909.9724131,4271633193.1774712,3820781031.464643,3417514339.4138141,3056810679.2610145,2734177709.5357909,2445597235.7207437,2187475166.1187334,1956596749.6589746,1750086538.1565068,1565372574.3797023,1400154359.9102883,1252374203.8553562,{"$f":"IF(W116=\"\",\"\",SUM(I116:W116))","v":45942720973.310959},{"$f":"IF(C116=0,0,IF(X116=\"\",\"\",X116/(C116*1000)))","v":459473.15704881446}]
[{"$f":"IF(ISBLANK(InfoPro!A109),\"\",InfoPro!A109)","v":"SC_1752_A1"},{"$f":"IF(ISBLANK(InfoPro!B109),\"\",InfoPro!B109)","v":"OWF BERGANTIN 300"},{"$f":"IF(ISBLANK(InfoPro!E109),\"\",InfoPro!E109)","v":300},{"$f":"IF(ISBLANK(InfoPro!F109),\"\",InfoPro!F109)","v":"Eólico Offshore"},{"$f":"IF(ISBLANK(InfoPro!I109),\"\",YEAR(InfoPro!I109)-$G$4)","v":9},{"$f":"IF(B117=\"\",\"\",VLOOKUP(D117,Tablas!$B$2:$E$13,2,FALSE))","v":0.56999999999999995},{"$f":"IF(B117=\"\",\"\",VLOOKUP(D117,Tablas!$B$2:$F$13,5,FALSE))","v":0.06},89877.6,7193709960.6979218,6434445403.1287308,5755317891.8861647,5147869312.9572144,4604534269.1924992,4118545857.9539361,3683851393.5187268,3295037024.6142449,2947260308.2417221,2636189900.0373182,2357951610.0512695,2109080152.1031027,1886475985.780951,1687366713.5786684,1509272552.3959467,55366908336.13842,184556.3611204614]
[{"$f":"IF(ISBLANK(InfoPro!A110),\"\",InfoPro!A110)","v":"SC_1752_A2"},{"$f":"IF(ISBLANK(InfoPro!B110),\"\",InfoPro!B110)","v":"OWF BERGANTIN 300"},{"$f":"IF(ISBLANK(InfoPro!E110),\"\",InfoPro!E110)","v":300},{"$f":"IF(ISBLANK(InfoPro!F110),\"\",InfoPro!F110)","v":"Eólico Offshore"},{"$f":"IF(ISBLANK(InfoPro!I110),\"\",YEAR(InfoPro!I110)-$G$4)","v":9},{"$f":"IF(B118=\"\",\"\",VLOOKUP(D118,Tablas!$B$2:$E$13,2,FALSE))","v":0.56999999999999995},{"$f":"IF(B118=\"\",\"\",VLOOKUP(D118,Tablas!$B$2:$F$13,5,FALSE))","v":0.06},89877.6,7193709960.6979218,6434445403.1287308,5755317891.8861647,5147869312.9572144,4604534269.1924992,4118545857.9539361,3683851393.5187268,3295037024.6142449,2947260308.2417221,2636189900.0373182,2357951610.0512695,2109080152.1031027,1886475985.780951,1687366713.5786684,1509272552.3959467,55366908336.13842,184556.3611204614]
[{"$f":"IF(ISBLANK(InfoPro!A111),\"\",InfoPro!A111)","v":"SC_1756_A1"},{"$f":"IF(ISBLANK(InfoPro!B111),\"\",InfoPro!B111)","v":"Barlovento 4_500MW"},{"$f":"IF(ISBLANK(InfoPro!E111),\"\",InfoPro!E111)","v":500},{"$f":"IF(ISBLANK(InfoPro!F111),\"\",InfoPro!F111)","v":"Eólico Offshore"},{"$f":"IF(ISBLANK(InfoPro!I111),\"\",YEAR(InfoPro!I111)-$G$4)","v":11},{"$f":"IF(B119=\"\",\"\",VLOOKUP(D119,Tablas!$B$2:$E$13,2,FALSE))","v":0.56999999999999995},{"$f":"IF(B119=\"\",\"\",VLOOKUP(D119,Tablas!$B$2:$F$13,5,FALSE))","v":0.06},149796,9592196486.4769421,8579782188.262023,7674223781.9874983,6864243096.5898924,6139752322.5312099,5491728374.3570738,4912100513.7362032,4393649833.3955297,3929919350.0854492,3515133586.8385053,3144126642.9682522,2812277855.964447,2515454253.9932442,2249959082.283761,2012485762.3289452,73827033131.798996,147654.06626359798]
[{"$f":"IF(ISBLANK(InfoPro!A112),\"\",InfoPro!A112)","v":"SC_1765_A1"},{"$f":"IF(ISBLANK(InfoPro!B112),\"\",InfoPro!B112)","v":"PARQUE SOLAR CIUDAD BLANCA - 199 MW"},{"$f":"IF(ISBLANK(InfoPro!E112),\"\",InfoPro!E112)","v":19.899999999999999},{"$f":"IF(ISBLANK(InfoPro!F112),\"\",InfoPro!F112)","v":"Solar FV"},{"$f":"IF(ISBLANK(InfoPro!I112),\"\",YEAR(InfoPro!I112)-$G$4)","v":3},{"$f":"IF(B120=\"\",\"\",VLOOKUP(D120,Tablas!$B$2:$E$13,2,FALSE))","v":0.26},{"$f":"IF(B120=\"\",\"\",VLOOKUP(D120,Tablas!$B$2:$F$13,5,FALSE))","v":0.15},6798.6360000000004,1062610413.6638488,950456541.73868418,850140019.44426143,760411466.40810502,680153368.8802371,608366161.78912091,544155779.77560008,486722522.16064405,435351093.16694474,389401693.35147113,348302051.29827476,311540296.33119392,278658583.48049545,249247391.30634654,222940421.56202731,8178457804.3572559,410977.77911342995]
[{"$f":"IF(ISBLANK(InfoPro!A113),\"\",InfoPro!A113)","v":"SC_1765_A2"},{"$f":"IF(ISBLANK(InfoPro!B113),\"\",InfoPro!B113)","v":"PARQUE SOLAR CIUDAD BLANCA - 199 MW"},{"$f":"IF(ISBLANK(InfoPro!E113),\"\",InfoPro!E113)","v":19.899999999999999},{"$f":"IF(ISBLANK(InfoPro!F113),\"\",InfoPro!F113)","v":"Solar FV"},{"$f":"IF(ISBLANK(InfoPro!I113),\"\",YEAR(InfoPro!I113)-$G$4)","v":3},{"$f":"IF(B121=\"\",\"\",VLOOKUP(D121,Tablas!$B$2:$E$13,2,FALSE))","v":0.26},{"$f":"IF(B121=\"\",\"\",VLOOKUP(D121,Tablas!$B$2:$F$13,5,FALSE))","v":0.15},6798.6360000000004,1062610413.6638488,950456541.73868418,850140019.44426143,760411466.40810502,680153368.8802371,608366161.78912091,544155779.77560008,486722522.16064405,435351093.16694474,389401693.35147113,348302051.29827476,311540296.33119392,278658583.48049545,249247391.30634654,222940421.56202731,8178457804.3572559,410977.77911342995]
[{"$f":"IF(ISBLANK(InfoPro!A114),\"\",InfoPro!A114)","v":"SC_1779_A1"},{"$f":"IF(ISBLANK(InfoPro!B114),\"\",InfoPro!B114)","v":"Pétalo del Cesar III El Paso"},{"$f":"IF(ISBLANK(InfoPro!E114),\"\",InfoPro!E114)","v":9.9},{"$f":"IF(ISBLANK(InfoPro!F114),\"\",InfoPro!F114)","v":"Solar FV"},{"$f":"IF(ISBLANK(InfoPro!I114),\"\",YEAR(InfoPro!I114)-$G$4)","v":3},{"$f":"IF(B122=\"\",\"\",VLOOKUP(D122,Tablas!$B$2:$E$13,2,FALSE))","v":0.26},{"$f":"IF(B122=\"\",\"\",VLOOKUP(D122,Tablas!$B$2:$F$13,5,FALSE))","v":0.15},3382.2360000000003,528635331.42070878,472840189.10617959,422933979.52252197,378295151.63016278,338367756.37760544,302654522.69911039,270710664.31047446,242138340.1703707,216581699.61571625,193722450.46128464,173275894.86698088,154987383.60195073,138629144.54557315,123997445.92627291,110910058.96804376,4068680013.2229567,410977.77911342995]
[{"$f":"IF(ISBLANK(InfoPro!A115),\"\",InfoPro!A115)","v":"SC_1779_A2"},{"$f":"IF(ISBLANK(InfoPro!B115),\"\",InfoPro!B115)","v":"Pétalo del Cesar III El Paso"},{"$f":"IF(ISBLANK(InfoPro!E115),\"\",InfoPro!E115)","v":9.9},{"$f":"IF(ISBLANK(InfoPro!F115),\"\",InfoPro!F115)","v":"Solar FV"},{"$f":"IF(ISBLANK(InfoPro!I115),\"\",YEAR(InfoPro!I115)-$G$4)","v":3},{"$f":"IF(B123=\"\",\"\",VLOOKUP(D123,Tablas!$B$2:$E$13,2,FALSE))","v":0.26},{"$f":"IF(B123=\"\",\"\",VLOOKUP(D123,Tablas!$B$2:$F$13,5,FALSE))","v":0.15},3382.2360000000003,528635331.42070878,472840189.10617959,422933979.52252197,378295151.63016278,338367756.37760544,302654522.69911039,270710664.31047446,242138340.1703707,216581699.61571625,193722450.46128464,173275894.86698088,154987383.60195073,138629144.54557315,123997445.92627291,110910058.96804376,4068680013.2229567,410977.77911342995]
[{"$f":"IF(ISBLANK(InfoPro!A116),\"\",InfoPro!A116)","v":"SC_1783_A1"},{"$f":"IF(ISBLANK(InfoPro!B116),\"\",InfoPro!B116)","v":"Pétalo del Cesar IV La Loma"},{"$f":"IF(ISBLANK(InfoPro!E116),\"\",InfoPro!E116)","v":9.9},{"$f":"IF(ISBLANK(InfoPro!F116),\"\",InfoPro!F116)","v":"Solar FV"},{"$f":"IF(ISBLANK(InfoPro!I116),\"\",YEAR(InfoPro!I116)-$G$4)","v":3},{"$f":"IF(B124=\"\",\"\",VLOOKUP(D124,Tablas!$B$2:$E$13,2,FALSE))","v":0.26},{"$f":"IF(B124=\"\",\"\",VLOOKUP(D124,Tablas!$B$2:$F$13,5,FALSE))","v":0.15},3382.2360000000003,528635331.42070878,472840189.10617959,422933979.52252197,378295151.63016278,338367756.37760544,302654522.69911039,270710664.31047446,242138340.1703707,216581699.61571625,193722450.46128464,173275894.86698088,154987383.60195073,138629144.54557315,123997445.92627291,110910058.96804376,4068680013.2229567,410977.77911342995]
[{"$f":"IF(ISBLANK(InfoPro!A117),\"\",InfoPro!A117)","v":"SC_1783_A2"},{"$f":"IF(ISBLANK(InfoPro!B117),\"\",InfoPro!B117)","v":"Pétalo del Cesar IV La Loma"},{"$f":"IF(ISBLANK(InfoPro!E117),\"\",InfoPro!E117)","v":9.9},{"$f":"IF(ISBLANK(InfoPro!F117),\"\",InfoPro!F117)","v":"Solar FV"},{"$f":"IF(ISBLANK(InfoPro!I117),\"\",YEAR(InfoPro!I117)-$G$4)","v":3},{"$f":"IF(B125=\"\",\"\",VLOOKUP(D125,Tablas!$B$2:$E$13,2,FALSE))","v":0.26},{"$f":"IF(B125=\"\",\"\",VLOOKUP(D125,Tablas!$B$2:$F$13,5,FALSE))","v":0.15},3382.2360000000003,{"$f":"IF($H125=\"\",\"\",(1/(1+$C$4)^(I$7+$E125))*$H125*$I$5*$I$4)","v":528635331.42070878},472840189.10617959,422933979.52252197,378295151.63016278,338367756.37760544,302654522.69911039,270710664.31047446,242138340.1703707,216581699.61571625,193722450.46128464,173275894.86698088,154987383.60195073,138629144.54557315,123997445.92627291,110910058.96804376,4068680013.2229567,410977.77911342995]
[{"$f":"IF(ISBLANK(InfoPro!A118),\"\",InfoPro!A118)","v":"SC_1788_A1"},{"$f":"IF(ISBLANK(InfoPro!B118),\"\",InfoPro!B118)","v":"DSE COPEY 19.9"},{"$f":"IF(ISBLANK(InfoPro!E118),\"\",InfoPro!E118)","v":19.899999999999999},{"$f":"IF(ISBLANK(InfoPro!F118),\"\",InfoPro!F118)","v":"Solar FV"},{"$f":"IF(ISBLANK(InfoPro!I118),\"\",YEAR(InfoPro!I118)-$G$4)","v":2},{"$f":"IF(B126=\"\",\"\",VLOOKUP(D126,Tablas!$B$2:$E$13,2,FALSE))","v":0.26},{"$f":"IF(B126=\"\",\"\",VLOOKUP(D126,Tablas!$B$2:$F$13,5,FALSE))","v":0.15},6798.6360000000004,1187998442.4761827,1062610413.6638488,950456541.73868418,850140019.44426143,760411466.40810502,680153368.8802371,608366161.78912091,544155779.77560008,486722522.16064405,435351093.16694474,389401693.35147113,348302051.29827476,311540296.33119392,278658583.48049545,249247391.30634654,9143515825.27141,459473.15704881458]
[{"$f":"IF(ISBLANK(InfoPro!A119),\"\",InfoPro!A119)","v":"SC_1811_A1"},{"$f":"IF(ISBLANK(InfoPro!B119),\"\",InfoPro!B119)","v":"DSE RIOHACHA"},{"$f":"IF(ISBLANK(InfoPro!E119),\"\",InfoPro!E119)","v":9.9},{"$f":"IF(ISBLANK(InfoPro!F119),\"\",InfoPro!F119)","v":"Solar FV"},{"$f":"IF(ISBLANK(InfoPro!I119),\"\",YEAR(InfoPro!I119)-$G$4)","v":2},{"$f":"IF(B127=\"\",\"\",VLOOKUP(D127,Tablas!$B$2:$E$13,2,FALSE))","v":0.26},{"$f":"IF(B127=\"\",\"\",VLOOKUP(D127,Tablas!$B$2:$F$13,5,FALSE))","v":0.15},3382.2360000000003,591014300.52835214,528635331.42070878,472840189.10617959,422933979.52252197,378295151.63016278,338367756.37760544,302654522.69911039,270710664.31047446,242138340.1703707,216581699.61571625,193722450.46128464,173275894.86698088,154987383.60195073,138629144.54557315,123997445.92627291,4548784254.7832651,459473.15704881464]
[{"$f":"IF(ISBLANK(InfoPro!A120),\"\",InfoPro!A120)","v":"SC_1811_A2"},{"$f":"IF(ISBLANK(InfoPro!B120),\"\",InfoPro!B120)","v":"DSE RIOHACHA"},{"$f":"IF(ISBLANK(InfoPro!E120),\"\",InfoPro!E120)","v":9.9},{"$f":"IF(ISBLANK(InfoPro!F120),\"\",InfoPro!F120)","v":"Solar FV"},{"$f":"IF(ISBLANK(InfoPro!I120),\"\",YEAR(InfoPro!I120)-$G$4)","v":2},{"$f":"IF(B128=\"\",\"\",VLOOKUP(D128,Tablas!$B$2:$E$13,2,FALSE))","v":0.26},{"$f":"IF(B128=\"\",\"\",VLOOKUP(D128,Tablas!$B$2:$F$13,5,FALSE))","v":0.15},3382.2360000000003,591014300.52835214,528635331.42070878,472840189.10617959,422933979.52252197,378295151.63016278,338367756.37760544,302654522.69911039,270710664.31047446,242138340.1703707,216581699.61571625,193722450.46128464,173275894.86698088,154987383.60195073,138629144.54557315,123997445.92627291,4548784254.7832651,459473.15704881464]
[{"$f":"IF(ISBLANK(InfoPro!A121),\"\",InfoPro!A121)","v":"SC_1824_A1"},{"$f":"IF(ISBLANK(InfoPro!B121),\"\",InfoPro!B121)","v":"PGF ROSARIO II_45MW"},{"$f":"IF(ISBLANK(InfoPro!E121),\"\",InfoPro!E121)","v":45},{"$f":"IF(ISBLANK(InfoPro!F121),\"\",InfoPro!F121)","v":"Solar FV"},{"$f":"IF(ISBLANK(InfoPro!I121),\"\",YEAR(InfoPro!I121)-$G$4)","v":3},{"$f":"IF(B129=\"\",\"\",VLOOKUP(D129,Tablas!$B$2:$E$13,2,FALSE))","v":0.26},{"$f":"IF(B129=\"\",\"\",VLOOKUP(D129,Tablas!$B$2:$F$13,5,FALSE))","v":0.15},15373.800000000001,2402887870.0941305,2149273586.846271,1922427179.6478274,1719523416.5007398,1538035256.2618427,1375702375.9050472,1230503019.5930655,1100628818.9562302,984462270.98052812,880556593.00583911,787617703.94082224,704488107.28159428,630132475.20715058,563624754.21033144,504136631.67292619,18494000060.104343,410977.77911342983]
[{"$f":"IF(ISBLANK(InfoPro!A122),\"\",InfoPro!A122)","v":"SC_1824_A2"},{"$f":"IF(ISBLANK(InfoPro!B122),\"\",InfoPro!B122)","v":"PGF ROSARIO II_45MW"},{"$f":"IF(ISBLANK(InfoPro!E122),\"\",InfoPro!E122)","v":45},{"$f":"IF(ISBLANK(InfoPro!F122),\"\",InfoPro!F122)","v":"Solar FV"},{"$f":"IF(ISBLANK(InfoPro!I122),\"\",YEAR(InfoPro!I122)-$G$4)","v":3},{"$f":"IF(B130=\"\",\"\",VLOOKUP(D130,Tablas!$B$2:$E$13,2,FALSE))","v":0.26},{"$f":"IF(B130=\"\",\"\",VLOOKUP(D130,Tablas!$B$2:$F$13,5,FALSE))","v":0.15},15373.800000000001,2402887870.0941305,2149273586.846271,1922427179.6478274,1719523416.5007398,1538035256.2618427,1375702375.9050472,1230503019.5930655,1100628818.9562302,984462270.98052812,880556593.00583911,787617703.94082224,704488107.28159428,630132475.20715058,563624754.21033144,504136631.67292619,18494000060.104343,410977.77911342983]
[{"$f":"IF(ISBLANK(InfoPro!A123),\"\",InfoPro!A123)","v":"SC_1827_A1"},{"$f":"IF(ISBLANK(InfoPro!B123),\"\",InfoPro!B123)","v":"Guatapurí Solar I 9,9 MW"},{"$f":"IF(ISBLANK(InfoPro!E123),\"\",InfoPro!E123)","v":9.9},{"$f":"IF(ISBLANK(InfoPro!F123),\"\",InfoPro!F123)","v":"Solar FV"},{"$f":"IF(ISBLANK(InfoPro!I123),\"\",YEAR(InfoPro!I123)-$G$4)","v":2},{"$f":"IF(B131=\"\",\"\",VLOOKUP(D131,Tablas!$B$2:$E$13,2,FALSE))","v":0.26},{"$f":"IF(B131=\"\",\"\",VLOOKUP(D131,Tablas!$B$2:$F$13,5,FALSE))","v":0.15},3382.2360000000003,591014300.52835214,528635331.42070878,472840189.10617959,422933979.52252197,378295151.63016278,338367756.37760544,302654522.69911039,270710664.31047446,242138340.1703707,216581699.61571625,193722450.46128464,173275894.86698088,154987383.60195073,138629144.54557315,123997445.92627291,4548784254.7832651,459473.15704881464]
[{"$f":"IF(ISBLANK(InfoPro!A124),\"\",InfoPro!A124)","v":"SC_1827_A2"},{"$f":"IF(ISBLANK(InfoPro!B124),\"\",InfoPro!B124)","v":"Guatapurí Solar I 9,9 MW"},{"$f":"IF(ISBLANK(InfoPro!E124),\"\",InfoPro!E124)","v":9.9},{"$f":"IF(ISBLANK(InfoPro!F124),\"\",InfoPro!F124)","v":"Solar FV"},{"$f":"IF(ISBLANK(InfoPro!I124),\"\",YEAR(InfoPro!I124)-$G$4)","v":2},{"$f":"IF(B132=\"\",\"\",VLOOKUP(D132,Tablas!$B$2:$E$13,2,FALSE))","v":0.26},{"$f":"IF(B132=\"\",\"\",VLOOKUP(D132,Tablas!$B$2:$F$13,5,FALSE))","v":0.15},3382.2360000000003,591014300.52835214,528635331.42070878,472840189.10617959,422933979.52252197,378295151.63016278,338367756.37760544,302654522.69911039,270710664.31047446,242138340.1703707,216581699.61571625,193722450.46128464,173275894.86698088,154987383.60195073,138629144.54557315,123997445.92627291,4548784254.7832651,459473.15704881464]
[{"$f":"IF(ISBLANK(InfoPro!A125),\"\",InfoPro!A125)","v":"SC_1830_A1"},{"$f":"IF(ISBLANK(InfoPro!B125),\"\",InfoPro!B125)","v":"Guatapurí Solar II 9,9 MW"},{"$f":"IF(ISBLANK(InfoPro!E125),\"\",InfoPro!E125)","v":9.9},{"$f":"IF(ISBLANK(InfoPro!F125),\"\",InfoPro!F125)","v":"Solar FV"},{"$f":"IF(ISBLANK(InfoPro!I125),\"\",YEAR(InfoPro!I125)-$G$4)","v":2},{"$f":"IF(B133=\"\",\"\",VLOOKUP(D133,Tablas!$B$2:$E$13,2,FALSE))","v":0.26},{"$f":"IF(B133=\"\",\"\",VLOOKUP(D133,Tablas!$B$2:$F$13,5,FALSE))","v":0.15},3382.2360000000003,591014300.52835214,528635331.42070878,472840189.10617959,422933979.52252197,378295151.63016278,338367756.37760544,302654522.69911039,270710664.31047446,242138340.1703707,216581699.61571625,193722450.46128464,173275894.86698088,154987383.60195073,138629144.54557315,123997445.92627291,4548784254.7832651,459473.15704881464]
[{"$f":"IF(ISBLANK(InfoPro!A126),\"\",InfoPro!A126)","v":"SC_1830_A2"},{"$f":"IF(ISBLANK(InfoPro!B126),\"\",InfoPro!B126)","v":"Guatapurí Solar II 9,9 MW"},{"$f":"IF(ISBLANK(InfoPro!E126),\"\",InfoPro!E126)","v":9.9},{"$f":"IF(ISBLANK(InfoPro!F126),\"\",InfoPro!F126)","v":"Solar FV"},{"$f":"IF(ISBLANK(InfoPro!I126),\"\",YEAR(InfoPro!I126)-$G$4)","v":2},{"$f":"IF(B134=\"\",\"\",VLOOKUP(D134,Tablas!$B$2:$E$13,2,FALSE))","v":0.26},{"$f":"IF(B134=\"\",\"\",VLOOKUP(D134,Tablas!$B$2:$F$13,5,FALSE))","v":0.15},3382.2360000000003,591014300.52835214,528635331.42070878,472840189.10617959,422933979.52252197,378295151.63016278,338367756.37760544,302654522.69911039,270710664.31047446,242138340.1703707,216581699.61571625,193722450.46128464,173275894.86698088,154987383.60195073,138629144.54557315,123997445.92627291,4548784254.7832651,459473.15704881464]
[{"$f":"IF(ISBLANK(InfoPro!A127),\"\",InfoPro!A127)","v":"SC_1840_A1"},{"$f":"IF(ISBLANK(InfoPro!B127),\"\",InfoPro!B127)","v":"Granja Solar Asturias 9,9 MW"},{"$f":"IF(ISBLANK(InfoPro!E127),\"\",InfoPro!E127)","v":9.9},{"$f":"IF(ISBLANK(InfoPro!F127),\"\",InfoPro!F127)","v":"Solar FV"},{"$f":"IF(ISBLANK(InfoPro!I127),\"\",YEAR(InfoPro!I127)-$G$4)","v":2},{"$f":"IF(B135=\"\",\"\",VLOOKUP(D135,Tablas!$B$2:$E$13,2,FALSE))","v":0.26},{"$f":"IF(B135=\"\",\"\",VLOOKUP(D135,Tablas!$B$2:$F$13,5,FALSE))","v":0.15},3382.2360000000003,591014300.52835214,528635331.42070878,472840189.10617959,422933979.52252197,378295151.63016278,338367756.37760544,302654522.69911039,270710664.31047446,242138340.1703707,216581699.61571625,193722450.46128464,173275894.86698088,154987383.60195073,138629144.54557315,123997445.92627291,4548784254.7832651,459473.15704881464]
[{"$f":"IF(ISBLANK(InfoPro!A128),\"\",InfoPro!A128)","v":"SC_1840_A2"},{"$f":"IF(ISBLANK(InfoPro!B128),\"\",InfoPro!B128)","v":"Granja Solar Asturias 9,9 MW"},{"$f":"IF(ISBLANK(InfoPro!E128),\"\",InfoPro!E128)","v":9.9},{"$f":"IF(ISBLANK(InfoPro!F128),\"\",InfoPro!F128)","v":"Solar FV"},{"$f":"IF(ISBLANK(InfoPro!I128),\"\",YEAR(InfoPro!I128)-$G$4)","v":2},{"$f":"IF(B136=\"\",\"\",VLOOKUP(D136,Tablas!$B$2:$E$13,2,FALSE))","v":0.26},{"$f":"IF(B136=\"\",\"\",VLOOKUP(D136,Tablas!$B$2:$F$13,5,FALSE))","v":0.15},3382.2360000000003,591014300.52835214,528635331.42070878,472840189.10617959,422933979.52252197,378295151.63016278,338367756.37760544,302654522.69911039,270710664.31047446,242138340.1703707,216581699.61571625,193722450.46128464,173275894.86698088,154987383.60195073,138629144.54557315,123997445.92627291,4548784254.7832651,459473.15704881464]
[{"$f":"IF(ISBLANK(InfoPro!A129),\"\",InfoPro!A129)","v":"SC_1846_A1"},{"$f":"IF(ISBLANK(InfoPro!B129),\"\",InfoPro!B129)","v":"PARQUE DE GENERACIÓN SOLAR CYGNUS 50 MW"},{"$f":"IF(ISBLANK(InfoPro!E129),\"\",InfoPro!E129)","v":50},{"$f":"IF(ISBLANK(InfoPro!F129),\"\",InfoPro!F129)","v":"Solar FV"},{"$f":"IF(ISBLANK(InfoPro!I129),\"\",YEAR(InfoPro!I129)-$G$4)","v":2},{"$f":"IF(B137=\"\",\"\",VLOOKUP(D137,Tablas!$B$2:$E$13,2,FALSE))","v":0.26},{"$f":"IF(B137=\"\",\"\",VLOOKUP(D137,Tablas!$B$2:$F$13,5,FALSE))","v":0.15},17082,2984920709.7391524,2669875411.2157001,2388081763.1625228,2136030199.6086969,1910581573.8897107,1708928062.5131586,1528558195.4500525,1367225577.3256285,1222920909.9513669,1093846967.7561424,978396214.4509325,875130782.15646911,782764563.6462158,700147194.67461169,626249726.90036809,22973657852.440727,459473.15704881452]
[{"$f":"IF(ISBLANK(InfoPro!A130),\"\",InfoPro!A130)","v":"SC_1846_A2"},{"$f":"IF(ISBLANK(InfoPro!B130),\"\",InfoPro!B130)","v":"PARQUE DE GENERACIÓN SOLAR CYGNUS 50 MW"},{"$f":"IF(ISBLANK(InfoPro!E130),\"\",InfoPro!E130)","v":50},{"$f":"IF(ISBLANK(InfoPro!F130),\"\",InfoPro!F130)","v":"Solar FV"},{"$f":"IF(ISBLANK(InfoPro!I130),\"\",YEAR(InfoPro!I130)-$G$4)","v":2},{"$f":"IF(B138=\"\",\"\",VLOOKUP(D138,Tablas!$B$2:$E$13,2,FALSE))","v":0.26},{"$f":"IF(B138=\"\",\"\",VLOOKUP(D138,Tablas!$B$2:$F$13,5,FALSE))","v":0.15},17082,2984920709.7391524,2669875411.2157001,2388081763.1625228,2136030199.6086969,1910581573.8897107,1708928062.5131586,1528558195.4500525,1367225577.3256285,1222920909.9513669,1093846967.7561424,978396214.4509325,875130782.15646911,782764563.6462158,700147194.67461169,626249726.90036809,22973657852.440727,459473.15704881452]
[{"$f":"IF(ISBLANK(InfoPro!A131),\"\",InfoPro!A131)","v":"SC_1854_A1"},{"$f":"IF(ISBLANK(InfoPro!B131),\"\",InfoPro!B131)","v":"CATAY 1 - 200 MW"},{"$f":"IF(ISBLANK(InfoPro!E131),\"\",InfoPro!E131)","v":200},{"$f":"IF(ISBLANK(InfoPro!F131),\"\",InfoPro!F131)","v":"Solar FV"},{"$f":"IF(ISBLANK(InfoPro!I131),\"\",YEAR(InfoPro!I131)-$G$4)","v":4},{"$f":"IF(B139=\"\",\"\",VLOOKUP(D139,Tablas!$B$2:$E$13,2,FALSE))","v":0.26},{"$f":"IF(B139=\"\",\"\",VLOOKUP(D139,Tablas!$B$2:$F$13,5,FALSE))","v":0.15},68328,9552327052.6500912,8544120798.4347878,7642326295.5588427,6835712250.0526342,6114232781.80021,5468902309.3025141,4891683639.8054676,4375387871.0245695,3913584857.80373,3500523128.6258764,3131058254.5848632,2800588778.6984468,2504998907.6014724,2240607251.8796716,2004120976.6365576,73520175154.459732,367600.87577229866]
[{"$f":"IF(ISBLANK(InfoPro!A132),\"\",InfoPro!A132)","v":"SC_1854_A2"},{"$f":"IF(ISBLANK(InfoPro!B132),\"\",InfoPro!B132)","v":"CATAY 1 - 200 MW"},{"$f":"IF(ISBLANK(InfoPro!E132),\"\",InfoPro!E132)","v":200},{"$f":"IF(ISBLANK(InfoPro!F132),\"\",InfoPro!F132)","v":"Solar FV"},{"$f":"IF(ISBLANK(InfoPro!I132),\"\",YEAR(InfoPro!I132)-$G$4)","v":4},{"$f":"IF(B140=\"\",\"\",VLOOKUP(D140,Tablas!$B$2:$E$13,2,FALSE))","v":0.26},{"$f":"IF(B140=\"\",\"\",VLOOKUP(D140,Tablas!$B$2:$F$13,5,FALSE))","v":0.15},68328,9552327052.6500912,8544120798.4347878,7642326295.5588427,6835712250.0526342,6114232781.80021,5468902309.3025141,4891683639.8054676,4375387871.0245695,3913584857.80373,3500523128.6258764,3131058254.5848632,2800588778.6984468,2504998907.6014724,2240607251.8796716,2004120976.6365576,73520175154.459732,367600.87577229866]
[{"$f":"IF(ISBLANK(InfoPro!A133),\"\",InfoPro!A133)","v":"SC_1856_A1"},{"$f":"IF(ISBLANK(InfoPro!B133),\"\",InfoPro!B133)","v":"SIERRA NEVADA DE VERANO"},{"$f":"IF(ISBLANK(InfoPro!E133),\"\",InfoPro!E133)","v":99.9},{"$f":"IF(ISBLANK(InfoPro!F133),\"\",InfoPro!F133)","v":"Solar FV"},{"$f":"IF(ISBLANK(InfoPro!I133),\"\",YEAR(InfoPro!I133)-$G$4)","v":4},{"$f":"IF(B141=\"\",\"\",VLOOKUP(D141,Tablas!$B$2:$E$13,2,FALSE))","v":0.26},{"$f":"IF(B141=\"\",\"\",VLOOKUP(D141,Tablas!$B$2:$F$13,5,FALSE))","v":0.15},34129.836000000003,4771387362.7987213,4267788338.8181767,3817341984.6316428,3414438268.9012909,3054059274.5092049,2731716703.4966059,2443395978.0828314,2185506241.5767732,1954835636.4729629,1748511302.7486253,1563963598.1651392,1398894094.9598742,1251246954.3469355,1119183322.3138959,1001058427.8299607,36723327489.652641,367600.87577229872]
[{"$f":"IF(ISBLANK(InfoPro!A134),\"\",InfoPro!A134)","v":"SC_1856_A2"},{"$f":"IF(ISBLANK(InfoPro!B134),\"\",InfoPro!B134)","v":"SIERRA NEVADA DE VERANO"},{"$f":"IF(ISBLANK(InfoPro!E134),\"\",InfoPro!E134)","v":99.9},{"$f":"IF(ISBLANK(InfoPro!F134),\"\",InfoPro!F134)","v":"Solar FV"},{"$f":"IF(ISBLANK(InfoPro!I134),\"\",YEAR(InfoPro!I134)-$G$4)","v":4},{"$f":"IF(B142=\"\",\"\",VLOOKUP(D142,Tablas!$B$2:$E$13,2,FALSE))","v":0.26},{"$f":"IF(B142=\"\",\"\",VLOOKUP(D142,Tablas!$B$2:$F$13,5,FALSE))","v":0.15},34129.836000000003,{"$f":"IF($H142=\"\",\"\",(1/(1+$C$4)^(I$7+$E142))*$H142*$I$5*$I$4)","v":4771387362.7987213},4267788338.8181767,3817341984.6316428,3414438268.9012909,3054059274.5092049,2731716703.4966059,2443395978.0828314,2185506241.5767732,1954835636.4729629,1748511302.7486253,1563963598.1651392,1398894094.9598742,1251246954.3469355,1119183322.3138959,1001058427.8299607,36723327489.652641,367600.87577229872]
[{"$f":"IF(ISBLANK(InfoPro!A135),\"\",InfoPro!A135)","v":"SC_1857_A1"},{"$f":"IF(ISBLANK(InfoPro!B135),\"\",InfoPro!B135)","v":"MILAGROS DE VERANO"},{"$f":"IF(ISBLANK(InfoPro!E135),\"\",InfoPro!E135)","v":99.9},{"$f":"IF(ISBLANK(InfoPro!F135),\"\",InfoPro!F135)","v":"Solar FV"},{"$f":"IF(ISBLANK(InfoPro!I135),\"\",YEAR(InfoPro!I135)-$G$4)","v":5},{"$f":"IF(B143=\"\",\"\",VLOOKUP(D143,Tablas!$B$2:$E$13,2,FALSE))","v":0.26},{"$f":"IF(B143=\"\",\"\",VLOOKUP(D143,Tablas!$B$2:$F$13,5,FALSE))","v":0.15},34129.836000000003,4267788338.8181767,3817341984.6316428,3414438268.9012909,3054059274.5092049,2731716703.4966059,2443395978.0828314,2185506241.5767732,1954835636.4729629,1748511302.7486253,1563963598.1651392,1398894094.9598742,1251246954.3469355,1119183322.3138959,1001058427.8299607,895401098.23788989,32847341225.091808,328802.21446538344]
[{"$f":"IF(ISBLANK(InfoPro!A136),\"\",InfoPro!A136)","v":"SC_1857_A2"},{"$f":"IF(ISBLANK(InfoPro!B136),\"\",InfoPro!B136)","v":"MILAGROS DE VERANO"},{"$f":"IF(ISBLANK(InfoPro!E136),\"\",InfoPro!E136)","v":99.9},{"$f":"IF(ISBLANK(InfoPro!F136),\"\",InfoPro!F136)","v":"Solar FV"},{"$f":"IF(ISBLANK(InfoPro!I136),\"\",YEAR(InfoPro!I136)-$G$4)","v":5},{"$f":"IF(B144=\"\",\"\",VLOOKUP(D144,Tablas!$B$2:$E$13,2,FALSE))","v":0.26},{"$f":"IF(B144=\"\",\"\",VLOOKUP(D144,Tablas!$B$2:$F$13,5,FALSE))","v":0.15},34129.836000000003,4267788338.8181767,3817341984.6316428,3414438268.9012909,3054059274.5092049,2731716703.4966059,2443395978.0828314,2185506241.5767732,1954835636.4729629,1748511302.7486253,1563963598.1651392,1398894094.9598742,1251246954.3469355,1119183322.3138959,1001058427.8299607,895401098.23788989,32847341225.091808,328802.21446538344]
[{"$f":"IF(ISBLANK(InfoPro!A137),\"\",InfoPro!A137)","v":"SC_1861_A1"},{"$f":"IF(ISBLANK(InfoPro!B137),\"\",InfoPro!B137)","v":"Autogenerador CELSIA Solar Cenit Copey"},{"$f":"IF(ISBLANK(InfoPro!E137),\"\",InfoPro!E137)","v":6.6},{"$f":"IF(ISBLANK(InfoPro!F137),\"\",InfoPro!F137)","v":"Solar FV"},{"$f":"IF(ISBLANK(InfoPro!I137),\"\",YEAR(InfoPro!I137)-$G$4)","v":0},{"$f":"IF(B145=\"\",\"\",VLOOKUP(D145,Tablas!$B$2:$E$13,2,FALSE))","v":0.26},{"$f":"IF(B145=\"\",\"\",VLOOKUP(D145,Tablas!$B$2:$F$13,5,FALSE))","v":0.15},2254.8239999999996,492481972.38239992,440502658.66046506,394009533.68556803,352423554.2804724,315226792.73745292,281955986.3483479,252196767.75344184,225578504.25173691,201769681.79940689,180473776.20698291,161425560.11358041,144387799.7438108,129148300.30752306,115517263.24465391,103324922.40130046,3790423073.9171438,574306.52635108237]
[{"$f":"IF(ISBLANK(InfoPro!A138),\"\",InfoPro!A138)","v":"SC_1876_A1"},{"$f":"IF(ISBLANK(InfoPro!B138),\"\",InfoPro!B138)","v":"Nevada II 250 MW"},{"$f":"IF(ISBLANK(InfoPro!E138),\"\",InfoPro!E138)","v":250},{"$f":"IF(ISBLANK(InfoPro!F138),\"\",InfoPro!F138)","v":"Eólico Onshore"},{"$f":"IF(ISBLANK(InfoPro!I138),\"\",YEAR(InfoPro!I138)-$G$4)","v":7},{"$f":"IF(B146=\"\",\"\",VLOOKUP(D146,Tablas!$B$2:$E$13,2,FALSE))","v":0.56999999999999995},{"$f":"IF(B146=\"\",\"\",VLOOKUP(D146,Tablas!$B$2:$F$13,5,FALSE))","v":0.06},74898,7492992274.0961552,6702139780.0502291,5994758300.5816002,5362037835.940609,4796098243.238471,4289891094.1310115,3837111890.9937491,3432121548.2949462,3069876161.265605,2745864187.1785369,2456050256.8681016,2196824916.6977649,1964959675.0427246,1757566793.4192526,1572063321.4841261,57670356279.282875,230681.4251171315]
[{"$f":"IF(ISBLANK(InfoPro!A139),\"\",InfoPro!A139)","v":"SC_1876_A2"},{"$f":"IF(ISBLANK(InfoPro!B139),\"\",InfoPro!B139)","v":"Nevada II 250 MW"},{"$f":"IF(ISBLANK(InfoPro!E139),\"\",InfoPro!E139)","v":250},{"$f":"IF(ISBLANK(InfoPro!F139),\"\",InfoPro!F139)","v":"Eólico Onshore"},{"$f":"IF(ISBLANK(InfoPro!I139),\"\",YEAR(InfoPro!I139)-$G$4)","v":7},{"$f":"IF(B147=\"\",\"\",VLOOKUP(D147,Tablas!$B$2:$E$13,2,FALSE))","v":0.56999999999999995},{"$f":"IF(B147=\"\",\"\",VLOOKUP(D147,Tablas!$B$2:$F$13,5,FALSE))","v":0.06},74898,7492992274.0961552,6702139780.0502291,5994758300.5816002,5362037835.940609,4796098243.238471,4289891094.1310115,3837111890.9937491,3432121548.2949462,3069876161.265605,2745864187.1785369,2456050256.8681016,2196824916.6977649,1964959675.0427246,1757566793.4192526,1572063321.4841261,57670356279.282875,230681.4251171315]
[{"$f":"IF(ISBLANK(InfoPro!A140),\"\",InfoPro!A140)","v":"SC_1877_A1"},{"$f":"IF(ISBLANK(InfoPro!B140),\"\",InfoPro!B140)","v":"Planta Solar FV Corozal 9,9MW"},{"$f":"IF(ISBLANK(InfoPro!E140),\"\",InfoPro!E140)","v":9.9},{"$f":"IF(ISBLANK(InfoPro!F140),\"\",InfoPro!F140)","v":"Solar FV"},{"$f":"IF(ISBLANK(InfoPro!I140),\"\",YEAR(InfoPro!I140)-$G$4)","v":3},{"$f":"IF(B148=\"\",\"\",VLOOKUP(D148,Tablas!$B$2:$E$13,2,FALSE))","v":0.26},{"$f":"IF(B148=\"\",\"\",VLOOKUP(D148,Tablas!$B$2:$F$13,5,FALSE))","v":0.15},3382.2360000000003,528635331.42070878,472840189.10617959,422933979.52252197,378295151.63016278,338367756.37760544,302654522.69911039,270710664.31047446,242138340.1703707,216581699.61571625,193722450.46128464,173275894.86698088,154987383.60195073,138629144.54557315,123997445.92627291,110910058.96804376,4068680013.2229567,410977.77911342995]
[{"$f":"IF(ISBLANK(InfoPro!A141),\"\",InfoPro!A141)","v":"SC_1877_A2"},{"$f":"IF(ISBLANK(InfoPro!B141),\"\",InfoPro!B141)","v":"Planta Solar FV Corozal 9,9MW"},{"$f":"IF(ISBLANK(InfoPro!E141),\"\",InfoPro!E141)","v":9.9},{"$f":"IF(ISBLANK(InfoPro!F141),\"\",InfoPro!F141)","v":"Solar FV"},{"$f":"IF(ISBLANK(InfoPro!I141),\"\",YEAR(InfoPro!I141)-$G$4)","v":3},{"$f":"IF(B149=\"\",\"\",VLOOKUP(D149,Tablas!$B$2:$E$13,2,FALSE))","v":0.26},{"$f":"IF(B149=\"\",\"\",VLOOKUP(D149,Tablas!$B$2:$F$13,5,FALSE))","v":0.15},3382.2360000000003,528635331.42070878,472840189.10617959,422933979.52252197,378295151.63016278,338367756.37760544,302654522.69911039,270710664.31047446,242138340.1703707,216581699.61571625,193722450.46128464,173275894.86698088,154987383.60195073,138629144.54557315,123997445.92627291,110910058.96804376,4068680013.2229567,410977.77911342995]
[{"$f":"IF(ISBLANK(InfoPro!A142),\"\",InfoPro!A142)","v":"SC_1889_A1"},{"$f":"IF(ISBLANK(InfoPro!B142),\"\",InfoPro!B142)","v":"La Granja"},{"$f":"IF(ISBLANK(InfoPro!E142),\"\",InfoPro!E142)","v":19.899999999999999},{"$f":"IF(ISBLANK(InfoPro!F142),\"\",InfoPro!F142)","v":"Solar FV"},{"$f":"IF(ISBLANK(InfoPro!I142),\"\",YEAR(InfoPro!I142)-$G$4)","v":2},{"$f":"IF(B150=\"\",\"\",VLOOKUP(D150,Tablas!$B$2:$E$13,2,FALSE))","v":0.26},{"$f":"IF(B150=\"\",\"\",VLOOKUP(D150,Tablas!$B$2:$F$13,5,FALSE))","v":0.15},6798.6360000000004,1187998442.4761827,1062610413.6638488,950456541.73868418,850140019.44426143,760411466.40810502,680153368.8802371,608366161.78912091,544155779.77560008,486722522.16064405,435351093.16694474,389401693.35147113,348302051.29827476,311540296.33119392,278658583.48049545,249247391.30634654,9143515825.27141,459473.15704881458]
[{"$f":"IF(ISBLANK(InfoPro!A143),\"\",InfoPro!A143)","v":"SC_1889_A2"},{"$f":"IF(ISBLANK(InfoPro!B143),\"\",InfoPro!B143)","v":"La Granja"},{"$f":"IF(ISBLANK(InfoPro!E143),\"\",InfoPro!E143)","v":19.899999999999999},{"$f":"IF(ISBLANK(InfoPro!F143),\"\",InfoPro!F143)","v":"Solar FV"},{"$f":"IF(ISBLANK(InfoPro!I143),\"\",YEAR(InfoPro!I143)-$G$4)","v":2},{"$f":"IF(B151=\"\",\"\",VLOOKUP(D151,Tablas!$B$2:$E$13,2,FALSE))","v":0.26},{"$f":"IF(B151=\"\",\"\",VLOOKUP(D151,Tablas!$B$2:$F$13,5,FALSE))","v":0.15},6798.6360000000004,1187998442.4761827,1062610413.6638488,950456541.73868418,850140019.44426143,760411466.40810502,680153368.8802371,608366161.78912091,544155779.77560008,486722522.16064405,435351093.16694474,389401693.35147113,348302051.29827476,311540296.33119392,278658583.48049545,249247391.30634654,9143515825.27141,459473.15704881458]
[{"$f":"IF(ISBLANK(InfoPro!A144),\"\",InfoPro!A144)","v":"SC_1898_A1"},{"$f":"IF(ISBLANK(InfoPro!B144),\"\",InfoPro!B144)","v":"Parque Eólico Fenix_70MW"},{"$f":"IF(ISBLANK(InfoPro!E144),\"\",InfoPro!E144)","v":70},{"$f":"IF(ISBLANK(InfoPro!F144),\"\",InfoPro!F144)","v":"Eólico Onshore"},{"$f":"IF(ISBLANK(InfoPro!I144),\"\",YEAR(InfoPro!I144)-$G$4)","v":5},{"$f":"IF(B152=\"\",\"\",VLOOKUP(D152,Tablas!$B$2:$E$13,2,FALSE))","v":0.56999999999999995},{"$f":"IF(B152=\"\",\"\",VLOOKUP(D152,Tablas!$B$2:$F$13,5,FALSE))","v":0.06},{"$f":"IF(C152=\"\",\"\",+C152*G152*F152*24*365)","v":20971.439999999995},2622387845.0580611,2345606301.4830599,2098037836.7469232,1876599138.4140639,1678532324.1628478,1501370594.06337,1342907508.1067715,1201169506.356683,1074391329.4782495,960994033.5225848,859565325.15436912,768841972.40999019,687694071.92306817,615110976.67537403,550188709.01196265,{"$f":"IF(W152=\"\",\"\",SUM(I152:W152))","v":20183397472.567375},{"$f":"IF(C152=0,0,IF(X152=\"\",\"\",X152/(C152*1000)))","v":288334.24960810534}]
[{"$f":"IF(ISBLANK(InfoPro!A145),\"\",InfoPro!A145)","v":"SC_1898_A2"},{"$f":"IF(ISBLANK(InfoPro!B145),\"\",InfoPro!B145)","v":"Parque Eólico Fenix_70MW"},{"$f":"IF(ISBLANK(InfoPro!E145),\"\",InfoPro!E145)","v":70},{"$f":"IF(ISBLANK(InfoPro!F145),\"\",InfoPro!F145)","v":"Eólico Onshore"},{"$f":"IF(ISBLANK(InfoPro!I145),\"\",YEAR(InfoPro!I145)-$G$4)","v":5},{"$f":"IF(B153=\"\",\"\",VLOOKUP(D153,Tablas!$B$2:$E$13,2,FALSE))","v":0.56999999999999995},{"$f":"IF(B153=\"\",\"\",VLOOKUP(D153,Tablas!$B$2:$F$13,5,FALSE))","v":0.06},20971.439999999995,2622387845.0580611,2345606301.4830599,2098037836.7469232,1876599138.4140639,1678532324.1628478,1501370594.06337,1342907508.1067715,1201169506.356683,1074391329.4782495,960994033.5225848,859565325.15436912,768841972.40999019,687694071.92306817,615110976.67537403,550188709.01196265,20183397472.567375,288334.24960810534]
[{"$f":"IF(ISBLANK(InfoPro!A146),\"\",InfoPro!A146)","v":"SC_1904_A1"},{"$f":"IF(ISBLANK(InfoPro!B146),\"\",InfoPro!B146)","v":"Parque Solar Fotovoltaico Potreritos"},{"$f":"IF(ISBLANK(InfoPro!E146),\"\",InfoPro!E146)","v":168},{"$f":"IF(ISBLANK(InfoPro!F146),\"\",InfoPro!F146)","v":"Solar FV"},{"$f":"IF(ISBLANK(InfoPro!I146),\"\",YEAR(InfoPro!I146)-$G$4)","v":1},{"$f":"IF(B154=\"\",\"\",VLOOKUP(D154,Tablas!$B$2:$E$13,2,FALSE))","v":0.26},{"$f":"IF(B154=\"\",\"\",VLOOKUP(D154,Tablas!$B$2:$F$13,5,FALSE))","v":0.15},57395.519999999997,11212794947.720932,10029333584.723553,8970781381.6847534,8023954724.2260752,7177061470.6852207,6419554088.2694283,5741998290.0442123,5135955536.7121763,4593877939.8141108,4109014257.4365926,3675325811.6606383,3287411280.5551329,2940439428.0457363,2630088933.8512845,2352494574.1066952,86300086249.536545,513690.98958057468]
[{"$f":"IF(ISBLANK(InfoPro!A147),\"\",InfoPro!A147)","v":"SC_1904_A2"},{"$f":"IF(ISBLANK(InfoPro!B147),\"\",InfoPro!B147)","v":"Parque Solar Fotovoltaico Potreritos"},{"$f":"IF(ISBLANK(InfoPro!E147),\"\",InfoPro!E147)","v":168},{"$f":"IF(ISBLANK(InfoPro!F147),\"\",InfoPro!F147)","v":"Solar FV"},{"$f":"IF(ISBLANK(InfoPro!I147),\"\",YEAR(InfoPro!I147)-$G$4)","v":1},{"$f":"IF(B155=\"\",\"\",VLOOKUP(D155,Tablas!$B$2:$E$13,2,FALSE))","v":0.26},{"$f":"IF(B155=\"\",\"\",VLOOKUP(D155,Tablas!$B$2:$F$13,5,FALSE))","v":0.15},57395.519999999997,11212794947.720932,10029333584.723553,8970781381.6847534,8023954724.2260752,7177061470.6852207,6419554088.2694283,5741998290.0442123,5135955536.7121763,4593877939.8141108,4109014257.4365926,3675325811.6606383,3287411280.5551329,2940439428.0457363,2630088933.8512845,2352494574.1066952,86300086249.536545,513690.98958057468]
[{"$f":"IF(ISBLANK(InfoPro!A148),\"\",InfoPro!A148)","v":"SC_1905_A1"},{"$f":"IF(ISBLANK(InfoPro!B148),\"\",InfoPro!B148)","v":"Parque Solar Valle del Cesar"},{"$f":"IF(ISBLANK(InfoPro!E148),\"\",InfoPro!E148)","v":50},{"$f":"IF(ISBLANK(InfoPro!F148),\"\",InfoPro!F148)","v":"Solar FV"},{"$f":"IF(ISBLANK(InfoPro!I148),\"\",YEAR(InfoPro!I148)-$G$4)","v":3},{"$f":"IF(B156=\"\",\"\",VLOOKUP(D156,Tablas!$B$2:$E$13,2,FALSE))","v":0.26},{"$f":"IF(B156=\"\",\"\",VLOOKUP(D156,Tablas!$B$2:$F$13,5,FALSE))","v":0.15},17082,2669875411.2157001,2388081763.1625228,2136030199.6086969,1910581573.8897107,1708928062.5131586,1528558195.4500525,1367225577.3256285,1222920909.9513669,1093846967.7561424,978396214.4509325,875130782.15646911,782764563.6462158,700147194.67461169,626249726.90036809,560151812.96991789,20548888955.67149,410977.77911342977]
[{"$f":"IF(ISBLANK(InfoPro!A149),\"\",InfoPro!A149)","v":"SC_1905_A2"},{"$f":"IF(ISBLANK(InfoPro!B149),\"\",InfoPro!B149)","v":"Parque Solar Valle del Cesar"},{"$f":"IF(ISBLANK(InfoPro!E149),\"\",InfoPro!E149)","v":50},{"$f":"IF(ISBLANK(InfoPro!F149),\"\",InfoPro!F149)","v":"Solar FV"},{"$f":"IF(ISBLANK(InfoPro!I149),\"\",YEAR(InfoPro!I149)-$G$4)","v":3},{"$f":"IF(B157=\"\",\"\",VLOOKUP(D157,Tablas!$B$2:$E$13,2,FALSE))","v":0.26},{"$f":"IF(B157=\"\",\"\",VLOOKUP(D157,Tablas!$B$2:$F$13,5,FALSE))","v":0.15},17082,2669875411.2157001,2388081763.1625228,2136030199.6086969,1910581573.8897107,1708928062.5131586,1528558195.4500525,1367225577.3256285,1222920909.9513669,1093846967.7561424,978396214.4509325,875130782.15646911,782764563.6462158,700147194.67461169,626249726.90036809,560151812.96991789,20548888955.67149,410977.77911342977]
[{"$f":"IF(ISBLANK(InfoPro!A150),\"\",InfoPro!A150)","v":"SC_1908_A1"},{"$f":"IF(ISBLANK(InfoPro!B150),\"\",InfoPro!B150)","v":"Corocoro 500 MW"},{"$f":"IF(ISBLANK(InfoPro!E150),\"\",InfoPro!E150)","v":500},{"$f":"IF(ISBLANK(InfoPro!F150),\"\",InfoPro!F150)","v":"Solar FV"},{"$f":"IF(ISBLANK(InfoPro!I150),\"\",YEAR(InfoPro!I150)-$G$4)","v":3},{"$f":"IF(B158=\"\",\"\",VLOOKUP(D158,Tablas!$B$2:$E$13,2,FALSE))","v":0.26},{"$f":"IF(B158=\"\",\"\",VLOOKUP(D158,Tablas!$B$2:$F$13,5,FALSE))","v":0.15},170820,{"$f":"IF($H158=\"\",\"\",(1/(1+$C$4)^(I$7+$E158))*$H158*$I$5*$I$4)","v":26698754112.157005},23880817631.625229,21360301996.086971,19105815738.897106,17089280625.131584,15285581954.500525,13672255773.256283,12229209099.51367,10938469677.561426,9783962144.5093231,8751307821.5646915,7827645636.4621582,7001471946.7461166,6262497269.0036812,5601518129.6991787,205488889556.715,410977.77911343001]
[{"$f":"IF(ISBLANK(InfoPro!A151),\"\",InfoPro!A151)","v":"SC_1908_A2"},{"$f":"IF(ISBLANK(InfoPro!B151),\"\",InfoPro!B151)","v":"Corocoro 500 MW"},{"$f":"IF(ISBLANK(InfoPro!E151),\"\",InfoPro!E151)","v":500},{"$f":"IF(ISBLANK(InfoPro!F151),\"\",InfoPro!F151)","v":"Solar FV"},{"$f":"IF(ISBLANK(InfoPro!I151),\"\",YEAR(InfoPro!I151)-$G$4)","v":3},{"$f":"IF(B159=\"\",\"\",VLOOKUP(D159,Tablas!$B$2:$E$13,2,FALSE))","v":0.26},{"$f":"IF(B159=\"\",\"\",VLOOKUP(D159,Tablas!$B$2:$F$13,5,FALSE))","v":0.15},170820,26698754112.157005,23880817631.625229,21360301996.086971,19105815738.897106,17089280625.131584,15285581954.500525,13672255773.256283,12229209099.51367,10938469677.561426,9783962144.5093231,8751307821.5646915,7827645636.4621582,7001471946.7461166,6262497269.0036812,5601518129.6991787,205488889556.715,410977.77911343001]
[{"$f":"IF(ISBLANK(InfoPro!A152),\"\",InfoPro!A152)","v":"SC_1912_A1"},{"$f":"IF(ISBLANK(InfoPro!B152),\"\",InfoPro!B152)","v":"Draco de 22.5 MW (entrega 19,9 MW)"},{"$f":"IF(ISBLANK(InfoPro!E152),\"\",InfoPro!E152)","v":19.899999999999999},{"$f":"IF(ISBLANK(InfoPro!F152),\"\",InfoPro!F152)","v":"Solar FV"},{"$f":"IF(ISBLANK(InfoPro!I152),\"\",YEAR(InfoPro!I152)-$G$4)","v":2},{"$f":"IF(B160=\"\",\"\",VLOOKUP(D160,Tablas!$B$2:$E$13,2,FALSE))","v":0.26},{"$f":"IF(B160=\"\",\"\",VLOOKUP(D160,Tablas!$B$2:$F$13,5,FALSE))","v":0.15},6798.6360000000004,1187998442.4761827,1062610413.6638488,950456541.73868418,850140019.44426143,760411466.40810502,680153368.8802371,608366161.78912091,544155779.77560008,486722522.16064405,435351093.16694474,389401693.35147113,348302051.29827476,311540296.33119392,278658583.48049545,249247391.30634654,9143515825.27141,459473.15704881458]
[{"$f":"IF(ISBLANK(InfoPro!A153),\"\",InfoPro!A153)","v":"SC_1912_A2"},{"$f":"IF(ISBLANK(InfoPro!B153),\"\",InfoPro!B153)","v":"Draco de 22.5 MW (entrega 19,9 MW)"},{"$f":"IF(ISBLANK(InfoPro!E153),\"\",InfoPro!E153)","v":19.899999999999999},{"$f":"IF(ISBLANK(InfoPro!F153),\"\",InfoPro!F153)","v":"Solar FV"},{"$f":"IF(ISBLANK(InfoPro!I153),\"\",YEAR(InfoPro!I153)-$G$4)","v":2},{"$f":"IF(B161=\"\",\"\",VLOOKUP(D161,Tablas!$B$2:$E$13,2,FALSE))","v":0.26},{"$f":"IF(B161=\"\",\"\",VLOOKUP(D161,Tablas!$B$2:$F$13,5,FALSE))","v":0.15},6798.6360000000004,1187998442.4761827,1062610413.6638488,950456541.73868418,850140019.44426143,760411466.40810502,680153368.8802371,608366161.78912091,544155779.77560008,486722522.16064405,435351093.16694474,389401693.35147113,348302051.29827476,311540296.33119392,278658583.48049545,249247391.30634654,9143515825.27141,459473.15704881458]
[{"$f":"IF(ISBLANK(InfoPro!A154),\"\",InfoPro!A154)","v":"SC_1920_A1"},{"$f":"IF(ISBLANK(InfoPro!B154),\"\",InfoPro!B154)","v":"Parque Solar TERRɅ II 19.9 MW"},{"$f":"IF(ISBLANK(InfoPro!E154),\"\",InfoPro!E154)","v":19.899999999999999},{"$f":"IF(ISBLANK(InfoPro!F154),\"\",InfoPro!F154)","v":"Solar FV"},{"$f":"IF(ISBLANK(InfoPro!I154),\"\",YEAR(InfoPro!I154)-$G$4)","v":1},{"$f":"IF(B162=\"\",\"\",VLOOKUP(D162,Tablas!$B$2:$E$13,2,FALSE))","v":0.26},{"$f":"IF(B162=\"\",\"\",VLOOKUP(D162,Tablas!$B$2:$F$13,5,FALSE))","v":0.15},6798.6360000000004,1328182258.6883724,1187998442.4761827,1062610413.6638488,950456541.73868418,850140019.44426143,760411466.40810502,680153368.8802371,608366161.78912091,544155779.77560008,486722522.16064405,435351093.16694474,389401693.35147113,348302051.29827476,311540296.33119392,278658583.48049545,10222450692.653437,513690.98958057468]
[{"$f":"IF(ISBLANK(InfoPro!A155),\"\",InfoPro!A155)","v":"SC_1920_A2"},{"$f":"IF(ISBLANK(InfoPro!B155),\"\",InfoPro!B155)","v":"Parque Solar TERRɅ II 19.9 MW"},{"$f":"IF(ISBLANK(InfoPro!E155),\"\",InfoPro!E155)","v":19.899999999999999},{"$f":"IF(ISBLANK(InfoPro!F155),\"\",InfoPro!F155)","v":"Solar FV"},{"$f":"IF(ISBLANK(InfoPro!I155),\"\",YEAR(InfoPro!I155)-$G$4)","v":1},{"$f":"IF(B163=\"\",\"\",VLOOKUP(D163,Tablas!$B$2:$E$13,2,FALSE))","v":0.26},{"$f":"IF(B163=\"\",\"\",VLOOKUP(D163,Tablas!$B$2:$F$13,5,FALSE))","v":0.15},6798.6360000000004,1328182258.6883724,1187998442.4761827,1062610413.6638488,950456541.73868418,850140019.44426143,760411466.40810502,680153368.8802371,608366161.78912091,544155779.77560008,486722522.16064405,435351093.16694474,389401693.35147113,348302051.29827476,311540296.33119392,278658583.48049545,10222450692.653437,513690.98958057468]
[{"$f":"IF(ISBLANK(InfoPro!A156),\"\",InfoPro!A156)","v":"SC_1928_A1"},{"$f":"IF(ISBLANK(InfoPro!B156),\"\",InfoPro!B156)","v":"Jacamará 500 MW"},{"$f":"IF(ISBLANK(InfoPro!E156),\"\",InfoPro!E156)","v":500},{"$f":"IF(ISBLANK(InfoPro!F156),\"\",InfoPro!F156)","v":"Solar FV"},{"$f":"IF(ISBLANK(InfoPro!I156),\"\",YEAR(InfoPro!I156)-$G$4)","v":3},{"$f":"IF(B164=\"\",\"\",VLOOKUP(D164,Tablas!$B$2:$E$13,2,FALSE))","v":0.26},{"$f":"IF(B164=\"\",\"\",VLOOKUP(D164,Tablas!$B$2:$F$13,5,FALSE))","v":0.15},170820,26698754112.157005,23880817631.625229,21360301996.086971,19105815738.897106,17089280625.131584,15285581954.500525,13672255773.256283,12229209099.51367,10938469677.561426,9783962144.5093231,8751307821.5646915,7827645636.4621582,7001471946.7461166,6262497269.0036812,5601518129.6991787,205488889556.715,410977.77911343001]
[{"$f":"IF(ISBLANK(InfoPro!A157),\"\",InfoPro!A157)","v":"SC_1928_A2"},{"$f":"IF(ISBLANK(InfoPro!B157),\"\",InfoPro!B157)","v":"Jacamará 500 MW"},{"$f":"IF(ISBLANK(InfoPro!E157),\"\",InfoPro!E157)","v":500},{"$f":"IF(ISBLANK(InfoPro!F157),\"\",InfoPro!F157)","v":"Solar FV"},{"$f":"IF(ISBLANK(InfoPro!I157),\"\",YEAR(InfoPro!I157)-$G$4)","v":3},{"$f":"IF(B165=\"\",\"\",VLOOKUP(D165,Tablas!$B$2:$E$13,2,FALSE))","v":0.26},{"$f":"IF(B165=\"\",\"\",VLOOKUP(D165,Tablas!$B$2:$F$13,5,FALSE))","v":0.15},170820,26698754112.157005,23880817631.625229,21360301996.086971,19105815738.897106,17089280625.131584,15285581954.500525,13672255773.256283,12229209099.51367,10938469677.561426,9783962144.5093231,8751307821.5646915,7827645636.4621582,7001471946.7461166,6262497269.0036812,5601518129.6991787,205488889556.715,410977.77911343001]
[{"$f":"IF(ISBLANK(InfoPro!A158),\"\",InfoPro!A158)","v":"SC_1944_A1"},{"$f":"IF(ISBLANK(InfoPro!B158),\"\",InfoPro!B158)","v":"MANANTIALES DE VERANO de 99.9 MW"},{"$f":"IF(ISBLANK(InfoPro!E158),\"\",InfoPro!E158)","v":99.9},{"$f":"IF(ISBLANK(InfoPro!F158),\"\",InfoPro!F158)","v":"Solar FV"},{"$f":"IF(ISBLANK(InfoPro!I158),\"\",YEAR(InfoPro!I158)-$G$4)","v":3},{"$f":"IF(B166=\"\",\"\",VLOOKUP(D166,Tablas!$B$2:$E$13,2,FALSE))","v":0.26},{"$f":"IF(B166=\"\",\"\",VLOOKUP(D166,Tablas!$B$2:$F$13,5,FALSE))","v":0.15},34129.836000000003,5334411071.6089697,4771387362.7987213,4267788338.8181767,3817341984.6316428,3414438268.9012909,3054059274.5092049,2731716703.4966059,2443395978.0828314,2185506241.5767732,1954835636.4729629,1748511302.7486253,1563963598.1651392,1398894094.9598742,1251246954.3469355,1119183322.3138959,41056680133.431656,410977.77911343001]
[{"$f":"IF(ISBLANK(InfoPro!A159),\"\",InfoPro!A159)","v":"SC_1944_A2"},{"$f":"IF(ISBLANK(InfoPro!B159),\"\",InfoPro!B159)","v":"MANANTIALES DE VERANO de 99.9 MW"},{"$f":"IF(ISBLANK(InfoPro!E159),\"\",InfoPro!E159)","v":99.9},{"$f":"IF(ISBLANK(InfoPro!F159),\"\",InfoPro!F159)","v":"Solar FV"},{"$f":"IF(ISBLANK(InfoPro!I159),\"\",YEAR(InfoPro!I159)-$G$4)","v":3},{"$f":"IF(B167=\"\",\"\",VLOOKUP(D167,Tablas!$B$2:$E$13,2,FALSE))","v":0.26},{"$f":"IF(B167=\"\",\"\",VLOOKUP(D167,Tablas!$B$2:$F$13,5,FALSE))","v":0.15},34129.836000000003,5334411071.6089697,4771387362.7987213,4267788338.8181767,3817341984.6316428,3414438268.9012909,3054059274.5092049,2731716703.4966059,2443395978.0828314,2185506241.5767732,1954835636.4729629,1748511302.7486253,1563963598.1651392,1398894094.9598742,1251246954.3469355,1119183322.3138959,41056680133.431656,410977.77911343001]
[{"$f":"IF(ISBLANK(InfoPro!A160),\"\",InfoPro!A160)","v":"SC_1948_A1"},{"$f":"IF(ISBLANK(InfoPro!B160),\"\",InfoPro!B160)","v":"PGF ROSARIO I"},{"$f":"IF(ISBLANK(InfoPro!E160),\"\",InfoPro!E160)","v":95},{"$f":"IF(ISBLANK(InfoPro!F160),\"\",InfoPro!F160)","v":"Solar FV"},{"$f":"IF(ISBLANK(InfoPro!I160),\"\",YEAR(InfoPro!I160)-$G$4)","v":3},{"$f":"IF(B168=\"\",\"\",VLOOKUP(D168,Tablas!$B$2:$E$13,2,FALSE))","v":0.26},{"$f":"IF(B168=\"\",\"\",VLOOKUP(D168,Tablas!$B$2:$F$13,5,FALSE))","v":0.15},32455.8,5072763281.3098307,4537355350.0087938,4058457379.2565241,3630104990.390451,3246963318.775001,2904260571.3550992,2597728596.9186935,2323549728.9075975,2078309238.7366707,1858952807.4567714,1662748486.0972915,1487252670.92781,1330279669.8817623,1189874481.1106992,1064288444.642844,39042889015.775841,410977.77911342989]
[{"$f":"IF(ISBLANK(InfoPro!A161),\"\",InfoPro!A161)","v":"SC_1948_A2"},{"$f":"IF(ISBLANK(InfoPro!B161),\"\",InfoPro!B161)","v":"PGF ROSARIO I"},{"$f":"IF(ISBLANK(InfoPro!E161),\"\",InfoPro!E161)","v":95},{"$f":"IF(ISBLANK(InfoPro!F161),\"\",InfoPro!F161)","v":"Solar FV"},{"$f":"IF(ISBLANK(InfoPro!I161),\"\",YEAR(InfoPro!I161)-$G$4)","v":3},{"$f":"IF(B169=\"\",\"\",VLOOKUP(D169,Tablas!$B$2:$E$13,2,FALSE))","v":0.26},{"$f":"IF(B169=\"\",\"\",VLOOKUP(D169,Tablas!$B$2:$F$13,5,FALSE))","v":0.15},32455.8,5072763281.3098307,4537355350.0087938,4058457379.2565241,3630104990.390451,3246963318.775001,2904260571.3550992,2597728596.9186935,2323549728.9075975,2078309238.7366707,1858952807.4567714,1662748486.0972915,1487252670.92781,1330279669.8817623,1189874481.1106992,1064288444.642844,39042889015.775841,410977.77911342989]
[{"$f":"IF(ISBLANK(InfoPro!A162),\"\",InfoPro!A162)","v":"SC_1967_A1"},{"$f":"IF(ISBLANK(InfoPro!B162),\"\",InfoPro!B162)","v":"Solar Valledupar 4"},{"$f":"IF(ISBLANK(InfoPro!E162),\"\",InfoPro!E162)","v":19.899999999999999},{"$f":"IF(ISBLANK(InfoPro!F162),\"\",InfoPro!F162)","v":"Solar FV"},{"$f":"IF(ISBLANK(InfoPro!I162),\"\",YEAR(InfoPro!I162)-$G$4)","v":2},{"$f":"IF(B170=\"\",\"\",VLOOKUP(D170,Tablas!$B$2:$E$13,2,FALSE))","v":0.26},{"$f":"IF(B170=\"\",\"\",VLOOKUP(D170,Tablas!$B$2:$F$13,5,FALSE))","v":0.15},6798.6360000000004,1187998442.4761827,1062610413.6638488,950456541.73868418,850140019.44426143,760411466.40810502,680153368.8802371,608366161.78912091,544155779.77560008,486722522.16064405,435351093.16694474,389401693.35147113,348302051.29827476,311540296.33119392,278658583.48049545,249247391.30634654,9143515825.27141,459473.15704881458]
[{"$f":"IF(ISBLANK(InfoPro!A163),\"\",InfoPro!A163)","v":"SC_1967_A2"},{"$f":"IF(ISBLANK(InfoPro!B163),\"\",InfoPro!B163)","v":"Solar Valledupar 4"},{"$f":"IF(ISBLANK(InfoPro!E163),\"\",InfoPro!E163)","v":19.899999999999999},{"$f":"IF(ISBLANK(InfoPro!F163),\"\",InfoPro!F163)","v":"Solar FV"},{"$f":"IF(ISBLANK(InfoPro!I163),\"\",YEAR(InfoPro!I163)-$G$4)","v":2},{"$f":"IF(B171=\"\",\"\",VLOOKUP(D171,Tablas!$B$2:$E$13,2,FALSE))","v":0.26},{"$f":"IF(B171=\"\",\"\",VLOOKUP(D171,Tablas!$B$2:$F$13,5,FALSE))","v":0.15},6798.6360000000004,1187998442.4761827,1062610413.6638488,950456541.73868418,850140019.44426143,760411466.40810502,680153368.8802371,608366161.78912091,544155779.77560008,486722522.16064405,435351093.16694474,389401693.35147113,348302051.29827476,311540296.33119392,278658583.48049545,249247391.30634654,9143515825.27141,459473.15704881458]
[{"$f":"IF(ISBLANK(InfoPro!A164),\"\",InfoPro!A164)","v":"SC_1968_A1"},{"$f":"IF(ISBLANK(InfoPro!B164),\"\",InfoPro!B164)","v":"Solar Valledupar 5"},{"$f":"IF(ISBLANK(InfoPro!E164),\"\",InfoPro!E164)","v":19.899999999999999},{"$f":"IF(ISBLANK(InfoPro!F164),\"\",InfoPro!F164)","v":"Solar FV"},{"$f":"IF(ISBLANK(InfoPro!I164),\"\",YEAR(InfoPro!I164)-$G$4)","v":2},{"$f":"IF(B172=\"\",\"\",VLOOKUP(D172,Tablas!$B$2:$E$13,2,FALSE))","v":0.26},{"$f":"IF(B172=\"\",\"\",VLOOKUP(D172,Tablas!$B$2:$F$13,5,FALSE))","v":0.15},6798.6360000000004,1187998442.4761827,1062610413.6638488,950456541.73868418,850140019.44426143,760411466.40810502,680153368.8802371,608366161.78912091,544155779.77560008,486722522.16064405,435351093.16694474,389401693.35147113,348302051.29827476,311540296.33119392,278658583.48049545,249247391.30634654,9143515825.27141,459473.15704881458]
[{"$f":"IF(ISBLANK(InfoPro!A165),\"\",InfoPro!A165)","v":"SC_1968_A2"},{"$f":"IF(ISBLANK(InfoPro!B165),\"\",InfoPro!B165)","v":"Solar Valledupar 5"},{"$f":"IF(ISBLANK(InfoPro!E165),\"\",InfoPro!E165)","v":19.899999999999999},{"$f":"IF(ISBLANK(InfoPro!F165),\"\",InfoPro!F165)","v":"Solar FV"},{"$f":"IF(ISBLANK(InfoPro!I165),\"\",YEAR(InfoPro!I165)-$G$4)","v":2},{"$f":"IF(B173=\"\",\"\",VLOOKUP(D173,Tablas!$B$2:$E$13,2,FALSE))","v":0.26},{"$f":"IF(B173=\"\",\"\",VLOOKUP(D173,Tablas!$B$2:$F$13,5,FALSE))","v":0.15},6798.6360000000004,1187998442.4761827,1062610413.6638488,950456541.73868418,850140019.44426143,760411466.40810502,680153368.8802371,608366161.78912091,544155779.77560008,486722522.16064405,435351093.16694474,389401693.35147113,348302051.29827476,311540296.33119392,278658583.48049545,249247391.30634654,9143515825.27141,459473.15704881458]
[{"$f":"IF(ISBLANK(InfoPro!A166),\"\",InfoPro!A166)","v":"SC_1978_A1"},{"$f":"IF(ISBLANK(InfoPro!B166),\"\",InfoPro!B166)","v":"Solar El Copey"},{"$f":"IF(ISBLANK(InfoPro!E166),\"\",InfoPro!E166)","v":230},{"$f":"IF(ISBLANK(InfoPro!F166),\"\",InfoPro!F166)","v":"Solar FV"},{"$f":"IF(ISBLANK(InfoPro!I166),\"\",YEAR(InfoPro!I166)-$G$4)","v":2},{"$f":"IF(B174=\"\",\"\",VLOOKUP(D174,Tablas!$B$2:$E$13,2,FALSE))","v":0.26},{"$f":"IF(B174=\"\",\"\",VLOOKUP(D174,Tablas!$B$2:$F$13,5,FALSE))","v":0.15},78577.200000000012,13730635264.800104,12281426891.592224,10985176110.547607,9825738918.2000065,8788675239.8926716,7861069087.5605316,7031367699.070241,6289237655.6978912,5625436185.776289,5031696051.678256,4500622586.4742899,4025601597.9197588,3600716992.772593,3220677095.5032139,2880748743.741694,105678826121.22737,459473.15704881464]
[{"$f":"IF(ISBLANK(InfoPro!A167),\"\",InfoPro!A167)","v":"SC_1978_A2"},{"$f":"IF(ISBLANK(InfoPro!B167),\"\",InfoPro!B167)","v":"Solar El Copey"},{"$f":"IF(ISBLANK(InfoPro!E167),\"\",InfoPro!E167)","v":230},{"$f":"IF(ISBLANK(InfoPro!F167),\"\",InfoPro!F167)","v":"Solar FV"},{"$f":"IF(ISBLANK(InfoPro!I167),\"\",YEAR(InfoPro!I167)-$G$4)","v":2},{"$f":"IF(B175=\"\",\"\",VLOOKUP(D175,Tablas!$B$2:$E$13,2,FALSE))","v":0.26},{"$f":"IF(B175=\"\",\"\",VLOOKUP(D175,Tablas!$B$2:$F$13,5,FALSE))","v":0.15},78577.200000000012,{"$f":"IF($H175=\"\",\"\",(1/(1+$C$4)^(I$7+$E175))*$H175*$I$5*$I$4)","v":13730635264.800104},12281426891.592224,10985176110.547607,9825738918.2000065,8788675239.8926716,7861069087.5605316,7031367699.070241,6289237655.6978912,5625436185.776289,5031696051.678256,4500622586.4742899,4025601597.9197588,3600716992.772593,3220677095.5032139,2880748743.741694,105678826121.22737,459473.15704881464]
[{"$f":"IF(ISBLANK(InfoPro!A168),\"\",InfoPro!A168)","v":"SC_1981_A1"},{"$f":"IF(ISBLANK(InfoPro!B168),\"\",InfoPro!B168)","v":"Solar Valledupar 2"},{"$f":"IF(ISBLANK(InfoPro!E168),\"\",InfoPro!E168)","v":19.899999999999999},{"$f":"IF(ISBLANK(InfoPro!F168),\"\",InfoPro!F168)","v":"Solar FV"},{"$f":"IF(ISBLANK(InfoPro!I168),\"\",YEAR(InfoPro!I168)-$G$4)","v":0},{"$f":"IF(B176=\"\",\"\",VLOOKUP(D176,Tablas!$B$2:$E$13,2,FALSE))","v":0.26},{"$f":"IF(B176=\"\",\"\",VLOOKUP(D176,Tablas!$B$2:$F$13,5,FALSE))","v":0.15},6798.6360000000004,1484907765.2136002,1328182258.6883724,1187998442.4761827,1062610413.6638488,950456541.73868418,850140019.44426143,760411466.40810502,680153368.8802371,608366161.78912091,544155779.77560008,486722522.16064405,435351093.16694474,389401693.35147113,348302051.29827476,311540296.33119392,11428699874.386543,574306.5263510826]
[{"$f":"IF(ISBLANK(InfoPro!A169),\"\",InfoPro!A169)","v":"SC_1981_A2"},{"$f":"IF(ISBLANK(InfoPro!B169),\"\",InfoPro!B169)","v":"Solar Valledupar 2"},{"$f":"IF(ISBLANK(InfoPro!E169),\"\",InfoPro!E169)","v":19.899999999999999},{"$f":"IF(ISBLANK(InfoPro!F169),\"\",InfoPro!F169)","v":"Solar FV"},{"$f":"IF(ISBLANK(InfoPro!I169),\"\",YEAR(InfoPro!I169)-$G$4)","v":0},{"$f":"IF(B177=\"\",\"\",VLOOKUP(D177,Tablas!$B$2:$E$13,2,FALSE))","v":0.26},{"$f":"IF(B177=\"\",\"\",VLOOKUP(D177,Tablas!$B$2:$F$13,5,FALSE))","v":0.15},6798.6360000000004,1484907765.2136002,1328182258.6883724,1187998442.4761827,1062610413.6638488,950456541.73868418,850140019.44426143,760411466.40810502,680153368.8802371,608366161.78912091,544155779.77560008,486722522.16064405,435351093.16694474,389401693.35147113,348302051.29827476,311540296.33119392,11428699874.386543,574306.5263510826]
[{"$f":"IF(ISBLANK(InfoPro!A170),\"\",InfoPro!A170)","v":"SC_1982_A1"},{"$f":"IF(ISBLANK(InfoPro!B170),\"\",InfoPro!B170)","v":"Solar Valledupar 3"},{"$f":"IF(ISBLANK(InfoPro!E170),\"\",InfoPro!E170)","v":19.899999999999999},{"$f":"IF(ISBLANK(InfoPro!F170),\"\",InfoPro!F170)","v":"Solar FV"},{"$f":"IF(ISBLANK(InfoPro!I170),\"\",YEAR(InfoPro!I170)-$G$4)","v":2},{"$f":"IF(B178=\"\",\"\",VLOOKUP(D178,Tablas!$B$2:$E$13,2,FALSE))","v":0.26},{"$f":"IF(B178=\"\",\"\",VLOOKUP(D178,Tablas!$B$2:$F$13,5,FALSE))","v":0.15},6798.6360000000004,1187998442.4761827,1062610413.6638488,950456541.73868418,850140019.44426143,760411466.40810502,680153368.8802371,608366161.78912091,544155779.77560008,486722522.16064405,435351093.16694474,389401693.35147113,348302051.29827476,311540296.33119392,278658583.48049545,249247391.30634654,9143515825.27141,459473.15704881458]
[{"$f":"IF(ISBLANK(InfoPro!A171),\"\",InfoPro!A171)","v":"SC_1982_A2"},{"$f":"IF(ISBLANK(InfoPro!B171),\"\",InfoPro!B171)","v":"Solar Valledupar 3"},{"$f":"IF(ISBLANK(InfoPro!E171),\"\",InfoPro!E171)","v":19.899999999999999},{"$f":"IF(ISBLANK(InfoPro!F171),\"\",InfoPro!F171)","v":"Solar FV"},{"$f":"IF(ISBLANK(InfoPro!I171),\"\",YEAR(InfoPro!I171)-$G$4)","v":2},{"$f":"IF(B179=\"\",\"\",VLOOKUP(D179,Tablas!$B$2:$E$13,2,FALSE))","v":0.26},{"$f":"IF(B179=\"\",\"\",VLOOKUP(D179,Tablas!$B$2:$F$13,5,FALSE))","v":0.15},6798.6360000000004,1187998442.4761827,1062610413.6638488,950456541.73868418,850140019.44426143,760411466.40810502,680153368.8802371,608366161.78912091,544155779.77560008,486722522.16064405,435351093.16694474,389401693.35147113,348302051.29827476,311540296.33119392,278658583.48049545,249247391.30634654,9143515825.27141,459473.15704881458]
[{"$f":"IF(ISBLANK(InfoPro!A172),\"\",InfoPro!A172)","v":"SC_1989_A1"},{"$f":"IF(ISBLANK(InfoPro!B172),\"\",InfoPro!B172)","v":"Solar Valledupar 1"},{"$f":"IF(ISBLANK(InfoPro!E172),\"\",InfoPro!E172)","v":19.899999999999999},{"$f":"IF(ISBLANK(InfoPro!F172),\"\",InfoPro!F172)","v":"Solar FV"},{"$f":"IF(ISBLANK(InfoPro!I172),\"\",YEAR(InfoPro!I172)-$G$4)","v":0},{"$f":"IF(B180=\"\",\"\",VLOOKUP(D180,Tablas!$B$2:$E$13,2,FALSE))","v":0.26},{"$f":"IF(B180=\"\",\"\",VLOOKUP(D180,Tablas!$B$2:$F$13,5,FALSE))","v":0.15},6798.6360000000004,1484907765.2136002,1328182258.6883724,1187998442.4761827,1062610413.6638488,950456541.73868418,850140019.44426143,760411466.40810502,680153368.8802371,608366161.78912091,544155779.77560008,486722522.16064405,435351093.16694474,389401693.35147113,348302051.29827476,311540296.33119392,11428699874.386543,574306.5263510826]
[{"$f":"IF(ISBLANK(InfoPro!A173),\"\",InfoPro!A173)","v":"SC_1989_A2"},{"$f":"IF(ISBLANK(InfoPro!B173),\"\",InfoPro!B173)","v":"Solar Valledupar 1"},{"$f":"IF(ISBLANK(InfoPro!E173),\"\",InfoPro!E173)","v":19.899999999999999},{"$f":"IF(ISBLANK(InfoPro!F173),\"\",InfoPro!F173)","v":"Solar FV"},{"$f":"IF(ISBLANK(InfoPro!I173),\"\",YEAR(InfoPro!I173)-$G$4)","v":0},{"$f":"IF(B181=\"\",\"\",VLOOKUP(D181,Tablas!$B$2:$E$13,2,FALSE))","v":0.26},{"$f":"IF(B181=\"\",\"\",VLOOKUP(D181,Tablas!$B$2:$F$13,5,FALSE))","v":0.15},6798.6360000000004,1484907765.2136002,1328182258.6883724,1187998442.4761827,1062610413.6638488,950456541.73868418,850140019.44426143,760411466.40810502,680153368.8802371,608366161.78912091,544155779.77560008,486722522.16064405,435351093.16694474,389401693.35147113,348302051.29827476,311540296.33119392,11428699874.386543,574306.5263510826]
[{"$f":"IF(ISBLANK(InfoPro!A174),\"\",InfoPro!A174)","v":"SC_1992_A1"},{"$f":"IF(ISBLANK(InfoPro!B174),\"\",InfoPro!B174)","v":"Parque Solar TERRɅ III"},{"$f":"IF(ISBLANK(InfoPro!E174),\"\",InfoPro!E174)","v":19.899999999999999},{"$f":"IF(ISBLANK(InfoPro!F174),\"\",InfoPro!F174)","v":"Solar FV"},{"$f":"IF(ISBLANK(InfoPro!I174),\"\",YEAR(InfoPro!I174)-$G$4)","v":1},{"$f":"IF(B182=\"\",\"\",VLOOKUP(D182,Tablas!$B$2:$E$13,2,FALSE))","v":0.26},{"$f":"IF(B182=\"\",\"\",VLOOKUP(D182,Tablas!$B$2:$F$13,5,FALSE))","v":0.15},6798.6360000000004,1328182258.6883724,1187998442.4761827,1062610413.6638488,950456541.73868418,850140019.44426143,760411466.40810502,680153368.8802371,608366161.78912091,544155779.77560008,486722522.16064405,435351093.16694474,389401693.35147113,348302051.29827476,311540296.33119392,278658583.48049545,10222450692.653437,513690.98958057468]
[{"$f":"IF(ISBLANK(InfoPro!A175),\"\",InfoPro!A175)","v":"SC_2005_A1"},{"$f":"IF(ISBLANK(InfoPro!B175),\"\",InfoPro!B175)","v":"PARQUE SOLAR CATACA"},{"$f":"IF(ISBLANK(InfoPro!E175),\"\",InfoPro!E175)","v":9.9},{"$f":"IF(ISBLANK(InfoPro!F175),\"\",InfoPro!F175)","v":"Solar FV"},{"$f":"IF(ISBLANK(InfoPro!I175),\"\",YEAR(InfoPro!I175)-$G$4)","v":1},{"$f":"IF(B183=\"\",\"\",VLOOKUP(D183,Tablas!$B$2:$E$13,2,FALSE))","v":0.26},{"$f":"IF(B183=\"\",\"\",VLOOKUP(D183,Tablas!$B$2:$F$13,5,FALSE))","v":0.15},3382.2360000000003,660753987.99069786,591014300.52835214,528635331.42070878,472840189.10617959,422933979.52252197,378295151.63016278,338367756.37760544,302654522.69911039,270710664.31047446,242138340.1703707,216581699.61571625,193722450.46128464,173275894.86698088,154987383.60195073,138629144.54557315,5085540796.8476896,513690.98958057474]
[{"$f":"IF(ISBLANK(InfoPro!A176),\"\",InfoPro!A176)","v":"SC_2010_A1"},{"$f":"IF(ISBLANK(InfoPro!B176),\"\",InfoPro!B176)","v":"PARQUE SOLAR SAN JUAN_5MW"},{"$f":"IF(ISBLANK(InfoPro!E176),\"\",InfoPro!E176)","v":5},{"$f":"IF(ISBLANK(InfoPro!F176),\"\",InfoPro!F176)","v":"Solar FV"},{"$f":"IF(ISBLANK(InfoPro!I176),\"\",YEAR(InfoPro!I176)-$G$4)","v":1},{"$f":"IF(B184=\"\",\"\",VLOOKUP(D184,Tablas!$B$2:$E$13,2,FALSE))","v":0.26},{"$f":"IF(B184=\"\",\"\",VLOOKUP(D184,Tablas!$B$2:$F$13,5,FALSE))","v":0.15},1708.1999999999998,333714135.3488372,298492070.97391522,266987541.12157002,238808176.31625226,213603019.9608697,191058157.38897109,170892806.25131583,152855819.54500523,136722557.73256281,122292090.99513668,109384696.77561425,97839621.445093229,87513078.215646908,78276456.364621565,70014719.467461154,2568454947.902873,513690.98958057462]
[{"$f":"IF(ISBLANK(InfoPro!A177),\"\",InfoPro!A177)","v":"SC_2011_A1"},{"$f":"IF(ISBLANK(InfoPro!B177),\"\",InfoPro!B177)","v":"PE Vientos de la Manita"},{"$f":"IF(ISBLANK(InfoPro!E177),\"\",InfoPro!E177)","v":9.9},{"$f":"IF(ISBLANK(InfoPro!F177),\"\",InfoPro!F177)","v":"Eólico Onshore"},{"$f":"IF(ISBLANK(InfoPro!I177),\"\",YEAR(InfoPro!I177)-$G$4)","v":2},{"$f":"IF(B185=\"\",\"\",VLOOKUP(D185,Tablas!$B$2:$E$13,2,FALSE))","v":0.56999999999999995},{"$f":"IF(B185=\"\",\"\",VLOOKUP(D185,Tablas!$B$2:$F$13,5,FALSE))","v":0.06},2965.9607999999994,518274078.92486256,463572521.39969826,414644473.52388042,370880566.65821153,331735748.35260421,296722494.05420768,265404735.28998902,237392428.70303136,212336698.30324808,189925490.43224341,169879687.32758802,151949630.88335243,135912013.31247985,121567095.98611794,108736221.81227005,3988933884.9637847,402922.61464280653]
[{"$f":"IF(ISBLANK(InfoPro!A178),\"\",InfoPro!A178)","v":"SC_2011_A2"},{"$f":"IF(ISBLANK(InfoPro!B178),\"\",InfoPro!B178)","v":"PE Vientos de la Manita"},{"$f":"IF(ISBLANK(InfoPro!E178),\"\",InfoPro!E178)","v":9.9},{"$f":"IF(ISBLANK(InfoPro!F178),\"\",InfoPro!F178)","v":"Eólico Onshore"},{"$f":"IF(ISBLANK(InfoPro!I178),\"\",YEAR(InfoPro!I178)-$G$4)","v":2},{"$f":"IF(B186=\"\",\"\",VLOOKUP(D186,Tablas!$B$2:$E$13,2,FALSE))","v":0.56999999999999995},{"$f":"IF(B186=\"\",\"\",VLOOKUP(D186,Tablas!$B$2:$F$13,5,FALSE))","v":0.06},2965.9607999999994,518274078.92486256,463572521.39969826,414644473.52388042,370880566.65821153,331735748.35260421,296722494.05420768,265404735.28998902,237392428.70303136,212336698.30324808,189925490.43224341,169879687.32758802,151949630.88335243,135912013.31247985,121567095.98611794,108736221.81227005,3988933884.9637847,402922.61464280653]
[{"$f":"IF(ISBLANK(InfoPro!A179),\"\",InfoPro!A179)","v":"SC_2020_A1"},{"$f":"IF(ISBLANK(InfoPro!B179),\"\",InfoPro!B179)","v":"San Juan Solar I 9,9 MW"},{"$f":"IF(ISBLANK(InfoPro!E179),\"\",InfoPro!E179)","v":9.9},{"$f":"IF(ISBLANK(InfoPro!F179),\"\",InfoPro!F179)","v":"Solar FV"},{"$f":"IF(ISBLANK(InfoPro!I179),\"\",YEAR(InfoPro!I179)-$G$4)","v":1},{"$f":"IF(B187=\"\",\"\",VLOOKUP(D187,Tablas!$B$2:$E$13,2,FALSE))","v":0.26},{"$f":"IF(B187=\"\",\"\",VLOOKUP(D187,Tablas!$B$2:$F$13,5,FALSE))","v":0.15},3382.2360000000003,660753987.99069786,591014300.52835214,528635331.42070878,472840189.10617959,422933979.52252197,378295151.63016278,338367756.37760544,302654522.69911039,270710664.31047446,242138340.1703707,216581699.61571625,193722450.46128464,173275894.86698088,154987383.60195073,138629144.54557315,5085540796.8476896,513690.98958057474]
[{"$f":"IF(ISBLANK(InfoPro!A180),\"\",InfoPro!A180)","v":"SC_2020_A2"},{"$f":"IF(ISBLANK(InfoPro!B180),\"\",InfoPro!B180)","v":"San Juan Solar I 9,9 MW"},{"$f":"IF(ISBLANK(InfoPro!E180),\"\",InfoPro!E180)","v":9.9},{"$f":"IF(ISBLANK(InfoPro!F180),\"\",InfoPro!F180)","v":"Solar FV"},{"$f":"IF(ISBLANK(InfoPro!I180),\"\",YEAR(InfoPro!I180)-$G$4)","v":1},{"$f":"IF(B188=\"\",\"\",VLOOKUP(D188,Tablas!$B$2:$E$13,2,FALSE))","v":0.26},{"$f":"IF(B188=\"\",\"\",VLOOKUP(D188,Tablas!$B$2:$F$13,5,FALSE))","v":0.15},3382.2360000000003,660753987.99069786,591014300.52835214,528635331.42070878,472840189.10617959,422933979.52252197,378295151.63016278,338367756.37760544,302654522.69911039,270710664.31047446,242138340.1703707,216581699.61571625,193722450.46128464,173275894.86698088,154987383.60195073,138629144.54557315,5085540796.8476896,513690.98958057474]
[{"$f":"IF(ISBLANK(InfoPro!A181),\"\",InfoPro!A181)","v":"SC_2021_A1"},{"$f":"IF(ISBLANK(InfoPro!B181),\"\",InfoPro!B181)","v":"San Juan Solar II 9,9 MW"},{"$f":"IF(ISBLANK(InfoPro!E181),\"\",InfoPro!E181)","v":9.9},{"$f":"IF(ISBLANK(InfoPro!F181),\"\",InfoPro!F181)","v":"Solar FV"},{"$f":"IF(ISBLANK(InfoPro!I181),\"\",YEAR(InfoPro!I181)-$G$4)","v":1},{"$f":"IF(B189=\"\",\"\",VLOOKUP(D189,Tablas!$B$2:$E$13,2,FALSE))","v":0.26},{"$f":"IF(B189=\"\",\"\",VLOOKUP(D189,Tablas!$B$2:$F$13,5,FALSE))","v":0.15},3382.2360000000003,660753987.99069786,591014300.52835214,528635331.42070878,472840189.10617959,422933979.52252197,378295151.63016278,338367756.37760544,302654522.69911039,270710664.31047446,242138340.1703707,216581699.61571625,193722450.46128464,173275894.86698088,154987383.60195073,138629144.54557315,5085540796.8476896,513690.98958057474]
[{"$f":"IF(ISBLANK(InfoPro!A182),\"\",InfoPro!A182)","v":"SC_2021_A2"},{"$f":"IF(ISBLANK(InfoPro!B182),\"\",InfoPro!B182)","v":"San Juan Solar II 9,9 MW"},{"$f":"IF(ISBLANK(InfoPro!E182),\"\",InfoPro!E182)","v":9.9},{"$f":"IF(ISBLANK(InfoPro!F182),\"\",InfoPro!F182)","v":"Solar FV"},{"$f":"IF(ISBLANK(InfoPro!I182),\"\",YEAR(InfoPro!I182)-$G$4)","v":1},{"$f":"IF(B190=\"\",\"\",VLOOKUP(D190,Tablas!$B$2:$E$13,2,FALSE))","v":0.26},{"$f":"IF(B190=\"\",\"\",VLOOKUP(D190,Tablas!$B$2:$F$13,5,FALSE))","v":0.15},3382.2360000000003,660753987.99069786,591014300.52835214,528635331.42070878,472840189.10617959,422933979.52252197,378295151.63016278,338367756.37760544,302654522.69911039,270710664.31047446,242138340.1703707,216581699.61571625,193722450.46128464,173275894.86698088,154987383.60195073,138629144.54557315,5085540796.8476896,513690.98958057474]
[{"$f":"IF(ISBLANK(InfoPro!A183),\"\",InfoPro!A183)","v":"SC_2056_A1"},{"$f":"IF(ISBLANK(InfoPro!B183),\"\",InfoPro!B183)","v":"Saturno 200 MW"},{"$f":"IF(ISBLANK(InfoPro!E183),\"\",InfoPro!E183)","v":200},{"$f":"IF(ISBLANK(InfoPro!F183),\"\",InfoPro!F183)","v":"Solar FV"},{"$f":"IF(ISBLANK(InfoPro!I183),\"\",YEAR(InfoPro!I183)-$G$4)","v":2},{"$f":"IF(B191=\"\",\"\",VLOOKUP(D191,Tablas!$B$2:$E$13,2,FALSE))","v":0.26},{"$f":"IF(B191=\"\",\"\",VLOOKUP(D191,Tablas!$B$2:$F$13,5,FALSE))","v":0.15},68328,11939682838.95661,10679501644.862801,9552327052.6500912,8544120798.4347878,7642326295.5588427,6835712250.0526342,6114232781.80021,5468902309.3025141,4891683639.8054676,4375387871.0245695,3913584857.80373,3500523128.6258764,3131058254.5848632,2800588778.6984468,2504998907.6014724,91894631409.762909,459473.15704881452]
[{"$f":"IF(ISBLANK(InfoPro!A184),\"\",InfoPro!A184)","v":"SC_2057_A1"},{"$f":"IF(ISBLANK(InfoPro!B184),\"\",InfoPro!B184)","v":"SABAN II - 305 MW"},{"$f":"IF(ISBLANK(InfoPro!E184),\"\",InfoPro!E184)","v":305},{"$f":"IF(ISBLANK(InfoPro!F184),\"\",InfoPro!F184)","v":"Solar FV"},{"$f":"IF(ISBLANK(InfoPro!I184),\"\",YEAR(InfoPro!I184)-$G$4)","v":4},{"$f":"IF(B192=\"\",\"\",VLOOKUP(D192,Tablas!$B$2:$E$13,2,FALSE))","v":0.26},{"$f":"IF(B192=\"\",\"\",VLOOKUP(D192,Tablas!$B$2:$F$13,5,FALSE))","v":0.15},104200.20000000001,{"$f":"IF($H192=\"\",\"\",(1/(1+$C$4)^(I$7+$E192))*$H192*$I$5*$I$4)","v":14567298755.291389},13029784217.61305,11654547600.727238,10424461181.330269,9324204992.2453213,8340076021.6863346,7459817550.7033386,6672466503.3124695,5968216908.1506891,5338297771.1544619,4774863838.2419167,4270897887.5151315,3820123334.0922456,3416926059.1164994,3056284489.3707509,112118267110.55113,367600.87577229878]
[{"$f":"IF(ISBLANK(InfoPro!A185),\"\",InfoPro!A185)","v":"SC_2066_A1"},{"$f":"IF(ISBLANK(InfoPro!B185),\"\",InfoPro!B185)","v":"Orquídea del Cesar - La Loma - 62 MW"},{"$f":"IF(ISBLANK(InfoPro!E185),\"\",InfoPro!E185)","v":62},{"$f":"IF(ISBLANK(InfoPro!F185),\"\",InfoPro!F185)","v":"Solar FV"},{"$f":"IF(ISBLANK(InfoPro!I185),\"\",YEAR(InfoPro!I185)-$G$4)","v":5},{"$f":"IF(B193=\"\",\"\",VLOOKUP(D193,Tablas!$B$2:$E$13,2,FALSE))","v":0.26},{"$f":"IF(B193=\"\",\"\",VLOOKUP(D193,Tablas!$B$2:$F$13,5,FALSE))","v":0.15},21181.68,2648677447.5147839,2369121151.6232414,2119070797.5163167,1895412162.3580647,1695359715.883779,1516421928.339695,1356370240.0176167,1213211305.9191561,1085162169.8740218,970628058.92130756,868182521.39651847,776549661.3564564,694588248.08269811,621277502.75733292,555704385.29278445,20385737296.853775,328802.21446538344]
[{"$f":"IF(ISBLANK(InfoPro!A186),\"\",InfoPro!A186)","v":"SC_2066_A2"},{"$f":"IF(ISBLANK(InfoPro!B186),\"\",InfoPro!B186)","v":"Orquídea del Cesar - La Loma - 62 MW"},{"$f":"IF(ISBLANK(InfoPro!E186),\"\",InfoPro!E186)","v":62},{"$f":"IF(ISBLANK(InfoPro!F186),\"\",InfoPro!F186)","v":"Solar FV"},{"$f":"IF(ISBLANK(InfoPro!I186),\"\",YEAR(InfoPro!I186)-$G$4)","v":5},{"$f":"IF(B194=\"\",\"\",VLOOKUP(D194,Tablas!$B$2:$E$13,2,FALSE))","v":0.26},{"$f":"IF(B194=\"\",\"\",VLOOKUP(D194,Tablas!$B$2:$F$13,5,FALSE))","v":0.15},21181.68,2648677447.5147839,2369121151.6232414,2119070797.5163167,1895412162.3580647,1695359715.883779,1516421928.339695,1356370240.0176167,1213211305.9191561,1085162169.8740218,970628058.92130756,868182521.39651847,776549661.3564564,694588248.08269811,621277502.75733292,555704385.29278445,20385737296.853775,328802.21446538344]
[{"$f":"IF(ISBLANK(InfoPro!A187),\"\",InfoPro!A187)","v":"SC_2069_A1"},{"$f":"IF(ISBLANK(InfoPro!B187),\"\",InfoPro!B187)","v":"Pétalo del Magdalena - Fundación"},{"$f":"IF(ISBLANK(InfoPro!E187),\"\",InfoPro!E187)","v":9.9},{"$f":"IF(ISBLANK(InfoPro!F187),\"\",InfoPro!F187)","v":"Solar FV"},{"$f":"IF(ISBLANK(InfoPro!I187),\"\",YEAR(InfoPro!I187)-$G$4)","v":3},{"$f":"IF(B195=\"\",\"\",VLOOKUP(D195,Tablas!$B$2:$E$13,2,FALSE))","v":0.26},{"$f":"IF(B195=\"\",\"\",VLOOKUP(D195,Tablas!$B$2:$F$13,5,FALSE))","v":0.15},3382.2360000000003,528635331.42070878,472840189.10617959,422933979.52252197,378295151.63016278,338367756.37760544,302654522.69911039,270710664.31047446,242138340.1703707,216581699.61571625,193722450.46128464,173275894.86698088,154987383.60195073,138629144.54557315,123997445.92627291,110910058.96804376,4068680013.2229567,410977.77911342995]
[{"$f":"IF(ISBLANK(InfoPro!A188),\"\",InfoPro!A188)","v":"SC_2070_A1"},{"$f":"IF(ISBLANK(InfoPro!B188),\"\",InfoPro!B188)","v":"Cactus del Cesar - La Loma"},{"$f":"IF(ISBLANK(InfoPro!E188),\"\",InfoPro!E188)","v":19.899999999999999},{"$f":"IF(ISBLANK(InfoPro!F188),\"\",InfoPro!F188)","v":"Solar FV"},{"$f":"IF(ISBLANK(InfoPro!I188),\"\",YEAR(InfoPro!I188)-$G$4)","v":5},{"$f":"IF(B196=\"\",\"\",VLOOKUP(D196,Tablas!$B$2:$E$13,2,FALSE))","v":0.26},{"$f":"IF(B196=\"\",\"\",VLOOKUP(D196,Tablas!$B$2:$F$13,5,FALSE))","v":0.15},6798.6360000000004,850140019.44426143,760411466.40810502,680153368.8802371,608366161.78912091,544155779.77560008,486722522.16064405,435351093.16694474,389401693.35147113,348302051.29827476,311540296.33119392,278658583.48049545,249247391.30634654,222940421.56202731,199410037.17533749,178363181.73107117,6543164067.8611317,328802.2144653835]
[{"$f":"IF(ISBLANK(InfoPro!A189),\"\",InfoPro!A189)","v":"SC_2070_A2"},{"$f":"IF(ISBLANK(InfoPro!B189),\"\",InfoPro!B189)","v":"Cactus del Cesar - La Loma"},{"$f":"IF(ISBLANK(InfoPro!E189),\"\",InfoPro!E189)","v":19.899999999999999},{"$f":"IF(ISBLANK(InfoPro!F189),\"\",InfoPro!F189)","v":"Solar FV"},{"$f":"IF(ISBLANK(InfoPro!I189),\"\",YEAR(InfoPro!I189)-$G$4)","v":5},{"$f":"IF(B197=\"\",\"\",VLOOKUP(D197,Tablas!$B$2:$E$13,2,FALSE))","v":0.26},{"$f":"IF(B197=\"\",\"\",VLOOKUP(D197,Tablas!$B$2:$F$13,5,FALSE))","v":0.15},6798.6360000000004,850140019.44426143,760411466.40810502,680153368.8802371,608366161.78912091,544155779.77560008,486722522.16064405,435351093.16694474,389401693.35147113,348302051.29827476,311540296.33119392,278658583.48049545,249247391.30634654,222940421.56202731,199410037.17533749,178363181.73107117,6543164067.8611317,328802.2144653835]
[{"$f":"IF(ISBLANK(InfoPro!A190),\"\",InfoPro!A190)","v":"SC_2077_A1"},{"$f":"IF(ISBLANK(InfoPro!B190),\"\",InfoPro!B190)","v":"PARQUE SOLAR GUACAMAYAL 9.9"},{"$f":"IF(ISBLANK(InfoPro!E190),\"\",InfoPro!E190)","v":9.9},{"$f":"IF(ISBLANK(InfoPro!F190),\"\",InfoPro!F190)","v":"Solar FV"},{"$f":"IF(ISBLANK(InfoPro!I190),\"\",YEAR(InfoPro!I190)-$G$4)","v":1},{"$f":"IF(B198=\"\",\"\",VLOOKUP(D198,Tablas!$B$2:$E$13,2,FALSE))","v":0.26},{"$f":"IF(B198=\"\",\"\",VLOOKUP(D198,Tablas!$B$2:$F$13,5,FALSE))","v":0.15},3382.2360000000003,660753987.99069786,591014300.52835214,528635331.42070878,472840189.10617959,422933979.52252197,378295151.63016278,338367756.37760544,302654522.69911039,270710664.31047446,242138340.1703707,216581699.61571625,193722450.46128464,173275894.86698088,154987383.60195073,138629144.54557315,5085540796.8476896,513690.98958057474]
[{"$f":"IF(ISBLANK(InfoPro!A191),\"\",InfoPro!A191)","v":"SC_2084_A1"},{"$f":"IF(ISBLANK(InfoPro!B191),\"\",InfoPro!B191)","v":"Parque Solar Codazzi 1 19,9 MW"},{"$f":"IF(ISBLANK(InfoPro!E191),\"\",InfoPro!E191)","v":19.899999999999999},{"$f":"IF(ISBLANK(InfoPro!F191),\"\",InfoPro!F191)","v":"Solar FV"},{"$f":"IF(ISBLANK(InfoPro!I191),\"\",YEAR(InfoPro!I191)-$G$4)","v":3},{"$f":"IF(B199=\"\",\"\",VLOOKUP(D199,Tablas!$B$2:$E$13,2,FALSE))","v":0.26},{"$f":"IF(B199=\"\",\"\",VLOOKUP(D199,Tablas!$B$2:$F$13,5,FALSE))","v":0.15},6798.6360000000004,1062610413.6638488,950456541.73868418,850140019.44426143,760411466.40810502,680153368.8802371,608366161.78912091,544155779.77560008,486722522.16064405,435351093.16694474,389401693.35147113,348302051.29827476,311540296.33119392,278658583.48049545,249247391.30634654,222940421.56202731,8178457804.3572559,410977.77911342995]
[{"$f":"IF(ISBLANK(InfoPro!A192),\"\",InfoPro!A192)","v":"SC_2084_A2"},{"$f":"IF(ISBLANK(InfoPro!B192),\"\",InfoPro!B192)","v":"Parque Solar Codazzi 1 19,9 MW"},{"$f":"IF(ISBLANK(InfoPro!E192),\"\",InfoPro!E192)","v":19.899999999999999},{"$f":"IF(ISBLANK(InfoPro!F192),\"\",InfoPro!F192)","v":"Solar FV"},{"$f":"IF(ISBLANK(InfoPro!I192),\"\",YEAR(InfoPro!I192)-$G$4)","v":3},{"$f":"IF(B200=\"\",\"\",VLOOKUP(D200,Tablas!$B$2:$E$13,2,FALSE))","v":0.26},{"$f":"IF(B200=\"\",\"\",VLOOKUP(D200,Tablas!$B$2:$F$13,5,FALSE))","v":0.15},6798.6360000000004,1062610413.6638488,950456541.73868418,850140019.44426143,760411466.40810502,680153368.8802371,608366161.78912091,544155779.77560008,486722522.16064405,435351093.16694474,389401693.35147113,348302051.29827476,311540296.33119392,278658583.48049545,249247391.30634654,222940421.56202731,8178457804.3572559,410977.77911342995]
[{"$f":"IF(ISBLANK(InfoPro!A193),\"\",InfoPro!A193)","v":"SC_2086_A1"},{"$f":"IF(ISBLANK(InfoPro!B193),\"\",InfoPro!B193)","v":"PARQUE SOLAR SABANA SOLAR 19.9"},{"$f":"IF(ISBLANK(InfoPro!E193),\"\",InfoPro!E193)","v":19.899999999999999},{"$f":"IF(ISBLANK(InfoPro!F193),\"\",InfoPro!F193)","v":"Solar FV"},{"$f":"IF(ISBLANK(InfoPro!I193),\"\",YEAR(InfoPro!I193)-$G$4)","v":1},{"$f":"IF(B201=\"\",\"\",VLOOKUP(D201,Tablas!$B$2:$E$13,2,FALSE))","v":0.26},{"$f":"IF(B201=\"\",\"\",VLOOKUP(D201,Tablas!$B$2:$F$13,5,FALSE))","v":0.15},6798.6360000000004,1328182258.6883724,1187998442.4761827,1062610413.6638488,950456541.73868418,850140019.44426143,760411466.40810502,680153368.8802371,608366161.78912091,544155779.77560008,486722522.16064405,435351093.16694474,389401693.35147113,348302051.29827476,311540296.33119392,278658583.48049545,10222450692.653437,513690.98958057468]
[{"$f":"IF(ISBLANK(InfoPro!A194),\"\",InfoPro!A194)","v":"SC_2103_A1"},{"$f":"IF(ISBLANK(InfoPro!B194),\"\",InfoPro!B194)","v":"PARQUE SOLAR PUERTA DEL SOL"},{"$f":"IF(ISBLANK(InfoPro!E194),\"\",InfoPro!E194)","v":19.899999999999999},{"$f":"IF(ISBLANK(InfoPro!F194),\"\",InfoPro!F194)","v":"Solar FV"},{"$f":"IF(ISBLANK(InfoPro!I194),\"\",YEAR(InfoPro!I194)-$G$4)","v":1},{"$f":"IF(B202=\"\",\"\",VLOOKUP(D202,Tablas!$B$2:$E$13,2,FALSE))","v":0.26},{"$f":"IF(B202=\"\",\"\",VLOOKUP(D202,Tablas!$B$2:$F$13,5,FALSE))","v":0.15},6798.6360000000004,1328182258.6883724,1187998442.4761827,1062610413.6638488,950456541.73868418,850140019.44426143,760411466.40810502,680153368.8802371,608366161.78912091,544155779.77560008,486722522.16064405,435351093.16694474,389401693.35147113,348302051.29827476,311540296.33119392,278658583.48049545,10222450692.653437,513690.98958057468]
[{"$f":"IF(ISBLANK(InfoPro!A195),\"\",InfoPro!A195)","v":"SC_2125_A1"},{"$f":"IF(ISBLANK(InfoPro!B195),\"\",InfoPro!B195)","v":"Expansión Valledupar 100 MW"},{"$f":"IF(ISBLANK(InfoPro!E195),\"\",InfoPro!E195)","v":100},{"$f":"IF(ISBLANK(InfoPro!F195),\"\",InfoPro!F195)","v":"Solar FV"},{"$f":"IF(ISBLANK(InfoPro!I195),\"\",YEAR(InfoPro!I195)-$G$4)","v":4},{"$f":"IF(B203=\"\",\"\",VLOOKUP(D203,Tablas!$B$2:$E$13,2,FALSE))","v":0.26},{"$f":"IF(B203=\"\",\"\",VLOOKUP(D203,Tablas!$B$2:$F$13,5,FALSE))","v":0.15},34164,4776163526.3250456,4272060399.2173939,3821163147.7794213,3417856125.0263171,3057116390.900105,2734451154.651257,2445841819.9027338,2187693935.5122848,1956792428.901865,1750261564.3129382,1565529127.2924316,1400294389.3492234,1252499453.8007362,1120303625.9398358,1002060488.3182788,36760087577.229866,367600.87577229866]
[{"$f":"IF(ISBLANK(InfoPro!A196),\"\",InfoPro!A196)","v":"SC_2125_A2"},{"$f":"IF(ISBLANK(InfoPro!B196),\"\",InfoPro!B196)","v":"Expansión Valledupar 100 MW"},{"$f":"IF(ISBLANK(InfoPro!E196),\"\",InfoPro!E196)","v":100},{"$f":"IF(ISBLANK(InfoPro!F196),\"\",InfoPro!F196)","v":"Solar FV"},{"$f":"IF(ISBLANK(InfoPro!I196),\"\",YEAR(InfoPro!I196)-$G$4)","v":4},{"$f":"IF(B204=\"\",\"\",VLOOKUP(D204,Tablas!$B$2:$E$13,2,FALSE))","v":0.26},{"$f":"IF(B204=\"\",\"\",VLOOKUP(D204,Tablas!$B$2:$F$13,5,FALSE))","v":0.15},34164,4776163526.3250456,4272060399.2173939,3821163147.7794213,3417856125.0263171,3057116390.900105,2734451154.651257,2445841819.9027338,2187693935.5122848,1956792428.901865,1750261564.3129382,1565529127.2924316,1400294389.3492234,1252499453.8007362,1120303625.9398358,1002060488.3182788,36760087577.229866,367600.87577229866]
[{"$f":"IF(ISBLANK(InfoPro!A197),\"\",InfoPro!A197)","v":"SC_2129_A2"},{"$f":"IF(ISBLANK(InfoPro!B197),\"\",InfoPro!B197)","v":"DSE LA JAGUA DE IBIRICO"},{"$f":"IF(ISBLANK(InfoPro!E197),\"\",InfoPro!E197)","v":9.9},{"$f":"IF(ISBLANK(InfoPro!F197),\"\",InfoPro!F197)","v":"Solar FV"},{"$f":"IF(ISBLANK(InfoPro!I197),\"\",YEAR(InfoPro!I197)-$G$4)","v":2},{"$f":"IF(B205=\"\",\"\",VLOOKUP(D205,Tablas!$B$2:$E$13,2,FALSE))","v":0.26},{"$f":"IF(B205=\"\",\"\",VLOOKUP(D205,Tablas!$B$2:$F$13,5,FALSE))","v":0.15},3382.2360000000003,591014300.52835214,528635331.42070878,472840189.10617959,422933979.52252197,378295151.63016278,338367756.37760544,302654522.69911039,270710664.31047446,242138340.1703707,216581699.61571625,193722450.46128464,173275894.86698088,154987383.60195073,138629144.54557315,123997445.92627291,4548784254.7832651,459473.15704881464]
[{"$f":"IF(ISBLANK(InfoPro!A198),\"\",InfoPro!A198)","v":"SC_2130_A1"},{"$f":"IF(ISBLANK(InfoPro!B198),\"\",InfoPro!B198)","v":"Parque Solar Boreal"},{"$f":"IF(ISBLANK(InfoPro!E198),\"\",InfoPro!E198)","v":100},{"$f":"IF(ISBLANK(InfoPro!F198),\"\",InfoPro!F198)","v":"Solar FV"},{"$f":"IF(ISBLANK(InfoPro!I198),\"\",YEAR(InfoPro!I198)-$G$4)","v":5},{"$f":"IF(B206=\"\",\"\",VLOOKUP(D206,Tablas!$B$2:$E$13,2,FALSE))","v":0.26},{"$f":"IF(B206=\"\",\"\",VLOOKUP(D206,Tablas!$B$2:$F$13,5,FALSE))","v":0.15},34164,4272060399.2173939,3821163147.7794213,3417856125.0263171,3057116390.900105,2734451154.651257,2445841819.9027338,2187693935.5122848,1956792428.901865,1750261564.3129382,1565529127.2924316,1400294389.3492234,1252499453.8007362,1120303625.9398358,1002060488.3182788,896297395.63352334,32880221446.538338,328802.21446538338]
[{"$f":"IF(ISBLANK(InfoPro!A199),\"\",InfoPro!A199)","v":"SC_2130_A2"},{"$f":"IF(ISBLANK(InfoPro!B199),\"\",InfoPro!B199)","v":"Parque Solar Boreal"},{"$f":"IF(ISBLANK(InfoPro!E199),\"\",InfoPro!E199)","v":100},{"$f":"IF(ISBLANK(InfoPro!F199),\"\",InfoPro!F199)","v":"Solar FV"},{"$f":"IF(ISBLANK(InfoPro!I199),\"\",YEAR(InfoPro!I199)-$G$4)","v":5},{"$f":"IF(B207=\"\",\"\",VLOOKUP(D207,Tablas!$B$2:$E$13,2,FALSE))","v":0.26},{"$f":"IF(B207=\"\",\"\",VLOOKUP(D207,Tablas!$B$2:$F$13,5,FALSE))","v":0.15},34164,4272060399.2173939,3821163147.7794213,3417856125.0263171,3057116390.900105,2734451154.651257,2445841819.9027338,2187693935.5122848,1956792428.901865,1750261564.3129382,1565529127.2924316,1400294389.3492234,1252499453.8007362,1120303625.9398358,1002060488.3182788,896297395.63352334,32880221446.538338,328802.21446538338]
[{"$f":"IF(ISBLANK(InfoPro!A200),\"\",InfoPro!A200)","v":"SC_2132_A1"},{"$f":"IF(ISBLANK(InfoPro!B200),\"\",InfoPro!B200)","v":"El Encanto 9,9 MW"},{"$f":"IF(ISBLANK(InfoPro!E200),\"\",InfoPro!E200)","v":9.9},{"$f":"IF(ISBLANK(InfoPro!F200),\"\",InfoPro!F200)","v":"Solar FV"},{"$f":"IF(ISBLANK(InfoPro!I200),\"\",YEAR(InfoPro!I200)-$G$4)","v":1},{"$f":"IF(B208=\"\",\"\",VLOOKUP(D208,Tablas!$B$2:$E$13,2,FALSE))","v":0.26},{"$f":"IF(B208=\"\",\"\",VLOOKUP(D208,Tablas!$B$2:$F$13,5,FALSE))","v":0.15},3382.2360000000003,660753987.99069786,591014300.52835214,528635331.42070878,472840189.10617959,422933979.52252197,378295151.63016278,338367756.37760544,302654522.69911039,270710664.31047446,242138340.1703707,216581699.61571625,193722450.46128464,173275894.86698088,154987383.60195073,138629144.54557315,5085540796.8476896,513690.98958057474]
[{"$f":"IF(ISBLANK(InfoPro!A201),\"\",InfoPro!A201)","v":"SC_2137_A1"},{"$f":"IF(ISBLANK(InfoPro!B201),\"\",InfoPro!B201)","v":"La Unión 9,9"},{"$f":"IF(ISBLANK(InfoPro!E201),\"\",InfoPro!E201)","v":9.9},{"$f":"IF(ISBLANK(InfoPro!F201),\"\",InfoPro!F201)","v":"Solar FV"},{"$f":"IF(ISBLANK(InfoPro!I201),\"\",YEAR(InfoPro!I201)-$G$4)","v":1},{"$f":"IF(B209=\"\",\"\",VLOOKUP(D209,Tablas!$B$2:$E$13,2,FALSE))","v":0.26},{"$f":"IF(B209=\"\",\"\",VLOOKUP(D209,Tablas!$B$2:$F$13,5,FALSE))","v":0.15},3382.2360000000003,{"$f":"IF($H209=\"\",\"\",(1/(1+$C$4)^(I$7+$E209))*$H209*$I$5*$I$4)","v":660753987.99069786},591014300.52835214,528635331.42070878,472840189.10617959,422933979.52252197,378295151.63016278,338367756.37760544,302654522.69911039,270710664.31047446,242138340.1703707,216581699.61571625,193722450.46128464,173275894.86698088,154987383.60195073,138629144.54557315,5085540796.8476896,513690.98958057474]
[{"$f":"IF(ISBLANK(InfoPro!A202),\"\",InfoPro!A202)","v":"SC_2159_A1"},{"$f":"IF(ISBLANK(InfoPro!B202),\"\",InfoPro!B202)","v":"DSE IBIRICO"},{"$f":"IF(ISBLANK(InfoPro!E202),\"\",InfoPro!E202)","v":19.899999999999999},{"$f":"IF(ISBLANK(InfoPro!F202),\"\",InfoPro!F202)","v":"Solar FV"},{"$f":"IF(ISBLANK(InfoPro!I202),\"\",YEAR(InfoPro!I202)-$G$4)","v":2},{"$f":"IF(B210=\"\",\"\",VLOOKUP(D210,Tablas!$B$2:$E$13,2,FALSE))","v":0.26},{"$f":"IF(B210=\"\",\"\",VLOOKUP(D210,Tablas!$B$2:$F$13,5,FALSE))","v":0.15},6798.6360000000004,1187998442.4761827,1062610413.6638488,950456541.73868418,850140019.44426143,760411466.40810502,680153368.8802371,608366161.78912091,544155779.77560008,486722522.16064405,435351093.16694474,389401693.35147113,348302051.29827476,311540296.33119392,278658583.48049545,249247391.30634654,9143515825.27141,459473.15704881458]
[{"$f":"IF(ISBLANK(InfoPro!A203),\"\",InfoPro!A203)","v":"SC_2159_A2"},{"$f":"IF(ISBLANK(InfoPro!B203),\"\",InfoPro!B203)","v":"DSE IBIRICO"},{"$f":"IF(ISBLANK(InfoPro!E203),\"\",InfoPro!E203)","v":19.899999999999999},{"$f":"IF(ISBLANK(InfoPro!F203),\"\",InfoPro!F203)","v":"Solar FV"},{"$f":"IF(ISBLANK(InfoPro!I203),\"\",YEAR(InfoPro!I203)-$G$4)","v":2},{"$f":"IF(B211=\"\",\"\",VLOOKUP(D211,Tablas!$B$2:$E$13,2,FALSE))","v":0.26},{"$f":"IF(B211=\"\",\"\",VLOOKUP(D211,Tablas!$B$2:$F$13,5,FALSE))","v":0.15},6798.6360000000004,1187998442.4761827,1062610413.6638488,950456541.73868418,850140019.44426143,760411466.40810502,680153368.8802371,608366161.78912091,544155779.77560008,486722522.16064405,435351093.16694474,389401693.35147113,348302051.29827476,311540296.33119392,278658583.48049545,249247391.30634654,9143515825.27141,459473.15704881458]
[{"$f":"IF(ISBLANK(InfoPro!A204),\"\",InfoPro!A204)","v":"SC_2162_A1"},{"$f":"IF(ISBLANK(InfoPro!B204),\"\",InfoPro!B204)","v":"Parque Solar Codazzi 2"},{"$f":"IF(ISBLANK(InfoPro!E204),\"\",InfoPro!E204)","v":9.9},{"$f":"IF(ISBLANK(InfoPro!F204),\"\",InfoPro!F204)","v":"Solar FV"},{"$f":"IF(ISBLANK(InfoPro!I204),\"\",YEAR(InfoPro!I204)-$G$4)","v":3},{"$f":"IF(B212=\"\",\"\",VLOOKUP(D212,Tablas!$B$2:$E$13,2,FALSE))","v":0.26},{"$f":"IF(B212=\"\",\"\",VLOOKUP(D212,Tablas!$B$2:$F$13,5,FALSE))","v":0.15},3382.2360000000003,528635331.42070878,472840189.10617959,422933979.52252197,378295151.63016278,338367756.37760544,302654522.69911039,270710664.31047446,242138340.1703707,216581699.61571625,193722450.46128464,173275894.86698088,154987383.60195073,138629144.54557315,123997445.92627291,110910058.96804376,4068680013.2229567,410977.77911342995]
[{"$f":"IF(ISBLANK(InfoPro!A205),\"\",InfoPro!A205)","v":"SC_2162_A2"},{"$f":"IF(ISBLANK(InfoPro!B205),\"\",InfoPro!B205)","v":"Parque Solar Codazzi 2"},{"$f":"IF(ISBLANK(InfoPro!E205),\"\",InfoPro!E205)","v":9.9},{"$f":"IF(ISBLANK(InfoPro!F205),\"\",InfoPro!F205)","v":"Solar FV"},{"$f":"IF(ISBLANK(InfoPro!I205),\"\",YEAR(InfoPro!I205)-$G$4)","v":3},{"$f":"IF(B213=\"\",\"\",VLOOKUP(D213,Tablas!$B$2:$E$13,2,FALSE))","v":0.26},{"$f":"IF(B213=\"\",\"\",VLOOKUP(D213,Tablas!$B$2:$F$13,5,FALSE))","v":0.15},3382.2360000000003,528635331.42070878,472840189.10617959,422933979.52252197,378295151.63016278,338367756.37760544,302654522.69911039,270710664.31047446,242138340.1703707,216581699.61571625,193722450.46128464,173275894.86698088,154987383.60195073,138629144.54557315,123997445.92627291,110910058.96804376,4068680013.2229567,410977.77911342995]
[{"$f":"IF(ISBLANK(InfoPro!A206),\"\",InfoPro!A206)","v":"SC_2200_A1"},{"$f":"IF(ISBLANK(InfoPro!B206),\"\",InfoPro!B206)","v":"Parque Eólico Wakuaipa"},{"$f":"IF(ISBLANK(InfoPro!E206),\"\",InfoPro!E206)","v":200},{"$f":"IF(ISBLANK(InfoPro!F206),\"\",InfoPro!F206)","v":"Eólico Onshore"},{"$f":"IF(ISBLANK(InfoPro!I206),\"\",YEAR(InfoPro!I206)-$G$4)","v":3},{"$f":"IF(B214=\"\",\"\",VLOOKUP(D214,Tablas!$B$2:$E$13,2,FALSE))","v":0.56999999999999995},{"$f":"IF(B214=\"\",\"\",VLOOKUP(D214,Tablas!$B$2:$F$13,5,FALSE))","v":0.06},59918.400000000001,9365101442.4181499,8376656030.7854652,7492536700.1658907,6701732289.951601,5994393819.2769251,5361711824.0401831,4795806640.4652805,4289630268.7524872,3836878594.5907769,3431912875.3048091,3069689512.7949996,2745697238.6359568,2455900929.0124836,2196691349.7428298,1964840205.4944811,72079179721.432312,360395.89860716154]
[{"$f":"IF(ISBLANK(InfoPro!A207),\"\",InfoPro!A207)","v":"SC_2200_A2"},{"$f":"IF(ISBLANK(InfoPro!B207),\"\",InfoPro!B207)","v":"Parque Eólico Wakuaipa"},{"$f":"IF(ISBLANK(InfoPro!E207),\"\",InfoPro!E207)","v":200},{"$f":"IF(ISBLANK(InfoPro!F207),\"\",InfoPro!F207)","v":"Eólico Onshore"},{"$f":"IF(ISBLANK(InfoPro!I207),\"\",YEAR(InfoPro!I207)-$G$4)","v":3},{"$f":"IF(B215=\"\",\"\",VLOOKUP(D215,Tablas!$B$2:$E$13,2,FALSE))","v":0.56999999999999995},{"$f":"IF(B215=\"\",\"\",VLOOKUP(D215,Tablas!$B$2:$F$13,5,FALSE))","v":0.06},59918.400000000001,9365101442.4181499,8376656030.7854652,7492536700.1658907,6701732289.951601,5994393819.2769251,5361711824.0401831,4795806640.4652805,4289630268.7524872,3836878594.5907769,3431912875.3048091,3069689512.7949996,2745697238.6359568,2455900929.0124836,2196691349.7428298,1964840205.4944811,72079179721.432312,360395.89860716154]
[{"$f":"IF(ISBLANK(InfoPro!A208),\"\",InfoPro!A208)","v":"SC_2206_A1"},{"$f":"IF(ISBLANK(InfoPro!B208),\"\",InfoPro!B208)","v":"Parque Fotovoltaico Lyra"},{"$f":"IF(ISBLANK(InfoPro!E208),\"\",InfoPro!E208)","v":19.899999999999999},{"$f":"IF(ISBLANK(InfoPro!F208),\"\",InfoPro!F208)","v":"Solar FV"},{"$f":"IF(ISBLANK(InfoPro!I208),\"\",YEAR(InfoPro!I208)-$G$4)","v":2},{"$f":"IF(B216=\"\",\"\",VLOOKUP(D216,Tablas!$B$2:$E$13,2,FALSE))","v":0.26},{"$f":"IF(B216=\"\",\"\",VLOOKUP(D216,Tablas!$B$2:$F$13,5,FALSE))","v":0.15},{"$f":"IF(C216=\"\",\"\",+C216*G216*F216*24*365)","v":6798.6360000000004},1187998442.4761827,1062610413.6638488,950456541.73868418,850140019.44426143,760411466.40810502,680153368.8802371,608366161.78912091,544155779.77560008,486722522.16064405,435351093.16694474,389401693.35147113,348302051.29827476,311540296.33119392,278658583.48049545,249247391.30634654,{"$f":"IF(W216=\"\",\"\",SUM(I216:W216))","v":9143515825.27141},{"$f":"IF(C216=0,0,IF(X216=\"\",\"\",X216/(C216*1000)))","v":459473.15704881458}]
[{"$f":"IF(ISBLANK(InfoPro!A209),\"\",InfoPro!A209)","v":"SC_2206_A2"},{"$f":"IF(ISBLANK(InfoPro!B209),\"\",InfoPro!B209)","v":"Parque Fotovoltaico Lyra"},{"$f":"IF(ISBLANK(InfoPro!E209),\"\",InfoPro!E209)","v":19.899999999999999},{"$f":"IF(ISBLANK(InfoPro!F209),\"\",InfoPro!F209)","v":"Solar FV"},{"$f":"IF(ISBLANK(InfoPro!I209),\"\",YEAR(InfoPro!I209)-$G$4)","v":2},{"$f":"IF(B217=\"\",\"\",VLOOKUP(D217,Tablas!$B$2:$E$13,2,FALSE))","v":0.26},{"$f":"IF(B217=\"\",\"\",VLOOKUP(D217,Tablas!$B$2:$F$13,5,FALSE))","v":0.15},6798.6360000000004,1187998442.4761827,1062610413.6638488,950456541.73868418,850140019.44426143,760411466.40810502,680153368.8802371,608366161.78912091,544155779.77560008,486722522.16064405,435351093.16694474,389401693.35147113,348302051.29827476,311540296.33119392,278658583.48049545,249247391.30634654,9143515825.27141,459473.15704881458]
[{"$f":"IF(ISBLANK(InfoPro!A210),\"\",InfoPro!A210)","v":"SC_2212_A1"},{"$f":"IF(ISBLANK(InfoPro!B210),\"\",InfoPro!B210)","v":"Aguaraní 200 MW"},{"$f":"IF(ISBLANK(InfoPro!E210),\"\",InfoPro!E210)","v":200},{"$f":"IF(ISBLANK(InfoPro!F210),\"\",InfoPro!F210)","v":"Solar FV"},{"$f":"IF(ISBLANK(InfoPro!I210),\"\",YEAR(InfoPro!I210)-$G$4)","v":4},{"$f":"IF(B218=\"\",\"\",VLOOKUP(D218,Tablas!$B$2:$E$13,2,FALSE))","v":0.26},{"$f":"IF(B218=\"\",\"\",VLOOKUP(D218,Tablas!$B$2:$F$13,5,FALSE))","v":0.15},68328,9552327052.6500912,8544120798.4347878,7642326295.5588427,6835712250.0526342,6114232781.80021,5468902309.3025141,4891683639.8054676,4375387871.0245695,3913584857.80373,3500523128.6258764,3131058254.5848632,2800588778.6984468,2504998907.6014724,2240607251.8796716,2004120976.6365576,73520175154.459732,367600.87577229866]
[{"$f":"IF(ISBLANK(InfoPro!A211),\"\",InfoPro!A211)","v":"SC_2212_A2"},{"$f":"IF(ISBLANK(InfoPro!B211),\"\",InfoPro!B211)","v":"Aguaraní 200 MW"},{"$f":"IF(ISBLANK(InfoPro!E211),\"\",InfoPro!E211)","v":200},{"$f":"IF(ISBLANK(InfoPro!F211),\"\",InfoPro!F211)","v":"Solar FV"},{"$f":"IF(ISBLANK(InfoPro!I211),\"\",YEAR(InfoPro!I211)-$G$4)","v":4},{"$f":"IF(B219=\"\",\"\",VLOOKUP(D219,Tablas!$B$2:$E$13,2,FALSE))","v":0.26},{"$f":"IF(B219=\"\",\"\",VLOOKUP(D219,Tablas!$B$2:$F$13,5,FALSE))","v":0.15},68328,9552327052.6500912,8544120798.4347878,7642326295.5588427,6835712250.0526342,6114232781.80021,5468902309.3025141,4891683639.8054676,4375387871.0245695,3913584857.80373,3500523128.6258764,3131058254.5848632,2800588778.6984468,2504998907.6014724,2240607251.8796716,2004120976.6365576,73520175154.459732,367600.87577229866]
[{"$f":"IF(ISBLANK(InfoPro!A212),\"\",InfoPro!A212)","v":"SC_2227_A1"},{"$f":"IF(ISBLANK(InfoPro!B212),\"\",InfoPro!B212)","v":"Generación Solar Fotovoltaica Sabana Solar - 9.9 MW"},{"$f":"IF(ISBLANK(InfoPro!E212),\"\",InfoPro!E212)","v":9.9},{"$f":"IF(ISBLANK(InfoPro!F212),\"\",InfoPro!F212)","v":"Solar FV"},{"$f":"IF(ISBLANK(InfoPro!I212),\"\",YEAR(InfoPro!I212)-$G$4)","v":1},{"$f":"IF(B220=\"\",\"\",VLOOKUP(D220,Tablas!$B$2:$E$13,2,FALSE))","v":0.26},{"$f":"IF(B220=\"\",\"\",VLOOKUP(D220,Tablas!$B$2:$F$13,5,FALSE))","v":0.15},3382.2360000000003,660753987.99069786,591014300.52835214,528635331.42070878,472840189.10617959,422933979.52252197,378295151.63016278,338367756.37760544,302654522.69911039,270710664.31047446,242138340.1703707,216581699.61571625,193722450.46128464,173275894.86698088,154987383.60195073,138629144.54557315,5085540796.8476896,513690.98958057474]
[{"$f":"IF(ISBLANK(InfoPro!A213),\"\",InfoPro!A213)","v":"SC_2227_A2"},{"$f":"IF(ISBLANK(InfoPro!B213),\"\",InfoPro!B213)","v":"Generación Solar Fotovoltaica Sabana Solar - 9.9 MW"},{"$f":"IF(ISBLANK(InfoPro!E213),\"\",InfoPro!E213)","v":9.9},{"$f":"IF(ISBLANK(InfoPro!F213),\"\",InfoPro!F213)","v":"Solar FV"},{"$f":"IF(ISBLANK(InfoPro!I213),\"\",YEAR(InfoPro!I213)-$G$4)","v":1},{"$f":"IF(B221=\"\",\"\",VLOOKUP(D221,Tablas!$B$2:$E$13,2,FALSE))","v":0.26},{"$f":"IF(B221=\"\",\"\",VLOOKUP(D221,Tablas!$B$2:$F$13,5,FALSE))","v":0.15},3382.2360000000003,660753987.99069786,591014300.52835214,528635331.42070878,472840189.10617959,422933979.52252197,378295151.63016278,338367756.37760544,302654522.69911039,270710664.31047446,242138340.1703707,216581699.61571625,193722450.46128464,173275894.86698088,154987383.60195073,138629144.54557315,5085540796.8476896,513690.98958057474]
[{"$f":"IF(ISBLANK(InfoPro!A214),\"\",InfoPro!A214)","v":"SC_2242_A1"},{"$f":"IF(ISBLANK(InfoPro!B214),\"\",InfoPro!B214)","v":"Parque Eólico San Juan 100 MW"},{"$f":"IF(ISBLANK(InfoPro!E214),\"\",InfoPro!E214)","v":100},{"$f":"IF(ISBLANK(InfoPro!F214),\"\",InfoPro!F214)","v":"Solar FV"},{"$f":"IF(ISBLANK(InfoPro!I214),\"\",YEAR(InfoPro!I214)-$G$4)","v":3},{"$f":"IF(B222=\"\",\"\",VLOOKUP(D222,Tablas!$B$2:$E$13,2,FALSE))","v":0.26},{"$f":"IF(B222=\"\",\"\",VLOOKUP(D222,Tablas!$B$2:$F$13,5,FALSE))","v":0.15},34164,5339750822.4314003,4776163526.3250456,4272060399.2173939,3821163147.7794213,3417856125.0263171,3057116390.900105,2734451154.651257,2445841819.9027338,2187693935.5122848,1956792428.901865,1750261564.3129382,1565529127.2924316,1400294389.3492234,1252499453.8007362,1120303625.9398358,41097777911.342979,410977.77911342977]
[{"$f":"IF(ISBLANK(InfoPro!A215),\"\",InfoPro!A215)","v":"SC_2242_A2"},{"$f":"IF(ISBLANK(InfoPro!B215),\"\",InfoPro!B215)","v":"Parque Eólico San Juan 100 MW"},{"$f":"IF(ISBLANK(InfoPro!E215),\"\",InfoPro!E215)","v":100},{"$f":"IF(ISBLANK(InfoPro!F215),\"\",InfoPro!F215)","v":"Solar FV"},{"$f":"IF(ISBLANK(InfoPro!I215),\"\",YEAR(InfoPro!I215)-$G$4)","v":3},{"$f":"IF(B223=\"\",\"\",VLOOKUP(D223,Tablas!$B$2:$E$13,2,FALSE))","v":0.26},{"$f":"IF(B223=\"\",\"\",VLOOKUP(D223,Tablas!$B$2:$F$13,5,FALSE))","v":0.15},34164,5339750822.4314003,4776163526.3250456,4272060399.2173939,3821163147.7794213,3417856125.0263171,3057116390.900105,2734451154.651257,2445841819.9027338,2187693935.5122848,1956792428.901865,1750261564.3129382,1565529127.2924316,1400294389.3492234,1252499453.8007362,1120303625.9398358,41097777911.342979,410977.77911342977]
[{"$f":"IF(ISBLANK(InfoPro!A216),\"\",InfoPro!A216)","v":"SC_2260_A1"},{"$f":"IF(ISBLANK(InfoPro!B216),\"\",InfoPro!B216)","v":"Parque Solar Fotovoltaico Tayrona I"},{"$f":"IF(ISBLANK(InfoPro!E216),\"\",InfoPro!E216)","v":50},{"$f":"IF(ISBLANK(InfoPro!F216),\"\",InfoPro!F216)","v":"Solar FV"},{"$f":"IF(ISBLANK(InfoPro!I216),\"\",YEAR(InfoPro!I216)-$G$4)","v":5},{"$f":"IF(B224=\"\",\"\",VLOOKUP(D224,Tablas!$B$2:$E$13,2,FALSE))","v":0.26},{"$f":"IF(B224=\"\",\"\",VLOOKUP(D224,Tablas!$B$2:$F$13,5,FALSE))","v":0.15},17082,2136030199.6086969,1910581573.8897107,1708928062.5131586,1528558195.4500525,1367225577.3256285,1222920909.9513669,1093846967.7561424,978396214.4509325,875130782.15646911,782764563.6462158,700147194.67461169,626249726.90036809,560151812.96991789,501030244.15913939,448148697.81676167,16440110723.269169,328802.21446538338]
[{"$f":"IF(ISBLANK(InfoPro!A217),\"\",InfoPro!A217)","v":"SC_2261_A1"},{"$f":"IF(ISBLANK(InfoPro!B217),\"\",InfoPro!B217)","v":"Parque Solar Fotovoltaico Tayrona II"},{"$f":"IF(ISBLANK(InfoPro!E217),\"\",InfoPro!E217)","v":50},{"$f":"IF(ISBLANK(InfoPro!F217),\"\",InfoPro!F217)","v":"Solar FV"},{"$f":"IF(ISBLANK(InfoPro!I217),\"\",YEAR(InfoPro!I217)-$G$4)","v":5},{"$f":"IF(B225=\"\",\"\",VLOOKUP(D225,Tablas!$B$2:$E$13,2,FALSE))","v":0.26},{"$f":"IF(B225=\"\",\"\",VLOOKUP(D225,Tablas!$B$2:$F$13,5,FALSE))","v":0.15},17082,2136030199.6086969,1910581573.8897107,1708928062.5131586,1528558195.4500525,1367225577.3256285,1222920909.9513669,1093846967.7561424,978396214.4509325,875130782.15646911,782764563.6462158,700147194.67461169,626249726.90036809,560151812.96991789,501030244.15913939,448148697.81676167,16440110723.269169,328802.21446538338]
[{"$f":"IF(ISBLANK(InfoPro!A218),\"\",InfoPro!A218)","v":"SC_2271_A1"},{"$f":"IF(ISBLANK(InfoPro!B218),\"\",InfoPro!B218)","v":"San Angel 19,9 MW"},{"$f":"IF(ISBLANK(InfoPro!E218),\"\",InfoPro!E218)","v":19.899999999999999},{"$f":"IF(ISBLANK(InfoPro!F218),\"\",InfoPro!F218)","v":"Solar FV"},{"$f":"IF(ISBLANK(InfoPro!I218),\"\",YEAR(InfoPro!I218)-$G$4)","v":1},{"$f":"IF(B226=\"\",\"\",VLOOKUP(D226,Tablas!$B$2:$E$13,2,FALSE))","v":0.26},{"$f":"IF(B226=\"\",\"\",VLOOKUP(D226,Tablas!$B$2:$F$13,5,FALSE))","v":0.15},6798.6360000000004,{"$f":"IF($H226=\"\",\"\",(1/(1+$C$4)^(I$7+$E226))*$H226*$I$5*$I$4)","v":1328182258.6883724},1187998442.4761827,1062610413.6638488,950456541.73868418,850140019.44426143,760411466.40810502,680153368.8802371,608366161.78912091,544155779.77560008,486722522.16064405,435351093.16694474,389401693.35147113,348302051.29827476,311540296.33119392,278658583.48049545,10222450692.653437,513690.98958057468]
[{"$f":"IF(ISBLANK(InfoPro!A219),\"\",InfoPro!A219)","v":"SC_2271_A2"},{"$f":"IF(ISBLANK(InfoPro!B219),\"\",InfoPro!B219)","v":"San Angel 19,9 MW"},{"$f":"IF(ISBLANK(InfoPro!E219),\"\",InfoPro!E219)","v":19.899999999999999},{"$f":"IF(ISBLANK(InfoPro!F219),\"\",InfoPro!F219)","v":"Solar FV"},{"$f":"IF(ISBLANK(InfoPro!I219),\"\",YEAR(InfoPro!I219)-$G$4)","v":1},{"$f":"IF(B227=\"\",\"\",VLOOKUP(D227,Tablas!$B$2:$E$13,2,FALSE))","v":0.26},{"$f":"IF(B227=\"\",\"\",VLOOKUP(D227,Tablas!$B$2:$F$13,5,FALSE))","v":0.15},6798.6360000000004,1328182258.6883724,1187998442.4761827,1062610413.6638488,950456541.73868418,850140019.44426143,760411466.40810502,680153368.8802371,608366161.78912091,544155779.77560008,486722522.16064405,435351093.16694474,389401693.35147113,348302051.29827476,311540296.33119392,278658583.48049545,10222450692.653437,513690.98958057468]
[{"$f":"IF(ISBLANK(InfoPro!A220),\"\",InfoPro!A220)","v":"SC_2275_A1"},{"$f":"IF(ISBLANK(InfoPro!B220),\"\",InfoPro!B220)","v":"TERMOCOSTA"},{"$f":"IF(ISBLANK(InfoPro!E220),\"\",InfoPro!E220)","v":93},{"$f":"IF(ISBLANK(InfoPro!F220),\"\",InfoPro!F220)","v":"Termica - Ciclo abierto"},{"$f":"IF(ISBLANK(InfoPro!I220),\"\",YEAR(InfoPro!I220)-$G$4)","v":2},{"$f":"IF(B228=\"\",\"\",VLOOKUP(D228,Tablas!$B$2:$E$13,2,FALSE))","v":0.85},{"$f":"IF(B228=\"\",\"\",VLOOKUP(D228,Tablas!$B$2:$F$13,5,FALSE))","v":0.83},574756.74,100433397511.30789,89833092586.143036,80351603386.532242,71870843816.21846,64285191248.853729,57500171063.375435,51431280020.908257,46002933829.077156,41147525786.294411,36804584782.016479,32920022166.383255,29445458109.466244,26337619060.345478,23557798801.740147,21071376387.96077,772992898556.62292,8311751.5973830419]
[{"$f":"IF(ISBLANK(InfoPro!A221),\"\",InfoPro!A221)","v":"SC_2275_A2"},{"$f":"IF(ISBLANK(InfoPro!B221),\"\",InfoPro!B221)","v":"TERMOCOSTA"},{"$f":"IF(ISBLANK(InfoPro!E221),\"\",InfoPro!E221)","v":93},{"$f":"IF(ISBLANK(InfoPro!F221),\"\",InfoPro!F221)","v":"Termica - Ciclo abierto"},{"$f":"IF(ISBLANK(InfoPro!I221),\"\",YEAR(InfoPro!I221)-$G$4)","v":2},{"$f":"IF(B229=\"\",\"\",VLOOKUP(D229,Tablas!$B$2:$E$13,2,FALSE))","v":0.85},{"$f":"IF(B229=\"\",\"\",VLOOKUP(D229,Tablas!$B$2:$F$13,5,FALSE))","v":0.83},574756.74,100433397511.30789,89833092586.143036,80351603386.532242,71870843816.21846,64285191248.853729,57500171063.375435,51431280020.908257,46002933829.077156,41147525786.294411,36804584782.016479,32920022166.383255,29445458109.466244,26337619060.345478,23557798801.740147,21071376387.96077,772992898556.62292,8311751.5973830419]
[{"$f":"IF(ISBLANK(InfoPro!A222),\"\",InfoPro!A222)","v":"SC_2292_A1"},{"$f":"IF(ISBLANK(InfoPro!B222),\"\",InfoPro!B222)","v":"PARQUE SOLAR LAS PALMERAS"},{"$f":"IF(ISBLANK(InfoPro!E222),\"\",InfoPro!E222)","v":200},{"$f":"IF(ISBLANK(InfoPro!F222),\"\",InfoPro!F222)","v":"Solar FV"},{"$f":"IF(ISBLANK(InfoPro!I222),\"\",YEAR(InfoPro!I222)-$G$4)","v":2},{"$f":"IF(B230=\"\",\"\",VLOOKUP(D230,Tablas!$B$2:$E$13,2,FALSE))","v":0.26},{"$f":"IF(B230=\"\",\"\",VLOOKUP(D230,Tablas!$B$2:$F$13,5,FALSE))","v":0.15},68328,11939682838.95661,10679501644.862801,9552327052.6500912,8544120798.4347878,7642326295.5588427,6835712250.0526342,6114232781.80021,5468902309.3025141,4891683639.8054676,4375387871.0245695,3913584857.80373,3500523128.6258764,3131058254.5848632,2800588778.6984468,2504998907.6014724,91894631409.762909,459473.15704881452]
[{"$f":"IF(ISBLANK(InfoPro!A223),\"\",InfoPro!A223)","v":"SC_2292_A2"},{"$f":"IF(ISBLANK(InfoPro!B223),\"\",InfoPro!B223)","v":"PARQUE SOLAR LAS PALMERAS"},{"$f":"IF(ISBLANK(InfoPro!E223),\"\",InfoPro!E223)","v":200},{"$f":"IF(ISBLANK(InfoPro!F223),\"\",InfoPro!F223)","v":"Solar FV"},{"$f":"IF(ISBLANK(InfoPro!I223),\"\",YEAR(InfoPro!I223)-$G$4)","v":2},{"$f":"IF(B231=\"\",\"\",VLOOKUP(D231,Tablas!$B$2:$E$13,2,FALSE))","v":0.26},{"$f":"IF(B231=\"\",\"\",VLOOKUP(D231,Tablas!$B$2:$F$13,5,FALSE))","v":0.15},68328,11939682838.95661,10679501644.862801,9552327052.6500912,8544120798.4347878,7642326295.5588427,6835712250.0526342,6114232781.80021,5468902309.3025141,4891683639.8054676,4375387871.0245695,3913584857.80373,3500523128.6258764,3131058254.5848632,2800588778.6984468,2504998907.6014724,91894631409.762909,459473.15704881452]
[{"$f":"IF(ISBLANK(InfoPro!A224),\"\",InfoPro!A224)","v":"SC_2295_A1"},{"$f":"IF(ISBLANK(InfoPro!B224),\"\",InfoPro!B224)","v":"Parque Solar San Jose 200 MW"},{"$f":"IF(ISBLANK(InfoPro!E224),\"\",InfoPro!E224)","v":200},{"$f":"IF(ISBLANK(InfoPro!F224),\"\",InfoPro!F224)","v":"Solar FV"},{"$f":"IF(ISBLANK(InfoPro!I224),\"\",YEAR(InfoPro!I224)-$G$4)","v":2},{"$f":"IF(B232=\"\",\"\",VLOOKUP(D232,Tablas!$B$2:$E$13,2,FALSE))","v":0.26},{"$f":"IF(B232=\"\",\"\",VLOOKUP(D232,Tablas!$B$2:$F$13,5,FALSE))","v":0.15},68328,11939682838.95661,10679501644.862801,9552327052.6500912,8544120798.4347878,7642326295.5588427,6835712250.0526342,6114232781.80021,5468902309.3025141,4891683639.8054676,4375387871.0245695,3913584857.80373,3500523128.6258764,3131058254.5848632,2800588778.6984468,2504998907.6014724,91894631409.762909,459473.15704881452]
[{"$f":"IF(ISBLANK(InfoPro!A225),\"\",InfoPro!A225)","v":"SC_230_A1"},{"$f":"IF(ISBLANK(InfoPro!B225),\"\",InfoPro!B225)","v":"Proyecto Solar San Martin 300MW"},{"$f":"IF(ISBLANK(InfoPro!E225),\"\",InfoPro!E225)","v":300},{"$f":"IF(ISBLANK(InfoPro!F225),\"\",InfoPro!F225)","v":"Solar FV"},{"$f":"IF(ISBLANK(InfoPro!I225),\"\",YEAR(InfoPro!I225)-$G$4)","v":2},{"$f":"IF(B233=\"\",\"\",VLOOKUP(D233,Tablas!$B$2:$E$13,2,FALSE))","v":0.26},{"$f":"IF(B233=\"\",\"\",VLOOKUP(D233,Tablas!$B$2:$F$13,5,FALSE))","v":0.15},102492,17909524258.434914,16019252467.294201,14328490578.975136,12816181197.65218,11463489443.338264,10253568375.078951,9171349172.7003136,8203353463.9537687,7337525459.7082024,6563081806.5368547,5870377286.705595,5250784692.9388151,4696587381.8772945,4200883168.0476699,3757498361.4022083,137841947114.64438,459473.15704881458]
[{"$f":"IF(ISBLANK(InfoPro!A226),\"\",InfoPro!A226)","v":"SC_2341_A1"},{"$f":"IF(ISBLANK(InfoPro!B226),\"\",InfoPro!B226)","v":"Parque Eólico Neguanje"},{"$f":"IF(ISBLANK(InfoPro!E226),\"\",InfoPro!E226)","v":19.899999999999999},{"$f":"IF(ISBLANK(InfoPro!F226),\"\",InfoPro!F226)","v":"Eólico Onshore"},{"$f":"IF(ISBLANK(InfoPro!I226),\"\",YEAR(InfoPro!I226)-$G$4)","v":4},{"$f":"IF(B234=\"\",\"\",VLOOKUP(D234,Tablas!$B$2:$E$13,2,FALSE))","v":0.56999999999999995},{"$f":"IF(B234=\"\",\"\",VLOOKUP(D234,Tablas!$B$2:$F$13,5,FALSE))","v":0.06},5961.8807999999999,833477275.06315374,745507401.66650605,666822362.85018432,596442185.01805401,533490326.49199826,477182760.72629541,426818211.7408725,381769420.16178226,341475331.09282845,305434106.52310246,273196875.24427772,244362142.43674213,218570789.29941157,195501600.44670087,174867263.36914212,6414918052.131053,322357.69106186193]
[{"$f":"IF(ISBLANK(InfoPro!A227),\"\",InfoPro!A227)","v":"SC_2341_A2"},{"$f":"IF(ISBLANK(InfoPro!B227),\"\",InfoPro!B227)","v":"Parque Eólico Neguanje"},{"$f":"IF(ISBLANK(InfoPro!E227),\"\",InfoPro!E227)","v":19.899999999999999},{"$f":"IF(ISBLANK(InfoPro!F227),\"\",InfoPro!F227)","v":"Eólico Onshore"},{"$f":"IF(ISBLANK(InfoPro!I227),\"\",YEAR(InfoPro!I227)-$G$4)","v":4},{"$f":"IF(B235=\"\",\"\",VLOOKUP(D235,Tablas!$B$2:$E$13,2,FALSE))","v":0.56999999999999995},{"$f":"IF(B235=\"\",\"\",VLOOKUP(D235,Tablas!$B$2:$F$13,5,FALSE))","v":0.06},5961.8807999999999,833477275.06315374,745507401.66650605,666822362.85018432,596442185.01805401,533490326.49199826,477182760.72629541,426818211.7408725,381769420.16178226,341475331.09282845,305434106.52310246,273196875.24427772,244362142.43674213,218570789.29941157,195501600.44670087,174867263.36914212,6414918052.131053,322357.69106186193]
[{"$f":"IF(ISBLANK(InfoPro!A228),\"\",InfoPro!A228)","v":"SC_393_A1"},{"$f":"IF(ISBLANK(InfoPro!B228),\"\",InfoPro!B228)","v":"Copey del verano 99.9 MW"},{"$f":"IF(ISBLANK(InfoPro!E228),\"\",InfoPro!E228)","v":99.9},{"$f":"IF(ISBLANK(InfoPro!F228),\"\",InfoPro!F228)","v":"Solar FV"},{"$f":"IF(ISBLANK(InfoPro!I228),\"\",YEAR(InfoPro!I228)-$G$4)","v":2},{"$f":"IF(B236=\"\",\"\",VLOOKUP(D236,Tablas!$B$2:$E$13,2,FALSE))","v":0.26},{"$f":"IF(B236=\"\",\"\",VLOOKUP(D236,Tablas!$B$2:$F$13,5,FALSE))","v":0.15},34129.836000000003,5963871578.0588274,5334411071.6089697,4771387362.7987213,4267788338.8181767,3817341984.6316428,3414438268.9012909,3054059274.5092049,2731716703.4966059,2443395978.0828314,2185506241.5767732,1954835636.4729629,1748511302.7486253,1563963598.1651392,1398894094.9598742,1251246954.3469355,45901368389.176582,459473.15704881464]
[{"$f":"IF(ISBLANK(InfoPro!A229),\"\",InfoPro!A229)","v":"SC_393_A2"},{"$f":"IF(ISBLANK(InfoPro!B229),\"\",InfoPro!B229)","v":"Copey del verano 99.9 MW"},{"$f":"IF(ISBLANK(InfoPro!E229),\"\",InfoPro!E229)","v":99.9},{"$f":"IF(ISBLANK(InfoPro!F229),\"\",InfoPro!F229)","v":"Solar FV"},{"$f":"IF(ISBLANK(InfoPro!I229),\"\",YEAR(InfoPro!I229)-$G$4)","v":2},{"$f":"IF(B237=\"\",\"\",VLOOKUP(D237,Tablas!$B$2:$E$13,2,FALSE))","v":0.26},{"$f":"IF(B237=\"\",\"\",VLOOKUP(D237,Tablas!$B$2:$F$13,5,FALSE))","v":0.15},34129.836000000003,5963871578.0588274,5334411071.6089697,4771387362.7987213,4267788338.8181767,3817341984.6316428,3414438268.9012909,3054059274.5092049,2731716703.4966059,2443395978.0828314,2185506241.5767732,1954835636.4729629,1748511302.7486253,1563963598.1651392,1398894094.9598742,1251246954.3469355,45901368389.176582,459473.15704881464]
[{"$f":"IF(ISBLANK(InfoPro!A230),\"\",InfoPro!A230)","v":"SC_394_A1"},{"$f":"IF(ISBLANK(InfoPro!B230),\"\",InfoPro!B230)","v":"Riohacha de 20 del Verano"},{"$f":"IF(ISBLANK(InfoPro!E230),\"\",InfoPro!E230)","v":19.899999999999999},{"$f":"IF(ISBLANK(InfoPro!F230),\"\",InfoPro!F230)","v":"Solar FV"},{"$f":"IF(ISBLANK(InfoPro!I230),\"\",YEAR(InfoPro!I230)-$G$4)","v":2},{"$f":"IF(B238=\"\",\"\",VLOOKUP(D238,Tablas!$B$2:$E$13,2,FALSE))","v":0.26},{"$f":"IF(B238=\"\",\"\",VLOOKUP(D238,Tablas!$B$2:$F$13,5,FALSE))","v":0.15},6798.6360000000004,1187998442.4761827,1062610413.6638488,950456541.73868418,850140019.44426143,760411466.40810502,680153368.8802371,608366161.78912091,544155779.77560008,486722522.16064405,435351093.16694474,389401693.35147113,348302051.29827476,311540296.33119392,278658583.48049545,249247391.30634654,9143515825.27141,459473.15704881458]
[{"$f":"IF(ISBLANK(InfoPro!A231),\"\",InfoPro!A231)","v":"SC_394_A2"},{"$f":"IF(ISBLANK(InfoPro!B231),\"\",InfoPro!B231)","v":"Riohacha de 20 del Verano"},{"$f":"IF(ISBLANK(InfoPro!E231),\"\",InfoPro!E231)","v":19.899999999999999},{"$f":"IF(ISBLANK(InfoPro!F231),\"\",InfoPro!F231)","v":"Solar FV"},{"$f":"IF(ISBLANK(InfoPro!I231),\"\",YEAR(InfoPro!I231)-$G$4)","v":2},{"$f":"IF(B239=\"\",\"\",VLOOKUP(D239,Tablas!$B$2:$E$13,2,FALSE))","v":0.26},{"$f":"IF(B239=\"\",\"\",VLOOKUP(D239,Tablas!$B$2:$F$13,5,FALSE))","v":0.15},6798.6360000000004,1187998442.4761827,1062610413.6638488,950456541.73868418,850140019.44426143,760411466.40810502,680153368.8802371,608366161.78912091,544155779.77560008,486722522.16064405,435351093.16694474,389401693.35147113,348302051.29827476,311540296.33119392,278658583.48049545,249247391.30634654,9143515825.27141,459473.15704881458]
[{"$f":"IF(ISBLANK(InfoPro!A232),\"\",InfoPro!A232)","v":"SC_407_A1"},{"$f":"IF(ISBLANK(InfoPro!B232),\"\",InfoPro!B232)","v":"Portugal I 19.9 MW"},{"$f":"IF(ISBLANK(InfoPro!E232),\"\",InfoPro!E232)","v":19.899999999999999},{"$f":"IF(ISBLANK(InfoPro!F232),\"\",InfoPro!F232)","v":"Solar FV"},{"$f":"IF(ISBLANK(InfoPro!I232),\"\",YEAR(InfoPro!I232)-$G$4)","v":2},{"$f":"IF(B240=\"\",\"\",VLOOKUP(D240,Tablas!$B$2:$E$13,2,FALSE))","v":0.26},{"$f":"IF(B240=\"\",\"\",VLOOKUP(D240,Tablas!$B$2:$F$13,5,FALSE))","v":0.15},6798.6360000000004,1187998442.4761827,1062610413.6638488,950456541.73868418,850140019.44426143,760411466.40810502,680153368.8802371,608366161.78912091,544155779.77560008,486722522.16064405,435351093.16694474,389401693.35147113,348302051.29827476,311540296.33119392,278658583.48049545,249247391.30634654,9143515825.27141,459473.15704881458]
[{"$f":"IF(ISBLANK(InfoPro!A233),\"\",InfoPro!A233)","v":"SC_42_A1"},{"$f":"IF(ISBLANK(InfoPro!B233),\"\",InfoPro!B233)","v":"Santa Marta 1 - 50 MW"},{"$f":"IF(ISBLANK(InfoPro!E233),\"\",InfoPro!E233)","v":50},{"$f":"IF(ISBLANK(InfoPro!F233),\"\",InfoPro!F233)","v":"Solar FV"},{"$f":"IF(ISBLANK(InfoPro!I233),\"\",YEAR(InfoPro!I233)-$G$4)","v":2},{"$f":"IF(B241=\"\",\"\",VLOOKUP(D241,Tablas!$B$2:$E$13,2,FALSE))","v":0.26},{"$f":"IF(B241=\"\",\"\",VLOOKUP(D241,Tablas!$B$2:$F$13,5,FALSE))","v":0.15},17082,2984920709.7391524,2669875411.2157001,2388081763.1625228,2136030199.6086969,1910581573.8897107,1708928062.5131586,1528558195.4500525,1367225577.3256285,1222920909.9513669,1093846967.7561424,978396214.4509325,875130782.15646911,782764563.6462158,700147194.67461169,626249726.90036809,22973657852.440727,459473.15704881452]
[{"$f":"IF(ISBLANK(InfoPro!A234),\"\",InfoPro!A234)","v":"SC_482_A1"},{"$f":"IF(ISBLANK(InfoPro!B234),\"\",InfoPro!B234)","v":"La Santa Maria - 99.9MW"},{"$f":"IF(ISBLANK(InfoPro!E234),\"\",InfoPro!E234)","v":99.9},{"$f":"IF(ISBLANK(InfoPro!F234),\"\",InfoPro!F234)","v":"Solar FV"},{"$f":"IF(ISBLANK(InfoPro!I234),\"\",YEAR(InfoPro!I234)-$G$4)","v":2},{"$f":"IF(B242=\"\",\"\",VLOOKUP(D242,Tablas!$B$2:$E$13,2,FALSE))","v":0.26},{"$f":"IF(B242=\"\",\"\",VLOOKUP(D242,Tablas!$B$2:$F$13,5,FALSE))","v":0.15},34129.836000000003,5963871578.0588274,5334411071.6089697,4771387362.7987213,4267788338.8181767,3817341984.6316428,3414438268.9012909,3054059274.5092049,2731716703.4966059,2443395978.0828314,2185506241.5767732,1954835636.4729629,1748511302.7486253,1563963598.1651392,1398894094.9598742,1251246954.3469355,45901368389.176582,459473.15704881464]
[{"$f":"IF(ISBLANK(InfoPro!A235),\"\",InfoPro!A235)","v":"SC_482_A2"},{"$f":"IF(ISBLANK(InfoPro!B235),\"\",InfoPro!B235)","v":"La Santa Maria - 99.9MW"},{"$f":"IF(ISBLANK(InfoPro!E235),\"\",InfoPro!E235)","v":99.9},{"$f":"IF(ISBLANK(InfoPro!F235),\"\",InfoPro!F235)","v":"Solar FV"},{"$f":"IF(ISBLANK(InfoPro!I235),\"\",YEAR(InfoPro!I235)-$G$4)","v":2},{"$f":"IF(B243=\"\",\"\",VLOOKUP(D243,Tablas!$B$2:$E$13,2,FALSE))","v":0.26},{"$f":"IF(B243=\"\",\"\",VLOOKUP(D243,Tablas!$B$2:$F$13,5,FALSE))","v":0.15},34129.836000000003,{"$f":"IF($H243=\"\",\"\",(1/(1+$C$4)^(I$7+$E243))*$H243*$I$5*$I$4)","v":5963871578.0588274},5334411071.6089697,4771387362.7987213,4267788338.8181767,3817341984.6316428,3414438268.9012909,3054059274.5092049,2731716703.4966059,2443395978.0828314,2185506241.5767732,1954835636.4729629,1748511302.7486253,1563963598.1651392,1398894094.9598742,1251246954.3469355,45901368389.176582,459473.15704881464]
[{"$f":"IF(ISBLANK(InfoPro!A236),\"\",InfoPro!A236)","v":"SC_497_A1"},{"$f":"IF(ISBLANK(InfoPro!B236),\"\",InfoPro!B236)","v":"Portugal II - 9.9 MW"},{"$f":"IF(ISBLANK(InfoPro!E236),\"\",InfoPro!E236)","v":9.9},{"$f":"IF(ISBLANK(InfoPro!F236),\"\",InfoPro!F236)","v":"Solar FV"},{"$f":"IF(ISBLANK(InfoPro!I236),\"\",YEAR(InfoPro!I236)-$G$4)","v":2},{"$f":"IF(B244=\"\",\"\",VLOOKUP(D244,Tablas!$B$2:$E$13,2,FALSE))","v":0.26},{"$f":"IF(B244=\"\",\"\",VLOOKUP(D244,Tablas!$B$2:$F$13,5,FALSE))","v":0.15},3382.2360000000003,591014300.52835214,528635331.42070878,472840189.10617959,422933979.52252197,378295151.63016278,338367756.37760544,302654522.69911039,270710664.31047446,242138340.1703707,216581699.61571625,193722450.46128464,173275894.86698088,154987383.60195073,138629144.54557315,123997445.92627291,4548784254.7832651,459473.15704881464]
[{"$f":"IF(ISBLANK(InfoPro!A237),\"\",InfoPro!A237)","v":"SC_502_A1"},{"$f":"IF(ISBLANK(InfoPro!B237),\"\",InfoPro!B237)","v":"RUBÍ 40 MW"},{"$f":"IF(ISBLANK(InfoPro!E237),\"\",InfoPro!E237)","v":40},{"$f":"IF(ISBLANK(InfoPro!F237),\"\",InfoPro!F237)","v":"Solar FV"},{"$f":"IF(ISBLANK(InfoPro!I237),\"\",YEAR(InfoPro!I237)-$G$4)","v":3},{"$f":"IF(B245=\"\",\"\",VLOOKUP(D245,Tablas!$B$2:$E$13,2,FALSE))","v":0.26},{"$f":"IF(B245=\"\",\"\",VLOOKUP(D245,Tablas!$B$2:$F$13,5,FALSE))","v":0.15},13665.599999999999,2135900328.9725602,1910465410.5300181,1708824159.6869576,1528465259.1117687,1367142450.0105267,1222846556.3600419,1093780461.8605025,978336727.96109343,875077574.20491397,782716971.56074584,700104625.72517526,626211650.91697252,560117755.73968923,500999781.52029443,448121450.3759343,16439111164.537197,410977.77911342995]
[{"$f":"IF(ISBLANK(InfoPro!A238),\"\",InfoPro!A238)","v":"SC_507_A1"},{"$f":"IF(ISBLANK(InfoPro!B238),\"\",InfoPro!B238)","v":"PARQUE FOTOVOLTAICO CATAY 2"},{"$f":"IF(ISBLANK(InfoPro!E238),\"\",InfoPro!E238)","v":100},{"$f":"IF(ISBLANK(InfoPro!F238),\"\",InfoPro!F238)","v":"Solar FV"},{"$f":"IF(ISBLANK(InfoPro!I238),\"\",YEAR(InfoPro!I238)-$G$4)","v":4},{"$f":"IF(B246=\"\",\"\",VLOOKUP(D246,Tablas!$B$2:$E$13,2,FALSE))","v":0.26},{"$f":"IF(B246=\"\",\"\",VLOOKUP(D246,Tablas!$B$2:$F$13,5,FALSE))","v":0.15},34164,4776163526.3250456,4272060399.2173939,3821163147.7794213,3417856125.0263171,3057116390.900105,2734451154.651257,2445841819.9027338,2187693935.5122848,1956792428.901865,1750261564.3129382,1565529127.2924316,1400294389.3492234,1252499453.8007362,1120303625.9398358,1002060488.3182788,36760087577.229866,367600.87577229866]
[{"$f":"IF(ISBLANK(InfoPro!A239),\"\",InfoPro!A239)","v":"SC_507_A2"},{"$f":"IF(ISBLANK(InfoPro!B239),\"\",InfoPro!B239)","v":"PARQUE FOTOVOLTAICO CATAY 2"},{"$f":"IF(ISBLANK(InfoPro!E239),\"\",InfoPro!E239)","v":100},{"$f":"IF(ISBLANK(InfoPro!F239),\"\",InfoPro!F239)","v":"Solar FV"},{"$f":"IF(ISBLANK(InfoPro!I239),\"\",YEAR(InfoPro!I239)-$G$4)","v":4},{"$f":"IF(B247=\"\",\"\",VLOOKUP(D247,Tablas!$B$2:$E$13,2,FALSE))","v":0.26},{"$f":"IF(B247=\"\",\"\",VLOOKUP(D247,Tablas!$B$2:$F$13,5,FALSE))","v":0.15},34164,4776163526.3250456,4272060399.2173939,3821163147.7794213,3417856125.0263171,3057116390.900105,2734451154.651257,2445841819.9027338,2187693935.5122848,1956792428.901865,1750261564.3129382,1565529127.2924316,1400294389.3492234,1252499453.8007362,1120303625.9398358,1002060488.3182788,36760087577.229866,367600.87577229866]
[{"$f":"IF(ISBLANK(InfoPro!A240),\"\",InfoPro!A240)","v":"SC_543_A1"},{"$f":"IF(ISBLANK(InfoPro!B240),\"\",InfoPro!B240)","v":"Sabana I 350 MW"},{"$f":"IF(ISBLANK(InfoPro!E240),\"\",InfoPro!E240)","v":350},{"$f":"IF(ISBLANK(InfoPro!F240),\"\",InfoPro!F240)","v":"Solar FV"},{"$f":"IF(ISBLANK(InfoPro!I240),\"\",YEAR(InfoPro!I240)-$G$4)","v":4},{"$f":"IF(B248=\"\",\"\",VLOOKUP(D248,Tablas!$B$2:$E$13,2,FALSE))","v":0.26},{"$f":"IF(B248=\"\",\"\",VLOOKUP(D248,Tablas!$B$2:$F$13,5,FALSE))","v":0.15},119574.00000000001,16716572342.137663,14952211397.260881,13374071017.227978,11962496437.59211,10699907368.150368,9570579041.279398,8560446369.6595688,7656928774.2929983,6848773501.1565285,6125915475.0952845,5479351945.5235109,4901030362.7222815,4383748088.302578,3921062690.7894254,3507211709.113976,128660306520.30458,367600.87577229878]
[{"$f":"IF(ISBLANK(InfoPro!A241),\"\",InfoPro!A241)","v":"SC_56_A2"},{"$f":"IF(ISBLANK(InfoPro!B241),\"\",InfoPro!B241)","v":"PV LATAMSOLAR LA LOMA 200 MW"},{"$f":"IF(ISBLANK(InfoPro!E241),\"\",InfoPro!E241)","v":200},{"$f":"IF(ISBLANK(InfoPro!F241),\"\",InfoPro!F241)","v":"Solar FV"},{"$f":"IF(ISBLANK(InfoPro!I241),\"\",YEAR(InfoPro!I241)-$G$4)","v":1},{"$f":"IF(B249=\"\",\"\",VLOOKUP(D249,Tablas!$B$2:$E$13,2,FALSE))","v":0.26},{"$f":"IF(B249=\"\",\"\",VLOOKUP(D249,Tablas!$B$2:$F$13,5,FALSE))","v":0.15},68328,13348565413.953489,11939682838.95661,10679501644.862801,9552327052.6500912,8544120798.4347878,7642326295.5588427,6835712250.0526342,6114232781.80021,5468902309.3025141,4891683639.8054676,4375387871.0245695,3913584857.80373,3500523128.6258764,3131058254.5848632,2800588778.6984468,102738197916.11494,513690.98958057474]
[{"$f":"IF(ISBLANK(InfoPro!A242),\"\",InfoPro!A242)","v":"SC_587_A1"},{"$f":"IF(ISBLANK(InfoPro!B242),\"\",InfoPro!B242)","v":"Cactus del Cesar - El Paso"},{"$f":"IF(ISBLANK(InfoPro!E242),\"\",InfoPro!E242)","v":19.899999999999999},{"$f":"IF(ISBLANK(InfoPro!F242),\"\",InfoPro!F242)","v":"Solar FV"},{"$f":"IF(ISBLANK(InfoPro!I242),\"\",YEAR(InfoPro!I242)-$G$4)","v":6},{"$f":"IF(B250=\"\",\"\",VLOOKUP(D250,Tablas!$B$2:$E$13,2,FALSE))","v":0.26},{"$f":"IF(B250=\"\",\"\",VLOOKUP(D250,Tablas!$B$2:$F$13,5,FALSE))","v":0.15},6798.6360000000004,760411466.40810502,680153368.8802371,608366161.78912091,544155779.77560008,486722522.16064405,435351093.16694474,389401693.35147113,348302051.29827476,311540296.33119392,278658583.48049545,249247391.30634654,222940421.56202731,199410037.17533749,178363181.73107117,159537729.63423178,5852561778.0511017,294098.58181161317]
[{"$f":"IF(ISBLANK(InfoPro!A243),\"\",InfoPro!A243)","v":"SC_587_A2"},{"$f":"IF(ISBLANK(InfoPro!B243),\"\",InfoPro!B243)","v":"Cactus del Cesar - El Paso"},{"$f":"IF(ISBLANK(InfoPro!E243),\"\",InfoPro!E243)","v":19.899999999999999},{"$f":"IF(ISBLANK(InfoPro!F243),\"\",InfoPro!F243)","v":"Solar FV"},{"$f":"IF(ISBLANK(InfoPro!I243),\"\",YEAR(InfoPro!I243)-$G$4)","v":6},{"$f":"IF(B251=\"\",\"\",VLOOKUP(D251,Tablas!$B$2:$E$13,2,FALSE))","v":0.26},{"$f":"IF(B251=\"\",\"\",VLOOKUP(D251,Tablas!$B$2:$F$13,5,FALSE))","v":0.15},6798.6360000000004,760411466.40810502,680153368.8802371,608366161.78912091,544155779.77560008,486722522.16064405,435351093.16694474,389401693.35147113,348302051.29827476,311540296.33119392,278658583.48049545,249247391.30634654,222940421.56202731,199410037.17533749,178363181.73107117,159537729.63423178,5852561778.0511017,294098.58181161317]
[{"$f":"IF(ISBLANK(InfoPro!A244),\"\",InfoPro!A244)","v":"SC_599_A1"},{"$f":"IF(ISBLANK(InfoPro!B244),\"\",InfoPro!B244)","v":"La Fortuna - 19,9 MW"},{"$f":"IF(ISBLANK(InfoPro!E244),\"\",InfoPro!E244)","v":19.899999999999999},{"$f":"IF(ISBLANK(InfoPro!F244),\"\",InfoPro!F244)","v":"Solar FV"},{"$f":"IF(ISBLANK(InfoPro!I244),\"\",YEAR(InfoPro!I244)-$G$4)","v":2},{"$f":"IF(B252=\"\",\"\",VLOOKUP(D252,Tablas!$B$2:$E$13,2,FALSE))","v":0.26},{"$f":"IF(B252=\"\",\"\",VLOOKUP(D252,Tablas!$B$2:$F$13,5,FALSE))","v":0.15},6798.6360000000004,1187998442.4761827,1062610413.6638488,950456541.73868418,850140019.44426143,760411466.40810502,680153368.8802371,608366161.78912091,544155779.77560008,486722522.16064405,435351093.16694474,389401693.35147113,348302051.29827476,311540296.33119392,278658583.48049545,249247391.30634654,9143515825.27141,459473.15704881458]
[{"$f":"IF(ISBLANK(InfoPro!A245),\"\",InfoPro!A245)","v":"SC_599_A2"},{"$f":"IF(ISBLANK(InfoPro!B245),\"\",InfoPro!B245)","v":"La Fortuna - 19,9 MW"},{"$f":"IF(ISBLANK(InfoPro!E245),\"\",InfoPro!E245)","v":19.899999999999999},{"$f":"IF(ISBLANK(InfoPro!F245),\"\",InfoPro!F245)","v":"Solar FV"},{"$f":"IF(ISBLANK(InfoPro!I245),\"\",YEAR(InfoPro!I245)-$G$4)","v":2},{"$f":"IF(B253=\"\",\"\",VLOOKUP(D253,Tablas!$B$2:$E$13,2,FALSE))","v":0.26},{"$f":"IF(B253=\"\",\"\",VLOOKUP(D253,Tablas!$B$2:$F$13,5,FALSE))","v":0.15},6798.6360000000004,1187998442.4761827,1062610413.6638488,950456541.73868418,850140019.44426143,760411466.40810502,680153368.8802371,608366161.78912091,544155779.77560008,486722522.16064405,435351093.16694474,389401693.35147113,348302051.29827476,311540296.33119392,278658583.48049545,249247391.30634654,9143515825.27141,459473.15704881458]
[{"$f":"IF(ISBLANK(InfoPro!A246),\"\",InfoPro!A246)","v":"SC_623_A1"},{"$f":"IF(ISBLANK(InfoPro!B246),\"\",InfoPro!B246)","v":"TR SOLAR 6"},{"$f":"IF(ISBLANK(InfoPro!E246),\"\",InfoPro!E246)","v":120.3},{"$f":"IF(ISBLANK(InfoPro!F246),\"\",InfoPro!F246)","v":"Solar FV"},{"$f":"IF(ISBLANK(InfoPro!I246),\"\",YEAR(InfoPro!I246)-$G$4)","v":3},{"$f":"IF(B254=\"\",\"\",VLOOKUP(D254,Tablas!$B$2:$E$13,2,FALSE))","v":0.26},{"$f":"IF(B254=\"\",\"\",VLOOKUP(D254,Tablas!$B$2:$F$13,5,FALSE))","v":0.15},41099.291999999994,6423720239.3849735,5745724722.1690292,5139288660.2585239,4596859266.7786436,4111680918.4066586,3677711018.2528253,3289544739.0454612,2942347709.3429885,2631795804.4212785,2354021291.9689431,2105564661.8684645,1883331540.1327946,1684554150.3871155,1506756842.9222856,1347725262.0056224,49440626827.345612,410977.77911342983]
[{"$f":"IF(ISBLANK(InfoPro!A247),\"\",InfoPro!A247)","v":"SC_623_A2"},{"$f":"IF(ISBLANK(InfoPro!B247),\"\",InfoPro!B247)","v":"TR SOLAR 6"},{"$f":"IF(ISBLANK(InfoPro!E247),\"\",InfoPro!E247)","v":120.3},{"$f":"IF(ISBLANK(InfoPro!F247),\"\",InfoPro!F247)","v":"Solar FV"},{"$f":"IF(ISBLANK(InfoPro!I247),\"\",YEAR(InfoPro!I247)-$G$4)","v":3},{"$f":"IF(B255=\"\",\"\",VLOOKUP(D255,Tablas!$B$2:$E$13,2,FALSE))","v":0.26},{"$f":"IF(B255=\"\",\"\",VLOOKUP(D255,Tablas!$B$2:$F$13,5,FALSE))","v":0.15},41099.291999999994,6423720239.3849735,5745724722.1690292,5139288660.2585239,4596859266.7786436,4111680918.4066586,3677711018.2528253,3289544739.0454612,2942347709.3429885,2631795804.4212785,2354021291.9689431,2105564661.8684645,1883331540.1327946,1684554150.3871155,1506756842.9222856,1347725262.0056224,49440626827.345612,410977.77911342983]
[{"$f":"IF(ISBLANK(InfoPro!A248),\"\",InfoPro!A248)","v":"SC_628_A1"},{"$f":"IF(ISBLANK(InfoPro!B248),\"\",InfoPro!B248)","v":"TR Solar 13"},{"$f":"IF(ISBLANK(InfoPro!E248),\"\",InfoPro!E248)","v":110},{"$f":"IF(ISBLANK(InfoPro!F248),\"\",InfoPro!F248)","v":"Solar FV"},{"$f":"IF(ISBLANK(InfoPro!I248),\"\",YEAR(InfoPro!I248)-$G$4)","v":3},{"$f":"IF(B256=\"\",\"\",VLOOKUP(D256,Tablas!$B$2:$E$13,2,FALSE))","v":0.26},{"$f":"IF(B256=\"\",\"\",VLOOKUP(D256,Tablas!$B$2:$F$13,5,FALSE))","v":0.15},37580.400000000001,5873725904.6745415,5253779878.95755,4699266439.1391325,4203279462.5573645,3759641737.5289488,3362828029.9901147,3007896270.1163826,2690426001.8930073,2406463329.0635138,2152471671.7920513,1925287720.7442319,1722082040.0216749,1540323828.2841458,1377749399.18081,1232333988.5338194,45207555702.477303,410977.77911343001]
[{"$f":"IF(ISBLANK(InfoPro!A249),\"\",InfoPro!A249)","v":"SC_628_A2"},{"$f":"IF(ISBLANK(InfoPro!B249),\"\",InfoPro!B249)","v":"TR Solar 13"},{"$f":"IF(ISBLANK(InfoPro!E249),\"\",InfoPro!E249)","v":110},{"$f":"IF(ISBLANK(InfoPro!F249),\"\",InfoPro!F249)","v":"Solar FV"},{"$f":"IF(ISBLANK(InfoPro!I249),\"\",YEAR(InfoPro!I249)-$G$4)","v":3},{"$f":"IF(B257=\"\",\"\",VLOOKUP(D257,Tablas!$B$2:$E$13,2,FALSE))","v":0.26},{"$f":"IF(B257=\"\",\"\",VLOOKUP(D257,Tablas!$B$2:$F$13,5,FALSE))","v":0.15},37580.400000000001,5873725904.6745415,5253779878.95755,4699266439.1391325,4203279462.5573645,3759641737.5289488,3362828029.9901147,3007896270.1163826,2690426001.8930073,2406463329.0635138,2152471671.7920513,1925287720.7442319,1722082040.0216749,1540323828.2841458,1377749399.18081,1232333988.5338194,45207555702.477303,410977.77911343001]
[{"$f":"IF(ISBLANK(InfoPro!A250),\"\",InfoPro!A250)","v":"SC_657_A1"},{"$f":"IF(ISBLANK(InfoPro!B250),\"\",InfoPro!B250)","v":"TR Solar 7"},{"$f":"IF(ISBLANK(InfoPro!E250),\"\",InfoPro!E250)","v":99.9},{"$f":"IF(ISBLANK(InfoPro!F250),\"\",InfoPro!F250)","v":"Solar FV"},{"$f":"IF(ISBLANK(InfoPro!I250),\"\",YEAR(InfoPro!I250)-$G$4)","v":3},{"$f":"IF(B258=\"\",\"\",VLOOKUP(D258,Tablas!$B$2:$E$13,2,FALSE))","v":0.26},{"$f":"IF(B258=\"\",\"\",VLOOKUP(D258,Tablas!$B$2:$F$13,5,FALSE))","v":0.15},34129.836000000003,5334411071.6089697,4771387362.7987213,4267788338.8181767,3817341984.6316428,3414438268.9012909,3054059274.5092049,2731716703.4966059,2443395978.0828314,2185506241.5767732,1954835636.4729629,1748511302.7486253,1563963598.1651392,1398894094.9598742,1251246954.3469355,1119183322.3138959,41056680133.431656,410977.77911343001]
[{"$f":"IF(ISBLANK(InfoPro!A251),\"\",InfoPro!A251)","v":"SC_657_A2"},{"$f":"IF(ISBLANK(InfoPro!B251),\"\",InfoPro!B251)","v":"TR Solar 7"},{"$f":"IF(ISBLANK(InfoPro!E251),\"\",InfoPro!E251)","v":99.9},{"$f":"IF(ISBLANK(InfoPro!F251),\"\",InfoPro!F251)","v":"Solar FV"},{"$f":"IF(ISBLANK(InfoPro!I251),\"\",YEAR(InfoPro!I251)-$G$4)","v":3},{"$f":"IF(B259=\"\",\"\",VLOOKUP(D259,Tablas!$B$2:$E$13,2,FALSE))","v":0.26},{"$f":"IF(B259=\"\",\"\",VLOOKUP(D259,Tablas!$B$2:$F$13,5,FALSE))","v":0.15},34129.836000000003,5334411071.6089697,4771387362.7987213,4267788338.8181767,3817341984.6316428,3414438268.9012909,3054059274.5092049,2731716703.4966059,2443395978.0828314,2185506241.5767732,1954835636.4729629,1748511302.7486253,1563963598.1651392,1398894094.9598742,1251246954.3469355,1119183322.3138959,41056680133.431656,410977.77911343001]
[{"$f":"IF(ISBLANK(InfoPro!A252),\"\",InfoPro!A252)","v":"SC_658_A1"},{"$f":"IF(ISBLANK(InfoPro!B252),\"\",InfoPro!B252)","v":"TR Solar 8"},{"$f":"IF(ISBLANK(InfoPro!E252),\"\",InfoPro!E252)","v":200},{"$f":"IF(ISBLANK(InfoPro!F252),\"\",InfoPro!F252)","v":"Solar FV"},{"$f":"IF(ISBLANK(InfoPro!I252),\"\",YEAR(InfoPro!I252)-$G$4)","v":3},{"$f":"IF(B260=\"\",\"\",VLOOKUP(D260,Tablas!$B$2:$E$13,2,FALSE))","v":0.26},{"$f":"IF(B260=\"\",\"\",VLOOKUP(D260,Tablas!$B$2:$F$13,5,FALSE))","v":0.15},68328,{"$f":"IF($H260=\"\",\"\",(1/(1+$C$4)^(I$7+$E260))*$H260*$I$5*$I$4)","v":10679501644.862801},9552327052.6500912,8544120798.4347878,7642326295.5588427,6835712250.0526342,6114232781.80021,5468902309.3025141,4891683639.8054676,4375387871.0245695,3913584857.80373,3500523128.6258764,3131058254.5848632,2800588778.6984468,2504998907.6014724,2240607251.8796716,82195555822.685959,410977.77911342977]
[{"$f":"IF(ISBLANK(InfoPro!A253),\"\",InfoPro!A253)","v":"SC_658_A2"},{"$f":"IF(ISBLANK(InfoPro!B253),\"\",InfoPro!B253)","v":"TR Solar 8"},{"$f":"IF(ISBLANK(InfoPro!E253),\"\",InfoPro!E253)","v":200},{"$f":"IF(ISBLANK(InfoPro!F253),\"\",InfoPro!F253)","v":"Solar FV"},{"$f":"IF(ISBLANK(InfoPro!I253),\"\",YEAR(InfoPro!I253)-$G$4)","v":3},{"$f":"IF(B261=\"\",\"\",VLOOKUP(D261,Tablas!$B$2:$E$13,2,FALSE))","v":0.26},{"$f":"IF(B261=\"\",\"\",VLOOKUP(D261,Tablas!$B$2:$F$13,5,FALSE))","v":0.15},68328,10679501644.862801,9552327052.6500912,8544120798.4347878,7642326295.5588427,6835712250.0526342,6114232781.80021,5468902309.3025141,4891683639.8054676,4375387871.0245695,3913584857.80373,3500523128.6258764,3131058254.5848632,2800588778.6984468,2504998907.6014724,2240607251.8796716,82195555822.685959,410977.77911342977]
[{"$f":"IF(ISBLANK(InfoPro!A254),\"\",InfoPro!A254)","v":"SC_72_A1"},{"$f":"IF(ISBLANK(InfoPro!B254),\"\",InfoPro!B254)","v":"Santa Marta III"},{"$f":"IF(ISBLANK(InfoPro!E254),\"\",InfoPro!E254)","v":50},{"$f":"IF(ISBLANK(InfoPro!F254),\"\",InfoPro!F254)","v":"Solar FV"},{"$f":"IF(ISBLANK(InfoPro!I254),\"\",YEAR(InfoPro!I254)-$G$4)","v":2},{"$f":"IF(B262=\"\",\"\",VLOOKUP(D262,Tablas!$B$2:$E$13,2,FALSE))","v":0.26},{"$f":"IF(B262=\"\",\"\",VLOOKUP(D262,Tablas!$B$2:$F$13,5,FALSE))","v":0.15},17082,2984920709.7391524,2669875411.2157001,2388081763.1625228,2136030199.6086969,1910581573.8897107,1708928062.5131586,1528558195.4500525,1367225577.3256285,1222920909.9513669,1093846967.7561424,978396214.4509325,875130782.15646911,782764563.6462158,700147194.67461169,626249726.90036809,22973657852.440727,459473.15704881452]
[{"$f":"IF(ISBLANK(InfoPro!A255),\"\",InfoPro!A255)","v":"SC_735_A1"},{"$f":"IF(ISBLANK(InfoPro!B255),\"\",InfoPro!B255)","v":"EGINA 60"},{"$f":"IF(ISBLANK(InfoPro!E255),\"\",InfoPro!E255)","v":60},{"$f":"IF(ISBLANK(InfoPro!F255),\"\",InfoPro!F255)","v":"Solar FV"},{"$f":"IF(ISBLANK(InfoPro!I255),\"\",YEAR(InfoPro!I255)-$G$4)","v":3},{"$f":"IF(B263=\"\",\"\",VLOOKUP(D263,Tablas!$B$2:$E$13,2,FALSE))","v":0.26},{"$f":"IF(B263=\"\",\"\",VLOOKUP(D263,Tablas!$B$2:$F$13,5,FALSE))","v":0.15},20498.399999999998,3203850493.4588404,2865698115.7950273,2563236239.530436,2292697888.6676526,2050713675.01579,1834269834.5400624,1640670692.7907538,1467505091.9416401,1312616361.3073709,1174075457.3411188,1050156938.5877627,939317476.37545884,840176633.60953391,751499672.28044164,672182175.56390142,24658666746.805786,410977.77911342977]
[{"$f":"IF(ISBLANK(InfoPro!A256),\"\",InfoPro!A256)","v":"SC_735_A2"},{"$f":"IF(ISBLANK(InfoPro!B256),\"\",InfoPro!B256)","v":"EGINA 60"},{"$f":"IF(ISBLANK(InfoPro!E256),\"\",InfoPro!E256)","v":60},{"$f":"IF(ISBLANK(InfoPro!F256),\"\",InfoPro!F256)","v":"Solar FV"},{"$f":"IF(ISBLANK(InfoPro!I256),\"\",YEAR(InfoPro!I256)-$G$4)","v":3},{"$f":"IF(B264=\"\",\"\",VLOOKUP(D264,Tablas!$B$2:$E$13,2,FALSE))","v":0.26},{"$f":"IF(B264=\"\",\"\",VLOOKUP(D264,Tablas!$B$2:$F$13,5,FALSE))","v":0.15},20498.399999999998,3203850493.4588404,2865698115.7950273,2563236239.530436,2292697888.6676526,2050713675.01579,1834269834.5400624,1640670692.7907538,1467505091.9416401,1312616361.3073709,1174075457.3411188,1050156938.5877627,939317476.37545884,840176633.60953391,751499672.28044164,672182175.56390142,24658666746.805786,410977.77911342977]
[{"$f":"IF(ISBLANK(InfoPro!A257),\"\",InfoPro!A257)","v":"SC_758_A1"},{"$f":"IF(ISBLANK(InfoPro!B257),\"\",InfoPro!B257)","v":"JAMAICA 19.9"},{"$f":"IF(ISBLANK(InfoPro!E257),\"\",InfoPro!E257)","v":19.899999999999999},{"$f":"IF(ISBLANK(InfoPro!F257),\"\",InfoPro!F257)","v":"Solar FV"},{"$f":"IF(ISBLANK(InfoPro!I257),\"\",YEAR(InfoPro!I257)-$G$4)","v":2},{"$f":"IF(B265=\"\",\"\",VLOOKUP(D265,Tablas!$B$2:$E$13,2,FALSE))","v":0.26},{"$f":"IF(B265=\"\",\"\",VLOOKUP(D265,Tablas!$B$2:$F$13,5,FALSE))","v":0.15},6798.6360000000004,1187998442.4761827,1062610413.6638488,950456541.73868418,850140019.44426143,760411466.40810502,680153368.8802371,608366161.78912091,544155779.77560008,486722522.16064405,435351093.16694474,389401693.35147113,348302051.29827476,311540296.33119392,278658583.48049545,249247391.30634654,9143515825.27141,459473.15704881458]
[{"$f":"IF(ISBLANK(InfoPro!A258),\"\",InfoPro!A258)","v":"SC_758_A2"},{"$f":"IF(ISBLANK(InfoPro!B258),\"\",InfoPro!B258)","v":"JAMAICA 19.9"},{"$f":"IF(ISBLANK(InfoPro!E258),\"\",InfoPro!E258)","v":19.899999999999999},{"$f":"IF(ISBLANK(InfoPro!F258),\"\",InfoPro!F258)","v":"Solar FV"},{"$f":"IF(ISBLANK(InfoPro!I258),\"\",YEAR(InfoPro!I258)-$G$4)","v":2},{"$f":"IF(B266=\"\",\"\",VLOOKUP(D266,Tablas!$B$2:$E$13,2,FALSE))","v":0.26},{"$f":"IF(B266=\"\",\"\",VLOOKUP(D266,Tablas!$B$2:$F$13,5,FALSE))","v":0.15},6798.6360000000004,1187998442.4761827,1062610413.6638488,950456541.73868418,850140019.44426143,760411466.40810502,680153368.8802371,608366161.78912091,544155779.77560008,486722522.16064405,435351093.16694474,389401693.35147113,348302051.29827476,311540296.33119392,278658583.48049545,249247391.30634654,9143515825.27141,459473.15704881458]
[{"$f":"IF(ISBLANK(InfoPro!A259),\"\",InfoPro!A259)","v":"SC_768_A1"},{"$f":"IF(ISBLANK(InfoPro!B259),\"\",InfoPro!B259)","v":"RODAS 19.9"},{"$f":"IF(ISBLANK(InfoPro!E259),\"\",InfoPro!E259)","v":19.899999999999999},{"$f":"IF(ISBLANK(InfoPro!F259),\"\",InfoPro!F259)","v":"Solar FV"},{"$f":"IF(ISBLANK(InfoPro!I259),\"\",YEAR(InfoPro!I259)-$G$4)","v":2},{"$f":"IF(B267=\"\",\"\",VLOOKUP(D267,Tablas!$B$2:$E$13,2,FALSE))","v":0.26},{"$f":"IF(B267=\"\",\"\",VLOOKUP(D267,Tablas!$B$2:$F$13,5,FALSE))","v":0.15},6798.6360000000004,1187998442.4761827,1062610413.6638488,950456541.73868418,850140019.44426143,760411466.40810502,680153368.8802371,608366161.78912091,544155779.77560008,486722522.16064405,435351093.16694474,389401693.35147113,348302051.29827476,311540296.33119392,278658583.48049545,249247391.30634654,9143515825.27141,459473.15704881458]
[{"$f":"IF(ISBLANK(InfoPro!A260),\"\",InfoPro!A260)","v":"SC_768_A2"},{"$f":"IF(ISBLANK(InfoPro!B260),\"\",InfoPro!B260)","v":"RODAS 19.9"},{"$f":"IF(ISBLANK(InfoPro!E260),\"\",InfoPro!E260)","v":19.899999999999999},{"$f":"IF(ISBLANK(InfoPro!F260),\"\",InfoPro!F260)","v":"Solar FV"},{"$f":"IF(ISBLANK(InfoPro!I260),\"\",YEAR(InfoPro!I260)-$G$4)","v":2},{"$f":"IF(B268=\"\",\"\",VLOOKUP(D268,Tablas!$B$2:$E$13,2,FALSE))","v":0.26},{"$f":"IF(B268=\"\",\"\",VLOOKUP(D268,Tablas!$B$2:$F$13,5,FALSE))","v":0.15},6798.6360000000004,1187998442.4761827,1062610413.6638488,950456541.73868418,850140019.44426143,760411466.40810502,680153368.8802371,608366161.78912091,544155779.77560008,486722522.16064405,435351093.16694474,389401693.35147113,348302051.29827476,311540296.33119392,278658583.48049545,249247391.30634654,9143515825.27141,459473.15704881458]
[{"$f":"IF(ISBLANK(InfoPro!A261),\"\",InfoPro!A261)","v":"SC_807_A2"},{"$f":"IF(ISBLANK(InfoPro!B261),\"\",InfoPro!B261)","v":"Parque Solar Fotovoltaico La Villa de 120 MW (entrega 100 MW)"},{"$f":"IF(ISBLANK(InfoPro!E261),\"\",InfoPro!E261)","v":100},{"$f":"IF(ISBLANK(InfoPro!F261),\"\",InfoPro!F261)","v":"Solar FV"},{"$f":"IF(ISBLANK(InfoPro!I261),\"\",YEAR(InfoPro!I261)-$G$4)","v":2},{"$f":"IF(B269=\"\",\"\",VLOOKUP(D269,Tablas!$B$2:$E$13,2,FALSE))","v":0.26},{"$f":"IF(B269=\"\",\"\",VLOOKUP(D269,Tablas!$B$2:$F$13,5,FALSE))","v":0.15},34164,5969841419.4783049,5339750822.4314003,4776163526.3250456,4272060399.2173939,3821163147.7794213,3417856125.0263171,3057116390.900105,2734451154.651257,2445841819.9027338,2187693935.5122848,1956792428.901865,1750261564.3129382,1565529127.2924316,1400294389.3492234,1252499453.8007362,45947315704.881454,459473.15704881452]
[{"$f":"IF(ISBLANK(InfoPro!A262),\"\",InfoPro!A262)","v":"SC_821_A1"},{"$f":"IF(ISBLANK(InfoPro!B262),\"\",InfoPro!B262)","v":"SPK SOLAR DEL CESAR - 65 MW"},{"$f":"IF(ISBLANK(InfoPro!E262),\"\",InfoPro!E262)","v":65},{"$f":"IF(ISBLANK(InfoPro!F262),\"\",InfoPro!F262)","v":"Solar FV"},{"$f":"IF(ISBLANK(InfoPro!I262),\"\",YEAR(InfoPro!I262)-$G$4)","v":3},{"$f":"IF(B270=\"\",\"\",VLOOKUP(D270,Tablas!$B$2:$E$13,2,FALSE))","v":0.26},{"$f":"IF(B270=\"\",\"\",VLOOKUP(D270,Tablas!$B$2:$F$13,5,FALSE))","v":0.15},22206.600000000002,3470838034.580411,3104506292.11128,2776839259.4913063,2483756046.0566249,2221606481.2671061,1987125654.085068,1777393250.5233171,1589797182.9367771,1422001058.0829854,1271915078.7862122,1137670016.8034101,1017593932.7400805,910191353.07699525,814124644.97047853,728197356.86089325,26713555642.372944,410977.77911342989]
[{"$f":"IF(ISBLANK(InfoPro!A263),\"\",InfoPro!A263)","v":"SC_821_A2"},{"$f":"IF(ISBLANK(InfoPro!B263),\"\",InfoPro!B263)","v":"SPK SOLAR DEL CESAR - 65 MW"},{"$f":"IF(ISBLANK(InfoPro!E263),\"\",InfoPro!E263)","v":65},{"$f":"IF(ISBLANK(InfoPro!F263),\"\",InfoPro!F263)","v":"Solar FV"},{"$f":"IF(ISBLANK(InfoPro!I263),\"\",YEAR(InfoPro!I263)-$G$4)","v":3},{"$f":"IF(B271=\"\",\"\",VLOOKUP(D271,Tablas!$B$2:$E$13,2,FALSE))","v":0.26},{"$f":"IF(B271=\"\",\"\",VLOOKUP(D271,Tablas!$B$2:$F$13,5,FALSE))","v":0.15},22206.600000000002,3470838034.580411,3104506292.11128,2776839259.4913063,2483756046.0566249,2221606481.2671061,1987125654.085068,1777393250.5233171,1589797182.9367771,1422001058.0829854,1271915078.7862122,1137670016.8034101,1017593932.7400805,910191353.07699525,814124644.97047853,728197356.86089325,26713555642.372944,410977.77911342989]
[{"$f":"IF(ISBLANK(InfoPro!A264),\"\",InfoPro!A264)","v":"SC_822_A1"},{"$f":"IF(ISBLANK(InfoPro!B264),\"\",InfoPro!B264)","v":"SANTA MARTA IV 50 MW"},{"$f":"IF(ISBLANK(InfoPro!E264),\"\",InfoPro!E264)","v":50},{"$f":"IF(ISBLANK(InfoPro!F264),\"\",InfoPro!F264)","v":"Solar FV"},{"$f":"IF(ISBLANK(InfoPro!I264),\"\",YEAR(InfoPro!I264)-$G$4)","v":2},{"$f":"IF(B272=\"\",\"\",VLOOKUP(D272,Tablas!$B$2:$E$13,2,FALSE))","v":0.26},{"$f":"IF(B272=\"\",\"\",VLOOKUP(D272,Tablas!$B$2:$F$13,5,FALSE))","v":0.15},17082,2984920709.7391524,2669875411.2157001,2388081763.1625228,2136030199.6086969,1910581573.8897107,1708928062.5131586,1528558195.4500525,1367225577.3256285,1222920909.9513669,1093846967.7561424,978396214.4509325,875130782.15646911,782764563.6462158,700147194.67461169,626249726.90036809,22973657852.440727,459473.15704881452]
[{"$f":"IF(ISBLANK(InfoPro!A265),\"\",InfoPro!A265)","v":"SC_825_A1"},{"$f":"IF(ISBLANK(InfoPro!B265),\"\",InfoPro!B265)","v":"OWF GOLETA"},{"$f":"IF(ISBLANK(InfoPro!E265),\"\",InfoPro!E265)","v":325},{"$f":"IF(ISBLANK(InfoPro!F265),\"\",InfoPro!F265)","v":"Eólico Offshore"},{"$f":"IF(ISBLANK(InfoPro!I265),\"\",YEAR(InfoPro!I265)-$G$4)","v":9},{"$f":"IF(B273=\"\",\"\",VLOOKUP(D273,Tablas!$B$2:$E$13,2,FALSE))","v":0.56999999999999995},{"$f":"IF(B273=\"\",\"\",VLOOKUP(D273,Tablas!$B$2:$F$13,5,FALSE))","v":0.06},97367.4,7793185790.7560816,6970649186.7227917,6234927716.2100115,5576858422.3703146,4988245458.2918739,4461758012.7834291,3990839009.6452866,3569623443.3320985,3192865333.9285316,2855872391.7070942,2554447577.5555415,2284836831.4450278,2043682317.9293637,1827980606.3768907,1635045265.0956087,59980817364.149956,184556.3611204614]
[{"$f":"IF(ISBLANK(InfoPro!A266),\"\",InfoPro!A266)","v":"SC_825_A2"},{"$f":"IF(ISBLANK(InfoPro!B266),\"\",InfoPro!B266)","v":"OWF GOLETA"},{"$f":"IF(ISBLANK(InfoPro!E266),\"\",InfoPro!E266)","v":325},{"$f":"IF(ISBLANK(InfoPro!F266),\"\",InfoPro!F266)","v":"Eólico Offshore"},{"$f":"IF(ISBLANK(InfoPro!I266),\"\",YEAR(InfoPro!I266)-$G$4)","v":9},{"$f":"IF(B274=\"\",\"\",VLOOKUP(D274,Tablas!$B$2:$E$13,2,FALSE))","v":0.56999999999999995},{"$f":"IF(B274=\"\",\"\",VLOOKUP(D274,Tablas!$B$2:$F$13,5,FALSE))","v":0.06},97367.4,7793185790.7560816,6970649186.7227917,6234927716.2100115,5576858422.3703146,4988245458.2918739,4461758012.7834291,3990839009.6452866,3569623443.3320985,3192865333.9285316,2855872391.7070942,2554447577.5555415,2284836831.4450278,2043682317.9293637,1827980606.3768907,1635045265.0956087,59980817364.149956,184556.3611204614]
[{"$f":"IF(ISBLANK(InfoPro!A267),\"\",InfoPro!A267)","v":"SC_833_A1"},{"$f":"IF(ISBLANK(InfoPro!B267),\"\",InfoPro!B267)","v":"LOMERO SOLAR"},{"$f":"IF(ISBLANK(InfoPro!E267),\"\",InfoPro!E267)","v":200},{"$f":"IF(ISBLANK(InfoPro!F267),\"\",InfoPro!F267)","v":"Solar FV"},{"$f":"IF(ISBLANK(InfoPro!I267),\"\",YEAR(InfoPro!I267)-$G$4)","v":4},{"$f":"IF(B275=\"\",\"\",VLOOKUP(D275,Tablas!$B$2:$E$13,2,FALSE))","v":0.26},{"$f":"IF(B275=\"\",\"\",VLOOKUP(D275,Tablas!$B$2:$F$13,5,FALSE))","v":0.15},68328,9552327052.6500912,8544120798.4347878,7642326295.5588427,6835712250.0526342,6114232781.80021,5468902309.3025141,4891683639.8054676,4375387871.0245695,3913584857.80373,3500523128.6258764,3131058254.5848632,2800588778.6984468,2504998907.6014724,2240607251.8796716,2004120976.6365576,73520175154.459732,367600.87577229866]
[{"$f":"IF(ISBLANK(InfoPro!A268),\"\",InfoPro!A268)","v":"SC_846_A1"},{"$f":"IF(ISBLANK(InfoPro!B268),\"\",InfoPro!B268)","v":"Parque Eólico El Ahumado_de 50MW a 60MW _Es decir 10MW"},{"$f":"IF(ISBLANK(InfoPro!E268),\"\",InfoPro!E268)","v":10},{"$f":"IF(ISBLANK(InfoPro!F268),\"\",InfoPro!F268)","v":"Eólico Onshore"},{"$f":"IF(ISBLANK(InfoPro!I268),\"\",YEAR(InfoPro!I268)-$G$4)","v":2},{"$f":"IF(B276=\"\",\"\",VLOOKUP(D276,Tablas!$B$2:$E$13,2,FALSE))","v":0.56999999999999995},{"$f":"IF(B276=\"\",\"\",VLOOKUP(D276,Tablas!$B$2:$F$13,5,FALSE))","v":0.06},2995.9199999999996,523509170.63117445,468255072.12090737,418832801.53927314,374626835.00829446,335086614.49758005,299719690.96384621,268085591.2020092,239790332.02326402,214481513.43762434,191843929.7295388,171595643.76524043,153484475.63974997,137284861.9317978,122795046.45062418,109834567.48714146,4029226146.4280663,402922.61464280664]
[{"$f":"IF(ISBLANK(InfoPro!A269),\"\",InfoPro!A269)","v":"SC_878_A1"},{"$f":"IF(ISBLANK(InfoPro!B269),\"\",InfoPro!B269)","v":"PARQUE SOLAR EL PROGRESO"},{"$f":"IF(ISBLANK(InfoPro!E269),\"\",InfoPro!E269)","v":19.899999999999999},{"$f":"IF(ISBLANK(InfoPro!F269),\"\",InfoPro!F269)","v":"Solar FV"},{"$f":"IF(ISBLANK(InfoPro!I269),\"\",YEAR(InfoPro!I269)-$G$4)","v":1},{"$f":"IF(B277=\"\",\"\",VLOOKUP(D277,Tablas!$B$2:$E$13,2,FALSE))","v":0.26},{"$f":"IF(B277=\"\",\"\",VLOOKUP(D277,Tablas!$B$2:$F$13,5,FALSE))","v":0.15},6798.6360000000004,{"$f":"IF($H277=\"\",\"\",(1/(1+$C$4)^(I$7+$E277))*$H277*$I$5*$I$4)","v":1328182258.6883724},1187998442.4761827,1062610413.6638488,950456541.73868418,850140019.44426143,760411466.40810502,680153368.8802371,608366161.78912091,544155779.77560008,486722522.16064405,435351093.16694474,389401693.35147113,348302051.29827476,311540296.33119392,278658583.48049545,10222450692.653437,513690.98958057468]
[{"$f":"IF(ISBLANK(InfoPro!A270),\"\",InfoPro!A270)","v":"SC_890_A1"},{"$f":"IF(ISBLANK(InfoPro!B270),\"\",InfoPro!B270)","v":"Fundación II - 100 MW"},{"$f":"IF(ISBLANK(InfoPro!E270),\"\",InfoPro!E270)","v":100},{"$f":"IF(ISBLANK(InfoPro!F270),\"\",InfoPro!F270)","v":"Solar FV"},{"$f":"IF(ISBLANK(InfoPro!I270),\"\",YEAR(InfoPro!I270)-$G$4)","v":4},{"$f":"IF(B278=\"\",\"\",VLOOKUP(D278,Tablas!$B$2:$E$13,2,FALSE))","v":0.26},{"$f":"IF(B278=\"\",\"\",VLOOKUP(D278,Tablas!$B$2:$F$13,5,FALSE))","v":0.15},34164,4776163526.3250456,4272060399.2173939,3821163147.7794213,3417856125.0263171,3057116390.900105,2734451154.651257,2445841819.9027338,2187693935.5122848,1956792428.901865,1750261564.3129382,1565529127.2924316,1400294389.3492234,1252499453.8007362,1120303625.9398358,1002060488.3182788,36760087577.229866,367600.87577229866]
[{"$f":"IF(ISBLANK(InfoPro!A271),\"\",InfoPro!A271)","v":"SC_890_A2"},{"$f":"IF(ISBLANK(InfoPro!B271),\"\",InfoPro!B271)","v":"Fundación II - 100 MW"},{"$f":"IF(ISBLANK(InfoPro!E271),\"\",InfoPro!E271)","v":100},{"$f":"IF(ISBLANK(InfoPro!F271),\"\",InfoPro!F271)","v":"Solar FV"},{"$f":"IF(ISBLANK(InfoPro!I271),\"\",YEAR(InfoPro!I271)-$G$4)","v":4},{"$f":"IF(B279=\"\",\"\",VLOOKUP(D279,Tablas!$B$2:$E$13,2,FALSE))","v":0.26},{"$f":"IF(B279=\"\",\"\",VLOOKUP(D279,Tablas!$B$2:$F$13,5,FALSE))","v":0.15},34164,4776163526.3250456,4272060399.2173939,3821163147.7794213,3417856125.0263171,3057116390.900105,2734451154.651257,2445841819.9027338,2187693935.5122848,1956792428.901865,1750261564.3129382,1565529127.2924316,1400294389.3492234,1252499453.8007362,1120303625.9398358,1002060488.3182788,36760087577.229866,367600.87577229866]
[{"$f":"IF(ISBLANK(InfoPro!A272),\"\",InfoPro!A272)","v":"SC_921_A1"},{"$f":"IF(ISBLANK(InfoPro!B272),\"\",InfoPro!B272)","v":"PARQUE SOLAR EL CIELO"},{"$f":"IF(ISBLANK(InfoPro!E272),\"\",InfoPro!E272)","v":9.9},{"$f":"IF(ISBLANK(InfoPro!F272),\"\",InfoPro!F272)","v":"Solar FV"},{"$f":"IF(ISBLANK(InfoPro!I272),\"\",YEAR(InfoPro!I272)-$G$4)","v":1},{"$f":"IF(B280=\"\",\"\",VLOOKUP(D280,Tablas!$B$2:$E$13,2,FALSE))","v":0.26},{"$f":"IF(B280=\"\",\"\",VLOOKUP(D280,Tablas!$B$2:$F$13,5,FALSE))","v":0.15},{"$f":"IF(C280=\"\",\"\",+C280*G280*F280*24*365)","v":3382.2360000000003},660753987.99069786,591014300.52835214,528635331.42070878,472840189.10617959,422933979.52252197,378295151.63016278,338367756.37760544,302654522.69911039,270710664.31047446,242138340.1703707,216581699.61571625,193722450.46128464,173275894.86698088,154987383.60195073,138629144.54557315,{"$f":"IF(W280=\"\",\"\",SUM(I280:W280))","v":5085540796.8476896},{"$f":"IF(C280=0,0,IF(X280=\"\",\"\",X280/(C280*1000)))","v":513690.98958057474}]
[{"$f":"IF(ISBLANK(InfoPro!A273),\"\",InfoPro!A273)","v":"SC_944_A1"},{"$f":"IF(ISBLANK(InfoPro!B273),\"\",InfoPro!B273)","v":"DSE FUNDACION"},{"$f":"IF(ISBLANK(InfoPro!E273),\"\",InfoPro!E273)","v":99.9},{"$f":"IF(ISBLANK(InfoPro!F273),\"\",InfoPro!F273)","v":"Solar FV"},{"$f":"IF(ISBLANK(InfoPro!I273),\"\",YEAR(InfoPro!I273)-$G$4)","v":3},{"$f":"IF(B281=\"\",\"\",VLOOKUP(D281,Tablas!$B$2:$E$13,2,FALSE))","v":0.26},{"$f":"IF(B281=\"\",\"\",VLOOKUP(D281,Tablas!$B$2:$F$13,5,FALSE))","v":0.15},34129.836000000003,5334411071.6089697,4771387362.7987213,4267788338.8181767,3817341984.6316428,3414438268.9012909,3054059274.5092049,2731716703.4966059,2443395978.0828314,2185506241.5767732,1954835636.4729629,1748511302.7486253,1563963598.1651392,1398894094.9598742,1251246954.3469355,1119183322.3138959,41056680133.431656,410977.77911343001]
[{"$f":"IF(ISBLANK(InfoPro!A274),\"\",InfoPro!A274)","v":"SC_951_A1"},{"$f":"IF(ISBLANK(InfoPro!B274),\"\",InfoPro!B274)","v":"SANTA ROSA SOLAR_100MW"},{"$f":"IF(ISBLANK(InfoPro!E274),\"\",InfoPro!E274)","v":100},{"$f":"IF(ISBLANK(InfoPro!F274),\"\",InfoPro!F274)","v":"Solar FV"},{"$f":"IF(ISBLANK(InfoPro!I274),\"\",YEAR(InfoPro!I274)-$G$4)","v":3},{"$f":"IF(B282=\"\",\"\",VLOOKUP(D282,Tablas!$B$2:$E$13,2,FALSE))","v":0.26},{"$f":"IF(B282=\"\",\"\",VLOOKUP(D282,Tablas!$B$2:$F$13,5,FALSE))","v":0.15},34164,5339750822.4314003,4776163526.3250456,4272060399.2173939,3821163147.7794213,3417856125.0263171,3057116390.900105,2734451154.651257,2445841819.9027338,2187693935.5122848,1956792428.901865,1750261564.3129382,1565529127.2924316,1400294389.3492234,1252499453.8007362,1120303625.9398358,41097777911.342979,410977.77911342977]
[{"$f":"IF(ISBLANK(InfoPro!A275),\"\",InfoPro!A275)","v":"SC_951_A2"},{"$f":"IF(ISBLANK(InfoPro!B275),\"\",InfoPro!B275)","v":"SANTA ROSA SOLAR_100MW"},{"$f":"IF(ISBLANK(InfoPro!E275),\"\",InfoPro!E275)","v":100},{"$f":"IF(ISBLANK(InfoPro!F275),\"\",InfoPro!F275)","v":"Solar FV"},{"$f":"IF(ISBLANK(InfoPro!I275),\"\",YEAR(InfoPro!I275)-$G$4)","v":3},{"$f":"IF(B283=\"\",\"\",VLOOKUP(D283,Tablas!$B$2:$E$13,2,FALSE))","v":0.26},{"$f":"IF(B283=\"\",\"\",VLOOKUP(D283,Tablas!$B$2:$F$13,5,FALSE))","v":0.15},34164,5339750822.4314003,4776163526.3250456,4272060399.2173939,3821163147.7794213,3417856125.0263171,3057116390.900105,2734451154.651257,2445841819.9027338,2187693935.5122848,1956792428.901865,1750261564.3129382,1565529127.2924316,1400294389.3492234,1252499453.8007362,1120303625.9398358,41097777911.342979,410977.77911342977]
[{"$f":"IF(ISBLANK(InfoPro!A276),\"\",InfoPro!A276)","v":"SC_963_A1"},{"$f":"IF(ISBLANK(InfoPro!B276),\"\",InfoPro!B276)","v":"Churuco Solar"},{"$f":"IF(ISBLANK(InfoPro!E276),\"\",InfoPro!E276)","v":60},{"$f":"IF(ISBLANK(InfoPro!F276),\"\",InfoPro!F276)","v":"Solar FV"},{"$f":"IF(ISBLANK(InfoPro!I276),\"\",YEAR(InfoPro!I276)-$G$4)","v":3},{"$f":"IF(B284=\"\",\"\",VLOOKUP(D284,Tablas!$B$2:$E$13,2,FALSE))","v":0.26},{"$f":"IF(B284=\"\",\"\",VLOOKUP(D284,Tablas!$B$2:$F$13,5,FALSE))","v":0.15},20498.399999999998,3203850493.4588404,2865698115.7950273,2563236239.530436,2292697888.6676526,2050713675.01579,1834269834.5400624,1640670692.7907538,1467505091.9416401,1312616361.3073709,1174075457.3411188,1050156938.5877627,939317476.37545884,840176633.60953391,751499672.28044164,672182175.56390142,24658666746.805786,410977.77911342977]
[{"$f":"IF(ISBLANK(InfoPro!A277),\"\",InfoPro!A277)","v":"SC_984_A1"},{"$f":"IF(ISBLANK(InfoPro!B277),\"\",InfoPro!B277)","v":"Eupari"},{"$f":"IF(ISBLANK(InfoPro!E277),\"\",InfoPro!E277)","v":99},{"$f":"IF(ISBLANK(InfoPro!F277),\"\",InfoPro!F277)","v":"Eólico Onshore"},{"$f":"IF(ISBLANK(InfoPro!I277),\"\",YEAR(InfoPro!I277)-$G$4)","v":3},{"$f":"IF(B285=\"\",\"\",VLOOKUP(D285,Tablas!$B$2:$E$13,2,FALSE))","v":0.56999999999999995},{"$f":"IF(B285=\"\",\"\",VLOOKUP(D285,Tablas!$B$2:$F$13,5,FALSE))","v":0.06},{"$f":"IF(C285=\"\",\"\",+C285*G285*F285*24*365)","v":29659.607999999993},4635725213.9969826,4146444735.2388048,3708805666.5821147,3317357483.526042,2967224940.5420775,2654047352.8998899,2373924287.0303135,2123366983.0324805,1899254904.3224339,1698796873.2758801,1519496308.8335242,1359120133.1247983,1215670959.8611794,1087362218.1227005,972595901.71976793,{"$f":"IF(W285=\"\",\"\",SUM(I285:W285))","v":35679193962.108986},{"$f":"IF(C285=0,0,IF(X285=\"\",\"\",X285/(C285*1000)))","v":360395.89860716148}]
[{"$f":"IF(ISBLANK(InfoPro!A278),\"\",InfoPro!A278)","v":"SC_984_A2"},{"$f":"IF(ISBLANK(InfoPro!B278),\"\",InfoPro!B278)","v":"Eupari"},{"$f":"IF(ISBLANK(InfoPro!E278),\"\",InfoPro!E278)","v":99},{"$f":"IF(ISBLANK(InfoPro!F278),\"\",InfoPro!F278)","v":"Eólico Onshore"},{"$f":"IF(ISBLANK(InfoPro!I278),\"\",YEAR(InfoPro!I278)-$G$4)","v":3},{"$f":"IF(B286=\"\",\"\",VLOOKUP(D286,Tablas!$B$2:$E$13,2,FALSE))","v":0.56999999999999995},{"$f":"IF(B286=\"\",\"\",VLOOKUP(D286,Tablas!$B$2:$F$13,5,FALSE))","v":0.06},29659.607999999993,4635725213.9969826,4146444735.2388048,3708805666.5821147,3317357483.526042,2967224940.5420775,2654047352.8998899,2373924287.0303135,2123366983.0324805,1899254904.3224339,1698796873.2758801,1519496308.8335242,1359120133.1247983,1215670959.8611794,1087362218.1227005,972595901.71976793,35679193962.108986,360395.89860716148]
[{"$f":"IF(ISBLANK(InfoPro!A279),\"\",InfoPro!A279)","v":""},{"$f":"IF(ISBLANK(InfoPro!B279),\"\",InfoPro!B279)","v":""},{"$f":"IF(ISBLANK(InfoPro!E279),\"\",InfoPro!E279)","v":""},{"$f":"IF(ISBLANK(InfoPro!F279),\"\",InfoPro!F279)","v":""},{"$f":"IF(ISBLANK(InfoPro!I279),\"\",YEAR(InfoPro!I279)-$G$4)","v":""},{"$f":"IF(B287=\"\",\"\",VLOOKUP(D287,Tablas!$B$2:$E$13,2,FALSE))","v":""},{"$f":"IF(B287=\"\",\"\",VLOOKUP(D287,Tablas!$B$2:$F$13,5,FALSE))","v":""},"","","","","","","","","","","","","","","","","",""]

{"sheet":"Resumen","index":12,"n_rows":295,"n_cols":23,"rows_kept":295,"cut":false,"hidden":false,"merged":[[2,8,2,14],[2,15,2,21]]}
["Min",{"$f":"ABS(MIN('EC-RE'!G4,'EC-RP'!H4,'EC-Per'!F4,'EC-Mar'!G4,'BT-Flex'!G5,'BT-Confi'!G5))","v":{"$error":"#REF!"}},"Año Base",2023,null,null,null,null,null,null,null,null,null,null,"Pesos",1,1,1,0.5,1,1,0.3]
[]
[null,null,null,null,null,null,null,null,"Sin normalizar",null,null,null,null,null,null,"Normalizados"]
["Codigo","Codigo Asociado","Nombre","Capacidad","Fecha Radicación","Hora Radicación","Requiere Expansión","IT_TA","BT_Confi","BT_Flex","EC_RE","EC_RP","EC_Per","EC_Mar","B_Ambiental","BT_Confi","BT_Flex","EC_RE","EC_RP","EC_Per","EC_Mar","B_Ambiental","Valoracion final "]
[{"$f":"IF(ISBLANK(InfoPro!A2),\"\",InfoPro!A2)","v":"\tSC_1373_A1"},{"$f":"IF(ISBLANK(InfoPro!H2),\"\",InfoPro!H2)","v":"\t\nSC_1373"},{"$f":"IF(ISBLANK(InfoPro!B2),\"\",InfoPro!B2)","v":"Pétalo del Magdalena II Guacamayal"},{"$f":"IF(ISBLANK(InfoPro!E2),\"\",InfoPro!E2)","v":9.9},{"$f":"IF(ISBLANK(InfoPro!C2),\"\",InfoPro!C2)","v":"2022-07-15"},{"$f":"IF(ISBLANK(InfoPro!D2),\"\",InfoPro!D2)","v":44774.76666666667},{"$f":"IF(ISBLANK(InfoPro!L2),\"\",InfoPro!L2)","v":"NO"},{"$f":"'IT-TA'!H2","v":0},{"$f":"IFERROR('BT-Confi'!Y9,\"\")","v":410977.77911342995},{"$f":"IFERROR('BT-Flex'!Y9,\"\")","v":0},{"$f":"IFERROR('EC-RE'!Z9,\"\")","v":597473.57845725107},{"$f":"IFERROR('EC-RP'!Z8,\"\")","v":1360812.4342847455},{"$f":"IFERROR('EC-Per'!W8,\"\")","v":62828.831521413726},{"$f":"IFERROR('EC-Mar'!Y8,\"\")","v":1360812.4342847455},{"$f":"IF(C5=\"\",\"\",(SUMIF(I5:N5,\">0\"))*(H5/100))","v":0},{"$f":"IF(C5=\"\",\"\",I5+$B$1)","v":{"$error":"#REF!"}},{"$f":"IF(D5=\"\",\"\",J5+$B$1)","v":{"$error":"#REF!"}},{"$f":"IF(E5=\"\",\"\",K5+$B$1)","v":{"$error":"#REF!"}},{"$f":"IF(F5=\"\",\"\",L5+$B$1)","v":{"$error":"#REF!"}},{"$f":"IF(G5=\"\",\"\",M5+$B$1)","v":{"$error":"#REF!"}},{"$f":"IF(H5=\"\",\"\",N5+$B$1)","v":{"$error":"#REF!"}},{"$f":"IF(I5=\"\",\"\",O5+$B$1)","v":{"$error":"#REF!"}},{"$f":"IFERROR((+$P$1*P5+$Q$1*Q5+$R$1*R5+$S$1*S5+$T$1*T5+U5*$U$1+$V$1*V5),\"\")","v":""}]
[{"$f":"IF(ISBLANK(InfoPro!A3),\"\",InfoPro!A3)","v":"\tSC_1373_A2"},{"$f":"IF(ISBLANK(InfoPro!H3),\"\",InfoPro!H3)","v":"\t\nSC_1373"},{"$f":"IF(ISBLANK(InfoPro!B3),\"\",InfoPro!B3)","v":"Pétalo del Magdalena II Guacamayal"},{"$f":"IF(ISBLANK(InfoPro!E3),\"\",InfoPro!E3)","v":9.9},{"$f":"IF(ISBLANK(InfoPro!C3),\"\",InfoPro!C3)","v":"2022-07-15"},{"$f":"IF(ISBLANK(InfoPro!D3),\"\",InfoPro!D3)","v":44774.76666666667},{"$f":"IF(ISBLANK(InfoPro!L3),\"\",InfoPro!L3)","v":"NO"},{"$f":"'IT-TA'!H3","v":0},{"$f":"IFERROR('BT-Confi'!Y10,\"\")","v":410977.77911342995},{"$f":"IFERROR('BT-Flex'!Y10,\"\")","v":0},{"$f":"IFERROR('EC-RE'!Z10,\"\")","v":597473.57845725107},{"$f":"IFERROR('EC-RP'!Z9,\"\")","v":1360812.4342847455},{"$f":"IFERROR('EC-Per'!W9,\"\")","v":65607.951122570099},{"$f":"IFERROR('EC-Mar'!Y9,\"\")","v":1360812.4342847455},0,{"$error":"#REF!"},{"$error":"#REF!"},{"$error":"#REF!"},{"$error":"#REF!"},{"$error":"#REF!"},{"$error":"#REF!"},{"$error":"#REF!"},""]
[{"$f":"IF(ISBLANK(InfoPro!A4),\"\",InfoPro!A4)","v":"SC_1012_A1"},{"$f":"IF(ISBLANK(InfoPro!H4),\"\",InfoPro!H4)","v":"SC_1012"},{"$f":"IF(ISBLANK(InfoPro!B4),\"\",InfoPro!B4)","v":"PARQUE SOLAR FOTOVOLTAICO TUNA"},{"$f":"IF(ISBLANK(InfoPro!E4),\"\",InfoPro!E4)","v":100},{"$f":"IF(ISBLANK(InfoPro!C4),\"\",InfoPro!C4)","v":"2022-07-15"},{"$f":"IF(ISBLANK(InfoPro!D4),\"\",InfoPro!D4)","v":44757},{"$f":"IF(ISBLANK(InfoPro!L4),\"\",InfoPro!L4)","v":"NO"},{"$f":"'IT-TA'!H4","v":0},{"$f":"IFERROR('BT-Confi'!Y11,\"\")","v":410977.77911342977},{"$f":"IFERROR('BT-Flex'!Y11,\"\")","v":0},{"$f":"IFERROR('EC-RE'!Z11,\"\")","v":597473.57845725096},{"$f":"IFERROR('EC-RP'!Z10,\"\")","v":1360812.4342847452},{"$f":"IFERROR('EC-Per'!W10,\"\")","v":-137725.08971543802},{"$f":"IFERROR('EC-Mar'!Y10,\"\")","v":1360812.4342847452},0,{"$error":"#REF!"},{"$error":"#REF!"},{"$error":"#REF!"},{"$error":"#REF!"},{"$error":"#REF!"},{"$error":"#REF!"},{"$error":"#REF!"},""]
[{"$f":"IF(ISBLANK(InfoPro!A5),\"\",InfoPro!A5)","v":"SC_1012_A2"},{"$f":"IF(ISBLANK(InfoPro!H5),\"\",InfoPro!H5)","v":"SC_1012"},{"$f":"IF(ISBLANK(InfoPro!B5),\"\",InfoPro!B5)","v":"PARQUE SOLAR FOTOVOLTAICO TUNA"},{"$f":"IF(ISBLANK(InfoPro!E5),\"\",InfoPro!E5)","v":100},{"$f":"IF(ISBLANK(InfoPro!C5),\"\",InfoPro!C5)","v":"2022-07-15"},{"$f":"IF(ISBLANK(InfoPro!D5),\"\",InfoPro!D5)","v":44757},{"$f":"IF(ISBLANK(InfoPro!L5),\"\",InfoPro!L5)","v":"NO"},{"$f":"'IT-TA'!H5","v":0},{"$f":"IFERROR('BT-Confi'!Y12,\"\")","v":410977.77911342977},{"$f":"IFERROR('BT-Flex'!Y12,\"\")","v":0},{"$f":"IFERROR('EC-RE'!Z12,\"\")","v":597473.57845725096},{"$f":"IFERROR('EC-RP'!Z11,\"\")","v":1360812.4342847452},{"$f":"IFERROR('EC-Per'!W11,\"\")","v":-112972.65423662659},{"$f":"IFERROR('EC-Mar'!Y11,\"\")","v":1360812.4342847452},0,{"$error":"#REF!"},{"$error":"#REF!"},{"$error":"#REF!"},{"$error":"#REF!"},{"$error":"#REF!"},{"$error":"#REF!"},{"$error":"#REF!"},""]
[{"$f":"IF(ISBLANK(InfoPro!A6),\"\",InfoPro!A6)","v":"SC_1077_A1"},{"$f":"IF(ISBLANK(InfoPro!H6),\"\",InfoPro!H6)","v":"SC_1077"},{"$f":"IF(ISBLANK(InfoPro!B6),\"\",InfoPro!B6)","v":"Nevada I 90 MW"},{"$f":"IF(ISBLANK(InfoPro!E6),\"\",InfoPro!E6)","v":90},{"$f":"IF(ISBLANK(InfoPro!C6),\"\",InfoPro!C6)","v":"2022-07-18"},{"$f":"IF(ISBLANK(InfoPro!D6),\"\",InfoPro!D6)","v":44760},{"$f":"IF(ISBLANK(InfoPro!L6),\"\",InfoPro!L6)","v":"NO"},{"$f":"'IT-TA'!H6","v":0},{"$f":"IFERROR('BT-Confi'!Y13,\"\")","v":230681.4251171315},{"$f":"IFERROR('BT-Flex'!Y13,\"\")","v":0},{"$f":"IFERROR('EC-RE'!Z13,\"\")","v":838403.33682804147},{"$f":"IFERROR('EC-RP'!Z12,\"\")","v":1909556.7182190497},{"$f":"IFERROR('EC-Per'!W12,\"\")","v":-42866.181746870774},{"$f":"IFERROR('EC-Mar'!Y12,\"\")","v":1909556.7182190497},0,{"$error":"#REF!"},{"$error":"#REF!"},{"$error":"#REF!"},{"$error":"#REF!"},{"$error":"#REF!"},{"$error":"#REF!"},{"$error":"#REF!"},""]
[{"$f":"IF(ISBLANK(InfoPro!A7),\"\",InfoPro!A7)","v":"SC_1077_A2"},{"$f":"IF(ISBLANK(InfoPro!H7),\"\",InfoPro!H7)","v":"SC_1077"},{"$f":"IF(ISBLANK(InfoPro!B7),\"\",InfoPro!B7)","v":"Nevada I 90 MW"},{"$f":"IF(ISBLANK(InfoPro!E7),\"\",InfoPro!E7)","v":90},{"$f":"IF(ISBLANK(InfoPro!C7),\"\",InfoPro!C7)","v":"2022-07-18"},{"$f":"IF(ISBLANK(InfoPro!D7),\"\",InfoPro!D7)","v":44760},{"$f":"IF(ISBLANK(InfoPro!L7),\"\",InfoPro!L7)","v":"NO"},{"$f":"'IT-TA'!H7","v":0},{"$f":"IFERROR('BT-Confi'!Y14,\"\")","v":230681.4251171315},{"$f":"IFERROR('BT-Flex'!Y14,\"\")","v":0},{"$f":"IFERROR('EC-RE'!Z14,\"\")","v":838403.33682804147},{"$f":"IFERROR('EC-RP'!Z13,\"\")","v":1909556.7182190497},{"$f":"IFERROR('EC-Per'!W13,\"\")","v":-41323.962150853135},{"$f":"IFERROR('EC-Mar'!Y13,\"\")","v":1909556.7182190497},0,{"$error":"#REF!"},{"$error":"#REF!"},{"$error":"#REF!"},{"$error":"#REF!"},{"$error":"#REF!"},{"$error":"#REF!"},{"$error":"#REF!"},""]
[{"$f":"IF(ISBLANK(InfoPro!A8),\"\",InfoPro!A8)","v":"SC_1135_A1"},{"$f":"IF(ISBLANK(InfoPro!H8),\"\",InfoPro!H8)","v":"SC_1135"},{"$f":"IF(ISBLANK(InfoPro!B8),\"\",InfoPro!B8)","v":"Parque Eólico Brisas 1"},{"$f":"IF(ISBLANK(InfoPro!E8),\"\",InfoPro!E8)","v":200},{"$f":"IF(ISBLANK(InfoPro!C8),\"\",InfoPro!C8)","v":"2022-07-18"},{"$f":"IF(ISBLANK(InfoPro!D8),\"\",InfoPro!D8)","v":44760},{"$f":"IF(ISBLANK(InfoPro!L8),\"\",InfoPro!L8)","v":"SI"},{"$f":"'IT-TA'!H8","v":0},{"$f":"IFERROR('BT-Confi'!Y15,\"\")","v":288334.24960810546},{"$f":"IFERROR('BT-Flex'!Y15,\"\")","v":0},{"$f":"IFERROR('EC-RE'!Z15,\"\")","v":1047940.4523814528},{"$f":"IFERROR('EC-RP'!Z14,\"\")","v":2386800.7714632275},{"$f":"IFERROR('EC-Per'!W14,\"\")","v":-13286.730466283794},{"$f":"IFERROR('EC-Mar'!Y14,\"\")","v":2386800.7714632275},0,{"$error":"#REF!"},{"$error":"#REF!"},{"$error":"#REF!"},{"$error":"#REF!"},{"$error":"#REF!"},{"$error":"#REF!"},{"$error":"#REF!"},""]
[{"$f":"IF(ISBLANK(InfoPro!A9),\"\",InfoPro!A9)","v":"SC_1135_A2"},{"$f":"IF(ISBLANK(InfoPro!H9),\"\",InfoPro!H9)","v":"SC_1135"},{"$f":"IF(ISBLANK(InfoPro!B9),\"\",InfoPro!B9)","v":"Parque Eólico Brisas 1"},{"$f":"IF(ISBLANK(InfoPro!E9),\"\",InfoPro!E9)","v":200},{"$f":"IF(ISBLANK(InfoPro!C9),\"\",InfoPro!C9)","v":"2022-07-18"},{"$f":"IF(ISBLANK(InfoPro!D9),\"\",InfoPro!D9)","v":44760},{"$f":"IF(ISBLANK(InfoPro!L9),\"\",InfoPro!L9)","v":"NO"},{"$f":"'IT-TA'!H9","v":0},{"$f":"IFERROR('BT-Confi'!Y16,\"\")","v":288334.24960810546},{"$f":"IFERROR('BT-Flex'!Y16,\"\")","v":0},{"$f":"IFERROR('EC-RE'!Z16,\"\")","v":1047940.4523814528},{"$f":"IFERROR('EC-RP'!Z15,\"\")","v":2386800.7714632275},{"$f":"IFERROR('EC-Per'!W15,\"\")","v":-52554.519869823147},{"$f":"IFERROR('EC-Mar'!Y15,\"\")","v":2386800.7714632275},0,{"$error":"#REF!"},{"$error":"#REF!"},{"$error":"#REF!"},{"$error":"#REF!"},{"$error":"#REF!"},{"$error":"#REF!"},{"$error":"#REF!"},""]
[{"$f":"IF(ISBLANK(InfoPro!A10),\"\",InfoPro!A10)","v":"SC_1154_A1"},{"$f":"IF(ISBLANK(InfoPro!H10),\"\",InfoPro!H10)","v":"SC_1154"},{"$f":"IF(ISBLANK(InfoPro!B10),\"\",InfoPro!B10)","v":"Parque Eólico Brisas 2"},{"$f":"IF(ISBLANK(InfoPro!E10),\"\",InfoPro!E10)","v":200},{"$f":"IF(ISBLANK(InfoPro!C10),\"\",InfoPro!C10)","v":"2022-07-18"},{"$f":"IF(ISBLANK(InfoPro!D10),\"\",InfoPro!D10)","v":44760},{"$f":"IF(ISBLANK(InfoPro!L10),\"\",InfoPro!L10)","v":"SI"},{"$f":"'IT-TA'!H10","v":0},{"$f":"IFERROR('BT-Confi'!Y17,\"\")","v":257901.83328095305},{"$f":"IFERROR('BT-Flex'!Y17,\"\")","v":0},{"$f":"IFERROR('EC-RE'!Z17,\"\")","v":937334.93057375017},{"$f":"IFERROR('EC-RP'!Z16,\"\")","v":2134884.4109688979},{"$f":"IFERROR('EC-Per'!W16,\"\")","v":-29900.177376469012},{"$f":"IFERROR('EC-Mar'!Y16,\"\")","v":2134884.4109688979},0,{"$error":"#REF!"},{"$error":"#REF!"},{"$error":"#REF!"},{"$error":"#REF!"},{"$error":"#REF!"},{"$error":"#REF!"},{"$error":"#REF!"},""]
[{"$f":"IF(ISBLANK(InfoPro!A11),\"\",InfoPro!A11)","v":"SC_1154_A2"},{"$f":"IF(ISBLANK(InfoPro!H11),\"\",InfoPro!H11)","v":"SC_1154"},{"$f":"IF(ISBLANK(InfoPro!B11),\"\",InfoPro!B11)","v":"Parque Eólico Brisas 2"},{"$f":"IF(ISBLANK(InfoPro!E11),\"\",InfoPro!E11)","v":200},{"$f":"IF(ISBLANK(InfoPro!C11),\"\",InfoPro!C11)","v":"2022-07-18"},{"$f":"IF(ISBLANK(InfoPro!D11),\"\",InfoPro!D11)","v":44760},{"$f":"IF(ISBLANK(InfoPro!L11),\"\",InfoPro!L11)","v":"SI"},{"$f":"'IT-TA'!H11","v":0},{"$f":"IFERROR('BT-Confi'!Y18,\"\")","v":257901.83328095305},{"$f":"IFERROR('BT-Flex'!Y18,\"\")","v":0},{"$f":"IFERROR('EC-RE'!Z18,\"\")","v":937334.93057375017},{"$f":"IFERROR('EC-RP'!Z17,\"\")","v":2134884.4109688979},{"$f":"IFERROR('EC-Per'!W17,\"\")","v":-47499.648870213423},{"$f":"IFERROR('EC-Mar'!Y17,\"\")","v":2134884.4109688979},0,{"$error":"#REF!"},{"$error":"#REF!"},{"$error":"#REF!"},{"$error":"#REF!"},{"$error":"#REF!"},{"$error":"#REF!"},{"$error":"#REF!"},""]
[{"$f":"IF(ISBLANK(InfoPro!A12),\"\",InfoPro!A12)","v":"SC_1161_A1"},{"$f":"IF(ISBLANK(InfoPro!H12),\"\",InfoPro!H12)","v":"SC_1161"},{"$f":"IF(ISBLANK(InfoPro!B12),\"\",InfoPro!B12)","v":"Parque Eólico Brisas 3"},{"$f":"IF(ISBLANK(InfoPro!E12),\"\",InfoPro!E12)","v":200},{"$f":"IF(ISBLANK(InfoPro!C12),\"\",InfoPro!C12)","v":"2022-07-18"},{"$f":"IF(ISBLANK(InfoPro!D12),\"\",InfoPro!D12)","v":44760},{"$f":"IF(ISBLANK(InfoPro!L12),\"\",InfoPro!L12)","v":"SI"},{"$f":"'IT-TA'!H12","v":0},{"$f":"IFERROR('BT-Confi'!Y19,\"\")","v":230681.42511713158},{"$f":"IFERROR('BT-Flex'!Y19,\"\")","v":0},{"$f":"IFERROR('EC-RE'!Z19,\"\")","v":838403.33682804124},{"$f":"IFERROR('EC-RP'!Z18,\"\")","v":1909556.71821905},{"$f":"IFERROR('EC-Per'!W18,\"\")","v":-28538.585548745912},{"$f":"IFERROR('EC-Mar'!Y18,\"\")","v":1909556.7182190497},0,{"$error":"#REF!"},{"$error":"#REF!"},{"$error":"#REF!"},{"$error":"#REF!"},{"$error":"#REF!"},{"$error":"#REF!"},{"$error":"#REF!"},""]
[{"$f":"IF(ISBLANK(InfoPro!A13),\"\",InfoPro!A13)","v":"SC_1161_A2"},{"$f":"IF(ISBLANK(InfoPro!H13),\"\",InfoPro!H13)","v":"SC_1161"},{"$f":"IF(ISBLANK(InfoPro!B13),\"\",InfoPro!B13)","v":"Parque Eólico Brisas 3"},{"$f":"IF(ISBLANK(InfoPro!E13),\"\",InfoPro!E13)","v":200},{"$f":"IF(ISBLANK(InfoPro!C13),\"\",InfoPro!C13)","v":"2022-07-18"},{"$f":"IF(ISBLANK(InfoPro!D13),\"\",InfoPro!D13)","v":44760},{"$f":"IF(ISBLANK(InfoPro!L13),\"\",InfoPro!L13)","v":"SI"},{"$f":"'IT-TA'!H13","v":0},{"$f":"IFERROR('BT-Confi'!Y20,\"\")","v":230681.42511713158},{"$f":"IFERROR('BT-Flex'!Y20,\"\")","v":0},{"$f":"IFERROR('EC-RE'!Z20,\"\")","v":838403.33682804124},{"$f":"IFERROR('EC-RP'!Z19,\"\")","v":1909556.71821905},{"$f":"IFERROR('EC-Per'!W19,\"\")","v":-42621.683518233825},{"$f":"IFERROR('EC-Mar'!Y19,\"\")","v":1909556.7182190497},0,{"$error":"#REF!"},{"$error":"#REF!"},{"$error":"#REF!"},{"$error":"#REF!"},{"$error":"#REF!"},{"$error":"#REF!"},{"$error":"#REF!"},""]
[{"$f":"IF(ISBLANK(InfoPro!A14),\"\",InfoPro!A14)","v":"SC_1211_A1"},{"$f":"IF(ISBLANK(InfoPro!H14),\"\",InfoPro!H14)","v":"SC_1211"},{"$f":"IF(ISBLANK(InfoPro!B14),\"\",InfoPro!B14)","v":"Planta Solar FV Caracolicitos 69MW"},{"$f":"IF(ISBLANK(InfoPro!E14),\"\",InfoPro!E14)","v":69},{"$f":"IF(ISBLANK(InfoPro!C14),\"\",InfoPro!C14)","v":"2022-07-18"},{"$f":"IF(ISBLANK(InfoPro!D14),\"\",InfoPro!D14)","v":44760},{"$f":"IF(ISBLANK(InfoPro!L14),\"\",InfoPro!L14)","v":"NO"},{"$f":"'IT-TA'!H15","v":0},{"$f":"IFERROR('BT-Confi'!Y22,\"\")","v":410977.77911342989},{"$f":"IFERROR('BT-Flex'!Y22,\"\")","v":0},{"$f":"IFERROR('EC-RE'!Z22,\"\")","v":597473.57845725131},{"$f":"IFERROR('EC-RP'!Z21,\"\")","v":1360812.4342847455},{"$f":"IFERROR('EC-Per'!W21,\"\")","v":-14081.722785248512},{"$f":"IFERROR('EC-Mar'!Y21,\"\")","v":1360812.4342847455},0,{"$error":"#REF!"},{"$error":"#REF!"},{"$error":"#REF!"},{"$error":"#REF!"},{"$error":"#REF!"},{"$error":"#REF!"},{"$error":"#REF!"},""]
[{"$f":"IF(ISBLANK(InfoPro!A15),\"\",InfoPro!A15)","v":"SC_1211_A2"},{"$f":"IF(ISBLANK(InfoPro!H15),\"\",InfoPro!H15)","v":"SC_1211"},{"$f":"IF(ISBLANK(InfoPro!B15),\"\",InfoPro!B15)","v":"Planta Solar FV Caracolicitos 69MW"},{"$f":"IF(ISBLANK(InfoPro!E15),\"\",InfoPro!E15)","v":69},{"$f":"IF(ISBLANK(InfoPro!C15),\"\",InfoPro!C15)","v":"2022-07-18"},{"$f":"IF(ISBLANK(InfoPro!D15),\"\",InfoPro!D15)","v":44760},{"$f":"IF(ISBLANK(InfoPro!L15),\"\",InfoPro!L15)","v":"NO"},{"$f":"'IT-TA'!H16","v":0},{"$f":"IFERROR('BT-Confi'!Y23,\"\")","v":410977.77911342989},{"$f":"IFERROR('BT-Flex'!Y23,\"\")","v":0},{"$f":"IFERROR('EC-RE'!Z23,\"\")","v":597473.57845725131},{"$f":"IFERROR('EC-RP'!Z22,\"\")","v":1360812.4342847455},{"$f":"IFERROR('EC-Per'!W22,\"\")","v":-18667.959994366087},{"$f":"IFERROR('EC-Mar'!Y22,\"\")","v":1360812.4342847455},0,{"$error":"#REF!"},{"$error":"#REF!"},{"$error":"#REF!"},{"$error":"#REF!"},{"$error":"#REF!"},{"$error":"#REF!"},{"$error":"#REF!"},""]
[{"$f":"IF(ISBLANK(InfoPro!A16),\"\",InfoPro!A16)","v":"SC_1218_A1"},{"$f":"IF(ISBLANK(InfoPro!H16),\"\",InfoPro!H16)","v":"SC_1218"},{"$f":"IF(ISBLANK(InfoPro!B16),\"\",InfoPro!B16)","v":"Las Flores 150 MW"},{"$f":"IF(ISBLANK(InfoPro!E16),\"\",InfoPro!E16)","v":150},{"$f":"IF(ISBLANK(InfoPro!C16),\"\",InfoPro!C16)","v":"2022-01-22T09:23:00"},{"$f":"IF(ISBLANK(InfoPro!D16),\"\",InfoPro!D16)","v":44583.390972222223},{"$f":"IF(ISBLANK(InfoPro!L16),\"\",InfoPro!L16)","v":"SI"},{"$f":"'IT-TA'!H17","v":0},{"$f":"IFERROR('BT-Confi'!Y24,\"\")","v":459473.15704881458},{"$f":"IFERROR('BT-Flex'!Y24,\"\")","v":0},{"$f":"IFERROR('EC-RE'!Z24,\"\")","v":667975.46071520646},{"$f":"IFERROR('EC-RP'!Z23,\"\")","v":1521388.3015303449},{"$f":"IFERROR('EC-Per'!W23,\"\")","v":-155693.25737150761},{"$f":"IFERROR('EC-Mar'!Y23,\"\")","v":1521388.3015303449},0,{"$error":"#REF!"},{"$error":"#REF!"},{"$error":"#REF!"},{"$error":"#REF!"},{"$error":"#REF!"},{"$error":"#REF!"},{"$error":"#REF!"},""]
[{"$f":"IF(ISBLANK(InfoPro!A17),\"\",InfoPro!A17)","v":"SC_1223_A1"},{"$f":"IF(ISBLANK(InfoPro!H17),\"\",InfoPro!H17)","v":"SC_1223"},{"$f":"IF(ISBLANK(InfoPro!B17),\"\",InfoPro!B17)","v":"Parque Eolico Sirius"},{"$f":"IF(ISBLANK(InfoPro!E17),\"\",InfoPro!E17)","v":100},{"$f":"IF(ISBLANK(InfoPro!C17),\"\",InfoPro!C17)","v":"2022-07-15"},{"$f":"IF(ISBLANK(InfoPro!D17),\"\",InfoPro!D17)","v":44757},{"$f":"IF(ISBLANK(InfoPro!L17),\"\",InfoPro!L17)","v":"NO"},{"$f":"'IT-TA'!H18","v":0},{"$f":"IFERROR('BT-Confi'!Y25,\"\")","v":402922.61464280653},{"$f":"IFERROR('BT-Flex'!Y25,\"\")","v":0},{"$f":"IFERROR('EC-RE'!Z25,\"\")","v":1464407.7407987223},{"$f":"IFERROR('EC-RP'!Z24,\"\")","v":3335351.2764319098},{"$f":"IFERROR('EC-Per'!W24,\"\")","v":-182600.93324530264},{"$f":"IFERROR('EC-Mar'!Y24,\"\")","v":3335351.2764319093},0,{"$error":"#REF!"},{"$error":"#REF!"},{"$error":"#REF!"},{"$error":"#REF!"},{"$error":"#REF!"},{"$error":"#REF!"},{"$error":"#REF!"},""]
[{"$f":"IF(ISBLANK(InfoPro!A18),\"\",InfoPro!A18)","v":"SC_1232_A1"},{"$f":"IF(ISBLANK(InfoPro!H18),\"\",InfoPro!H18)","v":"SC_1232"},{"$f":"IF(ISBLANK(InfoPro!B18),\"\",InfoPro!B18)","v":"La Paz Solar 9,9 MW"},{"$f":"IF(ISBLANK(InfoPro!E18),\"\",InfoPro!E18)","v":9.9},{"$f":"IF(ISBLANK(InfoPro!C18),\"\",InfoPro!C18)","v":"2022-07-15"},{"$f":"IF(ISBLANK(InfoPro!D18),\"\",InfoPro!D18)","v":44757},{"$f":"IF(ISBLANK(InfoPro!L18),\"\",InfoPro!L18)","v":"NO"},{"$f":"'IT-TA'!H19","v":0},{"$f":"IFERROR('BT-Confi'!Y26,\"\")","v":459473.15704881464},{"$f":"IFERROR('BT-Flex'!Y26,\"\")","v":0},{"$f":"IFERROR('EC-RE'!Z26,\"\")","v":667975.46071520657},{"$f":"IFERROR('EC-RP'!Z25,\"\")","v":1521388.3015303449},{"$f":"IFERROR('EC-Per'!W25,\"\")","v":90968.284021375177},{"$f":"IFERROR('EC-Mar'!Y25,\"\")","v":1521388.3015303449},0,{"$error":"#REF!"},{"$error":"#REF!"},{"$error":"#REF!"},{"$error":"#REF!"},{"$error":"#REF!"},{"$error":"#REF!"},{"$error":"#REF!"},""]
[{"$f":"IF(ISBLANK(InfoPro!A19),\"\",InfoPro!A19)","v":"SC_1232_A2"},{"$f":"IF(ISBLANK(InfoPro!H19),\"\",InfoPro!H19)","v":"SC_1232"},{"$f":"IF(ISBLANK(InfoPro!B19),\"\",InfoPro!B19)","v":"La Paz Solar 9,9 MW"},{"$f":"IF(ISBLANK(InfoPro!E19),\"\",InfoPro!E19)","v":9.9},{"$f":"IF(ISBLANK(InfoPro!C19),\"\",InfoPro!C19)","v":"2022-07-15"},{"$f":"IF(ISBLANK(InfoPro!D19),\"\",InfoPro!D19)","v":44757},{"$f":"IF(ISBLANK(InfoPro!L19),\"\",InfoPro!L19)","v":"NO"},{"$f":"'IT-TA'!H20","v":0},{"$f":"IFERROR('BT-Confi'!Y27,\"\")","v":459473.15704881464},{"$f":"IFERROR('BT-Flex'!Y27,\"\")","v":0},{"$f":"IFERROR('EC-RE'!Z27,\"\")","v":667975.46071520657},{"$f":"IFERROR('EC-RP'!Z26,\"\")","v":1521388.3015303449},{"$f":"IFERROR('EC-Per'!W26,\"\")","v":92671.729407110048},{"$f":"IFERROR('EC-Mar'!Y26,\"\")","v":1521388.3015303449},0,{"$error":"#REF!"},{"$error":"#REF!"},{"$error":"#REF!"},{"$error":"#REF!"},{"$error":"#REF!"},{"$error":"#REF!"},{"$error":"#REF!"},""]
[{"$f":"IF(ISBLANK(InfoPro!A20),\"\",InfoPro!A20)","v":"SC_1239_A1"},{"$f":"IF(ISBLANK(InfoPro!H20),\"\",InfoPro!H20)","v":"SC_1239"},{"$f":"IF(ISBLANK(InfoPro!B20),\"\",InfoPro!B20)","v":"El Carmen"},{"$f":"IF(ISBLANK(InfoPro!E20),\"\",InfoPro!E20)","v":104.5},{"$f":"IF(ISBLANK(InfoPro!C20),\"\",InfoPro!C20)","v":"2022-07-15"},{"$f":"IF(ISBLANK(InfoPro!D20),\"\",InfoPro!D20)","v":44757},{"$f":"IF(ISBLANK(InfoPro!L20),\"\",InfoPro!L20)","v":"SI"},{"$f":"'IT-TA'!H21","v":0},{"$f":"IFERROR('BT-Confi'!Y28,\"\")","v":322357.69106186181},{"$f":"IFERROR('BT-Flex'!Y28,\"\")","v":0},{"$f":"IFERROR('EC-RE'!Z28,\"\")","v":1171597.4257624641},{"$f":"IFERROR('EC-RP'!Z27,\"\")","v":2668443.2624958875},{"$f":"IFERROR('EC-Per'!W27,\"\")","v":-415186.74488288449},{"$f":"IFERROR('EC-Mar'!Y27,\"\")","v":2668443.2624958875},0,{"$error":"#REF!"},{"$error":"#REF!"},{"$error":"#REF!"},{"$error":"#REF!"},{"$error":"#REF!"},{"$error":"#REF!"},{"$error":"#REF!"},""]
[{"$f":"IF(ISBLANK(InfoPro!A21),\"\",InfoPro!A21)","v":"SC_1239_A2"},{"$f":"IF(ISBLANK(InfoPro!H21),\"\",InfoPro!H21)","v":"SC_1239"},{"$f":"IF(ISBLANK(InfoPro!B21),\"\",InfoPro!B21)","v":"El Carmen"},{"$f":"IF(ISBLANK(InfoPro!E21),\"\",InfoPro!E21)","v":104.5},{"$f":"IF(ISBLANK(InfoPro!C21),\"\",InfoPro!C21)","v":"2022-07-15"},{"$f":"IF(ISBLANK(InfoPro!D21),\"\",InfoPro!D21)","v":44757},{"$f":"IF(ISBLANK(InfoPro!L21),\"\",InfoPro!L21)","v":"SI"},{"$f":"'IT-TA'!H22","v":0},{"$f":"IFERROR('BT-Confi'!Y29,\"\")","v":322357.69106186181},{"$f":"IFERROR('BT-Flex'!Y29,\"\")","v":0},{"$f":"IFERROR('EC-RE'!Z29,\"\")","v":1171597.4257624641},{"$f":"IFERROR('EC-RP'!Z28,\"\")","v":2668443.2624958875},{"$f":"IFERROR('EC-Per'!W28,\"\")","v":-416731.74473494745},{"$f":"IFERROR('EC-Mar'!Y28,\"\")","v":2668443.2624958875},0,{"$error":"#REF!"},{"$error":"#REF!"},{"$error":"#REF!"},{"$error":"#REF!"},{"$error":"#REF!"},{"$error":"#REF!"},{"$error":"#REF!"},""]
[{"$f":"IF(ISBLANK(InfoPro!A22),\"\",InfoPro!A22)","v":"SC_1244_A1"},{"$f":"IF(ISBLANK(InfoPro!H22),\"\",InfoPro!H22)","v":"SC_1244"},{"$f":"IF(ISBLANK(InfoPro!B22),\"\",InfoPro!B22)","v":"Proyecto Maria"},{"$f":"IF(ISBLANK(InfoPro!E22),\"\",InfoPro!E22)","v":120},{"$f":"IF(ISBLANK(InfoPro!C22),\"\",InfoPro!C22)","v":"2022-07-17"},{"$f":"IF(ISBLANK(InfoPro!D22),\"\",InfoPro!D22)","v":44759},{"$f":"IF(ISBLANK(InfoPro!L22),\"\",InfoPro!L22)","v":"NO"},{"$f":"'IT-TA'!H23","v":0},{"$f":"IFERROR('BT-Confi'!Y30,\"\")","v":360395.89860716159},{"$f":"IFERROR('BT-Flex'!Y30,\"\")","v":0},{"$f":"IFERROR('EC-RE'!Z30,\"\")","v":1309845.922002435},{"$f":"IFERROR('EC-RP'!Z29,\"\")","v":2983319.5674704029},{"$f":"IFERROR('EC-Per'!W29,\"\")","v":-620133.13245526538},{"$f":"IFERROR('EC-Mar'!Y29,\"\")","v":2983319.5674704029},0,{"$error":"#REF!"},{"$error":"#REF!"},{"$error":"#REF!"},{"$error":"#REF!"},{"$error":"#REF!"},{"$error":"#REF!"},{"$error":"#REF!"},""]
[{"$f":"IF(ISBLANK(InfoPro!A23),\"\",InfoPro!A23)","v":"SC_1252_A1"},{"$f":"IF(ISBLANK(InfoPro!H23),\"\",InfoPro!H23)","v":"SC_1252"},{"$f":"IF(ISBLANK(InfoPro!B23),\"\",InfoPro!B23)","v":"Parque Eólico Neptuno"},{"$f":"IF(ISBLANK(InfoPro!E23),\"\",InfoPro!E23)","v":150},{"$f":"IF(ISBLANK(InfoPro!C23),\"\",InfoPro!C23)","v":"2022-07-15"},{"$f":"IF(ISBLANK(InfoPro!D23),\"\",InfoPro!D23)","v":44757},{"$f":"IF(ISBLANK(InfoPro!L23),\"\",InfoPro!L23)","v":"SI"},{"$f":"'IT-TA'!H24","v":0},{"$f":"IFERROR('BT-Confi'!Y31,\"\")","v":360395.89860716154},{"$f":"IFERROR('BT-Flex'!Y31,\"\")","v":0},{"$f":"IFERROR('EC-RE'!Z31,\"\")","v":1309845.9220024347},{"$f":"IFERROR('EC-RP'!Z30,\"\")","v":2983319.567470402},{"$f":"IFERROR('EC-Per'!W30,\"\")","v":-178814.13261026505},{"$f":"IFERROR('EC-Mar'!Y30,\"\")","v":2983319.567470402},0,{"$error":"#REF!"},{"$error":"#REF!"},{"$error":"#REF!"},{"$error":"#REF!"},{"$error":"#REF!"},{"$error":"#REF!"},{"$error":"#REF!"},""]
[{"$f":"IF(ISBLANK(InfoPro!A24),\"\",InfoPro!A24)","v":"SC_1262_A1"},{"$f":"IF(ISBLANK(InfoPro!H24),\"\",InfoPro!H24)","v":"SC_1262"},{"$f":"IF(ISBLANK(InfoPro!B24),\"\",InfoPro!B24)","v":"Parque Solar Australe de 251 MW (entrega 200 MW)"},{"$f":"IF(ISBLANK(InfoPro!E24),\"\",InfoPro!E24)","v":200},{"$f":"IF(ISBLANK(InfoPro!C24),\"\",InfoPro!C24)","v":"2022-07-17"},{"$f":"IF(ISBLANK(InfoPro!D24),\"\",InfoPro!D24)","v":44759},{"$f":"IF(ISBLANK(InfoPro!L24),\"\",InfoPro!L24)","v":"NO"},{"$f":"'IT-TA'!H25","v":0},{"$f":"IFERROR('BT-Confi'!Y32,\"\")","v":410977.77911342977},{"$f":"IFERROR('BT-Flex'!Y32,\"\")","v":0},{"$f":"IFERROR('EC-RE'!Z32,\"\")","v":597473.57845725096},{"$f":"IFERROR('EC-RP'!Z31,\"\")","v":1360812.4342847452},{"$f":"IFERROR('EC-Per'!W31,\"\")","v":-44903.456669895117},{"$f":"IFERROR('EC-Mar'!Y31,\"\")","v":1360812.4342847452},0,{"$error":"#REF!"},{"$error":"#REF!"},{"$error":"#REF!"},{"$error":"#REF!"},{"$error":"#REF!"},{"$error":"#REF!"},{"$error":"#REF!"},""]
[{"$f":"IF(ISBLANK(InfoPro!A25),\"\",InfoPro!A25)","v":"SC_1262_A2"},{"$f":"IF(ISBLANK(InfoPro!H25),\"\",InfoPro!H25)","v":"SC_1262"},{"$f":"IF(ISBLANK(InfoPro!B25),\"\",InfoPro!B25)","v":"Parque Solar Australe de 251 MW (entrega 200 MW)"},{"$f":"IF(ISBLANK(InfoPro!E25),\"\",InfoPro!E25)","v":200},{"$f":"IF(ISBLANK(InfoPro!C25),\"\",InfoPro!C25)","v":"2022-07-17"},{"$f":"IF(ISBLANK(InfoPro!D25),\"\",InfoPro!D25)","v":44759},{"$f":"IF(ISBLANK(InfoPro!L25),\"\",InfoPro!L25)","v":"NO"},{"$f":"'IT-TA'!H26","v":0},{"$f":"IFERROR('BT-Confi'!Y33,\"\")","v":410977.77911342977},{"$f":"IFERROR('BT-Flex'!Y33,\"\")","v":0},{"$f":"IFERROR('EC-RE'!Z33,\"\")","v":597473.57845725096},{"$f":"IFERROR('EC-RP'!Z32,\"\")","v":1360812.4342847452},{"$f":"IFERROR('EC-Per'!W32,\"\")","v":-59130.818088271772},{"$f":"IFERROR('EC-Mar'!Y32,\"\")","v":1360812.4342847452},0,{"$error":"#REF!"},{"$error":"#REF!"},{"$error":"#REF!"},{"$error":"#REF!"},{"$error":"#REF!"},{"$error":"#REF!"},{"$error":"#REF!"},""]
[{"$f":"IF(ISBLANK(InfoPro!A26),\"\",InfoPro!A26)","v":"SC_1264_A1"},{"$f":"IF(ISBLANK(InfoPro!H26),\"\",InfoPro!H26)","v":"SC_1264"},{"$f":"IF(ISBLANK(InfoPro!B26),\"\",InfoPro!B26)","v":"Parque Solar Galus de 133 MW (entrega 110 MW)"},{"$f":"IF(ISBLANK(InfoPro!E26),\"\",InfoPro!E26)","v":110},{"$f":"IF(ISBLANK(InfoPro!C26),\"\",InfoPro!C26)","v":"2022-07-17"},{"$f":"IF(ISBLANK(InfoPro!D26),\"\",InfoPro!D26)","v":44759},{"$f":"IF(ISBLANK(InfoPro!L26),\"\",InfoPro!L26)","v":"NO"},{"$f":"'IT-TA'!H27","v":0},{"$f":"IFERROR('BT-Confi'!Y34,\"\")","v":367600.87577229878},{"$f":"IFERROR('BT-Flex'!Y34,\"\")","v":0},{"$f":"IFERROR('EC-RE'!Z34,\"\")","v":534412.86087410664},{"$f":"IFERROR('EC-RP'!Z33,\"\")","v":1217184.6460507561},{"$f":"IFERROR('EC-Per'!W33,\"\")","v":-57027.077999104818},{"$f":"IFERROR('EC-Mar'!Y33,\"\")","v":1217184.6460507561},0,{"$error":"#REF!"},{"$error":"#REF!"},{"$error":"#REF!"},{"$error":"#REF!"},{"$error":"#REF!"},{"$error":"#REF!"},{"$error":"#REF!"},""]
[{"$f":"IF(ISBLANK(InfoPro!A27),\"\",InfoPro!A27)","v":"SC_1264_A2"},{"$f":"IF(ISBLANK(InfoPro!H27),\"\",InfoPro!H27)","v":"SC_1264"},{"$f":"IF(ISBLANK(InfoPro!B27),\"\",InfoPro!B27)","v":"Parque Solar Galus de 133 MW (entrega 110 MW)"},{"$f":"IF(ISBLANK(InfoPro!E27),\"\",InfoPro!E27)","v":110},{"$f":"IF(ISBLANK(InfoPro!C27),\"\",InfoPro!C27)","v":"2022-07-17"},{"$f":"IF(ISBLANK(InfoPro!D27),\"\",InfoPro!D27)","v":44759},{"$f":"IF(ISBLANK(InfoPro!L27),\"\",InfoPro!L27)","v":"NO"},{"$f":"'IT-TA'!H28","v":0},{"$f":"IFERROR('BT-Confi'!Y35,\"\")","v":367600.87577229878},{"$f":"IFERROR('BT-Flex'!Y35,\"\")","v":0},{"$f":"IFERROR('EC-RE'!Z35,\"\")","v":534412.86087410664},{"$f":"IFERROR('EC-RP'!Z34,\"\")","v":1217184.6460507561},{"$f":"IFERROR('EC-Per'!W34,\"\")","v":-53328.489229932093},{"$f":"IFERROR('EC-Mar'!Y34,\"\")","v":1217184.6460507561},0,{"$error":"#REF!"},{"$error":"#REF!"},{"$error":"#REF!"},{"$error":"#REF!"},{"$error":"#REF!"},{"$error":"#REF!"},{"$error":"#REF!"},""]
[{"$f":"IF(ISBLANK(InfoPro!A28),\"\",InfoPro!A28)","v":"SC_1266_A1"},{"$f":"IF(ISBLANK(InfoPro!H28),\"\",InfoPro!H28)","v":"SC_1266"},{"$f":"IF(ISBLANK(InfoPro!B28),\"\",InfoPro!B28)","v":"Parque Solar Fornax DE 127 MW (Entrega 105 MW)"},{"$f":"IF(ISBLANK(InfoPro!E28),\"\",InfoPro!E28)","v":105},{"$f":"IF(ISBLANK(InfoPro!C28),\"\",InfoPro!C28)","v":"2022-07-17"},{"$f":"IF(ISBLANK(InfoPro!D28),\"\",InfoPro!D28)","v":44759},{"$f":"IF(ISBLANK(InfoPro!L28),\"\",InfoPro!L28)","v":"NO"},{"$f":"'IT-TA'!H29","v":0},{"$f":"IFERROR('BT-Confi'!Y36,\"\")","v":367600.87577229855},{"$f":"IFERROR('BT-Flex'!Y36,\"\")","v":0},{"$f":"IFERROR('EC-RE'!Z36,\"\")","v":534412.86087410664},{"$f":"IFERROR('EC-RP'!Z35,\"\")","v":1217184.6460507563},{"$f":"IFERROR('EC-Per'!W35,\"\")","v":-46947.092438823485},{"$f":"IFERROR('EC-Mar'!Y35,\"\")","v":1217184.6460507563},0,{"$error":"#REF!"},{"$error":"#REF!"},{"$error":"#REF!"},{"$error":"#REF!"},{"$error":"#REF!"},{"$error":"#REF!"},{"$error":"#REF!"},""]
[{"$f":"IF(ISBLANK(InfoPro!A29),\"\",InfoPro!A29)","v":"SC_1266_A2"},{"$f":"IF(ISBLANK(InfoPro!H29),\"\",InfoPro!H29)","v":"SC_1266"},{"$f":"IF(ISBLANK(InfoPro!B29),\"\",InfoPro!B29)","v":"Parque Solar Fornax DE 127 MW (Entrega 105 MW)"},{"$f":"IF(ISBLANK(InfoPro!E29),\"\",InfoPro!E29)","v":105},{"$f":"IF(ISBLANK(InfoPro!C29),\"\",InfoPro!C29)","v":"2022-07-17"},{"$f":"IF(ISBLANK(InfoPro!D29),\"\",InfoPro!D29)","v":44759},{"$f":"IF(ISBLANK(InfoPro!L29),\"\",InfoPro!L29)","v":"NO"},{"$f":"'IT-TA'!H30","v":0},{"$f":"IFERROR('BT-Confi'!Y37,\"\")","v":367600.87577229855},{"$f":"IFERROR('BT-Flex'!Y37,\"\")","v":0},{"$f":"IFERROR('EC-RE'!Z37,\"\")","v":534412.86087410664},{"$f":"IFERROR('EC-RP'!Z36,\"\")","v":1217184.6460507563},{"$f":"IFERROR('EC-Per'!W36,\"\")","v":-65239.337669305569},{"$f":"IFERROR('EC-Mar'!Y36,\"\")","v":1217184.6460507563},0,{"$error":"#REF!"},{"$error":"#REF!"},{"$error":"#REF!"},{"$error":"#REF!"},{"$error":"#REF!"},{"$error":"#REF!"},{"$error":"#REF!"},""]
[{"$f":"IF(ISBLANK(InfoPro!A30),\"\",InfoPro!A30)","v":"SC_1272_A1"},{"$f":"IF(ISBLANK(InfoPro!H30),\"\",InfoPro!H30)","v":"SC_1272"},{"$f":"IF(ISBLANK(InfoPro!B30),\"\",InfoPro!B30)","v":"Guacamayal Solar de 9,9 MW"},{"$f":"IF(ISBLANK(InfoPro!E30),\"\",InfoPro!E30)","v":9.9},{"$f":"IF(ISBLANK(InfoPro!C30),\"\",InfoPro!C30)","v":"2022-07-15"},{"$f":"IF(ISBLANK(InfoPro!D30),\"\",InfoPro!D30)","v":44757},{"$f":"IF(ISBLANK(InfoPro!L30),\"\",InfoPro!L30)","v":"NO"},{"$f":"'IT-TA'!H31","v":0},{"$f":"IFERROR('BT-Confi'!Y38,\"\")","v":513690.98958057474},{"$f":"IFERROR('BT-Flex'!Y38,\"\")","v":0},{"$f":"IFERROR('EC-RE'!Z38,\"\")","v":746796.56507960113},{"$f":"IFERROR('EC-RP'!Z37,\"\")","v":1700912.1211109257},{"$f":"IFERROR('EC-Per'!W37,\"\")","v":469168.27977677248},{"$f":"IFERROR('EC-Mar'!Y37,\"\")","v":1700912.1211109257},0,{"$error":"#REF!"},{"$error":"#REF!"},{"$error":"#REF!"},{"$error":"#REF!"},{"$error":"#REF!"},{"$error":"#REF!"},{"$error":"#REF!"},""]
[{"$f":"IF(ISBLANK(InfoPro!A31),\"\",InfoPro!A31)","v":"SC_1272_A2"},{"$f":"IF(ISBLANK(InfoPro!H31),\"\",InfoPro!H31)","v":"SC_1272"},{"$f":"IF(ISBLANK(InfoPro!B31),\"\",InfoPro!B31)","v":"Guacamayal Solar de 9,9 MW"},{"$f":"IF(ISBLANK(InfoPro!E31),\"\",InfoPro!E31)","v":9.9},{"$f":"IF(ISBLANK(InfoPro!C31),\"\",InfoPro!C31)","v":"2022-07-15"},{"$f":"IF(ISBLANK(InfoPro!D31),\"\",InfoPro!D31)","v":44757},{"$f":"IF(ISBLANK(InfoPro!L31),\"\",InfoPro!L31)","v":"NO"},{"$f":"'IT-TA'!H32","v":0},{"$f":"IFERROR('BT-Confi'!Y39,\"\")","v":513690.98958057474},{"$f":"IFERROR('BT-Flex'!Y39,\"\")","v":0},{"$f":"IFERROR('EC-RE'!Z39,\"\")","v":746796.56507960113},{"$f":"IFERROR('EC-RP'!Z38,\"\")","v":1700912.1211109257},{"$f":"IFERROR('EC-Per'!W38,\"\")","v":230777.90704647388},{"$f":"IFERROR('EC-Mar'!Y38,\"\")","v":1700912.1211109257},0,{"$error":"#REF!"},{"$error":"#REF!"},{"$error":"#REF!"},{"$error":"#REF!"},{"$error":"#REF!"},{"$error":"#REF!"},{"$error":"#REF!"},""]
[{"$f":"IF(ISBLANK(InfoPro!A32),\"\",InfoPro!A32)","v":"SC_1293_A1"},{"$f":"IF(ISBLANK(InfoPro!H32),\"\",InfoPro!H32)","v":"SC_1293"},{"$f":"IF(ISBLANK(InfoPro!B32),\"\",InfoPro!B32)","v":"Leo Solar II"},{"$f":"IF(ISBLANK(InfoPro!E32),\"\",InfoPro!E32)","v":80},{"$f":"IF(ISBLANK(InfoPro!C32),\"\",InfoPro!C32)","v":"2022-07-18"},{"$f":"IF(ISBLANK(InfoPro!D32),\"\",InfoPro!D32)","v":44760},{"$f":"IF(ISBLANK(InfoPro!L32),\"\",InfoPro!L32)","v":"NO"},{"$f":"'IT-TA'!H33","v":0},{"$f":"IFERROR('BT-Confi'!Y40,\"\")","v":459473.15704881446},{"$f":"IFERROR('BT-Flex'!Y40,\"\")","v":0},{"$f":"IFERROR('EC-RE'!Z40,\"\")","v":667975.46071520681},{"$f":"IFERROR('EC-RP'!Z39,\"\")","v":1521388.3015303453},{"$f":"IFERROR('EC-Per'!W39,\"\")","v":-28530.619727591133},{"$f":"IFERROR('EC-Mar'!Y39,\"\")","v":1521388.3015303453},0,{"$error":"#REF!"},{"$error":"#REF!"},{"$error":"#REF!"},{"$error":"#REF!"},{"$error":"#REF!"},{"$error":"#REF!"},{"$error":"#REF!"},""]
[{"$f":"IF(ISBLANK(InfoPro!A33),\"\",InfoPro!A33)","v":"SC_1293_A2"},{"$f":"IF(ISBLANK(InfoPro!H33),\"\",InfoPro!H33)","v":"SC_1293"},{"$f":"IF(ISBLANK(InfoPro!B33),\"\",InfoPro!B33)","v":"Leo Solar II"},{"$f":"IF(ISBLANK(InfoPro!E33),\"\",InfoPro!E33)","v":80},{"$f":"IF(ISBLANK(InfoPro!C33),\"\",InfoPro!C33)","v":"2022-07-18"},{"$f":"IF(ISBLANK(InfoPro!D33),\"\",InfoPro!D33)","v":44760},{"$f":"IF(ISBLANK(InfoPro!L33),\"\",InfoPro!L33)","v":"NO"},{"$f":"'IT-TA'!H34","v":0},{"$f":"IFERROR('BT-Confi'!Y41,\"\")","v":459473.15704881446},{"$f":"IFERROR('BT-Flex'!Y41,\"\")","v":0},{"$f":"IFERROR('EC-RE'!Z41,\"\")","v":667975.46071520681},{"$f":"IFERROR('EC-RP'!Z40,\"\")","v":1521388.3015303453},{"$f":"IFERROR('EC-Per'!W40,\"\")","v":-100670.2177952827},{"$f":"IFERROR('EC-Mar'!Y40,\"\")","v":1521388.3015303453},0,{"$error":"#REF!"},{"$error":"#REF!"},{"$error":"#REF!"},{"$error":"#REF!"},{"$error":"#REF!"},{"$error":"#REF!"},{"$error":"#REF!"},""]
[{"$f":"IF(ISBLANK(InfoPro!A34),\"\",InfoPro!A34)","v":"SC_1306_A1"},{"$f":"IF(ISBLANK(InfoPro!H34),\"\",InfoPro!H34)","v":"SC_1306"},{"$f":"IF(ISBLANK(InfoPro!B34),\"\",InfoPro!B34)","v":"Leo Solar I"},{"$f":"IF(ISBLANK(InfoPro!E34),\"\",InfoPro!E34)","v":19.899999999999999},{"$f":"IF(ISBLANK(InfoPro!C34),\"\",InfoPro!C34)","v":"2022-07-18"},{"$f":"IF(ISBLANK(InfoPro!D34),\"\",InfoPro!D34)","v":44760},{"$f":"IF(ISBLANK(InfoPro!L34),\"\",InfoPro!L34)","v":"NO"},{"$f":"'IT-TA'!H35","v":0},{"$f":"IFERROR('BT-Confi'!Y42,\"\")","v":459473.15704881458},{"$f":"IFERROR('BT-Flex'!Y42,\"\")","v":0},{"$f":"IFERROR('EC-RE'!Z42,\"\")","v":667975.46071520681},{"$f":"IFERROR('EC-RP'!Z41,\"\")","v":1521388.3015303449},{"$f":"IFERROR('EC-Per'!W41,\"\")","v":-170558.23910888439},{"$f":"IFERROR('EC-Mar'!Y41,\"\")","v":1521388.3015303449},0,{"$error":"#REF!"},{"$error":"#REF!"},{"$error":"#REF!"},{"$error":"#REF!"},{"$error":"#REF!"},{"$error":"#REF!"},{"$error":"#REF!"},""]
[{"$f":"IF(ISBLANK(InfoPro!A35),\"\",InfoPro!A35)","v":"SC_1306_A2"},{"$f":"IF(ISBLANK(InfoPro!H35),\"\",InfoPro!H35)","v":"SC_1306"},{"$f":"IF(ISBLANK(InfoPro!B35),\"\",InfoPro!B35)","v":"Leo Solar I"},{"$f":"IF(ISBLANK(InfoPro!E35),\"\",InfoPro!E35)","v":19.899999999999999},{"$f":"IF(ISBLANK(InfoPro!C35),\"\",InfoPro!C35)","v":"2022-07-18"},{"$f":"IF(ISBLANK(InfoPro!D35),\"\",InfoPro!D35)","v":44760},{"$f":"IF(ISBLANK(InfoPro!L35),\"\",InfoPro!L35)","v":"NO"},{"$f":"'IT-TA'!H36","v":0},{"$f":"IFERROR('BT-Confi'!Y43,\"\")","v":459473.15704881458},{"$f":"IFERROR('BT-Flex'!Y43,\"\")","v":0},{"$f":"IFERROR('EC-RE'!Z43,\"\")","v":667975.46071520681},{"$f":"IFERROR('EC-RP'!Z42,\"\")","v":1521388.3015303449},{"$f":"IFERROR('EC-Per'!W42,\"\")","v":-160455.48626968218},{"$f":"IFERROR('EC-Mar'!Y42,\"\")","v":1521388.3015303449},0,{"$error":"#REF!"},{"$error":"#REF!"},{"$error":"#REF!"},{"$error":"#REF!"},{"$error":"#REF!"},{"$error":"#REF!"},{"$error":"#REF!"},""]
[{"$f":"IF(ISBLANK(InfoPro!A36),\"\",InfoPro!A36)","v":"SC_1311_A1"},{"$f":"IF(ISBLANK(InfoPro!H36),\"\",InfoPro!H36)","v":"SC_1311"},{"$f":"IF(ISBLANK(InfoPro!B36),\"\",InfoPro!B36)","v":"Elipse de 200 MW"},{"$f":"IF(ISBLANK(InfoPro!E36),\"\",InfoPro!E36)","v":200},{"$f":"IF(ISBLANK(InfoPro!C36),\"\",InfoPro!C36)","v":"2022-07-16T15:46:00"},{"$f":"IF(ISBLANK(InfoPro!D36),\"\",InfoPro!D36)","v":44758.656944444447},{"$f":"IF(ISBLANK(InfoPro!L36),\"\",InfoPro!L36)","v":"NO"},{"$f":"'IT-TA'!H37","v":0},{"$f":"IFERROR('BT-Confi'!Y44,\"\")","v":402922.61464280653},{"$f":"IFERROR('BT-Flex'!Y44,\"\")","v":0},{"$f":"IFERROR('EC-RE'!Z44,\"\")","v":1464407.7407987223},{"$f":"IFERROR('EC-RP'!Z43,\"\")","v":3335351.2764319098},{"$f":"IFERROR('EC-Per'!W43,\"\")","v":58374.588142659042},{"$f":"IFERROR('EC-Mar'!Y43,\"\")","v":3335351.2764319093},0,{"$error":"#REF!"},{"$error":"#REF!"},{"$error":"#REF!"},{"$error":"#REF!"},{"$error":"#REF!"},{"$error":"#REF!"},{"$error":"#REF!"},""]
[{"$f":"IF(ISBLANK(InfoPro!A37),\"\",InfoPro!A37)","v":"SC_1312_A1"},{"$f":"IF(ISBLANK(InfoPro!H37),\"\",InfoPro!H37)","v":"SC_1312"},{"$f":"IF(ISBLANK(InfoPro!B37),\"\",InfoPro!B37)","v":"Omega de 300 MW"},{"$f":"IF(ISBLANK(InfoPro!E37),\"\",InfoPro!E37)","v":300},{"$f":"IF(ISBLANK(InfoPro!C37),\"\",InfoPro!C37)","v":"2022-07-16T15:49:00"},{"$f":"IF(ISBLANK(InfoPro!D37),\"\",InfoPro!D37)","v":44758.65902777778},{"$f":"IF(ISBLANK(InfoPro!L37),\"\",InfoPro!L37)","v":"NO"},{"$f":"'IT-TA'!H38","v":0},{"$f":"IFERROR('BT-Confi'!Y45,\"\")","v":288334.24960810546},{"$f":"IFERROR('BT-Flex'!Y45,\"\")","v":0},{"$f":"IFERROR('EC-RE'!Z45,\"\")","v":1047940.4523814529},{"$f":"IFERROR('EC-RP'!Z44,\"\")","v":2386800.7714632275},{"$f":"IFERROR('EC-Per'!W44,\"\")","v":51639.718603852918},{"$f":"IFERROR('EC-Mar'!Y44,\"\")","v":2386800.7714632275},0,{"$error":"#REF!"},{"$error":"#REF!"},{"$error":"#REF!"},{"$error":"#REF!"},{"$error":"#REF!"},{"$error":"#REF!"},{"$error":"#REF!"},""]
[{"$f":"IF(ISBLANK(InfoPro!A38),\"\",InfoPro!A38)","v":"SC_1313_A1"},{"$f":"IF(ISBLANK(InfoPro!H38),\"\",InfoPro!H38)","v":"SC_1313"},{"$f":"IF(ISBLANK(InfoPro!B38),\"\",InfoPro!B38)","v":"Kappa de 500 MW"},{"$f":"IF(ISBLANK(InfoPro!E38),\"\",InfoPro!E38)","v":500},{"$f":"IF(ISBLANK(InfoPro!C38),\"\",InfoPro!C38)","v":"2022-07-16T15:50:00"},{"$f":"IF(ISBLANK(InfoPro!D38),\"\",InfoPro!D38)","v":44758.659722222219},{"$f":"IF(ISBLANK(InfoPro!L38),\"\",InfoPro!L38)","v":"NO"},{"$f":"'IT-TA'!H39","v":0},{"$f":"IFERROR('BT-Confi'!Y46,\"\")","v":322357.69106186199},{"$f":"IFERROR('BT-Flex'!Y46,\"\")","v":0},{"$f":"IFERROR('EC-RE'!Z46,\"\")","v":1171597.4257624641},{"$f":"IFERROR('EC-RP'!Z45,\"\")","v":2668443.2624958884},{"$f":"IFERROR('EC-Per'!W45,\"\")","v":209624.95970941213},{"$f":"IFERROR('EC-Mar'!Y45,\"\")","v":2668443.2624958884},0,{"$error":"#REF!"},{"$error":"#REF!"},{"$error":"#REF!"},{"$error":"#REF!"},{"$error":"#REF!"},{"$error":"#REF!"},{"$error":"#REF!"},""]
[{"$f":"IF(ISBLANK(InfoPro!A39),\"\",InfoPro!A39)","v":"SC_1315_A1"},{"$f":"IF(ISBLANK(InfoPro!H39),\"\",InfoPro!H39)","v":"SC_1315"},{"$f":"IF(ISBLANK(InfoPro!B39),\"\",InfoPro!B39)","v":"Parque Eólico Cordobita - 50MW"},{"$f":"IF(ISBLANK(InfoPro!E39),\"\",InfoPro!E39)","v":50},{"$f":"IF(ISBLANK(InfoPro!C39),\"\",InfoPro!C39)","v":"2022-07-31T15:53:00"},{"$f":"IF(ISBLANK(InfoPro!D39),\"\",InfoPro!D39)","v":44773.661805555559},{"$f":"IF(ISBLANK(InfoPro!L39),\"\",InfoPro!L39)","v":"NO"},{"$f":"'IT-TA'!H40","v":0},{"$f":"IFERROR('BT-Confi'!Y47,\"\")","v":322357.69106186187},{"$f":"IFERROR('BT-Flex'!Y47,\"\")","v":0},{"$f":"IFERROR('EC-RE'!Z47,\"\")","v":1171597.4257624641},{"$f":"IFERROR('EC-RP'!Z46,\"\")","v":2668443.2624958879},{"$f":"IFERROR('EC-Per'!W46,\"\")","v":-378.4602461479052},{"$f":"IFERROR('EC-Mar'!Y46,\"\")","v":2668443.2624958879},0,{"$error":"#REF!"},{"$error":"#REF!"},{"$error":"#REF!"},{"$error":"#REF!"},{"$error":"#REF!"},{"$error":"#REF!"},{"$error":"#REF!"},""]
[{"$f":"IF(ISBLANK(InfoPro!A40),\"\",InfoPro!A40)","v":"SC_1315_A2"},{"$f":"IF(ISBLANK(InfoPro!H40),\"\",InfoPro!H40)","v":"SC_1315"},{"$f":"IF(ISBLANK(InfoPro!B40),\"\",InfoPro!B40)","v":"Parque Eólico Cordobita - 50MW"},{"$f":"IF(ISBLANK(InfoPro!E40),\"\",InfoPro!E40)","v":50},{"$f":"IF(ISBLANK(InfoPro!C40),\"\",InfoPro!C40)","v":"2022-07-31T15:53:00"},{"$f":"IF(ISBLANK(InfoPro!D40),\"\",InfoPro!D40)","v":44773.661805555559},{"$f":"IF(ISBLANK(InfoPro!L40),\"\",InfoPro!L40)","v":"NO"},{"$f":"'IT-TA'!H41","v":0},{"$f":"IFERROR('BT-Confi'!Y48,\"\")","v":322357.69106186187},{"$f":"IFERROR('BT-Flex'!Y48,\"\")","v":0},{"$f":"IFERROR('EC-RE'!Z48,\"\")","v":1171597.4257624641},{"$f":"IFERROR('EC-RP'!Z47,\"\")","v":2668443.2624958879},{"$f":"IFERROR('EC-Per'!W47,\"\")","v":-28195.288338018938},{"$f":"IFERROR('EC-Mar'!Y47,\"\")","v":2668443.2624958879},0,{"$error":"#REF!"},{"$error":"#REF!"},{"$error":"#REF!"},{"$error":"#REF!"},{"$error":"#REF!"},{"$error":"#REF!"},{"$error":"#REF!"},""]
[{"$f":"IF(ISBLANK(InfoPro!A41),\"\",InfoPro!A41)","v":"SC_1317_A1"},{"$f":"IF(ISBLANK(InfoPro!H41),\"\",InfoPro!H41)","v":"SC_1317"},{"$f":"IF(ISBLANK(InfoPro!B41),\"\",InfoPro!B41)","v":"EÓLICA BONDA - 70MW"},{"$f":"IF(ISBLANK(InfoPro!E41),\"\",InfoPro!E41)","v":70},{"$f":"IF(ISBLANK(InfoPro!C41),\"\",InfoPro!C41)","v":"2022-07-31T15:54:00"},{"$f":"IF(ISBLANK(InfoPro!D41),\"\",InfoPro!D41)","v":44773.662499999999},{"$f":"IF(ISBLANK(InfoPro!L41),\"\",InfoPro!L41)","v":"NO"},{"$f":"'IT-TA'!H42","v":0},{"$f":"IFERROR('BT-Confi'!Y49,\"\")","v":322357.69106186175},{"$f":"IFERROR('BT-Flex'!Y49,\"\")","v":0},{"$f":"IFERROR('EC-RE'!Z49,\"\")","v":1171597.4257624638},{"$f":"IFERROR('EC-RP'!Z48,\"\")","v":2668443.2624958875},{"$f":"IFERROR('EC-Per'!W48,\"\")","v":-148680.81098667707},{"$f":"IFERROR('EC-Mar'!Y48,\"\")","v":2668443.2624958875},0,{"$error":"#REF!"},{"$error":"#REF!"},{"$error":"#REF!"},{"$error":"#REF!"},{"$error":"#REF!"},{"$error":"#REF!"},{"$error":"#REF!"},""]
[{"$f":"IF(ISBLANK(InfoPro!A42),\"\",InfoPro!A42)","v":"SC_1321_A1"},{"$f":"IF(ISBLANK(InfoPro!H42),\"\",InfoPro!H42)","v":"SC_1321"},{"$f":"IF(ISBLANK(InfoPro!B42),\"\",InfoPro!B42)","v":"OWF ASTROLABIO - 600 MW"},{"$f":"IF(ISBLANK(InfoPro!E42),\"\",InfoPro!E42)","v":600},{"$f":"IF(ISBLANK(InfoPro!C42),\"\",InfoPro!C42)","v":"2022-05-10T15:55:00"},{"$f":"IF(ISBLANK(InfoPro!D42),\"\",InfoPro!D42)","v":44691.663194444445},{"$f":"IF(ISBLANK(InfoPro!L42),\"\",InfoPro!L42)","v":"NO"},{"$f":"'IT-TA'!H43","v":0},{"$f":"IFERROR('BT-Confi'!Y50,\"\")","v":147654.06626359798},{"$f":"IFERROR('BT-Flex'!Y50,\"\")","v":0},{"$f":"IFERROR('EC-RE'!Z50,\"\")","v":536643.38942232297},{"$f":"IFERROR('EC-RP'!Z49,\"\")","v":1222264.9225565016},{"$f":"IFERROR('EC-Per'!W49,\"\")","v":0},{"$f":"IFERROR('EC-Mar'!Y49,\"\")","v":1222264.9225565016},0,{"$error":"#REF!"},{"$error":"#REF!"},{"$error":"#REF!"},{"$error":"#REF!"},{"$error":"#REF!"},{"$error":"#REF!"},{"$error":"#REF!"},""]
[{"$f":"IF(ISBLANK(InfoPro!A43),\"\",InfoPro!A43)","v":"SC_1321_A2"},{"$f":"IF(ISBLANK(InfoPro!H43),\"\",InfoPro!H43)","v":"SC_1321"},{"$f":"IF(ISBLANK(InfoPro!B43),\"\",InfoPro!B43)","v":"OWF ASTROLABIO - 600 MW"},{"$f":"IF(ISBLANK(InfoPro!E43),\"\",InfoPro!E43)","v":825},{"$f":"IF(ISBLANK(InfoPro!C43),\"\",InfoPro!C43)","v":"2022-05-10T15:55:00"},{"$f":"IF(ISBLANK(InfoPro!D43),\"\",InfoPro!D43)","v":44691.663194444445},{"$f":"IF(ISBLANK(InfoPro!L43),\"\",InfoPro!L43)","v":"NO"},{"$f":"'IT-TA'!H44","v":0},{"$f":"IFERROR('BT-Confi'!Y51,\"\")","v":147654.06626359792},{"$f":"IFERROR('BT-Flex'!Y51,\"\")","v":0},{"$f":"IFERROR('EC-RE'!Z51,\"\")","v":536643.38942232309},{"$f":"IFERROR('EC-RP'!Z50,\"\")","v":1222264.9225565016},{"$f":"IFERROR('EC-Per'!W50,\"\")","v":-91897.793523871922},{"$f":"IFERROR('EC-Mar'!Y50,\"\")","v":1222264.9225565016},0,{"$error":"#REF!"},{"$error":"#REF!"},{"$error":"#REF!"},{"$error":"#REF!"},{"$error":"#REF!"},{"$error":"#REF!"},{"$error":"#REF!"},""]
[{"$f":"IF(ISBLANK(InfoPro!A44),\"\",InfoPro!A44)","v":"SC_1336_A1"},{"$f":"IF(ISBLANK(InfoPro!H44),\"\",InfoPro!H44)","v":"SC_1336"},{"$f":"IF(ISBLANK(InfoPro!B44),\"\",InfoPro!B44)","v":"AES Solar 4"},{"$f":"IF(ISBLANK(InfoPro!E44),\"\",InfoPro!E44)","v":300},{"$f":"IF(ISBLANK(InfoPro!C44),\"\",InfoPro!C44)","v":"2022-07-15"},{"$f":"IF(ISBLANK(InfoPro!D44),\"\",InfoPro!D44)","v":44757},{"$f":"IF(ISBLANK(InfoPro!L44),\"\",InfoPro!L44)","v":"NO"},{"$f":"'IT-TA'!H45","v":0},{"$f":"IFERROR('BT-Confi'!Y52,\"\")","v":410977.77911342983},{"$f":"IFERROR('BT-Flex'!Y52,\"\")","v":0},{"$f":"IFERROR('EC-RE'!Z52,\"\")","v":597473.57845725107},{"$f":"IFERROR('EC-RP'!Z51,\"\")","v":1360812.4342847455},{"$f":"IFERROR('EC-Per'!W51,\"\")","v":-87550.28104542564},{"$f":"IFERROR('EC-Mar'!Y51,\"\")","v":1360812.4342847455},0,{"$error":"#REF!"},{"$error":"#REF!"},{"$error":"#REF!"},{"$error":"#REF!"},{"$error":"#REF!"},{"$error":"#REF!"},{"$error":"#REF!"},""]
[{"$f":"IF(ISBLANK(InfoPro!A45),\"\",InfoPro!A45)","v":"SC_1336_A2"},{"$f":"IF(ISBLANK(InfoPro!H45),\"\",InfoPro!H45)","v":"SC_1336"},{"$f":"IF(ISBLANK(InfoPro!B45),\"\",InfoPro!B45)","v":"AES Solar 4"},{"$f":"IF(ISBLANK(InfoPro!E45),\"\",InfoPro!E45)","v":300},{"$f":"IF(ISBLANK(InfoPro!C45),\"\",InfoPro!C45)","v":"2022-07-15"},{"$f":"IF(ISBLANK(InfoPro!D45),\"\",InfoPro!D45)","v":44757},{"$f":"IF(ISBLANK(InfoPro!L45),\"\",InfoPro!L45)","v":"NO"},{"$f":"'IT-TA'!H46","v":0},{"$f":"IFERROR('BT-Confi'!Y53,\"\")","v":410977.77911342983},{"$f":"IFERROR('BT-Flex'!Y53,\"\")","v":0},{"$f":"IFERROR('EC-RE'!Z53,\"\")","v":597473.57845725107},{"$f":"IFERROR('EC-RP'!Z52,\"\")","v":1360812.4342847455},{"$f":"IFERROR('EC-Per'!W52,\"\")","v":-89947.952858188015},{"$f":"IFERROR('EC-Mar'!Y52,\"\")","v":1360812.4342847455},0,{"$error":"#REF!"},{"$error":"#REF!"},{"$error":"#REF!"},{"$error":"#REF!"},{"$error":"#REF!"},{"$error":"#REF!"},{"$error":"#REF!"},""]
[{"$f":"IF(ISBLANK(InfoPro!A46),\"\",InfoPro!A46)","v":"SC_1345_A1"},{"$f":"IF(ISBLANK(InfoPro!H46),\"\",InfoPro!H46)","v":"SC_1345"},{"$f":"IF(ISBLANK(InfoPro!B46),\"\",InfoPro!B46)","v":"Parque Eólico Jouttalein_150MW"},{"$f":"IF(ISBLANK(InfoPro!E46),\"\",InfoPro!E46)","v":150},{"$f":"IF(ISBLANK(InfoPro!C46),\"\",InfoPro!C46)","v":"2022-07-15"},{"$f":"IF(ISBLANK(InfoPro!D46),\"\",InfoPro!D46)","v":44757},{"$f":"IF(ISBLANK(InfoPro!L46),\"\",InfoPro!L46)","v":"NO"},{"$f":"'IT-TA'!H47","v":0},{"$f":"IFERROR('BT-Confi'!Y54,\"\")","v":402922.61464280664},{"$f":"IFERROR('BT-Flex'!Y54,\"\")","v":0},{"$f":"IFERROR('EC-RE'!Z54,\"\")","v":1464407.7407987218},{"$f":"IFERROR('EC-RP'!Z53,\"\")","v":3335351.2764319098},{"$f":"IFERROR('EC-Per'!W53,\"\")","v":-200335.21168306476},{"$f":"IFERROR('EC-Mar'!Y53,\"\")","v":3335351.2764319098},0,{"$error":"#REF!"},{"$error":"#REF!"},{"$error":"#REF!"},{"$error":"#REF!"},{"$error":"#REF!"},{"$error":"#REF!"},{"$error":"#REF!"},""]
[{"$f":"IF(ISBLANK(InfoPro!A47),\"\",InfoPro!A47)","v":"SC_1345_A2"},{"$f":"IF(ISBLANK(InfoPro!H47),\"\",InfoPro!H47)","v":"SC_1345"},{"$f":"IF(ISBLANK(InfoPro!B47),\"\",InfoPro!B47)","v":"Parque Eólico Jouttalein_150MW"},{"$f":"IF(ISBLANK(InfoPro!E47),\"\",InfoPro!E47)","v":150},{"$f":"IF(ISBLANK(InfoPro!C47),\"\",InfoPro!C47)","v":"2022-07-15"},{"$f":"IF(ISBLANK(InfoPro!D47),\"\",InfoPro!D47)","v":44757},{"$f":"IF(ISBLANK(InfoPro!L47),\"\",InfoPro!L47)","v":"NO"},{"$f":"'IT-TA'!H48","v":0},{"$f":"IFERROR('BT-Confi'!Y55,\"\")","v":402922.61464280664},{"$f":"IFERROR('BT-Flex'!Y55,\"\")","v":0},{"$f":"IFERROR('EC-RE'!Z55,\"\")","v":1464407.7407987218},{"$f":"IFERROR('EC-RP'!Z54,\"\")","v":3335351.2764319098},{"$f":"IFERROR('EC-Per'!W54,\"\")","v":-232502.37672308463},{"$f":"IFERROR('EC-Mar'!Y54,\"\")","v":3335351.2764319098},0,{"$error":"#REF!"},{"$error":"#REF!"},{"$error":"#REF!"},{"$error":"#REF!"},{"$error":"#REF!"},{"$error":"#REF!"},{"$error":"#REF!"},""]
[{"$f":"IF(ISBLANK(InfoPro!A48),\"\",InfoPro!A48)","v":"SC_1347_A1"},{"$f":"IF(ISBLANK(InfoPro!H48),\"\",InfoPro!H48)","v":"SC_1347"},{"$f":"IF(ISBLANK(InfoPro!B48),\"\",InfoPro!B48)","v":"AES Solar 5_100MW"},{"$f":"IF(ISBLANK(InfoPro!E48),\"\",InfoPro!E48)","v":100},{"$f":"IF(ISBLANK(InfoPro!C48),\"\",InfoPro!C48)","v":"2022-07-15"},{"$f":"IF(ISBLANK(InfoPro!D48),\"\",InfoPro!D48)","v":44757},{"$f":"IF(ISBLANK(InfoPro!L48),\"\",InfoPro!L48)","v":"NO"},{"$f":"'IT-TA'!H49","v":0},{"$f":"IFERROR('BT-Confi'!Y56,\"\")","v":410977.77911342977},{"$f":"IFERROR('BT-Flex'!Y56,\"\")","v":0},{"$f":"IFERROR('EC-RE'!Z56,\"\")","v":597473.57845725096},{"$f":"IFERROR('EC-RP'!Z55,\"\")","v":1360812.4342847452},{"$f":"IFERROR('EC-Per'!W55,\"\")","v":-138994.44538101813},{"$f":"IFERROR('EC-Mar'!Y55,\"\")","v":1360812.4342847452},0,{"$error":"#REF!"},{"$error":"#REF!"},{"$error":"#REF!"},{"$error":"#REF!"},{"$error":"#REF!"},{"$error":"#REF!"},{"$error":"#REF!"},""]
[{"$f":"IF(ISBLANK(InfoPro!A49),\"\",InfoPro!A49)","v":"SC_1347_A2"},{"$f":"IF(ISBLANK(InfoPro!H49),\"\",InfoPro!H49)","v":"SC_1347"},{"$f":"IF(ISBLANK(InfoPro!B49),\"\",InfoPro!B49)","v":"AES Solar 5_100MW"},{"$f":"IF(ISBLANK(InfoPro!E49),\"\",InfoPro!E49)","v":100},{"$f":"IF(ISBLANK(InfoPro!C49),\"\",InfoPro!C49)","v":"2022-07-15"},{"$f":"IF(ISBLANK(InfoPro!D49),\"\",InfoPro!D49)","v":44757},{"$f":"IF(ISBLANK(InfoPro!L49),\"\",InfoPro!L49)","v":"NO"},{"$f":"'IT-TA'!H50","v":0},{"$f":"IFERROR('BT-Confi'!Y57,\"\")","v":410977.77911342977},{"$f":"IFERROR('BT-Flex'!Y57,\"\")","v":0},{"$f":"IFERROR('EC-RE'!Z57,\"\")","v":597473.57845725096},{"$f":"IFERROR('EC-RP'!Z56,\"\")","v":1360812.4342847452},{"$f":"IFERROR('EC-Per'!W56,\"\")","v":-138465.54718702642},{"$f":"IFERROR('EC-Mar'!Y56,\"\")","v":1360812.4342847452},0,{"$error":"#REF!"},{"$error":"#REF!"},{"$error":"#REF!"},{"$error":"#REF!"},{"$error":"#REF!"},{"$error":"#REF!"},{"$error":"#REF!"},""]
[{"$f":"IF(ISBLANK(InfoPro!A50),\"\",InfoPro!A50)","v":"SC_1355_A1"},{"$f":"IF(ISBLANK(InfoPro!H50),\"\",InfoPro!H50)","v":"SC_1355"},{"$f":"IF(ISBLANK(InfoPro!B50),\"\",InfoPro!B50)","v":"Barlovento 1"},{"$f":"IF(ISBLANK(InfoPro!E50),\"\",InfoPro!E50)","v":500},{"$f":"IF(ISBLANK(InfoPro!C50),\"\",InfoPro!C50)","v":"2022-08-09T17:16:00"},{"$f":"IF(ISBLANK(InfoPro!D50),\"\",InfoPro!D50)","v":44782.719444444447},{"$f":"IF(ISBLANK(InfoPro!L50),\"\",InfoPro!L50)","v":"SI"},{"$f":"'IT-TA'!H51","v":0},{"$f":"IFERROR('BT-Confi'!Y58,\"\")","v":147654.06626359798},{"$f":"IFERROR('BT-Flex'!Y58,\"\")","v":0},{"$f":"IFERROR('EC-RE'!Z58,\"\")","v":536643.38942232309},{"$f":"IFERROR('EC-RP'!Z57,\"\")","v":1222264.9225565018},{"$f":"IFERROR('EC-Per'!W57,\"\")","v":-84798.594837713579},{"$f":"IFERROR('EC-Mar'!Y57,\"\")","v":1222264.9225565018},0,{"$error":"#REF!"},{"$error":"#REF!"},{"$error":"#REF!"},{"$error":"#REF!"},{"$error":"#REF!"},{"$error":"#REF!"},{"$error":"#REF!"},""]
[{"$f":"IF(ISBLANK(InfoPro!A51),\"\",InfoPro!A51)","v":"SC_1356_A1"},{"$f":"IF(ISBLANK(InfoPro!H51),\"\",InfoPro!H51)","v":"SC_1356"},{"$f":"IF(ISBLANK(InfoPro!B51),\"\",InfoPro!B51)","v":"Sol de Zawady 9,9 MW"},{"$f":"IF(ISBLANK(InfoPro!E51),\"\",InfoPro!E51)","v":9.9},{"$f":"IF(ISBLANK(InfoPro!C51),\"\",InfoPro!C51)","v":"2022-07-15"},{"$f":"IF(ISBLANK(InfoPro!D51),\"\",InfoPro!D51)","v":44757},{"$f":"IF(ISBLANK(InfoPro!L51),\"\",InfoPro!L51)","v":"NO"},{"$f":"'IT-TA'!H52","v":0},{"$f":"IFERROR('BT-Confi'!Y59,\"\")","v":513690.98958057474},{"$f":"IFERROR('BT-Flex'!Y59,\"\")","v":0},{"$f":"IFERROR('EC-RE'!Z59,\"\")","v":746796.56507960113},{"$f":"IFERROR('EC-RP'!Z58,\"\")","v":1700912.1211109257},{"$f":"IFERROR('EC-Per'!W58,\"\")","v":-86808.819201509279},{"$f":"IFERROR('EC-Mar'!Y58,\"\")","v":1700912.1211109257},0,{"$error":"#REF!"},{"$error":"#REF!"},{"$error":"#REF!"},{"$error":"#REF!"},{"$error":"#REF!"},{"$error":"#REF!"},{"$error":"#REF!"},""]
[{"$f":"IF(ISBLANK(InfoPro!A52),\"\",InfoPro!A52)","v":"SC_1356_A2"},{"$f":"IF(ISBLANK(InfoPro!H52),\"\",InfoPro!H52)","v":"SC_1356"},{"$f":"IF(ISBLANK(InfoPro!B52),\"\",InfoPro!B52)","v":"Sol de Zawady 9,9 MW"},{"$f":"IF(ISBLANK(InfoPro!E52),\"\",InfoPro!E52)","v":9.9},{"$f":"IF(ISBLANK(InfoPro!C52),\"\",InfoPro!C52)","v":"2022-07-15"},{"$f":"IF(ISBLANK(InfoPro!D52),\"\",InfoPro!D52)","v":44757},{"$f":"IF(ISBLANK(InfoPro!L52),\"\",InfoPro!L52)","v":"NO"},{"$f":"'IT-TA'!H53","v":0},{"$f":"IFERROR('BT-Confi'!Y60,\"\")","v":513690.98958057474},{"$f":"IFERROR('BT-Flex'!Y60,\"\")","v":0},{"$f":"IFERROR('EC-RE'!Z60,\"\")","v":746796.56507960113},{"$f":"IFERROR('EC-RP'!Z59,\"\")","v":1700912.1211109257},{"$f":"IFERROR('EC-Per'!W59,\"\")","v":-92150.900383140615},{"$f":"IFERROR('EC-Mar'!Y59,\"\")","v":1700912.1211109257},0,{"$error":"#REF!"},{"$error":"#REF!"},{"$error":"#REF!"},{"$error":"#REF!"},{"$error":"#REF!"},{"$error":"#REF!"},{"$error":"#REF!"},""]
[{"$f":"IF(ISBLANK(InfoPro!A53),\"\",InfoPro!A53)","v":"SC_1366_A1"},{"$f":"IF(ISBLANK(InfoPro!H53),\"\",InfoPro!H53)","v":"SC_1366"},{"$f":"IF(ISBLANK(InfoPro!B53),\"\",InfoPro!B53)","v":"PARQUE SOLAR TÁNGARA 100 MW"},{"$f":"IF(ISBLANK(InfoPro!E53),\"\",InfoPro!E53)","v":100},{"$f":"IF(ISBLANK(InfoPro!C53),\"\",InfoPro!C53)","v":"2022-07-15"},{"$f":"IF(ISBLANK(InfoPro!D53),\"\",InfoPro!D53)","v":44757},{"$f":"IF(ISBLANK(InfoPro!L53),\"\",InfoPro!L53)","v":"NO"},{"$f":"'IT-TA'!H54","v":0},{"$f":"IFERROR('BT-Confi'!Y61,\"\")","v":410977.77911342977},{"$f":"IFERROR('BT-Flex'!Y61,\"\")","v":0},{"$f":"IFERROR('EC-RE'!Z61,\"\")","v":597473.57845725096},{"$f":"IFERROR('EC-RP'!Z60,\"\")","v":1360812.4342847452},{"$f":"IFERROR('EC-Per'!W60,\"\")","v":-79969.406931544669},{"$f":"IFERROR('EC-Mar'!Y60,\"\")","v":1360812.4342847452},0,{"$error":"#REF!"},{"$error":"#REF!"},{"$error":"#REF!"},{"$error":"#REF!"},{"$error":"#REF!"},{"$error":"#REF!"},{"$error":"#REF!"},""]
[{"$f":"IF(ISBLANK(InfoPro!A54),\"\",InfoPro!A54)","v":"SC_1376_A1"},{"$f":"IF(ISBLANK(InfoPro!H54),\"\",InfoPro!H54)","v":"SC_1376"},{"$f":"IF(ISBLANK(InfoPro!B54),\"\",InfoPro!B54)","v":"Expansión La Loma I - 100 MW"},{"$f":"IF(ISBLANK(InfoPro!E54),\"\",InfoPro!E54)","v":100},{"$f":"IF(ISBLANK(InfoPro!C54),\"\",InfoPro!C54)","v":"2022-07-18T18:30:00"},{"$f":"IF(ISBLANK(InfoPro!D54),\"\",InfoPro!D54)","v":44760.770833333336},{"$f":"IF(ISBLANK(InfoPro!L54),\"\",InfoPro!L54)","v":"NO"},{"$f":"'IT-TA'!H55","v":0},{"$f":"IFERROR('BT-Confi'!Y62,\"\")","v":367600.87577229866},{"$f":"IFERROR('BT-Flex'!Y62,\"\")","v":0},{"$f":"IFERROR('EC-RE'!Z62,\"\")","v":534412.86087410641},{"$f":"IFERROR('EC-RP'!Z61,\"\")","v":1217184.6460507561},{"$f":"IFERROR('EC-Per'!W61,\"\")","v":-47875.22113771001},{"$f":"IFERROR('EC-Mar'!Y61,\"\")","v":1217184.6460507561},0,{"$error":"#REF!"},{"$error":"#REF!"},{"$error":"#REF!"},{"$error":"#REF!"},{"$error":"#REF!"},{"$error":"#REF!"},{"$error":"#REF!"},""]
[{"$f":"IF(ISBLANK(InfoPro!A55),\"\",InfoPro!A55)","v":"SC_1376_A2"},{"$f":"IF(ISBLANK(InfoPro!H55),\"\",InfoPro!H55)","v":"SC_1376"},{"$f":"IF(ISBLANK(InfoPro!B55),\"\",InfoPro!B55)","v":"Expansión La Loma I - 100 MW"},{"$f":"IF(ISBLANK(InfoPro!E55),\"\",InfoPro!E55)","v":100},{"$f":"IF(ISBLANK(InfoPro!C55),\"\",InfoPro!C55)","v":"2022-07-18T18:30:00"},{"$f":"IF(ISBLANK(InfoPro!D55),\"\",InfoPro!D55)","v":44760.770833333336},{"$f":"IF(ISBLANK(InfoPro!L55),\"\",InfoPro!L55)","v":"NO"},{"$f":"'IT-TA'!H56","v":0},{"$f":"IFERROR('BT-Confi'!Y63,\"\")","v":367600.87577229866},{"$f":"IFERROR('BT-Flex'!Y63,\"\")","v":0},{"$f":"IFERROR('EC-RE'!Z63,\"\")","v":534412.86087410641},{"$f":"IFERROR('EC-RP'!Z62,\"\")","v":1217184.6460507561},{"$f":"IFERROR('EC-Per'!W62,\"\")","v":-43617.543368546067},{"$f":"IFERROR('EC-Mar'!Y62,\"\")","v":1217184.6460507561},0,{"$error":"#REF!"},{"$error":"#REF!"},{"$error":"#REF!"},{"$error":"#REF!"},{"$error":"#REF!"},{"$error":"#REF!"},{"$error":"#REF!"},""]
[{"$f":"IF(ISBLANK(InfoPro!A56),\"\",InfoPro!A56)","v":"SC_1377_A1"},{"$f":"IF(ISBLANK(InfoPro!H56),\"\",InfoPro!H56)","v":"SC_1377"},{"$f":"IF(ISBLANK(InfoPro!B56),\"\",InfoPro!B56)","v":"Eólica Cordobita - 50MW"},{"$f":"IF(ISBLANK(InfoPro!E56),\"\",InfoPro!E56)","v":50},{"$f":"IF(ISBLANK(InfoPro!C56),\"\",InfoPro!C56)","v":"2022-08-01T18:31:00"},{"$f":"IF(ISBLANK(InfoPro!D56),\"\",InfoPro!D56)","v":44774.771527777775},{"$f":"IF(ISBLANK(InfoPro!L56),\"\",InfoPro!L56)","v":"NO"},{"$f":"'IT-TA'!H57","v":0},{"$f":"IFERROR('BT-Confi'!Y64,\"\")","v":322357.69106186187},{"$f":"IFERROR('BT-Flex'!Y64,\"\")","v":0},{"$f":"IFERROR('EC-RE'!Z64,\"\")","v":1171597.4257624641},{"$f":"IFERROR('EC-RP'!Z63,\"\")","v":2668443.2624958879},{"$f":"IFERROR('EC-Per'!W63,\"\")","v":-378.4602461479052},{"$f":"IFERROR('EC-Mar'!Y63,\"\")","v":2668443.2624958879},0,{"$error":"#REF!"},{"$error":"#REF!"},{"$error":"#REF!"},{"$error":"#REF!"},{"$error":"#REF!"},{"$error":"#REF!"},{"$error":"#REF!"},""]
[{"$f":"IF(ISBLANK(InfoPro!A57),\"\",InfoPro!A57)","v":"SC_1377_A2"},{"$f":"IF(ISBLANK(InfoPro!H57),\"\",InfoPro!H57)","v":"SC_1377"},{"$f":"IF(ISBLANK(InfoPro!B57),\"\",InfoPro!B57)","v":"Eólica Cordobita - 50MW"},{"$f":"IF(ISBLANK(InfoPro!E57),\"\",InfoPro!E57)","v":50},{"$f":"IF(ISBLANK(InfoPro!C57),\"\",InfoPro!C57)","v":"2022-08-01T18:31:00"},{"$f":"IF(ISBLANK(InfoPro!D57),\"\",InfoPro!D57)","v":44774.771527777775},{"$f":"IF(ISBLANK(InfoPro!L57),\"\",InfoPro!L57)","v":"NO"},{"$f":"'IT-TA'!H58","v":0},{"$f":"IFERROR('BT-Confi'!Y65,\"\")","v":322357.69106186187},{"$f":"IFERROR('BT-Flex'!Y65,\"\")","v":0},{"$f":"IFERROR('EC-RE'!Z65,\"\")","v":1171597.4257624641},{"$f":"IFERROR('EC-RP'!Z64,\"\")","v":2668443.2624958879},{"$f":"IFERROR('EC-Per'!W64,\"\")","v":-28195.288338018938},{"$f":"IFERROR('EC-Mar'!Y64,\"\")","v":2668443.2624958879},0,{"$error":"#REF!"},{"$error":"#REF!"},{"$error":"#REF!"},{"$error":"#REF!"},{"$error":"#REF!"},{"$error":"#REF!"},{"$error":"#REF!"},""]
[{"$f":"IF(ISBLANK(InfoPro!A58),\"\",InfoPro!A58)","v":"SC_1380_A1"},{"$f":"IF(ISBLANK(InfoPro!H58),\"\",InfoPro!H58)","v":"SC_1380"},{"$f":"IF(ISBLANK(InfoPro!B58),\"\",InfoPro!B58)","v":"Parque Eólico Motosira"},{"$f":"IF(ISBLANK(InfoPro!E58),\"\",InfoPro!E58)","v":300},{"$f":"IF(ISBLANK(InfoPro!C58),\"\",InfoPro!C58)","v":"2022-07-17"},{"$f":"IF(ISBLANK(InfoPro!D58),\"\",InfoPro!D58)","v":44759},{"$f":"IF(ISBLANK(InfoPro!L58),\"\",InfoPro!L58)","v":"NO"},{"$f":"'IT-TA'!H59","v":0},{"$f":"IFERROR('BT-Confi'!Y66,\"\")","v":360395.89860716154},{"$f":"IFERROR('BT-Flex'!Y66,\"\")","v":0},{"$f":"IFERROR('EC-RE'!Z66,\"\")","v":1309845.9220024347},{"$f":"IFERROR('EC-RP'!Z65,\"\")","v":2983319.567470402},{"$f":"IFERROR('EC-Per'!W65,\"\")","v":-590166.99487948173},{"$f":"IFERROR('EC-Mar'!Y65,\"\")","v":2983319.567470402},0,{"$error":"#REF!"},{"$error":"#REF!"},{"$error":"#REF!"},{"$error":"#REF!"},{"$error":"#REF!"},{"$error":"#REF!"},{"$error":"#REF!"},""]
[{"$f":"IF(ISBLANK(InfoPro!A59),\"\",InfoPro!A59)","v":"SC_1380_A2"},{"$f":"IF(ISBLANK(InfoPro!H59),\"\",InfoPro!H59)","v":"SC_1380"},{"$f":"IF(ISBLANK(InfoPro!B59),\"\",InfoPro!B59)","v":"Parque Eólico Motosira"},{"$f":"IF(ISBLANK(InfoPro!E59),\"\",InfoPro!E59)","v":300},{"$f":"IF(ISBLANK(InfoPro!C59),\"\",InfoPro!C59)","v":"2022-07-17"},{"$f":"IF(ISBLANK(InfoPro!D59),\"\",InfoPro!D59)","v":44759},{"$f":"IF(ISBLANK(InfoPro!L59),\"\",InfoPro!L59)","v":"SI"},{"$f":"'IT-TA'!H60","v":0},{"$f":"IFERROR('BT-Confi'!Y67,\"\")","v":360395.89860716154},{"$f":"IFERROR('BT-Flex'!Y67,\"\")","v":0},{"$f":"IFERROR('EC-RE'!Z67,\"\")","v":1309845.9220024347},{"$f":"IFERROR('EC-RP'!Z66,\"\")","v":2983319.567470402},{"$f":"IFERROR('EC-Per'!W66,\"\")","v":-181443.81443079177},{"$f":"IFERROR('EC-Mar'!Y66,\"\")","v":2983319.567470402},0,{"$error":"#REF!"},{"$error":"#REF!"},{"$error":"#REF!"},{"$error":"#REF!"},{"$error":"#REF!"},{"$error":"#REF!"},{"$error":"#REF!"},""]
[{"$f":"IF(ISBLANK(InfoPro!A60),\"\",InfoPro!A60)","v":"SC_1421_A1"},{"$f":"IF(ISBLANK(InfoPro!H60),\"\",InfoPro!H60)","v":"SC_1421"},{"$f":"IF(ISBLANK(InfoPro!B60),\"\",InfoPro!B60)","v":"Parque Solar Fotovoltaico SJ Solar 100 MW"},{"$f":"IF(ISBLANK(InfoPro!E60),\"\",InfoPro!E60)","v":100},{"$f":"IF(ISBLANK(InfoPro!C60),\"\",InfoPro!C60)","v":"2022-07-16"},{"$f":"IF(ISBLANK(InfoPro!D60),\"\",InfoPro!D60)","v":44758},{"$f":"IF(ISBLANK(InfoPro!L60),\"\",InfoPro!L60)","v":"NO"},{"$f":"'IT-TA'!H61","v":0},{"$f":"IFERROR('BT-Confi'!Y68,\"\")","v":410977.77911342977},{"$f":"IFERROR('BT-Flex'!Y68,\"\")","v":0},{"$f":"IFERROR('EC-RE'!Z68,\"\")","v":597473.57845725096},{"$f":"IFERROR('EC-RP'!Z67,\"\")","v":1360812.4342847452},{"$f":"IFERROR('EC-Per'!W67,\"\")","v":-24858.215117609787},{"$f":"IFERROR('EC-Mar'!Y67,\"\")","v":1360812.4342847452},0,{"$error":"#REF!"},{"$error":"#REF!"},{"$error":"#REF!"},{"$error":"#REF!"},{"$error":"#REF!"},{"$error":"#REF!"},{"$error":"#REF!"},""]
[{"$f":"IF(ISBLANK(InfoPro!A61),\"\",InfoPro!A61)","v":"SC_1421_A2"},{"$f":"IF(ISBLANK(InfoPro!H61),\"\",InfoPro!H61)","v":"SC_1421"},{"$f":"IF(ISBLANK(InfoPro!B61),\"\",InfoPro!B61)","v":"Parque Solar Fotovoltaico SJ Solar 100 MW"},{"$f":"IF(ISBLANK(InfoPro!E61),\"\",InfoPro!E61)","v":100},{"$f":"IF(ISBLANK(InfoPro!C61),\"\",InfoPro!C61)","v":"2022-07-16"},{"$f":"IF(ISBLANK(InfoPro!D61),\"\",InfoPro!D61)","v":44758},{"$f":"IF(ISBLANK(InfoPro!L61),\"\",InfoPro!L61)","v":"NO"},{"$f":"'IT-TA'!H62","v":0},{"$f":"IFERROR('BT-Confi'!Y69,\"\")","v":410977.77911342977},{"$f":"IFERROR('BT-Flex'!Y69,\"\")","v":0},{"$f":"IFERROR('EC-RE'!Z69,\"\")","v":597473.57845725096},{"$f":"IFERROR('EC-RP'!Z68,\"\")","v":1360812.4342847452},{"$f":"IFERROR('EC-Per'!W68,\"\")","v":-40830.940576159046},{"$f":"IFERROR('EC-Mar'!Y68,\"\")","v":1360812.4342847452},0,{"$error":"#REF!"},{"$error":"#REF!"},{"$error":"#REF!"},{"$error":"#REF!"},{"$error":"#REF!"},{"$error":"#REF!"},{"$error":"#REF!"},""]
[{"$f":"IF(ISBLANK(InfoPro!A62),\"\",InfoPro!A62)","v":"SC_1479_A1"},{"$f":"IF(ISBLANK(InfoPro!H62),\"\",InfoPro!H62)","v":"SC_1479"},{"$f":"IF(ISBLANK(InfoPro!B62),\"\",InfoPro!B62)","v":"Oslo I_150MW"},{"$f":"IF(ISBLANK(InfoPro!E62),\"\",InfoPro!E62)","v":150},{"$f":"IF(ISBLANK(InfoPro!C62),\"\",InfoPro!C62)","v":"2022-07-16"},{"$f":"IF(ISBLANK(InfoPro!D62),\"\",InfoPro!D62)","v":44758},{"$f":"IF(ISBLANK(InfoPro!L62),\"\",InfoPro!L62)","v":"NO"},{"$f":"'IT-TA'!H63","v":0},{"$f":"IFERROR('BT-Confi'!Y70,\"\")","v":410977.77911342983},{"$f":"IFERROR('BT-Flex'!Y70,\"\")","v":0},{"$f":"IFERROR('EC-RE'!Z70,\"\")","v":597473.57845725107},{"$f":"IFERROR('EC-RP'!Z69,\"\")","v":1360812.4342847455},{"$f":"IFERROR('EC-Per'!W69,\"\")","v":-490041.80667310738},{"$f":"IFERROR('EC-Mar'!Y69,\"\")","v":1360812.4342847455},0,{"$error":"#REF!"},{"$error":"#REF!"},{"$error":"#REF!"},{"$error":"#REF!"},{"$error":"#REF!"},{"$error":"#REF!"},{"$error":"#REF!"},""]
[{"$f":"IF(ISBLANK(InfoPro!A63),\"\",InfoPro!A63)","v":"SC_1479_A2"},{"$f":"IF(ISBLANK(InfoPro!H63),\"\",InfoPro!H63)","v":"SC_1479"},{"$f":"IF(ISBLANK(InfoPro!B63),\"\",InfoPro!B63)","v":"Oslo I_150MW"},{"$f":"IF(ISBLANK(InfoPro!E63),\"\",InfoPro!E63)","v":150},{"$f":"IF(ISBLANK(InfoPro!C63),\"\",InfoPro!C63)","v":"2022-07-16"},{"$f":"IF(ISBLANK(InfoPro!D63),\"\",InfoPro!D63)","v":44758},{"$f":"IF(ISBLANK(InfoPro!L63),\"\",InfoPro!L63)","v":"NO"},{"$f":"'IT-TA'!H64","v":0},{"$f":"IFERROR('BT-Confi'!Y71,\"\")","v":410977.77911342983},{"$f":"IFERROR('BT-Flex'!Y71,\"\")","v":0},{"$f":"IFERROR('EC-RE'!Z71,\"\")","v":597473.57845725107},{"$f":"IFERROR('EC-RP'!Z70,\"\")","v":1360812.4342847455},{"$f":"IFERROR('EC-Per'!W70,\"\")","v":-504145.75851288607},{"$f":"IFERROR('EC-Mar'!Y70,\"\")","v":1360812.4342847455},0,{"$error":"#REF!"},{"$error":"#REF!"},{"$error":"#REF!"},{"$error":"#REF!"},{"$error":"#REF!"},{"$error":"#REF!"},{"$error":"#REF!"},""]
[{"$f":"IF(ISBLANK(InfoPro!A64),\"\",InfoPro!A64)","v":"SC_1506_A1"},{"$f":"IF(ISBLANK(InfoPro!H64),\"\",InfoPro!H64)","v":"SC_1506"},{"$f":"IF(ISBLANK(InfoPro!B64),\"\",InfoPro!B64)","v":"Parque Solar Toro Moreno"},{"$f":"IF(ISBLANK(InfoPro!E64),\"\",InfoPro!E64)","v":99.9},{"$f":"IF(ISBLANK(InfoPro!C64),\"\",InfoPro!C64)","v":"2022-11-04T17:59:00"},{"$f":"IF(ISBLANK(InfoPro!D64),\"\",InfoPro!D64)","v":44869.749305555553},{"$f":"IF(ISBLANK(InfoPro!L64),\"\",InfoPro!L64)","v":"NO"},{"$f":"'IT-TA'!H65","v":0},{"$f":"IFERROR('BT-Confi'!Y72,\"\")","v":717839.51064285031},{"$f":"IFERROR('BT-Flex'!Y72,\"\")","v":0},{"$f":"IFERROR('EC-RE'!Z72,\"\")","v":1043584.7458882004},{"$f":"IFERROR('EC-RP'!Z71,\"\")","v":2376880.1661514114},{"$f":"IFERROR('EC-Per'!W71,\"\")","v":-107139.38219481803},{"$f":"IFERROR('EC-Mar'!Y71,\"\")","v":2376880.1661514114},0,{"$error":"#REF!"},{"$error":"#REF!"},{"$error":"#REF!"},{"$error":"#REF!"},{"$error":"#REF!"},{"$error":"#REF!"},{"$error":"#REF!"},""]
[{"$f":"IF(ISBLANK(InfoPro!A65),\"\",InfoPro!A65)","v":"SC_1506_A2"},{"$f":"IF(ISBLANK(InfoPro!H65),\"\",InfoPro!H65)","v":"SC_1506"},{"$f":"IF(ISBLANK(InfoPro!B65),\"\",InfoPro!B65)","v":"Parque Solar Toro Moreno"},{"$f":"IF(ISBLANK(InfoPro!E65),\"\",InfoPro!E65)","v":99.9},{"$f":"IF(ISBLANK(InfoPro!C65),\"\",InfoPro!C65)","v":"2022-11-04T17:59:00"},{"$f":"IF(ISBLANK(InfoPro!D65),\"\",InfoPro!D65)","v":44869.749305555553},{"$f":"IF(ISBLANK(InfoPro!L65),\"\",InfoPro!L65)","v":"NO"},{"$f":"'IT-TA'!H66","v":0},{"$f":"IFERROR('BT-Confi'!Y73,\"\")","v":717839.51064285031},{"$f":"IFERROR('BT-Flex'!Y73,\"\")","v":0},{"$f":"IFERROR('EC-RE'!Z73,\"\")","v":1043584.7458882004},{"$f":"IFERROR('EC-RP'!Z72,\"\")","v":2376880.1661514114},{"$f":"IFERROR('EC-Per'!W72,\"\")","v":-135066.27104587539},{"$f":"IFERROR('EC-Mar'!Y72,\"\")","v":2376880.1661514114},{"$f":"IF(C68=\"\",\"\",(SUMIF(I68:N68,\">0\"))*(H68/100))","v":0},{"$f":"IF(C68=\"\",\"\",I68+$B$1)","v":{"$error":"#REF!"}},{"$f":"IF(D68=\"\",\"\",J68+$B$1)","v":{"$error":"#REF!"}},{"$f":"IF(E68=\"\",\"\",K68+$B$1)","v":{"$error":"#REF!"}},{"$f":"IF(F68=\"\",\"\",L68+$B$1)","v":{"$error":"#REF!"}},{"$f":"IF(G68=\"\",\"\",M68+$B$1)","v":{"$error":"#REF!"}},{"$f":"IF(H68=\"\",\"\",N68+$B$1)","v":{"$error":"#REF!"}},{"$f":"IF(I68=\"\",\"\",O68+$B$1)","v":{"$error":"#REF!"}},{"$f":"IFERROR((+$P$1*P68+$Q$1*Q68+$R$1*R68+$S$1*S68+$T$1*T68+U68*$U$1+$V$1*V68),\"\")","v":""}]
[{"$f":"IF(ISBLANK(InfoPro!A66),\"\",InfoPro!A66)","v":"SC_1512_A1"},{"$f":"IF(ISBLANK(InfoPro!H66),\"\",InfoPro!H66)","v":"SC_1512"},{"$f":"IF(ISBLANK(InfoPro!B66),\"\",InfoPro!B66)","v":"El Flamingo\n  - 200 MW"},{"$f":"IF(ISBLANK(InfoPro!E66),\"\",InfoPro!E66)","v":200},{"$f":"IF(ISBLANK(InfoPro!C66),\"\",InfoPro!C66)","v":"2022-07-18"},{"$f":"IF(ISBLANK(InfoPro!D66),\"\",InfoPro!D66)","v":44760},{"$f":"IF(ISBLANK(InfoPro!L66),\"\",InfoPro!L66)","v":"NO"},{"$f":"'IT-TA'!H67","v":0},{"$f":"IFERROR('BT-Confi'!Y74,\"\")","v":367600.87577229866},{"$f":"IFERROR('BT-Flex'!Y74,\"\")","v":0},{"$f":"IFERROR('EC-RE'!Z74,\"\")","v":534412.86087410641},{"$f":"IFERROR('EC-RP'!Z73,\"\")","v":1217184.6460507561},{"$f":"IFERROR('EC-Per'!W73,\"\")","v":-241126.48432698409},{"$f":"IFERROR('EC-Mar'!Y73,\"\")","v":1217184.6460507561},0,{"$error":"#REF!"},{"$error":"#REF!"},{"$error":"#REF!"},{"$error":"#REF!"},{"$error":"#REF!"},{"$error":"#REF!"},{"$error":"#REF!"},""]
[{"$f":"IF(ISBLANK(InfoPro!A67),\"\",InfoPro!A67)","v":"SC_1512_A2"},{"$f":"IF(ISBLANK(InfoPro!H67),\"\",InfoPro!H67)","v":"SC_1512"},{"$f":"IF(ISBLANK(InfoPro!B67),\"\",InfoPro!B67)","v":"El Flamingo\n  - 200 MW"},{"$f":"IF(ISBLANK(InfoPro!E67),\"\",InfoPro!E67)","v":200},{"$f":"IF(ISBLANK(InfoPro!C67),\"\",InfoPro!C67)","v":"2022-07-18"},{"$f":"IF(ISBLANK(InfoPro!D67),\"\",InfoPro!D67)","v":44760},{"$f":"IF(ISBLANK(InfoPro!L67),\"\",InfoPro!L67)","v":"NO"},{"$f":"'IT-TA'!H68","v":0},{"$f":"IFERROR('BT-Confi'!Y75,\"\")","v":367600.87577229866},{"$f":"IFERROR('BT-Flex'!Y75,\"\")","v":0},{"$f":"IFERROR('EC-RE'!Z75,\"\")","v":534412.86087410641},{"$f":"IFERROR('EC-RP'!Z74,\"\")","v":1217184.6460507561},{"$f":"IFERROR('EC-Per'!W74,\"\")","v":-205078.14588139614},{"$f":"IFERROR('EC-Mar'!Y74,\"\")","v":1217184.6460507561},0,{"$error":"#REF!"},{"$error":"#REF!"},{"$error":"#REF!"},{"$error":"#REF!"},{"$error":"#REF!"},{"$error":"#REF!"},{"$error":"#REF!"},""]
[{"$f":"IF(ISBLANK(InfoPro!A68),\"\",InfoPro!A68)","v":"SC_1518_A1"},{"$f":"IF(ISBLANK(InfoPro!H68),\"\",InfoPro!H68)","v":"SC_1518"},{"$f":"IF(ISBLANK(InfoPro!B68),\"\",InfoPro!B68)","v":"CHIRIGUANÁ - 300 MW"},{"$f":"IF(ISBLANK(InfoPro!E68),\"\",InfoPro!E68)","v":300},{"$f":"IF(ISBLANK(InfoPro!C68),\"\",InfoPro!C68)","v":"2022-07-18"},{"$f":"IF(ISBLANK(InfoPro!D68),\"\",InfoPro!D68)","v":44760},{"$f":"IF(ISBLANK(InfoPro!L68),\"\",InfoPro!L68)","v":"NO"},{"$f":"'IT-TA'!H69","v":0},{"$f":"IFERROR('BT-Confi'!Y76,\"\")","v":367600.8757722986},{"$f":"IFERROR('BT-Flex'!Y76,\"\")","v":0},{"$f":"IFERROR('EC-RE'!Z76,\"\")","v":534412.86087410664},{"$f":"IFERROR('EC-RP'!Z75,\"\")","v":1217184.6460507561},{"$f":"IFERROR('EC-Per'!W75,\"\")","v":-109658.85632135555},{"$f":"IFERROR('EC-Mar'!Y75,\"\")","v":1217184.6460507561},0,{"$error":"#REF!"},{"$error":"#REF!"},{"$error":"#REF!"},{"$error":"#REF!"},{"$error":"#REF!"},{"$error":"#REF!"},{"$error":"#REF!"},""]
[{"$f":"IF(ISBLANK(InfoPro!A69),\"\",InfoPro!A69)","v":"SC_1518_A2"},{"$f":"IF(ISBLANK(InfoPro!H69),\"\",InfoPro!H69)","v":"SC_1518"},{"$f":"IF(ISBLANK(InfoPro!B69),\"\",InfoPro!B69)","v":"CHIRIGUANÁ - 300 MW"},{"$f":"IF(ISBLANK(InfoPro!E69),\"\",InfoPro!E69)","v":300},{"$f":"IF(ISBLANK(InfoPro!C69),\"\",InfoPro!C69)","v":"2022-07-18"},{"$f":"IF(ISBLANK(InfoPro!D69),\"\",InfoPro!D69)","v":44760},{"$f":"IF(ISBLANK(InfoPro!L69),\"\",InfoPro!L69)","v":"NO"},{"$f":"'IT-TA'!H70","v":0},{"$f":"IFERROR('BT-Confi'!Y77,\"\")","v":367600.8757722986},{"$f":"IFERROR('BT-Flex'!Y77,\"\")","v":0},{"$f":"IFERROR('EC-RE'!Z77,\"\")","v":534412.86087410664},{"$f":"IFERROR('EC-RP'!Z76,\"\")","v":1217184.6460507561},{"$f":"IFERROR('EC-Per'!W76,\"\")","v":-104928.10324450675},{"$f":"IFERROR('EC-Mar'!Y76,\"\")","v":1217184.6460507561},0,{"$error":"#REF!"},{"$error":"#REF!"},{"$error":"#REF!"},{"$error":"#REF!"},{"$error":"#REF!"},{"$error":"#REF!"},{"$error":"#REF!"},""]
[{"$f":"IF(ISBLANK(InfoPro!A70),\"\",InfoPro!A70)","v":"SC_1531_A1"},{"$f":"IF(ISBLANK(InfoPro!H70),\"\",InfoPro!H70)","v":"SC_1531"},{"$f":"IF(ISBLANK(InfoPro!B70),\"\",InfoPro!B70)","v":"Haticos_56MW"},{"$f":"IF(ISBLANK(InfoPro!E70),\"\",InfoPro!E70)","v":56},{"$f":"IF(ISBLANK(InfoPro!C70),\"\",InfoPro!C70)","v":"2022-09-01"},{"$f":"IF(ISBLANK(InfoPro!D70),\"\",InfoPro!D70)","v":44760},{"$f":"IF(ISBLANK(InfoPro!L70),\"\",InfoPro!L70)","v":"NO"},{"$f":"'IT-TA'!H71","v":0},{"$f":"IFERROR('BT-Confi'!Y78,\"\")","v":367600.87577229866},{"$f":"IFERROR('BT-Flex'!Y78,\"\")","v":0},{"$f":"IFERROR('EC-RE'!Z78,\"\")","v":534412.86087410653},{"$f":"IFERROR('EC-RP'!Z77,\"\")","v":1217184.6460507561},{"$f":"IFERROR('EC-Per'!W77,\"\")","v":-240423.62958413802},{"$f":"IFERROR('EC-Mar'!Y77,\"\")","v":1217184.6460507559},0,{"$error":"#REF!"},{"$error":"#REF!"},{"$error":"#REF!"},{"$error":"#REF!"},{"$error":"#REF!"},{"$error":"#REF!"},{"$error":"#REF!"},""]
[{"$f":"IF(ISBLANK(InfoPro!A71),\"\",InfoPro!A71)","v":"SC_1531_A2"},{"$f":"IF(ISBLANK(InfoPro!H71),\"\",InfoPro!H71)","v":"SC_1531"},{"$f":"IF(ISBLANK(InfoPro!B71),\"\",InfoPro!B71)","v":"Haticos_56MW"},{"$f":"IF(ISBLANK(InfoPro!E71),\"\",InfoPro!E71)","v":56},{"$f":"IF(ISBLANK(InfoPro!C71),\"\",InfoPro!C71)","v":"2022-09-01"},{"$f":"IF(ISBLANK(InfoPro!D71),\"\",InfoPro!D71)","v":44760},{"$f":"IF(ISBLANK(InfoPro!L71),\"\",InfoPro!L71)","v":"NO"},{"$f":"'IT-TA'!H72","v":0},{"$f":"IFERROR('BT-Confi'!Y79,\"\")","v":367600.87577229866},{"$f":"IFERROR('BT-Flex'!Y79,\"\")","v":0},{"$f":"IFERROR('EC-RE'!Z79,\"\")","v":534412.86087410653},{"$f":"IFERROR('EC-RP'!Z78,\"\")","v":1217184.6460507561},{"$f":"IFERROR('EC-Per'!W78,\"\")","v":-225724.50395250059},{"$f":"IFERROR('EC-Mar'!Y78,\"\")","v":1217184.6460507559},0,{"$error":"#REF!"},{"$error":"#REF!"},{"$error":"#REF!"},{"$error":"#REF!"},{"$error":"#REF!"},{"$error":"#REF!"},{"$error":"#REF!"},""]
[{"$f":"IF(ISBLANK(InfoPro!A72),\"\",InfoPro!A72)","v":"SC_1532_A1"},{"$f":"IF(ISBLANK(InfoPro!H72),\"\",InfoPro!H72)","v":"SC_1532"},{"$f":"IF(ISBLANK(InfoPro!B72),\"\",InfoPro!B72)","v":"Las Mangas_340.8MW"},{"$f":"IF(ISBLANK(InfoPro!E72),\"\",InfoPro!E72)","v":340.8},{"$f":"IF(ISBLANK(InfoPro!C72),\"\",InfoPro!C72)","v":"2022-07-17"},{"$f":"IF(ISBLANK(InfoPro!D72),\"\",InfoPro!D72)","v":44759},{"$f":"IF(ISBLANK(InfoPro!L72),\"\",InfoPro!L72)","v":"SI"},{"$f":"'IT-TA'!H73","v":0},{"$f":"IFERROR('BT-Confi'!Y80,\"\")","v":367600.87577229855},{"$f":"IFERROR('BT-Flex'!Y80,\"\")","v":0},{"$f":"IFERROR('EC-RE'!Z80,\"\")","v":534412.86087410653},{"$f":"IFERROR('EC-RP'!Z79,\"\")","v":1217184.6460507559},{"$f":"IFERROR('EC-Per'!W79,\"\")","v":-341702.51684187341},{"$f":"IFERROR('EC-Mar'!Y79,\"\")","v":1217184.6460507559},0,{"$error":"#REF!"},{"$error":"#REF!"},{"$error":"#REF!"},{"$error":"#REF!"},{"$error":"#REF!"},{"$error":"#REF!"},{"$error":"#REF!"},""]
[{"$f":"IF(ISBLANK(InfoPro!A73),\"\",InfoPro!A73)","v":"SC_1532_A2"},{"$f":"IF(ISBLANK(InfoPro!H73),\"\",InfoPro!H73)","v":"SC_1532"},{"$f":"IF(ISBLANK(InfoPro!B73),\"\",InfoPro!B73)","v":"Las Mangas_340.8MW"},{"$f":"IF(ISBLANK(InfoPro!E73),\"\",InfoPro!E73)","v":340.8},{"$f":"IF(ISBLANK(InfoPro!C73),\"\",InfoPro!C73)","v":"2022-07-17"},{"$f":"IF(ISBLANK(InfoPro!D73),\"\",InfoPro!D73)","v":44759},{"$f":"IF(ISBLANK(InfoPro!L73),\"\",InfoPro!L73)","v":"SI"},{"$f":"'IT-TA'!H74","v":0},{"$f":"IFERROR('BT-Confi'!Y81,\"\")","v":367600.87577229855},{"$f":"IFERROR('BT-Flex'!Y81,\"\")","v":0},{"$f":"IFERROR('EC-RE'!Z81,\"\")","v":534412.86087410653},{"$f":"IFERROR('EC-RP'!Z80,\"\")","v":1217184.6460507559},{"$f":"IFERROR('EC-Per'!W80,\"\")","v":-138313.44969988731},{"$f":"IFERROR('EC-Mar'!Y80,\"\")","v":1217184.6460507559},0,{"$error":"#REF!"},{"$error":"#REF!"},{"$error":"#REF!"},{"$error":"#REF!"},{"$error":"#REF!"},{"$error":"#REF!"},{"$error":"#REF!"},""]
[{"$f":"IF(ISBLANK(InfoPro!A74),\"\",InfoPro!A74)","v":"SC_1534_A1"},{"$f":"IF(ISBLANK(InfoPro!H74),\"\",InfoPro!H74)","v":"SC_1534"},{"$f":"IF(ISBLANK(InfoPro!B74),\"\",InfoPro!B74)","v":"Parque Eólico Cerrito_378MW"},{"$f":"IF(ISBLANK(InfoPro!E74),\"\",InfoPro!E74)","v":378},{"$f":"IF(ISBLANK(InfoPro!C74),\"\",InfoPro!C74)","v":"2022-07-17"},{"$f":"IF(ISBLANK(InfoPro!D74),\"\",InfoPro!D74)","v":44759},{"$f":"IF(ISBLANK(InfoPro!L74),\"\",InfoPro!L74)","v":"NO"},{"$f":"'IT-TA'!H75","v":0},{"$f":"IFERROR('BT-Confi'!Y82,\"\")","v":402922.61464280658},{"$f":"IFERROR('BT-Flex'!Y82,\"\")","v":0},{"$f":"IFERROR('EC-RE'!Z82,\"\")","v":1464407.7407987216},{"$f":"IFERROR('EC-RP'!Z81,\"\")","v":3335351.2764319093},{"$f":"IFERROR('EC-Per'!W81,\"\")","v":-728651238.19790542},{"$f":"IFERROR('EC-Mar'!Y81,\"\")","v":3335351.2764319093},0,{"$error":"#REF!"},{"$error":"#REF!"},{"$error":"#REF!"},{"$error":"#REF!"},{"$error":"#REF!"},{"$error":"#REF!"},{"$error":"#REF!"},""]
[{"$f":"IF(ISBLANK(InfoPro!A75),\"\",InfoPro!A75)","v":"SC_1534_A2"},{"$f":"IF(ISBLANK(InfoPro!H75),\"\",InfoPro!H75)","v":"SC_1534"},{"$f":"IF(ISBLANK(InfoPro!B75),\"\",InfoPro!B75)","v":"Parque Eólico Cerrito_378MW"},{"$f":"IF(ISBLANK(InfoPro!E75),\"\",InfoPro!E75)","v":378},{"$f":"IF(ISBLANK(InfoPro!C75),\"\",InfoPro!C75)","v":"2022-07-17"},{"$f":"IF(ISBLANK(InfoPro!D75),\"\",InfoPro!D75)","v":44759},{"$f":"IF(ISBLANK(InfoPro!L75),\"\",InfoPro!L75)","v":"SI"},{"$f":"'IT-TA'!H76","v":0},{"$f":"IFERROR('BT-Confi'!Y83,\"\")","v":402922.61464280658},{"$f":"IFERROR('BT-Flex'!Y83,\"\")","v":0},{"$f":"IFERROR('EC-RE'!Z83,\"\")","v":1464407.7407987216},{"$f":"IFERROR('EC-RP'!Z82,\"\")","v":3335351.2764319093},{"$f":"IFERROR('EC-Per'!W82,\"\")","v":-291198943.08909965},{"$f":"IFERROR('EC-Mar'!Y82,\"\")","v":3335351.2764319093},0,{"$error":"#REF!"},{"$error":"#REF!"},{"$error":"#REF!"},{"$error":"#REF!"},{"$error":"#REF!"},{"$error":"#REF!"},{"$error":"#REF!"},""]
[{"$f":"IF(ISBLANK(InfoPro!A76),\"\",InfoPro!A76)","v":"SC_1535_A1"},{"$f":"IF(ISBLANK(InfoPro!H76),\"\",InfoPro!H76)","v":"SC_1535"},{"$f":"IF(ISBLANK(InfoPro!B76),\"\",InfoPro!B76)","v":"Parque Eólico Cerrito 2"},{"$f":"IF(ISBLANK(InfoPro!E76),\"\",InfoPro!E76)","v":200},{"$f":"IF(ISBLANK(InfoPro!C76),\"\",InfoPro!C76)","v":"2022-07-18"},{"$f":"IF(ISBLANK(InfoPro!D76),\"\",InfoPro!D76)","v":44760},{"$f":"IF(ISBLANK(InfoPro!L76),\"\",InfoPro!L76)","v":"NO"},{"$f":"'IT-TA'!H77","v":0},{"$f":"IFERROR('BT-Confi'!Y84,\"\")","v":402922.61464280653},{"$f":"IFERROR('BT-Flex'!Y84,\"\")","v":0},{"$f":"IFERROR('EC-RE'!Z84,\"\")","v":1464407.7407987223},{"$f":"IFERROR('EC-RP'!Z83,\"\")","v":3335351.2764319098},{"$f":"IFERROR('EC-Per'!W83,\"\")","v":-662430.61061765475},{"$f":"IFERROR('EC-Mar'!Y83,\"\")","v":3335351.2764319093},0,{"$error":"#REF!"},{"$error":"#REF!"},{"$error":"#REF!"},{"$error":"#REF!"},{"$error":"#REF!"},{"$error":"#REF!"},{"$error":"#REF!"},""]
[{"$f":"IF(ISBLANK(InfoPro!A77),\"\",InfoPro!A77)","v":"SC_1535_A2"},{"$f":"IF(ISBLANK(InfoPro!H77),\"\",InfoPro!H77)","v":"SC_1535"},{"$f":"IF(ISBLANK(InfoPro!B77),\"\",InfoPro!B77)","v":"Parque Eólico Cerrito 2"},{"$f":"IF(ISBLANK(InfoPro!E77),\"\",InfoPro!E77)","v":200},{"$f":"IF(ISBLANK(InfoPro!C77),\"\",InfoPro!C77)","v":"2022-07-18"},{"$f":"IF(ISBLANK(InfoPro!D77),\"\",InfoPro!D77)","v":44760},{"$f":"IF(ISBLANK(InfoPro!L77),\"\",InfoPro!L77)","v":"SI"},{"$f":"'IT-TA'!H78","v":0},{"$f":"IFERROR('BT-Confi'!Y85,\"\")","v":402922.61464280653},{"$f":"IFERROR('BT-Flex'!Y85,\"\")","v":0},{"$f":"IFERROR('EC-RE'!Z85,\"\")","v":1464407.7407987223},{"$f":"IFERROR('EC-RP'!Z84,\"\")","v":3335351.2764319098},{"$f":"IFERROR('EC-Per'!W84,\"\")","v":-269336.55984235741},{"$f":"IFERROR('EC-Mar'!Y84,\"\")","v":3335351.2764319093},0,{"$error":"#REF!"},{"$error":"#REF!"},{"$error":"#REF!"},{"$error":"#REF!"},{"$error":"#REF!"},{"$error":"#REF!"},{"$error":"#REF!"},""]
[{"$f":"IF(ISBLANK(InfoPro!A78),\"\",InfoPro!A78)","v":"SC_1549_A1"},{"$f":"IF(ISBLANK(InfoPro!H78),\"\",InfoPro!H78)","v":"SC_1549"},{"$f":"IF(ISBLANK(InfoPro!B78),\"\",InfoPro!B78)","v":"Parque Solar Bonda"},{"$f":"IF(ISBLANK(InfoPro!E78),\"\",InfoPro!E78)","v":9.9},{"$f":"IF(ISBLANK(InfoPro!C78),\"\",InfoPro!C78)","v":"2022-07-18"},{"$f":"IF(ISBLANK(InfoPro!D78),\"\",InfoPro!D78)","v":44760},{"$f":"IF(ISBLANK(InfoPro!L78),\"\",InfoPro!L78)","v":"NO"},{"$f":"'IT-TA'!H79","v":0},{"$f":"IFERROR('BT-Confi'!Y86,\"\")","v":459473.15704881464},{"$f":"IFERROR('BT-Flex'!Y86,\"\")","v":0},{"$f":"IFERROR('EC-RE'!Z86,\"\")","v":667975.46071520657},{"$f":"IFERROR('EC-RP'!Z85,\"\")","v":1521388.3015303449},{"$f":"IFERROR('EC-Per'!W85,\"\")","v":286694.87557949958},{"$f":"IFERROR('EC-Mar'!Y85,\"\")","v":1521388.3015303449},0,{"$error":"#REF!"},{"$error":"#REF!"},{"$error":"#REF!"},{"$error":"#REF!"},{"$error":"#REF!"},{"$error":"#REF!"},{"$error":"#REF!"},""]
[{"$f":"IF(ISBLANK(InfoPro!A79),\"\",InfoPro!A79)","v":"SC_1549_A2"},{"$f":"IF(ISBLANK(InfoPro!H79),\"\",InfoPro!H79)","v":"SC_1549"},{"$f":"IF(ISBLANK(InfoPro!B79),\"\",InfoPro!B79)","v":"Parque Solar Bonda"},{"$f":"IF(ISBLANK(InfoPro!E79),\"\",InfoPro!E79)","v":9.9},{"$f":"IF(ISBLANK(InfoPro!C79),\"\",InfoPro!C79)","v":"2022-07-18"},{"$f":"IF(ISBLANK(InfoPro!D79),\"\",InfoPro!D79)","v":44760},{"$f":"IF(ISBLANK(InfoPro!L79),\"\",InfoPro!L79)","v":"NO"},{"$f":"'IT-TA'!H80","v":0},{"$f":"IFERROR('BT-Confi'!Y87,\"\")","v":459473.15704881464},{"$f":"IFERROR('BT-Flex'!Y87,\"\")","v":0},{"$f":"IFERROR('EC-RE'!Z87,\"\")","v":667975.46071520657},{"$f":"IFERROR('EC-RP'!Z86,\"\")","v":1521388.3015303449},{"$f":"IFERROR('EC-Per'!W86,\"\")","v":287889.43756108073},{"$f":"IFERROR('EC-Mar'!Y86,\"\")","v":1521388.3015303449},0,{"$error":"#REF!"},{"$error":"#REF!"},{"$error":"#REF!"},{"$error":"#REF!"},{"$error":"#REF!"},{"$error":"#REF!"},{"$error":"#REF!"},""]
[{"$f":"IF(ISBLANK(InfoPro!A80),\"\",InfoPro!A80)","v":"SC_1550_A1"},{"$f":"IF(ISBLANK(InfoPro!H80),\"\",InfoPro!H80)","v":"SC_1550"},{"$f":"IF(ISBLANK(InfoPro!B80),\"\",InfoPro!B80)","v":"Parque Solar Fonseca"},{"$f":"IF(ISBLANK(InfoPro!E80),\"\",InfoPro!E80)","v":9.9},{"$f":"IF(ISBLANK(InfoPro!C80),\"\",InfoPro!C80)","v":"2022-07-18"},{"$f":"IF(ISBLANK(InfoPro!D80),\"\",InfoPro!D80)","v":44760},{"$f":"IF(ISBLANK(InfoPro!L80),\"\",InfoPro!L80)","v":"NO"},{"$f":"'IT-TA'!H81","v":0},{"$f":"IFERROR('BT-Confi'!Y88,\"\")","v":459473.15704881464},{"$f":"IFERROR('BT-Flex'!Y88,\"\")","v":0},{"$f":"IFERROR('EC-RE'!Z88,\"\")","v":667975.46071520657},{"$f":"IFERROR('EC-RP'!Z87,\"\")","v":1521388.3015303449},{"$f":"IFERROR('EC-Per'!W87,\"\")","v":31058.611521112449},{"$f":"IFERROR('EC-Mar'!Y87,\"\")","v":1521388.3015303449},0,{"$error":"#REF!"},{"$error":"#REF!"},{"$error":"#REF!"},{"$error":"#REF!"},{"$error":"#REF!"},{"$error":"#REF!"},{"$error":"#REF!"},""]
[{"$f":"IF(ISBLANK(InfoPro!A81),\"\",InfoPro!A81)","v":"SC_1550_A2"},{"$f":"IF(ISBLANK(InfoPro!H81),\"\",InfoPro!H81)","v":"SC_1550"},{"$f":"IF(ISBLANK(InfoPro!B81),\"\",InfoPro!B81)","v":"Parque Solar Fonseca"},{"$f":"IF(ISBLANK(InfoPro!E81),\"\",InfoPro!E81)","v":9.9},{"$f":"IF(ISBLANK(InfoPro!C81),\"\",InfoPro!C81)","v":"2022-07-18"},{"$f":"IF(ISBLANK(InfoPro!D81),\"\",InfoPro!D81)","v":44760},{"$f":"IF(ISBLANK(InfoPro!L81),\"\",InfoPro!L81)","v":"NO"},{"$f":"'IT-TA'!H82","v":0},{"$f":"IFERROR('BT-Confi'!Y89,\"\")","v":459473.15704881464},{"$f":"IFERROR('BT-Flex'!Y89,\"\")","v":0},{"$f":"IFERROR('EC-RE'!Z89,\"\")","v":667975.46071520657},{"$f":"IFERROR('EC-RP'!Z88,\"\")","v":1521388.3015303449},{"$f":"IFERROR('EC-Per'!W88,\"\")","v":32253.173502693706},{"$f":"IFERROR('EC-Mar'!Y88,\"\")","v":1521388.3015303449},0,{"$error":"#REF!"},{"$error":"#REF!"},{"$error":"#REF!"},{"$error":"#REF!"},{"$error":"#REF!"},{"$error":"#REF!"},{"$error":"#REF!"},""]
[{"$f":"IF(ISBLANK(InfoPro!A82),\"\",InfoPro!A82)","v":"SC_1556_A1"},{"$f":"IF(ISBLANK(InfoPro!H82),\"\",InfoPro!H82)","v":"SC_1556"},{"$f":"IF(ISBLANK(InfoPro!B82),\"\",InfoPro!B82)","v":"Copey Solar I - 100 MW"},{"$f":"IF(ISBLANK(InfoPro!E82),\"\",InfoPro!E82)","v":100},{"$f":"IF(ISBLANK(InfoPro!C82),\"\",InfoPro!C82)","v":"2022-07-18"},{"$f":"IF(ISBLANK(InfoPro!D82),\"\",InfoPro!D82)","v":44760},{"$f":"IF(ISBLANK(InfoPro!L82),\"\",InfoPro!L82)","v":"NO"},{"$f":"'IT-TA'!H83","v":0},{"$f":"IFERROR('BT-Confi'!Y90,\"\")","v":410977.77911342977},{"$f":"IFERROR('BT-Flex'!Y90,\"\")","v":0},{"$f":"IFERROR('EC-RE'!Z90,\"\")","v":597473.57845725096},{"$f":"IFERROR('EC-RP'!Z89,\"\")","v":1360812.4342847452},{"$f":"IFERROR('EC-Per'!W89,\"\")","v":-79969.406931544669},{"$f":"IFERROR('EC-Mar'!Y89,\"\")","v":1360812.4342847452},0,{"$error":"#REF!"},{"$error":"#REF!"},{"$error":"#REF!"},{"$error":"#REF!"},{"$error":"#REF!"},{"$error":"#REF!"},{"$error":"#REF!"},""]
[{"$f":"IF(ISBLANK(InfoPro!A83),\"\",InfoPro!A83)","v":"SC_1556_A2"},{"$f":"IF(ISBLANK(InfoPro!H83),\"\",InfoPro!H83)","v":"SC_1556"},{"$f":"IF(ISBLANK(InfoPro!B83),\"\",InfoPro!B83)","v":"Copey Solar I - 100 MW"},{"$f":"IF(ISBLANK(InfoPro!E83),\"\",InfoPro!E83)","v":100},{"$f":"IF(ISBLANK(InfoPro!C83),\"\",InfoPro!C83)","v":"2022-07-18"},{"$f":"IF(ISBLANK(InfoPro!D83),\"\",InfoPro!D83)","v":44760},{"$f":"IF(ISBLANK(InfoPro!L83),\"\",InfoPro!L83)","v":"NO"},{"$f":"'IT-TA'!H84","v":0},{"$f":"IFERROR('BT-Confi'!Y91,\"\")","v":410977.77911342977},{"$f":"IFERROR('BT-Flex'!Y91,\"\")","v":0},{"$f":"IFERROR('EC-RE'!Z91,\"\")","v":597473.57845725096},{"$f":"IFERROR('EC-RP'!Z90,\"\")","v":1360812.4342847452},{"$f":"IFERROR('EC-Per'!W90,\"\")","v":-76690.238128796133},{"$f":"IFERROR('EC-Mar'!Y90,\"\")","v":1360812.4342847452},0,{"$error":"#REF!"},{"$error":"#REF!"},{"$error":"#REF!"},{"$error":"#REF!"},{"$error":"#REF!"},{"$error":"#REF!"},{"$error":"#REF!"},""]
[{"$f":"IF(ISBLANK(InfoPro!A84),\"\",InfoPro!A84)","v":"SC_1557_A1"},{"$f":"IF(ISBLANK(InfoPro!H84),\"\",InfoPro!H84)","v":"SC_1557"},{"$f":"IF(ISBLANK(InfoPro!B84),\"\",InfoPro!B84)","v":"Copey Solar II"},{"$f":"IF(ISBLANK(InfoPro!E84),\"\",InfoPro!E84)","v":100},{"$f":"IF(ISBLANK(InfoPro!C84),\"\",InfoPro!C84)","v":"2022-07-18"},{"$f":"IF(ISBLANK(InfoPro!D84),\"\",InfoPro!D84)","v":44760},{"$f":"IF(ISBLANK(InfoPro!L84),\"\",InfoPro!L84)","v":"NO"},{"$f":"'IT-TA'!H85","v":0},{"$f":"IFERROR('BT-Confi'!Y92,\"\")","v":367600.87577229866},{"$f":"IFERROR('BT-Flex'!Y92,\"\")","v":0},{"$f":"IFERROR('EC-RE'!Z92,\"\")","v":534412.86087410641},{"$f":"IFERROR('EC-RP'!Z91,\"\")","v":1217184.6460507561},{"$f":"IFERROR('EC-Per'!W91,\"\")","v":-75029.743798822208},{"$f":"IFERROR('EC-Mar'!Y91,\"\")","v":1217184.6460507561},0,{"$error":"#REF!"},{"$error":"#REF!"},{"$error":"#REF!"},{"$error":"#REF!"},{"$error":"#REF!"},{"$error":"#REF!"},{"$error":"#REF!"},""]
[{"$f":"IF(ISBLANK(InfoPro!A85),\"\",InfoPro!A85)","v":"SC_1557_A2"},{"$f":"IF(ISBLANK(InfoPro!H85),\"\",InfoPro!H85)","v":"SC_1557"},{"$f":"IF(ISBLANK(InfoPro!B85),\"\",InfoPro!B85)","v":"Copey Solar II"},{"$f":"IF(ISBLANK(InfoPro!E85),\"\",InfoPro!E85)","v":100},{"$f":"IF(ISBLANK(InfoPro!C85),\"\",InfoPro!C85)","v":"2022-07-18"},{"$f":"IF(ISBLANK(InfoPro!D85),\"\",InfoPro!D85)","v":44760},{"$f":"IF(ISBLANK(InfoPro!L85),\"\",InfoPro!L85)","v":"NO"},{"$f":"'IT-TA'!H86","v":0},{"$f":"IFERROR('BT-Confi'!Y93,\"\")","v":367600.87577229866},{"$f":"IFERROR('BT-Flex'!Y93,\"\")","v":0},{"$f":"IFERROR('EC-RE'!Z93,\"\")","v":534412.86087410641},{"$f":"IFERROR('EC-RP'!Z92,\"\")","v":1217184.6460507561},{"$f":"IFERROR('EC-Per'!W92,\"\")","v":-70582.835906584325},{"$f":"IFERROR('EC-Mar'!Y92,\"\")","v":1217184.6460507561},0,{"$error":"#REF!"},{"$error":"#REF!"},{"$error":"#REF!"},{"$error":"#REF!"},{"$error":"#REF!"},{"$error":"#REF!"},{"$error":"#REF!"},""]
[{"$f":"IF(ISBLANK(InfoPro!A86),\"\",InfoPro!A86)","v":"SC_1565_A1"},{"$f":"IF(ISBLANK(InfoPro!H86),\"\",InfoPro!H86)","v":"SC_1565"},{"$f":"IF(ISBLANK(InfoPro!B86),\"\",InfoPro!B86)","v":"Eólica Río Córdoba 50 MW"},{"$f":"IF(ISBLANK(InfoPro!E86),\"\",InfoPro!E86)","v":50},{"$f":"IF(ISBLANK(InfoPro!C86),\"\",InfoPro!C86)","v":"2022-01-08"},{"$f":"IF(ISBLANK(InfoPro!D86),\"\",InfoPro!D86)","v":44569},{"$f":"IF(ISBLANK(InfoPro!L86),\"\",InfoPro!L86)","v":"SI"},{"$f":"'IT-TA'!H87","v":0},{"$f":"IFERROR('BT-Confi'!Y94,\"\")","v":402922.61464280653},{"$f":"IFERROR('BT-Flex'!Y94,\"\")","v":0},{"$f":"IFERROR('EC-RE'!Z94,\"\")","v":1464407.7407987223},{"$f":"IFERROR('EC-RP'!Z93,\"\")","v":3335351.2764319098},{"$f":"IFERROR('EC-Per'!W93,\"\")","v":-496698.871941483},{"$f":"IFERROR('EC-Mar'!Y93,\"\")","v":3335351.2764319093},0,{"$error":"#REF!"},{"$error":"#REF!"},{"$error":"#REF!"},{"$error":"#REF!"},{"$error":"#REF!"},{"$error":"#REF!"},{"$error":"#REF!"},""]
[{"$f":"IF(ISBLANK(InfoPro!A87),\"\",InfoPro!A87)","v":"SC_1575_A1"},{"$f":"IF(ISBLANK(InfoPro!H87),\"\",InfoPro!H87)","v":"SC_1575"},{"$f":"IF(ISBLANK(InfoPro!B87),\"\",InfoPro!B87)","v":"BONDERO 70 MW"},{"$f":"IF(ISBLANK(InfoPro!E87),\"\",InfoPro!E87)","v":70},{"$f":"IF(ISBLANK(InfoPro!C87),\"\",InfoPro!C87)","v":"2022-03-18T09:23:00"},{"$f":"IF(ISBLANK(InfoPro!D87),\"\",InfoPro!D87)","v":44638.390972222223},{"$f":"IF(ISBLANK(InfoPro!L87),\"\",InfoPro!L87)","v":"NO"},{"$f":"'IT-TA'!H88","v":0},{"$f":"IFERROR('BT-Confi'!Y95,\"\")","v":450467.48317065759},{"$f":"IFERROR('BT-Flex'!Y95,\"\")","v":0},{"$f":"IFERROR('EC-RE'!Z95,\"\")","v":1637207.8542129707},{"$f":"IFERROR('EC-RP'!Z94,\"\")","v":3728922.7270508744},{"$f":"IFERROR('EC-Per'!W94,\"\")","v":-547754.10973084206},{"$f":"IFERROR('EC-Mar'!Y94,\"\")","v":3728922.7270508744},0,{"$error":"#REF!"},{"$error":"#REF!"},{"$error":"#REF!"},{"$error":"#REF!"},{"$error":"#REF!"},{"$error":"#REF!"},{"$error":"#REF!"},""]
[{"$f":"IF(ISBLANK(InfoPro!A88),\"\",InfoPro!A88)","v":"SC_1592_A1"},{"$f":"IF(ISBLANK(InfoPro!H88),\"\",InfoPro!H88)","v":"SC_1592"},{"$f":"IF(ISBLANK(InfoPro!B88),\"\",InfoPro!B88)","v":"Expansión La Loma II - 100 MW"},{"$f":"IF(ISBLANK(InfoPro!E88),\"\",InfoPro!E88)","v":100},{"$f":"IF(ISBLANK(InfoPro!C88),\"\",InfoPro!C88)","v":"2022-07-18T10:28:00"},{"$f":"IF(ISBLANK(InfoPro!D88),\"\",InfoPro!D88)","v":44760.436111111114},{"$f":"IF(ISBLANK(InfoPro!L88),\"\",InfoPro!L88)","v":"NO"},{"$f":"'IT-TA'!H89","v":0},{"$f":"IFERROR('BT-Confi'!Y96,\"\")","v":328802.21446538338},{"$f":"IFERROR('BT-Flex'!Y96,\"\")","v":0},{"$f":"IFERROR('EC-RE'!Z96,\"\")","v":478007.92564768018},{"$f":"IFERROR('EC-RP'!Z95,\"\")","v":1088716.1413691917},{"$f":"IFERROR('EC-Per'!W95,\"\")","v":-70834.352868022514},{"$f":"IFERROR('EC-Mar'!Y95,\"\")","v":1088716.1413691917},0,{"$error":"#REF!"},{"$error":"#REF!"},{"$error":"#REF!"},{"$error":"#REF!"},{"$error":"#REF!"},{"$error":"#REF!"},{"$error":"#REF!"},""]
[{"$f":"IF(ISBLANK(InfoPro!A89),\"\",InfoPro!A89)","v":"SC_1593_A1"},{"$f":"IF(ISBLANK(InfoPro!H89),\"\",InfoPro!H89)","v":"SC_1593"},{"$f":"IF(ISBLANK(InfoPro!B89),\"\",InfoPro!B89)","v":"Parque Solar Camarones 6 MW"},{"$f":"IF(ISBLANK(InfoPro!E89),\"\",InfoPro!E89)","v":6},{"$f":"IF(ISBLANK(InfoPro!C89),\"\",InfoPro!C89)","v":"2022-07-18"},{"$f":"IF(ISBLANK(InfoPro!D89),\"\",InfoPro!D89)","v":44760},{"$f":"IF(ISBLANK(InfoPro!L89),\"\",InfoPro!L89)","v":"NO"},{"$f":"'IT-TA'!H90","v":0},{"$f":"IFERROR('BT-Confi'!Y97,\"\")","v":513690.98958057445},{"$f":"IFERROR('BT-Flex'!Y97,\"\")","v":0},{"$f":"IFERROR('EC-RE'!Z97,\"\")","v":746796.56507960067},{"$f":"IFERROR('EC-RP'!Z96,\"\")","v":1700912.1211109255},{"$f":"IFERROR('EC-Per'!W96,\"\")","v":-24239.693361652215},{"$f":"IFERROR('EC-Mar'!Y96,\"\")","v":1700912.1211109255},0,{"$error":"#REF!"},{"$error":"#REF!"},{"$error":"#REF!"},{"$error":"#REF!"},{"$error":"#REF!"},{"$error":"#REF!"},{"$error":"#REF!"},""]
[{"$f":"IF(ISBLANK(InfoPro!A90),\"\",InfoPro!A90)","v":"SC_1593_A2"},{"$f":"IF(ISBLANK(InfoPro!H90),\"\",InfoPro!H90)","v":"SC_1593"},{"$f":"IF(ISBLANK(InfoPro!B90),\"\",InfoPro!B90)","v":"Parque Solar Camarones 6 MW"},{"$f":"IF(ISBLANK(InfoPro!E90),\"\",InfoPro!E90)","v":6},{"$f":"IF(ISBLANK(InfoPro!C90),\"\",InfoPro!C90)","v":"2022-07-18"},{"$f":"IF(ISBLANK(InfoPro!D90),\"\",InfoPro!D90)","v":44760},{"$f":"IF(ISBLANK(InfoPro!L90),\"\",InfoPro!L90)","v":"NO"},{"$f":"'IT-TA'!H91","v":0},{"$f":"IFERROR('BT-Confi'!Y98,\"\")","v":513690.98958057445},{"$f":"IFERROR('BT-Flex'!Y98,\"\")","v":0},{"$f":"IFERROR('EC-RE'!Z98,\"\")","v":746796.56507960067},{"$f":"IFERROR('EC-RP'!Z97,\"\")","v":1700912.1211109255},{"$f":"IFERROR('EC-Per'!W97,\"\")","v":-24250.711404089321},{"$f":"IFERROR('EC-Mar'!Y97,\"\")","v":1700912.1211109255},0,{"$error":"#REF!"},{"$error":"#REF!"},{"$error":"#REF!"},{"$error":"#REF!"},{"$error":"#REF!"},{"$error":"#REF!"},{"$error":"#REF!"},""]
[{"$f":"IF(ISBLANK(InfoPro!A91),\"\",InfoPro!A91)","v":"SC_1596_A1"},{"$f":"IF(ISBLANK(InfoPro!H91),\"\",InfoPro!H91)","v":"SC_1596"},{"$f":"IF(ISBLANK(InfoPro!B91),\"\",InfoPro!B91)","v":"Expansión La Loma III - 100 MW"},{"$f":"IF(ISBLANK(InfoPro!E91),\"\",InfoPro!E91)","v":100},{"$f":"IF(ISBLANK(InfoPro!C91),\"\",InfoPro!C91)","v":"2022-07-18T10:30:00"},{"$f":"IF(ISBLANK(InfoPro!D91),\"\",InfoPro!D91)","v":44760.4375},{"$f":"IF(ISBLANK(InfoPro!L91),\"\",InfoPro!L91)","v":"NO"},{"$f":"'IT-TA'!H92","v":0},{"$f":"IFERROR('BT-Confi'!Y99,\"\")","v":294098.58181161305},{"$f":"IFERROR('BT-Flex'!Y99,\"\")","v":0},{"$f":"IFERROR('EC-RE'!Z99,\"\")","v":427556.28412135981},{"$f":"IFERROR('EC-RP'!Z98,\"\")","v":973806.92430160264},{"$f":"IFERROR('EC-Per'!W98,\"\")","v":-92577.004889674936},{"$f":"IFERROR('EC-Mar'!Y98,\"\")","v":973806.92430160264},0,{"$error":"#REF!"},{"$error":"#REF!"},{"$error":"#REF!"},{"$error":"#REF!"},{"$error":"#REF!"},{"$error":"#REF!"},{"$error":"#REF!"},""]
[{"$f":"IF(ISBLANK(InfoPro!A92),\"\",InfoPro!A92)","v":"SC_1656_A1"},{"$f":"IF(ISBLANK(InfoPro!H92),\"\",InfoPro!H92)","v":"SC_1656"},{"$f":"IF(ISBLANK(InfoPro!B92),\"\",InfoPro!B92)","v":"Parque solar TERRɅ I"},{"$f":"IF(ISBLANK(InfoPro!E92),\"\",InfoPro!E92)","v":19.899999999999999},{"$f":"IF(ISBLANK(InfoPro!C92),\"\",InfoPro!C92)","v":"2022-07-26T15:58:00"},{"$f":"IF(ISBLANK(InfoPro!D92),\"\",InfoPro!D92)","v":44768.665277777778},{"$f":"IF(ISBLANK(InfoPro!L92),\"\",InfoPro!L92)","v":"NO"},{"$f":"'IT-TA'!H93","v":0},{"$f":"IFERROR('BT-Confi'!Y100,\"\")","v":513690.98958057468},{"$f":"IFERROR('BT-Flex'!Y100,\"\")","v":0},{"$f":"IFERROR('EC-RE'!Z100,\"\")","v":746796.56507960102},{"$f":"IFERROR('EC-RP'!Z99,\"\")","v":1700912.1211109255},{"$f":"IFERROR('EC-Per'!W99,\"\")","v":-18404.006563301034},{"$f":"IFERROR('EC-Mar'!Y99,\"\")","v":1700912.1211109255},0,{"$error":"#REF!"},{"$error":"#REF!"},{"$error":"#REF!"},{"$error":"#REF!"},{"$error":"#REF!"},{"$error":"#REF!"},{"$error":"#REF!"},""]
[{"$f":"IF(ISBLANK(InfoPro!A93),\"\",InfoPro!A93)","v":"SC_1656_A2"},{"$f":"IF(ISBLANK(InfoPro!H93),\"\",InfoPro!H93)","v":"SC_1656"},{"$f":"IF(ISBLANK(InfoPro!B93),\"\",InfoPro!B93)","v":"Parque solar TERRɅ I"},{"$f":"IF(ISBLANK(InfoPro!E93),\"\",InfoPro!E93)","v":19.899999999999999},{"$f":"IF(ISBLANK(InfoPro!C93),\"\",InfoPro!C93)","v":"2022-07-26T15:58:00"},{"$f":"IF(ISBLANK(InfoPro!D93),\"\",InfoPro!D93)","v":44768.665277777778},{"$f":"IF(ISBLANK(InfoPro!L93),\"\",InfoPro!L93)","v":"NO"},{"$f":"'IT-TA'!H94","v":0},{"$f":"IFERROR('BT-Confi'!Y101,\"\")","v":513690.98958057468},{"$f":"IFERROR('BT-Flex'!Y101,\"\")","v":0},{"$f":"IFERROR('EC-RE'!Z101,\"\")","v":746796.56507960102},{"$f":"IFERROR('EC-RP'!Z100,\"\")","v":1700912.1211109255},{"$f":"IFERROR('EC-Per'!W100,\"\")","v":-19599.934787631068},{"$f":"IFERROR('EC-Mar'!Y100,\"\")","v":1700912.1211109255},0,{"$error":"#REF!"},{"$error":"#REF!"},{"$error":"#REF!"},{"$error":"#REF!"},{"$error":"#REF!"},{"$error":"#REF!"},{"$error":"#REF!"},""]
[{"$f":"IF(ISBLANK(InfoPro!A94),\"\",InfoPro!A94)","v":"SC_1698_A1"},{"$f":"IF(ISBLANK(InfoPro!H94),\"\",InfoPro!H94)","v":"SC_1698"},{"$f":"IF(ISBLANK(InfoPro!B94),\"\",InfoPro!B94)","v":"Barlovento 2_500MW"},{"$f":"IF(ISBLANK(InfoPro!E94),\"\",InfoPro!E94)","v":500},{"$f":"IF(ISBLANK(InfoPro!C94),\"\",InfoPro!C94)","v":"2022-08-09T18:34:00"},{"$f":"IF(ISBLANK(InfoPro!D94),\"\",InfoPro!D94)","v":44782.773611111108},{"$f":"IF(ISBLANK(InfoPro!L94),\"\",InfoPro!L94)","v":"SI"},{"$f":"'IT-TA'!H95","v":0},{"$f":"IFERROR('BT-Confi'!Y102,\"\")","v":147654.06626359798},{"$f":"IFERROR('BT-Flex'!Y102,\"\")","v":0},{"$f":"IFERROR('EC-RE'!Z102,\"\")","v":536643.38942232309},{"$f":"IFERROR('EC-RP'!Z101,\"\")","v":1222264.9225565018},{"$f":"IFERROR('EC-Per'!W101,\"\")","v":-81555.777378777828},{"$f":"IFERROR('EC-Mar'!Y101,\"\")","v":1222264.9225565018},0,{"$error":"#REF!"},{"$error":"#REF!"},{"$error":"#REF!"},{"$error":"#REF!"},{"$error":"#REF!"},{"$error":"#REF!"},{"$error":"#REF!"},""]
[{"$f":"IF(ISBLANK(InfoPro!A95),\"\",InfoPro!A95)","v":"SC_1699_A1"},{"$f":"IF(ISBLANK(InfoPro!H95),\"\",InfoPro!H95)","v":"SC_1699"},{"$f":"IF(ISBLANK(InfoPro!B95),\"\",InfoPro!B95)","v":"PARQUE EOLICO GUAJIRA II de 302.4 MW"},{"$f":"IF(ISBLANK(InfoPro!E95),\"\",InfoPro!E95)","v":302.39999999999998},{"$f":"IF(ISBLANK(InfoPro!C95),\"\",InfoPro!C95)","v":"2022-08-04T18:35:00"},{"$f":"IF(ISBLANK(InfoPro!D95),\"\",InfoPro!D95)","v":44777.774305555555},{"$f":"IF(ISBLANK(InfoPro!L95),\"\",InfoPro!L95)","v":"NO"},{"$f":"'IT-TA'!H96","v":100},{"$f":"IFERROR('BT-Confi'!Y103,\"\")","v":322357.69106186187},{"$f":"IFERROR('BT-Flex'!Y103,\"\")","v":0},{"$f":"IFERROR('EC-RE'!Z103,\"\")","v":1171597.4257624638},{"$f":"IFERROR('EC-RP'!Z102,\"\")","v":2668443.2624958875},{"$f":"IFERROR('EC-Per'!W102,\"\")","v":98244.475273183067},{"$f":"IFERROR('EC-Mar'!Y102,\"\")","v":2668443.2624958875},6929086.1170892837,{"$error":"#REF!"},{"$error":"#REF!"},{"$error":"#REF!"},{"$error":"#REF!"},{"$error":"#REF!"},{"$error":"#REF!"},{"$error":"#REF!"},""]
[{"$f":"IF(ISBLANK(InfoPro!A96),\"\",InfoPro!A96)","v":"SC_1699_A2"},{"$f":"IF(ISBLANK(InfoPro!H96),\"\",InfoPro!H96)","v":"SC_1699"},{"$f":"IF(ISBLANK(InfoPro!B96),\"\",InfoPro!B96)","v":"PARQUE EOLICO GUAJIRA II de 302.4 MW"},{"$f":"IF(ISBLANK(InfoPro!E96),\"\",InfoPro!E96)","v":302.39999999999998},{"$f":"IF(ISBLANK(InfoPro!C96),\"\",InfoPro!C96)","v":"2022-08-04T18:35:00"},{"$f":"IF(ISBLANK(InfoPro!D96),\"\",InfoPro!D96)","v":44777.774305555555},{"$f":"IF(ISBLANK(InfoPro!L96),\"\",InfoPro!L96)","v":"NO"},{"$f":"'IT-TA'!H97","v":100},{"$f":"IFERROR('BT-Confi'!Y104,\"\")","v":322357.69106186187},{"$f":"IFERROR('BT-Flex'!Y104,\"\")","v":0},{"$f":"IFERROR('EC-RE'!Z104,\"\")","v":1171597.4257624638},{"$f":"IFERROR('EC-RP'!Z103,\"\")","v":2668443.2624958875},{"$f":"IFERROR('EC-Per'!W103,\"\")","v":363567.13460967748},{"$f":"IFERROR('EC-Mar'!Y103,\"\")","v":2668443.2624958875},7194408.7764257779,{"$error":"#REF!"},{"$error":"#REF!"},{"$error":"#REF!"},{"$error":"#REF!"},{"$error":"#REF!"},{"$error":"#REF!"},{"$error":"#REF!"},""]
[{"$f":"IF(ISBLANK(InfoPro!A97),\"\",InfoPro!A97)","v":"SC_1703_A1"},{"$f":"IF(ISBLANK(InfoPro!H97),\"\",InfoPro!H97)","v":"SC_1703"},{"$f":"IF(ISBLANK(InfoPro!B97),\"\",InfoPro!B97)","v":"Barlovento 3 de 500 MW"},{"$f":"IF(ISBLANK(InfoPro!E97),\"\",InfoPro!E97)","v":500},{"$f":"IF(ISBLANK(InfoPro!C97),\"\",InfoPro!C97)","v":"2022-08-09T18:39:00"},{"$f":"IF(ISBLANK(InfoPro!D97),\"\",InfoPro!D97)","v":44782.777083333334},{"$f":"IF(ISBLANK(InfoPro!L97),\"\",InfoPro!L97)","v":"SI"},{"$f":"'IT-TA'!H98","v":0},{"$f":"IFERROR('BT-Confi'!Y105,\"\")","v":147654.06626359798},{"$f":"IFERROR('BT-Flex'!Y105,\"\")","v":0},{"$f":"IFERROR('EC-RE'!Z105,\"\")","v":536643.38942232309},{"$f":"IFERROR('EC-RP'!Z104,\"\")","v":1222264.9225565018},{"$f":"IFERROR('EC-Per'!W104,\"\")","v":-84798.594837713579},{"$f":"IFERROR('EC-Mar'!Y104,\"\")","v":1222264.9225565018},0,{"$error":"#REF!"},{"$error":"#REF!"},{"$error":"#REF!"},{"$error":"#REF!"},{"$error":"#REF!"},{"$error":"#REF!"},{"$error":"#REF!"},""]
[{"$f":"IF(ISBLANK(InfoPro!A98),\"\",InfoPro!A98)","v":"SC_1707_A1"},{"$f":"IF(ISBLANK(InfoPro!H98),\"\",InfoPro!H98)","v":"SC_1707"},{"$f":"IF(ISBLANK(InfoPro!B98),\"\",InfoPro!B98)","v":"Santa Marta II - 50 MW"},{"$f":"IF(ISBLANK(InfoPro!E98),\"\",InfoPro!E98)","v":50},{"$f":"IF(ISBLANK(InfoPro!C98),\"\",InfoPro!C98)","v":"2022-02-27T18:47:00"},{"$f":"IF(ISBLANK(InfoPro!D98),\"\",InfoPro!D98)","v":44619.782638888886},{"$f":"IF(ISBLANK(InfoPro!L98),\"\",InfoPro!L98)","v":"NO"},{"$f":"'IT-TA'!H99","v":0},{"$f":"IFERROR('BT-Confi'!Y106,\"\")","v":459473.15704881452},{"$f":"IFERROR('BT-Flex'!Y106,\"\")","v":0},{"$f":"IFERROR('EC-RE'!Z106,\"\")","v":667975.46071520646},{"$f":"IFERROR('EC-RP'!Z105,\"\")","v":1521388.3015303449},{"$f":"IFERROR('EC-Per'!W105,\"\")","v":-106742.95281294819},{"$f":"IFERROR('EC-Mar'!Y105,\"\")","v":1521388.3015303449},0,{"$error":"#REF!"},{"$error":"#REF!"},{"$error":"#REF!"},{"$error":"#REF!"},{"$error":"#REF!"},{"$error":"#REF!"},{"$error":"#REF!"},""]
[{"$f":"IF(ISBLANK(InfoPro!A99),\"\",InfoPro!A99)","v":"SC_1710_A1"},{"$f":"IF(ISBLANK(InfoPro!H99),\"\",InfoPro!H99)","v":"SC_1710"},{"$f":"IF(ISBLANK(InfoPro!B99),\"\",InfoPro!B99)","v":"Parque Eólico Trupillo_100MW"},{"$f":"IF(ISBLANK(InfoPro!E99),\"\",InfoPro!E99)","v":100},{"$f":"IF(ISBLANK(InfoPro!C99),\"\",InfoPro!C99)","v":"2022-07-19T18:50:00"},{"$f":"IF(ISBLANK(InfoPro!D99),\"\",InfoPro!D99)","v":44761.784722222219},{"$f":"IF(ISBLANK(InfoPro!L99),\"\",InfoPro!L99)","v":"SI"},{"$f":"'IT-TA'!H100","v":0},{"$f":"IFERROR('BT-Confi'!Y107,\"\")","v":288334.24960810546},{"$f":"IFERROR('BT-Flex'!Y107,\"\")","v":0},{"$f":"IFERROR('EC-RE'!Z107,\"\")","v":1047940.4523814528},{"$f":"IFERROR('EC-RP'!Z106,\"\")","v":2386800.7714632275},{"$f":"IFERROR('EC-Per'!W106,\"\")","v":-9647.6896379385489},{"$f":"IFERROR('EC-Mar'!Y106,\"\")","v":2386800.7714632275},0,{"$error":"#REF!"},{"$error":"#REF!"},{"$error":"#REF!"},{"$error":"#REF!"},{"$error":"#REF!"},{"$error":"#REF!"},{"$error":"#REF!"},""]
[{"$f":"IF(ISBLANK(InfoPro!A100),\"\",InfoPro!A100)","v":"SC_1710_A2"},{"$f":"IF(ISBLANK(InfoPro!H100),\"\",InfoPro!H100)","v":"SC_1710"},{"$f":"IF(ISBLANK(InfoPro!B100),\"\",InfoPro!B100)","v":"Parque Eólico Trupillo_100MW"},{"$f":"IF(ISBLANK(InfoPro!E100),\"\",InfoPro!E100)","v":100},{"$f":"IF(ISBLANK(InfoPro!C100),\"\",InfoPro!C100)","v":"2022-07-19T18:50:00"},{"$f":"IF(ISBLANK(InfoPro!D100),\"\",InfoPro!D100)","v":44761.784722222219},{"$f":"IF(ISBLANK(InfoPro!L100),\"\",InfoPro!L100)","v":"NO"},{"$f":"'IT-TA'!H101","v":0},{"$f":"IFERROR('BT-Confi'!Y108,\"\")","v":288334.24960810546},{"$f":"IFERROR('BT-Flex'!Y108,\"\")","v":0},{"$f":"IFERROR('EC-RE'!Z108,\"\")","v":1047940.4523814528},{"$f":"IFERROR('EC-RP'!Z107,\"\")","v":2386800.7714632275},{"$f":"IFERROR('EC-Per'!W107,\"\")","v":-49931.025319155677},{"$f":"IFERROR('EC-Mar'!Y107,\"\")","v":2386800.7714632275},0,{"$error":"#REF!"},{"$error":"#REF!"},{"$error":"#REF!"},{"$error":"#REF!"},{"$error":"#REF!"},{"$error":"#REF!"},{"$error":"#REF!"},""]
[{"$f":"IF(ISBLANK(InfoPro!A101),\"\",InfoPro!A101)","v":"SC_1718_A1"},{"$f":"IF(ISBLANK(InfoPro!H101),\"\",InfoPro!H101)","v":"SC_1718"},{"$f":"IF(ISBLANK(InfoPro!B101),\"\",InfoPro!B101)","v":"Autogeneración Drummond 50 MW"},{"$f":"IF(ISBLANK(InfoPro!E101),\"\",InfoPro!E101)","v":50},{"$f":"IF(ISBLANK(InfoPro!C101),\"\",InfoPro!C101)","v":"2022-09-03"},{"$f":"IF(ISBLANK(InfoPro!D101),\"\",InfoPro!D101)","v":44760},{"$f":"IF(ISBLANK(InfoPro!L101),\"\",InfoPro!L101)","v":"NO"},{"$f":"'IT-TA'!H102","v":0},{"$f":"IFERROR('BT-Confi'!Y109,\"\")","v":574306.52635108237},{"$f":"IFERROR('BT-Flex'!Y109,\"\")","v":0},{"$f":"IFERROR('EC-RE'!Z109,\"\")","v":834918.55975899368},{"$f":"IFERROR('EC-RP'!Z108,\"\")","v":1901619.7514020149},{"$f":"IFERROR('EC-Per'!W108,\"\")","v":-74441.173674575781},{"$f":"IFERROR('EC-Mar'!Y108,\"\")","v":1901619.7514020149},0,{"$error":"#REF!"},{"$error":"#REF!"},{"$error":"#REF!"},{"$error":"#REF!"},{"$error":"#REF!"},{"$error":"#REF!"},{"$error":"#REF!"},""]
[{"$f":"IF(ISBLANK(InfoPro!A102),\"\",InfoPro!A102)","v":"SC_1722_A1"},{"$f":"IF(ISBLANK(InfoPro!H102),\"\",InfoPro!H102)","v":"SC_1722"},{"$f":"IF(ISBLANK(InfoPro!B102),\"\",InfoPro!B102)","v":"PARQUE EÓLICO MONSAUI 9,9 MW"},{"$f":"IF(ISBLANK(InfoPro!E102),\"\",InfoPro!E102)","v":9.9},{"$f":"IF(ISBLANK(InfoPro!C102),\"\",InfoPro!C102)","v":"2022-07-18"},{"$f":"IF(ISBLANK(InfoPro!D102),\"\",InfoPro!D102)","v":44760},{"$f":"IF(ISBLANK(InfoPro!L102),\"\",InfoPro!L102)","v":"NO"},{"$f":"'IT-TA'!H103","v":0},{"$f":"IFERROR('BT-Confi'!Y110,\"\")","v":322357.69106186181},{"$f":"IFERROR('BT-Flex'!Y110,\"\")","v":0},{"$f":"IFERROR('EC-RE'!Z110,\"\")","v":1171597.4257624641},{"$f":"IFERROR('EC-RP'!Z109,\"\")","v":2668443.2624958875},{"$f":"IFERROR('EC-Per'!W109,\"\")","v":-177474.91845875254},{"$f":"IFERROR('EC-Mar'!Y109,\"\")","v":2668443.2624958875},0,{"$error":"#REF!"},{"$error":"#REF!"},{"$error":"#REF!"},{"$error":"#REF!"},{"$error":"#REF!"},{"$error":"#REF!"},{"$error":"#REF!"},""]
[{"$f":"IF(ISBLANK(InfoPro!A103),\"\",InfoPro!A103)","v":"SC_1722_A2"},{"$f":"IF(ISBLANK(InfoPro!H103),\"\",InfoPro!H103)","v":"SC_1722"},{"$f":"IF(ISBLANK(InfoPro!B103),\"\",InfoPro!B103)","v":"PARQUE EÓLICO MONSAUI 9,9 MW"},{"$f":"IF(ISBLANK(InfoPro!E103),\"\",InfoPro!E103)","v":9.9},{"$f":"IF(ISBLANK(InfoPro!C103),\"\",InfoPro!C103)","v":"2022-07-18"},{"$f":"IF(ISBLANK(InfoPro!D103),\"\",InfoPro!D103)","v":44760},{"$f":"IF(ISBLANK(InfoPro!L103),\"\",InfoPro!L103)","v":"NO"},{"$f":"'IT-TA'!H104","v":0},{"$f":"IFERROR('BT-Confi'!Y111,\"\")","v":322357.69106186181},{"$f":"IFERROR('BT-Flex'!Y111,\"\")","v":0},{"$f":"IFERROR('EC-RE'!Z111,\"\")","v":1171597.4257624641},{"$f":"IFERROR('EC-RP'!Z110,\"\")","v":2668443.2624958875},{"$f":"IFERROR('EC-Per'!W110,\"\")","v":107325.97384446906},{"$f":"IFERROR('EC-Mar'!Y110,\"\")","v":2668443.2624958875},0,{"$error":"#REF!"},{"$error":"#REF!"},{"$error":"#REF!"},{"$error":"#REF!"},{"$error":"#REF!"},{"$error":"#REF!"},{"$error":"#REF!"},""]
[{"$f":"IF(ISBLANK(InfoPro!A104),\"\",InfoPro!A104)","v":"SC_1728_A1"},{"$f":"IF(ISBLANK(InfoPro!H104),\"\",InfoPro!H104)","v":"SC_1728"},{"$f":"IF(ISBLANK(InfoPro!B104),\"\",InfoPro!B104)","v":"PARQUE SOLAR CAÑAHUATE II - 190 MW"},{"$f":"IF(ISBLANK(InfoPro!E104),\"\",InfoPro!E104)","v":190},{"$f":"IF(ISBLANK(InfoPro!C104),\"\",InfoPro!C104)","v":"2022-09-03"},{"$f":"IF(ISBLANK(InfoPro!D104),\"\",InfoPro!D104)","v":44760},{"$f":"IF(ISBLANK(InfoPro!L104),\"\",InfoPro!L104)","v":"NO"},{"$f":"'IT-TA'!H105","v":0},{"$f":"IFERROR('BT-Confi'!Y112,\"\")","v":513690.98958057468},{"$f":"IFERROR('BT-Flex'!Y112,\"\")","v":0},{"$f":"IFERROR('EC-RE'!Z112,\"\")","v":746796.5650796009},{"$f":"IFERROR('EC-RP'!Z111,\"\")","v":1700912.1211109252},{"$f":"IFERROR('EC-Per'!W111,\"\")","v":-112265.73387661294},{"$f":"IFERROR('EC-Mar'!Y111,\"\")","v":1700912.1211109252},0,{"$error":"#REF!"},{"$error":"#REF!"},{"$error":"#REF!"},{"$error":"#REF!"},{"$error":"#REF!"},{"$error":"#REF!"},{"$error":"#REF!"},""]
[{"$f":"IF(ISBLANK(InfoPro!A105),\"\",InfoPro!A105)","v":"SC_1729_A1"},{"$f":"IF(ISBLANK(InfoPro!H105),\"\",InfoPro!H105)","v":"SC_1729"},{"$f":"IF(ISBLANK(InfoPro!B105),\"\",InfoPro!B105)","v":"TR Solar 17"},{"$f":"IF(ISBLANK(InfoPro!E105),\"\",InfoPro!E105)","v":200},{"$f":"IF(ISBLANK(InfoPro!C105),\"\",InfoPro!C105)","v":"2022-07-18"},{"$f":"IF(ISBLANK(InfoPro!D105),\"\",InfoPro!D105)","v":44760},{"$f":"IF(ISBLANK(InfoPro!L105),\"\",InfoPro!L105)","v":"NO"},{"$f":"'IT-TA'!H106","v":0},{"$f":"IFERROR('BT-Confi'!Y113,\"\")","v":410977.77911342977},{"$f":"IFERROR('BT-Flex'!Y113,\"\")","v":0},{"$f":"IFERROR('EC-RE'!Z113,\"\")","v":597473.57845725096},{"$f":"IFERROR('EC-RP'!Z112,\"\")","v":1360812.4342847452},{"$f":"IFERROR('EC-Per'!W112,\"\")","v":-80445.415306137205},{"$f":"IFERROR('EC-Mar'!Y112,\"\")","v":1360812.4342847452},0,{"$error":"#REF!"},{"$error":"#REF!"},{"$error":"#REF!"},{"$error":"#REF!"},{"$error":"#REF!"},{"$error":"#REF!"},{"$error":"#REF!"},""]
[{"$f":"IF(ISBLANK(InfoPro!A106),\"\",InfoPro!A106)","v":"SC_1729_A2"},{"$f":"IF(ISBLANK(InfoPro!H106),\"\",InfoPro!H106)","v":"SC_1729"},{"$f":"IF(ISBLANK(InfoPro!B106),\"\",InfoPro!B106)","v":"TR Solar 17"},{"$f":"IF(ISBLANK(InfoPro!E106),\"\",InfoPro!E106)","v":200},{"$f":"IF(ISBLANK(InfoPro!C106),\"\",InfoPro!C106)","v":"2022-07-18"},{"$f":"IF(ISBLANK(InfoPro!D106),\"\",InfoPro!D106)","v":44760},{"$f":"IF(ISBLANK(InfoPro!L106),\"\",InfoPro!L106)","v":"NO"},{"$f":"'IT-TA'!H107","v":0},{"$f":"IFERROR('BT-Confi'!Y114,\"\")","v":410977.77911342977},{"$f":"IFERROR('BT-Flex'!Y114,\"\")","v":0},{"$f":"IFERROR('EC-RE'!Z114,\"\")","v":597473.57845725096},{"$f":"IFERROR('EC-RP'!Z113,\"\")","v":1360812.4342847452},{"$f":"IFERROR('EC-Per'!W113,\"\")","v":81556.101513519752},{"$f":"IFERROR('EC-Mar'!Y113,\"\")","v":1360812.4342847452},0,{"$error":"#REF!"},{"$error":"#REF!"},{"$error":"#REF!"},{"$error":"#REF!"},{"$error":"#REF!"},{"$error":"#REF!"},{"$error":"#REF!"},""]
[{"$f":"IF(ISBLANK(InfoPro!A107),\"\",InfoPro!A107)","v":"SC_1746_A1"},{"$f":"IF(ISBLANK(InfoPro!H107),\"\",InfoPro!H107)","v":"SC_1746"},{"$f":"IF(ISBLANK(InfoPro!B107),\"\",InfoPro!B107)","v":"Parque Solar Nuevo Mundo"},{"$f":"IF(ISBLANK(InfoPro!E107),\"\",InfoPro!E107)","v":99.99},{"$f":"IF(ISBLANK(InfoPro!C107),\"\",InfoPro!C107)","v":"2022-09-03T11:38:00"},{"$f":"IF(ISBLANK(InfoPro!D107),\"\",InfoPro!D107)","v":44807.484722222223},{"$f":"IF(ISBLANK(InfoPro!L107),\"\",InfoPro!L107)","v":"SI"},{"$f":"'IT-TA'!H108","v":0},{"$f":"IFERROR('BT-Confi'!Y115,\"\")","v":459473.15704881446},{"$f":"IFERROR('BT-Flex'!Y115,\"\")","v":0},{"$f":"IFERROR('EC-RE'!Z115,\"\")","v":667975.46071520669},{"$f":"IFERROR('EC-RP'!Z114,\"\")","v":1521388.3015303446},{"$f":"IFERROR('EC-Per'!W114,\"\")","v":-46800.809516009867},{"$f":"IFERROR('EC-Mar'!Y114,\"\")","v":1521388.3015303446},0,{"$error":"#REF!"},{"$error":"#REF!"},{"$error":"#REF!"},{"$error":"#REF!"},{"$error":"#REF!"},{"$error":"#REF!"},{"$error":"#REF!"},""]
[{"$f":"IF(ISBLANK(InfoPro!A108),\"\",InfoPro!A108)","v":"SC_1746_A2"},{"$f":"IF(ISBLANK(InfoPro!H108),\"\",InfoPro!H108)","v":"SC_1746"},{"$f":"IF(ISBLANK(InfoPro!B108),\"\",InfoPro!B108)","v":"Parque Solar Nuevo Mundo"},{"$f":"IF(ISBLANK(InfoPro!E108),\"\",InfoPro!E108)","v":99.99},{"$f":"IF(ISBLANK(InfoPro!C108),\"\",InfoPro!C108)","v":"2022-09-03T11:38:00"},{"$f":"IF(ISBLANK(InfoPro!D108),\"\",InfoPro!D108)","v":44807.484722222223},{"$f":"IF(ISBLANK(InfoPro!L108),\"\",InfoPro!L108)","v":"SI"},{"$f":"'IT-TA'!H109","v":0},{"$f":"IFERROR('BT-Confi'!Y116,\"\")","v":459473.15704881446},{"$f":"IFERROR('BT-Flex'!Y116,\"\")","v":0},{"$f":"IFERROR('EC-RE'!Z116,\"\")","v":667975.46071520669},{"$f":"IFERROR('EC-RP'!Z115,\"\")","v":1521388.3015303446},{"$f":"IFERROR('EC-Per'!W115,\"\")","v":-32655.303278671548},{"$f":"IFERROR('EC-Mar'!Y115,\"\")","v":1521388.3015303446},0,{"$error":"#REF!"},{"$error":"#REF!"},{"$error":"#REF!"},{"$error":"#REF!"},{"$error":"#REF!"},{"$error":"#REF!"},{"$error":"#REF!"},""]
[{"$f":"IF(ISBLANK(InfoPro!A109),\"\",InfoPro!A109)","v":"SC_1752_A1"},{"$f":"IF(ISBLANK(InfoPro!H109),\"\",InfoPro!H109)","v":"SC_1752"},{"$f":"IF(ISBLANK(InfoPro!B109),\"\",InfoPro!B109)","v":"OWF BERGANTIN 300"},{"$f":"IF(ISBLANK(InfoPro!E109),\"\",InfoPro!E109)","v":300},{"$f":"IF(ISBLANK(InfoPro!C109),\"\",InfoPro!C109)","v":"2022-03-26T08:28:00"},{"$f":"IF(ISBLANK(InfoPro!D109),\"\",InfoPro!D109)","v":44646.352777777778},{"$f":"IF(ISBLANK(InfoPro!L109),\"\",InfoPro!L109)","v":"NO"},{"$f":"'IT-TA'!H110","v":0},{"$f":"IFERROR('BT-Confi'!Y117,\"\")","v":184556.3611204614},{"$f":"IFERROR('BT-Flex'!Y117,\"\")","v":0},{"$f":"IFERROR('EC-RE'!Z117,\"\")","v":670763.45188030764},{"$f":"IFERROR('EC-RP'!Z116,\"\")","v":1527738.2610615124},{"$f":"IFERROR('EC-Per'!W116,\"\")","v":-111230.3039784923},{"$f":"IFERROR('EC-Mar'!Y116,\"\")","v":1527738.2610615124},0,{"$error":"#REF!"},{"$error":"#REF!"},{"$error":"#REF!"},{"$error":"#REF!"},{"$error":"#REF!"},{"$error":"#REF!"},{"$error":"#REF!"},""]
[{"$f":"IF(ISBLANK(InfoPro!A110),\"\",InfoPro!A110)","v":"SC_1752_A2"},{"$f":"IF(ISBLANK(InfoPro!H110),\"\",InfoPro!H110)","v":"SC_1752"},{"$f":"IF(ISBLANK(InfoPro!B110),\"\",InfoPro!B110)","v":"OWF BERGANTIN 300"},{"$f":"IF(ISBLANK(InfoPro!E110),\"\",InfoPro!E110)","v":300},{"$f":"IF(ISBLANK(InfoPro!C110),\"\",InfoPro!C110)","v":"2022-03-26T08:28:00"},{"$f":"IF(ISBLANK(InfoPro!D110),\"\",InfoPro!D110)","v":44646.352777777778},{"$f":"IF(ISBLANK(InfoPro!L110),\"\",InfoPro!L110)","v":"NO"},{"$f":"'IT-TA'!H111","v":0},{"$f":"IFERROR('BT-Confi'!Y118,\"\")","v":184556.3611204614},{"$f":"IFERROR('BT-Flex'!Y118,\"\")","v":0},{"$f":"IFERROR('EC-RE'!Z118,\"\")","v":670763.45188030764},{"$f":"IFERROR('EC-RP'!Z117,\"\")","v":1527738.2610615124},{"$f":"IFERROR('EC-Per'!W117,\"\")","v":-101423.61050486706},{"$f":"IFERROR('EC-Mar'!Y117,\"\")","v":1527738.2610615124},0,{"$error":"#REF!"},{"$error":"#REF!"},{"$error":"#REF!"},{"$error":"#REF!"},{"$error":"#REF!"},{"$error":"#REF!"},{"$error":"#REF!"},""]
[{"$f":"IF(ISBLANK(InfoPro!A111),\"\",InfoPro!A111)","v":"SC_1756_A1"},{"$f":"IF(ISBLANK(InfoPro!H111),\"\",InfoPro!H111)","v":"SC_1756"},{"$f":"IF(ISBLANK(InfoPro!B111),\"\",InfoPro!B111)","v":"Barlovento 4_500MW"},{"$f":"IF(ISBLANK(InfoPro!E111),\"\",InfoPro!E111)","v":500},{"$f":"IF(ISBLANK(InfoPro!C111),\"\",InfoPro!C111)","v":"2022-08-09T16:10:00"},{"$f":"IF(ISBLANK(InfoPro!D111),\"\",InfoPro!D111)","v":44782.673611111109},{"$f":"IF(ISBLANK(InfoPro!L111),\"\",InfoPro!L111)","v":"SI"},{"$f":"'IT-TA'!H112","v":0},{"$f":"IFERROR('BT-Confi'!Y119,\"\")","v":147654.06626359798},{"$f":"IFERROR('BT-Flex'!Y119,\"\")","v":0},{"$f":"IFERROR('EC-RE'!Z119,\"\")","v":536643.38942232309},{"$f":"IFERROR('EC-RP'!Z118,\"\")","v":1222264.9225565018},{"$f":"IFERROR('EC-Per'!W118,\"\")","v":-84798.594837713579},{"$f":"IFERROR('EC-Mar'!Y118,\"\")","v":1222264.9225565018},0,{"$error":"#REF!"},{"$error":"#REF!"},{"$error":"#REF!"},{"$error":"#REF!"},{"$error":"#REF!"},{"$error":"#REF!"},{"$error":"#REF!"},""]
[{"$f":"IF(ISBLANK(InfoPro!A112),\"\",InfoPro!A112)","v":"SC_1765_A1"},{"$f":"IF(ISBLANK(InfoPro!H112),\"\",InfoPro!H112)","v":"SC_1765"},{"$f":"IF(ISBLANK(InfoPro!B112),\"\",InfoPro!B112)","v":"PARQUE SOLAR CIUDAD BLANCA - 199 MW"},{"$f":"IF(ISBLANK(InfoPro!E112),\"\",InfoPro!E112)","v":19.899999999999999},{"$f":"IF(ISBLANK(InfoPro!C112),\"\",InfoPro!C112)","v":"2022-06-25T16:38:00"},{"$f":"IF(ISBLANK(InfoPro!D112),\"\",InfoPro!D112)","v":44737.693055555559},{"$f":"IF(ISBLANK(InfoPro!L112),\"\",InfoPro!L112)","v":"NO"},{"$f":"'IT-TA'!H113","v":0},{"$f":"IFERROR('BT-Confi'!Y120,\"\")","v":410977.77911342995},{"$f":"IFERROR('BT-Flex'!Y120,\"\")","v":0},{"$f":"IFERROR('EC-RE'!Z120,\"\")","v":597473.57845725107},{"$f":"IFERROR('EC-RP'!Z119,\"\")","v":1360812.4342847448},{"$f":"IFERROR('EC-Per'!W119,\"\")","v":-28699.770140703247},{"$f":"IFERROR('EC-Mar'!Y119,\"\")","v":1360812.4342847448},0,{"$error":"#REF!"},{"$error":"#REF!"},{"$error":"#REF!"},{"$error":"#REF!"},{"$error":"#REF!"},{"$error":"#REF!"},{"$error":"#REF!"},""]
[{"$f":"IF(ISBLANK(InfoPro!A113),\"\",InfoPro!A113)","v":"SC_1765_A2"},{"$f":"IF(ISBLANK(InfoPro!H113),\"\",InfoPro!H113)","v":"SC_1765"},{"$f":"IF(ISBLANK(InfoPro!B113),\"\",InfoPro!B113)","v":"PARQUE SOLAR CIUDAD BLANCA - 199 MW"},{"$f":"IF(ISBLANK(InfoPro!E113),\"\",InfoPro!E113)","v":19.899999999999999},{"$f":"IF(ISBLANK(InfoPro!C113),\"\",InfoPro!C113)","v":"2022-06-25T16:38:00"},{"$f":"IF(ISBLANK(InfoPro!D113),\"\",InfoPro!D113)","v":44737.693055555559},{"$f":"IF(ISBLANK(InfoPro!L113),\"\",InfoPro!L113)","v":"NO"},{"$f":"'IT-TA'!H114","v":0},{"$f":"IFERROR('BT-Confi'!Y121,\"\")","v":410977.77911342995},{"$f":"IFERROR('BT-Flex'!Y121,\"\")","v":0},{"$f":"IFERROR('EC-RE'!Z121,\"\")","v":597473.57845725107},{"$f":"IFERROR('EC-RP'!Z120,\"\")","v":1360812.4342847448},{"$f":"IFERROR('EC-Per'!W120,\"\")","v":-28497.77887063607},{"$f":"IFERROR('EC-Mar'!Y120,\"\")","v":1360812.4342847448},0,{"$error":"#REF!"},{"$error":"#REF!"},{"$error":"#REF!"},{"$error":"#REF!"},{"$error":"#REF!"},{"$error":"#REF!"},{"$error":"#REF!"},""]
[{"$f":"IF(ISBLANK(InfoPro!A114),\"\",InfoPro!A114)","v":"SC_1779_A1"},{"$f":"IF(ISBLANK(InfoPro!H114),\"\",InfoPro!H114)","v":"SC_1779"},{"$f":"IF(ISBLANK(InfoPro!B114),\"\",InfoPro!B114)","v":"Pétalo del Cesar III El Paso"},{"$f":"IF(ISBLANK(InfoPro!E114),\"\",InfoPro!E114)","v":9.9},{"$f":"IF(ISBLANK(InfoPro!C114),\"\",InfoPro!C114)","v":"2022-08-12T14:56:00"},{"$f":"IF(ISBLANK(InfoPro!D114),\"\",InfoPro!D114)","v":44785.62222222222},{"$f":"IF(ISBLANK(InfoPro!L114),\"\",InfoPro!L114)","v":"NO"},{"$f":"'IT-TA'!H115","v":0},{"$f":"IFERROR('BT-Confi'!Y122,\"\")","v":410977.77911342995},{"$f":"IFERROR('BT-Flex'!Y122,\"\")","v":0},{"$f":"IFERROR('EC-RE'!Z122,\"\")","v":597473.57845725107},{"$f":"IFERROR('EC-RP'!Z121,\"\")","v":1360812.4342847455},{"$f":"IFERROR('EC-Per'!W121,\"\")","v":-110134.76816947114},{"$f":"IFERROR('EC-Mar'!Y121,\"\")","v":1360812.4342847455},0,{"$error":"#REF!"},{"$error":"#REF!"},{"$error":"#REF!"},{"$error":"#REF!"},{"$error":"#REF!"},{"$error":"#REF!"},{"$error":"#REF!"},""]
[{"$f":"IF(ISBLANK(InfoPro!A115),\"\",InfoPro!A115)","v":"SC_1779_A2"},{"$f":"IF(ISBLANK(InfoPro!H115),\"\",InfoPro!H115)","v":"SC_1779"},{"$f":"IF(ISBLANK(InfoPro!B115),\"\",InfoPro!B115)","v":"Pétalo del Cesar III El Paso"},{"$f":"IF(ISBLANK(InfoPro!E115),\"\",InfoPro!E115)","v":9.9},{"$f":"IF(ISBLANK(InfoPro!C115),\"\",InfoPro!C115)","v":"2022-08-12T14:56:00"},{"$f":"IF(ISBLANK(InfoPro!D115),\"\",InfoPro!D115)","v":44785.62222222222},{"$f":"IF(ISBLANK(InfoPro!L115),\"\",InfoPro!L115)","v":"NO"},{"$f":"'IT-TA'!H116","v":0},{"$f":"IFERROR('BT-Confi'!Y123,\"\")","v":410977.77911342995},{"$f":"IFERROR('BT-Flex'!Y123,\"\")","v":0},{"$f":"IFERROR('EC-RE'!Z123,\"\")","v":597473.57845725107},{"$f":"IFERROR('EC-RP'!Z122,\"\")","v":1360812.4342847455},{"$f":"IFERROR('EC-Per'!W122,\"\")","v":-110126.2203198713},{"$f":"IFERROR('EC-Mar'!Y122,\"\")","v":1360812.4342847455},0,{"$error":"#REF!"},{"$error":"#REF!"},{"$error":"#REF!"},{"$error":"#REF!"},{"$error":"#REF!"},{"$error":"#REF!"},{"$error":"#REF!"},""]
[{"$f":"IF(ISBLANK(InfoPro!A116),\"\",InfoPro!A116)","v":"SC_1783_A1"},{"$f":"IF(ISBLANK(InfoPro!H116),\"\",InfoPro!H116)","v":"SC_1783\n"},{"$f":"IF(ISBLANK(InfoPro!B116),\"\",InfoPro!B116)","v":"Pétalo del Cesar IV La Loma"},{"$f":"IF(ISBLANK(InfoPro!E116),\"\",InfoPro!E116)","v":9.9},{"$f":"IF(ISBLANK(InfoPro!C116),\"\",InfoPro!C116)","v":"2022-07-22T22:44:00"},{"$f":"IF(ISBLANK(InfoPro!D116),\"\",InfoPro!D116)","v":44764.947222222225},{"$f":"IF(ISBLANK(InfoPro!L116),\"\",InfoPro!L116)","v":"NO"},{"$f":"'IT-TA'!H117","v":0},{"$f":"IFERROR('BT-Confi'!Y124,\"\")","v":410977.77911342995},{"$f":"IFERROR('BT-Flex'!Y124,\"\")","v":0},{"$f":"IFERROR('EC-RE'!Z124,\"\")","v":597473.57845725107},{"$f":"IFERROR('EC-RP'!Z123,\"\")","v":1360812.4342847455},{"$f":"IFERROR('EC-Per'!W123,\"\")","v":-217970.16479657844},{"$f":"IFERROR('EC-Mar'!Y123,\"\")","v":1360812.4342847455},0,{"$error":"#REF!"},{"$error":"#REF!"},{"$error":"#REF!"},{"$error":"#REF!"},{"$error":"#REF!"},{"$error":"#REF!"},{"$error":"#REF!"},""]
[{"$f":"IF(ISBLANK(InfoPro!A117),\"\",InfoPro!A117)","v":"SC_1783_A2"},{"$f":"IF(ISBLANK(InfoPro!H117),\"\",InfoPro!H117)","v":"SC_1783\n"},{"$f":"IF(ISBLANK(InfoPro!B117),\"\",InfoPro!B117)","v":"Pétalo del Cesar IV La Loma"},{"$f":"IF(ISBLANK(InfoPro!E117),\"\",InfoPro!E117)","v":9.9},{"$f":"IF(ISBLANK(InfoPro!C117),\"\",InfoPro!C117)","v":"2022-07-22T22:44:00"},{"$f":"IF(ISBLANK(InfoPro!D117),\"\",InfoPro!D117)","v":44764.947222222225},{"$f":"IF(ISBLANK(InfoPro!L117),\"\",InfoPro!L117)","v":"NO"},{"$f":"'IT-TA'!H118","v":0},{"$f":"IFERROR('BT-Confi'!Y125,\"\")","v":410977.77911342995},{"$f":"IFERROR('BT-Flex'!Y125,\"\")","v":0},{"$f":"IFERROR('EC-RE'!Z125,\"\")","v":597473.57845725107},{"$f":"IFERROR('EC-RP'!Z124,\"\")","v":1360812.4342847455},{"$f":"IFERROR('EC-Per'!W124,\"\")","v":-197669.02199689703},{"$f":"IFERROR('EC-Mar'!Y124,\"\")","v":1360812.4342847455},0,{"$error":"#REF!"},{"$error":"#REF!"},{"$error":"#REF!"},{"$error":"#REF!"},{"$error":"#REF!"},{"$error":"#REF!"},{"$error":"#REF!"},""]
[{"$f":"IF(ISBLANK(InfoPro!A118),\"\",InfoPro!A118)","v":"SC_1788_A1"},{"$f":"IF(ISBLANK(InfoPro!H118),\"\",InfoPro!H118)","v":"SC_1788"},{"$f":"IF(ISBLANK(InfoPro!B118),\"\",InfoPro!B118)","v":"DSE COPEY 19.9"},{"$f":"IF(ISBLANK(InfoPro!E118),\"\",InfoPro!E118)","v":19.899999999999999},{"$f":"IF(ISBLANK(InfoPro!C118),\"\",InfoPro!C118)","v":"2022-07-28T18:07:00"},{"$f":"IF(ISBLANK(InfoPro!D118),\"\",InfoPro!D118)","v":44770.754861111112},{"$f":"IF(ISBLANK(InfoPro!L118),\"\",InfoPro!L118)","v":"NO"},{"$f":"'IT-TA'!H119","v":0},{"$f":"IFERROR('BT-Confi'!Y126,\"\")","v":459473.15704881458},{"$f":"IFERROR('BT-Flex'!Y126,\"\")","v":0},{"$f":"IFERROR('EC-RE'!Z126,\"\")","v":667975.46071520681},{"$f":"IFERROR('EC-RP'!Z125,\"\")","v":1521388.3015303449},{"$f":"IFERROR('EC-Per'!W125,\"\")","v":-29713.978938830031},{"$f":"IFERROR('EC-Mar'!Y125,\"\")","v":1521388.3015303449},0,{"$error":"#REF!"},{"$error":"#REF!"},{"$error":"#REF!"},{"$error":"#REF!"},{"$error":"#REF!"},{"$error":"#REF!"},{"$error":"#REF!"},""]
[{"$f":"IF(ISBLANK(InfoPro!A119),\"\",InfoPro!A119)","v":"SC_1811_A1"},{"$f":"IF(ISBLANK(InfoPro!H119),\"\",InfoPro!H119)","v":"SC_1811"},{"$f":"IF(ISBLANK(InfoPro!B119),\"\",InfoPro!B119)","v":"DSE RIOHACHA"},{"$f":"IF(ISBLANK(InfoPro!E119),\"\",InfoPro!E119)","v":9.9},{"$f":"IF(ISBLANK(InfoPro!C119),\"\",InfoPro!C119)","v":"2022-07-27T16:05:00"},{"$f":"IF(ISBLANK(InfoPro!D119),\"\",InfoPro!D119)","v":44769.670138888891},{"$f":"IF(ISBLANK(InfoPro!L119),\"\",InfoPro!L119)","v":"NO"},{"$f":"'IT-TA'!H120","v":0},{"$f":"IFERROR('BT-Confi'!Y127,\"\")","v":459473.15704881464},{"$f":"IFERROR('BT-Flex'!Y127,\"\")","v":0},{"$f":"IFERROR('EC-RE'!Z127,\"\")","v":667975.46071520657},{"$f":"IFERROR('EC-RP'!Z126,\"\")","v":1521388.3015303449},{"$f":"IFERROR('EC-Per'!W126,\"\")","v":-211437.47073988087},{"$f":"IFERROR('EC-Mar'!Y126,\"\")","v":1521388.3015303449},0,{"$error":"#REF!"},{"$error":"#REF!"},{"$error":"#REF!"},{"$error":"#REF!"},{"$error":"#REF!"},{"$error":"#REF!"},{"$error":"#REF!"},""]
[{"$f":"IF(ISBLANK(InfoPro!A120),\"\",InfoPro!A120)","v":"SC_1811_A2"},{"$f":"IF(ISBLANK(InfoPro!H120),\"\",InfoPro!H120)","v":"SC_1811"},{"$f":"IF(ISBLANK(InfoPro!B120),\"\",InfoPro!B120)","v":"DSE RIOHACHA"},{"$f":"IF(ISBLANK(InfoPro!E120),\"\",InfoPro!E120)","v":9.9},{"$f":"IF(ISBLANK(InfoPro!C120),\"\",InfoPro!C120)","v":"2022-07-27T16:05:00"},{"$f":"IF(ISBLANK(InfoPro!D120),\"\",InfoPro!D120)","v":44769.670138888891},{"$f":"IF(ISBLANK(InfoPro!L120),\"\",InfoPro!L120)","v":"NO"},{"$f":"'IT-TA'!H121","v":0},{"$f":"IFERROR('BT-Confi'!Y128,\"\")","v":459473.15704881464},{"$f":"IFERROR('BT-Flex'!Y128,\"\")","v":0},{"$f":"IFERROR('EC-RE'!Z128,\"\")","v":667975.46071520657},{"$f":"IFERROR('EC-RP'!Z127,\"\")","v":1521388.3015303449},{"$f":"IFERROR('EC-Per'!W127,\"\")","v":-207853.78479513718},{"$f":"IFERROR('EC-Mar'!Y127,\"\")","v":1521388.3015303449},0,{"$error":"#REF!"},{"$error":"#REF!"},{"$error":"#REF!"},{"$error":"#REF!"},{"$error":"#REF!"},{"$error":"#REF!"},{"$error":"#REF!"},""]
[{"$f":"IF(ISBLANK(InfoPro!A121),\"\",InfoPro!A121)","v":"SC_1824_A1"},{"$f":"IF(ISBLANK(InfoPro!H121),\"\",InfoPro!H121)","v":"SC_1824"},{"$f":"IF(ISBLANK(InfoPro!B121),\"\",InfoPro!B121)","v":"PGF ROSARIO II_45MW"},{"$f":"IF(ISBLANK(InfoPro!E121),\"\",InfoPro!E121)","v":45},{"$f":"IF(ISBLANK(InfoPro!C121),\"\",InfoPro!C121)","v":"2022-08-10T11:28:00"},{"$f":"IF(ISBLANK(InfoPro!D121),\"\",InfoPro!D121)","v":44783.477777777778},{"$f":"IF(ISBLANK(InfoPro!L121),\"\",InfoPro!L121)","v":"NO"},{"$f":"'IT-TA'!H122","v":0},{"$f":"IFERROR('BT-Confi'!Y129,\"\")","v":410977.77911342983},{"$f":"IFERROR('BT-Flex'!Y129,\"\")","v":0},{"$f":"IFERROR('EC-RE'!Z129,\"\")","v":597473.57845725107},{"$f":"IFERROR('EC-RP'!Z128,\"\")","v":1360812.4342847448},{"$f":"IFERROR('EC-Per'!W128,\"\")","v":126912.05997160774},{"$f":"IFERROR('EC-Mar'!Y128,\"\")","v":1360812.4342847448},0,{"$error":"#REF!"},{"$error":"#REF!"},{"$error":"#REF!"},{"$error":"#REF!"},{"$error":"#REF!"},{"$error":"#REF!"},{"$error":"#REF!"},""]
[{"$f":"IF(ISBLANK(InfoPro!A122),\"\",InfoPro!A122)","v":"SC_1824_A2"},{"$f":"IF(ISBLANK(InfoPro!H122),\"\",InfoPro!H122)","v":"SC_1824"},{"$f":"IF(ISBLANK(InfoPro!B122),\"\",InfoPro!B122)","v":"PGF ROSARIO II_45MW"},{"$f":"IF(ISBLANK(InfoPro!E122),\"\",InfoPro!E122)","v":45},{"$f":"IF(ISBLANK(InfoPro!C122),\"\",InfoPro!C122)","v":"2022-08-10T11:28:00"},{"$f":"IF(ISBLANK(InfoPro!D122),\"\",InfoPro!D122)","v":44783.477777777778},{"$f":"IF(ISBLANK(InfoPro!L122),\"\",InfoPro!L122)","v":"NO"},{"$f":"'IT-TA'!H123","v":0},{"$f":"IFERROR('BT-Confi'!Y130,\"\")","v":410977.77911342983},{"$f":"IFERROR('BT-Flex'!Y130,\"\")","v":0},{"$f":"IFERROR('EC-RE'!Z130,\"\")","v":597473.57845725107},{"$f":"IFERROR('EC-RP'!Z129,\"\")","v":1360812.4342847448},{"$f":"IFERROR('EC-Per'!W129,\"\")","v":124114.77619005168},{"$f":"IFERROR('EC-Mar'!Y129,\"\")","v":1360812.4342847448},0,{"$error":"#REF!"},{"$error":"#REF!"},{"$error":"#REF!"},{"$error":"#REF!"},{"$error":"#REF!"},{"$error":"#REF!"},{"$error":"#REF!"},""]
[{"$f":"IF(ISBLANK(InfoPro!A123),\"\",InfoPro!A123)","v":"SC_1827_A1"},{"$f":"IF(ISBLANK(InfoPro!H123),\"\",InfoPro!H123)","v":"SC_1827"},{"$f":"IF(ISBLANK(InfoPro!B123),\"\",InfoPro!B123)","v":"Guatapurí Solar I 9,9 MW"},{"$f":"IF(ISBLANK(InfoPro!E123),\"\",InfoPro!E123)","v":9.9},{"$f":"IF(ISBLANK(InfoPro!C123),\"\",InfoPro!C123)","v":"2022-08-01T14:52:00"},{"$f":"IF(ISBLANK(InfoPro!D123),\"\",InfoPro!D123)","v":44774.619444444441},{"$f":"IF(ISBLANK(InfoPro!L123),\"\",InfoPro!L123)","v":"NO"},{"$f":"'IT-TA'!H124","v":0},{"$f":"IFERROR('BT-Confi'!Y131,\"\")","v":459473.15704881464},{"$f":"IFERROR('BT-Flex'!Y131,\"\")","v":0},{"$f":"IFERROR('EC-RE'!Z131,\"\")","v":667975.46071520657},{"$f":"IFERROR('EC-RP'!Z130,\"\")","v":1521388.3015303449},{"$f":"IFERROR('EC-Per'!W130,\"\")","v":-812649.76501188881},{"$f":"IFERROR('EC-Mar'!Y130,\"\")","v":1521388.3015303449},0,{"$error":"#REF!"},{"$error":"#REF!"},{"$error":"#REF!"},{"$error":"#REF!"},{"$error":"#REF!"},{"$error":"#REF!"},{"$error":"#REF!"},""]
[{"$f":"IF(ISBLANK(InfoPro!A124),\"\",InfoPro!A124)","v":"SC_1827_A2"},{"$f":"IF(ISBLANK(InfoPro!H124),\"\",InfoPro!H124)","v":"SC_1827"},{"$f":"IF(ISBLANK(InfoPro!B124),\"\",InfoPro!B124)","v":"Guatapurí Solar I 9,9 MW"},{"$f":"IF(ISBLANK(InfoPro!E124),\"\",InfoPro!E124)","v":9.9},{"$f":"IF(ISBLANK(InfoPro!C124),\"\",InfoPro!C124)","v":"2022-08-01T14:52:00"},{"$f":"IF(ISBLANK(InfoPro!D124),\"\",InfoPro!D124)","v":44774.619444444441},{"$f":"IF(ISBLANK(InfoPro!L124),\"\",InfoPro!L124)","v":"NO"},{"$f":"'IT-TA'!H125","v":0},{"$f":"IFERROR('BT-Confi'!Y132,\"\")","v":459473.15704881464},{"$f":"IFERROR('BT-Flex'!Y132,\"\")","v":0},{"$f":"IFERROR('EC-RE'!Z132,\"\")","v":667975.46071520657},{"$f":"IFERROR('EC-RP'!Z131,\"\")","v":1521388.3015303449},{"$f":"IFERROR('EC-Per'!W131,\"\")","v":-754173.56688952353},{"$f":"IFERROR('EC-Mar'!Y131,\"\")","v":1521388.3015303449},0,{"$error":"#REF!"},{"$error":"#REF!"},{"$error":"#REF!"},{"$error":"#REF!"},{"$error":"#REF!"},{"$error":"#REF!"},{"$error":"#REF!"},""]
[{"$f":"IF(ISBLANK(InfoPro!A125),\"\",InfoPro!A125)","v":"SC_1830_A1"},{"$f":"IF(ISBLANK(InfoPro!H125),\"\",InfoPro!H125)","v":"SC_1830"},{"$f":"IF(ISBLANK(InfoPro!B125),\"\",InfoPro!B125)","v":"Guatapurí Solar II 9,9 MW"},{"$f":"IF(ISBLANK(InfoPro!E125),\"\",InfoPro!E125)","v":9.9},{"$f":"IF(ISBLANK(InfoPro!C125),\"\",InfoPro!C125)","v":"2022-08-01T14:55:00"},{"$f":"IF(ISBLANK(InfoPro!D125),\"\",InfoPro!D125)","v":44774.621527777781},{"$f":"IF(ISBLANK(InfoPro!L125),\"\",InfoPro!L125)","v":"NO"},{"$f":"'IT-TA'!H126","v":0},{"$f":"IFERROR('BT-Confi'!Y133,\"\")","v":459473.15704881464},{"$f":"IFERROR('BT-Flex'!Y133,\"\")","v":0},{"$f":"IFERROR('EC-RE'!Z133,\"\")","v":667975.46071520657},{"$f":"IFERROR('EC-RP'!Z132,\"\")","v":1521388.3015303449},{"$f":"IFERROR('EC-Per'!W132,\"\")","v":-812649.76501188881},{"$f":"IFERROR('EC-Mar'!Y132,\"\")","v":1521388.3015303449},0,{"$error":"#REF!"},{"$error":"#REF!"},{"$error":"#REF!"},{"$error":"#REF!"},{"$error":"#REF!"},{"$error":"#REF!"},{"$error":"#REF!"},""]
[{"$f":"IF(ISBLANK(InfoPro!A126),\"\",InfoPro!A126)","v":"SC_1830_A2"},{"$f":"IF(ISBLANK(InfoPro!H126),\"\",InfoPro!H126)","v":"SC_1830"},{"$f":"IF(ISBLANK(InfoPro!B126),\"\",InfoPro!B126)","v":"Guatapurí Solar II 9,9 MW"},{"$f":"IF(ISBLANK(InfoPro!E126),\"\",InfoPro!E126)","v":9.9},{"$f":"IF(ISBLANK(InfoPro!C126),\"\",InfoPro!C126)","v":"2022-08-01T14:55:00"},{"$f":"IF(ISBLANK(InfoPro!D126),\"\",InfoPro!D126)","v":44774.621527777781},{"$f":"IF(ISBLANK(InfoPro!L126),\"\",InfoPro!L126)","v":"NO"},{"$f":"'IT-TA'!H127","v":0},{"$f":"IFERROR('BT-Confi'!Y134,\"\")","v":459473.15704881464},{"$f":"IFERROR('BT-Flex'!Y134,\"\")","v":0},{"$f":"IFERROR('EC-RE'!Z134,\"\")","v":667975.46071520657},{"$f":"IFERROR('EC-RP'!Z133,\"\")","v":1521388.3015303449},{"$f":"IFERROR('EC-Per'!W133,\"\")","v":-754173.56688952353},{"$f":"IFERROR('EC-Mar'!Y133,\"\")","v":1521388.3015303449},0,{"$error":"#REF!"},{"$error":"#REF!"},{"$error":"#REF!"},{"$error":"#REF!"},{"$error":"#REF!"},{"$error":"#REF!"},{"$error":"#REF!"},""]
[{"$f":"IF(ISBLANK(InfoPro!A127),\"\",InfoPro!A127)","v":"SC_1840_A1"},{"$f":"IF(ISBLANK(InfoPro!H127),\"\",InfoPro!H127)","v":"SC_1840"},{"$f":"IF(ISBLANK(InfoPro!B127),\"\",InfoPro!B127)","v":"Granja Solar Asturias 9,9 MW"},{"$f":"IF(ISBLANK(InfoPro!E127),\"\",InfoPro!E127)","v":9.9},{"$f":"IF(ISBLANK(InfoPro!C127),\"\",InfoPro!C127)","v":"2022-08-02T12:37:00"},{"$f":"IF(ISBLANK(InfoPro!D127),\"\",InfoPro!D127)","v":44775.525694444441},{"$f":"IF(ISBLANK(InfoPro!L127),\"\",InfoPro!L127)","v":"NO"},{"$f":"'IT-TA'!H128","v":0},{"$f":"IFERROR('BT-Confi'!Y135,\"\")","v":459473.15704881464},{"$f":"IFERROR('BT-Flex'!Y135,\"\")","v":0},{"$f":"IFERROR('EC-RE'!Z135,\"\")","v":667975.46071520657},{"$f":"IFERROR('EC-RP'!Z134,\"\")","v":1521388.3015303449},{"$f":"IFERROR('EC-Per'!W134,\"\")","v":-112288.82626863731},{"$f":"IFERROR('EC-Mar'!Y134,\"\")","v":1521388.3015303449},0,{"$error":"#REF!"},{"$error":"#REF!"},{"$error":"#REF!"},{"$error":"#REF!"},{"$error":"#REF!"},{"$error":"#REF!"},{"$error":"#REF!"},""]
[{"$f":"IF(ISBLANK(InfoPro!A128),\"\",InfoPro!A128)","v":"SC_1840_A2"},{"$f":"IF(ISBLANK(InfoPro!H128),\"\",InfoPro!H128)","v":"SC_1840"},{"$f":"IF(ISBLANK(InfoPro!B128),\"\",InfoPro!B128)","v":"Granja Solar Asturias 9,9 MW"},{"$f":"IF(ISBLANK(InfoPro!E128),\"\",InfoPro!E128)","v":9.9},{"$f":"IF(ISBLANK(InfoPro!C128),\"\",InfoPro!C128)","v":"2022-08-02T12:37:00"},{"$f":"IF(ISBLANK(InfoPro!D128),\"\",InfoPro!D128)","v":44775.525694444441},{"$f":"IF(ISBLANK(InfoPro!L128),\"\",InfoPro!L128)","v":"NO"},{"$f":"'IT-TA'!H129","v":0},{"$f":"IFERROR('BT-Confi'!Y136,\"\")","v":459473.15704881464},{"$f":"IFERROR('BT-Flex'!Y136,\"\")","v":0},{"$f":"IFERROR('EC-RE'!Z136,\"\")","v":667975.46071520657},{"$f":"IFERROR('EC-RP'!Z135,\"\")","v":1521388.3015303449},{"$f":"IFERROR('EC-Per'!W135,\"\")","v":-112288.82626863731},{"$f":"IFERROR('EC-Mar'!Y135,\"\")","v":1521388.3015303449},0,{"$error":"#REF!"},{"$error":"#REF!"},{"$error":"#REF!"},{"$error":"#REF!"},{"$error":"#REF!"},{"$error":"#REF!"},{"$error":"#REF!"},""]
[{"$f":"IF(ISBLANK(InfoPro!A129),\"\",InfoPro!A129)","v":"SC_1846_A1"},{"$f":"IF(ISBLANK(InfoPro!H129),\"\",InfoPro!H129)","v":"SC_1846"},{"$f":"IF(ISBLANK(InfoPro!B129),\"\",InfoPro!B129)","v":"PARQUE DE GENERACIÓN SOLAR CYGNUS 50 MW"},{"$f":"IF(ISBLANK(InfoPro!E129),\"\",InfoPro!E129)","v":50},{"$f":"IF(ISBLANK(InfoPro!C129),\"\",InfoPro!C129)","v":"2022-08-16T13:59:00"},{"$f":"IF(ISBLANK(InfoPro!D129),\"\",InfoPro!D129)","v":44789.582638888889},{"$f":"IF(ISBLANK(InfoPro!L129),\"\",InfoPro!L129)","v":"NO"},{"$f":"'IT-TA'!H130","v":0},{"$f":"IFERROR('BT-Confi'!Y137,\"\")","v":459473.15704881452},{"$f":"IFERROR('BT-Flex'!Y137,\"\")","v":0},{"$f":"IFERROR('EC-RE'!Z137,\"\")","v":667975.46071520646},{"$f":"IFERROR('EC-RP'!Z136,\"\")","v":1521388.3015303449},{"$f":"IFERROR('EC-Per'!W136,\"\")","v":-408073.60179078119},{"$f":"IFERROR('EC-Mar'!Y136,\"\")","v":1521388.3015303449},{"$f":"IF(C132=\"\",\"\",(SUMIF(I132:N132,\">0\"))*(H132/100))","v":0},{"$f":"IF(C132=\"\",\"\",I132+$B$1)","v":{"$error":"#REF!"}},{"$f":"IF(D132=\"\",\"\",J132+$B$1)","v":{"$error":"#REF!"}},{"$f":"IF(E132=\"\",\"\",K132+$B$1)","v":{"$error":"#REF!"}},{"$f":"IF(F132=\"\",\"\",L132+$B$1)","v":{"$error":"#REF!"}},{"$f":"IF(G132=\"\",\"\",M132+$B$1)","v":{"$error":"#REF!"}},{"$f":"IF(H132=\"\",\"\",N132+$B$1)","v":{"$error":"#REF!"}},{"$f":"IF(I132=\"\",\"\",O132+$B$1)","v":{"$error":"#REF!"}},{"$f":"IFERROR((+$P$1*P132+$Q$1*Q132+$R$1*R132+$S$1*S132+$T$1*T132+U132*$U$1+$V$1*V132),\"\")","v":""}]
[{"$f":"IF(ISBLANK(InfoPro!A130),\"\",InfoPro!A130)","v":"SC_1846_A2"},{"$f":"IF(ISBLANK(InfoPro!H130),\"\",InfoPro!H130)","v":"SC_1846"},{"$f":"IF(ISBLANK(InfoPro!B130),\"\",InfoPro!B130)","v":"PARQUE DE GENERACIÓN SOLAR CYGNUS 50 MW"},{"$f":"IF(ISBLANK(InfoPro!E130),\"\",InfoPro!E130)","v":50},{"$f":"IF(ISBLANK(InfoPro!C130),\"\",InfoPro!C130)","v":"2022-08-16T13:59:00"},{"$f":"IF(ISBLANK(InfoPro!D130),\"\",InfoPro!D130)","v":44789.582638888889},{"$f":"IF(ISBLANK(InfoPro!L130),\"\",InfoPro!L130)","v":"NO"},{"$f":"'IT-TA'!H131","v":0},{"$f":"IFERROR('BT-Confi'!Y138,\"\")","v":459473.15704881452},{"$f":"IFERROR('BT-Flex'!Y138,\"\")","v":0},{"$f":"IFERROR('EC-RE'!Z138,\"\")","v":667975.46071520646},{"$f":"IFERROR('EC-RP'!Z137,\"\")","v":1521388.3015303449},{"$f":"IFERROR('EC-Per'!W137,\"\")","v":-432222.62789803144},{"$f":"IFERROR('EC-Mar'!Y137,\"\")","v":1521388.3015303449},0,{"$error":"#REF!"},{"$error":"#REF!"},{"$error":"#REF!"},{"$error":"#REF!"},{"$error":"#REF!"},{"$error":"#REF!"},{"$error":"#REF!"},""]
[{"$f":"IF(ISBLANK(InfoPro!A131),\"\",InfoPro!A131)","v":"SC_1854_A1"},{"$f":"IF(ISBLANK(InfoPro!H131),\"\",InfoPro!H131)","v":"SC_1854"},{"$f":"IF(ISBLANK(InfoPro!B131),\"\",InfoPro!B131)","v":"CATAY 1 - 200 MW"},{"$f":"IF(ISBLANK(InfoPro!E131),\"\",InfoPro!E131)","v":200},{"$f":"IF(ISBLANK(InfoPro!C131),\"\",InfoPro!C131)","v":"2022-07-03T15:28:00"},{"$f":"IF(ISBLANK(InfoPro!D131),\"\",InfoPro!D131)","v":44745.644444444442},{"$f":"IF(ISBLANK(InfoPro!L131),\"\",InfoPro!L131)","v":"NO"},{"$f":"'IT-TA'!H132","v":0},{"$f":"IFERROR('BT-Confi'!Y139,\"\")","v":367600.87577229866},{"$f":"IFERROR('BT-Flex'!Y139,\"\")","v":0},{"$f":"IFERROR('EC-RE'!Z139,\"\")","v":534412.86087410641},{"$f":"IFERROR('EC-RP'!Z138,\"\")","v":1217184.6460507561},{"$f":"IFERROR('EC-Per'!W138,\"\")","v":-245328.76497761815},{"$f":"IFERROR('EC-Mar'!Y138,\"\")","v":1217184.6460507561},0,{"$error":"#REF!"},{"$error":"#REF!"},{"$error":"#REF!"},{"$error":"#REF!"},{"$error":"#REF!"},{"$error":"#REF!"},{"$error":"#REF!"},""]
[{"$f":"IF(ISBLANK(InfoPro!A132),\"\",InfoPro!A132)","v":"SC_1854_A2"},{"$f":"IF(ISBLANK(InfoPro!H132),\"\",InfoPro!H132)","v":"SC_1854"},{"$f":"IF(ISBLANK(InfoPro!B132),\"\",InfoPro!B132)","v":"CATAY 1 - 200 MW"},{"$f":"IF(ISBLANK(InfoPro!E132),\"\",InfoPro!E132)","v":200},{"$f":"IF(ISBLANK(InfoPro!C132),\"\",InfoPro!C132)","v":"2022-07-03T15:28:00"},{"$f":"IF(ISBLANK(InfoPro!D132),\"\",InfoPro!D132)","v":44745.644444444442},{"$f":"IF(ISBLANK(InfoPro!L132),\"\",InfoPro!L132)","v":"NO"},{"$f":"'IT-TA'!H133","v":0},{"$f":"IFERROR('BT-Confi'!Y140,\"\")","v":367600.87577229866},{"$f":"IFERROR('BT-Flex'!Y140,\"\")","v":0},{"$f":"IFERROR('EC-RE'!Z140,\"\")","v":534412.86087410641},{"$f":"IFERROR('EC-RP'!Z139,\"\")","v":1217184.6460507561},{"$f":"IFERROR('EC-Per'!W139,\"\")","v":-187500.73951767362},{"$f":"IFERROR('EC-Mar'!Y139,\"\")","v":1217184.6460507561},0,{"$error":"#REF!"},{"$error":"#REF!"},{"$error":"#REF!"},{"$error":"#REF!"},{"$error":"#REF!"},{"$error":"#REF!"},{"$error":"#REF!"},""]
[{"$f":"IF(ISBLANK(InfoPro!A133),\"\",InfoPro!A133)","v":"SC_1856_A1"},{"$f":"IF(ISBLANK(InfoPro!H133),\"\",InfoPro!H133)","v":"SC_1856"},{"$f":"IF(ISBLANK(InfoPro!B133),\"\",InfoPro!B133)","v":"SIERRA NEVADA DE VERANO"},{"$f":"IF(ISBLANK(InfoPro!E133),\"\",InfoPro!E133)","v":99.9},{"$f":"IF(ISBLANK(InfoPro!C133),\"\",InfoPro!C133)","v":"2022-07-29T11:06:00"},{"$f":"IF(ISBLANK(InfoPro!D133),\"\",InfoPro!D133)","v":44771.462500000001},{"$f":"IF(ISBLANK(InfoPro!L133),\"\",InfoPro!L133)","v":"NO"},{"$f":"'IT-TA'!H134","v":0},{"$f":"IFERROR('BT-Confi'!Y141,\"\")","v":367600.87577229872},{"$f":"IFERROR('BT-Flex'!Y141,\"\")","v":0},{"$f":"IFERROR('EC-RE'!Z141,\"\")","v":534412.86087410664},{"$f":"IFERROR('EC-RP'!Z140,\"\")","v":1217184.6460507559},{"$f":"IFERROR('EC-Per'!W140,\"\")","v":-4527.1270685360032},{"$f":"IFERROR('EC-Mar'!Y140,\"\")","v":1217184.6460507559},0,{"$error":"#REF!"},{"$error":"#REF!"},{"$error":"#REF!"},{"$error":"#REF!"},{"$error":"#REF!"},{"$error":"#REF!"},{"$error":"#REF!"},""]
[{"$f":"IF(ISBLANK(InfoPro!A134),\"\",InfoPro!A134)","v":"SC_1856_A2"},{"$f":"IF(ISBLANK(InfoPro!H134),\"\",InfoPro!H134)","v":"SC_1856"},{"$f":"IF(ISBLANK(InfoPro!B134),\"\",InfoPro!B134)","v":"SIERRA NEVADA DE VERANO"},{"$f":"IF(ISBLANK(InfoPro!E134),\"\",InfoPro!E134)","v":99.9},{"$f":"IF(ISBLANK(InfoPro!C134),\"\",InfoPro!C134)","v":"2022-07-29T11:06:00"},{"$f":"IF(ISBLANK(InfoPro!D134),\"\",InfoPro!D134)","v":44771.462500000001},{"$f":"IF(ISBLANK(InfoPro!L134),\"\",InfoPro!L134)","v":"NO"},{"$f":"'IT-TA'!H135","v":0},{"$f":"IFERROR('BT-Confi'!Y142,\"\")","v":367600.87577229872},{"$f":"IFERROR('BT-Flex'!Y142,\"\")","v":0},{"$f":"IFERROR('EC-RE'!Z142,\"\")","v":534412.86087410664},{"$f":"IFERROR('EC-RP'!Z141,\"\")","v":1217184.6460507559},{"$f":"IFERROR('EC-Per'!W141,\"\")","v":-9792.9903532766275},{"$f":"IFERROR('EC-Mar'!Y141,\"\")","v":1217184.6460507559},0,{"$error":"#REF!"},{"$error":"#REF!"},{"$error":"#REF!"},{"$error":"#REF!"},{"$error":"#REF!"},{"$error":"#REF!"},{"$error":"#REF!"},""]
[{"$f":"IF(ISBLANK(InfoPro!A135),\"\",InfoPro!A135)","v":"SC_1857_A1"},{"$f":"IF(ISBLANK(InfoPro!H135),\"\",InfoPro!H135)","v":"SC_1857"},{"$f":"IF(ISBLANK(InfoPro!B135),\"\",InfoPro!B135)","v":"MILAGROS DE VERANO"},{"$f":"IF(ISBLANK(InfoPro!E135),\"\",InfoPro!E135)","v":99.9},{"$f":"IF(ISBLANK(InfoPro!C135),\"\",InfoPro!C135)","v":"2022-07-29T11:14:00"},{"$f":"IF(ISBLANK(InfoPro!D135),\"\",InfoPro!D135)","v":44771.468055555553},{"$f":"IF(ISBLANK(InfoPro!L135),\"\",InfoPro!L135)","v":"NO"},{"$f":"'IT-TA'!H136","v":0},{"$f":"IFERROR('BT-Confi'!Y143,\"\")","v":328802.21446538344},{"$f":"IFERROR('BT-Flex'!Y143,\"\")","v":0},{"$f":"IFERROR('EC-RE'!Z143,\"\")","v":478007.92564768047},{"$f":"IFERROR('EC-RP'!Z142,\"\")","v":1088716.1413691912},{"$f":"IFERROR('EC-Per'!W142,\"\")","v":-3964.5950780212165},{"$f":"IFERROR('EC-Mar'!Y142,\"\")","v":1088716.1413691912},0,{"$error":"#REF!"},{"$error":"#REF!"},{"$error":"#REF!"},{"$error":"#REF!"},{"$error":"#REF!"},{"$error":"#REF!"},{"$error":"#REF!"},""]
[{"$f":"IF(ISBLANK(InfoPro!A136),\"\",InfoPro!A136)","v":"SC_1857_A2"},{"$f":"IF(ISBLANK(InfoPro!H136),\"\",InfoPro!H136)","v":"SC_1857"},{"$f":"IF(ISBLANK(InfoPro!B136),\"\",InfoPro!B136)","v":"MILAGROS DE VERANO"},{"$f":"IF(ISBLANK(InfoPro!E136),\"\",InfoPro!E136)","v":99.9},{"$f":"IF(ISBLANK(InfoPro!C136),\"\",InfoPro!C136)","v":"2022-07-29T11:14:00"},{"$f":"IF(ISBLANK(InfoPro!D136),\"\",InfoPro!D136)","v":44771.468055555553},{"$f":"IF(ISBLANK(InfoPro!L136),\"\",InfoPro!L136)","v":"NO"},{"$f":"'IT-TA'!H137","v":0},{"$f":"IFERROR('BT-Confi'!Y144,\"\")","v":328802.21446538344},{"$f":"IFERROR('BT-Flex'!Y144,\"\")","v":0},{"$f":"IFERROR('EC-RE'!Z144,\"\")","v":478007.92564768047},{"$f":"IFERROR('EC-RP'!Z143,\"\")","v":1088716.1413691912},{"$f":"IFERROR('EC-Per'!W143,\"\")","v":-8708.5550004397646},{"$f":"IFERROR('EC-Mar'!Y143,\"\")","v":1088716.1413691912},0,{"$error":"#REF!"},{"$error":"#REF!"},{"$error":"#REF!"},{"$error":"#REF!"},{"$error":"#REF!"},{"$error":"#REF!"},{"$error":"#REF!"},""]
[{"$f":"IF(ISBLANK(InfoPro!A137),\"\",InfoPro!A137)","v":"SC_1861_A1"},{"$f":"IF(ISBLANK(InfoPro!H137),\"\",InfoPro!H137)","v":"SC_1861"},{"$f":"IF(ISBLANK(InfoPro!B137),\"\",InfoPro!B137)","v":"Autogenerador CELSIA Solar Cenit Copey"},{"$f":"IF(ISBLANK(InfoPro!E137),\"\",InfoPro!E137)","v":6.6},{"$f":"IF(ISBLANK(InfoPro!C137),\"\",InfoPro!C137)","v":"2022-07-29T19:20:00"},{"$f":"IF(ISBLANK(InfoPro!D137),\"\",InfoPro!D137)","v":44771.805555555555},{"$f":"IF(ISBLANK(InfoPro!L137),\"\",InfoPro!L137)","v":"NO"},{"$f":"'IT-TA'!H138","v":0},{"$f":"IFERROR('BT-Confi'!Y145,\"\")","v":574306.52635108237},{"$f":"IFERROR('BT-Flex'!Y145,\"\")","v":0},{"$f":"IFERROR('EC-RE'!Z145,\"\")","v":834918.55975899391},{"$f":"IFERROR('EC-RP'!Z144,\"\")","v":1901619.7514020142},{"$f":"IFERROR('EC-Per'!W144,\"\")","v":44793.350707978789},{"$f":"IFERROR('EC-Mar'!Y144,\"\")","v":1901619.7514020142},0,{"$error":"#REF!"},{"$error":"#REF!"},{"$error":"#REF!"},{"$error":"#REF!"},{"$error":"#REF!"},{"$error":"#REF!"},{"$error":"#REF!"},""]
[{"$f":"IF(ISBLANK(InfoPro!A138),\"\",InfoPro!A138)","v":"SC_1876_A1"},{"$f":"IF(ISBLANK(InfoPro!H138),\"\",InfoPro!H138)","v":"SC_1876"},{"$f":"IF(ISBLANK(InfoPro!B138),\"\",InfoPro!B138)","v":"Nevada II 250 MW"},{"$f":"IF(ISBLANK(InfoPro!E138),\"\",InfoPro!E138)","v":250},{"$f":"IF(ISBLANK(InfoPro!C138),\"\",InfoPro!C138)","v":"2022-08-01T10:33:00"},{"$f":"IF(ISBLANK(InfoPro!D138),\"\",InfoPro!D138)","v":44774.439583333333},{"$f":"IF(ISBLANK(InfoPro!L138),\"\",InfoPro!L138)","v":"NO"},{"$f":"'IT-TA'!H139","v":0},{"$f":"IFERROR('BT-Confi'!Y146,\"\")","v":230681.4251171315},{"$f":"IFERROR('BT-Flex'!Y146,\"\")","v":0},{"$f":"IFERROR('EC-RE'!Z146,\"\")","v":838403.33682804136},{"$f":"IFERROR('EC-RP'!Z145,\"\")","v":1909556.7182190495},{"$f":"IFERROR('EC-Per'!W145,\"\")","v":-35164.412314582871},{"$f":"IFERROR('EC-Mar'!Y145,\"\")","v":1909556.7182190497},0,{"$error":"#REF!"},{"$error":"#REF!"},{"$error":"#REF!"},{"$error":"#REF!"},{"$error":"#REF!"},{"$error":"#REF!"},{"$error":"#REF!"},""]
[{"$f":"IF(ISBLANK(InfoPro!A139),\"\",InfoPro!A139)","v":"SC_1876_A2"},{"$f":"IF(ISBLANK(InfoPro!H139),\"\",InfoPro!H139)","v":"SC_1876"},{"$f":"IF(ISBLANK(InfoPro!B139),\"\",InfoPro!B139)","v":"Nevada II 250 MW"},{"$f":"IF(ISBLANK(InfoPro!E139),\"\",InfoPro!E139)","v":250},{"$f":"IF(ISBLANK(InfoPro!C139),\"\",InfoPro!C139)","v":"2022-08-01T10:33:00"},{"$f":"IF(ISBLANK(InfoPro!D139),\"\",InfoPro!D139)","v":44774.439583333333},{"$f":"IF(ISBLANK(InfoPro!L139),\"\",InfoPro!L139)","v":"NO"},{"$f":"'IT-TA'!H140","v":0},{"$f":"IFERROR('BT-Confi'!Y147,\"\")","v":230681.4251171315},{"$f":"IFERROR('BT-Flex'!Y147,\"\")","v":0},{"$f":"IFERROR('EC-RE'!Z147,\"\")","v":838403.33682804136},{"$f":"IFERROR('EC-RP'!Z146,\"\")","v":1909556.7182190495},{"$f":"IFERROR('EC-Per'!W146,\"\")","v":-51403.307588630858},{"$f":"IFERROR('EC-Mar'!Y146,\"\")","v":1909556.7182190497},0,{"$error":"#REF!"},{"$error":"#REF!"},{"$error":"#REF!"},{"$error":"#REF!"},{"$error":"#REF!"},{"$error":"#REF!"},{"$error":"#REF!"},""]
[{"$f":"IF(ISBLANK(InfoPro!A140),\"\",InfoPro!A140)","v":"SC_1877_A1"},{"$f":"IF(ISBLANK(InfoPro!H140),\"\",InfoPro!H140)","v":"SC_1877"},{"$f":"IF(ISBLANK(InfoPro!B140),\"\",InfoPro!B140)","v":"Planta Solar FV Corozal 9,9MW"},{"$f":"IF(ISBLANK(InfoPro!E140),\"\",InfoPro!E140)","v":9.9},{"$f":"IF(ISBLANK(InfoPro!C140),\"\",InfoPro!C140)","v":"2022-07-29T10:34:00"},{"$f":"IF(ISBLANK(InfoPro!D140),\"\",InfoPro!D140)","v":44771.44027777778},{"$f":"IF(ISBLANK(InfoPro!L140),\"\",InfoPro!L140)","v":"NO"},{"$f":"'IT-TA'!H141","v":0},{"$f":"IFERROR('BT-Confi'!Y148,\"\")","v":410977.77911342995},{"$f":"IFERROR('BT-Flex'!Y148,\"\")","v":0},{"$f":"IFERROR('EC-RE'!Z148,\"\")","v":597473.57845725107},{"$f":"IFERROR('EC-RP'!Z147,\"\")","v":1360812.4342847455},{"$f":"IFERROR('EC-Per'!W147,\"\")","v":70.519759198892984},{"$f":"IFERROR('EC-Mar'!Y147,\"\")","v":1360812.4342847455},0,{"$error":"#REF!"},{"$error":"#REF!"},{"$error":"#REF!"},{"$error":"#REF!"},{"$error":"#REF!"},{"$error":"#REF!"},{"$error":"#REF!"},""]
[{"$f":"IF(ISBLANK(InfoPro!A141),\"\",InfoPro!A141)","v":"SC_1877_A2"},{"$f":"IF(ISBLANK(InfoPro!H141),\"\",InfoPro!H141)","v":"SC_1877"},{"$f":"IF(ISBLANK(InfoPro!B141),\"\",InfoPro!B141)","v":"Planta Solar FV Corozal 9,9MW"},{"$f":"IF(ISBLANK(InfoPro!E141),\"\",InfoPro!E141)","v":9.9},{"$f":"IF(ISBLANK(InfoPro!C141),\"\",InfoPro!C141)","v":"2022-07-29T10:34:00"},{"$f":"IF(ISBLANK(InfoPro!D141),\"\",InfoPro!D141)","v":44771.44027777778},{"$f":"IF(ISBLANK(InfoPro!L141),\"\",InfoPro!L141)","v":"NO"},{"$f":"'IT-TA'!H142","v":0},{"$f":"IFERROR('BT-Confi'!Y149,\"\")","v":410977.77911342995},{"$f":"IFERROR('BT-Flex'!Y149,\"\")","v":0},{"$f":"IFERROR('EC-RE'!Z149,\"\")","v":597473.57845725107},{"$f":"IFERROR('EC-RP'!Z148,\"\")","v":1360812.4342847455},{"$f":"IFERROR('EC-Per'!W148,\"\")","v":70.519759198892984},{"$f":"IFERROR('EC-Mar'!Y148,\"\")","v":1360812.4342847455},0,{"$error":"#REF!"},{"$error":"#REF!"},{"$error":"#REF!"},{"$error":"#REF!"},{"$error":"#REF!"},{"$error":"#REF!"},{"$error":"#REF!"},""]
[{"$f":"IF(ISBLANK(InfoPro!A142),\"\",InfoPro!A142)","v":"SC_1889_A1"},{"$f":"IF(ISBLANK(InfoPro!H142),\"\",InfoPro!H142)","v":"SC_1889"},{"$f":"IF(ISBLANK(InfoPro!B142),\"\",InfoPro!B142)","v":"La Granja"},{"$f":"IF(ISBLANK(InfoPro!E142),\"\",InfoPro!E142)","v":19.899999999999999},{"$f":"IF(ISBLANK(InfoPro!C142),\"\",InfoPro!C142)","v":"2022-07-29T18:49:00"},{"$f":"IF(ISBLANK(InfoPro!D142),\"\",InfoPro!D142)","v":44771.78402777778},{"$f":"IF(ISBLANK(InfoPro!L142),\"\",InfoPro!L142)","v":"NO"},{"$f":"'IT-TA'!H143","v":0},{"$f":"IFERROR('BT-Confi'!Y150,\"\")","v":459473.15704881458},{"$f":"IFERROR('BT-Flex'!Y150,\"\")","v":0},{"$f":"IFERROR('EC-RE'!Z150,\"\")","v":667975.46071520681},{"$f":"IFERROR('EC-RP'!Z149,\"\")","v":1521388.3015303449},{"$f":"IFERROR('EC-Per'!W149,\"\")","v":-115884.51786143715},{"$f":"IFERROR('EC-Mar'!Y149,\"\")","v":1521388.3015303449},0,{"$error":"#REF!"},{"$error":"#REF!"},{"$error":"#REF!"},{"$error":"#REF!"},{"$error":"#REF!"},{"$error":"#REF!"},{"$error":"#REF!"},""]
[{"$f":"IF(ISBLANK(InfoPro!A143),\"\",InfoPro!A143)","v":"SC_1889_A2"},{"$f":"IF(ISBLANK(InfoPro!H143),\"\",InfoPro!H143)","v":"SC_1889"},{"$f":"IF(ISBLANK(InfoPro!B143),\"\",InfoPro!B143)","v":"La Granja"},{"$f":"IF(ISBLANK(InfoPro!E143),\"\",InfoPro!E143)","v":19.899999999999999},{"$f":"IF(ISBLANK(InfoPro!C143),\"\",InfoPro!C143)","v":"2022-07-29T18:49:00"},{"$f":"IF(ISBLANK(InfoPro!D143),\"\",InfoPro!D143)","v":44771.78402777778},{"$f":"IF(ISBLANK(InfoPro!L143),\"\",InfoPro!L143)","v":"NO"},{"$f":"'IT-TA'!H144","v":0},{"$f":"IFERROR('BT-Confi'!Y151,\"\")","v":459473.15704881458},{"$f":"IFERROR('BT-Flex'!Y151,\"\")","v":0},{"$f":"IFERROR('EC-RE'!Z151,\"\")","v":667975.46071520681},{"$f":"IFERROR('EC-RP'!Z150,\"\")","v":1521388.3015303449},{"$f":"IFERROR('EC-Per'!W150,\"\")","v":-113507.39954633075},{"$f":"IFERROR('EC-Mar'!Y150,\"\")","v":1521388.3015303449},0,{"$error":"#REF!"},{"$error":"#REF!"},{"$error":"#REF!"},{"$error":"#REF!"},{"$error":"#REF!"},{"$error":"#REF!"},{"$error":"#REF!"},""]
[{"$f":"IF(ISBLANK(InfoPro!A144),\"\",InfoPro!A144)","v":"SC_1898_A1"},{"$f":"IF(ISBLANK(InfoPro!H144),\"\",InfoPro!H144)","v":"SC_1898"},{"$f":"IF(ISBLANK(InfoPro!B144),\"\",InfoPro!B144)","v":"Parque Eólico Fenix_70MW"},{"$f":"IF(ISBLANK(InfoPro!E144),\"\",InfoPro!E144)","v":70},{"$f":"IF(ISBLANK(InfoPro!C144),\"\",InfoPro!C144)","v":"2022-08-18T19:04:00"},{"$f":"IF(ISBLANK(InfoPro!D144),\"\",InfoPro!D144)","v":44791.794444444444},{"$f":"IF(ISBLANK(InfoPro!L144),\"\",InfoPro!L144)","v":"NO"},{"$f":"'IT-TA'!H145","v":0},{"$f":"IFERROR('BT-Confi'!Y152,\"\")","v":288334.24960810534},{"$f":"IFERROR('BT-Flex'!Y152,\"\")","v":0},{"$f":"IFERROR('EC-RE'!Z152,\"\")","v":1047940.4523814528},{"$f":"IFERROR('EC-RP'!Z151,\"\")","v":2386800.771463227},{"$f":"IFERROR('EC-Per'!W151,\"\")","v":-721763.24734953814},{"$f":"IFERROR('EC-Mar'!Y151,\"\")","v":2386800.771463227},0,{"$error":"#REF!"},{"$error":"#REF!"},{"$error":"#REF!"},{"$error":"#REF!"},{"$error":"#REF!"},{"$error":"#REF!"},{"$error":"#REF!"},""]
[{"$f":"IF(ISBLANK(InfoPro!A145),\"\",InfoPro!A145)","v":"SC_1898_A2"},{"$f":"IF(ISBLANK(InfoPro!H145),\"\",InfoPro!H145)","v":"SC_1898"},{"$f":"IF(ISBLANK(InfoPro!B145),\"\",InfoPro!B145)","v":"Parque Eólico Fenix_70MW"},{"$f":"IF(ISBLANK(InfoPro!E145),\"\",InfoPro!E145)","v":70},{"$f":"IF(ISBLANK(InfoPro!C145),\"\",InfoPro!C145)","v":"2022-08-18T19:04:00"},{"$f":"IF(ISBLANK(InfoPro!D145),\"\",InfoPro!D145)","v":44791.794444444444},{"$f":"IF(ISBLANK(InfoPro!L145),\"\",InfoPro!L145)","v":"NO"},{"$f":"'IT-TA'!H146","v":0},{"$f":"IFERROR('BT-Confi'!Y153,\"\")","v":288334.24960810534},{"$f":"IFERROR('BT-Flex'!Y153,\"\")","v":0},{"$f":"IFERROR('EC-RE'!Z153,\"\")","v":1047940.4523814528},{"$f":"IFERROR('EC-RP'!Z152,\"\")","v":2386800.771463227},{"$f":"IFERROR('EC-Per'!W152,\"\")","v":-674250.18935818691},{"$f":"IFERROR('EC-Mar'!Y152,\"\")","v":2386800.771463227},0,{"$error":"#REF!"},{"$error":"#REF!"},{"$error":"#REF!"},{"$error":"#REF!"},{"$error":"#REF!"},{"$error":"#REF!"},{"$error":"#REF!"},""]
[{"$f":"IF(ISBLANK(InfoPro!A146),\"\",InfoPro!A146)","v":"SC_1904_A1"},{"$f":"IF(ISBLANK(InfoPro!H146),\"\",InfoPro!H146)","v":"SC_1904"},{"$f":"IF(ISBLANK(InfoPro!B146),\"\",InfoPro!B146)","v":"Parque Solar Fotovoltaico Potreritos"},{"$f":"IF(ISBLANK(InfoPro!E146),\"\",InfoPro!E146)","v":168},{"$f":"IF(ISBLANK(InfoPro!C146),\"\",InfoPro!C146)","v":"2022-08-22T19:11:00"},{"$f":"IF(ISBLANK(InfoPro!D146),\"\",InfoPro!D146)","v":44795.799305555556},{"$f":"IF(ISBLANK(InfoPro!L146),\"\",InfoPro!L146)","v":"NO"},{"$f":"'IT-TA'!H147","v":0},{"$f":"IFERROR('BT-Confi'!Y154,\"\")","v":513690.98958057468},{"$f":"IFERROR('BT-Flex'!Y154,\"\")","v":0},{"$f":"IFERROR('EC-RE'!Z154,\"\")","v":746796.5650796009},{"$f":"IFERROR('EC-RP'!Z153,\"\")","v":1700912.1211109257},{"$f":"IFERROR('EC-Per'!W153,\"\")","v":-85515.749372634033},{"$f":"IFERROR('EC-Mar'!Y153,\"\")","v":1700912.1211109252},0,{"$error":"#REF!"},{"$error":"#REF!"},{"$error":"#REF!"},{"$error":"#REF!"},{"$error":"#REF!"},{"$error":"#REF!"},{"$error":"#REF!"},""]
[{"$f":"IF(ISBLANK(InfoPro!A147),\"\",InfoPro!A147)","v":"SC_1904_A2"},{"$f":"IF(ISBLANK(InfoPro!H147),\"\",InfoPro!H147)","v":"SC_1904"},{"$f":"IF(ISBLANK(InfoPro!B147),\"\",InfoPro!B147)","v":"Parque Solar Fotovoltaico Potreritos"},{"$f":"IF(ISBLANK(InfoPro!E147),\"\",InfoPro!E147)","v":168},{"$f":"IF(ISBLANK(InfoPro!C147),\"\",InfoPro!C147)","v":"2022-08-22T19:11:00"},{"$f":"IF(ISBLANK(InfoPro!D147),\"\",InfoPro!D147)","v":44795.799305555556},{"$f":"IF(ISBLANK(InfoPro!L147),\"\",InfoPro!L147)","v":"NO"},{"$f":"'IT-TA'!H148","v":0},{"$f":"IFERROR('BT-Confi'!Y155,\"\")","v":513690.98958057468},{"$f":"IFERROR('BT-Flex'!Y155,\"\")","v":0},{"$f":"IFERROR('EC-RE'!Z155,\"\")","v":746796.5650796009},{"$f":"IFERROR('EC-RP'!Z154,\"\")","v":1700912.1211109257},{"$f":"IFERROR('EC-Per'!W154,\"\")","v":-73285.722267436809},{"$f":"IFERROR('EC-Mar'!Y154,\"\")","v":1700912.1211109252},0,{"$error":"#REF!"},{"$error":"#REF!"},{"$error":"#REF!"},{"$error":"#REF!"},{"$error":"#REF!"},{"$error":"#REF!"},{"$error":"#REF!"},""]
[{"$f":"IF(ISBLANK(InfoPro!A148),\"\",InfoPro!A148)","v":"SC_1905_A1"},{"$f":"IF(ISBLANK(InfoPro!H148),\"\",InfoPro!H148)","v":"SC_1905"},{"$f":"IF(ISBLANK(InfoPro!B148),\"\",InfoPro!B148)","v":"Parque Solar Valle del Cesar"},{"$f":"IF(ISBLANK(InfoPro!E148),\"\",InfoPro!E148)","v":50},{"$f":"IF(ISBLANK(InfoPro!C148),\"\",InfoPro!C148)","v":"2022-08-16T19:12:00"},{"$f":"IF(ISBLANK(InfoPro!D148),\"\",InfoPro!D148)","v":44789.8},{"$f":"IF(ISBLANK(InfoPro!L148),\"\",InfoPro!L148)","v":"NO"},{"$f":"'IT-TA'!H149","v":0},{"$f":"IFERROR('BT-Confi'!Y156,\"\")","v":410977.77911342977},{"$f":"IFERROR('BT-Flex'!Y156,\"\")","v":0},{"$f":"IFERROR('EC-RE'!Z156,\"\")","v":597473.57845725096},{"$f":"IFERROR('EC-RP'!Z155,\"\")","v":1360812.4342847452},{"$f":"IFERROR('EC-Per'!W155,\"\")","v":-37699.8632677282},{"$f":"IFERROR('EC-Mar'!Y155,\"\")","v":1360812.4342847452},0,{"$error":"#REF!"},{"$error":"#REF!"},{"$error":"#REF!"},{"$error":"#REF!"},{"$error":"#REF!"},{"$error":"#REF!"},{"$error":"#REF!"},""]
[{"$f":"IF(ISBLANK(InfoPro!A149),\"\",InfoPro!A149)","v":"SC_1905_A2"},{"$f":"IF(ISBLANK(InfoPro!H149),\"\",InfoPro!H149)","v":"SC_1905"},{"$f":"IF(ISBLANK(InfoPro!B149),\"\",InfoPro!B149)","v":"Parque Solar Valle del Cesar"},{"$f":"IF(ISBLANK(InfoPro!E149),\"\",InfoPro!E149)","v":50},{"$f":"IF(ISBLANK(InfoPro!C149),\"\",InfoPro!C149)","v":"2022-08-16T19:12:00"},{"$f":"IF(ISBLANK(InfoPro!D149),\"\",InfoPro!D149)","v":44789.8},{"$f":"IF(ISBLANK(InfoPro!L149),\"\",InfoPro!L149)","v":"NO"},{"$f":"'IT-TA'!H150","v":0},{"$f":"IFERROR('BT-Confi'!Y157,\"\")","v":410977.77911342977},{"$f":"IFERROR('BT-Flex'!Y157,\"\")","v":0},{"$f":"IFERROR('EC-RE'!Z157,\"\")","v":597473.57845725096},{"$f":"IFERROR('EC-RP'!Z156,\"\")","v":1360812.4342847452},{"$f":"IFERROR('EC-Per'!W156,\"\")","v":-53122.534604526103},{"$f":"IFERROR('EC-Mar'!Y156,\"\")","v":1360812.4342847452},0,{"$error":"#REF!"},{"$error":"#REF!"},{"$error":"#REF!"},{"$error":"#REF!"},{"$error":"#REF!"},{"$error":"#REF!"},{"$error":"#REF!"},""]
[{"$f":"IF(ISBLANK(InfoPro!A150),\"\",InfoPro!A150)","v":"SC_1908_A1"},{"$f":"IF(ISBLANK(InfoPro!H150),\"\",InfoPro!H150)","v":"SC_1908"},{"$f":"IF(ISBLANK(InfoPro!B150),\"\",InfoPro!B150)","v":"Corocoro 500 MW"},{"$f":"IF(ISBLANK(InfoPro!E150),\"\",InfoPro!E150)","v":500},{"$f":"IF(ISBLANK(InfoPro!C150),\"\",InfoPro!C150)","v":"2022-08-23T09:58:00"},{"$f":"IF(ISBLANK(InfoPro!D150),\"\",InfoPro!D150)","v":44796.415277777778},{"$f":"IF(ISBLANK(InfoPro!L150),\"\",InfoPro!L150)","v":"NO"},{"$f":"'IT-TA'!H151","v":0},{"$f":"IFERROR('BT-Confi'!Y158,\"\")","v":410977.77911343001},{"$f":"IFERROR('BT-Flex'!Y158,\"\")","v":0},{"$f":"IFERROR('EC-RE'!Z158,\"\")","v":597473.57845725096},{"$f":"IFERROR('EC-RP'!Z157,\"\")","v":1360812.4342847448},{"$f":"IFERROR('EC-Per'!W157,\"\")","v":-542501.45554116403},{"$f":"IFERROR('EC-Mar'!Y157,\"\")","v":1360812.434284745},0,{"$error":"#REF!"},{"$error":"#REF!"},{"$error":"#REF!"},{"$error":"#REF!"},{"$error":"#REF!"},{"$error":"#REF!"},{"$error":"#REF!"},""]
[{"$f":"IF(ISBLANK(InfoPro!A151),\"\",InfoPro!A151)","v":"SC_1908_A2"},{"$f":"IF(ISBLANK(InfoPro!H151),\"\",InfoPro!H151)","v":"SC_1908"},{"$f":"IF(ISBLANK(InfoPro!B151),\"\",InfoPro!B151)","v":"Corocoro 500 MW"},{"$f":"IF(ISBLANK(InfoPro!E151),\"\",InfoPro!E151)","v":500},{"$f":"IF(ISBLANK(InfoPro!C151),\"\",InfoPro!C151)","v":"2022-08-23T09:58:00"},{"$f":"IF(ISBLANK(InfoPro!D151),\"\",InfoPro!D151)","v":44796.415277777778},{"$f":"IF(ISBLANK(InfoPro!L151),\"\",InfoPro!L151)","v":"NO"},{"$f":"'IT-TA'!H152","v":0},{"$f":"IFERROR('BT-Confi'!Y159,\"\")","v":410977.77911343001},{"$f":"IFERROR('BT-Flex'!Y159,\"\")","v":0},{"$f":"IFERROR('EC-RE'!Z159,\"\")","v":597473.57845725096},{"$f":"IFERROR('EC-RP'!Z158,\"\")","v":1360812.4342847448},{"$f":"IFERROR('EC-Per'!W158,\"\")","v":-557501.00832276838},{"$f":"IFERROR('EC-Mar'!Y158,\"\")","v":1360812.434284745},0,{"$error":"#REF!"},{"$error":"#REF!"},{"$error":"#REF!"},{"$error":"#REF!"},{"$error":"#REF!"},{"$error":"#REF!"},{"$error":"#REF!"},""]
[{"$f":"IF(ISBLANK(InfoPro!A152),\"\",InfoPro!A152)","v":"SC_1912_A1"},{"$f":"IF(ISBLANK(InfoPro!H152),\"\",InfoPro!H152)","v":"SC_1912"},{"$f":"IF(ISBLANK(InfoPro!B152),\"\",InfoPro!B152)","v":"Draco de 22.5 MW (entrega 19,9 MW)"},{"$f":"IF(ISBLANK(InfoPro!E152),\"\",InfoPro!E152)","v":19.899999999999999},{"$f":"IF(ISBLANK(InfoPro!C152),\"\",InfoPro!C152)","v":"2022-08-19T10:12:00"},{"$f":"IF(ISBLANK(InfoPro!D152),\"\",InfoPro!D152)","v":44792.425000000003},{"$f":"IF(ISBLANK(InfoPro!L152),\"\",InfoPro!L152)","v":"NO"},{"$f":"'IT-TA'!H153","v":0},{"$f":"IFERROR('BT-Confi'!Y160,\"\")","v":459473.15704881458},{"$f":"IFERROR('BT-Flex'!Y160,\"\")","v":0},{"$f":"IFERROR('EC-RE'!Z160,\"\")","v":667975.46071520681},{"$f":"IFERROR('EC-RP'!Z159,\"\")","v":1521388.3015303449},{"$f":"IFERROR('EC-Per'!W159,\"\")","v":13422.398566248306},{"$f":"IFERROR('EC-Mar'!Y159,\"\")","v":1521388.3015303449},0,{"$error":"#REF!"},{"$error":"#REF!"},{"$error":"#REF!"},{"$error":"#REF!"},{"$error":"#REF!"},{"$error":"#REF!"},{"$error":"#REF!"},""]
[{"$f":"IF(ISBLANK(InfoPro!A153),\"\",InfoPro!A153)","v":"SC_1912_A2"},{"$f":"IF(ISBLANK(InfoPro!H153),\"\",InfoPro!H153)","v":"SC_1912"},{"$f":"IF(ISBLANK(InfoPro!B153),\"\",InfoPro!B153)","v":"Draco de 22.5 MW (entrega 19,9 MW)"},{"$f":"IF(ISBLANK(InfoPro!E153),\"\",InfoPro!E153)","v":19.899999999999999},{"$f":"IF(ISBLANK(InfoPro!C153),\"\",InfoPro!C153)","v":"2022-08-19T10:12:00"},{"$f":"IF(ISBLANK(InfoPro!D153),\"\",InfoPro!D153)","v":44792.425000000003},{"$f":"IF(ISBLANK(InfoPro!L153),\"\",InfoPro!L153)","v":"NO"},{"$f":"'IT-TA'!H154","v":0},{"$f":"IFERROR('BT-Confi'!Y161,\"\")","v":459473.15704881458},{"$f":"IFERROR('BT-Flex'!Y161,\"\")","v":0},{"$f":"IFERROR('EC-RE'!Z161,\"\")","v":667975.46071520681},{"$f":"IFERROR('EC-RP'!Z160,\"\")","v":1521388.3015303449},{"$f":"IFERROR('EC-Per'!W160,\"\")","v":9498.9647871651887},{"$f":"IFERROR('EC-Mar'!Y160,\"\")","v":1521388.3015303449},0,{"$error":"#REF!"},{"$error":"#REF!"},{"$error":"#REF!"},{"$error":"#REF!"},{"$error":"#REF!"},{"$error":"#REF!"},{"$error":"#REF!"},""]
[{"$f":"IF(ISBLANK(InfoPro!A154),\"\",InfoPro!A154)","v":"SC_1920_A1"},{"$f":"IF(ISBLANK(InfoPro!H154),\"\",InfoPro!H154)","v":"SC_1920\n"},{"$f":"IF(ISBLANK(InfoPro!B154),\"\",InfoPro!B154)","v":"Parque Solar TERRɅ II 19.9 MW"},{"$f":"IF(ISBLANK(InfoPro!E154),\"\",InfoPro!E154)","v":19.899999999999999},{"$f":"IF(ISBLANK(InfoPro!C154),\"\",InfoPro!C154)","v":"2022-08-17T14:21:00"},{"$f":"IF(ISBLANK(InfoPro!D154),\"\",InfoPro!D154)","v":44790.597916666666},{"$f":"IF(ISBLANK(InfoPro!L154),\"\",InfoPro!L154)","v":"NO"},{"$f":"'IT-TA'!H155","v":0},{"$f":"IFERROR('BT-Confi'!Y162,\"\")","v":513690.98958057468},{"$f":"IFERROR('BT-Flex'!Y162,\"\")","v":0},{"$f":"IFERROR('EC-RE'!Z162,\"\")","v":746796.56507960102},{"$f":"IFERROR('EC-RP'!Z161,\"\")","v":1700912.1211109255},{"$f":"IFERROR('EC-Per'!W161,\"\")","v":-22281.471628406627},{"$f":"IFERROR('EC-Mar'!Y161,\"\")","v":1700912.1211109255},0,{"$error":"#REF!"},{"$error":"#REF!"},{"$error":"#REF!"},{"$error":"#REF!"},{"$error":"#REF!"},{"$error":"#REF!"},{"$error":"#REF!"},""]
[{"$f":"IF(ISBLANK(InfoPro!A155),\"\",InfoPro!A155)","v":"SC_1920_A2"},{"$f":"IF(ISBLANK(InfoPro!H155),\"\",InfoPro!H155)","v":"SC_1920\n"},{"$f":"IF(ISBLANK(InfoPro!B155),\"\",InfoPro!B155)","v":"Parque Solar TERRɅ II 19.9 MW"},{"$f":"IF(ISBLANK(InfoPro!E155),\"\",InfoPro!E155)","v":19.899999999999999},{"$f":"IF(ISBLANK(InfoPro!C155),\"\",InfoPro!C155)","v":"2022-08-17T14:21:00"},{"$f":"IF(ISBLANK(InfoPro!D155),\"\",InfoPro!D155)","v":44790.597916666666},{"$f":"IF(ISBLANK(InfoPro!L155),\"\",InfoPro!L155)","v":"NO"},{"$f":"'IT-TA'!H156","v":0},{"$f":"IFERROR('BT-Confi'!Y163,\"\")","v":513690.98958057468},{"$f":"IFERROR('BT-Flex'!Y163,\"\")","v":0},{"$f":"IFERROR('EC-RE'!Z163,\"\")","v":746796.56507960102},{"$f":"IFERROR('EC-RP'!Z162,\"\")","v":1700912.1211109255},{"$f":"IFERROR('EC-Per'!W162,\"\")","v":-23515.270913173779},{"$f":"IFERROR('EC-Mar'!Y162,\"\")","v":1700912.1211109255},0,{"$error":"#REF!"},{"$error":"#REF!"},{"$error":"#REF!"},{"$error":"#REF!"},{"$error":"#REF!"},{"$error":"#REF!"},{"$error":"#REF!"},""]
[{"$f":"IF(ISBLANK(InfoPro!A156),\"\",InfoPro!A156)","v":"SC_1928_A1"},{"$f":"IF(ISBLANK(InfoPro!H156),\"\",InfoPro!H156)","v":"SC_1928"},{"$f":"IF(ISBLANK(InfoPro!B156),\"\",InfoPro!B156)","v":"Jacamará 500 MW"},{"$f":"IF(ISBLANK(InfoPro!E156),\"\",InfoPro!E156)","v":500},{"$f":"IF(ISBLANK(InfoPro!C156),\"\",InfoPro!C156)","v":"2022-08-23T17:59:00"},{"$f":"IF(ISBLANK(InfoPro!D156),\"\",InfoPro!D156)","v":44796.749305555553},{"$f":"IF(ISBLANK(InfoPro!L156),\"\",InfoPro!L156)","v":"NO"},{"$f":"'IT-TA'!H157","v":0},{"$f":"IFERROR('BT-Confi'!Y164,\"\")","v":410977.77911343001},{"$f":"IFERROR('BT-Flex'!Y164,\"\")","v":0},{"$f":"IFERROR('EC-RE'!Z164,\"\")","v":597473.57845725096},{"$f":"IFERROR('EC-RP'!Z163,\"\")","v":1360812.4342847448},{"$f":"IFERROR('EC-Per'!W163,\"\")","v":-542501.45554116403},{"$f":"IFERROR('EC-Mar'!Y163,\"\")","v":1360812.434284745},0,{"$error":"#REF!"},{"$error":"#REF!"},{"$error":"#REF!"},{"$error":"#REF!"},{"$error":"#REF!"},{"$error":"#REF!"},{"$error":"#REF!"},""]
[{"$f":"IF(ISBLANK(InfoPro!A157),\"\",InfoPro!A157)","v":"SC_1928_A2"},{"$f":"IF(ISBLANK(InfoPro!H157),\"\",InfoPro!H157)","v":"SC_1928"},{"$f":"IF(ISBLANK(InfoPro!B157),\"\",InfoPro!B157)","v":"Jacamará 500 MW"},{"$f":"IF(ISBLANK(InfoPro!E157),\"\",InfoPro!E157)","v":500},{"$f":"IF(ISBLANK(InfoPro!C157),\"\",InfoPro!C157)","v":"2022-08-23T17:59:00"},{"$f":"IF(ISBLANK(InfoPro!D157),\"\",InfoPro!D157)","v":44796.749305555553},{"$f":"IF(ISBLANK(InfoPro!L157),\"\",InfoPro!L157)","v":"NO"},{"$f":"'IT-TA'!H158","v":0},{"$f":"IFERROR('BT-Confi'!Y165,\"\")","v":410977.77911343001},{"$f":"IFERROR('BT-Flex'!Y165,\"\")","v":0},{"$f":"IFERROR('EC-RE'!Z165,\"\")","v":597473.57845725096},{"$f":"IFERROR('EC-RP'!Z164,\"\")","v":1360812.4342847448},{"$f":"IFERROR('EC-Per'!W164,\"\")","v":-557501.00832276838},{"$f":"IFERROR('EC-Mar'!Y164,\"\")","v":1360812.434284745},0,{"$error":"#REF!"},{"$error":"#REF!"},{"$error":"#REF!"},{"$error":"#REF!"},{"$error":"#REF!"},{"$error":"#REF!"},{"$error":"#REF!"},""]
[{"$f":"IF(ISBLANK(InfoPro!A158),\"\",InfoPro!A158)","v":"SC_1944_A1"},{"$f":"IF(ISBLANK(InfoPro!H158),\"\",InfoPro!H158)","v":"SC_1944"},{"$f":"IF(ISBLANK(InfoPro!B158),\"\",InfoPro!B158)","v":"MANANTIALES DE VERANO de 99.9 MW"},{"$f":"IF(ISBLANK(InfoPro!E158),\"\",InfoPro!E158)","v":99.9},{"$f":"IF(ISBLANK(InfoPro!C158),\"\",InfoPro!C158)","v":"2022-08-02T09:25:00"},{"$f":"IF(ISBLANK(InfoPro!D158),\"\",InfoPro!D158)","v":44775.392361111109},{"$f":"IF(ISBLANK(InfoPro!L158),\"\",InfoPro!L158)","v":"NO"},{"$f":"'IT-TA'!H159","v":0},{"$f":"IFERROR('BT-Confi'!Y166,\"\")","v":410977.77911343001},{"$f":"IFERROR('BT-Flex'!Y166,\"\")","v":0},{"$f":"IFERROR('EC-RE'!Z166,\"\")","v":597473.57845725131},{"$f":"IFERROR('EC-RP'!Z165,\"\")","v":1360812.434284745},{"$f":"IFERROR('EC-Per'!W165,\"\")","v":-5093.0937199200507},{"$f":"IFERROR('EC-Mar'!Y165,\"\")","v":1360812.434284745},0,{"$error":"#REF!"},{"$error":"#REF!"},{"$error":"#REF!"},{"$error":"#REF!"},{"$error":"#REF!"},{"$error":"#REF!"},{"$error":"#REF!"},""]
[{"$f":"IF(ISBLANK(InfoPro!A159),\"\",InfoPro!A159)","v":"SC_1944_A2"},{"$f":"IF(ISBLANK(InfoPro!H159),\"\",InfoPro!H159)","v":"SC_1944"},{"$f":"IF(ISBLANK(InfoPro!B159),\"\",InfoPro!B159)","v":"MANANTIALES DE VERANO de 99.9 MW"},{"$f":"IF(ISBLANK(InfoPro!E159),\"\",InfoPro!E159)","v":99.9},{"$f":"IF(ISBLANK(InfoPro!C159),\"\",InfoPro!C159)","v":"2022-08-02T09:25:00"},{"$f":"IF(ISBLANK(InfoPro!D159),\"\",InfoPro!D159)","v":44775.392361111109},{"$f":"IF(ISBLANK(InfoPro!L159),\"\",InfoPro!L159)","v":"NO"},{"$f":"'IT-TA'!H160","v":0},{"$f":"IFERROR('BT-Confi'!Y167,\"\")","v":410977.77911343001},{"$f":"IFERROR('BT-Flex'!Y167,\"\")","v":0},{"$f":"IFERROR('EC-RE'!Z167,\"\")","v":597473.57845725131},{"$f":"IFERROR('EC-RP'!Z166,\"\")","v":1360812.434284745},{"$f":"IFERROR('EC-Per'!W166,\"\")","v":-10948.563214963269},{"$f":"IFERROR('EC-Mar'!Y166,\"\")","v":1360812.434284745},0,{"$error":"#REF!"},{"$error":"#REF!"},{"$error":"#REF!"},{"$error":"#REF!"},{"$error":"#REF!"},{"$error":"#REF!"},{"$error":"#REF!"},""]
[{"$f":"IF(ISBLANK(InfoPro!A160),\"\",InfoPro!A160)","v":"SC_1948_A1"},{"$f":"IF(ISBLANK(InfoPro!H160),\"\",InfoPro!H160)","v":"SC_1948"},{"$f":"IF(ISBLANK(InfoPro!B160),\"\",InfoPro!B160)","v":"PGF ROSARIO I"},{"$f":"IF(ISBLANK(InfoPro!E160),\"\",InfoPro!E160)","v":95},{"$f":"IF(ISBLANK(InfoPro!C160),\"\",InfoPro!C160)","v":"2022-08-09T21:43:00"},{"$f":"IF(ISBLANK(InfoPro!D160),\"\",InfoPro!D160)","v":44782.904861111114},{"$f":"IF(ISBLANK(InfoPro!L160),\"\",InfoPro!L160)","v":"NO"},{"$f":"'IT-TA'!H161","v":0},{"$f":"IFERROR('BT-Confi'!Y168,\"\")","v":410977.77911342989},{"$f":"IFERROR('BT-Flex'!Y168,\"\")","v":0},{"$f":"IFERROR('EC-RE'!Z168,\"\")","v":597473.57845725096},{"$f":"IFERROR('EC-RP'!Z167,\"\")","v":1360812.434284745},{"$f":"IFERROR('EC-Per'!W167,\"\")","v":-104354.39734926715},{"$f":"IFERROR('EC-Mar'!Y167,\"\")","v":1360812.434284745},0,{"$error":"#REF!"},{"$error":"#REF!"},{"$error":"#REF!"},{"$error":"#REF!"},{"$error":"#REF!"},{"$error":"#REF!"},{"$error":"#REF!"},""]
[{"$f":"IF(ISBLANK(InfoPro!A161),\"\",InfoPro!A161)","v":"SC_1948_A2"},{"$f":"IF(ISBLANK(InfoPro!H161),\"\",InfoPro!H161)","v":"SC_1948"},{"$f":"IF(ISBLANK(InfoPro!B161),\"\",InfoPro!B161)","v":"PGF ROSARIO I"},{"$f":"IF(ISBLANK(InfoPro!E161),\"\",InfoPro!E161)","v":95},{"$f":"IF(ISBLANK(InfoPro!C161),\"\",InfoPro!C161)","v":"2022-08-09T21:43:00"},{"$f":"IF(ISBLANK(InfoPro!D161),\"\",InfoPro!D161)","v":44782.904861111114},{"$f":"IF(ISBLANK(InfoPro!L161),\"\",InfoPro!L161)","v":"NO"},{"$f":"'IT-TA'!H162","v":0},{"$f":"IFERROR('BT-Confi'!Y169,\"\")","v":410977.77911342989},{"$f":"IFERROR('BT-Flex'!Y169,\"\")","v":0},{"$f":"IFERROR('EC-RE'!Z169,\"\")","v":597473.57845725096},{"$f":"IFERROR('EC-RP'!Z168,\"\")","v":1360812.434284745},{"$f":"IFERROR('EC-Per'!W168,\"\")","v":-72910.007879108103},{"$f":"IFERROR('EC-Mar'!Y168,\"\")","v":1360812.434284745},0,{"$error":"#REF!"},{"$error":"#REF!"},{"$error":"#REF!"},{"$error":"#REF!"},{"$error":"#REF!"},{"$error":"#REF!"},{"$error":"#REF!"},""]
[{"$f":"IF(ISBLANK(InfoPro!A162),\"\",InfoPro!A162)","v":"SC_1967_A1"},{"$f":"IF(ISBLANK(InfoPro!H162),\"\",InfoPro!H162)","v":"SC_1967"},{"$f":"IF(ISBLANK(InfoPro!B162),\"\",InfoPro!B162)","v":"Solar Valledupar 4"},{"$f":"IF(ISBLANK(InfoPro!E162),\"\",InfoPro!E162)","v":19.899999999999999},{"$f":"IF(ISBLANK(InfoPro!C162),\"\",InfoPro!C162)","v":"2022-08-16T22:09:00"},{"$f":"IF(ISBLANK(InfoPro!D162),\"\",InfoPro!D162)","v":44789.92291666667},{"$f":"IF(ISBLANK(InfoPro!L162),\"\",InfoPro!L162)","v":"NO"},{"$f":"'IT-TA'!H163","v":0},{"$f":"IFERROR('BT-Confi'!Y170,\"\")","v":459473.15704881458},{"$f":"IFERROR('BT-Flex'!Y170,\"\")","v":0},{"$f":"IFERROR('EC-RE'!Z170,\"\")","v":667975.46071520681},{"$f":"IFERROR('EC-RP'!Z169,\"\")","v":1521388.3015303449},{"$f":"IFERROR('EC-Per'!W169,\"\")","v":-69943.735024112029},{"$f":"IFERROR('EC-Mar'!Y169,\"\")","v":1521388.3015303449},0,{"$error":"#REF!"},{"$error":"#REF!"},{"$error":"#REF!"},{"$error":"#REF!"},{"$error":"#REF!"},{"$error":"#REF!"},{"$error":"#REF!"},""]
[{"$f":"IF(ISBLANK(InfoPro!A163),\"\",InfoPro!A163)","v":"SC_1967_A2"},{"$f":"IF(ISBLANK(InfoPro!H163),\"\",InfoPro!H163)","v":"SC_1967"},{"$f":"IF(ISBLANK(InfoPro!B163),\"\",InfoPro!B163)","v":"Solar Valledupar 4"},{"$f":"IF(ISBLANK(InfoPro!E163),\"\",InfoPro!E163)","v":19.899999999999999},{"$f":"IF(ISBLANK(InfoPro!C163),\"\",InfoPro!C163)","v":"2022-08-16T22:09:00"},{"$f":"IF(ISBLANK(InfoPro!D163),\"\",InfoPro!D163)","v":44789.92291666667},{"$f":"IF(ISBLANK(InfoPro!L163),\"\",InfoPro!L163)","v":"NO"},{"$f":"'IT-TA'!H164","v":0},{"$f":"IFERROR('BT-Confi'!Y171,\"\")","v":459473.15704881458},{"$f":"IFERROR('BT-Flex'!Y171,\"\")","v":0},{"$f":"IFERROR('EC-RE'!Z171,\"\")","v":667975.46071520681},{"$f":"IFERROR('EC-RP'!Z170,\"\")","v":1521388.3015303449},{"$f":"IFERROR('EC-Per'!W170,\"\")","v":-156996.77912120239},{"$f":"IFERROR('EC-Mar'!Y170,\"\")","v":1521388.3015303449},0,{"$error":"#REF!"},{"$error":"#REF!"},{"$error":"#REF!"},{"$error":"#REF!"},{"$error":"#REF!"},{"$error":"#REF!"},{"$error":"#REF!"},""]
[{"$f":"IF(ISBLANK(InfoPro!A164),\"\",InfoPro!A164)","v":"SC_1968_A1"},{"$f":"IF(ISBLANK(InfoPro!H164),\"\",InfoPro!H164)","v":"SC_1968"},{"$f":"IF(ISBLANK(InfoPro!B164),\"\",InfoPro!B164)","v":"Solar Valledupar 5"},{"$f":"IF(ISBLANK(InfoPro!E164),\"\",InfoPro!E164)","v":19.899999999999999},{"$f":"IF(ISBLANK(InfoPro!C164),\"\",InfoPro!C164)","v":"2022-08-16T22:10:00"},{"$f":"IF(ISBLANK(InfoPro!D164),\"\",InfoPro!D164)","v":44789.923611111109},{"$f":"IF(ISBLANK(InfoPro!L164),\"\",InfoPro!L164)","v":"NO"},{"$f":"'IT-TA'!H165","v":0},{"$f":"IFERROR('BT-Confi'!Y172,\"\")","v":459473.15704881458},{"$f":"IFERROR('BT-Flex'!Y172,\"\")","v":0},{"$f":"IFERROR('EC-RE'!Z172,\"\")","v":667975.46071520681},{"$f":"IFERROR('EC-RP'!Z171,\"\")","v":1521388.3015303449},{"$f":"IFERROR('EC-Per'!W171,\"\")","v":-69943.735024112029},{"$f":"IFERROR('EC-Mar'!Y171,\"\")","v":1521388.3015303449},0,{"$error":"#REF!"},{"$error":"#REF!"},{"$error":"#REF!"},{"$error":"#REF!"},{"$error":"#REF!"},{"$error":"#REF!"},{"$error":"#REF!"},""]
[{"$f":"IF(ISBLANK(InfoPro!A165),\"\",InfoPro!A165)","v":"SC_1968_A2"},{"$f":"IF(ISBLANK(InfoPro!H165),\"\",InfoPro!H165)","v":"SC_1968"},{"$f":"IF(ISBLANK(InfoPro!B165),\"\",InfoPro!B165)","v":"Solar Valledupar 5"},{"$f":"IF(ISBLANK(InfoPro!E165),\"\",InfoPro!E165)","v":19.899999999999999},{"$f":"IF(ISBLANK(InfoPro!C165),\"\",InfoPro!C165)","v":"2022-08-16T22:10:00"},{"$f":"IF(ISBLANK(InfoPro!D165),\"\",InfoPro!D165)","v":44789.923611111109},{"$f":"IF(ISBLANK(InfoPro!L165),\"\",InfoPro!L165)","v":"NO"},{"$f":"'IT-TA'!H166","v":0},{"$f":"IFERROR('BT-Confi'!Y173,\"\")","v":459473.15704881458},{"$f":"IFERROR('BT-Flex'!Y173,\"\")","v":0},{"$f":"IFERROR('EC-RE'!Z173,\"\")","v":667975.46071520681},{"$f":"IFERROR('EC-RP'!Z172,\"\")","v":1521388.3015303449},{"$f":"IFERROR('EC-Per'!W172,\"\")","v":-139302.10466312908},{"$f":"IFERROR('EC-Mar'!Y172,\"\")","v":1521388.3015303449},0,{"$error":"#REF!"},{"$error":"#REF!"},{"$error":"#REF!"},{"$error":"#REF!"},{"$error":"#REF!"},{"$error":"#REF!"},{"$error":"#REF!"},""]
[{"$f":"IF(ISBLANK(InfoPro!A166),\"\",InfoPro!A166)","v":"SC_1978_A1"},{"$f":"IF(ISBLANK(InfoPro!H166),\"\",InfoPro!H166)","v":"SC_1978"},{"$f":"IF(ISBLANK(InfoPro!B166),\"\",InfoPro!B166)","v":"Solar El Copey"},{"$f":"IF(ISBLANK(InfoPro!E166),\"\",InfoPro!E166)","v":230},{"$f":"IF(ISBLANK(InfoPro!C166),\"\",InfoPro!C166)","v":"2022-08-16T22:34:00"},{"$f":"IF(ISBLANK(InfoPro!D166),\"\",InfoPro!D166)","v":44789.94027777778},{"$f":"IF(ISBLANK(InfoPro!L166),\"\",InfoPro!L166)","v":"NO"},{"$f":"'IT-TA'!H167","v":0},{"$f":"IFERROR('BT-Confi'!Y174,\"\")","v":459473.15704881464},{"$f":"IFERROR('BT-Flex'!Y174,\"\")","v":0},{"$f":"IFERROR('EC-RE'!Z174,\"\")","v":667975.46071520669},{"$f":"IFERROR('EC-RP'!Z173,\"\")","v":1521388.3015303451},{"$f":"IFERROR('EC-Per'!W173,\"\")","v":-52024.836297142072},{"$f":"IFERROR('EC-Mar'!Y173,\"\")","v":1521388.3015303451},0,{"$error":"#REF!"},{"$error":"#REF!"},{"$error":"#REF!"},{"$error":"#REF!"},{"$error":"#REF!"},{"$error":"#REF!"},{"$error":"#REF!"},""]
[{"$f":"IF(ISBLANK(InfoPro!A167),\"\",InfoPro!A167)","v":"SC_1978_A2"},{"$f":"IF(ISBLANK(InfoPro!H167),\"\",InfoPro!H167)","v":"SC_1978"},{"$f":"IF(ISBLANK(InfoPro!B167),\"\",InfoPro!B167)","v":"Solar El Copey"},{"$f":"IF(ISBLANK(InfoPro!E167),\"\",InfoPro!E167)","v":230},{"$f":"IF(ISBLANK(InfoPro!C167),\"\",InfoPro!C167)","v":"2022-08-16T22:34:00"},{"$f":"IF(ISBLANK(InfoPro!D167),\"\",InfoPro!D167)","v":44789.94027777778},{"$f":"IF(ISBLANK(InfoPro!L167),\"\",InfoPro!L167)","v":"NO"},{"$f":"'IT-TA'!H168","v":0},{"$f":"IFERROR('BT-Confi'!Y175,\"\")","v":459473.15704881464},{"$f":"IFERROR('BT-Flex'!Y175,\"\")","v":0},{"$f":"IFERROR('EC-RE'!Z175,\"\")","v":667975.46071520669},{"$f":"IFERROR('EC-RP'!Z174,\"\")","v":1521388.3015303451},{"$f":"IFERROR('EC-Per'!W174,\"\")","v":-40255.232592441716},{"$f":"IFERROR('EC-Mar'!Y174,\"\")","v":1521388.3015303451},0,{"$error":"#REF!"},{"$error":"#REF!"},{"$error":"#REF!"},{"$error":"#REF!"},{"$error":"#REF!"},{"$error":"#REF!"},{"$error":"#REF!"},""]
[{"$f":"IF(ISBLANK(InfoPro!A168),\"\",InfoPro!A168)","v":"SC_1981_A1"},{"$f":"IF(ISBLANK(InfoPro!H168),\"\",InfoPro!H168)","v":"SC_1981"},{"$f":"IF(ISBLANK(InfoPro!B168),\"\",InfoPro!B168)","v":"Solar Valledupar 2"},{"$f":"IF(ISBLANK(InfoPro!E168),\"\",InfoPro!E168)","v":19.899999999999999},{"$f":"IF(ISBLANK(InfoPro!C168),\"\",InfoPro!C168)","v":"2022-08-16T10:07:00"},{"$f":"IF(ISBLANK(InfoPro!D168),\"\",InfoPro!D168)","v":44789.421527777777},{"$f":"IF(ISBLANK(InfoPro!L168),\"\",InfoPro!L168)","v":"NO"},{"$f":"'IT-TA'!H169","v":0},{"$f":"IFERROR('BT-Confi'!Y176,\"\")","v":574306.5263510826},{"$f":"IFERROR('BT-Flex'!Y176,\"\")","v":0},{"$f":"IFERROR('EC-RE'!Z176,\"\")","v":834918.5597589938},{"$f":"IFERROR('EC-RP'!Z175,\"\")","v":1901619.7514020144},{"$f":"IFERROR('EC-Per'!W175,\"\")","v":45777.543907152489},{"$f":"IFERROR('EC-Mar'!Y175,\"\")","v":1901619.7514020144},0,{"$error":"#REF!"},{"$error":"#REF!"},{"$error":"#REF!"},{"$error":"#REF!"},{"$error":"#REF!"},{"$error":"#REF!"},{"$error":"#REF!"},""]
[{"$f":"IF(ISBLANK(InfoPro!A169),\"\",InfoPro!A169)","v":"SC_1981_A2"},{"$f":"IF(ISBLANK(InfoPro!H169),\"\",InfoPro!H169)","v":"SC_1981"},{"$f":"IF(ISBLANK(InfoPro!B169),\"\",InfoPro!B169)","v":"Solar Valledupar 2"},{"$f":"IF(ISBLANK(InfoPro!E169),\"\",InfoPro!E169)","v":19.899999999999999},{"$f":"IF(ISBLANK(InfoPro!C169),\"\",InfoPro!C169)","v":"2022-08-16T10:07:00"},{"$f":"IF(ISBLANK(InfoPro!D169),\"\",InfoPro!D169)","v":44789.421527777777},{"$f":"IF(ISBLANK(InfoPro!L169),\"\",InfoPro!L169)","v":"NO"},{"$f":"'IT-TA'!H170","v":0},{"$f":"IFERROR('BT-Confi'!Y177,\"\")","v":574306.5263510826},{"$f":"IFERROR('BT-Flex'!Y177,\"\")","v":0},{"$f":"IFERROR('EC-RE'!Z177,\"\")","v":834918.5597589938},{"$f":"IFERROR('EC-RP'!Z176,\"\")","v":1901619.7514020144},{"$f":"IFERROR('EC-Per'!W176,\"\")","v":27887.102143607222},{"$f":"IFERROR('EC-Mar'!Y176,\"\")","v":1901619.7514020144},0,{"$error":"#REF!"},{"$error":"#REF!"},{"$error":"#REF!"},{"$error":"#REF!"},{"$error":"#REF!"},{"$error":"#REF!"},{"$error":"#REF!"},""]
[{"$f":"IF(ISBLANK(InfoPro!A170),\"\",InfoPro!A170)","v":"SC_1982_A1"},{"$f":"IF(ISBLANK(InfoPro!H170),\"\",InfoPro!H170)","v":"SC_1982"},{"$f":"IF(ISBLANK(InfoPro!B170),\"\",InfoPro!B170)","v":"Solar Valledupar 3"},{"$f":"IF(ISBLANK(InfoPro!E170),\"\",InfoPro!E170)","v":19.899999999999999},{"$f":"IF(ISBLANK(InfoPro!C170),\"\",InfoPro!C170)","v":"2022-08-16T10:08:00"},{"$f":"IF(ISBLANK(InfoPro!D170),\"\",InfoPro!D170)","v":44789.422222222223},{"$f":"IF(ISBLANK(InfoPro!L170),\"\",InfoPro!L170)","v":"NO"},{"$f":"'IT-TA'!H171","v":0},{"$f":"IFERROR('BT-Confi'!Y178,\"\")","v":459473.15704881458},{"$f":"IFERROR('BT-Flex'!Y178,\"\")","v":0},{"$f":"IFERROR('EC-RE'!Z178,\"\")","v":667975.46071520681},{"$f":"IFERROR('EC-RP'!Z177,\"\")","v":1521388.3015303449},{"$f":"IFERROR('EC-Per'!W177,\"\")","v":-69943.735024112029},{"$f":"IFERROR('EC-Mar'!Y177,\"\")","v":1521388.3015303449},0,{"$error":"#REF!"},{"$error":"#REF!"},{"$error":"#REF!"},{"$error":"#REF!"},{"$error":"#REF!"},{"$error":"#REF!"},{"$error":"#REF!"},""]
[{"$f":"IF(ISBLANK(InfoPro!A171),\"\",InfoPro!A171)","v":"SC_1982_A2"},{"$f":"IF(ISBLANK(InfoPro!H171),\"\",InfoPro!H171)","v":"SC_1982"},{"$f":"IF(ISBLANK(InfoPro!B171),\"\",InfoPro!B171)","v":"Solar Valledupar 3"},{"$f":"IF(ISBLANK(InfoPro!E171),\"\",InfoPro!E171)","v":19.899999999999999},{"$f":"IF(ISBLANK(InfoPro!C171),\"\",InfoPro!C171)","v":"2022-08-16T10:08:00"},{"$f":"IF(ISBLANK(InfoPro!D171),\"\",InfoPro!D171)","v":44789.422222222223},{"$f":"IF(ISBLANK(InfoPro!L171),\"\",InfoPro!L171)","v":"NO"},{"$f":"'IT-TA'!H172","v":0},{"$f":"IFERROR('BT-Confi'!Y179,\"\")","v":459473.15704881458},{"$f":"IFERROR('BT-Flex'!Y179,\"\")","v":0},{"$f":"IFERROR('EC-RE'!Z179,\"\")","v":667975.46071520681},{"$f":"IFERROR('EC-RP'!Z178,\"\")","v":1521388.3015303449},{"$f":"IFERROR('EC-Per'!W178,\"\")","v":-156996.77912120239},{"$f":"IFERROR('EC-Mar'!Y178,\"\")","v":1521388.3015303449},0,{"$error":"#REF!"},{"$error":"#REF!"},{"$error":"#REF!"},{"$error":"#REF!"},{"$error":"#REF!"},{"$error":"#REF!"},{"$error":"#REF!"},""]
[{"$f":"IF(ISBLANK(InfoPro!A172),\"\",InfoPro!A172)","v":"SC_1989_A1"},{"$f":"IF(ISBLANK(InfoPro!H172),\"\",InfoPro!H172)","v":"SC_1989"},{"$f":"IF(ISBLANK(InfoPro!B172),\"\",InfoPro!B172)","v":"Solar Valledupar 1"},{"$f":"IF(ISBLANK(InfoPro!E172),\"\",InfoPro!E172)","v":19.899999999999999},{"$f":"IF(ISBLANK(InfoPro!C172),\"\",InfoPro!C172)","v":"2022-08-16T10:28:00"},{"$f":"IF(ISBLANK(InfoPro!D172),\"\",InfoPro!D172)","v":44789.436111111114},{"$f":"IF(ISBLANK(InfoPro!L172),\"\",InfoPro!L172)","v":"NO"},{"$f":"'IT-TA'!H173","v":0},{"$f":"IFERROR('BT-Confi'!Y180,\"\")","v":574306.5263510826},{"$f":"IFERROR('BT-Flex'!Y180,\"\")","v":0},{"$f":"IFERROR('EC-RE'!Z180,\"\")","v":834918.5597589938},{"$f":"IFERROR('EC-RP'!Z179,\"\")","v":1901619.7514020144},{"$f":"IFERROR('EC-Per'!W179,\"\")","v":45777.543907152489},{"$f":"IFERROR('EC-Mar'!Y179,\"\")","v":1901619.7514020144},0,{"$error":"#REF!"},{"$error":"#REF!"},{"$error":"#REF!"},{"$error":"#REF!"},{"$error":"#REF!"},{"$error":"#REF!"},{"$error":"#REF!"},""]
[{"$f":"IF(ISBLANK(InfoPro!A173),\"\",InfoPro!A173)","v":"SC_1989_A2"},{"$f":"IF(ISBLANK(InfoPro!H173),\"\",InfoPro!H173)","v":"SC_1989"},{"$f":"IF(ISBLANK(InfoPro!B173),\"\",InfoPro!B173)","v":"Solar Valledupar 1"},{"$f":"IF(ISBLANK(InfoPro!E173),\"\",InfoPro!E173)","v":19.899999999999999},{"$f":"IF(ISBLANK(InfoPro!C173),\"\",InfoPro!C173)","v":"2022-08-16T10:28:00"},{"$f":"IF(ISBLANK(InfoPro!D173),\"\",InfoPro!D173)","v":44789.436111111114},{"$f":"IF(ISBLANK(InfoPro!L173),\"\",InfoPro!L173)","v":"NO"},{"$f":"'IT-TA'!H174","v":0},{"$f":"IFERROR('BT-Confi'!Y181,\"\")","v":574306.5263510826},{"$f":"IFERROR('BT-Flex'!Y181,\"\")","v":0},{"$f":"IFERROR('EC-RE'!Z181,\"\")","v":834918.5597589938},{"$f":"IFERROR('EC-RP'!Z180,\"\")","v":1901619.7514020144},{"$f":"IFERROR('EC-Per'!W180,\"\")","v":27887.102143607222},{"$f":"IFERROR('EC-Mar'!Y180,\"\")","v":1901619.7514020144},0,{"$error":"#REF!"},{"$error":"#REF!"},{"$error":"#REF!"},{"$error":"#REF!"},{"$error":"#REF!"},{"$error":"#REF!"},{"$error":"#REF!"},""]
[{"$f":"IF(ISBLANK(InfoPro!A174),\"\",InfoPro!A174)","v":"SC_1992_A1"},{"$f":"IF(ISBLANK(InfoPro!H174),\"\",InfoPro!H174)","v":"SC_1992"},{"$f":"IF(ISBLANK(InfoPro!B174),\"\",InfoPro!B174)","v":"Parque Solar TERRɅ III"},{"$f":"IF(ISBLANK(InfoPro!E174),\"\",InfoPro!E174)","v":19.899999999999999},{"$f":"IF(ISBLANK(InfoPro!C174),\"\",InfoPro!C174)","v":"2022-08-17T10:36:00"},{"$f":"IF(ISBLANK(InfoPro!D174),\"\",InfoPro!D174)","v":44790.441666666666},{"$f":"IF(ISBLANK(InfoPro!L174),\"\",InfoPro!L174)","v":"NO"},{"$f":"'IT-TA'!H175","v":0},{"$f":"IFERROR('BT-Confi'!Y182,\"\")","v":513690.98958057468},{"$f":"IFERROR('BT-Flex'!Y182,\"\")","v":0},{"$f":"IFERROR('EC-RE'!Z182,\"\")","v":746796.56507960102},{"$f":"IFERROR('EC-RP'!Z181,\"\")","v":1700912.1211109255},{"$f":"IFERROR('EC-Per'!W181,\"\")","v":-47191.9921366321},{"$f":"IFERROR('EC-Mar'!Y181,\"\")","v":1700912.1211109255},0,{"$error":"#REF!"},{"$error":"#REF!"},{"$error":"#REF!"},{"$error":"#REF!"},{"$error":"#REF!"},{"$error":"#REF!"},{"$error":"#REF!"},""]
[{"$f":"IF(ISBLANK(InfoPro!A175),\"\",InfoPro!A175)","v":"SC_2005_A1"},{"$f":"IF(ISBLANK(InfoPro!H175),\"\",InfoPro!H175)","v":"SC_2005"},{"$f":"IF(ISBLANK(InfoPro!B175),\"\",InfoPro!B175)","v":"PARQUE SOLAR CATACA"},{"$f":"IF(ISBLANK(InfoPro!E175),\"\",InfoPro!E175)","v":9.9},{"$f":"IF(ISBLANK(InfoPro!C175),\"\",InfoPro!C175)","v":"2022-08-19T14:07:00"},{"$f":"IF(ISBLANK(InfoPro!D175),\"\",InfoPro!D175)","v":44792.588194444441},{"$f":"IF(ISBLANK(InfoPro!L175),\"\",InfoPro!L175)","v":"NO"},{"$f":"'IT-TA'!H176","v":0},{"$f":"IFERROR('BT-Confi'!Y183,\"\")","v":513690.98958057474},{"$f":"IFERROR('BT-Flex'!Y183,\"\")","v":0},{"$f":"IFERROR('EC-RE'!Z183,\"\")","v":746796.56507960113},{"$f":"IFERROR('EC-RP'!Z182,\"\")","v":1700912.1211109257},{"$f":"IFERROR('EC-Per'!W182,\"\")","v":179406.58467549339},{"$f":"IFERROR('EC-Mar'!Y182,\"\")","v":1700912.1211109257},0,{"$error":"#REF!"},{"$error":"#REF!"},{"$error":"#REF!"},{"$error":"#REF!"},{"$error":"#REF!"},{"$error":"#REF!"},{"$error":"#REF!"},""]
[{"$f":"IF(ISBLANK(InfoPro!A176),\"\",InfoPro!A176)","v":"SC_2010_A1"},{"$f":"IF(ISBLANK(InfoPro!H176),\"\",InfoPro!H176)","v":"SC_2010"},{"$f":"IF(ISBLANK(InfoPro!B176),\"\",InfoPro!B176)","v":"PARQUE SOLAR SAN JUAN_5MW"},{"$f":"IF(ISBLANK(InfoPro!E176),\"\",InfoPro!E176)","v":5},{"$f":"IF(ISBLANK(InfoPro!C176),\"\",InfoPro!C176)","v":"2022-08-22T14:21:00"},{"$f":"IF(ISBLANK(InfoPro!D176),\"\",InfoPro!D176)","v":44795.597916666666},{"$f":"IF(ISBLANK(InfoPro!L176),\"\",InfoPro!L176)","v":"NO"},{"$f":"'IT-TA'!H177","v":0},{"$f":"IFERROR('BT-Confi'!Y184,\"\")","v":513690.98958057462},{"$f":"IFERROR('BT-Flex'!Y184,\"\")","v":0},{"$f":"IFERROR('EC-RE'!Z184,\"\")","v":746796.56507960102},{"$f":"IFERROR('EC-RP'!Z183,\"\")","v":1700912.1211109259},{"$f":"IFERROR('EC-Per'!W183,\"\")","v":229210.5404277833},{"$f":"IFERROR('EC-Mar'!Y183,\"\")","v":1700912.1211109259},0,{"$error":"#REF!"},{"$error":"#REF!"},{"$error":"#REF!"},{"$error":"#REF!"},{"$error":"#REF!"},{"$error":"#REF!"},{"$error":"#REF!"},""]
[{"$f":"IF(ISBLANK(InfoPro!A177),\"\",InfoPro!A177)","v":"SC_2011_A1"},{"$f":"IF(ISBLANK(InfoPro!H177),\"\",InfoPro!H177)","v":"SC_2011"},{"$f":"IF(ISBLANK(InfoPro!B177),\"\",InfoPro!B177)","v":"PE Vientos de la Manita"},{"$f":"IF(ISBLANK(InfoPro!E177),\"\",InfoPro!E177)","v":9.9},{"$f":"IF(ISBLANK(InfoPro!C177),\"\",InfoPro!C177)","v":"2022-08-01T15:21:00"},{"$f":"IF(ISBLANK(InfoPro!D177),\"\",InfoPro!D177)","v":44774.63958333333},{"$f":"IF(ISBLANK(InfoPro!L177),\"\",InfoPro!L177)","v":"NO"},{"$f":"'IT-TA'!H178","v":0},{"$f":"IFERROR('BT-Confi'!Y185,\"\")","v":402922.61464280653},{"$f":"IFERROR('BT-Flex'!Y185,\"\")","v":0},{"$f":"IFERROR('EC-RE'!Z185,\"\")","v":1464407.7407987216},{"$f":"IFERROR('EC-RP'!Z184,\"\")","v":3335351.2764319098},{"$f":"IFERROR('EC-Per'!W184,\"\")","v":260549.4974886307},{"$f":"IFERROR('EC-Mar'!Y184,\"\")","v":3335351.2764319093},0,{"$error":"#REF!"},{"$error":"#REF!"},{"$error":"#REF!"},{"$error":"#REF!"},{"$error":"#REF!"},{"$error":"#REF!"},{"$error":"#REF!"},""]
[{"$f":"IF(ISBLANK(InfoPro!A178),\"\",InfoPro!A178)","v":"SC_2011_A2"},{"$f":"IF(ISBLANK(InfoPro!H178),\"\",InfoPro!H178)","v":"SC_2011"},{"$f":"IF(ISBLANK(InfoPro!B178),\"\",InfoPro!B178)","v":"PE Vientos de la Manita"},{"$f":"IF(ISBLANK(InfoPro!E178),\"\",InfoPro!E178)","v":9.9},{"$f":"IF(ISBLANK(InfoPro!C178),\"\",InfoPro!C178)","v":"2022-08-01T15:21:00"},{"$f":"IF(ISBLANK(InfoPro!D178),\"\",InfoPro!D178)","v":44774.63958333333},{"$f":"IF(ISBLANK(InfoPro!L178),\"\",InfoPro!L178)","v":"NO"},{"$f":"'IT-TA'!H179","v":0},{"$f":"IFERROR('BT-Confi'!Y186,\"\")","v":402922.61464280653},{"$f":"IFERROR('BT-Flex'!Y186,\"\")","v":0},{"$f":"IFERROR('EC-RE'!Z186,\"\")","v":1464407.7407987216},{"$f":"IFERROR('EC-RP'!Z185,\"\")","v":3335351.2764319098},{"$f":"IFERROR('EC-Per'!W185,\"\")","v":615418.02535697212},{"$f":"IFERROR('EC-Mar'!Y185,\"\")","v":3335351.2764319093},0,{"$error":"#REF!"},{"$error":"#REF!"},{"$error":"#REF!"},{"$error":"#REF!"},{"$error":"#REF!"},{"$error":"#REF!"},{"$error":"#REF!"},""]
[{"$f":"IF(ISBLANK(InfoPro!A179),\"\",InfoPro!A179)","v":"SC_2020_A1"},{"$f":"IF(ISBLANK(InfoPro!H179),\"\",InfoPro!H179)","v":"SC_2020"},{"$f":"IF(ISBLANK(InfoPro!B179),\"\",InfoPro!B179)","v":"San Juan Solar I 9,9 MW"},{"$f":"IF(ISBLANK(InfoPro!E179),\"\",InfoPro!E179)","v":9.9},{"$f":"IF(ISBLANK(InfoPro!C179),\"\",InfoPro!C179)","v":"2022-08-12T17:06:00"},{"$f":"IF(ISBLANK(InfoPro!D179),\"\",InfoPro!D179)","v":44785.712500000001},{"$f":"IF(ISBLANK(InfoPro!L179),\"\",InfoPro!L179)","v":"NO"},{"$f":"'IT-TA'!H180","v":0},{"$f":"IFERROR('BT-Confi'!Y187,\"\")","v":513690.98958057474},{"$f":"IFERROR('BT-Flex'!Y187,\"\")","v":0},{"$f":"IFERROR('EC-RE'!Z187,\"\")","v":746796.56507960113},{"$f":"IFERROR('EC-RP'!Z186,\"\")","v":1700912.1211109257},{"$f":"IFERROR('EC-Per'!W186,\"\")","v":-76925.969015491326},{"$f":"IFERROR('EC-Mar'!Y186,\"\")","v":1700912.1211109257},0,{"$error":"#REF!"},{"$error":"#REF!"},{"$error":"#REF!"},{"$error":"#REF!"},{"$error":"#REF!"},{"$error":"#REF!"},{"$error":"#REF!"},""]
[{"$f":"IF(ISBLANK(InfoPro!A180),\"\",InfoPro!A180)","v":"SC_2020_A2"},{"$f":"IF(ISBLANK(InfoPro!H180),\"\",InfoPro!H180)","v":"SC_2020"},{"$f":"IF(ISBLANK(InfoPro!B180),\"\",InfoPro!B180)","v":"San Juan Solar I 9,9 MW"},{"$f":"IF(ISBLANK(InfoPro!E180),\"\",InfoPro!E180)","v":9.9},{"$f":"IF(ISBLANK(InfoPro!C180),\"\",InfoPro!C180)","v":"2022-08-12T17:06:00"},{"$f":"IF(ISBLANK(InfoPro!D180),\"\",InfoPro!D180)","v":44785.712500000001},{"$f":"IF(ISBLANK(InfoPro!L180),\"\",InfoPro!L180)","v":"NO"},{"$f":"'IT-TA'!H181","v":0},{"$f":"IFERROR('BT-Confi'!Y188,\"\")","v":513690.98958057474},{"$f":"IFERROR('BT-Flex'!Y188,\"\")","v":0},{"$f":"IFERROR('EC-RE'!Z188,\"\")","v":746796.56507960113},{"$f":"IFERROR('EC-RP'!Z187,\"\")","v":1700912.1211109257},{"$f":"IFERROR('EC-Per'!W187,\"\")","v":-77326.625104113657},{"$f":"IFERROR('EC-Mar'!Y187,\"\")","v":1700912.1211109257},0,{"$error":"#REF!"},{"$error":"#REF!"},{"$error":"#REF!"},{"$error":"#REF!"},{"$error":"#REF!"},{"$error":"#REF!"},{"$error":"#REF!"},""]
[{"$f":"IF(ISBLANK(InfoPro!A181),\"\",InfoPro!A181)","v":"SC_2021_A1"},{"$f":"IF(ISBLANK(InfoPro!H181),\"\",InfoPro!H181)","v":"SC_2021"},{"$f":"IF(ISBLANK(InfoPro!B181),\"\",InfoPro!B181)","v":"San Juan Solar II 9,9 MW"},{"$f":"IF(ISBLANK(InfoPro!E181),\"\",InfoPro!E181)","v":9.9},{"$f":"IF(ISBLANK(InfoPro!C181),\"\",InfoPro!C181)","v":"2022-08-12T17:07:00"},{"$f":"IF(ISBLANK(InfoPro!D181),\"\",InfoPro!D181)","v":44785.713194444441},{"$f":"IF(ISBLANK(InfoPro!L181),\"\",InfoPro!L181)","v":"NO"},{"$f":"'IT-TA'!H182","v":0},{"$f":"IFERROR('BT-Confi'!Y189,\"\")","v":513690.98958057474},{"$f":"IFERROR('BT-Flex'!Y189,\"\")","v":0},{"$f":"IFERROR('EC-RE'!Z189,\"\")","v":746796.56507960113},{"$f":"IFERROR('EC-RP'!Z188,\"\")","v":1700912.1211109257},{"$f":"IFERROR('EC-Per'!W188,\"\")","v":-76925.969015491326},{"$f":"IFERROR('EC-Mar'!Y188,\"\")","v":1700912.1211109257},0,{"$error":"#REF!"},{"$error":"#REF!"},{"$error":"#REF!"},{"$error":"#REF!"},{"$error":"#REF!"},{"$error":"#REF!"},{"$error":"#REF!"},""]
[{"$f":"IF(ISBLANK(InfoPro!A182),\"\",InfoPro!A182)","v":"SC_2021_A2"},{"$f":"IF(ISBLANK(InfoPro!H182),\"\",InfoPro!H182)","v":"SC_2021"},{"$f":"IF(ISBLANK(InfoPro!B182),\"\",InfoPro!B182)","v":"San Juan Solar II 9,9 MW"},{"$f":"IF(ISBLANK(InfoPro!E182),\"\",InfoPro!E182)","v":9.9},{"$f":"IF(ISBLANK(InfoPro!C182),\"\",InfoPro!C182)","v":"2022-08-12T17:07:00"},{"$f":"IF(ISBLANK(InfoPro!D182),\"\",InfoPro!D182)","v":44785.713194444441},{"$f":"IF(ISBLANK(InfoPro!L182),\"\",InfoPro!L182)","v":"NO"},{"$f":"'IT-TA'!H183","v":0},{"$f":"IFERROR('BT-Confi'!Y190,\"\")","v":513690.98958057474},{"$f":"IFERROR('BT-Flex'!Y190,\"\")","v":0},{"$f":"IFERROR('EC-RE'!Z190,\"\")","v":746796.56507960113},{"$f":"IFERROR('EC-RP'!Z189,\"\")","v":1700912.1211109257},{"$f":"IFERROR('EC-Per'!W189,\"\")","v":-77326.625104113657},{"$f":"IFERROR('EC-Mar'!Y189,\"\")","v":1700912.1211109257},0,{"$error":"#REF!"},{"$error":"#REF!"},{"$error":"#REF!"},{"$error":"#REF!"},{"$error":"#REF!"},{"$error":"#REF!"},{"$error":"#REF!"},""]
[{"$f":"IF(ISBLANK(InfoPro!A183),\"\",InfoPro!A183)","v":"SC_2056_A1"},{"$f":"IF(ISBLANK(InfoPro!H183),\"\",InfoPro!H183)","v":"SC_2056"},{"$f":"IF(ISBLANK(InfoPro!B183),\"\",InfoPro!B183)","v":"Saturno 200 MW"},{"$f":"IF(ISBLANK(InfoPro!E183),\"\",InfoPro!E183)","v":200},{"$f":"IF(ISBLANK(InfoPro!C183),\"\",InfoPro!C183)","v":"2022-06-30T10:20:00"},{"$f":"IF(ISBLANK(InfoPro!D183),\"\",InfoPro!D183)","v":44742.430555555555},{"$f":"IF(ISBLANK(InfoPro!L183),\"\",InfoPro!L183)","v":"NO"},{"$f":"'IT-TA'!H184","v":0},{"$f":"IFERROR('BT-Confi'!Y191,\"\")","v":459473.15704881452},{"$f":"IFERROR('BT-Flex'!Y191,\"\")","v":0},{"$f":"IFERROR('EC-RE'!Z191,\"\")","v":667975.46071520646},{"$f":"IFERROR('EC-RP'!Z190,\"\")","v":1521388.3015303449},{"$f":"IFERROR('EC-Per'!W190,\"\")","v":2469.1965278936709},{"$f":"IFERROR('EC-Mar'!Y190,\"\")","v":1521388.3015303449},0,{"$error":"#REF!"},{"$error":"#REF!"},{"$error":"#REF!"},{"$error":"#REF!"},{"$error":"#REF!"},{"$error":"#REF!"},{"$error":"#REF!"},""]
[{"$f":"IF(ISBLANK(InfoPro!A184),\"\",InfoPro!A184)","v":"SC_2057_A1"},{"$f":"IF(ISBLANK(InfoPro!H184),\"\",InfoPro!H184)","v":"SC_2057"},{"$f":"IF(ISBLANK(InfoPro!B184),\"\",InfoPro!B184)","v":"SABAN II - 305 MW"},{"$f":"IF(ISBLANK(InfoPro!E184),\"\",InfoPro!E184)","v":305},{"$f":"IF(ISBLANK(InfoPro!C184),\"\",InfoPro!C184)","v":"2022-07-02T10:21:00"},{"$f":"IF(ISBLANK(InfoPro!D184),\"\",InfoPro!D184)","v":44744.431250000001},{"$f":"IF(ISBLANK(InfoPro!L184),\"\",InfoPro!L184)","v":"NO"},{"$f":"'IT-TA'!H185","v":0},{"$f":"IFERROR('BT-Confi'!Y192,\"\")","v":367600.87577229878},{"$f":"IFERROR('BT-Flex'!Y192,\"\")","v":0},{"$f":"IFERROR('EC-RE'!Z192,\"\")","v":534412.86087410629},{"$f":"IFERROR('EC-RP'!Z191,\"\")","v":1217184.6460507556},{"$f":"IFERROR('EC-Per'!W191,\"\")","v":-104231.67434893128},{"$f":"IFERROR('EC-Mar'!Y191,\"\")","v":1217184.6460507556},0,{"$error":"#REF!"},{"$error":"#REF!"},{"$error":"#REF!"},{"$error":"#REF!"},{"$error":"#REF!"},{"$error":"#REF!"},{"$error":"#REF!"},""]
[{"$f":"IF(ISBLANK(InfoPro!A185),\"\",InfoPro!A185)","v":"SC_2066_A1"},{"$f":"IF(ISBLANK(InfoPro!H185),\"\",InfoPro!H185)","v":"SC_2066"},{"$f":"IF(ISBLANK(InfoPro!B185),\"\",InfoPro!B185)","v":"Orquídea del Cesar - La Loma - 62 MW"},{"$f":"IF(ISBLANK(InfoPro!E185),\"\",InfoPro!E185)","v":62},{"$f":"IF(ISBLANK(InfoPro!C185),\"\",InfoPro!C185)","v":"2022-08-26T14:05:00"},{"$f":"IF(ISBLANK(InfoPro!D185),\"\",InfoPro!D185)","v":44799.586805555555},{"$f":"IF(ISBLANK(InfoPro!L185),\"\",InfoPro!L185)","v":"NO"},{"$f":"'IT-TA'!H186","v":0},{"$f":"IFERROR('BT-Confi'!Y193,\"\")","v":328802.21446538344},{"$f":"IFERROR('BT-Flex'!Y193,\"\")","v":0},{"$f":"IFERROR('EC-RE'!Z193,\"\")","v":478007.92564768036},{"$f":"IFERROR('EC-RP'!Z192,\"\")","v":1088716.1413691915},{"$f":"IFERROR('EC-Per'!W192,\"\")","v":-176178.16943530404},{"$f":"IFERROR('EC-Mar'!Y192,\"\")","v":1088716.1413691915},0,{"$error":"#REF!"},{"$error":"#REF!"},{"$error":"#REF!"},{"$error":"#REF!"},{"$error":"#REF!"},{"$error":"#REF!"},{"$error":"#REF!"},""]
[{"$f":"IF(ISBLANK(InfoPro!A186),\"\",InfoPro!A186)","v":"SC_2066_A2"},{"$f":"IF(ISBLANK(InfoPro!H186),\"\",InfoPro!H186)","v":"SC_2066"},{"$f":"IF(ISBLANK(InfoPro!B186),\"\",InfoPro!B186)","v":"Orquídea del Cesar - La Loma - 62 MW"},{"$f":"IF(ISBLANK(InfoPro!E186),\"\",InfoPro!E186)","v":62},{"$f":"IF(ISBLANK(InfoPro!C186),\"\",InfoPro!C186)","v":"2022-08-26T14:05:00"},{"$f":"IF(ISBLANK(InfoPro!D186),\"\",InfoPro!D186)","v":44799.586805555555},{"$f":"IF(ISBLANK(InfoPro!L186),\"\",InfoPro!L186)","v":"NO"},{"$f":"'IT-TA'!H187","v":0},{"$f":"IFERROR('BT-Confi'!Y194,\"\")","v":328802.21446538344},{"$f":"IFERROR('BT-Flex'!Y194,\"\")","v":0},{"$f":"IFERROR('EC-RE'!Z194,\"\")","v":478007.92564768036},{"$f":"IFERROR('EC-RP'!Z193,\"\")","v":1088716.1413691915},{"$f":"IFERROR('EC-Per'!W193,\"\")","v":-244823.0918874729},{"$f":"IFERROR('EC-Mar'!Y193,\"\")","v":1088716.1413691915},0,{"$error":"#REF!"},{"$error":"#REF!"},{"$error":"#REF!"},{"$error":"#REF!"},{"$error":"#REF!"},{"$error":"#REF!"},{"$error":"#REF!"},""]
[{"$f":"IF(ISBLANK(InfoPro!A187),\"\",InfoPro!A187)","v":"SC_2069_A1"},{"$f":"IF(ISBLANK(InfoPro!H187),\"\",InfoPro!H187)","v":"SC_2069"},{"$f":"IF(ISBLANK(InfoPro!B187),\"\",InfoPro!B187)","v":"Pétalo del Magdalena - Fundación"},{"$f":"IF(ISBLANK(InfoPro!E187),\"\",InfoPro!E187)","v":9.9},{"$f":"IF(ISBLANK(InfoPro!C187),\"\",InfoPro!C187)","v":"2022-08-22T14:09:00"},{"$f":"IF(ISBLANK(InfoPro!D187),\"\",InfoPro!D187)","v":44795.589583333334},{"$f":"IF(ISBLANK(InfoPro!L187),\"\",InfoPro!L187)","v":"NO"},{"$f":"'IT-TA'!H188","v":0},{"$f":"IFERROR('BT-Confi'!Y195,\"\")","v":410977.77911342995},{"$f":"IFERROR('BT-Flex'!Y195,\"\")","v":0},{"$f":"IFERROR('EC-RE'!Z195,\"\")","v":597473.57845725107},{"$f":"IFERROR('EC-RP'!Z194,\"\")","v":1360812.4342847455},{"$f":"IFERROR('EC-Per'!W194,\"\")","v":-138902.55599781955},{"$f":"IFERROR('EC-Mar'!Y194,\"\")","v":1360812.4342847455},0,{"$error":"#REF!"},{"$error":"#REF!"},{"$error":"#REF!"},{"$error":"#REF!"},{"$error":"#REF!"},{"$error":"#REF!"},{"$error":"#REF!"},""]
[{"$f":"IF(ISBLANK(InfoPro!A188),\"\",InfoPro!A188)","v":"SC_2070_A1"},{"$f":"IF(ISBLANK(InfoPro!H188),\"\",InfoPro!H188)","v":"SC_2070"},{"$f":"IF(ISBLANK(InfoPro!B188),\"\",InfoPro!B188)","v":"Cactus del Cesar - La Loma"},{"$f":"IF(ISBLANK(InfoPro!E188),\"\",InfoPro!E188)","v":19.899999999999999},{"$f":"IF(ISBLANK(InfoPro!C188),\"\",InfoPro!C188)","v":"2022-08-26T14:10:00"},{"$f":"IF(ISBLANK(InfoPro!D188),\"\",InfoPro!D188)","v":44799.590277777781},{"$f":"IF(ISBLANK(InfoPro!L188),\"\",InfoPro!L188)","v":"NO"},{"$f":"'IT-TA'!H189","v":0},{"$f":"IFERROR('BT-Confi'!Y196,\"\")","v":328802.2144653835},{"$f":"IFERROR('BT-Flex'!Y196,\"\")","v":0},{"$f":"IFERROR('EC-RE'!Z196,\"\")","v":478007.92564768018},{"$f":"IFERROR('EC-RP'!Z195,\"\")","v":1088716.141369191},{"$f":"IFERROR('EC-Per'!W195,\"\")","v":-179591.78938999606},{"$f":"IFERROR('EC-Mar'!Y195,\"\")","v":1088716.1413691912},0,{"$error":"#REF!"},{"$error":"#REF!"},{"$error":"#REF!"},{"$error":"#REF!"},{"$error":"#REF!"},{"$error":"#REF!"},{"$error":"#REF!"},""]
[{"$f":"IF(ISBLANK(InfoPro!A189),\"\",InfoPro!A189)","v":"SC_2070_A2"},{"$f":"IF(ISBLANK(InfoPro!H189),\"\",InfoPro!H189)","v":"SC_2070"},{"$f":"IF(ISBLANK(InfoPro!B189),\"\",InfoPro!B189)","v":"Cactus del Cesar - La Loma"},{"$f":"IF(ISBLANK(InfoPro!E189),\"\",InfoPro!E189)","v":19.899999999999999},{"$f":"IF(ISBLANK(InfoPro!C189),\"\",InfoPro!C189)","v":"2022-08-26T14:10:00"},{"$f":"IF(ISBLANK(InfoPro!D189),\"\",InfoPro!D189)","v":44799.590277777781},{"$f":"IF(ISBLANK(InfoPro!L189),\"\",InfoPro!L189)","v":"NO"},{"$f":"'IT-TA'!H190","v":0},{"$f":"IFERROR('BT-Confi'!Y197,\"\")","v":328802.2144653835},{"$f":"IFERROR('BT-Flex'!Y197,\"\")","v":0},{"$f":"IFERROR('EC-RE'!Z197,\"\")","v":478007.92564768018},{"$f":"IFERROR('EC-RP'!Z196,\"\")","v":1088716.141369191},{"$f":"IFERROR('EC-Per'!W196,\"\")","v":-173552.94636527909},{"$f":"IFERROR('EC-Mar'!Y196,\"\")","v":1088716.1413691912},0,{"$error":"#REF!"},{"$error":"#REF!"},{"$error":"#REF!"},{"$error":"#REF!"},{"$error":"#REF!"},{"$error":"#REF!"},{"$error":"#REF!"},""]
[{"$f":"IF(ISBLANK(InfoPro!A190),\"\",InfoPro!A190)","v":"SC_2077_A1"},{"$f":"IF(ISBLANK(InfoPro!H190),\"\",InfoPro!H190)","v":"SC_2077"},{"$f":"IF(ISBLANK(InfoPro!B190),\"\",InfoPro!B190)","v":"PARQUE SOLAR GUACAMAYAL 9.9"},{"$f":"IF(ISBLANK(InfoPro!E190),\"\",InfoPro!E190)","v":9.9},{"$f":"IF(ISBLANK(InfoPro!C190),\"\",InfoPro!C190)","v":"2022-08-22T14:25:00"},{"$f":"IF(ISBLANK(InfoPro!D190),\"\",InfoPro!D190)","v":44795.600694444445},{"$f":"IF(ISBLANK(InfoPro!L190),\"\",InfoPro!L190)","v":"NO"},{"$f":"'IT-TA'!H191","v":0},{"$f":"IFERROR('BT-Confi'!Y198,\"\")","v":513690.98958057474},{"$f":"IFERROR('BT-Flex'!Y198,\"\")","v":0},{"$f":"IFERROR('EC-RE'!Z198,\"\")","v":746796.56507960113},{"$f":"IFERROR('EC-RP'!Z197,\"\")","v":1700912.1211109257},{"$f":"IFERROR('EC-Per'!W197,\"\")","v":206471.43767005132},{"$f":"IFERROR('EC-Mar'!Y197,\"\")","v":1700912.1211109257},0,{"$error":"#REF!"},{"$error":"#REF!"},{"$error":"#REF!"},{"$error":"#REF!"},{"$error":"#REF!"},{"$error":"#REF!"},{"$error":"#REF!"},""]
[{"$f":"IF(ISBLANK(InfoPro!A191),\"\",InfoPro!A191)","v":"SC_2084_A1"},{"$f":"IF(ISBLANK(InfoPro!H191),\"\",InfoPro!H191)","v":"SC_2084"},{"$f":"IF(ISBLANK(InfoPro!B191),\"\",InfoPro!B191)","v":"Parque Solar Codazzi 1 19,9 MW"},{"$f":"IF(ISBLANK(InfoPro!E191),\"\",InfoPro!E191)","v":19.899999999999999},{"$f":"IF(ISBLANK(InfoPro!C191),\"\",InfoPro!C191)","v":"2022-08-18T14:40:00"},{"$f":"IF(ISBLANK(InfoPro!D191),\"\",InfoPro!D191)","v":44791.611111111109},{"$f":"IF(ISBLANK(InfoPro!L191),\"\",InfoPro!L191)","v":"NO"},{"$f":"'IT-TA'!H192","v":0},{"$f":"IFERROR('BT-Confi'!Y199,\"\")","v":410977.77911342995},{"$f":"IFERROR('BT-Flex'!Y199,\"\")","v":0},{"$f":"IFERROR('EC-RE'!Z199,\"\")","v":597473.57845725107},{"$f":"IFERROR('EC-RP'!Z198,\"\")","v":1360812.4342847448},{"$f":"IFERROR('EC-Per'!W198,\"\")","v":-151569.20119026242},{"$f":"IFERROR('EC-Mar'!Y198,\"\")","v":1360812.4342847448},0,{"$error":"#REF!"},{"$error":"#REF!"},{"$error":"#REF!"},{"$error":"#REF!"},{"$error":"#REF!"},{"$error":"#REF!"},{"$error":"#REF!"},""]
[{"$f":"IF(ISBLANK(InfoPro!A192),\"\",InfoPro!A192)","v":"SC_2084_A2"},{"$f":"IF(ISBLANK(InfoPro!H192),\"\",InfoPro!H192)","v":"SC_2084"},{"$f":"IF(ISBLANK(InfoPro!B192),\"\",InfoPro!B192)","v":"Parque Solar Codazzi 1 19,9 MW"},{"$f":"IF(ISBLANK(InfoPro!E192),\"\",InfoPro!E192)","v":19.899999999999999},{"$f":"IF(ISBLANK(InfoPro!C192),\"\",InfoPro!C192)","v":"2022-08-18T14:40:00"},{"$f":"IF(ISBLANK(InfoPro!D192),\"\",InfoPro!D192)","v":44791.611111111109},{"$f":"IF(ISBLANK(InfoPro!L192),\"\",InfoPro!L192)","v":"NO"},{"$f":"'IT-TA'!H193","v":0},{"$f":"IFERROR('BT-Confi'!Y200,\"\")","v":410977.77911342995},{"$f":"IFERROR('BT-Flex'!Y200,\"\")","v":0},{"$f":"IFERROR('EC-RE'!Z200,\"\")","v":597473.57845725107},{"$f":"IFERROR('EC-RP'!Z199,\"\")","v":1360812.4342847448},{"$f":"IFERROR('EC-Per'!W199,\"\")","v":-182485.48877924355},{"$f":"IFERROR('EC-Mar'!Y199,\"\")","v":1360812.4342847448},0,{"$error":"#REF!"},{"$error":"#REF!"},{"$error":"#REF!"},{"$error":"#REF!"},{"$error":"#REF!"},{"$error":"#REF!"},{"$error":"#REF!"},""]
[{"$f":"IF(ISBLANK(InfoPro!A193),\"\",InfoPro!A193)","v":"SC_2086_A1"},{"$f":"IF(ISBLANK(InfoPro!H193),\"\",InfoPro!H193)","v":"SC_2086"},{"$f":"IF(ISBLANK(InfoPro!B193),\"\",InfoPro!B193)","v":"PARQUE SOLAR SABANA SOLAR 19.9"},{"$f":"IF(ISBLANK(InfoPro!E193),\"\",InfoPro!E193)","v":19.899999999999999},{"$f":"IF(ISBLANK(InfoPro!C193),\"\",InfoPro!C193)","v":"2022-08-22T14:42:00"},{"$f":"IF(ISBLANK(InfoPro!D193),\"\",InfoPro!D193)","v":44795.612500000003},{"$f":"IF(ISBLANK(InfoPro!L193),\"\",InfoPro!L193)","v":"NO"},{"$f":"'IT-TA'!H194","v":0},{"$f":"IFERROR('BT-Confi'!Y201,\"\")","v":513690.98958057468},{"$f":"IFERROR('BT-Flex'!Y201,\"\")","v":0},{"$f":"IFERROR('EC-RE'!Z201,\"\")","v":746796.56507960102},{"$f":"IFERROR('EC-RP'!Z200,\"\")","v":1700912.1211109255},{"$f":"IFERROR('EC-Per'!W200,\"\")","v":-5321.8805982686399},{"$f":"IFERROR('EC-Mar'!Y200,\"\")","v":1700912.1211109255},{"$f":"IF(C196=\"\",\"\",(SUMIF(I196:N196,\">0\"))*(H196/100))","v":0},{"$f":"IF(C196=\"\",\"\",I196+$B$1)","v":{"$error":"#REF!"}},{"$f":"IF(D196=\"\",\"\",J196+$B$1)","v":{"$error":"#REF!"}},{"$f":"IF(E196=\"\",\"\",K196+$B$1)","v":{"$error":"#REF!"}},{"$f":"IF(F196=\"\",\"\",L196+$B$1)","v":{"$error":"#REF!"}},{"$f":"IF(G196=\"\",\"\",M196+$B$1)","v":{"$error":"#REF!"}},{"$f":"IF(H196=\"\",\"\",N196+$B$1)","v":{"$error":"#REF!"}},{"$f":"IF(I196=\"\",\"\",O196+$B$1)","v":{"$error":"#REF!"}},{"$f":"IFERROR((+$P$1*P196+$Q$1*Q196+$R$1*R196+$S$1*S196+$T$1*T196+U196*$U$1+$V$1*V196),\"\")","v":""}]
[{"$f":"IF(ISBLANK(InfoPro!A194),\"\",InfoPro!A194)","v":"SC_2103_A1"},{"$f":"IF(ISBLANK(InfoPro!H194),\"\",InfoPro!H194)","v":"SC_2103"},{"$f":"IF(ISBLANK(InfoPro!B194),\"\",InfoPro!B194)","v":"PARQUE SOLAR PUERTA DEL SOL"},{"$f":"IF(ISBLANK(InfoPro!E194),\"\",InfoPro!E194)","v":19.899999999999999},{"$f":"IF(ISBLANK(InfoPro!C194),\"\",InfoPro!C194)","v":"2022-08-22T15:27:00"},{"$f":"IF(ISBLANK(InfoPro!D194),\"\",InfoPro!D194)","v":44795.643750000003},{"$f":"IF(ISBLANK(InfoPro!L194),\"\",InfoPro!L194)","v":"NO"},{"$f":"'IT-TA'!H195","v":0},{"$f":"IFERROR('BT-Confi'!Y202,\"\")","v":513690.98958057468},{"$f":"IFERROR('BT-Flex'!Y202,\"\")","v":0},{"$f":"IFERROR('EC-RE'!Z202,\"\")","v":746796.56507960102},{"$f":"IFERROR('EC-RP'!Z201,\"\")","v":1700912.1211109255},{"$f":"IFERROR('EC-Per'!W201,\"\")","v":18184.753055507201},{"$f":"IFERROR('EC-Mar'!Y201,\"\")","v":1700912.1211109255},0,{"$error":"#REF!"},{"$error":"#REF!"},{"$error":"#REF!"},{"$error":"#REF!"},{"$error":"#REF!"},{"$error":"#REF!"},{"$error":"#REF!"},""]
[{"$f":"IF(ISBLANK(InfoPro!A195),\"\",InfoPro!A195)","v":"SC_2125_A1"},{"$f":"IF(ISBLANK(InfoPro!H195),\"\",InfoPro!H195)","v":"SC_2125"},{"$f":"IF(ISBLANK(InfoPro!B195),\"\",InfoPro!B195)","v":"Expansión Valledupar 100 MW"},{"$f":"IF(ISBLANK(InfoPro!E195),\"\",InfoPro!E195)","v":100},{"$f":"IF(ISBLANK(InfoPro!C195),\"\",InfoPro!C195)","v":"2022-08-25T17:40:00"},{"$f":"IF(ISBLANK(InfoPro!D195),\"\",InfoPro!D195)","v":44798.736111111109},{"$f":"IF(ISBLANK(InfoPro!L195),\"\",InfoPro!L195)","v":"NO"},{"$f":"'IT-TA'!H196","v":100},{"$f":"IFERROR('BT-Confi'!Y203,\"\")","v":367600.87577229866},{"$f":"IFERROR('BT-Flex'!Y203,\"\")","v":0},{"$f":"IFERROR('EC-RE'!Z203,\"\")","v":534412.86087410641},{"$f":"IFERROR('EC-RP'!Z202,\"\")","v":1217184.6460507561},{"$f":"IFERROR('EC-Per'!W202,\"\")","v":-81463.567983336587},{"$f":"IFERROR('EC-Mar'!Y202,\"\")","v":1217184.6460507561},3336383.0287479172,{"$error":"#REF!"},{"$error":"#REF!"},{"$error":"#REF!"},{"$error":"#REF!"},{"$error":"#REF!"},{"$error":"#REF!"},{"$error":"#REF!"},""]
[{"$f":"IF(ISBLANK(InfoPro!A196),\"\",InfoPro!A196)","v":"SC_2125_A2"},{"$f":"IF(ISBLANK(InfoPro!H196),\"\",InfoPro!H196)","v":"SC_2125"},{"$f":"IF(ISBLANK(InfoPro!B196),\"\",InfoPro!B196)","v":"Expansión Valledupar 100 MW"},{"$f":"IF(ISBLANK(InfoPro!E196),\"\",InfoPro!E196)","v":100},{"$f":"IF(ISBLANK(InfoPro!C196),\"\",InfoPro!C196)","v":"2022-08-25T17:40:00"},{"$f":"IF(ISBLANK(InfoPro!D196),\"\",InfoPro!D196)","v":44798.736111111109},{"$f":"IF(ISBLANK(InfoPro!L196),\"\",InfoPro!L196)","v":"NO"},{"$f":"'IT-TA'!H197","v":100},{"$f":"IFERROR('BT-Confi'!Y204,\"\")","v":367600.87577229866},{"$f":"IFERROR('BT-Flex'!Y204,\"\")","v":0},{"$f":"IFERROR('EC-RE'!Z204,\"\")","v":534412.86087410641},{"$f":"IFERROR('EC-RP'!Z203,\"\")","v":1217184.6460507561},{"$f":"IFERROR('EC-Per'!W203,\"\")","v":-79760.496875671015},{"$f":"IFERROR('EC-Mar'!Y203,\"\")","v":1217184.6460507561},3336383.0287479172,{"$error":"#REF!"},{"$error":"#REF!"},{"$error":"#REF!"},{"$error":"#REF!"},{"$error":"#REF!"},{"$error":"#REF!"},{"$error":"#REF!"},""]
[{"$f":"IF(ISBLANK(InfoPro!A197),\"\",InfoPro!A197)","v":"SC_2129_A2"},{"$f":"IF(ISBLANK(InfoPro!H197),\"\",InfoPro!H197)","v":"SC_2129"},{"$f":"IF(ISBLANK(InfoPro!B197),\"\",InfoPro!B197)","v":"DSE LA JAGUA DE IBIRICO"},{"$f":"IF(ISBLANK(InfoPro!E197),\"\",InfoPro!E197)","v":9.9},{"$f":"IF(ISBLANK(InfoPro!C197),\"\",InfoPro!C197)","v":"2022-08-08T18:04:00"},{"$f":"IF(ISBLANK(InfoPro!D197),\"\",InfoPro!D197)","v":44781.75277777778},{"$f":"IF(ISBLANK(InfoPro!L197),\"\",InfoPro!L197)","v":"NO"},{"$f":"'IT-TA'!H198","v":0},{"$f":"IFERROR('BT-Confi'!Y205,\"\")","v":459473.15704881464},{"$f":"IFERROR('BT-Flex'!Y205,\"\")","v":0},{"$f":"IFERROR('EC-RE'!Z205,\"\")","v":667975.46071520657},{"$f":"IFERROR('EC-RP'!Z204,\"\")","v":1521388.3015303449},{"$f":"IFERROR('EC-Per'!W204,\"\")","v":-47782.479263249923},{"$f":"IFERROR('EC-Mar'!Y204,\"\")","v":1521388.3015303449},0,{"$error":"#REF!"},{"$error":"#REF!"},{"$error":"#REF!"},{"$error":"#REF!"},{"$error":"#REF!"},{"$error":"#REF!"},{"$error":"#REF!"},""]
[{"$f":"IF(ISBLANK(InfoPro!A198),\"\",InfoPro!A198)","v":"SC_2130_A1"},{"$f":"IF(ISBLANK(InfoPro!H198),\"\",InfoPro!H198)","v":"SC_2130"},{"$f":"IF(ISBLANK(InfoPro!B198),\"\",InfoPro!B198)","v":"Parque Solar Boreal"},{"$f":"IF(ISBLANK(InfoPro!E198),\"\",InfoPro!E198)","v":100},{"$f":"IF(ISBLANK(InfoPro!C198),\"\",InfoPro!C198)","v":"2022-08-18T18:06:00"},{"$f":"IF(ISBLANK(InfoPro!D198),\"\",InfoPro!D198)","v":44791.754166666666},{"$f":"IF(ISBLANK(InfoPro!L198),\"\",InfoPro!L198)","v":"NO"},{"$f":"'IT-TA'!H199","v":0},{"$f":"IFERROR('BT-Confi'!Y206,\"\")","v":328802.21446538338},{"$f":"IFERROR('BT-Flex'!Y206,\"\")","v":0},{"$f":"IFERROR('EC-RE'!Z206,\"\")","v":478007.92564768018},{"$f":"IFERROR('EC-RP'!Z205,\"\")","v":1088716.1413691917},{"$f":"IFERROR('EC-Per'!W205,\"\")","v":-157409.67304005008},{"$f":"IFERROR('EC-Mar'!Y205,\"\")","v":1088716.1413691917},0,{"$error":"#REF!"},{"$error":"#REF!"},{"$error":"#REF!"},{"$error":"#REF!"},{"$error":"#REF!"},{"$error":"#REF!"},{"$error":"#REF!"},""]
[{"$f":"IF(ISBLANK(InfoPro!A199),\"\",InfoPro!A199)","v":"SC_2130_A2"},{"$f":"IF(ISBLANK(InfoPro!H199),\"\",InfoPro!H199)","v":"SC_2130"},{"$f":"IF(ISBLANK(InfoPro!B199),\"\",InfoPro!B199)","v":"Parque Solar Boreal"},{"$f":"IF(ISBLANK(InfoPro!E199),\"\",InfoPro!E199)","v":100},{"$f":"IF(ISBLANK(InfoPro!C199),\"\",InfoPro!C199)","v":"2022-08-18T18:06:00"},{"$f":"IF(ISBLANK(InfoPro!D199),\"\",InfoPro!D199)","v":44791.754166666666},{"$f":"IF(ISBLANK(InfoPro!L199),\"\",InfoPro!L199)","v":"NO"},{"$f":"'IT-TA'!H200","v":0},{"$f":"IFERROR('BT-Confi'!Y207,\"\")","v":328802.21446538338},{"$f":"IFERROR('BT-Flex'!Y207,\"\")","v":0},{"$f":"IFERROR('EC-RE'!Z207,\"\")","v":478007.92564768018},{"$f":"IFERROR('EC-RP'!Z206,\"\")","v":1088716.1413691917},{"$f":"IFERROR('EC-Per'!W206,\"\")","v":-202770.74010965589},{"$f":"IFERROR('EC-Mar'!Y206,\"\")","v":1088716.1413691917},0,{"$error":"#REF!"},{"$error":"#REF!"},{"$error":"#REF!"},{"$error":"#REF!"},{"$error":"#REF!"},{"$error":"#REF!"},{"$error":"#REF!"},""]
[{"$f":"IF(ISBLANK(InfoPro!A200),\"\",InfoPro!A200)","v":"SC_2132_A1"},{"$f":"IF(ISBLANK(InfoPro!H200),\"\",InfoPro!H200)","v":"SC_2132"},{"$f":"IF(ISBLANK(InfoPro!B200),\"\",InfoPro!B200)","v":"El Encanto 9,9 MW"},{"$f":"IF(ISBLANK(InfoPro!E200),\"\",InfoPro!E200)","v":9.9},{"$f":"IF(ISBLANK(InfoPro!C200),\"\",InfoPro!C200)","v":"2022-08-22T18:14:00"},{"$f":"IF(ISBLANK(InfoPro!D200),\"\",InfoPro!D200)","v":44795.759722222225},{"$f":"IF(ISBLANK(InfoPro!L200),\"\",InfoPro!L200)","v":"NO"},{"$f":"'IT-TA'!H201","v":0},{"$f":"IFERROR('BT-Confi'!Y208,\"\")","v":513690.98958057474},{"$f":"IFERROR('BT-Flex'!Y208,\"\")","v":0},{"$f":"IFERROR('EC-RE'!Z208,\"\")","v":746796.56507960113},{"$f":"IFERROR('EC-RP'!Z207,\"\")","v":1700912.1211109257},{"$f":"IFERROR('EC-Per'!W207,\"\")","v":0},{"$f":"IFERROR('EC-Mar'!Y207,\"\")","v":1700912.1211109257},0,{"$error":"#REF!"},{"$error":"#REF!"},{"$error":"#REF!"},{"$error":"#REF!"},{"$error":"#REF!"},{"$error":"#REF!"},{"$error":"#REF!"},""]
[{"$f":"IF(ISBLANK(InfoPro!A201),\"\",InfoPro!A201)","v":"SC_2137_A1"},{"$f":"IF(ISBLANK(InfoPro!H201),\"\",InfoPro!H201)","v":"SC_2137"},{"$f":"IF(ISBLANK(InfoPro!B201),\"\",InfoPro!B201)","v":"La Unión 9,9"},{"$f":"IF(ISBLANK(InfoPro!E201),\"\",InfoPro!E201)","v":9.9},{"$f":"IF(ISBLANK(InfoPro!C201),\"\",InfoPro!C201)","v":"2022-08-22T18:20:00"},{"$f":"IF(ISBLANK(InfoPro!D201),\"\",InfoPro!D201)","v":44795.763888888891},{"$f":"IF(ISBLANK(InfoPro!L201),\"\",InfoPro!L201)","v":"NO"},{"$f":"'IT-TA'!H202","v":0},{"$f":"IFERROR('BT-Confi'!Y209,\"\")","v":513690.98958057474},{"$f":"IFERROR('BT-Flex'!Y209,\"\")","v":0},{"$f":"IFERROR('EC-RE'!Z209,\"\")","v":746796.56507960113},{"$f":"IFERROR('EC-RP'!Z208,\"\")","v":1700912.1211109257},{"$f":"IFERROR('EC-Per'!W208,\"\")","v":0},{"$f":"IFERROR('EC-Mar'!Y208,\"\")","v":1700912.1211109257},0,{"$error":"#REF!"},{"$error":"#REF!"},{"$error":"#REF!"},{"$error":"#REF!"},{"$error":"#REF!"},{"$error":"#REF!"},{"$error":"#REF!"},""]
[{"$f":"IF(ISBLANK(InfoPro!A202),\"\",InfoPro!A202)","v":"SC_2159_A1"},{"$f":"IF(ISBLANK(InfoPro!H202),\"\",InfoPro!H202)","v":"SC_2159"},{"$f":"IF(ISBLANK(InfoPro!B202),\"\",InfoPro!B202)","v":"DSE IBIRICO"},{"$f":"IF(ISBLANK(InfoPro!E202),\"\",InfoPro!E202)","v":19.899999999999999},{"$f":"IF(ISBLANK(InfoPro!C202),\"\",InfoPro!C202)","v":"2022-08-08T19:51:00"},{"$f":"IF(ISBLANK(InfoPro!D202),\"\",InfoPro!D202)","v":44781.82708333333},{"$f":"IF(ISBLANK(InfoPro!L202),\"\",InfoPro!L202)","v":"NO"},{"$f":"'IT-TA'!H203","v":0},{"$f":"IFERROR('BT-Confi'!Y210,\"\")","v":459473.15704881458},{"$f":"IFERROR('BT-Flex'!Y210,\"\")","v":0},{"$f":"IFERROR('EC-RE'!Z210,\"\")","v":667975.46071520681},{"$f":"IFERROR('EC-RP'!Z209,\"\")","v":1521388.3015303449},{"$f":"IFERROR('EC-Per'!W209,\"\")","v":-80822.022713617698},{"$f":"IFERROR('EC-Mar'!Y209,\"\")","v":1521388.3015303449},0,{"$error":"#REF!"},{"$error":"#REF!"},{"$error":"#REF!"},{"$error":"#REF!"},{"$error":"#REF!"},{"$error":"#REF!"},{"$error":"#REF!"},""]
[{"$f":"IF(ISBLANK(InfoPro!A203),\"\",InfoPro!A203)","v":"SC_2159_A2"},{"$f":"IF(ISBLANK(InfoPro!H203),\"\",InfoPro!H203)","v":"SC_2159"},{"$f":"IF(ISBLANK(InfoPro!B203),\"\",InfoPro!B203)","v":"DSE IBIRICO"},{"$f":"IF(ISBLANK(InfoPro!E203),\"\",InfoPro!E203)","v":19.899999999999999},{"$f":"IF(ISBLANK(InfoPro!C203),\"\",InfoPro!C203)","v":"2022-08-08T19:51:00"},{"$f":"IF(ISBLANK(InfoPro!D203),\"\",InfoPro!D203)","v":44781.82708333333},{"$f":"IF(ISBLANK(InfoPro!L203),\"\",InfoPro!L203)","v":"NO"},{"$f":"'IT-TA'!H204","v":0},{"$f":"IFERROR('BT-Confi'!Y211,\"\")","v":459473.15704881458},{"$f":"IFERROR('BT-Flex'!Y211,\"\")","v":0},{"$f":"IFERROR('EC-RE'!Z211,\"\")","v":667975.46071520681},{"$f":"IFERROR('EC-RP'!Z210,\"\")","v":1521388.3015303449},{"$f":"IFERROR('EC-Per'!W210,\"\")","v":-79633.463556064511},{"$f":"IFERROR('EC-Mar'!Y210,\"\")","v":1521388.3015303449},0,{"$error":"#REF!"},{"$error":"#REF!"},{"$error":"#REF!"},{"$error":"#REF!"},{"$error":"#REF!"},{"$error":"#REF!"},{"$error":"#REF!"},""]
[{"$f":"IF(ISBLANK(InfoPro!A204),\"\",InfoPro!A204)","v":"SC_2162_A1"},{"$f":"IF(ISBLANK(InfoPro!H204),\"\",InfoPro!H204)","v":"SC_2162"},{"$f":"IF(ISBLANK(InfoPro!B204),\"\",InfoPro!B204)","v":"Parque Solar Codazzi 2"},{"$f":"IF(ISBLANK(InfoPro!E204),\"\",InfoPro!E204)","v":9.9},{"$f":"IF(ISBLANK(InfoPro!C204),\"\",InfoPro!C204)","v":"2022-08-18T21:30:00"},{"$f":"IF(ISBLANK(InfoPro!D204),\"\",InfoPro!D204)","v":44791.895833333336},{"$f":"IF(ISBLANK(InfoPro!L204),\"\",InfoPro!L204)","v":"NO"},{"$f":"'IT-TA'!H205","v":0},{"$f":"IFERROR('BT-Confi'!Y212,\"\")","v":410977.77911342995},{"$f":"IFERROR('BT-Flex'!Y212,\"\")","v":0},{"$f":"IFERROR('EC-RE'!Z212,\"\")","v":597473.57845725107},{"$f":"IFERROR('EC-RP'!Z211,\"\")","v":1360812.4342847455},{"$f":"IFERROR('EC-Per'!W211,\"\")","v":-130354.70639795373},{"$f":"IFERROR('EC-Mar'!Y211,\"\")","v":1360812.4342847455},0,{"$error":"#REF!"},{"$error":"#REF!"},{"$error":"#REF!"},{"$error":"#REF!"},{"$error":"#REF!"},{"$error":"#REF!"},{"$error":"#REF!"},""]
[{"$f":"IF(ISBLANK(InfoPro!A205),\"\",InfoPro!A205)","v":"SC_2162_A2"},{"$f":"IF(ISBLANK(InfoPro!H205),\"\",InfoPro!H205)","v":"SC_2162"},{"$f":"IF(ISBLANK(InfoPro!B205),\"\",InfoPro!B205)","v":"Parque Solar Codazzi 2"},{"$f":"IF(ISBLANK(InfoPro!E205),\"\",InfoPro!E205)","v":9.9},{"$f":"IF(ISBLANK(InfoPro!C205),\"\",InfoPro!C205)","v":"2022-08-18T21:30:00"},{"$f":"IF(ISBLANK(InfoPro!D205),\"\",InfoPro!D205)","v":44791.895833333336},{"$f":"IF(ISBLANK(InfoPro!L205),\"\",InfoPro!L205)","v":"NO"},{"$f":"'IT-TA'!H206","v":0},{"$f":"IFERROR('BT-Confi'!Y213,\"\")","v":410977.77911342995},{"$f":"IFERROR('BT-Flex'!Y213,\"\")","v":0},{"$f":"IFERROR('EC-RE'!Z213,\"\")","v":597473.57845725107},{"$f":"IFERROR('EC-RP'!Z212,\"\")","v":1360812.4342847455},{"$f":"IFERROR('EC-Per'!W212,\"\")","v":-173093.95439728285},{"$f":"IFERROR('EC-Mar'!Y212,\"\")","v":1360812.4342847455},0,{"$error":"#REF!"},{"$error":"#REF!"},{"$error":"#REF!"},{"$error":"#REF!"},{"$error":"#REF!"},{"$error":"#REF!"},{"$error":"#REF!"},""]
[{"$f":"IF(ISBLANK(InfoPro!A206),\"\",InfoPro!A206)","v":"SC_2200_A1"},{"$f":"IF(ISBLANK(InfoPro!H206),\"\",InfoPro!H206)","v":"SC_2200"},{"$f":"IF(ISBLANK(InfoPro!B206),\"\",InfoPro!B206)","v":"Parque Eólico Wakuaipa"},{"$f":"IF(ISBLANK(InfoPro!E206),\"\",InfoPro!E206)","v":200},{"$f":"IF(ISBLANK(InfoPro!C206),\"\",InfoPro!C206)","v":"2022-08-22T08:11:00"},{"$f":"IF(ISBLANK(InfoPro!D206),\"\",InfoPro!D206)","v":44795.34097222222},{"$f":"IF(ISBLANK(InfoPro!L206),\"\",InfoPro!L206)","v":"NO"},{"$f":"'IT-TA'!H207","v":0},{"$f":"IFERROR('BT-Confi'!Y214,\"\")","v":360395.89860716154},{"$f":"IFERROR('BT-Flex'!Y214,\"\")","v":0},{"$f":"IFERROR('EC-RE'!Z214,\"\")","v":1309845.9220024347},{"$f":"IFERROR('EC-RP'!Z213,\"\")","v":2983319.5674704015},{"$f":"IFERROR('EC-Per'!W213,\"\")","v":-202885.34721521515},{"$f":"IFERROR('EC-Mar'!Y213,\"\")","v":2983319.5674704015},0,{"$error":"#REF!"},{"$error":"#REF!"},{"$error":"#REF!"},{"$error":"#REF!"},{"$error":"#REF!"},{"$error":"#REF!"},{"$error":"#REF!"},""]
[{"$f":"IF(ISBLANK(InfoPro!A207),\"\",InfoPro!A207)","v":"SC_2200_A2"},{"$f":"IF(ISBLANK(InfoPro!H207),\"\",InfoPro!H207)","v":"SC_2200"},{"$f":"IF(ISBLANK(InfoPro!B207),\"\",InfoPro!B207)","v":"Parque Eólico Wakuaipa"},{"$f":"IF(ISBLANK(InfoPro!E207),\"\",InfoPro!E207)","v":200},{"$f":"IF(ISBLANK(InfoPro!C207),\"\",InfoPro!C207)","v":"2022-08-22T08:11:00"},{"$f":"IF(ISBLANK(InfoPro!D207),\"\",InfoPro!D207)","v":44795.34097222222},{"$f":"IF(ISBLANK(InfoPro!L207),\"\",InfoPro!L207)","v":"NO"},{"$f":"'IT-TA'!H208","v":0},{"$f":"IFERROR('BT-Confi'!Y215,\"\")","v":360395.89860716154},{"$f":"IFERROR('BT-Flex'!Y215,\"\")","v":0},{"$f":"IFERROR('EC-RE'!Z215,\"\")","v":1309845.9220024347},{"$f":"IFERROR('EC-RP'!Z214,\"\")","v":2983319.5674704015},{"$f":"IFERROR('EC-Per'!W214,\"\")","v":-185061.47807769498},{"$f":"IFERROR('EC-Mar'!Y214,\"\")","v":2983319.5674704015},0,{"$error":"#REF!"},{"$error":"#REF!"},{"$error":"#REF!"},{"$error":"#REF!"},{"$error":"#REF!"},{"$error":"#REF!"},{"$error":"#REF!"},""]
[{"$f":"IF(ISBLANK(InfoPro!A208),\"\",InfoPro!A208)","v":"SC_2206_A1"},{"$f":"IF(ISBLANK(InfoPro!H208),\"\",InfoPro!H208)","v":"SC_2206"},{"$f":"IF(ISBLANK(InfoPro!B208),\"\",InfoPro!B208)","v":"Parque Fotovoltaico Lyra"},{"$f":"IF(ISBLANK(InfoPro!E208),\"\",InfoPro!E208)","v":19.899999999999999},{"$f":"IF(ISBLANK(InfoPro!C208),\"\",InfoPro!C208)","v":"2022-08-14T08:49:00"},{"$f":"IF(ISBLANK(InfoPro!D208),\"\",InfoPro!D208)","v":44787.367361111108},{"$f":"IF(ISBLANK(InfoPro!L208),\"\",InfoPro!L208)","v":"NO"},{"$f":"'IT-TA'!H209","v":0},{"$f":"IFERROR('BT-Confi'!Y216,\"\")","v":459473.15704881458},{"$f":"IFERROR('BT-Flex'!Y216,\"\")","v":0},{"$f":"IFERROR('EC-RE'!Z216,\"\")","v":667975.46071520681},{"$f":"IFERROR('EC-RP'!Z215,\"\")","v":1521388.3015303449},{"$f":"IFERROR('EC-Per'!W215,\"\")","v":-302369.44968153449},{"$f":"IFERROR('EC-Mar'!Y215,\"\")","v":1521388.3015303449},0,{"$error":"#REF!"},{"$error":"#REF!"},{"$error":"#REF!"},{"$error":"#REF!"},{"$error":"#REF!"},{"$error":"#REF!"},{"$error":"#REF!"},""]
[{"$f":"IF(ISBLANK(InfoPro!A209),\"\",InfoPro!A209)","v":"SC_2206_A2"},{"$f":"IF(ISBLANK(InfoPro!H209),\"\",InfoPro!H209)","v":"SC_2206"},{"$f":"IF(ISBLANK(InfoPro!B209),\"\",InfoPro!B209)","v":"Parque Fotovoltaico Lyra"},{"$f":"IF(ISBLANK(InfoPro!E209),\"\",InfoPro!E209)","v":19.899999999999999},{"$f":"IF(ISBLANK(InfoPro!C209),\"\",InfoPro!C209)","v":"2022-08-14T08:49:00"},{"$f":"IF(ISBLANK(InfoPro!D209),\"\",InfoPro!D209)","v":44787.367361111108},{"$f":"IF(ISBLANK(InfoPro!L209),\"\",InfoPro!L209)","v":"NO"},{"$f":"'IT-TA'!H210","v":0},{"$f":"IFERROR('BT-Confi'!Y217,\"\")","v":459473.15704881458},{"$f":"IFERROR('BT-Flex'!Y217,\"\")","v":0},{"$f":"IFERROR('EC-RE'!Z217,\"\")","v":667975.46071520681},{"$f":"IFERROR('EC-RP'!Z216,\"\")","v":1521388.3015303449},{"$f":"IFERROR('EC-Per'!W216,\"\")","v":-284838.20210762485},{"$f":"IFERROR('EC-Mar'!Y216,\"\")","v":1521388.3015303449},0,{"$error":"#REF!"},{"$error":"#REF!"},{"$error":"#REF!"},{"$error":"#REF!"},{"$error":"#REF!"},{"$error":"#REF!"},{"$error":"#REF!"},""]
[{"$f":"IF(ISBLANK(InfoPro!A210),\"\",InfoPro!A210)","v":"SC_2212_A1"},{"$f":"IF(ISBLANK(InfoPro!H210),\"\",InfoPro!H210)","v":"SC_2212"},{"$f":"IF(ISBLANK(InfoPro!B210),\"\",InfoPro!B210)","v":"Aguaraní 200 MW"},{"$f":"IF(ISBLANK(InfoPro!E210),\"\",InfoPro!E210)","v":200},{"$f":"IF(ISBLANK(InfoPro!C210),\"\",InfoPro!C210)","v":"2022-08-25T09:05:00"},{"$f":"IF(ISBLANK(InfoPro!D210),\"\",InfoPro!D210)","v":44798.378472222219},{"$f":"IF(ISBLANK(InfoPro!L210),\"\",InfoPro!L210)","v":"NO"},{"$f":"'IT-TA'!H211","v":0},{"$f":"IFERROR('BT-Confi'!Y218,\"\")","v":367600.87577229866},{"$f":"IFERROR('BT-Flex'!Y218,\"\")","v":0},{"$f":"IFERROR('EC-RE'!Z218,\"\")","v":534412.86087410641},{"$f":"IFERROR('EC-RP'!Z217,\"\")","v":1217184.6460507561},{"$f":"IFERROR('EC-Per'!W217,\"\")","v":-421888.55939337728},{"$f":"IFERROR('EC-Mar'!Y217,\"\")","v":1217184.6460507561},0,{"$error":"#REF!"},{"$error":"#REF!"},{"$error":"#REF!"},{"$error":"#REF!"},{"$error":"#REF!"},{"$error":"#REF!"},{"$error":"#REF!"},""]
[{"$f":"IF(ISBLANK(InfoPro!A211),\"\",InfoPro!A211)","v":"SC_2212_A2"},{"$f":"IF(ISBLANK(InfoPro!H211),\"\",InfoPro!H211)","v":"SC_2212"},{"$f":"IF(ISBLANK(InfoPro!B211),\"\",InfoPro!B211)","v":"Aguaraní 200 MW"},{"$f":"IF(ISBLANK(InfoPro!E211),\"\",InfoPro!E211)","v":200},{"$f":"IF(ISBLANK(InfoPro!C211),\"\",InfoPro!C211)","v":"2022-08-25T09:05:00"},{"$f":"IF(ISBLANK(InfoPro!D211),\"\",InfoPro!D211)","v":44798.378472222219},{"$f":"IF(ISBLANK(InfoPro!L211),\"\",InfoPro!L211)","v":"NO"},{"$f":"'IT-TA'!H212","v":0},{"$f":"IFERROR('BT-Confi'!Y219,\"\")","v":367600.87577229866},{"$f":"IFERROR('BT-Flex'!Y219,\"\")","v":0},{"$f":"IFERROR('EC-RE'!Z219,\"\")","v":534412.86087410641},{"$f":"IFERROR('EC-RP'!Z218,\"\")","v":1217184.6460507561},{"$f":"IFERROR('EC-Per'!W218,\"\")","v":-428795.45888557663},{"$f":"IFERROR('EC-Mar'!Y218,\"\")","v":1217184.6460507561},0,{"$error":"#REF!"},{"$error":"#REF!"},{"$error":"#REF!"},{"$error":"#REF!"},{"$error":"#REF!"},{"$error":"#REF!"},{"$error":"#REF!"},""]
[{"$f":"IF(ISBLANK(InfoPro!A212),\"\",InfoPro!A212)","v":"SC_2227_A1"},{"$f":"IF(ISBLANK(InfoPro!H212),\"\",InfoPro!H212)","v":"SC_2227"},{"$f":"IF(ISBLANK(InfoPro!B212),\"\",InfoPro!B212)","v":"Generación Solar Fotovoltaica Sabana Solar - 9.9 MW"},{"$f":"IF(ISBLANK(InfoPro!E212),\"\",InfoPro!E212)","v":9.9},{"$f":"IF(ISBLANK(InfoPro!C212),\"\",InfoPro!C212)","v":"2022-08-22T11:43:00"},{"$f":"IF(ISBLANK(InfoPro!D212),\"\",InfoPro!D212)","v":44795.488194444442},{"$f":"IF(ISBLANK(InfoPro!L212),\"\",InfoPro!L212)","v":"NO"},{"$f":"'IT-TA'!H213","v":0},{"$f":"IFERROR('BT-Confi'!Y220,\"\")","v":513690.98958057474},{"$f":"IFERROR('BT-Flex'!Y220,\"\")","v":0},{"$f":"IFERROR('EC-RE'!Z220,\"\")","v":746796.56507960113},{"$f":"IFERROR('EC-RP'!Z219,\"\")","v":1700912.1211109257},{"$f":"IFERROR('EC-Per'!W219,\"\")","v":149578.27308567756},{"$f":"IFERROR('EC-Mar'!Y219,\"\")","v":1700912.1211109257},0,{"$error":"#REF!"},{"$error":"#REF!"},{"$error":"#REF!"},{"$error":"#REF!"},{"$error":"#REF!"},{"$error":"#REF!"},{"$error":"#REF!"},""]
[{"$f":"IF(ISBLANK(InfoPro!A213),\"\",InfoPro!A213)","v":"SC_2227_A2"},{"$f":"IF(ISBLANK(InfoPro!H213),\"\",InfoPro!H213)","v":"SC_2227"},{"$f":"IF(ISBLANK(InfoPro!B213),\"\",InfoPro!B213)","v":"Generación Solar Fotovoltaica Sabana Solar - 9.9 MW"},{"$f":"IF(ISBLANK(InfoPro!E213),\"\",InfoPro!E213)","v":9.9},{"$f":"IF(ISBLANK(InfoPro!C213),\"\",InfoPro!C213)","v":"2022-08-22T11:43:00"},{"$f":"IF(ISBLANK(InfoPro!D213),\"\",InfoPro!D213)","v":44795.488194444442},{"$f":"IF(ISBLANK(InfoPro!L213),\"\",InfoPro!L213)","v":"NO"},{"$f":"'IT-TA'!H214","v":0},{"$f":"IFERROR('BT-Confi'!Y221,\"\")","v":513690.98958057474},{"$f":"IFERROR('BT-Flex'!Y221,\"\")","v":0},{"$f":"IFERROR('EC-RE'!Z221,\"\")","v":746796.56507960113},{"$f":"IFERROR('EC-RP'!Z220,\"\")","v":1700912.1211109257},{"$f":"IFERROR('EC-Per'!W220,\"\")","v":161597.95574434803},{"$f":"IFERROR('EC-Mar'!Y220,\"\")","v":1700912.1211109257},0,{"$error":"#REF!"},{"$error":"#REF!"},{"$error":"#REF!"},{"$error":"#REF!"},{"$error":"#REF!"},{"$error":"#REF!"},{"$error":"#REF!"},""]
[{"$f":"IF(ISBLANK(InfoPro!A214),\"\",InfoPro!A214)","v":"SC_2242_A1"},{"$f":"IF(ISBLANK(InfoPro!H214),\"\",InfoPro!H214)","v":"SC_2242"},{"$f":"IF(ISBLANK(InfoPro!B214),\"\",InfoPro!B214)","v":"Parque Eólico San Juan 100 MW"},{"$f":"IF(ISBLANK(InfoPro!E214),\"\",InfoPro!E214)","v":100},{"$f":"IF(ISBLANK(InfoPro!C214),\"\",InfoPro!C214)","v":"2022-08-24T15:35:00"},{"$f":"IF(ISBLANK(InfoPro!D214),\"\",InfoPro!D214)","v":44797.649305555555},{"$f":"IF(ISBLANK(InfoPro!L214),\"\",InfoPro!L214)","v":"NO"},{"$f":"'IT-TA'!H215","v":0},{"$f":"IFERROR('BT-Confi'!Y222,\"\")","v":410977.77911342977},{"$f":"IFERROR('BT-Flex'!Y222,\"\")","v":0},{"$f":"IFERROR('EC-RE'!Z222,\"\")","v":597473.57845725096},{"$f":"IFERROR('EC-RP'!Z221,\"\")","v":1360812.4342847452},{"$f":"IFERROR('EC-Per'!W221,\"\")","v":58496.140255481732},{"$f":"IFERROR('EC-Mar'!Y221,\"\")","v":1360812.4342847452},0,{"$error":"#REF!"},{"$error":"#REF!"},{"$error":"#REF!"},{"$error":"#REF!"},{"$error":"#REF!"},{"$error":"#REF!"},{"$error":"#REF!"},""]
[{"$f":"IF(ISBLANK(InfoPro!A215),\"\",InfoPro!A215)","v":"SC_2242_A2"},{"$f":"IF(ISBLANK(InfoPro!H215),\"\",InfoPro!H215)","v":"SC_2242"},{"$f":"IF(ISBLANK(InfoPro!B215),\"\",InfoPro!B215)","v":"Parque Eólico San Juan 100 MW"},{"$f":"IF(ISBLANK(InfoPro!E215),\"\",InfoPro!E215)","v":100},{"$f":"IF(ISBLANK(InfoPro!C215),\"\",InfoPro!C215)","v":"2022-08-24T15:35:00"},{"$f":"IF(ISBLANK(InfoPro!D215),\"\",InfoPro!D215)","v":44797.649305555555},{"$f":"IF(ISBLANK(InfoPro!L215),\"\",InfoPro!L215)","v":"NO"},{"$f":"'IT-TA'!H216","v":0},{"$f":"IFERROR('BT-Confi'!Y223,\"\")","v":410977.77911342977},{"$f":"IFERROR('BT-Flex'!Y223,\"\")","v":0},{"$f":"IFERROR('EC-RE'!Z223,\"\")","v":597473.57845725096},{"$f":"IFERROR('EC-RP'!Z222,\"\")","v":1360812.4342847452},{"$f":"IFERROR('EC-Per'!W222,\"\")","v":104192.94421636443},{"$f":"IFERROR('EC-Mar'!Y222,\"\")","v":1360812.4342847452},0,{"$error":"#REF!"},{"$error":"#REF!"},{"$error":"#REF!"},{"$error":"#REF!"},{"$error":"#REF!"},{"$error":"#REF!"},{"$error":"#REF!"},""]
[{"$f":"IF(ISBLANK(InfoPro!A216),\"\",InfoPro!A216)","v":"SC_2260_A1"},{"$f":"IF(ISBLANK(InfoPro!H216),\"\",InfoPro!H216)","v":"SC_2260"},{"$f":"IF(ISBLANK(InfoPro!B216),\"\",InfoPro!B216)","v":"Parque Solar Fotovoltaico Tayrona I"},{"$f":"IF(ISBLANK(InfoPro!E216),\"\",InfoPro!E216)","v":50},{"$f":"IF(ISBLANK(InfoPro!C216),\"\",InfoPro!C216)","v":"2022-08-28T13:20:00"},{"$f":"IF(ISBLANK(InfoPro!D216),\"\",InfoPro!D216)","v":44801.555555555555},{"$f":"IF(ISBLANK(InfoPro!L216),\"\",InfoPro!L216)","v":"NO"},{"$f":"'IT-TA'!H217","v":0},{"$f":"IFERROR('BT-Confi'!Y224,\"\")","v":328802.21446538338},{"$f":"IFERROR('BT-Flex'!Y224,\"\")","v":0},{"$f":"IFERROR('EC-RE'!Z224,\"\")","v":478007.92564768018},{"$f":"IFERROR('EC-RP'!Z223,\"\")","v":1088716.1413691917},{"$f":"IFERROR('EC-Per'!W223,\"\")","v":-137047.9701726113},{"$f":"IFERROR('EC-Mar'!Y223,\"\")","v":1088716.1413691917},0,{"$error":"#REF!"},{"$error":"#REF!"},{"$error":"#REF!"},{"$error":"#REF!"},{"$error":"#REF!"},{"$error":"#REF!"},{"$error":"#REF!"},""]
[{"$f":"IF(ISBLANK(InfoPro!A217),\"\",InfoPro!A217)","v":"SC_2261_A1"},{"$f":"IF(ISBLANK(InfoPro!H217),\"\",InfoPro!H217)","v":"SC_2261"},{"$f":"IF(ISBLANK(InfoPro!B217),\"\",InfoPro!B217)","v":"Parque Solar Fotovoltaico Tayrona II"},{"$f":"IF(ISBLANK(InfoPro!E217),\"\",InfoPro!E217)","v":50},{"$f":"IF(ISBLANK(InfoPro!C217),\"\",InfoPro!C217)","v":"2022-08-28T13:31:00"},{"$f":"IF(ISBLANK(InfoPro!D217),\"\",InfoPro!D217)","v":44801.563194444447},{"$f":"IF(ISBLANK(InfoPro!L217),\"\",InfoPro!L217)","v":"NO"},{"$f":"'IT-TA'!H218","v":0},{"$f":"IFERROR('BT-Confi'!Y225,\"\")","v":328802.21446538338},{"$f":"IFERROR('BT-Flex'!Y225,\"\")","v":0},{"$f":"IFERROR('EC-RE'!Z225,\"\")","v":478007.92564768018},{"$f":"IFERROR('EC-RP'!Z224,\"\")","v":1088716.1413691917},{"$f":"IFERROR('EC-Per'!W224,\"\")","v":-137047.9701726113},{"$f":"IFERROR('EC-Mar'!Y224,\"\")","v":1088716.1413691917},0,{"$error":"#REF!"},{"$error":"#REF!"},{"$error":"#REF!"},{"$error":"#REF!"},{"$error":"#REF!"},{"$error":"#REF!"},{"$error":"#REF!"},""]
[{"$f":"IF(ISBLANK(InfoPro!A218),\"\",InfoPro!A218)","v":"SC_2271_A1"},{"$f":"IF(ISBLANK(InfoPro!H218),\"\",InfoPro!H218)","v":"\nSC_2271"},{"$f":"IF(ISBLANK(InfoPro!B218),\"\",InfoPro!B218)","v":"San Angel 19,9 MW"},{"$f":"IF(ISBLANK(InfoPro!E218),\"\",InfoPro!E218)","v":19.899999999999999},{"$f":"IF(ISBLANK(InfoPro!C218),\"\",InfoPro!C218)","v":"2022-08-13"},{"$f":"IF(ISBLANK(InfoPro!D218),\"\",InfoPro!D218)","v":44754},{"$f":"IF(ISBLANK(InfoPro!L218),\"\",InfoPro!L218)","v":"NO"},{"$f":"'IT-TA'!H219","v":0},{"$f":"IFERROR('BT-Confi'!Y226,\"\")","v":513690.98958057468},{"$f":"IFERROR('BT-Flex'!Y226,\"\")","v":0},{"$f":"IFERROR('EC-RE'!Z226,\"\")","v":746796.56507960102},{"$f":"IFERROR('EC-RP'!Z225,\"\")","v":1700912.1211109255},{"$f":"IFERROR('EC-Per'!W225,\"\")","v":-915308.38376342983},{"$f":"IFERROR('EC-Mar'!Y225,\"\")","v":1700912.1211109255},0,{"$error":"#REF!"},{"$error":"#REF!"},{"$error":"#REF!"},{"$error":"#REF!"},{"$error":"#REF!"},{"$error":"#REF!"},{"$error":"#REF!"},""]
[{"$f":"IF(ISBLANK(InfoPro!A219),\"\",InfoPro!A219)","v":"SC_2271_A2"},{"$f":"IF(ISBLANK(InfoPro!H219),\"\",InfoPro!H219)","v":"\nSC_2271"},{"$f":"IF(ISBLANK(InfoPro!B219),\"\",InfoPro!B219)","v":"San Angel 19,9 MW"},{"$f":"IF(ISBLANK(InfoPro!E219),\"\",InfoPro!E219)","v":19.899999999999999},{"$f":"IF(ISBLANK(InfoPro!C219),\"\",InfoPro!C219)","v":"2022-08-13"},{"$f":"IF(ISBLANK(InfoPro!D219),\"\",InfoPro!D219)","v":44754},{"$f":"IF(ISBLANK(InfoPro!L219),\"\",InfoPro!L219)","v":"NO"},{"$f":"'IT-TA'!H220","v":0},{"$f":"IFERROR('BT-Confi'!Y227,\"\")","v":513690.98958057468},{"$f":"IFERROR('BT-Flex'!Y227,\"\")","v":0},{"$f":"IFERROR('EC-RE'!Z227,\"\")","v":746796.56507960102},{"$f":"IFERROR('EC-RP'!Z226,\"\")","v":1700912.1211109255},{"$f":"IFERROR('EC-Per'!W226,\"\")","v":-83474.394808641126},{"$f":"IFERROR('EC-Mar'!Y226,\"\")","v":1700912.1211109255},0,{"$error":"#REF!"},{"$error":"#REF!"},{"$error":"#REF!"},{"$error":"#REF!"},{"$error":"#REF!"},{"$error":"#REF!"},{"$error":"#REF!"},""]
[{"$f":"IF(ISBLANK(InfoPro!A220),\"\",InfoPro!A220)","v":"SC_2275_A1"},{"$f":"IF(ISBLANK(InfoPro!H220),\"\",InfoPro!H220)","v":"SC_2275"},{"$f":"IF(ISBLANK(InfoPro!B220),\"\",InfoPro!B220)","v":"TERMOCOSTA"},{"$f":"IF(ISBLANK(InfoPro!E220),\"\",InfoPro!E220)","v":93},{"$f":"IF(ISBLANK(InfoPro!C220),\"\",InfoPro!C220)","v":"2022-09-01T14:58:00"},{"$f":"IF(ISBLANK(InfoPro!D220),\"\",InfoPro!D220)","v":44805.623611111114},{"$f":"IF(ISBLANK(InfoPro!L220),\"\",InfoPro!L220)","v":"NO"},{"$f":"'IT-TA'!H221","v":0},{"$f":"IFERROR('BT-Confi'!Y228,\"\")","v":8311751.5973830419},{"$f":"IFERROR('BT-Flex'!Y228,\"\")","v":1237080.7119093197},{"$f":"IFERROR('EC-RE'!Z228,\"\")","v":-14115171.34278756},{"$f":"IFERROR('EC-RP'!Z227,\"\")","v":-3443108.3347362722},{"$f":"IFERROR('EC-Per'!W227,\"\")","v":-1055.4533121132386},{"$f":"IFERROR('EC-Mar'!Y227,\"\")","v":-3443108.3347362722},0,{"$error":"#REF!"},{"$error":"#REF!"},{"$error":"#REF!"},{"$error":"#REF!"},{"$error":"#REF!"},{"$error":"#REF!"},{"$error":"#REF!"},""]
[{"$f":"IF(ISBLANK(InfoPro!A221),\"\",InfoPro!A221)","v":"SC_2275_A2"},{"$f":"IF(ISBLANK(InfoPro!H221),\"\",InfoPro!H221)","v":"SC_2275"},{"$f":"IF(ISBLANK(InfoPro!B221),\"\",InfoPro!B221)","v":"TERMOCOSTA"},{"$f":"IF(ISBLANK(InfoPro!E221),\"\",InfoPro!E221)","v":93},{"$f":"IF(ISBLANK(InfoPro!C221),\"\",InfoPro!C221)","v":"2022-09-01T14:58:00"},{"$f":"IF(ISBLANK(InfoPro!D221),\"\",InfoPro!D221)","v":44805.623611111114},{"$f":"IF(ISBLANK(InfoPro!L221),\"\",InfoPro!L221)","v":"SI"},{"$f":"'IT-TA'!H222","v":0},{"$f":"IFERROR('BT-Confi'!Y229,\"\")","v":8311751.5973830419},{"$f":"IFERROR('BT-Flex'!Y229,\"\")","v":1237080.7119093197},{"$f":"IFERROR('EC-RE'!Z229,\"\")","v":-14115171.34278756},{"$f":"IFERROR('EC-RP'!Z228,\"\")","v":-3443108.3347362722},{"$f":"IFERROR('EC-Per'!W228,\"\")","v":-1055.4533121132386},{"$f":"IFERROR('EC-Mar'!Y228,\"\")","v":-3443108.3347362722},0,{"$error":"#REF!"},{"$error":"#REF!"},{"$error":"#REF!"},{"$error":"#REF!"},{"$error":"#REF!"},{"$error":"#REF!"},{"$error":"#REF!"},""]
[{"$f":"IF(ISBLANK(InfoPro!A222),\"\",InfoPro!A222)","v":"SC_2292_A1"},{"$f":"IF(ISBLANK(InfoPro!H222),\"\",InfoPro!H222)","v":"SC_2292"},{"$f":"IF(ISBLANK(InfoPro!B222),\"\",InfoPro!B222)","v":"PARQUE SOLAR LAS PALMERAS"},{"$f":"IF(ISBLANK(InfoPro!E222),\"\",InfoPro!E222)","v":200},{"$f":"IF(ISBLANK(InfoPro!C222),\"\",InfoPro!C222)","v":"2022-07-15"},{"$f":"IF(ISBLANK(InfoPro!D222),\"\",InfoPro!D222)","v":44757},{"$f":"IF(ISBLANK(InfoPro!L222),\"\",InfoPro!L222)","v":"NO"},{"$f":"'IT-TA'!H223","v":0},{"$f":"IFERROR('BT-Confi'!Y230,\"\")","v":459473.15704881452},{"$f":"IFERROR('BT-Flex'!Y230,\"\")","v":0},{"$f":"IFERROR('EC-RE'!Z230,\"\")","v":667975.46071520646},{"$f":"IFERROR('EC-RP'!Z229,\"\")","v":1521388.3015303449},{"$f":"IFERROR('EC-Per'!W229,\"\")","v":-139270.81584330651},{"$f":"IFERROR('EC-Mar'!Y229,\"\")","v":1521388.3015303449},0,{"$error":"#REF!"},{"$error":"#REF!"},{"$error":"#REF!"},{"$error":"#REF!"},{"$error":"#REF!"},{"$error":"#REF!"},{"$error":"#REF!"},""]
[{"$f":"IF(ISBLANK(InfoPro!A223),\"\",InfoPro!A223)","v":"SC_2292_A2"},{"$f":"IF(ISBLANK(InfoPro!H223),\"\",InfoPro!H223)","v":"SC_2292"},{"$f":"IF(ISBLANK(InfoPro!B223),\"\",InfoPro!B223)","v":"PARQUE SOLAR LAS PALMERAS"},{"$f":"IF(ISBLANK(InfoPro!E223),\"\",InfoPro!E223)","v":200},{"$f":"IF(ISBLANK(InfoPro!C223),\"\",InfoPro!C223)","v":"2022-07-15"},{"$f":"IF(ISBLANK(InfoPro!D223),\"\",InfoPro!D223)","v":44757},{"$f":"IF(ISBLANK(InfoPro!L223),\"\",InfoPro!L223)","v":"NO"},{"$f":"'IT-TA'!H224","v":0},{"$f":"IFERROR('BT-Confi'!Y231,\"\")","v":459473.15704881452},{"$f":"IFERROR('BT-Flex'!Y231,\"\")","v":0},{"$f":"IFERROR('EC-RE'!Z231,\"\")","v":667975.46071520646},{"$f":"IFERROR('EC-RP'!Z230,\"\")","v":1521388.3015303449},{"$f":"IFERROR('EC-Per'!W230,\"\")","v":-130968.84898371315},{"$f":"IFERROR('EC-Mar'!Y230,\"\")","v":1521388.3015303449},0,{"$error":"#REF!"},{"$error":"#REF!"},{"$error":"#REF!"},{"$error":"#REF!"},{"$error":"#REF!"},{"$error":"#REF!"},{"$error":"#REF!"},""]
[{"$f":"IF(ISBLANK(InfoPro!A224),\"\",InfoPro!A224)","v":"SC_2295_A1"},{"$f":"IF(ISBLANK(InfoPro!H224),\"\",InfoPro!H224)","v":"SC_2295"},{"$f":"IF(ISBLANK(InfoPro!B224),\"\",InfoPro!B224)","v":"Parque Solar San Jose 200 MW"},{"$f":"IF(ISBLANK(InfoPro!E224),\"\",InfoPro!E224)","v":200},{"$f":"IF(ISBLANK(InfoPro!C224),\"\",InfoPro!C224)","v":"2022-09-02T11:50:00"},{"$f":"IF(ISBLANK(InfoPro!D224),\"\",InfoPro!D224)","v":44806.493055555555},{"$f":"IF(ISBLANK(InfoPro!L224),\"\",InfoPro!L224)","v":"NO"},{"$f":"'IT-TA'!H225","v":0},{"$f":"IFERROR('BT-Confi'!Y232,\"\")","v":459473.15704881452},{"$f":"IFERROR('BT-Flex'!Y232,\"\")","v":0},{"$f":"IFERROR('EC-RE'!Z232,\"\")","v":667975.46071520646},{"$f":"IFERROR('EC-RP'!Z231,\"\")","v":1521388.3015303449},{"$f":"IFERROR('EC-Per'!W231,\"\")","v":-139270.81584330651},{"$f":"IFERROR('EC-Mar'!Y231,\"\")","v":1521388.3015303449},0,{"$error":"#REF!"},{"$error":"#REF!"},{"$error":"#REF!"},{"$error":"#REF!"},{"$error":"#REF!"},{"$error":"#REF!"},{"$error":"#REF!"},""]
[{"$f":"IF(ISBLANK(InfoPro!A225),\"\",InfoPro!A225)","v":"SC_230_A1"},{"$f":"IF(ISBLANK(InfoPro!H225),\"\",InfoPro!H225)","v":"SC_230"},{"$f":"IF(ISBLANK(InfoPro!B225),\"\",InfoPro!B225)","v":"Proyecto Solar San Martin 300MW"},{"$f":"IF(ISBLANK(InfoPro!E225),\"\",InfoPro!E225)","v":300},{"$f":"IF(ISBLANK(InfoPro!C225),\"\",InfoPro!C225)","v":"2022-07-15"},{"$f":"IF(ISBLANK(InfoPro!D225),\"\",InfoPro!D225)","v":44757},{"$f":"IF(ISBLANK(InfoPro!L225),\"\",InfoPro!L225)","v":"NO"},{"$f":"'IT-TA'!H226","v":0},{"$f":"IFERROR('BT-Confi'!Y233,\"\")","v":459473.15704881458},{"$f":"IFERROR('BT-Flex'!Y233,\"\")","v":0},{"$f":"IFERROR('EC-RE'!Z233,\"\")","v":667975.46071520646},{"$f":"IFERROR('EC-RP'!Z232,\"\")","v":1521388.3015303449},{"$f":"IFERROR('EC-Per'!W232,\"\")","v":-184803.5167985454},{"$f":"IFERROR('EC-Mar'!Y232,\"\")","v":1521388.3015303449},0,{"$error":"#REF!"},{"$error":"#REF!"},{"$error":"#REF!"},{"$error":"#REF!"},{"$error":"#REF!"},{"$error":"#REF!"},{"$error":"#REF!"},""]
[{"$f":"IF(ISBLANK(InfoPro!A226),\"\",InfoPro!A226)","v":"SC_2341_A1"},{"$f":"IF(ISBLANK(InfoPro!H226),\"\",InfoPro!H226)","v":"SC_2341"},{"$f":"IF(ISBLANK(InfoPro!B226),\"\",InfoPro!B226)","v":"Parque Eólico Neguanje"},{"$f":"IF(ISBLANK(InfoPro!E226),\"\",InfoPro!E226)","v":19.899999999999999},{"$f":"IF(ISBLANK(InfoPro!C226),\"\",InfoPro!C226)","v":"2022-07-18"},{"$f":"IF(ISBLANK(InfoPro!D226),\"\",InfoPro!D226)","v":44760.939583333333},{"$f":"IF(ISBLANK(InfoPro!L226),\"\",InfoPro!L226)","v":"NO"},{"$f":"'IT-TA'!H227","v":0},{"$f":"IFERROR('BT-Confi'!Y234,\"\")","v":322357.69106186193},{"$f":"IFERROR('BT-Flex'!Y234,\"\")","v":0},{"$f":"IFERROR('EC-RE'!Z234,\"\")","v":1171597.4257624643},{"$f":"IFERROR('EC-RP'!Z233,\"\")","v":2668443.2624958879},{"$f":"IFERROR('EC-Per'!W233,\"\")","v":-88291542.348826647},{"$f":"IFERROR('EC-Mar'!Y233,\"\")","v":2668443.2624958879},0,{"$error":"#REF!"},{"$error":"#REF!"},{"$error":"#REF!"},{"$error":"#REF!"},{"$error":"#REF!"},{"$error":"#REF!"},{"$error":"#REF!"},""]
[{"$f":"IF(ISBLANK(InfoPro!A227),\"\",InfoPro!A227)","v":"SC_2341_A2"},{"$f":"IF(ISBLANK(InfoPro!H227),\"\",InfoPro!H227)","v":"SC_2341"},{"$f":"IF(ISBLANK(InfoPro!B227),\"\",InfoPro!B227)","v":"Parque Eólico Neguanje"},{"$f":"IF(ISBLANK(InfoPro!E227),\"\",InfoPro!E227)","v":19.899999999999999},{"$f":"IF(ISBLANK(InfoPro!C227),\"\",InfoPro!C227)","v":"2022-07-18"},{"$f":"IF(ISBLANK(InfoPro!D227),\"\",InfoPro!D227)","v":44760.939583333333},{"$f":"IF(ISBLANK(InfoPro!L227),\"\",InfoPro!L227)","v":"NO"},{"$f":"'IT-TA'!H228","v":0},{"$f":"IFERROR('BT-Confi'!Y235,\"\")","v":322357.69106186193},{"$f":"IFERROR('BT-Flex'!Y235,\"\")","v":0},{"$f":"IFERROR('EC-RE'!Z235,\"\")","v":1171597.4257624643},{"$f":"IFERROR('EC-RP'!Z234,\"\")","v":2668443.2624958879},{"$f":"IFERROR('EC-Per'!W234,\"\")","v":-53393323.671369031},{"$f":"IFERROR('EC-Mar'!Y234,\"\")","v":2668443.2624958879},0,{"$error":"#REF!"},{"$error":"#REF!"},{"$error":"#REF!"},{"$error":"#REF!"},{"$error":"#REF!"},{"$error":"#REF!"},{"$error":"#REF!"},""]
[{"$f":"IF(ISBLANK(InfoPro!A228),\"\",InfoPro!A228)","v":"SC_393_A1"},{"$f":"IF(ISBLANK(InfoPro!H228),\"\",InfoPro!H228)","v":"SC_393"},{"$f":"IF(ISBLANK(InfoPro!B228),\"\",InfoPro!B228)","v":"Copey del verano 99.9 MW"},{"$f":"IF(ISBLANK(InfoPro!E228),\"\",InfoPro!E228)","v":99.9},{"$f":"IF(ISBLANK(InfoPro!C228),\"\",InfoPro!C228)","v":"2022-06-29"},{"$f":"IF(ISBLANK(InfoPro!D228),\"\",InfoPro!D228)","v":44741},{"$f":"IF(ISBLANK(InfoPro!L228),\"\",InfoPro!L228)","v":"NO"},{"$f":"'IT-TA'!H229","v":0},{"$f":"IFERROR('BT-Confi'!Y236,\"\")","v":459473.15704881464},{"$f":"IFERROR('BT-Flex'!Y236,\"\")","v":0},{"$f":"IFERROR('EC-RE'!Z236,\"\")","v":667975.46071520681},{"$f":"IFERROR('EC-RP'!Z235,\"\")","v":1521388.3015303453},{"$f":"IFERROR('EC-Per'!W235,\"\")","v":-264711.56666885293},{"$f":"IFERROR('EC-Mar'!Y235,\"\")","v":1521388.3015303453},0,{"$error":"#REF!"},{"$error":"#REF!"},{"$error":"#REF!"},{"$error":"#REF!"},{"$error":"#REF!"},{"$error":"#REF!"},{"$error":"#REF!"},""]
[{"$f":"IF(ISBLANK(InfoPro!A229),\"\",InfoPro!A229)","v":"SC_393_A2"},{"$f":"IF(ISBLANK(InfoPro!H229),\"\",InfoPro!H229)","v":"SC_393"},{"$f":"IF(ISBLANK(InfoPro!B229),\"\",InfoPro!B229)","v":"Copey del verano 99.9 MW"},{"$f":"IF(ISBLANK(InfoPro!E229),\"\",InfoPro!E229)","v":99.9},{"$f":"IF(ISBLANK(InfoPro!C229),\"\",InfoPro!C229)","v":"2022-06-29"},{"$f":"IF(ISBLANK(InfoPro!D229),\"\",InfoPro!D229)","v":44741},{"$f":"IF(ISBLANK(InfoPro!L229),\"\",InfoPro!L229)","v":"NO"},{"$f":"'IT-TA'!H230","v":0},{"$f":"IFERROR('BT-Confi'!Y237,\"\")","v":459473.15704881464},{"$f":"IFERROR('BT-Flex'!Y237,\"\")","v":0},{"$f":"IFERROR('EC-RE'!Z237,\"\")","v":667975.46071520681},{"$f":"IFERROR('EC-RP'!Z236,\"\")","v":1521388.3015303453},{"$f":"IFERROR('EC-Per'!W236,\"\")","v":-256046.26786356085},{"$f":"IFERROR('EC-Mar'!Y236,\"\")","v":1521388.3015303453},0,{"$error":"#REF!"},{"$error":"#REF!"},{"$error":"#REF!"},{"$error":"#REF!"},{"$error":"#REF!"},{"$error":"#REF!"},{"$error":"#REF!"},""]
[{"$f":"IF(ISBLANK(InfoPro!A230),\"\",InfoPro!A230)","v":"SC_394_A1"},{"$f":"IF(ISBLANK(InfoPro!H230),\"\",InfoPro!H230)","v":"SC_394"},{"$f":"IF(ISBLANK(InfoPro!B230),\"\",InfoPro!B230)","v":"Riohacha de 20 del Verano"},{"$f":"IF(ISBLANK(InfoPro!E230),\"\",InfoPro!E230)","v":19.899999999999999},{"$f":"IF(ISBLANK(InfoPro!C230),\"\",InfoPro!C230)","v":"2022-07-01"},{"$f":"IF(ISBLANK(InfoPro!D230),\"\",InfoPro!D230)","v":44743},{"$f":"IF(ISBLANK(InfoPro!L230),\"\",InfoPro!L230)","v":"NO"},{"$f":"'IT-TA'!H231","v":0},{"$f":"IFERROR('BT-Confi'!Y238,\"\")","v":459473.15704881458},{"$f":"IFERROR('BT-Flex'!Y238,\"\")","v":0},{"$f":"IFERROR('EC-RE'!Z238,\"\")","v":667975.46071520681},{"$f":"IFERROR('EC-RP'!Z237,\"\")","v":1521388.3015303449},{"$f":"IFERROR('EC-Per'!W237,\"\")","v":-345835.65235283389},{"$f":"IFERROR('EC-Mar'!Y237,\"\")","v":1521388.3015303449},0,{"$error":"#REF!"},{"$error":"#REF!"},{"$error":"#REF!"},{"$error":"#REF!"},{"$error":"#REF!"},{"$error":"#REF!"},{"$error":"#REF!"},""]
[{"$f":"IF(ISBLANK(InfoPro!A231),\"\",InfoPro!A231)","v":"SC_394_A2"},{"$f":"IF(ISBLANK(InfoPro!H231),\"\",InfoPro!H231)","v":"SC_394"},{"$f":"IF(ISBLANK(InfoPro!B231),\"\",InfoPro!B231)","v":"Riohacha de 20 del Verano"},{"$f":"IF(ISBLANK(InfoPro!E231),\"\",InfoPro!E231)","v":19.899999999999999},{"$f":"IF(ISBLANK(InfoPro!C231),\"\",InfoPro!C231)","v":"2022-07-01"},{"$f":"IF(ISBLANK(InfoPro!D231),\"\",InfoPro!D231)","v":44743},{"$f":"IF(ISBLANK(InfoPro!L231),\"\",InfoPro!L231)","v":"NO"},{"$f":"'IT-TA'!H232","v":0},{"$f":"IFERROR('BT-Confi'!Y239,\"\")","v":459473.15704881458},{"$f":"IFERROR('BT-Flex'!Y239,\"\")","v":0},{"$f":"IFERROR('EC-RE'!Z239,\"\")","v":667975.46071520681},{"$f":"IFERROR('EC-RP'!Z238,\"\")","v":1521388.3015303449},{"$f":"IFERROR('EC-Per'!W238,\"\")","v":-340367.68594851036},{"$f":"IFERROR('EC-Mar'!Y238,\"\")","v":1521388.3015303449},0,{"$error":"#REF!"},{"$error":"#REF!"},{"$error":"#REF!"},{"$error":"#REF!"},{"$error":"#REF!"},{"$error":"#REF!"},{"$error":"#REF!"},""]
[{"$f":"IF(ISBLANK(InfoPro!A232),\"\",InfoPro!A232)","v":"SC_407_A1"},{"$f":"IF(ISBLANK(InfoPro!H232),\"\",InfoPro!H232)","v":"SC_407"},{"$f":"IF(ISBLANK(InfoPro!B232),\"\",InfoPro!B232)","v":"Portugal I 19.9 MW"},{"$f":"IF(ISBLANK(InfoPro!E232),\"\",InfoPro!E232)","v":19.899999999999999},{"$f":"IF(ISBLANK(InfoPro!C232),\"\",InfoPro!C232)","v":"2022-05-03"},{"$f":"IF(ISBLANK(InfoPro!D232),\"\",InfoPro!D232)","v":44684},{"$f":"IF(ISBLANK(InfoPro!L232),\"\",InfoPro!L232)","v":"NO"},{"$f":"'IT-TA'!H233","v":0},{"$f":"IFERROR('BT-Confi'!Y240,\"\")","v":459473.15704881458},{"$f":"IFERROR('BT-Flex'!Y240,\"\")","v":0},{"$f":"IFERROR('EC-RE'!Z240,\"\")","v":667975.46071520681},{"$f":"IFERROR('EC-RP'!Z239,\"\")","v":1521388.3015303449},{"$f":"IFERROR('EC-Per'!W239,\"\")","v":45707.230962865928},{"$f":"IFERROR('EC-Mar'!Y239,\"\")","v":1521388.3015303449},0,{"$error":"#REF!"},{"$error":"#REF!"},{"$error":"#REF!"},{"$error":"#REF!"},{"$error":"#REF!"},{"$error":"#REF!"},{"$error":"#REF!"},""]
[{"$f":"IF(ISBLANK(InfoPro!A233),\"\",InfoPro!A233)","v":"SC_42_A1"},{"$f":"IF(ISBLANK(InfoPro!H233),\"\",InfoPro!H233)","v":"SC_42"},{"$f":"IF(ISBLANK(InfoPro!B233),\"\",InfoPro!B233)","v":"Santa Marta 1 - 50 MW"},{"$f":"IF(ISBLANK(InfoPro!E233),\"\",InfoPro!E233)","v":50},{"$f":"IF(ISBLANK(InfoPro!C233),\"\",InfoPro!C233)","v":"2022-01-05"},{"$f":"IF(ISBLANK(InfoPro!D233),\"\",InfoPro!D233)","v":44566},{"$f":"IF(ISBLANK(InfoPro!L233),\"\",InfoPro!L233)","v":"NO"},{"$f":"'IT-TA'!H234","v":0},{"$f":"IFERROR('BT-Confi'!Y241,\"\")","v":459473.15704881452},{"$f":"IFERROR('BT-Flex'!Y241,\"\")","v":0},{"$f":"IFERROR('EC-RE'!Z241,\"\")","v":667975.46071520646},{"$f":"IFERROR('EC-RP'!Z240,\"\")","v":1521388.3015303449},{"$f":"IFERROR('EC-Per'!W240,\"\")","v":-106742.95281294819},{"$f":"IFERROR('EC-Mar'!Y240,\"\")","v":1521388.3015303449},0,{"$error":"#REF!"},{"$error":"#REF!"},{"$error":"#REF!"},{"$error":"#REF!"},{"$error":"#REF!"},{"$error":"#REF!"},{"$error":"#REF!"},""]
[{"$f":"IF(ISBLANK(InfoPro!A234),\"\",InfoPro!A234)","v":"SC_482_A1"},{"$f":"IF(ISBLANK(InfoPro!H234),\"\",InfoPro!H234)","v":"SC_482"},{"$f":"IF(ISBLANK(InfoPro!B234),\"\",InfoPro!B234)","v":"La Santa Maria - 99.9MW"},{"$f":"IF(ISBLANK(InfoPro!E234),\"\",InfoPro!E234)","v":99.9},{"$f":"IF(ISBLANK(InfoPro!C234),\"\",InfoPro!C234)","v":"2022-05-21"},{"$f":"IF(ISBLANK(InfoPro!D234),\"\",InfoPro!D234)","v":44702},{"$f":"IF(ISBLANK(InfoPro!L234),\"\",InfoPro!L234)","v":"NO"},{"$f":"'IT-TA'!H235","v":0},{"$f":"IFERROR('BT-Confi'!Y242,\"\")","v":459473.15704881464},{"$f":"IFERROR('BT-Flex'!Y242,\"\")","v":0},{"$f":"IFERROR('EC-RE'!Z242,\"\")","v":667975.46071520681},{"$f":"IFERROR('EC-RP'!Z241,\"\")","v":1521388.3015303453},{"$f":"IFERROR('EC-Per'!W241,\"\")","v":-270945.81346161099},{"$f":"IFERROR('EC-Mar'!Y241,\"\")","v":1521388.3015303453},0,{"$error":"#REF!"},{"$error":"#REF!"},{"$error":"#REF!"},{"$error":"#REF!"},{"$error":"#REF!"},{"$error":"#REF!"},{"$error":"#REF!"},""]
[{"$f":"IF(ISBLANK(InfoPro!A235),\"\",InfoPro!A235)","v":"SC_482_A2"},{"$f":"IF(ISBLANK(InfoPro!H235),\"\",InfoPro!H235)","v":"SC_482"},{"$f":"IF(ISBLANK(InfoPro!B235),\"\",InfoPro!B235)","v":"La Santa Maria - 99.9MW"},{"$f":"IF(ISBLANK(InfoPro!E235),\"\",InfoPro!E235)","v":99.9},{"$f":"IF(ISBLANK(InfoPro!C235),\"\",InfoPro!C235)","v":"2022-05-21"},{"$f":"IF(ISBLANK(InfoPro!D235),\"\",InfoPro!D235)","v":44702},{"$f":"IF(ISBLANK(InfoPro!L235),\"\",InfoPro!L235)","v":"NO"},{"$f":"'IT-TA'!H236","v":0},{"$f":"IFERROR('BT-Confi'!Y243,\"\")","v":459473.15704881464},{"$f":"IFERROR('BT-Flex'!Y243,\"\")","v":0},{"$f":"IFERROR('EC-RE'!Z243,\"\")","v":667975.46071520681},{"$f":"IFERROR('EC-RP'!Z242,\"\")","v":1521388.3015303453},{"$f":"IFERROR('EC-Per'!W242,\"\")","v":-370242.63958003279},{"$f":"IFERROR('EC-Mar'!Y242,\"\")","v":1521388.3015303453},0,{"$error":"#REF!"},{"$error":"#REF!"},{"$error":"#REF!"},{"$error":"#REF!"},{"$error":"#REF!"},{"$error":"#REF!"},{"$error":"#REF!"},""]
[{"$f":"IF(ISBLANK(InfoPro!A236),\"\",InfoPro!A236)","v":"SC_497_A1"},{"$f":"IF(ISBLANK(InfoPro!H236),\"\",InfoPro!H236)","v":"SC_497"},{"$f":"IF(ISBLANK(InfoPro!B236),\"\",InfoPro!B236)","v":"Portugal II - 9.9 MW"},{"$f":"IF(ISBLANK(InfoPro!E236),\"\",InfoPro!E236)","v":9.9},{"$f":"IF(ISBLANK(InfoPro!C236),\"\",InfoPro!C236)","v":"2022-05-25"},{"$f":"IF(ISBLANK(InfoPro!D236),\"\",InfoPro!D236)","v":44706},{"$f":"IF(ISBLANK(InfoPro!L236),\"\",InfoPro!L236)","v":"NO"},{"$f":"'IT-TA'!H237","v":0},{"$f":"IFERROR('BT-Confi'!Y244,\"\")","v":459473.15704881464},{"$f":"IFERROR('BT-Flex'!Y244,\"\")","v":0},{"$f":"IFERROR('EC-RE'!Z244,\"\")","v":667975.46071520657},{"$f":"IFERROR('EC-RP'!Z243,\"\")","v":1521388.3015303449},{"$f":"IFERROR('EC-Per'!W243,\"\")","v":172598.67703272981},{"$f":"IFERROR('EC-Mar'!Y243,\"\")","v":1521388.3015303449},0,{"$error":"#REF!"},{"$error":"#REF!"},{"$error":"#REF!"},{"$error":"#REF!"},{"$error":"#REF!"},{"$error":"#REF!"},{"$error":"#REF!"},""]
[{"$f":"IF(ISBLANK(InfoPro!A237),\"\",InfoPro!A237)","v":"SC_502_A1"},{"$f":"IF(ISBLANK(InfoPro!H237),\"\",InfoPro!H237)","v":"SC_502"},{"$f":"IF(ISBLANK(InfoPro!B237),\"\",InfoPro!B237)","v":"RUBÍ 40 MW"},{"$f":"IF(ISBLANK(InfoPro!E237),\"\",InfoPro!E237)","v":40},{"$f":"IF(ISBLANK(InfoPro!C237),\"\",InfoPro!C237)","v":"2022-06-07"},{"$f":"IF(ISBLANK(InfoPro!D237),\"\",InfoPro!D237)","v":44719},{"$f":"IF(ISBLANK(InfoPro!L237),\"\",InfoPro!L237)","v":"NO"},{"$f":"'IT-TA'!H238","v":0},{"$f":"IFERROR('BT-Confi'!Y245,\"\")","v":410977.77911342995},{"$f":"IFERROR('BT-Flex'!Y245,\"\")","v":0},{"$f":"IFERROR('EC-RE'!Z245,\"\")","v":597473.57845725131},{"$f":"IFERROR('EC-RP'!Z244,\"\")","v":1360812.4342847455},{"$f":"IFERROR('EC-Per'!W244,\"\")","v":-61881.088697028616},{"$f":"IFERROR('EC-Mar'!Y244,\"\")","v":1360812.4342847455},0,{"$error":"#REF!"},{"$error":"#REF!"},{"$error":"#REF!"},{"$error":"#REF!"},{"$error":"#REF!"},{"$error":"#REF!"},{"$error":"#REF!"},""]
[{"$f":"IF(ISBLANK(InfoPro!A238),\"\",InfoPro!A238)","v":"SC_507_A1"},{"$f":"IF(ISBLANK(InfoPro!H238),\"\",InfoPro!H238)","v":"SC_507"},{"$f":"IF(ISBLANK(InfoPro!B238),\"\",InfoPro!B238)","v":"PARQUE FOTOVOLTAICO CATAY 2"},{"$f":"IF(ISBLANK(InfoPro!E238),\"\",InfoPro!E238)","v":100},{"$f":"IF(ISBLANK(InfoPro!C238),\"\",InfoPro!C238)","v":"2022-05-26"},{"$f":"IF(ISBLANK(InfoPro!D238),\"\",InfoPro!D238)","v":44707},{"$f":"IF(ISBLANK(InfoPro!L238),\"\",InfoPro!L238)","v":"NO"},{"$f":"'IT-TA'!H239","v":0},{"$f":"IFERROR('BT-Confi'!Y246,\"\")","v":367600.87577229866},{"$f":"IFERROR('BT-Flex'!Y246,\"\")","v":0},{"$f":"IFERROR('EC-RE'!Z246,\"\")","v":534412.86087410641},{"$f":"IFERROR('EC-RP'!Z245,\"\")","v":1217184.6460507561},{"$f":"IFERROR('EC-Per'!W245,\"\")","v":-231752.40249014663},{"$f":"IFERROR('EC-Mar'!Y245,\"\")","v":1217184.6460507561},0,{"$error":"#REF!"},{"$error":"#REF!"},{"$error":"#REF!"},{"$error":"#REF!"},{"$error":"#REF!"},{"$error":"#REF!"},{"$error":"#REF!"},""]
[{"$f":"IF(ISBLANK(InfoPro!A239),\"\",InfoPro!A239)","v":"SC_507_A2"},{"$f":"IF(ISBLANK(InfoPro!H239),\"\",InfoPro!H239)","v":"SC_507"},{"$f":"IF(ISBLANK(InfoPro!B239),\"\",InfoPro!B239)","v":"PARQUE FOTOVOLTAICO CATAY 2"},{"$f":"IF(ISBLANK(InfoPro!E239),\"\",InfoPro!E239)","v":100},{"$f":"IF(ISBLANK(InfoPro!C239),\"\",InfoPro!C239)","v":"2022-05-26"},{"$f":"IF(ISBLANK(InfoPro!D239),\"\",InfoPro!D239)","v":44707},{"$f":"IF(ISBLANK(InfoPro!L239),\"\",InfoPro!L239)","v":"NO"},{"$f":"'IT-TA'!H240","v":0},{"$f":"IFERROR('BT-Confi'!Y247,\"\")","v":367600.87577229866},{"$f":"IFERROR('BT-Flex'!Y247,\"\")","v":0},{"$f":"IFERROR('EC-RE'!Z247,\"\")","v":534412.86087410641},{"$f":"IFERROR('EC-RP'!Z246,\"\")","v":1217184.6460507561},{"$f":"IFERROR('EC-Per'!W246,\"\")","v":-222359.01918075557},{"$f":"IFERROR('EC-Mar'!Y246,\"\")","v":1217184.6460507561},0,{"$error":"#REF!"},{"$error":"#REF!"},{"$error":"#REF!"},{"$error":"#REF!"},{"$error":"#REF!"},{"$error":"#REF!"},{"$error":"#REF!"},""]
[{"$f":"IF(ISBLANK(InfoPro!A240),\"\",InfoPro!A240)","v":"SC_543_A1"},{"$f":"IF(ISBLANK(InfoPro!H240),\"\",InfoPro!H240)","v":"SC_543"},{"$f":"IF(ISBLANK(InfoPro!B240),\"\",InfoPro!B240)","v":"Sabana I 350 MW"},{"$f":"IF(ISBLANK(InfoPro!E240),\"\",InfoPro!E240)","v":350},{"$f":"IF(ISBLANK(InfoPro!C240),\"\",InfoPro!C240)","v":"2022-06-03"},{"$f":"IF(ISBLANK(InfoPro!D240),\"\",InfoPro!D240)","v":44715},{"$f":"IF(ISBLANK(InfoPro!L240),\"\",InfoPro!L240)","v":"NO"},{"$f":"'IT-TA'!H241","v":0},{"$f":"IFERROR('BT-Confi'!Y248,\"\")","v":367600.87577229878},{"$f":"IFERROR('BT-Flex'!Y248,\"\")","v":0},{"$f":"IFERROR('EC-RE'!Z248,\"\")","v":534412.86087410664},{"$f":"IFERROR('EC-RP'!Z247,\"\")","v":1217184.6460507559},{"$f":"IFERROR('EC-Per'!W247,\"\")","v":-55390.360311218406},{"$f":"IFERROR('EC-Mar'!Y247,\"\")","v":1217184.6460507559},0,{"$error":"#REF!"},{"$error":"#REF!"},{"$error":"#REF!"},{"$error":"#REF!"},{"$error":"#REF!"},{"$error":"#REF!"},{"$error":"#REF!"},""]
[{"$f":"IF(ISBLANK(InfoPro!A241),\"\",InfoPro!A241)","v":"SC_56_A2"},{"$f":"IF(ISBLANK(InfoPro!H241),\"\",InfoPro!H241)","v":"SC_56"},{"$f":"IF(ISBLANK(InfoPro!B241),\"\",InfoPro!B241)","v":"PV LATAMSOLAR LA LOMA 200 MW"},{"$f":"IF(ISBLANK(InfoPro!E241),\"\",InfoPro!E241)","v":200},{"$f":"IF(ISBLANK(InfoPro!C241),\"\",InfoPro!C241)","v":"2022-01-07"},{"$f":"IF(ISBLANK(InfoPro!D241),\"\",InfoPro!D241)","v":44568},{"$f":"IF(ISBLANK(InfoPro!L241),\"\",InfoPro!L241)","v":"NO"},{"$f":"'IT-TA'!H242","v":0},{"$f":"IFERROR('BT-Confi'!Y249,\"\")","v":513690.98958057474},{"$f":"IFERROR('BT-Flex'!Y249,\"\")","v":0},{"$f":"IFERROR('EC-RE'!Z249,\"\")","v":746796.56507960102},{"$f":"IFERROR('EC-RP'!Z248,\"\")","v":1700912.1211109257},{"$f":"IFERROR('EC-Per'!W248,\"\")","v":-503678.7919702587},{"$f":"IFERROR('EC-Mar'!Y248,\"\")","v":1700912.1211109257},0,{"$error":"#REF!"},{"$error":"#REF!"},{"$error":"#REF!"},{"$error":"#REF!"},{"$error":"#REF!"},{"$error":"#REF!"},{"$error":"#REF!"},""]
[{"$f":"IF(ISBLANK(InfoPro!A242),\"\",InfoPro!A242)","v":"SC_587_A1"},{"$f":"IF(ISBLANK(InfoPro!H242),\"\",InfoPro!H242)","v":"SC_587"},{"$f":"IF(ISBLANK(InfoPro!B242),\"\",InfoPro!B242)","v":"Cactus del Cesar - El Paso"},{"$f":"IF(ISBLANK(InfoPro!E242),\"\",InfoPro!E242)","v":19.899999999999999},{"$f":"IF(ISBLANK(InfoPro!C242),\"\",InfoPro!C242)","v":"2022-07-13"},{"$f":"IF(ISBLANK(InfoPro!D242),\"\",InfoPro!D242)","v":44755},{"$f":"IF(ISBLANK(InfoPro!L242),\"\",InfoPro!L242)","v":"NO"},{"$f":"'IT-TA'!H243","v":0},{"$f":"IFERROR('BT-Confi'!Y250,\"\")","v":294098.58181161317},{"$f":"IFERROR('BT-Flex'!Y250,\"\")","v":0},{"$f":"IFERROR('EC-RE'!Z250,\"\")","v":427556.28412135976},{"$f":"IFERROR('EC-RP'!Z249,\"\")","v":973806.9243016023},{"$f":"IFERROR('EC-Per'!W249,\"\")","v":-7569.6651585997488},{"$f":"IFERROR('EC-Mar'!Y249,\"\")","v":973806.9243016023},0,{"$error":"#REF!"},{"$error":"#REF!"},{"$error":"#REF!"},{"$error":"#REF!"},{"$error":"#REF!"},{"$error":"#REF!"},{"$error":"#REF!"},""]
[{"$f":"IF(ISBLANK(InfoPro!A243),\"\",InfoPro!A243)","v":"SC_587_A2"},{"$f":"IF(ISBLANK(InfoPro!H243),\"\",InfoPro!H243)","v":"SC_587"},{"$f":"IF(ISBLANK(InfoPro!B243),\"\",InfoPro!B243)","v":"Cactus del Cesar - El Paso"},{"$f":"IF(ISBLANK(InfoPro!E243),\"\",InfoPro!E243)","v":19.899999999999999},{"$f":"IF(ISBLANK(InfoPro!C243),\"\",InfoPro!C243)","v":"2022-07-13"},{"$f":"IF(ISBLANK(InfoPro!D243),\"\",InfoPro!D243)","v":44755},{"$f":"IF(ISBLANK(InfoPro!L243),\"\",InfoPro!L243)","v":"NO"},{"$f":"'IT-TA'!H244","v":0},{"$f":"IFERROR('BT-Confi'!Y251,\"\")","v":294098.58181161317},{"$f":"IFERROR('BT-Flex'!Y251,\"\")","v":0},{"$f":"IFERROR('EC-RE'!Z251,\"\")","v":427556.28412135976},{"$f":"IFERROR('EC-RP'!Z250,\"\")","v":973806.9243016023},{"$f":"IFERROR('EC-Per'!W250,\"\")","v":-8634.743673377603},{"$f":"IFERROR('EC-Mar'!Y250,\"\")","v":973806.9243016023},0,{"$error":"#REF!"},{"$error":"#REF!"},{"$error":"#REF!"},{"$error":"#REF!"},{"$error":"#REF!"},{"$error":"#REF!"},{"$error":"#REF!"},""]
[{"$f":"IF(ISBLANK(InfoPro!A244),\"\",InfoPro!A244)","v":"SC_599_A1"},{"$f":"IF(ISBLANK(InfoPro!H244),\"\",InfoPro!H244)","v":"SC_599"},{"$f":"IF(ISBLANK(InfoPro!B244),\"\",InfoPro!B244)","v":"La Fortuna - 19,9 MW"},{"$f":"IF(ISBLANK(InfoPro!E244),\"\",InfoPro!E244)","v":19.899999999999999},{"$f":"IF(ISBLANK(InfoPro!C244),\"\",InfoPro!C244)","v":"2022-06-13"},{"$f":"IF(ISBLANK(InfoPro!D244),\"\",InfoPro!D244)","v":44725},{"$f":"IF(ISBLANK(InfoPro!L244),\"\",InfoPro!L244)","v":"NO"},{"$f":"'IT-TA'!H245","v":0},{"$f":"IFERROR('BT-Confi'!Y252,\"\")","v":459473.15704881458},{"$f":"IFERROR('BT-Flex'!Y252,\"\")","v":0},{"$f":"IFERROR('EC-RE'!Z252,\"\")","v":667975.46071520681},{"$f":"IFERROR('EC-RP'!Z251,\"\")","v":1521388.3015303449},{"$f":"IFERROR('EC-Per'!W251,\"\")","v":-116478.79744021378},{"$f":"IFERROR('EC-Mar'!Y251,\"\")","v":1521388.3015303449},0,{"$error":"#REF!"},{"$error":"#REF!"},{"$error":"#REF!"},{"$error":"#REF!"},{"$error":"#REF!"},{"$error":"#REF!"},{"$error":"#REF!"},""]
[{"$f":"IF(ISBLANK(InfoPro!A245),\"\",InfoPro!A245)","v":"SC_599_A2"},{"$f":"IF(ISBLANK(InfoPro!H245),\"\",InfoPro!H245)","v":"SC_599"},{"$f":"IF(ISBLANK(InfoPro!B245),\"\",InfoPro!B245)","v":"La Fortuna - 19,9 MW"},{"$f":"IF(ISBLANK(InfoPro!E245),\"\",InfoPro!E245)","v":19.899999999999999},{"$f":"IF(ISBLANK(InfoPro!C245),\"\",InfoPro!C245)","v":"2022-06-13"},{"$f":"IF(ISBLANK(InfoPro!D245),\"\",InfoPro!D245)","v":44725},{"$f":"IF(ISBLANK(InfoPro!L245),\"\",InfoPro!L245)","v":"NO"},{"$f":"'IT-TA'!H246","v":0},{"$f":"IFERROR('BT-Confi'!Y253,\"\")","v":459473.15704881458},{"$f":"IFERROR('BT-Flex'!Y253,\"\")","v":0},{"$f":"IFERROR('EC-RE'!Z253,\"\")","v":667975.46071520681},{"$f":"IFERROR('EC-RP'!Z252,\"\")","v":1521388.3015303449},{"$f":"IFERROR('EC-Per'!W252,\"\")","v":-117667.35659776698},{"$f":"IFERROR('EC-Mar'!Y252,\"\")","v":1521388.3015303449},0,{"$error":"#REF!"},{"$error":"#REF!"},{"$error":"#REF!"},{"$error":"#REF!"},{"$error":"#REF!"},{"$error":"#REF!"},{"$error":"#REF!"},""]
[{"$f":"IF(ISBLANK(InfoPro!A246),\"\",InfoPro!A246)","v":"SC_623_A1"},{"$f":"IF(ISBLANK(InfoPro!H246),\"\",InfoPro!H246)","v":"SC_623"},{"$f":"IF(ISBLANK(InfoPro!B246),\"\",InfoPro!B246)","v":"TR SOLAR 6"},{"$f":"IF(ISBLANK(InfoPro!E246),\"\",InfoPro!E246)","v":120.3},{"$f":"IF(ISBLANK(InfoPro!C246),\"\",InfoPro!C246)","v":"2022-07-15"},{"$f":"IF(ISBLANK(InfoPro!D246),\"\",InfoPro!D246)","v":44757},{"$f":"IF(ISBLANK(InfoPro!L246),\"\",InfoPro!L246)","v":"NO"},{"$f":"'IT-TA'!H247","v":0},{"$f":"IFERROR('BT-Confi'!Y254,\"\")","v":410977.77911342983},{"$f":"IFERROR('BT-Flex'!Y254,\"\")","v":0},{"$f":"IFERROR('EC-RE'!Z254,\"\")","v":597473.57845725107},{"$f":"IFERROR('EC-RP'!Z253,\"\")","v":1360812.4342847452},{"$f":"IFERROR('EC-Per'!W253,\"\")","v":-139720.57028309349},{"$f":"IFERROR('EC-Mar'!Y253,\"\")","v":1360812.4342847452},0,{"$error":"#REF!"},{"$error":"#REF!"},{"$error":"#REF!"},{"$error":"#REF!"},{"$error":"#REF!"},{"$error":"#REF!"},{"$error":"#REF!"},""]
[{"$f":"IF(ISBLANK(InfoPro!A247),\"\",InfoPro!A247)","v":"SC_623_A2"},{"$f":"IF(ISBLANK(InfoPro!H247),\"\",InfoPro!H247)","v":"SC_623"},{"$f":"IF(ISBLANK(InfoPro!B247),\"\",InfoPro!B247)","v":"TR SOLAR 6"},{"$f":"IF(ISBLANK(InfoPro!E247),\"\",InfoPro!E247)","v":120.3},{"$f":"IF(ISBLANK(InfoPro!C247),\"\",InfoPro!C247)","v":"2022-07-15"},{"$f":"IF(ISBLANK(InfoPro!D247),\"\",InfoPro!D247)","v":44757},{"$f":"IF(ISBLANK(InfoPro!L247),\"\",InfoPro!L247)","v":"SI"},{"$f":"'IT-TA'!H248","v":0},{"$f":"IFERROR('BT-Confi'!Y255,\"\")","v":410977.77911342983},{"$f":"IFERROR('BT-Flex'!Y255,\"\")","v":0},{"$f":"IFERROR('EC-RE'!Z255,\"\")","v":597473.57845725107},{"$f":"IFERROR('EC-RP'!Z254,\"\")","v":1360812.4342847452},{"$f":"IFERROR('EC-Per'!W254,\"\")","v":-115715.71459568974},{"$f":"IFERROR('EC-Mar'!Y254,\"\")","v":1360812.4342847452},0,{"$error":"#REF!"},{"$error":"#REF!"},{"$error":"#REF!"},{"$error":"#REF!"},{"$error":"#REF!"},{"$error":"#REF!"},{"$error":"#REF!"},""]
[{"$f":"IF(ISBLANK(InfoPro!A248),\"\",InfoPro!A248)","v":"SC_628_A1"},{"$f":"IF(ISBLANK(InfoPro!H248),\"\",InfoPro!H248)","v":"SC_628"},{"$f":"IF(ISBLANK(InfoPro!B248),\"\",InfoPro!B248)","v":"TR Solar 13"},{"$f":"IF(ISBLANK(InfoPro!E248),\"\",InfoPro!E248)","v":110},{"$f":"IF(ISBLANK(InfoPro!C248),\"\",InfoPro!C248)","v":"2022-07-15"},{"$f":"IF(ISBLANK(InfoPro!D248),\"\",InfoPro!D248)","v":44757},{"$f":"IF(ISBLANK(InfoPro!L248),\"\",InfoPro!L248)","v":"NO"},{"$f":"'IT-TA'!H249","v":0},{"$f":"IFERROR('BT-Confi'!Y256,\"\")","v":410977.77911343001},{"$f":"IFERROR('BT-Flex'!Y256,\"\")","v":0},{"$f":"IFERROR('EC-RE'!Z256,\"\")","v":597473.57845725119},{"$f":"IFERROR('EC-RP'!Z255,\"\")","v":1360812.4342847455},{"$f":"IFERROR('EC-Per'!W255,\"\")","v":-587750.13848677359},{"$f":"IFERROR('EC-Mar'!Y255,\"\")","v":1360812.434284745},0,{"$error":"#REF!"},{"$error":"#REF!"},{"$error":"#REF!"},{"$error":"#REF!"},{"$error":"#REF!"},{"$error":"#REF!"},{"$error":"#REF!"},""]
[{"$f":"IF(ISBLANK(InfoPro!A249),\"\",InfoPro!A249)","v":"SC_628_A2"},{"$f":"IF(ISBLANK(InfoPro!H249),\"\",InfoPro!H249)","v":"SC_628"},{"$f":"IF(ISBLANK(InfoPro!B249),\"\",InfoPro!B249)","v":"TR Solar 13"},{"$f":"IF(ISBLANK(InfoPro!E249),\"\",InfoPro!E249)","v":110},{"$f":"IF(ISBLANK(InfoPro!C249),\"\",InfoPro!C249)","v":"2022-07-15"},{"$f":"IF(ISBLANK(InfoPro!D249),\"\",InfoPro!D249)","v":44757},{"$f":"IF(ISBLANK(InfoPro!L249),\"\",InfoPro!L249)","v":"NO"},{"$f":"'IT-TA'!H250","v":0},{"$f":"IFERROR('BT-Confi'!Y257,\"\")","v":410977.77911343001},{"$f":"IFERROR('BT-Flex'!Y257,\"\")","v":0},{"$f":"IFERROR('EC-RE'!Z257,\"\")","v":597473.57845725119},{"$f":"IFERROR('EC-RP'!Z256,\"\")","v":1360812.4342847455},{"$f":"IFERROR('EC-Per'!W256,\"\")","v":-562747.67840716615},{"$f":"IFERROR('EC-Mar'!Y256,\"\")","v":1360812.434284745},0,{"$error":"#REF!"},{"$error":"#REF!"},{"$error":"#REF!"},{"$error":"#REF!"},{"$error":"#REF!"},{"$error":"#REF!"},{"$error":"#REF!"},""]
[{"$f":"IF(ISBLANK(InfoPro!A250),\"\",InfoPro!A250)","v":"SC_657_A1"},{"$f":"IF(ISBLANK(InfoPro!H250),\"\",InfoPro!H250)","v":"SC_657"},{"$f":"IF(ISBLANK(InfoPro!B250),\"\",InfoPro!B250)","v":"TR Solar 7"},{"$f":"IF(ISBLANK(InfoPro!E250),\"\",InfoPro!E250)","v":99.9},{"$f":"IF(ISBLANK(InfoPro!C250),\"\",InfoPro!C250)","v":"2022-07-15"},{"$f":"IF(ISBLANK(InfoPro!D250),\"\",InfoPro!D250)","v":44757},{"$f":"IF(ISBLANK(InfoPro!L250),\"\",InfoPro!L250)","v":"NO"},{"$f":"'IT-TA'!H251","v":0},{"$f":"IFERROR('BT-Confi'!Y258,\"\")","v":410977.77911343001},{"$f":"IFERROR('BT-Flex'!Y258,\"\")","v":0},{"$f":"IFERROR('EC-RE'!Z258,\"\")","v":597473.57845725131},{"$f":"IFERROR('EC-RP'!Z257,\"\")","v":1360812.434284745},{"$f":"IFERROR('EC-Per'!W257,\"\")","v":-65649.025080050531},{"$f":"IFERROR('EC-Mar'!Y257,\"\")","v":1360812.434284745},0,{"$error":"#REF!"},{"$error":"#REF!"},{"$error":"#REF!"},{"$error":"#REF!"},{"$error":"#REF!"},{"$error":"#REF!"},{"$error":"#REF!"},""]
[{"$f":"IF(ISBLANK(InfoPro!A251),\"\",InfoPro!A251)","v":"SC_657_A2"},{"$f":"IF(ISBLANK(InfoPro!H251),\"\",InfoPro!H251)","v":"SC_657"},{"$f":"IF(ISBLANK(InfoPro!B251),\"\",InfoPro!B251)","v":"TR Solar 7"},{"$f":"IF(ISBLANK(InfoPro!E251),\"\",InfoPro!E251)","v":99.9},{"$f":"IF(ISBLANK(InfoPro!C251),\"\",InfoPro!C251)","v":"2022-07-15"},{"$f":"IF(ISBLANK(InfoPro!D251),\"\",InfoPro!D251)","v":44757},{"$f":"IF(ISBLANK(InfoPro!L251),\"\",InfoPro!L251)","v":"NO"},{"$f":"'IT-TA'!H252","v":0},{"$f":"IFERROR('BT-Confi'!Y259,\"\")","v":410977.77911343001},{"$f":"IFERROR('BT-Flex'!Y259,\"\")","v":0},{"$f":"IFERROR('EC-RE'!Z259,\"\")","v":597473.57845725131},{"$f":"IFERROR('EC-RP'!Z258,\"\")","v":1360812.434284745},{"$f":"IFERROR('EC-Per'!W258,\"\")","v":-69672.675004311692},{"$f":"IFERROR('EC-Mar'!Y258,\"\")","v":1360812.434284745},0,{"$error":"#REF!"},{"$error":"#REF!"},{"$error":"#REF!"},{"$error":"#REF!"},{"$error":"#REF!"},{"$error":"#REF!"},{"$error":"#REF!"},""]
[{"$f":"IF(ISBLANK(InfoPro!A252),\"\",InfoPro!A252)","v":"SC_658_A1"},{"$f":"IF(ISBLANK(InfoPro!H252),\"\",InfoPro!H252)","v":"SC_658"},{"$f":"IF(ISBLANK(InfoPro!B252),\"\",InfoPro!B252)","v":"TR Solar 8"},{"$f":"IF(ISBLANK(InfoPro!E252),\"\",InfoPro!E252)","v":200},{"$f":"IF(ISBLANK(InfoPro!C252),\"\",InfoPro!C252)","v":"2022-07-15"},{"$f":"IF(ISBLANK(InfoPro!D252),\"\",InfoPro!D252)","v":44757},{"$f":"IF(ISBLANK(InfoPro!L252),\"\",InfoPro!L252)","v":"NO"},{"$f":"'IT-TA'!H253","v":0},{"$f":"IFERROR('BT-Confi'!Y260,\"\")","v":410977.77911342977},{"$f":"IFERROR('BT-Flex'!Y260,\"\")","v":0},{"$f":"IFERROR('EC-RE'!Z260,\"\")","v":597473.57845725096},{"$f":"IFERROR('EC-RP'!Z259,\"\")","v":1360812.4342847452},{"$f":"IFERROR('EC-Per'!W259,\"\")","v":-80445.415306137205},{"$f":"IFERROR('EC-Mar'!Y259,\"\")","v":1360812.4342847452},0,{"$error":"#REF!"},{"$error":"#REF!"},{"$error":"#REF!"},{"$error":"#REF!"},{"$error":"#REF!"},{"$error":"#REF!"},{"$error":"#REF!"},""]
[{"$f":"IF(ISBLANK(InfoPro!A253),\"\",InfoPro!A253)","v":"SC_658_A2"},{"$f":"IF(ISBLANK(InfoPro!H253),\"\",InfoPro!H253)","v":"SC_658"},{"$f":"IF(ISBLANK(InfoPro!B253),\"\",InfoPro!B253)","v":"TR Solar 8"},{"$f":"IF(ISBLANK(InfoPro!E253),\"\",InfoPro!E253)","v":200},{"$f":"IF(ISBLANK(InfoPro!C253),\"\",InfoPro!C253)","v":"2022-07-15"},{"$f":"IF(ISBLANK(InfoPro!D253),\"\",InfoPro!D253)","v":44757},{"$f":"IF(ISBLANK(InfoPro!L253),\"\",InfoPro!L253)","v":"NO"},{"$f":"'IT-TA'!H254","v":0},{"$f":"IFERROR('BT-Confi'!Y261,\"\")","v":410977.77911342977},{"$f":"IFERROR('BT-Flex'!Y261,\"\")","v":0},{"$f":"IFERROR('EC-RE'!Z261,\"\")","v":597473.57845725096},{"$f":"IFERROR('EC-RP'!Z260,\"\")","v":1360812.4342847452},{"$f":"IFERROR('EC-Per'!W260,\"\")","v":-81556.101513519752},{"$f":"IFERROR('EC-Mar'!Y260,\"\")","v":1360812.4342847452},0,{"$error":"#REF!"},{"$error":"#REF!"},{"$error":"#REF!"},{"$error":"#REF!"},{"$error":"#REF!"},{"$error":"#REF!"},{"$error":"#REF!"},""]
[{"$f":"IF(ISBLANK(InfoPro!A254),\"\",InfoPro!A254)","v":"SC_72_A1"},{"$f":"IF(ISBLANK(InfoPro!H254),\"\",InfoPro!H254)","v":"SC_72"},{"$f":"IF(ISBLANK(InfoPro!B254),\"\",InfoPro!B254)","v":"Santa Marta III"},{"$f":"IF(ISBLANK(InfoPro!E254),\"\",InfoPro!E254)","v":50},{"$f":"IF(ISBLANK(InfoPro!C254),\"\",InfoPro!C254)","v":"2022-01-12"},{"$f":"IF(ISBLANK(InfoPro!D254),\"\",InfoPro!D254)","v":44573},{"$f":"IF(ISBLANK(InfoPro!L254),\"\",InfoPro!L254)","v":"NO"},{"$f":"'IT-TA'!H255","v":0},{"$f":"IFERROR('BT-Confi'!Y262,\"\")","v":459473.15704881452},{"$f":"IFERROR('BT-Flex'!Y262,\"\")","v":0},{"$f":"IFERROR('EC-RE'!Z262,\"\")","v":667975.46071520646},{"$f":"IFERROR('EC-RP'!Z261,\"\")","v":1521388.3015303449},{"$f":"IFERROR('EC-Per'!W261,\"\")","v":-106742.95281294819},{"$f":"IFERROR('EC-Mar'!Y261,\"\")","v":1521388.3015303449},0,{"$error":"#REF!"},{"$error":"#REF!"},{"$error":"#REF!"},{"$error":"#REF!"},{"$error":"#REF!"},{"$error":"#REF!"},{"$error":"#REF!"},""]
[{"$f":"IF(ISBLANK(InfoPro!A255),\"\",InfoPro!A255)","v":"SC_735_A1"},{"$f":"IF(ISBLANK(InfoPro!H255),\"\",InfoPro!H255)","v":"SC_735"},{"$f":"IF(ISBLANK(InfoPro!B255),\"\",InfoPro!B255)","v":"EGINA 60"},{"$f":"IF(ISBLANK(InfoPro!E255),\"\",InfoPro!E255)","v":60},{"$f":"IF(ISBLANK(InfoPro!C255),\"\",InfoPro!C255)","v":"2022-07-06"},{"$f":"IF(ISBLANK(InfoPro!D255),\"\",InfoPro!D255)","v":44748},{"$f":"IF(ISBLANK(InfoPro!L255),\"\",InfoPro!L255)","v":"NO"},{"$f":"'IT-TA'!H256","v":0},{"$f":"IFERROR('BT-Confi'!Y263,\"\")","v":410977.77911342977},{"$f":"IFERROR('BT-Flex'!Y263,\"\")","v":0},{"$f":"IFERROR('EC-RE'!Z263,\"\")","v":597473.57845725119},{"$f":"IFERROR('EC-RP'!Z262,\"\")","v":1360812.4342847448},{"$f":"IFERROR('EC-Per'!W262,\"\")","v":-44379.671158445337},{"$f":"IFERROR('EC-Mar'!Y262,\"\")","v":1360812.4342847448},0,{"$error":"#REF!"},{"$error":"#REF!"},{"$error":"#REF!"},{"$error":"#REF!"},{"$error":"#REF!"},{"$error":"#REF!"},{"$error":"#REF!"},""]
[{"$f":"IF(ISBLANK(InfoPro!A256),\"\",InfoPro!A256)","v":"SC_735_A2"},{"$f":"IF(ISBLANK(InfoPro!H256),\"\",InfoPro!H256)","v":"SC_735"},{"$f":"IF(ISBLANK(InfoPro!B256),\"\",InfoPro!B256)","v":"EGINA 60"},{"$f":"IF(ISBLANK(InfoPro!E256),\"\",InfoPro!E256)","v":60},{"$f":"IF(ISBLANK(InfoPro!C256),\"\",InfoPro!C256)","v":"2022-07-06"},{"$f":"IF(ISBLANK(InfoPro!D256),\"\",InfoPro!D256)","v":44748},{"$f":"IF(ISBLANK(InfoPro!L256),\"\",InfoPro!L256)","v":"NO"},{"$f":"'IT-TA'!H257","v":0},{"$f":"IFERROR('BT-Confi'!Y264,\"\")","v":410977.77911342977},{"$f":"IFERROR('BT-Flex'!Y264,\"\")","v":0},{"$f":"IFERROR('EC-RE'!Z264,\"\")","v":597473.57845725119},{"$f":"IFERROR('EC-RP'!Z263,\"\")","v":1360812.4342847448},{"$f":"IFERROR('EC-Per'!W263,\"\")","v":-55490.235519628928},{"$f":"IFERROR('EC-Mar'!Y263,\"\")","v":1360812.4342847448},0,{"$error":"#REF!"},{"$error":"#REF!"},{"$error":"#REF!"},{"$error":"#REF!"},{"$error":"#REF!"},{"$error":"#REF!"},{"$error":"#REF!"},""]
[{"$f":"IF(ISBLANK(InfoPro!A257),\"\",InfoPro!A257)","v":"SC_758_A1"},{"$f":"IF(ISBLANK(InfoPro!H257),\"\",InfoPro!H257)","v":"SC_758"},{"$f":"IF(ISBLANK(InfoPro!B257),\"\",InfoPro!B257)","v":"JAMAICA 19.9"},{"$f":"IF(ISBLANK(InfoPro!E257),\"\",InfoPro!E257)","v":19.899999999999999},{"$f":"IF(ISBLANK(InfoPro!C257),\"\",InfoPro!C257)","v":"2022-07-06"},{"$f":"IF(ISBLANK(InfoPro!D257),\"\",InfoPro!D257)","v":44748},{"$f":"IF(ISBLANK(InfoPro!L257),\"\",InfoPro!L257)","v":"NO"},{"$f":"'IT-TA'!H258","v":0},{"$f":"IFERROR('BT-Confi'!Y265,\"\")","v":459473.15704881458},{"$f":"IFERROR('BT-Flex'!Y265,\"\")","v":0},{"$f":"IFERROR('EC-RE'!Z265,\"\")","v":667975.46071520681},{"$f":"IFERROR('EC-RP'!Z264,\"\")","v":1521388.3015303449},{"$f":"IFERROR('EC-Per'!W264,\"\")","v":-51221.551174333988},{"$f":"IFERROR('EC-Mar'!Y264,\"\")","v":1521388.3015303449},{"$f":"IF(C260=\"\",\"\",(SUMIF(I260:N260,\">0\"))*(H260/100))","v":0},{"$f":"IF(C260=\"\",\"\",I260+$B$1)","v":{"$error":"#REF!"}},{"$f":"IF(D260=\"\",\"\",J260+$B$1)","v":{"$error":"#REF!"}},{"$f":"IF(E260=\"\",\"\",K260+$B$1)","v":{"$error":"#REF!"}},{"$f":"IF(F260=\"\",\"\",L260+$B$1)","v":{"$error":"#REF!"}},{"$f":"IF(G260=\"\",\"\",M260+$B$1)","v":{"$error":"#REF!"}},{"$f":"IF(H260=\"\",\"\",N260+$B$1)","v":{"$error":"#REF!"}},{"$f":"IF(I260=\"\",\"\",O260+$B$1)","v":{"$error":"#REF!"}},{"$f":"IFERROR((+$P$1*P260+$Q$1*Q260+$R$1*R260+$S$1*S260+$T$1*T260+U260*$U$1+$V$1*V260),\"\")","v":""}]
[{"$f":"IF(ISBLANK(InfoPro!A258),\"\",InfoPro!A258)","v":"SC_758_A2"},{"$f":"IF(ISBLANK(InfoPro!H258),\"\",InfoPro!H258)","v":"SC_758"},{"$f":"IF(ISBLANK(InfoPro!B258),\"\",InfoPro!B258)","v":"JAMAICA 19.9"},{"$f":"IF(ISBLANK(InfoPro!E258),\"\",InfoPro!E258)","v":19.899999999999999},{"$f":"IF(ISBLANK(InfoPro!C258),\"\",InfoPro!C258)","v":"2022-07-06"},{"$f":"IF(ISBLANK(InfoPro!D258),\"\",InfoPro!D258)","v":44748},{"$f":"IF(ISBLANK(InfoPro!L258),\"\",InfoPro!L258)","v":"NO"},{"$f":"'IT-TA'!H259","v":0},{"$f":"IFERROR('BT-Confi'!Y266,\"\")","v":459473.15704881458},{"$f":"IFERROR('BT-Flex'!Y266,\"\")","v":0},{"$f":"IFERROR('EC-RE'!Z266,\"\")","v":667975.46071520681},{"$f":"IFERROR('EC-RP'!Z265,\"\")","v":1521388.3015303449},{"$f":"IFERROR('EC-Per'!W265,\"\")","v":-53303.906818367206},{"$f":"IFERROR('EC-Mar'!Y265,\"\")","v":1521388.3015303449},0,{"$error":"#REF!"},{"$error":"#REF!"},{"$error":"#REF!"},{"$error":"#REF!"},{"$error":"#REF!"},{"$error":"#REF!"},{"$error":"#REF!"},""]
[{"$f":"IF(ISBLANK(InfoPro!A259),\"\",InfoPro!A259)","v":"SC_768_A1"},{"$f":"IF(ISBLANK(InfoPro!H259),\"\",InfoPro!H259)","v":"SC_768"},{"$f":"IF(ISBLANK(InfoPro!B259),\"\",InfoPro!B259)","v":"RODAS 19.9"},{"$f":"IF(ISBLANK(InfoPro!E259),\"\",InfoPro!E259)","v":19.899999999999999},{"$f":"IF(ISBLANK(InfoPro!C259),\"\",InfoPro!C259)","v":"2022-07-06"},{"$f":"IF(ISBLANK(InfoPro!D259),\"\",InfoPro!D259)","v":44748},{"$f":"IF(ISBLANK(InfoPro!L259),\"\",InfoPro!L259)","v":"NO"},{"$f":"'IT-TA'!H260","v":0},{"$f":"IFERROR('BT-Confi'!Y267,\"\")","v":459473.15704881458},{"$f":"IFERROR('BT-Flex'!Y267,\"\")","v":0},{"$f":"IFERROR('EC-RE'!Z267,\"\")","v":667975.46071520681},{"$f":"IFERROR('EC-RP'!Z266,\"\")","v":1521388.3015303449},{"$f":"IFERROR('EC-Per'!W266,\"\")","v":-41.59957051436205},{"$f":"IFERROR('EC-Mar'!Y266,\"\")","v":1521388.3015303449},0,{"$error":"#REF!"},{"$error":"#REF!"},{"$error":"#REF!"},{"$error":"#REF!"},{"$error":"#REF!"},{"$error":"#REF!"},{"$error":"#REF!"},""]
[{"$f":"IF(ISBLANK(InfoPro!A260),\"\",InfoPro!A260)","v":"SC_768_A2"},{"$f":"IF(ISBLANK(InfoPro!H260),\"\",InfoPro!H260)","v":"SC_768"},{"$f":"IF(ISBLANK(InfoPro!B260),\"\",InfoPro!B260)","v":"RODAS 19.9"},{"$f":"IF(ISBLANK(InfoPro!E260),\"\",InfoPro!E260)","v":19.899999999999999},{"$f":"IF(ISBLANK(InfoPro!C260),\"\",InfoPro!C260)","v":"2022-07-06"},{"$f":"IF(ISBLANK(InfoPro!D260),\"\",InfoPro!D260)","v":44748},{"$f":"IF(ISBLANK(InfoPro!L260),\"\",InfoPro!L260)","v":"NO"},{"$f":"'IT-TA'!H261","v":0},{"$f":"IFERROR('BT-Confi'!Y268,\"\")","v":459473.15704881458},{"$f":"IFERROR('BT-Flex'!Y268,\"\")","v":0},{"$f":"IFERROR('EC-RE'!Z268,\"\")","v":667975.46071520681},{"$f":"IFERROR('EC-RP'!Z267,\"\")","v":1521388.3015303449},{"$f":"IFERROR('EC-Per'!W267,\"\")","v":-32.685376832713054},{"$f":"IFERROR('EC-Mar'!Y267,\"\")","v":1521388.3015303449},0,{"$error":"#REF!"},{"$error":"#REF!"},{"$error":"#REF!"},{"$error":"#REF!"},{"$error":"#REF!"},{"$error":"#REF!"},{"$error":"#REF!"},""]
[{"$f":"IF(ISBLANK(InfoPro!A261),\"\",InfoPro!A261)","v":"SC_807_A2"},{"$f":"IF(ISBLANK(InfoPro!H261),\"\",InfoPro!H261)","v":"SC_807"},{"$f":"IF(ISBLANK(InfoPro!B261),\"\",InfoPro!B261)","v":"Parque Solar Fotovoltaico La Villa de 120 MW (entrega 100 MW)"},{"$f":"IF(ISBLANK(InfoPro!E261),\"\",InfoPro!E261)","v":100},{"$f":"IF(ISBLANK(InfoPro!C261),\"\",InfoPro!C261)","v":"2022-07-08"},{"$f":"IF(ISBLANK(InfoPro!D261),\"\",InfoPro!D261)","v":44750},{"$f":"IF(ISBLANK(InfoPro!L261),\"\",InfoPro!L261)","v":"NO"},{"$f":"'IT-TA'!H262","v":0},{"$f":"IFERROR('BT-Confi'!Y269,\"\")","v":459473.15704881452},{"$f":"IFERROR('BT-Flex'!Y269,\"\")","v":0},{"$f":"IFERROR('EC-RE'!Z269,\"\")","v":667975.46071520646},{"$f":"IFERROR('EC-RP'!Z268,\"\")","v":1521388.3015303449},{"$f":"IFERROR('EC-Per'!W268,\"\")","v":-348662.14883986249},{"$f":"IFERROR('EC-Mar'!Y268,\"\")","v":1521388.3015303449},0,{"$error":"#REF!"},{"$error":"#REF!"},{"$error":"#REF!"},{"$error":"#REF!"},{"$error":"#REF!"},{"$error":"#REF!"},{"$error":"#REF!"},""]
[{"$f":"IF(ISBLANK(InfoPro!A262),\"\",InfoPro!A262)","v":"SC_821_A1"},{"$f":"IF(ISBLANK(InfoPro!H262),\"\",InfoPro!H262)","v":"SC_821"},{"$f":"IF(ISBLANK(InfoPro!B262),\"\",InfoPro!B262)","v":"SPK SOLAR DEL CESAR - 65 MW"},{"$f":"IF(ISBLANK(InfoPro!E262),\"\",InfoPro!E262)","v":65},{"$f":"IF(ISBLANK(InfoPro!C262),\"\",InfoPro!C262)","v":"2022-07-11"},{"$f":"IF(ISBLANK(InfoPro!D262),\"\",InfoPro!D262)","v":44753},{"$f":"IF(ISBLANK(InfoPro!L262),\"\",InfoPro!L262)","v":"NO"},{"$f":"'IT-TA'!H263","v":0},{"$f":"IFERROR('BT-Confi'!Y270,\"\")","v":410977.77911342989},{"$f":"IFERROR('BT-Flex'!Y270,\"\")","v":0},{"$f":"IFERROR('EC-RE'!Z270,\"\")","v":597473.57845725096},{"$f":"IFERROR('EC-RP'!Z269,\"\")","v":1360812.4342847448},{"$f":"IFERROR('EC-Per'!W269,\"\")","v":-64533.879300185115},{"$f":"IFERROR('EC-Mar'!Y269,\"\")","v":1360812.4342847448},0,{"$error":"#REF!"},{"$error":"#REF!"},{"$error":"#REF!"},{"$error":"#REF!"},{"$error":"#REF!"},{"$error":"#REF!"},{"$error":"#REF!"},""]
[{"$f":"IF(ISBLANK(InfoPro!A263),\"\",InfoPro!A263)","v":"SC_821_A2"},{"$f":"IF(ISBLANK(InfoPro!H263),\"\",InfoPro!H263)","v":"SC_821"},{"$f":"IF(ISBLANK(InfoPro!B263),\"\",InfoPro!B263)","v":"SPK SOLAR DEL CESAR - 65 MW"},{"$f":"IF(ISBLANK(InfoPro!E263),\"\",InfoPro!E263)","v":65},{"$f":"IF(ISBLANK(InfoPro!C263),\"\",InfoPro!C263)","v":"2022-07-11"},{"$f":"IF(ISBLANK(InfoPro!D263),\"\",InfoPro!D263)","v":44753},{"$f":"IF(ISBLANK(InfoPro!L263),\"\",InfoPro!L263)","v":"NO"},{"$f":"'IT-TA'!H264","v":0},{"$f":"IFERROR('BT-Confi'!Y271,\"\")","v":410977.77911342989},{"$f":"IFERROR('BT-Flex'!Y271,\"\")","v":0},{"$f":"IFERROR('EC-RE'!Z271,\"\")","v":597473.57845725096},{"$f":"IFERROR('EC-RP'!Z270,\"\")","v":1360812.4342847448},{"$f":"IFERROR('EC-Per'!W270,\"\")","v":-74462.681673608953},{"$f":"IFERROR('EC-Mar'!Y270,\"\")","v":1360812.4342847448},0,{"$error":"#REF!"},{"$error":"#REF!"},{"$error":"#REF!"},{"$error":"#REF!"},{"$error":"#REF!"},{"$error":"#REF!"},{"$error":"#REF!"},""]
[{"$f":"IF(ISBLANK(InfoPro!A264),\"\",InfoPro!A264)","v":"SC_822_A1"},{"$f":"IF(ISBLANK(InfoPro!H264),\"\",InfoPro!H264)","v":"SC_822"},{"$f":"IF(ISBLANK(InfoPro!B264),\"\",InfoPro!B264)","v":"SANTA MARTA IV 50 MW"},{"$f":"IF(ISBLANK(InfoPro!E264),\"\",InfoPro!E264)","v":50},{"$f":"IF(ISBLANK(InfoPro!C264),\"\",InfoPro!C264)","v":"2022-05-09T15:59:00"},{"$f":"IF(ISBLANK(InfoPro!D264),\"\",InfoPro!D264)","v":44690.665972222225},{"$f":"IF(ISBLANK(InfoPro!L264),\"\",InfoPro!L264)","v":"NO"},{"$f":"'IT-TA'!H265","v":0},{"$f":"IFERROR('BT-Confi'!Y272,\"\")","v":459473.15704881452},{"$f":"IFERROR('BT-Flex'!Y272,\"\")","v":0},{"$f":"IFERROR('EC-RE'!Z272,\"\")","v":667975.46071520646},{"$f":"IFERROR('EC-RP'!Z271,\"\")","v":1521388.3015303449},{"$f":"IFERROR('EC-Per'!W271,\"\")","v":-106742.95281294819},{"$f":"IFERROR('EC-Mar'!Y271,\"\")","v":1521388.3015303449},0,{"$error":"#REF!"},{"$error":"#REF!"},{"$error":"#REF!"},{"$error":"#REF!"},{"$error":"#REF!"},{"$error":"#REF!"},{"$error":"#REF!"},""]
[{"$f":"IF(ISBLANK(InfoPro!A265),\"\",InfoPro!A265)","v":"SC_825_A1"},{"$f":"IF(ISBLANK(InfoPro!H265),\"\",InfoPro!H265)","v":"SC_825"},{"$f":"IF(ISBLANK(InfoPro!B265),\"\",InfoPro!B265)","v":"OWF GOLETA"},{"$f":"IF(ISBLANK(InfoPro!E265),\"\",InfoPro!E265)","v":325},{"$f":"IF(ISBLANK(InfoPro!C265),\"\",InfoPro!C265)","v":"2022-05-17T16:23:00"},{"$f":"IF(ISBLANK(InfoPro!D265),\"\",InfoPro!D265)","v":44698.682638888888},{"$f":"IF(ISBLANK(InfoPro!L265),\"\",InfoPro!L265)","v":"NO"},{"$f":"'IT-TA'!H266","v":0},{"$f":"IFERROR('BT-Confi'!Y273,\"\")","v":184556.3611204614},{"$f":"IFERROR('BT-Flex'!Y273,\"\")","v":0},{"$f":"IFERROR('EC-RE'!Z273,\"\")","v":670763.45188030752},{"$f":"IFERROR('EC-RP'!Z272,\"\")","v":1527738.2610615119},{"$f":"IFERROR('EC-Per'!W272,\"\")","v":-113559.65667618462},{"$f":"IFERROR('EC-Mar'!Y272,\"\")","v":1527738.2610615119},0,{"$error":"#REF!"},{"$error":"#REF!"},{"$error":"#REF!"},{"$error":"#REF!"},{"$error":"#REF!"},{"$error":"#REF!"},{"$error":"#REF!"},""]
[{"$f":"IF(ISBLANK(InfoPro!A266),\"\",InfoPro!A266)","v":"SC_825_A2"},{"$f":"IF(ISBLANK(InfoPro!H266),\"\",InfoPro!H266)","v":"SC_825"},{"$f":"IF(ISBLANK(InfoPro!B266),\"\",InfoPro!B266)","v":"OWF GOLETA"},{"$f":"IF(ISBLANK(InfoPro!E266),\"\",InfoPro!E266)","v":325},{"$f":"IF(ISBLANK(InfoPro!C266),\"\",InfoPro!C266)","v":"2022-05-17T16:23:00"},{"$f":"IF(ISBLANK(InfoPro!D266),\"\",InfoPro!D266)","v":44698.682638888888},{"$f":"IF(ISBLANK(InfoPro!L266),\"\",InfoPro!L266)","v":"NO"},{"$f":"'IT-TA'!H267","v":0},{"$f":"IFERROR('BT-Confi'!Y274,\"\")","v":184556.3611204614},{"$f":"IFERROR('BT-Flex'!Y274,\"\")","v":0},{"$f":"IFERROR('EC-RE'!Z274,\"\")","v":670763.45188030752},{"$f":"IFERROR('EC-RP'!Z273,\"\")","v":1527738.2610615119},{"$f":"IFERROR('EC-Per'!W273,\"\")","v":-104065.55476203357},{"$f":"IFERROR('EC-Mar'!Y273,\"\")","v":1527738.2610615119},0,{"$error":"#REF!"},{"$error":"#REF!"},{"$error":"#REF!"},{"$error":"#REF!"},{"$error":"#REF!"},{"$error":"#REF!"},{"$error":"#REF!"},""]
[{"$f":"IF(ISBLANK(InfoPro!A267),\"\",InfoPro!A267)","v":"SC_833_A1"},{"$f":"IF(ISBLANK(InfoPro!H267),\"\",InfoPro!H267)","v":"SC_833"},{"$f":"IF(ISBLANK(InfoPro!B267),\"\",InfoPro!B267)","v":"LOMERO SOLAR"},{"$f":"IF(ISBLANK(InfoPro!E267),\"\",InfoPro!E267)","v":200},{"$f":"IF(ISBLANK(InfoPro!C267),\"\",InfoPro!C267)","v":"2022-07-09"},{"$f":"IF(ISBLANK(InfoPro!D267),\"\",InfoPro!D267)","v":44751},{"$f":"IF(ISBLANK(InfoPro!L267),\"\",InfoPro!L267)","v":"NO"},{"$f":"'IT-TA'!H268","v":0},{"$f":"IFERROR('BT-Confi'!Y275,\"\")","v":367600.87577229866},{"$f":"IFERROR('BT-Flex'!Y275,\"\")","v":0},{"$f":"IFERROR('EC-RE'!Z275,\"\")","v":534412.86087410641},{"$f":"IFERROR('EC-RP'!Z274,\"\")","v":1217184.6460507561},{"$f":"IFERROR('EC-Per'!W274,\"\")","v":-203091.22958911964},{"$f":"IFERROR('EC-Mar'!Y274,\"\")","v":1217184.6460507561},0,{"$error":"#REF!"},{"$error":"#REF!"},{"$error":"#REF!"},{"$error":"#REF!"},{"$error":"#REF!"},{"$error":"#REF!"},{"$error":"#REF!"},""]
[{"$f":"IF(ISBLANK(InfoPro!A268),\"\",InfoPro!A268)","v":"SC_846_A1"},{"$f":"IF(ISBLANK(InfoPro!H268),\"\",InfoPro!H268)","v":"SC_846"},{"$f":"IF(ISBLANK(InfoPro!B268),\"\",InfoPro!B268)","v":"Parque Eólico El Ahumado_de 50MW a 60MW _Es decir 10MW"},{"$f":"IF(ISBLANK(InfoPro!E268),\"\",InfoPro!E268)","v":10},{"$f":"IF(ISBLANK(InfoPro!C268),\"\",InfoPro!C268)","v":"2022-07-11"},{"$f":"IF(ISBLANK(InfoPro!D268),\"\",InfoPro!D268)","v":44753},{"$f":"IF(ISBLANK(InfoPro!L268),\"\",InfoPro!L268)","v":"NO"},{"$f":"'IT-TA'!H269","v":0},{"$f":"IFERROR('BT-Confi'!Y276,\"\")","v":402922.61464280664},{"$f":"IFERROR('BT-Flex'!Y276,\"\")","v":0},{"$f":"IFERROR('EC-RE'!Z276,\"\")","v":1464407.7407987218},{"$f":"IFERROR('EC-RP'!Z275,\"\")","v":3335351.2764319098},{"$f":"IFERROR('EC-Per'!W275,\"\")","v":-63647.229973853973},{"$f":"IFERROR('EC-Mar'!Y275,\"\")","v":3335351.2764319093},0,{"$error":"#REF!"},{"$error":"#REF!"},{"$error":"#REF!"},{"$error":"#REF!"},{"$error":"#REF!"},{"$error":"#REF!"},{"$error":"#REF!"},""]
[{"$f":"IF(ISBLANK(InfoPro!A269),\"\",InfoPro!A269)","v":"SC_878_A1"},{"$f":"IF(ISBLANK(InfoPro!H269),\"\",InfoPro!H269)","v":"SC_878"},{"$f":"IF(ISBLANK(InfoPro!B269),\"\",InfoPro!B269)","v":"PARQUE SOLAR EL PROGRESO"},{"$f":"IF(ISBLANK(InfoPro!E269),\"\",InfoPro!E269)","v":19.899999999999999},{"$f":"IF(ISBLANK(InfoPro!C269),\"\",InfoPro!C269)","v":"2022-07-15"},{"$f":"IF(ISBLANK(InfoPro!D269),\"\",InfoPro!D269)","v":44757},{"$f":"IF(ISBLANK(InfoPro!L269),\"\",InfoPro!L269)","v":"NO"},{"$f":"'IT-TA'!H270","v":0},{"$f":"IFERROR('BT-Confi'!Y277,\"\")","v":513690.98958057468},{"$f":"IFERROR('BT-Flex'!Y277,\"\")","v":0},{"$f":"IFERROR('EC-RE'!Z277,\"\")","v":746796.56507960102},{"$f":"IFERROR('EC-RP'!Z276,\"\")","v":1700912.1211109255},{"$f":"IFERROR('EC-Per'!W276,\"\")","v":24210.902496992414},{"$f":"IFERROR('EC-Mar'!Y276,\"\")","v":1700912.1211109255},0,{"$error":"#REF!"},{"$error":"#REF!"},{"$error":"#REF!"},{"$error":"#REF!"},{"$error":"#REF!"},{"$error":"#REF!"},{"$error":"#REF!"},""]
[{"$f":"IF(ISBLANK(InfoPro!A270),\"\",InfoPro!A270)","v":"SC_890_A1"},{"$f":"IF(ISBLANK(InfoPro!H270),\"\",InfoPro!H270)","v":"SC_890"},{"$f":"IF(ISBLANK(InfoPro!B270),\"\",InfoPro!B270)","v":"Fundación II - 100 MW"},{"$f":"IF(ISBLANK(InfoPro!E270),\"\",InfoPro!E270)","v":100},{"$f":"IF(ISBLANK(InfoPro!C270),\"\",InfoPro!C270)","v":"2022-07-18"},{"$f":"IF(ISBLANK(InfoPro!D270),\"\",InfoPro!D270)","v":44760},{"$f":"IF(ISBLANK(InfoPro!L270),\"\",InfoPro!L270)","v":"NO"},{"$f":"'IT-TA'!H271","v":0},{"$f":"IFERROR('BT-Confi'!Y278,\"\")","v":367600.87577229866},{"$f":"IFERROR('BT-Flex'!Y278,\"\")","v":0},{"$f":"IFERROR('EC-RE'!Z278,\"\")","v":534412.86087410641},{"$f":"IFERROR('EC-RP'!Z277,\"\")","v":1217184.6460507561},{"$f":"IFERROR('EC-Per'!W277,\"\")","v":-55633.656183742074},{"$f":"IFERROR('EC-Mar'!Y277,\"\")","v":1217184.6460507561},0,{"$error":"#REF!"},{"$error":"#REF!"},{"$error":"#REF!"},{"$error":"#REF!"},{"$error":"#REF!"},{"$error":"#REF!"},{"$error":"#REF!"},""]
[{"$f":"IF(ISBLANK(InfoPro!A271),\"\",InfoPro!A271)","v":"SC_890_A2"},{"$f":"IF(ISBLANK(InfoPro!H271),\"\",InfoPro!H271)","v":"SC_890"},{"$f":"IF(ISBLANK(InfoPro!B271),\"\",InfoPro!B271)","v":"Fundación II - 100 MW"},{"$f":"IF(ISBLANK(InfoPro!E271),\"\",InfoPro!E271)","v":100},{"$f":"IF(ISBLANK(InfoPro!C271),\"\",InfoPro!C271)","v":"2022-07-18"},{"$f":"IF(ISBLANK(InfoPro!D271),\"\",InfoPro!D271)","v":44760},{"$f":"IF(ISBLANK(InfoPro!L271),\"\",InfoPro!L271)","v":"NO"},{"$f":"'IT-TA'!H272","v":0},{"$f":"IFERROR('BT-Confi'!Y279,\"\")","v":367600.87577229866},{"$f":"IFERROR('BT-Flex'!Y279,\"\")","v":0},{"$f":"IFERROR('EC-RE'!Z279,\"\")","v":534412.86087410641},{"$f":"IFERROR('EC-RP'!Z278,\"\")","v":1217184.6460507561},{"$f":"IFERROR('EC-Per'!W278,\"\")","v":-36805.258937883787},{"$f":"IFERROR('EC-Mar'!Y278,\"\")","v":1217184.6460507561},0,{"$error":"#REF!"},{"$error":"#REF!"},{"$error":"#REF!"},{"$error":"#REF!"},{"$error":"#REF!"},{"$error":"#REF!"},{"$error":"#REF!"},""]
[{"$f":"IF(ISBLANK(InfoPro!A272),\"\",InfoPro!A272)","v":"SC_921_A1"},{"$f":"IF(ISBLANK(InfoPro!H272),\"\",InfoPro!H272)","v":"SC_921"},{"$f":"IF(ISBLANK(InfoPro!B272),\"\",InfoPro!B272)","v":"PARQUE SOLAR EL CIELO"},{"$f":"IF(ISBLANK(InfoPro!E272),\"\",InfoPro!E272)","v":9.9},{"$f":"IF(ISBLANK(InfoPro!C272),\"\",InfoPro!C272)","v":"2022-07-15"},{"$f":"IF(ISBLANK(InfoPro!D272),\"\",InfoPro!D272)","v":44757},{"$f":"IF(ISBLANK(InfoPro!L272),\"\",InfoPro!L272)","v":"NO"},{"$f":"'IT-TA'!H273","v":0},{"$f":"IFERROR('BT-Confi'!Y280,\"\")","v":513690.98958057474},{"$f":"IFERROR('BT-Flex'!Y280,\"\")","v":0},{"$f":"IFERROR('EC-RE'!Z280,\"\")","v":746796.56507960113},{"$f":"IFERROR('EC-RP'!Z279,\"\")","v":1700912.1211109257},{"$f":"IFERROR('EC-Per'!W279,\"\")","v":23905.813287800251},{"$f":"IFERROR('EC-Mar'!Y279,\"\")","v":1700912.1211109257},0,{"$error":"#REF!"},{"$error":"#REF!"},{"$error":"#REF!"},{"$error":"#REF!"},{"$error":"#REF!"},{"$error":"#REF!"},{"$error":"#REF!"},""]
[{"$f":"IF(ISBLANK(InfoPro!A273),\"\",InfoPro!A273)","v":"SC_944_A1"},{"$f":"IF(ISBLANK(InfoPro!H273),\"\",InfoPro!H273)","v":"SC_944"},{"$f":"IF(ISBLANK(InfoPro!B273),\"\",InfoPro!B273)","v":"DSE FUNDACION"},{"$f":"IF(ISBLANK(InfoPro!E273),\"\",InfoPro!E273)","v":99.9},{"$f":"IF(ISBLANK(InfoPro!C273),\"\",InfoPro!C273)","v":"2022-07-14"},{"$f":"IF(ISBLANK(InfoPro!D273),\"\",InfoPro!D273)","v":44756},{"$f":"IF(ISBLANK(InfoPro!L273),\"\",InfoPro!L273)","v":"NO"},{"$f":"'IT-TA'!H274","v":0},{"$f":"IFERROR('BT-Confi'!Y281,\"\")","v":410977.77911343001},{"$f":"IFERROR('BT-Flex'!Y281,\"\")","v":0},{"$f":"IFERROR('EC-RE'!Z281,\"\")","v":597473.57845725131},{"$f":"IFERROR('EC-RP'!Z280,\"\")","v":1360812.434284745},{"$f":"IFERROR('EC-Per'!W280,\"\")","v":-37271.371053941126},{"$f":"IFERROR('EC-Mar'!Y280,\"\")","v":1360812.434284745},0,{"$error":"#REF!"},{"$error":"#REF!"},{"$error":"#REF!"},{"$error":"#REF!"},{"$error":"#REF!"},{"$error":"#REF!"},{"$error":"#REF!"},""]
[{"$f":"IF(ISBLANK(InfoPro!A274),\"\",InfoPro!A274)","v":"SC_951_A1"},{"$f":"IF(ISBLANK(InfoPro!H274),\"\",InfoPro!H274)","v":"SC_951"},{"$f":"IF(ISBLANK(InfoPro!B274),\"\",InfoPro!B274)","v":"SANTA ROSA SOLAR_100MW"},{"$f":"IF(ISBLANK(InfoPro!E274),\"\",InfoPro!E274)","v":100},{"$f":"IF(ISBLANK(InfoPro!C274),\"\",InfoPro!C274)","v":"2022-07-12"},{"$f":"IF(ISBLANK(InfoPro!D274),\"\",InfoPro!D274)","v":44754},{"$f":"IF(ISBLANK(InfoPro!L274),\"\",InfoPro!L274)","v":"NO"},{"$f":"'IT-TA'!H275","v":0},{"$f":"IFERROR('BT-Confi'!Y282,\"\")","v":410977.77911342977},{"$f":"IFERROR('BT-Flex'!Y282,\"\")","v":0},{"$f":"IFERROR('EC-RE'!Z282,\"\")","v":597473.57845725096},{"$f":"IFERROR('EC-RP'!Z281,\"\")","v":1360812.4342847452},{"$f":"IFERROR('EC-Per'!W281,\"\")","v":-85565.149823976797},{"$f":"IFERROR('EC-Mar'!Y281,\"\")","v":1360812.4342847452},0,{"$error":"#REF!"},{"$error":"#REF!"},{"$error":"#REF!"},{"$error":"#REF!"},{"$error":"#REF!"},{"$error":"#REF!"},{"$error":"#REF!"},""]
[{"$f":"IF(ISBLANK(InfoPro!A275),\"\",InfoPro!A275)","v":"SC_951_A2"},{"$f":"IF(ISBLANK(InfoPro!H275),\"\",InfoPro!H275)","v":"SC_951"},{"$f":"IF(ISBLANK(InfoPro!B275),\"\",InfoPro!B275)","v":"SANTA ROSA SOLAR_100MW"},{"$f":"IF(ISBLANK(InfoPro!E275),\"\",InfoPro!E275)","v":100},{"$f":"IF(ISBLANK(InfoPro!C275),\"\",InfoPro!C275)","v":"2022-07-12"},{"$f":"IF(ISBLANK(InfoPro!D275),\"\",InfoPro!D275)","v":44754},{"$f":"IF(ISBLANK(InfoPro!L275),\"\",InfoPro!L275)","v":"NO"},{"$f":"'IT-TA'!H276","v":0},{"$f":"IFERROR('BT-Confi'!Y283,\"\")","v":410977.77911342977},{"$f":"IFERROR('BT-Flex'!Y283,\"\")","v":0},{"$f":"IFERROR('EC-RE'!Z283,\"\")","v":597473.57845725096},{"$f":"IFERROR('EC-RP'!Z282,\"\")","v":1360812.4342847452},{"$f":"IFERROR('EC-Per'!W282,\"\")","v":-34431.272428859505},{"$f":"IFERROR('EC-Mar'!Y282,\"\")","v":1360812.4342847452},0,{"$error":"#REF!"},{"$error":"#REF!"},{"$error":"#REF!"},{"$error":"#REF!"},{"$error":"#REF!"},{"$error":"#REF!"},{"$error":"#REF!"},""]
[{"$f":"IF(ISBLANK(InfoPro!A276),\"\",InfoPro!A276)","v":"SC_963_A1"},{"$f":"IF(ISBLANK(InfoPro!H276),\"\",InfoPro!H276)","v":"SC_963"},{"$f":"IF(ISBLANK(InfoPro!B276),\"\",InfoPro!B276)","v":"Churuco Solar"},{"$f":"IF(ISBLANK(InfoPro!E276),\"\",InfoPro!E276)","v":60},{"$f":"IF(ISBLANK(InfoPro!C276),\"\",InfoPro!C276)","v":"2022-07-16"},{"$f":"IF(ISBLANK(InfoPro!D276),\"\",InfoPro!D276)","v":44758},{"$f":"IF(ISBLANK(InfoPro!L276),\"\",InfoPro!L276)","v":"NO"},{"$f":"'IT-TA'!H277","v":0},{"$f":"IFERROR('BT-Confi'!Y284,\"\")","v":410977.77911342977},{"$f":"IFERROR('BT-Flex'!Y284,\"\")","v":0},{"$f":"IFERROR('EC-RE'!Z284,\"\")","v":597473.57845725119},{"$f":"IFERROR('EC-RP'!Z283,\"\")","v":1360812.4342847448},{"$f":"IFERROR('EC-Per'!W283,\"\")","v":-518320.23011186352},{"$f":"IFERROR('EC-Mar'!Y283,\"\")","v":1360812.4342847448},0,{"$error":"#REF!"},{"$error":"#REF!"},{"$error":"#REF!"},{"$error":"#REF!"},{"$error":"#REF!"},{"$error":"#REF!"},{"$error":"#REF!"},""]
[{"$f":"IF(ISBLANK(InfoPro!A277),\"\",InfoPro!A277)","v":"SC_984_A1"},{"$f":"IF(ISBLANK(InfoPro!H277),\"\",InfoPro!H277)","v":"SC_984"},{"$f":"IF(ISBLANK(InfoPro!B277),\"\",InfoPro!B277)","v":"Eupari"},{"$f":"IF(ISBLANK(InfoPro!E277),\"\",InfoPro!E277)","v":99},{"$f":"IF(ISBLANK(InfoPro!C277),\"\",InfoPro!C277)","v":"2022-07-18"},{"$f":"IF(ISBLANK(InfoPro!D277),\"\",InfoPro!D277)","v":44760},{"$f":"IF(ISBLANK(InfoPro!L277),\"\",InfoPro!L277)","v":"NO"},{"$f":"'IT-TA'!H278","v":0},{"$f":"IFERROR('BT-Confi'!Y285,\"\")","v":360395.89860716148},{"$f":"IFERROR('BT-Flex'!Y285,\"\")","v":0},{"$f":"IFERROR('EC-RE'!Z285,\"\")","v":1309845.9220024347},{"$f":"IFERROR('EC-RP'!Z284,\"\")","v":2983319.5674704015},{"$f":"IFERROR('EC-Per'!W284,\"\")","v":138133.24953383167},{"$f":"IFERROR('EC-Mar'!Y284,\"\")","v":2983319.5674704015},{"$f":"IF(C280=\"\",\"\",(SUMIF(I280:N280,\">0\"))*(H280/100))","v":0},{"$f":"IF(C280=\"\",\"\",I280+$B$1)","v":{"$error":"#REF!"}},{"$f":"IF(D280=\"\",\"\",J280+$B$1)","v":{"$error":"#REF!"}},{"$f":"IF(E280=\"\",\"\",K280+$B$1)","v":{"$error":"#REF!"}},{"$f":"IF(F280=\"\",\"\",L280+$B$1)","v":{"$error":"#REF!"}},{"$f":"IF(G280=\"\",\"\",M280+$B$1)","v":{"$error":"#REF!"}},{"$f":"IF(H280=\"\",\"\",N280+$B$1)","v":{"$error":"#REF!"}},{"$f":"IF(I280=\"\",\"\",O280+$B$1)","v":{"$error":"#REF!"}},{"$f":"IFERROR((+$P$1*P280+$Q$1*Q280+$R$1*R280+$S$1*S280+$T$1*T280+U280*$U$1+$V$1*V280),\"\")","v":""}]
[{"$f":"IF(ISBLANK(InfoPro!A278),\"\",InfoPro!A278)","v":"SC_984_A2"},{"$f":"IF(ISBLANK(InfoPro!H278),\"\",InfoPro!H278)","v":"SC_984"},{"$f":"IF(ISBLANK(InfoPro!B278),\"\",InfoPro!B278)","v":"Eupari"},{"$f":"IF(ISBLANK(InfoPro!E278),\"\",InfoPro!E278)","v":99},{"$f":"IF(ISBLANK(InfoPro!C278),\"\",InfoPro!C278)","v":"2022-07-18"},{"$f":"IF(ISBLANK(InfoPro!D278),\"\",InfoPro!D278)","v":44760},{"$f":"IF(ISBLANK(InfoPro!L278),\"\",InfoPro!L278)","v":"SI"},{"$f":"'IT-TA'!H279","v":0},{"$f":"IFERROR('BT-Confi'!Y286,\"\")","v":360395.89860716148},{"$f":"IFERROR('BT-Flex'!Y286,\"\")","v":0},{"$f":"IFERROR('EC-RE'!Z286,\"\")","v":1309845.9220024347},{"$f":"IFERROR('EC-RP'!Z285,\"\")","v":2983319.5674704015},{"$f":"IFERROR('EC-Per'!W285,\"\")","v":150987.0783696298},{"$f":"IFERROR('EC-Mar'!Y285,\"\")","v":2983319.5674704015},0,{"$error":"#REF!"},{"$error":"#REF!"},{"$error":"#REF!"},{"$error":"#REF!"},{"$error":"#REF!"},{"$error":"#REF!"},{"$error":"#REF!"},""]
[]
[]
[]
[]
[]
[]
[]
[]
[]
[]
[]
[]
[]
[null,null,null,null,null,null,null,null,null,null,null,null,"L"]